Workbook

Sheet שירות 
A1: מזהה | B1: משרד | C1: שם השירות | D1: תאור ופירוט השירות | E1: תחום השירות | F1: שם היחידה המקצועית מספקת השירות | G1: סוג קהל יעד | H1: קהל יעד | I1: סוג השירות | J1: סטטוס שירות | K1: יחיד או תאגיד | L1: השירות כולל הגשת מסמכים | M1: ערוצים אפשריים לקבלת שירות | N1: כתובת דף השירות באתר | O1: היקף שימוש דיגיטלי שנתי | P1: היקף שימוש טלפוני שנתי | Q1: היקף שימוש פרונטלי שנתי | R1: היקף שימוש שנתי | S1: הערכת היקף שימוש דיגיטלי שנתי | T1: הערכת היקף שימוש פרונטלי שנתי | U1: הערכת היקף שימוש טלפוני שנתי | V1: הערכת היקף שימוש | W1: אסמכתא מונפקת
A2: 648 | B2: משרד העבודה | C2: רישוי מהנדסים ואדריכלים | D2: הגשת בקשה לקבלת רישיון למהנדס או אדריכל רשום.מסמכים נדרשים: תעודה מזהה, אישור ביצוע תקופת התמחות/התנסות מקצועית, קורות חיים | F2: אגף בכיר אסדרת עיסוקים | G2: פרטי | H2: פרטי - אוכלוסייה כללית, | I2: רישוי, רישום ותעודות | J2: פעיל | K2: יחיד ותאגיד | L2: כן | M2: דיגיטלי | N2: https://www.gov.il/he/service/architects-licensing | O2: 1069 | P2: 0 | Q2: 0 | R2: 1069 | W2: רישיון מהנדס/אדריכל
A3: 652 | B3: משרד העבודה | C3: רישום מהנדסים ואדריכלים | D3: השירות מאפשר למהנדסים ואדריכלים להירשם בפנקס המהנדסים והאדריכלים, בין היתר, כתנאי לעיסוק במקצועות בעלי ייחוד פעולות בחוק ולצורך קבלת רישיון בהמשך.מסמכים נדרשים: גיליון ציונים, תעודה אקדמית (דיפלומה), אישור ביצוע מקצועות ליבה, תקציר פרויקט גמר, אישור זכאות לתואר, תעודה מזהה, תרגום נוטריוני מסמכים שאינם בעברית/אנגלית,אישורי יציאה וכניסה מ/לישראל - רשות האוכלוסין וההגירה. | F3: אגף בכיר אסדרת עיסוקים | G3: פרטי | H3: פרטי - אוכלוסייה כללית, | I3: רישוי, רישום ותעודות | J3: פעיל | K3: יחיד ותאגיד | L3: כן | M3: דיגיטלי | N3: https://www.gov.il/he/service/registration-of-engineers-and-architects | O3: 3288 | P3: 0 | Q3: 0 | R3: 3288 | W3: תעודת רישום בפנקס המהנדסים והאדריכלים
A4: 5781 | B4: משרד העבודה | C4: השלמת מסמכים לעדכון בקשה להשתתפות המדינה בשכר לימוד במעונות יום, משפחתונים וצהרונים - עדכונט | D4: שירות זה מאפשר להשלים ולעדכן מסמכים לבקשה קיימת להשתתפות המדינה בשכר לימוד במעונות יום, משפחתונים וצהרונים.ניתן לצרף כל מסמך התומך בבקשה. | F4: אגף בכיר עידוד תעסוקת הורים | G4: פרטי | H4: פרטי - הורים, | I4: דיווח מידע | J4: פעיל | K4: יחיד ותאגיד | L4: כן | M4: דיגיטלי | N4: https://www.gov.il/he/service/document_completion_for_request_for_day_care_centers | O4: 111559 | P4: 0 | Q4: 0 | R4: 111559
A5: 5861 | B5: משרד העבודה | C5: הודעה על שינוי מעמד של קבלני כוח אדם או קבלני שירות | D5: שירות זה מאפשר לקבלני שירות או לקבלני כוח אדם, לדווח על שינוי מעמד מעוסק מורשה לחברה בע"מ. | F5: מינהל הסדרה ואכיפת חוקי עבודה | G5: עסקי-מקצועי | H5: עסקי - חברות - כלל העסקים, | I5: דיווח מידע | J5: פעיל | K5: תאגיד בלבד | L5: כן | M5: דיגיטלי, דוא"ל | N5: https://www.gov.il/he/service/contractors-report-company-status-change | P5: 0 | Q5: 0 | R5: 0 | W5: הודעה על שינוי מעמד של קבלני כוח אדם או קבלני שירות
A6: 5862 | B6: משרד העבודה | C6: הגשת דוחות על ניצול היתר להעסקה במנוחה השבועית, בשעות נוספות, בעבודת לילה | D6: שירות זה מאפשר למעסיקים להגיש דיווח תקופתי על אופן ניצול ההיתר. | F6: מינהל הסדרה ואכיפת חוקי עבודה | G6: עסקי-מקצועי | H6: עסקי - חברות - כלל העסקים, | I6: דיווח מידע | J6: פעיל | K6: תאגיד בלבד | L6: כן | M6: דיגיטלי, דוא"ל | N6: https://www.gov.il/he/service/report-weekend-employment | O6: 513 | P6: 0 | Q6: 0 | R6: 513 | W6: דווח תקופתי על אופן ניצול ההיתר להעסקת עובדים במנוחה השבועית ו/או בשעות נוספות ו/או בעבודת לילה
A7: 5863 | B7: משרד העבודה | C7: הודעה על הוספת תחום, שינוי כתובת, הוספת סניף, החלפת ערבויות (חשבון בנק), שינוי שם חברה/עסק | D7: שירות זה מאפשר לקבלני שירות או לקבלני כוח אדם, להגיש בקשה למשרד העבודה על הוספת תחום, שינוי כתובת משרדי החברה/עסק, הוספת סניף, על החלפת ערבויות (חשבון בנק), על שינוי שם חברה/עסק. | F7: מינהל הסדרה ואכיפת חוקי עבודה | G7: עסקי-מקצועי | H7: עסקי - חברות - כלל העסקים, | I7: דיווח מידע | J7: פעיל | K7: תאגיד בלבד | L7: כן | M7: דיגיטלי, דוא"ל | N7: https://www.gov.il/he/service/contractors-report-details-change | O7: 190 | P7: 0 | Q7: 0 | R7: 190 | W7: הודעה על הוספת תחום, שינוי כתובת, הוספת סניף, החלפת ערבויות (חשבון בנק), שינוי שם חברה/עסק
A8: 5864 | B8: משרד העבודה | C8: הודעה על הפסקת פעילות של קבלני כוח אדם או קבלני שירות | D8: שירות זה מאפשר לקבלני כוח אדם או לקבלני שירות, להודיע למינהל הסדרה ואכיפה, על אי-חידוש רישיון הקבלן שברשותם.מסמכים נדרשים: טפסי 102, באם הועסקו עובדים זרים ו/או מבקשי מקלט ו/או מסתננים - יש להמציא אישורי ויזה + צילומי דרכון של כלל העובדים הזרים/מבקשי מקלט/מסתננים שהועסקו בעסק/חברה. | F8: מינהל הסדרה ואכיפת חוקי עבודה | G8: עסקי-מקצועי | H8: עסקי - חברות - כלל העסקים, | I8: דיווח מידע | J8: פעיל | K8: תאגיד בלבד | L8: כן | M8: דיגיטלי, דוא"ל | N8: https://www.gov.il/he/service/manpower-contractor-license-non-renewal | O8: 190 | P8: 0 | Q8: 0 | R8: 190 | W8: הודעה על הפסקת פעילות של קבלני כוח אדם או קבלני שירות
A9: 5865 | B9: משרד העבודה | C9: הנחיות למכירת חברה תוך שמירה על רישיון שניתן לקבלן שירות, קבלן כ"א או לשכות פרטיות | D9: שירות זה מספק מידע לקבלני שירות, לקבלני כוח אדם או לבעלי לשכות פרטיות, על חובתם להודיע על כוונתם למכור את מניות החברה או את פעילותה.מסמכים נדרשים: אישור הרשות על כוונה למכור את מניות החברה או את פעילותה | F9: מינהל הסדרה ואכיפת חוקי עבודה | G9: עסקי-מקצועי | H9: עסקי - חברות - כלל העסקים, | I9: דיווח מידע | J9: פעיל | K9: תאגיד בלבד | L9: כן | M9: דיגיטלי, דוא"ל | N9: https://www.gov.il/he/service/contractors-company-sale-report | O9: 71 | P9: 0 | Q9: 0 | R9: 71 | W9: אישור הרשות על כוונה למכור את מניות החברה או את פעילותה
A10: 5866 | B10: משרד העבודה | C10: הגשת תלונה על מעסיקים בשל הפרת חוקי עבודה | D10: שירות זה מאפשר לעובדים להגיש תלונה על מעסיקים, גם באופן אנונימי, במקרה של חשד להפרה של חוקי עבודה. | F10: מינהל הסדרה ואכיפת חוקי עבודה | G10: פרטי | H10: פרטי - אוכלוסייה כללית, | I10: דיווח מידע | J10: פעיל | K10: יחיד ותאגיד | L10: לא | M10: דיגיטלי | N10: https://www.gov.il/he/service/work-rights-violation-complaints | O10: 5724 | P10: 0 | Q10: 0 | R10: 5724 | W10: אישור הגשת תלונה על מעסיקים בשל הפרת חוקי עבודה
A11: 5867 | B11: משרד העבודה | C11: בקשה להיתר העסקה בשעות נוספות ובמנוחה השבועית | D11: שירות זה מאפשר למעסיקים להגיש בקשה, להיתר מיוחד להעסקת עובדים במנוחה השבועית ו/או בשעות נוספות ו/או בעבודת לילה. | F11: מינהל הסדרה ואכיפת חוקי עבודה | G11: עסקי-מקצועי | H11: עסקי - חברות - כלל העסקים, | I11: דיווח מידע | J11: פעיל | K11: תאגיד בלבד | L11: כן | M11: דיגיטלי | N11: https://www.gov.il/he/service/request-for-employment-during-weekend-or-extra-hours | O11: 1155 | P11: 0 | Q11: 0 | R11: 1155 | W11: היתר העסקה בשעות נוספות ובמנוחה השבועית
A12: 5868 | B12: משרד העבודה | C12: תשלום אגרת רישום, רישוי ובחינות רישוי למהנדסים ולאדריכלים | D12: שירות זה מאפשר תשלום אגרת רישום, רישוי ובחינות רישוי למהנדסים ולאדריכלים. | F12: אגף בכיר אסדרת עיסוקים | G12: פרטי | H12: פרטי - אוכלוסייה כללית, | I12: תשלומים | J12: פעיל | K12: יחיד ותאגיד | L12: לא | M12: דיגיטלי | N12: https://www.gov.il/he/service/fees-testing-engineers-and-architects | O12: 15000 | P12: 0 | Q12: 0 | R12: 15000 | W12: אסמכתא על התשלום ואישור זכאות לגשת לבחינת הרישוי
A13: 5869 | B13: משרד העבודה | C13: רישום מורשי נגישות מתו"ס (מבנים, תשתיות וסביבה) הנדסאים | D13: השירות מאפשר להנדסאים להירשם כמורשי נגישות מתו"ס.מורשי נגישות מתו"ס מייעצים לגבי נגישות של מבנים, תשתיות וסביבה לאנשים עם מוגבלויות. הרישום הוא תנאי חובה לעיסוק כמורשה נגישות. | F13: אגף בכיר אסדרת עיסוקים | G13: פרטי | H13: פרטי - אוכלוסייה כללית, | I13: רישוי, רישום ותעודות | J13: פעיל | K13: יחיד ותאגיד | L13: כן | M13: דיגיטלי | N13: https://www.gov.il/he/service/registration-accessibility-licenses-practical-engineers | O13: 38 | P13: 0 | Q13: 0 | R13: 38
A14: 5870 | B14: משרד העבודה | C14: בקשה לרישום במרשם ההנדסאים והטכנאים המוסמכים | D14: שירות זה מאפשר להנדסאים ולטכנאים מוסמכים להגיש בקשה לרישום במרשם ההנדסאים והטכנאים המוסמכים. | F14: אגף בכיר אסדרת עיסוקים | G14: פרטי | H14: פרטי - אוכלוסייה כללית, | I14: רישוי, רישום ותעודות | J14: פעיל | K14: יחיד ותאגיד | L14: כן | M14: דיגיטלי | N14: https://www.gov.il/he/service/registration-certified-practical-engineers-and-technicians | O14: 7279 | P14: 0 | Q14: 0 | R14: 7279
A15: 5871 | B15: משרד העבודה | C15: בקשה לרישום בפנקס מורשה להיתר | D15: שירות זה מאפשר לאדריכלים העומדים בתנאי הרישום, לאשר היתרי בניה, בכפוף להוראות חוק התכנון והבנייה.מסמכים נדרשים: היתרי בנייה שביצע,הצהרת עו"דרישום פלילי - משטרת ישראל | F15: אגף בכיר אסדרת עיסוקים | G15: פרטי | H15: פרטי - אוכלוסייה כללית, | I15: רישוי, רישום ותעודות | J15: פעיל | K15: יחיד ותאגיד | L15: כן | M15: דיגיטלי | N15: https://www.gov.il/he/service/registration-permit-book | O15: 99 | P15: 0 | Q15: 0 | R15: 99 | W15: תעודת רישום בפנקס מורשה להיתר
A16: 5872 | B16: משרד העבודה | C16: רישום מורשי נגישות מתו"ס (מבנים, תשתיות וסביבה) מהנדסים ואדריכלים | D16: השירות מאפשר למהנדסים ולאדריכלים להירשם כמורשי נגישות מתו"ס.מורשי נגישות מתו"ס מייעצים לגבי נגישות של מבנים, תשתיות וסביבה לאנשים עם מוגבלויות. הרישום הוא תנאי חובה לעיסוק כמורשה נגישות.מסמכים נדרשים: תעודה מזהה, תעודת רישום בפנקס המהנדסים והאדריכלים, תעודה מקצועית ותעודת גמר מורשה נגישות מתו"ס מטעם האגף להכשרה מקצועית | F16: אגף בכיר אסדרת עיסוקים | G16: פרטי | H16: פרטי - אוכלוסייה כללית, | I16: רישוי, רישום ותעודות | J16: פעיל | K16: יחיד ותאגיד | L16: כן | M16: דיגיטלי | N16: https://www.gov.il/he/service/licensed-registration-of-accessibility-matos-a | O16: 20 | P16: 0 | Q16: 0 | R16: 20 | W16: רישום בפנקס מורשה נגישות מתו"ס מהנדסים
A17: 5873 | B17: משרד העבודה | C17: הגשת בקשה לקבלת רישיון לביצוע ולתכנון עבודות חשמל | D17: שירות זה מאפשר לחשמלאים, טכנאים, הנדסאים או מהנדסים להגיש בקשה לקבלת רישיון לביצוע ולתכנון עבודות חשמל. | F17: אגף בכיר אסדרת עיסוקים | G17: פרטי | H17: פרטי - אוכלוסייה כללית, | I17: רישוי, רישום ותעודות | J17: פעיל | K17: יחיד ותאגיד | L17: כן | M17: דיגיטלי | N17: https://www.gov.il/he/service/applying-for-an-electricians-license | O17: 10402 | P17: 0 | Q17: 0 | R17: 10402
A18: 5874 | B18: משרד העבודה | C18: הגשת ערעור על תוצאות בחינת הרישוי הממשלתית בהנדסה אזרחית-מבנים ובאדריכלות | D18: שירות זה מאפשר לנבחנים בבחינת הרישוי הממשלתית בהנדסה אזרחית - מבנים ובאדריכלות להגיש ערעור על תוצאות הבחינה. | F18: אגף בכיר אסדרת עיסוקים | G18: פרטי | H18: פרטי - אוכלוסייה כללית, | I18: דיווח מידע | J18: פעיל | K18: יחיד ותאגיד | L18: כן | M18: דיגיטלי | N18: https://www.gov.il/he/service/license-exams-appeal | O18: 71 | P18: 0 | Q18: 0 | R18: 71
A19: 5875 | B19: משרד העבודה | C19: הרשמה לבחינת הרישוי בהנדסה אזרחית - מבנים | D19: שירות זה מאפשר למהנדסים רשומים שסיימו את תקופת ההתמחות, להירשם לבחינת הרישוי במדור הנדסה אזרחית - מבנים. | F19: אגף בכיר אסדרת עיסוקים | G19: פרטי | H19: פרטי - אוכלוסייה כללית, | I19: רישוי, רישום ותעודות | J19: פעיל | K19: יחיד ותאגיד | L19: לא | M19: דיגיטלי | N19: https://www.gov.il/he/service/structural-eng-licensing-exam-registration | O19: 206 | P19: 0 | Q19: 0 | R19: 206
A20: 5876 | B20: משרד העבודה | C20: בקשה לרישום במרשם הבקרים | D20: שירות זה מאפשר להירשם במרשם הבקרים של האגף לאסדרת עיסוקים במשרד העבודה.מסמכים נדרשים: תעודה מזהה, תעודת סיום קורס | F20: אגף בכיר אסדרת עיסוקים | G20: פרטי | H20: פרטי - אוכלוסייה כללית, | I20: רישוי, רישום ותעודות | J20: פעיל | K20: יחיד ותאגיד | L20: כן | M20: דיגיטלי | N20: https://www.gov.il/he/service/controllers-registration | O20: 2 | P20: 0 | Q20: 0 | R20: 2 | W20: תעודת רישום במרשם הבקרים
A21: 5877 | B21: משרד העבודה | C21: תשלומים ואגרות עבור רישיון חשמל | D21: שירות זה מאפשר לשלם אגרה עבור רישיון חשמל. | F21: אגף בכיר אסדרת עיסוקים | G21: פרטי | H21: פרטי - אוכלוסייה כללית, | I21: רישוי, רישום ותעודות | J21: פעיל | K21: יחיד ותאגיד | L21: לא | M21: דיגיטלי | N21: https://www.gov.il/he/service/fees-and-payments-electrician-license | O21: 35597 | P21: 0 | Q21: 0 | R21: 35597 | W21: רישיון חשמל
A22: 5878 | B22: משרד העבודה | C22: תשלום אגרות מה"ט (המכון הממשלתי להכשרה בטכנולוגיה ובמדע) | D22: שירות זה מאפשר לשלם אגרות עבור מה"ט (המכון הממשלתי להכשרה בטכנולוגיה ובמדע). השירות מיועד עבור סטודנטים ולא עבור המכללות. | F22: מה"ט | G22: פרטי | I22: תשלומים | J22: פעיל | K22: יחיד ותאגיד | L22: לא | M22: דיגיטלי | N22: https://www.gov.il/he/service/iroads_payment_for_services | O22: 1114 | P22: 0 | Q22: 0 | R22: 1114 | W22: אישור תשלום על בחינות מה"ט לסטודנטים (אסמכתא במייל)
A23: 5879 | B23: משרד העבודה | C23: התאמות בבחינות גמר ממלכתיות להנדסאים וטכנאים מוסמכים | D23: שירות זה מספק מידע על הגשת בקשה להתאמות בבחינה, עבור סטודנטים שהם עולים חדשים או בעלי לקות למידה או בעלי מגבלות שונות, הנבחנים בבחינות הגמר הממלכתיות של המכון הממשלתי להכשרה בטכנולוגיה ומדע (מה"ט) להנדסאים וטכנאים מוסמכים.נדרש להגיש ע"י המכללה בלבד תוצאות אבחונים והאישור מתקבל על ידי מערכת מה"ט.נט | F23: מה"ט | G23: עסקי-מקצועי | H23: מוסדות אקדמיים, | I23: דיווח מידע | J23: פעיל | K23: תאגיד בלבד | L23: כן | M23: דיגיטלי | N23: https://www.gov.il/he/service/national_final_exams_adjustments_for_engineers_and_techs | O23: 3010 | P23: 0 | Q23: 0 | R23: 3010
A24: 5880 | B24: משרד העבודה | C24: תשלום מכללות לפרוייקטים או לבחינות חיצוניות של מה"ט (המכון הממשלתי להכשרה בטכנולוגיה ומדע) | D24: שירות זה מאפשר למכללות של המכון הממשלתי להכשרה בטכנולוגיה ובמדע (מה"ט) לשלם עבור בחינות חיצוניות או פרויקטים. | F24: מה"ט | G24: עסקי-מקצועי | H24: עסקי - חברות - כלל העסקים, | I24: תשלומים | J24: פעיל | K24: תאגיד בלבד | L24: לא | M24: דיגיטלי | N24: https://www.gov.il/he/service/colleges_payment_external_examinations_projects | O24: 540 | P24: 0 | Q24: 0 | R24: 540 | W24: אישור תשלום מכללות לפרוייקטים או לבחינות חיצוניות של מה"ט (המכון הממשלתי להכשרה בטכנולוגיה ומדע)
A25: 5881 | B25: משרד העבודה | C25: קבלת תוצאות וציונים של בחינות הכשרת מבוגרים | D25: שירות זה מאפשר לנבחנים שניגשו לבחינות המקצוע של האגף להכשרה מקצועית במשרד העבודה, להיכנס למערכת ציונט ולצפות בציוני הבחינות הממלכתיות.לא ניתן לקבל מידע של כמות פניות שנתית כי המידע לבירור ציונים עבר לאיזור האישי או למערכת מוסדית ייעודית לא רק בירור ציון | F25: הכשרה מקצועית | G25: פרטי | H25: פרטי - אוכלוסייה כללית, | I25: בקשת מידע | J25: פעיל | K25: יחיד ותאגיד | L25: לא | M25: דיגיטלי | N25: https://www.gov.il/he/pages/grades | O25: 0 | P25: 0 | Q25: 0 | R25: 0
A26: 5882 | B26: משרד העבודה | C26: סימולטור לחישוב דרגת זכאות להשתתפות במסגרות לגיל הרך המוכרות על ידי משרד העבודה | D26: שירות זה מאפשר להורים לקבל אומדן לדרגת הזכאות שתיקבע להם ולגובה השתתפות המדינה בשכר לימוד._x000D_ _x000D_ ניתן לצרף לבקשה כל מסמך שתומך בבקשת הזכאות. | F26: אגף בכיר עידוד תעסוקת הורים | G26: פרטי | H26: פרטי - הורים, | I26: בקשת מידע | J26: פעיל | K26: יחיד ותאגיד | L26: לא | M26: דיגיטלי | N26: https://www.gov.il/he/service/simulator_for_child_day_care_tuition | O26: 346994 | P26: 0 | Q26: 0 | R26: 346994
A27: 5883 | B27: משרד העבודה | C27: דיווח נוכחות חודשי | D27: הנחיות עבור מנהלות מעון ורכזות משפחתונים, ובנוסף קבצים לא מקוונים._x000D_ _x000D_ ניתן להגיש כל מסמך התומך בבקשה. | F27: אגף בכיר עידוד תעסוקת הורים | G27: עסקי-מקצועי | H27: מוסדות חינוך, | I27: דיווח מידע | J27: פעיל | K27: תאגיד בלבד | L27: לא | M27: דיגיטלי | N27: https://www.gov.il/he/service/reporting-monthly-attendance-day-care-centers-and-nurseries | O27: 82530 | P27: 0 | Q27: 0 | R27: 82530 | S27: גדול
A28: 5884 | B28: משרד העבודה | C28: בירור דרגת זכאות להשתתפות המדינה בשכר לימוד במסגרות לגיל הרך המוכרות על ידי משרד העבודה | D28: שירות זה מאפשר להורים שהגישו בקשה לקבלת השתתפות בשכר לימוד במסגרת שבפיקוח משרד העבודה (באמצעות טופס מקוון), לברר את סטטוס הטיפול בבקשה, האם חסרים מסמכים לקביעת דרגת הזכאות ומהי דרגת הזכאות שנקבעה._x000D_ _x000D_ ניתן לצרף כל מסמך התומך בבקשה. | F28: אגף בכיר עידוד תעסוקת הורים | G28: פרטי | H28: פרטי - הורים, | I28: סיוע כלכלי וקצבאות | J28: פעיל | K28: יחיד ותאגיד | L28: כן | M28: דיגיטלי | N28: https://www.gov.il/he/service/daycare-center-parents-request-degree-of-subsidy | O28: 522860 | P28: 0 | Q28: 0 | R28: 522860
A29: 5885 | B29: משרד העבודה | C29: רישום למעון יום לשנת הלימודים הבאה | D29: שירות לרישום ילדים למעונות יום | F29: אגף בכיר עידוד תעסוקת הורים | G29: פרטי | H29: פרטי - הורים, | I29: דיווח מידע | J29: פעיל | K29: יחיד ותאגיד | L29: לא | M29: דיגיטלי | N29: https://www.gov.il/he/service/daycare-registration | O29: 101088 | P29: 0 | Q29: 0 | R29: 101088 | W29: אישור רישום למעון יום
A30: 5886 | B30: משרד העבודה | C30: טופס השלמת מסמכים לוועדות קבלה | D30: שירות זה מאפשר להשלים ולעדכן מסמכים לעדכון בקשה לוועדת קבלה למעונות יום. ניתן לצרף כל מסמך התומך בבקשה. | F30: אגף בכיר עידוד תעסוקת הורים | G30: פרטי | H30: פרטי - הורים, | I30: דיווח מידע | J30: פעיל | K30: יחיד ותאגיד | L30: כן | M30: דיגיטלי | N30: https://www.gov.il/he/service/admission-committees-daycare | O30: 49965 | P30: 0 | Q30: 0 | R30: 49965
A31: 5887 | B31: משרד העבודה | C31: הצהרת התנדבות לעובדים במפעלים חיוניים | D31: שירות זה מאפשר לעובדים מעל גיל הפרישה להצהיר על רצונם להתנדב לשירות עבודה במפעלים חיוניים בשעת חירום. | F31: אגף כח אדם לשעת חירום – מטה ארצי | G31: עסקי-מקצועי | I31: דיווח מידע | J31: פעיל | K31: יחיד ותאגיד | L31: לא | M31: דיגיטלי | N31: https://www.gov.il/he/service/voluntary-work-declaration-form | O31: 870 | P31: 0 | Q31: 0 | R31: 870
A32: 5888 | B32: משרד העבודה | C32: הודעה על סכסוך עבודה במשק | D32: השירות מאפשר לדווח לממונה על יחסי עבודה על סכסוך עבודה. מסמכים נדרשים:הודעה חתומה על סכסוך עבודה או בטופס דיגיטלי https://www.gov.il/he/service/announce-labor-dispute | F32: ממונה על יחסי עבודה | G32: עסקי-מקצועי | I32: דיווח מידע | J32: פעיל | K32: תאגיד בלבד | L32: כן | M32: דיגיטלי | N32: https://www.gov.il/he/service/announce-labor-dispute | O32: 9 | P32: 0 | Q32: 0 | R32: 9
A33: 5891 | B33: משרד העבודה | C33: דיווח על שינוי בהוצאות שכר העובדים של קבלני שירות, קבלני כח אדם וכן קבלני כח אדם, בעלי היתר מיוחד להעסקת עגורנאי צריח | D33: שירות זה מאפשר לקבלני שירות ולקבלני כוח אדם, להגיש דיווח למשרד העבודה על שינוי בהוצאות שכר העובדים שלהם.מסמכים נדרשים: טפסי 102, טבלת ריכוז תביעות | F33: מינהל הסדרה ואכיפת חוקי עבודה | G33: עסקי-מקצועי | H33: עסקי - חברות - כלל העסקים, | I33: דיווח מידע | J33: פעיל | K33: תאגיד בלבד | L33: כן | M33: דיגיטלי, דוא"ל | N33: https://www.gov.il/he/service/contractors-report-wages-change | O33: 55 | P33: 0 | Q33: 0 | R33: 55 | W33: דיווח על שינוי בהוצאות שכר העובדים של קבלני שירות, קבלני כח אדם וכן קבלני כח אדם, בעלי היתר מיוחד להעסקת עגורנאי צריח
A34: 5892 | B34: משרד העבודה | C34: BOOST – בקשה למלגה חודשית ללומדים בהכשרה מקצועית ו/או תעסוקתית | D34: שירות זה מאפשר ללומדים בהכשרה מקצועית ו/או תעסוקתית, שאינם זכאים לדמי אבטלה, לבדוק זכאות למלגה חודשית ולהגיש את הבקשה עבורה.מסמכים נדרשים: תצהיר הורה עצמאי(נספח ט'), אישור השתתפות(נספח ד/ה''), שיוך אוכלוסיית יעד (נספח ז'), ת"ז(משרד הפנים), מערכת שעות(מכללה), פרטי חשבון(בנק), אישור שירות מילואים 3010 (צה"ל) | F34: הכשרה מקצועית | G34: פרטי | H34: פרטי - אוכלוסייה כללית, | I34: סיוע כלכלי וקצבאות | J34: פעיל | K34: יחיד ותאגיד | L34: כן | M34: דיגיטלי | N34: https://www.gov.il/he/service/boost-monthly-scholarship | O34: 108 | P34: 0 | Q34: 0 | R34: 108 | W34: BOOST – בקשה למלגה חודשית ללומדים בהכשרה מקצועית ו/או תעסוקתית, אישור רישום
A35: 5893 | B35: משרד העבודה | C35: אישור הגעה לבחינות רישוי בהנדסה אזרחית-מבנים ואדריכלות | D35: שירות זה מאפשר למלא טופס אישור הגעה לבחינת רישוי למהנדסים ולאדריכלים. | F35: אגף בכיר אסדרת עיסוקים | G35: פרטי | H35: פרטי - אוכלוסייה כללית, | I35: דיווח מידע | J35: פעיל | K35: יחיד ותאגיד | L35: כן | M35: דיגיטלי | N35: https://www.gov.il/he/service/examination-approval-confirmation-engineer | O35: 665 | P35: 0 | Q35: 0 | R35: 665
A36: 5894 | B36: משרד העבודה | C36: בקשה לאישור מגמת לימוד חדשה להכשרה מקצועית | D36: שירות זה מאפשר להגיש באופן מקוון, בקשה לקבלת אישור על הקמת מגמה חדשה ללימוד מקצועי. | F36: הכשרה מקצועית | G36: עסקי ופרטי | H36: כלל קהלי היעד, | I36: רישוי, רישום ותעודות | J36: פעיל | K36: יחיד ותאגיד | L36: כן | M36: דיגיטלי | N36: https://www.gov.il/he/service/approve-new-vocational-study-course | O36: 50 | P36: 0 | Q36: 0 | R36: 50 | W36: אסמכתא לבקשה מגמת לימוד חדשה להכשרה מקצועית
A37: 5895 | B37: משרד העבודה | C37: בקשה לסייעת עבור ילד אלרגני | D37: הגשת בקשה למשרד העבודה והרווחה, לקבלת סייעת ו/או מימון סייעת עבור ילד אלרגני. אישור הבקשה מותנה בקבלת דרגה ובגובה הדרגה.נדרש אישור רופא אלרגיות. | F37: אגף בכיר עידוד תעסוקת הורים | G37: פרטי | H37: פרטי - הורים, | I37: סיוע כלכלי וקצבאות | J37: פעיל | K37: יחיד ותאגיד | L37: כן | M37: דיגיטלי | N37: https://www.gov.il/he/service/assistance-for-toddler-with-severe-allergy | O37: 1537 | P37: 0 | Q37: 0 | R37: 1537 | W37: אישור זכאות לסייעת עבור ילד עם אלרגיה
A38: 5896 | B38: משרד העבודה | C38: בקשה לאישור מינוי ממונה על הבטיחות במקום העבודה | D38: שירות זה מאפשר למעסיקים להגיש בקשה לאישור מינוי ממונה על הבטיחות. | F38: מינהל הבטיחות והבריאות התעסוקתית | G38: עסקי-מקצועי | H38: עסקי - מעסיקים, | I38: דיווח מידע | J38: פעיל | K38: תאגיד בלבד | L38: כן | M38: דואר, פקס, טלפון, סניפים, דיגיטלי, דוא"ל | N38: https://www.gov.il/he/service/safety-officer-appointment | O38: 712 | P38: 0 | Q38: 0 | R38: 712 | W38: סטטוס בקשה לאישור מינוי ממונה על הבטיחות במקום העבודה
A39: 5897 | B39: משרד העבודה | C39: בקשה להחזר דמי בחינות | D39: בקשה להחזר אגרת בחינות ששולמה על ידי סטודנטים (דרך המכללה) שלא נבחנו מהסיבות שצוינו בחוזר מנהל מה"ט (המכון הממשלתי להכשרה בטכנולוגיה ובמדע). יש להכניס אצעי תשלום להחזר הכספי. | F39: הכשרה מקצועית | G39: פרטי | H39: פרטי - אוכלוסייה כללית, | I39: בקשת מידע | J39: פעיל | K39: יחיד ותאגיד | L39: כן | M39: דיגיטלי, דוא"ל | N39: https://www.gov.il/he/service/pay-for-vocational-government-exams | O39: 400 | P39: 0 | Q39: 0 | R39: 400
A40: 5898 | B40: משרד העבודה | C40: בקשה להיתר העסקה חריגה של עובדי קבלן כוח אדם מעל ל-9 חודשים | D40: שירות זה מאפשר לקבלני כוח אדם, להגיש בקשה להעסקה חריגה של עובדים מעל לתקופה של 9 חודשים. | F40: מינהל הסדרה ואכיפת חוקי עבודה | G40: עסקי-מקצועי | H40: עסקי - חברות - כלל העסקים, | I40: בקשת מידע | J40: פעיל | K40: תאגיד בלבד | L40: כן | M40: דיגיטלי, דוא"ל | N40: https://www.gov.il/he/service/employment-of-manpower-contractor-workers-over-9-months | O40: 248 | P40: 0 | Q40: 0 | R40: 248 | W40: טופס התחייבות לקליטת העובדים על-ידי מעסיקים בפועל
...

Sheet נדרש
A1: מזהה | B1: שם השירות - משרד | C1: מזהה שירות | D1: שם השירות | E1: שם המשרד מנפק האסמכתא | F1: אסמכתא נדרשת | G1: שם השירות - סטטוס שירות

Sheet סיכום  להפצה
A1: {='שירות '!A1:A33} -> מזהה | B1: {='שירות '!B1:B33} -> משרד | C1: {='שירות '!C1:C33} -> שם השירות | D1: {='שירות '!D1:D33} -> תאור ופירוט השירות | E1: {='שירות '!E1:E33} -> תחום השירות | F1: {='שירות '!F1:F33} -> שם היחידה המקצועית מספקת השירות | G1: {='שירות '!G1:G33} -> סוג קהל יעד | H1: {='שירות '!H1:H33} -> קהל יעד | ... M1: {='שירות '!M1:M33} -> ערוצים אפשריים לקבלת שירות | N1: כתובת דף השירות באתר | O1: {='שירות '!N1:N33} -> כתובת דף השירות באתר | P1: הערכת \ היקף שימוש דיגיטלי שנתי | Q1: הערכת\ היקף שימוש פרונטלי שנתי | R1: הערכת \ היקף שימוש טלפוני שנתי | S1: הערכת\ היקף שימוש | T1: מסמכים נדרשים
A2: 648 | B2: משרד העבודה | C2: רישוי מהנדסים ואדריכלים | D2: הגשת בקשה לקבלת רישיון למהנדס או אדריכל רשום.מסמכים נדרשים: תעודה מזהה, אישור ביצוע תקופת התמחות/התנסות מקצועית, קורות חיים | F2: אגף בכיר אסדרת עיסוקים | G2: פרטי | H2: פרטי - אוכלוסייה כללית, | I2: רישוי, רישום ותעודות | J2: פעיל | K2: יחיד ותאגיד | L2: כן | M2: דיגיטלי | N2: =HYPERLINK(O1) -> כתובת דף השירות באתר | O2: https://www.gov.il/he/service/architects-licensing | P2: =IF('שירות '!O2<>"",'שירות '!O2,'שירות '!S2) -> 1069 | Q2: =IF('שירות '!P2<>"",'שירות '!P2,'שירות '!T2) -> 0 | R2: =IF('שירות '!Q2<>"",'שירות '!Q2,'שירות '!U2) -> 0 | S2: =IF('שירות '!R2<>"",'שירות '!R2,'שירות '!V2) -> 1069 | T2: {=_xlfn.TEXTJOIN(",",TRUE,_xlfn._xlws.FILTER(נדרש!F2:F500,נדרש!C2:C500=A1,""))}
A3: 652 | B3: משרד העבודה | C3: רישום מהנדסים ואדריכלים | D3: השירות מאפשר למהנדסים ואדריכלים להירשם בפנקס המהנדסים והאדריכלים, בין היתר, כתנאי לעיסוק במקצועות בעלי ייחוד פעולות בחוק ולצורך קבלת רישיון בהמשך.מסמכים נדרשים: גיליון ציונים, תעודה אקדמית (דיפלומה), אישור ביצוע מקצועות ליבה, תקציר פרויקט גמר, אישור זכאות לתואר, תעודה מזהה, תרגום נוטריוני מסמכים שאינם בעברית/אנגלית,אישורי יציאה וכניסה מ/לישראל - רשות האוכלוסין וההגירה. | F3: אגף בכיר אסדרת עיסוקים | G3: פרטי | H3: פרטי - אוכלוסייה כללית, | I3: רישוי, רישום ותעודות | J3: פעיל | K3: יחיד ותאגיד | L3: כן | M3: דיגיטלי | N3: =HYPERLINK(O2) -> https://www.gov.il/he/service/architects-licensing | O3: https://www.gov.il/he/service/registration-of-engineers-and-architects | P3: =IF('שירות '!O3<>"",'שירות '!O3,'שירות '!S3) -> 3288 | Q3: =IF('שירות '!P3<>"",'שירות '!P3,'שירות '!T3) -> 0 | R3: =IF('שירות '!Q3<>"",'שירות '!Q3,'שירות '!U3) -> 0 | S3: =IF('שירות '!R3<>"",'שירות '!R3,'שירות '!V3) -> 3288 | T3: {=_xlfn.TEXTJOIN(",",TRUE,_xlfn._xlws.FILTER(נדרש!F3:F501,נדרש!C3:C501=A2,""))}
A4: 5781 | B4: משרד העבודה | C4: השלמת מסמכים לעדכון בקשה להשתתפות המדינה בשכר לימוד במעונות יום, משפחתונים וצהרונים - עדכונט | D4: שירות זה מאפשר להשלים ולעדכן מסמכים לבקשה קיימת להשתתפות המדינה בשכר לימוד במעונות יום, משפחתונים וצהרונים.ניתן לצרף כל מסמך התומך בבקשה. | F4: אגף בכיר עידוד תעסוקת הורים | G4: פרטי | H4: פרטי - הורים, | I4: דיווח מידע | J4: פעיל | K4: יחיד ותאגיד | L4: כן | M4: דיגיטלי | N4: =HYPERLINK(O3) -> https://www.gov.il/he/service/registration-of-engineers-and-architects | O4: https://www.gov.il/he/service/document_completion_for_request_for_day_care_centers | P4: =IF('שירות '!O4<>"",'שירות '!O4,'שירות '!S4) -> 111559 | Q4: =IF('שירות '!P4<>"",'שירות '!P4,'שירות '!T4) -> 0 | R4: =IF('שירות '!Q4<>"",'שירות '!Q4,'שירות '!U4) -> 0 | S4: =IF('שירות '!R4<>"",'שירות '!R4,'שירות '!V4) -> 111559 | T4: {=_xlfn.TEXTJOIN(",",TRUE,_xlfn._xlws.FILTER(נדרש!F4:F502,נדרש!C4:C502=A3,""))}
A5: 5861 | B5: משרד העבודה | C5: הודעה על שינוי מעמד של קבלני כוח אדם או קבלני שירות | D5: שירות זה מאפשר לקבלני שירות או לקבלני כוח אדם, לדווח על שינוי מעמד מעוסק מורשה לחברה בע"מ. | F5: מינהל הסדרה ואכיפת חוקי עבודה | G5: עסקי-מקצועי | H5: עסקי - חברות - כלל העסקים, | I5: דיווח מידע | J5: פעיל | K5: תאגיד בלבד | L5: כן | M5: דיגיטלי, דוא"ל | N5: =HYPERLINK(O4) -> https://www.gov.il/he/service/document_completion_for_request_for_day_care_centers | O5: https://www.gov.il/he/service/contractors-report-company-status-change | P5: =IF('שירות '!O5<>"",'שירות '!O5,'שירות '!S5) | Q5: =IF('שירות '!P5<>"",'שירות '!P5,'שירות '!T5) -> 0 | R5: =IF('שירות '!Q5<>"",'שירות '!Q5,'שירות '!U5) -> 0 | S5: =IF('שירות '!R5<>"",'שירות '!R5,'שירות '!V5) -> 0 | T5: {=_xlfn.TEXTJOIN(",",TRUE,_xlfn._xlws.FILTER(נדרש!F5:F503,נדרש!C5:C503=A4,""))}
A6: 5862 | B6: משרד העבודה | C6: הגשת דוחות על ניצול היתר להעסקה במנוחה השבועית, בשעות נוספות, בעבודת לילה | D6: שירות זה מאפשר למעסיקים להגיש דיווח תקופתי על אופן ניצול ההיתר. | F6: מינהל הסדרה ואכיפת חוקי עבודה | G6: עסקי-מקצועי | H6: עסקי - חברות - כלל העסקים, | I6: דיווח מידע | J6: פעיל | K6: תאגיד בלבד | L6: כן | M6: דיגיטלי, דוא"ל | N6: =HYPERLINK(O5) -> https://www.gov.il/he/service/contractors-report-company-status-change | O6: https://www.gov.il/he/service/report-weekend-employment | P6: =IF('שירות '!O6<>"",'שירות '!O6,'שירות '!S6) -> 513 | Q6: =IF('שירות '!P6<>"",'שירות '!P6,'שירות '!T6) -> 0 | R6: =IF('שירות '!Q6<>"",'שירות '!Q6,'שירות '!U6) -> 0 | S6: =IF('שירות '!R6<>"",'שירות '!R6,'שירות '!V6) -> 513 | T6: {=_xlfn.TEXTJOIN(",",TRUE,_xlfn._xlws.FILTER(נדרש!F6:F504,נדרש!C6:C504=A5,""))}
A7: 5863 | B7: משרד העבודה | C7: הודעה על הוספת תחום, שינוי כתובת, הוספת סניף, החלפת ערבויות (חשבון בנק), שינוי שם חברה/עסק | D7: שירות זה מאפשר לקבלני שירות או לקבלני כוח אדם, להגיש בקשה למשרד העבודה על הוספת תחום, שינוי כתובת משרדי החברה/עסק, הוספת סניף, על החלפת ערבויות (חשבון בנק), על שינוי שם חברה/עסק. | F7: מינהל הסדרה ואכיפת חוקי עבודה | G7: עסקי-מקצועי | H7: עסקי - חברות - כלל העסקים, | I7: דיווח מידע | J7: פעיל | K7: תאגיד בלבד | L7: כן | M7: דיגיטלי, דוא"ל | N7: =HYPERLINK(O6) -> https://www.gov.il/he/service/report-weekend-employment | O7: https://www.gov.il/he/service/contractors-report-details-change | P7: =IF('שירות '!O7<>"",'שירות '!O7,'שירות '!S7) -> 190 | Q7: =IF('שירות '!P7<>"",'שירות '!P7,'שירות '!T7) -> 0 | R7: =IF('שירות '!Q7<>"",'שירות '!Q7,'שירות '!U7) -> 0 | S7: =IF('שירות '!R7<>"",'שירות '!R7,'שירות '!V7) -> 190 | T7: {=_xlfn.TEXTJOIN(",",TRUE,_xlfn._xlws.FILTER(נדרש!F7:F505,נדרש!C7:C505=A6,""))}
A8: 5864 | B8: משרד העבודה | C8: הודעה על הפסקת פעילות של קבלני כוח אדם או קבלני שירות | D8: שירות זה מאפשר לקבלני כוח אדם או לקבלני שירות, להודיע למינהל הסדרה ואכיפה, על אי-חידוש רישיון הקבלן שברשותם.מסמכים נדרשים: טפסי 102, באם הועסקו עובדים זרים ו/או מבקשי מקלט ו/או מסתננים - יש להמציא אישורי ויזה + צילומי דרכון של כלל העובדים הזרים/מבקשי מקלט/מסתננים שהועסקו בעסק/חברה. | F8: מינהל הסדרה ואכיפת חוקי עבודה | G8: עסקי-מקצועי | H8: עסקי - חברות - כלל העסקים, | I8: דיווח מידע | J8: פעיל | K8: תאגיד בלבד | L8: כן | M8: דיגיטלי, דוא"ל | N8: =HYPERLINK(O7) -> https://www.gov.il/he/service/contractors-report-details-change | O8: https://www.gov.il/he/service/manpower-contractor-license-non-renewal | P8: =IF('שירות '!O8<>"",'שירות '!O8,'שירות '!S8) -> 190 | Q8: =IF('שירות '!P8<>"",'שירות '!P8,'שירות '!T8) -> 0 | R8: =IF('שירות '!Q8<>"",'שירות '!Q8,'שירות '!U8) -> 0 | S8: =IF('שירות '!R8<>"",'שירות '!R8,'שירות '!V8) -> 190 | T8: {=_xlfn.TEXTJOIN(",",TRUE,_xlfn._xlws.FILTER(נדרש!F8:F506,נדרש!C8:C506=A7,""))}
A9: 5865 | B9: משרד העבודה | C9: הנחיות למכירת חברה תוך שמירה על רישיון שניתן לקבלן שירות, קבלן כ"א או לשכות פרטיות | D9: שירות זה מספק מידע לקבלני שירות, לקבלני כוח אדם או לבעלי לשכות פרטיות, על חובתם להודיע על כוונתם למכור את מניות החברה או את פעילותה.מסמכים נדרשים: אישור הרשות על כוונה למכור את מניות החברה או את פעילותה | F9: מינהל הסדרה ואכיפת חוקי עבודה | G9: עסקי-מקצועי | H9: עסקי - חברות - כלל העסקים, | I9: דיווח מידע | J9: פעיל | K9: תאגיד בלבד | L9: כן | M9: דיגיטלי, דוא"ל | N9: =HYPERLINK(O8) -> https://www.gov.il/he/service/manpower-contractor-license-non-renewal | O9: https://www.gov.il/he/service/contractors-company-sale-report | P9: =IF('שירות '!O9<>"",'שירות '!O9,'שירות '!S9) -> 71 | Q9: =IF('שירות '!P9<>"",'שירות '!P9,'שירות '!T9) -> 0 | R9: =IF('שירות '!Q9<>"",'שירות '!Q9,'שירות '!U9) -> 0 | S9: =IF('שירות '!R9<>"",'שירות '!R9,'שירות '!V9) -> 71 | T9: {=_xlfn.TEXTJOIN(",",TRUE,_xlfn._xlws.FILTER(נדרש!F9:F507,נדרש!C9:C507=A8,""))}
A10: 5866 | B10: משרד העבודה | C10: הגשת תלונה על מעסיקים בשל הפרת חוקי עבודה | D10: שירות זה מאפשר לעובדים להגיש תלונה על מעסיקים, גם באופן אנונימי, במקרה של חשד להפרה של חוקי עבודה. | F10: מינהל הסדרה ואכיפת חוקי עבודה | G10: פרטי | H10: פרטי - אוכלוסייה כללית, | I10: דיווח מידע | J10: פעיל | K10: יחיד ותאגיד | L10: לא | M10: דיגיטלי | N10: =HYPERLINK(O9) -> https://www.gov.il/he/service/contractors-company-sale-report | O10: https://www.gov.il/he/service/work-rights-violation-complaints | P10: =IF('שירות '!O10<>"",'שירות '!O10,'שירות '!S10) -> 5724 | Q10: =IF('שירות '!P10<>"",'שירות '!P10,'שירות '!T10) -> 0 | R10: =IF('שירות '!Q10<>"",'שירות '!Q10,'שירות '!U10) -> 0 | S10: =IF('שירות '!R10<>"",'שירות '!R10,'שירות '!V10) -> 5724 | T10: {=_xlfn.TEXTJOIN(",",TRUE,_xlfn._xlws.FILTER(נדרש!F10:F508,נדרש!C10:C508=A9,""))}
A11: 5867 | B11: משרד העבודה | C11: בקשה להיתר העסקה בשעות נוספות ובמנוחה השבועית | D11: שירות זה מאפשר למעסיקים להגיש בקשה, להיתר מיוחד להעסקת עובדים במנוחה השבועית ו/או בשעות נוספות ו/או בעבודת לילה. | F11: מינהל הסדרה ואכיפת חוקי עבודה | G11: עסקי-מקצועי | H11: עסקי - חברות - כלל העסקים, | I11: דיווח מידע | J11: פעיל | K11: תאגיד בלבד | L11: כן | M11: דיגיטלי | N11: =HYPERLINK(O10) -> https://www.gov.il/he/service/work-rights-violation-complaints | O11: https://www.gov.il/he/service/request-for-employment-during-weekend-or-extra-hours | P11: =IF('שירות '!O11<>"",'שירות '!O11,'שירות '!S11) -> 1155 | Q11: =IF('שירות '!P11<>"",'שירות '!P11,'שירות '!T11) -> 0 | R11: =IF('שירות '!Q11<>"",'שירות '!Q11,'שירות '!U11) -> 0 | S11: =IF('שירות '!R11<>"",'שירות '!R11,'שירות '!V11) -> 1155 | T11: {=_xlfn.TEXTJOIN(",",TRUE,_xlfn._xlws.FILTER(נדרש!F11:F509,נדרש!C11:C509=A10,""))}
A12: 5868 | B12: משרד העבודה | C12: תשלום אגרת רישום, רישוי ובחינות רישוי למהנדסים ולאדריכלים | D12: שירות זה מאפשר תשלום אגרת רישום, רישוי ובחינות רישוי למהנדסים ולאדריכלים. | F12: אגף בכיר אסדרת עיסוקים | G12: פרטי | H12: פרטי - אוכלוסייה כללית, | I12: תשלומים | J12: פעיל | K12: יחיד ותאגיד | L12: לא | M12: דיגיטלי | N12: =HYPERLINK(O11) -> https://www.gov.il/he/service/request-for-employment-during-weekend-or-extra-hours | O12: https://www.gov.il/he/service/fees-testing-engineers-and-architects | P12: =IF('שירות '!O12<>"",'שירות '!O12,'שירות '!S12) -> 15000 | Q12: =IF('שירות '!P12<>"",'שירות '!P12,'שירות '!T12) -> 0 | R12: =IF('שירות '!Q12<>"",'שירות '!Q12,'שירות '!U12) -> 0 | S12: =IF('שירות '!R12<>"",'שירות '!R12,'שירות '!V12) -> 15000 | T12: {=_xlfn.TEXTJOIN(",",TRUE,_xlfn._xlws.FILTER(נדרש!F12:F510,נדרש!C12:C510=A11,""))}
A13: 5869 | B13: משרד העבודה | C13: רישום מורשי נגישות מתו"ס (מבנים, תשתיות וסביבה) הנדסאים | D13: השירות מאפשר להנדסאים להירשם כמורשי נגישות מתו"ס.מורשי נגישות מתו"ס מייעצים לגבי נגישות של מבנים, תשתיות וסביבה לאנשים עם מוגבלויות. הרישום הוא תנאי חובה לעיסוק כמורשה נגישות. | F13: אגף בכיר אסדרת עיסוקים | G13: פרטי | H13: פרטי - אוכלוסייה כללית, | I13: רישוי, רישום ותעודות | J13: פעיל | K13: יחיד ותאגיד | L13: כן | M13: דיגיטלי | N13: =HYPERLINK(O12) -> https://www.gov.il/he/service/fees-testing-engineers-and-architects | O13: https://www.gov.il/he/service/registration-accessibility-licenses-practical-engineers | P13: =IF('שירות '!O13<>"",'שירות '!O13,'שירות '!S13) -> 38 | Q13: =IF('שירות '!P13<>"",'שירות '!P13,'שירות '!T13) -> 0 | R13: =IF('שירות '!Q13<>"",'שירות '!Q13,'שירות '!U13) -> 0 | S13: =IF('שירות '!R13<>"",'שירות '!R13,'שירות '!V13) -> 38 | T13: {=_xlfn.TEXTJOIN(",",TRUE,_xlfn._xlws.FILTER(נדרש!F13:F511,נדרש!C13:C511=A12,""))}
... A21: 5877 | B21: משרד העבודה | C21: תשלומים ואגרות עבור רישיון חשמל | D21: שירות זה מאפשר לשלם אגרה עבור רישיון חשמל. | F21: אגף בכיר אסדרת עיסוקים | G21: פרטי | H21: פרטי - אוכלוסייה כללית, | I21: רישוי, רישום ותעודות | J21: פעיל | K21: יחיד ותאגיד | L21: לא | M21: דיגיטלי | N21: =HYPERLINK(O20) -> https://www.gov.il/he/service/controllers-registration | O21: https://www.gov.il/he/service/fees-and-payments-electrician-license | P21: =IF('שירות '!O21<>"",'שירות '!O21,'שירות '!S21) -> 35597 | Q21: =IF('שירות '!P21<>"",'שירות '!P21,'שירות '!T21) -> 0 | R21: =IF('שירות '!Q21<>"",'שירות '!Q21,'שירות '!U21) -> 0 | S21: =IF('שירות '!R21<>"",'שירות '!R21,'שירות '!V21) -> 35597 | T21: {=_xlfn.TEXTJOIN(",",TRUE,_xlfn._xlws.FILTER(נדרש!F21:F519,נדרש!C21:C519=A20,""))}
A22: 5878 | B22: משרד העבודה | C22: תשלום אגרות מה"ט (המכון הממשלתי להכשרה בטכנולוגיה ובמדע) | D22: שירות זה מאפשר לשלם אגרות עבור מה"ט (המכון הממשלתי להכשרה בטכנולוגיה ובמדע). השירות מיועד עבור סטודנטים ולא עבור המכללות. | F22: מה"ט | G22: פרטי | I22: תשלומים | J22: פעיל | K22: יחיד ותאגיד | L22: לא | M22: דיגיטלי | N22: =HYPERLINK(O21) -> https://www.gov.il/he/service/fees-and-payments-electrician-license | O22: https://www.gov.il/he/service/iroads_payment_for_services | P22: =IF('שירות '!O22<>"",'שירות '!O22,'שירות '!S22) -> 1114 | Q22: =IF('שירות '!P22<>"",'שירות '!P22,'שירות '!T22) -> 0 | R22: =IF('שירות '!Q22<>"",'שירות '!Q22,'שירות '!U22) -> 0 | S22: =IF('שירות '!R22<>"",'שירות '!R22,'שירות '!V22) -> 1114 | T22: {=_xlfn.TEXTJOIN(",",TRUE,_xlfn._xlws.FILTER(נדרש!F22:F520,נדרש!C22:C520=A21,""))}
A23: 5879 | B23: משרד העבודה | C23: התאמות בבחינות גמר ממלכתיות להנדסאים וטכנאים מוסמכים | D23: שירות זה מספק מידע על הגשת בקשה להתאמות בבחינה, עבור סטודנטים שהם עולים חדשים או בעלי לקות למידה או בעלי מגבלות שונות, הנבחנים בבחינות הגמר הממלכתיות של המכון הממשלתי להכשרה בטכנולוגיה ומדע (מה"ט) להנדסאים וטכנאים מוסמכים.נדרש להגיש ע"י המכללה בלבד תוצאות אבחונים והאישור מתקבל על ידי מערכת מה"ט.נט | F23: מה"ט | G23: עסקי-מקצועי | H23: מוסדות אקדמיים, | I23: דיווח מידע | J23: פעיל | K23: תאגיד בלבד | L23: כן | M23: דיגיטלי | N23: =HYPERLINK(O22) -> https://www.gov.il/he/service/iroads_payment_for_services | O23: https://www.gov.il/he/service/national_final_exams_adjustments_for_engineers_and_techs | P23: =IF('שירות '!O23<>"",'שירות '!O23,'שירות '!S23) -> 3010 | Q23: =IF('שירות '!P23<>"",'שירות '!P23,'שירות '!T23) -> 0 | R23: =IF('שירות '!Q23<>"",'שירות '!Q23,'שירות '!U23) -> 0 | S23: =IF('שירות '!R23<>"",'שירות '!R23,'שירות '!V23) -> 3010 | T23: {=_xlfn.TEXTJOIN(",",TRUE,_xlfn._xlws.FILTER(נדרש!F23:F521,נדרש!C23:C521=A22,""))}
A24: 5880 | B24: משרד העבודה | C24: תשלום מכללות לפרוייקטים או לבחינות חיצוניות של מה"ט (המכון הממשלתי להכשרה בטכנולוגיה ומדע) | D24: שירות זה מאפשר למכללות של המכון הממשלתי להכשרה בטכנולוגיה ובמדע (מה"ט) לשלם עבור בחינות חיצוניות או פרויקטים. | F24: מה"ט | G24: עסקי-מקצועי | H24: עסקי - חברות - כלל העסקים, | I24: תשלומים | J24: פעיל | K24: תאגיד בלבד | L24: לא | M24: דיגיטלי | N24: =HYPERLINK(O23) -> https://www.gov.il/he/service/national_final_exams_adjustments_for_engineers_and_techs | O24: https://www.gov.il/he/service/colleges_payment_external_examinations_projects | P24: =IF('שירות '!O24<>"",'שירות '!O24,'שירות '!S24) -> 540 | Q24: =IF('שירות '!P24<>"",'שירות '!P24,'שירות '!T24) -> 0 | R24: =IF('שירות '!Q24<>"",'שירות '!Q24,'שירות '!U24) -> 0 | S24: =IF('שירות '!R24<>"",'שירות '!R24,'שירות '!V24) -> 540 | T24: {=_xlfn.TEXTJOIN(",",TRUE,_xlfn._xlws.FILTER(נדרש!F24:F522,נדרש!C24:C522=A23,""))}
A25: 5881 | B25: משרד העבודה | C25: קבלת תוצאות וציונים של בחינות הכשרת מבוגרים | D25: שירות זה מאפשר לנבחנים שניגשו לבחינות המקצוע של האגף להכשרה מקצועית במשרד העבודה, להיכנס למערכת ציונט ולצפות בציוני הבחינות הממלכתיות.לא ניתן לקבל מידע של כמות פניות שנתית כי המידע לבירור ציונים עבר לאיזור האישי או למערכת מוסדית ייעודית לא רק בירור ציון | F25: הכשרה מקצועית | G25: פרטי | H25: פרטי - אוכלוסייה כללית, | I25: בקשת מידע | J25: פעיל | K25: יחיד ותאגיד | L25: לא | M25: דיגיטלי | N25: =HYPERLINK(O24) -> https://www.gov.il/he/service/colleges_payment_external_examinations_projects | O25: https://www.gov.il/he/pages/grades | P25: =IF('שירות '!O25<>"",'שירות '!O25,'שירות '!S25) -> 0 | Q25: =IF('שירות '!P25<>"",'שירות '!P25,'שירות '!T25) -> 0 | R25: =IF('שירות '!Q25<>"",'שירות '!Q25,'שירות '!U25) -> 0 | S25: =IF('שירות '!R25<>"",'שירות '!R25,'שירות '!V25) -> 0 | T25: {=_xlfn.TEXTJOIN(",",TRUE,_xlfn._xlws.FILTER(נדרש!F25:F523,נדרש!C25:C523=A24,""))}
A26: 5882 | B26: משרד העבודה | C26: סימולטור לחישוב דרגת זכאות להשתתפות במסגרות לגיל הרך המוכרות על ידי משרד העבודה | D26: שירות זה מאפשר להורים לקבל אומדן לדרגת הזכאות שתיקבע להם ולגובה השתתפות המדינה בשכר לימוד._x000D_ _x000D_ ניתן לצרף לבקשה כל מסמך שתומך בבקשת הזכאות. | F26: אגף בכיר עידוד תעסוקת הורים | G26: פרטי | H26: פרטי - הורים, | I26: בקשת מידע | J26: פעיל | K26: יחיד ותאגיד | L26: לא | M26: דיגיטלי | N26: =HYPERLINK(O25) -> https://www.gov.il/he/pages/grades | O26: https://www.gov.il/he/service/simulator_for_child_day_care_tuition | P26: =IF('שירות '!O26<>"",'שירות '!O26,'שירות '!S26) -> 346994 | Q26: =IF('שירות '!P26<>"",'שירות '!P26,'שירות '!T26) -> 0 | R26: =IF('שירות '!Q26<>"",'שירות '!Q26,'שירות '!U26) -> 0 | S26: =IF('שירות '!R26<>"",'שירות '!R26,'שירות '!V26) -> 346994 | T26: {=_xlfn.TEXTJOIN(",",TRUE,_xlfn._xlws.FILTER(נדרש!F26:F524,נדרש!C26:C524=A25,""))}
A27: 5883 | B27: משרד העבודה | C27: דיווח נוכחות חודשי | D27: הנחיות עבור מנהלות מעון ורכזות משפחתונים, ובנוסף קבצים לא מקוונים._x000D_ _x000D_ ניתן להגיש כל מסמך התומך בבקשה. | F27: אגף בכיר עידוד תעסוקת הורים | G27: עסקי-מקצועי | H27: מוסדות חינוך, | I27: דיווח מידע | J27: פעיל | K27: תאגיד בלבד | L27: לא | M27: דיגיטלי | N27: =HYPERLINK(O26) -> https://www.gov.il/he/service/simulator_for_child_day_care_tuition | O27: https://www.gov.il/he/service/reporting-monthly-attendance-day-care-centers-and-nurseries | P27: =IF('שירות '!O27<>"",'שירות '!O27,'שירות '!S27) -> 82530 | Q27: =IF('שירות '!P27<>"",'שירות '!P27,'שירות '!T27) -> 0 | R27: =IF('שירות '!Q27<>"",'שירות '!Q27,'שירות '!U27) -> 0 | S27: =IF('שירות '!R27<>"",'שירות '!R27,'שירות '!V27) -> 82530 | T27: {=_xlfn.TEXTJOIN(",",TRUE,_xlfn._xlws.FILTER(נדרש!F27:F525,נדרש!C27:C525=A26,""))}
A28: 5884 | B28: משרד העבודה | C28: בירור דרגת זכאות להשתתפות המדינה בשכר לימוד במסגרות לגיל הרך המוכרות על ידי משרד העבודה | D28: שירות זה מאפשר להורים שהגישו בקשה לקבלת השתתפות בשכר לימוד במסגרת שבפיקוח משרד העבודה (באמצעות טופס מקוון), לברר את סטטוס הטיפול בבקשה, האם חסרים מסמכים לקביעת דרגת הזכאות ומהי דרגת הזכאות שנקבעה._x000D_ _x000D_ ניתן לצרף כל מסמך התומך בבקשה. | F28: אגף בכיר עידוד תעסוקת הורים | G28: פרטי | H28: פרטי - הורים, | I28: סיוע כלכלי וקצבאות | J28: פעיל | K28: יחיד ותאגיד | L28: כן | M28: דיגיטלי | N28: =HYPERLINK(O27) -> https://www.gov.il/he/service/reporting-monthly-attendance-day-care-centers-and-nurseries | O28: https://www.gov.il/he/service/daycare-center-parents-request-degree-of-subsidy | P28: =IF('שירות '!O28<>"",'שירות '!O28,'שירות '!S28) -> 522860 | Q28: =IF('שירות '!P28<>"",'שירות '!P28,'שירות '!T28) -> 0 | R28: =IF('שירות '!Q28<>"",'שירות '!Q28,'שירות '!U28) -> 0 | S28: =IF('שירות '!R28<>"",'שירות '!R28,'שירות '!V28) -> 522860 | T28: {=_xlfn.TEXTJOIN(",",TRUE,_xlfn._xlws.FILTER(נדרש!F28:F526,נדרש!C28:C526=A27,""))}
A29: 5885 | B29: משרד העבודה | C29: רישום למעון יום לשנת הלימודים הבאה | D29: שירות לרישום ילדים למעונות יום | F29: אגף בכיר עידוד תעסוקת הורים | G29: פרטי | H29: פרטי - הורים, | I29: דיווח מידע | J29: פעיל | K29: יחיד ותאגיד | L29: לא | M29: דיגיטלי | N29: =HYPERLINK(O28) -> https://www.gov.il/he/service/daycare-center-parents-request-degree-of-subsidy | O29: https://www.gov.il/he/service/daycare-registration | P29: =IF('שירות '!O29<>"",'שירות '!O29,'שירות '!S29) -> 101088 | Q29: =IF('שירות '!P29<>"",'שירות '!P29,'שירות '!T29) -> 0 | R29: =IF('שירות '!Q29<>"",'שירות '!Q29,'שירות '!U29) -> 0 | S29: =IF('שירות '!R29<>"",'שירות '!R29,'שירות '!V29) -> 101088 | T29: {=_xlfn.TEXTJOIN(",",TRUE,_xlfn._xlws.FILTER(נדרש!F29:F527,נדרש!C29:C527=A28,""))}
A30: 5886 | B30: משרד העבודה | C30: טופס השלמת מסמכים לוועדות קבלה | D30: שירות זה מאפשר להשלים ולעדכן מסמכים לעדכון בקשה לוועדת קבלה למעונות יום. ניתן לצרף כל מסמך התומך בבקשה. | F30: אגף בכיר עידוד תעסוקת הורים | G30: פרטי | H30: פרטי - הורים, | I30: דיווח מידע | J30: פעיל | K30: יחיד ותאגיד | L30: כן | M30: דיגיטלי | N30: =HYPERLINK(O29) -> https://www.gov.il/he/service/daycare-registration | O30: https://www.gov.il/he/service/admission-committees-daycare | P30: =IF('שירות '!O30<>"",'שירות '!O30,'שירות '!S30) -> 49965 | Q30: =IF('שירות '!P30<>"",'שירות '!P30,'שירות '!T30) -> 0 | R30: =IF('שירות '!Q30<>"",'שירות '!Q30,'שירות '!U30) -> 0 | S30: =IF('שירות '!R30<>"",'שירות '!R30,'שירות '!V30) -> 49965 | T30: {=_xlfn.TEXTJOIN(",",TRUE,_xlfn._xlws.FILTER(נדרש!F30:F528,נדרש!C30:C528=A29,""))}
A31: 5887 | B31: משרד העבודה | C31: הצהרת התנדבות לעובדים במפעלים חיוניים | D31: שירות זה מאפשר לעובדים מעל גיל הפרישה להצהיר על רצונם להתנדב לשירות עבודה במפעלים חיוניים בשעת חירום. | F31: אגף כח אדם לשעת חירום – מטה ארצי | G31: עסקי-מקצועי | I31: דיווח מידע | J31: פעיל | K31: יחיד ותאגיד | L31: לא | M31: דיגיטלי | N31: =HYPERLINK(O30) -> https://www.gov.il/he/service/admission-committees-daycare | O31: https://www.gov.il/he/service/voluntary-work-declaration-form | P31: =IF('שירות '!O31<>"",'שירות '!O31,'שירות '!S31) -> 870 | Q31: =IF('שירות '!P31<>"",'שירות '!P31,'שירות '!T31) -> 0 | R31: =IF('שירות '!Q31<>"",'שירות '!Q31,'שירות '!U31) -> 0 | S31: =IF('שירות '!R31<>"",'שירות '!R31,'שירות '!V31) -> 870 | T31: {=_xlfn.TEXTJOIN(",",TRUE,_xlfn._xlws.FILTER(נדרש!F31:F529,נדרש!C31:C529=A30,""))}
A32: 5888 | B32: משרד העבודה | C32: הודעה על סכסוך עבודה במשק | D32: השירות מאפשר לדווח לממונה על יחסי עבודה על סכסוך עבודה. מסמכים נדרשים:הודעה חתומה על סכסוך עבודה או בטופס דיגיטלי https://www.gov.il/he/service/announce-labor-dispute | F32: ממונה על יחסי עבודה | G32: עסקי-מקצועי | I32: דיווח מידע | J32: פעיל | K32: תאגיד בלבד | L32: כן | M32: דיגיטלי | N32: =HYPERLINK(O31) -> https://www.gov.il/he/service/voluntary-work-declaration-form | O32: https://www.gov.il/he/service/announce-labor-dispute | P32: =IF('שירות '!O32<>"",'שירות '!O32,'שירות '!S32) -> 9 | Q32: =IF('שירות '!P32<>"",'שירות '!P32,'שירות '!T32) -> 0 | R32: =IF('שירות '!Q32<>"",'שירות '!Q32,'שירות '!U32) -> 0 | S32: =IF('שירות '!R32<>"",'שירות '!R32,'שירות '!V32) -> 9 | T32: {=_xlfn.TEXTJOIN(",",TRUE,_xlfn._xlws.FILTER(נדרש!F32:F530,נדרש!C32:C530=A31,""))}
A33: 5891 | B33: משרד העבודה | C33: דיווח על שינוי בהוצאות שכר העובדים של קבלני שירות, קבלני כח אדם וכן קבלני כח אדם, בעלי היתר מיוחד להעסקת עגורנאי צריח | D33: שירות זה מאפשר לקבלני שירות ולקבלני כוח אדם, להגיש דיווח למשרד העבודה על שינוי בהוצאות שכר העובדים שלהם.מסמכים נדרשים: טפסי 102, טבלת ריכוז תביעות | F33: מינהל הסדרה ואכיפת חוקי עבודה | G33: עסקי-מקצועי | H33: עסקי - חברות - כלל העסקים, | I33: דיווח מידע | J33: פעיל | K33: תאגיד בלבד | L33: כן | M33: דיגיטלי, דוא"ל | N33: =HYPERLINK(O32) -> https://www.gov.il/he/service/announce-labor-dispute | O33: https://www.gov.il/he/service/contractors-report-wages-change | P33: =IF('שירות '!O33<>"",'שירות '!O33,'שירות '!S33) -> 55 | Q33: =IF('שירות '!P33<>"",'שירות '!P33,'שירות '!T33) -> 0 | R33: =IF('שירות '!Q33<>"",'שירות '!Q33,'שירות '!U33) -> 0 | S33: =IF('שירות '!R33<>"",'שירות '!R33,'שירות '!V33) -> 55 | T33: {=_xlfn.TEXTJOIN(",",TRUE,_xlfn._xlws.FILTER(נדרש!F33:F531,נדרש!C33:C531=A32,""))}
