Workbook
Name ward: #REF!
Name רשויות: 'לוח 2'!$A$2:$A$139

Sheet קליטת נתונים
A2: קובץ פרמטרים
A4: חובה למלא את שם המחוז
A5: שם המחוז | B5: תל אביב והמרכז | E5: שנת פעילות | H5: 2020
A7: חובה לבחור רשות מקומית מתא B8 , מדד פריפריאלי, אשכול סוציו-אקונומי והשתתפות משרדי ממשלה יוצג אוטומטית
A8: שם רשות | B8: תל אביב - יפו
A10: אין צורך למלא
A11: מדד פריפריאלי | B11: =VLOOKUP(B8,'לוח 2'!$A$3:$D$139,3,0) -> 10 | E11: השתתפות משרדי ממשלה | H11: =VLOOKUP(B8,'לוח 2'!$A$3:$D$139,2,0) -> 0.8
A14: אשכול סוציו-אקונומי | B14: =VLOOKUP(B8,'לוח 2'!$A$3:$D$139,4,0) -> 8
A17: נגב / גליל | B17: =VLOOKUP(B8,'לוח 2'!$A$3:$E$139,5,0) -> 0

Sheet מיפוי רשות
B1: טופס מיפוי ישובי לרשות לשנת | E1: =+'קליטת נתונים'!H5 -> 2020
A4: שם הישוב | B4: =+'קליטת נתונים'!B8 -> תל אביב - יפו | D4: מספר התושבים | E4: =VLOOKUP(B4,'עולים משנת 1989'!$A$11:$M$1199,13,0) -> 552513
A6: מספר העולים שעלו מ- 1.9.1989 | B6: =VLOOKUP(B4,'עולים משנת 1989'!$A$11:$M$1199,3,0) -> 82467 | D6: אחוז העולים בישוב | E6: =+B6/$E$4 -> 0.14925803
A8: מספר העולים שעלו מ- 1.1.2004 | B8: =VLOOKUP(B4,'עולים משנת 2005'!$A$11:$M$1020,3,0) -> 34610 | D8: אחוז העולים בישוב | E8: =+B8/$E$4 -> 0.06264106
A10: מדד פריפריאלי | B10: =+'קליטת נתונים'!B11 -> 10 | D10: אשכול סוציו-אקונומי | E10: =+'קליטת נתונים'!B14 -> 8
A11: נגב / גליל | B11: =+'קליטת נתונים'!B17 -> 0 | D11: השתתפות משרדי ממשלה | E11: =+'קליטת נתונים'!H11 -> 0.8
A13: טבלה 1: עולים לפי מדינות מוצא ושיעורם בישוב, בשנת 1989 ובשנת 2005 (עד 31.10.2019)
B15: 1989 | D15: 2005
A16: מדינות מוצא | B16: מס' עולים | C16: אחוז עולים בישוב | D16: מס' עולים | E16: אחוז עולים בישוב
A17: חמ"ע | B17: =VLOOKUP($B$4,'עולים משנת 1989'!$A$11:$M$1199,4,0) -> 47709 | C17: =+B17/$E$4 -> 0.086349099 | D17: =VLOOKUP($B$4,'עולים משנת 2005'!$A$11:$M$1020,4,0) -> 11734 | E17: =+D17/$E$4 -> 0.021237509
A18: מתוכם עולי קווקז | B18: =VLOOKUP($B$4,'עולים משנת 1989'!$A$11:$M$1199,5,0) -> 3167 | C18: =+B18/$E$4 -> 0.0057319918 | D18: =VLOOKUP($B$4,'עולים משנת 2005'!$A$11:$M$1020,5,0) -> 385 | E18: =+D18/$E$4 -> 0.00069681618
A19: מתוכם עולי בוכרה | B19: =VLOOKUP($B$4,'עולים משנת 1989'!$A$11:$M$1199,6,0) -> 8000 | C19: =+B19/$E$4 -> 0.014479297 | D19: =VLOOKUP($B$4,'עולים משנת 2005'!$A$11:$M$1020,6,0) -> 333 | E19: =+D19/$E$4 -> 0.00060270075
A20: אתיופיה | B20: =VLOOKUP($B$4,'עולים משנת 1989'!$A$11:$M$1199,7,0) -> 1791 | C20: =+B20/$E$4 -> 0.0032415527 | D20: =VLOOKUP($B$4,'עולים משנת 2005'!$A$11:$M$1020,7,0) -> 1295 | E20: =+D20/$E$4 -> 0.0023438363
A21: צרפת | B21: =VLOOKUP($B$4,'עולים משנת 1989'!$A$11:$M$1199,8,0) -> 8428 | C21: =+B21/$E$4 -> 0.01525394 | D21: =VLOOKUP($B$4,'עולים משנת 2005'!$A$11:$M$1020,8,0) -> 6892 | E21: =+D21/$E$4 -> 0.012473915
A22: ארה"ב | B22: =VLOOKUP($B$4,'עולים משנת 1989'!$A$11:$M$1199,9,0) -> 8307 | C22: =+B22/$E$4 -> 0.01503494 | D22: =VLOOKUP($B$4,'עולים משנת 2005'!$A$11:$M$1020,9,0) -> 5945 | E22: =+D22/$E$4 -> 0.010759928
A23: ארגנטינה | B23: =VLOOKUP($B$4,'עולים משנת 1989'!$A$11:$M$1199,10,0) -> 1340 | C23: =+B23/$E$4 -> 0.0024252823 | D23: =VLOOKUP($B$4,'עולים משנת 2005'!$A$11:$M$1020,10,0) -> 415 | E23: =+D23/$E$4 -> 0.00075111355
A24: אנגליה | B24: =VLOOKUP($B$4,'עולים משנת 1989'!$A$11:$M$1199,11,0) -> 2176 | C24: =+B24/$E$4 -> 0.0039383689 | D24: =VLOOKUP($B$4,'עולים משנת 2005'!$A$11:$M$1020,11,0) -> 1482 | E24: =+D24/$E$4 -> 0.0026822898
A25: אחרים | B25: =VLOOKUP($B$4,'עולים משנת 1989'!$A$11:$M$1199,12,0) -> 12716 | C25: =+B25/$E$4 -> 0.023014843 | D25: =VLOOKUP($B$4,'עולים משנת 2005'!$A$11:$M$1020,12,0) -> 6847 | E25: =+D25/$E$4 -> 0.012392469
A26: סהכ | B26: =SUM(B17:B25)-B18-B19 -> 82467 | C26: =+B26/$E$4 -> 0.14925803 | D26: =SUM(D17:D25)-D18-D19 -> 34610 | E26: =+D26/$E$4 -> 0.06264106
A29: טבלה 2: התפלגות גילאים של העולים, בשנת 1989 ובשנת 2005 (עד 31.10.2019)
B31: 1989 | D31: 2005
A32: טווח גילאים | B32: מס' עולים | C32: אחוז עולים בישוב | D32: מס' עולים | E32: אחוז עולים בישוב
A33: ילדים (0-12) | B33: =VLOOKUP($B$4,'גילאים משנת 1989'!$A$11:$G$1167,3,0) -> #N/A | C33: =+B33/$E$4 -> #N/A | D33: =VLOOKUP($B$4,'גילאים משנת 2005'!$A$11:$G$1020,3,0) -> 2004 | E33: =+D33/$E$4 -> 0.003627064
A34: נוער (13-17) | B34: =VLOOKUP($B$4,'גילאים משנת 1989'!$A$11:$G$1167,4,0) -> #N/A | C34: =+B34/$E$4 -> #N/A | D34: =VLOOKUP($B$4,'גילאים משנת 2005'!$A$11:$G$1020,4,0) -> 981 | E34: =+D34/$E$4 -> 0.0017755238
A35: צעירים (18-35) | B35: =VLOOKUP($B$4,'גילאים משנת 1989'!$A$11:$G$1167,5,0) -> #N/A | C35: =+B35/$E$4 -> #N/A | D35: =VLOOKUP($B$4,'גילאים משנת 2005'!$A$11:$G$1020,5,0) -> 14169 | E35: =+D35/$E$4 -> 0.025644645
A36: בוגרים (36-60) | B36: =VLOOKUP($B$4,'גילאים משנת 1989'!$A$11:$G$1167,6,0) -> #N/A | C36: =+B36/$E$4 -> #N/A | D36: =VLOOKUP($B$4,'גילאים משנת 2005'!$A$11:$G$1020,6,0) -> 10224 | E36: =+D36/$E$4 -> 0.018504542
A37: קשישים (61+) | B37: =VLOOKUP($B$4,'גילאים משנת 1989'!$A$11:$G$1167,7,0) -> #N/A | C37: =+B37/$E$4 -> #N/A | D37: =VLOOKUP($B$4,'גילאים משנת 2005'!$A$11:$G$1020,7,0) -> 7232 | E37: =+D37/$E$4 -> 0.013089285
A38: סהכ | B38: =SUM(B33:B37) -> #N/A | C38: =+B38/$E$4 -> #N/A | D38: =SUM(D33:D37) -> 34610 | E38: =+D38/$E$4 -> 0.06264106

Sheet מיפוי מועצה
B1: טופס מיפוי ישובי למועצה אזורית לשנת | E1: =+'קליטת נתונים'!H5 -> 2020
A4: שם המועצה | B4: =+'קליטת נתונים'!B8 -> תל אביב - יפו | D4: מספר התושבים | E4: =VLOOKUP(B4,'מועצות משנת 2014'!$A$4:$L$53,12,0) -> #N/A
A6: מספר העולים שעלו מ- 1.1.2013 | B6: =VLOOKUP(B4,'מועצות משנת 2014'!$A$4:$L$53,2,0) -> #N/A | D6: אחוז העולים בישוב | E6: =+B6/$E$4 -> #N/A
A8: מדד פריפריאלי | B8: =+'קליטת נתונים'!B11 -> 10 | D8: אשכול סוציו-אקונומי | E8: =+'קליטת נתונים'!B14 -> 8
A9: נגב / גליל | B9: =+'קליטת נתונים'!B17 -> 0 | D9: השתתפות משרדי ממשלה | E9: =+'קליטת נתונים'!H11 -> 0.8
A11: טבלה 1: עולים לפי מדינות מוצא ושיעורם במועצה, משנת 2014 (עד 31.10.2019)
B13: 2014
A14: מדינות מוצא | B14: מס' עולים | C14: אחוז עולים בישוב
A15: חמ"ע | B15: =VLOOKUP($B$4,'מועצות משנת 2014'!$A$4:$L$53,3,0) -> #N/A | C15: =+B15/$E$4 -> #N/A
A16: מתוכם עולי קווקז | B16: =VLOOKUP($B$4,'מועצות משנת 2014'!$A$4:$L$53,4,0) -> #N/A | C16: =+B16/$E$4 -> #N/A
A17: מתוכם עולי בוכרה | B17: =VLOOKUP($B$4,'מועצות משנת 2014'!$A$4:$L$53,5,0) -> #N/A | C17: =+B17/$E$4 -> #N/A
A18: אתיופיה | B18: =VLOOKUP($B$4,'מועצות משנת 2014'!$A$4:$L$53,6,0) -> #N/A | C18: =+B18/$E$4 -> #N/A
A19: צרפת | B19: =VLOOKUP($B$4,'מועצות משנת 2014'!$A$4:$L$53,7,0) -> #N/A | C19: =+B19/$E$4 -> #N/A
A20: ארה"ב | B20: =VLOOKUP($B$4,'מועצות משנת 2014'!$A$4:$L$53,8,0) -> #N/A | C20: =+B20/$E$4 -> #N/A
A21: ארגנטינה | B21: =VLOOKUP($B$4,'מועצות משנת 2014'!$A$4:$L$53,9,0) -> #N/A | C21: =+B21/$E$4 -> #N/A
A22: אנגליה | B22: =VLOOKUP($B$4,'מועצות משנת 2014'!$A$4:$L$53,10,0) -> #N/A | C22: =+B22/$E$4 -> #N/A
A23: אחרים | B23: =VLOOKUP($B$4,'מועצות משנת 2014'!$A$4:$L$53,11,0) -> #N/A | C23: =+B23/$E$4 -> #N/A
A24: סהכ | B24: =SUM(B15:B23)-B16-B17 -> #N/A | C24: =+B24/$E$4 -> #N/A
A28: טבלה 2: התפלגות גילאים של העולים, משנת 2014 (עד 31.10.2019)
B30: 2014
A31: טווח גילאים | B31: מס' עולים | C31: אחוז עולים בישוב
A32: ילדים (0-12) | B32: =VLOOKUP($B$4,'מועצות גילאים מ 2014'!$A$6:$G$55,3,0) -> #N/A | C32: =+B32/$E$4 -> #N/A
A33: נוער (13-17) | B33: =VLOOKUP($B$4,'מועצות גילאים מ 2014'!$A$6:$G$55,4,0) -> #N/A | C33: =+B33/$E$4 -> #N/A
A34: צעירים (18-35) | B34: =VLOOKUP($B$4,'מועצות גילאים מ 2014'!$A$6:$G$55,5,0) -> #N/A | C34: =+B34/$E$4 -> #N/A
A35: בוגרים (36-60) | B35: =VLOOKUP($B$4,'מועצות גילאים מ 2014'!$A$6:$G$55,6,0) -> #N/A | C35: =+B35/$E$4 -> #N/A
A36: קשישים (61+) | B36: =VLOOKUP($B$4,'מועצות גילאים מ 2014'!$A$6:$G$55,7,0) -> #N/A | C36: =+B36/$E$4 -> #N/A
A37: סהכ | B37: =SUM(B32:B36) -> #N/A | C37: =+B37/$E$4 -> #N/A

Sheet עולים משנת 1989
A1: התפלגות עולים שעלו ארצה
A2: בין התאריכים 1.9.1989 עד 31.10.2019
A3: לפי ישוב מגורים ביחס לסה"כ התושבים בישוב
A4: ממוין לפי שם הישוב
A5: הדוח אינו כולל נפטרים, נולדים בארץ ותושבים חוזרים
C7: מהם עולים מ 1.9.1989 עד 31.10.2019
C8: סה"כ | E8: מתוכם | F8: מתוכם | M8: סה"כ | N8: אחוז | O8: אחוז עולים | P8: מועצה
A9: ישוב | B9: קוד ישוב | C9: עולים | D9: בריה"מ | E9: קווקזים | F9: בוכרים | G9: אתיופים | H9: צרפת | I9: ארה"ב | J9: ארגנטינה | K9: אנגליה | L9: אחרים | M9: תושבים | N9: עולים | O9: בישוב | P9: אזורית | Q9: מרחב | R9: סניף
A10: סה"כ | C10: =SUM(C11:C1199) -> 1272496 | D10: =SUM(D11:D1199) -> 905307 | E10: =SUM(E11:E1199) -> 63064 | F10: =SUM(F11:F1199) -> 103773 | G10: =SUM(G11:G1199) -> 73395 | H10: =SUM(H11:H1199) -> 71820 | I10: =SUM(I11:I1199) -> 75366 | J10: =SUM(J11:J1199) -> 22470 | ... M10: =SUM(M11:M1199) -> 9617934 | N10: =+C10/M10 -> 0.13230451 | O10: =+C10/M10 -> 0.13230451
A11: אבו גוש | B11: 0472 | C11: 26 | D11: 14 | E11: 1 | F11: 0 | G11: 0 | H11: 0 | I11: 9 | J11: 1 | K11: 0 | L11: =+C11-D11-G11-H11-I11-J11-K11 -> 2 | M11: 8236 | N11: 0.00026399155 | O11: =+C11/M11 -> 0.0031568723 | Q11: ירושלים (מרחב)
A12: אבו סנאן | B12: 0473 | C12: 4 | D12: 4 | E12: 0 | F12: 0 | G12: 0 | H12: 0 | I12: 0 | J12: 0 | K12: 0 | L12: =+C12-D12-G12-H12-I12-J12-K12 -> 0 | M12: 13622 | N12: 0.0097323601 | O12: =+C12/M12 -> 0.00029364264 | Q12: גליל עליון (מרחב) | R12: עכו
A13: אבו רוקייק )שבט( | B13: 0961 | C13: 1 | D13: 1 | E13: 0 | F13: 0 | G13: 0 | H13: 0 | I13: 0 | J13: 0 | K13: 0 | L13: =+C13-D13-G13-H13-I13-J13-K13 -> 0 | M13: 10293 | N13: 0.034375 | O13: =+C13/M13 -> 9.7153405e-05 | Q13: באר שבע והנגב (מרחב)
A14: אבטין | B14: 0652 | C14: 1 | D14: 1 | E14: 0 | F14: 0 | G14: 0 | H14: 0 | I14: 0 | J14: 0 | K14: 0 | L14: =+C14-D14-G14-H14-I14-J14-K14 -> 0 | M14: 2858 | N14: 0.056962025 | O14: =+C14/M14 -> 0.00034989503 | P14: זבולון | Q14: חיפה (מרחב) | R14: הקריות
A15: אבטליון | B15: 1275 | C15: 14 | D15: 7 | E15: 0 | F15: 1 | G15: 1 | H15: 2 | I15: 2 | J15: 0 | K15: 0 | L15: =+C15-D15-G15-H15-I15-J15-K15 -> 2 | M15: 499 | N15: 0.14005806 | O15: =+C15/M15 -> 0.028056112 | P15: משגב | Q15: גליל עליון (מרחב)
A16: אביאל | B16: 0679 | C16: 25 | D16: 5 | E16: 0 | F16: 1 | G16: 0 | H16: 0 | I16: 7 | J16: 3 | K16: 2 | L16: =+C16-D16-G16-H16-I16-J16-K16 -> 8 | M16: 834 | N16: 0.0401452 | O16: =+C16/M16 -> 0.029976019 | P16: אלונה | Q16: חדרה (מרחב)
A17: אביבים | B17: 1115 | C17: 2 | D17: 2 | E17: 0 | F17: 0 | G17: 0 | H17: 0 | I17: 0 | J17: 0 | K17: 0 | L17: =+C17-D17-G17-H17-I17-J17-K17 -> 0 | M17: 493 | N17: 0.018691589 | O17: =+C17/M17 -> 0.0040567951 | P17: מרום הגליל | Q17: גליל עליון (מרחב) | R17: קרית שמונה
A18: אביגדור | B18: 0819 | C18: 16 | D18: 11 | E18: 0 | F18: 0 | G18: 0 | H18: 0 | I18: 2 | J18: 0 | K18: 0 | L18: =+C18-D18-G18-H18-I18-J18-K18 -> 3 | M18: 909 | N18: 0.023572076 | O18: =+C18/M18 -> 0.01760176 | P18: באר טוביה | Q18: אשדוד (מרחב) | R18: אשקלון
A19: אביחיל | B19: 0175 | C19: 60 | D19: 31 | E19: 1 | F19: 1 | G19: 0 | H19: 6 | I19: 9 | J19: 0 | K19: 4 | L19: =+C19-D19-G19-H19-I19-J19-K19 -> 10 | M19: 1411 | N19: 0.047516199 | O19: =+C19/M19 -> 0.042523033 | P19: עמק חפר | Q19: נתניה והשרון (מרחב)
A20: אביטל | B20: 2052 | C20: 9 | D20: 4 | E20: 0 | F20: 0 | G20: 0 | H20: 0 | I20: 0 | J20: 0 | K20: 0 | L20: =+C20-D20-G20-H20-I20-J20-K20 -> 5 | M20: 571 | N20: 0.11864407 | O20: =+C20/M20 -> 0.015761821 | P20: הגלבוע | Q20: נוף הגליל והעמקים (מרחב) | R20: עפולה
A21: אביעזר | B21: 1070 | C21: 74 | D21: 53 | E21: 0 | F21: 3 | G21: 0 | H21: 0 | I21: 11 | J21: 0 | K21: 2 | L21: =+C21-D21-G21-H21-I21-J21-K21 -> 8 | M21: 905 | N21: 0.00014719953 | O21: =+C21/M21 -> 0.081767956 | P21: מטה יהודה | Q21: ירושלים (מרחב)
A22: אבירים | B22: 1220 | C22: 8 | D22: 7 | E22: 0 | F22: 1 | G22: 0 | H22: 0 | I22: 1 | J22: 0 | K22: 0 | L22: =+C22-D22-G22-H22-I22-J22-K22 -> 0 | M22: 298 | N22: 0.031094527 | O22: =+C22/M22 -> 0.026845638 | P22: מעלה יוסף | Q22: גליל עליון (מרחב) | R22: מעלות
A23: אבן יהודה | B23: 0182 | C23: 494 | D23: 215 | E23: 12 | F23: 12 | G23: 15 | H23: 42 | I23: 71 | J23: 9 | K23: 32 | L23: =+C23-D23-G23-H23-I23-J23-K23 -> 110 | M23: 14631 | N23: 0.015756303 | O23: =+C23/M23 -> 0.033763926 | Q23: נתניה והשרון (מרחב)
A24: אבן מנחם | B24: 1081 | C24: 5 | D24: 4 | E24: 0 | F24: 0 | G24: 0 | H24: 1 | I24: 0 | J24: 0 | K24: 0 | L24: =+C24-D24-G24-H24-I24-J24-K24 -> 0 | M24: 380 | N24: 0.00020523345 | O24: =+C24/M24 -> 0.013157895 | P24: מעלה יוסף | Q24: גליל עליון (מרחב) | R24: מעלות
A25: אבן ספיר | B25: 0783 | C25: 30 | D25: 17 | E25: 0 | F25: 3 | G25: 0 | H25: 3 | I25: 6 | J25: 0 | K25: 0 | L25: =+C25-D25-G25-H25-I25-J25-K25 -> 4 | M25: 701 | N25: 0.053097345 | O25: =+C25/M25 -> 0.042796006 | P25: מטה יהודה | Q25: ירושלים (מרחב)
A26: אבן שמואל | B26: 0400 | C26: 98 | D26: 5 | E26: 0 | F26: 2 | G26: 2 | H26: 4 | I26: 48 | J26: 1 | K26: 16 | L26: =+C26-D26-G26-H26-I26-J26-K26 -> 22 | M26: 1785 | N26: 0.0099009901 | O26: =+C26/M26 -> 0.054901961 | P26: שפיר | Q26: אשדוד (מרחב) | R26: קרית גת
A27: אבני איתן | B27: 4011 | C27: 22 | D27: 2 | E27: 0 | F27: 0 | G27: 0 | H27: 3 | I27: 10 | J27: 0 | K27: 0 | L27: =+C27-D27-G27-H27-I27-J27-K27 -> 7 | M27: 788 | N27: 0.017077799 | O27: =+C27/M27 -> 0.027918782 | P27: גולן | Q27: גליל עליון (מרחב)
A28: אבני חפץ | B28: 3793 | C28: 96 | D28: 17 | E28: 0 | F28: 4 | G28: 4 | H28: 21 | I28: 4 | J28: 1 | K28: 1 | L28: =+C28-D28-G28-H28-I28-J28-K28 -> 48 | M28: 2014 | N28: 0.019035533 | O28: =+C28/M28 -> 0.047666336 | P28: שומרון | Q28: נתניה והשרון (מרחב)
A29: אבנת | B29: 3786 | C29: 4 | D29: 0 | E29: 0 | F29: 0 | G29: 0 | H29: 0 | I29: 2 | J29: 0 | K29: 0 | L29: =+C29-D29-G29-H29-I29-J29-K29 -> 2 | M29: 206 | N29: 0.023854962 | O29: =+C29/M29 -> 0.019417476 | P29: מגילות ים המלח | Q29: ירושלים (מרחב)
A30: אבשלום | B30: 1311 | C30: 159 | D30: 152 | E30: 2 | F30: 23 | G30: 0 | H30: 0 | I30: 0 | J30: 1 | K30: 0 | L30: =+C30-D30-G30-H30-I30-J30-K30 -> 6 | M30: 328 | N30: 0.069464544 | O30: =+C30/M30 -> 0.4847561 | P30: אשכול | Q30: באר שבע והנגב (מרחב) | R30: אופקים
A31: אדורה | B31: 3759 | C31: 19 | D31: 7 | E31: 0 | F31: 2 | G31: 1 | H31: 2 | I31: 2 | J31: 1 | K31: 0 | L31: =+C31-D31-G31-H31-I31-J31-K31 -> 6 | M31: 491 | N31: 0.036329201 | O31: =+C31/M31 -> 0.038696538 | P31: הר חברון | Q31: ירושלים (מרחב) | R31: קרית ארבע
A32: אדירים | B32: 0113 | C32: 7 | D32: 1 | E32: 0 | F32: 0 | G32: 0 | H32: 2 | I32: 3 | J32: 0 | K32: 0 | L32: =+C32-D32-G32-H32-I32-J32-K32 -> 1 | M32: 332 | N32: 0.017699115 | O32: =+C32/M32 -> 0.021084337 | P32: הגלבוע | Q32: נוף הגליל והעמקים (מרחב) | R32: עפולה
A33: אדמית | B33: 1068 | C33: 62 | D33: 45 | E33: 0 | F33: 2 | G33: 0 | H33: 0 | I33: 3 | J33: 4 | K33: 2 | L33: =+C33-D33-G33-H33-I33-J33-K33 -> 8 | M33: 474 | N33: 0.22427441 | O33: =+C33/M33 -> 0.13080169 | P33: מטה אשר | Q33: גליל עליון (מרחב) | R33: נהריה
A34: אדרת | B34: 1123 | C34: 53 | D34: 3 | E34: 1 | F34: 0 | G34: 0 | H34: 5 | I34: 19 | J34: 5 | K34: 9 | L34: =+C34-D34-G34-H34-I34-J34-K34 -> 12 | M34: 907 | N34: 0.022256863 | O34: =+C34/M34 -> 0.058434399 | P34: מטה יהודה | Q34: ירושלים (מרחב) | R34: בית שמש
A35: אודים | B35: 0446 | C35: 47 | D35: 20 | E35: 0 | F35: 1 | G35: 0 | H35: 8 | I35: 4 | J35: 3 | K35: 5 | L35: =+C35-D35-G35-H35-I35-J35-K35 -> 7 | M35: 1138 | N35: 0.31589764 | O35: =+C35/M35 -> 0.041300527 | P35: חוף השרון | Q35: נתניה והשרון (מרחב)
A36: אודם | B36: 4010 | C36: 9 | D36: 5 | E36: 0 | F36: 1 | G36: 1 | H36: 1 | I36: 2 | J36: 0 | K36: 0 | L36: =+C36-D36-G36-H36-I36-J36-K36 -> 0 | M36: 183 | N36: 0.047146402 | O36: =+C36/M36 -> 0.049180328 | P36: גולן | Q36: גליל עליון (מרחב) | R36: קצרין (מוקד)
A37: אוהד | B37: 1046 | C37: 12 | D37: 10 | E37: 0 | F37: 2 | G37: 0 | H37: 1 | I37: 0 | J37: 0 | K37: 0 | L37: =+C37-D37-G37-H37-I37-J37-K37 -> 1 | M37: 412 | N37: 0.033149171 | O37: =+C37/M37 -> 0.029126214 | P37: אשכול | Q37: באר שבע והנגב (מרחב)
A38: אום אל-פחם | B38: 2710 | C38: 10 | D38: 7 | E38: 1 | F38: 0 | G38: 1 | H38: 0 | I38: 0 | J38: 0 | K38: 0 | L38: =+C38-D38-G38-H38-I38-J38-K38 -> 2 | M38: 56720 | N38: 0.028972783 | O38: =+C38/M38 -> 0.00017630465 | Q38: חדרה (מרחב)
A39: אום בטין | B39: 1358 | C39: 3 | D39: 3 | E39: 1 | F39: 1 | G39: 0 | H39: 0 | I39: 0 | J39: 0 | K39: 0 | L39: =+C39-D39-G39-H39-I39-J39-K39 -> 0 | M39: 4010 | N39: 0.15695326 | O39: =+C39/M39 -> 0.00074812968 | P39: אל קסום | Q39: באר שבע והנגב (מרחב)
A40: אומן | B40: 1108 | C40: 141 | D40: 128 | E40: 0 | F40: 15 | G40: 0 | H40: 0 | I40: 5 | J40: 3 | K40: 0 | L40: =+C40-D40-G40-H40-I40-J40-K40 -> 5 | M40: 496 | N40: 0.092436975 | O40: =+C40/M40 -> 0.28427419 | P40: הגלבוע | Q40: נוף הגליל והעמקים (מרחב) | R40: עפולה
A41: אומץ | B41: 0680 | C41: 22 | D41: 15 | E41: 0 | F41: 0 | G41: 0 | H41: 1 | I41: 2 | J41: 1 | K41: 0 | L41: =+C41-D41-G41-H41-I41-J41-K41 -> 3 | M41: 787 | N41: 0.0051546392 | O41: =+C41/M41 -> 0.027954257 | P41: עמק חפר | Q41: נתניה והשרון (מרחב)
...

Sheet גילאים משנת 1989
A1: התפלגות עולים שעלו ארצה
A2: =+'עולים משנת 1989'!A2 -> בין התאריכים 1.9.1989 עד 31.10.2019
A3: לפי ישובים וגילאים ביום 1/1/2020
A4: ממוין לפי שם הישוב
A5: הדוח אינו כולל נפטרים, נולדים בארץ ותושבים חוזרים
B7: קבוצות גיל - גיל מחושב ליום 1/1/2020
B8: סה"כ | H8: סה"כ | I8: אחוז | J8: מועצה
A9: ישוב | B9: עולים | C9: 0-12 | D9: 13-17 | E9: 18-35 | F9: 36-60 | G9: 61+ | H9: תושבים | I9: עולים | J9: אזורית | K9: מרחב | L9: סניף
A10: סה"כ | B10: =SUM(B11:B1199) -> 1272496 | C10: =SUM(C11:C1199) -> 30323 | D10: =SUM(D11:D1199) -> 19913 | E10: =SUM(E11:E1199) -> 281160 | F10: =SUM(F11:F1199) -> 528704 | G10: =SUM(G11:G1199) -> 412396 | H10: =SUM(H11:H1199) -> 9617934 | I10: =+B10/H10 -> 0.13230451
A11: אבו גוש | B11: 26 | C11: 2 | D11: 1 | E11: 5 | F11: 16 | G11: 2 | H11: 8236 | I11: =+B11/H11 -> 0.0031568723 | K11: ירושלים (מרחב)
A12: אבו סנאן | B12: 4 | C12: 0 | D12: 0 | E12: 2 | F12: 2 | G12: 0 | H12: 13622 | I12: =+B12/H12 -> 0.00029364264 | K12: גליל עליון (מרחב) | L12: עכו
A13: אבו רוקייק )שבט( | B13: 1 | C13: 0 | D13: 0 | E13: 0 | F13: 1 | G13: 0 | H13: 10293 | I13: =+B13/H13 -> 9.7153405e-05 | K13: באר שבע והנגב (מרחב)
A14: אבטין | B14: 1 | C14: 0 | D14: 0 | E14: 0 | F14: 1 | G14: 0 | H14: 2858 | I14: =+B14/H14 -> 0.00034989503 | J14: זבולון | K14: חיפה (מרחב) | L14: הקריות
A15: אבטליון | B15: 14 | C15: 0 | D15: 0 | E15: 3 | F15: 11 | G15: 0 | H15: 499 | I15: =+B15/H15 -> 0.028056112 | J15: משגב | K15: גליל עליון (מרחב)
A16: אביאל | B16: 25 | C16: 1 | D16: 2 | E16: 8 | F16: 11 | G16: 3 | H16: 834 | I16: =+B16/H16 -> 0.029976019 | J16: אלונה | K16: חדרה (מרחב)
A17: אביבים | B17: 2 | C17: 0 | D17: 0 | E17: 0 | F17: 1 | G17: 1 | H17: 493 | I17: =+B17/H17 -> 0.0040567951 | J17: מרום הגליל | K17: גליל עליון (מרחב) | L17: קרית שמונה
A18: אביגדור | B18: 16 | C18: 0 | D18: 0 | E18: 8 | F18: 6 | G18: 2 | H18: 909 | I18: =+B18/H18 -> 0.01760176 | J18: באר טוביה | K18: אשדוד (מרחב) | L18: אשקלון
A19: אביחיל | B19: 60 | C19: 3 | D19: 2 | E19: 17 | F19: 22 | G19: 16 | H19: 1411 | I19: =+B19/H19 -> 0.042523033 | J19: עמק חפר | K19: נתניה והשרון (מרחב)
A20: אביטל | B20: 9 | C20: 0 | D20: 0 | E20: 4 | F20: 5 | G20: 0 | H20: 571 | I20: =+B20/H20 -> 0.015761821 | J20: הגלבוע | K20: נוף הגליל והעמקים (מרחב) | L20: עפולה
A21: אביעזר | B21: 74 | C21: 0 | D21: 1 | E21: 10 | F21: 35 | G21: 28 | H21: 905 | I21: =+B21/H21 -> 0.081767956 | J21: מטה יהודה | K21: ירושלים (מרחב)
A22: אבירים | B22: 8 | C22: 0 | D22: 0 | E22: 3 | F22: 4 | G22: 1 | H22: 298 | I22: =+B22/H22 -> 0.026845638 | J22: מעלה יוסף | K22: גליל עליון (מרחב) | L22: מעלות
A23: אבן יהודה | B23: 494 | C23: 19 | D23: 8 | E23: 118 | F23: 264 | G23: 85 | H23: 14631 | I23: =+B23/H23 -> 0.033763926 | K23: נתניה והשרון (מרחב)
A24: אבן מנחם | B24: 5 | C24: 0 | D24: 0 | E24: 4 | F24: 1 | G24: 0 | H24: 380 | I24: =+B24/H24 -> 0.013157895 | J24: מעלה יוסף | K24: גליל עליון (מרחב) | L24: מעלות
A25: אבן ספיר | B25: 30 | C25: 0 | D25: 0 | E25: 6 | F25: 21 | G25: 3 | H25: 701 | I25: =+B25/H25 -> 0.042796006 | J25: מטה יהודה | K25: ירושלים (מרחב)
A26: אבן שמואל | B26: 98 | C26: 21 | D26: 9 | E26: 13 | F26: 39 | G26: 16 | H26: 1785 | I26: =+B26/H26 -> 0.054901961 | J26: שפיר | K26: אשדוד (מרחב) | L26: קרית גת
A27: אבני איתן | B27: 22 | C27: 0 | D27: 1 | E27: 12 | F27: 8 | G27: 1 | H27: 788 | I27: =+B27/H27 -> 0.027918782 | J27: גולן | K27: גליל עליון (מרחב)
A28: אבני חפץ | B28: 96 | C28: 2 | D28: 6 | E28: 34 | F28: 40 | G28: 14 | H28: 2014 | I28: =+B28/H28 -> 0.047666336 | J28: שומרון | K28: נתניה והשרון (מרחב)
A29: אבנת | B29: 4 | C29: 0 | D29: 0 | E29: 2 | F29: 2 | G29: 0 | H29: 206 | I29: =+B29/H29 -> 0.019417476 | J29: מגילות ים המלח | K29: ירושלים (מרחב)
A30: אבשלום | B30: 159 | C30: 2 | D30: 1 | E30: 26 | F30: 69 | G30: 61 | H30: 328 | I30: =+B30/H30 -> 0.4847561 | J30: אשכול | K30: באר שבע והנגב (מרחב) | L30: אופקים
A31: אדורה | B31: 19 | C31: 0 | D31: 0 | E31: 5 | F31: 12 | G31: 2 | H31: 491 | I31: =+B31/H31 -> 0.038696538 | J31: הר חברון | K31: ירושלים (מרחב) | L31: קרית ארבע
A32: אדירים | B32: 7 | C32: 1 | D32: 1 | E32: 1 | F32: 2 | G32: 2 | H32: 332 | I32: =+B32/H32 -> 0.021084337 | J32: הגלבוע | K32: נוף הגליל והעמקים (מרחב) | L32: עפולה
A33: אדמית | B33: 62 | C33: 0 | D33: 1 | E33: 13 | F33: 30 | G33: 18 | H33: 474 | I33: =+B33/H33 -> 0.13080169 | J33: מטה אשר | K33: גליל עליון (מרחב) | L33: נהריה
A34: אדרת | B34: 53 | C34: 2 | D34: 0 | E34: 9 | F34: 31 | G34: 11 | H34: 907 | I34: =+B34/H34 -> 0.058434399 | J34: מטה יהודה | K34: ירושלים (מרחב) | L34: בית שמש
A35: אודים | B35: 47 | C35: 0 | D35: 2 | E35: 13 | F35: 29 | G35: 3 | H35: 1138 | I35: =+B35/H35 -> 0.041300527 | J35: חוף השרון | K35: נתניה והשרון (מרחב)
A36: אודם | B36: 9 | C36: 0 | D36: 0 | E36: 3 | F36: 3 | G36: 3 | H36: 183 | I36: =+B36/H36 -> 0.049180328 | J36: גולן | K36: גליל עליון (מרחב) | L36: קצרין (מוקד)
A37: אוהד | B37: 12 | C37: 0 | D37: 0 | E37: 2 | F37: 9 | G37: 1 | H37: 412 | I37: =+B37/H37 -> 0.029126214 | J37: אשכול | K37: באר שבע והנגב (מרחב)
A38: אום אל-פחם | B38: 10 | C38: 0 | D38: 0 | E38: 5 | F38: 5 | G38: 0 | H38: 56720 | I38: =+B38/H38 -> 0.00017630465 | K38: חדרה (מרחב)
A39: אום בטין | B39: 3 | C39: 0 | D39: 0 | E39: 0 | F39: 3 | G39: 0 | H39: 4010 | I39: =+B39/H39 -> 0.00074812968 | J39: אל קסום | K39: באר שבע והנגב (מרחב)
A40: אומן | B40: 141 | C40: 0 | D40: 0 | E40: 14 | F40: 69 | G40: 58 | H40: 496 | I40: =+B40/H40 -> 0.28427419 | J40: הגלבוע | K40: נוף הגליל והעמקים (מרחב) | L40: עפולה
A41: אומץ | B41: 22 | C41: 0 | D41: 0 | E41: 5 | F41: 14 | G41: 3 | H41: 787 | I41: =+B41/H41 -> 0.027954257 | J41: עמק חפר | K41: נתניה והשרון (מרחב)
...

Sheet עולים משנת 2005
A1: התפלגות עולים שעלו ארצה
A2: בין התאריכים 1.1.2005 עד 31.10.2019
A3: לפי ישוב מגורים ביחס לסה"כ התושבים בישוב
A4: ממוין לפי שם הישוב
A5: הדוח אינו כולל נפטרים, נולדים בארץ ותושבים חוזרים
C7: מהם עולים מ 1.1.2005 עד 31.10.2019
C8: סה"כ | E8: מתוכם | F8: מתוכם | M8: סה"כ | N8: אחוז | O8: מועצה
A9: ישוב | B9: קוד ישוב | C9: עולים | D9: בריה"מ | E9: קווקזים | F9: בוכרים | G9: אתיופים | H9: צרפת | I9: ארה"ב | J9: ארגנטינה | K9: אנגליה | L9: אחרים | M9: תושבים | N9: עולים | O9: אזורית | P9: מרחב | Q9: סניף
A10: סה"כ | C10: =SUM(C11:C1024) -> 341558 | D10: =SUM(D11:D1024) -> 159800 | E10: =SUM(E11:E1024) -> 5537 | F10: =SUM(F11:F1024) -> 8363 | G10: =SUM(G11:G1024) -> 23149 | H10: =SUM(H11:H1024) -> 48259 | I10: =SUM(I11:I1024) -> 45785 | J10: =SUM(J11:J1024) -> 4503 | ... M10: =SUM(M11:M1024) -> 8721389 | N10: =+C10/M10 -> 0.039163257
A11: אבו גוש | B11: 0472 | C11: 8 | D11: 1 | E11: 0 | F11: 0 | G11: 0 | H11: 0 | I11: 5 | J11: 1 | K11: 0 | L11: =+C11-D11-G11-H11-I11-J11-K11 -> 1 | M11: 8236 | N11: 0.0066476733 | P11: ירושלים (מרחב)
A12: אבטליון | B12: 1275 | C12: 1 | D12: 0 | E12: 0 | F12: 0 | G12: 0 | H12: 1 | I12: 0 | J12: 0 | K12: 0 | L12: =+C12-D12-G12-H12-I12-J12-K12 -> 0 | M12: 499 | N12: 0.0050167224 | O12: משגב | P12: גליל עליון (מרחב)
A13: אביאל | B13: 0679 | C13: 8 | D13: 0 | E13: 0 | F13: 0 | G13: 0 | H13: 0 | I13: 5 | J13: 0 | K13: 0 | L13: =+C13-D13-G13-H13-I13-J13-K13 -> 3 | M13: 834 | N13: 0.0050890585 | O13: אלונה | P13: חדרה (מרחב)
A14: אביגדור | B14: 0819 | C14: 4 | D14: 2 | E14: 0 | F14: 0 | G14: 0 | H14: 0 | I14: 0 | J14: 0 | K14: 0 | L14: =+C14-D14-G14-H14-I14-J14-K14 -> 2 | M14: 909 | N14: 0.077777778 | O14: באר טוביה | P14: אשדוד (מרחב) | Q14: אשקלון
A15: אביחיל | B15: 0175 | C15: 22 | D15: 5 | E15: 0 | F15: 1 | G15: 0 | H15: 4 | I15: 5 | J15: 0 | K15: 0 | L15: =+C15-D15-G15-H15-I15-J15-K15 -> 8 | M15: 1411 | N15: 0.032646048 | O15: עמק חפר | P15: נתניה והשרון (מרחב)
A16: אביעזר | B16: 1070 | C16: 9 | D16: 6 | E16: 0 | F16: 0 | G16: 0 | H16: 0 | I16: 2 | J16: 0 | K16: 0 | L16: =+C16-D16-G16-H16-I16-J16-K16 -> 1 | M16: 905 | N16: 0.0093283582 | O16: מטה יהודה | P16: ירושלים (מרחב)
A17: אבירים | B17: 1220 | C17: 1 | D17: 0 | E17: 0 | F17: 0 | G17: 0 | H17: 0 | I17: 1 | J17: 0 | K17: 0 | L17: =+C17-D17-G17-H17-I17-J17-K17 -> 0 | M17: 298 | N17: 0.0072463768 | O17: מעלה יוסף | P17: גליל עליון (מרחב) | Q17: מעלות
A18: אבן יהודה | B18: 0182 | C18: 148 | D18: 24 | E18: 2 | F18: 0 | G18: 0 | H18: 25 | I18: 35 | J18: 1 | K18: 17 | L18: =+C18-D18-G18-H18-I18-J18-K18 -> 46 | M18: 14631 | N18: 3.4610459e-05 | P18: נתניה והשרון (מרחב)
A19: אבן ספיר | B19: 0783 | C19: 3 | D19: 1 | E19: 0 | F19: 0 | G19: 0 | H19: 0 | I19: 2 | J19: 0 | K19: 0 | L19: =+C19-D19-G19-H19-I19-J19-K19 -> 0 | M19: 701 | N19: 0.0088235294 | O19: מטה יהודה | P19: ירושלים (מרחב)
A20: אבן שמואל | B20: 0400 | C20: 70 | D20: 0 | E20: 0 | F20: 0 | G20: 0 | H20: 0 | I20: 38 | J20: 0 | K20: 16 | L20: =+C20-D20-G20-H20-I20-J20-K20 -> 16 | M20: 1785 | N20: 0.014134276 | O20: שפיר | P20: אשדוד (מרחב) | Q20: קרית גת
A21: אבני איתן | B21: 4011 | C21: 10 | D21: 0 | E21: 0 | F21: 0 | G21: 0 | H21: 1 | I21: 4 | J21: 0 | K21: 0 | L21: =+C21-D21-G21-H21-I21-J21-K21 -> 5 | M21: 788 | N21: 0.0027855153 | O21: גולן | P21: גליל עליון (מרחב)
A22: אבני חפץ | B22: 3793 | C22: 48 | D22: 1 | E22: 0 | F22: 0 | G22: 0 | H22: 2 | I22: 2 | J22: 1 | K22: 1 | L22: =+C22-D22-G22-H22-I22-J22-K22 -> 41 | M22: 2014 | N22: 0.0036297641 | O22: שומרון | P22: נתניה והשרון (מרחב)
A23: אבנת | B23: 3786 | C23: 2 | D23: 0 | E23: 0 | F23: 0 | G23: 0 | H23: 0 | I23: 1 | J23: 0 | K23: 0 | L23: =+C23-D23-G23-H23-I23-J23-K23 -> 1 | M23: 206 | N23: 0.034965035 | O23: מגילות ים המלח | P23: ירושלים (מרחב)
A24: אבשלום | B24: 1311 | C24: 12 | D24: 12 | E24: 0 | F24: 0 | G24: 0 | H24: 0 | I24: 0 | J24: 0 | K24: 0 | L24: =+C24-D24-G24-H24-I24-J24-K24 -> 0 | M24: 328 | N24: 0.0027272727 | O24: אשכול | P24: באר שבע והנגב (מרחב) | Q24: אופקים
A25: אדורה | B25: 3759 | C25: 2 | D25: 0 | E25: 0 | F25: 0 | G25: 0 | H25: 0 | I25: 1 | J25: 0 | K25: 0 | L25: =+C25-D25-G25-H25-I25-J25-K25 -> 1 | M25: 491 | N25: 0.076058773 | O25: הר חברון | P25: ירושלים (מרחב) | Q25: קרית ארבע
A26: אדירים | B26: 0113 | C26: 3 | D26: 0 | E26: 0 | F26: 0 | G26: 0 | H26: 0 | I26: 3 | J26: 0 | K26: 0 | L26: =+C26-D26-G26-H26-I26-J26-K26 -> 0 | M26: 332 | N26: 0.004784689 | O26: הגלבוע | P26: נוף הגליל והעמקים (מרחב) | Q26: עפולה
A27: אדמית | B27: 1068 | C27: 9 | D27: 3 | E27: 0 | F27: 0 | G27: 0 | H27: 0 | I27: 2 | J27: 1 | K27: 1 | L27: =+C27-D27-G27-H27-I27-J27-K27 -> 2 | M27: 474 | N27: 0.065934066 | O27: מטה אשר | P27: גליל עליון (מרחב) | Q27: נהריה
A28: אדרת | B28: 1123 | C28: 20 | D28: 0 | E28: 0 | F28: 0 | G28: 0 | H28: 0 | I28: 9 | J28: 2 | K28: 0 | L28: =+C28-D28-G28-H28-I28-J28-K28 -> 9 | M28: 907 | N28: 0.040511639 | O28: מטה יהודה | P28: ירושלים (מרחב) | Q28: בית שמש
A29: אודים | B29: 0446 | C29: 17 | D29: 1 | E29: 0 | F29: 0 | G29: 0 | H29: 5 | I29: 3 | J29: 1 | K29: 4 | L29: =+C29-D29-G29-H29-I29-J29-K29 -> 3 | M29: 1138 | N29: 0.0089955022 | O29: חוף השרון | P29: נתניה והשרון (מרחב)
A30: אודם | B30: 4010 | C30: 4 | D30: 1 | E30: 0 | F30: 0 | G30: 0 | H30: 1 | I30: 2 | J30: 0 | K30: 0 | L30: =+C30-D30-G30-H30-I30-J30-K30 -> 0 | M30: 183 | N30: 0.0048076923 | O30: גולן | P30: גליל עליון (מרחב) | Q30: קצרין (מוקד)
A31: אוהד | B31: 1046 | C31: 3 | D31: 2 | E31: 0 | F31: 0 | G31: 0 | H31: 0 | I31: 0 | J31: 0 | K31: 0 | L31: =+C31-D31-G31-H31-I31-J31-K31 -> 1 | M31: 412 | N31: 0.0028368794 | O31: אשכול | P31: באר שבע והנגב (מרחב)
A32: אומן | B32: 1108 | C32: 5 | D32: 3 | E32: 0 | F32: 0 | G32: 0 | H32: 0 | I32: 1 | J32: 0 | K32: 0 | L32: =+C32-D32-G32-H32-I32-J32-K32 -> 1 | M32: 496 | N32: 0.0056737589 | O32: הגלבוע | P32: נוף הגליל והעמקים (מרחב) | Q32: עפולה
A33: אומץ | B33: 0680 | C33: 1 | D33: 1 | E33: 0 | F33: 0 | G33: 0 | H33: 0 | I33: 0 | J33: 0 | K33: 0 | L33: =+C33-D33-G33-H33-I33-J33-K33 -> 0 | M33: 787 | N33: 0.0035842294 | O33: עמק חפר | P33: נתניה והשרון (מרחב)
A34: אופקים | B34: 0031 | C34: 507 | D34: 347 | E34: 22 | F34: 16 | G34: 3 | H34: 54 | I34: 23 | J34: 9 | K34: 1 | L34: =+C34-D34-G34-H34-I34-J34-K34 -> 70 | M34: 33623 | N34: 0.0067567568 | P34: באר שבע והנגב (מרחב) | Q34: אופקים
A35: אור הגנוז | B35: 1294 | C35: 1 | D35: 0 | E35: 0 | F35: 0 | G35: 0 | H35: 1 | I35: 0 | J35: 0 | K35: 0 | L35: =+C35-D35-G35-H35-I35-J35-K35 -> 0 | M35: 621 | N35: 0.026578073 | O35: מרום הגליל | P35: גליל עליון (מרחב) | Q35: צפת
A36: אור הנר | B36: 0067 | C36: 11 | D36: 0 | E36: 0 | F36: 0 | G36: 0 | H36: 0 | I36: 1 | J36: 2 | K36: 1 | L36: =+C36-D36-G36-H36-I36-J36-K36 -> 7 | M36: 934 | N36: 0.006233208 | O36: שער הנגב | P36: באר שבע והנגב (מרחב) | Q36: שדרות
A37: אור יהודה | B37: 2400 | C37: 545 | D37: 267 | E37: 40 | F37: 97 | G37: 172 | H37: 6 | I37: 54 | J37: 4 | K37: 1 | L37: =+C37-D37-G37-H37-I37-J37-K37 -> 41 | M37: 37460 | N37: 0.0024600246 | P37: פתח תקוה (מרחב)
A38: אור עקיבא | B38: 1020 | C38: 703 | D38: 550 | E38: 73 | F38: 13 | G38: 1 | H38: 53 | I38: 40 | J38: 1 | K38: 0 | L38: =+C38-D38-G38-H38-I38-J38-K38 -> 58 | M38: 21662 | N38: 0.008988764 | P38: חדרה (מרחב)
A39: אורה | B39: 0780 | C39: 24 | D39: 4 | E39: 0 | F39: 0 | G39: 0 | H39: 0 | I39: 12 | J39: 0 | K39: 0 | L39: =+C39-D39-G39-H39-I39-J39-K39 -> 8 | M39: 1227 | N39: 0.026990553 | O39: מטה יהודה | P39: ירושלים (מרחב)
A40: אורות | B40: 2012 | C40: 2 | D40: 1 | E40: 0 | F40: 0 | G40: 0 | H40: 0 | I40: 0 | J40: 0 | K40: 0 | L40: =+C40-D40-G40-H40-I40-J40-K40 -> 1 | M40: 611 | N40: 0.0025348542 | O40: באר טוביה | P40: אשדוד (מרחב) | Q40: קרית מלאכי
A41: אורטל | B41: 4013 | C41: 1 | D41: 0 | E41: 0 | F41: 0 | G41: 0 | H41: 0 | I41: 0 | J41: 0 | K41: 0 | L41: =+C41-D41-G41-H41-I41-J41-K41 -> 1 | M41: 365 | N41: 0.0067086148 | O41: גולן | P41: גליל עליון (מרחב) | Q41: קצרין (מוקד)
...

Sheet גילאים משנת 2005
A1: התפלגות עולים שעלו ארצה
A2: =+'עולים משנת 2005'!A2 -> בין התאריכים 1.1.2005 עד 31.10.2019
A3: לפי ישובים וגילאים ביום 1/1/2020
A4: ממוין לפי שם הישוב
A5: הדוח אינו כולל נפטרים, נולדים בארץ ותושבים חוזרים
B7: קבוצות גיל - גיל מחושב ליום 1/1/2020
B8: סה"כ | H8: סה"כ | I8: אחוז | J8: מועצה
A9: ישוב | B9: עולים | C9: 0-12 | D9: 13-17 | E9: 18-35 | F9: 36-60 | G9: 61+ | H9: תושבים | I9: עולים | J9: אזורית | K9: מרחב | L9: סניף
A10: סה"כ | B10: =SUM(B11:B1024) -> 341558 | C10: =SUM(C11:C1024) -> 30323 | D10: =SUM(D11:D1024) -> 18986 | E10: =SUM(E11:E1024) -> 113146 | F10: =SUM(F11:F1024) -> 98246 | G10: =SUM(G11:G1024) -> 80857 | H10: =SUM(H11:H1024) -> 8721389 | I10: =+B10/H10 -> 0.039163257
A11: אבו גוש | B11: 8 | C11: 2 | D11: 1 | E11: 1 | F11: 4 | G11: 0 | H11: 8236 | I11: =+B11/H11 -> 0.00097134531 | K11: ירושלים (מרחב)
A12: אבטליון | B12: 1 | C12: 0 | D12: 0 | E12: 0 | F12: 1 | G12: 0 | H12: 499 | I12: =+B12/H12 -> 0.002004008 | J12: משגב | K12: גליל עליון (מרחב)
A13: אביאל | B13: 8 | C13: 1 | D13: 2 | E13: 0 | F13: 4 | G13: 1 | H13: 834 | I13: =+B13/H13 -> 0.0095923261 | J13: אלונה | K13: חדרה (מרחב)
A14: אביגדור | B14: 4 | C14: 0 | D14: 0 | E14: 2 | F14: 2 | G14: 0 | H14: 909 | I14: =+B14/H14 -> 0.00440044 | J14: באר טוביה | K14: אשדוד (מרחב) | L14: אשקלון
A15: אביחיל | B15: 22 | C15: 3 | D15: 2 | E15: 8 | F15: 4 | G15: 5 | H15: 1411 | I15: =+B15/H15 -> 0.015591779 | J15: עמק חפר | K15: נתניה והשרון (מרחב)
A16: אביעזר | B16: 9 | C16: 0 | D16: 1 | E16: 1 | F16: 4 | G16: 3 | H16: 905 | I16: =+B16/H16 -> 0.0099447514 | J16: מטה יהודה | K16: ירושלים (מרחב)
A17: אבירים | B17: 1 | C17: 0 | D17: 0 | E17: 1 | F17: 0 | G17: 0 | H17: 298 | I17: =+B17/H17 -> 0.0033557047 | J17: מעלה יוסף | K17: גליל עליון (מרחב) | L17: מעלות
A18: אבן יהודה | B18: 148 | C18: 19 | D18: 7 | E18: 56 | F18: 39 | G18: 27 | H18: 14631 | I18: =+B18/H18 -> 0.010115508 | K18: נתניה והשרון (מרחב)
A19: אבן ספיר | B19: 3 | C19: 0 | D19: 0 | E19: 1 | F19: 1 | G19: 1 | H19: 701 | I19: =+B19/H19 -> 0.0042796006 | J19: מטה יהודה | K19: ירושלים (מרחב)
A20: אבן שמואל | B20: 70 | C20: 21 | D20: 9 | E20: 7 | F20: 18 | G20: 15 | H20: 1785 | I20: =+B20/H20 -> 0.039215686 | J20: שפיר | K20: אשדוד (מרחב) | L20: קרית גת
A21: אבני איתן | B21: 10 | C21: 0 | D21: 1 | E21: 7 | F21: 2 | G21: 0 | H21: 788 | I21: =+B21/H21 -> 0.012690355 | J21: גולן | K21: גליל עליון (מרחב)
A22: אבני חפץ | B22: 48 | C22: 2 | D22: 6 | E22: 19 | F22: 14 | G22: 7 | H22: 2014 | I22: =+B22/H22 -> 0.023833168 | J22: שומרון | K22: נתניה והשרון (מרחב)
A23: אבנת | B23: 2 | C23: 0 | D23: 0 | E23: 1 | F23: 1 | G23: 0 | H23: 206 | I23: =+B23/H23 -> 0.0097087379 | J23: מגילות ים המלח | K23: ירושלים (מרחב)
A24: אבשלום | B24: 12 | C24: 2 | D24: 1 | E24: 3 | F24: 5 | G24: 1 | H24: 328 | I24: =+B24/H24 -> 0.036585366 | J24: אשכול | K24: באר שבע והנגב (מרחב) | L24: אופקים
A25: אדורה | B25: 2 | C25: 0 | D25: 0 | E25: 1 | F25: 0 | G25: 1 | H25: 491 | I25: =+B25/H25 -> 0.0040733198 | J25: הר חברון | K25: ירושלים (מרחב) | L25: קרית ארבע
A26: אדירים | B26: 3 | C26: 1 | D26: 1 | E26: 0 | F26: 1 | G26: 0 | H26: 332 | I26: =+B26/H26 -> 0.0090361446 | J26: הגלבוע | K26: נוף הגליל והעמקים (מרחב) | L26: עפולה
A27: אדמית | B27: 9 | C27: 0 | D27: 1 | E27: 3 | F27: 0 | G27: 5 | H27: 474 | I27: =+B27/H27 -> 0.018987342 | J27: מטה אשר | K27: גליל עליון (מרחב) | L27: נהריה
A28: אדרת | B28: 20 | C28: 2 | D28: 0 | E28: 6 | F28: 7 | G28: 5 | H28: 907 | I28: =+B28/H28 -> 0.022050717 | J28: מטה יהודה | K28: ירושלים (מרחב) | L28: בית שמש
A29: אודים | B29: 17 | C29: 0 | D29: 2 | E29: 7 | F29: 8 | G29: 0 | H29: 1138 | I29: =+B29/H29 -> 0.014938489 | J29: חוף השרון | K29: נתניה והשרון (מרחב)
A30: אודם | B30: 4 | C30: 0 | D30: 0 | E30: 1 | F30: 1 | G30: 2 | H30: 183 | I30: =+B30/H30 -> 0.021857923 | J30: גולן | K30: גליל עליון (מרחב) | L30: קצרין (מוקד)
A31: אוהד | B31: 3 | C31: 0 | D31: 0 | E31: 1 | F31: 2 | G31: 0 | H31: 412 | I31: =+B31/H31 -> 0.0072815534 | J31: אשכול | K31: באר שבע והנגב (מרחב)
A32: אומן | B32: 5 | C32: 0 | D32: 0 | E32: 1 | F32: 2 | G32: 2 | H32: 496 | I32: =+B32/H32 -> 0.010080645 | J32: הגלבוע | K32: נוף הגליל והעמקים (מרחב) | L32: עפולה
A33: אומץ | B33: 1 | C33: 0 | D33: 0 | E33: 1 | F33: 0 | G33: 0 | H33: 787 | I33: =+B33/H33 -> 0.001270648 | J33: עמק חפר | K33: נתניה והשרון (מרחב)
A34: אופקים | B34: 507 | C34: 47 | D34: 28 | E34: 158 | F34: 123 | G34: 151 | H34: 33623 | I34: =+B34/H34 -> 0.015078964 | K34: באר שבע והנגב (מרחב) | L34: אופקים
A35: אור הגנוז | B35: 1 | C35: 0 | D35: 0 | E35: 0 | F35: 1 | G35: 0 | H35: 621 | I35: =+B35/H35 -> 0.001610306 | J35: מרום הגליל | K35: גליל עליון (מרחב) | L35: צפת
A36: אור הנר | B36: 11 | C36: 0 | D36: 0 | E36: 3 | F36: 4 | G36: 4 | H36: 934 | I36: =+B36/H36 -> 0.011777302 | J36: שער הנגב | K36: באר שבע והנגב (מרחב) | L36: שדרות
A37: אור יהודה | B37: 545 | C37: 27 | D37: 36 | E37: 215 | F37: 159 | G37: 108 | H37: 37460 | I37: =+B37/H37 -> 0.014548852 | K37: פתח תקוה (מרחב)
A38: אור עקיבא | B38: 703 | C38: 79 | D38: 31 | E38: 178 | F38: 211 | G38: 204 | H38: 21662 | I38: =+B38/H38 -> 0.032453144 | K38: חדרה (מרחב)
A39: אורה | B39: 24 | C39: 6 | D39: 2 | E39: 9 | F39: 6 | G39: 1 | H39: 1227 | I39: =+B39/H39 -> 0.019559902 | J39: מטה יהודה | K39: ירושלים (מרחב)
A40: אורות | B40: 2 | C40: 0 | D40: 0 | E40: 2 | F40: 0 | G40: 0 | H40: 611 | I40: =+B40/H40 -> 0.0032733224 | J40: באר טוביה | K40: אשדוד (מרחב) | L40: קרית מלאכי
A41: אורטל | B41: 1 | C41: 0 | D41: 0 | E41: 1 | F41: 0 | G41: 0 | H41: 365 | I41: =+B41/H41 -> 0.002739726 | J41: גולן | K41: גליל עליון (מרחב) | L41: קצרין (מוקד)
...

Sheet מועצות משנת 2014
A1: עולים שעלו למועצות אזוריות מ- 1/1/2014 עד 31/10/2019
A3: מועצה | B3: עולים | C3: בריה"מ | D3: מתוכם קווקזים | E3: מתוכם בוכרים | F3: אתיופים | G3: צרפת | H3: ארה"ב | I3: ארגנטינה | J3: אנגליה | K3: אחרים | L3: סהכ תושבים | M3: אחוז עולים
A4: אלונה | B4: 2 | C4: 0 | D4: 0 | E4: 0 | F4: 0 | G4: 0 | H4: 1 | I4: 0 | J4: 0 | K4: =+B4-C4-F4-G4-H4-I4-J4 -> 1 | L4: 767 | M4: =+B4/L4 -> 0.0026075619
A5: אשכול | B5: 287 | C5: 113 | D5: 0 | E5: 7 | F5: 0 | G5: 2 | H5: 114 | I5: 10 | J5: 11 | K5: =+B5-C5-F5-G5-H5-I5-J5 -> 37 | L5: 12025 | M5: =+B5/L5 -> 0.023866944
A6: באר טוביה | B6: 25 | C6: 5 | D6: 0 | E6: 0 | F6: 0 | G6: 5 | H6: 8 | I6: 1 | J6: 2 | K6: =+B6-C6-F6-G6-H6-I6-J6 -> 4 | L6: 10729 | M6: =+B6/L6 -> 0.0023301333
A7: בני שמעון | B7: 56 | C7: 7 | D7: 0 | E7: 0 | F7: 0 | G7: 0 | H7: 27 | I7: 1 | J7: 2 | K7: =+B7-C7-F7-G7-H7-I7-J7 -> 19 | L7: 6477 | M7: =+B7/L7 -> 0.0086459781
A8: ברנר | B8: 15 | C8: 0 | D8: 0 | E8: 0 | F8: 0 | G8: 4 | H8: 5 | I8: 1 | J8: 0 | K8: =+B8-C8-F8-G8-H8-I8-J8 -> 5 | L8: 7646 | M8: =+B8/L8 -> 0.0019618101
A9: גדרות | B9: 4 | C9: 0 | D9: 0 | E9: 0 | F9: 0 | G9: 0 | H9: 2 | I9: 0 | J9: 0 | K9: =+B9-C9-F9-G9-H9-I9-J9 -> 2 | L9: 2669 | M9: =+B9/L9 -> 0.0014986886
A10: גולן | B10: 60 | C10: 12 | D10: 0 | E10: 0 | F10: 0 | G10: 6 | H10: 30 | I10: 1 | J10: 3 | K10: =+B10-C10-F10-G10-H10-I10-J10 -> 8 | L10: 14508 | M10: =+B10/L10 -> 0.0041356493
A11: גוש עציון | B11: 438 | C11: 93 | D11: 0 | E11: 0 | F11: 0 | G11: 26 | H11: 195 | I11: 9 | J11: 14 | K11: =+B11-C11-F11-G11-H11-I11-J11 -> 101 | L11: 25296 | M11: =+B11/L11 -> 0.017314991
A12: גזר | B12: 133 | C12: 32 | D12: 0 | E12: 0 | F12: 0 | G12: 8 | H12: 58 | I12: 2 | J12: 9 | K12: =+B12-C12-F12-G12-H12-I12-J12 -> 24 | L12: 22344 | M12: =+B12/L12 -> 0.005952381
A13: גן רווה | B13: 31 | C13: 25 | D13: 0 | E13: 0 | F13: 0 | G13: 0 | H13: 3 | I13: 0 | J13: 0 | K13: =+B13-C13-F13-G13-H13-I13-J13 -> 3 | L13: 3439 | M13: =+B13/L13 -> 0.0090142483
A14: דרום השרון | B14: 81 | C14: 23 | D14: 0 | E14: 0 | F14: 0 | G14: 1 | H14: 21 | I14: 4 | J14: 3 | K14: =+B14-C14-F14-G14-H14-I14-J14 -> 29 | L14: 28240 | M14: =+B14/L14 -> 0.002868272
A15: הגלבוע | B15: 357 | C15: 9 | D15: 0 | E15: 0 | F15: 281 | G15: 3 | H15: 42 | I15: 1 | J15: 4 | K15: =+B15-C15-F15-G15-H15-I15-J15 -> 17 | L15: 14119 | M15: =+B15/L15 -> 0.025285077
... A53: תמר | B53: 5 | C53: 0 | D53: 0 | E53: 0 | F53: 0 | G53: 0 | H53: 2 | I53: 0 | J53: 0 | K53: =+B53-C53-F53-G53-H53-I53-J53 -> 3 | L53: 613 | M53: =+B53/L53 -> 0.0081566069
A54: סהכ | B54: =SUM(B4:B53) -> 6758 | C54: =SUM(C4:C53) -> 1861 | D54: =SUM(D4:D53) -> 10 | E54: =SUM(E4:E53) -> 55 | F54: =SUM(F4:F53) -> 638 | G54: =SUM(G4:G53) -> 607 | H54: =SUM(H4:H53) -> 1969 | I54: =SUM(I4:I53) -> 153 | ... L54: =SUM(L4:L53) -> 695582 | M54: =+B54/L54 -> 0.0097156051

Sheet מועצות גילאים מ 2014
A1: =+'מועצות משנת 2014'!A1 -> עולים שעלו למועצות אזוריות מ- 1/1/2014 עד 31/10/2019
B3: קבוצות גיל - גיל מחושב ליום 1/1/2020
B4: סה"כ | H4: סה"כ | I4: אחוז
A5: ישוב | B5: עולים | C5: 0-12 | D5: 13-17 | E5: 18-35 | F5: 36-60 | G5: 61+ | H5: תושבים | I5: עולים
A6: אלונה | B6: 2 | C6: 0 | D6: 0 | E6: 1 | F6: 0 | G6: 1 | H6: 767 | I6: =+B6/H6 -> 0.0026075619
A7: אשכול | B7: 287 | C7: 36 | D7: 10 | E7: 168 | F7: 55 | G7: 18 | H7: 12025 | I7: =+B7/H7 -> 0.023866944
A8: באר טוביה | B8: 25 | C8: 0 | D8: 0 | E8: 15 | F8: 5 | G8: 5 | H8: 10729 | I8: =+B8/H8 -> 0.0023301333
A9: בני שמעון | B9: 56 | C9: 0 | D9: 0 | E9: 50 | F9: 1 | G9: 5 | H9: 6477 | I9: =+B9/H9 -> 0.0086459781
A10: ברנר | B10: 15 | C10: 0 | D10: 0 | E10: 10 | F10: 1 | G10: 4 | H10: 7646 | I10: =+B10/H10 -> 0.0019618101
A11: גדרות | B11: 4 | C11: 0 | D11: 0 | E11: 3 | F11: 0 | G11: 1 | H11: 2669 | I11: =+B11/H11 -> 0.0014986886
A12: גולן | B12: 60 | C12: 12 | D12: 2 | E12: 28 | F12: 8 | G12: 10 | H12: 14508 | I12: =+B12/H12 -> 0.0041356493
A13: גוש עציון | B13: 438 | C13: 55 | D13: 16 | E13: 177 | F13: 100 | G13: 90 | H13: 25296 | I13: =+B13/H13 -> 0.017314991
A14: גזר | B14: 133 | C14: 20 | D14: 5 | E14: 72 | F14: 18 | G14: 18 | H14: 22344 | I14: =+B14/H14 -> 0.005952381
A15: גן רווה | B15: 31 | C15: 0 | D15: 0 | E15: 24 | F15: 5 | G15: 2 | H15: 3439 | I15: =+B15/H15 -> 0.0090142483
A16: דרום השרון | B16: 81 | C16: 11 | D16: 6 | E16: 34 | F16: 16 | G16: 14 | H16: 28240 | I16: =+B16/H16 -> 0.002868272
A17: הגלבוע | B17: 357 | C17: 26 | D17: 22 | E17: 174 | F17: 40 | G17: 95 | H17: 14119 | I17: =+B17/H17 -> 0.025285077
... A55: תמר | B55: 5 | C55: 0 | D55: 0 | E55: 5 | F55: 0 | G55: 0 | H55: 613 | I55: =+B55/H55 -> 0.0081566069
A56: סהכ | B56: =SUM(B6:B55) -> 6758 | C56: =SUM(C6:C55) -> 1079 | D56: =SUM(D6:D55) -> 300 | E56: =SUM(E6:E55) -> 3201 | F56: =SUM(F6:F55) -> 1171 | G56: =SUM(G6:G55) -> 1007 | H56: =SUM(H6:H55) -> 695582 | I56: =+B56/H56 -> 0.0097156051

Sheet לוח 2
A2: שם רשות מקומית | B2: השתתפות המשרד | C2: רמת פריפריאליות 1-10 משנת 2015 | D2: אשכול סוציואקונומי 1-10 משנת 2015 | E2: נגב גליל | F2: בדיקת רמת פריפריאליות | G2: בדיקת אשכול סוציואקונומי | H2: בדיקת רמה +אשכול+נגב גליל | I2: מחוז
A3: אבן יהודה | B3: =IF(H3=0,0.8,0.9) -> 0.8 | C3: 7 | D3: 8 | E3: 0 | F3: =IF(C3<5,1,0) -> 0 | G3: =IF(D3<5,1,0) -> 0 | H3: =SUM(E3:G3) -> 0 | I3: חיפה והצפון | N3: אבו בסמה | O3: 1
A4: אופקים | B4: =IF(H4=0,0.8,0.9) -> 0.9 | C4: 3 | D4: 3 | E4: 1 | F4: =IF(C4<5,1,0) -> 1 | G4: =IF(D4<5,1,0) -> 1 | H4: =SUM(E4:G4) -> 3 | I4: תל אביב והמרכז | N4: אבו גוש | O4: 2
A5: אור יהודה | B5: =IF(H5=0,0.8,0.9) -> 0.8 | C5: 8 | D5: 6 | E5: 0 | F5: =IF(C5<5,1,0) -> 0 | G5: =IF(D5<5,1,0) -> 0 | H5: =SUM(E5:G5) -> 0 | I5: הדרום וירושלים | N5: אבו סנאן | O5: 3
A6: אור עקיבא | B6: =IF(H6=0,0.8,0.9) -> 0.8 | C6: 5 | D6: 5 | E6: 0 | F6: =IF(C6<5,1,0) -> 0 | G6: =IF(D6<5,1,0) -> 0 | H6: =SUM(E6:G6) -> 0 | N6: אבן יהודה | O6: 8
A7: אורנית | B7: =IF(H7=0,0.8,0.9) -> 0.8 | C7: 6 | D7: 8 | E7: 0 | F7: =IF(C7<5,1,0) -> 0 | G7: =IF(D7<5,1,0) -> 0 | H7: =SUM(E7:G7) -> 0
A8: אזור | B8: =IF(H8=0,0.8,0.9) -> 0.8 | C8: 9 | D8: 7 | E8: 0 | F8: =IF(C8<5,1,0) -> 0 | G8: =IF(D8<5,1,0) -> 0 | H8: =SUM(E8:G8) -> 0 | N8: אום אל-פחם | O8: 2
A9: אילת | B9: =IF(H9=0,0.8,0.9) -> 0.9 | C9: 1 | D9: 6 | E9: 1 | F9: =IF(C9<5,1,0) -> 1 | G9: =IF(D9<5,1,0) -> 0 | H9: =SUM(E9:G9) -> 2 | N9: אופקים | O9: 3
A10: אלעד | B10: =IF(H10=0,0.8,0.9) -> 0.9 | C10: 7 | D10: 2 | E10: 0 | F10: =IF(C10<5,1,0) -> 0 | G10: =IF(D10<5,1,0) -> 1 | H10: =SUM(E10:G10) -> 1 | N10: אור יהודה | O10: 5
A11: אלפי מנשה | B11: =IF(H11=0,0.8,0.9) -> 0.8 | C11: 6 | D11: 8 | E11: 0 | F11: =IF(C11<5,1,0) -> 0 | G11: =IF(D11<5,1,0) -> 0 | H11: =SUM(E11:G11) -> 0 | N11: אור עקיבא | O11: 4
A12: אפרת | B12: =IF(H12=0,0.8,0.9) -> 0.8 | C12: 5 | D12: 6 | E12: 0 | F12: =IF(C12<5,1,0) -> 0 | G12: =IF(D12<5,1,0) -> 0 | H12: =SUM(E12:G12) -> 0 | N12: אורנית | O12: 8
A13: אריאל | B13: =IF(H13=0,0.8,0.9) -> 0.8 | C13: 5 | D13: 6 | E13: 0 | F13: =IF(C13<5,1,0) -> 0 | G13: =IF(D13<5,1,0) -> 0 | H13: =SUM(E13:G13) -> 0 | N13: אזור | O13: 6
A14: אשדוד | B14: =IF(H14=0,0.8,0.9) -> 0.8 | C14: 7 | D14: 5 | E14: 0 | F14: =IF(C14<5,1,0) -> 0 | G14: =IF(D14<5,1,0) -> 0 | H14: =SUM(E14:G14) -> 0 | N14: אילת | O14: 5
A15: אשכול | B15: 1 | C15: 3 | D15: 6 | E15: 1 | F15: =IF(C15<5,1,0) -> 1 | G15: =IF(D15<5,1,0) -> 0 | H15: =SUM(E15:G15) -> 2 | N15: אכסאל | O15: 2
A16: אשקלון | B16: =IF(H16=0,0.8,0.9) -> 0.8 | C16: 5 | D16: 5 | E16: 0 | F16: =IF(C16<5,1,0) -> 0 | G16: =IF(D16<5,1,0) -> 0 | H16: =SUM(E16:G16) -> 0 | N16: אל-בטוף | O16: 1
A17: באר טוביה | B17: =IF(H17=0,0.8,0.9) -> 0.8 | C17: 5 | D17: 7 | E17: 0 | F17: =IF(C17<5,1,0) -> 0 | G17: =IF(D17<5,1,0) -> 0 | H17: =SUM(E17:G17) -> 0 | N17: אלונה | O17: 7
A18: באר יעקב | B18: =IF(H18=0,0.8,0.9) -> 0.8 | C18: 8 | D18: 7 | E18: 0 | F18: =IF(C18<5,1,0) -> 0 | G18: =IF(D18<5,1,0) -> 0 | H18: =SUM(E18:G18) -> 0 | N18: אליכין | O18: 5
A19: באר שבע | B19: =IF(H19=0,0.8,0.9) -> 0.9 | C19: 5 | D19: 5 | E19: 1 | F19: =IF(C19<5,1,0) -> 0 | G19: =IF(D19<5,1,0) -> 0 | H19: =SUM(E19:G19) -> 1 | N19: אלעד | O19: 2
A20: בית אל | B20: =IF(H20=0,0.8,0.9) -> 0.9 | C20: 4 | D20: 3 | E20: 0 | F20: =IF(C20<5,1,0) -> 1 | G20: =IF(D20<5,1,0) -> 1 | H20: =SUM(E20:G20) -> 2 | N20: אלפי מנשה | O20: 8
A21: בית שאן | B21: =IF(H21=0,0.8,0.9) -> 0.9 | C21: 3 | D21: 5 | E21: 1 | F21: =IF(C21<5,1,0) -> 1 | G21: =IF(D21<5,1,0) -> 0 | H21: =SUM(E21:G21) -> 2 | N21: אלקנה | O21: 8
A22: בית שמש | B22: =IF(H22=0,0.8,0.9) -> 0.9 | C22: 5 | D22: 2 | E22: 0 | F22: =IF(C22<5,1,0) -> 0 | G22: =IF(D22<5,1,0) -> 1 | H22: =SUM(E22:G22) -> 1 | N22: אעבלין | O22: 3
A23: ביתר עילית | B23: =IF(H23=0,0.8,0.9) -> 0.9 | C23: 5 | D23: 1 | E23: 0 | F23: =IF(C23<5,1,0) -> 0 | G23: =IF(D23<5,1,0) -> 1 | H23: =SUM(E23:G23) -> 1 | N23: אפרתה | O23: 7
A24: בני ברק | B24: =IF(H24=0,0.8,0.9) -> 0.9 | C24: 10 | D24: 2 | E24: 0 | F24: =IF(C24<5,1,0) -> 0 | G24: =IF(D24<5,1,0) -> 1 | H24: =SUM(E24:G24) -> 1 | N24: אריאל | O24: 5
A25: בני עי"ש | B25: =IF(H25=0,0.8,0.9) -> 0.8 | C25: 6 | D25: 5 | E25: 0 | F25: =IF(C25<5,1,0) -> 0 | G25: =IF(D25<5,1,0) -> 0 | H25: =SUM(E25:G25) -> 0 | N25: אשדוד | O25: 5
A26: בני שמעון | B26: =IF(H26=0,0.8,0.9) -> 0.9 | C26: 3 | D26: 7 | E26: 1 | F26: =IF(C26<5,1,0) -> 1 | G26: =IF(D26<5,1,0) -> 0 | H26: =SUM(E26:G26) -> 2 | N26: אשכול | O26: 6
A27: בנימינה-גבעת עדה | B27: =IF(H27=0,0.8,0.9) -> 0.8 | C27: 5 | D27: 8 | E27: 0 | F27: =IF(C27<5,1,0) -> 0 | G27: =IF(D27<5,1,0) -> 0 | H27: =SUM(E27:G27) -> 0 | N27: אשקלון | O27: 5
... A51: חולון | B51: =IF(H51=0,0.8,0.9) -> 0.8 | C51: 9 | D51: 7 | E51: 0 | F51: =IF(C51<5,1,0) -> 0 | G51: =IF(D51<5,1,0) -> 0 | H51: =SUM(E51:G51) -> 0 | N51: ג'דיידה-מכר | O51: 2
A52: חוף אשקלון | B52: 1 | C52: 5 | D52: 7 | E52: 1 | F52: =IF(C52<5,1,0) -> 0 | G52: =IF(D52<5,1,0) -> 0 | H52: =SUM(E52:G52) -> 1 | N52: ג'ולס | O52: 3
A53: חוף הכרמל | B53: =IF(H53=0,0.8,0.9) -> 0.8 | C53: 5 | D53: 8 | E53: 0 | F53: =IF(C53<5,1,0) -> 0 | G53: =IF(D53<5,1,0) -> 0 | H53: =SUM(E53:G53) -> 0 | N53: ג'לג'וליה | O53: 2
A54: חוף השרון | B54: =IF(H54=0,0.8,0.9) -> 0.8 | C54: 7 | D54: 8 | E54: 0 | F54: =IF(C54<5,1,0) -> 0 | G54: =IF(D54<5,1,0) -> 0 | H54: =SUM(E54:G54) -> 0 | N54: ג'סר א-זרקא | O54: 1
A55: חיפה | B55: =IF(H55=0,0.8,0.9) -> 0.8 | C55: 6 | D55: 7 | E55: 0 | F55: =IF(C55<5,1,0) -> 0 | G55: =IF(D55<5,1,0) -> 0 | H55: =SUM(E55:G55) -> 0 | N55: ג'ש (גוש חלב) | O55: 5
A56: חצור הגלילית | B56: =IF(H56=0,0.8,0.9) -> 0.9 | C56: 3 | D56: 4 | E56: 1 | F56: =IF(C56<5,1,0) -> 1 | G56: =IF(D56<5,1,0) -> 1 | H56: =SUM(E56:G56) -> 3 | N56: *ג'ת | O56: 3
A57: חריש | B57: =IF(H57=0,0.8,0.9) -> 0.9 | C57: 5 | D57: 3 | E57: 0 | F57: =IF(C57<5,1,0) -> 0 | G57: =IF(D57<5,1,0) -> 1 | H57: =SUM(E57:G57) -> 1
A58: טבריה | B58: =IF(H58=0,0.8,0.9) -> 0.9 | C58: 3 | D58: 4 | E58: 1 | F58: =IF(C58<5,1,0) -> 1 | G58: =IF(D58<5,1,0) -> 1 | H58: =SUM(E58:G58) -> 3
A59: טירת כרמל | B59: =IF(H59=0,0.8,0.9) -> 0.8 | C59: 5 | D59: 5 | E59: 0 | F59: =IF(C59<5,1,0) -> 0 | G59: =IF(D59<5,1,0) -> 0 | H59: =SUM(E59:G59) -> 0 | N59: גבעת זאב | O59: 5
A60: יבנה | B60: =IF(H60=0,0.8,0.9) -> 0.8 | C60: 7 | D60: 7 | E60: 0 | F60: =IF(C60<5,1,0) -> 0 | G60: =IF(D60<5,1,0) -> 0 | H60: =SUM(E60:G60) -> 0 | N60: גבעת שמואל | O60: 8
A61: יהוד-מונוסון | B61: =IF(H61=0,0.8,0.9) -> 0.8 | C61: 8 | D61: 8 | E61: 0 | F61: =IF(C61<5,1,0) -> 0 | G61: =IF(D61<5,1,0) -> 0 | H61: =SUM(E61:G61) -> 0 | N61: גבעתיים | O61: 8
A62: יואב | B62: =IF(H62=0,0.8,0.9) -> 0.8 | C62: 5 | D62: 8 | E62: 0 | F62: =IF(C62<5,1,0) -> 0 | G62: =IF(D62<5,1,0) -> 0 | H62: =SUM(E62:G62) -> 0 | N62: גדרה | O62: 6
A63: יקנעם עילית | B63: =IF(H63=0,0.8,0.9) -> 0.9 | C63: 5 | D63: 7 | E63: 1 | F63: =IF(C63<5,1,0) -> 0 | G63: =IF(D63<5,1,0) -> 0 | H63: =SUM(E63:G63) -> 1 | N63: גדרות | O63: 8
A64: ירוחם | B64: =IF(H64=0,0.8,0.9) -> 0.9 | C64: 3 | D64: 3 | E64: 1 | F64: =IF(C64<5,1,0) -> 1 | G64: =IF(D64<5,1,0) -> 1 | H64: =SUM(E64:G64) -> 3 | N64: גולן | O64: 6
...
