Workbook
Name ward: #REF!
Name רשויות: 'לוח 2'!$A$2:$A$139

Sheet קליטת נתונים
A2: קובץ פרמטרים
A4: חובה למלא את שם המחוז
A5: שם המחוז | B5: תל אביב והמרכז | E5: שנת פעילות | H5: 2020
A7: חובה לבחור רשות מקומית מתא B8 , מדד פריפריאלי, אשכול סוציו-אקונומי והשתתפות משרדי ממשלה יוצג אוטומטית
A8: שם רשות | B8: תל אביב - יפו
A10: אין צורך למלא
A11: מדד פריפריאלי | B11: =VLOOKUP(B8,'לוח 2'!$A$3:$D$139,3,0) -> 10 | E11: השתתפות משרדי ממשלה | H11: =VLOOKUP(B8,'לוח 2'!$A$3:$D$139,2,0) -> 0.8
A14: אשכול סוציו-אקונומי | B14: =VLOOKUP(B8,'לוח 2'!$A$3:$D$139,4,0) -> 8
A17: נגב / גליל | B17: =VLOOKUP(B8,'לוח 2'!$A$3:$E$139,5,0) -> 0

Sheet מיפוי רשות
B1: טופס מיפוי ישובי לרשות לשנת | E1: =+'קליטת נתונים'!H5 -> 2020
A4: שם הישוב | B4: =+'קליטת נתונים'!B8 -> תל אביב - יפו | D4: מספר התושבים | E4: =VLOOKUP(B4,'עולים משנת 1989'!$A$11:$M$1199,13,0) -> 552513
A6: מספר העולים שעלו מ- 1.9.1989 | B6: =VLOOKUP(B4,'עולים משנת 1989'!$A$11:$M$1199,3,0) -> 82467 | D6: אחוז העולים בישוב | E6: =+B6/$E$4 -> 0.14925803
A8: מספר העולים שעלו מ- 1.1.2004 | B8: =VLOOKUP(B4,'עולים משנת 2005'!$A$11:$M$1020,3,0) -> 34610 | D8: אחוז העולים בישוב | E8: =+B8/$E$4 -> 0.06264106
A10: מדד פריפריאלי | B10: =+'קליטת נתונים'!B11 -> 10 | D10: אשכול סוציו-אקונומי | E10: =+'קליטת נתונים'!B14 -> 8
A11: נגב / גליל | B11: =+'קליטת נתונים'!B17 -> 0 | D11: השתתפות משרדי ממשלה | E11: =+'קליטת נתונים'!H11 -> 0.8
A13: טבלה 1: עולים לפי מדינות מוצא ושיעורם בישוב, בשנת 1989 ובשנת 2005 (עד 31.10.2019)
B15: 1989 | D15: 2005
A16: מדינות מוצא | B16: מס' עולים | C16: אחוז עולים בישוב | D16: מס' עולים | E16: אחוז עולים בישוב
A17: חמ"ע | B17: =VLOOKUP($B$4,'עולים משנת 1989'!$A$11:$M$1199,4,0) -> 47709 | C17: =+B17/$E$4 -> 0.086349099 | D17: =VLOOKUP($B$4,'עולים משנת 2005'!$A$11:$M$1020,4,0) -> 11734 | E17: =+D17/$E$4 -> 0.021237509
A18: מתוכם עולי קווקז | B18: =VLOOKUP($B$4,'עולים משנת 1989'!$A$11:$M$1199,5,0) -> 3167 | C18: =+B18/$E$4 -> 0.0057319918 | D18: =VLOOKUP($B$4,'עולים משנת 2005'!$A$11:$M$1020,5,0) -> 385 | E18: =+D18/$E$4 -> 0.00069681618
A19: מתוכם עולי בוכרה | B19: =VLOOKUP($B$4,'עולים משנת 1989'!$A$11:$M$1199,6,0) -> 8000 | C19: =+B19/$E$4 -> 0.014479297 | D19: =VLOOKUP($B$4,'עולים משנת 2005'!$A$11:$M$1020,6,0) -> 333 | E19: =+D19/$E$4 -> 0.00060270075
A20: אתיופיה | B20: =VLOOKUP($B$4,'עולים משנת 1989'!$A$11:$M$1199,7,0) -> 1791 | C20: =+B20/$E$4 -> 0.0032415527 | D20: =VLOOKUP($B$4,'עולים משנת 2005'!$A$11:$M$1020,7,0) -> 1295 | E20: =+D20/$E$4 -> 0.0023438363
A21: צרפת | B21: =VLOOKUP($B$4,'עולים משנת 1989'!$A$11:$M$1199,8,0) -> 8428 | C21: =+B21/$E$4 -> 0.01525394 | D21: =VLOOKUP($B$4,'עולים משנת 2005'!$A$11:$M$1020,8,0) -> 6892 | E21: =+D21/$E$4 -> 0.012473915
A22: ארה"ב | B22: =VLOOKUP($B$4,'עולים משנת 1989'!$A$11:$M$1199,9,0) -> 8307 | C22: =+B22/$E$4 -> 0.01503494 | D22: =VLOOKUP($B$4,'עולים משנת 2005'!$A$11:$M$1020,9,0) -> 5945 | E22: =+D22/$E$4 -> 0.010759928
A23: ארגנטינה | B23: =VLOOKUP($B$4,'עולים משנת 1989'!$A$11:$M$1199,10,0) -> 1340 | C23: =+B23/$E$4 -> 0.0024252823 | D23: =VLOOKUP($B$4,'עולים משנת 2005'!$A$11:$M$1020,10,0) -> 415 | E23: =+D23/$E$4 -> 0.00075111355
A24: אנגליה | B24: =VLOOKUP($B$4,'עולים משנת 1989'!$A$11:$M$1199,11,0) -> 2176 | C24: =+B24/$E$4 -> 0.0039383689 | D24: =VLOOKUP($B$4,'עולים משנת 2005'!$A$11:$M$1020,11,0) -> 1482 | E24: =+D24/$E$4 -> 0.0026822898
A25: אחרים | B25: =VLOOKUP($B$4,'עולים משנת 1989'!$A$11:$M$1199,12,0) -> 12716 | C25: =+B25/$E$4 -> 0.023014843 | D25: =VLOOKUP($B$4,'עולים משנת 2005'!$A$11:$M$1020,12,0) -> 6847 | E25: =+D25/$E$4 -> 0.012392469
A26: סהכ | B26: =SUM(B17:B25)-B18-B19 -> 82467 | C26: =+B26/$E$4 -> 0.14925803 | D26: =SUM(D17:D25)-D18-D19 -> 34610 | E26: =+D26/$E$4 -> 0.06264106
A29: טבלה 2: התפלגות גילאים של העולים, בשנת 1989 ובשנת 2005 (עד 31.10.2019)
B31: 1989 | D31: 2005
A32: טווח גילאים | B32: מס' עולים | C32: אחוז עולים בישוב | D32: מס' עולים | E32: אחוז עולים בישוב
A33: ילדים (0-12) | B33: =VLOOKUP($B$4,'גילאים משנת 1989'!$A$11:$G$1167,3,0) -> #N/A | C33: =+B33/$E$4 -> #N/A | D33: =VLOOKUP($B$4,'גילאים משנת 2005'!$A$11:$G$1020,3,0) -> 2004 | E33: =+D33/$E$4 -> 0.003627064
A34: נוער (13-17) | B34: =VLOOKUP($B$4,'גילאים משנת 1989'!$A$11:$G$1167,4,0) -> #N/A | C34: =+B34/$E$4 -> #N/A | D34: =VLOOKUP($B$4,'גילאים משנת 2005'!$A$11:$G$1020,4,0) -> 981 | E34: =+D34/$E$4 -> 0.0017755238
A35: צעירים (18-35) | B35: =VLOOKUP($B$4,'גילאים משנת 1989'!$A$11:$G$1167,5,0) -> #N/A | C35: =+B35/$E$4 -> #N/A | D35: =VLOOKUP($B$4,'גילאים משנת 2005'!$A$11:$G$1020,5,0) -> 14169 | E35: =+D35/$E$4 -> 0.025644645
A36: בוגרים (36-60) | B36: =VLOOKUP($B$4,'גילאים משנת 1989'!$A$11:$G$1167,6,0) -> #N/A | C36: =+B36/$E$4 -> #N/A | D36: =VLOOKUP($B$4,'גילאים משנת 2005'!$A$11:$G$1020,6,0) -> 10224 | E36: =+D36/$E$4 -> 0.018504542
A37: קשישים (61+) | B37: =VLOOKUP($B$4,'גילאים משנת 1989'!$A$11:$G$1167,7,0) -> #N/A | C37: =+B37/$E$4 -> #N/A | D37: =VLOOKUP($B$4,'גילאים משנת 2005'!$A$11:$G$1020,7,0) -> 7232 | E37: =+D37/$E$4 -> 0.013089285
A38: סהכ | B38: =SUM(B33:B37) -> #N/A | C38: =+B38/$E$4 -> #N/A | D38: =SUM(D33:D37) -> 34610 | E38: =+D38/$E$4 -> 0.06264106

Sheet מיפוי מועצה
B1: טופס מיפוי ישובי למועצה אזורית לשנת | E1: =+'קליטת נתונים'!H5 -> 2020
A4: שם המועצה | B4: =+'קליטת נתונים'!B8 -> תל אביב - יפו | D4: מספר התושבים | E4: =VLOOKUP(B4,'מועצות משנת 2014'!$A$4:$L$53,12,0) -> #N/A
A6: מספר העולים שעלו מ- 1.1.2013 | B6: =VLOOKUP(B4,'מועצות משנת 2014'!$A$4:$L$53,2,0) -> #N/A | D6: אחוז העולים בישוב | E6: =+B6/$E$4 -> #N/A
A8: מדד פריפריאלי | B8: =+'קליטת נתונים'!B11 -> 10 | D8: אשכול סוציו-אקונומי | E8: =+'קליטת נתונים'!B14 -> 8
A9: נגב / גליל | B9: =+'קליטת נתונים'!B17 -> 0 | D9: השתתפות משרדי ממשלה | E9: =+'קליטת נתונים'!H11 -> 0.8
A11: טבלה 1: עולים לפי מדינות מוצא ושיעורם במועצה, משנת 2014 (עד 31.10.2019)
B13: 2014
A14: מדינות מוצא | B14: מס' עולים | C14: אחוז עולים בישוב
A15: חמ"ע | B15: =VLOOKUP($B$4,'מועצות משנת 2014'!$A$4:$L$53,3,0) -> #N/A | C15: =+B15/$E$4 -> #N/A
A16: מתוכם עולי קווקז | B16: =VLOOKUP($B$4,'מועצות משנת 2014'!$A$4:$L$53,4,0) -> #N/A | C16: =+B16/$E$4 -> #N/A
A17: מתוכם עולי בוכרה | B17: =VLOOKUP($B$4,'מועצות משנת 2014'!$A$4:$L$53,5,0) -> #N/A | C17: =+B17/$E$4 -> #N/A
A18: אתיופיה | B18: =VLOOKUP($B$4,'מועצות משנת 2014'!$A$4:$L$53,6,0) -> #N/A | C18: =+B18/$E$4 -> #N/A
A19: צרפת | B19: =VLOOKUP($B$4,'מועצות משנת 2014'!$A$4:$L$53,7,0) -> #N/A | C19: =+B19/$E$4 -> #N/A
A20: ארה"ב | B20: =VLOOKUP($B$4,'מועצות משנת 2014'!$A$4:$L$53,8,0) -> #N/A | C20: =+B20/$E$4 -> #N/A
A21: ארגנטינה | B21: =VLOOKUP($B$4,'מועצות משנת 2014'!$A$4:$L$53,9,0) -> #N/A | C21: =+B21/$E$4 -> #N/A
A22: אנגליה | B22: =VLOOKUP($B$4,'מועצות משנת 2014'!$A$4:$L$53,10,0) -> #N/A | C22: =+B22/$E$4 -> #N/A
A23: אחרים | B23: =VLOOKUP($B$4,'מועצות משנת 2014'!$A$4:$L$53,11,0) -> #N/A | C23: =+B23/$E$4 -> #N/A
A24: סהכ | B24: =SUM(B15:B23)-B16-B17 -> #N/A | C24: =+B24/$E$4 -> #N/A
A28: טבלה 2: התפלגות גילאים של העולים, משנת 2014 (עד 31.10.2019)
B30: 2014
A31: טווח גילאים | B31: מס' עולים | C31: אחוז עולים בישוב
A32: ילדים (0-12) | B32: =VLOOKUP($B$4,'מועצות גילאים מ 2014'!$A$6:$G$55,3,0) -> #N/A | C32: =+B32/$E$4 -> #N/A
A33: נוער (13-17) | B33: =VLOOKUP($B$4,'מועצות גילאים מ 2014'!$A$6:$G$55,4,0) -> #N/A | C33: =+B33/$E$4 -> #N/A
A34: צעירים (18-35) | B34: =VLOOKUP($B$4,'מועצות גילאים מ 2014'!$A$6:$G$55,5,0) -> #N/A | C34: =+B34/$E$4 -> #N/A
A35: בוגרים (36-60) | B35: =VLOOKUP($B$4,'מועצות גילאים מ 2014'!$A$6:$G$55,6,0) -> #N/A | C35: =+B35/$E$4 -> #N/A
A36: קשישים (61+) | B36: =VLOOKUP($B$4,'מועצות גילאים מ 2014'!$A$6:$G$55,7,0) -> #N/A | C36: =+B36/$E$4 -> #N/A
A37: סהכ | B37: =SUM(B32:B36) -> #N/A | C37: =+B37/$E$4 -> #N/A

Sheet עולים משנת 1989
A1: התפלגות עולים שעלו ארצה
A2: בין התאריכים 1.9.1989 עד 31.10.2019
A3: לפי ישוב מגורים ביחס לסה"כ התושבים בישוב
A4: ממוין לפי שם הישוב
A5: הדוח אינו כולל נפטרים, נולדים בארץ ותושבים חוזרים
C7: מהם עולים מ 1.9.1989 עד 31.10.2019
C8: סה"כ | E8: מתוכם | F8: מתוכם | M8: סה"כ | N8: אחוז | O8: אחוז עולים | P8: מועצה
A9: ישוב | B9: קוד ישוב | C9: עולים | D9: בריה"מ | E9: קווקזים | F9: בוכרים | G9: אתיופים | H9: צרפת | I9: ארה"ב | J9: ארגנטינה | K9: אנגליה | L9: אחרים | M9: תושבים | N9: עולים | O9: בישוב | P9: אזורית | Q9: מרחב | R9: סניף
A10: סה"כ | C10: =SUM(C11:C1199) -> 1272496 | D10: =SUM(D11:D1199) -> 905307 | E10: =SUM(E11:E1199) -> 63064 | F10: =SUM(F11:F1199) -> 103773 | G10: =SUM(G11:G1199) -> 73395 | H10: =SUM(H11:H1199) -> 71820 | I10: =SUM(I11:I1199) -> 75366 | J10: =SUM(J11:J1199) -> 22470 | ... M10: =SUM(M11:M1199) -> 9617934 | N10: =+C10/M10 -> 0.13230451 | O10: =+C10/M10 -> 0.13230451
A11: אבו גוש | B11: 0472 | C11: 26 | D11: 14 | E11: 1 | F11: 0 | G11: 0 | H11: 0 | I11: 9 | J11: 1 | K11: 0 | L11: =+C11-D11-G11-H11-I11-J11-K11 -> 2 | M11: 8236 | N11: 0.00026399155 | O11: =+C11/M11 -> 0.0031568723 | Q11: ירושלים (מרחב)
A12: אבו סנאן | B12: 0473 | C12: 4 | D12: 4 | E12: 0 | F12: 0 | G12: 0 | H12: 0 | I12: 0 | J12: 0 | K12: 0 | L12: =+C12-D12-G12-H12-I12-J12-K12 -> 0 | M12: 13622 | N12: 0.0097323601 | O12: =+C12/M12 -> 0.00029364264 | Q12: גליל עליון (מרחב) | R12: עכו
A13: אבו רוקייק )שבט( | B13: 0961 | C13: 1 | D13: 1 | E13: 0 | F13: 0 | G13: 0 | H13: 0 | I13: 0 | J13: 0 | K13: 0 | L13: =+C13-D13-G13-H13-I13-J13-K13 -> 0 | M13: 10293 | N13: 0.034375 | O13: =+C13/M13 -> 9.7153405e-05 | Q13: באר שבע והנגב (מרחב)
A14: אבטין | B14: 0652 | C14: 1 | D14: 1 | E14: 0 | F14: 0 | G14: 0 | H14: 0 | I14: 0 | J14: 0 | K14: 0 | L14: =+C14-D14-G14-H14-I14-J14-K14 -> 0 | M14: 2858 | N14: 0.056962025 | O14: =+C14/M14 -> 0.00034989503 | P14: זבולון | Q14: חיפה (מרחב) | R14: הקריות
A15: אבטליון | B15: 1275 | C15: 14 | D15: 7 | E15: 0 | F15: 1 | G15: 1 | H15: 2 | I15: 2 | J15: 0 | K15: 0 | L15: =+C15-D15-G15-H15-I15-J15-K15 -> 2 | M15: 499 | N15: 0.14005806 | O15: =+C15/M15 -> 0.028056112 | P15: משגב | Q15: גליל עליון (מרחב)
A16: אביאל | B16: 0679 | C16: 25 | D16: 5 | E16: 0 | F16: 1 | G16: 0 | H16: 0 | I16: 7 | J16: 3 | K16: 2 | L16: =+C16-D16-G16-H16-I16-J16-K16 -> 8 | M16: 834 | N16: 0.0401452 | O16: =+C16/M16 -> 0.029976019 | P16: אלונה | Q16: חדרה (מרחב)
A17: אביבים | B17: 1115 | C17: 2 | D17: 2 | E17: 0 | F17: 0 | G17: 0 | H17: 0 | I17: 0 | J17: 0 | K17: 0 | L17: =+C17-D17-G17-H17-I17-J17-K17 -> 0 | M17: 493 | N17: 0.018691589 | O17: =+C17/M17 -> 0.0040567951 | P17: מרום הגליל | Q17: גליל עליון (מרחב) | R17: קרית שמונה
A18: אביגדור | B18: 0819 | C18: 16 | D18: 11 | E18: 0 | F18: 0 | G18: 0 | H18: 0 | I18: 2 | J18: 0 | K18: 0 | L18: =+C18-D18-G18-H18-I18-J18-K18 -> 3 | M18: 909 | N18: 0.023572076 | O18: =+C18/M18 -> 0.01760176 | P18: באר טוביה | Q18: אשדוד (מרחב) | R18: אשקלון
A19: אביחיל | B19: 0175 | C19: 60 | D19: 31 | E19: 1 | F19: 1 | G19: 0 | H19: 6 | I19: 9 | J19: 0 | K19: 4 | L19: =+C19-D19-G19-H19-I19-J19-K19 -> 10 | M19: 1411 | N19: 0.047516199 | O19: =+C19/M19 -> 0.042523033 | P19: עמק חפר | Q19: נתניה והשרון (מרחב)
A20: אביטל | B20: 2052 | C20: 9 | D20: 4 | E20: 0 | F20: 0 | G20: 0 | H20: 0 | I20: 0 | J20: 0 | K20: 0 | L20: =+C20-D20-G20-H20-I20-J20-K20 -> 5 | M20: 571 | N20: 0.11864407 | O20: =+C20/M20 -> 0.015761821 | P20: הגלבוע | Q20: נוף הגליל והעמקים (מרחב) | R20: עפולה
A21: אביעזר | B21: 1070 | C21: 74 | D21: 53 | E21: 0 | F21: 3 | G21: 0 | H21: 0 | I21: 11 | J21: 0 | K21: 2 | L21: =+C21-D21-G21-H21-I21-J21-K21 -> 8 | M21: 905 | N21: 0.00014719953 | O21: =+C21/M21 -> 0.081767956 | P21: מטה יהודה | Q21: ירושלים (מרחב)
A22: אבירים | B22: 1220 | C22: 8 | D22: 7 | E22: 0 | F22: 1 | G22: 0 | H22: 0 | I22: 1 | J22: 0 | K22: 0 | L22: =+C22-D22-G22-H22-I22-J22-K22 -> 0 | M22: 298 | N22: 0.031094527 | O22: =+C22/M22 -> 0.026845638 | P22: מעלה יוסף | Q22: גליל עליון (מרחב) | R22: מעלות
A23: אבן יהודה | B23: 0182 | C23: 494 | D23: 215 | E23: 12 | F23: 12 | G23: 15 | H23: 42 | I23: 71 | J23: 9 | K23: 32 | L23: =+C23-D23-G23-H23-I23-J23-K23 -> 110 | M23: 14631 | N23: 0.015756303 | O23: =+C23/M23 -> 0.033763926 | Q23: נתניה והשרון (מרחב)
A24: אבן מנחם | B24: 1081 | C24: 5 | D24: 4 | E24: 0 | F24: 0 | G24: 0 | H24: 1 | I24: 0 | J24: 0 | K24: 0 | L24: =+C24-D24-G24-H24-I24-J24-K24 -> 0 | M24: 380 | N24: 0.00020523345 | O24: =+C24/M24 -> 0.013157895 | P24: מעלה יוסף | Q24: גליל עליון (מרחב) | R24: מעלות
A25: אבן ספיר | B25: 0783 | C25: 30 | D25: 17 | E25: 0 | F25: 3 | G25: 0 | H25: 3 | I25: 6 | J25: 0 | K25: 0 | L25: =+C25-D25-G25-H25-I25-J25-K25 -> 4 | M25: 701 | N25: 0.053097345 | O25: =+C25/M25 -> 0.042796006 | P25: מטה יהודה | Q25: ירושלים (מרחב)
A26: אבן שמואל | B26: 0400 | C26: 98 | D26: 5 | E26: 0 | F26: 2 | G26: 2 | H26: 4 | I26: 48 | J26: 1 | K26: 16 | L26: =+C26-D26-G26-H26-I26-J26-K26 -> 22 | M26: 1785 | N26: 0.0099009901 | O26: =+C26/M26 -> 0.054901961 | P26: שפיר | Q26: אשדוד (מרחב) | R26: קרית גת
A27: אבני איתן | B27: 4011 | C27: 22 | D27: 2 | E27: 0 | F27: 0 | G27: 0 | H27: 3 | I27: 10 | J27: 0 | K27: 0 | L27: =+C27-D27-G27-H27-I27-J27-K27 -> 7 | M27: 788 | N27: 0.017077799 | O27: =+C27/M27 -> 0.027918782 | P27: גולן | Q27: גליל עליון (מרחב)
A28: אבני חפץ | B28: 3793 | C28: 96 | D28: 17 | E28: 0 | F28: 4 | G28: 4 | H28: 21 | I28: 4 | J28: 1 | K28: 1 | L28: =+C28-D28-G28-H28-I28-J28-K28 -> 48 | M28: 2014 | N28: 0.019035533 | O28: =+C28/M28 -> 0.047666336 | P28: שומרון | Q28: נתניה והשרון (מרחב)
A29: אבנת | B29: 3786 | C29: 4 | D29: 0 | E29: 0 | F29: 0 | G29: 0 | H29: 0 | I29: 2 | J29: 0 | K29: 0 | L29: =+C29-D29-G29-H29-I29-J29-K29 -> 2 | M29: 206 | N29: 0.023854962 | O29: =+C29/M29 -> 0.019417476 | P29: מגילות ים המלח | Q29: ירושלים (מרחב)
A30: אבשלום | B30: 1311 | C30: 159 | D30: 152 | E30: 2 | F30: 23 | G30: 0 | H30: 0 | I30: 0 | J30: 1 | K30: 0 | L30: =+C30-D30-G30-H30-I30-J30-K30 -> 6 | M30: 328 | N30: 0.069464544 | O30: =+C30/M30 -> 0.4847561 | P30: אשכול | Q30: באר שבע והנגב (מרחב) | R30: אופקים
A31: אדורה | B31: 3759 | C31: 19 | D31: 7 | E31: 0 | F31: 2 | G31: 1 | H31: 2 | I31: 2 | J31: 1 | K31: 0 | L31: =+C31-D31-G31-H31-I31-J31-K31 -> 6 | M31: 491 | N31: 0.036329201 | O31: =+C31/M31 -> 0.038696538 | P31: הר חברון | Q31: ירושלים (מרחב) | R31: קרית ארבע
A32: אדירים | B32: 0113 | C32: 7 | D32: 1 | E32: 0 | F32: 0 | G32: 0 | H32: 2 | I32: 3 | J32: 0 | K32: 0 | L32: =+C32-D32-G32-H32-I32-J32-K32 -> 1 | M32: 332 | N32: 0.017699115 | O32: =+C32/M32 -> 0.021084337 | P32: הגלבוע | Q32: נוף הגליל והעמקים (מרחב) | R32: עפולה
A33: אדמית | B33: 1068 | C33: 62 | D33: 45 | E33: 0 | F33: 2 | G33: 0 | H33: 0 | I33: 3 | J33: 4 | K33: 2 | L33: =+C33-D33-G33-H33-I33-J33-K33 -> 8 | M33: 474 | N33: 0.22427441 | O33: =+C33/M33 -> 0.13080169 | P33: מטה אשר | Q33: גליל עליון (מרחב) | R33: נהריה
A34: אדרת | B34: 1123 | C34: 53 | D34: 3 | E34: 1 | F34: 0 | G34: 0 | H34: 5 | I34: 19 | J34: 5 | K34: 9 | L34: =+C34-D34-G34-H34-I34-J34-K34 -> 12 | M34: 907 | N34: 0.022256863 | O34: =+C34/M34 -> 0.058434399 | P34: מטה יהודה | Q34: ירושלים (מרחב) | R34: בית שמש
A35: אודים | B35: 0446 | C35: 47 | D35: 20 | E35: 0 | F35: 1 | G35: 0 | H35: 8 | I35: 4 | J35: 3 | K35: 5 | L35: =+C35-D35-G35-H35-I35-J35-K35 -> 7 | M35: 1138 | N35: 0.31589764 | O35: =+C35/M35 -> 0.041300527 | P35: חוף השרון | Q35: נתניה והשרון (מרחב)
A36: אודם | B36: 4010 | C36: 9 | D36: 5 | E36: 0 | F36: 1 | G36: 1 | H36: 1 | I36: 2 | J36: 0 | K36: 0 | L36: =+C36-D36-G36-H36-I36-J36-K36 -> 0 | M36: 183 | N36: 0.047146402 | O36: =+C36/M36 -> 0.049180328 | P36: גולן | Q36: גליל עליון (מרחב) | R36: קצרין (מוקד)
A37: אוהד | B37: 1046 | C37: 12 | D37: 10 | E37: 0 | F37: 2 | G37: 0 | H37: 1 | I37: 0 | J37: 0 | K37: 0 | L37: =+C37-D37-G37-H37-I37-J37-K37 -> 1 | M37: 412 | N37: 0.033149171 | O37: =+C37/M37 -> 0.029126214 | P37: אשכול | Q37: באר שבע והנגב (מרחב)
A38: אום אל-פחם | B38: 2710 | C38: 10 | D38: 7 | E38: 1 | F38: 0 | G38: 1 | H38: 0 | I38: 0 | J38: 0 | K38: 0 | L38: =+C38-D38-G38-H38-I38-J38-K38 -> 2 | M38: 56720 | N38: 0.028972783 | O38: =+C38/M38 -> 0.00017630465 | Q38: חדרה (מרחב)
A39: אום בטין | B39: 1358 | C39: 3 | D39: 3 | E39: 1 | F39: 1 | G39: 0 | H39: 0 | I39: 0 | J39: 0 | K39: 0 | L39: =+C39-D39-G39-H39-I39-J39-K39 -> 0 | M39: 4010 | N39: 0.15695326 | O39: =+C39/M39 -> 0.00074812968 | P39: אל קסום | Q39: באר שבע והנגב (מרחב)
A40: אומן | B40: 1108 | C40: 141 | D40: 128 | E40: 0 | F40: 15 | G40: 0 | H40: 0 | I40: 5 | J40: 3 | K40: 0 | L40: =+C40-D40-G40-H40-I40-J40-K40 -> 5 | M40: 496 | N40: 0.092436975 | O40: =+C40/M40 -> 0.28427419 | P40: הגלבוע | Q40: נוף הגליל והעמקים (מרחב) | R40: עפולה
A41: אומץ | B41: 0680 | C41: 22 | D41: 15 | E41: 0 | F41: 0 | G41: 0 | H41: 1 | I41: 2 | J41: 1 | K41: 0 | L41: =+C41-D41-G41-H41-I41-J41-K41 -> 3 | M41: 787 | N41: 0.0051546392 | O41: =+C41/M41 -> 0.027954257 | P41: עמק חפר | Q41: נתניה והשרון (מרחב)
A42: אופקים | B42: 0031 | C42: 6151 | D42: 5465 | E42: 802 | F42: 778 | G42: 299 | H42: 92 | I42: 52 | J42: 34 | K42: 3 | L42: =+C42-D42-G42-H42-I42-J42-K42 -> 206 | M42: 33623 | N42: 0.020531401 | O42: =+C42/M42 -> 0.18294025 | Q42: באר שבע והנגב (מרחב) | R42: אופקים
A43: אור הגנוז | B43: 1294 | C43: 9 | D43: 1 | E43: 0 | F43: 0 | G43: 0 | H43: 4 | I43: 2 | J43: 0 | K43: 0 | L43: =+C43-D43-G43-H43-I43-J43-K43 -> 2 | M43: 621 | N43: 0.037313433 | O43: =+C43/M43 -> 0.014492754 | P43: מרום הגליל | Q43: גליל עליון (מרחב) | R43: צפת
A44: אור הנר | B44: 0067 | C44: 87 | D44: 30 | E44: 1 | F44: 2 | G44: 0 | H44: 0 | I44: 2 | J44: 38 | K44: 1 | L44: =+C44-D44-G44-H44-I44-J44-K44 -> 16 | M44: 934 | N44: 0.00052151239 | O44: =+C44/M44 -> 0.093147752 | P44: שער הנגב | Q44: באר שבע והנגב (מרחב) | R44: שדרות
A45: אור יהודה | B45: 2400 | C45: 5335 | D45: 4082 | E45: 251 | F45: 2873 | G45: 1021 | H45: 17 | I45: 80 | J45: 13 | K45: 3 | L45: =+C45-D45-G45-H45-I45-J45-K45 -> 119 | M45: 37460 | N45: 0.069908815 | O45: =+C45/M45 -> 0.14241858 | Q45: פתח תקוה (מרחב)
A46: אור עקיבא | B46: 1020 | C46: 6645 | D46: 6370 | E46: 1906 | F46: 378 | G46: 8 | H46: 85 | I46: 57 | J46: 23 | K46: 3 | L46: =+C46-D46-G46-H46-I46-J46-K46 -> 99 | M46: 21662 | N46: 0.028827038 | O46: =+C46/M46 -> 0.30675838 | Q46: חדרה (מרחב)
A47: אורה | B47: 0780 | C47: 62 | D47: 24 | E47: 2 | F47: 1 | G47: 0 | H47: 3 | I47: 19 | J47: 1 | K47: 1 | L47: =+C47-D47-G47-H47-I47-J47-K47 -> 14 | M47: 1227 | N47: 0.21022727 | O47: =+C47/M47 -> 0.050529747 | P47: מטה יהודה | Q47: ירושלים (מרחב)
A48: אורות | B48: 2012 | C48: 14 | D48: 3 | E48: 0 | F48: 0 | G48: 0 | H48: 1 | I48: 0 | J48: 3 | K48: 0 | L48: =+C48-D48-G48-H48-I48-J48-K48 -> 7 | M48: 611 | N48: 0.054199219 | O48: =+C48/M48 -> 0.022913257 | P48: באר טוביה | Q48: אשדוד (מרחב) | R48: קרית מלאכי
A49: אורטל | B49: 4013 | C49: 14 | D49: 6 | E49: 0 | F49: 0 | G49: 0 | H49: 0 | I49: 1 | J49: 3 | K49: 1 | L49: =+C49-D49-G49-H49-I49-J49-K49 -> 3 | M49: 365 | N49: 0.035483871 | O49: =+C49/M49 -> 0.038356164 | P49: גולן | Q49: גליל עליון (מרחב) | R49: קצרין (מוקד)
A50: אורים | B50: 0403 | C50: 80 | D50: 11 | E50: 0 | F50: 0 | G50: 0 | H50: 2 | I50: 39 | J50: 11 | K50: 3 | L50: =+C50-D50-G50-H50-I50-J50-K50 -> 14 | M50: 586 | N50: 0.000292241 | O50: =+C50/M50 -> 0.13651877 | P50: אשכול | Q50: באר שבע והנגב (מרחב) | R50: אופקים
A51: אורנים | B51: 0882 | C51: 2 | D51: 1 | E51: 0 | F51: 0 | G51: 0 | H51: 0 | I51: 1 | J51: 0 | K51: 0 | L51: =+C51-D51-G51-H51-I51-J51-K51 -> 0 | M51: 4 | N51: 0.013888889 | O51: =+C51/M51 -> 0.5 | P51: זבולון | Q51: חיפה (מרחב)
A52: אורנית | B52: 3760 | C52: 350 | D52: 247 | E52: 8 | F52: 25 | G52: 2 | H52: 9 | I52: 33 | J52: 6 | K52: 14 | L52: =+C52-D52-G52-H52-I52-J52-K52 -> 39 | M52: 9608 | N52: 0.069167644 | O52: =+C52/M52 -> 0.036427977 | Q52: פתח תקוה (מרחב)
A53: אושה | B53: 0278 | C53: 23 | D53: 4 | E53: 0 | F53: 0 | G53: 0 | H53: 0 | I53: 6 | J53: 1 | K53: 2 | L53: =+C53-D53-G53-H53-I53-J53-K53 -> 10 | M53: 512 | O53: =+C53/M53 -> 0.044921875 | P53: זבולון | Q53: חיפה (מרחב) | R53: הקריות
A54: אזור | B54: 0565 | C54: 1311 | D54: 1118 | E54: 91 | F54: 284 | G54: 14 | H54: 18 | I54: 26 | J54: 10 | K54: 8 | L54: =+C54-D54-G54-H54-I54-J54-K54 -> 117 | M54: 13434 | N54: 0.018610422 | O54: =+C54/M54 -> 0.097588209 | Q54: ראשון לציון (מרחב) | R54: חולון (סניף)
A55: אחווה | B55: 1157 | C55: 17 | D55: 15 | E55: 0 | F55: 0 | G55: 0 | H55: 0 | I55: 0 | J55: 1 | K55: 1 | L55: =+C55-D55-G55-H55-I55-J55-K55 -> 0 | M55: 202 | N55: 0.10460993 | O55: =+C55/M55 -> 0.084158416 | P55: באר טוביה | Q55: אשדוד (מרחב) | R55: קרית מלאכי
A56: אחוזם | B56: 0821 | C56: 16 | D56: 8 | E56: 0 | F56: 5 | G56: 0 | H56: 3 | I56: 4 | J56: 0 | K56: 0 | L56: =+C56-D56-G56-H56-I56-J56-K56 -> 1 | M56: 521 | N56: 0.15874308 | O56: =+C56/M56 -> 0.030710173 | P56: לכיש | Q56: אשדוד (מרחב)
A57: אחוזת ברק | B57: 1330 | C57: 219 | D57: 163 | E57: 9 | F57: 21 | G57: 4 | H57: 2 | I57: 3 | J57: 32 | K57: 0 | L57: =+C57-D57-G57-H57-I57-J57-K57 -> 15 | M57: 2550 | N57: 0.037493305 | O57: =+C57/M57 -> 0.085882353 | P57: עמק יזרעאל | Q57: נוף הגליל והעמקים (מרחב) | R57: מגדל העמק
A58: אחיהוד | B58: 0785 | C58: 19 | D58: 15 | E58: 0 | F58: 1 | G58: 0 | H58: 0 | I58: 3 | J58: 0 | K58: 0 | L58: =+C58-D58-G58-H58-I58-J58-K58 -> 1 | M58: 977 | N58: 0.028673835 | O58: =+C58/M58 -> 0.019447288 | P58: מטה אשר | Q58: גליל עליון (מרחב) | R58: עכו
A59: אחיטוב | B59: 0850 | C59: 11 | D59: 11 | E59: 3 | F59: 1 | G59: 0 | H59: 0 | I59: 0 | J59: 0 | K59: 0 | L59: =+C59-D59-G59-H59-I59-J59-K59 -> 0 | M59: 1018 | N59: 0.053140097 | O59: =+C59/M59 -> 0.010805501 | P59: עמק חפר | Q59: נתניה והשרון (מרחב)
A60: אחיסמך | B60: 0804 | C60: 6 | D60: 2 | E60: 0 | F60: 0 | G60: 0 | H60: 2 | I60: 1 | J60: 0 | K60: 0 | L60: =+C60-D60-G60-H60-I60-J60-K60 -> 1 | M60: 1336 | O60: =+C60/M60 -> 0.004491018 | P60: חבל מודיעין | Q60: פתח תקוה (מרחב) | R60: רמלה - לוד
A61: אחיעזר | B61: 0797 | C61: 25 | D61: 8 | E61: 1 | F61: 4 | G61: 0 | H61: 2 | I61: 2 | J61: 6 | K61: 1 | L61: =+C61-D61-G61-H61-I61-J61-K61 -> 6 | M61: 1878 | N61: 0.0099009901 | O61: =+C61/M61 -> 0.013312034 | P61: שדות דן | Q61: פתח תקוה (מרחב) | R61: רמלה - לוד
A62: איבים | B62: 0338 | C62: 449 | D62: 62 | E62: 1 | F62: 4 | G62: 368 | H62: 1 | I62: 1 | J62: 3 | K62: 1 | L62: =+C62-D62-G62-H62-I62-J62-K62 -> 13 | M62: 490 | N62: 0.042696629 | O62: =+C62/M62 -> 0.91632653 | P62: שער הנגב | Q62: באר שבע והנגב (מרחב) | R62: שדרות
A63: אייל | B63: 0716 | C63: 9 | D63: 5 | E63: 0 | F63: 0 | G63: 0 | H63: 0 | I63: 0 | J63: 0 | K63: 0 | L63: =+C63-D63-G63-H63-I63-J63-K63 -> 4 | M63: 572 | N63: 0.078296703 | O63: =+C63/M63 -> 0.015734266 | P63: דרום השרון | Q63: נתניה והשרון (מרחב) | R63: השרון
A64: איילת השחר | B64: 0077 | C64: 80 | D64: 39 | E64: 0 | F64: 5 | G64: 24 | H64: 3 | I64: 1 | J64: 0 | K64: 1 | L64: =+C64-D64-G64-H64-I64-J64-K64 -> 12 | M64: 1144 | N64: 0.11894653 | O64: =+C64/M64 -> 0.06993007 | P64: הגליל העליון | Q64: גליל עליון (מרחב) | R64: קרית שמונה
A65: אילון | B65: 0294 | C65: 40 | D65: 23 | E65: 0 | F65: 2 | G65: 0 | H65: 1 | I65: 0 | J65: 4 | K65: 5 | L65: =+C65-D65-G65-H65-I65-J65-K65 -> 7 | M65: 1184 | N65: 0.22419929 | O65: =+C65/M65 -> 0.033783784 | P65: מטה אשר | Q65: גליל עליון (מרחב) | R65: נהריה
A66: אילות | B66: 1126 | C66: 25 | D66: 19 | E66: 0 | F66: 2 | G66: 1 | H66: 0 | I66: 3 | J66: 0 | K66: 1 | L66: =+C66-D66-G66-H66-I66-J66-K66 -> 1 | M66: 350 | N66: 0.11844078 | O66: =+C66/M66 -> 0.071428571 | P66: חבל אילות | Q66: באר שבע והנגב (מרחב) | R66: אילת
A67: אילניה | B67: 0049 | C67: 22 | D67: 17 | E67: 0 | F67: 0 | G67: 0 | H67: 0 | I67: 3 | J67: 0 | K67: 0 | L67: =+C67-D67-G67-H67-I67-J67-K67 -> 2 | M67: 607 | N67: 0.015954052 | O67: =+C67/M67 -> 0.036243822 | P67: הגליל התחתון | Q67: נוף הגליל והעמקים (מרחב) | R67: טבריה
A68: אילת | B68: 2600 | C68: 15789 | D68: 10438 | E68: 315 | F68: 917 | G68: 189 | H68: 1318 | I68: 323 | J68: 832 | K68: 223 | L68: =+C68-D68-G68-H68-I68-J68-K68 -> 2466 | M68: 67603 | N68: 0.049356223 | O68: =+C68/M68 -> 0.23355472 | Q68: באר שבע והנגב (מרחב) | R68: אילת
A69: אירוס | B69: 1336 | C69: 32 | D69: 30 | E69: 0 | F69: 6 | G69: 0 | H69: 0 | I69: 1 | J69: 0 | K69: 0 | L69: =+C69-D69-G69-H69-I69-J69-K69 -> 1 | M69: 708 | N69: 0.027480916 | O69: =+C69/M69 -> 0.04519774 | P69: גן רווה | Q69: ראשון לציון (מרחב)
A70: איתמר | B70: 3762 | C70: 56 | D70: 23 | E70: 0 | F70: 1 | G70: 1 | H70: 1 | I70: 24 | J70: 3 | K70: 0 | L70: =+C70-D70-G70-H70-I70-J70-K70 -> 4 | M70: 1254 | N70: 0.011441648 | O70: =+C70/M70 -> 0.044657097 | P70: שומרון | Q70: פתח תקוה (מרחב) | R70: אריאל (מוקד)
A71: איתן | B71: 0037 | C71: 3 | D71: 3 | E71: 0 | F71: 1 | G71: 0 | H71: 0 | I71: 0 | J71: 0 | K71: 0 | L71: =+C71-D71-G71-H71-I71-J71-K71 -> 0 | M71: 517 | N71: 0.26298068 | O71: =+C71/M71 -> 0.0058027079 | P71: שפיר | Q71: אשדוד (מרחב) | R71: קרית גת
A72: אכסאל | B72: 0478 | C72: 3 | D72: 3 | E72: 0 | F72: 0 | G72: 0 | H72: 0 | I72: 0 | J72: 0 | K72: 0 | L72: =+C72-D72-G72-H72-I72-J72-K72 -> 0 | M72: 15034 | N72: 0.012269939 | O72: =+C72/M72 -> 0.00019954769 | Q72: נוף הגליל והעמקים (מרחב)
A73: אל-עזי | B73: 1339 | C73: 1 | D73: 1 | E73: 0 | F73: 0 | G73: 0 | H73: 0 | I73: 0 | J73: 0 | K73: 0 | L73: =+C73-D73-G73-H73-I73-J73-K73 -> 0 | M73: 155 | N73: 0.0056818182 | O73: =+C73/M73 -> 0.0064516129 | P73: יואב
A74: אל-רום | B74: 4003 | C74: 45 | D74: 20 | E74: 0 | F74: 6 | G74: 0 | H74: 1 | I74: 6 | J74: 4 | K74: 6 | L74: =+C74-D74-G74-H74-I74-J74-K74 -> 8 | M74: 483 | N74: 0.037234043 | O74: =+C74/M74 -> 0.093167702 | P74: גולן | Q74: גליל עליון (מרחב) | R74: קצרין (מוקד)
A75: אל סייד | B75: 1359 | C75: 1 | D75: 1 | E75: 0 | F75: 0 | G75: 0 | H75: 0 | I75: 0 | J75: 0 | K75: 0 | L75: =+C75-D75-G75-H75-I75-J75-K75 -> 0 | M75: 3312 | N75: 0.16685485 | O75: =+C75/M75 -> 0.00030193237 | P75: אל קסום | Q75: באר שבע והנגב (מרחב)
A76: אלומה | B76: 1145 | C76: 5 | D76: 0 | E76: 0 | F76: 0 | G76: 0 | H76: 2 | I76: 0 | J76: 0 | K76: 0 | L76: =+C76-D76-G76-H76-I76-J76-K76 -> 3 | M76: 553 | N76: 0.0089020772 | O76: =+C76/M76 -> 0.0090415913 | P76: שפיר | Q76: אשדוד (מרחב) | R76: קרית גת
A77: אלומות | B77: 0330 | C77: 42 | D77: 9 | E77: 0 | F77: 0 | G77: 0 | H77: 0 | I77: 3 | J77: 21 | K77: 2 | L77: =+C77-D77-G77-H77-I77-J77-K77 -> 7 | M77: 492 | N77: 0.0066219751 | O77: =+C77/M77 -> 0.085365854 | P77: עמק הירדן | Q77: נוף הגליל והעמקים (מרחב) | R77: טבריה
A78: אלון הגליל | B78: 1182 | C78: 23 | D78: 11 | E78: 0 | F78: 0 | G78: 0 | H78: 0 | I78: 5 | J78: 1 | K78: 1 | L78: =+C78-D78-G78-H78-I78-J78-K78 -> 5 | M78: 1178 | N78: 0.060227273 | O78: =+C78/M78 -> 0.019524618 | P78: עמק יזרעאל | Q78: נוף הגליל והעמקים (מרחב)
A79: אלון מורה | B79: 3579 | C79: 77 | D79: 23 | E79: 0 | F79: 3 | G79: 0 | H79: 1 | I79: 15 | J79: 1 | K79: 0 | L79: =+C79-D79-G79-H79-I79-J79-K79 -> 37 | M79: 1864 | N79: 0.087719298 | O79: =+C79/M79 -> 0.041309013 | P79: שומרון | Q79: נתניה והשרון (מרחב)
A80: אלון שבות | B80: 3604 | C80: 517 | D80: 39 | E80: 1 | F80: 0 | G80: 6 | H80: 10 | I80: 286 | J80: 6 | K80: 32 | L80: =+C80-D80-G80-H80-I80-J80-K80 -> 138 | M80: 3481 | N80: 0.093198992 | O80: =+C80/M80 -> 0.14852054 | P80: גוש עציון | Q80: ירושלים (מרחב) | R80: קרית ארבע
A81: אלוני אבא | B81: 0429 | C81: 19 | D81: 7 | E81: 1 | F81: 0 | G81: 0 | H81: 0 | I81: 4 | J81: 0 | K81: 4 | L81: =+C81-D81-G81-H81-I81-J81-K81 -> 4 | M81: 1046 | N81: 0.02354399 | O81: =+C81/M81 -> 0.018164436 | P81: עמק יזרעאל | Q81: נוף הגליל והעמקים (מרחב)
A82: אלוני הבשן | B82: 4017 | C82: 16 | D82: 5 | E82: 0 | F82: 0 | G82: 0 | H82: 0 | I82: 5 | J82: 4 | K82: 0 | L82: =+C82-D82-G82-H82-I82-J82-K82 -> 2 | M82: 439 | N82: 0.099121706 | O82: =+C82/M82 -> 0.036446469 | P82: גולן | Q82: גליל עליון (מרחב) | R82: קצרין (מוקד)
A83: אלוני יצחק | B83: 0868 | C83: 36 | D83: 24 | E83: 1 | F83: 1 | G83: 0 | H83: 0 | I83: 0 | J83: 1 | K83: 0 | L83: =+C83-D83-G83-H83-I83-J83-K83 -> 11 | M83: 169 | N83: 0.015151515 | O83: =+C83/M83 -> 0.21301775 | P83: מנשה | Q83: חדרה (מרחב)
A84: אלונים | B84: 0285 | C84: 35 | D84: 13 | E84: 0 | F84: 0 | G84: 0 | H84: 0 | I84: 8 | J84: 2 | K84: 0 | L84: =+C84-D84-G84-H84-I84-J84-K84 -> 12 | M84: 732 | N84: 0.012195122 | O84: =+C84/M84 -> 0.047814208 | P84: עמק יזרעאל | Q84: חיפה (מרחב)
A85: אלי-עד | B85: 4002 | C85: 17 | D85: 7 | E85: 1 | F85: 1 | G85: 0 | H85: 1 | I85: 3 | J85: 1 | K85: 2 | L85: =+C85-D85-G85-H85-I85-J85-K85 -> 3 | M85: 486 | N85: 0.027883397 | O85: =+C85/M85 -> 0.034979424 | P85: גולן | Q85: גליל עליון (מרחב) | R85: קצרין (מוקד)
A86: אליאב | B86: 1365 | C86: 11 | D86: 2 | E86: 0 | F86: 0 | G86: 0 | H86: 2 | I86: 3 | J86: 0 | K86: 0 | L86: =+C86-D86-G86-H86-I86-J86-K86 -> 4 | M86: 548 | N86: 0.029585799 | O86: =+C86/M86 -> 0.020072993 | P86: לכיש | Q86: אשדוד (מרחב)
A87: אליכין | B87: 0041 | C87: 92 | D87: 61 | E87: 3 | F87: 2 | G87: 3 | H87: 7 | I87: 10 | J87: 0 | K87: 2 | L87: =+C87-D87-G87-H87-I87-J87-K87 -> 9 | M87: 3690 | N87: 0.15473751 | O87: =+C87/M87 -> 0.024932249 | Q87: חדרה (מרחב)
A88: אליפז | B88: 1248 | C88: 13 | D88: 0 | E88: 0 | F88: 0 | G88: 0 | H88: 1 | I88: 0 | J88: 1 | K88: 2 | L88: =+C88-D88-G88-H88-I88-J88-K88 -> 9 | M88: 177 | N88: 0.044510386 | O88: =+C88/M88 -> 0.073446328 | P88: חבל אילות | Q88: באר שבע והנגב (מרחב) | R88: אילת
A89: אליפלט | B89: 0730 | C89: 6 | D89: 5 | E89: 0 | F89: 0 | G89: 0 | H89: 1 | I89: 0 | J89: 0 | K89: 0 | L89: =+C89-D89-G89-H89-I89-J89-K89 -> 0 | M89: 656 | N89: 0.035444046 | O89: =+C89/M89 -> 0.0091463415 | P89: מבואות החרמון | Q89: גליל עליון (מרחב) | R89: קרית שמונה
A90: אליקים | B90: 0682 | C90: 25 | D90: 11 | E90: 0 | F90: 0 | G90: 0 | H90: 2 | I90: 4 | J90: 0 | K90: 0 | L90: =+C90-D90-G90-H90-I90-J90-K90 -> 8 | M90: 863 | N90: 0.027027027 | O90: =+C90/M90 -> 0.028968714 | P90: מגידו | Q90: חדרה (מרחב)
A91: אלישיב | B91: 0204 | C91: 11 | D91: 4 | E91: 1 | F91: 1 | G91: 0 | H91: 0 | I91: 0 | J91: 0 | K91: 0 | L91: =+C91-D91-G91-H91-I91-J91-K91 -> 7 | M91: 706 | N91: 0.088235294 | O91: =+C91/M91 -> 0.015580737 | P91: עמק חפר | Q91: נתניה והשרון (מרחב)
A92: אלישמע | B92: 0841 | C92: 16 | D92: 7 | E92: 1 | F92: 0 | G92: 0 | H92: 0 | I92: 1 | J92: 0 | K92: 0 | L92: =+C92-D92-G92-H92-I92-J92-K92 -> 8 | M92: 1166 | N92: 0.11764706 | O92: =+C92/M92 -> 0.013722127 | P92: דרום השרון | Q92: נתניה והשרון (מרחב) | R92: השרון
A93: אלמגור | B93: 1125 | C93: 9 | D93: 3 | E93: 0 | F93: 0 | G93: 0 | H93: 0 | I93: 2 | J93: 0 | K93: 3 | L93: =+C93-D93-G93-H93-I93-J93-K93 -> 1 | M93: 438 | N93: 0.091315691 | O93: =+C93/M93 -> 0.020547945 | P93: עמק הירדן | Q93: גליל עליון (מרחב) | R93: קרית שמונה
A94: אלמוג | B94: 3556 | C94: 24 | D94: 6 | E94: 0 | F94: 0 | G94: 1 | H94: 6 | I94: 2 | J94: 0 | K94: 3 | L94: =+C94-D94-G94-H94-I94-J94-K94 -> 6 | M94: 313 | N94: 0.021691974 | O94: =+C94/M94 -> 0.076677316 | P94: מגילות ים המלח | Q94: ירושלים (מרחב)
A95: אלעד | B95: 1309 | C95: 1096 | D95: 242 | E95: 11 | F95: 121 | G95: 6 | H95: 285 | I95: 185 | J95: 134 | K95: 35 | L95: =+C95-D95-G95-H95-I95-J95-K95 -> 209 | M95: 48262 | N95: 0.058027079 | O95: =+C95/M95 -> 0.022709378 | Q95: פתח תקוה (מרחב)
A96: אלעזר | B96: 3618 | C96: 226 | D96: 27 | E96: 0 | F96: 3 | G96: 1 | H96: 8 | I96: 98 | J96: 0 | K96: 25 | L96: =+C96-D96-G96-H96-I96-J96-K96 -> 67 | M96: 2610 | N96: 0.029572837 | O96: =+C96/M96 -> 0.086590038 | P96: גוש עציון | Q96: ירושלים (מרחב) | R96: קרית ארבע
A97: אלפי מנשה | B97: 3750 | C97: 582 | D97: 429 | E97: 17 | F97: 48 | G97: 2 | H97: 9 | I97: 22 | J97: 45 | K97: 15 | L97: =+C97-D97-G97-H97-I97-J97-K97 -> 60 | M97: 8540 | N97: 0.023516237 | O97: =+C97/M97 -> 0.068149883 | Q97: נתניה והשרון (מרחב) | R97: השרון
A98: אלקוש | B98: 0603 | C98: 6 | D98: 5 | E98: 0 | F98: 1 | G98: 0 | H98: 0 | I98: 0 | J98: 0 | K98: 0 | L98: =+C98-D98-G98-H98-I98-J98-K98 -> 1 | M98: 301 | O98: =+C98/M98 -> 0.019933555 | P98: מעלה יוסף | Q98: גליל עליון (מרחב) | R98: מעלות
A99: אלקנה | B99: 3560 | C99: 89 | D99: 28 | E99: 2 | F99: 1 | G99: 4 | H99: 10 | I99: 30 | J99: 1 | K99: 1 | L99: =+C99-D99-G99-H99-I99-J99-K99 -> 15 | M99: 3909 | N99: 0.0033444816 | O99: =+C99/M99 -> 0.022767971 | Q99: פתח תקוה (מרחב)
A100: אמונים | B100: 0772 | C100: 29 | D100: 17 | E100: 1 | F100: 2 | G100: 0 | H100: 5 | I100: 2 | J100: 0 | K100: 0 | L100: =+C100-D100-G100-H100-I100-J100-K100 -> 5 | M100: 1007 | N100: 0.055253623 | O100: =+C100/M100 -> 0.028798411 | P100: באר טוביה | Q100: אשדוד (מרחב) | R100: אשקלון
A101: אמירים | B101: 1064 | C101: 69 | D101: 23 | E101: 0 | F101: 1 | G101: 0 | H101: 2 | I101: 10 | J101: 3 | K101: 4 | L101: =+C101-D101-G101-H101-I101-J101-K101 -> 27 | M101: 926 | N101: 0.047348485 | O101: =+C101/M101 -> 0.074514039 | P101: מרום הגליל | Q101: גליל עליון (מרחב)
...

Sheet גילאים משנת 1989
A1: התפלגות עולים שעלו ארצה
A2: =+'עולים משנת 1989'!A2 -> בין התאריכים 1.9.1989 עד 31.10.2019
A3: לפי ישובים וגילאים ביום 1/1/2020
A4: ממוין לפי שם הישוב
A5: הדוח אינו כולל נפטרים, נולדים בארץ ותושבים חוזרים
B7: קבוצות גיל - גיל מחושב ליום 1/1/2020
B8: סה"כ | H8: סה"כ | I8: אחוז | J8: מועצה
A9: ישוב | B9: עולים | C9: 0-12 | D9: 13-17 | E9: 18-35 | F9: 36-60 | G9: 61+ | H9: תושבים | I9: עולים | J9: אזורית | K9: מרחב | L9: סניף
A10: סה"כ | B10: =SUM(B11:B1199) -> 1272496 | C10: =SUM(C11:C1199) -> 30323 | D10: =SUM(D11:D1199) -> 19913 | E10: =SUM(E11:E1199) -> 281160 | F10: =SUM(F11:F1199) -> 528704 | G10: =SUM(G11:G1199) -> 412396 | H10: =SUM(H11:H1199) -> 9617934 | I10: =+B10/H10 -> 0.13230451
A11: אבו גוש | B11: 26 | C11: 2 | D11: 1 | E11: 5 | F11: 16 | G11: 2 | H11: 8236 | I11: =+B11/H11 -> 0.0031568723 | K11: ירושלים (מרחב)
A12: אבו סנאן | B12: 4 | C12: 0 | D12: 0 | E12: 2 | F12: 2 | G12: 0 | H12: 13622 | I12: =+B12/H12 -> 0.00029364264 | K12: גליל עליון (מרחב) | L12: עכו
A13: אבו רוקייק )שבט( | B13: 1 | C13: 0 | D13: 0 | E13: 0 | F13: 1 | G13: 0 | H13: 10293 | I13: =+B13/H13 -> 9.7153405e-05 | K13: באר שבע והנגב (מרחב)
A14: אבטין | B14: 1 | C14: 0 | D14: 0 | E14: 0 | F14: 1 | G14: 0 | H14: 2858 | I14: =+B14/H14 -> 0.00034989503 | J14: זבולון | K14: חיפה (מרחב) | L14: הקריות
A15: אבטליון | B15: 14 | C15: 0 | D15: 0 | E15: 3 | F15: 11 | G15: 0 | H15: 499 | I15: =+B15/H15 -> 0.028056112 | J15: משגב | K15: גליל עליון (מרחב)
A16: אביאל | B16: 25 | C16: 1 | D16: 2 | E16: 8 | F16: 11 | G16: 3 | H16: 834 | I16: =+B16/H16 -> 0.029976019 | J16: אלונה | K16: חדרה (מרחב)
A17: אביבים | B17: 2 | C17: 0 | D17: 0 | E17: 0 | F17: 1 | G17: 1 | H17: 493 | I17: =+B17/H17 -> 0.0040567951 | J17: מרום הגליל | K17: גליל עליון (מרחב) | L17: קרית שמונה
A18: אביגדור | B18: 16 | C18: 0 | D18: 0 | E18: 8 | F18: 6 | G18: 2 | H18: 909 | I18: =+B18/H18 -> 0.01760176 | J18: באר טוביה | K18: אשדוד (מרחב) | L18: אשקלון
A19: אביחיל | B19: 60 | C19: 3 | D19: 2 | E19: 17 | F19: 22 | G19: 16 | H19: 1411 | I19: =+B19/H19 -> 0.042523033 | J19: עמק חפר | K19: נתניה והשרון (מרחב)
A20: אביטל | B20: 9 | C20: 0 | D20: 0 | E20: 4 | F20: 5 | G20: 0 | H20: 571 | I20: =+B20/H20 -> 0.015761821 | J20: הגלבוע | K20: נוף הגליל והעמקים (מרחב) | L20: עפולה
A21: אביעזר | B21: 74 | C21: 0 | D21: 1 | E21: 10 | F21: 35 | G21: 28 | H21: 905 | I21: =+B21/H21 -> 0.081767956 | J21: מטה יהודה | K21: ירושלים (מרחב)
A22: אבירים | B22: 8 | C22: 0 | D22: 0 | E22: 3 | F22: 4 | G22: 1 | H22: 298 | I22: =+B22/H22 -> 0.026845638 | J22: מעלה יוסף | K22: גליל עליון (מרחב) | L22: מעלות
A23: אבן יהודה | B23: 494 | C23: 19 | D23: 8 | E23: 118 | F23: 264 | G23: 85 | H23: 14631 | I23: =+B23/H23 -> 0.033763926 | K23: נתניה והשרון (מרחב)
A24: אבן מנחם | B24: 5 | C24: 0 | D24: 0 | E24: 4 | F24: 1 | G24: 0 | H24: 380 | I24: =+B24/H24 -> 0.013157895 | J24: מעלה יוסף | K24: גליל עליון (מרחב) | L24: מעלות
A25: אבן ספיר | B25: 30 | C25: 0 | D25: 0 | E25: 6 | F25: 21 | G25: 3 | H25: 701 | I25: =+B25/H25 -> 0.042796006 | J25: מטה יהודה | K25: ירושלים (מרחב)
A26: אבן שמואל | B26: 98 | C26: 21 | D26: 9 | E26: 13 | F26: 39 | G26: 16 | H26: 1785 | I26: =+B26/H26 -> 0.054901961 | J26: שפיר | K26: אשדוד (מרחב) | L26: קרית גת
A27: אבני איתן | B27: 22 | C27: 0 | D27: 1 | E27: 12 | F27: 8 | G27: 1 | H27: 788 | I27: =+B27/H27 -> 0.027918782 | J27: גולן | K27: גליל עליון (מרחב)
A28: אבני חפץ | B28: 96 | C28: 2 | D28: 6 | E28: 34 | F28: 40 | G28: 14 | H28: 2014 | I28: =+B28/H28 -> 0.047666336 | J28: שומרון | K28: נתניה והשרון (מרחב)
A29: אבנת | B29: 4 | C29: 0 | D29: 0 | E29: 2 | F29: 2 | G29: 0 | H29: 206 | I29: =+B29/H29 -> 0.019417476 | J29: מגילות ים המלח | K29: ירושלים (מרחב)
A30: אבשלום | B30: 159 | C30: 2 | D30: 1 | E30: 26 | F30: 69 | G30: 61 | H30: 328 | I30: =+B30/H30 -> 0.4847561 | J30: אשכול | K30: באר שבע והנגב (מרחב) | L30: אופקים
A31: אדורה | B31: 19 | C31: 0 | D31: 0 | E31: 5 | F31: 12 | G31: 2 | H31: 491 | I31: =+B31/H31 -> 0.038696538 | J31: הר חברון | K31: ירושלים (מרחב) | L31: קרית ארבע
A32: אדירים | B32: 7 | C32: 1 | D32: 1 | E32: 1 | F32: 2 | G32: 2 | H32: 332 | I32: =+B32/H32 -> 0.021084337 | J32: הגלבוע | K32: נוף הגליל והעמקים (מרחב) | L32: עפולה
A33: אדמית | B33: 62 | C33: 0 | D33: 1 | E33: 13 | F33: 30 | G33: 18 | H33: 474 | I33: =+B33/H33 -> 0.13080169 | J33: מטה אשר | K33: גליל עליון (מרחב) | L33: נהריה
A34: אדרת | B34: 53 | C34: 2 | D34: 0 | E34: 9 | F34: 31 | G34: 11 | H34: 907 | I34: =+B34/H34 -> 0.058434399 | J34: מטה יהודה | K34: ירושלים (מרחב) | L34: בית שמש
A35: אודים | B35: 47 | C35: 0 | D35: 2 | E35: 13 | F35: 29 | G35: 3 | H35: 1138 | I35: =+B35/H35 -> 0.041300527 | J35: חוף השרון | K35: נתניה והשרון (מרחב)
A36: אודם | B36: 9 | C36: 0 | D36: 0 | E36: 3 | F36: 3 | G36: 3 | H36: 183 | I36: =+B36/H36 -> 0.049180328 | J36: גולן | K36: גליל עליון (מרחב) | L36: קצרין (מוקד)
A37: אוהד | B37: 12 | C37: 0 | D37: 0 | E37: 2 | F37: 9 | G37: 1 | H37: 412 | I37: =+B37/H37 -> 0.029126214 | J37: אשכול | K37: באר שבע והנגב (מרחב)
A38: אום אל-פחם | B38: 10 | C38: 0 | D38: 0 | E38: 5 | F38: 5 | G38: 0 | H38: 56720 | I38: =+B38/H38 -> 0.00017630465 | K38: חדרה (מרחב)
A39: אום בטין | B39: 3 | C39: 0 | D39: 0 | E39: 0 | F39: 3 | G39: 0 | H39: 4010 | I39: =+B39/H39 -> 0.00074812968 | J39: אל קסום | K39: באר שבע והנגב (מרחב)
A40: אומן | B40: 141 | C40: 0 | D40: 0 | E40: 14 | F40: 69 | G40: 58 | H40: 496 | I40: =+B40/H40 -> 0.28427419 | J40: הגלבוע | K40: נוף הגליל והעמקים (מרחב) | L40: עפולה
A41: אומץ | B41: 22 | C41: 0 | D41: 0 | E41: 5 | F41: 14 | G41: 3 | H41: 787 | I41: =+B41/H41 -> 0.027954257 | J41: עמק חפר | K41: נתניה והשרון (מרחב)
A42: אופקים | B42: 6151 | C42: 47 | D42: 29 | E42: 1345 | F42: 2544 | G42: 2186 | H42: 33623 | I42: =+B42/H42 -> 0.18294025 | K42: באר שבע והנגב (מרחב) | L42: אופקים
A43: אור הגנוז | B43: 9 | C43: 0 | D43: 0 | E43: 0 | F43: 9 | G43: 0 | H43: 621 | I43: =+B43/H43 -> 0.014492754 | J43: מרום הגליל | K43: גליל עליון (מרחב) | L43: צפת
A44: אור הנר | B44: 87 | C44: 0 | D44: 0 | E44: 18 | F44: 55 | G44: 14 | H44: 934 | I44: =+B44/H44 -> 0.093147752 | J44: שער הנגב | K44: באר שבע והנגב (מרחב) | L44: שדרות
A45: אור יהודה | B45: 5335 | C45: 27 | D45: 46 | E45: 1439 | F45: 2404 | G45: 1419 | H45: 37460 | I45: =+B45/H45 -> 0.14241858 | K45: פתח תקוה (מרחב)
A46: אור עקיבא | B46: 6645 | C46: 79 | D46: 37 | E46: 1219 | F46: 2720 | G46: 2590 | H46: 21662 | I46: =+B46/H46 -> 0.30675838 | K46: חדרה (מרחב)
A47: אורה | B47: 62 | C47: 6 | D47: 2 | E47: 15 | F47: 32 | G47: 7 | H47: 1227 | I47: =+B47/H47 -> 0.050529747 | J47: מטה יהודה | K47: ירושלים (מרחב)
A48: אורות | B48: 14 | C48: 0 | D48: 0 | E48: 4 | F48: 8 | G48: 2 | H48: 611 | I48: =+B48/H48 -> 0.022913257 | J48: באר טוביה | K48: אשדוד (מרחב) | L48: קרית מלאכי
A49: אורטל | B49: 14 | C49: 0 | D49: 0 | E49: 3 | F49: 8 | G49: 3 | H49: 365 | I49: =+B49/H49 -> 0.038356164 | J49: גולן | K49: גליל עליון (מרחב) | L49: קצרין (מוקד)
A50: אורים | B50: 80 | C50: 2 | D50: 1 | E50: 53 | F50: 19 | G50: 5 | H50: 586 | I50: =+B50/H50 -> 0.13651877 | J50: אשכול | K50: באר שבע והנגב (מרחב) | L50: אופקים
A51: אורנים | B51: 2 | C51: 0 | D51: 0 | E51: 0 | F51: 2 | G51: 0 | H51: 4 | I51: =+B51/H51 -> 0.5 | J51: זבולון | K51: חיפה (מרחב)
A52: אורנית | B52: 350 | C52: 0 | D52: 3 | E52: 67 | F52: 220 | G52: 60 | H52: 9608 | I52: =+B52/H52 -> 0.036427977 | K52: פתח תקוה (מרחב)
A53: אושה | B53: 23 | C53: 0 | D53: 0 | E53: 5 | F53: 11 | G53: 7 | H53: 512 | I53: =+B53/H53 -> 0.044921875 | J53: זבולון | K53: חיפה (מרחב) | L53: הקריות
A54: אזור | B54: 1311 | C54: 10 | D54: 4 | E54: 349 | F54: 673 | G54: 275 | H54: 13434 | I54: =+B54/H54 -> 0.097588209 | K54: ראשון לציון (מרחב) | L54: חולון (סניף)
A55: אחווה | B55: 17 | C55: 0 | D55: 0 | E55: 1 | F55: 4 | G55: 12 | H55: 202 | I55: =+B55/H55 -> 0.084158416 | J55: באר טוביה | K55: אשדוד (מרחב) | L55: קרית מלאכי
A56: אחוזם | B56: 16 | C56: 0 | D56: 0 | E56: 8 | F56: 4 | G56: 4 | H56: 521 | I56: =+B56/H56 -> 0.030710173 | J56: לכיש | K56: אשדוד (מרחב)
A57: אחוזת ברק | B57: 219 | C57: 0 | D57: 0 | E57: 40 | F57: 146 | G57: 33 | H57: 2550 | I57: =+B57/H57 -> 0.085882353 | J57: עמק יזרעאל | K57: נוף הגליל והעמקים (מרחב) | L57: מגדל העמק
A58: אחיהוד | B58: 19 | C58: 1 | D58: 0 | E58: 11 | F58: 6 | G58: 1 | H58: 977 | I58: =+B58/H58 -> 0.019447288 | J58: מטה אשר | K58: גליל עליון (מרחב) | L58: עכו
A59: אחיטוב | B59: 11 | C59: 0 | D59: 0 | E59: 5 | F59: 5 | G59: 1 | H59: 1018 | I59: =+B59/H59 -> 0.010805501 | J59: עמק חפר | K59: נתניה והשרון (מרחב)
A60: אחיסמך | B60: 6 | C60: 0 | D60: 0 | E60: 2 | F60: 4 | G60: 0 | H60: 1336 | I60: =+B60/H60 -> 0.004491018 | J60: חבל מודיעין | K60: פתח תקוה (מרחב) | L60: רמלה - לוד
A61: אחיעזר | B61: 25 | C61: 3 | D61: 3 | E61: 11 | F61: 7 | G61: 1 | H61: 1878 | I61: =+B61/H61 -> 0.013312034 | J61: שדות דן | K61: פתח תקוה (מרחב) | L61: רמלה - לוד
A62: איבים | B62: 449 | C62: 50 | D62: 55 | E62: 176 | F62: 96 | G62: 72 | H62: 490 | I62: =+B62/H62 -> 0.91632653 | J62: שער הנגב | K62: באר שבע והנגב (מרחב) | L62: שדרות
A63: אייל | B63: 9 | C63: 0 | D63: 0 | E63: 4 | F63: 5 | G63: 0 | H63: 572 | I63: =+B63/H63 -> 0.015734266 | J63: דרום השרון | K63: נתניה והשרון (מרחב) | L63: השרון
A64: איילת השחר | B64: 80 | C64: 6 | D64: 4 | E64: 20 | F64: 32 | G64: 18 | H64: 1144 | I64: =+B64/H64 -> 0.06993007 | J64: הגליל העליון | K64: גליל עליון (מרחב) | L64: קרית שמונה
A65: אילון | B65: 40 | C65: 0 | D65: 3 | E65: 6 | F65: 23 | G65: 8 | H65: 1184 | I65: =+B65/H65 -> 0.033783784 | J65: מטה אשר | K65: גליל עליון (מרחב) | L65: נהריה
A66: אילות | B66: 25 | C66: 0 | D66: 1 | E66: 18 | F66: 5 | G66: 1 | H66: 350 | I66: =+B66/H66 -> 0.071428571 | J66: חבל אילות | K66: באר שבע והנגב (מרחב) | L66: אילת
A67: אילניה | B67: 22 | C67: 0 | D67: 0 | E67: 4 | F67: 12 | G67: 6 | H67: 607 | I67: =+B67/H67 -> 0.036243822 | J67: הגליל התחתון | K67: נוף הגליל והעמקים (מרחב) | L67: טבריה
A68: אילת | B68: 15789 | C68: 374 | D68: 279 | E68: 4148 | F68: 7403 | G68: 3585 | H68: 67603 | I68: =+B68/H68 -> 0.23355472 | K68: באר שבע והנגב (מרחב) | L68: אילת
A69: אירוס | B69: 32 | C69: 0 | D69: 0 | E69: 5 | F69: 19 | G69: 8 | H69: 708 | I69: =+B69/H69 -> 0.04519774 | J69: גן רווה | K69: ראשון לציון (מרחב)
A70: איתמר | B70: 56 | C70: 0 | D70: 1 | E70: 22 | F70: 20 | G70: 13 | H70: 1254 | I70: =+B70/H70 -> 0.044657097 | J70: שומרון | K70: פתח תקוה (מרחב) | L70: אריאל (מוקד)
A71: איתן | B71: 3 | C71: 0 | D71: 0 | E71: 1 | F71: 2 | G71: 0 | H71: 517 | I71: =+B71/H71 -> 0.0058027079 | J71: שפיר | K71: אשדוד (מרחב) | L71: קרית גת
A72: אכסאל | B72: 3 | C72: 0 | D72: 0 | E72: 2 | F72: 1 | G72: 0 | H72: 15034 | I72: =+B72/H72 -> 0.00019954769 | K72: נוף הגליל והעמקים (מרחב)
A73: אל-עזי | B73: 1 | C73: 0 | D73: 0 | E73: 1 | F73: 0 | G73: 0 | H73: 155 | I73: =+B73/H73 -> 0.0064516129 | J73: יואב
A74: אל-רום | B74: 45 | C74: 0 | D74: 0 | E74: 5 | F74: 30 | G74: 10 | H74: 483 | I74: =+B74/H74 -> 0.093167702 | J74: גולן | K74: גליל עליון (מרחב) | L74: קצרין (מוקד)
A75: אל סייד | B75: 1 | C75: 0 | D75: 0 | E75: 1 | F75: 0 | G75: 0 | H75: 3312 | I75: =+B75/H75 -> 0.00030193237 | J75: אל קסום | K75: באר שבע והנגב (מרחב)
A76: אלומה | B76: 5 | C76: 0 | D76: 0 | E76: 3 | F76: 2 | G76: 0 | H76: 553 | I76: =+B76/H76 -> 0.0090415913 | J76: שפיר | K76: אשדוד (מרחב) | L76: קרית גת
A77: אלומות | B77: 42 | C77: 1 | D77: 0 | E77: 10 | F77: 22 | G77: 9 | H77: 492 | I77: =+B77/H77 -> 0.085365854 | J77: עמק הירדן | K77: נוף הגליל והעמקים (מרחב) | L77: טבריה
A78: אלון הגליל | B78: 23 | C78: 2 | D78: 0 | E78: 3 | F78: 11 | G78: 7 | H78: 1178 | I78: =+B78/H78 -> 0.019524618 | J78: עמק יזרעאל | K78: נוף הגליל והעמקים (מרחב)
A79: אלון מורה | B79: 77 | C79: 4 | D79: 0 | E79: 14 | F79: 35 | G79: 24 | H79: 1864 | I79: =+B79/H79 -> 0.041309013 | J79: שומרון | K79: נתניה והשרון (מרחב)
A80: אלון שבות | B80: 517 | C80: 12 | D80: 15 | E80: 210 | F80: 203 | G80: 77 | H80: 3481 | I80: =+B80/H80 -> 0.14852054 | J80: גוש עציון | K80: ירושלים (מרחב) | L80: קרית ארבע
A81: אלוני אבא | B81: 19 | C81: 0 | D81: 0 | E81: 7 | F81: 11 | G81: 1 | H81: 1046 | I81: =+B81/H81 -> 0.018164436 | J81: עמק יזרעאל | K81: נוף הגליל והעמקים (מרחב)
A82: אלוני הבשן | B82: 16 | C82: 0 | D82: 1 | E82: 6 | F82: 7 | G82: 2 | H82: 439 | I82: =+B82/H82 -> 0.036446469 | J82: גולן | K82: גליל עליון (מרחב) | L82: קצרין (מוקד)
A83: אלוני יצחק | B83: 36 | C83: 1 | D83: 4 | E83: 16 | F83: 12 | G83: 3 | H83: 169 | I83: =+B83/H83 -> 0.21301775 | J83: מנשה | K83: חדרה (מרחב)
A84: אלונים | B84: 35 | C84: 0 | D84: 0 | E84: 12 | F84: 18 | G84: 5 | H84: 732 | I84: =+B84/H84 -> 0.047814208 | J84: עמק יזרעאל | K84: חיפה (מרחב)
A85: אלי-עד | B85: 17 | C85: 2 | D85: 0 | E85: 2 | F85: 11 | G85: 2 | H85: 486 | I85: =+B85/H85 -> 0.034979424 | J85: גולן | K85: גליל עליון (מרחב) | L85: קצרין (מוקד)
A86: אליאב | B86: 11 | C86: 0 | D86: 0 | E86: 3 | F86: 8 | G86: 0 | H86: 548 | I86: =+B86/H86 -> 0.020072993 | J86: לכיש | K86: אשדוד (מרחב)
A87: אליכין | B87: 92 | C87: 1 | D87: 2 | E87: 22 | F87: 44 | G87: 23 | H87: 3690 | I87: =+B87/H87 -> 0.024932249 | K87: חדרה (מרחב)
A88: אליפז | B88: 13 | C88: 0 | D88: 0 | E88: 3 | F88: 10 | G88: 0 | H88: 177 | I88: =+B88/H88 -> 0.073446328 | J88: חבל אילות | K88: באר שבע והנגב (מרחב) | L88: אילת
A89: אליפלט | B89: 6 | C89: 0 | D89: 0 | E89: 4 | F89: 2 | G89: 0 | H89: 656 | I89: =+B89/H89 -> 0.0091463415 | J89: מבואות החרמון | K89: גליל עליון (מרחב) | L89: קרית שמונה
A90: אליקים | B90: 25 | C90: 0 | D90: 0 | E90: 5 | F90: 14 | G90: 6 | H90: 863 | I90: =+B90/H90 -> 0.028968714 | J90: מגידו | K90: חדרה (מרחב)
A91: אלישיב | B91: 11 | C91: 0 | D91: 0 | E91: 4 | F91: 6 | G91: 1 | H91: 706 | I91: =+B91/H91 -> 0.015580737 | J91: עמק חפר | K91: נתניה והשרון (מרחב)
A92: אלישמע | B92: 16 | C92: 0 | D92: 0 | E92: 6 | F92: 5 | G92: 5 | H92: 1166 | I92: =+B92/H92 -> 0.013722127 | J92: דרום השרון | K92: נתניה והשרון (מרחב) | L92: השרון
A93: אלמגור | B93: 9 | C93: 0 | D93: 0 | E93: 1 | F93: 5 | G93: 3 | H93: 438 | I93: =+B93/H93 -> 0.020547945 | J93: עמק הירדן | K93: גליל עליון (מרחב) | L93: קרית שמונה
A94: אלמוג | B94: 24 | C94: 0 | D94: 1 | E94: 2 | F94: 18 | G94: 3 | H94: 313 | I94: =+B94/H94 -> 0.076677316 | J94: מגילות ים המלח | K94: ירושלים (מרחב)
A95: אלעד | B95: 1096 | C95: 35 | D95: 54 | E95: 363 | F95: 516 | G95: 128 | H95: 48262 | I95: =+B95/H95 -> 0.022709378 | K95: פתח תקוה (מרחב)
A96: אלעזר | B96: 226 | C96: 10 | D96: 7 | E96: 69 | F96: 98 | G96: 42 | H96: 2610 | I96: =+B96/H96 -> 0.086590038 | J96: גוש עציון | K96: ירושלים (מרחב) | L96: קרית ארבע
A97: אלפי מנשה | B97: 582 | C97: 11 | D97: 7 | E97: 117 | F97: 321 | G97: 126 | H97: 8540 | I97: =+B97/H97 -> 0.068149883 | K97: נתניה והשרון (מרחב) | L97: השרון
A98: אלקוש | B98: 6 | C98: 0 | D98: 0 | E98: 0 | F98: 5 | G98: 1 | H98: 301 | I98: =+B98/H98 -> 0.019933555 | J98: מעלה יוסף | K98: גליל עליון (מרחב) | L98: מעלות
A99: אלקנה | B99: 89 | C99: 3 | D99: 3 | E99: 30 | F99: 31 | G99: 22 | H99: 3909 | I99: =+B99/H99 -> 0.022767971 | K99: פתח תקוה (מרחב)
A100: אמונים | B100: 29 | C100: 0 | D100: 1 | E100: 7 | F100: 19 | G100: 2 | H100: 1007 | I100: =+B100/H100 -> 0.028798411 | J100: באר טוביה | K100: אשדוד (מרחב) | L100: אשקלון
A101: אמירים | B101: 69 | C101: 6 | D101: 3 | E101: 22 | F101: 32 | G101: 6 | H101: 926 | I101: =+B101/H101 -> 0.074514039 | J101: מרום הגליל | K101: גליל עליון (מרחב)
...

Sheet עולים משנת 2005
A1: התפלגות עולים שעלו ארצה
A2: בין התאריכים 1.1.2005 עד 31.10.2019
A3: לפי ישוב מגורים ביחס לסה"כ התושבים בישוב
A4: ממוין לפי שם הישוב
A5: הדוח אינו כולל נפטרים, נולדים בארץ ותושבים חוזרים
C7: מהם עולים מ 1.1.2005 עד 31.10.2019
C8: סה"כ | E8: מתוכם | F8: מתוכם | M8: סה"כ | N8: אחוז | O8: מועצה
A9: ישוב | B9: קוד ישוב | C9: עולים | D9: בריה"מ | E9: קווקזים | F9: בוכרים | G9: אתיופים | H9: צרפת | I9: ארה"ב | J9: ארגנטינה | K9: אנגליה | L9: אחרים | M9: תושבים | N9: עולים | O9: אזורית | P9: מרחב | Q9: סניף
A10: סה"כ | C10: =SUM(C11:C1024) -> 341558 | D10: =SUM(D11:D1024) -> 159800 | E10: =SUM(E11:E1024) -> 5537 | F10: =SUM(F11:F1024) -> 8363 | G10: =SUM(G11:G1024) -> 23149 | H10: =SUM(H11:H1024) -> 48259 | I10: =SUM(I11:I1024) -> 45785 | J10: =SUM(J11:J1024) -> 4503 | ... M10: =SUM(M11:M1024) -> 8721389 | N10: =+C10/M10 -> 0.039163257
A11: אבו גוש | B11: 0472 | C11: 8 | D11: 1 | E11: 0 | F11: 0 | G11: 0 | H11: 0 | I11: 5 | J11: 1 | K11: 0 | L11: =+C11-D11-G11-H11-I11-J11-K11 -> 1 | M11: 8236 | N11: 0.0066476733 | P11: ירושלים (מרחב)
A12: אבטליון | B12: 1275 | C12: 1 | D12: 0 | E12: 0 | F12: 0 | G12: 0 | H12: 1 | I12: 0 | J12: 0 | K12: 0 | L12: =+C12-D12-G12-H12-I12-J12-K12 -> 0 | M12: 499 | N12: 0.0050167224 | O12: משגב | P12: גליל עליון (מרחב)
A13: אביאל | B13: 0679 | C13: 8 | D13: 0 | E13: 0 | F13: 0 | G13: 0 | H13: 0 | I13: 5 | J13: 0 | K13: 0 | L13: =+C13-D13-G13-H13-I13-J13-K13 -> 3 | M13: 834 | N13: 0.0050890585 | O13: אלונה | P13: חדרה (מרחב)
A14: אביגדור | B14: 0819 | C14: 4 | D14: 2 | E14: 0 | F14: 0 | G14: 0 | H14: 0 | I14: 0 | J14: 0 | K14: 0 | L14: =+C14-D14-G14-H14-I14-J14-K14 -> 2 | M14: 909 | N14: 0.077777778 | O14: באר טוביה | P14: אשדוד (מרחב) | Q14: אשקלון
A15: אביחיל | B15: 0175 | C15: 22 | D15: 5 | E15: 0 | F15: 1 | G15: 0 | H15: 4 | I15: 5 | J15: 0 | K15: 0 | L15: =+C15-D15-G15-H15-I15-J15-K15 -> 8 | M15: 1411 | N15: 0.032646048 | O15: עמק חפר | P15: נתניה והשרון (מרחב)
A16: אביעזר | B16: 1070 | C16: 9 | D16: 6 | E16: 0 | F16: 0 | G16: 0 | H16: 0 | I16: 2 | J16: 0 | K16: 0 | L16: =+C16-D16-G16-H16-I16-J16-K16 -> 1 | M16: 905 | N16: 0.0093283582 | O16: מטה יהודה | P16: ירושלים (מרחב)
A17: אבירים | B17: 1220 | C17: 1 | D17: 0 | E17: 0 | F17: 0 | G17: 0 | H17: 0 | I17: 1 | J17: 0 | K17: 0 | L17: =+C17-D17-G17-H17-I17-J17-K17 -> 0 | M17: 298 | N17: 0.0072463768 | O17: מעלה יוסף | P17: גליל עליון (מרחב) | Q17: מעלות
A18: אבן יהודה | B18: 0182 | C18: 148 | D18: 24 | E18: 2 | F18: 0 | G18: 0 | H18: 25 | I18: 35 | J18: 1 | K18: 17 | L18: =+C18-D18-G18-H18-I18-J18-K18 -> 46 | M18: 14631 | N18: 3.4610459e-05 | P18: נתניה והשרון (מרחב)
A19: אבן ספיר | B19: 0783 | C19: 3 | D19: 1 | E19: 0 | F19: 0 | G19: 0 | H19: 0 | I19: 2 | J19: 0 | K19: 0 | L19: =+C19-D19-G19-H19-I19-J19-K19 -> 0 | M19: 701 | N19: 0.0088235294 | O19: מטה יהודה | P19: ירושלים (מרחב)
A20: אבן שמואל | B20: 0400 | C20: 70 | D20: 0 | E20: 0 | F20: 0 | G20: 0 | H20: 0 | I20: 38 | J20: 0 | K20: 16 | L20: =+C20-D20-G20-H20-I20-J20-K20 -> 16 | M20: 1785 | N20: 0.014134276 | O20: שפיר | P20: אשדוד (מרחב) | Q20: קרית גת
A21: אבני איתן | B21: 4011 | C21: 10 | D21: 0 | E21: 0 | F21: 0 | G21: 0 | H21: 1 | I21: 4 | J21: 0 | K21: 0 | L21: =+C21-D21-G21-H21-I21-J21-K21 -> 5 | M21: 788 | N21: 0.0027855153 | O21: גולן | P21: גליל עליון (מרחב)
A22: אבני חפץ | B22: 3793 | C22: 48 | D22: 1 | E22: 0 | F22: 0 | G22: 0 | H22: 2 | I22: 2 | J22: 1 | K22: 1 | L22: =+C22-D22-G22-H22-I22-J22-K22 -> 41 | M22: 2014 | N22: 0.0036297641 | O22: שומרון | P22: נתניה והשרון (מרחב)
A23: אבנת | B23: 3786 | C23: 2 | D23: 0 | E23: 0 | F23: 0 | G23: 0 | H23: 0 | I23: 1 | J23: 0 | K23: 0 | L23: =+C23-D23-G23-H23-I23-J23-K23 -> 1 | M23: 206 | N23: 0.034965035 | O23: מגילות ים המלח | P23: ירושלים (מרחב)
A24: אבשלום | B24: 1311 | C24: 12 | D24: 12 | E24: 0 | F24: 0 | G24: 0 | H24: 0 | I24: 0 | J24: 0 | K24: 0 | L24: =+C24-D24-G24-H24-I24-J24-K24 -> 0 | M24: 328 | N24: 0.0027272727 | O24: אשכול | P24: באר שבע והנגב (מרחב) | Q24: אופקים
A25: אדורה | B25: 3759 | C25: 2 | D25: 0 | E25: 0 | F25: 0 | G25: 0 | H25: 0 | I25: 1 | J25: 0 | K25: 0 | L25: =+C25-D25-G25-H25-I25-J25-K25 -> 1 | M25: 491 | N25: 0.076058773 | O25: הר חברון | P25: ירושלים (מרחב) | Q25: קרית ארבע
A26: אדירים | B26: 0113 | C26: 3 | D26: 0 | E26: 0 | F26: 0 | G26: 0 | H26: 0 | I26: 3 | J26: 0 | K26: 0 | L26: =+C26-D26-G26-H26-I26-J26-K26 -> 0 | M26: 332 | N26: 0.004784689 | O26: הגלבוע | P26: נוף הגליל והעמקים (מרחב) | Q26: עפולה
A27: אדמית | B27: 1068 | C27: 9 | D27: 3 | E27: 0 | F27: 0 | G27: 0 | H27: 0 | I27: 2 | J27: 1 | K27: 1 | L27: =+C27-D27-G27-H27-I27-J27-K27 -> 2 | M27: 474 | N27: 0.065934066 | O27: מטה אשר | P27: גליל עליון (מרחב) | Q27: נהריה
A28: אדרת | B28: 1123 | C28: 20 | D28: 0 | E28: 0 | F28: 0 | G28: 0 | H28: 0 | I28: 9 | J28: 2 | K28: 0 | L28: =+C28-D28-G28-H28-I28-J28-K28 -> 9 | M28: 907 | N28: 0.040511639 | O28: מטה יהודה | P28: ירושלים (מרחב) | Q28: בית שמש
A29: אודים | B29: 0446 | C29: 17 | D29: 1 | E29: 0 | F29: 0 | G29: 0 | H29: 5 | I29: 3 | J29: 1 | K29: 4 | L29: =+C29-D29-G29-H29-I29-J29-K29 -> 3 | M29: 1138 | N29: 0.0089955022 | O29: חוף השרון | P29: נתניה והשרון (מרחב)
A30: אודם | B30: 4010 | C30: 4 | D30: 1 | E30: 0 | F30: 0 | G30: 0 | H30: 1 | I30: 2 | J30: 0 | K30: 0 | L30: =+C30-D30-G30-H30-I30-J30-K30 -> 0 | M30: 183 | N30: 0.0048076923 | O30: גולן | P30: גליל עליון (מרחב) | Q30: קצרין (מוקד)
A31: אוהד | B31: 1046 | C31: 3 | D31: 2 | E31: 0 | F31: 0 | G31: 0 | H31: 0 | I31: 0 | J31: 0 | K31: 0 | L31: =+C31-D31-G31-H31-I31-J31-K31 -> 1 | M31: 412 | N31: 0.0028368794 | O31: אשכול | P31: באר שבע והנגב (מרחב)
A32: אומן | B32: 1108 | C32: 5 | D32: 3 | E32: 0 | F32: 0 | G32: 0 | H32: 0 | I32: 1 | J32: 0 | K32: 0 | L32: =+C32-D32-G32-H32-I32-J32-K32 -> 1 | M32: 496 | N32: 0.0056737589 | O32: הגלבוע | P32: נוף הגליל והעמקים (מרחב) | Q32: עפולה
A33: אומץ | B33: 0680 | C33: 1 | D33: 1 | E33: 0 | F33: 0 | G33: 0 | H33: 0 | I33: 0 | J33: 0 | K33: 0 | L33: =+C33-D33-G33-H33-I33-J33-K33 -> 0 | M33: 787 | N33: 0.0035842294 | O33: עמק חפר | P33: נתניה והשרון (מרחב)
A34: אופקים | B34: 0031 | C34: 507 | D34: 347 | E34: 22 | F34: 16 | G34: 3 | H34: 54 | I34: 23 | J34: 9 | K34: 1 | L34: =+C34-D34-G34-H34-I34-J34-K34 -> 70 | M34: 33623 | N34: 0.0067567568 | P34: באר שבע והנגב (מרחב) | Q34: אופקים
A35: אור הגנוז | B35: 1294 | C35: 1 | D35: 0 | E35: 0 | F35: 0 | G35: 0 | H35: 1 | I35: 0 | J35: 0 | K35: 0 | L35: =+C35-D35-G35-H35-I35-J35-K35 -> 0 | M35: 621 | N35: 0.026578073 | O35: מרום הגליל | P35: גליל עליון (מרחב) | Q35: צפת
A36: אור הנר | B36: 0067 | C36: 11 | D36: 0 | E36: 0 | F36: 0 | G36: 0 | H36: 0 | I36: 1 | J36: 2 | K36: 1 | L36: =+C36-D36-G36-H36-I36-J36-K36 -> 7 | M36: 934 | N36: 0.006233208 | O36: שער הנגב | P36: באר שבע והנגב (מרחב) | Q36: שדרות
A37: אור יהודה | B37: 2400 | C37: 545 | D37: 267 | E37: 40 | F37: 97 | G37: 172 | H37: 6 | I37: 54 | J37: 4 | K37: 1 | L37: =+C37-D37-G37-H37-I37-J37-K37 -> 41 | M37: 37460 | N37: 0.0024600246 | P37: פתח תקוה (מרחב)
A38: אור עקיבא | B38: 1020 | C38: 703 | D38: 550 | E38: 73 | F38: 13 | G38: 1 | H38: 53 | I38: 40 | J38: 1 | K38: 0 | L38: =+C38-D38-G38-H38-I38-J38-K38 -> 58 | M38: 21662 | N38: 0.008988764 | P38: חדרה (מרחב)
A39: אורה | B39: 0780 | C39: 24 | D39: 4 | E39: 0 | F39: 0 | G39: 0 | H39: 0 | I39: 12 | J39: 0 | K39: 0 | L39: =+C39-D39-G39-H39-I39-J39-K39 -> 8 | M39: 1227 | N39: 0.026990553 | O39: מטה יהודה | P39: ירושלים (מרחב)
A40: אורות | B40: 2012 | C40: 2 | D40: 1 | E40: 0 | F40: 0 | G40: 0 | H40: 0 | I40: 0 | J40: 0 | K40: 0 | L40: =+C40-D40-G40-H40-I40-J40-K40 -> 1 | M40: 611 | N40: 0.0025348542 | O40: באר טוביה | P40: אשדוד (מרחב) | Q40: קרית מלאכי
A41: אורטל | B41: 4013 | C41: 1 | D41: 0 | E41: 0 | F41: 0 | G41: 0 | H41: 0 | I41: 0 | J41: 0 | K41: 0 | L41: =+C41-D41-G41-H41-I41-J41-K41 -> 1 | M41: 365 | N41: 0.0067086148 | O41: גולן | P41: גליל עליון (מרחב) | Q41: קצרין (מוקד)
A42: אורים | B42: 0403 | C42: 62 | D42: 3 | E42: 0 | F42: 0 | G42: 0 | H42: 2 | I42: 36 | J42: 8 | K42: 3 | L42: =+C42-D42-G42-H42-I42-J42-K42 -> 10 | M42: 586 | N42: 0.0049627792 | O42: אשכול | P42: באר שבע והנגב (מרחב) | Q42: אופקים
A43: אורנית | B43: 3760 | C43: 61 | D43: 22 | E43: 0 | F43: 0 | G43: 0 | H43: 5 | I43: 10 | J43: 1 | K43: 7 | L43: =+C43-D43-G43-H43-I43-J43-K43 -> 16 | M43: 9608 | N43: 0.0047859268 | P43: פתח תקוה (מרחב)
A44: אושה | B44: 0278 | C44: 3 | D44: 0 | E44: 0 | F44: 0 | G44: 0 | H44: 0 | I44: 3 | J44: 0 | K44: 0 | L44: =+C44-D44-G44-H44-I44-J44-K44 -> 0 | M44: 512 | N44: 0.024691358 | O44: זבולון | P44: חיפה (מרחב) | Q44: הקריות
A45: אזור | B45: 0565 | C45: 204 | D45: 136 | E45: 12 | F45: 11 | G45: 1 | H45: 9 | I45: 19 | J45: 3 | K45: 1 | L45: =+C45-D45-G45-H45-I45-J45-K45 -> 35 | M45: 13434 | N45: 0.002688172 | P45: ראשון לציון (מרחב) | Q45: חולון (סניף)
A46: אחווה | B46: 1157 | C46: 2 | D46: 2 | E46: 0 | F46: 0 | G46: 0 | H46: 0 | I46: 0 | J46: 0 | K46: 0 | L46: =+C46-D46-G46-H46-I46-J46-K46 -> 0 | M46: 202 | N46: 0.0027100271 | O46: באר טוביה | P46: אשדוד (מרחב) | Q46: קרית מלאכי
A47: אחוזם | B47: 0821 | C47: 2 | D47: 0 | E47: 0 | F47: 0 | G47: 0 | H47: 2 | I47: 0 | J47: 0 | K47: 0 | L47: =+C47-D47-G47-H47-I47-J47-K47 -> 0 | M47: 521 | N47: 0.060755337 | O47: לכיש | P47: אשדוד (מרחב)
A48: אחוזת ברק | B48: 1330 | C48: 4 | D48: 1 | E48: 0 | F48: 0 | G48: 0 | H48: 0 | I48: 0 | J48: 1 | K48: 0 | L48: =+C48-D48-G48-H48-I48-J48-K48 -> 2 | M48: 2550 | N48: 0.0078926598 | O48: עמק יזרעאל | P48: נוף הגליל והעמקים (מרחב) | Q48: מגדל העמק
A49: אחיהוד | B49: 0785 | C49: 6 | D49: 3 | E49: 0 | F49: 0 | G49: 0 | H49: 0 | I49: 2 | J49: 0 | K49: 0 | L49: =+C49-D49-G49-H49-I49-J49-K49 -> 1 | M49: 977 | N49: 0.0078809107 | O49: מטה אשר | P49: גליל עליון (מרחב) | Q49: עכו
A50: אחיסמך | B50: 0804 | C50: 2 | D50: 0 | E50: 0 | F50: 0 | G50: 0 | H50: 2 | I50: 0 | J50: 0 | K50: 0 | L50: =+C50-D50-G50-H50-I50-J50-K50 -> 0 | M50: 1336 | N50: 0.030103093 | O50: חבל מודיעין | P50: פתח תקוה (מרחב) | Q50: רמלה - לוד
A51: אחיעזר | B51: 0797 | C51: 13 | D51: 0 | E51: 0 | F51: 0 | G51: 0 | H51: 0 | I51: 1 | J51: 6 | K51: 1 | L51: =+C51-D51-G51-H51-I51-J51-K51 -> 5 | M51: 1878 | N51: 0.0080645161 | O51: שדות דן | P51: פתח תקוה (מרחב) | Q51: רמלה - לוד
A52: איבים | B52: 0338 | C52: 397 | D52: 22 | E52: 1 | F52: 1 | G52: 366 | H52: 1 | I52: 1 | J52: 0 | K52: 1 | L52: =+C52-D52-G52-H52-I52-J52-K52 -> 6 | M52: 490 | N52: 0.015884477 | O52: שער הנגב | P52: באר שבע והנגב (מרחב) | Q52: שדרות
A53: אייל | B53: 0716 | C53: 2 | D53: 0 | E53: 0 | F53: 0 | G53: 0 | H53: 0 | I53: 0 | J53: 0 | K53: 0 | L53: =+C53-D53-G53-H53-I53-J53-K53 -> 2 | M53: 572 | N53: 0.013392857 | O53: דרום השרון | P53: נתניה והשרון (מרחב) | Q53: השרון
A54: איילת השחר | B54: 0077 | C54: 37 | D54: 19 | E54: 0 | F54: 0 | G54: 12 | H54: 0 | I54: 0 | J54: 0 | K54: 1 | L54: =+C54-D54-G54-H54-I54-J54-K54 -> 5 | M54: 1144 | N54: 0.001010101 | O54: הגליל העליון | P54: גליל עליון (מרחב) | Q54: קרית שמונה
A55: אילון | B55: 0294 | C55: 5 | D55: 0 | E55: 0 | F55: 0 | G55: 0 | H55: 0 | I55: 0 | J55: 0 | K55: 2 | L55: =+C55-D55-G55-H55-I55-J55-K55 -> 3 | M55: 1184 | N55: 0.0042689434 | O55: מטה אשר | P55: גליל עליון (מרחב) | Q55: נהריה
A56: אילות | B56: 1126 | C56: 18 | D56: 15 | E56: 0 | F56: 1 | G56: 0 | H56: 0 | I56: 3 | J56: 0 | K56: 0 | L56: =+C56-D56-G56-H56-I56-J56-K56 -> 0 | M56: 350 | N56: 0.0066006601 | O56: חבל אילות | P56: באר שבע והנגב (מרחב) | Q56: אילת
A57: אילניה | B57: 0049 | C57: 6 | D57: 5 | E57: 0 | F57: 0 | G57: 0 | H57: 0 | I57: 1 | J57: 0 | K57: 0 | L57: =+C57-D57-G57-H57-I57-J57-K57 -> 0 | M57: 607 | N57: 0.011261261 | O57: הגליל התחתון | P57: נוף הגליל והעמקים (מרחב) | Q57: טבריה
A58: אילת | B58: 2600 | C58: 6615 | D58: 4211 | E58: 74 | F58: 319 | G58: 27 | H58: 919 | I58: 173 | J58: 169 | K58: 70 | L58: =+C58-D58-G58-H58-I58-J58-K58 -> 1046 | M58: 67603 | N58: 0.0078125 | P58: באר שבע והנגב (מרחב) | Q58: אילת
A59: אירוס | B59: 1336 | C59: 3 | D59: 1 | E59: 0 | F59: 0 | G59: 0 | H59: 0 | I59: 1 | J59: 0 | K59: 0 | L59: =+C59-D59-G59-H59-I59-J59-K59 -> 1 | M59: 708 | N59: 0.045679372 | O59: גן רווה | P59: ראשון לציון (מרחב)
A60: איתמר | B60: 3762 | C60: 20 | D60: 7 | E60: 0 | F60: 0 | G60: 0 | H60: 0 | I60: 13 | J60: 0 | K60: 0 | L60: =+C60-D60-G60-H60-I60-J60-K60 -> 0 | M60: 1254 | N60: 0.0062305296 | O60: שומרון | P60: פתח תקוה (מרחב) | Q60: אריאל (מוקד)
A61: אל-רום | B61: 4003 | C61: 4 | D61: 0 | E61: 0 | F61: 0 | G61: 0 | H61: 0 | I61: 2 | J61: 0 | K61: 0 | L61: =+C61-D61-G61-H61-I61-J61-K61 -> 2 | M61: 483 | N61: 0.002739726 | O61: גולן | P61: גליל עליון (מרחב) | Q61: קצרין (מוקד)
A62: אל סייד | B62: 1359 | C62: 1 | D62: 1 | E62: 0 | F62: 0 | G62: 0 | H62: 0 | I62: 0 | J62: 0 | K62: 0 | L62: =+C62-D62-G62-H62-I62-J62-K62 -> 0 | M62: 3312 | N62: 0.0029542097 | O62: אל קסום | P62: באר שבע והנגב (מרחב)
A63: אלומה | B63: 1145 | C63: 4 | D63: 0 | E63: 0 | F63: 0 | G63: 0 | H63: 1 | I63: 0 | J63: 0 | K63: 0 | L63: =+C63-D63-G63-H63-I63-J63-K63 -> 3 | M63: 553 | N63: 0.061633282 | O63: שפיר | P63: אשדוד (מרחב) | Q63: קרית גת
A64: אלומות | B64: 0330 | C64: 6 | D64: 1 | E64: 0 | F64: 0 | G64: 0 | H64: 0 | I64: 3 | J64: 2 | K64: 0 | L64: =+C64-D64-G64-H64-I64-J64-K64 -> 0 | M64: 492 | N64: 0.0091659028 | O64: עמק הירדן | P64: נוף הגליל והעמקים (מרחב) | Q64: טבריה
A65: אלון הגליל | B65: 1182 | C65: 5 | D65: 0 | E65: 0 | F65: 0 | G65: 0 | H65: 0 | I65: 1 | J65: 0 | K65: 0 | L65: =+C65-D65-G65-H65-I65-J65-K65 -> 4 | M65: 1178 | N65: 0.013471503 | O65: עמק יזרעאל | P65: נוף הגליל והעמקים (מרחב)
A66: אלון מורה | B66: 3579 | C66: 9 | D66: 0 | E66: 0 | F66: 0 | G66: 0 | H66: 0 | I66: 9 | J66: 0 | K66: 0 | L66: =+C66-D66-G66-H66-I66-J66-K66 -> 0 | M66: 1864 | N66: 0.0037558685 | O66: שומרון | P66: נתניה והשרון (מרחב)
A67: אלון שבות | B67: 3604 | C67: 214 | D67: 6 | E67: 0 | F67: 0 | G67: 2 | H67: 3 | I67: 125 | J67: 0 | K67: 16 | L67: =+C67-D67-G67-H67-I67-J67-K67 -> 62 | M67: 3481 | N67: 0.011787819 | O67: גוש עציון | P67: ירושלים (מרחב) | Q67: קרית ארבע
A68: אלוני אבא | B68: 0429 | C68: 2 | D68: 0 | E68: 0 | F68: 0 | G68: 0 | H68: 0 | I68: 2 | J68: 0 | K68: 0 | L68: =+C68-D68-G68-H68-I68-J68-K68 -> 0 | M68: 1046 | N68: 0.0077605322 | O68: עמק יזרעאל | P68: נוף הגליל והעמקים (מרחב)
A69: אלוני הבשן | B69: 4017 | C69: 7 | D69: 0 | E69: 0 | F69: 0 | G69: 0 | H69: 0 | I69: 3 | J69: 4 | K69: 0 | L69: =+C69-D69-G69-H69-I69-J69-K69 -> 0 | M69: 439 | N69: 0.012072435 | O69: גולן | P69: גליל עליון (מרחב) | Q69: קצרין (מוקד)
A70: אלוני יצחק | B70: 0868 | C70: 20 | D70: 20 | E70: 1 | F70: 1 | G70: 0 | H70: 0 | I70: 0 | J70: 0 | K70: 0 | L70: =+C70-D70-G70-H70-I70-J70-K70 -> 0 | M70: 169 | N70: 0.019241983 | O70: מנשה | P70: חדרה (מרחב)
A71: אלונים | B71: 0285 | C71: 5 | D71: 0 | E71: 0 | F71: 0 | G71: 0 | H71: 0 | I71: 2 | J71: 0 | K71: 0 | L71: =+C71-D71-G71-H71-I71-J71-K71 -> 3 | M71: 732 | N71: 0.004137931 | O71: עמק יזרעאל | P71: חיפה (מרחב)
A72: אלי-עד | B72: 4002 | C72: 4 | D72: 0 | E72: 0 | F72: 0 | G72: 0 | H72: 1 | I72: 3 | J72: 0 | K72: 0 | L72: =+C72-D72-G72-H72-I72-J72-K72 -> 0 | M72: 486 | N72: 0.0024449878 | O72: גולן | P72: גליל עליון (מרחב) | Q72: קצרין (מוקד)
A73: אליאב | B73: 1365 | C73: 2 | D73: 0 | E73: 0 | F73: 0 | G73: 0 | H73: 0 | I73: 2 | J73: 0 | K73: 0 | L73: =+C73-D73-G73-H73-I73-J73-K73 -> 0 | M73: 548 | N73: 0.20437956 | O73: לכיש | P73: אשדוד (מרחב)
A74: אליכין | B74: 0041 | C74: 16 | D74: 3 | E74: 0 | F74: 0 | G74: 0 | H74: 1 | I74: 8 | J74: 0 | K74: 1 | L74: =+C74-D74-G74-H74-I74-J74-K74 -> 3 | M74: 3690 | N74: 0.022701476 | P74: חדרה (מרחב)
A75: אליקים | B75: 0682 | C75: 5 | D75: 1 | E75: 0 | F75: 0 | G75: 0 | H75: 1 | I75: 1 | J75: 0 | K75: 0 | L75: =+C75-D75-G75-H75-I75-J75-K75 -> 2 | M75: 863 | N75: 5.279831e-05 | O75: מגידו | P75: חדרה (מרחב)
A76: אלישיב | B76: 0204 | C76: 3 | D76: 0 | E76: 0 | F76: 0 | G76: 0 | H76: 0 | I76: 0 | J76: 0 | K76: 0 | L76: =+C76-D76-G76-H76-I76-J76-K76 -> 3 | M76: 706 | N76: 0.0025773196 | O76: עמק חפר | P76: נתניה והשרון (מרחב)
A77: אלישמע | B77: 0841 | C77: 2 | D77: 0 | E77: 0 | F77: 0 | G77: 0 | H77: 0 | I77: 1 | J77: 0 | K77: 0 | L77: =+C77-D77-G77-H77-I77-J77-K77 -> 1 | M77: 1166 | N77: 0.010614102 | O77: דרום השרון | P77: נתניה והשרון (מרחב) | Q77: השרון
A78: אלמגור | B78: 1125 | C78: 2 | D78: 0 | E78: 0 | F78: 0 | G78: 0 | H78: 0 | I78: 1 | J78: 0 | K78: 1 | L78: =+C78-D78-G78-H78-I78-J78-K78 -> 0 | M78: 438 | N78: 0.019088017 | O78: עמק הירדן | P78: גליל עליון (מרחב) | Q78: קרית שמונה
A79: אלמוג | B79: 3556 | C79: 6 | D79: 0 | E79: 0 | F79: 0 | G79: 0 | H79: 4 | I79: 1 | J79: 0 | K79: 1 | L79: =+C79-D79-G79-H79-I79-J79-K79 -> 0 | M79: 313 | N79: 0.0021551724 | O79: מגילות ים המלח | P79: ירושלים (מרחב)
A80: אלעד | B80: 1309 | C80: 357 | D80: 19 | E80: 3 | F80: 0 | G80: 1 | H80: 86 | I80: 110 | J80: 19 | K80: 11 | L80: =+C80-D80-G80-H80-I80-J80-K80 -> 111 | M80: 48262 | N80: 0.0032967033 | P80: פתח תקוה (מרחב)
A81: אלעזר | B81: 3618 | C81: 109 | D81: 11 | E81: 0 | F81: 0 | G81: 0 | H81: 2 | I81: 66 | J81: 0 | K81: 15 | L81: =+C81-D81-G81-H81-I81-J81-K81 -> 15 | M81: 2610 | N81: 0.10185414 | O81: גוש עציון | P81: ירושלים (מרחב) | Q81: קרית ארבע
A82: אלפי מנשה | B82: 3750 | C82: 89 | D82: 46 | E82: 0 | F82: 3 | G82: 0 | H82: 4 | I82: 12 | J82: 2 | K82: 5 | L82: =+C82-D82-G82-H82-I82-J82-K82 -> 20 | M82: 8540 | N82: 0.031271584 | P82: נתניה והשרון (מרחב) | Q82: השרון
A83: אלקנה | B83: 3560 | C83: 27 | D83: 0 | E83: 0 | F83: 0 | G83: 0 | H83: 1 | I83: 18 | J83: 1 | K83: 0 | L83: =+C83-D83-G83-H83-I83-J83-K83 -> 7 | M83: 3909 | N83: 0.084951456 | P83: פתח תקוה (מרחב)
A84: אמונים | B84: 0772 | C84: 6 | D84: 1 | E84: 0 | F84: 0 | G84: 0 | H84: 2 | I84: 1 | J84: 0 | K84: 0 | L84: =+C84-D84-G84-H84-I84-J84-K84 -> 2 | M84: 1007 | N84: 0.002728513 | O84: באר טוביה | P84: אשדוד (מרחב) | Q84: אשקלון
A85: אמירים | B85: 1064 | C85: 31 | D85: 2 | E85: 0 | F85: 0 | G85: 0 | H85: 1 | I85: 6 | J85: 0 | K85: 2 | L85: =+C85-D85-G85-H85-I85-J85-K85 -> 20 | M85: 926 | N85: 0.0089942764 | O85: מרום הגליל | P85: גליל עליון (מרחב)
A86: אמנון | B86: 1253 | C86: 9 | D86: 0 | E86: 0 | F86: 0 | G86: 0 | H86: 0 | I86: 7 | J86: 0 | K86: 2 | L86: =+C86-D86-G86-H86-I86-J86-K86 -> 0 | M86: 429 | N86: 0.069321534 | O86: מבואות החרמון | P86: גליל עליון (מרחב) | Q86: קרית שמונה
A87: אניעם | B87: 4012 | C87: 1 | D87: 0 | E87: 0 | F87: 0 | G87: 0 | H87: 0 | I87: 0 | J87: 0 | K87: 1 | L87: =+C87-D87-G87-H87-I87-J87-K87 -> 0 | M87: 593 | N87: 0.043589744 | O87: גולן | P87: גליל עליון (מרחב) | Q87: קצרין (מוקד)
A88: אספר | B88: 3754 | C88: 16 | D88: 2 | E88: 1 | F88: 0 | G88: 0 | H88: 1 | I88: 7 | J88: 3 | K88: 1 | L88: =+C88-D88-G88-H88-I88-J88-K88 -> 2 | M88: 893 | N88: 0.027548209 | O88: גוש עציון | P88: ירושלים (מרחב) | Q88: קרית ארבע
A89: אפיק | B89: 4301 | C89: 4 | D89: 4 | E89: 0 | F89: 0 | G89: 0 | H89: 0 | I89: 0 | J89: 0 | K89: 0 | L89: =+C89-D89-G89-H89-I89-J89-K89 -> 0 | M89: 392 | N89: 0.0023612751 | O89: גולן | P89: נוף הגליל והעמקים (מרחב)
A90: אפיקים | B90: 0176 | C90: 122 | D90: 40 | E90: 0 | F90: 2 | G90: 0 | H90: 0 | I90: 33 | J90: 4 | K90: 3 | L90: =+C90-D90-G90-H90-I90-J90-K90 -> 42 | M90: 1411 | N90: 0.060255409 | O90: עמק הירדן | P90: נוף הגליל והעמקים (מרחב) | Q90: טבריה
A91: אפק | B91: 0313 | C91: 3 | D91: 0 | E91: 0 | F91: 0 | G91: 0 | H91: 0 | I91: 0 | J91: 0 | K91: 0 | L91: =+C91-D91-G91-H91-I91-J91-K91 -> 3 | M91: 762 | N91: 0.0097645032 | O91: מטה אשר | P91: חיפה (מרחב) | Q91: קרית ביאליק (מוקד)
A92: אפרת | B92: 3650 | C92: 1433 | D92: 45 | E92: 0 | F92: 0 | G92: 3 | H92: 43 | I92: 1091 | J92: 5 | K92: 40 | L92: =+C92-D92-G92-H92-I92-J92-K92 -> 206 | M92: 12244 | N92: 0.043367347 | P92: ירושלים (מרחב) | Q92: קרית ארבע
A93: ארבל | B93: 0701 | C93: 1 | D93: 1 | E93: 0 | F93: 0 | G93: 0 | H93: 0 | I93: 0 | J93: 0 | K93: 0 | L93: =+C93-D93-G93-H93-I93-J93-K93 -> 0 | M93: 717 | N93: 0.0018957346 | O93: הגליל התחתון | P93: נוף הגליל והעמקים (מרחב) | Q93: טבריה
A94: ארז | B94: 0714 | C94: 21 | D94: 0 | E94: 0 | F94: 0 | G94: 0 | H94: 0 | I94: 17 | J94: 1 | K94: 1 | L94: =+C94-D94-G94-H94-I94-J94-K94 -> 2 | M94: 598 | N94: 0.095238095 | O94: שער הנגב | P94: באר שבע והנגב (מרחב) | Q94: שדרות
A95: אריאל | B95: 3570 | C95: 941 | D95: 780 | E95: 16 | F95: 33 | G95: 0 | H95: 35 | I95: 70 | J95: 2 | K95: 2 | L95: =+C95-D95-G95-H95-I95-J95-K95 -> 52 | M95: 20528 | N95: 0.0030674847 | P95: פתח תקוה (מרחב) | Q95: אריאל (מוקד)
A96: ארסוף | B96: 1324 | C96: 10 | D96: 0 | E96: 0 | F96: 0 | G96: 0 | H96: 2 | I96: 0 | J96: 0 | K96: 5 | L96: =+C96-D96-G96-H96-I96-J96-K96 -> 3 | M96: 175 | N96: 0.0020491803 | O96: חוף השרון | P96: נתניה והשרון (מרחב)
A97: אשבול | B97: 0071 | C97: 2 | D97: 0 | E97: 0 | F97: 0 | G97: 0 | H97: 0 | I97: 1 | J97: 0 | K97: 0 | L97: =+C97-D97-G97-H97-I97-J97-K97 -> 1 | M97: 664 | N97: 0.0097560976 | O97: מרחבים | P97: באר שבע והנגב (מרחב) | Q97: נתיבות
A98: אשבל | B98: 1276 | C98: 2 | D98: 0 | E98: 0 | F98: 0 | G98: 0 | H98: 0 | I98: 2 | J98: 0 | K98: 0 | L98: =+C98-D98-G98-H98-I98-J98-K98 -> 0 | M98: 106 | N98: 0.004048583 | O98: משגב | P98: גליל עליון (מרחב)
A99: אשדוד | B99: 0070 | C99: 16071 | D99: 9237 | E99: 438 | F99: 355 | G99: 42 | H99: 4400 | I99: 390 | J99: 140 | K99: 76 | L99: =+C99-D99-G99-H99-I99-J99-K99 -> 1786 | M99: 254395 | N99: 0.015646362 | P99: אשדוד (מרחב)
A100: אשדות יעקב )איחוד( | B100: 0199 | C100: 15 | D100: 8 | E100: 0 | F100: 0 | G100: 0 | H100: 0 | I100: 4 | J100: 0 | K100: 0 | L100: =+C100-D100-G100-H100-I100-J100-K100 -> 3 | M100: 1006 | N100: 0.011777302 | O100: עמק הירדן | P100: נוף הגליל והעמקים (מרחב) | Q100: טבריה
A101: אשדות יעקב )מאוחד( | B101: 0188 | C101: 56 | D101: 45 | E101: 0 | F101: 0 | G101: 0 | H101: 0 | I101: 5 | J101: 0 | K101: 0 | L101: =+C101-D101-G101-H101-I101-J101-K101 -> 6 | M101: 702 | N101: 0.053440471 | O101: עמק הירדן | P101: נוף הגליל והעמקים (מרחב) | Q101: טבריה
...

Sheet גילאים משנת 2005
A1: התפלגות עולים שעלו ארצה
A2: =+'עולים משנת 2005'!A2 -> בין התאריכים 1.1.2005 עד 31.10.2019
A3: לפי ישובים וגילאים ביום 1/1/2020
A4: ממוין לפי שם הישוב
A5: הדוח אינו כולל נפטרים, נולדים בארץ ותושבים חוזרים
B7: קבוצות גיל - גיל מחושב ליום 1/1/2020
B8: סה"כ | H8: סה"כ | I8: אחוז | J8: מועצה
A9: ישוב | B9: עולים | C9: 0-12 | D9: 13-17 | E9: 18-35 | F9: 36-60 | G9: 61+ | H9: תושבים | I9: עולים | J9: אזורית | K9: מרחב | L9: סניף
A10: סה"כ | B10: =SUM(B11:B1024) -> 341558 | C10: =SUM(C11:C1024) -> 30323 | D10: =SUM(D11:D1024) -> 18986 | E10: =SUM(E11:E1024) -> 113146 | F10: =SUM(F11:F1024) -> 98246 | G10: =SUM(G11:G1024) -> 80857 | H10: =SUM(H11:H1024) -> 8721389 | I10: =+B10/H10 -> 0.039163257
A11: אבו גוש | B11: 8 | C11: 2 | D11: 1 | E11: 1 | F11: 4 | G11: 0 | H11: 8236 | I11: =+B11/H11 -> 0.00097134531 | K11: ירושלים (מרחב)
A12: אבטליון | B12: 1 | C12: 0 | D12: 0 | E12: 0 | F12: 1 | G12: 0 | H12: 499 | I12: =+B12/H12 -> 0.002004008 | J12: משגב | K12: גליל עליון (מרחב)
A13: אביאל | B13: 8 | C13: 1 | D13: 2 | E13: 0 | F13: 4 | G13: 1 | H13: 834 | I13: =+B13/H13 -> 0.0095923261 | J13: אלונה | K13: חדרה (מרחב)
A14: אביגדור | B14: 4 | C14: 0 | D14: 0 | E14: 2 | F14: 2 | G14: 0 | H14: 909 | I14: =+B14/H14 -> 0.00440044 | J14: באר טוביה | K14: אשדוד (מרחב) | L14: אשקלון
A15: אביחיל | B15: 22 | C15: 3 | D15: 2 | E15: 8 | F15: 4 | G15: 5 | H15: 1411 | I15: =+B15/H15 -> 0.015591779 | J15: עמק חפר | K15: נתניה והשרון (מרחב)
A16: אביעזר | B16: 9 | C16: 0 | D16: 1 | E16: 1 | F16: 4 | G16: 3 | H16: 905 | I16: =+B16/H16 -> 0.0099447514 | J16: מטה יהודה | K16: ירושלים (מרחב)
A17: אבירים | B17: 1 | C17: 0 | D17: 0 | E17: 1 | F17: 0 | G17: 0 | H17: 298 | I17: =+B17/H17 -> 0.0033557047 | J17: מעלה יוסף | K17: גליל עליון (מרחב) | L17: מעלות
A18: אבן יהודה | B18: 148 | C18: 19 | D18: 7 | E18: 56 | F18: 39 | G18: 27 | H18: 14631 | I18: =+B18/H18 -> 0.010115508 | K18: נתניה והשרון (מרחב)
A19: אבן ספיר | B19: 3 | C19: 0 | D19: 0 | E19: 1 | F19: 1 | G19: 1 | H19: 701 | I19: =+B19/H19 -> 0.0042796006 | J19: מטה יהודה | K19: ירושלים (מרחב)
A20: אבן שמואל | B20: 70 | C20: 21 | D20: 9 | E20: 7 | F20: 18 | G20: 15 | H20: 1785 | I20: =+B20/H20 -> 0.039215686 | J20: שפיר | K20: אשדוד (מרחב) | L20: קרית גת
A21: אבני איתן | B21: 10 | C21: 0 | D21: 1 | E21: 7 | F21: 2 | G21: 0 | H21: 788 | I21: =+B21/H21 -> 0.012690355 | J21: גולן | K21: גליל עליון (מרחב)
A22: אבני חפץ | B22: 48 | C22: 2 | D22: 6 | E22: 19 | F22: 14 | G22: 7 | H22: 2014 | I22: =+B22/H22 -> 0.023833168 | J22: שומרון | K22: נתניה והשרון (מרחב)
A23: אבנת | B23: 2 | C23: 0 | D23: 0 | E23: 1 | F23: 1 | G23: 0 | H23: 206 | I23: =+B23/H23 -> 0.0097087379 | J23: מגילות ים המלח | K23: ירושלים (מרחב)
A24: אבשלום | B24: 12 | C24: 2 | D24: 1 | E24: 3 | F24: 5 | G24: 1 | H24: 328 | I24: =+B24/H24 -> 0.036585366 | J24: אשכול | K24: באר שבע והנגב (מרחב) | L24: אופקים
A25: אדורה | B25: 2 | C25: 0 | D25: 0 | E25: 1 | F25: 0 | G25: 1 | H25: 491 | I25: =+B25/H25 -> 0.0040733198 | J25: הר חברון | K25: ירושלים (מרחב) | L25: קרית ארבע
A26: אדירים | B26: 3 | C26: 1 | D26: 1 | E26: 0 | F26: 1 | G26: 0 | H26: 332 | I26: =+B26/H26 -> 0.0090361446 | J26: הגלבוע | K26: נוף הגליל והעמקים (מרחב) | L26: עפולה
A27: אדמית | B27: 9 | C27: 0 | D27: 1 | E27: 3 | F27: 0 | G27: 5 | H27: 474 | I27: =+B27/H27 -> 0.018987342 | J27: מטה אשר | K27: גליל עליון (מרחב) | L27: נהריה
A28: אדרת | B28: 20 | C28: 2 | D28: 0 | E28: 6 | F28: 7 | G28: 5 | H28: 907 | I28: =+B28/H28 -> 0.022050717 | J28: מטה יהודה | K28: ירושלים (מרחב) | L28: בית שמש
A29: אודים | B29: 17 | C29: 0 | D29: 2 | E29: 7 | F29: 8 | G29: 0 | H29: 1138 | I29: =+B29/H29 -> 0.014938489 | J29: חוף השרון | K29: נתניה והשרון (מרחב)
A30: אודם | B30: 4 | C30: 0 | D30: 0 | E30: 1 | F30: 1 | G30: 2 | H30: 183 | I30: =+B30/H30 -> 0.021857923 | J30: גולן | K30: גליל עליון (מרחב) | L30: קצרין (מוקד)
A31: אוהד | B31: 3 | C31: 0 | D31: 0 | E31: 1 | F31: 2 | G31: 0 | H31: 412 | I31: =+B31/H31 -> 0.0072815534 | J31: אשכול | K31: באר שבע והנגב (מרחב)
A32: אומן | B32: 5 | C32: 0 | D32: 0 | E32: 1 | F32: 2 | G32: 2 | H32: 496 | I32: =+B32/H32 -> 0.010080645 | J32: הגלבוע | K32: נוף הגליל והעמקים (מרחב) | L32: עפולה
A33: אומץ | B33: 1 | C33: 0 | D33: 0 | E33: 1 | F33: 0 | G33: 0 | H33: 787 | I33: =+B33/H33 -> 0.001270648 | J33: עמק חפר | K33: נתניה והשרון (מרחב)
A34: אופקים | B34: 507 | C34: 47 | D34: 28 | E34: 158 | F34: 123 | G34: 151 | H34: 33623 | I34: =+B34/H34 -> 0.015078964 | K34: באר שבע והנגב (מרחב) | L34: אופקים
A35: אור הגנוז | B35: 1 | C35: 0 | D35: 0 | E35: 0 | F35: 1 | G35: 0 | H35: 621 | I35: =+B35/H35 -> 0.001610306 | J35: מרום הגליל | K35: גליל עליון (מרחב) | L35: צפת
A36: אור הנר | B36: 11 | C36: 0 | D36: 0 | E36: 3 | F36: 4 | G36: 4 | H36: 934 | I36: =+B36/H36 -> 0.011777302 | J36: שער הנגב | K36: באר שבע והנגב (מרחב) | L36: שדרות
A37: אור יהודה | B37: 545 | C37: 27 | D37: 36 | E37: 215 | F37: 159 | G37: 108 | H37: 37460 | I37: =+B37/H37 -> 0.014548852 | K37: פתח תקוה (מרחב)
A38: אור עקיבא | B38: 703 | C38: 79 | D38: 31 | E38: 178 | F38: 211 | G38: 204 | H38: 21662 | I38: =+B38/H38 -> 0.032453144 | K38: חדרה (מרחב)
A39: אורה | B39: 24 | C39: 6 | D39: 2 | E39: 9 | F39: 6 | G39: 1 | H39: 1227 | I39: =+B39/H39 -> 0.019559902 | J39: מטה יהודה | K39: ירושלים (מרחב)
A40: אורות | B40: 2 | C40: 0 | D40: 0 | E40: 2 | F40: 0 | G40: 0 | H40: 611 | I40: =+B40/H40 -> 0.0032733224 | J40: באר טוביה | K40: אשדוד (מרחב) | L40: קרית מלאכי
A41: אורטל | B41: 1 | C41: 0 | D41: 0 | E41: 1 | F41: 0 | G41: 0 | H41: 365 | I41: =+B41/H41 -> 0.002739726 | J41: גולן | K41: גליל עליון (מרחב) | L41: קצרין (מוקד)
A42: אורים | B42: 62 | C42: 2 | D42: 1 | E42: 51 | F42: 6 | G42: 2 | H42: 586 | I42: =+B42/H42 -> 0.10580205 | J42: אשכול | K42: באר שבע והנגב (מרחב) | L42: אופקים
A43: אורנית | B43: 61 | C43: 0 | D43: 3 | E43: 25 | F43: 20 | G43: 13 | H43: 9608 | I43: =+B43/H43 -> 0.0063488759 | K43: פתח תקוה (מרחב)
A44: אושה | B44: 3 | C44: 0 | D44: 0 | E44: 2 | F44: 0 | G44: 1 | H44: 512 | I44: =+B44/H44 -> 0.005859375 | J44: זבולון | K44: חיפה (מרחב) | L44: הקריות
A45: אזור | B45: 204 | C45: 10 | D45: 4 | E45: 88 | F45: 74 | G45: 28 | H45: 13434 | I45: =+B45/H45 -> 0.015185351 | K45: ראשון לציון (מרחב) | L45: חולון (סניף)
A46: אחווה | B46: 2 | C46: 0 | D46: 0 | E46: 0 | F46: 0 | G46: 2 | H46: 202 | I46: =+B46/H46 -> 0.0099009901 | J46: באר טוביה | K46: אשדוד (מרחב) | L46: קרית מלאכי
A47: אחוזם | B47: 2 | C47: 0 | D47: 0 | E47: 2 | F47: 0 | G47: 0 | H47: 521 | I47: =+B47/H47 -> 0.0038387716 | J47: לכיש | K47: אשדוד (מרחב)
A48: אחוזת ברק | B48: 4 | C48: 0 | D48: 0 | E48: 3 | F48: 1 | G48: 0 | H48: 2550 | I48: =+B48/H48 -> 0.0015686275 | J48: עמק יזרעאל | K48: נוף הגליל והעמקים (מרחב) | L48: מגדל העמק
A49: אחיהוד | B49: 6 | C49: 1 | D49: 0 | E49: 4 | F49: 1 | G49: 0 | H49: 977 | I49: =+B49/H49 -> 0.0061412487 | J49: מטה אשר | K49: גליל עליון (מרחב) | L49: עכו
A50: אחיסמך | B50: 2 | C50: 0 | D50: 0 | E50: 2 | F50: 0 | G50: 0 | H50: 1336 | I50: =+B50/H50 -> 0.001497006 | J50: חבל מודיעין | K50: פתח תקוה (מרחב) | L50: רמלה - לוד
A51: אחיעזר | B51: 13 | C51: 3 | D51: 3 | E51: 4 | F51: 3 | G51: 0 | H51: 1878 | I51: =+B51/H51 -> 0.0069222577 | J51: שדות דן | K51: פתח תקוה (מרחב) | L51: רמלה - לוד
A52: איבים | B52: 397 | C52: 50 | D52: 55 | E52: 167 | F52: 58 | G52: 67 | H52: 490 | I52: =+B52/H52 -> 0.81020408 | J52: שער הנגב | K52: באר שבע והנגב (מרחב) | L52: שדרות
A53: אייל | B53: 2 | C53: 0 | D53: 0 | E53: 1 | F53: 1 | G53: 0 | H53: 572 | I53: =+B53/H53 -> 0.0034965035 | J53: דרום השרון | K53: נתניה והשרון (מרחב) | L53: השרון
A54: איילת השחר | B54: 37 | C54: 6 | D54: 4 | E54: 12 | F54: 11 | G54: 4 | H54: 1144 | I54: =+B54/H54 -> 0.032342657 | J54: הגליל העליון | K54: גליל עליון (מרחב) | L54: קרית שמונה
A55: אילון | B55: 5 | C55: 0 | D55: 3 | E55: 1 | F55: 1 | G55: 0 | H55: 1184 | I55: =+B55/H55 -> 0.004222973 | J55: מטה אשר | K55: גליל עליון (מרחב) | L55: נהריה
A56: אילות | B56: 18 | C56: 0 | D56: 1 | E56: 14 | F56: 2 | G56: 1 | H56: 350 | I56: =+B56/H56 -> 0.051428571 | J56: חבל אילות | K56: באר שבע והנגב (מרחב) | L56: אילת
A57: אילניה | B57: 6 | C57: 0 | D57: 0 | E57: 3 | F57: 1 | G57: 2 | H57: 607 | I57: =+B57/H57 -> 0.0098846787 | J57: הגליל התחתון | K57: נוף הגליל והעמקים (מרחב) | L57: טבריה
A58: אילת | B58: 6615 | C58: 374 | D58: 264 | E58: 2213 | F58: 2325 | G58: 1439 | H58: 67603 | I58: =+B58/H58 -> 0.097850687 | K58: באר שבע והנגב (מרחב) | L58: אילת
A59: אירוס | B59: 3 | C59: 0 | D59: 0 | E59: 2 | F59: 0 | G59: 1 | H59: 708 | I59: =+B59/H59 -> 0.0042372881 | J59: גן רווה | K59: ראשון לציון (מרחב)
A60: איתמר | B60: 20 | C60: 0 | D60: 1 | E60: 12 | F60: 4 | G60: 3 | H60: 1254 | I60: =+B60/H60 -> 0.015948963 | J60: שומרון | K60: פתח תקוה (מרחב) | L60: אריאל (מוקד)
A61: אל-רום | B61: 4 | C61: 0 | D61: 0 | E61: 1 | F61: 0 | G61: 3 | H61: 483 | I61: =+B61/H61 -> 0.0082815735 | J61: גולן | K61: גליל עליון (מרחב) | L61: קצרין (מוקד)
A62: אל סייד | B62: 1 | C62: 0 | D62: 0 | E62: 1 | F62: 0 | G62: 0 | H62: 3312 | I62: =+B62/H62 -> 0.00030193237 | J62: אל קסום | K62: באר שבע והנגב (מרחב)
A63: אלומה | B63: 4 | C63: 0 | D63: 0 | E63: 3 | F63: 1 | G63: 0 | H63: 553 | I63: =+B63/H63 -> 0.0072332731 | J63: שפיר | K63: אשדוד (מרחב) | L63: קרית גת
A64: אלומות | B64: 6 | C64: 1 | D64: 0 | E64: 1 | F64: 2 | G64: 2 | H64: 492 | I64: =+B64/H64 -> 0.012195122 | J64: עמק הירדן | K64: נוף הגליל והעמקים (מרחב) | L64: טבריה
A65: אלון הגליל | B65: 5 | C65: 2 | D65: 0 | E65: 0 | F65: 1 | G65: 2 | H65: 1178 | I65: =+B65/H65 -> 0.0042444822 | J65: עמק יזרעאל | K65: נוף הגליל והעמקים (מרחב)
A66: אלון מורה | B66: 9 | C66: 4 | D66: 0 | E66: 2 | F66: 3 | G66: 0 | H66: 1864 | I66: =+B66/H66 -> 0.0048283262 | J66: שומרון | K66: נתניה והשרון (מרחב)
A67: אלון שבות | B67: 214 | C67: 12 | D67: 12 | E67: 116 | F67: 42 | G67: 32 | H67: 3481 | I67: =+B67/H67 -> 0.061476587 | J67: גוש עציון | K67: ירושלים (מרחב) | L67: קרית ארבע
A68: אלוני אבא | B68: 2 | C68: 0 | D68: 0 | E68: 1 | F68: 1 | G68: 0 | H68: 1046 | I68: =+B68/H68 -> 0.0019120459 | J68: עמק יזרעאל | K68: נוף הגליל והעמקים (מרחב)
A69: אלוני הבשן | B69: 7 | C69: 0 | D69: 1 | E69: 3 | F69: 2 | G69: 1 | H69: 439 | I69: =+B69/H69 -> 0.01594533 | J69: גולן | K69: גליל עליון (מרחב) | L69: קצרין (מוקד)
A70: אלוני יצחק | B70: 20 | C70: 1 | D70: 4 | E70: 14 | F70: 0 | G70: 1 | H70: 169 | I70: =+B70/H70 -> 0.1183432 | J70: מנשה | K70: חדרה (מרחב)
A71: אלונים | B71: 5 | C71: 0 | D71: 0 | E71: 4 | F71: 0 | G71: 1 | H71: 732 | I71: =+B71/H71 -> 0.0068306011 | J71: עמק יזרעאל | K71: חיפה (מרחב)
A72: אלי-עד | B72: 4 | C72: 2 | D72: 0 | E72: 1 | F72: 1 | G72: 0 | H72: 486 | I72: =+B72/H72 -> 0.0082304527 | J72: גולן | K72: גליל עליון (מרחב) | L72: קצרין (מוקד)
A73: אליאב | B73: 2 | C73: 0 | D73: 0 | E73: 2 | F73: 0 | G73: 0 | H73: 548 | I73: =+B73/H73 -> 0.003649635 | J73: לכיש | K73: אשדוד (מרחב)
A74: אליכין | B74: 16 | C74: 1 | D74: 2 | E74: 6 | F74: 4 | G74: 3 | H74: 3690 | I74: =+B74/H74 -> 0.0043360434 | K74: חדרה (מרחב)
A75: אליקים | B75: 5 | C75: 0 | D75: 0 | E75: 2 | F75: 3 | G75: 0 | H75: 863 | I75: =+B75/H75 -> 0.0057937428 | J75: מגידו | K75: חדרה (מרחב)
A76: אלישיב | B76: 3 | C76: 0 | D76: 0 | E76: 2 | F76: 1 | G76: 0 | H76: 706 | I76: =+B76/H76 -> 0.0042492918 | J76: עמק חפר | K76: נתניה והשרון (מרחב)
A77: אלישמע | B77: 2 | C77: 0 | D77: 0 | E77: 2 | F77: 0 | G77: 0 | H77: 1166 | I77: =+B77/H77 -> 0.0017152659 | J77: דרום השרון | K77: נתניה והשרון (מרחב) | L77: השרון
A78: אלמגור | B78: 2 | C78: 0 | D78: 0 | E78: 1 | F78: 1 | G78: 0 | H78: 438 | I78: =+B78/H78 -> 0.00456621 | J78: עמק הירדן | K78: גליל עליון (מרחב) | L78: קרית שמונה
A79: אלמוג | B79: 6 | C79: 0 | D79: 1 | E79: 1 | F79: 2 | G79: 2 | H79: 313 | I79: =+B79/H79 -> 0.019169329 | J79: מגילות ים המלח | K79: ירושלים (מרחב)
A80: אלעד | B80: 357 | C80: 35 | D80: 49 | E80: 122 | F80: 86 | G80: 65 | H80: 48262 | I80: =+B80/H80 -> 0.007397124 | K80: פתח תקוה (מרחב)
A81: אלעזר | B81: 109 | C81: 10 | D81: 7 | E81: 46 | F81: 28 | G81: 18 | H81: 2610 | I81: =+B81/H81 -> 0.041762452 | J81: גוש עציון | K81: ירושלים (מרחב) | L81: קרית ארבע
A82: אלפי מנשה | B82: 89 | C82: 11 | D82: 6 | E82: 27 | F82: 25 | G82: 20 | H82: 8540 | I82: =+B82/H82 -> 0.010421546 | K82: נתניה והשרון (מרחב) | L82: השרון
A83: אלקנה | B83: 27 | C83: 3 | D83: 3 | E83: 10 | F83: 4 | G83: 7 | H83: 3909 | I83: =+B83/H83 -> 0.0069071374 | K83: פתח תקוה (מרחב)
A84: אמונים | B84: 6 | C84: 0 | D84: 1 | E84: 1 | F84: 4 | G84: 0 | H84: 1007 | I84: =+B84/H84 -> 0.005958292 | J84: באר טוביה | K84: אשדוד (מרחב) | L84: אשקלון
A85: אמירים | B85: 31 | C85: 6 | D85: 3 | E85: 13 | F85: 7 | G85: 2 | H85: 926 | I85: =+B85/H85 -> 0.033477322 | J85: מרום הגליל | K85: גליל עליון (מרחב)
A86: אמנון | B86: 9 | C86: 5 | D86: 0 | E86: 2 | F86: 0 | G86: 2 | H86: 429 | I86: =+B86/H86 -> 0.020979021 | J86: מבואות החרמון | K86: גליל עליון (מרחב) | L86: קרית שמונה
A87: אניעם | B87: 1 | C87: 0 | D87: 0 | E87: 1 | F87: 0 | G87: 0 | H87: 593 | I87: =+B87/H87 -> 0.0016863406 | J87: גולן | K87: גליל עליון (מרחב) | L87: קצרין (מוקד)
A88: אספר | B88: 16 | C88: 0 | D88: 0 | E88: 12 | F88: 2 | G88: 2 | H88: 893 | I88: =+B88/H88 -> 0.017917133 | J88: גוש עציון | K88: ירושלים (מרחב) | L88: קרית ארבע
A89: אפיק | B89: 4 | C89: 0 | D89: 0 | E89: 1 | F89: 2 | G89: 1 | H89: 392 | I89: =+B89/H89 -> 0.010204082 | J89: גולן | K89: נוף הגליל והעמקים (מרחב)
A90: אפיקים | B90: 122 | C90: 17 | D90: 8 | E90: 46 | F90: 33 | G90: 18 | H90: 1411 | I90: =+B90/H90 -> 0.086463501 | J90: עמק הירדן | K90: נוף הגליל והעמקים (מרחב) | L90: טבריה
A91: אפק | B91: 3 | C91: 0 | D91: 0 | E91: 3 | F91: 0 | G91: 0 | H91: 762 | I91: =+B91/H91 -> 0.0039370079 | J91: מטה אשר | K91: חיפה (מרחב) | L91: קרית ביאליק (מוקד)
A92: אפרת | B92: 1433 | C92: 215 | D92: 163 | E92: 461 | F92: 351 | G92: 243 | H92: 12244 | I92: =+B92/H92 -> 0.11703692 | K92: ירושלים (מרחב) | L92: קרית ארבע
A93: ארבל | B93: 1 | C93: 0 | D93: 0 | E93: 0 | F93: 0 | G93: 1 | H93: 717 | I93: =+B93/H93 -> 0.0013947001 | J93: הגליל התחתון | K93: נוף הגליל והעמקים (מרחב) | L93: טבריה
A94: ארז | B94: 21 | C94: 0 | D94: 0 | E94: 21 | F94: 0 | G94: 0 | H94: 598 | I94: =+B94/H94 -> 0.035117057 | J94: שער הנגב | K94: באר שבע והנגב (מרחב) | L94: שדרות
A95: אריאל | B95: 941 | C95: 84 | D95: 36 | E95: 310 | F95: 272 | G95: 239 | H95: 20528 | I95: =+B95/H95 -> 0.045839829 | K95: פתח תקוה (מרחב) | L95: אריאל (מוקד)
A96: ארסוף | B96: 10 | C96: 0 | D96: 0 | E96: 4 | F96: 4 | G96: 2 | H96: 175 | I96: =+B96/H96 -> 0.057142857 | J96: חוף השרון | K96: נתניה והשרון (מרחב)
A97: אשבול | B97: 2 | C97: 0 | D97: 0 | E97: 2 | F97: 0 | G97: 0 | H97: 664 | I97: =+B97/H97 -> 0.0030120482 | J97: מרחבים | K97: באר שבע והנגב (מרחב) | L97: נתיבות
A98: אשבל | B98: 2 | C98: 0 | D98: 0 | E98: 2 | F98: 0 | G98: 0 | H98: 106 | I98: =+B98/H98 -> 0.018867925 | J98: משגב | K98: גליל עליון (מרחב)
A99: אשדוד | B99: 16071 | C99: 1397 | D99: 864 | E99: 3895 | F99: 5031 | G99: 4884 | H99: 254395 | I99: =+B99/H99 -> 0.063173411 | K99: אשדוד (מרחב)
A100: אשדות יעקב )איחוד( | B100: 15 | C100: 1 | D100: 1 | E100: 5 | F100: 2 | G100: 6 | H100: 1006 | I100: =+B100/H100 -> 0.014910537 | J100: עמק הירדן | K100: נוף הגליל והעמקים (מרחב) | L100: טבריה
A101: אשדות יעקב )מאוחד( | B101: 56 | C101: 6 | D101: 4 | E101: 16 | F101: 18 | G101: 12 | H101: 702 | I101: =+B101/H101 -> 0.07977208 | J101: עמק הירדן | K101: נוף הגליל והעמקים (מרחב) | L101: טבריה
...

Sheet מועצות משנת 2014
A1: עולים שעלו למועצות אזוריות מ- 1/1/2014 עד 31/10/2019
A3: מועצה | B3: עולים | C3: בריה"מ | D3: מתוכם קווקזים | E3: מתוכם בוכרים | F3: אתיופים | G3: צרפת | H3: ארה"ב | I3: ארגנטינה | J3: אנגליה | K3: אחרים | L3: סהכ תושבים | M3: אחוז עולים
A4: אלונה | B4: 2 | C4: 0 | D4: 0 | E4: 0 | F4: 0 | G4: 0 | H4: 1 | I4: 0 | J4: 0 | K4: =+B4-C4-F4-G4-H4-I4-J4 -> 1 | L4: 767 | M4: =+B4/L4 -> 0.0026075619
A5: אשכול | B5: 287 | C5: 113 | D5: 0 | E5: 7 | F5: 0 | G5: 2 | H5: 114 | I5: 10 | J5: 11 | K5: =+B5-C5-F5-G5-H5-I5-J5 -> 37 | L5: 12025 | M5: =+B5/L5 -> 0.023866944
A6: באר טוביה | B6: 25 | C6: 5 | D6: 0 | E6: 0 | F6: 0 | G6: 5 | H6: 8 | I6: 1 | J6: 2 | K6: =+B6-C6-F6-G6-H6-I6-J6 -> 4 | L6: 10729 | M6: =+B6/L6 -> 0.0023301333
A7: בני שמעון | B7: 56 | C7: 7 | D7: 0 | E7: 0 | F7: 0 | G7: 0 | H7: 27 | I7: 1 | J7: 2 | K7: =+B7-C7-F7-G7-H7-I7-J7 -> 19 | L7: 6477 | M7: =+B7/L7 -> 0.0086459781
A8: ברנר | B8: 15 | C8: 0 | D8: 0 | E8: 0 | F8: 0 | G8: 4 | H8: 5 | I8: 1 | J8: 0 | K8: =+B8-C8-F8-G8-H8-I8-J8 -> 5 | L8: 7646 | M8: =+B8/L8 -> 0.0019618101
A9: גדרות | B9: 4 | C9: 0 | D9: 0 | E9: 0 | F9: 0 | G9: 0 | H9: 2 | I9: 0 | J9: 0 | K9: =+B9-C9-F9-G9-H9-I9-J9 -> 2 | L9: 2669 | M9: =+B9/L9 -> 0.0014986886
A10: גולן | B10: 60 | C10: 12 | D10: 0 | E10: 0 | F10: 0 | G10: 6 | H10: 30 | I10: 1 | J10: 3 | K10: =+B10-C10-F10-G10-H10-I10-J10 -> 8 | L10: 14508 | M10: =+B10/L10 -> 0.0041356493
A11: גוש עציון | B11: 438 | C11: 93 | D11: 0 | E11: 0 | F11: 0 | G11: 26 | H11: 195 | I11: 9 | J11: 14 | K11: =+B11-C11-F11-G11-H11-I11-J11 -> 101 | L11: 25296 | M11: =+B11/L11 -> 0.017314991
A12: גזר | B12: 133 | C12: 32 | D12: 0 | E12: 0 | F12: 0 | G12: 8 | H12: 58 | I12: 2 | J12: 9 | K12: =+B12-C12-F12-G12-H12-I12-J12 -> 24 | L12: 22344 | M12: =+B12/L12 -> 0.005952381
A13: גן רווה | B13: 31 | C13: 25 | D13: 0 | E13: 0 | F13: 0 | G13: 0 | H13: 3 | I13: 0 | J13: 0 | K13: =+B13-C13-F13-G13-H13-I13-J13 -> 3 | L13: 3439 | M13: =+B13/L13 -> 0.0090142483
A14: דרום השרון | B14: 81 | C14: 23 | D14: 0 | E14: 0 | F14: 0 | G14: 1 | H14: 21 | I14: 4 | J14: 3 | K14: =+B14-C14-F14-G14-H14-I14-J14 -> 29 | L14: 28240 | M14: =+B14/L14 -> 0.002868272
A15: הגלבוע | B15: 357 | C15: 9 | D15: 0 | E15: 0 | F15: 281 | G15: 3 | H15: 42 | I15: 1 | J15: 4 | K15: =+B15-C15-F15-G15-H15-I15-J15 -> 17 | L15: 14119 | M15: =+B15/L15 -> 0.025285077
... A53: תמר | B53: 5 | C53: 0 | D53: 0 | E53: 0 | F53: 0 | G53: 0 | H53: 2 | I53: 0 | J53: 0 | K53: =+B53-C53-F53-G53-H53-I53-J53 -> 3 | L53: 613 | M53: =+B53/L53 -> 0.0081566069
A54: סהכ | B54: =SUM(B4:B53) -> 6758 | C54: =SUM(C4:C53) -> 1861 | D54: =SUM(D4:D53) -> 10 | E54: =SUM(E4:E53) -> 55 | F54: =SUM(F4:F53) -> 638 | G54: =SUM(G4:G53) -> 607 | H54: =SUM(H4:H53) -> 1969 | I54: =SUM(I4:I53) -> 153 | ... L54: =SUM(L4:L53) -> 695582 | M54: =+B54/L54 -> 0.0097156051

Sheet מועצות גילאים מ 2014
A1: =+'מועצות משנת 2014'!A1 -> עולים שעלו למועצות אזוריות מ- 1/1/2014 עד 31/10/2019
B3: קבוצות גיל - גיל מחושב ליום 1/1/2020
B4: סה"כ | H4: סה"כ | I4: אחוז
A5: ישוב | B5: עולים | C5: 0-12 | D5: 13-17 | E5: 18-35 | F5: 36-60 | G5: 61+ | H5: תושבים | I5: עולים
A6: אלונה | B6: 2 | C6: 0 | D6: 0 | E6: 1 | F6: 0 | G6: 1 | H6: 767 | I6: =+B6/H6 -> 0.0026075619
A7: אשכול | B7: 287 | C7: 36 | D7: 10 | E7: 168 | F7: 55 | G7: 18 | H7: 12025 | I7: =+B7/H7 -> 0.023866944
A8: באר טוביה | B8: 25 | C8: 0 | D8: 0 | E8: 15 | F8: 5 | G8: 5 | H8: 10729 | I8: =+B8/H8 -> 0.0023301333
A9: בני שמעון | B9: 56 | C9: 0 | D9: 0 | E9: 50 | F9: 1 | G9: 5 | H9: 6477 | I9: =+B9/H9 -> 0.0086459781
A10: ברנר | B10: 15 | C10: 0 | D10: 0 | E10: 10 | F10: 1 | G10: 4 | H10: 7646 | I10: =+B10/H10 -> 0.0019618101
A11: גדרות | B11: 4 | C11: 0 | D11: 0 | E11: 3 | F11: 0 | G11: 1 | H11: 2669 | I11: =+B11/H11 -> 0.0014986886
A12: גולן | B12: 60 | C12: 12 | D12: 2 | E12: 28 | F12: 8 | G12: 10 | H12: 14508 | I12: =+B12/H12 -> 0.0041356493
A13: גוש עציון | B13: 438 | C13: 55 | D13: 16 | E13: 177 | F13: 100 | G13: 90 | H13: 25296 | I13: =+B13/H13 -> 0.017314991
A14: גזר | B14: 133 | C14: 20 | D14: 5 | E14: 72 | F14: 18 | G14: 18 | H14: 22344 | I14: =+B14/H14 -> 0.005952381
A15: גן רווה | B15: 31 | C15: 0 | D15: 0 | E15: 24 | F15: 5 | G15: 2 | H15: 3439 | I15: =+B15/H15 -> 0.0090142483
A16: דרום השרון | B16: 81 | C16: 11 | D16: 6 | E16: 34 | F16: 16 | G16: 14 | H16: 28240 | I16: =+B16/H16 -> 0.002868272
A17: הגלבוע | B17: 357 | C17: 26 | D17: 22 | E17: 174 | F17: 40 | G17: 95 | H17: 14119 | I17: =+B17/H17 -> 0.025285077
... A55: תמר | B55: 5 | C55: 0 | D55: 0 | E55: 5 | F55: 0 | G55: 0 | H55: 613 | I55: =+B55/H55 -> 0.0081566069
A56: סהכ | B56: =SUM(B6:B55) -> 6758 | C56: =SUM(C6:C55) -> 1079 | D56: =SUM(D6:D55) -> 300 | E56: =SUM(E6:E55) -> 3201 | F56: =SUM(F6:F55) -> 1171 | G56: =SUM(G6:G55) -> 1007 | H56: =SUM(H6:H55) -> 695582 | I56: =+B56/H56 -> 0.0097156051

Sheet לוח 2
A2: שם רשות מקומית | B2: השתתפות המשרד | C2: רמת פריפריאליות 1-10 משנת 2015 | D2: אשכול סוציואקונומי 1-10 משנת 2015 | E2: נגב גליל | F2: בדיקת רמת פריפריאליות | G2: בדיקת אשכול סוציואקונומי | H2: בדיקת רמה +אשכול+נגב גליל | I2: מחוז
A3: אבן יהודה | B3: =IF(H3=0,0.8,0.9) -> 0.8 | C3: 7 | D3: 8 | E3: 0 | F3: =IF(C3<5,1,0) -> 0 | G3: =IF(D3<5,1,0) -> 0 | H3: =SUM(E3:G3) -> 0 | I3: חיפה והצפון | N3: אבו בסמה | O3: 1
A4: אופקים | B4: =IF(H4=0,0.8,0.9) -> 0.9 | C4: 3 | D4: 3 | E4: 1 | F4: =IF(C4<5,1,0) -> 1 | G4: =IF(D4<5,1,0) -> 1 | H4: =SUM(E4:G4) -> 3 | I4: תל אביב והמרכז | N4: אבו גוש | O4: 2
A5: אור יהודה | B5: =IF(H5=0,0.8,0.9) -> 0.8 | C5: 8 | D5: 6 | E5: 0 | F5: =IF(C5<5,1,0) -> 0 | G5: =IF(D5<5,1,0) -> 0 | H5: =SUM(E5:G5) -> 0 | I5: הדרום וירושלים | N5: אבו סנאן | O5: 3
A6: אור עקיבא | B6: =IF(H6=0,0.8,0.9) -> 0.8 | C6: 5 | D6: 5 | E6: 0 | F6: =IF(C6<5,1,0) -> 0 | G6: =IF(D6<5,1,0) -> 0 | H6: =SUM(E6:G6) -> 0 | N6: אבן יהודה | O6: 8
A7: אורנית | B7: =IF(H7=0,0.8,0.9) -> 0.8 | C7: 6 | D7: 8 | E7: 0 | F7: =IF(C7<5,1,0) -> 0 | G7: =IF(D7<5,1,0) -> 0 | H7: =SUM(E7:G7) -> 0
A8: אזור | B8: =IF(H8=0,0.8,0.9) -> 0.8 | C8: 9 | D8: 7 | E8: 0 | F8: =IF(C8<5,1,0) -> 0 | G8: =IF(D8<5,1,0) -> 0 | H8: =SUM(E8:G8) -> 0 | N8: אום אל-פחם | O8: 2
A9: אילת | B9: =IF(H9=0,0.8,0.9) -> 0.9 | C9: 1 | D9: 6 | E9: 1 | F9: =IF(C9<5,1,0) -> 1 | G9: =IF(D9<5,1,0) -> 0 | H9: =SUM(E9:G9) -> 2 | N9: אופקים | O9: 3
A10: אלעד | B10: =IF(H10=0,0.8,0.9) -> 0.9 | C10: 7 | D10: 2 | E10: 0 | F10: =IF(C10<5,1,0) -> 0 | G10: =IF(D10<5,1,0) -> 1 | H10: =SUM(E10:G10) -> 1 | N10: אור יהודה | O10: 5
A11: אלפי מנשה | B11: =IF(H11=0,0.8,0.9) -> 0.8 | C11: 6 | D11: 8 | E11: 0 | F11: =IF(C11<5,1,0) -> 0 | G11: =IF(D11<5,1,0) -> 0 | H11: =SUM(E11:G11) -> 0 | N11: אור עקיבא | O11: 4
A12: אפרת | B12: =IF(H12=0,0.8,0.9) -> 0.8 | C12: 5 | D12: 6 | E12: 0 | F12: =IF(C12<5,1,0) -> 0 | G12: =IF(D12<5,1,0) -> 0 | H12: =SUM(E12:G12) -> 0 | N12: אורנית | O12: 8
A13: אריאל | B13: =IF(H13=0,0.8,0.9) -> 0.8 | C13: 5 | D13: 6 | E13: 0 | F13: =IF(C13<5,1,0) -> 0 | G13: =IF(D13<5,1,0) -> 0 | H13: =SUM(E13:G13) -> 0 | N13: אזור | O13: 6
A14: אשדוד | B14: =IF(H14=0,0.8,0.9) -> 0.8 | C14: 7 | D14: 5 | E14: 0 | F14: =IF(C14<5,1,0) -> 0 | G14: =IF(D14<5,1,0) -> 0 | H14: =SUM(E14:G14) -> 0 | N14: אילת | O14: 5
A15: אשכול | B15: 1 | C15: 3 | D15: 6 | E15: 1 | F15: =IF(C15<5,1,0) -> 1 | G15: =IF(D15<5,1,0) -> 0 | H15: =SUM(E15:G15) -> 2 | N15: אכסאל | O15: 2
A16: אשקלון | B16: =IF(H16=0,0.8,0.9) -> 0.8 | C16: 5 | D16: 5 | E16: 0 | F16: =IF(C16<5,1,0) -> 0 | G16: =IF(D16<5,1,0) -> 0 | H16: =SUM(E16:G16) -> 0 | N16: אל-בטוף | O16: 1
A17: באר טוביה | B17: =IF(H17=0,0.8,0.9) -> 0.8 | C17: 5 | D17: 7 | E17: 0 | F17: =IF(C17<5,1,0) -> 0 | G17: =IF(D17<5,1,0) -> 0 | H17: =SUM(E17:G17) -> 0 | N17: אלונה | O17: 7
A18: באר יעקב | B18: =IF(H18=0,0.8,0.9) -> 0.8 | C18: 8 | D18: 7 | E18: 0 | F18: =IF(C18<5,1,0) -> 0 | G18: =IF(D18<5,1,0) -> 0 | H18: =SUM(E18:G18) -> 0 | N18: אליכין | O18: 5
A19: באר שבע | B19: =IF(H19=0,0.8,0.9) -> 0.9 | C19: 5 | D19: 5 | E19: 1 | F19: =IF(C19<5,1,0) -> 0 | G19: =IF(D19<5,1,0) -> 0 | H19: =SUM(E19:G19) -> 1 | N19: אלעד | O19: 2
A20: בית אל | B20: =IF(H20=0,0.8,0.9) -> 0.9 | C20: 4 | D20: 3 | E20: 0 | F20: =IF(C20<5,1,0) -> 1 | G20: =IF(D20<5,1,0) -> 1 | H20: =SUM(E20:G20) -> 2 | N20: אלפי מנשה | O20: 8
A21: בית שאן | B21: =IF(H21=0,0.8,0.9) -> 0.9 | C21: 3 | D21: 5 | E21: 1 | F21: =IF(C21<5,1,0) -> 1 | G21: =IF(D21<5,1,0) -> 0 | H21: =SUM(E21:G21) -> 2 | N21: אלקנה | O21: 8
A22: בית שמש | B22: =IF(H22=0,0.8,0.9) -> 0.9 | C22: 5 | D22: 2 | E22: 0 | F22: =IF(C22<5,1,0) -> 0 | G22: =IF(D22<5,1,0) -> 1 | H22: =SUM(E22:G22) -> 1 | N22: אעבלין | O22: 3
A23: ביתר עילית | B23: =IF(H23=0,0.8,0.9) -> 0.9 | C23: 5 | D23: 1 | E23: 0 | F23: =IF(C23<5,1,0) -> 0 | G23: =IF(D23<5,1,0) -> 1 | H23: =SUM(E23:G23) -> 1 | N23: אפרתה | O23: 7
A24: בני ברק | B24: =IF(H24=0,0.8,0.9) -> 0.9 | C24: 10 | D24: 2 | E24: 0 | F24: =IF(C24<5,1,0) -> 0 | G24: =IF(D24<5,1,0) -> 1 | H24: =SUM(E24:G24) -> 1 | N24: אריאל | O24: 5
A25: בני עי"ש | B25: =IF(H25=0,0.8,0.9) -> 0.8 | C25: 6 | D25: 5 | E25: 0 | F25: =IF(C25<5,1,0) -> 0 | G25: =IF(D25<5,1,0) -> 0 | H25: =SUM(E25:G25) -> 0 | N25: אשדוד | O25: 5
A26: בני שמעון | B26: =IF(H26=0,0.8,0.9) -> 0.9 | C26: 3 | D26: 7 | E26: 1 | F26: =IF(C26<5,1,0) -> 1 | G26: =IF(D26<5,1,0) -> 0 | H26: =SUM(E26:G26) -> 2 | N26: אשכול | O26: 6
A27: בנימינה-גבעת עדה | B27: =IF(H27=0,0.8,0.9) -> 0.8 | C27: 5 | D27: 8 | E27: 0 | F27: =IF(C27<5,1,0) -> 0 | G27: =IF(D27<5,1,0) -> 0 | H27: =SUM(E27:G27) -> 0 | N27: אשקלון | O27: 5
... A51: חולון | B51: =IF(H51=0,0.8,0.9) -> 0.8 | C51: 9 | D51: 7 | E51: 0 | F51: =IF(C51<5,1,0) -> 0 | G51: =IF(D51<5,1,0) -> 0 | H51: =SUM(E51:G51) -> 0 | N51: ג'דיידה-מכר | O51: 2
A52: חוף אשקלון | B52: 1 | C52: 5 | D52: 7 | E52: 1 | F52: =IF(C52<5,1,0) -> 0 | G52: =IF(D52<5,1,0) -> 0 | H52: =SUM(E52:G52) -> 1 | N52: ג'ולס | O52: 3
A53: חוף הכרמל | B53: =IF(H53=0,0.8,0.9) -> 0.8 | C53: 5 | D53: 8 | E53: 0 | F53: =IF(C53<5,1,0) -> 0 | G53: =IF(D53<5,1,0) -> 0 | H53: =SUM(E53:G53) -> 0 | N53: ג'לג'וליה | O53: 2
A54: חוף השרון | B54: =IF(H54=0,0.8,0.9) -> 0.8 | C54: 7 | D54: 8 | E54: 0 | F54: =IF(C54<5,1,0) -> 0 | G54: =IF(D54<5,1,0) -> 0 | H54: =SUM(E54:G54) -> 0 | N54: ג'סר א-זרקא | O54: 1
A55: חיפה | B55: =IF(H55=0,0.8,0.9) -> 0.8 | C55: 6 | D55: 7 | E55: 0 | F55: =IF(C55<5,1,0) -> 0 | G55: =IF(D55<5,1,0) -> 0 | H55: =SUM(E55:G55) -> 0 | N55: ג'ש (גוש חלב) | O55: 5
A56: חצור הגלילית | B56: =IF(H56=0,0.8,0.9) -> 0.9 | C56: 3 | D56: 4 | E56: 1 | F56: =IF(C56<5,1,0) -> 1 | G56: =IF(D56<5,1,0) -> 1 | H56: =SUM(E56:G56) -> 3 | N56: *ג'ת | O56: 3
A57: חריש | B57: =IF(H57=0,0.8,0.9) -> 0.9 | C57: 5 | D57: 3 | E57: 0 | F57: =IF(C57<5,1,0) -> 0 | G57: =IF(D57<5,1,0) -> 1 | H57: =SUM(E57:G57) -> 1
A58: טבריה | B58: =IF(H58=0,0.8,0.9) -> 0.9 | C58: 3 | D58: 4 | E58: 1 | F58: =IF(C58<5,1,0) -> 1 | G58: =IF(D58<5,1,0) -> 1 | H58: =SUM(E58:G58) -> 3
A59: טירת כרמל | B59: =IF(H59=0,0.8,0.9) -> 0.8 | C59: 5 | D59: 5 | E59: 0 | F59: =IF(C59<5,1,0) -> 0 | G59: =IF(D59<5,1,0) -> 0 | H59: =SUM(E59:G59) -> 0 | N59: גבעת זאב | O59: 5
A60: יבנה | B60: =IF(H60=0,0.8,0.9) -> 0.8 | C60: 7 | D60: 7 | E60: 0 | F60: =IF(C60<5,1,0) -> 0 | G60: =IF(D60<5,1,0) -> 0 | H60: =SUM(E60:G60) -> 0 | N60: גבעת שמואל | O60: 8
A61: יהוד-מונוסון | B61: =IF(H61=0,0.8,0.9) -> 0.8 | C61: 8 | D61: 8 | E61: 0 | F61: =IF(C61<5,1,0) -> 0 | G61: =IF(D61<5,1,0) -> 0 | H61: =SUM(E61:G61) -> 0 | N61: גבעתיים | O61: 8
A62: יואב | B62: =IF(H62=0,0.8,0.9) -> 0.8 | C62: 5 | D62: 8 | E62: 0 | F62: =IF(C62<5,1,0) -> 0 | G62: =IF(D62<5,1,0) -> 0 | H62: =SUM(E62:G62) -> 0 | N62: גדרה | O62: 6
A63: יקנעם עילית | B63: =IF(H63=0,0.8,0.9) -> 0.9 | C63: 5 | D63: 7 | E63: 1 | F63: =IF(C63<5,1,0) -> 0 | G63: =IF(D63<5,1,0) -> 0 | H63: =SUM(E63:G63) -> 1 | N63: גדרות | O63: 8
A64: ירוחם | B64: =IF(H64=0,0.8,0.9) -> 0.9 | C64: 3 | D64: 3 | E64: 1 | F64: =IF(C64<5,1,0) -> 1 | G64: =IF(D64<5,1,0) -> 1 | H64: =SUM(E64:G64) -> 3 | N64: גולן | O64: 6
A65: ירושלים | B65: =IF(H65=0,0.8,0.9) -> 0.9 | C65: 9 | D65: 2 | E65: 0 | F65: =IF(C65<5,1,0) -> 0 | G65: =IF(D65<5,1,0) -> 1 | H65: =SUM(E65:G65) -> 1 | N65: גוש עציון | O65: 5
A66: כוכב יאיר | B66: =IF(H66=0,0.8,0.9) -> 0.8 | C66: 6 | D66: 9 | E66: 0 | F66: =IF(C66<5,1,0) -> 0 | G66: =IF(D66<5,1,0) -> 0 | H66: =SUM(E66:G66) -> 0 | N66: גזר | O66: 7
A67: כפר יונה | B67: =IF(H67=0,0.8,0.9) -> 0.8 | C67: 6 | D67: 7 | E67: 0 | F67: =IF(C67<5,1,0) -> 0 | G67: =IF(D67<5,1,0) -> 0 | H67: =SUM(E67:G67) -> 0 | N67: גן יבנה | O67: 6
A68: כפר סבא | B68: =IF(H68=0,0.8,0.9) -> 0.8 | C68: 8 | D68: 8 | E68: 0 | F68: =IF(C68<5,1,0) -> 0 | G68: =IF(D68<5,1,0) -> 0 | H68: =SUM(E68:G68) -> 0 | N68: גן רווה | O68: 8
A69: כרמיאל | B69: =IF(H69=0,0.8,0.9) -> 0.9 | C69: 4 | D69: 6 | E69: 1 | F69: =IF(C69<5,1,0) -> 1 | G69: =IF(D69<5,1,0) -> 0 | H69: =SUM(E69:G69) -> 2 | N69: גני תקווה | O69: 8
A70: לב השרון | B70: =IF(H70=0,0.8,0.9) -> 0.8 | C70: 6 | D70: 8 | E70: 0 | F70: =IF(C70<5,1,0) -> 0 | G70: =IF(D70<5,1,0) -> 0 | H70: =SUM(E70:G70) -> 0 | N70: *דאלית אל-כרמל | O70: 3
... A133: רעננה | B133: =IF(H133=0,0.8,0.9) -> 0.8 | C133: 8 | D133: 8 | E133: 0 | F133: =IF(C133<5,1,0) -> 0 | G133: =IF(D133<5,1,0) -> 0 | H133: =SUM(E133:G133) -> 0 | N133: כפר שמריהו | O133: 10
A134: שדרות | B134: 1 | C134: 4 | D134: 5 | E134: 1 | F134: =IF(C134<5,1,0) -> 1 | G134: =IF(D134<5,1,0) -> 0 | H134: =SUM(E134:G134) -> 2 | N134: כפר תבור | O134: 8
A135: שוהם | B135: =IF(H135=0,0.8,0.9) -> 0.8 | C135: 7 | D135: 9 | E135: 0 | F135: =IF(C135<5,1,0) -> 0 | G135: =IF(D135<5,1,0) -> 0 | H135: =SUM(E135:G135) -> 0 | N135: כרמיאל | O135: 5
A136: שומרון | B136: =IF(H136=0,0.8,0.9) -> 0.8 | C136: 5 | D136: 6 | E136: 0 | F136: =IF(C136<5,1,0) -> 0 | G136: =IF(D136<5,1,0) -> 0 | H136: =SUM(E136:G136) -> 0 | N136: לב השרון | O136: 8
A137: שלומי | B137: =IF(H137=0,0.8,0.9) -> 0.9 | C137: 3 | D137: 6 | E137: 1 | F137: =IF(C137<5,1,0) -> 1 | G137: =IF(D137<5,1,0) -> 0 | H137: =SUM(E137:G137) -> 2 | N137: להבים | O137: 9
A138: שער הנגב | B138: 1 | C138: 4 | D138: 7 | E138: 1 | F138: =IF(C138<5,1,0) -> 1 | G138: =IF(D138<5,1,0) -> 0 | H138: =SUM(E138:G138) -> 2 | N138: לוד | O138: 4
A139: תל אביב - יפו | B139: =IF(H139=0,0.8,0.9) -> 0.8 | C139: 10 | D139: 8 | E139: 0 | F139: =IF(C139<5,1,0) -> 0 | G139: =IF(D139<5,1,0) -> 0 | H139: =SUM(E139:G139) -> 0 | N139: לכיש | O139: 5
A140: תל מונד | B140: =IF(H140=0,0.8,0.9) -> 0.8 | C140: 6 | D140: 8 | E140: 0 | F140: =IF(C140<5,1,0) -> 0 | G140: =IF(D140<5,1,0) -> 0 | H140: =SUM(E140:G140) -> 0 | N140: לקיה | O140: 1
N141: מבואות החרמון | O141: 6
N142: מבשרת ציון | O142: 8
N143: מג'דל שמס | O143: 2
N144: *מג'ד אל-כרום | O144: 2
N145: מגאר | O145: 2
N146: מגדל | O146: 5
N147: מגדל העמק | O147: 5
N148: מגידו | O148: 6
N149: מגילות ים המלח | O149: 5
N150: מודיעין-מכבים-רעות | O150: 8
N151: מודיעין עילית | O151: 1
N152: מזכרת בתיה | O152: 8
... N256: תמר | O256: 5
