Workbook
Name AhuzAshlagan: '2'!#REF!
Name AhuzTosaf: '2'!$C$11
Name b: '[1]2'!$C$6
Name Bituach: '2'!$C$9
Name Dollar: '2'!#REF!
Name Maam: '2'!$C$8
Name mekadem: '2'!$C$7
Name MlayTifuli: '2'!$C$12
Name Tosaf: '2'!$C$10
Name TosafAshlagan: '2'!#REF!
Name Tosf: '2'!$C$10
Name VaDate: '[1]2'!$B$4
Name ValidDate: '2'!$B$4
Name Yazig: '2'!$C$6
Name מעמ: '[2]2'!$C$8

Sheet דף מקדים
D3: י"ז באלול התשפ"ו
D4: 30 באוגוסט 2026
A6: מחירי מוצרי דלק ליום 01.09.2026
A8: מחיר בשער בית זיקוק (מחיר לחברות הדלק):
A10: מחירים מרביים למוצרי נפט בשער בית זיקוק יכנסו לתוקף החל מחצות ביום 1/9/2026.
A11: מחיר בשער בית זיקוק הינו המחיר המרבי של מוצר דלק אותו רשאי בית הזיקוק למכור. המחיר אינו כולל בלו, מע"מ, הובלה, ניפוק ותוסף.
A12: מחיר מרבי לגפ"מ בשער בית זיקוק:
A13: על המחיר שבית זיקוק מוכר בו גפ"ם, חל פיקוח לפי פרק ז' לחוק.
A14: אם התברר כי בית זיקוק מכר גפ"ם במחיר העולה על מחיר היבוא בחודש הקודם לחודש שבו בוצעה המכירה, או כי בית זיקוק סיפק גפ"ם לצרכנים שונים במחיר שונה באותו מועד, יחול פיקוח לפי פרק ו' לחוק על המחיר שבו מוכר אותו בית זיקוק גפ"ם והוא יקבע על פי המחיר הקובע.
A15: מחיר קובע ומחיר יבוא לגפ"מ יכנסו לתוקף החל מחצות ביום 1/9/2026.
A17: מחיר לצרכן בתחנת הדלק (בנזין 95 אוקטן נט"ע):
A19: מחירים מרביים למוצרי נפט בתחנה (מחיר לצרכן), (בנזין 95 אוקטן נט"ע) יכנס לתוקף החל מחצות ביום 1/9/2026.
A20: על בנזין הנמכר בשירות עצמי אין להוסיף כל סכום. בכפוף לאמור בצו פיקוח על מחירי מצרכים ושירותים (מחירים מרביים בתחנות תדלוק), התשס"ב - 2002, בסעיף 3ג', על בנזין הנמכר בשירות מלא מותר לגבות תוספת בעד שירות מלא וכן תשלום בעד מכירת בנזין בין השעות 20:00 בערב ל- 6:00 בבוקר למחרת בלבד ובימי מנוחה כמשמעותם בסעיף 18א (א) לפקודת סדרי שלטון ומשפט, התש"ח - 1948, וביום העצמאות, כמשמעותו בחוק יום העצמאות, התשי"ט - 1949.

Sheet תוכן עניינים
A1: מדינת ישראל
A2: משרד האנרגיה
A4: מינהל הדלק והגז
A6: מבנה מחירי הדלקים שבפיקוח
A8: תאריך תוקף : | B8: =ValidDate -> 46266
A15: תוכן עניינים
A17: טבלה 1 | B17: הודעה בדבר עדכון מחירים מרביים למוצרי נפט
A18: טבלה 2 | B18: נתונים בסיסיים
A19: טבלה 3 | B19: בלו קצוב
A20: טבלה 4 | B20: ריכוז מחירים ממוצעים ל-5 הימים הקובעים באזור הים התיכון, $ לט.מ.
A21: טבלה 5 | B21: חישוב 0.1% ערך גופרית במזוט לצורך חישוב הביטומן
A22: טבלה 6 | B22: חישוב CIF W MED ב - ₪
A23: טבלה 7 | B23: מחיר קובע ומחיר יבוא גפ"מ
A24: טבלה 8 | B24: ריכוז השינויים במחירי שער בית זיקוק ובמחירי CIF W MED ב - $
A25: טבלה 9 | B25: עלות שער בית זיקוק ותוספות עבור מזוט 4000 3.5% לסוגיו וזפת לסוגיו
A26: טבלה 10 | B26: מחירי CIF W MED ותוספות עבור בנזין לסוגיו ומזוט 4000 תקני
A27: טבלה 11 | B27: ריכוז עלויות והוצאות למבנה מחיר לצרכן של בנזין בפיקוח, ב - ₪
A28: טבלה 12 | B28: שינויים במחירי בנזין בתחנה
... A31: טבלה 15 | B31: חישוב מרווח השיווק

Sheet 1
A1: הודעה בדבר עדכון מחירים מרביים למוצרי נפט
A2: לפי צו פיקוח על מחירי מצרכים ושירותים (מחירים מרביים בתחנות תדלוק), התשס"ב-2002 , לפי צו פיקוח על מחירי מצרכים ושירותים (מחירים מרביים למוצרי נפט בשער בית זיקוק), התשנ"ג-1992, ולפי צו פיקוח על מחירי מצרכים ושירותים (מחיר מרבי לגפ"ם בשער בית זיקוק), התש"ס-2000
A3: בתוקף סמכותי לפי סעיף 4(ד) לצו פיקוח על מחירי מצרכים ושירותים (מחירים מרביים בתחנות תדלוק), התשס"ב-12002 (להלן – צו תחנות תדלוק), לפי סעיף 2 לצו פיקוח על מחירי מצרכים ושירותים (מחירים מרביים למוצרי נפט בשער בית זיקוק), התשנ"ג-1992 2 (להלן – צו מוצרי נפט), ולפי סעיף 4 לצו פיקוח על מחירי מצרכים ושירותים (מחיר מרבי לגפ"ם בשער בית זיקוק), התש"ס- 2000 3 (להלן-צו מחירי גפ"ם)
A4: אני מודיעה כי מיום י"ט באלול התשפ"ו (1 בספטמבר 2026) המחירים המרביים הם כמפורט להלן:
A5: 1. מחירים מרביים של בנזין בתחנות תדלוק כאמור בצו תחנות תדלוק:
A6: המוצר | C6: בנזין 95 אוקטן נטול עופרת
A7: א. מחיר לליטר בתחנה (כולל 18% מע"מ) | C7: ='11'!C17 -> 8.25
A8: ב. מחיר לליטר בתחנה באילת | C8: ='11'!C42 -> 6.99
A10: תוספת בעד שירות מלא:
A11: בכל הארץ (כולל מע"מ)- | B11: =+'11'!C18 -> 0.26 | C11: שקלים חדשים לליטר.
A12: באילת (לא כולל מע"מ)- | B12: =+'11'!C43 -> 0.22 | C12: שקלים חדשים לליטר.
A14: 2.מחירים מרביים למוצרי נפט בשער בית זיקוק כאמור בצו מוצרי נפט:
A16: מוצר נפט | D16: מחיר בשקלים חדשים לטונה מטרית (לא כולל בלו)
A18: מזוט קל בעל תכולת גופרית של 1% | D18: =+'9'!E13 -> 2167.6016
A19: מזוט קל בעל תכולת גופרית של 0.5% | D19: =+'9'!F13 -> 2362.1807
A20: מזוט כבד בעל תכולת גופרית של 1% | D20: =+'9'!G13 -> 1836.7527
A21: מזוט כבד בעל תכולת גופרית של 0.5% | D21: =+'9'!H13 -> 2071.2455
A22: זפת 80/100 | D22: ='9'!C13 -> 1794.62
A23: זפת ה.ב. | D23: ='9'!D13 -> 1735.2566
A25: 3.המחיר הקובע ומחיר ייבוא לגפ"מ כאמור בצו מחירי גפ"מ:
D27: מחיר בשקלים חדשים לטונה מטרית (לא כולל בלו)
A29: מחיר קובע לגפ"מ | D29: ='7'!C23 -> 1885.8672
A30: מחיר ייבוא גפ"מ | D30: ='7'!C26 -> 2063.9472
A32: י"ז באלול התשפ"ו | B32: (30 באוגוסט 2026)
A33: (חמ 3-2152 – ה1)
A34: 1 ק"ת התשס"ב, עמ' 909; י"פ התשפ"ו, עמ' 8687.
A35: 2 ק"ת התשנ"ג, עמ' 262; י"פ התשפ"ו, עמ' 8687. | C35: בת שבע אבוחצירה
A36: 3 ק"ת התש"ס, עמ' 354; התשפ"ו, עמ' 8687. | C36: מנהלת מינהל הדלק והגז
D38: תוכן עניינים

Sheet 2
A2: טבלה 2 - נתונים בסיסיים
A4: תאריך תוקף: | B4: 46266
A5: שער הדולר:
A6: שער חליפין יציג ביום- | B6: 46262 | C6: 2.968
A7: מקדם שע"ח | C7: 1.009
A8: שיעור המע"מ: | C8: 0.18
A9: ביטוח: | C9: 0.0203
A10: עלות התוסף לבנזין (דטרגנטים): | C10: 0.98
A11: אחוז התוסף | C11: 0.000193
A13: 5 הימים הקובעים:
C14: 46258
C15: 46259
C16: 46260
C17: 46261
C18: 46262
C20: תוכן עניינים

Sheet 3
A5: טבלה 3
A7: בלו קצוב
B9: תאריך תוקף: | C9: =+ValidDate -> 46266
C11: מוצר | D11: יחידה | E11: בלו בש"ח
C12: בנזין | D12: ק"ל | E12: 3656.52
C13: נפטא | D13: ק"ל | E13: 3656.52
C14: קרוסין (נפט) | D14: ק"ל | E14: 3503.33
C15: סולר | D15: ק"ל | E15: 3503.33
C16: מזוט דל גופרית | D16: ט.מ. | E16: 219.11
C17: מזוט אחר | D17: ט.מ. | E17: 1375.81
C18: גפ"מ | D18: ט.מ. | E18: 256.68
B20: פרסום הבלו בעמוד זה אינו פרסום רשמי
B21: למידע עדכני ומוסמך יש לפנות למשרד האוצר או לפרסום הרשמי ברשומות.
G33: תוכן עניינים

Sheet 4
A3: טבלה 4
A4: ריכוז מחירים ממוצעים ל-5 הימים הקובעים באזור הים התיכון, $ \ ט.מ.
A6: תאריך תוקף: | B6: =+ValidDate -> 46266
B7: תאריך | C7: בנזין Prem Unl 10ppm | D7: סולר להסקה Gasoil0.1 | E7: מזוט 0.5 אחוז גפרית | F7: מזוט 1.0 אחוז גפרית | G7: מזוט 3.5 אחוז גפרית
B8: ='2'!C14 -> 46258 | C8: 1157.25 | D8: 1246 | E8: 624.75 | F8: 535 | G8: 505.25
B9: ='2'!C15 -> 46259 | C9: 1157.25 | D9: 1233 | E9: 611 | F9: 521.5 | G9: 489.5
A10: FOB | B10: ='2'!C16 -> 46260 | C10: 1166 | D10: 1228 | E10: 611.25 | F10: 530.5 | G10: 491.25
B11: ='2'!C17 -> 46261 | C11: 1181 | D11: 1215 | E11: 610.75 | F11: 523 | G11: 481.25
B12: ='2'!C18 -> 46262 | C12: 1230.25 | D12: 1280.5 | E12: 618.5 | F12: 526.5 | G12: 490.5
B13: ממוצע 5 ימים | C13: =AVERAGE(C8:C12) -> 1178.35 | D13: =ROUND(AVERAGE(D8:D12),2) -> 1240.5 | E13: =ROUND(AVERAGE(E8:E12),2) -> 615.25 | F13: =ROUND(AVERAGE(F8:F12),2) -> 527.3 | G13: =ROUND(AVERAGE(G8:G12),2) -> 491.55
B15: ='2'!C14 -> 46258 | C15: 1171 | D15: 1259.25 | E15: 651.5 | F15: 565.75 | G15: 535.25
B16: ='2'!C15 -> 46259 | C16: 1171 | D16: 1246.25 | E16: 637.5 | F16: 552 | G16: 519.25
A17: CIF | B17: ='2'!C16 -> 46260 | C17: 1179.75 | D17: 1241.25 | E17: 637 | F17: 560.25 | G17: 520.25
B18: ='2'!C17 -> 46261 | C18: 1194.75 | D18: 1228.25 | E18: 636.25 | F18: 552.25 | G18: 509.75
B19: ='2'!C18 -> 46262 | C19: 1244 | D19: 1293.75 | E19: 643.25 | F19: 555 | G19: 518.25
B20: ממוצע 5 ימים | C20: =AVERAGE(C15:C19) -> 1192.1 | D20: =ROUND(AVERAGE(D15:D19),2) -> 1253.75 | E20: =ROUND(AVERAGE(E15:E19),2) -> 641.1 | F20: =ROUND(AVERAGE(F15:F19),2) -> 557.05 | G20: =ROUND(AVERAGE(G15:G19),2) -> 520.55
A21: מחיר קודם CIF | C21: 1120.35 | D21: 1250.8 | E21: 521.7 | F21: 589.4 | G21: 521.7
A22: אחוז שינוי | C22: =C20/C21-1 -> 0.064042487 | D22: =D20/D21-1 -> 0.0023584906 | E22: =E20/E21-1 -> 0.22886717 | F22: =F20/F21-1 -> -0.054886325 | G22: =G20/G21-1 -> -0.002204332
A23: הפרש ממוצע לחישוב הובלה | C23: =(C20-C13) -> 13.75 | D23: =(D20-D13) -> 13.25 | E23: =(E20-E13) -> 25.85 | F23: =(F20-F13) -> 29.75 | G23: =(G20-G13) -> 29

Sheet 5
A5: טבלה 5
A7: חישוב 0.1% ערך גופרית במזוט לצורך חישוב הביטומן
A10: תאריך תוקף: | B10: =ValidDate -> 46266
B12: ממוצע מזוט 1.0 | D12: =ROUND('4'!F20,2) -> 557.05
B13: ממוצע מזוט 3.5 | D13: =ROUND('4'!G20,2) -> 520.55
B14: הפרש מחיר של 2.5% גופרית | D14: =(D12-D13) -> 36.5
A16: ערך 1% גופרית | B16: =(D16/2.5) -> 14.6 | C16: / 2.5 = | D16: =D14 -> 36.5
A19: (הפחתה/תוספת ל- 0.1% גפרית ($\ט.מ | E19: =(D14/25) -> 1.46
A20: הפחתה/תוספת ל- 0.1% גפרית (ש"ח\ט.מ.) | E20: =ROUND(E19*Yazig,2) -> 4.33
A24: *נוסחת ההפחתה והתוספת מפורסמת לצורך הבהרת אופן חישוב המחירים בפיקוח בלבד.
E28: תוכן עניינים

Sheet 6
A2: טבלה 6
A4: חישוב CIF W MED ב - ₪
A5: תאריך תוקף: | B5: =+ValidDate -> 46266
A6: מוצרים | B6: מחיר ממוצע בדולר\ט.מ. | C6: תוספת | D6: סה"כ בדולר/טון | E6: ₪ לטון | F6: צפיפות | G6: ש"ח/ק"ל | H6: מקדם בטמפ' מעשית | I6: ש"ח/ק"ל בטמפ' מעשית
A7: בנזין 95 נט"ע | B7: ='4'!C20 -> 1192.1 | C7: 0 | D7: =B7+C7 -> 1192.1 | E7: =D7*Yazig -> 3538.1528 | F7: 0.755 | G7: =E7*F7 -> 2671.3054 | H7: 0.992 | I7: =H7*G7 -> 2649.9349
A8: מזוט קל בעל תכולת גופרית של 1% | B8: ='4'!F20*0.78+'4'!D20*0.22 -> 710.324 | C8: 20 | D8: =B8+C8 -> 730.324 | E8: =D8*Yazig -> 2167.6016
A9: מזוט קל בעל תכולת גופרית של 0.5% | B9: ='4'!E20*0.78+'4'!D20*0.22 -> 775.883 | C9: 20 | D9: =B9+C9 -> 795.883 | E9: =D9*Yazig -> 2362.1807
A10: מזוט כבד בעל תכולת גופרית של 1% | B10: ='4'!F20*0.94+'4'!D20*0.06 -> 598.852 | C10: 20 | D10: =B10+C10 -> 618.852 | E10: =D10*Yazig -> 1836.7527
A11: מזוט כבד בעל תכולת גופרית של 0.5% | B11: ='4'!E20*0.94+'4'!D20*0.06 -> 677.859 | C11: 20 | D11: =B11+C11 -> 697.859 | E11: =D11*Yazig -> 2071.2455
A12: סולר הסקה gasoil 0.1% | B12: ='4'!D20 -> 1253.75 | C12: 0 | D12: =B12+C12 -> 1253.75 | E12: =D12*Yazig -> 3721.13
A13: מזוט 4000 (3.5%) | B13: ='5'!D13 -> 520.55 | C13: 0 | D13: =B13+C13 -> 520.55 | E13: =D13*Yazig -> 1544.9924
I15: תוכן עניינים

Sheet 7
A3: טבלה 7
A5: מחיר קובע ומחיר יבוא גפ"מ לפי צו פיקוח על מחירי מצרכים ושירותים (מחיר מרבי לגפ"מ בשער בית זיקוק), התש"ס-2000
A7: תאריך תוקף : | B7: =ValidDate -> 46266
A9: תאריך | B9: FOB w med ex-ref/stor
B10: בוטאן | C10: פרופאן
A11: ='2'!C14 -> 46258 | B11: 649 | C11: 623
A12: ='2'!C15 -> 46259 | B12: 637 | C12: 610.5
A13: ='2'!C16 -> 46260 | B13: 631 | C13: 624
A14: ='2'!C17 -> 46261 | B14: 632 | C14: 631
A15: ='2'!C18 -> 46262 | B15: 646 | C15: 646.5
A16: ממוצע 5 ימי ציטוט | B16: =AVERAGE(B11:B15) -> 639 | C16: =AVERAGE(C11:C15) -> 627
A17: מחיר קודם | B17: 677 | C17: 631.1
C20: מחיר נוכחי | D20: מחיר חודש קודם | E20: אחוז השינוי
C21: קיץ
A22: מחיר קובע ב-$ לטון | C22: =IF(VLOOKUP(C21,G22:H23,2,FALSE)=1,(C32*B16+D32*C16),(C33*B16+D33*C16)) -> 635.4 | D22: 663.23 | E22: =+C22/D22-1 -> -0.041961311 | G22: קיץ | H22: 1
A23: מחיר קובע ב-₪ לטון | C23: =C22*Yazig -> 1885.8672 | D23: 2028.1573 | E23: =+C23/D23-1 -> -0.070157348 | G23: חורף | H23: 2
A25: מחיר ייבוא ב-$ לטון | C25: =+C22+60 -> 695.4 | D25: 723.23 | E25: =+C25/D25-1 -> -0.038480152
A26: מחיר ייבוא ב-₪ לטון | C26: =C25*Yazig -> 2063.9472 | D26: 2211.6373 | E26: =+C26/D26-1 -> -0.066778643
A30: מרכיב הגפ"מ באחוזים:
C31: בוטאן | D31: פרופאן
A32: נוסחת קיץ: אפריל - אוקטובר | C32: 0.7 | D32: 0.3
A33: נוסחת חורף: נובמבר - מרץ | C33: 0.6 | D33: 0.4
E35: תוכן עניינים

Sheet 8
A2: טבלה 8
A4: ריכוז השינויים במחירי שער בית זיקוק בדולר
A6: 1. מחיר שער בית זיקוק בדולר לט.מ.:
A7: מוצר | B7: תוקף | C7: תוקף
B8: =ValidDate -> 46266 | C8: 46236 | D8: אחוז השינוי
A9: מזוט קל בעל תכולת גופרית של 1% | B9: =+'6'!D8 -> 730.324 | C9: 754.908 | D9: =(((B9/C9)-1)*100) -> -3.2565558
A10: מזוט קל בעל תכולת גופרית של 0.5% | B10: =+'6'!D9 -> 795.883 | C10: 806.154 | D10: =(((B10/C10)-1)*100) -> -1.2740742
A11: מזוט כבד בעל תכולת גופרית של 1% | B11: =+'6'!D10 -> 618.852 | C11: 649.084 | D11: =(((B11/C11)-1)*100) -> -4.6576406
A12: מזוט כבד בעל תכולת גופרית של 0.5% | B12: =+'6'!D11 -> 697.859 | C12: 710.842 | D12: =(((B12/C12)-1)*100) -> -1.8264256
A13: שער חליפין יציג ש"ח\$ | B13: =Yazig -> 2.968 | C13: 3.058 | D13: =(((B13/C13)-1)*100) -> -2.9431001
A15: ריכוז השינויים במחירי CIF W MED בדולר
A17: 2. מחירי CIF W MED בדולר לט.מ.:
A18: מוצר | B18: תוקף | C18: תוקף
B19: =ValidDate -> 46266 | C19: 46236 | D19: אחוז השינוי
A20: בנזין 95 נט"ע | B20: ='6'!D7 -> 1192.1 | C20: 1120.35 | D20: =(((B20/C20)-1)*100) -> 6.4042487
A21: סולר הסקה gasoil 0.1% | B21: ='6'!D12 -> 1253.75 | C21: 1250.8 | D21: =(((B21/C21)-1)*100) -> 0.23584906
A22: מזוט על כבד 3.5% | B22: =+'6'!D13 -> 520.55 | C22: 521.7 | D22: =(((B22/C22)-1)*100) -> -0.2204332
D28: תוכן עניינים

Sheet 9
A2: טבלה 9
A3: עלות שער בית זיקוק ותוספות עבור מזוט 4000 3.5% גופרית וזפת לסוגיו.
A6: תאריך תוקף: | C6: =ValidDate -> 46266
B9: מרכיב | C9: *זפת | E9: מזוט קל בעל תכולת גופרית של 1% | F9: מזוט קל בעל תכולת גופרית של 0.5% | G9: מזוט כבד בעל תכולת גופרית של 1% | H9: מזוט כבד בעל תכולת גופרית של 0.5%
C10: 80/100 (PG 68-10) | D10: ה.ב (210-100) | E10: ט.מ. | F10: ט.מ. | G10: ט.מ. | H10: ט.מ.
A11: 1 | B11: ממוצע חמישה ימים | C11: =ROUND(('5'!D13+15*'5'!E19)*0.94*Yazig+0.06*('6'!E12-7.88*Yazig),2) -> 1735.26 | D11: =('5'!D13+15*'5'!E19)*0.94*Yazig+0.06*('6'!E12-7.88*Yazig) -> 1735.2566 | E11: =+'6'!E8 -> 2167.6016 | F11: =+'6'!E9 -> 2362.1807 | G11: =+'6'!E10 -> 1836.7527 | H11: =+'6'!E11 -> 2071.2455
A12: 2 | B12: תוספת זפת | C12: =(20*Yazig) -> 59.36 | D12: 0
A13: 3 | B13: מחיר שער בית זיקוק | C13: =SUM(C11:C12) -> 1794.62 | D13: =SUM(D11:D12) -> 1735.2566 | E13: =SUM(E11:E12) -> 2167.6016 | F13: =SUM(F11:F12) -> 2362.1807 | G13: =SUM(G11:G12) -> 1836.7527 | H13: =SUM(H11:H12) -> 2071.2455
A14: 4 | B14: ביטוח | C14: =ROUND(Bituach/100*C13,2) -> 0.36 | D14: =ROUND(Bituach/100*D13,2) -> 0.35 | E14: =ROUND(Bituach/100*E11,2) -> 0.44 | F14: =ROUND(Bituach/100*F11,2) -> 0.48 | G14: =ROUND(Bituach/100*G11,2) -> 0.37 | H14: =ROUND(Bituach/100*H11,2) -> 0.42
A15: 5 | B15: חוסר (עודף) במתקנים
A16: 6 | B16: סה"כ | C16: =ROUND(SUM(C13:C15),2) -> 1794.98 | D16: =ROUND(SUM(D13:D15),2) -> 1735.61 | E16: =ROUND(SUM(E13:E15),2) -> 2168.04 | F16: =ROUND(SUM(F13:F15),2) -> 2362.66 | G16: =ROUND(SUM(G13:G15),2) -> 1837.12 | H16: =ROUND(SUM(H13:H15),2) -> 2071.67
B20: *בהתאם להוראת מנהל מינהל הדלק מיום 19 בינואר 2010, חישוב מחירי זפת (ביטומן 80/100 (PG 68-10) ו- ה.ב (100 - 210) יבוצע על בסיס מחיר מזוט כבד 4000 2.0% גופרית כנהוג עד כה, ועל בסיס מחיר סולר הסקה 0.1% גופרית כשהוא מופחת ב- 7.88$ לטון, על-פי ממוצע ההפרשים בשנת 2009 בין סולר הסקה 0.1% גופרית לבין סולר הסקה 0.2% גופרית.
G26: תוכן עניינים

Sheet 10
A2: טבלה 10
A4: מחירי CIF W MED ותוספות עבור בנזין 95 נט"ע.
B7: מרכיב | C7: בנזין 95 נט"ע ק"ל במכליות
C8: כה"א | D8: באילת
A9: 1 | B9: מחיר CIF W MED* לאחר הכפלה במקדם שער חליפין | C9: ='6'!I7*mekadem -> 2673.7843 | D9: =C9 -> 2673.7843
A10: 2 | B10: עלות תוסף לבנזין | C10: =Tosaf*Yazig -> 2.90864 | D10: =Tosaf*Yazig -> 2.90864
A11: 3 | B11: הפחתת 0.0193% מבנזין | C11: =(C9+C14+C15)*-'2'!C11 -> -0.51681444 | D11: =(D9+D14+D15)*-'2'!C11 -> -0.51681444
A12: 4
A13: 5
A14: 6
A15: 7 | B15: קצובת דלף | C15: =C9*1.5/1000 -> 4.0106765 | D15: =D9*1.5/1000 -> 4.0106765
A16: 8
A17: 9
A18: 10 | B18: 0.15 קצובת בלו בגין דלף | C18: ='3'!E12*0.0015 -> 5.48478 | D18: ='3'!E12*0.0015 -> 5.48478
A19: 11
A20: 12 | B20: סה"כ | C20: =SUM(C9:C19) -> 2685.6716 | D20: =SUM(D9:D19) -> 2685.6716
A25: * מחיר "CIF W MED" הינו ממוצע חמשת הימים הקובעים כהגדרתם במתכונת הישנה. הנתונים הנם אינפורמטיביים בלבד ומשמשים לצורך החישוב בלבד.
E28: תוכן עניינים

Sheet 11
A3: טבלה 11 א
A4: ריכוז עלויות והוצאות למבנה מחיר לצרכן של בנזין בפיקוח, ב - ₪
A6: תאריך תוקף: | C6: ='2'!B4 -> 46266
B7: מרכיב | C7: מחיר בנזין 95 נט"ע בתחנות | D7: % מהמחיר לצרכן בשירות עצמי | E7: מחיר בנזין 95 נט"ע בתחנות בחודש הקודם | F7: % מהמחיר לצרכן בשירות עצמי בחודש הקודם
A8: 1 | B8: מחיר CIF W MED* לאחר הכפלה במקדם שער חליפין | C8: =+'6'!I7*mekadem -> 2673.7843 | D8: =((C8/(C$17*1000))*100) -> 32.409507 | E8: 2589.0533 | F8: 32.003131
A9: 2 | B9: דלף ותוסף | C9: =SUM('10'!C10:C18) -> 11.887282 | D9: =((C9/(C$17*1000))*100) -> 0.14408827 | E9: 11.802138 | F9: 0.14588551
A10: 3 | B10: מחיר CIF W MED עם תוספות | C10: =(C8+C9) -> 2685.6716 | D10: =((C10/(C$17*1000))*100) -> 32.553595 | E10: 2600.8554 | F10: 32.149016
A11: 4 | B11: סל הוצאות שווק | C11: =+'15'!D42 -> 649.82421 | D11: =((C11/(C$17*1000))*100) -> 7.8766571 | E11: 636.82174 | F11: 7.871715
B12: סה"כ הוצאות | C12: =(C10+C11) -> 3335.4958 | D12: =((C12/(C$17*1000))*100) -> 40.430252 | E12: 3237.6772 | F12: 40.020731
B13: עיגולים | C13: =+C16-C10-C11-C14 -> -0.49040061 | E13: 3.4850354 | F13: 0
A14: 5 | B14: סכום הבלו | C14: =+'3'!E12 -> 3656.52 | D14: =((C14/(C$17*1000))*100) -> 44.321455 | E14: 3614.77 | F14: 44.681953
B15: מחיר מעוגל בתוספת מע"מ | C15: =ROUND((1+Maam)*SUM(C10:C11,C14)/1000,2)*1000 -> 8250 | D15: =((C15/(C$17*1000))*100) -> 100 | E15: 8090 | F15: 100
B16: מחיר לצרכן ללא מע"מ | C16: =(C15/(1+Maam)) -> 6991.5254 | D16: =((C16/(C$17*1000))*100) -> 84.745763 | E16: 6855.9322 | F16: 84.745763
B17: מחיר לליטר בתחנה בתדלוק עצמי | C17: =(C15/1000) -> 8.25 | E17: 8.09
A18: 6 | B18: תוספת בעד שירות מלא לליטר כולל מע"מ | C18: =+'15'!D44 -> 0.26 | E18: 0.25
A19: נתונים נוספים
B20: מחיר לליטר בתחנה בשירות מלא | C20: =+C17+C18 -> 8.51 | E20: 8.34
B21: סה"כ מסים מהמחיר בשירות עצמי, ק"ל | C21: =+C14+C15-C16 -> 4914.9946 | E21: 4848.8378
B22: % סה"כ מסים מהמחיר לצרכן בשירות עצמי | D22: =+C21/C15 -> 0.59575692 | F22: 0.5993619
B23: * מחיר "CIF W MED" הינו ממוצע חמשת הימים הקובעים כהגדרתם במתכונת הישנה. הנתונים הנם אינפורמטיביים בלבד ומשמשים לצורך החישוב בלבד.
A29: טבלה 11 ב
A30: ריכוז עלויות והוצאות למבנה מחיר לצרכן באילת
B32: תאריך תוקף: | C32: ='2'!B4 -> 46266
B33: מרכיב | C33: מחיר בנזין 95 נט"ע בתחנות אילת | D33: % מהמחיר לצרכן בשירות עצמי | E33: מחיר בנזין 95 נט"ע בתחנות אילת בחודש קודם | F33: % מהמחיר לצרכן בשירות עצמי בחודש קודם
A34: 1 | B34: מחיר CIF W MED* לאחר הכפלה במקדם שער חליפין | C34: =+'6'!I7*mekadem -> 2673.7843 | D34: =((C34/C$41)*100) -> 38.251564 | E34: 2589.0533 | F34: 37.796398
A35: 2 | B35: דלף, ביטוח ותוסף | C35: =SUM('10'!D10:D18) -> 11.887282 | D35: =((C35/C$41)*100) -> 0.17006126 | E35: 11.802138 | F35: 0.17229399
A36: 3 | B36: מחיר CIF W MED עם תוספות | C36: =+C34+C35 -> 2685.6716 | D36: =((C36/C$41)*100) -> 38.421625 | E36: 2600.8554 | F36: 37.968692
A37: 4 | B37: סל הוצאות שווק | C37: =+'15'!F42 -> 649.82421 | D37: =((C37/C$41)*100) -> 9.2964836 | E37: 636.82174 | F37: 9.2966677
B38: סה"כ הוצאות | C38: =+C37+C36 -> 3335.4958 | D38: =((C38/C$41)*100) -> 47.718109 | E38: 3237.6772 | F38: 47.26536
B39: עיגולים | C39: =+C41-C36-C37-C40 -> -2.0158243 | E39: -2.447168
A40: 5 | B40: סכום הבלו | C40: =+'3'!E12 -> 3656.52 | D40: =((C40/C$41)*100) -> 52.31073 | E40: 3614.77 | F40: 52.770365
B41: מחיר לצרכן (מעוגל) | C41: =ROUND(SUM(C36:C37,C40)/1000,2)*1000 -> 6990 | D41: =((C41/C$41)*100) -> 100 | E41: 6850 | F41: 100
B42: מחיר לליטר בתחנה בתדלוק עצמי | C42: =(C41/1000) -> 6.99 | E42: 6.85
A43: 6 | B43: תוספת בעד שירות מלא לליטר לא כולל מע"מ | C43: =+'15'!F44 -> 0.22 | E43: 0.21
A44: נתונים נוספים
B45: מחיר לליטר בתחנה בשירות מלא | C45: =+C42+C43 -> 7.21 | E45: 7.06
B46: סה"כ מסים מהמחיר בשירות עצמי, ק"ל | C46: =+C40 -> 3656.52 | E46: 3614.77
B47: % סה"כ מסים מהמחיר לצרכן בשירות עצמי | D47: =+C46/C41 -> 0.5231073 | F47: 0.52770365
B48: * מחיר "CIF W MED" הינו ממוצע חמשת הימים הקובעים כהגדרתם במתכונת הישנה. הנתונים הנם אינפורמטיביים בלבד ומשמשים לצורך החישוב בלבד.
F51: תוכן עניינים

Sheet 12
A1: טבלה 12
A3: שינויים במחירי בנזין בתחנה לליטר
C6: תאריך תוקף: | D6: =ValidDate -> 46266
A7: מחיר בתחנה בתדלוק עצמי
A8: מוצרים בתחנה | B8: מחיר ישן | C8: מחיר חדש
B9: בש"ח | C9: בש"ח | D9: % השינוי
A10: בנזין 95 נטול עופרת, בתדלוק עצמי | B10: 8.09 | C10: =+'11'!C17 -> 8.25 | D10: =((C10/B10)-1) -> 0.019777503
A11: מחיר בתחנה כולל תוספת בעד שירות מלא
A12: בנזין 95 נטול עופרת, כולל עמלת תדלוק | B12: 8.34 | C12: =+'11'!C20 -> 8.51 | D12: =((C12/B12)-1) -> 0.020383693
A14: באילת
A15: מוצרים בתחנה | B15: מחיר ישן | C15: מחיר חדש
B16: בש"ח | C16: בש"ח | D16: % השינוי
A17: בנזין 95 נטול עופרת, בתדלוק עצמי | B17: 6.85 | C17: =+'11'!C42 -> 6.99 | D17: =((C17/B17)-1) -> 0.020437956
A18: בתחנה כולל תוספת בעד שירות מלא
A19: מחיר בנזין 95 נטול עופרת, כולל עמלת תדלוק | B19: 7.06 | C19: =+'11'!C45 -> 7.21 | D19: =((C19/B19)-1) -> 0.021246459
D21: תוכן עניינים

Sheet 13
A2: טבלה 13
A4: תאריך תוקף: | B4: ='2'!B4 -> 46266
A6: ריכוז מחירים בשער בית זיקוק (ש"ח ו-$) ושינויים במחירים בש"ח
B7: יחידת | C7: מחיר ישן (לא כולל בלו) | D7: מחיר חדש (לא כולל בלו) | F7: % השינוי
A8: מוצר | B8: מכירה | C8: ב - ₪ | D8: ב - ₪ | E8: ב - $
A9: מזוט קל בעל תכולת גופרית של 1% | B9: ט.מ. | C9: 2308.51 | D9: =+'6'!E8 -> 2167.6016 | E9: =(D9/Yazig) -> 730.324 | F9: =(((D9/C9)-1)*100) -> -6.1038665
A10: מזוט קל בעל תכולת גופרית של 0.5% | B10: ט.מ. | C10: 2465.22 | D10: =+'6'!E9 -> 2362.1807 | E10: =(D10/Yazig) -> 795.883 | F10: =(((D10/C10)-1)*100) -> -4.1797185
A11: מזוט כבד בעל תכולת גופרית של 1% | B11: ט.מ. | C11: 1984.9 | D11: =+'6'!E10 -> 1836.7527 | E11: =(D11/Yazig) -> 618.852 | F11: =(((D11/C11)-1)*100) -> -7.4637142
A12: מזוט כבד בעל תכולת גופרית של 0.5% | B12: ט.מ. | C12: 2173.75 | D12: =+'6'!E11 -> 2071.2455 | E12: =(D12/Yazig) -> 697.859 | F12: =(((D12/C12)-1)*100) -> -4.7155601
A13: זפת 80/100 (PG 68 - 10) | B13: ט.מ. | C13: 1905.61 | D13: =+'9'!C13 -> 1794.62 | E13: =(D13/Yazig) -> 604.65633 | F13: =(((D13/C13)-1)*100) -> -5.8243817
A14: זפת ה.ב. (210-100) | B14: ט.מ. | C14: 1844.45 | D14: =+'9'!D13 -> 1735.2566 | E14: =(D14/Yazig) -> 584.6552 | F14: =(((D14/C14)-1)*100) -> -5.9201044
F15: תוכן עניינים

Sheet 14
A1: טבלה 14
A2: תעריפי תשתית ליום: | C2: 46266
A4: תעריפי תשתית בפיקוח לפי צו פיקוח על מחירי מצרכים ושירותים (תעריפי תשתית במשק הדלק), התשע"ד - 2014 תעריפים המופיעים בתוספת הראשונה בצו (בפיקוח לפי פרק ה' לחוק פיקוח על מצרכים ושירותים, התשנ"ו - 1996)
B6: שירות תשתית | C6: הערות | D6: יחידת חיוב | E6: תעריף בשקלים חדשים
A7: 1 | B7: אחסון תפעולי | D7: ק"ל\חודש | E7: 9.96
A8: 2 | B8: החכרה | D8: ק"ל נפח מכל/חודש | E8: 5.84
A9: 3 | B9: שימוש במכלי חוף | D9: ק"ל | E9: 5.13
A10: 4 | B10: אחסון מזוט | D10: ט"מ\חודש | E10: 21.25
A11: 5 | B11: אחסון נפט גולמי או שארית אטמוספרית במסוף הנפט בקריית חיים | D11: ט"מ\חודש | E11: 10.56
A12: 6 | B12: ניפוק מוצרי נפט לקווים יעודיים | C12: "ניפוק מוצרי נפט לקווים יעודיים" - ניפוק מוצרי נפט לצרכנים סופיים המחוברים בצנרת למסוף, לא כולל אחסון תפעולי לפני הניפוק | D12: ק"ל | E12: 5.7
A13: 7 | B13: הולכת מוצרי דלק ומזוט בקווים יעודיים, כשהצנרת איננה בבעלות הצרכן, וההשקעה הראשונית בוצעה על ידי תש"א | C13: לצרכנים סופיים המחוברים בצנרת למסוף, כולל החזר הון, אחזקת קווים והגנה קטודית | D13: ק"מ\שנה | E13: 56325.32
A14: 8(א) | B14: אחזקת קווים יעודיים- כשהצנרת בבעלות הצרכן | C14: לצרכנים סופיים המחוברים בצנרת למסוף, אחזקת קווים והגנה קטודית | D14: ק"מ\שנה | E14: 7599.19
A15: 8(ב) | B15: אחזקת קווים יעודיים-כשהצנרת בבעלות תש"א, והקוויים אינם כלולים בפרט 7 | C15: כולל אחזקת קווים והגנה קטודית | D15: ק"מ\שנה | E15: 3004.99
A16: 8א(א) | B16: הקמת קו גיבוי סולר- תעריף ההקמה הבסיסי | C16: בעד מקטע שהושלמה הקמתו, ועל פי חלקו היחסי של המקטע | D16: שנה | E16: 44874152
A17: 8א(ב) | B17: הקמת קו גיבוי סולר - תוספת לתעריף ההקמה הבסיסי(1) | C17: בעד כל מקטע שהושלמה הקמתו, בסכום התוספת המעודכן כולל שיעור ההעלאה שהתיר המפקח לפי פרק ו' לחוק | D17: שנה | E17: -
A18: 9 | B18: הזרמת מוצרי נפט | C18: הזרמה, למעט בקווים שאורכם אינו עולה על 2 קילומטרים, מנקודת המוצא אל היעד הסופי שהורה עליו הצרכן, כולל כל השאיבה והשימוש בצנרת הנדרשים לביצוע ההזרמה (לא כולל ניפוק והולכה בקווים יעודיים);
A19: 9(א) | B19: הזרמה בקו חיפה אשדוד ובקו אלרואי-אשדוד(2) | C19: רכיב קבוע(3) | D19: ק"ל | E19: 3.43
C20: רכיב משתנה(4) | D20: ק"ל\ק"מ | E20: 0.081
A21: 9(ב) | B21: הזרמה בכל שאר הקווים(2) | C21: רכיב קבוע(3) | D21: ק"ל | E21: 3.43
C22: רכיב משתנה(4) | D22: ק"ל\ק"מ | E22: 0.112
A23: 9(ג) | B23: הזרמה של בית זיקוק לנפט בע"מ (לההלן בז"ן) מבית הזיקוק בחיפה לקו 12 | C23: 80 אחוזים מן התעריף של פרט משנה (א)
C24: רכיב קבוע(3) | D24: ק"ל | E24: 2.74
C25: רכיב משתנה(4) | D25: ק"ל\ק"מ | E25: 0.064
A26: 10 | B26: הזרמת מוצרי דלק בקו אשל שיזפון | C26: הסכום המחושב יעוגל כלפי מעלה לגבי כל סכום שמעל למחצית האגורה, וכל סכום שעד למחצית האגורה יעוגל כלפי מטה. הסכום מחושב על פי הערך היציג של דולר ארה"ב ביום ביצוע התשלום. פרט זה לא יעודכן כאמור בסעיף 7 לצו, על אף האמור באותו סעיף | D26: ט"מ | E26: התעריף שמשלמת תש"א לבעל הקו עבור הזרמה בקו
A27: 11 | B27: שאיבת מוצרי נפט, למעט שאיבה מבית זיקוק | C27: הזרמת מוצרי נפט, כולל שימוש בצנרת שאורכה אינו עולה על שני קילומטרים וכן שירות הניתן לחברת תשתית המזרימה מוצרי נפט על ידי חברת תשתית אחרת. | D27: ק"ל | E27: 4.35
A28: 12 | B28: שאיבת מזוט | C28: לא כולל אחסון תפעולי לפני השאיבה | D28: ט"מ | E28: 6.06
A29: 13 | B29: נמחק
A30: 14 | B30: הזרמת נפט גולמי או שארית אטמוספרית בין מסוף הנפט בקריית חיים לבין בית הזיקוק בחיפה | D30: ט"מ | E30: 3.68
A31: 15 | B31: פריקה או טעינה של מוצרי נפט בנמל הדלק בחיפה | D31: ט"מ | E31: 12.29
A32: 16 | B32: פריקה או טעינה של מזוט | C32: לא כולל אחסון | D32: ט"מ | E32: 11.04
A33: 17 | B33: פריקה של נפט גולמי או שארית אטמוספרית במסוף הנפט בקרית חיים | C33: לא כולל אחסון | D33: ט"מ | E33: 7.96
A34: 18 | B34: הזרמה ומילוי כלי שיט במוצרי נפט או במזוט | C34: כולל אחסון תפעולי לפני מילוי כלי השיט | D34: ט"מ | E34: 5.73
A35: 19 | B35: דלף | C35: אחוז ממחיר המוצר המשולם פעם אחת בכל הזרמה, ללא קשר לכמות מכלי האחסון ששימשו בפועל במהלך ההזרמה. | D35: % ממחיר המוצר
C36: 1. בנזין | E36: 0.0017
C37: 2. סולר | E37: 0.001
C38: 3. דס"ל | E38: 0.001
A40: (1)תחת פרט 8א(ב) יפורטו מקטעים שהמפקח נתן לגביהם היתר כאמור בסעיף 6א(ב) להעלאת מחיר לתוספת לתעריף ההקמה הבסיסי, בפירוט מספר המקטע שניתן לגביו היתר כאמור, סכום התוספת המעודכן לאחר מתן ההיתר ומועד התשלום הראשון.
A41: (2)תעריף ההזרמה בקו 12 מבית הזיקוק בחיפה לאלרואי אינו כולל עלות נוספת של שאיבת מוצרי נפט, שבז"ן רשאי לגבות; תעריף ההזרמה ביציאה מבית זיקוק אשדוד בע"מ אינו כולל עלות שאיבת מוצרי נפט מבית הזיקוק באשדוד, שבית זיקוק אשדוד בע"מ רשאי לגבות.
A42: (3) רכיב קבוע לקילו ליטר; משולם פעם אחת בעבור כל קילו ליטר; משולם לתש"א, למעט במקרים שבהם כל תהליך ההזרמה (שאיבה ושימוש בצנרת), מבוצע על ידי בז"ן, ובהם ישולם התשלום הקבוע לבז"ן.
A43: (4) רכיב משתנה; משולם לפי אורך ההזרמה בקילומטרים.
A45: תעריפים בפיקוח לפי צו פיקוח על מחירי מצרכים ושירותים (תעריפי תשתית במשק הדלק), התשע"ד - 2014 (בפיקוח לפי פרק ו' לחוק פיקוח על מצרכים ושירותים, התשנ"ו - 1996)
B47: שירות תשתית | C47: הערות | D47: יחידת חיוב | E47: תעריף בשקלים חדשים
B48: ניפוק מוצרי נפט | C48: א. מחיר קובע לצורך בקשת העלאת המחירים הראשונה לפי פרק ו' לחוק פיקוח על מצרכים ושירותים, התשנ"ו - 1996 (להלן החוק) | D48: ק"ל | E48: 15.7
C49: ב. מחיר במסופי חברת פי גלילות מסופי נפט וצינורות בע"מ לפי היתר להעלאת תעריף ניפוק בהתאם לפרק ו' לחוק | D49: ק"ל | E49: 18.34
B50: הזרמה מבתי זיקוק בחיפה או מנמל הדלק בחיפה למיתקני הניפוק של חברות שיווק דלק בצפון | C50: רכיב קבוע | D50: ק"ל | E50: 1.21
C51: רכיב משתנה | D51: ק"ל\ק"מ | E51: 0.079
B52: פריקה או טעינה של מוצרי נפט שאינה בנמל הדלק בחיפה | D52: ט"מ | E52: 8.39
A55: תעריפי ניפוק גפ"מ לפי צו פיקוח על מחירי מצרכים ושירותים (מחירי ניפוק גפ"מ), התשנ"ט - 1999
B57: שירות תשתית | C57: הערות | D57: יחידת חיוב | E57: תעריף בשקלים חדשים
B58: ניפוק גפ"מ למכליות | C58: כולל אחסון תפעולי ופעולות שאיבה והזרמה הכרוכים בשרות | D58: ט.מ. | E58: 9.77
B59: ניפוק גפ"מ בהזרמה | D59: ט.מ. | E59: 5.71
B61: התעריף כולל אחסון תפעולי ופעולות שאיבה והזרמה הכרוכים בשרות
A63: אחסון גפ"מ וביטומן - ע"פ נוהג
B65: שירות תשתית | D65: יחידת חיוב | E65: תעריף בשקלים חדשים
B66: אחסון גפ"מ | D66: ט.מ./חודש | E66: 10.57
B67: אחסון ביטומן | D67: ט.מ./חודש | E67: 11.9
B68: ניפוק / מילוי ביטומן | D68: ט.מ. | E68: 6.73
D70: תוכן עניינים

Sheet 15
A2: טבלה 15
A3: חישוב מרווח השיווק
C5: עדכון נוכחי | E5: 46266
C6: עדכון קודם | E6: 46082
A8: עדכון סל ההוצאות-
A9: רכיב סל ההוצאות – ביום העבודה הראשון בחודש מרס וביום העבודה הראשון בחודש ספטמבר לפי הנוסחה שלהלן:
A10: A+B+C+D+E
A11: לענין נוסחה זו-
B12: D=D0*M/M0*F | E12: C=C0*0.89*G/G0*S/S0*F+ C0*0.11*G/G0*F | F12: B=B0*N/N0*F | G12: A=A0*L/L0*F
G13: E=E0*F
A14: F= מקדם התייעלות שערכו בעדכון שנערך במרס הוא 1 ובעדכון שנערך בספטמבר ערכו 0.9961;
A15: G= ממוצע מחירי בנזין 95 אוקטן בשירות עצמי לפי צו זה בששת החודשים שקדמו למועד העדכון;
A16: L= שכר המינימום כמשמעותו בחוק שכר מינימום התשמ"ז-1987 , הידוע ביום החמישה עשר בחודש שקדם למועד העדכון;
A17: M= מדד המחירים לצרכן הידוע ערב מועד העדכון.
A18: N= הממוצע החצי שנתי של מדד השכר החודשי, לעניין זה – הממוצע החצי שנתי בעדכון מרס הוא ממוצע המדדים בחודשים יוני עד נובמבר בשנה הקודמת ובעדכון ספטמבר- ממוצע המדדים בחודשים דצמבר בשנה הקודמת עד מאי בשנה נוכחית. "מדד השכר החודשי" - המדד המפורסם בלוח 1.14.- שכר חודשי ממוצע למשרת שכיר, מדדים במחירים שוטפים, לפי ענף כלכלי ראשי בשורה "סך כולל"
A19: 0.7% =S .ואם נקבעה עמלה צולבת בידי בנק ישראל, או גורם אחר שיוסמך לכך על פי דין - שיעור העמלה הצולבת ביום החמישה עשר בחודש שקדם למועד העדכון
A21: עידכון תוספת בעד שירות מלא
A22: התוספת בעד שירות מלא – ביום העבודה הראשון בחודש מרס וביום העבודה הראשון בחודש ספטמבר (לכל אחד מאלה ייקרא להלן- מועד העדכון) לפי הנוסחה שלהלן: תוספת בעד שירות מלא=T0*L/L0. "T0" -התוספת בעד שירות מלא לאלף ליטרים כערכה במועד העדכון הקודם לפני עיגול הסכום.
A24: חישוב:
B25: =E5 -> 46266 | C25: 46082
A26: A | B26: =+C26*B33/C33*B37 -> 55.779221 | C26: 54.292791
A27: B | B27: =+C27*B35/C35*B37 -> 54.031632 | C27: 51.794205
A28: C | B28: =+C28*0.89*B32/C32*B36/C36*B37+C28*0.11*B32/C32*B37 -> 29.563165 | C28: 26.992432
A29: D | B29: =+C29*B34/C34*B37 -> 506.37602 | C29: 499.65219
A30: E | B30: =+C30*B37 -> 4.0741678 | C30: 4.0901193
A32: G | B32: 7.7516667 | C32: 7.05
A33: L | B33: 6443.85 | C33: 6247.67
A34: M | B34: 121.09474 | C34: 119.0208
A35: N | B35: 165.965 | C35: 158.472
A36: S | B36: 0.005 | C36: 0.005
A37: F | B37: 0.9961
A39: סל הוצאות והתוספת בעד שירות מלא
D40: בכל הארץ | F40: באילת
D41: =+E5 -> 46266 | E41: 46082 | F41: =+E5 -> 46266 | G41: 46082
A42: בנזין 95 בשירות עצמי | D42: =SUM(B26:B30) -> 649.82421 | E42: 636.82174 | F42: =+D42 -> 649.82421 | G42: 636.82174
A43: תוספת בעד שירות מלא לק"ל | D43: =+E43*B33/C33 -> 221.43743 | E43: 214.69587 | F43: =+D43 -> 221.43743 | G43: 214.69587
A44: תוספת בעד שירות מלא לליטר (בכל הארץ-כולל מע"מ) | D44: =ROUND(D43*(1+Maam)/1000,2) -> 0.26 | E44: 0.25 | F44: =ROUND(F43/1000,2) -> 0.22 | G44: 0.21
G46: תוכן עניינים
