Workbook
Name BANK: רשימות!$A$3:$A$32
Name graph_1: #REF!
Name graph_1: #REF!
Name graph_2: #REF!
Name graph_2: #REF!
Name graph_3: #REF!
Name graph_3: #REF!
Name graph_4: #REF!
Name graph_4: #REF!
Name MACHOZ: רשימות!$D$3:$D$7
Name shem_bank: 'אינדקס פרטי בנק'!$B$2:$B$1485
Name shem_mispar: 'אינדקס פרטי בנק'!$E$1460:$E$1485
Name shem_mispar2: רשימות!$C$3:$C$1486
Name shem_snif: 'אינדקס פרטי בנק'!$D$2:$D$1485
Name SNIF: רשימות!$B$3:$B$923
Name table_10: #REF!
Name table_10: #REF!
Name table_2: #REF!
Name table_2: #REF!
Name table_3: #REF!
Name table_3: #REF!
Name table_4: #REF!
Name table_4: #REF!
Name table_5: #REF!
Name table_5: #REF!
Name table_6: #REF!
Name table_6: #REF!
Name table_7: #REF!
Name table_7: #REF!
Name table_8: #REF!
Name table_8: #REF!
Name table_9: #REF!
Name table_9: #REF!
Name ward: #REF!
Name ward: #REF!
Name בחירה: #REF!
Name בחירה: #REF!
Name סוג: #REF!

Sheet אוכלוסייה ביישובים 2,000+
A4: אוכלוסייה ביישובים שבהם 2,000 תושבים ויותר - אומדנים ארעיים לסוף נובמבר 2021
A5: POPULATION IN LOCALITIES WITH 2,000 RESIDENTS OR MORE - PRELIMINARY ESTIMATES FOR THE END OF November 2021
A6: מספרים מוחלטים | H6: Absolute numbers
A7: סמל יישוב | B7: שם יישוב | C7: אוכלוסייה בתחילת 2021 | D7: ריבוי טבעי 1-11/2021 | E7: מאזן הגירה פנימית 1-11/2021 | F7: מאזן הגירה בינ"ל 1-11/2021 | G7: אוכלוסייה בסוף נובמבר 2021 - אומדנים ארעיים | H7: שם יישוב אנגלית
A8: Locality Code | B8: Locality Name Hebrew | C8: Population at the beginning of 2021 | D8: Natural increase 1-11/2021 | E8: Internal migration balance 1-11/2021 | F8: International migration balance 1-11/2021 | G8: Population at the end of November 2021 - preliminary estimates | H8: Locality Name
A9: 472 | B9: אבו גוש | C9: 7770.56 | D9: 137 | E9: -50 | F9: 5 | G9: 7862.56 | H9: Abu Ghosh
A10: 473 | B10: אבו סנאן | C10: 14306.34 | D10: 130 | E10: -7 | F10: 4 | G10: 14433.34 | H10: Abu Sinan
A11: 1375 | B11: אבו תלול | C11: 2138.99 | D11: 82 | E11: 78 | F11: 0 | G11: 2298.99 | H11: Abu Tulul
A12: 652 | B12: אבטין | C12: 2886.94 | D12: 37 | E12: -20 | F12: -1 | G12: 2902.94 | H12: Ibtin
A13: 182 | B13: אבן יהודה | C13: 14020.3 | D13: 67 | E13: 117 | F13: 52 | G13: 14256.3 | H13: Even Yehuda
A14: 2710 | B14: אום אל-פחם | C14: 56776.71 | D14: 855 | E14: -68 | F14: 12 | G14: 57575.71 | H14: Umm al-Fahm
A15: 1358 | B15: אום בטין | C15: 4489.33 | D15: 124 | E15: 48 | F15: 2 | G15: 4663.33 | H15: Umm Batin
A16: 31 | B16: אופקים | C16: 32554.63 | D16: 687 | E16: 552 | F16: 31 | G16: 33824.63 | H16: Ofaqim
A17: 2400 | B17: אור יהודה | C17: 36769.79 | D17: 361 | E17: -467 | F17: 24 | G17: 36687.79 | H17: Or Yehuda
A18: 1020 | B18: אור עקיבא | C18: 19447.42 | D18: 158 | E18: 186 | F18: 15 | G18: 19806.42 | H18: Or Aqiva
A19: 3760 | B19: אורנית | C19: 8965.36 | D19: 87 | E19: 33 | F19: 9 | G19: 9094.36 | H19: Oranit
A20: 565 | B20: אזור | C20: 13332.1 | D20: 139 | E20: -50 | F20: 24 | G20: 13445.1 | H20: Azor
... A276: 3563 | B276: תקוע | C276: 4168.33 | D276: 102 | E276: 38 | F276: 20 | G276: 4328.33 | H276: Teqoa
A277: פורסם ב-13.12.2021 | H277: Published on 13.12.2021

Sheet טופס מידע
A1: טפסים להגשת בקשת תמיכה ליזם גרעינים משימתיים לפעילות המבוצעת בתקופה
A2: שבין 1 בינואר 2025 עד 31 בדצמבר 2025
A3: טופס מידע לבקשת תמיכה - יזם גרעינים
A4: כללי:
A5: שם מוסד הציבור:
A6: מספר תאגיד / ח.פ.:
A7: שם מנהל היזם:
A8: פרטי קשר:
A9: שם איש הקשר:
A10: תפקיד:
A11: טלפון - נייד:
A12: טלפון - משרד:
... A16: המוסד מקיים פעילות בנושא המפורט להלן:
A17: המוסד מקיים פעילות בנושא המפורט להלן: | G17: 2023 | I17: ישיבות
A18: המוסד מקיים פעילות בנושא המפורט להלן: | G18: 2024 | I18: ישיבות קטנות
A19: דוחות כספיים אחרונים מבוקרים לשנת | I19: ישיבות גבוהות
A20: סך עלות פעילות העמותה כמפורט בדוחות הכספיים המבוקרים האחרונים כולל שווי מתנדבים ללא תקורה | I20: ישיבות הסדר
A21: סך עלות פעילות הגרעין כמפורט בדוח מקו"ש המבוסס על הדוחות הכספיים המבוקרים האחרונים כולל שווי מתנדבים ללא תקורה | I21: כוללים
I22: מכינות קדם צבאיות
I23: בתי כנסת
A24: הטפסים יאורכבו לפורטל המרכב"ה בלבד עד ליום 15.05.25 בקשות שתאורכבנה לפורטל המרכב"ה לאחר תאריך זה לא תתקבלנה והבקשה תדחה על הסף. בקשות אשר לא ימולאו כראוי או שיוגשו באופן בלתי קריא ושלא יצורפו להן כל המסמכים הנדרשים לא יובאו לדיון בוועדת התמיכות. בקשות אשר יוגשו באיחור, יידחו ללא דיון. כתובת לפניות במשרד ההתיישבות והמשימות הלאומיות בתיבת דואר אלקטרוני: garinim@pmo.gov.il הטפסים הבאים הינם בנוסף לטפסים המתחייבים להגשה והם משלימים להם ואינם באים במקומם. על כל גוף מגיש לוודא כי ההגשה במערכת המרכב"ה בוצעה במלואה. | I24: מועדוני קשישים
I25: בתי ספר
I26: גרעיני שנת שירות
I27: ארגונים לעזרה עצמית כגון חלוקת סלי מזון וביגוד
I28: קופות צדקה
A29: אנו מצהירים בזאת כי כלל הנתונים שנרשמו במסמכים אלו, נבדקו על ידינו ונמצאו נכונים וכי לא תעמוד לזכותנו טענה של טעות סופר | I29: גמ"חים
I30: ועדי עובדים
A31: חתימות הגוף המבקש: | I31: אגודות ספורט
I32: מוסדות אקדמאיים
A33: מורשה חתימה 1: | I33: ארגוני סטודנטים
A34: מנכ"ל/יו"ר הגוף המבקש | B34: שם | C34: תפקיד | D34: חתימה
A36: מורשה חתימה 2:
A37: מזכיר/גזבר הגוף המבקש | B37: שם | C37: תפקיד | D37: חתימה
A38: חותמת הגוף:

Sheet רשימות
A1: 1 | B1: 2 | C1: 3 | D1: 4 | E1: 5 | F1: 6 | G1: 7 | H1: 8 | I1: 9 | J1: 10 | K1: 11 | L1: 12 | M1: 13 | N1: 14 | O1: 15
A2: בנק | B2: סניף בנק | C2: עמודת עזר: שם סניף+קוד סניף | D2: מחוז
A3: בנק אגוד לישראל בע"מ | B3: SBI State Bank of India | C3: SBI State Bank of India. מספר סניף: 1 | D3: מחוז גליל גולן
A4: בנק דיסקונט לישראל בע"מ | B4: א"ת ראשל"צ | C4: א"ת ראשל"צ. מספר סניף: 495 | D4: מחוז המרכז
A5: בנק דיסקונט למשכנתאות בע"מ | B5: אביבים | C5: אביבים. מספר סניף: 127 | D5: מחוז הנגב
A6: בנק דקסיה ישראל בע"מ | B6: אבן גבירול | C6: אבן גבירול. מספר סניף: 28 | D6: מחוז העמקים
A7: בנק הפועלים בע"מ | B7: אבן יהודה | C7: אבן יהודה. מספר סניף: 652 | D7: מחוז השפלה וההר
A8: בנק יהב לעובדי המדינה בע"מ | B8: אבני חן | C8: אבן יהודה. מספר סניף: 957
A9: בנק ירושלים בע"מ | B9: אגוד ישיר | C9: אבני חן. מספר סניף: 126
A10: בנק לאומי לישראל בע"מ | B10: אגוד פרימיום | C10: אגוד ישיר. מספר סניף: 123
A11: בנק לאומי למשכנתאות בע"מ | B11: אגוד פרמיום-חיפה | C11: אגוד פרימיום. מספר סניף: 55
A12: בנק מזרחי טפחות בע"מ | B12: אגוז | C12: אגוד פרמיום-חיפה. מספר סניף: 56
A13: בנק מסד בע"מ | B13: אגף החשבות | C13: אגוז. מספר סניף: 736
A14: בנק מרכנתיל דיסקונט בע"מ | B14: אגף היעוץ המשפטי | C14: אגף החשבות. מספר סניף: 619
A15: בנק ערבי ישראלי בע"מ | B15: אגף התפעול-סליקה מרכזית | C15: אגף היעוץ המשפטי. מספר סניף: 202
A16: בנק פועלי אגודת ישראל | B16: אגף משכן | C16: אגף היעוץ המשפטי. מספר סניף: 211
A17: הבנק הבינלאומי הראשון | B17: אגף ניירות ערך | C17: אגף התפעול-סליקה מרכזית. מספר סניף: 129
A18: יובנק בע"מ | B18: אגף נכסים ובינוי | C18: אגף משכן. מספר סניף: 60
A19: בנקBNP Paribas | B19: אגרון | C19: אגף ניירות ערך. מספר סניף: 213
... A32: אחר | B32: אורן | C32: אופקים. מספר סניף: 437
B33: אורנית | C33: אופקים. מספר סניף: 633
B34: אזור | C34: אופקים. מספר סניף: 789
B35: אזור תעשיה חולון | C35: אור יהודה. מספר סניף: 657
B36: אזור תעשיה כפר סבא | C36: אור יהודה. מספר סניף: 676
B37: אזורי חן | C37: אור יהודה. מספר סניף: 683
B38: אחד העם | C38: אור עקיבא. מספר סניף: 673
B39: אחוזה | C39: אורון פ"ת דיסקונט ביתי. מספר סניף: 391
B40: אחיעזר | C40: אורן. מספר סניף: 591
B41: איילון (קופ"ג) | C41: אורנית. מספר סניף: 667
B42: איילון עסקים | C42: אזור תעשיה חולון. מספר סניף: 419
B43: איירפורט סיטי עסקים | C43: אזור תעשיה כפר סבא. מספר סניף: 533
B44: איכלוב | C44: אזור. מספר סניף: 643
... B923: אחר | C923: נהריה. מספר סניף: 716
C924: נהריה. מספר סניף: 962
C925: נהריה. מספר סניף: 97
C926: נהרייה. מספר סניף: 141
C927: נוה-ים. מספר סניף: 768
C928: נוה אביבים. מספר סניף: 118
C929: נוה אביבים. מספר סניף: 625
C930: נוה זאב. מספר סניף: 734
...

Sheet אינדקס פרטי בנק
A1: קוד בנק | B1: שם בנק | C1: קוד סניף | D1: שם סניף | E1: עמודת עזר: שם סניף+קוד סניף | F1: כתובת סניף | G1: יישוב | H1: מיקוד | I1: ת.ד | J1: טלפון | K1: פקס | L1: טלפון חינם | M1: גישה לנכים | N1: יום סגור | O1: סיווג הסניף | P1: תאריך פתיחה | Q1: תאריך סגירה | R1: בנק ממזג | S1: סניף ממזג | T1: קואורדינטת X | U1: קואורדינטת Y
A2: 4 | B2: בנק יהב לעובדי המדינה בע"מ | C2: 7 | D2: מלחה ירושלים | E2: =D2&"."&" "&"מספר סניף:"&" "&C2 -> מלחה ירושלים. מספר סניף: 7 | F2: אגודת הספורט בית"ר 1 קניון עזריאלי מלחה ירושלים | G2: ירושלים | H2: 9543501 | I2: 36333 | J2: 02-5009911 | K2: 02-5010106 | L2: *2616 | M2: כן | N2: יום א | O2: מיוחד | P2: 01/09/2011 | T2: 181723 | U2: 652912
A3: 4 | B3: בנק יהב לעובדי המדינה בע"מ | C3: 30 | D3: סניפון וולפסון- חולון | E3: =D3&"."&" "&"מספר סניף:"&" "&C3 -> סניפון וולפסון- חולון. מספר סניף: 30 | F3: הלוחמים 62 בית חולים וולפסון, | G3: חולון | H3: 5822012 | I3: 36333 | J3: 02-5009911 | K3: 02-5010026 | L3: *2616 | M3: כן | N3: יום ו | O3: מיוחד | P3: 31/12/2002 | T3: 178640 | U3: 659600
A4: 4 | B4: בנק יהב לעובדי המדינה בע"מ | C4: 44 | D4: הלל יפה חדרה | E4: =D4&"."&" "&"מספר סניף:"&" "&C4 -> הלל יפה חדרה. מספר סניף: 44 | F4: דרך השלום 1 דרך השלום בית החולים הלל יפה חדרה | G4: חדרה | H4: 9757023 | I4: 36333 | J4: 02-5009911 | K4: 02-5010108 | L4: *2616 | M4: כן | N4: יום ו | O4: מיוחד | P4: 25/09/2011 | T4: 230247 | U4: 631853
A5: 4 | B5: בנק יהב לעובדי המדינה בע"מ | C5: 114 | D5: אשדוד | E5: =D5&"."&" "&"מספר סניף:"&" "&C5 -> אשדוד. מספר סניף: 114 | F5: הבנים 1 רח' הבנים 1, מרכז הקריה, אשדוד | G5: אשדוד | H5: 7744401 | I5: 36333 | J5: 02-5009911 | K5: 02-5010070 | L5: *2616 | M5: כן | N5: יום א | O5: רגיל | P5: 01/08/2007 | T5: 166000 | U5: 633720
A6: 4 | B6: בנק יהב לעובדי המדינה בע"מ | C6: 115 | D6: קריית הממשלה ת"א - מגדל היובל | E6: =D6&"."&" "&"מספר סניף:"&" "&C6 -> קריית הממשלה ת"א - מגדל היובל. מספר סניף: 115 | F6: מנחם בגין 125 רח' מנחם בגין 125 תל אביב | G6: תל אביב | H6: 6701201 | I6: 36333 | J6: 02-5009911 | K6: 02-5010071 | L6: 02-5009911 | M6: כן | N6: יום ו | O6: מיוחד | P6: 12/11/2007 | T6: 180280 | U6: 664460
A7: 4 | B7: בנק יהב לעובדי המדינה בע"מ | C7: 116 | D7: מודיעין | E7: =D7&"."&" "&"מספר סניף:"&" "&C7 -> מודיעין. מספר סניף: 116 | F7: גינות אילון 10 מודיעין סנטר | G7: מודיעין | H7: 7176556 | I7: 36333 | J7: 02-5009911 | K7: 02-5010077 | L7: 2616* | M7: כן | N7: יום א | O7: רגיל | P7: 04/09/2008 | T7: 201720 | U7: 645870
A8: 4 | B8: בנק יהב לעובדי המדינה בע"מ | C8: 117 | D8: מרכז הנגב | E8: =D8&"."&" "&"מספר סניף:"&" "&C8 -> מרכז הנגב. מספר סניף: 117 | F8: מרכז הנגב דרך מצדה 6 דרך מצדה 6 | G8: באר שבע | H8: 8435706 | I8: 36333 | J8: 02-5009911 | K8: 02-5010072 | L8: 02-5009911 | M8: כן | N8: יום ו | O8: רגיל | P8: 21/01/2008 | T8: 180550 | U8: 572240
A9: 4 | B9: בנק יהב לעובדי המדינה בע"מ | C9: 118 | D9: כפר סבא | E9: =D9&"."&" "&"מספר סניף:"&" "&C9 -> כפר סבא. מספר סניף: 118 | F9: ויצמן 50 ויצמן 50 כפר סבא | G9: כפר סבא | H9: 4424720 | I9: 36333 | J9: 02-5009911 | K9: 02-5010073 | L9: 02-5009911 | M9: כן | N9: יום ו | O9: רגיל | P9: 14/04/2008 | T9: 190890 | U9: 675950
A10: 4 | B10: בנק יהב לעובדי המדינה בע"מ | C10: 119 | D10: פתח תקווה | E10: =D10&"."&" "&"מספר סניף:"&" "&C10 -> פתח תקווה. מספר סניף: 119 | F10: המכבים 3 המכבים 3 | G10: פתח תקוה | H10: 4922003 | I10: 36333 | J10: 02-5009911 | K10: 02-5010075 | L10: 2616* | M10: כן | N10: יום א | O10: רגיל | P10: 16/06/2008 | T10: 189870 | U10: 666840
A11: 4 | B11: בנק יהב לעובדי המדינה בע"מ | C11: 120 | D11: ראשי ירושלים | E11: =D11&"."&" "&"מספר סניף:"&" "&C11 -> ראשי ירושלים. מספר סניף: 120 | F11: הלל 14 הלל 14 ירושלים | G11: ירושלים | H11: 9458114 | I11: 36333 | J11: 02-5009911 | K11: 02-5010013 | L11: 2616* | M11: כן | N11: יום א | O11: רגיל | P11: 01/02/1949 | T11: 220690 | U11: 631950
A12: 4 | B12: בנק יהב לעובדי המדינה בע"מ | C12: 121 | D12: קדם | E12: =D12&"."&" "&"מספר סניף:"&" "&C12 -> קדם. מספר סניף: 121 | F12: לח"י 23 , מלון דן 2 מלון דן, לח"י 32 ירושלים | G12: ירושלים | H12: 9785622 | I12: 36333 | J12: 02-5009911 | K12: 02-5010017 | L12: 2616* | M12: כן | N12: יום ו | O12: רגיל | P12: 20/10/1983 | T12: 221730 | U12: 634040
A13: 4 | B13: בנק יהב לעובדי המדינה בע"מ | C13: 122 | D13: קרית בן גוריון, י-ם | E13: =D13&"."&" "&"מספר סניף:"&" "&C13 -> קרית בן גוריון, י-ם. מספר סניף: 122 | F13: קפלן 1 קרית בן גוריון, בנין משרד השיכון | G13: ירושלים | H13: 9195015 | I13: 36333 | J13: 02-5009911 | K13: 02-5635374 | L13: *2616 | M13: כן | N13: יום ו | O13: מיוחד | P13: 01/02/1949 | Q13: 01/04/2014 | R13: 4001 | S13: 488 | T13: 219060 | U13: 632080
A14: 4 | B14: בנק יהב לעובדי המדינה בע"מ | C14: 123 | D14: בית יהב | E14: =D14&"."&" "&"מספר סניף:"&" "&C14 -> בית יהב. מספר סניף: 123 | F14: ירמיהו 80 ירמיהו 80 | G14: ירושלים | H14: 9446759 | I14: 36333 | J14: 02-5009911 | K14: 02-5010001 | L14: 2616* | M14: כן | N14: יום ו | O14: רגיל | P14: 09/08/1998 | T14: 219080 | U14: 633100
A15: 4 | B15: בנק יהב לעובדי המדינה בע"מ | C15: 124 | D15: באר שבע | E15: =D15&"."&" "&"מספר סניף:"&" "&C15 -> באר שבע. מספר סניף: 124 | F15: שדרות שז"ר 33 שד' שז"ר 33 באר שבע | G15: באר שבע | H15: 8440803 | I15: 36333 | J15: 02-5009911 | K15: 02-5010021 | L15: 2616* | M15: כן | N15: יום א | O15: רגיל | P15: 15/01/1985 | T15: 181330 | U15: 572880
A16: 4 | B16: בנק יהב לעובדי המדינה בע"מ | C16: 125 | D16: אשקלון | E16: =D16&"."&" "&"מספר סניף:"&" "&C16 -> אשקלון. מספר סניף: 125 | F16: שד' בן גוריון 13 שד' בן גוריון 13 | G16: אשקלון | H16: 7828110 | I16: 36333 | J16: 02-5009911 | K16: 02-5010023 | L16: *2616 | M16: כן | N16: יום ו | O16: רגיל | P16: 02/04/2000 | T16: 158220 | U16: 619450
A17: 4 | B17: בנק יהב לעובדי המדינה בע"מ | C17: 129 | D17: כנפי נשרים | E17: =D17&"."&" "&"מספר סניף:"&" "&C17 -> כנפי נשרים. מספר סניף: 129 | F17: כנפי נשרים 15 כנפי נשרים 15 | G17: ירושלים | H17: 9546427 | I17: 36333 | J17: 02-5009911 | K17: 02-5010074 | L17: *2616 | M17: כן | N17: יום ו | O17: רגיל | P17: 18/05/2008 | T17: 218150 | U17: 632790
A18: 4 | B18: בנק יהב לעובדי המדינה בע"מ | C18: 130 | D18: רוטשילד | E18: =D18&"."&" "&"מספר סניף:"&" "&C18 -> רוטשילד. מספר סניף: 130 | F18: שארית ישראל 35 שארית ישראל 35 | G18: תל אביב | H18: 6816521 | I18: 36333 | J18: 02-5009911 | K18: 02-5010027 | L18: 2616* | M18: כן | N18: יום ו | O18: רגיל | P18: 01/02/1949 | T18: 177860 | U18: 662190
A19: 4 | B19: בנק יהב לעובדי המדינה בע"מ | C19: 131 | D19: הקריה תל אביב | E19: =D19&"."&" "&"מספר סניף:"&" "&C19 -> הקריה תל אביב. מספר סניף: 131 | F19: הארבעה 19 הארבעה 19 | G19: תל אביב | H19: 6473919 | I19: 36333 | J19: 02-5009911 | K19: 02-5010031 | L19: 2616* | M19: כן | N19: יום א | O19: רגיל | P19: 12/10/1983 | T19: 180030 | U19: 664210
A20: 4 | B20: בנק יהב לעובדי המדינה בע"מ | C20: 132 | D20: תל השומר | E20: =D20&"."&" "&"מספר סניף:"&" "&C20 -> תל השומר. מספר סניף: 132 | F20: ביה"ח שיבא, תל השומר 9 ביתן 9 ביהח תל השומר | G20: רמת גן | H20: 5262160 | I20: 36333 | J20: 02-5009911 | K20: 02-5010035 | L20: *2616 | M20: כן | N20: יום ו | O20: רגיל | P20: 02/04/2000 | T20: 185490 | U20: 661860
A21: 4 | B21: בנק יהב לעובדי המדינה בע"מ | C21: 133 | D21: נתניה | E21: =D21&"."&" "&"מספר סניף:"&" "&C21 -> נתניה. מספר סניף: 133 | F21: הרצל 23 הרצל 23 | G21: נתניה | H21: 4243006 | I21: 36333 | J21: 02-5009911 | K21: 02-5010038 | L21: *2616 | M21: כן | N21: יום א | O21: רגיל | P21: 01/07/1999 | T21: 186748 | U21: 693125
A22: 4 | B22: בנק יהב לעובדי המדינה בע"מ | C22: 134 | D22: נתב"ג | E22: =D22&"."&" "&"מספר סניף:"&" "&C22 -> נתב"ג. מספר סניף: 134 | F22: לוד נתב"ג 1 טרמינל 1 לוד | G22: אזור רמלה של"ש | H22: 7010000 | I22: 36333 | J22: 02-5009911 | K22: 02-5010040 | L22: *2616 | M22: כן | N22: יום ו | O22: רגיל | P22: 01/10/2001 | T22: 190093 | U22: 654739
A23: 4 | B23: בנק יהב לעובדי המדינה בע"מ | C23: 135 | D23: סניפון וולפסון- חולון | E23: =D23&"."&" "&"מספר סניף:"&" "&C23 -> סניפון וולפסון- חולון. מספר סניף: 135 | F23: הלוחמים 62 בית חולים וולפסון, | G23: חולון | H23: 5822012 | I23: 36333 | J23: 02-5009911 | K23: 02-5010026 | L23: *2616 | M23: כן | N23: יום ו | O23: מיוחד | P23: 31/12/2002 | T23: 178640 | U23: 659600
A24: 4 | B24: בנק יהב לעובדי המדינה בע"מ | C24: 136 | D24: ראשון לציון | E24: =D24&"."&" "&"מספר סניף:"&" "&C24 -> ראשון לציון. מספר סניף: 136 | F24: ישראל גלילי 3 ישראל גלילי 3 קרית הלאום | G24: ראשון לציון | H24: 7542602 | I24: 36333 | J24: 02-5009911 | K24: 02-5010044 | L24: *2616 | M24: כן | N24: יום א | O24: רגיל | P24: 01/10/2004 | T24: 179510 | U24: 652990
A25: 4 | B25: בנק יהב לעובדי המדינה בע"מ | C25: 137 | D25: אסף הרופא | E25: =D25&"."&" "&"מספר סניף:"&" "&C25 -> אסף הרופא. מספר סניף: 137 | F25: אסף סנטר 1 ביה"ח אסף הרופא, קניון אסף סנטר | G25: באר יעקב | H25: 7030094 | I25: 36333 | J25: 02-5009911 | K25: 02-5010045 | L25: *2616 | M25: כן | N25: יום ו | O25: רגיל | P25: 06/01/2008 | T25: 185280 | U25: 652900
A26: 4 | B26: בנק יהב לעובדי המדינה בע"מ | C26: 138 | D26: חדרה | E26: =D26&"."&" "&"מספר סניף:"&" "&C26 -> חדרה. מספר סניף: 138 | F26: הנשיא ויצמן 21 הנשיא 21 | G26: חדרה | H26: 3842339 | I26: 36333 | J26: 02-5009911 | K26: 02-5010048 | L26: *2616 | M26: כן | N26: יום ו | O26: רגיל | P26: 22/05/2000 | T26: 192610 | U26: 705170
A27: 4 | B27: בנק יהב לעובדי המדינה בע"מ | C27: 139 | D27: גלילות | E27: =D27&"."&" "&"מספר סניף:"&" "&C27 -> גלילות. מספר סניף: 139 | F27: צומת גלילות 1 בניין רב מכר, | G27: רמת השרון | H27: 47100 | I27: 36333 | J27: 02-5009911 | K27: 02-5010049 | L27: *2616 | M27: כן | N27: יום ו | O27: מיוחד | P27: 04/03/2008 | Q27: 01/04/2014 | T27: 181440 | U27: 672000
A28: 4 | B28: בנק יהב לעובדי המדינה בע"מ | C28: 140 | D28: חיפה | E28: =D28&"."&" "&"מספר סניף:"&" "&C28 -> חיפה. מספר סניף: 140 | F28: דרך העצמאות 36 העצמאות 36 | G28: חיפה | H28: 3303509 | I28: 36333 | J28: 02-5009911 | K28: 02-5010052 | L28: *2616 | M28: כן | N28: יום ו | O28: רגיל | P28: 01/02/1949 | T28: 200650 | U28: 746680
A29: 4 | B29: בנק יהב לעובדי המדינה בע"מ | C29: 141 | D29: נהרייה | E29: =D29&"."&" "&"מספר סניף:"&" "&C29 -> נהרייה. מספר סניף: 141 | F29: הרצל 64 מרכז הגעתון הרצל 64 | G29: נהריה | H29: 2240113 | I29: 36333 | J29: 02-5009911 | K29: 02-5010056 | L29: *2616 | M29: כן | N29: יום א | O29: רגיל | P29: 01/09/2000 | T29: 209330 | U29: 767990
A30: 4 | B30: בנק יהב לעובדי המדינה בע"מ | C30: 142 | D30: נצרת עילית | E30: =D30&"."&" "&"מספר סניף:"&" "&C30 -> נצרת עילית. מספר סניף: 142 | F30: המלאכה 3 בנין לב העסקים המלאכה 3 | G30: נצרת עילית | H30: 1767303 | I30: 36333 | J30: 02-5009911 | K30: 02-5010059 | L30: *2616 | M30: כן | N30: יום ו | O30: רגיל | P30: 01/06/2001 | T30: 229930 | U30: 734140
A31: 4 | B31: בנק יהב לעובדי המדינה בע"מ | C31: 143 | D31: רמב"ם | E31: =D31&"."&" "&"מספר סניף:"&" "&C31 -> רמב"ם. מספר סניף: 143 | F31: רח' העליה השנייה 2 בית החולים רמב"ם | G31: חיפה | H31: 35254 | I31: 36333 | J31: 04-8516022 | K31: 04-8515911 | L31: *2616 | M31: כן | N31: יום ו | O31: מיוחד | P31: 12/06/2002 | T31: 199130 | U31: 748700
A32: 4 | B32: בנק יהב לעובדי המדינה בע"מ | C32: 145 | D32: קרנות השתלמות | E32: =D32&"."&" "&"מספר סניף:"&" "&C32 -> קרנות השתלמות. מספר סניף: 145 | F32: ירמיהו 80 | G32: ירושלים | H32: 9446759 | I32: 36333 | J32: 02-5009666 | K32: 02-5385978 | L32: *2616 | M32: כן | O32: מיוחד | P32: 30/11/1994 | T32: 219080 | U32: 633100
A33: 4 | B33: בנק יהב לעובדי המדינה בע"מ | C33: 146 | D33: תוכניות חסכון | E33: =D33&"."&" "&"מספר סניף:"&" "&C33 -> תוכניות חסכון. מספר סניף: 146 | F33: ירמיהו 80 ירמיהו 80 | G33: ירושלים | H33: 9446759 | I33: 36333 | J33: 02-5009666 | K33: 02-5385931 | L33: *2616 | M33: כן | O33: מיוחד | P33: 30/11/1994 | T33: 219080 | U33: 633100
A34: 4 | B34: בנק יהב לעובדי המדינה בע"מ | C34: 148 | D34: אשראי | E34: =D34&"."&" "&"מספר סניף:"&" "&C34 -> אשראי. מספר סניף: 148 | F34: ירמיהו 80 ירמיהו 80 | G34: ירושלים | H34: 9446759 | I34: 36333 | J34: 02-5009666 | K34: 02-5010007 | L34: *2616 | M34: כן | O34: מיוחד | P34: 22/11/1992 | T34: 219080 | U34: 633100
A35: 4 | B35: בנק יהב לעובדי המדינה בע"מ | C35: 149 | D35: הנהלה ראשית | E35: =D35&"."&" "&"מספר סניף:"&" "&C35 -> הנהלה ראשית. מספר סניף: 149 | F35: ירמיהו 80 ירמיהו 80 | G35: ירושלים | H35: 9446759 | I35: 36333 | J35: 02-5009666 | K35: 02-5385869 | L35: *2616 | M35: כן | O35: מיוחד | P35: 01/12/1985 | T35: 219080 | U35: 633100
A36: 4 | B36: בנק יהב לעובדי המדינה בע"מ | C36: 150 | D36: באר יעקב | E36: =D36&"."&" "&"מספר סניף:"&" "&C36 -> באר יעקב. מספר סניף: 150 | F36: מאיר דיזינגוף 1 | G36: באר יעקב | H36: 7030094 | I36: 36333 | J36: 08-9154788 | K36: 08-9236572 | L36: 08-9155718 | M36: כן | O36: מיוחד | P36: 01/09/2010 | T36: 184260 | U36: 648640
A37: 4 | B37: בנק יהב לעובדי המדינה בע"מ | C37: 171 | D37: בת ים | E37: =D37&"."&" "&"מספר סניף:"&" "&C37 -> בת ים. מספר סניף: 171 | F37: בלפור 72 בלפור 72 | G37: בת ים | H37: 5963105 | I37: 36333 | J37: 02-5009911 | K37: 02-5010107 | L37: *2616 | M37: כן | N37: יום א | O37: רגיל | P37: 01/09/2011 | T37: 176208 | U37: 658969
A38: 4 | B38: בנק יהב לעובדי המדינה בע"מ | C38: 193 | D38: מעלה אדומים | E38: =D38&"."&" "&"מספר סניף:"&" "&C38 -> מעלה אדומים. מספר סניף: 193 | F38: דרך קדם 5 קניון אדומים | G38: מעלה אדומים | H38: 9845203 | I38: 36333 | J38: 02-5009911 | K38: 02-5010105 | L38: 2616* | M38: כן | N38: יום א | O38: רגיל | P38: 22/11/2011 | T38: 176208 | U38: 658969
A39: 4 | B39: בנק יהב לעובדי המדינה בע"מ | C39: 195 | D39: איכלוב | E39: =D39&"."&" "&"מספר סניף:"&" "&C39 -> איכלוב. מספר סניף: 195 | F39: ויצמן 14 ביה"ח איכילוב ויצמן 14תל אביב | G39: תל אביב | H39: 6423914 | I39: 36333 | J39: 02-5009911 | K39: 02-5010104 | L39: 2616* | M39: כן | N39: יום ו | O39: מיוחד | P39: 30/06/2011 | T39: 180406 | U39: 665449
A40: 4 | B40: בנק יהב לעובדי המדינה בע"מ | C40: 233 | D40: רמב"ם | E40: =D40&"."&" "&"מספר סניף:"&" "&C40 -> רמב"ם. מספר סניף: 233 | F40: רח' העליה השנייה 2 בית החולים רמב"ם העליה 8 | G40: חיפה | H40: 3525402 | I40: 36333 | J40: 04-8516022 | K40: 04-8515911 | L40: *2616 | M40: כן | N40: יום ו | O40: מיוחד | P40: 12/06/2002 | T40: 199130 | U40: 748700
...

Sheet לוגו

Sheet נספח א
A1: פירוט גרעיני המשימה המאוגדים תחת היזם: | P1: כן
A2: מס' סידורי | B2: שם מוסד הציבור (העמותה): | C2: מספר תאגיד | D2: שם הגרעין | E2: הרשות המקומית בה הוא פועל | F2: גרעין עולים | G2: מספר בקשת תמיכה | H2: מספר חברי הגרעין שאושרו בבקשת התמיכה | I2: כמות תושבים | J2: מספר חברי הגרעין | P2: לא | R2: כן
A3: 1 | R3: לא
A4: 2 | I4: =VLOOKUP(E4,'אוכלוסייה ביישובים 2,000+'!$B$9:$G$276,6,0) -> #N/A
A5: 3 | I5: =VLOOKUP(E5,'אוכלוסייה ביישובים 2,000+'!$B$9:$G$276,6,0) -> #N/A
A6: 4 | I6: =VLOOKUP(E6,'אוכלוסייה ביישובים 2,000+'!$B$9:$G$276,6,0) -> #N/A
A7: 5 | I7: =VLOOKUP(E7,'אוכלוסייה ביישובים 2,000+'!$B$9:$G$276,6,0) -> #N/A
A8: 6 | I8: =VLOOKUP(E8,'אוכלוסייה ביישובים 2,000+'!$B$9:$G$276,6,0) -> #N/A
A9: 7 | I9: =VLOOKUP(E9,'אוכלוסייה ביישובים 2,000+'!$B$9:$G$276,6,0) -> #N/A
A10: 8 | I10: =VLOOKUP(E10,'אוכלוסייה ביישובים 2,000+'!$B$9:$G$276,6,0) -> #N/A
A11: 9 | I11: =VLOOKUP(E11,'אוכלוסייה ביישובים 2,000+'!$B$9:$G$276,6,0) -> #N/A
A12: 10
A13: 11
A14: 12
A15: 13
A16: 14
A17: 15
A18: 16 | I18: =VLOOKUP(E18,'אוכלוסייה ביישובים 2,000+'!$B$9:$G$276,6,0) -> #N/A

Sheet נספח ג
A1: מס' | B1: התפקיד | C1: שם פרטי | D1: שם משפחה | E1: ת"ז | F1: פירוט תפקיד ניהולי בעמותה | G1: היקף המשרה ביזם | H1: מקום עבודה נוסף (במידה וישנו) | I1: היקף המשרה במשרה נוספת | J1: היקף משרה משוקלל ביזם | K1: עלות מעביד חודשית | L1: עלות מעביד חודשית בהתאם לנוהל | M1: עלות מעביד שנתית בהתאם לנוהל
A2: 1 | J2: =IF((G2+I2)<=120%,G2,120%-I2) -> 0 | L2: =IF(B2="רכז/ת פעילות יזם גרעינים",IF(K2/J2<=18000,K2,18000*J2),IF(K2/G2<=13000,K2,13000*J2)) -> #DIV/0! | M2: =12*L2 -> #DIV/0! | S2: רכז/ת פעילות יזם גרעינים
A3: 2 | J3: =IF((G3+I3)<=120%,G3,120%-I3) -> 0 | L3: =IF(B3="רכז/ת פעילות יזם גרעינים",IF(K3/J3<=18000,K3,18000*J3),IF(K3/G3<=13000,K3,13000*J3)) -> #DIV/0! | M3: =12*L3 -> #DIV/0! | S3: עובד/ת היזם
A4: 3 | J4: =IF((G4+I4)<=120%,G4,120%-I4) -> 0 | L4: =IF(B4="רכז/ת פעילות יזם גרעינים",IF(K4/J4<=18000,K4,18000*J4),IF(K4/G4<=13000,K4,13000*J4)) -> #DIV/0! | M4: =12*L4 -> #DIV/0!
A5: סך הכול | K5: =SUM(K2:K4) -> 0 | L5: =SUM(L2:L4) -> #DIV/0! | M5: =SUM(M2:M4) -> #DIV/0!
A7: הנחיות למילוי הטבלה | P7: רכז/ת משימתי
A8: יזם יוכל לממן באמצעות התמיכה את הוצאות השכר בעד רכז הפעילות של יזם הגרעינים מול גרעינים אלה וכן עובדים נוספים, כמפורט להלן: א. לחמשת הגרעינים הראשונים של היזם – רכז אחד ושני עובדים; ב. לכל חמישה גרעינים נוספים – רכז אחד ועובד אחד נוסף אך לא יותר מעשרה עובדים במצטבר; העובד הנוסף יעסוק באופן ישיר בהדרכת הגרעינים. בנוסף, יזם יוכל לממן באמצעות התמיכה את הוצאות השכר בגרעינים המאוגדים במסגרתו, שאינם מהווים ישות משפטית עצמאית ושהם גרעינים בהקמה, בעד שכרו של רכז הגרעין בלבד | P8: רכז/ת קהילה
A10: היקף המשרה | P10: רכז/ת תכניות
A11: עובד שיועסק במשרה נוספת מחוץ לגרעין, יהיה זכאי להגיש בקשה לתמיכה שתשלים אחוזי משרה עד 120%. | P11: רכז/ת רווחה
A12: 120% משרה <= (אחוזי המשרה מחוץ לגרעין) + (אחוזי משרה בגרעין) | P12: רכז/ת שותפויות
A13: דרישה לאחוזי משרה בגרעין שתעלה על התחשיב הנ"ל, תביא להפחתת אחוזי המשרה בגרעין בהתאם. | P13: רכז/ת משאבי אנוש
P14: מזכיר/מזכירה
P15: מנהלת/ת חשבונות
P16: רכז קשישים
P17: רכז עולים חדשים
P18: רכז חקלאות

Sheet עמידה בתנאי סף
A3: תחשיב עמידה בתנאי סף :
A4: מס' סעיף במבחנים | B4: תוצאה | C4: הסבר
A5: 6(3)(א) | B5: =IF(COUNTA('נספח א'!$D$3:$D$18)>=5,COUNTA('נספח א'!$D$3:$D$18),"לא עומד בתנאי הסף") -> לא עומד בתנאי הסף | C5: מספר גרעינים ב5 רשויות מקומיות | G5: יש לבחון כי מדובר ברשויות שונות!
A6: 6(3)(ג) | B6: =IF(SUMIFS('נספח ג'!$J$2:$J$4,'נספח ג'!$B$2:$B$4,"רכז/ת פעילות יזם גרעינים")>=100%,"עומד בתנאי סף","לא עומד בתנאי סף") -> לא עומד בתנאי סף | C6: העמדת מערך ליווי - רכז במשרה מלאה
A7: 6(3)(ד) | B7: =IF('הכשרות לחברי גרעין (2)'!$G$56>=40,"עומד בתנאי סף","לא עומד בתנאי סף") -> לא עומד בתנאי סף | C7: שעות הכשרת חברי גרעין רבעון | G7: =SUMIFS('נספח ג'!$J$2:$J$4,'נספח ג'!$B$2:$B$4,"רכז/ת פעילות יזם גרעינים") -> 0
A8: 6(3)(ה) | B8: לבחינת הבודק | C8: הגשת תכנית עבודה באחד מתוך הנושאים: ליווי, הכשרות, גיבוש פרסום ושיווק
A9: 6(ג)(6) | B9: לבחינת הבודק | C9: אסמכתאות לפעילות יזם הנתמך לראשונה- במשך השנתיים שקדמו לתמיכה
A11: ניקוד:
A12: מס' סעיף במבחנים | B12: תוצאה | C12: הסבר
A13: 8(1) | B13: =SUM('נספח א'!J3:J18) -> 0 | C13: מספר חברי הגרעין המאושרים לתמיכה (יש לסכום בהתאם למספר חברי הגרעין שאושרו בבקשות התמיכה של הגרעינים תחת היזם)
A14: 8(2) | B14: =' ליווי גרעינים (1)'!G50 -> 0 | C14: היקף שירות הליווי בשנת הערכה שמספק יזם הגרעין לצוות רכזי הגרעינים הנמנים עליו
A15: 8(3) | B15: =' ליווי גרעינים (1)'!G51 -> 0 | C15: היקף שירות הליווי בשנת הערכה שמספק יזם הגרעין לחברי הגרעינים הנמנים עליו

Sheet  ליווי גרעינים (1)
B1: טופס פרויקט – עבורו מבוקשת התמיכה בפעולות
B3: שם הפרויקט: | C3: ליווי גרעינים
B6: 1. פירוט גרעיני המשימה שמלווה היזם:
B7: מס' סידורי | C7: שם הגרעין | D7: מספר בקשה גרעין | E7: מספר חברי גרעין | F7: מספר שעות ליווי הגרעין הניתנות ע"י רכז היזם
B8: 1
B9: 2
B10: 3
B11: 4
B12: 5
B13: 6
B14: 7
B15: 8
B16: 9
B17: 10
B19: 2. דוח תקציב
B20: מקורות מימון | E20: סכום מימון | F20: % מחושב אוט'
B21: השתתפות עצמית לפחות 10% | C21: שותפים שאינם משרדי ממשלה | E21: =SUM(E22:E29) -> 0 | F21: =E21/$E$36 -> #DIV/0!
C22: רשות מקומית:
C23: לפרט:
C24: לפרט:
C25: לפרט:
C26: לפרט:
C27: לפרט:
C28: תרומות:
C29: גביית דמי השתתפות:
B30: משרדי ממשלה עד 90% | C30: משרדי ממשלה | E30: =SUM(E31:E35) -> 0 | F30: =$E$30/$E$36 -> #DIV/0!
C31: משרד ההתיישבות:
C32: אחר (לפרט):
C33: אחר (לפרט):
C34: אחר (לפרט):
C35: אחר (לפרט):
B36: סה"כ מקורות מימון | E36: =E30+E21 -> 0
B38: סעיפי ההוצאה | E38: הערכת עלות (₪ כולל מע"מ) | F38: % מחושב אוט'
B39: שכר מרצים, מנחים, יועצים מקצועיים, מדריכים | F39: =E39/$E$45 -> #DIV/0!
B40: שכירות מקום וציוד לקיום הפעילות | F40: =E40/$E$45 -> #DIV/0!
B41: רכישת אביזרים וציוד לקיום הפעילות | F41: =E41/$E$45 -> #DIV/0!
B42: רכישת שירותי הסעה לקבוצות | F42: =E42/$E$45 -> #DIV/0!
B43: ניהול התכנית | D43: (עד 10%) | F43: =E43/$E$45 -> #DIV/0!
B44: אירוח ולינה ו/או כיבוד והסעדה | D44: (עד 5%) | F44: =E44/$E$45 -> #DIV/0!
B45: סה"כ עלות כוללת | E45: =SUM(E39:E44) -> 0
...

Sheet הכשרות לחברי גרעין (2)
G2: תאריך: | H2: dd/mm/yyyy
B5: טופס פרויקט – עבורו מבוקשת התמיכה בפעולות
B7: שם הפרויקט: | C7: הכשרות לחברי הגרעינים
B11: 1. פירוט גרעיני המשימה המשתתפים בהכשרות:
B12: מס' סידורי | C12: שם הגרעין | D12: מספר בקשה גרעין | E12: מספר חברי גרעין | F12: מספר שעות הכשרת חברי הגרעין
B13: 1 | O13: בעלי תפקידים בגרעין
B14: 2 | O14: חברי הגרעין
B15: 3 | O15: בעלי תפקידים בגרעין וחברי הגרעין
B16: 4
B17: 5
B18: 6
B19: 7
B20: 8
B21: 9
B22: 10
B25: 2. דוח תקציב
B26: מקורות מימון | E26: סכום מימון | F26: % מחושב אוט'
B27: השתתפות עצמית לפחות 10% | C27: שותפים שאינם משרדי ממשלה | E27: =SUM(E28:E35) -> 0 | F27: =E27/$E$42 -> #DIV/0!
C28: רשות מקומית:
C29: לפרט:
C30: לפרט:
C31: לפרט:
C32: לפרט:
C33: לפרט:
C34: תרומות:
C35: גביית דמי השתתפות:
B36: משרדי ממשלה עד 90% | C36: משרדי ממשלה | E36: =SUM(E37:E41) -> 0 | F36: =$E$36/$E$42 -> #DIV/0!
C37: משרד ההתיישבות:
C38: אחר (לפרט):
C39: אחר (לפרט):
C40: אחר (לפרט):
C41: אחר (לפרט):
B42: סה"כ מקורות מימון | E42: =E36+E27 -> 0 | F42: =SUM(F27:G41) -> #DIV/0!
B44: סעיפי ההוצאה | E44: הערכת עלות (₪ כולל מע"מ) | F44: % מחושב אוט'
B45: שכר מרצים, מנחים, יועצים מקצועיים, מדריכים | F45: =E45/$E$51 -> #DIV/0!
B46: שכירות מקום וציוד לקיום הפעילות | F46: =E46/$E$51 -> #DIV/0!
B47: רכישת אביזרים וציוד לקיום הפעילות | F47: =E47/$E$51 -> #DIV/0!
B48: רכישת שירותי הסעה לקבוצות | F48: =E48/$E$51 -> #DIV/0!
B49: ניהול התכנית | D49: (עד 10%) | F49: =E49/$E$51 -> #DIV/0!
B50: אירוח ולינה ו/או כיבוד והסעדה | D50: (עד 5%) | F50: =E50/$E$51 -> #DIV/0!
...

Sheet ימי עיון (3)
G2: תאריך: | H2: dd/mm/yyyy
B5: טופס פרויקט – עבורו מבוקשת התמיכה בפעולות
B7: שם הפרויקט: | C7: ימי עיון
B10: 1. פירוט גרעיני המשימה המשתתפים בימי העיון:
B11: מס' סידורי | C11: שם הגרעין | D11: מספר בקשה גרעין | E11: מספר חברי גרעין | F11: באילו מן ההכשרות המפורטות מטה השתתף הגרעין? | G11: מספר חברי גרעין המשתפפים בהכשרות
B12: 1
B13: 2
B14: 3
B15: 4
B16: 5
B17: 6
B18: 7
B19: 8
B20: 9
B21: 10
B23: 2. דוח תקציב
B24: מקורות מימון | E24: סכום מימון | F24: % מחושב אוט'
B25: השתתפות עצמית לפחות 10% | C25: שותפים שאינם משרדי ממשלה | F25: =E25/$E$40 -> #DIV/0!
C26: רשות מקומית:
C27: לפרט:
C28: לפרט:
C29: לפרט:
C30: לפרט:
C31: לפרט:
C32: תרומות:
C33: גביית דמי השתתפות:
B34: משרדי ממשלה עד 90% | C34: משרדי ממשלה | F34: =$E$34/$E$40 -> #DIV/0!
C35: משרד ההתיישבות:
C36: אחר (לפרט):
C37: אחר (לפרט):
C38: אחר (לפרט):
C39: אחר (לפרט):
B40: סה"כ מקורות מימון | E40: =SUM(E25:E39) -> 0
B42: סעיפי ההוצאה | E42: הערכת עלות (₪ כולל מע"מ) | F42: % מחושב אוט'
B43: שכר מרצים, מנחים, יועצים מקצועיים, מדריכים | F43: =E43/$E$49 -> #DIV/0!
B44: שכירות מקום וציוד לקיום הפעילות | F44: =E44/$E$49 -> #DIV/0!
B45: רכישת אביזרים וציוד לקיום הפעילות | F45: =E45/$E$49 -> #DIV/0!
B46: רכישת שירותי הסעה לקבוצות | F46: =E46/$E$49 -> #DIV/0!
B47: ניהול התכנית | D47: (עד 10%) | F47: =E47/$E$49 -> #DIV/0!
B48: אירוח ולינה ו/או כיבוד והסעדה | D48: (עד 5%) | F48: =E48/$E$49 -> #DIV/0!
...

Sheet גיבוש גרעינים, פרסום ושיווק (4)
G2: תאריך: | H2: dd/mm/yyyy
B5: טופס פרויקט – עבורו מבוקשת התמיכה בפעולות
B7: שם הפרויקט: | C7: גיבוש גרעינים, פרסום ושיווק
B11: 1. פירוט גרעיני המשימה המשתתפים בגיבוש, פרסום ושיווק:
B12: מס' סידורי | C12: שם הגרעין | D12: מספר בקשה גרעין | E12: מספר חברי גרעין | F12: מספר חברי גרעין המשתתפים בפעילות גיבוש, פרסום ושיווק
B13: 1 | O13: בעלי תפקידים בגרעין
B14: 2 | O14: חברי הגרעין
B15: 3 | O15: בעלי תפקידים בגרעין וחברי הגרעין
B16: 4
B17: 5
B18: 6
B19: 7
B20: 8
B21: 9
B22: 10
B25: 2. דוח תקציב
B26: מקורות מימון | E26: סכום מימון | F26: % מחושב אוט'
B27: השתתפות עצמית לפחות 10% | C27: שותפים שאינם משרדי ממשלה | E27: =SUM(E28:E35) -> 0 | F27: =E27/$E$42 -> #DIV/0!
C28: רשות מקומית:
C29: לפרט:
C30: לפרט:
C31: לפרט:
C32: לפרט:
C33: לפרט:
C34: תרומות:
C35: גביית דמי השתתפות:
B36: משרדי ממשלה עד 90% | C36: משרדי ממשלה | E36: =SUM(E37:E41) -> 0 | F36: =$E$36/$E$42 -> #DIV/0!
C37: משרד ההתיישבות:
C38: אחר (לפרט):
C39: אחר (לפרט):
C40: אחר (לפרט):
C41: אחר (לפרט):
B42: סה"כ מקורות מימון | E42: =E36+E27 -> 0 | F42: =SUM(F27:G41) -> #DIV/0!
B44: סעיפי ההוצאה | E44: הערכת עלות (₪ כולל מע"מ) | F44: % מחושב אוט'
B45: שכר מרצים, מנחים, יועצים מקצועיים, מדריכים | F45: =E45/$E$51 -> #DIV/0!
B46: שכירות מקום וציוד לקיום הפעילות | F46: =E46/$E$51 -> #DIV/0!
B47: רכישת אביזרים וציוד לקיום הפעילות | F47: =E47/$E$51 -> #DIV/0!
B48: רכישת שירותי הסעה לקבוצות | F48: =E48/$E$51 -> #DIV/0!
B49: ניהול התכנית | D49: (עד 10%) | F49: =E49/$E$51 -> #DIV/0!
B50: אירוח ולינה ו/או כיבוד והסעדה | D50: (עד 5%) | F50: =E50/$E$51 -> #DIV/0!
...

Sheet פרויקט נוסף (5)
G2: תאריך: | H2: dd/mm/yyyy
B5: טופס פרויקט – עבורו מבוקשת התמיכה בפעולות
B7: שם הפרויקט:
B11: 2. דוח תקציב
B12: מקורות מימון | E12: סכום מימון | F12: % מחושב אוט'
B13: השתתפות עצמית לפחות 10% | C13: שותפים שאינם משרדי ממשלה | E13: =SUM(E14:E21) -> 0 | F13: =E13/$E$28 -> #DIV/0!
C14: רשות מקומית:
C15: לפרט:
C16: לפרט:
C17: לפרט:
C18: לפרט:
C19: לפרט:
C20: תרומות:
C21: גביית דמי השתתפות:
B22: משרדי ממשלה עד 90% | C22: משרדי ממשלה | E22: =SUM(E23:E27) -> 0 | F22: =$E$22/$E$28 -> #DIV/0!
C23: משרד ההתיישבות:
C24: אחר (לפרט):
C25: אחר (לפרט):
C26: אחר (לפרט):
C27: אחר (לפרט):
B28: סה"כ מקורות מימון | E28: =E22+E13 -> 0
B30: סעיפי ההוצאה | E30: הערכת עלות (₪ כולל מע"מ) | F30: % מחושב אוט'
B31: שכר מרצים, מנחים, יועצים מקצועיים, מדריכים | F31: =E31/$E$37 -> #DIV/0!
B32: שכירות מקום וציוד לקיום הפעילות | F32: =E32/$E$37 -> #DIV/0!
B33: רכישת אביזרים וציוד לקיום הפעילות | F33: =E33/$E$37 -> #DIV/0!
B34: רכישת שירותי הסעה לקבוצות | F34: =E34/$E$37 -> #DIV/0!
B35: ניהול התכנית | D35: (עד 10%) | F35: =E35/$E$37 -> #DIV/0!
B36: אירוח ולינה ו/או כיבוד והסעדה | D36: (עד 5%) | F36: =E36/$E$37 -> #DIV/0!
B37: סה"כ עלות כוללת | E37: =SUM(E31:E36) -> 0
B40: 3. פירוט התכנית
B42: היקף שעות פעילות שנתי
B44: פירוט מאפייני הפעילות, תוכנה, מיקומה, מועדיה ומרכיביה:
B50: מדדי הערכת תרומת הפעילות
B51: 1
B52: 2
B53: 3
B54: 4
B55: 5
