Workbook

Sheet גיליון1
A1: שם חברה | B1: תאור של ארגון רכש | C1: שם אתר | E1: פריט התחייבות | F1: תיאור תקנה תקציבית | G1: מטרת התקשרות | H1: תאריך מסמך | I1: סיום תקופת תוקף | J1: ספק | K1: שם הספק | L1: מספר רישום מע"מ | M1: ערך הזמנה + מע"מ | N1: מטבע מקומי | O1: ביצוע חשבוניות כולל מע"מ והצמדות במט"מ | P1: מטבע | Q1: אופן רכישה מקור | R1: סיבת פטור | S1: הזמנה רגישה
A2: רשות המים | B2: הרשות למים ולביוב | C2: הרשות הממשלתית למים ולביוב | D2: 4502015835 | E2: =VLOOKUP(D2,[1]גיליון2!$A:$C,2,0) -> 41-30-01-21 | F2: =VLOOKUP(D2,[1]גיליון2!$A:$C,3,0) -> ייעוץ בקרה וליווי | G2: השתתפות חבר ועדת שיפוט הבינמשרדית של המינהל לפיתוח תשתיות ביוב נציג ציבור | H2: 44276 | I2: 44561 | J2: 41437872 | K2: לומייר פיתוח תעשיות בע"מ | L2: 513504480 | M2: 59829.12 | N2: ILS | O2: 0 | P2: ILS | Q2: 76 | S2: לא
A3: רשות המים | B3: הרשות למים ולביוב | C3: הרשות הממשלתית למים ולביוב | D3: 4502005651 | E3: =VLOOKUP(D3,[1]גיליון2!$A:$C,2,0) -> 73-30-01-03 | F3: =VLOOKUP(D3,[1]גיליון2!$A:$C,3,0) -> איכות מים- ניטור | G3: השתתפות בהחזר הוצאות לחברי צוות היגוי ניטור הכנרת | H3: 44250 | I3: 44620 | J3: 40009984 | K3: שמיר אורי יוסף | L3: 001521350 | M3: 9874.8 | N3: ILS | O3: 0 | P3: ILS | Q3: 76 | S3: לא
A4: רשות המים | B4: הרשות למים ולביוב | C4: הרשות הממשלתית למים ולביוב | D4: 4502005664 | E4: =VLOOKUP(D4,[1]גיליון2!$A:$C,2,0) -> 73-30-01-03 | F4: =VLOOKUP(D4,[1]גיליון2!$A:$C,3,0) -> איכות מים- ניטור | G4: השתתפות בהחזר הוצאות לחברי צוות היגוי ניטור הכנרת ואגן ההיקוות | H4: 44250 | I4: 44620 | J4: 40020003 | K4: פרידלר ערן גד שמואל | M4: 8798.4 | N4: ILS | O4: 0 | P4: ILS | Q4: 76 | S4: לא
A5: רשות המים | B5: הרשות למים ולביוב | C5: הרשות הממשלתית למים ולביוב | D5: 4502005668 | E5: =VLOOKUP(D5,[1]גיליון2!$A:$C,2,0) -> 73-30-01-03 | F5: =VLOOKUP(D5,[1]גיליון2!$A:$C,3,0) -> איכות מים- ניטור | G5: השתתפות בהחזר הוצאות לחברי צוות היגוי ניטור הכנרת ואגן ההיקוות | H5: 44250 | I5: 44620 | J5: 42240606 | K5: גפני שריג | L5: 054898911 | M5: 8798.4 | N5: ILS | O5: 0 | P5: ILS | Q5: 76 | S5: לא
A6: רשות המים | B6: הרשות למים ולביוב | C6: הרשות הממשלתית למים ולביוב | D6: 4501985083 | E6: =VLOOKUP(D6,[1]גיליון2!$A:$C,2,0) -> 41-30-01-20 | F6: =VLOOKUP(D6,[1]גיליון2!$A:$C,3,0) -> הדרכה ורווחה | G6: קורסים וכנסים | H6: 44202 | I6: 43861 | J6: 10000020 | K6: משרד ראש הממשלה | M6: 4400 | N6: ILS | O6: 4400 | P6: ILS | Q6: 85 | S6: לא
A7: רשות המים | B7: הרשות למים ולביוב | C7: הרשות הממשלתית למים ולביוב | D7: 4501986503 | E7: =VLOOKUP(D7,[1]גיליון2!$A:$C,2,0) -> 41-30-01-19 | F7: =VLOOKUP(D7,[1]גיליון2!$A:$C,3,0) -> פעולות מנהל וארגון | G7: ועדה רפואית | H7: 44207 | I7: 44196 | J7: 10000103 | K7: לשכת הבריאות,מחוז ת"א | M7: 479 | N7: ILS | O7: 479 | P7: ILS | Q7: 85 | S7: לא
A8: רשות המים | B8: הרשות למים ולביוב | C8: הרשות הממשלתית למים ולביוב | D8: 4501988835 | E8: =VLOOKUP(D8,[1]גיליון2!$A:$C,2,0) -> 41-30-01-20 | F8: =VLOOKUP(D8,[1]גיליון2!$A:$C,3,0) -> הדרכה ורווחה | G8: שי לעובד לאחר מעבר הערכת מנהל לשנת 2021 | H8: 44210 | I8: 44255 | J8: 41535631 | K8: ציפור הנפש אומנות ישראלית בע"מ | L8: 515697381 | M8: 1287 | N8: ILS | O8: 0 | P8: ILS | Q8: 23 | R8: 57 | S8: לא
A9: רשות המים | B9: הרשות למים ולביוב | C9: הרשות הממשלתית למים ולביוב | D9: 4501990557 | E9: =VLOOKUP(D9,[1]גיליון2!$A:$C,2,0) -> 41-30-01-19 | F9: =VLOOKUP(D9,[1]גיליון2!$A:$C,3,0) -> פעולות מנהל וארגון | G9: ועדה רפואית | H9: 44214 | I9: 43830 | J9: 10000103 | K9: לשכת הבריאות,מחוז ת"א | M9: 479 | N9: ILS | O9: 479 | P9: ILS | Q9: 85 | S9: לא
A10: רשות המים | B10: הרשות למים ולביוב | C10: הרשות הממשלתית למים ולביוב | D10: 4501993865 | E10: =VLOOKUP(D10,[1]גיליון2!$A:$C,2,0) -> 41-30-01-20 | F10: =VLOOKUP(D10,[1]גיליון2!$A:$C,3,0) -> הדרכה ורווחה | G10: קורס דיני חוזים | H10: 44221 | I10: 44561 | J10: 40003393 | K10: ענבל חברה לביטוח בע"מ | L10: 520031030 | M10: 1104 | N10: ILS | O10: 1104 | P10: ILS | Q10: 85 | S10: לא
A11: רשות המים | B11: הרשות למים ולביוב | C11: הרשות הממשלתית למים ולביוב | D11: 4501993874 | E11: =VLOOKUP(D11,[1]גיליון2!$A:$C,2,0) -> 41-30-01-20 | F11: =VLOOKUP(D11,[1]גיליון2!$A:$C,3,0) -> הדרכה ורווחה | G11: פורום מנמרים – הלשכה לטכנולוגיות המידע בישראל | H11: 44221 | I11: 44561 | J11: 40005255 | K11: לשכת טכנולוגיית המידע בישראל ע"ש של | M11: 2600 | N11: ILS | O11: 0 | P11: ILS | Q11: 23 | R11: 57 | S11: לא
A12: רשות המים | B12: הרשות למים ולביוב | C12: הרשות הממשלתית למים ולביוב | D12: 4501993885 | E12: =VLOOKUP(D12,[1]גיליון2!$A:$C,2,0) -> 41-30-01-20 | F12: =VLOOKUP(D12,[1]גיליון2!$A:$C,3,0) -> הדרכה ורווחה | G12: משתתפת בוועדת בוחנים | H12: 44221 | I12: 44256 | J12: 42132406 | K12: זליגר מרה | M12: 538.2 | N12: ILS | O12: 538.2 | P12: ILS | Q12: 76 | S12: לא
A13: רשות המים | B13: הרשות למים ולביוב | C13: הרשות הממשלתית למים ולביוב | D13: 4501999914 | E13: =VLOOKUP(D13,[1]גיליון2!$A:$C,2,0) -> 41-30-01-20 | F13: =VLOOKUP(D13,[1]גיליון2!$A:$C,3,0) -> הדרכה ורווחה | G13: נציגת ציבור | H13: 44235 | I13: 44255 | J13: 42112669 | K13: לזרוביץ ציליה | M13: 538.2 | N13: ILS | O13: 538.2 | P13: ILS | Q13: 76 | S13: לא
A14: רשות המים | B14: הרשות למים ולביוב | C14: הרשות הממשלתית למים ולביוב | D14: 4502014148 | E14: =VLOOKUP(D14,[1]גיליון2!$A:$C,2,0) -> 41-30-01-20 | F14: =VLOOKUP(D14,[1]גיליון2!$A:$C,3,0) -> הדרכה ורווחה | G14: משתתפת בוועדת בוחנים | H14: 44271 | I14: 44286 | J14: 42206178 | K14: אשכנזי רות | M14: 538.2 | N14: ILS | O14: 538.2 | P14: ILS | Q14: 76 | S14: לא
A15: רשות המים | B15: הרשות למים ולביוב | C15: הרשות הממשלתית למים ולביוב | D15: 4502014211 | E15: =VLOOKUP(D15,[1]גיליון2!$A:$C,2,0) -> 41-30-01-20 | F15: =VLOOKUP(D15,[1]גיליון2!$A:$C,3,0) -> הדרכה ורווחה | G15: מימוש שאופציה - שי לבולטים לחיוב | H15: 44271 | I15: 44561 | J15: 41112234 | K15: כ.נ. מחסני השוק בע"מ | L15: 515163657 | M15: 6000 | N15: ILS | O15: 0 | P15: ILS | Q15: 84 | S15: לא
A16: רשות המים | B16: הרשות למים ולביוב | C16: הרשות הממשלתית למים ולביוב | D16: 4502015731 | E16: =VLOOKUP(D16,[1]גיליון2!$A:$C,2,0) -> 41-30-01-20 | F16: =VLOOKUP(D16,[1]גיליון2!$A:$C,3,0) -> הדרכה ורווחה | G16: קורס רכזת לשכה בכירה | H16: 44276 | I16: 44286 | J16: 40003393 | K16: ענבל חברה לביטוח בע"מ | L16: 520031030 | M16: 2500 | N16: ILS | O16: 0 | P16: ILS | Q16: 85 | S16: לא
A17: רשות המים | B17: הרשות למים ולביוב | C17: הרשות הממשלתית למים ולביוב | D17: 4502015736 | E17: =VLOOKUP(D17,[1]גיליון2!$A:$C,2,0) -> 41-30-01-20 | F17: =VLOOKUP(D17,[1]גיליון2!$A:$C,3,0) -> הדרכה ורווחה | G17: קורס דיני חוזים | H17: 44276 | I17: 44316 | J17: 40003393 | K17: ענבל חברה לביטוח בע"מ | L17: 520031030 | M17: 714 | N17: ILS | O17: 714 | P17: ILS | Q17: 85 | S17: לא
A18: רשות המים | B18: הרשות למים ולביוב | C18: הרשות הממשלתית למים ולביוב | D18: 4502015761 | E18: =VLOOKUP(D18,[1]גיליון2!$A:$C,2,0) -> 41-30-01-20 | F18: =VLOOKUP(D18,[1]גיליון2!$A:$C,3,0) -> הדרכה ורווחה | G18: קורס מרכז בכיר תשלומים | H18: 44276 | I18: 44286 | J18: 40003393 | K18: ענבל חברה לביטוח בע"מ | L18: 520031030 | M18: 2300 | N18: ILS | O18: 2300 | P18: ILS | Q18: 85 | S18: לא
A19: רשות המים | B19: הרשות למים ולביוב | C19: הרשות הממשלתית למים ולביוב | D19: 4502015768 | E19: =VLOOKUP(D19,[1]גיליון2!$A:$C,2,0) -> 41-30-01-20 | F19: =VLOOKUP(D19,[1]גיליון2!$A:$C,3,0) -> הדרכה ורווחה | G19: קורס מרכז בכיר פיתוח והדרכה | H19: 44276 | I19: 44316 | J19: 40003393 | K19: ענבל חברה לביטוח בע"מ | L19: 520031030 | M19: 2700 | N19: ILS | O19: 0 | P19: ILS | Q19: 85 | S19: לא
A20: רשות המים | B20: הרשות למים ולביוב | C20: הרשות הממשלתית למים ולביוב | D20: 4502015836 | E20: =VLOOKUP(D20,[1]גיליון2!$A:$C,2,0) -> 41-30-01-20 | F20: =VLOOKUP(D20,[1]גיליון2!$A:$C,3,0) -> הדרכה ורווחה | G20: גיפט קארד ליולדת | H20: 44276 | I20: 44561 | J20: 40288804 | K20: קשרים פלוס בע"מ | L20: 513887547 | M20: 4980 | N20: ILS | O20: 0 | P20: ILS | Q20: 23 | R20: 57 | S20: לא
A21: רשות המים | B21: הרשות למים ולביוב | C21: הרשות הממשלתית למים ולביוב | D21: 4502016551 | E21: =VLOOKUP(D21,[1]גיליון2!$A:$C,2,0) -> 41-30-01-20 | F21: =VLOOKUP(D21,[1]גיליון2!$A:$C,3,0) -> הדרכה ורווחה | G21: ועדת בוחנים | H21: 44279 | I21: 44316 | J21: 40562092 | K21: אור גיל חיים | M21: 538.2 | N21: ILS | O21: 0 | P21: ILS | Q21: 76 | S21: לא
A22: רשות המים | B22: הרשות למים ולביוב | C22: הרשות הממשלתית למים ולביוב | D22: 4502016564 | E22: =VLOOKUP(D22,[1]גיליון2!$A:$C,2,0) -> 41-30-01-20 | F22: =VLOOKUP(D22,[1]גיליון2!$A:$C,3,0) -> הדרכה ורווחה | G22: קורס דיני מכרזים | H22: 44279 | I22: 44316 | J22: 40003393 | K22: ענבל חברה לביטוח בע"מ | L22: 520031030 | M22: 907 | N22: ILS | O22: 0 | P22: ILS | Q22: 85 | S22: לא
A23: רשות המים | B23: הרשות למים ולביוב | C23: הרשות הממשלתית למים ולביוב | D23: 4502016571 | E23: =VLOOKUP(D23,[1]גיליון2!$A:$C,2,0) -> 41-30-01-20 | F23: =VLOOKUP(D23,[1]גיליון2!$A:$C,3,0) -> הדרכה ורווחה | G23: הכנה לקורס פרישה | H23: 44279 | I23: 44316 | J23: 40003393 | K23: ענבל חברה לביטוח בע"מ | L23: 520031030 | M23: 336 | N23: ILS | O23: 0 | P23: ILS | Q23: 85 | S23: לא
A24: רשות המים | B24: הרשות למים ולביוב | C24: הרשות הממשלתית למים ולביוב | D24: 4502001333 | E24: =VLOOKUP(D24,[1]גיליון2!$A:$C,2,0) -> 73-30-01-05 | F24: =VLOOKUP(D24,[1]גיליון2!$A:$C,3,0) -> פיתוח ותחזוקת מערכות | G24: ADOBE ACROBAT PRO FRL | H24: 44238 | I24: 44972 | J24: 40009639 | K24: מאגרי תוכנה (מ.ת.) בע"מ | L24: 513442442 | M24: 3516.69 | N24: ILS | O24: 3515.97 | P24: ILS | Q24: 23 | R24: 57 | S24: לא
A25: רשות המים | B25: הרשות למים ולביוב | C25: הרשות הממשלתית למים ולביוב | D25: 4502010364 | E25: =VLOOKUP(D25,[1]גיליון2!$A:$C,2,0) -> 73-30-01-05 | F25: =VLOOKUP(D25,[1]גיליון2!$A:$C,3,0) -> פיתוח ותחזוקת מערכות | G25: רכישה של מדפסת משולבת | H25: 44262 | I25: 44991 | J25: 40001244 | K25: דנגוט מחשבים בע"מ | L25: 511398836 | M25: 3825.9 | N25: ILS | O25: 0 | P25: ILS | Q25: 23 | R25: 57 | S25: לא
A26: רשות המים | B26: הרשות למים ולביוב | C26: הרשות הממשלתית למים ולביוב | D26: 4502015565 | E26: =VLOOKUP(D26,[1]גיליון2!$A:$C,2,0) -> 73-30-01-05 | F26: =VLOOKUP(D26,[1]גיליון2!$A:$C,3,0) -> פיתוח ותחזוקת מערכות | G26: רכישה ואיחוד לרשיונות זום | H26: 44276 | I26: 44926 | J26: 40009639 | K26: מאגרי תוכנה (מ.ת.) בע"מ | L26: 513442442 | M26: 14969.89 | N26: ILS | O26: 0 | P26: ILS | Q26: 23 | R26: 57 | S26: לא
A27: רשות המים | B27: הרשות למים ולביוב | C27: הרשות הממשלתית למים ולביוב | D27: 4502016515 | E27: =VLOOKUP(D27,[1]גיליון2!$A:$C,2,0) -> 73-30-01-05 | F27: =VLOOKUP(D27,[1]גיליון2!$A:$C,3,0) -> פיתוח ותחזוקת מערכות | G27: רכישת מדפסות A3 | H27: 44279 | I27: 44742 | J27: 40001247 | K27: הראל טכנולוגיות מידע בע"מ | L27: 511401002 | M27: 21209.11 | N27: ILS | O27: 0 | P27: ILS | Q27: 07 | S27: לא
A28: רשות המים | B28: הרשות למים ולביוב | C28: הרשות הממשלתית למים ולביוב | D28: 4502007904 | E28: =VLOOKUP(D28,[1]גיליון2!$A:$C,2,0) -> 73-30-01-19 | F28: =VLOOKUP(D28,[1]גיליון2!$A:$C,3,0) -> תכנון בקרה וייעוץ | G28: יעוץ אסטרטגי תקשורתי | H28: 44257 | I28: 44525 | J28: 40458989 | K28: אמיר דן - עינת אורן יעוץ תקשורת ואס | L28: 514217629 | M28: 147420 | N28: ILS | O28: 0 | P28: ILS | Q28: 84 | S28: לא
A29: רשות המים | B29: הרשות למים ולביוב | C29: הרשות הממשלתית למים ולביוב | D29: 4502014265 | E29: =VLOOKUP(D29,[1]גיליון2!$A:$C,2,0) -> 41-30-01-21 | F29: =VLOOKUP(D29,[1]גיליון2!$A:$C,3,0) -> ייעוץ בקרה וליווי | G29: דירקטור חיצוני עבור מועצת רשות המים | H29: 44271 | I29: 44561 | J29: 40441102 | K29: אבן-חן מיכל | L29: 056595739 | M29: 23400.99 | N29: ILS | O29: 0 | P29: ILS | Q29: 76 | S29: לא
A30: רשות המים | B30: הרשות למים ולביוב | C30: הרשות הממשלתית למים ולביוב | D30: 4502002940 | E30: =VLOOKUP(D30,[1]גיליון2!$A:$C,2,0) -> 41-30-01-21 | F30: =VLOOKUP(D30,[1]גיליון2!$A:$C,3,0) -> ייעוץ בקרה וליווי | G30: יו"ר ועדה ציבורית לניתוקי מים | H30: 44243 | I30: 44561 | J30: 41335804 | K30: כורזים קורושי יוסף | L30: 061860730 | M30: 10444.5 | N30: ILS | O30: 1266 | P30: ILS | Q30: 76 | S30: לא
A31: רשות המים | B31: הרשות למים ולביוב | C31: הרשות הממשלתית למים ולביוב | D31: 4502003598 | E31: =VLOOKUP(D31,[1]גיליון2!$A:$C,2,0) -> 41-30-01-21 | F31: =VLOOKUP(D31,[1]גיליון2!$A:$C,3,0) -> ייעוץ בקרה וליווי | G31: ועדה ציבורית לניתוקחי מים - חבר וועדה | H31: 44244 | I31: 44561 | J31: 40563650 | K31: מרוז יפה | M31: 10888.02 | N31: ILS | O31: 1429.74 | P31: ILS | Q31: 76 | S31: לא
A32: רשות המים | B32: הרשות למים ולביוב | C32: הרשות הממשלתית למים ולביוב | D32: 4502003609 | E32: =VLOOKUP(D32,[1]גיליון2!$A:$C,2,0) -> 41-30-01-21 | F32: =VLOOKUP(D32,[1]גיליון2!$A:$C,3,0) -> ייעוץ בקרה וליווי | G32: ועדה ציבורית לניתוקחי מים - חבר וועדה | H32: 44244 | I32: 44561 | J32: 40310794 | K32: חלף לירון | L32: 054166434 | M32: 10888.02 | N32: ILS | O32: 1429.74 | P32: ILS | Q32: 76 | S32: לא
A33: רשות המים | B33: הרשות למים ולביוב | C33: הרשות הממשלתית למים ולביוב | D33: 4502003644 | E33: =VLOOKUP(D33,[1]גיליון2!$A:$C,2,0) -> 41-30-01-21 | F33: =VLOOKUP(D33,[1]גיליון2!$A:$C,3,0) -> ייעוץ בקרה וליווי | G33: ועדה ציבורית לניתוקחי מים - חבר וועדה | H33: 44244 | I33: 44561 | J33: 41340361 | K33: יוחנני גילי | M33: 10888.02 | N33: ILS | O33: 0 | P33: ILS | Q33: 76 | S33: לא
A34: רשות המים | B34: הרשות למים ולביוב | C34: הרשות הממשלתית למים ולביוב | D34: 4502003646 | E34: =VLOOKUP(D34,[1]גיליון2!$A:$C,2,0) -> 41-30-01-21 | F34: =VLOOKUP(D34,[1]גיליון2!$A:$C,3,0) -> ייעוץ בקרה וליווי | G34: ועדה ציבורית לניתוקחי מים - חבר וועדה | H34: 44244 | I34: 44561 | J34: 40313729 | K34: רותם-סלאב אילת | L34: 028936136 | M34: 10888.02 | N34: ILS | O34: 1429.74 | P34: ILS | Q34: 76 | S34: לא
A35: רשות המים | B35: הרשות למים ולביוב | C35: הרשות הממשלתית למים ולביוב | D35: 4502016563 | E35: =VLOOKUP(D35,[1]גיליון2!$A:$C,2,0) -> 41-30-01-21 | F35: =VLOOKUP(D35,[1]גיליון2!$A:$C,3,0) -> ייעוץ בקרה וליווי | G35: מתן שירותי ייעוץ משפטי בתחום המשפט הבנלאומי | H35: 44279 | I35: 44627 | J35: 40010355 | K35: אלסטר יצחק פנחס | L35: 069754489 | M35: 139662.9 | N35: ILS | O35: 0 | P35: ILS | Q35: 23 | R35: 88 | S35: לא
A36: רשות המים | B36: הרשות למים ולביוב | C36: הרשות הממשלתית למים ולביוב | D36: 4502001756 | E36: =VLOOKUP(D36,[1]גיליון2!$A:$C,2,0) -> 73-30-01-25 | F36: =VLOOKUP(D36,[1]גיליון2!$A:$C,3,0) -> ייעוץ ופעולות בנושא | G36: ניטור זרמים באתר מתקן התפלה גליל מערבי | H36: 44241 | I36: 44957 | J36: 40001077 | K36: חקר ימים ואגמים לישראל בעמ | M36: 247000 | N36: ILS | O36: 61750 | P36: ILS | Q36: 23 | R36: 07 | S36: לא
A37: רשות המים | B37: הרשות למים ולביוב | C37: הרשות הממשלתית למים ולביוב | D37: 4502010030 | E37: =VLOOKUP(D37,[1]גיליון2!$A:$C,2,0) -> 41-30-01-22 | F37: =VLOOKUP(D37,[1]גיליון2!$A:$C,3,0) -> חסכון במים הסברה | G37: הרצאה ליום המשפחה | H37: 44262 | I37: 44255 | J37: 40142682 | K37: העצני איריס | L37: 059033506 | M37: 1579.5 | N37: ILS | O37: 1579.5 | P37: ILS | Q37: 23 | R37: 57 | S37: לא
A38: רשות המים | B38: הרשות למים ולביוב | C38: הרשות הממשלתית למים ולביוב | D38: 4501986801 | E38: =VLOOKUP(D38,[1]גיליון2!$A:$C,2,0) -> 41-30-01-19 | F38: =VLOOKUP(D38,[1]גיליון2!$A:$C,3,0) -> פעולות מנהל וארגון | G38: תיקון ארגז ברכב סדנה | H38: 44207 | I38: 44286 | J38: 40011497 | K38: ניתוב חברה לנהול ופיתוח בעמ | L38: 510570070 | M38: 4013.1 | N38: ILS | O38: 4013.1 | P38: ILS | Q38: 23 | R38: 01 | S38: לא
A39: רשות המים | B39: הרשות למים ולביוב | C39: הרשות הממשלתית למים ולביוב | D39: 4501991023 | E39: =VLOOKUP(D39,[1]גיליון2!$A:$C,2,0) -> 41-30-01-11 | F39: =VLOOKUP(D39,[1]גיליון2!$A:$C,3,0) -> דמי שימוש ממשלתיים | G39: דמי מאגר | H39: 44215 | I39: 44561 | J39: 10000192 | K39: מינהל הדיור הממשלתי | M39: 5000 | N39: ILS | O39: 0 | P39: ILS | Q39: 85 | S39: לא
A40: רשות המים | B40: הרשות למים ולביוב | C40: הרשות הממשלתית למים ולביוב | D40: 4501991026 | E40: =VLOOKUP(D40,[1]גיליון2!$A:$C,2,0) -> 41-30-01-11 | F40: =VLOOKUP(D40,[1]גיליון2!$A:$C,3,0) -> דמי שימוש ממשלתיים | G40: דמי שימוש 2021 | H40: 44215 | I40: 44561 | J40: 10000192 | K40: מינהל הדיור הממשלתי | M40: 1578099 | N40: ILS | O40: 393488.94 | P40: ILS | Q40: 85 | S40: לא
...
