Workbook

Sheet רבעון 3 תקופה 07-09.24
C1: חוק חופש המידע- רבעון 3 שנת 2024
A4: מס"ד | B4: מסמך רכישה | C4: שם חברה | D4: מספר תקנה | E4: שם תקנה | F4: ספק | G4: שם הספק | H4: טקסט כותרת | I4: התחלת תקופת תוקף | J4: סיום תקופת תוקף | K4: מספר רישום מע"מ | L4: מטבע | M4: ערך הזמנה כולל מע"מ | N4: ביצוע חשבוניות כולל מע"מ והצמדות במט"מ | O4: יתרת הזמנות נומינלית כולל מע"מ | P4: סימוכין שלך | Q4: ערך הזמנה במט"מ | R4: ביצוע ערך קבלות הטובין במט"מ | S4: הזמנות רגישות
A5: 1 | B5: 4502483287 | C5: הרשות למים ולביוב | D5: =VLOOKUP(B5,גיליון2!$A$2:$C$115,2,FALSE) -> 41-30-01-20 | E5: =VLOOKUP(B5,גיליון2!$A$2:$C$115,3,FALSE) -> הדרכה ורווחה | F5: 41401628 | G5: ביי מי טכנולוגיות בע"מ | H5: שי לעובדים שילדיהם עולים לכיתה א' | I5: 45475 | J5: 45535 | K5: 514480276 | L5: ILS | M5: 4416 | N5: 4416 | O5: 0 | P5: משאבי אנוש | Q5: 4416 | R5: 4416 | S5: N
A6: 2 | B6: 4502483875 | D6: =VLOOKUP(B6,גיליון2!$A$2:$C$115,2,FALSE) -> 73-30-01-05 | E6: =VLOOKUP(B6,גיליון2!$A$2:$C$115,3,FALSE) -> פיתוח ותחזוקת מערכות | F6: 42811994 | G6: פרוסיד טק - ר.ק בע"מ | H6: אפליקציית פיילוט פיתוח outsystem | I6: 45487 | J6: 45656 | K6: 516654704 | L6: ILS | M6: 21937.5 | N6: 21937.5 | O6: 0 | P6: ליאור שמש | Q6: 21937.5 | R6: 21937.5 | S6: N
A7: 3 | B7: 4502486422 | D7: =VLOOKUP(B7,גיליון2!$A$2:$C$115,2,FALSE) -> 73-30-01-05 | E7: =VLOOKUP(B7,גיליון2!$A$2:$C$115,3,FALSE) -> פיתוח ותחזוקת מערכות | F7: 40532479 | G7: זיפקום תקשורת בע"מ | H7: מחשב נייד 14" מתקדם | I7: 45466 | J7: 45657 | K7: 512781790 | L7: ILS | M7: 61444.43 | N7: 71713.58 | O7: 0 | P7: מערכות מידע | Q7: 61444.43 | R7: 61444.43 | S7: N
A8: 4 | B8: 4502486730 | D8: =VLOOKUP(B8,גיליון2!$A$2:$C$115,2,FALSE) -> 73-30-01-05 | E8: =VLOOKUP(B8,גיליון2!$A$2:$C$115,3,FALSE) -> פיתוח ותחזוקת מערכות | F8: 40300312 | G8: נקסטקום בע"מ | H8: הזמנת 50 מגשרים אופטיים לחדר שרתים בגנרי | I8: 45466 | J8: 45831 | K8: 511687568 | L8: ILS | M8: 1551.42 | N8: 1720.54 | O8: 0 | P8: מערכות מידע | Q8: 1551.42 | R8: 1551.42 | S8: N
A9: 5 | B9: 4502486792 | D9: =VLOOKUP(B9,גיליון2!$A$2:$C$115,2,FALSE) -> 73-30-01-03 | E9: =VLOOKUP(B9,גיליון2!$A$2:$C$115,3,FALSE) -> איכות מים- ניטור | F9: 40140909 | G9: לבני מוצרי פלסטיק בע"מ | H9: אספקת בקבוקי דיגום עבור רשות המים | I9: 45474 | J9: 45838 | K9: 511517732 | L9: ILS | M9: 20475 | N9: 20475 | O9: 0 | P9: הידרולוגי | Q9: 20475 | R9: 20475 | S9: N
A10: 6 | B10: 4502486821 | D10: =VLOOKUP(B10,גיליון2!$A$2:$C$115,2,FALSE) -> 41-30-01-20 | E10: =VLOOKUP(B10,גיליון2!$A$2:$C$115,3,FALSE) -> הדרכה ורווחה | F10: 40208162 | G10: עיר השעשועים בעמ | H10: יום משפחות בסופר לנד לעובדי רשות המים | I10: 45526 | J10: 45526 | K10: 510721491 | L10: ILS | M10: 85964.21 | N10: 85963.04 | O10: 0 | P10: משאבי אנוש | Q10: 85964.21 | R10: 85964.21 | S10: N
A11: 7 | B11: 4502488640 | D11: =VLOOKUP(B11,גיליון2!$A$2:$C$115,2,FALSE) -> 41-30-01-10 | E11: =VLOOKUP(B11,גיליון2!$A$2:$C$115,3,FALSE) -> הוצאות תפעול | F11: 10000102 | G11: לשכת הבריאות מחוז י-ם | H11: חשמל חפציבה 2023 | I11: 45490 | J11: 45657 | K11: 500106877 | L11: ILS | M11: 26433 | N11: 26433 | O11: 0 | P11: בנאמ | Q11: 26433 | R11: 0 | S11: N
A12: 8 | B12: 4502489773 | D12: =VLOOKUP(B12,גיליון2!$A$2:$C$115,2,FALSE) -> 41-30-01-26 | E12: =VLOOKUP(B12,גיליון2!$A$2:$C$115,3,FALSE) -> היערכות משק המים לשע | F12: 40001216 | G12: קרב - מועדון קליעה וירי בע"מ | H12: רכישת 10 אדחים מסוג גלוק X43 (GLOCK) נרתיק פנימי | I12: 45494 | J12: 45574 | K12: 511233777 | L12: ILS | M12: 34515 | N12: 34515 | O12: 0 | P12: בטחון מים | Q12: 34515 | R12: 34515 | S12: N
A13: 9 | B13: 4502489925 | D13: =VLOOKUP(B13,גיליון2!$A$2:$C$115,2,FALSE) -> 41-30-01-20 | E13: =VLOOKUP(B13,גיליון2!$A$2:$C$115,3,FALSE) -> הדרכה ורווחה | F13: 40468736 | G13: נוי רויטל | H13: נושא: רכישת שי - סט חוף ים לעובדי רשות המים ליום | I13: 45526 | J13: 45526 | K13: 024417974 | L13: ILS | M13: 7899.84 | N13: 7899.84 | O13: 0 | P13: משאבי אנוש | Q13: 7899.84 | R13: 7899.84 | S13: N
A14: 10 | B14: 4502490412 | D14: =VLOOKUP(B14,גיליון2!$A$2:$C$115,2,FALSE) -> 73-30-01-05 | E14: =VLOOKUP(B14,גיליון2!$A$2:$C$115,3,FALSE) -> פיתוח ותחזוקת מערכות | F14: 41129478 | G14: יו-ביטק סולושנס בע"מ | H14: הסכם לרכישת מוצרי ושירותי מיקרוסופט | I14: 45657 | J14: 46021 | K14: 514008333 | L14: ILS | M14: 332962.23 | N14: 362026.01 | O14: 0 | P14: מערכות מידע | Q14: 332962.23 | R14: 332962.23 | S14: N
A15: 11 | B15: 4502490807 | D15: =VLOOKUP(B15,גיליון2!$A$2:$C$115,2,FALSE) -> 41-30-01-19 | E15: =VLOOKUP(B15,גיליון2!$A$2:$C$115,3,FALSE) -> פעולות מנהל וארגון | F15: 40001103 | G15: קרביץ )4791( בעמ | H15: נייר צילום+רקטוני ארכיב | I15: 45496 | J15: 45816 | K15: 510674039 | L15: ILS | M15: 11300.33 | N15: 11300.33 | O15: 0 | P15: בנא"מ | Q15: 11300.33 | R15: 11300.33 | S15: N
A16: 12 | B16: 4502491385 | D16: =VLOOKUP(B16,גיליון2!$A$2:$C$115,2,FALSE) -> 73-30-01-03 | E16: =VLOOKUP(B16,גיליון2!$A$2:$C$115,3,FALSE) -> איכות מים- ניטור | F16: 41085653 | G16: ימה פתרונות הידרומטריים בע"מ | H16: תחזוקה שנתית עבור דוגמים אוטומטיים בתחנות הידרומטריות | I16: 45536 | J16: 45900 | K16: 514994789 | L16: ILS | M16: 49842 | N16: 49842 | O16: 0 | P16: ניטור כנרת | Q16: 8599.27 | R16: 49842 | S16: N
A17: 14 | B17: 4502491661 | D17: =VLOOKUP(B17,גיליון2!$A$2:$C$115,2,FALSE) -> 41-30-01-20 | E17: =VLOOKUP(B17,גיליון2!$A$2:$C$115,3,FALSE) -> הדרכה ורווחה | F17: 42071754 | G17: דליקרים אירועים | H17: הפעלה ל happy hour - קיץ לעובדים עמדת גלידה | I17: 45518 | J17: 45518 | K17: 558353207 | L17: ILS | M17: 8599.27 | N17: 8599.27 | O17: 0 | P17: משאבי אנוש | Q17: 536 | R17: 8599.27 | S17: N
... A116: 143.05806 | B116: 4502513983 | D116: =VLOOKUP(B116,גיליון2!$A$2:$C$115,2,FALSE) -> 73-30-01-05 | E116: =VLOOKUP(B116,גיליון2!$A$2:$C$115,3,FALSE) -> פיתוח ותחזוקת מערכות | F116: 40001108 | G116: בינת תקשורת מחשבים בע"מ | H116: חידוש רישוי ושירות של מערכות Network Access Contr | I116: 45658 | J116: 45729 | K116: 510713407 | L116: ILS | M116: 56500.47 | N116: 0 | O116: 56500.47 | P116: ליאור שמש | Q116: 56500.47 | R116: 0 | S116: N

Sheet גיליון2
A1: מסמך רכש | B1: פריט התחייבות | C1: תיאור תקנה תקציבית
A2: 4502479027 | B2: 73-30-01-03 | C2: איכות מים- ניטור
A3: 4502483111 | B3: 41-30-01-10 | C3: הוצאות תפעול
A4: 4502483117 | B4: 73-30-01-03 | C4: איכות מים- ניטור
A5: 4502483287 | B5: 41-30-01-20 | C5: הדרכה ורווחה | D5: =VLOOKUP(גיליון2!A,גיליון2!$A$2:$C$65,2,FALSE) -> #NAME?
A6: 4502483451 | B6: 73-30-01-03 | C6: איכות מים- ניטור
A7: 4502483614 | B7: 41-30-01-21 | C7: ייעוץ בקרה וליווי
A8: 4502483875 | B8: 73-30-01-05 | C8: פיתוח ותחזוקת מערכות
A9: 4502483920 | B9: 73-30-01-05 | C9: פיתוח ותחזוקת מערכות
A10: 4502486422 | B10: 73-30-01-05 | C10: פיתוח ותחזוקת מערכות
A11: 4502486730 | B11: 73-30-01-05 | C11: פיתוח ותחזוקת מערכות
A12: 4502486792 | B12: 73-30-01-03 | C12: איכות מים- ניטור
A13: 4502486821 | B13: 41-30-01-20 | C13: הדרכה ורווחה
A14: 4502487134 | B14: 41-30-01-36 | C14: בקרה חשבונאית
A15: 4502487135 | B15: 41-30-01-19 | C15: פעולות מנהל וארגון
A16: 4502487479 | B16: 41-30-01-19 | C16: פעולות מנהל וארגון
A17: 4502487658 | B17: 73-30-01-03 | C17: איכות מים- ניטור
... A115: 4502513983 | B115: 73-30-01-05 | C115: פיתוח ותחזוקת מערכות
