Workbook

Sheet רבעון 1 תקופה 04-06.24
C1: חוק חופש המידע- רבעון 2 שנת 2024
A4: מס"ד | B4: מסמך רכישה | C4: שם חברה | D4: מספר תקנה | E4: שם תקנה | F4: ספק | G4: שם הספק | H4: טקסט כותרת | I4: התחלת תקופת תוקף | J4: סיום תקופת תוקף | K4: מספר רישום מע"מ | L4: מטבע | M4: ערך הזמנה כולל מע"מ | N4: ביצוע חשבוניות כולל מע"מ והצמדות במט"מ | O4: יתרת הזמנות נומינלית כולל מע"מ | P4: סימוכין שלך | Q4: ערך הזמנה במט"מ | R4: ביצוע ערך קבלות הטובין במט"מ | S4: הזמנות רגישות
A5: 1 | B5: 4502453596 | C5: הרשות למים ולביוב | D5: =VLOOKUP(B5,גיליון2!$A$2:$C$65,2,FALSE) -> 41-30-01-19 | E5: =VLOOKUP(B5,גיליון2!$A$2:$C$65,3,FALSE) -> פעולות מנהל וארגון | F5: 40001601 | G5: מפעיל בע"מ | H5: הזמנת טונר למכונה מספר H65195 | I5: 45384 | J5: 45504 | K5: 520037631 | L5: ILS | M5: 692.01 | N5: 700.78 | O5: 0 | P5: בנא"מ | Q5: 692.01 | R5: 692.01 | S5: N
A6: 2 | B6: 4502453490 | D6: 41-30-01-19 | E6: פעולות מנהל וארגון | F6: 40001103 | G6: קרביץ )4791( בעמ | H6: השלמת ציוד משרדי לשנת 2024 | I6: 45384 | J6: 45412 | K6: 510674039 | L6: ILS | M6: 2649.23 | N6: 2951.7 | O6: 0 | P6: בנא"מ | Q6: 2649.23 | R6: 2649.23 | S6: N
A7: 3 | B7: 4502453549 | D7: =VLOOKUP(B7,גיליון2!$A$2:$C$65,2,FALSE) -> 41-30-01-20 | E7: =VLOOKUP(B7,גיליון2!$A$2:$C$65,3,FALSE) -> הדרכה ורווחה | F7: 40020001 | G7: גבירצמן חיים | H7: הרצאה במסגרת קורס משאבי מים | I7: 45400 | J7: 45400 | K7: 054856570 | L7: ILS | M7: 4212 | N7: 4212 | O7: 0 | P7: משאבי אנוש | Q7: 4212 | R7: 4212 | S7: N
A8: 4 | B8: 4502454061 | D8: =VLOOKUP(B8,גיליון2!$A$2:$C$65,2,FALSE) -> 41-30-01-20 | E8: =VLOOKUP(B8,גיליון2!$A$2:$C$65,3,FALSE) -> הדרכה ורווחה | F8: 41512263 | G8: נפש בנפש עלייה (ע"ר) | H8: הרמת כוסית לחג הפסח, טקס מצטיינים | I8: 45397 | J8: 45397 | K8: 580544120 | L8: ILS | M8: 3450 | N8: 3450 | O8: 0 | P8: משאבי אנוש | Q8: 3450 | R8: 3450 | S8: N
A9: 5 | B9: 4502455282 | D9: =VLOOKUP(B9,גיליון2!$A$2:$C$65,2,FALSE) -> 41-30-01-19 | E9: =VLOOKUP(B9,גיליון2!$A$2:$C$65,3,FALSE) -> פעולות מנהל וארגון | F9: 42301573 | G9: דיפרינט מעבדת צילום בע"מ | H9: תמונות לצח"ר | I9: 45389 | J9: 45504 | K9: 516307709 | L9: ILS | M9: 2272.43 | N9: 2272.43 | O9: 0 | P9: בנא"מ | Q9: 2272.43 | R9: 2272.43 | S9: N
A10: 6 | B10: 4502457428 | D10: =VLOOKUP(B10,גיליון2!$A$2:$C$65,2,FALSE) -> 41-30-01-10 | E10: =VLOOKUP(B10,גיליון2!$A$2:$C$65,3,FALSE) -> הוצאות תפעול | F10: 41963992 | G10: עובדיה אורון | H10: מזגן 1 כ"ס עבור חדר 3 WeWork בית דגן הידרומטריה | I10: 45393 | J10: 45473 | K10: 031713761 | L10: ILS | M10: 2340 | N10: 2340 | O10: 0 | P10: בנא"מ | Q10: 2340 | R10: 2340 | S10: N
A11: 7 | B11: 4502458090 | D11: =VLOOKUP(B11,גיליון2!$A$2:$C$65,2,FALSE) -> 41-30-01-20 | E11: =VLOOKUP(B11,גיליון2!$A$2:$C$65,3,FALSE) -> הדרכה ורווחה | F11: 40197902 | G11: פלמור הרץ אמי אסתר מיכל | H11: הרצאה במסגרת כנס שיוויון וגיוון | I11: 45397 | J11: 45397 | K11: 059644740 | L11: ILS | M11: 4000.11 | N11: 4000.11 | O11: 0 | P11: משאבי אנוש | Q11: 4000.11 | R11: 4000.11 | S11: N
A12: 8 | B12: 4502458174 | D12: =VLOOKUP(B12,גיליון2!$A$2:$C$65,2,FALSE) -> 41-30-01-10 | E12: =VLOOKUP(B12,גיליון2!$A$2:$C$65,3,FALSE) -> הוצאות תפעול | F12: 41372013 | G12: ש.י.ק. מבנים בגליל בע"מ | H12: רכישת סולר לחירום 7/10/23 לגנרטור בצח"ר | I12: 45210 | J12: 45412 | K12: 511589129 | L12: ILS | M12: 363 | N12: 363 | O12: 0 | P12: בנא"מ | Q12: 363 | R12: 363 | S12: N
A13: 9 | B13: 4502462178 | D13: =VLOOKUP(B13,גיליון2!$A$2:$C$65,2,FALSE) -> 41-30-01-20 | E13: =VLOOKUP(B13,גיליון2!$A$2:$C$65,3,FALSE) -> הדרכה ורווחה | F13: 40216333 | G13: ניב יובל | H13: הרצאה "השירים בעקבות הסיפורים" יום הזכרון 2024 | I13: 45417 | J13: 45417 | K13: 022091235 | L13: ILS | M13: 1500 | N13: 1500 | O13: 0 | P13: משאבי אנוש | Q13: 1500 | R13: 1500 | S13: N
A14: 10 | B14: 4502463476 | D14: =VLOOKUP(B14,גיליון2!$A$2:$C$65,2,FALSE) -> 41-30-01-20 | E14: =VLOOKUP(B14,גיליון2!$A$2:$C$65,3,FALSE) -> הדרכה ורווחה | F14: 41060368 | G14: דליס מגשי אירוח בע"מ | H14: כיבוד קל לבוקר כנס מומחים 2024 | I14: 45441 | J14: 45441 | K14: 515079945 | L14: ILS | M14: 3393 | N14: 3393 | O14: 0 | P14: משאבי אנוש | Q14: 3393 | R14: 3393 | S14: N
A15: 11 | B15: 4502464756 | D15: =VLOOKUP(B15,גיליון2!$A$2:$C$65,2,FALSE) -> 41-30-01-19 | E15: =VLOOKUP(B15,גיליון2!$A$2:$C$65,3,FALSE) -> פעולות מנהל וארגון | F15: 40165047 | G15: דונטלו אמצעי קד"מ בע"מ | H15: רכישת שושנות דגלים + 2 דגלים ישראל + 2 דגלים | I15: 45424 | J15: 45473 | K15: 512141466 | L15: ILS | M15: 1361.88 | N15: 1361.88 | O15: 0 | P15: בנא"מ | Q15: 1361.88 | R15: 1361.88 | S15: N
A16: 12 | B16: 4502466465 | D16: =VLOOKUP(B16,גיליון2!$A$2:$C$65,2,FALSE) -> 41-30-01-20 | E16: =VLOOKUP(B16,גיליון2!$A$2:$C$65,3,FALSE) -> הדרכה ורווחה | F16: 40226420 | G16: פארק אריאל שרון בע"מ (חל"צ) | H16: כנס מומחים 2024 | I16: 45441 | J16: 45441 | K16: 513837724 | L16: ILS | M16: 3510 | N16: 3510 | O16: 0 | P16: משאבי אנוש | Q16: 3510 | R16: 3510 | S16: N
A17: 14 | B17: 4502467053 | D17: =VLOOKUP(B17,גיליון2!$A$2:$C$65,2,FALSE) -> 41-30-01-20 | E17: =VLOOKUP(B17,גיליון2!$A$2:$C$65,3,FALSE) -> הדרכה ורווחה | F17: 41378633 | G17: גרינבאום איריס | H17: הפעלה ל happy hour לכבוד חג שבועות | I17: 45466 | J17: 45466 | K17: 031797699 | L17: ILS | M17: 5382 | N17: 5382 | O17: 0 | P17: משאבי אנוש | Q17: 5382 | R17: 5382 | S17: N
A18: 15 | B18: 4502467080 | D18: =VLOOKUP(B18,גיליון2!$A$2:$C$65,2,FALSE) -> 41-30-01-10 | E18: =VLOOKUP(B18,גיליון2!$A$2:$C$65,3,FALSE) -> הוצאות תפעול | F18: 40486612 | G18: מירטק סטודיוגרף בע"מ | H18: שילוט לחדרים עבור הרחבת מבנה בצח"ר ראש פינה | I18: 45431 | J18: 45443 | K18: 511934218 | L18: ILS | M18: 1226.16 | N18: 1226.16 | O18: 0 | P18: בנא"מ | Q18: 1226.16 | R18: 1226.16 | S18: N
A19: 16 | B19: 4502469541 | D19: =VLOOKUP(B19,גיליון2!$A$2:$C$65,2,FALSE) -> 41-30-01-10 | E19: =VLOOKUP(B19,גיליון2!$A$2:$C$65,3,FALSE) -> הוצאות תפעול | F19: 40148003 | G19: חשמל קור פ.ז. בע"מ | H19: שינוי מיקום מזגן בחלל הגדול של מחסן הידרומטריה | I19: 45438 | J19: 45657 | K19: 512324021 | L19: ILS | M19: 2925 | N19: 2925 | O19: 0 | P19: בנא"מ | Q19: 2925 | R19: 2925 | S19: N
A20: 17 | B20: 4502469720 | D20: =VLOOKUP(B20,גיליון2!$A$2:$C$65,2,FALSE) -> 41-30-01-19 | E20: =VLOOKUP(B20,גיליון2!$A$2:$C$65,3,FALSE) -> פעולות מנהל וארגון | F20: 41399852 | G20: יחיאלי נילי | H20: ייעוץ ארגונימי- הדרכה | I20: 45453 | J20: 45453 | K20: 054731195 | L20: ILS | M20: 2342.34 | N20: 2342.34 | O20: 0 | P20: בנא"מ | Q20: 2342.34 | R20: 2342.34 | S20: N
A21: 18 | B21: 4502471505 | D21: =VLOOKUP(B21,גיליון2!$A$2:$C$65,2,FALSE) -> 41-30-01-19 | E21: =VLOOKUP(B21,גיליון2!$A$2:$C$65,3,FALSE) -> פעולות מנהל וארגון | F21: 40001103 | G21: קרביץ )4791( בעמ | H21: השלמת מלאי מחסן של כספות והדומים בשנת 2024 | I21: 45441 | J21: 45473 | K21: 510674039 | L21: ILS | M21: 3736.63 | N21: 4163.26 | O21: 0 | P21: בנא"מ | Q21: 3736.63 | R21: 3736.63 | S21: N
A22: 19 | B22: 4502472032 | D22: =VLOOKUP(B22,גיליון2!$A$2:$C$65,2,FALSE) -> 41-30-01-10 | E22: =VLOOKUP(B22,גיליון2!$A$2:$C$65,3,FALSE) -> הוצאות תפעול | F22: 40451867 | G22: זיו אברהם | H22: עבודות גינון במכון להנדסה חקלאית | I22: 45445 | J22: 45504 | K22: 010529113 | L22: ILS | M22: 2340 | N22: 2340 | O22: 0 | P22: בנא"מ | Q22: 2340 | R22: 2340 | S22: N
A23: 20 | B23: 4502472528 | D23: =VLOOKUP(B23,גיליון2!$A$2:$C$65,2,FALSE) -> 41-30-01-10 | E23: =VLOOKUP(B23,גיליון2!$A$2:$C$65,3,FALSE) -> הוצאות תפעול | F23: 40006163 | G23: שפיר הנדסה אזרחית וימית בע"מ | H23: רכישת מדבקות למחצית שניה 2024 | I23: 45445 | J23: 45657 | K23: 510500242 | L23: ILS | M23: 4319.83 | N23: 4319.83 | O23: 0 | P23: בנא"מ | Q23: 4319.83 | R23: 4319.83 | S23: N
A24: 21 | B24: 4502474086 | D24: =VLOOKUP(B24,גיליון2!$A$2:$C$65,2,FALSE) -> 41-30-01-10 | E24: =VLOOKUP(B24,גיליון2!$A$2:$C$65,3,FALSE) -> הוצאות תפעול | F24: 42826486 | G24: מטלון אבי | H24: מלוי גז במזגן בברקן (צפ"א) | I24: 45448 | J24: 45473 | K24: 037543709 | L24: ILS | M24: 702 | N24: 702 | O24: 0 | P24: בנא"מ | Q24: 702 | R24: 702 | S24: N
A25: 22 | B25: 4502475536 | D25: =VLOOKUP(B25,גיליון2!$A$2:$C$65,2,FALSE) -> 41-30-01-20 | E25: =VLOOKUP(B25,גיליון2!$A$2:$C$65,3,FALSE) -> הדרכה ורווחה | F25: 40011167 | G25: קיבוץ זיקים | H25: אירוח בבית עלמי קיבוץ זיקים להנהלה בכירה | I25: 45460 | J25: 45460 | K25: 570006296 | L25: ILS | M25: 9243 | N25: 9243 | O25: 0 | P25: משאבי אנוש | Q25: 9243 | R25: 9243 | S25: N
A26: 23 | B26: 4502463127 | D26: =VLOOKUP(B26,גיליון2!$A$2:$C$65,2,FALSE) -> 41-30-01-19 | E26: =VLOOKUP(B26,גיליון2!$A$2:$C$65,3,FALSE) -> פעולות מנהל וארגון | F26: 40001103 | G26: קרביץ )4791( בעמ | H26: השלמת מוצרי קפה עבור עובדי רשות המים | I26: 45419 | J26: 45473 | K26: 510674039 | L26: ILS | M26: 14849.17 | N26: 16543.47 | O26: 0 | P26: בנא"מ | Q26: 14849.17 | R26: 14849.17 | S26: N
A27: 24 | B27: 4502463789 | D27: =VLOOKUP(B27,גיליון2!$A$2:$C$65,2,FALSE) -> 41-30-01-20 | E27: =VLOOKUP(B27,גיליון2!$A$2:$C$65,3,FALSE) -> הדרכה ורווחה | F27: 40017284 | G27: מרכז מנחם בגין לחקר המאבק הציוני | H27: סיור עובדים מצטיינים 2024 | I27: 45460 | J27: 45460 | K27: 500500418 | L27: ILS | M27: 4400 | N27: 4320 | O27: 0 | P27: משאבי אנוש | Q27: 4400 | R27: 4400 | S27: N
A28: 25 | B28: 4502453499 | D28: =VLOOKUP(B28,גיליון2!$A$2:$C$65,2,FALSE) -> 41-30-01-21 | E28: =VLOOKUP(B28,גיליון2!$A$2:$C$65,3,FALSE) -> ייעוץ בקרה וליווי | F28: 40378066 | G28: אקו - סטרים בע"מ | H28: גישור בתיק מי גולן | I28: 45383 | J28: 46022 | K28: 513950279 | L28: ILS | M28: 18661.5 | N28: 13513.5 | O28: 5148 | P28: לשכה משפטית | Q28: 18661.5 | R28: 13513.5 | S28: N
A29: 26 | B29: 4502456188 | D29: =VLOOKUP(B29,גיליון2!$A$2:$C$65,2,FALSE) -> 73-30-01-03 | E29: =VLOOKUP(B29,גיליון2!$A$2:$C$65,3,FALSE) -> איכות מים- ניטור | F29: 40358892 | G29: סלם יעקב ובניו )5991( בע"מ | H29: הזמנת גזים למעבדת רשות המים | I29: 45391 | J29: 45755 | K29: 512090119 | L29: ILS | M29: 66754.35 | N29: 21122.01 | O29: 45632.34 | P29: איכות מים | Q29: 66754.35 | R29: 21122.01 | S29: N
A30: 27 | B30: 4502466897 | D30: =VLOOKUP(B30,גיליון2!$A$2:$C$65,2,FALSE) -> 41-30-01-19 | E30: =VLOOKUP(B30,גיליון2!$A$2:$C$65,3,FALSE) -> פעולות מנהל וארגון | F30: 40001041 | G30: גסטטנרטק בע"מ | H30: מכונת צילום אשר מוצבת בחטיבת תשתיות | I30: 45444 | J30: 45808 | K30: 510041692 | L30: ILS | M30: 1000.35 | N30: 49.73 | O30: 950.63 | P30: בנא"מ | Q30: 1000.35 | R30: 49.73 | S30: N
A31: 28 | B31: 4502477032 | D31: =VLOOKUP(B31,גיליון2!$A$2:$C$65,2,FALSE) -> 41-30-01-19 | E31: =VLOOKUP(B31,גיליון2!$A$2:$C$65,3,FALSE) -> פעולות מנהל וארגון | F31: 40242807 | G31: מעדני אורי ובניו בע"מ | H31: כיבוד לישיבות מועצה ומשלחות לחו"ל | I31: 45474 | J31: 45838 | K31: 511635799 | L31: ILS | M31: 69999.93 | N31: 1153.28 | O31: 68846.65 | P31: בנא"מ | Q31: 69999.93 | R31: 1389.38 | S31: N
A32: 29 | B32: 4502481929 | D32: =VLOOKUP(B32,גיליון2!$A$2:$C$65,2,FALSE) -> 73-30-01-33 | E32: =VLOOKUP(B32,גיליון2!$A$2:$C$65,3,FALSE) -> פרוייקט תע"ש רמת השר | F32: 40010572 | G32: אדן טכנולוגיה ויעוץ כלכלי בע"מ | H32: ייעוץ משפטי להכנת מכרז בינלאומי | I32: 45383 | J32: 46843 | K32: 511309957 | L32: ILS | M32: 1572040 | N32: 20823.43 | O32: 1551216.6 | P32: איכות מים | Q32: 1572040 | R32: 20823.42 | S32: N
A33: 30 | B33: 4502481076 | D33: =VLOOKUP(B33,גיליון2!$A$2:$C$65,2,FALSE) -> 73-30-01-33 | E33: =VLOOKUP(B33,גיליון2!$A$2:$C$65,3,FALSE) -> פרוייקט תע"ש רמת השר | F33: 41645224 | G33: סימון- וקסלר, שפירר, מעוז | H33: יעוץ משפטי להכנת מכרז בינלאומי | I33: 45383 | J33: 46843 | K33: 540282936 | L33: ILS | M33: 2246400 | N33: 29581.07 | O33: 2220309 | P33: לשכה משפטית | Q33: 2246400 | R33: 26091 | S33: N
A34: 32 | B34: 4502454162 | D34: =VLOOKUP(B34,גיליון2!$A$2:$C$65,2,FALSE) -> 73-30-01-03 | E34: =VLOOKUP(B34,גיליון2!$A$2:$C$65,3,FALSE) -> איכות מים- ניטור | F34: 40001077 | G34: חקר ימים ואגמים לישראל בעמ | H34: יום עיון כנרת ,אחוזת אוהלו | I34: 45420 | J34: 45420 | K34: 510485204 | L34: ILS | M34: 13572 | N34: 0 | O34: 13572 | P34: כנרת | Q34: 13572 | R34: 0 | S34: N
A35: 33 | B35: 4502456085 | D35: =VLOOKUP(B35,גיליון2!$A$2:$C$65,2,FALSE) -> 41-30-01-21 | E35: =VLOOKUP(B35,גיליון2!$A$2:$C$65,3,FALSE) -> ייעוץ בקרה וליווי | F35: 40484616 | G35: א - ת ייעוץ כלכלי וניהול עסקי בע"מ | H35: הזמנה עבור שירותי ייעוץ טכנו כלכלי | I35: 45383 | J35: 45747 | K35: 514524834 | L35: ILS | M35: 1200000 | N35: 0 | O35: 1200000 | P35: כלכלה | Q35: 1200000 | R35: 0 | S35: N
A36: 34 | B36: 4502457519 | D36: =VLOOKUP(B36,גיליון2!$A$2:$C$65,2,FALSE) -> 41-30-01-19 | E36: =VLOOKUP(B36,גיליון2!$A$2:$C$65,3,FALSE) -> פעולות מנהל וארגון | F36: 40011978 | G36: ארכיב 2000 בע"מ | H36: ארכיב 2000 - שירותי גניזה (ספק זוכה חשכ"ל) | I36: 45383 | J36: 45747 | K36: 511763963 | L36: ILS | M36: 50000 | N36: 0 | O36: 50000 | P36: בנא"מ | Q36: 50000 | R36: 0 | S36: N
A37: 35 | B37: 4502458666 | D37: =VLOOKUP(B37,גיליון2!$A$2:$C$65,2,FALSE) -> 41-30-01-19 | E37: =VLOOKUP(B37,גיליון2!$A$2:$C$65,3,FALSE) -> פעולות מנהל וארגון | F37: 41101636 | G37: לול טי.וי. בע"מ | H37: רכישת שני רחפנים עבור יחידת צפ"א | I37: 45397 | J37: 45473 | K37: 514858810 | L37: ILS | M37: 87993.36 | N37: 0 | O37: 87993.36 | P37: צפ"א | Q37: 87993.36 | R37: 0 | S37: N
A38: 36 | B38: 4502461219 | D38: =VLOOKUP(B38,גיליון2!$A$2:$C$65,2,FALSE) -> 73-30-01-19 | E38: =VLOOKUP(B38,גיליון2!$A$2:$C$65,3,FALSE) -> תכנון בקרה וייעוץ | F38: 41376598 | G38: פורמט הנדסה אזרחית בע"מ | H38: תחום תאגידים- לייעוץ, ליווי, מעקב ובקרה הנדסית | I38: 44774 | J38: 45716 | K38: 515125029 | L38: ILS | M38: 1030292.3 | N38: 0 | O38: 1030292.3 | P38: פיתוח | Q38: 1030292.3 | R38: 0 | S38: N
A39: 37 | B39: 4502461226 | D39: =VLOOKUP(B39,גיליון2!$A$2:$C$65,2,FALSE) -> 73-30-01-05 | E39: =VLOOKUP(B39,גיליון2!$A$2:$C$65,3,FALSE) -> פיתוח ותחזוקת מערכות | F39: 40007145 | G39: אברא טכנולוגיות מידע בע"מ | H39: בנק שעות לטובת הקמה והטמעה לרישוי MONDAY | I39: 45414 | J39: 45657 | K39: 512512468 | L39: ILS | M39: 95472 | N39: 0 | O39: 95472 | P39: ליאור שמש | Q39: 95472 | R39: 0 | S39: N
A40: 38 | B40: 4502461439 | D40: =VLOOKUP(B40,גיליון2!$A$2:$C$65,2,FALSE) -> 73-30-01-05 | E40: =VLOOKUP(B40,גיליון2!$A$2:$C$65,3,FALSE) -> פיתוח ותחזוקת מערכות | F40: 42304375 | G40: אמזון ווב סרביסס אימאה סארל | H40: שירותי ענן | I40: 45414 | J40: 45657 | K40: 560034407 | L40: ILS | M40: 100035 | N40: 0 | O40: 100035 | P40: מערכות מידע | Q40: 100035 | R40: 0 | S40: N
A41: 39 | B41: 4502461601 | D41: =VLOOKUP(B41,גיליון2!$A$2:$C$65,2,FALSE) -> 73-30-01-05 | E41: =VLOOKUP(B41,גיליון2!$A$2:$C$65,3,FALSE) -> פיתוח ותחזוקת מערכות | F41: 40532479 | G41: זיפקום תקשורת בע"מ | H41: תצורה 2.9 - מחשב נייד 14" מתקדם רכישת מטענים | I41: 45417 | J41: 45503 | K41: 512781790 | L41: ILS | M41: 3145.9 | N41: 0 | O41: 3145.9 | P41: מערכות מידע | Q41: 3145.9 | R41: 0 | S41: N
A42: 41 | B42: 4502463396 | D42: =VLOOKUP(B42,גיליון2!$A$2:$C$65,2,FALSE) -> 41-30-01-20 | E42: =VLOOKUP(B42,גיליון2!$A$2:$C$65,3,FALSE) -> הדרכה ורווחה | F42: 40478728 | G42: א. ביסקוטי בע"מ | H42: ארוחת צהריים בכנס מומחים 2024 | I42: 45441 | J42: 45441 | K42: 513707752 | L42: ILS | M42: 5000.54 | N42: 0 | O42: 5000.54 | P42: משאבי אנוש | Q42: 5000.54 | R42: 0 | S42: N
...

Sheet גיליון2
A1: מסמך רכישה | B1: פריט התחייבות | C1: תיאור תקנה תקציבית
A2: 4502453490 | B2: 41-30-01-19 | C2: פעולות מנהל וארגון
A3: 4502453499 | B3: 41-30-01-21 | C3: ייעוץ בקרה וליווי
A4: 4502453549 | B4: 41-30-01-20 | C4: הדרכה ורווחה
A5: 4502453596 | B5: 41-30-01-19 | C5: פעולות מנהל וארגון
A6: 4502454061 | B6: 41-30-01-20 | C6: הדרכה ורווחה
A7: 4502454162 | B7: 73-30-01-03 | C7: איכות מים- ניטור
A8: 4502455282 | B8: 41-30-01-19 | C8: פעולות מנהל וארגון
A9: 4502456085 | B9: 41-30-01-21 | C9: ייעוץ בקרה וליווי
A10: 4502456188 | B10: 73-30-01-03 | C10: איכות מים- ניטור
A11: 4502457428 | B11: 41-30-01-10 | C11: הוצאות תפעול
A12: 4502457519 | B12: 41-30-01-19 | C12: פעולות מנהל וארגון
... A65: 4502482068 | B65: 41-30-01-12 | C65: השתתפות במנהל רכב
