Workbook

Sheet רבעון 1 תקופה 01-03.24
C1: חוק חופש המידע- רבעון 1 שנת 2024
A4: מס"ד | B4: מסמך רכישה | C4: שם חברה | D4: מספר תקנה | E4: שם תקנה | F4: ספק | G4: שם הספק | H4: טקסט כותרת | I4: התחלת תקופת תוקף | J4: סיום תקופת תוקף | K4: מספר רישום מע"מ | L4: מטבע | M4: ערך הזמנה כולל מע"מ | N4: ביצוע חשבוניות כולל מע"מ והצמדות במט"מ | O4: יתרת הזמנות נומינלית כולל מע"מ | P4: סימוכין שלך | Q4: ערך הזמנה במט"מ | R4: ביצוע ערך קבלות הטובין במט"מ | S4: הזמנות רגישות
A5: 1 | B5: 4502444935 | C5: הרשות למים ולביוב | D5: =VLOOKUP(B5,גיליון2!$A$2:$C$75,2,FALSE) -> 73-30-01-05 | E5: =VLOOKUP(B5,גיליון2!$A$2:$C$75,3,FALSE) -> פיתוח ותחזוקת מערכות | F5: 40001247 | G5: הראל טכנולוגיות מידע בע"מ | H5: רכישת מערכת איחסון מערכות מידע | I5: 45292 | J5: 45657 | K5: 511401002 | L5: ILS | M5: 5170.34 | N5: 6292.17 | O5: 0 | P5: מערכות מידע | Q5: 5170.34 | R5: 5170.34 | S5: N
A6: 2 | B6: 4502416793 | D6: 41-30-01-19 | E6: פעולות מנהל וארגון | F6: 40182094 | G6: גילת טלקום בע"מ | H6: סקר אתר לפי שעות טכנאי עבור מרחב בית נועם | I6: 45298 | J6: 45657 | K6: 511784498 | L6: ILS | M6: 916.02 | N6: 916.02 | O6: 0 | P6: בנא"מ | Q6: 916.02 | R6: 916.02 | S6: N
A7: 3 | B7: 4502419885 | D7: =VLOOKUP(B7,גיליון2!$A$2:$C$75,2,FALSE) -> 41-30-01-10 | E7: =VLOOKUP(B7,גיליון2!$A$2:$C$75,3,FALSE) -> הוצאות תפעול | F7: 40004697 | G7: רמות מ.א. ניהול ותחזוקה (1993) בע"מ | H7: התקנת מערכת רעידת אדמה נופר + שירות | I7: 45292 | J7: 45657 | K7: 511845497 | L7: ILS | M7: 1742.58 | N7: 1742.57 | O7: 0 | P7: בנא"מ | Q7: 1742.58 | R7: 1742.58 | S7: N
A8: 4 | B8: 4502421118 | D8: =VLOOKUP(B8,גיליון2!$A$2:$C$75,2,FALSE) -> 41-30-01-19 | E8: =VLOOKUP(B8,גיליון2!$A$2:$C$75,3,FALSE) -> פעולות מנהל וארגון | F8: 40490058 | G8: טכנו שלמה בע"מ | H8: רכישת מימטות מתקפלות לבטחון מים צפון לשעת חרום | I8: 45305 | J8: 45657 | K8: 511933715 | L8: ILS | M8: 1532.7 | N8: 1532.7 | O8: 0 | P8: בנא"מ | Q8: 1532.7 | R8: 1532.7 | S8: N
A9: 5 | B9: 4502422044 | D9: =VLOOKUP(B9,גיליון2!$A$2:$C$75,2,FALSE) -> 41-30-01-20 | E9: =VLOOKUP(B9,גיליון2!$A$2:$C$75,3,FALSE) -> הדרכה ורווחה | F9: 42205668 | G9: דניאל עדי | H9: הרצאה בנושא הערכת עובדים | I9: 45323 | J9: 45382 | K9: 033137795 | L9: ILS | M9: 6552 | N9: 6552 | O9: 0 | P9: משאבי אנוש | Q9: 6552 | R9: 6552 | S9: N
A10: 6 | B10: 4502423746 | D10: =VLOOKUP(B10,גיליון2!$A$2:$C$75,2,FALSE) -> 73-30-01-03 | E10: =VLOOKUP(B10,גיליון2!$A$2:$C$75,3,FALSE) -> איכות מים- ניטור | F10: 40143545 | G10: צינקוגרפיה שלום בע"מ | H10: מדבקות לשלטי מחקר | I10: 45311 | J10: 45350 | K10: 513184564 | L10: ILS | M10: 2457 | N10: 2457 | O10: 0 | P10: הידרומטריה | Q10: 2457 | R10: 2457 | S10: N
A11: 7 | B11: 4502424843 | D11: =VLOOKUP(B11,גיליון2!$A$2:$C$75,2,FALSE) -> 41-30-01-20 | E11: =VLOOKUP(B11,גיליון2!$A$2:$C$75,3,FALSE) -> הדרכה ורווחה | F11: 40004441 | G11: רובין ר.י.ד. בע"מ | H11: כנס תוכניות עבודה 2024 | I11: 45336 | J11: 45336 | K11: 511237844 | L11: ILS | M11: 585 | N11: 585 | O11: 0 | P11: משאבי אנוש | Q11: 585 | R11: 585 | S11: N
A12: 8 | B12: 4502424856 | D12: =VLOOKUP(B12,גיליון2!$A$2:$C$75,2,FALSE) -> 41-30-01-20 | E12: =VLOOKUP(B12,גיליון2!$A$2:$C$75,3,FALSE) -> הדרכה ורווחה | F12: 40242807 | G12: מעדני אורי ובניו בע"מ | H12: קייטרינג עבור כנס תוכניות עבודה 2024 | I12: 45336 | J12: 45336 | K12: 511635799 | L12: ILS | M12: 28852.2 | N12: 28852.2 | O12: 0 | P12: משאבי אנוש | Q12: 28852.2 | R12: 28852.2 | S12: N
A13: 9 | B13: 4502424867 | D13: =VLOOKUP(B13,גיליון2!$A$2:$C$75,2,FALSE) -> 41-30-01-20 | E13: =VLOOKUP(B13,גיליון2!$A$2:$C$75,3,FALSE) -> הדרכה ורווחה | F13: 41132213 | G13: קיסר השכרת ציוד לאירועים ירושלים בע | H13: במה עבור כנס תוכניות עבודה 2024 | I13: 45336 | J13: 45336 | K13: 515169795 | L13: ILS | M13: 4563 | N13: 4563 | O13: 0 | P13: משאבי אנוש | Q13: 4563 | R13: 4563 | S13: N
A14: 10 | B14: 4502427276 | D14: =VLOOKUP(B14,גיליון2!$A$2:$C$75,2,FALSE) -> 73-30-01-13 | E14: =VLOOKUP(B14,גיליון2!$A$2:$C$75,3,FALSE) -> אספקת מים בחירום | F14: 41123709 | G14: גליל מערבי )3991( חברה להובלה בע"מ | H14: עתודות מים | I14: 45292 | J14: 45657 | K14: 511822595 | L14: ILS | M14: 572823.06 | N14: 572823.06 | O14: 0 | P14: בטחון מים | Q14: 572823.06 | R14: 572823.06 | S14: N
A15: 11 | B15: 4502429596 | D15: =VLOOKUP(B15,גיליון2!$A$2:$C$75,2,FALSE) -> 41-30-01-10 | E15: =VLOOKUP(B15,גיליון2!$A$2:$C$75,3,FALSE) -> הוצאות תפעול | F15: 40537503 | G15: ארבל-שטראוס בע"מ | H15: שומר חניה כולל התקנה עבור המשרדים בנשר | I15: 45321 | J15: 45382 | K15: 514702612 | L15: ILS | M15: 927.27 | N15: 927.27 | O15: 0 | P15: בנא"מ | Q15: 927.27 | R15: 927.27 | S15: N
A16: 12 | B16: 4502429613 | D16: =VLOOKUP(B16,גיליון2!$A$2:$C$75,2,FALSE) -> 41-30-01-19 | E16: =VLOOKUP(B16,גיליון2!$A$2:$C$75,3,FALSE) -> פעולות מנהל וארגון | F16: 42077233 | G16: סופר מורן | H16: רכישת שכפצים וקסדות לחרום לעובדי השטח | I16: 45321 | J16: 45473 | K16: 302485321 | L16: ILS | M16: 50415.3 | N16: 50415.3 | O16: 0 | P16: בנא"מ | Q16: 50415.3 | R16: 50415.3 | S16: N
A17: 14 | B17: 4502429960 | D17: =VLOOKUP(B17,גיליון2!$A$2:$C$75,2,FALSE) -> 41-30-01-20 | E17: =VLOOKUP(B17,גיליון2!$A$2:$C$75,3,FALSE) -> הדרכה ורווחה | F17: 40945436 | G17: מכללת קורפוס בע"מ | H17: קורס מפקחי מטווח - מונחה משרד לבטחון לאומי | I17: 45351 | J17: 45391 | K17: 514803865 | L17: ILS | M17: 5000 | N17: 5000 | O17: 0 | P17: משאבי אנוש | Q17: 5000 | R17: 5000 | S17: N
A18: 15 | B18: 4502431430 | D18: =VLOOKUP(B18,גיליון2!$A$2:$C$75,2,FALSE) -> 41-30-01-19 | E18: =VLOOKUP(B18,גיליון2!$A$2:$C$75,3,FALSE) -> פעולות מנהל וארגון | F18: 40931516 | G18: דיאיי טכנולוגיות בע"מ | H18: חכירת מדיחי כלים לשטיפה מהירה | I18: 45352 | J18: 45716 | K18: 511765596 | L18: ILS | M18: 15654.6 | N18: 16933.01 | O18: 0 | P18: בנא"מ | Q18: 15654.6 | R18: 15654.6 | S18: N
... A23: 20 | B23: 4502439905 | D23: =VLOOKUP(B23,גיליון2!$A$2:$C$75,2,FALSE) -> 41-30-01-10 | E23: =VLOOKUP(B23,גיליון2!$A$2:$C$75,3,FALSE) -> הוצאות תפעול | F23: 41099650 | G23: גל מהנדסים אי.אן.ג'י. בע"מ | H23: תצ"א ממפ"י עבור רישוי מכסה מחח"י לאתר ספיר | I23: 45343 | J23: 45393 | K23: 514858950 | L23: ILS | M23: 690.3 | N23: 690.3 | O23: 0 | P23: בנא"מ | Q23: 690.3 | R23: 690.3 | S23: N
A24: 21 | B24: 4502441101 | D24: =VLOOKUP(B24,גיליון2!$A$2:$C$75,2,FALSE) -> 41-30-01-20 | E24: =VLOOKUP(B24,גיליון2!$A$2:$C$75,3,FALSE) -> הדרכה ורווחה | F24: 40003742 | G24: עמותת המחלקה לספורט - ת"א | H24: דמי רישום טניס שולחן | I24: 45352 | J24: 45657 | K24: 580145936 | L24: ILS | M24: 5300 | N24: 5300 | O24: 0 | P24: משאבי אנוש | Q24: 5300 | R24: 5300 | S24: N
A25: 22 | B25: 4502441652 | D25: =VLOOKUP(B25,גיליון2!$A$2:$C$75,2,FALSE) -> 41-30-01-19 | E25: =VLOOKUP(B25,גיליון2!$A$2:$C$75,3,FALSE) -> פעולות מנהל וארגון | F25: 40008948 | G25: רהיטי הכח )1991( בע"מ | H25: כיסא על גלגלים מרופד | I25: 45350 | J25: 45473 | K25: 511599920 | L25: ILS | M25: 6895.98 | N25: 7042.99 | O25: 0 | P25: בנא"מ | Q25: 6895.98 | R25: 6895.99 | S25: N
A26: 23 | B26: 4502442553 | D26: =VLOOKUP(B26,גיליון2!$A$2:$C$75,2,FALSE) -> 41-30-01-19 | E26: =VLOOKUP(B26,גיליון2!$A$2:$C$75,3,FALSE) -> פעולות מנהל וארגון | F26: 40004651 | G26: סנטר 1 שערי ירושלים בע"מ | H26: רכישת כרטיסי חניה לחניות סנטר 1 במרכזית ירושלים | I26: 45354 | J26: 45657 | K26: 511737512 | L26: ILS | M26: 2620.8 | N26: 2620.8 | O26: 0 | P26: בנא"מ | Q26: 2620.8 | R26: 2620.8 | S26: N
A27: 24 | B27: 4502443556 | D27: =VLOOKUP(B27,גיליון2!$A$2:$C$75,2,FALSE) -> 41-30-01-19 | E27: =VLOOKUP(B27,גיליון2!$A$2:$C$75,3,FALSE) -> פעולות מנהל וארגון | F27: 40019615 | G27: אמ.אר.סי. )רחמנוב-בוקשטיין( בע"מ | H27: רכישת מקרר מעבדה עבור דגימות מים בצח"ר ראש פינה. | I27: 45356 | J27: 45473 | K27: 511525123 | L27: ILS | M27: 8775 | N27: 8775 | O27: 0 | P27: בנא"מ | Q27: 8775 | R27: 8775 | S27: N
A28: 25 | B28: 4502445986 | D28: =VLOOKUP(B28,גיליון2!$A$2:$C$75,2,FALSE) -> 41-30-01-19 | E28: =VLOOKUP(B28,גיליון2!$A$2:$C$75,3,FALSE) -> פעולות מנהל וארגון | F28: 41120347 | G28: פיקסליין טכנולוגיות בע"מ | H28: תגי שם עבור כנס שיתוף ציבור | I28: 45377 | J28: 45377 | K28: 514375161 | L28: ILS | M28: 4446 | N28: 4446 | O28: 0 | P28: תפעול | Q28: 4446 | R28: 4446 | S28: N
A29: 26 | B29: 4502446863 | D29: =VLOOKUP(B29,גיליון2!$A$2:$C$75,2,FALSE) -> 41-30-01-19 | E29: =VLOOKUP(B29,גיליון2!$A$2:$C$75,3,FALSE) -> פעולות מנהל וארגון | F29: 40001103 | G29: קרביץ )4791( בעמ | H29: נייר צילום משרדי 4A | I29: 45364 | J29: 45512 | K29: 510674039 | L29: ILS | M29: 5399.78 | N29: 5399.78 | O29: 0 | P29: בנא"מ | Q29: 5399.78 | R29: 5399.78 | S29: N
A30: 27 | B30: 4502447837 | D30: =VLOOKUP(B30,גיליון2!$A$2:$C$75,2,FALSE) -> 41-30-01-19 | E30: =VLOOKUP(B30,גיליון2!$A$2:$C$75,3,FALSE) -> פעולות מנהל וארגון | F30: 40328764 | G30: בנזינו יריב | H30: כיבוד עבור כנס שיתוף ציבור | I30: 45377 | J30: 45377 | K30: 040371601 | L30: ILS | M30: 16664.31 | N30: 16664.31 | O30: 0 | P30: תפעול | Q30: 16664.31 | R30: 16664.31 | S30: N
A31: 28 | B31: 4502448044 | D31: =VLOOKUP(B31,גיליון2!$A$2:$C$75,2,FALSE) -> 41-30-01-19 | E31: =VLOOKUP(B31,גיליון2!$A$2:$C$75,3,FALSE) -> פעולות מנהל וארגון | F31: 42752348 | G31: כהן איתן | H31: עגלת קפה ושתיה קלה עבור כנס שיתוף ציבור | I31: 45377 | J31: 45377 | K31: 318492998 | L31: ILS | M31: 4200 | N31: 4200 | O31: 0 | P31: תפעול | Q31: 4200 | R31: 4200 | S31: N
A32: 29 | B32: 4502450050 | D32: =VLOOKUP(B32,גיליון2!$A$2:$C$75,2,FALSE) -> 41-30-01-19 | E32: =VLOOKUP(B32,גיליון2!$A$2:$C$75,3,FALSE) -> פעולות מנהל וארגון | F32: 20000209 | G32: מ. א. שער הנגב | H32: שירותי משרד וניקיון קריית חינוך - כנס שיתוף ציבור | I32: 45377 | J32: 45377 | K32: 500261375 | L32: ILS | M32: 1170 | N32: 1170 | O32: 0 | P32: תפעול | Q32: 1170 | R32: 1170 | S32: N
A33: 30 | B33: 4502451067 | D33: =VLOOKUP(B33,גיליון2!$A$2:$C$75,2,FALSE) -> 41-30-01-10 | E33: =VLOOKUP(B33,גיליון2!$A$2:$C$75,3,FALSE) -> הוצאות תפעול | F33: 40537503 | G33: ארבל-שטראוס בע"מ | H33: הזמנת שומר חניה כולל פירוק המחסום השבור והתקנה | I33: 45378 | J33: 45473 | K33: 514702612 | L33: ILS | M33: 1026.72 | N33: 1026.72 | O33: 0 | P33: בנא"מ | Q33: 1026.72 | R33: 1026.72 | S33: N
A34: 31 | B34: 4502424877 | D34: =VLOOKUP(B34,גיליון2!$A$2:$C$75,2,FALSE) -> 41-30-01-20 | E34: =VLOOKUP(B34,גיליון2!$A$2:$C$75,3,FALSE) -> הדרכה ורווחה | F34: 42644670 | G34: מדיפוד בע"מ | H34: חוברת מבשלים ביחד קיבוץ בארי | I34: 45336 | J34: 45336 | K34: 515892867 | L34: ILS | M34: 3475.37 | N34: 3444.6 | O34: 0 | P34: משאבי אנוש | Q34: 3475.37 | R34: 3449.75 | S34: N
A35: 32 | B35: 4502428227 | D35: =VLOOKUP(B35,גיליון2!$A$2:$C$75,2,FALSE) -> 73-30-01-05 | E35: =VLOOKUP(B35,גיליון2!$A$2:$C$75,3,FALSE) -> פיתוח ותחזוקת מערכות | F35: 40001601 | G35: מפעיל בע"מ | H35: הזמנת דיו לפלוטר T920 | I35: 45369 | J35: 45657 | K35: 520037631 | L35: ILS | M35: 3070.74 | N35: 3054.96 | O35: 0 | P35: מערכות מידע | Q35: 3070.74 | R35: 3070.74 | S35: N
A36: 33 | B36: 4502445183 | D36: =VLOOKUP(B36,גיליון2!$A$2:$C$75,2,FALSE) -> 73-30-01-05 | E36: =VLOOKUP(B36,גיליון2!$A$2:$C$75,3,FALSE) -> פיתוח ותחזוקת מערכות | F36: 40300312 | G36: נקסטקום בע"מ | H36: התקנת ארון עבור ציוד עמדת עגינה | I36: 45361 | J36: 45657 | K36: 511687568 | L36: ILS | M36: 1319.07 | N36: 1325.38 | O36: 0 | P36: בנא"מ | Q36: 1319.07 | R36: 1319.07 | S36: N
... A38: 35 | B38: 4502446397 | D38: =VLOOKUP(B38,גיליון2!$A$2:$C$75,2,FALSE) -> 41-30-01-20 | E38: =VLOOKUP(B38,גיליון2!$A$2:$C$75,3,FALSE) -> הדרכה ורווחה | F38: 42418251 | G38: וולביז בע"מ | H38: כיבוד סמינר טיפה יותר + החדשנות | I38: 45363 | J38: 45394 | K38: 516369964 | L38: ILS | M38: 1391.13 | N38: 1190.84 | O38: 0 | P38: משאבי אנוש | Q38: 1391.13 | R38: 1193.4 | S38: N
A39: 36 | B39: 4502424835 | D39: =VLOOKUP(B39,גיליון2!$A$2:$C$75,2,FALSE) -> 41-30-01-20 | E39: =VLOOKUP(B39,גיליון2!$A$2:$C$75,3,FALSE) -> הדרכה ורווחה | F39: 41512263 | G39: נפש בנפש עלייה (ע"ר) | H39: כנס תוכניות עבודה 2024 | I39: 45336 | J39: 45336 | K39: 580544120 | L39: ILS | M39: 4100 | N39: 3500 | O39: 0 | P39: משאבי אנוש | Q39: 4100 | R39: 3500 | S39: N
A40: 37 | B40: 4502428226 | D40: =VLOOKUP(B40,גיליון2!$A$2:$C$75,2,FALSE) -> 41-30-01-10 | E40: =VLOOKUP(B40,גיליון2!$A$2:$C$75,3,FALSE) -> הוצאות תפעול | F40: 42492934 | G40: ויצמן אליהו | H40: תיקון מקרר דגימות בצח"ר | I40: 45319 | J40: 45473 | K40: 054125299 | L40: ILS | M40: 4563 | N40: 3042 | O40: 0 | P40: בנא"מ | Q40: 4563 | R40: 3042 | S40: N
A41: 38 | B41: 4502419581 | D41: =VLOOKUP(B41,גיליון2!$A$2:$C$75,2,FALSE) -> 41-30-01-13 | E41: =VLOOKUP(B41,גיליון2!$A$2:$C$75,3,FALSE) -> השתתפות במנהל דיור | F41: 10000192 | G41: מינהל הדיור הממשלתי | H41: שכ"ד ודמי שימוש לשנת 2024 | I41: 45292 | J41: 45657 | K41: 500105994 | L41: ILS | M41: 4812634.3 | N41: 2981919.2 | O41: 0 | P41: בנא"מ | Q41: 4812634.3 | R41: 0 | S41: N
A42: 39 | B42: 4502417908 | D42: =VLOOKUP(B42,גיליון2!$A$2:$C$75,2,FALSE) -> 41-30-01-12 | E42: =VLOOKUP(B42,גיליון2!$A$2:$C$75,3,FALSE) -> השתתפות במנהל רכב | F42: 10000193 | G42: מינהל הרכב הממשלתי | H42: תשלום למנהל הרכב הממשלתי עבור אחזקת רכבי רשות המים | I42: 45292 | J42: 45657 | K42: 500100276 | L42: ILS | M42: 2822980 | N42: 1428691.2 | O42: 0 | P42: בנא"מ | Q42: 2822980 | R42: 0 | S42: N
A43: 40 | B43: 4502436125 | D43: =VLOOKUP(B43,גיליון2!$A$2:$C$75,2,FALSE) -> 41-30-01-19 | E43: =VLOOKUP(B43,גיליון2!$A$2:$C$75,3,FALSE) -> פעולות מנהל וארגון | F43: 42508603 | G43: דרהים אברהם | H43: שינוע דגימות מנשר לבית דגן בהתאם לצורך | I43: 45335 | J43: 45657 | K43: 059583740 | L43: ILS | M43: 4800 | N43: 2400 | O43: 0 | P43: בנא"מ | Q43: 4800 | R43: 2400 | S43: N
A44: 41 | B44: 4502419532 | D44: =VLOOKUP(B44,גיליון2!$A$2:$C$75,2,FALSE) -> 41-30-01-13 | E44: =VLOOKUP(B44,גיליון2!$A$2:$C$75,3,FALSE) -> השתתפות במנהל דיור | F44: 10000192 | G44: מינהל הדיור הממשלתי | H44: מרכז תגבור האנרגיה לשנת 2024 | I44: 45292 | J44: 45657 | K44: 500105994 | L44: ILS | M44: 178583.64 | N44: 74806.28 | O44: 0 | P44: בנא"מ | Q44: 178583.64 | R44: 0 | S44: N
A45: 42 | B45: 4502440612 | D45: =VLOOKUP(B45,גיליון2!$A$2:$C$75,2,FALSE) -> 41-30-01-10 | E45: =VLOOKUP(B45,גיליון2!$A$2:$C$75,3,FALSE) -> הוצאות תפעול | F45: 41953245 | G45: ארד אמיליו בע"מ | H45: הקמת מינדופים + שולחן דגימות עבור מחסן חדש | I45: 45354 | J45: 45657 | K45: 515078574 | L45: ILS | M45: 45864 | N45: 18603 | O45: 0 | P45: בנא"מ | Q45: 45864 | R45: 18603 | S45: N
A46: 43 | B46: 4502436246 | D46: =VLOOKUP(B46,גיליון2!$A$2:$C$75,2,FALSE) -> 41-30-01-20 | E46: =VLOOKUP(B46,גיליון2!$A$2:$C$75,3,FALSE) -> הדרכה ורווחה | F46: 41208319 | G46: אלמוג ברוך | H46: השתתפות בוועדת בוחנים | I46: 45335 | J46: 45657 | K46: 053931622 | L46: ILS | M46: 1506 | N46: 502 | O46: 0 | P46: משאבי אנוש | Q46: 1506 | R46: 502 | S46: N
A47: 44 | B47: 4502436251 | D47: =VLOOKUP(B47,גיליון2!$A$2:$C$75,2,FALSE) -> 41-30-01-20 | E47: =VLOOKUP(B47,גיליון2!$A$2:$C$75,3,FALSE) -> הדרכה ורווחה | F47: 42132406 | G47: זליגר מרה | H47: השתתפות בוועדת בוחנים | I47: 45335 | J47: 45657 | K47: 015777618 | L47: ILS | M47: 1762.02 | N47: 587.34 | O47: 0 | P47: משאבי אנוש | Q47: 1762.02 | R47: 587.34 | S47: N
A48: 45 | B48: 4502438280 | D48: =VLOOKUP(B48,גיליון2!$A$2:$C$75,2,FALSE) -> 41-30-01-20 | E48: =VLOOKUP(B48,גיליון2!$A$2:$C$75,3,FALSE) -> הדרכה ורווחה | F48: 42206178 | G48: אשכנזי רות | H48: משתתפת בוועדת בוחמים | I48: 45352 | J48: 45657 | K48: 052637550 | L48: ILS | M48: 1762.02 | N48: 587.34 | O48: 0 | P48: משאבי אנוש | Q48: 1762.02 | R48: 587.34 | S48: N
A49: 46 | B49: 4502440139 | D49: =VLOOKUP(B49,גיליון2!$A$2:$C$75,2,FALSE) -> 41-30-01-21 | E49: =VLOOKUP(B49,גיליון2!$A$2:$C$75,3,FALSE) -> ייעוץ בקרה וליווי | F49: 40006107 | G49: מרטנס הופמן יועצים לניהול בע"מ | H49: יעוץ, סיוע ועיבוד נתונים ותמיכה בתהליכי אסדרה | I49: 45347 | J49: 45712 | K49: 511887655 | L49: ILS | M49: 1069848 | N49: 366849.85 | O49: 0 | P49: אסדרה | Q49: 1069848 | R49: 354334.5 | S49: N
A50: 47 | B50: 4502441177 | D50: =VLOOKUP(B50,גיליון2!$A$2:$C$75,2,FALSE) -> 41-30-01-21 | E50: =VLOOKUP(B50,גיליון2!$A$2:$C$75,3,FALSE) -> ייעוץ בקרה וליווי | F50: 42788597 | G50: דביר אפי | H50: ייעוץ תאגידים עבור ממונה על התאגידים | I50: 45327 | J50: 45685 | K50: 023971286 | L50: ILS | M50: 99999.99 | N50: 27378 | O50: 0 | P50: תאגידים | Q50: 99999.99 | R50: 27378 | S50: N
A51: 48 | B51: 4502424754 | D51: =VLOOKUP(B51,גיליון2!$A$2:$C$75,2,FALSE) -> 41-30-01-10 | E51: =VLOOKUP(B51,גיליון2!$A$2:$C$75,3,FALSE) -> הוצאות תפעול | F51: 40004081 | G51: צבאבא יצחק | H51: תחזוקה שבועית שוטפת וחידוש צמחיית פנים ברשות המים | I51: 45323 | J51: 45657 | K51: 058851007 | L51: ILS | M51: 19298.82 | N51: 5263.32 | O51: 0 | P51: בנא"מ | Q51: 19298.82 | R51: 5263.32 | S51: N
A52: 49 | B52: 4502438990 | D52: =VLOOKUP(B52,גיליון2!$A$2:$C$75,2,FALSE) -> 41-30-01-20 | E52: =VLOOKUP(B52,גיליון2!$A$2:$C$75,3,FALSE) -> הדרכה ורווחה | F52: 41438563 | G52: פפו אורן | H52: תוכנית שנתית לקידום הבריאות | I52: 45352 | J52: 45657 | K52: 024872475 | L52: ILS | M52: 26594.1 | N52: 6786 | O52: 0 | P52: משאבי אנוש | Q52: 26594.1 | R52: 6786 | S52: N
A53: 50 | B53: 4502440396 | D53: =VLOOKUP(B53,גיליון2!$A$2:$C$75,2,FALSE) -> 41-30-01-21 | E53: =VLOOKUP(B53,גיליון2!$A$2:$C$75,3,FALSE) -> ייעוץ בקרה וליווי | F53: 40375602 | G53: המשכן לבוררות ופתרון סכסוכים בע"מ | H53: מגשרת לתיק ריגלר ומדינת ישראל | I53: 45261 | J53: 45657 | K53: 513721670 | L53: ILS | M53: 9418.5 | N53: 269.1 | O53: 11099.43 | P53: לשכה משפטית | Q53: 9418.5 | R53: 269.1 | S53: N
A54: 52 | B54: 4502416940 | D54: =VLOOKUP(B54,גיליון2!$A$2:$C$75,2,FALSE) -> 73-30-01-05 | E54: =VLOOKUP(B54,גיליון2!$A$2:$C$75,3,FALSE) -> פיתוח ותחזוקת מערכות | F54: 40406849 | G54: פרוסיד - כ.ר בע"מ | H54: תוכנת saas (פיילוט לפיתוח אפליקציה) פיתוח טפסים | I54: 45298 | J54: 46885 | K54: 514249689 | L54: ILS | M54: 22522.5 | N54: 0 | O54: 0 | P54: מערכות מידע | Q54: 22522.5 | R54: 0 | S54: N
A55: 53 | B55: 4502420511 | D55: =VLOOKUP(B55,גיליון2!$A$2:$C$75,2,FALSE) -> 41-30-01-13 | E55: =VLOOKUP(B55,גיליון2!$A$2:$C$75,3,FALSE) -> השתתפות במנהל דיור | F55: 10000192 | G55: מינהל הדיור הממשלתי | H55: ליווי והתאמות צח"ר | I55: 45291 | J55: 45291 | K55: 500105994 | L55: ILS | M55: 12000 | N55: 0 | O55: 0 | P55: בנא"מ | Q55: 12000 | R55: 0 | S55: N
A56: 55 | B56: 4502427751 | D56: =VLOOKUP(B56,גיליון2!$A$2:$C$75,2,FALSE) -> 73-30-01-03 | E56: =VLOOKUP(B56,גיליון2!$A$2:$C$75,3,FALSE) -> איכות מים- ניטור | F56: 42240606 | G56: גפני שריג | H56: השתתפות בהחזר הוצאות לחברי צוות היגוי ניטור הכנרת | I56: 45352 | J56: 45716 | K56: 054898911 | L56: ILS | M56: 9594 | N56: 0 | O56: 1859.6 | P56: כנרת | Q56: 9594 | R56: 0 | S56: N
A57: 56 | B57: 4502428362 | D57: =VLOOKUP(B57,גיליון2!$A$2:$C$75,2,FALSE) -> 73-30-01-03 | E57: =VLOOKUP(B57,גיליון2!$A$2:$C$75,3,FALSE) -> איכות מים- ניטור | F57: 40009984 | G57: שמיר אורי יוסף | H57: החזר הוצאות לחברי צוות היגוי ניטור הכנרת | I57: 45352 | J57: 45716 | K57: 001521350 | L57: ILS | M57: 10764 | N57: 0 | O57: 37147.62 | P57: ניטור כנרת | Q57: 10764 | R57: 0 | S57: N
A58: 57 | B58: 4502428383 | D58: =VLOOKUP(B58,גיליון2!$A$2:$C$75,2,FALSE) -> 73-30-01-03 | E58: =VLOOKUP(B58,גיליון2!$A$2:$C$75,3,FALSE) -> איכות מים- ניטור | F58: 40020003 | G58: פרידלר ערן גד שמואל | H58: החזר הוצאות לחברי צוות היגוי ניטור הכנרת | I58: 45352 | J58: 45716 | K58: 055692404 | L58: ILS | M58: 9594 | N58: 0 | O58: 1684.8 | P58: ניטור כנרת | Q58: 9594 | R58: 0 | S58: N
A59: 58 | B59: 4502428392 | D59: =VLOOKUP(B59,גיליון2!$A$2:$C$75,2,FALSE) -> 73-30-01-03 | E59: =VLOOKUP(B59,גיליון2!$A$2:$C$75,3,FALSE) -> איכות מים- ניטור | F59: 40000250 | G59: אוניברסיטת בן גוריון | H59: החזר הוצאות לחברי צוות היגוי ניטור הכנרת | I59: 45352 | J59: 45716 | K59: 500701644 | L59: ILS | M59: 8200 | N59: 0 | O59: 0 | P59: ניטור כנרת | Q59: 8200 | R59: 0 | S59: N
A60: 61 | B60: 4502431936 | D60: =VLOOKUP(B60,גיליון2!$A$2:$C$75,2,FALSE) -> 73-30-01-03 | E60: =VLOOKUP(B60,גיליון2!$A$2:$C$75,3,FALSE) -> איכות מים- ניטור | F60: 41455447 | G60: אופק לקידום מתנדבים צעירים בישראל ( | H60: גיוס בת שירות ליחידת מים עיליים | I60: 45333 | J60: 45900 | K60: 580600138 | L60: ILS | M60: 17094 | N60: 0 | O60: 9733.88 | P60: הידרומטריה | Q60: 17094 | R60: 0 | S60: N
A61: 63 | B61: 4502434503 | D61: =VLOOKUP(B61,גיליון2!$A$2:$C$75,2,FALSE) -> 73-30-01-03 | E61: =VLOOKUP(B61,גיליון2!$A$2:$C$75,3,FALSE) -> איכות מים- ניטור | F61: 42515578 | G61: שטיינברג דוד מרק | H61: החזר הוצאות לחברי צוות היגוי ניטור הכנרת | I61: 45352 | J61: 45716 | K61: 017018763 | L61: ILS | M61: 8200 | N61: 0 | O61: 1369.5 | P61: ניטור כנרת | Q61: 8200 | R61: 0 | S61: N
A62: 64 | B62: 4502435602 | D62: =VLOOKUP(B62,גיליון2!$A$2:$C$75,2,FALSE) -> 41-30-01-20 | E62: =VLOOKUP(B62,גיליון2!$A$2:$C$75,3,FALSE) -> הדרכה ורווחה | F62: 41897401 | G62: כהן שי | H62: השתתפות בוועדת בוחנים | I62: 45363 | J62: 45657 | K62: 055467344 | L62: ILS | M62: 1762.02 | N62: 0 | O62: 2544.75 | P62: משאבי אנוש | Q62: 1762.02 | R62: 0 | S62: N
A63: 65 | B63: 4502436242 | D63: =VLOOKUP(B63,גיליון2!$A$2:$C$75,2,FALSE) -> 41-30-01-20 | E63: =VLOOKUP(B63,גיליון2!$A$2:$C$75,3,FALSE) -> הדרכה ורווחה | F63: 40539556 | G63: מלאך רות | H63: השתתפות בוועדת בוחנים | I63: 45335 | J63: 45657 | K63: 001196518 | L63: ILS | M63: 1506 | N63: 0 | O63: 49140 | P63: משאבי אנוש | Q63: 1506 | R63: 0 | S63: N
A64: 66 | B64: 4502440850 | D64: =VLOOKUP(B64,גיליון2!$A$2:$C$75,2,FALSE) -> 73-30-01-25 | E64: =VLOOKUP(B64,גיליון2!$A$2:$C$75,3,FALSE) -> ייעוץ ופעולות בנושא | F64: 40285197 | G64: ליד בקרה בע"מ | H64: אחזקה ותחזוקה של מערכת WIZCON במתקני התפלה | I64: 45352 | J64: 45716 | K64: 511544256 | L64: ILS | M64: 35100 | N64: 0 | O64: 1454.31 | P64: התפלה | Q64: 35100 | R64: 0 | S64: N
A65: 67 | B65: 4502441986 | D65: =VLOOKUP(B65,גיליון2!$A$2:$C$75,2,FALSE) -> 41-30-01-21 | E65: =VLOOKUP(B65,גיליון2!$A$2:$C$75,3,FALSE) -> ייעוץ בקרה וליווי | F65: 40005161 | G65: קוסט פורר גבאי את קסירר | H65: ניתוח דוחות וייעוץ חשבונאי לממונה על התאגידים | I65: 45352 | J65: 45716 | K65: 557711512 | L65: ILS | M65: 280800 | N65: 0 | O65: 2538.15 | P65: תאגידים | Q65: 280800 | R65: 0 | S65: N
A66: 68 | B66: 4502442554 | D66: =VLOOKUP(B66,גיליון2!$A$2:$C$75,2,FALSE) -> 73-30-01-19 | E66: =VLOOKUP(B66,גיליון2!$A$2:$C$75,3,FALSE) -> תכנון בקרה וייעוץ | F66: 40378040 | G66: טל קונטנט - יעוץ וייזום בע"מ | H66: מתן שירותי יעוץ וסיוע לאגף תפעול ברשות המים | I66: 45354 | J66: 45718 | K66: 513848960 | L66: ILS | M66: 1500000 | N66: 0 | O66: 13292.37 | P66: תפעול | Q66: 1500000 | R66: 0 | S66: N
A67: 69 | B67: 4502442758 | D67: =VLOOKUP(B67,גיליון2!$A$2:$C$75,2,FALSE) -> 41-30-01-20 | E67: =VLOOKUP(B67,גיליון2!$A$2:$C$75,3,FALSE) -> הדרכה ורווחה | F67: 10000024 | G67: לשכת העיתונות הממשלתית | H67: קורס בינה מלאכותית למנהלים ומקבלי החלטות | I67: 45354 | J67: 45397 | K67: 500100052 | L67: ILS | M67: 2500 | N67: 0 | O67: 3204.63 | P67: משאבי אנוש | Q67: 2500 | R67: 0 | S67: N
A68: 70 | B68: 4502443547 | D68: =VLOOKUP(B68,גיליון2!$A$2:$C$75,2,FALSE) -> 73-30-01-05 | E68: =VLOOKUP(B68,גיליון2!$A$2:$C$75,3,FALSE) -> פיתוח ותחזוקת מערכות | F68: 40001247 | G68: הראל טכנולוגיות מידע בע"מ | H68: רכישת ציוד היקפי למחשב עובדים | I68: 45354 | J68: 45443 | K68: 511401002 | L68: ILS | M68: 4899.96 | N68: 0 | O68: 14134.07 | P68: מערכות מידע | Q68: 4899.96 | R68: 0 | S68: N
A69: 71 | B69: 4502444425 | D69: =VLOOKUP(B69,גיליון2!$A$2:$C$75,2,FALSE) -> 41-30-01-36 | E69: =VLOOKUP(B69,גיליון2!$A$2:$C$75,3,FALSE) -> בקרה חשבונאית | F69: 40468904 | G69: אנטרופי יועצים בע"מ | H69: שירותי ניהול סיכונים עבור חשבות רשות המים | I69: 45352 | J69: 45473 | K69: 513668012 | L69: ILS | M69: 2442.96 | N69: 0 | O69: 24280 | P69: חשבות | Q69: 2442.96 | R69: 0 | S69: N
A70: 72 | B70: 4502447192 | D70: =VLOOKUP(B70,גיליון2!$A$2:$C$75,2,FALSE) -> 41-30-01-20 | E70: =VLOOKUP(B70,גיליון2!$A$2:$C$75,3,FALSE) -> הדרכה ורווחה | F70: 40003393 | G70: ענבל חברה לביטוח בע"מ-מקבל הלואות | H70: קורס הכנה לפרישה 2024 | I70: 45365 | J70: 45396 | K70: 520031030 | L70: ILS | M70: 6600 | N70: 0 | O70: 2503.75 | P70: משאבי אנוש | Q70: 6600 | R70: 0 | S70: N
A71: 73 | B71: 4502447323 | D71: =VLOOKUP(B71,גיליון2!$A$2:$C$75,2,FALSE) -> 41-30-01-20 | E71: =VLOOKUP(B71,גיליון2!$A$2:$C$75,3,FALSE) -> הדרכה ורווחה | F71: 40001113 | G71: קצב מהנדסים יועצים בע"מ | H71: שיטות שכר עידוד - חציון 1 2024 | I71: 45352 | J71: 45535 | K71: 510754930 | L71: ILS | M71: 38610 | N71: 0 | O71: 63505.46 | P71: משאבי אנוש | Q71: 38610 | R71: 0 | S71: N
A72: 74 | B72: 4502448041 | D72: =VLOOKUP(B72,גיליון2!$A$2:$C$75,2,FALSE) -> 73-30-01-05 | E72: =VLOOKUP(B72,גיליון2!$A$2:$C$75,3,FALSE) -> פיתוח ותחזוקת מערכות | F72: 40397525 | G72: וויז פתרונות ל ג בע"מ | H72: רכישת מערכת HONEPOT | I72: 45369 | J72: 45734 | K72: 513676452 | L72: ILS | M72: 57915 | N72: 0 | O72: 91323.18 | P72: מערכות מידע | Q72: 57915 | R72: 0 | S72: N
A73: 76 | B73: 4502448175 | D73: =VLOOKUP(B73,גיליון2!$A$2:$C$75,2,FALSE) -> 41-30-01-19 | E73: =VLOOKUP(B73,גיליון2!$A$2:$C$75,3,FALSE) -> פעולות מנהל וארגון | F73: 40182094 | G73: גילת טלקום בע"מ | H73: אספקת ציוד ושירותי תקשורת לוויינית | I73: 45413 | J73: 45657 | K73: 511784498 | L73: ILS | M73: 13904.07 | N73: 0 | O73: 29062.8 | P73: בנא"מ | Q73: 13904.07 | R73: 0 | S73: N
A74: 77 | B74: 4502448176 | D74: =VLOOKUP(B74,גיליון2!$A$2:$C$75,2,FALSE) -> 73-30-01-25 | E74: =VLOOKUP(B74,גיליון2!$A$2:$C$75,3,FALSE) -> ייעוץ ופעולות בנושא | F74: 40300312 | G74: נקסטקום בע"מ | H74: עבודות לאיתור ומיפוי תשתיות תת"ק במתקן התפלה אשקלון | I74: 45363 | J74: 45728 | K74: 511687568 | L74: ILS | M74: 33696 | N74: 0 | O74: 26000 | P74: התפלה | Q74: 33696 | R74: 0 | S74: N
A75: 78 | B75: 4502448771 | D75: =VLOOKUP(B75,גיליון2!$A$2:$C$75,2,FALSE) -> 41-30-01-19 | E75: =VLOOKUP(B75,גיליון2!$A$2:$C$75,3,FALSE) -> פעולות מנהל וארגון | F75: 40001601 | G75: מפעיל בע"מ | H75: טונר למכונות מפעיל שסיימו את תקופת החכירה | I75: 45370 | J75: 45657 | K75: 520037631 | L75: ILS | M75: 624.92 | N75: 0 | O75: 26431.47 | P75: בנא"מ | Q75: 624.92 | R75: 0 | S75: N

Sheet גיליון2
A1: מסמך רכישה | B1: פריט התחייבות | C1: תיאור תקנה תקציבית
A2: 4502416793 | B2: 41-30-01-19 | C2: פעולות מנהל וארגון
A3: 4502416940 | B3: 73-30-01-05 | C3: פיתוח ותחזוקת מערכות
A4: 4502417908 | B4: 41-30-01-12 | C4: השתתפות במנהל רכב
A5: 4502419532 | B5: 41-30-01-13 | C5: השתתפות במנהל דיור
A6: 4502419581 | B6: 41-30-01-13 | C6: השתתפות במנהל דיור
A7: 4502419885 | B7: 41-30-01-10 | C7: הוצאות תפעול
A8: 4502420511 | B8: 41-30-01-13 | C8: השתתפות במנהל דיור
A9: 4502421118 | B9: 41-30-01-19 | C9: פעולות מנהל וארגון
A10: 4502422044 | B10: 41-30-01-20 | C10: הדרכה ורווחה
A11: 4502423746 | B11: 73-30-01-03 | C11: איכות מים- ניטור
A12: 4502424754 | B12: 41-30-01-10 | C12: הוצאות תפעול
... A75: 4502451067 | B75: 41-30-01-10 | C75: הוצאות תפעול
