Workbook

Sheet רבעון 4 תקופה 10-12.23
C1: חוק חופש המידע- רבעון 4 שנת 2023
A4: מס"ד | B4: מסמך רכישה | C4: שם חברה | D4: מספר תקנה | E4: שם תקנה | F4: ספק | G4: שם הספק | H4: טקסט כותרת | I4: התחלת תקופת תוקף | J4: סיום תקופת תוקף | K4: מספר רישום מע"מ | L4: מטבע | M4: ערך הזמנה כולל מע"מ | N4: ביצוע חשבוניות כולל מע"מ והצמדות במט"מ | O4: יתרת הזמנות נומינלית כולל מע"מ | P4: סימוכין שלך | Q4: ערך הזמנה במט"מ | R4: ביצוע ערך קבלות הטובין במט"מ | S4: הזמנות רגישות
A5: 1 | B5: 4502392319 | C5: הרשות למים ולביוב | D5: =VLOOKUP(B5,גיליון2!$A$2:$C$239,2,FALSE) -> 73-30-01-05 | E5: =VLOOKUP(B5,גיליון2!$A$2:$C$239,3,FALSE) -> אגף מערכות מידע | F5: 40532479 | G5: זיפקום תקשורת בע"מ | H5: רכישת 3 דיסקים של G1 החלפת דיסק לדיסק קשיח SSD | I5: 45245 | J5: 45603 | K5: 512781790 | L5: ILS | M5: 1085.26 | N5: 1246.05 | O5: 0 | P5: מערכות מידע | Q5: 1085.26 | R5: 1085.26 | S5: N
A6: 2 | B6: 4502382496 | D6: =VLOOKUP(B6,גיליון2!$A$2:$C$239,2,FALSE) -> 73-30-01-13 | E6: =VLOOKUP(B6,גיליון2!$A$2:$C$239,3,FALSE) -> רשות המים | F6: 41123709 | G6: גליל מערבי (1993) חברה להובלה בע"מ | H6: שירותי אחסנה, אחזקה, הפעלה והחזרה לכשירות של עתודות מים | I6: 45200 | J6: 45413 | K6: 511822595 | L6: ILS | M6: 295563.06 | N6: 304593.46 | O6: 0 | P6: בטחון מים | Q6: 295563.06 | R6: 295563.06 | S6: N
A7: 3 | B7: 4502407757 | D7: =VLOOKUP(B7,גיליון2!$A$2:$C$239,2,FALSE) -> 73-30-01-05 | E7: =VLOOKUP(B7,גיליון2!$A$2:$C$239,3,FALSE) -> אגף מערכות מידע | F7: 40001244 | G7: דנגוט מחשבים בע"מ | H7: מדפסות ודיו תצורה | I7: 45273 | J7: 45473 | K7: 511398836 | L7: ILS | M7: 106960.84 | N7: 115907.38 | O7: 0 | P7: מערכות מידע | Q7: 106960.84 | R7: 106960.84 | S7: N
A8: 4 | B8: 4502379845 | D8: =VLOOKUP(B8,גיליון2!$A$2:$C$239,2,FALSE) -> 73-30-01-05 | E8: =VLOOKUP(B8,גיליון2!$A$2:$C$239,3,FALSE) -> אגף מערכות מידע | F8: 40009639 | G8: מאגרי תוכנה (מ.ת.) בע"מ | H8: רכישת רישיוו LARGE ZOOM | I8: 45215 | J8: 45580 | K8: 513442442 | L8: ILS | M8: 4201.01 | N8: 4219.11 | O8: 0 | P8: מערכות מידע | Q8: 4201.01 | R8: 4201.01 | S8: N
A9: 5 | B9: 4502391774 | D9: =VLOOKUP(B9,גיליון2!$A$2:$C$239,2,FALSE) -> 73-30-01-05 | E9: =VLOOKUP(B9,גיליון2!$A$2:$C$239,3,FALSE) -> אגף מערכות מידע | F9: 40001108 | G9: בינת תקשורת מחשבים בע"מ | H9: רכישת CHECK POINT | I9: 45244 | J9: 45474 | K9: 510713407 | L9: ILS | M9: 585032.8 | N9: 549001.31 | O9: 0 | P9: מערכות מידע | Q9: 585032.8 | R9: 585032.8 | S9: N
A10: 6 | B10: 4502378818 | D10: =VLOOKUP(B10,גיליון2!$A$2:$C$239,2,FALSE) -> 73-30-01-03 | E10: =VLOOKUP(B10,גיליון2!$A$2:$C$239,3,FALSE) -> ח. השירות ההידרולוגי | F10: 41387162 | G10: אקו אינטראקטיב בע"מ | H10: עיצוב אתר חיזוי שיטפונות | I10: 45214 | J10: 45291 | K10: 514961689 | L10: ILS | M10: 2925 | N10: 2925 | O10: 0 | P10: הידרולוגי | Q10: 2925 | R10: 2925 | S10: N
A11: 7 | B11: 4502379771 | D11: =VLOOKUP(B11,גיליון2!$A$2:$C$239,2,FALSE) -> 41-30-01-10 | E11: =VLOOKUP(B11,גיליון2!$A$2:$C$239,3,FALSE) -> נכסים ולוגיסטיקה | F11: 41123292 | G11: שובל מורן | H11: רכישת מקרר משרדי עבור חמ"ל בטחון מים דרום | I11: 45215 | J11: 45291 | K11: 039596424 | L11: ILS | M11: 750.01 | N11: 750.01 | O11: 0 | P11: בנא"מ | Q11: 750.01 | R11: 750.01 | S11: N
A12: 8 | B12: 4502380820 | D12: =VLOOKUP(B12,גיליון2!$A$2:$C$239,2,FALSE) -> 41-30-01-20 | E12: =VLOOKUP(B12,גיליון2!$A$2:$C$239,3,FALSE) -> משאבי אנוש והדרכה | F12: 42555169 | G12: רול אופנהיימר | H12: מארז למשפחות מגוייסים 2023 | I12: 45216 | J12: 45229 | K12: 558423968 | L12: ILS | M12: 2800 | N12: 2800 | O12: 0 | P12: משאבי אנוש | Q12: 2800 | R12: 2800 | S12: N
A13: 9 | B13: 4502382107 | D13: =VLOOKUP(B13,גיליון2!$A$2:$C$239,2,FALSE) -> 41-30-01-20 | E13: =VLOOKUP(B13,גיליון2!$A$2:$C$239,3,FALSE) -> משאבי אנוש והדרכה | F13: 42132406 | G13: זליגר מרה | H13: השתתפות בוועדת בוחנים | I13: 45190 | J13: 45190 | K13: 015777618 | L13: ILS | M13: 587.34 | N13: 587.34 | O13: 0 | P13: משאבי אנוש | Q13: 587.34 | R13: 587.34 | S13: N
A14: 10 | B14: 4502385017 | D14: =VLOOKUP(B14,גיליון2!$A$2:$C$239,2,FALSE) -> 41-30-01-20 | E14: =VLOOKUP(B14,גיליון2!$A$2:$C$239,3,FALSE) -> משאבי אנוש והדרכה | F14: 42233567 | G14: בו בזמן בע"מ | H14: הרצאה | I14: 45232 | J14: 45232 | K14: 516297959 | L14: ILS | M14: 4492.8 | N14: 4492.8 | O14: 0 | P14: משאבי אנוש | Q14: 4492.8 | R14: 4492.8 | S14: N
A15: 11 | B15: 4502385274 | D15: =VLOOKUP(B15,גיליון2!$A$2:$C$239,2,FALSE) -> 73-30-01-05 | E15: =VLOOKUP(B15,גיליון2!$A$2:$C$239,3,FALSE) -> אגף מערכות מידע | F15: 40004667 | G15: מפה - מיפוי והוצאה לאור בע"מ | H15: חידוש שכבות תחנות דלק עבור GIS לשנת 2024 | I15: 45292 | J15: 45657 | K15: 511781924 | L15: ILS | M15: 6669 | N15: 6669 | O15: 0 | P15: מערכות מידע | Q15: 6669 | R15: 6669 | S15: N
A16: 12 | B16: 4502385432 | D16: =VLOOKUP(B16,גיליון2!$A$2:$C$239,2,FALSE) -> 41-30-01-10 | E16: =VLOOKUP(B16,גיליון2!$A$2:$C$239,3,FALSE) -> חטיבת אסדרה | F16: 40006968 | G16: דוקופרינט בע"מ | H16: דפי רישיונות | I16: 45231 | J16: 45291 | K16: 510885932 | L16: ILS | M16: 3042.02 | N16: 3042 | O16: 0 | P16: אסדרה | Q16: 3042.02 | R16: 3042 | S16: N
A17: 14 | B17: 4502385650 | D17: =VLOOKUP(B17,גיליון2!$A$2:$C$239,2,FALSE) -> 41-30-01-19 | E17: =VLOOKUP(B17,גיליון2!$A$2:$C$239,3,FALSE) -> נכסים ולוגיסטיקה | F17: 42543063 | G17: טופ חדב בע"מ | H17: הצבת מיגונית בשטח הידרומטריה מרכז בקריה החקלאית | I17: 45242 | J17: 45281 | K17: 516029535 | L17: ILS | M17: 49999.95 | N17: 49999.95 | O17: 0 | P17: בנא"מ | Q17: 49999.95 | R17: 49999.95 | S17: N
... A30: 27 | B30: 4502398465 | D30: =VLOOKUP(B30,גיליון2!$A$2:$C$239,2,FALSE) -> 41-30-01-10 | E30: =VLOOKUP(B30,גיליון2!$A$2:$C$239,3,FALSE) -> נכסים ולוגיסטיקה | F30: 41111486 | G30: אלייד - ג'נרי 2 בע"מ | H30: הוספת שקעי חשמל חדר ישיבות קומה 6 | I30: 45258 | J30: 45350 | K30: 514961853 | L30: ILS | M30: 1588.66 | N30: 1588.66 | O30: 0 | P30: בנא"מ | Q30: 1588.66 | R30: 1588.66 | S30: N
A31: 28 | B31: 4502398670 | D31: =VLOOKUP(B31,גיליון2!$A$2:$C$239,2,FALSE) -> 41-30-01-10 | E31: =VLOOKUP(B31,גיליון2!$A$2:$C$239,3,FALSE) -> נכסים ולוגיסטיקה | F31: 10000102 | G31: לשכת הבריאות מחוז י-ם | H31: חשמל חפציבה 2022 | I31: 45258 | J31: 45291 | K31: 500106877 | L31: ILS | M31: 25602 | N31: 25602 | O31: 0 | P31: בנא"מ | Q31: 25602 | R31: 0 | S31: N
A32: 29 | B32: 4502398699 | D32: =VLOOKUP(B32,גיליון2!$A$2:$C$239,2,FALSE) -> 73-30-01-05 | E32: =VLOOKUP(B32,גיליון2!$A$2:$C$239,3,FALSE) -> אגף מערכות מידע | F32: 42319046 | G32: טודוטק בע"מ | H32: רכישת רישוי לשנה עבור תוכנת ‪MONDAY‬ | I32: 45292 | J32: 45657 | K32: 516322054 | L32: ILS | M32: 49403.25 | N32: 49403.25 | O32: 0 | P32: מערכות מידע | Q32: 49403.25 | R32: 49403.25 | S32: N
A33: 30 | B33: 4502398814 | D33: =VLOOKUP(B33,גיליון2!$A$2:$C$239,2,FALSE) -> 73-30-01-03 | E33: =VLOOKUP(B33,גיליון2!$A$2:$C$239,3,FALSE) -> ניטור כינרת | F33: 40001077 | G33: חקר ימים ואגמים לישראל בעמ | H33: פיתוח כלים אנליטיים לזיהוי, כימות ואיפיון מיקרוספ | I33: 45261 | J33: 45626 | K33: 510485204 | L33: ILS | M33: 58488.3 | N33: 49990 | O33: 0 | P33: ניטור כנרת | Q33: 58488.3 | R33: 58488.3 | S33: N
A34: 31 | B34: 4502399828 | D34: =VLOOKUP(B34,גיליון2!$A$2:$C$239,2,FALSE) -> 41-30-01-19 | E34: =VLOOKUP(B34,גיליון2!$A$2:$C$239,3,FALSE) -> נכסים ולוגיסטיקה | F34: 40001519 | G34: ממרם שיווק ציוד רפואי בע"מ | H34: הזמנה לציוד רפואי עבור ערכות עזרה ראשונה ברשות המים | I34: 45292 | J34: 45657 | K34: 512914888 | L34: ILS | M34: 2499.59 | N34: 2499.59 | O34: 0 | P34: בנא"מ | Q34: 2499.59 | R34: 2499.59 | S34: N
A35: 32 | B35: 4502403271 | D35: =VLOOKUP(B35,גיליון2!$A$2:$C$239,2,FALSE) -> 73-30-01-05 | E35: =VLOOKUP(B35,גיליון2!$A$2:$C$239,3,FALSE) -> אגף מערכות מידע | F35: 40009639 | G35: מאגרי תוכנה (מ.ת.) בע"מ | H35: רכישה של stata ממאגרי תוכנה | I35: 45292 | J35: 45657 | K35: 513442442 | L35: ILS | M35: 4914 | N35: 4914 | O35: 0 | P35: מערכות מידע | Q35: 4914 | R35: 4914 | S35: N
A36: 33 | B36: 4502403569 | D36: =VLOOKUP(B36,גיליון2!$A$2:$C$239,2,FALSE) -> 41-30-01-13 | E36: =VLOOKUP(B36,גיליון2!$A$2:$C$239,3,FALSE) -> נכסים ולוגיסטיקה | F36: 10000192 | G36: מינהל הדיור הממשלתי | H36: עלויות תקשורת קריות ממשלה 2023 | I36: 45236 | J36: 45291 | K36: 500105994 | L36: ILS | M36: 26868.49 | N36: 26868.49 | O36: 0 | P36: בנא"מ | Q36: 26868.49 | R36: 0 | S36: N
A37: 34 | B37: 4502404267 | D37: =VLOOKUP(B37,גיליון2!$A$2:$C$239,2,FALSE) -> 73-30-01-03 | E37: =VLOOKUP(B37,גיליון2!$A$2:$C$239,3,FALSE) -> ח. השירות ההידרולוגי | F37: 10000176 | G37: משרד התקשורת | H37: תשלום אגרה במסגרת המכרז רכישת מכשירי RTK | I37: 45261 | J37: 45291 | K37: 500103155 | L37: ILS | M37: 553.13 | N37: 553.13 | O37: 0 | P37: הידרולוגי | Q37: 553.13 | R37: 553.13 | S37: N
A38: 35 | B38: 4502405442 | D38: =VLOOKUP(B38,גיליון2!$A$2:$C$239,2,FALSE) -> 41-30-01-10 | E38: =VLOOKUP(B38,גיליון2!$A$2:$C$239,3,FALSE) -> נכסים ולוגיסטיקה | F38: 20000159 | G38: עירית ירושלים | H38: ארנונה לבניין ג'נרי 2024 | I38: 45292 | J38: 45657 | K38: 500230008 | L38: ILS | M38: 1924255.9 | N38: 1924255.9 | O38: 0 | P38: בנא"מ | Q38: 1924255.9 | R38: 0 | S38: N
A39: 36 | B39: 4502405445 | D39: =VLOOKUP(B39,גיליון2!$A$2:$C$239,2,FALSE) -> 41-30-01-10 | E39: =VLOOKUP(B39,גיליון2!$A$2:$C$239,3,FALSE) -> נכסים ולוגיסטיקה | F39: 20000159 | G39: עירית ירושלים | H39: ארנונה חפציבה | I39: 45292 | J39: 45382 | K39: 500230008 | L39: ILS | M39: 123285.71 | N39: 123285.71 | O39: 0 | P39: בנא"מ | Q39: 123285.71 | R39: 0 | S39: N
A40: 37 | B40: 4502405777 | D40: =VLOOKUP(B40,גיליון2!$A$2:$C$239,2,FALSE) -> 41-30-01-19 | E40: =VLOOKUP(B40,גיליון2!$A$2:$C$239,3,FALSE) -> נכסים ולוגיסטיקה | F40: 41123292 | G40: שובל מורן | H40: רכישת 2 מקרוגלים עבור גנרי | I40: 45271 | J40: 45382 | K40: 039596424 | L40: ILS | M40: 998.01 | N40: 998.01 | O40: 0 | P40: בנא"מ | Q40: 998.01 | R40: 998.01 | S40: N
A41: 38 | B41: 4502405919 | D41: =VLOOKUP(B41,גיליון2!$A$2:$C$239,2,FALSE) -> 41-30-01-19 | E41: =VLOOKUP(B41,גיליון2!$A$2:$C$239,3,FALSE) -> נכסים ולוגיסטיקה | F41: 40427007 | G41: ח.נ. טכניק מרכז לאספקה בע"מ | H41: אפודים כתומים ליח' בטחון מים בחרום | I41: 45271 | J41: 45473 | K41: 514062736 | L41: ILS | M41: 2831.4 | N41: 2831.4 | O41: 0 | P41: בנא"מ | Q41: 2831.4 | R41: 2831.4 | S41: N
A42: 39 | B42: 4502406889 | D42: =VLOOKUP(B42,גיליון2!$A$2:$C$239,2,FALSE) -> 73-30-01-05 | E42: =VLOOKUP(B42,גיליון2!$A$2:$C$239,3,FALSE) -> אגף מערכות מידע | F42: 40010832 | G42: אנויטק בע"מ | H42: חידוש רישיונות שימוש בתוכנת ‪GMS‬ | I42: 45292 | J42: 45657 | K42: 512336454 | L42: ILS | M42: 36036 | N42: 36036 | O42: 0 | P42: מערכות מידע | Q42: 36036 | R42: 36036 | S42: N
A43: 40 | B43: 4502406918 | D43: =VLOOKUP(B43,גיליון2!$A$2:$C$239,2,FALSE) -> 41-30-01-20 | E43: =VLOOKUP(B43,גיליון2!$A$2:$C$239,3,FALSE) -> משאבי אנוש והדרכה | F43: 10000020 | G43: משרד ראש הממשלה | H43: כנס גיוס ומיון 2023 | I43: 44958 | J43: 44985 | K43: 500100037 | L43: ILS | M43: 3400 | N43: 3400 | O43: 0 | P43: משאבי אנוש | Q43: 3400 | R43: 3400 | S43: N
A44: 41 | B44: 4502407185 | D44: =VLOOKUP(B44,גיליון2!$A$2:$C$239,2,FALSE) -> 73-30-01-05 | E44: =VLOOKUP(B44,גיליון2!$A$2:$C$239,3,FALSE) -> אגף מערכות מידע | F44: 41097839 | G44: גטר גרופ בע"מ | H44: רכישת זרוע שולחנית ל 2 מסכי מחשב -מתקן תליה | I44: 45273 | J44: 45322 | K44: 520042326 | L44: ILS | M44: 4680 | N44: 4680 | O44: 0 | P44: מערכות מידע | Q44: 4680 | R44: 4680 | S44: N
A45: 42 | B45: 4502409232 | D45: =VLOOKUP(B45,גיליון2!$A$2:$C$239,2,FALSE) -> 41-30-01-19 | E45: =VLOOKUP(B45,גיליון2!$A$2:$C$239,3,FALSE) -> נכסים ולוגיסטיקה | F45: 40011446 | G45: ידיעות מינויים | H45: עיתונות ידיעות וכלכליסט מודפסת ומקוונת | I45: 45292 | J45: 45657 | K45: 540181054 | L45: ILS | M45: 2841.84 | N45: 2841.83 | O45: 0 | P45: בנא"מ | Q45: 2841.84 | R45: 2841.84 | S45: N
A46: 43 | B46: 4502409547 | D46: =VLOOKUP(B46,גיליון2!$A$2:$C$239,2,FALSE) -> 41-30-01-19 | E46: =VLOOKUP(B46,גיליון2!$A$2:$C$239,3,FALSE) -> נכסים ולוגיסטיקה | F46: 42301573 | G46: דיפרינט מעבדת צילום בע"מ | H46: קולאז פוטו 100/200 ס"מ | I46: 45278 | J46: 45382 | K46: 516307709 | L46: ILS | M46: 4329 | N46: 4329 | O46: 0 | P46: בנא"מ | Q46: 4329 | R46: 4329 | S46: N
A47: 44 | B47: 4502409694 | D47: =VLOOKUP(B47,גיליון2!$A$2:$C$239,2,FALSE) -> 41-30-01-19 | E47: =VLOOKUP(B47,גיליון2!$A$2:$C$239,3,FALSE) -> נכסים ולוגיסטיקה | F47: 42701307 | G47: חי אלקטרו קליק בע"מ | H47: רכישת מקרר לדיגומים עבור ברקן | I47: 45278 | J47: 45382 | K47: 515936698 | L47: ILS | M47: 4000 | N47: 4000 | O47: 0 | P47: בנא"מ | Q47: 4000 | R47: 4000 | S47: N
A48: 45 | B48: 4502412358 | D48: =VLOOKUP(B48,גיליון2!$A$2:$C$239,2,FALSE) -> 73-30-01-03 | E48: =VLOOKUP(B48,גיליון2!$A$2:$C$239,3,FALSE) -> ח. השירות ההידרולוגי | F48: 40010528 | G48: היפר - טק מערכות מתקדמות בע"מ | H48: מנוי שנתי למפ"י עבור 3 מערכות RTK | I48: 45292 | J48: 45657 | K48: 511090029 | L48: ILS | M48: 13057.2 | N48: 13057.2 | O48: 0 | P48: הידרולוגי | Q48: 13057.2 | R48: 13057.2 | S48: N
A49: 46 | B49: 4502413362 | D49: =VLOOKUP(B49,גיליון2!$A$2:$C$239,2,FALSE) -> 41-30-01-36 | E49: =VLOOKUP(B49,גיליון2!$A$2:$C$239,3,FALSE) -> חשבות | F49: 10000020 | G49: משרד ראש הממשלה | H49: חיוב עבור שימוש בשרת תשלומים ממשלתי | I49: 45089 | J49: 45089 | K49: 500100037 | L49: ILS | M49: 381.6 | N49: 381.6 | O49: 0 | P49: חשבות | Q49: 381.6 | R49: 381.6 | S49: N
A50: 47 | B50: 4502413778 | D50: =VLOOKUP(B50,גיליון2!$A$2:$C$239,2,FALSE) -> 41-30-01-19 | E50: =VLOOKUP(B50,גיליון2!$A$2:$C$239,3,FALSE) -> נכסים ולוגיסטיקה | F50: 40001103 | G50: קרביץ (1974) בעמ | H50: הפרשי הצמדות | I50: 45286 | J50: 45291 | K50: 510674039 | L50: ILS | M50: 254.02 | N50: 254.02 | O50: 0 | P50: בנא"מ | Q50: 254.02 | R50: 254.02 | S50: N
A51: 48 | B51: 4502414770 | D51: =VLOOKUP(B51,גיליון2!$A$2:$C$239,2,FALSE) -> 41-30-01-20 | E51: =VLOOKUP(B51,גיליון2!$A$2:$C$239,3,FALSE) -> משאבי אנוש והדרכה | F51: 41875458 | G51: שקף אקשן בע"מ | H51: שי לעובד לאחר מעבר הערכת מנהל לשנת 2024 | I51: 45292 | J51: 45382 | K51: 515940799 | L51: ILS | M51: 5276.7 | N51: 5276.7 | O51: 0 | P51: משאבי אנוש | Q51: 5276.7 | R51: 5276.7 | S51: N
A52: 49 | B52: 4502406870 | D52: =VLOOKUP(B52,גיליון2!$A$2:$C$239,2,FALSE) -> 41-30-01-19 | E52: =VLOOKUP(B52,גיליון2!$A$2:$C$239,3,FALSE) -> נכסים ולוגיסטיקה | F52: 40001103 | G52: קרביץ (1974) בעמ | H52: השלמת ציוד משרדי לשנת 2024 | I52: 45272 | J52: 45412 | K52: 510674039 | L52: ILS | M52: 2124.23 | N52: 2348.13 | O52: 0 | P52: בנא"מ | Q52: 2124.23 | R52: 2124.23 | S52: N
A53: 50 | B53: 4502378675 | D53: =VLOOKUP(B53,גיליון2!$A$2:$C$239,2,FALSE) -> 73-30-01-19 | E53: =VLOOKUP(B53,גיליון2!$A$2:$C$239,3,FALSE) -> אגף התכנון | F53: 40010827 | G53: ד.ה.ב. מד בע"מ | H53: הרחבה בגין תכנון אב למטשים | I53: 45183 | J53: 45552 | K53: 512307265 | L53: ILS | M53: 999999.99 | N53: 1044262.6 | O53: 11099.43 | P53: תכנון | Q53: 999999.99 | R53: 991739.27 | S53: N
A54: 51 | B54: 4502405142 | D54: =VLOOKUP(B54,גיליון2!$A$2:$C$239,2,FALSE) -> 41-30-01-10 | E54: =VLOOKUP(B54,גיליון2!$A$2:$C$239,3,FALSE) -> נכסים ולוגיסטיקה | F54: 20000232 | G54: מ. א. שומרון | H54: מ.א. שומרון - ארנונה ברקן 2024 | I54: 45292 | J54: 45657 | K54: 500273727 | L54: ILS | M54: 5054 | N54: 4978.5 | O54: 75.5 | P54: בנא"מ | Q54: 5054 | R54: 0 | S54: N
A55: 52 | B55: 4502406883 | D55: =VLOOKUP(B55,גיליון2!$A$2:$C$239,2,FALSE) -> 73-30-01-05 | E55: =VLOOKUP(B55,גיליון2!$A$2:$C$239,3,FALSE) -> אגף מערכות מידע | F55: 40012286 | G55: סיסטמטיקס בעמ | H55: רכישת רישיונות matlab | I55: 45292 | J55: 45657 | K55: 557665999 | L55: ILS | M55: 66798.94 | N55: 67786.85 | O55: 0 | P55: מערכות מידע | Q55: 66798.94 | R55: 66798.94 | S55: N
A56: 53 | B56: 4502393789 | D56: =VLOOKUP(B56,גיליון2!$A$2:$C$239,2,FALSE) -> 73-30-01-05 | E56: =VLOOKUP(B56,גיליון2!$A$2:$C$239,3,FALSE) -> אגף מערכות מידע | F56: 40009639 | G56: מאגרי תוכנה (מ.ת.) בע"מ | H56: רכישת Canva Pro Annual Subscription | I56: 45251 | J56: 45657 | K56: 513442442 | L56: ILS | M56: 1960.69 | N56: 1837.34 | O56: 0 | P56: מערכות מידע | Q56: 1960.69 | R56: 1960.69 | S56: N
A57: 54 | B57: 4502404752 | D57: =VLOOKUP(B57,גיליון2!$A$2:$C$239,2,FALSE) -> 41-30-01-10 | E57: =VLOOKUP(B57,גיליון2!$A$2:$C$239,3,FALSE) -> נכסים ולוגיסטיקה | F57: 20000141 | G57: עירית נשר | H57: עיריית נשר - ארנונה 2024 | I57: 45292 | J57: 45657 | K57: 500225008 | L57: ILS | M57: 10553 | N57: 10110.6 | O57: 442.4 | P57: בנא"מ | Q57: 10553 | R57: 0 | S57: N
A58: 55 | B58: 4502405450 | D58: =VLOOKUP(B58,גיליון2!$A$2:$C$239,2,FALSE) -> 41-30-01-10 | E58: =VLOOKUP(B58,גיליון2!$A$2:$C$239,3,FALSE) -> נכסים ולוגיסטיקה | F58: 20000001 | G58: מ. מ. ראש פינה | H58: ארנונה צח"ר | I58: 45292 | J58: 45657 | K58: 500200266 | L58: ILS | M58: 40000 | N58: 38140.4 | O58: 1859.6 | P58: בנא"מ | Q58: 40000 | R58: 0 | S58: N
A59: 56 | B59: 4502392993 | D59: =VLOOKUP(B59,גיליון2!$A$2:$C$239,2,FALSE) -> 73-30-01-05 | E59: =VLOOKUP(B59,גיליון2!$A$2:$C$239,3,FALSE) -> אגף מערכות מידע | F59: 40001247 | G59: הראל טכנולוגיות מידע בע"מ | H59: רכישת מוצרי levovo שרתים מודולריים | I59: 45251 | J59: 46158 | K59: 511401002 | L59: ILS | M59: 807449.88 | N59: 768169.55 | O59: 37147.62 | P59: מערכות מידע | Q59: 807449.88 | R59: 770302.28 | S59: N
A60: 57 | B60: 4502395605 | D60: =VLOOKUP(B60,גיליון2!$A$2:$C$239,2,FALSE) -> 41-30-01-20 | E60: =VLOOKUP(B60,גיליון2!$A$2:$C$239,3,FALSE) -> משאבי אנוש והדרכה | F60: 40288804 | G60: קשרים פלוס בע"מ | H60: שובר דיגיטלי לחנוכה 2023 | I60: 45261 | J60: 45291 | K60: 513887547 | L60: ILS | M60: 32994 | N60: 26760 | O60: 1684.8 | P60: משאבי אנוש | Q60: 32994 | R60: 31309.2 | S60: N
A61: 58 | B61: 4502393718 | D61: =VLOOKUP(B61,גיליון2!$A$2:$C$239,2,FALSE) -> 73-30-01-05 | E61: =VLOOKUP(B61,גיליון2!$A$2:$C$239,3,FALSE) -> אגף מערכות מידע | F61: 40009639 | G61: מאגרי תוכנה (מ.ת.) בע"מ | H61: רכישת מנוי לchat gpt מספק מאגרי תוכנה | I61: 45249 | J61: 45657 | K61: 513442442 | L61: ILS | M61: 3361.18 | N61: 3123.62 | O61: 0 | P61: מערכות מידע | Q61: 3361.18 | R61: 3361.18 | S61: N
A62: 59 | B62: 4502394706 | D62: =VLOOKUP(B62,גיליון2!$A$2:$C$239,2,FALSE) -> 73-30-01-05 | E62: =VLOOKUP(B62,גיליון2!$A$2:$C$239,3,FALSE) -> אגף מערכות מידע | F62: 40009639 | G62: מאגרי תוכנה (מ.ת.) בע"מ | H62: חידוש מנוי לאדובי | I62: 45338 | J62: 45704 | K62: 513442442 | L62: ILS | M62: 9917.15 | N62: 9371.23 | O62: 0 | P62: מערכות מידע | Q62: 9917.15 | R62: 9917.15 | S62: N
A63: 60 | B63: 4502396712 | D63: =VLOOKUP(B63,גיליון2!$A$2:$C$239,2,FALSE) -> 73-30-01-19 | E63: =VLOOKUP(B63,גיליון2!$A$2:$C$239,3,FALSE) -> אגף התכנון | F63: 40010827 | G63: ד.ה.ב. מד בע"מ | H63: מימוש זכות ברירה ייעוץ וסיוע תכנית אב ארצית למשק המים | I63: 45292 | J63: 45657 | K63: 512307265 | L63: ILS | M63: 116666.55 | N63: 116522.91 | O63: 9850.62 | P63: תכנון | Q63: 116666.55 | R63: 106258.58 | S63: N
A64: 61 | B64: 4502382398 | D64: =VLOOKUP(B64,גיליון2!$A$2:$C$239,2,FALSE) -> 73-30-01-03 | E64: =VLOOKUP(B64,גיליון2!$A$2:$C$239,3,FALSE) -> ח. השירות ההידרולוגי | F64: 40270213 | G64: צלח - מרכז הצבעים בע"מ | H64: הסכם מסגרת- לאספקת מצברים, סוללות נטענות,ציוד וכלים | I64: 45148 | J64: 45513 | K64: 511893034 | L64: ILS | M64: 106924.08 | N64: 97190.05 | O64: 9733.88 | P64: הידרולוגי | Q64: 106924.08 | R64: 97236.77 | S64: N
A65: 62 | B65: 4502392007 | D65: =VLOOKUP(B65,גיליון2!$A$2:$C$239,2,FALSE) -> 73-30-01-05 | E65: =VLOOKUP(B65,גיליון2!$A$2:$C$239,3,FALSE) -> אגף מערכות מידע | F65: 40137673 | G65: אוריקון בע"מ | H65: רכישת מסכים ניידים מסוג F24T450FZR | I65: 45244 | J65: 45603 | K65: 511864944 | L65: ILS | M65: 8310.97 | N65: 7070.31 | O65: 1068.44 | P65: מערכות מידע | Q65: 8310.97 | R65: 7242.53 | S65: N
A66: 63 | B66: 4502409246 | D66: =VLOOKUP(B66,גיליון2!$A$2:$C$239,2,FALSE) -> 41-30-01-19 | E66: =VLOOKUP(B66,גיליון2!$A$2:$C$239,3,FALSE) -> נכסים ולוגיסטיקה | F66: 40001037 | G66: הוצאת עתון הארץ בע"מ | H66: עיתונות הארץ ודה מרקר מודפסת ומקוונת | I66: 45292 | J66: 45657 | K66: 510015449 | L66: ILS | M66: 7639.5 | N66: 6269.98 | O66: 1369.5 | P66: בנא"מ | Q66: 7639.5 | R66: 6270 | S66: N
A67: 64 | B67: 4502395601 | D67: =VLOOKUP(B67,גיליון2!$A$2:$C$239,2,FALSE) -> 41-30-01-20 | E67: =VLOOKUP(B67,גיליון2!$A$2:$C$239,3,FALSE) -> משאבי אנוש והדרכה | F67: 41575887 | G67: שלוה מיזמי שילוב ותעסוקה בע"מ | H67: מפגש מנהלים גיבוש תכניות עבודה | I67: 45266 | J67: 45266 | K67: 515754364 | L67: ILS | M67: 10530 | N67: 7800 | O67: 2544.75 | P67: משאבי אנוש | Q67: 10530 | R67: 7985.25 | S67: N
A68: 65 | B68: 4502410321 | D68: =VLOOKUP(B68,גיליון2!$A$2:$C$239,2,FALSE) -> 73-30-01-25 | E68: =VLOOKUP(B68,גיליון2!$A$2:$C$239,3,FALSE) -> אגף התפלה | F68: 40457657 | G68: אי.או. סייט בע"מ | H68: מתן רישיונות למערכת איסוף ניתוח מידע עבור מתקני התפלה | I68: 45292 | J68: 45657 | K68: 513573956 | L68: ILS | M68: 145129.14 | N68: 95989.14 | O68: 49140 | P68: התפלה | Q68: 145129.14 | R68: 95989.14 | S68: N
A69: 66 | B69: 4502405708 | D69: =VLOOKUP(B69,גיליון2!$A$2:$C$239,2,FALSE) -> 41-30-01-19 | E69: =VLOOKUP(B69,גיליון2!$A$2:$C$239,3,FALSE) -> נכסים ולוגיסטיקה | F69: 41049139 | G69: אי.או.אס פתרונות משרד מתקדמים בע"מ | H69: רכישת שירות שנתי למכונת ביול ואספקת חלפים | I69: 45292 | J69: 45657 | K69: 515031177 | L69: ILS | M69: 4234.23 | N69: 2779.92 | O69: 1454.31 | P69: בנא"מ | Q69: 4234.23 | R69: 2779.92 | S69: N
A70: 67 | B70: 4502387729 | D70: =VLOOKUP(B70,גיליון2!$A$2:$C$239,2,FALSE) -> 41-30-01-19 | E70: =VLOOKUP(B70,גיליון2!$A$2:$C$239,3,FALSE) -> נכסים ולוגיסטיקה | F70: 40182094 | G70: גילת טלקום בע"מ | H70: אספקת ציוד ושירותי תקשורת לוויינית | I70: 45235 | J70: 45657 | K70: 511784498 | L70: ILS | M70: 7326.15 | N70: 5643.05 | O70: 2538.15 | P70: בנא"מ | Q70: 7326.15 | R70: 4788 | S70: N
... A73: 70 | B73: 4502401842 | D73: =VLOOKUP(B73,גיליון2!$A$2:$C$239,2,FALSE) -> 73-30-01-25 | E73: =VLOOKUP(B73,גיליון2!$A$2:$C$239,3,FALSE) -> אגף התפלה | F73: 42586998 | G73: גילרון ג'ק | H73: ייעוץ לבוררות מתקני התפלה באשקלון | I73: 44551 | J73: 45657 | K73: 011452323 | L73: ILS | M73: 29259.36 | N73: 15125.29 | O73: 14134.07 | P73: התפלה | Q73: 29259.36 | R73: 15125.29 | S73: N
A74: 71 | B74: 4502390820 | D74: =VLOOKUP(B74,גיליון2!$A$2:$C$239,2,FALSE) -> 41-30-01-36 | E74: =VLOOKUP(B74,גיליון2!$A$2:$C$239,3,FALSE) -> חשבות | F74: 10000002 | G74: החשב הכללי | H74: החלפת מערכת שכר | I74: 44927 | J74: 45657 | K74: 500100136 | L74: ILS | M74: 50000 | N74: 25720 | O74: 24280 | P74: חשבות | Q74: 50000 | R74: 25720 | S74: N
A75: 72 | B75: 4502402065 | D75: =VLOOKUP(B75,גיליון2!$A$2:$C$239,2,FALSE) -> 41-30-01-10 | E75: =VLOOKUP(B75,גיליון2!$A$2:$C$239,3,FALSE) -> נכסים ולוגיסטיקה | F75: 42004412 | G75: אי בי סנטר נכסים בע"מ | H75: דמי ניהול עבור ברקן לשנת 2023 | I75: 45292 | J75: 45473 | K75: 515791598 | L75: ILS | M75: 5007.51 | N75: 3575.01 | O75: 2503.75 | P75: בנא"מ | Q75: 5007.51 | R75: 2503.76 | S75: N
A76: 73 | B76: 4502402024 | D76: =VLOOKUP(B76,גיליון2!$A$2:$C$239,2,FALSE) -> 41-30-01-10 | E76: =VLOOKUP(B76,גיליון2!$A$2:$C$239,3,FALSE) -> נכסים ולוגיסטיקה | F76: 40004697 | G76: רמות מ.א. ניהול ותחזוקה (1993) בע"מ | H76: הוצ' ותחזוקה ביניין חפציבה | I76: 45292 | J76: 45473 | K76: 511845497 | L76: ILS | M76: 117065.92 | N76: 53560.46 | O76: 63505.46 | P76: בנא"מ | Q76: 117065.92 | R76: 53560.48 | S76: N
A77: 74 | B77: 4502415093 | D77: =VLOOKUP(B77,גיליון2!$A$2:$C$239,2,FALSE) -> 73-30-01-03 | E77: =VLOOKUP(B77,גיליון2!$A$2:$C$239,3,FALSE) -> ח. השירות ההידרולוגי | F77: 40010431 | G77: מחשב 72 חברה לבצוע עבוד נתונים במחש | H77: תיקון מכשירי SEBA | I77: 45292 | J77: 45657 | K77: 510610223 | L77: ILS | M77: 155998.44 | N77: 64675.26 | O77: 91323.18 | P77: הידרולוגי | Q77: 155998.44 | R77: 64675.26 | S77: N
A78: 75 | B78: 4502381026 | D78: =VLOOKUP(B78,גיליון2!$A$2:$C$239,2,FALSE) -> 73-30-01-19 | E78: =VLOOKUP(B78,גיליון2!$A$2:$C$239,3,FALSE) -> מפעלי מים ארציים | F78: 42462128 | G78: ביליק אוליאנה | H78: מתן שירותי ייעוץ בנושא מדידת מים | I78: 45187 | J78: 45552 | K78: 304558406 | L78: ILS | M78: 99806.5 | N78: 40930.11 | O78: 58876.39 | P78: פיתוח | Q78: 99806.5 | R78: 40930.11 | S78: N
A79: 76 | B79: 4502390577 | D79: =VLOOKUP(B79,גיליון2!$A$2:$C$239,2,FALSE) -> 41-30-01-10 | E79: =VLOOKUP(B79,גיליון2!$A$2:$C$239,3,FALSE) -> נכסים ולוגיסטיקה | F79: 40265896 | G79: מס יניב | H79: מתן שירותי ייעוץ לרכישת סירה עבור רשות המים | I79: 45245 | J79: 45610 | K79: 025600073 | L79: ILS | M79: 46660 | N79: 17597.2 | O79: 29062.8 | P79: בנא"ם | Q79: 46660 | R79: 17597.2 | S79: N
A80: 77 | B80: 4502378690 | D80: =VLOOKUP(B80,גיליון2!$A$2:$C$239,2,FALSE) -> 41-30-01-20 | E80: =VLOOKUP(B80,גיליון2!$A$2:$C$239,3,FALSE) -> משאבי אנוש והדרכה | F80: 40383312 | G80: מקס איט פקדונות בע"מ | H80: שי מגוייסים 2023 | I80: 45211 | J80: 45576 | K80: 513240879 | L80: ILS | M80: 40000 | N80: 13965 | O80: 26000 | P80: משאבי אנוש | Q80: 40000 | R80: 14000 | S80: N
A81: 78 | B81: 4502382442 | D81: =VLOOKUP(B81,גיליון2!$A$2:$C$239,2,FALSE) -> 73-30-01-03 | E81: =VLOOKUP(B81,גיליון2!$A$2:$C$239,3,FALSE) -> ח. השירות ההידרולוגי | F81: 42557462 | G81: סלומון רעות | H81: הפעלת מרכז הלאומי לחיזוי שיטפונות | I81: 45228 | J81: 45322 | K81: 039746086 | L81: ILS | M81: 39911.04 | N81: 13479.57 | O81: 26431.47 | P81: הידרולוגי | Q81: 39911.04 | R81: 13479.57 | S81: N
A82: 79 | B82: 4502405096 | D82: =VLOOKUP(B82,גיליון2!$A$2:$C$239,2,FALSE) -> 41-30-01-10 | E82: =VLOOKUP(B82,גיליון2!$A$2:$C$239,3,FALSE) -> נכסים ולוגיסטיקה | F82: 40005422 | G82: סונול ישראל בעמ | H82: תדלוק רכבים + תחזוקת תחנות פנימיות 2024 | I82: 45292 | J82: 45473 | K82: 510902729 | L82: ILS | M82: 99660 | N82: 35552.58 | O82: 66567.75 | P82: בנא"מ | Q82: 99660 | R82: 35569.73 | S82: N
A83: 80 | B83: 4502388712 | D83: =VLOOKUP(B83,גיליון2!$A$2:$C$239,2,FALSE) -> 73-30-01-25 | E83: =VLOOKUP(B83,גיליון2!$A$2:$C$239,3,FALSE) -> אגף התפלה | F83: 42542825 | G83: אוזן ושות' יועצים פיננסים בע"מ | H83: ייעוץ לבוררות מתקני התפלה באשקלון | I83: 44551 | J83: 45657 | K83: 514256379 | L83: ILS | M83: 29250 | N83: 7985.25 | O83: 21264.75 | P83: התפלה | Q83: 29250 | R83: 7985.25 | S83: N
A84: 81 | B84: 4502377183 | D84: =VLOOKUP(B84,גיליון2!$A$2:$C$239,2,FALSE) -> 41-30-01-36 | E84: =VLOOKUP(B84,גיליון2!$A$2:$C$239,3,FALSE) -> חשבות | F84: 40001633 | G84: קדמי אלחנתי- רואי חשבון | H84: שירותי ביקורת פנים כספית | I84: 45118 | J84: 45560 | K84: 557428612 | L84: ILS | M84: 274833 | N84: 79001.38 | O84: 203508.57 | P84: חשבות | Q84: 274833 | R84: 71364.53 | S84: N
A85: 82 | B85: 4502407200 | D85: =VLOOKUP(B85,גיליון2!$A$2:$C$239,2,FALSE) -> 41-30-01-10 | E85: =VLOOKUP(B85,גיליון2!$A$2:$C$239,3,FALSE) -> נכסים ולוגיסטיקה | F85: 41111486 | G85: אלייד - ג'נרי 2 בע"מ | H85: נטרול תשלומי תחזוקה | I85: 45292 | J85: 45657 | K85: 514961853 | L85: ILS | M85: 1198305.2 | N85: 337400.29 | O85: 898728.88 | P85: בנא"מ | Q85: 1198305.2 | R85: 299576.29 | S85: N
A86: 83 | B86: 4502401527 | D86: =VLOOKUP(B86,גיליון2!$A$2:$C$239,2,FALSE) -> 41-30-01-10 | E86: =VLOOKUP(B86,גיליון2!$A$2:$C$239,3,FALSE) -> נכסים ולוגיסטיקה | F86: 40015645 | G86: פ. פורמן נכסים בע"מ | H86: שירותי ניהול ותחזוקה עבור השירות ההידרולוגי בנשר | I86: 45292 | J86: 45657 | K86: 512023730 | L86: ILS | M86: 29357.64 | N86: 8160.75 | O86: 22018.23 | P86: בנא"מ | Q86: 29357.64 | R86: 7339.41 | S86: N
A87: 84 | B87: 4502405176 | D87: =VLOOKUP(B87,גיליון2!$A$2:$C$239,2,FALSE) -> 41-30-01-10 | E87: =VLOOKUP(B87,גיליון2!$A$2:$C$239,3,FALSE) -> נכסים ולוגיסטיקה | F87: 41111486 | G87: אלייד - ג'נרי 2 בע"מ | H87: דמי ניהול ניקיון, אבטחה ושירותים נוספים לבניין ג' | I87: 45292 | J87: 45657 | K87: 514961853 | L87: ILS | M87: 1718115.9 | N87: 429528.99 | O87: 1288586.9 | P87: בנא"מ | Q87: 1718115.9 | R87: 429528.99 | S87: N
A88: 85 | B88: 4502405786 | D88: =VLOOKUP(B88,גיליון2!$A$2:$C$239,2,FALSE) -> 41-30-01-10 | E88: =VLOOKUP(B88,גיליון2!$A$2:$C$239,3,FALSE) -> נכסים ולוגיסטיקה | F88: 40003252 | G88: אושירה בע"מ | H88: חניות במשרדי רשות המים בבית נועם בבאר שבע | I88: 45292 | J88: 45565 | K88: 511113243 | L88: ILS | M88: 23741.64 | N88: 6531.99 | O88: 17806.23 | P88: בנא"מ | Q88: 23741.64 | R88: 5935.41 | S88: N
A89: 86 | B89: 4502399418 | D89: =VLOOKUP(B89,גיליון2!$A$2:$C$239,2,FALSE) -> 41-30-01-10 | E89: =VLOOKUP(B89,גיליון2!$A$2:$C$239,3,FALSE) -> נכסים ולוגיסטיקה | F89: 40006163 | G89: שפיר הנדסה אזרחית וימית בע"מ | H89: חניה בחניוון הלאום 2024 | I89: 45292 | J89: 45382 | K89: 510500242 | L89: ILS | M89: 69999.93 | N89: 25690.46 | O89: 52746.01 | P89: בנא"מ | Q89: 69999.93 | R89: 17253.92 | S89: N
A90: 87 | B90: 4502380382 | D90: =VLOOKUP(B90,גיליון2!$A$2:$C$239,2,FALSE) -> 41-30-01-22 | E90: =VLOOKUP(B90,גיליון2!$A$2:$C$239,3,FALSE) -> הסברה ודוברות | F90: 40001296 | G90: יפעת המרכז למידע תקשורתי בע"מ | H90: אספקת לקט יומי של קטעי עיתונות, רדיו וטלוויזיה | I90: 45207 | J90: 45572 | K90: 511639460 | L90: ILS | M90: 139999.86 | N90: 30006.99 | O90: 109992.87 | P90: דוברות | Q90: 139999.86 | R90: 30006.99 | S90: N
A91: 88 | B91: 4502399950 | D91: =VLOOKUP(B91,גיליון2!$A$2:$C$239,2,FALSE) -> 41-30-01-19 | E91: =VLOOKUP(B91,גיליון2!$A$2:$C$239,3,FALSE) -> נכסים ולוגיסטיקה | F91: 41939936 | G91: אורות התחנה המרכזית 2014 בע"מ | H91: רכישת מאפים לאירועים / כנסים / פגישות | I91: 45292 | J91: 45657 | K91: 515042265 | L91: ILS | M91: 5000 | N91: 1000.12 | O91: 3999.88 | P91: בנא"מ | Q91: 5000 | R91: 1000.12 | S91: N
A92: 89 | B92: 4502409426 | D92: =VLOOKUP(B92,גיליון2!$A$2:$C$239,2,FALSE) -> 41-30-01-19 | E92: =VLOOKUP(B92,גיליון2!$A$2:$C$239,3,FALSE) -> נכסים ולוגיסטיקה | F92: 40001174 | G92: פלאפון תקשורת בע"מ | H92: שירותי סלולאר עבור עובדי רשות המים | I92: 45292 | J92: 45428 | K92: 511076572 | L92: ILS | M92: 80719.95 | N92: 15346.86 | O92: 65373.09 | P92: בנא"מ | Q92: 80719.95 | R92: 0 | S92: N
... A101: 98 | B101: 4502397887 | D101: =VLOOKUP(B101,גיליון2!$A$2:$C$239,2,FALSE) -> 41-30-01-19 | E101: =VLOOKUP(B101,גיליון2!$A$2:$C$239,3,FALSE) -> נכסים ולוגיסטיקה | F101: 40001490 | G101: יס שירותי טלווזיה ותקשורת בע"מ | H101: עבור כל נקודות ציפייה + שדרוג לממיר HD | I101: 45292 | J101: 45657 | K101: 512705138 | L101: ILS | M101: 10491.25 | N101: 874.27 | O101: 9616.98 | P101: בנא"מ | Q101: 10491.25 | R101: 874.27 | S101: N
A102: 99 | B102: 4502399384 | D102: =VLOOKUP(B102,גיליון2!$A$2:$C$239,2,FALSE) -> 41-30-01-10 | E102: =VLOOKUP(B102,גיליון2!$A$2:$C$239,3,FALSE) -> נכסים ולוגיסטיקה | F102: 10000160 | G102: משרד התחבורה | H102: אגרת רישוי לרכבי רשות המים לשנת 2024 | I102: 45292 | J102: 45657 | K102: 500102736 | L102: ILS | M102: 128000 | N102: 9951 | O102: 118049 | P102: בנא"מ | Q102: 128000 | R102: 0 | S102: N
A103: 100 | B103: 4502410579 | D103: =VLOOKUP(B103,גיליון2!$A$2:$C$239,2,FALSE) -> 41-30-01-19 | E103: =VLOOKUP(B103,גיליון2!$A$2:$C$239,3,FALSE) -> נכסים ולוגיסטיקה | F103: 40005159 | G103: חברת פרטנר תקשורת בע"מ | H103: שירותי שליטה ובקרה | I103: 44927 | J103: 45414 | K103: 520044314 | L103: ILS | M103: 2245 | N103: 167.46 | O103: 2077.54 | P103: בנא"מ | Q103: 2245 | R103: 167.46 | S103: N
A104: 101 | B104: 4502405454 | D104: =VLOOKUP(B104,גיליון2!$A$2:$C$239,2,FALSE) -> 41-30-01-10 | E104: =VLOOKUP(B104,גיליון2!$A$2:$C$239,3,FALSE) -> נכסים ולוגיסטיקה | F104: 20000254 | G104: עירית באר שבע | H104: ארנונה באר שבע בית נועם | I104: 45292 | J104: 45657 | K104: 500290002 | L104: ILS | M104: 46372.89 | N104: 3343.59 | O104: 43029.3 | P104: בנא"מ | Q104: 46372.89 | R104: 0 | S104: N
A105: 102 | B105: 4502412746 | D105: =VLOOKUP(B105,גיליון2!$A$2:$C$239,2,FALSE) -> 41-30-01-19 | E105: =VLOOKUP(B105,גיליון2!$A$2:$C$239,3,FALSE) -> נכסים ולוגיסטיקה | F105: 40011815 | G105: מסוף העברת מסמכי מחשבים בעמ | H105: שירותי סבב דואר יומי ושליחויות | I105: 45292 | J105: 45657 | K105: 510621477 | L105: ILS | M105: 40000 | N105: 2457 | O105: 37543 | P105: בנא"מ | Q105: 40000 | R105: 2457 | S105: N
A106: 103 | B106: 4502412737 | D106: =VLOOKUP(B106,גיליון2!$A$2:$C$239,2,FALSE) -> 41-30-01-20 | E106: =VLOOKUP(B106,גיליון2!$A$2:$C$239,3,FALSE) -> משאבי אנוש והדרכה | F106: 40288804 | G106: קשרים פלוס בע"מ | H106: מתנה לימי הולדת + שי ליולדת 2024 | I106: 45292 | J106: 45657 | K106: 513887547 | L106: ILS | M106: 32760 | N106: 1944 | O106: 30816 | P106: משאבי אנוש | Q106: 32760 | R106: 1944 | S106: N
A107: 104 | B107: 4502392903 | D107: =VLOOKUP(B107,גיליון2!$A$2:$C$239,2,FALSE) -> 73-30-01-05 | E107: =VLOOKUP(B107,גיליון2!$A$2:$C$239,3,FALSE) -> אגף מערכות מידע | F107: 40225199 | G107: אינטרנט בינת בע"מ | H107: תחזוקת אתר ‪DR‬ | I107: 45246 | J107: 45518 | K107: 513049759 | L107: ILS | M107: 112722.69 | N107: 4111.7 | O107: 108610.99 | P107: מערכות מידע | Q107: 112722.69 | R107: 4111.7 | S107: N
A108: 105 | B108: 4502399100 | D108: =VLOOKUP(B108,גיליון2!$A$2:$C$239,2,FALSE) -> 41-30-01-10 | E108: =VLOOKUP(B108,גיליון2!$A$2:$C$239,3,FALSE) -> נכסים ולוגיסטיקה | F108: 40003724 | G108: דרך ארץ הייווייז (1997) בע"מ | H108: נסיעת רכב ממשלתי (רכבי איגום ורכב מנכ"ל) בכביש 6 | I108: 45292 | J108: 45657 | K108: 512475203 | L108: ILS | M108: 19890 | N108: 715.98 | O108: 19174.02 | P108: בנא"מ | Q108: 19890 | R108: 0 | S108: N
A109: 106 | B109: 4502399130 | D109: =VLOOKUP(B109,גיליון2!$A$2:$C$239,2,FALSE) -> 41-30-01-10 | E109: =VLOOKUP(B109,גיליון2!$A$2:$C$239,3,FALSE) -> נכסים ולוגיסטיקה | F109: 41610837 | G109: 6 - חוצה צפון בע"מ | H109: נסיעת רכב ממשלתי (רכבי איגום ורכב מנכ"ל בלבד) | I109: 45292 | J109: 45657 | K109: 514874155 | L109: ILS | M109: 1170 | N109: 29.5 | O109: 1140.5 | P109: בנא"מ | Q109: 1170 | R109: 0 | S109: N
A110: 107 | B110: 4502405466 | D110: =VLOOKUP(B110,גיליון2!$A$2:$C$239,2,FALSE) -> 41-30-01-10 | E110: =VLOOKUP(B110,גיליון2!$A$2:$C$239,3,FALSE) -> נכסים ולוגיסטיקה | F110: 40001579 | G110: חברת החשמל לישראל בעמ | H110: תשלומים שוטפים עבור צריכת חשמל במשרדי רשות המים | I110: 45292 | J110: 45657 | K110: 520000472 | L110: ILS | M110: 53820 | N110: 933.19 | O110: 52886.81 | P110: בנא"מ | Q110: 53820 | R110: 0 | S110: N
A111: 108 | B111: 4502377088 | D111: =VLOOKUP(B111,גיליון2!$A$2:$C$239,2,FALSE) -> 41-30-01-26 | E111: =VLOOKUP(B111,גיליון2!$A$2:$C$239,3,FALSE) -> חטיבת אסדרה | F111: 10000028 | G111: משטרת ישראל | H111: ליווי משטרתי | I111: 45200 | J111: 45565 | K111: 500101944 | L111: ILS | M111: 15000 | N111: 0 | O111: 15000 | P111: אסדרה | Q111: 15000 | R111: 0 | S111: N
A112: 109 | B112: 4502378186 | D112: =VLOOKUP(B112,גיליון2!$A$2:$C$239,2,FALSE) -> 41-30-01-21 | E112: =VLOOKUP(B112,גיליון2!$A$2:$C$239,3,FALSE) -> מטה | F112: 42378738 | G112: אשבל יעדים בע"מ | H112: מתן שירותי יעוץ אסטרטגי בתחום בטחון מים וחירום | I112: 45228 | J112: 45593 | K112: 516106333 | L112: ILS | M112: 320106.15 | N112: 0 | O112: 320106.15 | P112: בטחון מים | Q112: 320106.15 | R112: 0 | S112: N
A113: 110 | B113: 4502378570 | D113: =VLOOKUP(B113,גיליון2!$A$2:$C$239,2,FALSE) -> 41-30-01-19 | E113: =VLOOKUP(B113,גיליון2!$A$2:$C$239,3,FALSE) -> מטה | F113: 40544510 | G113: הרוש דוד חיים | H113: אספקת שירותי גרפיקה עבור רשות המים | I113: 45207 | J113: 45496 | K113: 057788507 | L113: ILS | M113: 97399.82 | N113: 0 | O113: 97399.82 | P113: לשכת מנכל | Q113: 97399.82 | R113: 0 | S113: N
A114: 111 | B114: 4502378668 | D114: =VLOOKUP(B114,גיליון2!$A$2:$C$239,2,FALSE) -> 73-30-01-25 | E114: =VLOOKUP(B114,גיליון2!$A$2:$C$239,3,FALSE) -> אגף התפלה | F114: 40010890 | G114: מודוטק בע"מ | H114: תחזוקה ואחזקת מבני דיגום במתקני התפלה | I114: 45292 | J114: 45657 | K114: 512653031 | L114: ILS | M114: 1375007.4 | N114: 0 | O114: 1375007.4 | P114: התפלה | Q114: 1375007.4 | R114: 0 | S114: N
A115: 112 | B115: 4502378679 | D115: =VLOOKUP(B115,גיליון2!$A$2:$C$239,2,FALSE) -> 73-30-01-25 | E115: =VLOOKUP(B115,גיליון2!$A$2:$C$239,3,FALSE) -> אגף התפלה | F115: 40010827 | G115: ד.ה.ב. מד בע"מ | H115: מכרז עבור ייעוץ לאגף התפלה. | I115: 45292 | J115: 45657 | K115: 512307265 | L115: ILS | M115: 999999.99 | N115: 0 | O115: 999999.99 | P115: התפלה | Q115: 999999.99 | R115: 0 | S115: N
A116: 113 | B116: 4502379083 | D116: =VLOOKUP(B116,גיליון2!$A$2:$C$239,2,FALSE) -> 73-30-01-19 | E116: =VLOOKUP(B116,גיליון2!$A$2:$C$239,3,FALSE) -> ח. פיתוח תשתיות ביוב | F116: 42154360 | G116: מימד מטרולוגיה בע"מ | H116: בדיקת מדי מים | I116: 45214 | J116: 45579 | K116: 514950013 | L116: ILS | M116: 49999.95 | N116: 0 | O116: 49999.95 | P116: פיתוח | Q116: 49999.95 | R116: 0 | S116: N
A117: 114 | B117: 4502379323 | D117: =VLOOKUP(B117,גיליון2!$A$2:$C$239,2,FALSE) -> 73-30-01-03 | E117: =VLOOKUP(B117,גיליון2!$A$2:$C$239,3,FALSE) -> ח. השירות ההידרולוגי | F117: 40010431 | G117: מחשב 72 חברה לבצוע עבוד נתונים במחש | H117: לשדרוג מערכת הכבלים בתחנה ההידרומטרית נחל שקמה | I117: 45214 | J117: 45579 | K117: 510610223 | L117: ILS | M117: 144401.4 | N117: 0 | O117: 144401.4 | P117: הידרולוגי | Q117: 144401.4 | R117: 0 | S117: N
A118: 115 | B118: 4502381606 | D118: =VLOOKUP(B118,גיליון2!$A$2:$C$239,2,FALSE) -> 41-30-01-20 | E118: =VLOOKUP(B118,גיליון2!$A$2:$C$239,3,FALSE) -> משאבי אנוש והדרכה | F118: 40017582 | G118: מרכז משאבים - מיסודו של פרופ' מולי | H118: מתמודדים ביחד – כלים לחיזוק החוסן האישי | I118: 45218 | J118: 45218 | K118: 580154888 | L118: ILS | M118: 1071 | N118: 0 | O118: 1071 | P118: משאבי אנוש | Q118: 1071 | R118: 0 | S118: N
A119: 116 | B119: 4502382412 | D119: =VLOOKUP(B119,גיליון2!$A$2:$C$239,2,FALSE) -> 73-30-01-03 | E119: =VLOOKUP(B119,גיליון2!$A$2:$C$239,3,FALSE) -> ח. השירות ההידרולוגי | F119: 40494068 | G119: אגרולן בע"מ | H119: תחזוקת רשת מדי גשם | I119: 45200 | J119: 45565 | K119: 514602598 | L119: ILS | M119: 66690 | N119: 0 | O119: 66690 | P119: הידרולוגי | Q119: 66690 | R119: 0 | S119: N
A120: 118 | B120: 4502382438 | D120: =VLOOKUP(B120,גיליון2!$A$2:$C$239,2,FALSE) -> 73-30-01-03 | E120: =VLOOKUP(B120,גיליון2!$A$2:$C$239,3,FALSE) -> ניטור כינרת | F120: 40001034 | G120: רשות הגנים הלאומיים ושמורות הטבע | H120: פיקוח ולסיוע באכיפה למניעת זיהום מקורות מים באגן | I120: 45200 | J120: 45565 | K120: 500500285 | L120: ILS | M120: 536352.8 | N120: 0 | O120: 536352.8 | P120: איכות מים | Q120: 536352.8 | R120: 0 | S120: N
A121: 119 | B121: 4502382446 | D121: =VLOOKUP(B121,גיליון2!$A$2:$C$239,2,FALSE) -> 41-30-01-21 | E121: =VLOOKUP(B121,גיליון2!$A$2:$C$239,3,FALSE) -> לשכה משפטית | F121: 40011070 | G121: לויתן,שרון ושות' עו"ד | H121: גישור | I121: 45231 | J121: 45596 | K121: 557284627 | L121: ILS | M121: 54931.5 | N121: 0 | O121: 54931.5 | P121: לשכה משפטית | Q121: 54931.5 | R121: 0 | S121: N
A122: 120 | B122: 4502382641 | D122: =VLOOKUP(B122,גיליון2!$A$2:$C$239,2,FALSE) -> 41-30-01-22 | E122: =VLOOKUP(B122,גיליון2!$A$2:$C$239,3,FALSE) -> הסברה ודוברות | F122: 42361621 | G122: קק"ל-צמח-כנרת השקעות ופיתוח בע"מ | H122: מתן חסות לשבוע המים הישראלי | I122: 45257 | J122: 45351 | K122: 515812626 | L122: ILS | M122: 30000.01 | N122: 0 | O122: 30000.01 | P122: אסטרטגיה | Q122: 30000.01 | R122: 0 | S122: N
A123: 121 | B123: 4502383091 | D123: =VLOOKUP(B123,גיליון2!$A$2:$C$239,2,FALSE) -> 41-30-01-26 | E123: =VLOOKUP(B123,גיליון2!$A$2:$C$239,3,FALSE) -> ביטחון מים | F123: 40004139 | G123: מכון התקנים הישראלי | H123: מבדק הסמכה לתקן ISO 27001 שנת 2023 | I123: 45231 | J123: 46022 | K123: 500500137 | L123: ILS | M123: 20475 | N123: 0 | O123: 20475 | P123: בטחון מים | Q123: 20475 | R123: 0 | S123: N
A124: 122 | B124: 4502384875 | D124: =VLOOKUP(B124,גיליון2!$A$2:$C$239,2,FALSE) -> 73-30-01-03 | E124: =VLOOKUP(B124,גיליון2!$A$2:$C$239,3,FALSE) -> ח. השירות ההידרולוגי | F124: 42542822 | G124: בקרמן אור | H124: אחזקת תחנות הידרומטריות באזור כנרת | I124: 45231 | J124: 45596 | K124: 301171682 | L124: ILS | M124: 537147 | N124: 0 | O124: 537147 | P124: הידרולוגי | Q124: 537147 | R124: 0 | S124: N
...

Sheet גיליון2
A1: מסמך רכישה | B1: פריט התחייבות | C1: תיאור תקנה תקציבית
A2: 4502377088 | B2: 41-30-01-26 | C2: חטיבת אסדרה
A3: 4502377183 | B3: 41-30-01-36 | C3: חשבות
A4: 4502378186 | B4: 41-30-01-21 | C4: מטה
A5: 4502378570 | B5: 41-30-01-19 | C5: מטה
A6: 4502378668 | B6: 73-30-01-25 | C6: אגף התפלה
A7: 4502378675 | B7: 73-30-01-19 | C7: אגף התכנון
A8: 4502378679 | B8: 73-30-01-25 | C8: אגף התפלה
A9: 4502378690 | B9: 41-30-01-20 | C9: משאבי אנוש והדרכה
A10: 4502378818 | B10: 73-30-01-03 | C10: ח. השירות ההידרולוגי
A11: 4502379083 | B11: 73-30-01-19 | C11: ח. פיתוח תשתיות ביוב
A12: 4502379323 | B12: 73-30-01-03 | C12: ח. השירות ההידרולוגי
A13: 4502379771 | B13: 41-30-01-10 | C13: נכסים ולוגיסטיקה
... A239: 4502415431 | B239: 73-30-01-13 | C239: ביטחון מים
