Workbook

Sheet רבעון 4 תקופה 10-12.23
C1: חוק חופש המידע- רבעון 4 שנת 2023
A4: מס"ד | B4: מסמך רכישה | C4: שם חברה | D4: מספר תקנה | E4: שם תקנה | F4: ספק | G4: שם הספק | H4: טקסט כותרת | I4: התחלת תקופת תוקף | J4: סיום תקופת תוקף | K4: מספר רישום מע"מ | L4: מטבע | M4: ערך הזמנה כולל מע"מ | N4: ביצוע חשבוניות כולל מע"מ והצמדות במט"מ | O4: יתרת הזמנות נומינלית כולל מע"מ | P4: סימוכין שלך | Q4: ערך הזמנה במט"מ | R4: ביצוע ערך קבלות הטובין במט"מ | S4: הזמנות רגישות
A5: 1 | B5: 4502392319 | C5: הרשות למים ולביוב | D5: =VLOOKUP(B5,גיליון2!$A$2:$C$239,2,FALSE) -> 73-30-01-05 | E5: =VLOOKUP(B5,גיליון2!$A$2:$C$239,3,FALSE) -> אגף מערכות מידע | F5: 40532479 | G5: זיפקום תקשורת בע"מ | H5: רכישת 3 דיסקים של G1 החלפת דיסק לדיסק קשיח SSD | I5: 45245 | J5: 45603 | K5: 512781790 | L5: ILS | M5: 1085.26 | N5: 1246.05 | O5: 0 | P5: מערכות מידע | Q5: 1085.26 | R5: 1085.26 | S5: N
A6: 2 | B6: 4502382496 | D6: =VLOOKUP(B6,גיליון2!$A$2:$C$239,2,FALSE) -> 73-30-01-13 | E6: =VLOOKUP(B6,גיליון2!$A$2:$C$239,3,FALSE) -> רשות המים | F6: 41123709 | G6: גליל מערבי (1993) חברה להובלה בע"מ | H6: שירותי אחסנה, אחזקה, הפעלה והחזרה לכשירות של עתודות מים | I6: 45200 | J6: 45413 | K6: 511822595 | L6: ILS | M6: 295563.06 | N6: 304593.46 | O6: 0 | P6: בטחון מים | Q6: 295563.06 | R6: 295563.06 | S6: N
A7: 3 | B7: 4502407757 | D7: =VLOOKUP(B7,גיליון2!$A$2:$C$239,2,FALSE) -> 73-30-01-05 | E7: =VLOOKUP(B7,גיליון2!$A$2:$C$239,3,FALSE) -> אגף מערכות מידע | F7: 40001244 | G7: דנגוט מחשבים בע"מ | H7: מדפסות ודיו תצורה | I7: 45273 | J7: 45473 | K7: 511398836 | L7: ILS | M7: 106960.84 | N7: 115907.38 | O7: 0 | P7: מערכות מידע | Q7: 106960.84 | R7: 106960.84 | S7: N
A8: 4 | B8: 4502379845 | D8: =VLOOKUP(B8,גיליון2!$A$2:$C$239,2,FALSE) -> 73-30-01-05 | E8: =VLOOKUP(B8,גיליון2!$A$2:$C$239,3,FALSE) -> אגף מערכות מידע | F8: 40009639 | G8: מאגרי תוכנה (מ.ת.) בע"מ | H8: רכישת רישיוו LARGE ZOOM | I8: 45215 | J8: 45580 | K8: 513442442 | L8: ILS | M8: 4201.01 | N8: 4219.11 | O8: 0 | P8: מערכות מידע | Q8: 4201.01 | R8: 4201.01 | S8: N
A9: 5 | B9: 4502391774 | D9: =VLOOKUP(B9,גיליון2!$A$2:$C$239,2,FALSE) -> 73-30-01-05 | E9: =VLOOKUP(B9,גיליון2!$A$2:$C$239,3,FALSE) -> אגף מערכות מידע | F9: 40001108 | G9: בינת תקשורת מחשבים בע"מ | H9: רכישת CHECK POINT | I9: 45244 | J9: 45474 | K9: 510713407 | L9: ILS | M9: 585032.8 | N9: 549001.31 | O9: 0 | P9: מערכות מידע | Q9: 585032.8 | R9: 585032.8 | S9: N
A10: 6 | B10: 4502378818 | D10: =VLOOKUP(B10,גיליון2!$A$2:$C$239,2,FALSE) -> 73-30-01-03 | E10: =VLOOKUP(B10,גיליון2!$A$2:$C$239,3,FALSE) -> ח. השירות ההידרולוגי | F10: 41387162 | G10: אקו אינטראקטיב בע"מ | H10: עיצוב אתר חיזוי שיטפונות | I10: 45214 | J10: 45291 | K10: 514961689 | L10: ILS | M10: 2925 | N10: 2925 | O10: 0 | P10: הידרולוגי | Q10: 2925 | R10: 2925 | S10: N
A11: 7 | B11: 4502379771 | D11: =VLOOKUP(B11,גיליון2!$A$2:$C$239,2,FALSE) -> 41-30-01-10 | E11: =VLOOKUP(B11,גיליון2!$A$2:$C$239,3,FALSE) -> נכסים ולוגיסטיקה | F11: 41123292 | G11: שובל מורן | H11: רכישת מקרר משרדי עבור חמ"ל בטחון מים דרום | I11: 45215 | J11: 45291 | K11: 039596424 | L11: ILS | M11: 750.01 | N11: 750.01 | O11: 0 | P11: בנא"מ | Q11: 750.01 | R11: 750.01 | S11: N
A12: 8 | B12: 4502380820 | D12: =VLOOKUP(B12,גיליון2!$A$2:$C$239,2,FALSE) -> 41-30-01-20 | E12: =VLOOKUP(B12,גיליון2!$A$2:$C$239,3,FALSE) -> משאבי אנוש והדרכה | F12: 42555169 | G12: רול אופנהיימר | H12: מארז למשפחות מגוייסים 2023 | I12: 45216 | J12: 45229 | K12: 558423968 | L12: ILS | M12: 2800 | N12: 2800 | O12: 0 | P12: משאבי אנוש | Q12: 2800 | R12: 2800 | S12: N
A13: 9 | B13: 4502382107 | D13: =VLOOKUP(B13,גיליון2!$A$2:$C$239,2,FALSE) -> 41-30-01-20 | E13: =VLOOKUP(B13,גיליון2!$A$2:$C$239,3,FALSE) -> משאבי אנוש והדרכה | F13: 42132406 | G13: זליגר מרה | H13: השתתפות בוועדת בוחנים | I13: 45190 | J13: 45190 | K13: 015777618 | L13: ILS | M13: 587.34 | N13: 587.34 | O13: 0 | P13: משאבי אנוש | Q13: 587.34 | R13: 587.34 | S13: N
A14: 10 | B14: 4502385017 | D14: =VLOOKUP(B14,גיליון2!$A$2:$C$239,2,FALSE) -> 41-30-01-20 | E14: =VLOOKUP(B14,גיליון2!$A$2:$C$239,3,FALSE) -> משאבי אנוש והדרכה | F14: 42233567 | G14: בו בזמן בע"מ | H14: הרצאה | I14: 45232 | J14: 45232 | K14: 516297959 | L14: ILS | M14: 4492.8 | N14: 4492.8 | O14: 0 | P14: משאבי אנוש | Q14: 4492.8 | R14: 4492.8 | S14: N
A15: 11 | B15: 4502385274 | D15: =VLOOKUP(B15,גיליון2!$A$2:$C$239,2,FALSE) -> 73-30-01-05 | E15: =VLOOKUP(B15,גיליון2!$A$2:$C$239,3,FALSE) -> אגף מערכות מידע | F15: 40004667 | G15: מפה - מיפוי והוצאה לאור בע"מ | H15: חידוש שכבות תחנות דלק עבור GIS לשנת 2024 | I15: 45292 | J15: 45657 | K15: 511781924 | L15: ILS | M15: 6669 | N15: 6669 | O15: 0 | P15: מערכות מידע | Q15: 6669 | R15: 6669 | S15: N
A16: 12 | B16: 4502385432 | D16: =VLOOKUP(B16,גיליון2!$A$2:$C$239,2,FALSE) -> 41-30-01-10 | E16: =VLOOKUP(B16,גיליון2!$A$2:$C$239,3,FALSE) -> חטיבת אסדרה | F16: 40006968 | G16: דוקופרינט בע"מ | H16: דפי רישיונות | I16: 45231 | J16: 45291 | K16: 510885932 | L16: ILS | M16: 3042.02 | N16: 3042 | O16: 0 | P16: אסדרה | Q16: 3042.02 | R16: 3042 | S16: N
A17: 14 | B17: 4502385650 | D17: =VLOOKUP(B17,גיליון2!$A$2:$C$239,2,FALSE) -> 41-30-01-19 | E17: =VLOOKUP(B17,גיליון2!$A$2:$C$239,3,FALSE) -> נכסים ולוגיסטיקה | F17: 42543063 | G17: טופ חדב בע"מ | H17: הצבת מיגונית בשטח הידרומטריה מרכז בקריה החקלאית | I17: 45242 | J17: 45281 | K17: 516029535 | L17: ILS | M17: 49999.95 | N17: 49999.95 | O17: 0 | P17: בנא"מ | Q17: 49999.95 | R17: 49999.95 | S17: N
... A30: 27 | B30: 4502398465 | D30: =VLOOKUP(B30,גיליון2!$A$2:$C$239,2,FALSE) -> 41-30-01-10 | E30: =VLOOKUP(B30,גיליון2!$A$2:$C$239,3,FALSE) -> נכסים ולוגיסטיקה | F30: 41111486 | G30: אלייד - ג'נרי 2 בע"מ | H30: הוספת שקעי חשמל חדר ישיבות קומה 6 | I30: 45258 | J30: 45350 | K30: 514961853 | L30: ILS | M30: 1588.66 | N30: 1588.66 | O30: 0 | P30: בנא"מ | Q30: 1588.66 | R30: 1588.66 | S30: N
A31: 28 | B31: 4502398670 | D31: =VLOOKUP(B31,גיליון2!$A$2:$C$239,2,FALSE) -> 41-30-01-10 | E31: =VLOOKUP(B31,גיליון2!$A$2:$C$239,3,FALSE) -> נכסים ולוגיסטיקה | F31: 10000102 | G31: לשכת הבריאות מחוז י-ם | H31: חשמל חפציבה 2022 | I31: 45258 | J31: 45291 | K31: 500106877 | L31: ILS | M31: 25602 | N31: 25602 | O31: 0 | P31: בנא"מ | Q31: 25602 | R31: 0 | S31: N
A32: 29 | B32: 4502398699 | D32: =VLOOKUP(B32,גיליון2!$A$2:$C$239,2,FALSE) -> 73-30-01-05 | E32: =VLOOKUP(B32,גיליון2!$A$2:$C$239,3,FALSE) -> אגף מערכות מידע | F32: 42319046 | G32: טודוטק בע"מ | H32: רכישת רישוי לשנה עבור תוכנת ‪MONDAY‬ | I32: 45292 | J32: 45657 | K32: 516322054 | L32: ILS | M32: 49403.25 | N32: 49403.25 | O32: 0 | P32: מערכות מידע | Q32: 49403.25 | R32: 49403.25 | S32: N
A33: 30 | B33: 4502398814 | D33: =VLOOKUP(B33,גיליון2!$A$2:$C$239,2,FALSE) -> 73-30-01-03 | E33: =VLOOKUP(B33,גיליון2!$A$2:$C$239,3,FALSE) -> ניטור כינרת | F33: 40001077 | G33: חקר ימים ואגמים לישראל בעמ | H33: פיתוח כלים אנליטיים לזיהוי, כימות ואיפיון מיקרוספ | I33: 45261 | J33: 45626 | K33: 510485204 | L33: ILS | M33: 58488.3 | N33: 49990 | O33: 0 | P33: ניטור כנרת | Q33: 58488.3 | R33: 58488.3 | S33: N
A34: 31 | B34: 4502399828 | D34: =VLOOKUP(B34,גיליון2!$A$2:$C$239,2,FALSE) -> 41-30-01-19 | E34: =VLOOKUP(B34,גיליון2!$A$2:$C$239,3,FALSE) -> נכסים ולוגיסטיקה | F34: 40001519 | G34: ממרם שיווק ציוד רפואי בע"מ | H34: הזמנה לציוד רפואי עבור ערכות עזרה ראשונה ברשות המים | I34: 45292 | J34: 45657 | K34: 512914888 | L34: ILS | M34: 2499.59 | N34: 2499.59 | O34: 0 | P34: בנא"מ | Q34: 2499.59 | R34: 2499.59 | S34: N
A35: 32 | B35: 4502403271 | D35: =VLOOKUP(B35,גיליון2!$A$2:$C$239,2,FALSE) -> 73-30-01-05 | E35: =VLOOKUP(B35,גיליון2!$A$2:$C$239,3,FALSE) -> אגף מערכות מידע | F35: 40009639 | G35: מאגרי תוכנה (מ.ת.) בע"מ | H35: רכישה של stata ממאגרי תוכנה | I35: 45292 | J35: 45657 | K35: 513442442 | L35: ILS | M35: 4914 | N35: 4914 | O35: 0 | P35: מערכות מידע | Q35: 4914 | R35: 4914 | S35: N
A36: 33 | B36: 4502403569 | D36: =VLOOKUP(B36,גיליון2!$A$2:$C$239,2,FALSE) -> 41-30-01-13 | E36: =VLOOKUP(B36,גיליון2!$A$2:$C$239,3,FALSE) -> נכסים ולוגיסטיקה | F36: 10000192 | G36: מינהל הדיור הממשלתי | H36: עלויות תקשורת קריות ממשלה 2023 | I36: 45236 | J36: 45291 | K36: 500105994 | L36: ILS | M36: 26868.49 | N36: 26868.49 | O36: 0 | P36: בנא"מ | Q36: 26868.49 | R36: 0 | S36: N
A37: 34 | B37: 4502404267 | D37: =VLOOKUP(B37,גיליון2!$A$2:$C$239,2,FALSE) -> 73-30-01-03 | E37: =VLOOKUP(B37,גיליון2!$A$2:$C$239,3,FALSE) -> ח. השירות ההידרולוגי | F37: 10000176 | G37: משרד התקשורת | H37: תשלום אגרה במסגרת המכרז רכישת מכשירי RTK | I37: 45261 | J37: 45291 | K37: 500103155 | L37: ILS | M37: 553.13 | N37: 553.13 | O37: 0 | P37: הידרולוגי | Q37: 553.13 | R37: 553.13 | S37: N
A38: 35 | B38: 4502405442 | D38: =VLOOKUP(B38,גיליון2!$A$2:$C$239,2,FALSE) -> 41-30-01-10 | E38: =VLOOKUP(B38,גיליון2!$A$2:$C$239,3,FALSE) -> נכסים ולוגיסטיקה | F38: 20000159 | G38: עירית ירושלים | H38: ארנונה לבניין ג'נרי 2024 | I38: 45292 | J38: 45657 | K38: 500230008 | L38: ILS | M38: 1924255.9 | N38: 1924255.9 | O38: 0 | P38: בנא"מ | Q38: 1924255.9 | R38: 0 | S38: N
A39: 36 | B39: 4502405445 | D39: =VLOOKUP(B39,גיליון2!$A$2:$C$239,2,FALSE) -> 41-30-01-10 | E39: =VLOOKUP(B39,גיליון2!$A$2:$C$239,3,FALSE) -> נכסים ולוגיסטיקה | F39: 20000159 | G39: עירית ירושלים | H39: ארנונה חפציבה | I39: 45292 | J39: 45382 | K39: 500230008 | L39: ILS | M39: 123285.71 | N39: 123285.71 | O39: 0 | P39: בנא"מ | Q39: 123285.71 | R39: 0 | S39: N
A40: 37 | B40: 4502405777 | D40: =VLOOKUP(B40,גיליון2!$A$2:$C$239,2,FALSE) -> 41-30-01-19 | E40: =VLOOKUP(B40,גיליון2!$A$2:$C$239,3,FALSE) -> נכסים ולוגיסטיקה | F40: 41123292 | G40: שובל מורן | H40: רכישת 2 מקרוגלים עבור גנרי | I40: 45271 | J40: 45382 | K40: 039596424 | L40: ILS | M40: 998.01 | N40: 998.01 | O40: 0 | P40: בנא"מ | Q40: 998.01 | R40: 998.01 | S40: N
A41: 38 | B41: 4502405919 | D41: =VLOOKUP(B41,גיליון2!$A$2:$C$239,2,FALSE) -> 41-30-01-19 | E41: =VLOOKUP(B41,גיליון2!$A$2:$C$239,3,FALSE) -> נכסים ולוגיסטיקה | F41: 40427007 | G41: ח.נ. טכניק מרכז לאספקה בע"מ | H41: אפודים כתומים ליח' בטחון מים בחרום | I41: 45271 | J41: 45473 | K41: 514062736 | L41: ILS | M41: 2831.4 | N41: 2831.4 | O41: 0 | P41: בנא"מ | Q41: 2831.4 | R41: 2831.4 | S41: N
A42: 39 | B42: 4502406889 | D42: =VLOOKUP(B42,גיליון2!$A$2:$C$239,2,FALSE) -> 73-30-01-05 | E42: =VLOOKUP(B42,גיליון2!$A$2:$C$239,3,FALSE) -> אגף מערכות מידע | F42: 40010832 | G42: אנויטק בע"מ | H42: חידוש רישיונות שימוש בתוכנת ‪GMS‬ | I42: 45292 | J42: 45657 | K42: 512336454 | L42: ILS | M42: 36036 | N42: 36036 | O42: 0 | P42: מערכות מידע | Q42: 36036 | R42: 36036 | S42: N
A43: 40 | B43: 4502406918 | D43: =VLOOKUP(B43,גיליון2!$A$2:$C$239,2,FALSE) -> 41-30-01-20 | E43: =VLOOKUP(B43,גיליון2!$A$2:$C$239,3,FALSE) -> משאבי אנוש והדרכה | F43: 10000020 | G43: משרד ראש הממשלה | H43: כנס גיוס ומיון 2023 | I43: 44958 | J43: 44985 | K43: 500100037 | L43: ILS | M43: 3400 | N43: 3400 | O43: 0 | P43: משאבי אנוש | Q43: 3400 | R43: 3400 | S43: N
A44: 41 | B44: 4502407185 | D44: =VLOOKUP(B44,גיליון2!$A$2:$C$239,2,FALSE) -> 73-30-01-05 | E44: =VLOOKUP(B44,גיליון2!$A$2:$C$239,3,FALSE) -> אגף מערכות מידע | F44: 41097839 | G44: גטר גרופ בע"מ | H44: רכישת זרוע שולחנית ל 2 מסכי מחשב -מתקן תליה | I44: 45273 | J44: 45322 | K44: 520042326 | L44: ILS | M44: 4680 | N44: 4680 | O44: 0 | P44: מערכות מידע | Q44: 4680 | R44: 4680 | S44: N
A45: 42 | B45: 4502409232 | D45: =VLOOKUP(B45,גיליון2!$A$2:$C$239,2,FALSE) -> 41-30-01-19 | E45: =VLOOKUP(B45,גיליון2!$A$2:$C$239,3,FALSE) -> נכסים ולוגיסטיקה | F45: 40011446 | G45: ידיעות מינויים | H45: עיתונות ידיעות וכלכליסט מודפסת ומקוונת | I45: 45292 | J45: 45657 | K45: 540181054 | L45: ILS | M45: 2841.84 | N45: 2841.83 | O45: 0 | P45: בנא"מ | Q45: 2841.84 | R45: 2841.84 | S45: N
A46: 43 | B46: 4502409547 | D46: =VLOOKUP(B46,גיליון2!$A$2:$C$239,2,FALSE) -> 41-30-01-19 | E46: =VLOOKUP(B46,גיליון2!$A$2:$C$239,3,FALSE) -> נכסים ולוגיסטיקה | F46: 42301573 | G46: דיפרינט מעבדת צילום בע"מ | H46: קולאז פוטו 100/200 ס"מ | I46: 45278 | J46: 45382 | K46: 516307709 | L46: ILS | M46: 4329 | N46: 4329 | O46: 0 | P46: בנא"מ | Q46: 4329 | R46: 4329 | S46: N
A47: 44 | B47: 4502409694 | D47: =VLOOKUP(B47,גיליון2!$A$2:$C$239,2,FALSE) -> 41-30-01-19 | E47: =VLOOKUP(B47,גיליון2!$A$2:$C$239,3,FALSE) -> נכסים ולוגיסטיקה | F47: 42701307 | G47: חי אלקטרו קליק בע"מ | H47: רכישת מקרר לדיגומים עבור ברקן | I47: 45278 | J47: 45382 | K47: 515936698 | L47: ILS | M47: 4000 | N47: 4000 | O47: 0 | P47: בנא"מ | Q47: 4000 | R47: 4000 | S47: N
A48: 45 | B48: 4502412358 | D48: =VLOOKUP(B48,גיליון2!$A$2:$C$239,2,FALSE) -> 73-30-01-03 | E48: =VLOOKUP(B48,גיליון2!$A$2:$C$239,3,FALSE) -> ח. השירות ההידרולוגי | F48: 40010528 | G48: היפר - טק מערכות מתקדמות בע"מ | H48: מנוי שנתי למפ"י עבור 3 מערכות RTK | I48: 45292 | J48: 45657 | K48: 511090029 | L48: ILS | M48: 13057.2 | N48: 13057.2 | O48: 0 | P48: הידרולוגי | Q48: 13057.2 | R48: 13057.2 | S48: N
A49: 46 | B49: 4502413362 | D49: =VLOOKUP(B49,גיליון2!$A$2:$C$239,2,FALSE) -> 41-30-01-36 | E49: =VLOOKUP(B49,גיליון2!$A$2:$C$239,3,FALSE) -> חשבות | F49: 10000020 | G49: משרד ראש הממשלה | H49: חיוב עבור שימוש בשרת תשלומים ממשלתי | I49: 45089 | J49: 45089 | K49: 500100037 | L49: ILS | M49: 381.6 | N49: 381.6 | O49: 0 | P49: חשבות | Q49: 381.6 | R49: 381.6 | S49: N
A50: 47 | B50: 4502413778 | D50: =VLOOKUP(B50,גיליון2!$A$2:$C$239,2,FALSE) -> 41-30-01-19 | E50: =VLOOKUP(B50,גיליון2!$A$2:$C$239,3,FALSE) -> נכסים ולוגיסטיקה | F50: 40001103 | G50: קרביץ (1974) בעמ | H50: הפרשי הצמדות | I50: 45286 | J50: 45291 | K50: 510674039 | L50: ILS | M50: 254.02 | N50: 254.02 | O50: 0 | P50: בנא"מ | Q50: 254.02 | R50: 254.02 | S50: N
A51: 48 | B51: 4502414770 | D51: =VLOOKUP(B51,גיליון2!$A$2:$C$239,2,FALSE) -> 41-30-01-20 | E51: =VLOOKUP(B51,גיליון2!$A$2:$C$239,3,FALSE) -> משאבי אנוש והדרכה | F51: 41875458 | G51: שקף אקשן בע"מ | H51: שי לעובד לאחר מעבר הערכת מנהל לשנת 2024 | I51: 45292 | J51: 45382 | K51: 515940799 | L51: ILS | M51: 5276.7 | N51: 5276.7 | O51: 0 | P51: משאבי אנוש | Q51: 5276.7 | R51: 5276.7 | S51: N
A52: 49 | B52: 4502406870 | D52: =VLOOKUP(B52,גיליון2!$A$2:$C$239,2,FALSE) -> 41-30-01-19 | E52: =VLOOKUP(B52,גיליון2!$A$2:$C$239,3,FALSE) -> נכסים ולוגיסטיקה | F52: 40001103 | G52: קרביץ (1974) בעמ | H52: השלמת ציוד משרדי לשנת 2024 | I52: 45272 | J52: 45412 | K52: 510674039 | L52: ILS | M52: 2124.23 | N52: 2348.13 | O52: 0 | P52: בנא"מ | Q52: 2124.23 | R52: 2124.23 | S52: N
A53: 50 | B53: 4502378675 | D53: =VLOOKUP(B53,גיליון2!$A$2:$C$239,2,FALSE) -> 73-30-01-19 | E53: =VLOOKUP(B53,גיליון2!$A$2:$C$239,3,FALSE) -> אגף התכנון | F53: 40010827 | G53: ד.ה.ב. מד בע"מ | H53: הרחבה בגין תכנון אב למטשים | I53: 45183 | J53: 45552 | K53: 512307265 | L53: ILS | M53: 999999.99 | N53: 1044262.6 | O53: 11099.43 | P53: תכנון | Q53: 999999.99 | R53: 991739.27 | S53: N
A54: 51 | B54: 4502405142 | D54: =VLOOKUP(B54,גיליון2!$A$2:$C$239,2,FALSE) -> 41-30-01-10 | E54: =VLOOKUP(B54,גיליון2!$A$2:$C$239,3,FALSE) -> נכסים ולוגיסטיקה | F54: 20000232 | G54: מ. א. שומרון | H54: מ.א. שומרון - ארנונה ברקן 2024 | I54: 45292 | J54: 45657 | K54: 500273727 | L54: ILS | M54: 5054 | N54: 4978.5 | O54: 75.5 | P54: בנא"מ | Q54: 5054 | R54: 0 | S54: N
...

Sheet גיליון2
A1: מסמך רכישה | B1: פריט התחייבות | C1: תיאור תקנה תקציבית
A2: 4502377088 | B2: 41-30-01-26 | C2: חטיבת אסדרה
A3: 4502377183 | B3: 41-30-01-36 | C3: חשבות
A4: 4502378186 | B4: 41-30-01-21 | C4: מטה
A5: 4502378570 | B5: 41-30-01-19 | C5: מטה
A6: 4502378668 | B6: 73-30-01-25 | C6: אגף התפלה
A7: 4502378675 | B7: 73-30-01-19 | C7: אגף התכנון
A8: 4502378679 | B8: 73-30-01-25 | C8: אגף התפלה
A9: 4502378690 | B9: 41-30-01-20 | C9: משאבי אנוש והדרכה
A10: 4502378818 | B10: 73-30-01-03 | C10: ח. השירות ההידרולוגי
A11: 4502379083 | B11: 73-30-01-19 | C11: ח. פיתוח תשתיות ביוב
A12: 4502379323 | B12: 73-30-01-03 | C12: ח. השירות ההידרולוגי
A13: 4502379771 | B13: 41-30-01-10 | C13: נכסים ולוגיסטיקה
... A239: 4502415431 | B239: 73-30-01-13 | C239: ביטחון מים
