Workbook

Sheet גליון 1
E2: דוח חוק חופש המידע עבור רבעון 3 לשנת 2023
A7: מס"ד | B7: מסמך רכישה | C7: שם חברה | D7: מספר תקנה | E7: שם תקנה | F7: ספק | G7: שם הספק | H7: טקסט כותרת | I7: התחלת תקופת תוקף | J7: סיום תקופת תוקף | K7: מספר רישום מע"מ | L7: מטבע | M7: ערך הזמנה כולל מע"מ | N7: ביצוע חשבוניות כולל מע"מ והצמדות במט"מ | O7: יתרת הזמנות נומינלית כולל מע"מ | P7: סימוכין שלך | Q7: ערך הזמנה במט"מ | R7: ביצוע ערך קבלות הטובין במט"מ | S7: הזמנות רגישות
A8: 1 | B8: 4502344473 | C8: הרשות למים ולביוב | D8: =VLOOKUP(B8,גיליון2!$A$2:$C$133,2,FALSE) -> 41-30-01-19 | E8: =VLOOKUP(B8,גיליון2!$A$2:$C$133,3,FALSE) -> פעולות מנהל וארגון | F8: 40004081 | G8: צבאבא יצחק | H8: רכישת עציצים עבור בניין ג'נרי | I8: 45109 | J8: 45291 | K8: 058851007 | L8: ILS | M8: 35679.15 | N8: 0 | O8: 100 | P8: בנא"מ | Q8: 35679.15 | R8: 6393.08 | S8: N
A9: 2 | B9: 4502344840 | D9: =VLOOKUP(B9,גיליון2!$A$2:$C$133,2,FALSE) -> 41-30-01-21 | E9: =VLOOKUP(B9,גיליון2!$A$2:$C$133,3,FALSE) -> ייעוץ בקרה וליווי | F9: 40572196 | G9: עדי מרדכי אודי | H9: שמאי אגרונום חקלאי לצורך ליווי בהליכים משפטיים | I9: 45110 | J9: 45475 | K9: 054548979 | L9: ILS | M9: 7839 | N9: 7839 | O9: 0 | P9: לשכה משפטית | Q9: 0 | R9: 1165 | S9: N
A10: 3 | B10: 4502344992 | D10: =VLOOKUP(B10,גיליון2!$A$2:$C$133,2,FALSE) -> 41-30-01-19 | E10: =VLOOKUP(B10,גיליון2!$A$2:$C$133,3,FALSE) -> פעולות מנהל וארגון | F10: 40007139 | G10: תג נאור בע"מ | H10: כרטיסי תעודה לפקחים הידרומטריה | I10: 45110 | J10: 45291 | K10: 512477845 | L10: ILS | M10: 327.6 | N10: 0 | O10: 100 | P10: בנא"מ | Q10: 327.6 | R10: 5157.84 | S10: N
A11: 4 | B11: 4502344963 | D11: =VLOOKUP(B11,גיליון2!$A$2:$C$133,2,FALSE) -> 41-30-01-19 | E11: =VLOOKUP(B11,גיליון2!$A$2:$C$133,3,FALSE) -> פעולות מנהל וארגון | F11: 40001103 | G11: קרביץ (1974) בעמ | H11: מוצרי קפה עד למחצית שניה שנת 2023 | I11: 45110 | J11: 45291 | K11: 510674039 | L11: ILS | M11: 4359.83 | N11: 751.55 | O11: 82.74 | P11: בנא"מ | Q11: 3608.28 | R11: 39592.8 | S11: N
A12: 6 | B12: 4502344978 | D12: =VLOOKUP(B12,גיליון2!$A$2:$C$133,2,FALSE) -> 41-30-01-19 | E12: =VLOOKUP(B12,גיליון2!$A$2:$C$133,3,FALSE) -> פעולות מנהל וארגון | F12: 40001103 | G12: קרביץ (1974) בעמ | H12: נייר צילום משרדי 4A | I12: 45110 | J12: 45566 | K12: 510674039 | L12: ILS | M12: 5399.78 | N12: 5399.78 | O12: 0 | P12: בנא"מ | Q12: 0 | R12: 327.6 | S12: N
A13: 7 | B13: 4502345715 | D13: =VLOOKUP(B13,גיליון2!$A$2:$C$133,2,FALSE) -> 41-30-01-26 | E13: =VLOOKUP(B13,גיליון2!$A$2:$C$133,3,FALSE) -> היערכות משק המים לשע | F13: 40001211 | G13: מלון שלום (אילת) בע"מ | H13: כנס תרגיל סייבר להנהלה | I13: 45126 | J13: 45126 | K13: 511218661 | L13: ILS | M13: 14625 | N13: 0 | O13: 100 | P13: בטחון מים | Q13: 14625 | R13: 14625 | S13: N
A14: 8 | B14: 4502346144 | D14: =VLOOKUP(B14,גיליון2!$A$2:$C$133,2,FALSE) -> 73-30-01-05 | E14: =VLOOKUP(B14,גיליון2!$A$2:$C$133,3,FALSE) -> פיתוח ותחזוקת מערכות | F14: 42410755 | G14: מקיט מוצרי תוכנה בע"מ | H14: חידוש רישון לתוכנת WATERCAD | I14: 45139 | J14: 45504 | K14: 516549011 | L14: ILS | M14: 6393.08 | N14: 0 | O14: 107.47 | P14: מערכות מידע | Q14: 6393.08 | R14: 1204.79 | S14: N
A15: 9 | B15: 4502346422 | D15: =VLOOKUP(B15,גיליון2!$A$2:$C$133,2,FALSE) -> 41-30-01-22 | E15: =VLOOKUP(B15,גיליון2!$A$2:$C$133,3,FALSE) -> חסכון במים הסברה | F15: 41033319 | G15: אס.אמ.או. מיתוג במדיה חברתית בע"מ | H15: שירותי ניו מדיה והפקת תוכן | I15: 45094 | J15: 45461 | K15: 514823889 | L15: ILS | M15: 140000.09 | N15: 112100.19 | O15: 19.93 | P15: דוברות | Q15: 27899.9 | R15: 24827.4 | S15: N
A16: 10 | B16: 4502346133 | D16: =VLOOKUP(B16,גיליון2!$A$2:$C$133,2,FALSE) -> 73-30-01-05 | E16: =VLOOKUP(B16,גיליון2!$A$2:$C$133,3,FALSE) -> פיתוח ותחזוקת מערכות | F16: 40012286 | G16: סיסטמטיקס בעמ | H16: חידוש שנתי לרישיון תוכנת MATLAB | I16: 45170 | J16: 45535 | K16: 557665999 | L16: ILS | M16: 8756.33 | N16: 8026.62 | O16: 8.33 | P16: מערכות מידע | Q16: 729.71 | R16: 7670.52 | S16: N
A17: 11 | B17: 4502346686 | D17: =VLOOKUP(B17,גיליון2!$A$2:$C$133,2,FALSE) -> 73-30-01-23 | E17: =VLOOKUP(B17,גיליון2!$A$2:$C$133,3,FALSE) -> הנחה בתעריפי מים | F17: 40015077 | G17: אם גרופ- מ.ג.ע.ר בע"מ | H17: מימוש אופציה 4 עבור הקמת מוקד טלפוני לניתוב | I17: 45153 | J17: 45518 | K17: 511464927 | L17: ILS | M17: 90558 | N17: 83011.5 | O17: 8.33 | P17: אסדרה | Q17: 7546.5 | R17: 554.58 | S17: N
A18: 12 | B18: 4502346707 | D18: =VLOOKUP(B18,גיליון2!$A$2:$C$133,2,FALSE) -> 73-30-01-03 | E18: =VLOOKUP(B18,גיליון2!$A$2:$C$133,3,FALSE) -> איכות מים- ניטור | F18: 40328129 | G18: ד.מ. (3000) הנדסה בע"מ | H18: ציוד מולטימדיה והרחבות עבור תצוגות רשום המים במטא | I18: 45113 | J18: 45489 | K18: 513228726 | L18: ILS | M18: 85133.17 | N18: 85133.17 | O18: 0 | P18: מערכות מידע | Q18: 0 | R18: 20437.02 | S18: N
A19: 13 | B19: 4502348909 | D19: =VLOOKUP(B19,גיליון2!$A$2:$C$133,2,FALSE) -> 41-30-01-10 | E19: =VLOOKUP(B19,גיליון2!$A$2:$C$133,3,FALSE) -> הוצאות תפעול | F19: 41111486 | G19: אלייד - ג'נרי 2 בע"מ | H19: העתקת תשתית חשמל | I19: 45119 | J19: 45291 | K19: 514961853 | L19: ILS | M19: 1204.79 | N19: 0 | O19: 100 | P19: בנא"מ | Q19: 1204.79 | R19: 2808 | S19: N
A20: 14 | B20: 4502349192 | D20: =VLOOKUP(B20,גיליון2!$A$2:$C$133,2,FALSE) -> 73-30-01-19 | E20: =VLOOKUP(B20,גיליון2!$A$2:$C$133,3,FALSE) -> תכנון בקרה וייעוץ | F20: 40010827 | G20: ד.ה.ב. מד בע"מ | H20: תכנית מסגרת לפריסה ואיחוד משטים ובחינה סטטוטורית | I20: 45096 | J20: 45461 | K20: 512307265 | L20: ILS | M20: 471159 | N20: 49765.88 | O20: 89.44 | P20: תכנון | Q20: 422286.93 | R20: 0 | S20: N
A21: 15 | B21: 4502349240 | D21: 41-30-01-20 | E21: הדרכה ורווחה | F21: 10000020 | G21: משרד ראש הממשלה | H21: הכשרה מקצועית לשימוש בכלי בינה מלאכותית לייעול תהליך | I21: 45119 | J21: 45154 | K21: 500100037 | L21: ILS | M21: 2500 | N21: 2500 | O21: 0 | P21: משאבי אנוש | Q21: 0 | R21: 4680 | S21: N
A22: 16 | B22: 4502349241 | D22: =VLOOKUP(B22,גיליון2!$A$2:$C$133,2,FALSE) -> 41-30-01-20 | E22: =VLOOKUP(B22,גיליון2!$A$2:$C$133,3,FALSE) -> הדרכה ורווחה | F22: 40003393 | G22: ענבל חברה לביטוח בע"מ-מקבל הלואות | H22: קורס חשבי שכר בכיר | I22: 45131 | J22: 45271 | K22: 520031030 | L22: ILS | M22: 8400 | N22: 8400 | O22: 0 | P22: משאבי אנוש | Q22: 0 | R22: 7956 | S22: N
A23: 17 | B23: 4502350116 | D23: =VLOOKUP(B23,גיליון2!$A$2:$C$133,2,FALSE) -> 41-30-01-19 | E23: =VLOOKUP(B23,גיליון2!$A$2:$C$133,3,FALSE) -> פעולות מנהל וארגון | F23: 40001174 | G23: פלאפון תקשורת בע"מ | H23: רכישת טלפונים ניידים עבור עובדי הפיקוח ברשות | I23: 45139 | J23: 45291 | K23: 511076572 | L23: ILS | M23: 24827.4 | N23: 0 | O23: 100 | P23: בנא"מ | Q23: 24827.4 | R23: 9828 | S23: N
A24: 18 | B24: 4502350201 | D24: =VLOOKUP(B24,גיליון2!$A$2:$C$133,2,FALSE) -> 41-30-01-20 | E24: =VLOOKUP(B24,גיליון2!$A$2:$C$133,3,FALSE) -> הדרכה ורווחה | F24: 42071754 | G24: דליקרים אירועים | H24: הפעלה ל happy hour | I24: 45144 | J24: 45169 | K24: 558353207 | L24: ILS | M24: 7670.52 | N24: 0 | O24: 100 | P24: משאבי אנוש | Q24: 7670.52 | R24: 49842 | S24: N
A25: 19 | B25: 4502350202 | D25: =VLOOKUP(B25,גיליון2!$A$2:$C$133,2,FALSE) -> 41-30-01-20 | E25: =VLOOKUP(B25,גיליון2!$A$2:$C$133,3,FALSE) -> הדרכה ורווחה | F25: 41897401 | G25: כהן שי | H25: השתתפות בוועדת בוחנים | I25: 45105 | J25: 45105 | K25: 55467344 | L25: ILS | M25: 554.58 | N25: 0 | O25: 100 | P25: משאבי אנוש | Q25: 554.58 | R25: 19457.1 | S25: N
A26: 20 | B26: 4502350172 | D26: =VLOOKUP(B26,גיליון2!$A$2:$C$133,2,FALSE) -> 41-30-01-19 | E26: =VLOOKUP(B26,גיליון2!$A$2:$C$133,3,FALSE) -> פעולות מנהל וארגון | F26: 40386741 | G26: טריבייס בע"מ | H26: הנגשת מסמכים עבור רשות המים | I26: 45116 | J26: 45481 | K26: 514063668 | L26: ILS | M26: 175500 | N26: 175500 | O26: 0 | P26: דוברות | Q26: 0 | R26: 1755 | S26: N
A27: 21 | B27: 4502350217 | D27: =VLOOKUP(B27,גיליון2!$A$2:$C$133,2,FALSE) -> 41-30-01-20 | E27: =VLOOKUP(B27,גיליון2!$A$2:$C$133,3,FALSE) -> הדרכה ורווחה | F27: 40397632 | G27: מטריקס אי. טי. בע"מ | H27: בחינת המבנה הארגוני ותהליכי העבודה ברשות המים | I27: 45153 | J27: 45883 | K27: 520039413 | L27: ILS | M27: 142501.32 | N27: 142501.32 | O27: 0 | P27: משאבי אנוש | Q27: 0 | R27: 0 | S27: N
A28: 22 | B28: 4502350501 | D28: =VLOOKUP(B28,גיליון2!$A$2:$C$133,2,FALSE) -> 73-30-01-05 | E28: =VLOOKUP(B28,גיליון2!$A$2:$C$133,3,FALSE) -> פיתוח ותחזוקת מערכות | F28: 41595704 | G28: מנדיי. קום בע"מ | H28: שדרוג רישיונות תוכנת MONDAY לסוג ENTERPRIZE | I28: 44927 | J28: 45291 | K28: 514744887 | L28: ILS | M28: 39592.8 | N28: 0 | O28: 100.07 | P28: מערכות מידע | Q28: 39592.8 | R28: 2563.28 | S28: N
A29: 23 | B29: 4502350319 | D29: =VLOOKUP(B29,גיליון2!$A$2:$C$133,2,FALSE) -> 73-30-01-19 | E29: =VLOOKUP(B29,גיליון2!$A$2:$C$133,3,FALSE) -> תכנון בקרה וייעוץ | F29: 42510285 | G29: בן יוסף אברהם | H29: השתתפות חבר ועדת שיפוט הבינמשרדית של המינהל לפיתוח | I29: 45139 | J29: 45504 | K29: 056668106 | L29: ILS | M29: 30940.65 | N29: 30940.65 | O29: 0 | P29: פיתוח | Q29: 0 | R29: 1857.14 | S29: N
A30: 24 | B30: 4502350323 | D30: =VLOOKUP(B30,גיליון2!$A$2:$C$133,2,FALSE) -> 73-30-01-19 | E30: =VLOOKUP(B30,גיליון2!$A$2:$C$133,3,FALSE) -> תכנון בקרה וייעוץ | F30: 42509885 | G30: קיטאי אהוד | H30: השתתפות חבר ועדת שיפוט הבינמשרדית של המינהל לפיתוח | I30: 45139 | J30: 45504 | K30: 053594362 | L30: ILS | M30: 30940.65 | N30: 30940.65 | O30: 0 | P30: פיתוח | Q30: 0 | R30: 35568 | S30: N
A31: 25 | B31: 4502351283 | D31: =VLOOKUP(B31,גיליון2!$A$2:$C$133,2,FALSE) -> 41-30-01-22 | E31: =VLOOKUP(B31,גיליון2!$A$2:$C$133,3,FALSE) -> חסכון במים הסברה | F31: 40009080 | G31: ב. ח. מיקו שיווק בע"מ | H31: רכישת ציוד עבור דובר רשות המים | I31: 45130 | J31: 45291 | K31: 512089152 | L31: ILS | M31: 4785.3 | N31: 4785.3 | O31: 0 | P31: דוברות | Q31: 0 | R31: 11349 | S31: N
A32: 26 | B32: 4502351292 | D32: =VLOOKUP(B32,גיליון2!$A$2:$C$133,2,FALSE) -> 73-30-01-03 | E32: =VLOOKUP(B32,גיליון2!$A$2:$C$133,3,FALSE) -> איכות מים- ניטור | F32: 40245661 | G32: ג. ז. ניסנית בע"מ | H32: אחזקת תחנות הדרומטריות | I32: 45125 | J32: 45291 | K32: 512025230 | L32: ILS | M32: 577407.87 | N32: 577407.87 | O32: 0 | P32: הידרולוגי | Q32: 0 | R32: 4954.95 | S32: N
A33: 27 | B33: 4502351402 | D33: =VLOOKUP(B33,גיליון2!$A$2:$C$133,2,FALSE) -> 41-30-01-22 | E33: =VLOOKUP(B33,גיליון2!$A$2:$C$133,3,FALSE) -> חסכון במים הסברה | F33: 40019238 | G33: האגודה הישראלית לאקולוגיה ולמדעי הס | H33: חסות עבור הוועידה השנתית למדע ולסביבה ה-51 | I33: 45119 | J33: 45120 | K33: 580020238 | L33: ILS | M33: 12500 | N33: 12500 | O33: 0 | P33: תפעול | Q33: 0 | R33: 1553.76 | S33: N
A34: 28 | B34: 4502351666 | D34: =VLOOKUP(B34,גיליון2!$A$2:$C$133,2,FALSE) -> 73-30-01-19 | E34: =VLOOKUP(B34,גיליון2!$A$2:$C$133,3,FALSE) -> תכנון בקרה וייעוץ | F34: 42469411 | G34: גפן ירון | H34: תכנון אב לגליל עליון- תגבור הספקה למעלה כנרת. | I34: 45130 | J34: 45860 | K34: 027378934 | L34: ILS | M34: 622838 | N34: 622838 | O34: 0 | P34: תכנון | Q34: 0 | R34: 28946.69 | S34: N
A35: 29 | B35: 4502351688 | D35: =VLOOKUP(B35,גיליון2!$A$2:$C$133,2,FALSE) -> 41-30-01-19 | E35: =VLOOKUP(B35,גיליון2!$A$2:$C$133,3,FALSE) -> פעולות מנהל וארגון | F35: 41003244 | G35: משרד סוכנות/האוצר נסיעות ממשלתית | H35: נסיעת עבודה | I35: 45049 | J35: 45051 | K35: 500107321 | L35: ILS | M35: 2590.4 | N35: 2590.4 | O35: 0 | P35: נסיעות לחו"ל | Q35: 0 | R35: 587.34 | S35: N
A36: 30 | B36: 4502351701 | D36: =VLOOKUP(B36,גיליון2!$A$2:$C$133,2,FALSE) -> 41-30-01-19 | E36: =VLOOKUP(B36,גיליון2!$A$2:$C$133,3,FALSE) -> פעולות מנהל וארגון | F36: 41003244 | G36: משרד סוכנות/האוצר נסיעות ממשלתית | H36: תשלום אשרת כניסה | I36: 44983 | J36: 44988 | K36: 500107321 | L36: ILS | M36: 1667.25 | N36: 1667.25 | O36: 0 | P36: נסיעות לחו"ל | Q36: 0 | R36: 474 | S36: N
A37: 31 | B37: 4502352273 | D37: =VLOOKUP(B37,גיליון2!$A$2:$C$133,2,FALSE) -> 41-30-01-21 | E37: =VLOOKUP(B37,גיליון2!$A$2:$C$133,3,FALSE) -> ייעוץ בקרה וליווי | F37: 40211218 | G37: שיף הזנפרץ ושות',ייעוץ | H37: מתן שירותי ביקורת פנים | I37: 45130 | J37: 45495 | K37: 557535150 | L37: ILS | M37: 870000 | N37: 870000 | O37: 0 | P37: לשכת מנכל | Q37: 0 | R37: 3531.01 | S37: N
A38: 32 | B38: 4502352321 | D38: =VLOOKUP(B38,גיליון2!$A$2:$C$133,2,FALSE) -> 41-30-01-21 | E38: =VLOOKUP(B38,גיליון2!$A$2:$C$133,3,FALSE) -> ייעוץ בקרה וליווי | F38: 40295117 | G38: מידע שיווקי (סי.איי.) - יועצים בע"מ | H38: סיוע וליווי רשות המים בתהליכי שיתוף ציבור | I38: 45139 | J38: 45869 | K38: 512280959 | L38: ILS | M38: 966795.12 | N38: 966795.12 | O38: 0 | P38: לשכת מנכל | Q38: 0 | R38: 4943.25 | S38: N
A39: 33 | B39: 4502353892 | D39: =VLOOKUP(B39,גיליון2!$A$2:$C$133,2,FALSE) -> 73-30-01-05 | E39: =VLOOKUP(B39,גיליון2!$A$2:$C$133,3,FALSE) -> פיתוח ותחזוקת מערכות | F39: 40001463 | G39: נבו הוצאה לאור בע"מ | H39: חידוש דו שנתי לשימוש במאגר משפטי נבו | I39: 45161 | J39: 45891 | K39: 512539503 | L39: ILS | M39: 20437.02 | N39: 0 | O39: 100 | P39: מערכות מידע | Q39: 20437.02 | R39: 2059.2 | S39: N
A40: 34 | B40: 4502353981 | D40: =VLOOKUP(B40,גיליון2!$A$2:$C$133,2,FALSE) -> 73-30-01-03 | E40: =VLOOKUP(B40,גיליון2!$A$2:$C$133,3,FALSE) -> איכות מים- ניטור | F40: 40963745 | G40: גי. אמ. אקס מערכות בע"מ | H40: מתוך תיקוני שבר-זמן חיבור למכשיר RTK | I40: 45139 | J40: 45504 | K40: 514872001 | L40: ILS | M40: 2808 | N40: 0 | O40: 100 | P40: הידרולוגי | Q40: 2808 | R40: 587.34 | S40: N
A41: 35 | B41: 4502353801 | D41: =VLOOKUP(B41,גיליון2!$A$2:$C$133,2,FALSE) -> 41-30-01-19 | E41: =VLOOKUP(B41,גיליון2!$A$2:$C$133,3,FALSE) -> פעולות מנהל וארגון | F41: 41600673 | G41: עמיאל יצחק אלנתן | H41: חותמות עבור עובדים | I41: 45110 | J41: 45476 | K41: 036500510 | L41: ILS | M41: 5000 | N41: 5000 | O41: 0 | P41: בנא"מ | Q41: 0 | R41: 11945.76 | S41: N
A42: 37 | B42: 4502354433 | D42: =VLOOKUP(B42,גיליון2!$A$2:$C$133,2,FALSE) -> 73-30-01-05 | E42: =VLOOKUP(B42,גיליון2!$A$2:$C$133,3,FALSE) -> פיתוח ותחזוקת מערכות | F42: 40001244 | G42: דנגוט מחשבים בע"מ | H42: רכישת מתכלים, שירותי תחזוקה ואחריות ושירותי חכירה | I42: 45161 | J42: 46934 | K42: 511398836 | L42: ILS | M42: 9799.92 | N42: 9799.92 | O42: 0 | P42: מערכות מידע | Q42: 0 | R42: 8274.1 | S42: N
A43: 38 | B43: 4502354877 | D43: =VLOOKUP(B43,גיליון2!$A$2:$C$133,2,FALSE) -> 41-30-01-20 | E43: =VLOOKUP(B43,גיליון2!$A$2:$C$133,3,FALSE) -> הדרכה ורווחה | F43: 41137859 | G43: קהלני אביגדור | H43: רכישת ספרים לעובדי רשות המים | I43: 45187 | J43: 45187 | K43: 001569250 | L43: ILS | M43: 4680 | N43: 0 | O43: 100 | P43: משאבי אנוש | Q43: 4680 | R43: 119225.44 | S43: N
A44: 39 | B44: 4502354887 | D44: =VLOOKUP(B44,גיליון2!$A$2:$C$133,2,FALSE) -> 41-30-01-20 | E44: =VLOOKUP(B44,גיליון2!$A$2:$C$133,3,FALSE) -> הדרכה ורווחה | F44: 40468736 | G44: נוי רויטל | H44: רכישת שי צידניות עבור עובדי רשות המים | I44: 45125 | J44: 45125 | K44: 024417974 | L44: ILS | M44: 7956 | N44: 0 | O44: 100 | P44: משאבי אנוש | Q44: 7956 | R44: 422286.93 | S44: N
A45: 40 | B45: 4502355186 | D45: =VLOOKUP(B45,גיליון2!$A$2:$C$133,2,FALSE) -> 41-30-01-19 | E45: =VLOOKUP(B45,גיליון2!$A$2:$C$133,3,FALSE) -> פעולות מנהל וארגון | F45: 40005349 | G45: קלמן ברמן (רקמה ודגלים) 2003 בע"מ | H45: דגלי קונוס ללשכת מנכ"ל | I45: 45139 | J45: 45291 | K45: 513425504 | L45: ILS | M45: 9828 | N45: 0 | O45: 100 | P45: בנא"מ | Q45: 9828 | R45: 3608.28 | S45: N
...

Sheet גיליון2
A1: מסמך רכישה | B1: פריט התחייבות | C1: תיאור תקנה תקציבית
A2: 4502344473 | B2: 41-30-01-19 | C2: פעולות מנהל וארגון
A3: 4502344840 | B3: 41-30-01-21 | C3: ייעוץ בקרה וליווי
A4: 4502344963 | B4: 41-30-01-19 | C4: פעולות מנהל וארגון
A5: 4502344978 | B5: 41-30-01-19 | C5: פעולות מנהל וארגון
A6: 4502344992 | B6: 41-30-01-19 | C6: פעולות מנהל וארגון
A7: 4502345715 | B7: 41-30-01-26 | C7: היערכות משק המים לשע
A8: 4502346133 | B8: 73-30-01-05 | C8: פיתוח ותחזוקת מערכות
A9: 4502346144 | B9: 73-30-01-05 | C9: פיתוח ותחזוקת מערכות
A10: 4502346422 | B10: 41-30-01-22 | C10: חסכון במים הסברה
A11: 4502346686 | B11: 73-30-01-23 | C11: הנחה בתעריפי מים
A12: 4502346707 | B12: 73-30-01-03 | C12: איכות מים- ניטור
... A45: 4502356067 | B45: 41-30-01-19 | C45: פעולות מנהל וארגון
A46: 4502356067 | C46: פעולות מנהל וארגון
A47: 4502356713 | B47: 73-30-01-03 | C47: איכות מים- ניטור
A48: 4502356932 | B48: 41-30-01-22 | C48: חסכון במים הסברה
A49: 4502358098 | B49: 73-30-01-03 | C49: איכות מים- ניטור
A50: 4502358361 | B50: 73-30-01-03 | C50: איכות מים- ניטור
A51: 4502358518 | B51: 73-30-01-03 | C51: איכות מים- ניטור
A52: 4502359084 | B52: 41-30-01-22 | C52: חסכון במים הסברה
A53: 4502359104 | B53: 73-30-01-03 | C53: איכות מים- ניטור
A54: 4502359174 | B54: 73-30-01-03 | C54: איכות מים- ניטור
A55: 4502360290 | B55: 73-30-01-05 | C55: פיתוח ותחזוקת מערכות
A56: 4502360609 | B56: 73-30-01-05 | C56: פיתוח ותחזוקת מערכות
A57: 4502360630 | B57: 41-30-01-10 | C57: הוצאות תפעול
A58: 4502361299 | B58: 73-30-01-05 | C58: פיתוח ותחזוקת מערכות
... A133: 4502376802 | B133: 41-30-01-20 | C133: הדרכה ורווחה
