Workbook

Sheet גליון 1
E2: דוח חוק חופש המידע עבור רבעון 3 לשנת 2023
A7: מס"ד | B7: מסמך רכישה | C7: שם חברה | D7: מספר תקנה | E7: שם תקנה | F7: ספק | G7: שם הספק | H7: טקסט כותרת | I7: התחלת תקופת תוקף | J7: סיום תקופת תוקף | K7: מספר רישום מע"מ | L7: מטבע | M7: ערך הזמנה כולל מע"מ | N7: ביצוע חשבוניות כולל מע"מ והצמדות במט"מ | O7: יתרת הזמנות נומינלית כולל מע"מ | P7: סימוכין שלך | Q7: ערך הזמנה במט"מ | R7: ביצוע ערך קבלות הטובין במט"מ | S7: הזמנות רגישות
A8: 1 | B8: 4502344473 | C8: הרשות למים ולביוב | D8: =VLOOKUP(B8,גיליון2!$A$2:$C$133,2,FALSE) -> 41-30-01-19 | E8: =VLOOKUP(B8,גיליון2!$A$2:$C$133,3,FALSE) -> פעולות מנהל וארגון | F8: 40004081 | G8: צבאבא יצחק | H8: רכישת עציצים עבור בניין ג'נרי | I8: 45109 | J8: 45291 | K8: 058851007 | L8: ILS | M8: 35679.15 | N8: 0 | O8: 100 | P8: בנא"מ | Q8: 35679.15 | R8: 6393.08 | S8: N
A9: 2 | B9: 4502344840 | D9: =VLOOKUP(B9,גיליון2!$A$2:$C$133,2,FALSE) -> 41-30-01-21 | E9: =VLOOKUP(B9,גיליון2!$A$2:$C$133,3,FALSE) -> ייעוץ בקרה וליווי | F9: 40572196 | G9: עדי מרדכי אודי | H9: שמאי אגרונום חקלאי לצורך ליווי בהליכים משפטיים | I9: 45110 | J9: 45475 | K9: 054548979 | L9: ILS | M9: 7839 | N9: 7839 | O9: 0 | P9: לשכה משפטית | Q9: 0 | R9: 1165 | S9: N
A10: 3 | B10: 4502344992 | D10: =VLOOKUP(B10,גיליון2!$A$2:$C$133,2,FALSE) -> 41-30-01-19 | E10: =VLOOKUP(B10,גיליון2!$A$2:$C$133,3,FALSE) -> פעולות מנהל וארגון | F10: 40007139 | G10: תג נאור בע"מ | H10: כרטיסי תעודה לפקחים הידרומטריה | I10: 45110 | J10: 45291 | K10: 512477845 | L10: ILS | M10: 327.6 | N10: 0 | O10: 100 | P10: בנא"מ | Q10: 327.6 | R10: 5157.84 | S10: N
A11: 4 | B11: 4502344963 | D11: =VLOOKUP(B11,גיליון2!$A$2:$C$133,2,FALSE) -> 41-30-01-19 | E11: =VLOOKUP(B11,גיליון2!$A$2:$C$133,3,FALSE) -> פעולות מנהל וארגון | F11: 40001103 | G11: קרביץ (1974) בעמ | H11: מוצרי קפה עד למחצית שניה שנת 2023 | I11: 45110 | J11: 45291 | K11: 510674039 | L11: ILS | M11: 4359.83 | N11: 751.55 | O11: 82.74 | P11: בנא"מ | Q11: 3608.28 | R11: 39592.8 | S11: N
A12: 6 | B12: 4502344978 | D12: =VLOOKUP(B12,גיליון2!$A$2:$C$133,2,FALSE) -> 41-30-01-19 | E12: =VLOOKUP(B12,גיליון2!$A$2:$C$133,3,FALSE) -> פעולות מנהל וארגון | F12: 40001103 | G12: קרביץ (1974) בעמ | H12: נייר צילום משרדי 4A | I12: 45110 | J12: 45566 | K12: 510674039 | L12: ILS | M12: 5399.78 | N12: 5399.78 | O12: 0 | P12: בנא"מ | Q12: 0 | R12: 327.6 | S12: N
A13: 7 | B13: 4502345715 | D13: =VLOOKUP(B13,גיליון2!$A$2:$C$133,2,FALSE) -> 41-30-01-26 | E13: =VLOOKUP(B13,גיליון2!$A$2:$C$133,3,FALSE) -> היערכות משק המים לשע | F13: 40001211 | G13: מלון שלום (אילת) בע"מ | H13: כנס תרגיל סייבר להנהלה | I13: 45126 | J13: 45126 | K13: 511218661 | L13: ILS | M13: 14625 | N13: 0 | O13: 100 | P13: בטחון מים | Q13: 14625 | R13: 14625 | S13: N
A14: 8 | B14: 4502346144 | D14: =VLOOKUP(B14,גיליון2!$A$2:$C$133,2,FALSE) -> 73-30-01-05 | E14: =VLOOKUP(B14,גיליון2!$A$2:$C$133,3,FALSE) -> פיתוח ותחזוקת מערכות | F14: 42410755 | G14: מקיט מוצרי תוכנה בע"מ | H14: חידוש רישון לתוכנת WATERCAD | I14: 45139 | J14: 45504 | K14: 516549011 | L14: ILS | M14: 6393.08 | N14: 0 | O14: 107.47 | P14: מערכות מידע | Q14: 6393.08 | R14: 1204.79 | S14: N
A15: 9 | B15: 4502346422 | D15: =VLOOKUP(B15,גיליון2!$A$2:$C$133,2,FALSE) -> 41-30-01-22 | E15: =VLOOKUP(B15,גיליון2!$A$2:$C$133,3,FALSE) -> חסכון במים הסברה | F15: 41033319 | G15: אס.אמ.או. מיתוג במדיה חברתית בע"מ | H15: שירותי ניו מדיה והפקת תוכן | I15: 45094 | J15: 45461 | K15: 514823889 | L15: ILS | M15: 140000.09 | N15: 112100.19 | O15: 19.93 | P15: דוברות | Q15: 27899.9 | R15: 24827.4 | S15: N
A16: 10 | B16: 4502346133 | D16: =VLOOKUP(B16,גיליון2!$A$2:$C$133,2,FALSE) -> 73-30-01-05 | E16: =VLOOKUP(B16,גיליון2!$A$2:$C$133,3,FALSE) -> פיתוח ותחזוקת מערכות | F16: 40012286 | G16: סיסטמטיקס בעמ | H16: חידוש שנתי לרישיון תוכנת MATLAB | I16: 45170 | J16: 45535 | K16: 557665999 | L16: ILS | M16: 8756.33 | N16: 8026.62 | O16: 8.33 | P16: מערכות מידע | Q16: 729.71 | R16: 7670.52 | S16: N
A17: 11 | B17: 4502346686 | D17: =VLOOKUP(B17,גיליון2!$A$2:$C$133,2,FALSE) -> 73-30-01-23 | E17: =VLOOKUP(B17,גיליון2!$A$2:$C$133,3,FALSE) -> הנחה בתעריפי מים | F17: 40015077 | G17: אם גרופ- מ.ג.ע.ר בע"מ | H17: מימוש אופציה 4 עבור הקמת מוקד טלפוני לניתוב | I17: 45153 | J17: 45518 | K17: 511464927 | L17: ILS | M17: 90558 | N17: 83011.5 | O17: 8.33 | P17: אסדרה | Q17: 7546.5 | R17: 554.58 | S17: N
A18: 12 | B18: 4502346707 | D18: =VLOOKUP(B18,גיליון2!$A$2:$C$133,2,FALSE) -> 73-30-01-03 | E18: =VLOOKUP(B18,גיליון2!$A$2:$C$133,3,FALSE) -> איכות מים- ניטור | F18: 40328129 | G18: ד.מ. (3000) הנדסה בע"מ | H18: ציוד מולטימדיה והרחבות עבור תצוגות רשום המים במטא | I18: 45113 | J18: 45489 | K18: 513228726 | L18: ILS | M18: 85133.17 | N18: 85133.17 | O18: 0 | P18: מערכות מידע | Q18: 0 | R18: 20437.02 | S18: N
A19: 13 | B19: 4502348909 | D19: =VLOOKUP(B19,גיליון2!$A$2:$C$133,2,FALSE) -> 41-30-01-10 | E19: =VLOOKUP(B19,גיליון2!$A$2:$C$133,3,FALSE) -> הוצאות תפעול | F19: 41111486 | G19: אלייד - ג'נרי 2 בע"מ | H19: העתקת תשתית חשמל | I19: 45119 | J19: 45291 | K19: 514961853 | L19: ILS | M19: 1204.79 | N19: 0 | O19: 100 | P19: בנא"מ | Q19: 1204.79 | R19: 2808 | S19: N
A20: 14 | B20: 4502349192 | D20: =VLOOKUP(B20,גיליון2!$A$2:$C$133,2,FALSE) -> 73-30-01-19 | E20: =VLOOKUP(B20,גיליון2!$A$2:$C$133,3,FALSE) -> תכנון בקרה וייעוץ | F20: 40010827 | G20: ד.ה.ב. מד בע"מ | H20: תכנית מסגרת לפריסה ואיחוד משטים ובחינה סטטוטורית | I20: 45096 | J20: 45461 | K20: 512307265 | L20: ILS | M20: 471159 | N20: 49765.88 | O20: 89.44 | P20: תכנון | Q20: 422286.93 | R20: 0 | S20: N
A21: 15 | B21: 4502349240 | D21: 41-30-01-20 | E21: הדרכה ורווחה | F21: 10000020 | G21: משרד ראש הממשלה | H21: הכשרה מקצועית לשימוש בכלי בינה מלאכותית לייעול תהליך | I21: 45119 | J21: 45154 | K21: 500100037 | L21: ILS | M21: 2500 | N21: 2500 | O21: 0 | P21: משאבי אנוש | Q21: 0 | R21: 4680 | S21: N
A22: 16 | B22: 4502349241 | D22: =VLOOKUP(B22,גיליון2!$A$2:$C$133,2,FALSE) -> 41-30-01-20 | E22: =VLOOKUP(B22,גיליון2!$A$2:$C$133,3,FALSE) -> הדרכה ורווחה | F22: 40003393 | G22: ענבל חברה לביטוח בע"מ-מקבל הלואות | H22: קורס חשבי שכר בכיר | I22: 45131 | J22: 45271 | K22: 520031030 | L22: ILS | M22: 8400 | N22: 8400 | O22: 0 | P22: משאבי אנוש | Q22: 0 | R22: 7956 | S22: N
A23: 17 | B23: 4502350116 | D23: =VLOOKUP(B23,גיליון2!$A$2:$C$133,2,FALSE) -> 41-30-01-19 | E23: =VLOOKUP(B23,גיליון2!$A$2:$C$133,3,FALSE) -> פעולות מנהל וארגון | F23: 40001174 | G23: פלאפון תקשורת בע"מ | H23: רכישת טלפונים ניידים עבור עובדי הפיקוח ברשות | I23: 45139 | J23: 45291 | K23: 511076572 | L23: ILS | M23: 24827.4 | N23: 0 | O23: 100 | P23: בנא"מ | Q23: 24827.4 | R23: 9828 | S23: N
A24: 18 | B24: 4502350201 | D24: =VLOOKUP(B24,גיליון2!$A$2:$C$133,2,FALSE) -> 41-30-01-20 | E24: =VLOOKUP(B24,גיליון2!$A$2:$C$133,3,FALSE) -> הדרכה ורווחה | F24: 42071754 | G24: דליקרים אירועים | H24: הפעלה ל happy hour | I24: 45144 | J24: 45169 | K24: 558353207 | L24: ILS | M24: 7670.52 | N24: 0 | O24: 100 | P24: משאבי אנוש | Q24: 7670.52 | R24: 49842 | S24: N
A25: 19 | B25: 4502350202 | D25: =VLOOKUP(B25,גיליון2!$A$2:$C$133,2,FALSE) -> 41-30-01-20 | E25: =VLOOKUP(B25,גיליון2!$A$2:$C$133,3,FALSE) -> הדרכה ורווחה | F25: 41897401 | G25: כהן שי | H25: השתתפות בוועדת בוחנים | I25: 45105 | J25: 45105 | K25: 55467344 | L25: ILS | M25: 554.58 | N25: 0 | O25: 100 | P25: משאבי אנוש | Q25: 554.58 | R25: 19457.1 | S25: N
A26: 20 | B26: 4502350172 | D26: =VLOOKUP(B26,גיליון2!$A$2:$C$133,2,FALSE) -> 41-30-01-19 | E26: =VLOOKUP(B26,גיליון2!$A$2:$C$133,3,FALSE) -> פעולות מנהל וארגון | F26: 40386741 | G26: טריבייס בע"מ | H26: הנגשת מסמכים עבור רשות המים | I26: 45116 | J26: 45481 | K26: 514063668 | L26: ILS | M26: 175500 | N26: 175500 | O26: 0 | P26: דוברות | Q26: 0 | R26: 1755 | S26: N
A27: 21 | B27: 4502350217 | D27: =VLOOKUP(B27,גיליון2!$A$2:$C$133,2,FALSE) -> 41-30-01-20 | E27: =VLOOKUP(B27,גיליון2!$A$2:$C$133,3,FALSE) -> הדרכה ורווחה | F27: 40397632 | G27: מטריקס אי. טי. בע"מ | H27: בחינת המבנה הארגוני ותהליכי העבודה ברשות המים | I27: 45153 | J27: 45883 | K27: 520039413 | L27: ILS | M27: 142501.32 | N27: 142501.32 | O27: 0 | P27: משאבי אנוש | Q27: 0 | R27: 0 | S27: N
A28: 22 | B28: 4502350501 | D28: =VLOOKUP(B28,גיליון2!$A$2:$C$133,2,FALSE) -> 73-30-01-05 | E28: =VLOOKUP(B28,גיליון2!$A$2:$C$133,3,FALSE) -> פיתוח ותחזוקת מערכות | F28: 41595704 | G28: מנדיי. קום בע"מ | H28: שדרוג רישיונות תוכנת MONDAY לסוג ENTERPRIZE | I28: 44927 | J28: 45291 | K28: 514744887 | L28: ILS | M28: 39592.8 | N28: 0 | O28: 100.07 | P28: מערכות מידע | Q28: 39592.8 | R28: 2563.28 | S28: N
A29: 23 | B29: 4502350319 | D29: =VLOOKUP(B29,גיליון2!$A$2:$C$133,2,FALSE) -> 73-30-01-19 | E29: =VLOOKUP(B29,גיליון2!$A$2:$C$133,3,FALSE) -> תכנון בקרה וייעוץ | F29: 42510285 | G29: בן יוסף אברהם | H29: השתתפות חבר ועדת שיפוט הבינמשרדית של המינהל לפיתוח | I29: 45139 | J29: 45504 | K29: 056668106 | L29: ILS | M29: 30940.65 | N29: 30940.65 | O29: 0 | P29: פיתוח | Q29: 0 | R29: 1857.14 | S29: N
A30: 24 | B30: 4502350323 | D30: =VLOOKUP(B30,גיליון2!$A$2:$C$133,2,FALSE) -> 73-30-01-19 | E30: =VLOOKUP(B30,גיליון2!$A$2:$C$133,3,FALSE) -> תכנון בקרה וייעוץ | F30: 42509885 | G30: קיטאי אהוד | H30: השתתפות חבר ועדת שיפוט הבינמשרדית של המינהל לפיתוח | I30: 45139 | J30: 45504 | K30: 053594362 | L30: ILS | M30: 30940.65 | N30: 30940.65 | O30: 0 | P30: פיתוח | Q30: 0 | R30: 35568 | S30: N
A31: 25 | B31: 4502351283 | D31: =VLOOKUP(B31,גיליון2!$A$2:$C$133,2,FALSE) -> 41-30-01-22 | E31: =VLOOKUP(B31,גיליון2!$A$2:$C$133,3,FALSE) -> חסכון במים הסברה | F31: 40009080 | G31: ב. ח. מיקו שיווק בע"מ | H31: רכישת ציוד עבור דובר רשות המים | I31: 45130 | J31: 45291 | K31: 512089152 | L31: ILS | M31: 4785.3 | N31: 4785.3 | O31: 0 | P31: דוברות | Q31: 0 | R31: 11349 | S31: N
A32: 26 | B32: 4502351292 | D32: =VLOOKUP(B32,גיליון2!$A$2:$C$133,2,FALSE) -> 73-30-01-03 | E32: =VLOOKUP(B32,גיליון2!$A$2:$C$133,3,FALSE) -> איכות מים- ניטור | F32: 40245661 | G32: ג. ז. ניסנית בע"מ | H32: אחזקת תחנות הדרומטריות | I32: 45125 | J32: 45291 | K32: 512025230 | L32: ILS | M32: 577407.87 | N32: 577407.87 | O32: 0 | P32: הידרולוגי | Q32: 0 | R32: 4954.95 | S32: N
A33: 27 | B33: 4502351402 | D33: =VLOOKUP(B33,גיליון2!$A$2:$C$133,2,FALSE) -> 41-30-01-22 | E33: =VLOOKUP(B33,גיליון2!$A$2:$C$133,3,FALSE) -> חסכון במים הסברה | F33: 40019238 | G33: האגודה הישראלית לאקולוגיה ולמדעי הס | H33: חסות עבור הוועידה השנתית למדע ולסביבה ה-51 | I33: 45119 | J33: 45120 | K33: 580020238 | L33: ILS | M33: 12500 | N33: 12500 | O33: 0 | P33: תפעול | Q33: 0 | R33: 1553.76 | S33: N
A34: 28 | B34: 4502351666 | D34: =VLOOKUP(B34,גיליון2!$A$2:$C$133,2,FALSE) -> 73-30-01-19 | E34: =VLOOKUP(B34,גיליון2!$A$2:$C$133,3,FALSE) -> תכנון בקרה וייעוץ | F34: 42469411 | G34: גפן ירון | H34: תכנון אב לגליל עליון- תגבור הספקה למעלה כנרת. | I34: 45130 | J34: 45860 | K34: 027378934 | L34: ILS | M34: 622838 | N34: 622838 | O34: 0 | P34: תכנון | Q34: 0 | R34: 28946.69 | S34: N
A35: 29 | B35: 4502351688 | D35: =VLOOKUP(B35,גיליון2!$A$2:$C$133,2,FALSE) -> 41-30-01-19 | E35: =VLOOKUP(B35,גיליון2!$A$2:$C$133,3,FALSE) -> פעולות מנהל וארגון | F35: 41003244 | G35: משרד סוכנות/האוצר נסיעות ממשלתית | H35: נסיעת עבודה | I35: 45049 | J35: 45051 | K35: 500107321 | L35: ILS | M35: 2590.4 | N35: 2590.4 | O35: 0 | P35: נסיעות לחו"ל | Q35: 0 | R35: 587.34 | S35: N
A36: 30 | B36: 4502351701 | D36: =VLOOKUP(B36,גיליון2!$A$2:$C$133,2,FALSE) -> 41-30-01-19 | E36: =VLOOKUP(B36,גיליון2!$A$2:$C$133,3,FALSE) -> פעולות מנהל וארגון | F36: 41003244 | G36: משרד סוכנות/האוצר נסיעות ממשלתית | H36: תשלום אשרת כניסה | I36: 44983 | J36: 44988 | K36: 500107321 | L36: ILS | M36: 1667.25 | N36: 1667.25 | O36: 0 | P36: נסיעות לחו"ל | Q36: 0 | R36: 474 | S36: N
A37: 31 | B37: 4502352273 | D37: =VLOOKUP(B37,גיליון2!$A$2:$C$133,2,FALSE) -> 41-30-01-21 | E37: =VLOOKUP(B37,גיליון2!$A$2:$C$133,3,FALSE) -> ייעוץ בקרה וליווי | F37: 40211218 | G37: שיף הזנפרץ ושות',ייעוץ | H37: מתן שירותי ביקורת פנים | I37: 45130 | J37: 45495 | K37: 557535150 | L37: ILS | M37: 870000 | N37: 870000 | O37: 0 | P37: לשכת מנכל | Q37: 0 | R37: 3531.01 | S37: N
A38: 32 | B38: 4502352321 | D38: =VLOOKUP(B38,גיליון2!$A$2:$C$133,2,FALSE) -> 41-30-01-21 | E38: =VLOOKUP(B38,גיליון2!$A$2:$C$133,3,FALSE) -> ייעוץ בקרה וליווי | F38: 40295117 | G38: מידע שיווקי (סי.איי.) - יועצים בע"מ | H38: סיוע וליווי רשות המים בתהליכי שיתוף ציבור | I38: 45139 | J38: 45869 | K38: 512280959 | L38: ILS | M38: 966795.12 | N38: 966795.12 | O38: 0 | P38: לשכת מנכל | Q38: 0 | R38: 4943.25 | S38: N
A39: 33 | B39: 4502353892 | D39: =VLOOKUP(B39,גיליון2!$A$2:$C$133,2,FALSE) -> 73-30-01-05 | E39: =VLOOKUP(B39,גיליון2!$A$2:$C$133,3,FALSE) -> פיתוח ותחזוקת מערכות | F39: 40001463 | G39: נבו הוצאה לאור בע"מ | H39: חידוש דו שנתי לשימוש במאגר משפטי נבו | I39: 45161 | J39: 45891 | K39: 512539503 | L39: ILS | M39: 20437.02 | N39: 0 | O39: 100 | P39: מערכות מידע | Q39: 20437.02 | R39: 2059.2 | S39: N
A40: 34 | B40: 4502353981 | D40: =VLOOKUP(B40,גיליון2!$A$2:$C$133,2,FALSE) -> 73-30-01-03 | E40: =VLOOKUP(B40,גיליון2!$A$2:$C$133,3,FALSE) -> איכות מים- ניטור | F40: 40963745 | G40: גי. אמ. אקס מערכות בע"מ | H40: מתוך תיקוני שבר-זמן חיבור למכשיר RTK | I40: 45139 | J40: 45504 | K40: 514872001 | L40: ILS | M40: 2808 | N40: 0 | O40: 100 | P40: הידרולוגי | Q40: 2808 | R40: 587.34 | S40: N
A41: 35 | B41: 4502353801 | D41: =VLOOKUP(B41,גיליון2!$A$2:$C$133,2,FALSE) -> 41-30-01-19 | E41: =VLOOKUP(B41,גיליון2!$A$2:$C$133,3,FALSE) -> פעולות מנהל וארגון | F41: 41600673 | G41: עמיאל יצחק אלנתן | H41: חותמות עבור עובדים | I41: 45110 | J41: 45476 | K41: 036500510 | L41: ILS | M41: 5000 | N41: 5000 | O41: 0 | P41: בנא"מ | Q41: 0 | R41: 11945.76 | S41: N
A42: 37 | B42: 4502354433 | D42: =VLOOKUP(B42,גיליון2!$A$2:$C$133,2,FALSE) -> 73-30-01-05 | E42: =VLOOKUP(B42,גיליון2!$A$2:$C$133,3,FALSE) -> פיתוח ותחזוקת מערכות | F42: 40001244 | G42: דנגוט מחשבים בע"מ | H42: רכישת מתכלים, שירותי תחזוקה ואחריות ושירותי חכירה | I42: 45161 | J42: 46934 | K42: 511398836 | L42: ILS | M42: 9799.92 | N42: 9799.92 | O42: 0 | P42: מערכות מידע | Q42: 0 | R42: 8274.1 | S42: N
A43: 38 | B43: 4502354877 | D43: =VLOOKUP(B43,גיליון2!$A$2:$C$133,2,FALSE) -> 41-30-01-20 | E43: =VLOOKUP(B43,גיליון2!$A$2:$C$133,3,FALSE) -> הדרכה ורווחה | F43: 41137859 | G43: קהלני אביגדור | H43: רכישת ספרים לעובדי רשות המים | I43: 45187 | J43: 45187 | K43: 001569250 | L43: ILS | M43: 4680 | N43: 0 | O43: 100 | P43: משאבי אנוש | Q43: 4680 | R43: 119225.44 | S43: N
A44: 39 | B44: 4502354887 | D44: =VLOOKUP(B44,גיליון2!$A$2:$C$133,2,FALSE) -> 41-30-01-20 | E44: =VLOOKUP(B44,גיליון2!$A$2:$C$133,3,FALSE) -> הדרכה ורווחה | F44: 40468736 | G44: נוי רויטל | H44: רכישת שי צידניות עבור עובדי רשות המים | I44: 45125 | J44: 45125 | K44: 024417974 | L44: ILS | M44: 7956 | N44: 0 | O44: 100 | P44: משאבי אנוש | Q44: 7956 | R44: 422286.93 | S44: N
A45: 40 | B45: 4502355186 | D45: =VLOOKUP(B45,גיליון2!$A$2:$C$133,2,FALSE) -> 41-30-01-19 | E45: =VLOOKUP(B45,גיליון2!$A$2:$C$133,3,FALSE) -> פעולות מנהל וארגון | F45: 40005349 | G45: קלמן ברמן (רקמה ודגלים) 2003 בע"מ | H45: דגלי קונוס ללשכת מנכ"ל | I45: 45139 | J45: 45291 | K45: 513425504 | L45: ILS | M45: 9828 | N45: 0 | O45: 100 | P45: בנא"מ | Q45: 9828 | R45: 3608.28 | S45: N
A46: 41 | B46: 4502355210 | D46: =VLOOKUP(B46,גיליון2!$A$2:$C$133,2,FALSE) -> 73-30-01-03 | E46: =VLOOKUP(B46,גיליון2!$A$2:$C$133,3,FALSE) -> איכות מים- ניטור | F46: 40004082 | G46: גלבוע שלמה | H46: למתן שירותים לביצוע מטלות סידור מסמכים בארכיון | I46: 45137 | J46: 45322 | K46: 059149880 | L46: ILS | M46: 49912.2 | N46: 35886.24 | O46: 28.1 | P46: הידרולוגי | Q46: 14025.96 | R46: 14841.56 | S46: N
A47: 42 | B47: 4502355387 | D47: =VLOOKUP(B47,גיליון2!$A$2:$C$133,2,FALSE) -> 73-30-01-03 | E47: =VLOOKUP(B47,גיליון2!$A$2:$C$133,3,FALSE) -> איכות מים- ניטור | F47: 40001054 | G47: המכון הגיאופיסי לישראל | H47: סקר גיאוחשמלי באזור קידוח פארק הירקון | I47: 45139 | J47: 45869 | K47: 510167414 | L47: ILS | M47: 49959 | N47: 49959 | O47: 0 | P47: הידרולוגי | Q47: 0 | R47: 14025.96 | S47: N
A48: 43 | B48: 4502355389 | D48: =VLOOKUP(B48,גיליון2!$A$2:$C$133,2,FALSE) -> 73-30-01-03 | E48: =VLOOKUP(B48,גיליון2!$A$2:$C$133,3,FALSE) -> איכות מים- ניטור | F48: 41340414 | G48: טאטה קונסולטנסי סרויסס לימיטד | H48: סיוע בניתוח סטטיסטי ופיתוח כלים כמותיים | I48: 45139 | J48: 45504 | K48: 560022626 | L48: ILS | M48: 35100 | N48: 35100 | O48: 0 | P48: הידרולוגי | Q48: 0 | R48: 27899.9 | S48: N
... A66: 61 | B66: 4502361463 | D66: =VLOOKUP(B66,גיליון2!$A$2:$C$133,2,FALSE) -> 41-30-01-19 | E66: =VLOOKUP(B66,גיליון2!$A$2:$C$133,3,FALSE) -> פעולות מנהל וארגון | F66: 40931516 | G66: דיאיי טכנולוגיות בע"מ | H66: שכירת מדיחי כלים לשטיפה מהירה | I66: 45153 | J66: 45350 | K66: 511765596 | L66: ILS | M66: 1755 | N66: 0 | O66: 100 | P66: בנא"מ | Q66: 1755 | R66: 0 | S66: N
A67: 62 | B67: 4502363239 | D67: =VLOOKUP(B67,גיליון2!$A$2:$C$133,2,FALSE) -> 41-30-01-13 | E67: =VLOOKUP(B67,גיליון2!$A$2:$C$133,3,FALSE) -> השתתפות במנהל דיור | F67: 10000192 | G67: מינהל הדיור הממשלתי | H67: הכנת פרוגרמה הרחבת נכס צח"ר ע"פ חיוב בין משרדי הממשלה | I67: 45137 | J67: 45169 | K67: 500105994 | L67: ILS | M67: 5023.8 | N67: 0 | O67: 100 | P67: בנא"מ | Q67: 0 | R67: 0 | S67: N
A68: 63 | B68: 4502363279 | D68: =VLOOKUP(B68,גיליון2!$A$2:$C$133,2,FALSE) -> 41-30-01-19 | E68: =VLOOKUP(B68,גיליון2!$A$2:$C$133,3,FALSE) -> פעולות מנהל וארגון | F68: 41089998 | G68: קפה גרג מאוד סינמה סיטי ירושלים בע" | H68: כיבוד לאירועים לעובדי רשות המים | I68: 45170 | J68: 45535 | K68: 514911395 | L68: ILS | M68: 50000 | N68: 41095.87 | O68: 17.81 | P68: בנא"מ | Q68: 11516.31 | R68: 0 | S68: N
A69: 65 | B69: 4502363810 | D69: =VLOOKUP(B69,גיליון2!$A$2:$C$133,2,FALSE) -> 41-30-01-26 | E69: =VLOOKUP(B69,גיליון2!$A$2:$C$133,3,FALSE) -> היערכות משק המים לשע | F69: 70000974 | G69: משטרת ישראל | H69: ליווי משטרתי | I69: 45158 | J69: 45162 | K69: 500101944 | L69: ILS | M69: 2190.84 | N69: 0 | O69: 100 | P69: אסטרטגיה | Q69: 2563.28 | R69: 0 | S69: N
A70: 66 | B70: 4502363540 | D70: =VLOOKUP(B70,גיליון2!$A$2:$C$133,2,FALSE) -> 41-30-01-19 | E70: =VLOOKUP(B70,גיליון2!$A$2:$C$133,3,FALSE) -> פעולות מנהל וארגון | F70: 40200779 | G70: א"ד מירז תעשיות בע"מ | H70: ריהוט משרדי | I70: 45159 | J70: 45473 | K70: 511402125 | L70: ILS | M70: 12364.57 | N70: 12364.57 | O70: 0 | P70: בנא"מ | Q70: 0 | R70: 0 | S70: N
A71: 67 | B71: 4502363551 | D71: =VLOOKUP(B71,גיליון2!$A$2:$C$133,2,FALSE) -> 41-30-01-19 | E71: =VLOOKUP(B71,גיליון2!$A$2:$C$133,3,FALSE) -> פעולות מנהל וארגון | F71: 40200779 | G71: א"ד מירז תעשיות בע"מ | H71: ריהוט משרדי | I71: 45159 | J71: 45473 | K71: 511402125 | L71: ILS | M71: 2091.97 | N71: 2091.97 | O71: 0 | P71: בנא"מ | Q71: 0 | R71: 0 | S71: N
A72: 68 | B72: 4502364223 | D72: =VLOOKUP(B72,גיליון2!$A$2:$C$133,2,FALSE) -> 73-30-01-19 | E72: =VLOOKUP(B72,גיליון2!$A$2:$C$133,3,FALSE) -> תכנון בקרה וייעוץ | F72: 40481732 | G72: מלגר- תכנון אורבני, תחבורה, תשתיות | H72: סיוע בטיפול במענה לתיאום תשתיות תכנון | I72: 45162 | J72: 45527 | K72: 514437094 | L72: ILS | M72: 250000 | N72: 250000 | O72: 0 | P72: תכנון | Q72: 0 | R72: 0 | S72: N
A73: 69 | B73: 4502364272 | D73: =VLOOKUP(B73,גיליון2!$A$2:$C$133,2,FALSE) -> 73-30-01-05 | E73: =VLOOKUP(B73,גיליון2!$A$2:$C$133,3,FALSE) -> פיתוח ותחזוקת מערכות | F73: 40001244 | G73: דנגוט מחשבים בע"מ | H73: בנק שעות טיפול במדפסות רפרנטית: ליאור שמש מספר שי | I73: 45292 | J73: 45657 | K73: 511398836 | L73: ILS | M73: 4914 | N73: 4914 | O73: 0 | P73: מערכות מידע | Q73: 0 | R73: 0 | S73: N
A74: 70 | B74: 4502364315 | D74: =VLOOKUP(B74,גיליון2!$A$2:$C$133,2,FALSE) -> 73-30-01-05 | E74: =VLOOKUP(B74,גיליון2!$A$2:$C$133,3,FALSE) -> פיתוח ותחזוקת מערכות | F74: 40180142 | G74: פקס חוזר 2000 בע"מ | H74: שירותי פקס ממוחשב | I74: 45292 | J74: 45657 | K74: 512956863 | L74: ILS | M74: 9350.64 | N74: 9350.64 | O74: 0 | P74: מערכות מידע | Q74: 0 | R74: 0 | S74: N
A75: 71 | B75: 4502364317 | D75: =VLOOKUP(B75,גיליון2!$A$2:$C$133,2,FALSE) -> 73-30-01-05 | E75: =VLOOKUP(B75,גיליון2!$A$2:$C$133,3,FALSE) -> פיתוח ותחזוקת מערכות | F75: 40009639 | G75: מאגרי תוכנה (מ.ת.) בע"מ | H75: חידוש רישוי מערכת זום שנתי - 16 רישיונות | I75: 45292 | J75: 45657 | K75: 513442442 | L75: ILS | M75: 10587.84 | N75: 10587.84 | O75: 0 | P75: מערכות מידע | Q75: 0 | R75: 0 | S75: N
A76: 72 | B76: 4502364636 | D76: =VLOOKUP(B76,גיליון2!$A$2:$C$133,2,FALSE) -> 41-30-01-19 | E76: =VLOOKUP(B76,גיליון2!$A$2:$C$133,3,FALSE) -> פעולות מנהל וארגון | F76: 40008948 | G76: רהיטי הכח (1991) בע"מ | H76: ריהוט משרדי | I76: 45161 | J76: 45473 | K76: 511599920 | L76: ILS | M76: 6709.37 | N76: 6709.37 | O76: 0 | P76: בנא"מ | Q76: 0 | R76: 0 | S76: N
A77: 73 | B77: 4502364824 | D77: =VLOOKUP(B77,גיליון2!$A$2:$C$133,2,FALSE) -> 41-30-01-19 | E77: =VLOOKUP(B77,גיליון2!$A$2:$C$133,3,FALSE) -> פעולות מנהל וארגון | F77: 40008948 | G77: רהיטי הכח (1991) בע"מ | H77: ריהוט משרדי | I77: 45161 | J77: 45473 | K77: 511599920 | L77: ILS | M77: 835.38 | N77: 835.38 | O77: 0 | P77: בנא"מ | Q77: 835.38 | R77: 0 | S77: N
A78: 74 | B78: 4502365021 | D78: =VLOOKUP(B78,גיליון2!$A$2:$C$133,2,FALSE) -> 73-30-01-05 | E78: =VLOOKUP(B78,גיליון2!$A$2:$C$133,3,FALSE) -> פיתוח ותחזוקת מערכות | F78: 41107698 | G78: טי אם ג'י סולושנס בע"מ | H78: אספקת מערכות ניהול ואבטחת מכשירים ניידים (‪EMM‬) | I78: 45292 | J78: 45657 | K78: 514196765 | L78: ILS | M78: 1857.14 | N78: 0 | O78: 100 | P78: מערכות מידע | Q78: 1857.14 | R78: 0 | S78: N
A79: 75 | B79: 4502365258 | D79: =VLOOKUP(B79,גיליון2!$A$2:$C$133,2,FALSE) -> 41-30-01-26 | E79: =VLOOKUP(B79,גיליון2!$A$2:$C$133,3,FALSE) -> היערכות משק המים לשע | F79: 41611919 | G79: תרין ארועים בע"מ | H79: כנס בטחון מים | I79: 45174 | J79: 45174 | K79: 515682938 | L79: ILS | M79: 35568 | N79: 0 | O79: 100 | P79: בטחון מים | Q79: 35568 | R79: 0 | S79: N
A80: 76 | B80: 4502365102 | D80: =VLOOKUP(B80,גיליון2!$A$2:$C$133,2,FALSE) -> 73-30-01-05 | E80: =VLOOKUP(B80,גיליון2!$A$2:$C$133,3,FALSE) -> פיתוח ותחזוקת מערכות | F80: 40001247 | G80: הראל טכנולוגיות מידע בע"מ | H80: הזמנת מחשב נייח לטובת מודלים | I80: 45162 | J80: 45432 | K80: 511401002 | L80: ILS | M80: 24413.96 | N80: 24413.96 | O80: 0 | P80: מערכות מידע | Q80: 0 | R80: 0 | S80: N
A81: 77 | B81: 4502365260 | D81: =VLOOKUP(B81,גיליון2!$A$2:$C$133,2,FALSE) -> 41-30-01-26 | E81: =VLOOKUP(B81,גיליון2!$A$2:$C$133,3,FALSE) -> היערכות משק המים לשע | F81: 41123709 | G81: גליל מערבי (1993) חברה להובלה בע"מ | H81: הפעלה בחירום של מיעלית מים | I81: 44964 | J81: 44964 | K81: 511822595 | L81: ILS | M81: 11948.04 | N81: 11948.04 | O81: 0 | P81: בטחון מים | Q81: 0 | R81: 0 | S81: N
... A87: 83 | B87: 4502366183 | D87: =VLOOKUP(B87,גיליון2!$A$2:$C$133,2,FALSE) -> 41-30-01-19 | E87: =VLOOKUP(B87,גיליון2!$A$2:$C$133,3,FALSE) -> פעולות מנהל וארגון | F87: 40003692 | G87: טופ-ליין יבוא ושיווק רהיטים בע"מ | H87: ריהוט משרדי | I87: 45166 | J87: 45350 | K87: 511613564 | L87: ILS | M87: 1553.76 | N87: 0 | O87: 100 | P87: בנא"מ | Q87: 1553.76 | R87: 0 | S87: N
A88: 84 | B88: 4502365949 | D88: =VLOOKUP(B88,גיליון2!$A$2:$C$133,2,FALSE) -> 73-30-01-25 | E88: =VLOOKUP(B88,גיליון2!$A$2:$C$133,3,FALSE) -> ייעוץ ופעולות בנושא | F88: 40012159 | G88: אי.אר.סי.ג'י. - קבוצת מחקר וייעוץ כ | H88: חוות דעת כלכלית בהליך בוררות מול מתקן התפלה אשקלון | I88: 45151 | J88: 46022 | K88: 513097642 | L88: ILS | M88: 600000.04 | N88: 600000.04 | O88: 0 | Q88: 0 | R88: 0 | S88: N
A89: 85 | B89: 4502366061 | D89: =VLOOKUP(B89,גיליון2!$A$2:$C$133,2,FALSE) -> 73-30-01-12 | E89: =VLOOKUP(B89,גיליון2!$A$2:$C$133,3,FALSE) -> מחקרים וסקרים | F89: 41608195 | G89: עדין אופקים בע"מ | H89: השתתפות חבר ועדה עליונה בשיפוט הצעות מחקר | I89: 45170 | J89: 45291 | K89: 513096651 | L89: ILS | M89: 11349 | N89: 11349 | O89: 0 | P89: מחקרים | Q89: 0 | R89: 0 | S89: N
A90: 87 | B90: 4502366322 | D90: =VLOOKUP(B90,גיליון2!$A$2:$C$133,2,FALSE) -> 41-30-01-10 | E90: =VLOOKUP(B90,גיליון2!$A$2:$C$133,3,FALSE) -> הוצאות תפעול | F90: 42520952 | G90: ורסולקר אייל | H90: מתן שירותי יעוץ לרכישה ולהפעלת רחפנים | I90: 45170 | J90: 45535 | K90: 039780275 | L90: ILS | M90: 50070.15 | N90: 50070.15 | O90: 0 | P90: בנא"ם | Q90: 0 | R90: 0 | S90: N
A91: 88 | B91: 4502367109 | D91: =VLOOKUP(B91,גיליון2!$A$2:$C$133,2,FALSE) -> 73-30-01-25 | E91: =VLOOKUP(B91,גיליון2!$A$2:$C$133,3,FALSE) -> ייעוץ ופעולות בנושא | F91: 40328532 | G91: נגה ניהול מערכת החשמל בע"מ | H91: ביצוע סקר היתכנות ראשוני להוצאת אנרגיה | I91: 45170 | J91: 45535 | K91: 514195874 | L91: ILS | M91: 28946.69 | N91: 0 | O91: 100 | P91: התפלה | Q91: 28946.69 | R91: 0 | S91: N
A92: 89 | B92: 4502367499 | D92: =VLOOKUP(B92,גיליון2!$A$2:$C$133,2,FALSE) -> 41-30-01-19 | E92: =VLOOKUP(B92,גיליון2!$A$2:$C$133,3,FALSE) -> פעולות מנהל וארגון | F92: 10000035 | G92: משרד החוץ | H92: נסיעת עבודה | I92: 45151 | J92: 45153 | K92: 500101076 | L92: ILS | M92: 1165 | N92: 0 | O92: 102.75 | P92: נסיעות לחו"ל | Q92: 1165 | R92: 0 | S92: N
A93: 90 | B93: 4502367481 | D93: =VLOOKUP(B93,גיליון2!$A$2:$C$133,2,FALSE) -> 41-30-01-19 | E93: =VLOOKUP(B93,גיליון2!$A$2:$C$133,3,FALSE) -> פעולות מנהל וארגון | F93: 41003244 | G93: משרד סוכנות/האוצר נסיעות ממשלתית | H93: נסיעת עבודה | I93: 45151 | J93: 45153 | K93: 500107321 | L93: ILS | M93: 5157.84 | N93: 0 | O93: 100.51 | P93: נסיעות לחו"ל | Q93: 5157.84 | R93: 0 | S93: N
A94: 91 | B94: 4502367484 | D94: =VLOOKUP(B94,גיליון2!$A$2:$C$133,2,FALSE) -> 41-30-01-19 | E94: =VLOOKUP(B94,גיליון2!$A$2:$C$133,3,FALSE) -> פעולות מנהל וארגון | F94: 41003244 | G94: משרד סוכנות/האוצר נסיעות ממשלתית | H94: נסיעת עבודה | I94: 45185 | J94: 45192 | K94: 500107321 | L94: ILS | M94: 11945.76 | N94: 0 | O94: 99.08 | P94: נסיעות לחו"ל | Q94: 11945.76 | R94: 0 | S94: N
A95: 92 | B95: 4502367478 | D95: =VLOOKUP(B95,גיליון2!$A$2:$C$133,2,FALSE) -> 41-30-01-19 | E95: =VLOOKUP(B95,גיליון2!$A$2:$C$133,3,FALSE) -> פעולות מנהל וארגון | F95: 41003244 | G95: משרד סוכנות/האוצר נסיעות ממשלתית | H95: נסיעת עבודה | I95: 45172 | J95: 45176 | K95: 500107321 | L95: ILS | M95: 8274.1 | N95: 0 | O95: 92.85 | P95: נסיעות לחו"ל | Q95: 8274.1 | R95: 835.38 | S95: N
A96: 93 | B96: 4502367429 | D96: =VLOOKUP(B96,גיליון2!$A$2:$C$133,2,FALSE) -> 41-30-01-20 | E96: =VLOOKUP(B96,גיליון2!$A$2:$C$133,3,FALSE) -> הדרכה ורווחה | F96: 40004441 | G96: רובין ר.י.ד. בע"מ | H96: הדפסת שילוט - רשות המים | I96: 45170 | J96: 45291 | K96: 511237844 | L96: ILS | M96: 321.75 | N96: 321.75 | O96: 0 | P96: משאבי אנוש | Q96: 0 | R96: 0 | S96: N
A97: 94 | B97: 4502367441 | D97: =VLOOKUP(B97,גיליון2!$A$2:$C$133,2,FALSE) -> 41-30-01-20 | E97: =VLOOKUP(B97,גיליון2!$A$2:$C$133,3,FALSE) -> הדרכה ורווחה | F97: 40003393 | G97: ענבל חברה לביטוח בע"מ-מקבל הלואות | H97: כנס השקת מחוברים ב-gov | I97: 45097 | J97: 45097 | K97: 520031030 | L97: ILS | M97: 200 | N97: 200 | O97: 0 | P97: משאבי אנוש | Q97: 0 | R97: 0 | S97: N
A98: 95 | B98: 4502367447 | D98: =VLOOKUP(B98,גיליון2!$A$2:$C$133,2,FALSE) -> 41-30-01-20 | E98: =VLOOKUP(B98,גיליון2!$A$2:$C$133,3,FALSE) -> הדרכה ורווחה | F98: 40003393 | G98: ענבל חברה לביטוח בע"מ-מקבל הלואות | H98: קורס הסמכה לממונות וממוני גיוון תעסוקתי | I98: 45200 | J98: 45291 | K98: 520031030 | L98: ILS | M98: 7344 | N98: 7344 | O98: 0 | P98: משאבי אנוש | Q98: 0 | R98: 0 | S98: N
A99: 96 | B99: 4502367451 | D99: =VLOOKUP(B99,גיליון2!$A$2:$C$133,2,FALSE) -> 41-30-01-20 | E99: =VLOOKUP(B99,גיליון2!$A$2:$C$133,3,FALSE) -> הדרכה ורווחה | F99: 40003393 | G99: ענבל חברה לביטוח בע"מ-מקבל הלואות | H99: קורס מובילי למידה | I99: 45154 | J99: 45291 | K99: 520031030 | L99: ILS | M99: 5000 | N99: 5000 | O99: 0 | P99: משאבי אנוש | Q99: 0 | R99: 5789.16 | S99: N
A100: 97 | B100: 4502367456 | D100: =VLOOKUP(B100,גיליון2!$A$2:$C$133,2,FALSE) -> 41-30-01-20 | E100: =VLOOKUP(B100,גיליון2!$A$2:$C$133,3,FALSE) -> הדרכה ורווחה | F100: 40003393 | G100: ענבל חברה לביטוח בע"מ-מקבל הלואות | H100: קורס מתניעים ל GOV | I100: 45154 | J100: 45291 | K100: 520031030 | L100: ILS | M100: 11000 | N100: 11000 | O100: 0 | P100: משאבי אנוש | Q100: 0 | R100: 0 | S100: N
A101: 98 | B101: 4502367461 | D101: =VLOOKUP(B101,גיליון2!$A$2:$C$133,2,FALSE) -> 41-30-01-20 | E101: =VLOOKUP(B101,גיליון2!$A$2:$C$133,3,FALSE) -> הדרכה ורווחה | F101: 40003393 | G101: ענבל חברה לביטוח בע"מ-מקבל הלואות | H101: קורס דיני מכרזים | I101: 45200 | J101: 45291 | K101: 520031030 | L101: ILS | M101: 6000 | N101: 6000 | O101: 0 | P101: משאבי אנוש | Q101: 0 | R101: 0 | S101: N
A102: 99 | B102: 4502367465 | D102: =VLOOKUP(B102,גיליון2!$A$2:$C$133,2,FALSE) -> 41-30-01-20 | E102: =VLOOKUP(B102,גיליון2!$A$2:$C$133,3,FALSE) -> הדרכה ורווחה | F102: 40003393 | G102: ענבל חברה לביטוח בע"מ-מקבל הלואות | H102: סדנה אומץ ניהולי | I102: 45231 | J102: 45291 | K102: 520031030 | L102: ILS | M102: 2300 | N102: 2300 | O102: 0 | P102: משאבי אנוש | Q102: 0 | R102: 0 | S102: N
A103: 100 | B103: 4502367488 | D103: =VLOOKUP(B103,גיליון2!$A$2:$C$133,2,FALSE) -> 41-30-01-19 | E103: =VLOOKUP(B103,גיליון2!$A$2:$C$133,3,FALSE) -> פעולות מנהל וארגון | F103: 41003244 | G103: משרד סוכנות/האוצר נסיעות ממשלתית | H103: נסיעת עבודה | I103: 45268 | J103: 45271 | K103: 500107321 | L103: ILS | M103: 9647.9 | N103: 9647.9 | O103: 0 | P103: נסיעות לחו"ל | Q103: 0 | R103: 0 | S103: N
A104: 101 | B104: 4502367492 | D104: =VLOOKUP(B104,גיליון2!$A$2:$C$133,2,FALSE) -> 41-30-01-19 | E104: =VLOOKUP(B104,גיליון2!$A$2:$C$133,3,FALSE) -> פעולות מנהל וארגון | F104: 41003244 | G104: משרד סוכנות/האוצר נסיעות ממשלתית | H104: נסיעת עבודה | I104: 45260 | J104: 45263 | K104: 500107321 | L104: ILS | M104: 2442.77 | N104: 2442.77 | O104: 0 | P104: נסיעות לחו"ל | Q104: 0 | R104: 0 | S104: N
A105: 102 | B105: 4502367935 | D105: =VLOOKUP(B105,גיליון2!$A$2:$C$133,2,FALSE) -> 41-30-01-20 | E105: =VLOOKUP(B105,גיליון2!$A$2:$C$133,3,FALSE) -> הדרכה ורווחה | F105: 41899091 | G105: בריד אסתר יוטא | H105: ועדות בוחנים | I105: 45141 | J105: 45141 | K105: 50225069 | L105: ILS | M105: 587.34 | N105: 0 | O105: 100 | P105: משאבי אנוש | Q105: 587.34 | R105: 0 | S105: N
A106: 103 | B106: 4502367943 | D106: =VLOOKUP(B106,גיליון2!$A$2:$C$133,2,FALSE) -> 41-30-01-20 | E106: =VLOOKUP(B106,גיליון2!$A$2:$C$133,3,FALSE) -> הדרכה ורווחה | F106: 40539556 | G106: מלאך רות | H106: השתתפות בוועדת בוחנים | I106: 45138 | J106: 45138 | K106: 001196518 | L106: ILS | M106: 474 | N106: 0 | O106: 100 | P106: משאבי אנוש | Q106: 474 | R106: 0 | S106: N
A107: 104 | B107: 4502368789 | D107: =VLOOKUP(B107,גיליון2!$A$2:$C$133,2,FALSE) -> 73-30-01-03 | E107: =VLOOKUP(B107,גיליון2!$A$2:$C$133,3,FALSE) -> איכות מים- ניטור | F107: 40997304 | G107: שילת-חן יזמות והשקעות בע"מ | H107: כיבור עבור כנס חיזוי שיטפונות | I107: 45180 | J107: 45180 | K107: 513931592 | L107: ILS | M107: 3531.01 | N107: 0 | O107: 100 | P107: הידרולוגי | Q107: 3531.01 | R107: 0 | S107: N
A108: 105 | B108: 4502369071 | D108: =VLOOKUP(B108,גיליון2!$A$2:$C$133,2,FALSE) -> 73-30-01-05 | E108: =VLOOKUP(B108,גיליון2!$A$2:$C$133,3,FALSE) -> פיתוח ותחזוקת מערכות | F108: 40001108 | G108: בינת תקשורת מחשבים בע"מ | H108: אספקת שירותי התקנה, תחזוקה ואינטגרציה תחזוקת מתגי | I108: 45292 | J108: 45435 | K108: 510713407 | L108: ILS | M108: 119225.44 | N108: 0 | O108: 91.68 | P108: מערכות מידע | Q108: 119225.44 | R108: 0 | S108: N
A109: 106 | B109: 4502368810 | D109: =VLOOKUP(B109,גיליון2!$A$2:$C$133,2,FALSE) -> 73-30-01-05 | E109: =VLOOKUP(B109,גיליון2!$A$2:$C$133,3,FALSE) -> פיתוח ותחזוקת מערכות | F109: 40328129 | G109: ד.מ. (3000) הנדסה בע"מ | H109: שעות עבודה עבור התקנות ושינויים של מולטימדיה ברשו | I109: 45174 | J109: 46111 | K109: 513228726 | L109: ILS | M109: 5654.61 | N109: 5654.61 | O109: 0 | P109: מערכות מידע | Q109: 0 | R109: 0 | S109: N
A110: 107 | B110: 4502369529 | D110: =VLOOKUP(B110,גיליון2!$A$2:$C$133,2,FALSE) -> 41-30-01-10 | E110: =VLOOKUP(B110,גיליון2!$A$2:$C$133,3,FALSE) -> הוצאות תפעול | F110: 42004412 | G110: אי בי סנטר נכסים בע"מ | H110: תשלום על הפרשי הצמדות לשנים 20-22 | I110: 45175 | J110: 45291 | K110: 515791598 | L110: ILS | M110: 3817.17 | N110: 3817.17 | O110: 0 | P110: בנא"מ | Q110: 0 | R110: 0 | S110: N
A111: 108 | B111: 4502369949 | D111: =VLOOKUP(B111,גיליון2!$A$2:$C$133,2,FALSE) -> 73-30-01-03 | E111: =VLOOKUP(B111,גיליון2!$A$2:$C$133,3,FALSE) -> איכות מים- ניטור | F111: 40270213 | G111: צלח - מרכז הצבעים בע"מ | H111: הסכם מסגרת- לאספקת מצברים, סוללות נטענות | I111: 45148 | J111: 45513 | K111: 511893034 | L111: ILS | M111: 23550.93 | N111: 23550.93 | O111: 0 | P111: הידרולוגי | Q111: 0 | R111: 0 | S111: N
A112: 109 | B112: 4502370225 | D112: =VLOOKUP(B112,גיליון2!$A$2:$C$133,2,FALSE) -> 41-30-01-20 | E112: =VLOOKUP(B112,גיליון2!$A$2:$C$133,3,FALSE) -> הדרכה ורווחה | F112: 41208319 | G112: אלמוג ברוך | H112: השתתפות בוועדת בוחנים | I112: 45161 | J112: 45161 | K112: 053931622 | L112: ILS | M112: 474 | N112: 474 | O112: 0 | P112: משאבי אנוש | Q112: 0 | R112: 0 | S112: N
A113: 110 | B113: 4502370348 | D113: =VLOOKUP(B113,גיליון2!$A$2:$C$133,2,FALSE) -> 73-30-01-05 | E113: =VLOOKUP(B113,גיליון2!$A$2:$C$133,3,FALSE) -> פיתוח ותחזוקת מערכות | F113: 40004893 | G113: אב-נט תקשורת בע"מ | H113: חידוש שנתי רשיונות מוצרי VMWARE+NSX | I113: 45292 | J113: 45657 | K113: 512557166 | L113: ILS | M113: 395659.5 | N113: 395659.5 | O113: 0 | P113: מערכות מידע | Q113: 0 | R113: 0 | S113: N
A114: 111 | B114: 4502370654 | D114: =VLOOKUP(B114,גיליון2!$A$2:$C$133,2,FALSE) -> 41-30-01-19 | E114: =VLOOKUP(B114,גיליון2!$A$2:$C$133,3,FALSE) -> פעולות מנהל וארגון | F114: 40328764 | G114: בנזינו יריב | H114: כיבוד עבור כיתת הדרכה משאבי אנוש | I114: 45180 | J114: 45189 | K114: 040371601 | L114: ILS | M114: 4943.25 | N114: 0 | O114: 100 | P114: בנא"מ | Q114: 4943.25 | R114: 0 | S114: N
A115: 112 | B115: 4502370842 | D115: =VLOOKUP(B115,גיליון2!$A$2:$C$133,2,FALSE) -> 41-30-01-10 | E115: =VLOOKUP(B115,גיליון2!$A$2:$C$133,3,FALSE) -> הוצאות תפעול | F115: 42415516 | G115: מורד אייל | H115: ביקורת והחלפת מטפים (בהתאם לצורך) ע"פ הצעת מחיר מ | I115: 45180 | J115: 45291 | K115: 025669912 | L115: ILS | M115: 1170 | N115: 1170 | O115: 0 | P115: בנא"מ | Q115: 0 | R115: 0 | S115: N
A116: 113 | B116: 4502371661 | D116: =VLOOKUP(B116,גיליון2!$A$2:$C$133,2,FALSE) -> 73-30-01-05 | E116: =VLOOKUP(B116,גיליון2!$A$2:$C$133,3,FALSE) -> פיתוח ותחזוקת מערכות | F116: 40004372 | G116: מטריקס אי.טי. מוצרי תוכנה בע"מ | H116: חידוש שנתי לרישיונות תוכנת business objects | I116: 45292 | J116: 45657 | K116: 511072399 | L116: ILS | M116: 30673.89 | N116: 30673.89 | O116: 0 | P116: מערכות מידע | Q116: 0 | R116: 0 | S116: N
A117: 114 | B117: 4502371713 | D117: =VLOOKUP(B117,גיליון2!$A$2:$C$133,2,FALSE) -> 73-30-01-05 | E117: =VLOOKUP(B117,גיליון2!$A$2:$C$133,3,FALSE) -> פיתוח ותחזוקת מערכות | F117: 40010832 | G117: אנויטק בע"מ | H117: תוסף לתוכנת GMS | I117: 45181 | J117: 45547 | K117: 512336454 | L117: ILS | M117: 7559.98 | N117: 7559.98 | O117: 0 | P117: מערכות מידע | Q117: 0 | R117: 0 | S117: N
... A128: 126 | B128: 4502375468 | D128: =VLOOKUP(B128,גיליון2!$A$2:$C$133,2,FALSE) -> 41-30-01-20 | E128: =VLOOKUP(B128,גיליון2!$A$2:$C$133,3,FALSE) -> הדרכה ורווחה | F128: 40001048 | G128: מוסד הטכניון למחקר ופתוח בעמ | H128: הכשרה עבור מובילי חדשנות ברשות המים | I128: 45189 | J128: 45189 | K128: 510097918 | L128: ILS | M128: 4680 | N128: 4680 | O128: 0 | P128: משאבי אנוש | Q128: 0 | R128: 0 | S128: N
A129: 127 | B129: 4502376266 | D129: =VLOOKUP(B129,גיליון2!$A$2:$C$133,2,FALSE) -> 41-30-01-20 | E129: =VLOOKUP(B129,גיליון2!$A$2:$C$133,3,FALSE) -> הדרכה ורווחה | F129: 42132406 | G129: זליגר מרה | H129: השתתפות בוועדת בוחנים | I129: 45181 | J129: 45181 | K129: 15777618 | L129: ILS | M129: 587.34 | N129: 0 | O129: 100 | P129: משאבי אנוש | Q129: 587.34 | R129: 0 | S129: N
A130: 128 | B130: 4502376252 | D130: =VLOOKUP(B130,גיליון2!$A$2:$C$133,2,FALSE) -> 41-30-01-20 | E130: =VLOOKUP(B130,גיליון2!$A$2:$C$133,3,FALSE) -> הדרכה ורווחה | F130: 41512263 | G130: נפש בנפש עלייה (ע"ר) | H130: כנס תוכניות עבודה | I130: 45222 | J130: 45222 | K130: 580544120 | L130: ILS | M130: 1470 | N130: 1470 | O130: 0 | P130: משאבי אנוש | Q130: 0 | R130: 0 | S130: N
A131: 129 | B131: 4502376263 | D131: 41-30-01-20 | E131: הדרכה ורווחה | F131: 42206178 | G131: אשכנזי רות | H131: משתתפת בוועדת בוחנים | I131: 45173 | J131: 45173 | K131: 52637550 | L131: ILS | M131: 587.34 | N131: 587.34 | O131: 0 | P131: משאבי אנוש | Q131: 0 | R131: 0 | S131: N
A132: 130 | B132: 4502376307 | D132: =VLOOKUP(B132,גיליון2!$A$2:$C$133,2,FALSE) -> 41-30-01-20 | E132: =VLOOKUP(B132,גיליון2!$A$2:$C$133,3,FALSE) -> הדרכה ורווחה | F132: 40378016 | G132: בי.ווי.הפקות והשקעות בע"מ | H132: סיור מקצועי רשות המים לאזור הצפון 2023 | I132: 45209 | J132: 45210 | K132: 513744987 | L132: ILS | M132: 412067.14 | N132: 412067.14 | O132: 0 | P132: משאבי אנוש | Q132: 0 | R132: 0 | S132: N
A133: 131 | B133: 4502376795 | D133: =VLOOKUP(B133,גיליון2!$A$2:$C$133,2,FALSE) -> 73-30-01-03 | E133: =VLOOKUP(B133,גיליון2!$A$2:$C$133,3,FALSE) -> איכות מים- ניטור | F133: 42136584 | G133: לומלסקי סבטלנה | H133: לייעוץ, ליווי וסיוע בתחום מודלים נומריים של זרימה | I133: 45231 | J133: 45596 | K133: 306997024 | L133: ILS | M133: 499959.72 | N133: 499959.72 | O133: 0 | P133: הידרולוגי | Q133: 0 | R133: 0 | S133: N
A134: 132 | B134: 4502376798 | D134: =VLOOKUP(B134,גיליון2!$A$2:$C$133,2,FALSE) -> 73-30-01-03 | E134: =VLOOKUP(B134,גיליון2!$A$2:$C$133,3,FALSE) -> איכות מים- ניטור | F134: 40010827 | G134: ד.ה.ב. מד בע"מ | H134: איסוף, טיפול בשפחים וניצול קולחין להשקיה חקלאית | I134: 45231 | J134: 45777 | K134: 512307265 | L134: ILS | M134: 625126.31 | N134: 625126.31 | O134: 0 | P134: איכות מים | Q134: 0 | R134: 0 | S134: N
A135: 133 | B135: 4502376800 | D135: =VLOOKUP(B135,גיליון2!$A$2:$C$133,2,FALSE) -> 41-30-01-20 | E135: =VLOOKUP(B135,גיליון2!$A$2:$C$133,3,FALSE) -> הדרכה ורווחה | F135: 41382753 | G135: הכל לצימר בע"מ | H135: שי לעובדי הרשות לסיור המקצועי צפון 2023 | I135: 45179 | J135: 45179 | K135: 514693860 | L135: ILS | M135: 16664.08 | N135: 16664.08 | O135: 0 | P135: משאבי אנוש | Q135: 0 | R135: 0 | S135: N
A136: 134 | B136: 4502376802 | D136: =VLOOKUP(B136,גיליון2!$A$2:$C$133,2,FALSE) -> 41-30-01-20 | E136: =VLOOKUP(B136,גיליון2!$A$2:$C$133,3,FALSE) -> הדרכה ורווחה | F136: 42059794 | G136: הראל אורן | H136: השתתפות רשות המים ביריד תעסוקה | I136: 45222 | J136: 45222 | K136: 032418196 | L136: ILS | M136: 1480.49 | N136: 1480.49 | O136: 0 | P136: משאבי אנוש | Q136: 0 | R136: 0 | S136: N

Sheet גיליון2
A1: מסמך רכישה | B1: פריט התחייבות | C1: תיאור תקנה תקציבית
A2: 4502344473 | B2: 41-30-01-19 | C2: פעולות מנהל וארגון
A3: 4502344840 | B3: 41-30-01-21 | C3: ייעוץ בקרה וליווי
A4: 4502344963 | B4: 41-30-01-19 | C4: פעולות מנהל וארגון
A5: 4502344978 | B5: 41-30-01-19 | C5: פעולות מנהל וארגון
A6: 4502344992 | B6: 41-30-01-19 | C6: פעולות מנהל וארגון
A7: 4502345715 | B7: 41-30-01-26 | C7: היערכות משק המים לשע
A8: 4502346133 | B8: 73-30-01-05 | C8: פיתוח ותחזוקת מערכות
A9: 4502346144 | B9: 73-30-01-05 | C9: פיתוח ותחזוקת מערכות
A10: 4502346422 | B10: 41-30-01-22 | C10: חסכון במים הסברה
A11: 4502346686 | B11: 73-30-01-23 | C11: הנחה בתעריפי מים
A12: 4502346707 | B12: 73-30-01-03 | C12: איכות מים- ניטור
... A45: 4502356067 | B45: 41-30-01-19 | C45: פעולות מנהל וארגון
A46: 4502356067 | C46: פעולות מנהל וארגון
A47: 4502356713 | B47: 73-30-01-03 | C47: איכות מים- ניטור
A48: 4502356932 | B48: 41-30-01-22 | C48: חסכון במים הסברה
A49: 4502358098 | B49: 73-30-01-03 | C49: איכות מים- ניטור
A50: 4502358361 | B50: 73-30-01-03 | C50: איכות מים- ניטור
A51: 4502358518 | B51: 73-30-01-03 | C51: איכות מים- ניטור
A52: 4502359084 | B52: 41-30-01-22 | C52: חסכון במים הסברה
A53: 4502359104 | B53: 73-30-01-03 | C53: איכות מים- ניטור
A54: 4502359174 | B54: 73-30-01-03 | C54: איכות מים- ניטור
A55: 4502360290 | B55: 73-30-01-05 | C55: פיתוח ותחזוקת מערכות
A56: 4502360609 | B56: 73-30-01-05 | C56: פיתוח ותחזוקת מערכות
A57: 4502360630 | B57: 41-30-01-10 | C57: הוצאות תפעול
A58: 4502361299 | B58: 73-30-01-05 | C58: פיתוח ותחזוקת מערכות
... A133: 4502376802 | B133: 41-30-01-20 | C133: הדרכה ורווחה
