Workbook

Sheet גיליון1
E2: דוח חוק חופש המידע עבור רבעון 2 לשנת 2023
A7: מס"ד | B7: מסמך רכישה | C7: שם חברה | D7: מספר תקנה | E7: שם תקנה | F7: ספק | G7: שם הספק | H7: טקסט כותרת | I7: התחלת תקופת תוקף | J7: סיום תקופת תוקף | K7: מספר רישום מע"מ | L7: מטבע | M7: ערך הזמנה כולל מע"מ | N7: ביצוע חשבוניות כולל מע"מ והצמדות במט"מ | O7: יתרת הזמנות נומינלית כולל מע"מ | P7: סימוכין שלך | Q7: ערך הזמנה במט"מ | R7: ביצוע ערך קבלות הטובין במט"מ | S7: הזמנות רגישות
A8: 1 | B8: 4502316943 | C8: הרשות למים ולביוב | D8: =VLOOKUP(B8,גיליון2!$A$2:$C$96,2,FALSE) -> 41-30-01-10 | E8: =VLOOKUP(B8,גיליון2!$A$2:$C$96,3,FALSE) -> משאבי אנוש והדרכה | F8: 10000035 | G8: משרד החוץ | H8: כנס התרומות בבריסל | I8: 45049 | J8: 45051 | K8: 500101076 | L8: ILS | M8: 1961.32 | N8: 2030.82 | O8: 0 | P8: נסיעות לחו"ל | Q8: 1961.32 | R8: 1961.32 | S8: N
A9: 2 | B9: 4502314354 | C9: הרשות למים ולביוב | D9: =VLOOKUP(B9,גיליון2!$A$2:$C$96,2,FALSE) -> 41-30-01-10 | E9: =VLOOKUP(B9,גיליון2!$A$2:$C$96,3,FALSE) -> נכסים ולוגיסטיקה | F9: 40019647 | G9: שכטרמן והים בע"מ | H9: בדיקת מהנדס סירה כנרת לאישור רישיון | I9: 45018 | J9: 45107 | K9: 511869794 | L9: ILS | M9: 819 | N9: 819 | O9: 0 | P9: בנא"מ | Q9: 819 | R9: 819 | S9: N
A10: 3 | B10: 4502314642 | C10: הרשות למים ולביוב | D10: =VLOOKUP(B10,גיליון2!$A$2:$C$96,2,FALSE) -> 41-30-01-20 | E10: =VLOOKUP(B10,גיליון2!$A$2:$C$96,3,FALSE) -> משאבי אנוש והדרכה | F10: 41582581 | G10: אשל רבקה | H10: יום עיון הנהלת רשות המים | I10: 45040 | J10: 45040 | K10: 054903042 | L10: ILS | M10: 2925 | N10: 2925 | O10: 0 | P10: משאבי אנוש | Q10: 2925 | R10: 2925 | S10: N
A11: 4 | B11: 4502315002 | C11: הרשות למים ולביוב | D11: =VLOOKUP(B11,גיליון2!$A$2:$C$96,2,FALSE) -> 41-30-01-10 | E11: =VLOOKUP(B11,גיליון2!$A$2:$C$96,3,FALSE) -> נכסים ולוגיסטיקה | F11: 40015654 | G11: חברה לפיתוח גוש עציון בע"מ | H11: אוטובוסים מרכז- סיור חטיבת מנהל וארגון | I11: 45083 | J11: 45083 | K11: 510950488 | L11: ILS | M11: 1290.16 | N11: 1425.26 | O11: 0 | P11: בנא"מ | Q11: 1290.16 | R11: 1290.16 | S11: N
A12: 5 | B12: 4502315839 | C12: הרשות למים ולביוב | D12: =VLOOKUP(B12,גיליון2!$A$2:$C$96,2,FALSE) -> 41-30-01-19 | E12: =VLOOKUP(B12,גיליון2!$A$2:$C$96,3,FALSE) -> מטה | F12: 40539563 | G12: לייט וויזין בע"מ | H12: כנס עבור שיתוף ציבור קולחין - שירותי תאורה והגברה | I12: 45036 | J12: 45036 | K12: 513693093 | L12: ILS | M12: 6177.6 | N12: 6177.6 | O12: 0 | P12: לשכת מנכל | Q12: 6177.6 | R12: 6177.6 | S12: N
A13: 6 | B13: 4502315849 | C13: הרשות למים ולביוב | D13: =VLOOKUP(B13,גיליון2!$A$2:$C$96,2,FALSE) -> 41-30-01-19 | E13: =VLOOKUP(B13,גיליון2!$A$2:$C$96,3,FALSE) -> מטה | F13: 40004441 | G13: רובין ר.י.ד. בע"מ | H13: רולאפ עבור כנס שיתוף ציבור קולחין 2023 | I13: 45036 | J13: 45036 | K13: 511237844 | L13: ILS | M13: 514.8 | N13: 514.8 | O13: 0 | P13: לשכת מנכל | Q13: 514.8 | R13: 514.8 | S13: N
A14: 7 | B14: 4502316223 | C14: הרשות למים ולביוב | D14: =VLOOKUP(B14,גיליון2!$A$2:$C$96,2,FALSE) -> 41-30-01-10 | E14: =VLOOKUP(B14,גיליון2!$A$2:$C$96,3,FALSE) -> נכסים ולוגיסטיקה | F14: 40126788 | G14: צפורי חיים | H14: רכישת ספסל קק"ל עבור הידרומטריה מרכז - הנדסה חקלאי | I14: 45033 | J14: 45291 | K14: 058361833 | L14: ILS | M14: 2340 | N14: 2340 | O14: 0 | P14: בנא"מ | Q14: 2340 | R14: 2340 | S14: N
A15: 8 | B15: 4502322418 | C15: הרשות למים ולביוב | D15: =VLOOKUP(B15,גיליון2!$A$2:$C$96,2,FALSE) -> 73-30-01-05 | E15: =VLOOKUP(B15,גיליון2!$A$2:$C$96,3,FALSE) -> אגף מערכות מידע | F15: 40532479 | G15: זיפקום תקשורת בע"מ | H15: תצורה 2.9 - מחשב נייד 14" מתקדם | I15: 45049 | J15: 45141 | K15: 512781790 | L15: ILS | M15: 135786.45 | N15: 156180.94 | O15: 0 | P15: מערכות מידע | Q15: 135786.45 | R15: 135786.45 | S15: N
A16: 9 | B16: 4502322862 | C16: הרשות למים ולביוב | D16: =VLOOKUP(B16,גיליון2!$A$2:$C$96,2,FALSE) -> 41-30-01-10 | E16: =VLOOKUP(B16,גיליון2!$A$2:$C$96,3,FALSE) -> נכסים ולוגיסטיקה | F16: 42498395 | G16: שחם-גליק ענבל | H16: סידור מחסני רשות המים בבניין ג'נרי 2 רשות המים | I16: 45050 | J16: 45291 | K16: 027159151 | L16: ILS | M16: 42000 | N16: 42000 | O16: 0 | P16: בנא"מ | Q16: 42000 | R16: 42000 | S16: N
A17: 10 | B17: 4502323838 | C17: הרשות למים ולביוב | D17: =VLOOKUP(B17,גיליון2!$A$2:$C$96,2,FALSE) -> 41-30-01-20 | E17: =VLOOKUP(B17,גיליון2!$A$2:$C$96,3,FALSE) -> משאבי אנוש והדרכה | F17: 41378633 | G17: גרינבאום איריס | H17: הפעלה ל happy hour לכבוד חג שבועות | I17: 45067 | J17: 45067 | K17: 031797699 | L17: ILS | M17: 4738.5 | N17: 4738.5 | O17: 0 | P17: משאבי אנוש | Q17: 4738.5 | R17: 4738.5 | S17: N
A18: 11 | B18: 4502324107 | C18: הרשות למים ולביוב | D18: =VLOOKUP(B18,גיליון2!$A$2:$C$96,2,FALSE) -> 41-30-01-20 | E18: =VLOOKUP(B18,גיליון2!$A$2:$C$96,3,FALSE) -> משאבי אנוש והדרכה | F18: 42489249 | G18: חוויה מתוקה בע"מ | H18: happy hour לכבוד חג שבועות | I18: 45067 | J18: 45067 | K18: 516728078 | L18: ILS | M18: 3744 | N18: 3744 | O18: 0 | P18: משאבי אנוש | Q18: 3744 | R18: 3744 | S18: N
A19: 12 | B19: 4502324805 | C19: הרשות למים ולביוב | D19: =VLOOKUP(B19,גיליון2!$A$2:$C$96,2,FALSE) -> 41-30-01-26 | E19: =VLOOKUP(B19,גיליון2!$A$2:$C$96,3,FALSE) -> ביטחון מים | F19: 40001672 | G19: המכון הישראלי לייצוא ולשיתוף פעולה | H19: דמי רישום לאירוע של כנס בינלאומי בנושא בטחון מים | I19: 45078 | J19: 45107 | K19: 580025021 | L19: ILS | M19: 150000 | N19: 150000 | O19: 0 | P19: בטחון מים | Q19: 150000 | R19: 150000 | S19: N
A20: 13 | B20: 4502326133 | C20: הרשות למים ולביוב | D20: =VLOOKUP(B20,גיליון2!$A$2:$C$96,2,FALSE) -> 41-30-01-20 | E20: =VLOOKUP(B20,גיליון2!$A$2:$C$96,3,FALSE) -> משאבי אנוש והדרכה | F20: 40005104 | G20: קוקטייל הצמחים בע"מ | H20: הפעלה ל happy hour לכבוד חג שבועות שי לחנוכה | I20: 45067 | J20: 45067 | K20: 513345272 | L20: ILS | M20: 4914 | N20: 4914 | O20: 0 | P20: משאבי אנוש | Q20: 4914 | R20: 4914 | S20: N
... A30: 23 | B30: 4502336771 | C30: הרשות למים ולביוב | D30: =VLOOKUP(B30,גיליון2!$A$2:$C$96,2,FALSE) -> 41-30-01-19 | E30: =VLOOKUP(B30,גיליון2!$A$2:$C$96,3,FALSE) -> ח. השירות ההידרולוגי | F30: 41449572 | G30: קפה פביאנו בע"מ | H30: כנס קול קורא קידוחים - קייטרינג | I30: 45103 | J30: 45103 | K30: 515284974 | L30: ILS | M30: 28723.5 | N30: 28723.5 | O30: 0 | P30: תפעול | Q30: 28723.5 | R30: 28723.5 | S30: N
A31: 24 | B31: 4502338359 | C31: הרשות למים ולביוב | D31: =VLOOKUP(B31,גיליון2!$A$2:$C$96,2,FALSE) -> 73-30-01-03 | E31: =VLOOKUP(B31,גיליון2!$A$2:$C$96,3,FALSE) -> ח. השירות ההידרולוגי | F31: 10000176 | G31: משרד התקשורת | H31: תשלום עבור חידוש רשיון אלחוט עבור מכ"ם | I31: 44927 | J31: 45657 | K31: 500103155 | L31: ILS | M31: 625.86 | N31: 625.86 | O31: 0 | P31: הידרולוגי | Q31: 625.86 | R31: 625.86 | S31: N
A32: 25 | B32: 4502314799 | C32: הרשות למים ולביוב | D32: =VLOOKUP(B32,גיליון2!$A$2:$C$96,2,FALSE) -> 41-30-01-10 | E32: =VLOOKUP(B32,גיליון2!$A$2:$C$96,3,FALSE) -> משאבי אנוש והדרכה | F32: 41003244 | G32: משרד סוכנות/האוצר נסיעות ממשלתית | H32: נסיעת עבודה | I32: 45008 | J32: 45012 | K32: 500107321 | L32: ILS | M32: 15299.42 | N32: 13002 | O32: 0 | P32: נסיעות לחו"ל | Q32: 15299.42 | R32: 15299.42 | S32: N
A33: 26 | B33: 4502314796 | C33: הרשות למים ולביוב | D33: =VLOOKUP(B33,גיליון2!$A$2:$C$96,2,FALSE) -> 41-30-01-10 | E33: =VLOOKUP(B33,גיליון2!$A$2:$C$96,3,FALSE) -> משאבי אנוש והדרכה | F33: 41003244 | G33: משרד סוכנות/האוצר נסיעות ממשלתית | H33: נסיעת עבודה | I33: 44991 | J33: 44995 | K33: 500107321 | L33: ILS | M33: 2078.03 | N33: 1683 | O33: 0 | P33: נסיעות לחו"ל | Q33: 2078.03 | R33: 2078.03 | S33: N
A34: 27 | B34: 4502321323 | C34: הרשות למים ולביוב | D34: =VLOOKUP(B34,גיליון2!$A$2:$C$96,2,FALSE) -> 41-30-01-10 | E34: =VLOOKUP(B34,גיליון2!$A$2:$C$96,3,FALSE) -> נכסים ולוגיסטיקה | F34: 41963992 | G34: עובדיה אורון | H34: פירוק והחלפת מזגן בחדר של הנדסה חקלאית | I34: 45047 | J34: 45291 | K34: 031713761 | L34: ILS | M34: 3360 | N34: 3100 | O34: 260 | P34: נכסים ולוגיסטיקה | Q34: 3360 | R34: 3100 | S34: N
A35: 28 | B35: 4502321253 | C35: הרשות למים ולביוב | D35: =VLOOKUP(B35,גיליון2!$A$2:$C$96,2,FALSE) -> 41-30-01-20 | E35: =VLOOKUP(B35,גיליון2!$A$2:$C$96,3,FALSE) -> משאבי אנוש והדרכה | F35: 41056777 | G35: מ. מתניה נחמיה בע"מ | H35: סיור מצטיינים - ארוחת בוקר | I35: 45090 | J35: 45090 | K35: 515042679 | L35: ILS | M35: 9009 | N35: 6192.89 | O35: 2713.79 | P35: משאבי אנוש | Q35: 9009 | R35: 6295.21 | S35: N
A36: 29 | B36: 4502316258 | C36: הרשות למים ולביוב | D36: =VLOOKUP(B36,גיליון2!$A$2:$C$96,2,FALSE) -> 41-30-01-10 | E36: =VLOOKUP(B36,גיליון2!$A$2:$C$96,3,FALSE) -> נכסים ולוגיסטיקה | F36: 40001081 | G36: לטרא סיסטמס בע"מ | H36: שילוט עבור ג'נרי קומת קרקע וקומה 5 + בית נועם | I36: 45033 | J36: 45291 | K36: 510502008 | L36: ILS | M36: 4001.4 | N36: 2691 | O36: 1310.4 | P36: בנא"מ | Q36: 4001.4 | R36: 4001.4 | S36: N
A37: 30 | B37: 4502316982 | C37: הרשות למים ולביוב | D37: =VLOOKUP(B37,גיליון2!$A$2:$C$96,2,FALSE) -> 41-30-01-21 | E37: =VLOOKUP(B37,גיליון2!$A$2:$C$96,3,FALSE) -> לשכה משפטית | F37: 42482973 | G37: לברון גיל | H37: מתן שירותי ייעוץ משפטי בתחום הממשל התאגידי | I37: 44823 | J37: 45382 | K37: 059741926 | L37: ILS | M37: 183339 | N37: 85915.44 | O37: 97423.56 | P37: לשכה משפטית | Q37: 183339 | R37: 85915.44 | S37: N
A38: 31 | B38: 4502321311 | C38: הרשות למים ולביוב | D38: =VLOOKUP(B38,גיליון2!$A$2:$C$96,2,FALSE) -> 41-30-01-26 | E38: =VLOOKUP(B38,גיליון2!$A$2:$C$96,3,FALSE) -> ביטחון מים | F38: 41560706 | G38: בינת עסקים בע"מ | H38: שירותי קוויי IPVPN לטובת סוק מים תקופת התקשרות | I38: 44743 | J38: 45291 | K38: 514752310 | L38: ILS | M38: 80821.54 | N38: 35537.71 | O38: 45283.82 | P38: בטחון מים | Q38: 80821.54 | R38: 35537.71 | S38: N
A39: 32 | B39: 4502327765 | C39: הרשות למים ולביוב | D39: =VLOOKUP(B39,גיליון2!$A$2:$C$96,2,FALSE) -> 73-30-01-03 | E39: =VLOOKUP(B39,גיליון2!$A$2:$C$96,3,FALSE) -> אגף איכות מים | F39: 40003393 | G39: ענבל חברה לביטוח בע"מ-מקבל הלואות | H39: ייעוץ פיננסי לליווי פרויקט הקמת מתקן לטיפול במי תהום | I39: 42712 | J39: 45291 | K39: 520031030 | L39: ILS | M39: 645954.66 | N39: 96252.99 | O39: 549701.67 | P39: איכות מים | Q39: 645954.66 | R39: 0 | S39: N
A40: 33 | B40: 4502320991 | C40: הרשות למים ולביוב | D40: =VLOOKUP(B40,גיליון2!$A$2:$C$96,2,FALSE) -> 41-30-01-19 | E40: =VLOOKUP(B40,גיליון2!$A$2:$C$96,3,FALSE) -> נכסים ולוגיסטיקה | F40: 40001601 | G40: מפעיל בעמ | H40: מכונת צילום ע"פ הוראת תכ"ם 16.5.0.5 מהדורה 03 | I40: 45017 | J40: 45382 | K40: 520037631 | L40: ILS | M40: 6147.99 | N40: 963.22 | O40: 5252.13 | P40: בנא"מ | Q40: 6147.99 | R40: 895.86 | S40: N
A41: 34 | B41: 4502340211 | C41: הרשות למים ולביוב | D41: =VLOOKUP(B41,גיליון2!$A$2:$C$96,2,FALSE) -> 41-30-01-19 | E41: =VLOOKUP(B41,גיליון2!$A$2:$C$96,3,FALSE) -> נכסים ולוגיסטיקה | F41: 42508603 | G41: דרהים אברהם | H41: שינוע דגימות מנשר לבית דגן בהתאם לצורך | I41: 45108 | J41: 45291 | K41: 059583740 | L41: ILS | M41: 4949.94 | N41: 549.99 | O41: 4399.95 | P41: בנא"מ | Q41: 4949.94 | R41: 549.99 | S41: N
A42: 35 | B42: 4502322689 | C42: הרשות למים ולביוב | D42: =VLOOKUP(B42,גיליון2!$A$2:$C$96,2,FALSE) -> 73-30-01-03 | E42: =VLOOKUP(B42,גיליון2!$A$2:$C$96,3,FALSE) -> אגף איכות מים | F42: 42493182 | G42: הדס שרית | H42: שפכי תעשיה | I42: 45056 | J42: 45421 | K42: 040436677 | L42: ILS | M42: 71370 | N42: 7254 | O42: 64116 | P42: איכות מים | Q42: 71370 | R42: 7254 | S42: N
A43: 36 | B43: 4502342430 | C43: הרשות למים ולביוב | D43: =VLOOKUP(B43,גיליון2!$A$2:$C$96,2,FALSE) -> 41-30-01-19 | E43: =VLOOKUP(B43,גיליון2!$A$2:$C$96,3,FALSE) -> נכסים ולוגיסטיקה | F43: 40182094 | G43: גילת טלקום בע"מ | H43: ספקת ציוד ושירותי תקשורת לוויינית עבור אגף ביטחון | I43: 45047 | J43: 45412 | K43: 511784498 | L43: ILS | M43: 25489.16 | N43: 2168.92 | O43: 23398.43 | P43: בנא"מ | Q43: 25489.16 | R43: 2090.73 | S43: N
A44: 37 | B44: 4502316270 | C44: הרשות למים ולביוב | D44: =VLOOKUP(B44,גיליון2!$A$2:$C$96,2,FALSE) -> 73-30-01-05 | E44: =VLOOKUP(B44,גיליון2!$A$2:$C$96,3,FALSE) -> אגף מערכות מידע | F44: 41593062 | G44: 2 +(טו פלאס) וויירלס סולושנס בע"מ | H44: רשת תקשורת אלחוטית (Wi-Fi) (ירושלים + בית אל) | I44: 45008 | J44: 45575 | K44: 513419762 | L44: ILS | M44: 32129.35 | N44: 1697.05 | O44: 30432.33 | P44: מערכות מידע | Q44: 32129.35 | R44: 1697.06 | S44: N
A45: 38 | B45: 4502330653 | C45: הרשות למים ולביוב | D45: =VLOOKUP(B45,גיליון2!$A$2:$C$96,2,FALSE) -> 41-30-01-19 | E45: =VLOOKUP(B45,גיליון2!$A$2:$C$96,3,FALSE) -> נכסים ולוגיסטיקה | F45: 40001041 | G45: גסטטנרטק בע"מ | H45: מכונת צילום אשר מוצבת בחטיבת תשתיות ע"פ הוראת תכ"ם | I45: 45108 | J45: 45473 | K45: 510041692 | L45: ILS | M45: 1000.35 | N45: 49.73 | O45: 950.63 | P45: בנא"מ | Q45: 1000.35 | R45: 49.73 | S45: N
... A53: 46 | B53: 4502317270 | C53: הרשות למים ולביוב | D53: =VLOOKUP(B53,גיליון2!$A$2:$C$96,2,FALSE) -> 73-30-01-03 | E53: =VLOOKUP(B53,גיליון2!$A$2:$C$96,3,FALSE) -> ח. השירות ההידרולוגי | F53: 40010597 | G53: מטאו - טק שירותים מטאורולוגיים בע"מ | H53: תקשורת תחנות משדרות | I53: 45047 | J53: 45412 | K53: 511386609 | L53: ILS | M53: 80608.91 | N53: 0 | O53: 80608.91 | P53: הידרולוגי | Q53: 80608.91 | R53: 0 | S53: N
A54: 47 | B54: 4502317551 | C54: הרשות למים ולביוב | D54: =VLOOKUP(B54,גיליון2!$A$2:$C$96,2,FALSE) -> 41-30-01-10 | E54: =VLOOKUP(B54,גיליון2!$A$2:$C$96,3,FALSE) -> משאבי אנוש והדרכה | F54: 10000035 | G54: משרד החוץ | H54: ועדת אקלים בדובאי | I54: 45036 | J54: 45291 | K54: 500101076 | L54: ILS | M54: 38400 | N54: 0 | O54: 38400 | P54: נסיעות לחו"ל | Q54: 38400 | R54: 0 | S54: N
A55: 48 | B55: 4502318331 | C55: הרשות למים ולביוב | D55: =VLOOKUP(B55,גיליון2!$A$2:$C$96,2,FALSE) -> 41-30-01-19 | E55: =VLOOKUP(B55,גיליון2!$A$2:$C$96,3,FALSE) -> נכסים ולוגיסטיקה | F55: 41399852 | G55: יחיאלי נילי | H55: ייעוץ ארגונימי- ייעוץ לסביבת עבודה בריאה | I55: 45047 | J55: 45291 | K55: 054731195 | L55: ILS | M55: 4855.5 | N55: 0 | O55: 4855.5 | P55: בנא"ם | Q55: 4855.5 | R55: 0 | S55: N
A56: 49 | B56: 4502319095 | C56: הרשות למים ולביוב | D56: =VLOOKUP(B56,גיליון2!$A$2:$C$96,2,FALSE) -> 73-30-01-05 | E56: =VLOOKUP(B56,גיליון2!$A$2:$C$96,3,FALSE) -> אגף מערכות מידע | F56: 40004768 | G56: רוקוול אוטומיישן בע"מ | H56: מכרז מרכזי 03/2019-ניהול סיכונים תקשוב והגנת הסייבר | I56: 45017 | J56: 45147 | K56: 512121898 | L56: ILS | M56: 347651.3 | N56: 0 | O56: 347651.3 | P56: מערכות מידע | Q56: 347651.3 | R56: 0 | S56: N
A57: 50 | B57: 4502320342 | C57: הרשות למים ולביוב | D57: =VLOOKUP(B57,גיליון2!$A$2:$C$96,2,FALSE) -> 73-30-01-05 | E57: =VLOOKUP(B57,גיליון2!$A$2:$C$96,3,FALSE) -> אגף מערכות מידע | F57: 40321702 | G57: תים נטקום בע"מ | H57: מחשב נייד תצורה 5.2 | I57: 45046 | J57: 45325 | K57: 511489429 | L57: ILS | M57: 23147.74 | N57: 0 | O57: 23147.74 | P57: מערכות מידע | Q57: 23147.74 | R57: 0 | S57: N
A58: 51 | B58: 4502321247 | C58: הרשות למים ולביוב | D58: =VLOOKUP(B58,גיליון2!$A$2:$C$96,2,FALSE) -> 41-30-01-20 | E58: =VLOOKUP(B58,גיליון2!$A$2:$C$96,3,FALSE) -> משאבי אנוש והדרכה | F58: 40000247 | G58: ההסתדרות הציונית העולמית | H58: סיור מצטיינים 13/06/2023 | I58: 45090 | J58: 45093 | K58: 500500350 | L58: ILS | M58: 1200 | N58: 0 | O58: 1200 | P58: משאבי אנוש | Q58: 1200 | R58: 0 | S58: N
A59: 52 | B59: 4502321272 | C59: הרשות למים ולביוב | D59: =VLOOKUP(B59,גיליון2!$A$2:$C$96,2,FALSE) -> 41-30-01-20 | E59: =VLOOKUP(B59,גיליון2!$A$2:$C$96,3,FALSE) -> משאבי אנוש והדרכה | F59: 42353857 | G59: מג'יק קאס בע"מ | H59: אירוע יום המשפחות עבור עובדי רשות המים | I59: 45155 | J59: 45155 | K59: 515518264 | L59: ILS | M59: 54512.06 | N59: 0 | O59: 54512.06 | P59: משאבי אנוש | Q59: 54512.06 | R59: 0 | S59: N
A60: 53 | B60: 4502321281 | C60: הרשות למים ולביוב | D60: =VLOOKUP(B60,גיליון2!$A$2:$C$96,2,FALSE) -> 41-30-01-20 | E60: =VLOOKUP(B60,גיליון2!$A$2:$C$96,3,FALSE) -> משאבי אנוש והדרכה | F60: 40019239 | G60: המועצה לישראל יפה (ע"ר) | H60: כנס מומחים 2023 - סיור מקצועי | I60: 45111 | J60: 45111 | K60: 580021582 | L60: ILS | M60: 1875 | N60: 0 | O60: 1875 | P60: משאבי אנוש | Q60: 1875 | R60: 0 | S60: N
A61: 54 | B61: 4502321814 | C61: הרשות למים ולביוב | D61: =VLOOKUP(B61,גיליון2!$A$2:$C$96,2,FALSE) -> 41-30-01-20 | E61: =VLOOKUP(B61,גיליון2!$A$2:$C$96,3,FALSE) -> משאבי אנוש והדרכה | F61: 40012014 | G61: ישראל יפה החברה הכלכלית בע"מ | H61: כנס מומחים | I61: 45111 | J61: 45111 | K61: 512145269 | L61: ILS | M61: 19831.5 | N61: 0 | O61: 19831.5 | P61: משאבי אנוש | Q61: 19831.5 | R61: 0 | S61: N
...

Sheet גיליון2
A1: מסמך רכישה | B1: פריט התחייבות | C1: תיאור מרכז קרנות
A2: 4502314236 | B2: 41-30-01-19 | C2: מטה
A3: 4502314354 | B3: 41-30-01-10 | C3: נכסים ולוגיסטיקה
A4: 4502314642 | B4: 41-30-01-20 | C4: משאבי אנוש והדרכה
A5: 4502314654 | B5: 73-30-01-05 | C5: אגף מערכות מידע
A6: 4502314796 | B6: 41-30-01-10 | C6: משאבי אנוש והדרכה
A7: 4502314799 | B7: 41-30-01-10 | C7: משאבי אנוש והדרכה
A8: 4502314811 | B8: 41-30-01-20 | C8: משאבי אנוש והדרכה
A9: 4502315002 | B9: 41-30-01-10 | C9: נכסים ולוגיסטיקה
A10: 4502315593 | B10: 41-30-01-19 | C10: מטה
A11: 4502315728 | B11: 73-30-01-03 | C11: ח. השירות ההידרולוגי
A12: 4502315839 | B12: 41-30-01-19 | C12: מטה
... A17: 4502316270 | B17: 73-30-01-05 | C17: אגף מערכות מידע
A18: 4502316943 | B18: 41-30-01-10 | C18: משאבי אנוש והדרכה
A19: 4502316950 | B19: 41-30-01-20 | C19: משאבי אנוש והדרכה
A20: 4502316982 | B20: 41-30-01-21 | C20: לשכה משפטית
A21: 4502316982 | B21: 41-30-01-21 | C21: לשכה משפטית
A22: 4502317270 | B22: 73-30-01-03 | C22: ח. השירות ההידרולוגי
A23: 4502317551 | B23: 41-30-01-10 | C23: משאבי אנוש והדרכה
A24: 4502318331 | B24: 41-30-01-19 | C24: נכסים ולוגיסטיקה
A25: 4502319095 | B25: 73-30-01-05 | C25: אגף מערכות מידע
A26: 4502320342 | B26: 73-30-01-05 | C26: אגף מערכות מידע
A27: 4502320991 | B27: 41-30-01-19 | C27: נכסים ולוגיסטיקה
A28: 4502321247 | B28: 41-30-01-20 | C28: משאבי אנוש והדרכה
A29: 4502321253 | B29: 41-30-01-20 | C29: משאבי אנוש והדרכה
A30: 4502321272 | B30: 41-30-01-20 | C30: משאבי אנוש והדרכה
... A96: 4502344322 | B96: 41-30-01-20 | C96: משאבי אנוש והדרכה
