Workbook

Sheet 1-3.2022
A1: הזמנת רכש | B1: שם חברה | C1: תאור של ארגון רכש | D1: שם אתר | E1: הזמנת רכש | F1: פריט התחייבות | G1: תיאור תקנה תקציבית | H1: מטרת התקשרות | I1: תאריך מסמך | J1: סיום תקופת תוקף | K1: ספק | L1: שם הספק | M1: מספר רישום מע"מ | N1: ערך הזמנה + מע"מ | O1: מטבע מקומי | P1: ביצוע חשבוניות כולל מע"מ והצמדות במט"מ | Q1: אופן רכישה מקור | R1: הזמנות רגישות | S1: סיבת פטור
A2: מסמך רכישה | B2: שם חברה | C2: תאור של ארגון רכש | D2: שם אתר | E2: מסמך רכישה | F2: פריט התחייבות | G2: תיאור תקנה תקציבית | H2: מטרת התקשרות | I2: תאריך מסמך | J2: סיום תקופת תוקף | K2: ספק | L2: שם הספק | M2: מספר רישום מע"מ | N2: ערך הזמנה + מע"מ | O2: מטבע | P2: ביצוע חשבוניות כולל מע"מ והצמדות במט"מ | Q2: אופן רכישה מקור | S2: סיבת פטור | T2: סימוכין שלך
A3: 4502125387 | B3: רשות המים | C3: הרשות למים ולביוב | D3: הרשות הממשלתית למים ולביוב | E3: 4502125387 | F3: =VLOOKUP(E3,[1]תקנות!$B$1:$D$71,2,0) -> 41-30-01-10 | G3: =VLOOKUP(E3,[1]תקנות!$B$1:$D$71,3,0) -> הוצאות תפעול | H3: מערכות חפציבה | I3: 44573 | J3: 44926 | K3: 40004697 | L3: רמות מ.א. ניהול ותחזוקה (1993) בע"מ | M3: 511845497 | N3: 65117.52 | O3: ILS | P3: 0 | Q3: 23 | R3: לא | S3: 1 | T3: בנא"מ
A4: 4502125407 | B4: רשות המים | C4: הרשות למים ולביוב | D4: הרשות הממשלתית למים ולביוב | E4: 4502125407 | F4: =VLOOKUP(E4,[1]תקנות!$B$1:$D$71,2,0) -> 73-30-01-03 | G4: =VLOOKUP(E4,[1]תקנות!$B$1:$D$71,3,0) -> איכות מים- ניטור | H4: בקרת פרויקטים של ניטור בכנרת ובאגן ההיקוות | I4: 44573 | J4: 44935 | K4: 40561997 | L4: בר-יוסף יהונתן | M4: 17170952 | N4: 179712 | O4: ILS | P4: 0 | Q4: 84 | R4: לא | T4: ניטור כנרת
A5: 4502125429 | B5: רשות המים | C5: הרשות למים ולביוב | D5: הרשות הממשלתית למים ולביוב | E5: 4502125429 | F5: =VLOOKUP(E5,[1]תקנות!$B$1:$D$71,2,0) -> 41-30-01-10 | G5: =VLOOKUP(E5,[1]תקנות!$B$1:$D$71,3,0) -> הוצאות תפעול | H5: החלפת מעליות | I5: 44573 | J5: 44926 | K5: 40004697 | L5: רמות מ.א. ניהול ותחזוקה (1993) בע"מ | M5: 511845497 | N5: 111562.13 | O5: ILS | P5: 0 | Q5: 23 | R5: לא | S5: 1 | T5: בנא"מ
A6: 4502129267 | B6: רשות המים | C6: הרשות למים ולביוב | D6: הרשות הממשלתית למים ולביוב | E6: 4502129267 | F6: =VLOOKUP(E6,[1]תקנות!$B$1:$D$71,2,0) -> 41-30-01-19 | G6: =VLOOKUP(E6,[1]תקנות!$B$1:$D$71,3,0) -> פעולות מנהל וארגון | H6: תיק מהנדס | I6: 44580 | J6: 44742 | K6: 40001103 | L6: קרביץ (1974) בעמ | M6: 510674039 | N6: 536.89 | O6: ILS | P6: 0 | Q6: 7 | R6: לא | T6: בנא"מ
A7: 4502129410 | B7: רשות המים | C7: הרשות למים ולביוב | D7: הרשות הממשלתית למים ולביוב | E7: 4502129410 | F7: =VLOOKUP(E7,[1]תקנות!$B$1:$D$71,2,0) -> 41-30-01-12 | G7: =VLOOKUP(E7,[1]תקנות!$B$1:$D$71,3,0) -> השתתפות במנהל רכב | H7: אחזקת רכבי רשות המים 2022 | I7: 44580 | J7: 44926 | K7: 10000193 | L7: מינהל הרכב הממשלתי | N7: 1825005 | O7: ILS | P7: 609359.13 | Q7: 85 | R7: לא | T7: בנא"מ
A8: 4502130965 | B8: רשות המים | C8: הרשות למים ולביוב | D8: הרשות הממשלתית למים ולביוב | E8: 4502130965 | F8: =VLOOKUP(E8,[1]תקנות!$B$1:$D$71,2,0) -> 73-30-01-03 | G8: =VLOOKUP(E8,[1]תקנות!$B$1:$D$71,3,0) -> איכות מים- ניטור | H8: רכישת סט מפות מלא הכולל סימון שבילים | I8: 44584 | J8: 44735 | K8: 10000127 | L8: המרכז למיפוי ישראל | N8: 1360 | O8: ILS | P8: 0 | Q8: 23 | R8: לא | S8: 57 | T8: הידרולוגי
A9: 4502131451 | B9: רשות המים | C9: הרשות למים ולביוב | D9: הרשות הממשלתית למים ולביוב | E9: 4502131451 | F9: =VLOOKUP(E9,[1]תקנות!$B$1:$D$71,2,0) -> 73-30-01-03 | G9: =VLOOKUP(E9,[1]תקנות!$B$1:$D$71,3,0) -> איכות מים- ניטור | H9: ביצוע שני קידוחי סקר באזור ריחן בגלבוע | I9: 44585 | J9: 44620 | K9: 40010820 | L9: אורון תשתיות ובניה (ג.י.) בע"מ | M9: 512262536 | N9: 198315.01 | O9: ILS | P9: 0 | Q9: 84 | R9: לא | T9: הידרולוגי
A10: 4502131531 | B10: רשות המים | C10: הרשות למים ולביוב | D10: הרשות הממשלתית למים ולביוב | E10: 4502131531 | F10: =VLOOKUP(E10,[1]תקנות!$B$1:$D$71,2,0) -> 73-30-01-03 | G10: =VLOOKUP(E10,[1]תקנות!$B$1:$D$71,3,0) -> איכות מים- ניטור | H10: הרחבה להתקשרות ביצוע שני קידוחי סקר באזור ריחן בגלבוע | I10: 44585 | J10: 44742 | K10: 40010820 | L10: אורון תשתיות ובניה (ג.י.) בע"מ | M10: 512262536 | N10: 329004 | O10: ILS | P10: 0 | Q10: 23 | R10: לא | S10: 88 | T10: הידרולוגי
A11: 4502133600 | B11: רשות המים | C11: הרשות למים ולביוב | D11: הרשות הממשלתית למים ולביוב | E11: 4502133600 | F11: =VLOOKUP(E11,[1]תקנות!$B$1:$D$71,2,0) -> 41-30-01-13 | G11: =VLOOKUP(E11,[1]תקנות!$B$1:$D$71,3,0) -> השתתפות במנהל דיור | H11: שכר דירה 2022 | I11: 44587 | J11: 44926 | K11: 10000192 | L11: מינהל הדיור הממשלתי | N11: 3072004 | O11: ILS | P11: 110209.35 | Q11: 85 | R11: לא | T11: בנא"מ
A12: 4502133622 | B12: רשות המים | C12: הרשות למים ולביוב | D12: הרשות הממשלתית למים ולביוב | E12: 4502133622 | F12: =VLOOKUP(E12,[1]תקנות!$B$1:$D$71,2,0) -> 41-30-01-11 | G12: =VLOOKUP(E12,[1]תקנות!$B$1:$D$71,3,0) -> דמי שימוש ממשלתיים | H12: דמי שימוש לאתרי רשות המים לשנת 2022 | I12: 44587 | J12: 44926 | K12: 10000192 | L12: מינהל הדיור הממשלתי | N12: 1513450 | O12: ILS | P12: 402940.92 | Q12: 85 | R12: לא | T12: בנא"מ
A13: 4502134282 | B13: רשות המים | C13: הרשות למים ולביוב | D13: הרשות הממשלתית למים ולביוב | E13: 4502134282 | F13: =VLOOKUP(E13,[1]תקנות!$B$1:$D$71,2,0) -> 41-30-01-20 | G13: =VLOOKUP(E13,[1]תקנות!$B$1:$D$71,3,0) -> הדרכה ורווחה | H13: הרצאה בנושא הערכת עובדים למנהלים ועובדי רשות המים | I13: 44591 | J13: 44620 | K13: 42205668 | L13: דניאל עדי | M13: 33137795 | N13: 2925 | O13: ILS | P13: 2925 | Q13: 23 | R13: לא | S13: 57 | T13: משאבי אנוש
A14: 4502134342 | B14: רשות המים | C14: הרשות למים ולביוב | D14: הרשות הממשלתית למים ולביוב | E14: 4502134342 | F14: =VLOOKUP(E14,[1]תקנות!$B$1:$D$71,2,0) -> 41-30-01-20 | G14: =VLOOKUP(E14,[1]תקנות!$B$1:$D$71,3,0) -> הדרכה ורווחה | H14: יום עיון עבור עובדי יחידת הפיקוח | I14: 44591 | J14: 44606 | K14: 42364399 | L14: מאור כראל | M14: 558469599 | N14: 3159 | O14: ILS | P14: 2100 | Q14: 23 | R14: לא | S14: 57 | T14: משאבי אנוש
A15: 4502135572 | B15: רשות המים | C15: הרשות למים ולביוב | D15: הרשות הממשלתית למים ולביוב | E15: 4502135572 | F15: =VLOOKUP(E15,[1]תקנות!$B$1:$D$71,2,0) -> 41-30-01-20 | G15: =VLOOKUP(E15,[1]תקנות!$B$1:$D$71,3,0) -> הדרכה ורווחה | H15: תוכנית ליווי לעובדים המטפלים בבני משפחה בשרות המדינה 2022 | I15: 44592 | J15: 44643 | K15: 10000461 | L15: נציבות שרות המדינה | N15: 2400 | O15: ILS | P15: 0 | Q15: 85 | R15: לא | T15: משאבי אנוש
A16: 4502135582 | B16: רשות המים | C16: הרשות למים ולביוב | D16: הרשות הממשלתית למים ולביוב | E16: 4502135582 | F16: =VLOOKUP(E16,[1]תקנות!$B$1:$D$71,2,0) -> 41-30-01-20 | G16: =VLOOKUP(E16,[1]תקנות!$B$1:$D$71,3,0) -> הדרכה ורווחה | H16: רכישת גיפט כארד לימי הולדת + ומתנות ליולדות | I16: 44592 | J16: 44957 | K16: 40288804 | L16: קשרים פלוס בע"מ | M16: 513887547 | N16: 21000 | O16: ILS | P16: 0 | Q16: 23 | R16: לא | S16: 57 | T16: משאבי אנוש
A17: 4502135776 | B17: רשות המים | C17: הרשות למים ולביוב | D17: הרשות הממשלתית למים ולביוב | E17: 4502135776 | F17: =VLOOKUP(E17,[1]תקנות!$B$1:$D$71,2,0) -> 41-30-01-20 | G17: =VLOOKUP(E17,[1]תקנות!$B$1:$D$71,3,0) -> הדרכה ורווחה | H17: רכישת שי לעובדים - יום המשפחה | I17: 44593 | J17: 44620 | K17: 41401628 | L17: ביי מי טכנולוגיות בע"מ | M17: 514480276 | N17: 11041.06 | O17: ILS | P17: 9936.95 | Q17: 23 | R17: לא | S17: 57 | T17: משאבי אנוש
A18: 4502136906 | B18: רשות המים | C18: הרשות למים ולביוב | D18: הרשות הממשלתית למים ולביוב | E18: 4502136906 | F18: =VLOOKUP(E18,[1]תקנות!$B$1:$D$71,2,0) -> 41-30-01-20 | G18: =VLOOKUP(E18,[1]תקנות!$B$1:$D$71,3,0) -> הדרכה ורווחה | H18: קורס מנהלים - תכנית פיתוח מנהלי דרגי יסוד | I18: 44594 | J18: 44767 | K18: 10000461 | L18: נציבות שרות המדינה | N18: 5600 | O18: ILS | P18: 0 | Q18: 85 | R18: לא | T18: משאבי אנוש
A19: 4502136939 | B19: רשות המים | C19: הרשות למים ולביוב | D19: הרשות הממשלתית למים ולביוב | E19: 4502136939 | F19: =VLOOKUP(E19,[1]תקנות!$B$1:$D$71,2,0) -> 41-30-01-20 | G19: =VLOOKUP(E19,[1]תקנות!$B$1:$D$71,3,0) -> הדרכה ורווחה | H19: קורס ניו מדיה | I19: 44594 | J19: 44644 | K19: 10000024 | L19: לשכת העיתונות הממשלתית | N19: 2400 | O19: ILS | P19: 0 | Q19: 85 | R19: לא | T19: משאבי אנוש
A20: 4502137534 | B20: רשות המים | C20: הרשות למים ולביוב | D20: הרשות הממשלתית למים ולביוב | E20: 4502137534 | F20: =VLOOKUP(E20,[1]תקנות!$B$1:$D$71,2,0) -> 73-30-01-05 | G20: =VLOOKUP(E20,[1]תקנות!$B$1:$D$71,3,0) -> פיתוח ותחזוקת מערכות | H20: מדפסות ניידות | I20: 44595 | J20: 45093 | K20: 40001247 | L20: הראל טכנולוגיות מידע בע"מ | M20: 511401002 | N20: 2464.6 | O20: ILS | P20: 0 | Q20: 7 | R20: לא | T20: מערכות מידע
A21: 4502138418 | B21: רשות המים | C21: הרשות למים ולביוב | D21: הרשות הממשלתית למים ולביוב | E21: 4502138418 | F21: =VLOOKUP(E21,[1]תקנות!$B$1:$D$71,2,0) -> 73-30-01-03 | G21: =VLOOKUP(E21,[1]תקנות!$B$1:$D$71,3,0) -> איכות מים- ניטור | H21: צוות היגוי | I21: 44599 | J21: 44985 | K21: 40009984 | L21: שמיר אורי יוסף | M21: 1521350 | N21: 9874.8 | O21: ILS | P21: 0 | Q21: 76 | R21: לא | T21: ניטור כנרת
A22: 4502138437 | B22: רשות המים | C22: הרשות למים ולביוב | D22: הרשות הממשלתית למים ולביוב | E22: 4502138437 | F22: =VLOOKUP(E22,[1]תקנות!$B$1:$D$71,2,0) -> 73-30-01-03 | G22: =VLOOKUP(E22,[1]תקנות!$B$1:$D$71,3,0) -> איכות מים- ניטור | H22: צוות היגוי | I22: 44599 | J22: 44985 | K22: 40020003 | L22: פרידלר ערן גד שמואל | N22: 8798.4 | O22: ILS | P22: 0 | Q22: 76 | R22: לא | T22: ניטור כנרת
A23: 4502138442 | B23: רשות המים | C23: הרשות למים ולביוב | D23: הרשות הממשלתית למים ולביוב | E23: 4502138442 | F23: =VLOOKUP(E23,[1]תקנות!$B$1:$D$71,2,0) -> 73-30-01-03 | G23: =VLOOKUP(E23,[1]תקנות!$B$1:$D$71,3,0) -> איכות מים- ניטור | H23: צוות היגוי | I23: 44599 | J23: 44985 | K23: 42240606 | L23: גפני שריג | M23: 54898911 | N23: 8798.4 | O23: ILS | P23: 0 | Q23: 76 | R23: לא | T23: ניטור כנרת
A24: 4502140977 | B24: רשות המים | C24: הרשות למים ולביוב | D24: הרשות הממשלתית למים ולביוב | E24: 4502140977 | F24: =VLOOKUP(E24,[1]תקנות!$B$1:$D$71,2,0) -> 41-30-01-13 | G24: =VLOOKUP(E24,[1]תקנות!$B$1:$D$71,3,0) -> השתתפות במנהל דיור | H24: תגבור אנרגיה 2022 | I24: 44602 | J24: 44926 | K24: 10000192 | L24: מינהל הדיור הממשלתי | N24: 164623 | O24: ILS | P24: 13718.58 | Q24: 85 | R24: לא | T24: בנא"מ
A25: 4502141831 | B25: רשות המים | C25: הרשות למים ולביוב | D25: הרשות הממשלתית למים ולביוב | E25: 4502141831 | F25: =VLOOKUP(E25,[1]תקנות!$B$1:$D$71,2,0) -> 41-30-01-20 | G25: =VLOOKUP(E25,[1]תקנות!$B$1:$D$71,3,0) -> הדרכה ורווחה | H25: השתלמות במסגרת "איגוד מהנדסים" | I25: 44606 | J25: 44642 | K25: 40005280 | L25: איגוד המהנדסים לבניה ולתשתיות בישרא | N25: 9842 | O25: ILS | P25: 0 | Q25: 23 | R25: לא | S25: 57 | T25: משאבי אנוש
A26: 4502142036 | B26: רשות המים | C26: הרשות למים ולביוב | D26: הרשות הממשלתית למים ולביוב | E26: 4502142036 | F26: =VLOOKUP(E26,[1]תקנות!$B$1:$D$71,2,0) -> 41-30-01-20 | G26: =VLOOKUP(E26,[1]תקנות!$B$1:$D$71,3,0) -> הדרכה ורווחה | H26: נציגת ועדת בוחנים | I26: 44606 | J26: 44592 | K26: 42351720 | L26: איפרגן חנה ג'וסלין שמח | N26: 538.2 | O26: ILS | P26: 0 | Q26: 76 | R26: לא | T26: משאבי אנוש
A27: 4502142044 | B27: רשות המים | C27: הרשות למים ולביוב | D27: הרשות הממשלתית למים ולביוב | E27: 4502142044 | F27: =VLOOKUP(E27,[1]תקנות!$B$1:$D$71,2,0) -> 41-30-01-20 | G27: =VLOOKUP(E27,[1]תקנות!$B$1:$D$71,3,0) -> הדרכה ורווחה | H27: נציגת ציבור | I27: 44606 | J27: 44620 | K27: 42112669 | L27: לזרוביץ ציליה | N27: 538.2 | O27: ILS | P27: 538.2 | Q27: 76 | R27: לא | T27: משאבי אנוש
A28: 4502142068 | B28: רשות המים | C28: הרשות למים ולביוב | D28: הרשות הממשלתית למים ולביוב | E28: 4502142068 | F28: =VLOOKUP(E28,[1]תקנות!$B$1:$D$71,2,0) -> 41-30-01-20 | G28: =VLOOKUP(E28,[1]תקנות!$B$1:$D$71,3,0) -> הדרכה ורווחה | H28: הרצאה ליום הזיכרון - להמריא מתוך האפילה | I28: 44606 | J28: 44681 | K28: 40930768 | L28: לקריף יובל | M28: 57815474 | N28: 2500 | O28: ILS | P28: 0 | Q28: 23 | R28: לא | S28: 57 | T28: משאבי אנוש
A29: 4502142082 | B29: רשות המים | C29: הרשות למים ולביוב | D29: הרשות הממשלתית למים ולביוב | E29: 4502142082 | F29: =VLOOKUP(E29,[1]תקנות!$B$1:$D$71,2,0) -> 41-30-01-20 | G29: =VLOOKUP(E29,[1]תקנות!$B$1:$D$71,3,0) -> הדרכה ורווחה | H29: תוכנית skill you - כישורי קריירה לעולם העבודה המשתנה | I29: 44606 | J29: 110390 | K29: 10000461 | L29: נציבות שרות המדינה | N29: 1660 | O29: ILS | P29: 0 | Q29: 85 | R29: לא | T29: משאבי אנוש
A30: 4502142092 | B30: רשות המים | C30: הרשות למים ולביוב | D30: הרשות הממשלתית למים ולביוב | E30: 4502142092 | F30: =VLOOKUP(E30,[1]תקנות!$B$1:$D$71,2,0) -> 41-30-01-20 | G30: =VLOOKUP(E30,[1]תקנות!$B$1:$D$71,3,0) -> הדרכה ורווחה | H30: גיבוש יחידתי - עמותת בית הגלגלים | I30: 44606 | J30: 44926 | K30: 40293009 | L30: בית הגלגלים (ע"ר) | N30: 50000 | O30: ILS | P30: 0 | Q30: 23 | R30: לא | S30: 57 | T30: משאבי אנוש
A31: 4502142678 | B31: רשות המים | C31: הרשות למים ולביוב | D31: הרשות הממשלתית למים ולביוב | E31: 4502142678 | F31: =VLOOKUP(E31,[1]תקנות!$B$1:$D$71,2,0) -> 73-30-01-03 | G31: =VLOOKUP(E31,[1]תקנות!$B$1:$D$71,3,0) -> איכות מים- ניטור | H31: רכישת תוכנה | I31: 44607 | J31: 44681 | K31: 40009639 | L31: מאגרי תוכנה (מ.ת.) בע"מ | M31: 513442442 | N31: 5000 | O31: ILS | P31: 5000 | Q31: 23 | R31: לא | S31: 57 | T31: הידרולוגי
A32: 4502142872 | B32: רשות המים | C32: הרשות למים ולביוב | D32: הרשות הממשלתית למים ולביוב | E32: 4502142872 | F32: =VLOOKUP(E32,[1]תקנות!$B$1:$D$71,2,0) -> 41-30-01-20 | G32: =VLOOKUP(E32,[1]תקנות!$B$1:$D$71,3,0) -> הדרכה ורווחה | H32: רכישת גיפט כארד עובדי רשות המים וכיתה א' | I32: 44607 | J32: 44926 | K32: 40288804 | L32: קשרים פלוס בע"מ | M32: 513887547 | N32: 3276 | O32: ILS | P32: 0 | Q32: 23 | R32: לא | S32: 57 | T32: משאבי אנוש
A33: 4502142889 | B33: רשות המים | C33: הרשות למים ולביוב | D33: הרשות הממשלתית למים ולביוב | E33: 4502142889 | F33: =VLOOKUP(E33,[1]תקנות!$B$1:$D$71,2,0) -> 41-30-01-19 | G33: =VLOOKUP(E33,[1]תקנות!$B$1:$D$71,3,0) -> פעולות מנהל וארגון | H33: רכש שלטים חכמים כולל מסך | I33: 44607 | J33: 44742 | K33: 41101636 | L33: לול טי.וי. בע"מ | M33: 514858810 | N33: 9598.68 | O33: ILS | P33: 9598.7 | Q33: 23 | R33: לא | S33: 57 | T33: יו"ש
A34: 4502143310 | B34: רשות המים | C34: הרשות למים ולביוב | D34: הרשות הממשלתית למים ולביוב | E34: 4502143310 | F34: =VLOOKUP(E34,[1]תקנות!$B$1:$D$71,2,0) -> 41-30-01-26 | G34: =VLOOKUP(E34,[1]תקנות!$B$1:$D$71,3,0) -> היערכות משק המים לשע | H34: בן שירות לאומי עבור אגף בטחון מים | I34: 44608 | J34: 44651 | K34: 41455447 | L34: אופק לקידום מתנדבים צעירים בישראל ( | N34: 1590.43 | O34: ILS | P34: 1590.43 | Q34: 23 | R34: לא | S34: 57 | T34: ביטחון מים
A35: 4502148039 | B35: רשות המים | C35: הרשות למים ולביוב | D35: הרשות הממשלתית למים ולביוב | E35: 4502148039 | F35: =VLOOKUP(E35,[1]תקנות!$B$1:$D$71,2,0) -> 41-30-01-10 | G35: =VLOOKUP(E35,[1]תקנות!$B$1:$D$71,3,0) -> הוצאות תפעול | H35: ארנונה עמק המעיינות 2022 | I35: 44619 | J35: 44926 | K35: 20000134 | L35: מ. א. עמק המעיינות | M35: 500223078 | N35: 1314.94 | O35: ILS | P35: 487.24 | Q35: 90 | R35: לא | T35: בנא"מ
A36: 4502148548 | B36: רשות המים | C36: הרשות למים ולביוב | D36: הרשות הממשלתית למים ולביוב | E36: 4502148548 | F36: =VLOOKUP(E36,[1]תקנות!$B$1:$D$71,2,0) -> 73-30-01-03 | G36: =VLOOKUP(E36,[1]תקנות!$B$1:$D$71,3,0) -> איכות מים- ניטור | H36: הסמכת מעבדה | I36: 44620 | J36: 45372 | K36: 40004140 | L36: הרשות הלאומית להסמכת מעבדות | N36: 43400 | O36: ILS | P36: 8400 | Q36: 23 | R36: לא | S36: 11 | T36: איכות מים
A37: 4502148785 | B37: רשות המים | C37: הרשות למים ולביוב | D37: הרשות הממשלתית למים ולביוב | E37: 4502148785 | F37: =VLOOKUP(E37,[1]תקנות!$B$1:$D$71,2,0) -> 41-30-01-20 | G37: =VLOOKUP(E37,[1]תקנות!$B$1:$D$71,3,0) -> הדרכה ורווחה | H37: קורס דיני חוזים | I37: 44620 | J37: 44681 | K37: 40003393 | L37: ענבל חברה לביטוח בע"מ-מקבל הלואות | M37: 520031030 | N37: 5333 | O37: ILS | P37: 0 | Q37: 85 | R37: לא | T37: משאבי אנוש
A38: 4502150062 | B38: רשות המים | C38: הרשות למים ולביוב | D38: הרשות הממשלתית למים ולביוב | E38: 4502150062 | F38: =VLOOKUP(E38,[1]תקנות!$B$1:$D$71,2,0) -> 41-30-01-10 | G38: =VLOOKUP(E38,[1]תקנות!$B$1:$D$71,3,0) -> הוצאות תפעול | H38: חכירת מדיחים לקומות 5+6 ג'נרי | I38: 44622 | J38: 44985 | K38: 40931516 | L38: דיאיי טכנולוגיות בע"מ | M38: 511765596 | N38: 10389.6 | O38: ILS | P38: 0 | Q38: 7 | R38: לא | T38: בנא"מ
A39: 4502151063 | B39: רשות המים | C39: הרשות למים ולביוב | D39: הרשות הממשלתית למים ולביוב | E39: 4502151063 | F39: =VLOOKUP(E39,[1]תקנות!$B$1:$D$71,2,0) -> 73-30-01-05 | G39: =VLOOKUP(E39,[1]תקנות!$B$1:$D$71,3,0) -> פיתוח ותחזוקת מערכות | H39: רכישת סוללות | I39: 44626 | J39: 44992 | K39: 40001210 | L39: מטריקס אי.טי. אינטגרציה ותשתיות בע" | M39: 511204026 | N39: 4329 | O39: ILS | P39: 0 | Q39: 23 | R39: לא | S39: 57 | T39: מערכות מידע
A40: 4502151185 | B40: רשות המים | C40: הרשות למים ולביוב | D40: הרשות הממשלתית למים ולביוב | E40: 4502151185 | F40: =VLOOKUP(E40,[1]תקנות!$B$1:$D$71,2,0) -> 41-30-01-20 | G40: =VLOOKUP(E40,[1]תקנות!$B$1:$D$71,3,0) -> הדרכה ורווחה | H40: מסיבת פורים | I40: 44626 | J40: 44651 | K40: 42081847 | L40: י. שחר תעשיות מזון בע"מ | M40: 515275717 | N40: 1567.8 | O40: ILS | P40: 0 | Q40: 23 | R40: לא | S40: 57 | T40: משאבי אנוש
...
