Workbook

Sheet גיליון1
A1: מסמך רכישה | B1: שם חברה | C1: מספר תקנה | D1: שם תקנה | E1: טקסט כותרת | F1: התחלת תקופת תוקף | G1: סיום תקופת תוקף | H1: ספק | I1: שם הספק | J1: מספר רישום מע"מ | K1: מטבע | L1: ערך הזמנה + מע"מ | M1: ביצוע חשבוניות כולל מע"מ והצמדות במט"מ | N1: יתרת הזמנות נומינלית + מעמ | O1: סימוכין שלך | P1: ערך הזמנה במ.ט.מ | Q1: ביצוע ערך קבלות הטובין במט"מ | R1: הזמנות רגישות
A2: 4502240664 | B2: הרשות למים ולביוב | C2: =VLOOKUP(טבלה1[[#This Row],[מסמך רכישה]],גיליון2!$B$1:$D$248,2,FALSE) -> 73-30-01-05 | D2: =VLOOKUP(טבלה1[[#This Row],[מסמך רכישה]],גיליון2!$B$1:$D$248,3,FALSE) -> פיתוח ותחזוקת מערכות | E2: מחשב נייד 14" מתקדם | F2: 44873 | G2: 45141 | H2: 40532479 | I2: זיפקום תקשורת בע"מ | J2: 512781790 | K2: ILS | L2: 134049.7 | M2: 141952.92 | N2: 0 | O2: מערכות מידע | P2: 134049.7 | Q2: 134049.7 | R2: N
A3: 4502240164 | B3: הרשות למים ולביוב | C3: =VLOOKUP(טבלה1[[#This Row],[מסמך רכישה]],גיליון2!$B$1:$D$248,2,FALSE) -> 73-30-01-05 | D3: =VLOOKUP(טבלה1[[#This Row],[מסמך רכישה]],גיליון2!$B$1:$D$248,3,FALSE) -> פיתוח ותחזוקת מערכות | E3: רכישת מתכלים, שירותי תחזוקה ואחריות ושירותי חכירה | F3: 44869 | G3: 46752 | H3: 40001244 | I3: דנגוט מחשבים בע"מ | J3: 511398836 | K3: ILS | L3: 17829.42 | M3: 18152.63 | N3: 0 | O3: מערכות מידע | P3: 17829.42 | Q3: 17829.42 | R3: N
A4: 4502258334 | B4: הרשות למים ולביוב | C4: =VLOOKUP(טבלה1[[#This Row],[מסמך רכישה]],גיליון2!$B$1:$D$248,2,FALSE) -> 41-30-01-10 | D4: =VLOOKUP(טבלה1[[#This Row],[מסמך רכישה]],גיליון2!$B$1:$D$248,3,FALSE) -> הוצאות תפעול | E4: תשלום עבור התקן מד אוץ לחודש 9/22 | F4: 44805 | G4: 44926 | H4: 40005422 | I4: סונול ישראל בעמ | J4: 510902729 | K4: ILS | L4: 203.93 | M4: 210.6 | N4: 0 | O4: בנא"מ | P4: 24545.33 | Q4: 203.93 | R4: N
A5: 4502269531 | B5: הרשות למים ולביוב | C5: =VLOOKUP(טבלה1[[#This Row],[מסמך רכישה]],גיליון2!$B$1:$D$248,2,FALSE) -> 73-30-01-05 | D5: =VLOOKUP(טבלה1[[#This Row],[מסמך רכישה]],גיליון2!$B$1:$D$248,3,FALSE) -> פיתוח ותחזוקת מערכות | E5: הסכם לחידוש רישוי מוצרי ושירותי מיקרוסופט | F5: 44927 | G5: 46022 | H5: 41129478 | I5: יו-ביטק סולושנס בע"מ | J5: 514008333 | K5: ILS | L5: 111090.16 | M5: 116575.57 | N5: 0 | O5: מערכות מידע | P5: 134039.16 | Q5: 111090.16 | R5: N
A6: 4502259010 | B6: הרשות למים ולביוב | C6: =VLOOKUP(טבלה1[[#This Row],[מסמך רכישה]],גיליון2!$B$1:$D$248,2,FALSE) -> 73-30-01-05 | D6: =VLOOKUP(טבלה1[[#This Row],[מסמך רכישה]],גיליון2!$B$1:$D$248,3,FALSE) -> פיתוח ותחזוקת מערכות | E6: חידוש רישוי שנתי ADOBE ACROBAT PRO FRL | F6: 44973 | G6: 45338 | H6: 40009639 | I6: מאגרי תוכנה (מ.ת.) בע"מ | J6: 513442442 | K6: ILS | L6: 1937.85 | M6: 1930.52 | N6: 0 | O6: מערכות מידע | P6: 5183.74 | Q6: 1937.85 | R6: N
A7: 4502269813 | B7: הרשות למים ולביוב | C7: =VLOOKUP(טבלה1[[#This Row],[מסמך רכישה]],גיליון2!$B$1:$D$248,2,FALSE) -> 73-30-01-05 | D7: =VLOOKUP(טבלה1[[#This Row],[מסמך רכישה]],גיליון2!$B$1:$D$248,3,FALSE) -> פיתוח ותחזוקת מערכות | E7: החלפת הפורטי במתקני ההתפלה ב CHECK POINT | F7: 44917 | G7: 45108 | H7: 40001108 | I7: בינת תקשורת מחשבים בע"מ | J7: 510713407 | K7: ILS | L7: 134039.16 | M7: 137084.45 | N7: 0 | O7: מערכות מידע | P7: 1989 | Q7: 134039.16 | R7: N
A8: 4502249370 | B8: הרשות למים ולביוב | C8: =VLOOKUP(טבלה1[[#This Row],[מסמך רכישה]],גיליון2!$B$1:$D$248,2,FALSE) -> 73-30-01-05 | D8: =VLOOKUP(טבלה1[[#This Row],[מסמך רכישה]],גיליון2!$B$1:$D$248,3,FALSE) -> פיתוח ותחזוקת מערכות | E8: רכישת מתכלים | F8: 44887 | G8: 46934 | H8: 40001247 | I8: הראל טכנולוגיות מידע בע"מ | J8: 511401002 | K8: ILS | L8: 5183.74 | M8: 5189.7 | N8: 0 | O8: מערכות מידע | P8: 7605 | Q8: 5183.74 | R8: N
A9: 4502269235 | B9: הרשות למים ולביוב | C9: =VLOOKUP(טבלה1[[#This Row],[מסמך רכישה]],גיליון2!$B$1:$D$248,2,FALSE) -> 73-30-01-05 | D9: =VLOOKUP(טבלה1[[#This Row],[מסמך רכישה]],גיליון2!$B$1:$D$248,3,FALSE) -> פיתוח ותחזוקת מערכות | E9: הסכם לחידוש רישוי מוצרי ושירותי מיקרוסופט מוצרים | F9: 44927 | G9: 46022 | H9: 41129478 | I9: יו-ביטק סולושנס בע"מ | J9: 514008333 | K9: ILS | L9: 333729.18 | M9: 342564.44 | N9: 0 | O9: מערכות מידע | P9: 3159 | Q9: 333729.18 | R9: N
A10: 4502230756 | B10: הרשות למים ולביוב | C10: =VLOOKUP(טבלה1[[#This Row],[מסמך רכישה]],גיליון2!$B$1:$D$248,2,FALSE) -> 41-30-01-19 | D10: =VLOOKUP(טבלה1[[#This Row],[מסמך רכישה]],גיליון2!$B$1:$D$248,3,FALSE) -> פעולות מנהל וארגון | E10: רכישת עגלת מטען עבור יחידת צפ"א | F10: 44836 | G10: 44926 | H10: 40336715 | I10: ש.ב. פתרונות שינוע בע"מ | J10: 513941229 | K10: ILS | L10: 1989 | M10: 1989 | N10: 0 | O10: צפ"א | P10: 47469.24 | Q10: 1989 | R10: N
A11: 4502231561 | B11: הרשות למים ולביוב | C11: =VLOOKUP(טבלה1[[#This Row],[מסמך רכישה]],גיליון2!$B$1:$D$248,2,FALSE) -> 41-30-01-19 | D11: =VLOOKUP(טבלה1[[#This Row],[מסמך רכישה]],גיליון2!$B$1:$D$248,3,FALSE) -> פעולות מנהל וארגון | E11: הרצאה עבור כנס רפרנטים ב-25.10.2022 | F11: 44859 | G11: 44859 | H11: 40984566 | I11: אביב גילת | J11: 022699755 | K11: ILS | L11: 7605 | M11: 7605 | N11: 0 | O11: רכש | P11: 4329 | Q11: 7605 | R11: N
A12: 4502232934 | B12: הרשות למים ולביוב | C12: =VLOOKUP(טבלה1[[#This Row],[מסמך רכישה]],גיליון2!$B$1:$D$248,2,FALSE) -> 41-30-01-10 | D12: =VLOOKUP(טבלה1[[#This Row],[מסמך רכישה]],גיליון2!$B$1:$D$248,3,FALSE) -> הוצאות תפעול | E12: דפי רישיונות | F12: 44854 | G12: 45218 | H12: 40006968 | I12: דוקופרינט בע"מ | J12: 510885932 | K12: ILS | L12: 3159 | M12: 3159 | N12: 0 | O12: אסדרה | P12: 3299.4 | Q12: 3159 | R12: N
A13: 4502235286 | B13: הרשות למים ולביוב | C13: =VLOOKUP(טבלה1[[#This Row],[מסמך רכישה]],גיליון2!$B$1:$D$248,2,FALSE) -> 73-30-01-31 | D13: =VLOOKUP(טבלה1[[#This Row],[מסמך רכישה]],גיליון2!$B$1:$D$248,3,FALSE) -> חיזוי שטפונות | E13: עדכונים ותמיכה באפליקציה לחיזוי שיטפונות | F13: 44837 | G13: 45201 | H13: 40010832 | I13: אנויטק בע"מ | J13: 512336454 | K13: ILS | L13: 47469.24 | M13: 47469.24 | N13: 0 | O13: הידרולוגי | P13: 1420 | Q13: 47469.24 | R13: N
... A31: 4502249180 | B31: הרשות למים ולביוב | C31: =VLOOKUP(טבלה1[[#This Row],[מסמך רכישה]],גיליון2!$B$1:$D$248,2,FALSE) -> 41-30-01-39 | D31: =VLOOKUP(טבלה1[[#This Row],[מסמך רכישה]],גיליון2!$B$1:$D$248,3,FALSE) -> סייבר | E31: שירותי קוויי IPVPN לטובת סוק מים | F31: 44887 | G31: 45291 | H31: 41560706 | I31: בינת עסקים בע"מ | J31: 514752310 | K31: ILS | L31: 3310.97 | M31: 3310.97 | N31: 0 | O31: מערכות מידע | P31: 216.03 | Q31: 3310.97 | R31: N
A32: 4502249188 | B32: הרשות למים ולביוב | C32: =VLOOKUP(טבלה1[[#This Row],[מסמך רכישה]],גיליון2!$B$1:$D$248,2,FALSE) -> 41-30-01-20 | D32: =VLOOKUP(טבלה1[[#This Row],[מסמך רכישה]],גיליון2!$B$1:$D$248,3,FALSE) -> הדרכה ורווחה | E32: השתתפות בוועדת בוחנים | F32: 44825 | G32: 44895 | H32: 40141883 | I32: קורנהאוזר אליזבטה | J32: 500101753 | K32: ILS | L32: 831.87 | M32: 831.87 | N32: 0 | O32: משאבי אנוש | P32: 93.6 | Q32: 831.87 | R32: N
A33: 4502249214 | B33: הרשות למים ולביוב | C33: =VLOOKUP(טבלה1[[#This Row],[מסמך רכישה]],גיליון2!$B$1:$D$248,2,FALSE) -> 73-30-01-05 | D33: =VLOOKUP(טבלה1[[#This Row],[מסמך רכישה]],גיליון2!$B$1:$D$248,3,FALSE) -> פיתוח ותחזוקת מערכות | E33: חידוש רישוי מערכת זום - 16 רישיונות | F33: 44927 | G33: 45291 | H33: 40009639 | I33: מאגרי תוכנה (מ.ת.) בע"מ | J33: 513442442 | K33: ILS | L33: 10108.8 | M33: 10108.8 | N33: 0 | O33: מערכות מידע | P33: 5000 | Q33: 10108.8 | R33: N
A34: 4502250159 | B34: הרשות למים ולביוב | C34: =VLOOKUP(טבלה1[[#This Row],[מסמך רכישה]],גיליון2!$B$1:$D$248,2,FALSE) -> 41-30-01-10 | D34: =VLOOKUP(טבלה1[[#This Row],[מסמך רכישה]],גיליון2!$B$1:$D$248,3,FALSE) -> הוצאות תפעול | E34: בדיקה שנתית של ציוד ערכות עבודה בגובה | F34: 44888 | G34: 45107 | H34: 41046624 | I34: מערכות בטיחות ג.י. בע"מ | J34: 514954635 | K34: ILS | L34: 3744 | M34: 3744 | N34: 0 | O34: בנא"מ | P34: 2906.35 | Q34: 3744 | R34: N
A35: 4502250530 | B35: הרשות למים ולביוב | C35: =VLOOKUP(טבלה1[[#This Row],[מסמך רכישה]],גיליון2!$B$1:$D$248,2,FALSE) -> 41-30-01-20 | D35: =VLOOKUP(טבלה1[[#This Row],[מסמך רכישה]],גיליון2!$B$1:$D$248,3,FALSE) -> הדרכה ורווחה | E35: שי לחנוכה | F35: 44889 | G35: 44926 | H35: 41402103 | I35: סולתם - רדד (כלי בית) בע"מ | J35: 515360188 | K35: ILS | L35: 42550.09 | M35: 42550.09 | N35: 0 | O35: משאבי אנוש | P35: 1514 | Q35: 42550.09 | R35: N
A36: 4502252255 | B36: הרשות למים ולביוב | C36: =VLOOKUP(טבלה1[[#This Row],[מסמך רכישה]],גיליון2!$B$1:$D$248,2,FALSE) -> 73-30-01-05 | D36: =VLOOKUP(טבלה1[[#This Row],[מסמך רכישה]],גיליון2!$B$1:$D$248,3,FALSE) -> פיתוח ותחזוקת מערכות | E36: חידוש שנתי לרישיונות תוכנת business objects. | F36: 44562 | G36: 44926 | H36: 40004372 | I36: מטריקס אי.טי. מוצרי תוכנה בע"מ | J36: 511072399 | K36: ILS | L36: 29636.1 | M36: 29636.1 | N36: 0 | O36: מערכות מידע | P36: 1109.16 | Q36: 29636.1 | R36: N
A37: 4502253033 | B37: הרשות למים ולביוב | C37: =VLOOKUP(טבלה1[[#This Row],[מסמך רכישה]],גיליון2!$B$1:$D$248,2,FALSE) -> 73-30-01-03 | D37: =VLOOKUP(טבלה1[[#This Row],[מסמך רכישה]],גיליון2!$B$1:$D$248,3,FALSE) -> איכות מים- ניטור | E37: אספקת קרטרידג'ים למיצוי בשיטת SPE למערכת הלאומית | F37: 44896 | G37: 45076 | H37: 40295097 | I37: פוטרמן יזום ניהול ושיווק בע"מ | J37: 512250267 | K37: ILS | L37: 14695.2 | M37: 14695.2 | N37: 0 | O37: איכות מים | P37: 2538.15 | Q37: 14695.2 | R37: N
A38: 4502255550 | B38: הרשות למים ולביוב | C38: =VLOOKUP(טבלה1[[#This Row],[מסמך רכישה]],גיליון2!$B$1:$D$248,2,FALSE) -> 41-30-01-10 | D38: =VLOOKUP(טבלה1[[#This Row],[מסמך רכישה]],גיליון2!$B$1:$D$248,3,FALSE) -> הוצאות תפעול | E38: ארנונה בניין חפציבה 386.5 מ"ר * 342 ש"ח למ"ר לשנת 2023 | F38: 44927 | G38: 45291 | H38: 20000159 | I38: עירית ירושלים | J38: 500230008 | K38: ILS | L38: 120069.78 | M38: 120068.68 | N38: 1.1 | P38: 1222.95 | Q38: 0 | R38: N
A39: 4502255950 | B39: הרשות למים ולביוב | C39: =VLOOKUP(טבלה1[[#This Row],[מסמך רכישה]],גיליון2!$B$1:$D$248,2,FALSE) -> 41-30-01-10 | D39: =VLOOKUP(טבלה1[[#This Row],[מסמך רכישה]],גיליון2!$B$1:$D$248,3,FALSE) -> הוצאות תפעול | E39: ארנונה לבניין ג'נרי 2023 | F39: 44927 | G39: 45016 | H39: 20000159 | I39: עירית ירושלים | J39: 500230008 | K39: ILS | L39: 1874039.3 | M39: 1874039.4 | N39: 0 | P39: 1222.95 | Q39: 0 | R39: N
A40: 4502256556 | B40: הרשות למים ולביוב | C40: =VLOOKUP(טבלה1[[#This Row],[מסמך רכישה]],גיליון2!$B$1:$D$248,2,FALSE) -> 41-30-01-10 | D40: =VLOOKUP(טבלה1[[#This Row],[מסמך רכישה]],גיליון2!$B$1:$D$248,3,FALSE) -> הוצאות תפעול | E40: רכישת מים כחולים לרכבי רשות המים | F40: 44927 | G40: 45291 | H40: 40427007 | I40: ח.נ. טכניק מרכז לאספקה בע"מ | J40: 514062736 | K40: ILS | L40: 1106.02 | M40: 1106.02 | N40: 0 | P40: 1432.86 | Q40: 1106.02 | R40: N
A41: 4502256661 | B41: הרשות למים ולביוב | C41: =VLOOKUP(טבלה1[[#This Row],[מסמך רכישה]],גיליון2!$B$1:$D$248,2,FALSE) -> 73-30-01-03 | D41: =VLOOKUP(טבלה1[[#This Row],[מסמך רכישה]],גיליון2!$B$1:$D$248,3,FALSE) -> איכות מים- ניטור | E41: הכנת נתונים למודל סטטי למטרו | F41: 44906 | G41: 45270 | H41: 40019792 | I41: גיאו - פרוספקט בע"מ | J41: 513195230 | K41: ILS | L41: 4914 | M41: 4914 | N41: 0 | O41: הידרולוגי | P41: 542.06 | Q41: 4914 | R41: N
A42: 4502258250 | B42: הרשות למים ולביוב | C42: =VLOOKUP(טבלה1[[#This Row],[מסמך רכישה]],גיליון2!$B$1:$D$248,2,FALSE) -> 41-30-01-20 | D42: =VLOOKUP(טבלה1[[#This Row],[מסמך רכישה]],גיליון2!$B$1:$D$248,3,FALSE) -> הדרכה ורווחה | E42: סיור חנוכיות למשפחות עובדי רשות המים | F42: 44920 | G42: 44920 | H42: 40530612 | I42: צבי אמיר גמליאל | J42: 033716283 | K42: ILS | L42: 6048.9 | M42: 6048.9 | N42: 0 | O42: משאבי אנוש | P42: 20311.2 | Q42: 6048.9 | R42: N
A43: 4502258698 | B43: הרשות למים ולביוב | C43: =VLOOKUP(טבלה1[[#This Row],[מסמך רכישה]],גיליון2!$B$1:$D$248,2,FALSE) -> 73-30-01-25 | D43: =VLOOKUP(טבלה1[[#This Row],[מסמך רכישה]],גיליון2!$B$1:$D$248,3,FALSE) -> ייעוץ ופעולות בנושא | E43: מתן שירות למערכות איסוף וניתוח מידע | F43: 44927 | G43: 45291 | H43: 40457657 | I43: אי.או. סייט בע"מ | J43: 513573956 | K43: ILS | L43: 68611.14 | M43: 68611.14 | N43: 0 | O43: התפלה | P43: 38214.54 | Q43: 68611.14 | R43: N
A44: 4502258704 | B44: הרשות למים ולביוב | C44: =VLOOKUP(טבלה1[[#This Row],[מסמך רכישה]],גיליון2!$B$1:$D$248,2,FALSE) -> 41-30-01-19 | D44: =VLOOKUP(טבלה1[[#This Row],[מסמך רכישה]],גיליון2!$B$1:$D$248,3,FALSE) -> פעולות מנהל וארגון | E44: הזמנה לציוד רפואי עבור ערכות עזרה ראשונה | F44: 44927 | G44: 45291 | H44: 40001519 | I44: ממרם שיווק ציוד רפואי בע"מ | J44: 512914888 | K44: ILS | L44: 4949.51 | M44: 4949.5 | N44: 0 | P44: 67.5 | Q44: 4949.51 | R44: N
A45: 4502259152 | B45: הרשות למים ולביוב | C45: =VLOOKUP(טבלה1[[#This Row],[מסמך רכישה]],גיליון2!$B$1:$D$248,2,FALSE) -> 73-30-01-05 | D45: =VLOOKUP(טבלה1[[#This Row],[מסמך רכישה]],גיליון2!$B$1:$D$248,3,FALSE) -> פיתוח ותחזוקת מערכות | E45: תצורות מסכים גטר גרופ בע"מ תצורה 3.3 – מסך 24" מת | F45: 44973 | G45: 46799 | H45: 41097839 | I45: גטר גרופ בע"מ | J45: 520042326 | K45: ILS | L45: 19940.66 | M45: 21861.24 | N45: 0 | O45: מערכות מידע | P45: 4791.15 | Q45: 19940.66 | R45: N
A46: 4502263173 | B46: הרשות למים ולביוב | C46: =VLOOKUP(טבלה1[[#This Row],[מסמך רכישה]],גיליון2!$B$1:$D$248,2,FALSE) -> 41-30-01-19 | D46: =VLOOKUP(טבלה1[[#This Row],[מסמך רכישה]],גיליון2!$B$1:$D$248,3,FALSE) -> פעולות מנהל וארגון | E46: רכישת מצלמות רכב 360 | F46: 44910 | G46: 45077 | H46: 41053397 | I46: ל.ד. ישראל אוטו אקוויפמנט (1990) בע | J46: 511457517 | K46: ILS | L46: 21060 | M46: 21060 | N46: 0 | O46: צפא | P46: 9283.95 | Q46: 21060 | R46: N
A47: 4502263585 | B47: הרשות למים ולביוב | C47: =VLOOKUP(טבלה1[[#This Row],[מסמך רכישה]],גיליון2!$B$1:$D$248,2,FALSE) -> 73-30-01-05 | D47: =VLOOKUP(טבלה1[[#This Row],[מסמך רכישה]],גיליון2!$B$1:$D$248,3,FALSE) -> פיתוח ותחזוקת מערכות | E47: תצורה 4.7 - רכישת עט מגע לטאבלט iPad Pro 12.9" M1 | F47: 44411 | G47: 45141 | H47: 40001210 | I47: מטריקס אי.טי. אינטגרציה ותשתיות בע" | J47: 511204026 | K47: ILS | L47: 1076.8 | M47: 1158.97 | N47: 0 | O47: מערכות מידע | P47: 39487.5 | Q47: 1076.8 | R47: N
A48: 4502265032 | B48: הרשות למים ולביוב | C48: =VLOOKUP(טבלה1[[#This Row],[מסמך רכישה]],גיליון2!$B$1:$D$248,2,FALSE) -> 41-30-01-19 | D48: =VLOOKUP(טבלה1[[#This Row],[מסמך רכישה]],גיליון2!$B$1:$D$248,3,FALSE) -> פעולות מנהל וארגון | E48: סיור קבלנים במתחם תעש רמת השרון למתמודדים במכרז | F48: 44914 | G48: 44914 | H48: 40001599 | I48: נצר השרון בע"מ | J48: 520036369 | K48: ILS | L48: 4499.82 | M48: 4499.82 | N48: 0 | P48: 28080 | Q48: 4499.82 | R48: N
A49: 4502265083 | B49: הרשות למים ולביוב | C49: =VLOOKUP(טבלה1[[#This Row],[מסמך רכישה]],גיליון2!$B$1:$D$248,2,FALSE) -> 73-30-01-05 | D49: =VLOOKUP(טבלה1[[#This Row],[מסמך רכישה]],גיליון2!$B$1:$D$248,3,FALSE) -> פיתוח ותחזוקת מערכות | E49: חתימות דיגיטאליות AdobeSing | F49: 44973 | G49: 45338 | H49: 40009639 | I49: מאגרי תוכנה (מ.ת.) בע"מ | J49: 513442442 | K49: ILS | L49: 14227.2 | M49: 14227.2 | N49: 0 | O49: מערכות מידע | P49: 46507.5 | Q49: 14227.2 | R49: N
A50: 4502266564 | B50: הרשות למים ולביוב | C50: =VLOOKUP(טבלה1[[#This Row],[מסמך רכישה]],גיליון2!$B$1:$D$248,2,FALSE) -> 73-30-01-05 | D50: =VLOOKUP(טבלה1[[#This Row],[מסמך רכישה]],גיליון2!$B$1:$D$248,3,FALSE) -> פיתוח ותחזוקת מערכות | E50: חידוש רישיונות שימוש בתוכנת ‪GMS‬ חידוש רישיונות | F50: 44927 | G50: 45291 | H50: 40010832 | I50: אנויטק בע"מ | J50: 512336454 | K50: ILS | L50: 31824 | M50: 31824 | N50: 0 | O50: מערכות מידע | P50: 260957.97 | Q50: 31824 | R50: N
A51: 4502266586 | B51: הרשות למים ולביוב | C51: =VLOOKUP(טבלה1[[#This Row],[מסמך רכישה]],גיליון2!$B$1:$D$248,2,FALSE) -> 73-30-01-05 | D51: =VLOOKUP(טבלה1[[#This Row],[מסמך רכישה]],גיליון2!$B$1:$D$248,3,FALSE) -> פיתוח ותחזוקת מערכות | E51: חידוש שנתי לרישיונות תוכנת business objects. | F51: 44927 | G51: 45291 | H51: 40004372 | I51: מטריקס אי.טי. מוצרי תוכנה בע"מ | J51: 511072399 | K51: ILS | L51: 30673.89 | M51: 30673.89 | N51: 0 | O51: מערכות מידע | P51: 526500 | Q51: 30673.89 | R51: N
A52: 4502266706 | B52: הרשות למים ולביוב | C52: =VLOOKUP(טבלה1[[#This Row],[מסמך רכישה]],גיליון2!$B$1:$D$248,2,FALSE) -> 73-30-01-05 | D52: =VLOOKUP(טבלה1[[#This Row],[מסמך רכישה]],גיליון2!$B$1:$D$248,3,FALSE) -> פיתוח ותחזוקת מערכות | E52: חידוש תלת שנתי לשימוש ותחזוקה בתוכנת COCKPIT | F52: 44927 | G52: 46022 | H52: 40001604 | I52: תים תוכנה בע"מ | J52: 520039355 | K52: ILS | L52: 17199 | M52: 17199 | N52: 0 | O52: מערכות מידע | P52: 704340 | Q52: 17199 | R52: N
A53: 4502266722 | B53: הרשות למים ולביוב | C53: =VLOOKUP(טבלה1[[#This Row],[מסמך רכישה]],גיליון2!$B$1:$D$248,2,FALSE) -> 41-30-01-11 | D53: =VLOOKUP(טבלה1[[#This Row],[מסמך רכישה]],גיליון2!$B$1:$D$248,3,FALSE) -> דמי שימוש ממשלתיים | E53: דמי מנוי מאגר תחזוקה במסגרת המאגר המאוחד | F53: 44562 | G53: 44926 | H53: 10000192 | I53: מינהל הדיור הממשלתי | J53: 500105994 | K53: ILS | L53: 5000 | M53: 5000 | N53: 0 | O53: בנא"מ | P53: 250000 | Q53: 0 | R53: N
A54: 4502266729 | B54: הרשות למים ולביוב | C54: =VLOOKUP(טבלה1[[#This Row],[מסמך רכישה]],גיליון2!$B$1:$D$248,2,FALSE) -> 41-30-01-13 | D54: =VLOOKUP(טבלה1[[#This Row],[מסמך רכישה]],גיליון2!$B$1:$D$248,3,FALSE) -> השתתפות במנהל דיור | E54: עלויות תקשורת קריות ממשלה 2022 | F54: 44562 | G54: 44926 | H54: 10000192 | I54: מינהל הדיור הממשלתי | J54: 500105994 | K54: ILS | L54: 35378.21 | M54: 35378.21 | N54: 0 | O54: בנא"מ | P54: 1618.29 | Q54: 0 | R54: N
A55: 4502267654 | B55: הרשות למים ולביוב | C55: =VLOOKUP(טבלה1[[#This Row],[מסמך רכישה]],גיליון2!$B$1:$D$248,2,FALSE) -> 41-30-01-19 | D55: =VLOOKUP(טבלה1[[#This Row],[מסמך רכישה]],גיליון2!$B$1:$D$248,3,FALSE) -> פעולות מנהל וארגון | E55: עיתונות גלובס מודפסת ומקוונת שורה 10 | F55: 44927 | G55: 45291 | H55: 40001158 | I55: גלובס פבלישר עתונות (1983) בע"מ | J55: 510989940 | K55: ILS | L55: 1724.11 | M55: 1724.11 | N55: 0 | P55: 713700 | Q55: 1724.11 | R55: N
A56: 4502268198 | B56: הרשות למים ולביוב | C56: =VLOOKUP(טבלה1[[#This Row],[מסמך רכישה]],גיליון2!$B$1:$D$248,2,FALSE) -> 73-30-01-29 | D56: =VLOOKUP(טבלה1[[#This Row],[מסמך רכישה]],גיליון2!$B$1:$D$248,3,FALSE) -> תכנון מתקן עמק חפר | E56: עריכת סקר רקע וניטור ימי לתכנון מתקן התפלה עמק חפר | F56: 44927 | G56: 45291 | H56: 40001077 | I56: חקר ימים ואגמים לישראל בעמ | J56: 510485204 | K56: ILS | L56: 120000 | M56: 120000 | N56: 0 | O56: תכנון | P56: 1677.78 | Q56: 120000 | R56: N
A57: 4502268643 | B57: הרשות למים ולביוב | C57: =VLOOKUP(טבלה1[[#This Row],[מסמך רכישה]],גיליון2!$B$1:$D$248,2,FALSE) -> 41-30-01-19 | D57: =VLOOKUP(טבלה1[[#This Row],[מסמך רכישה]],גיליון2!$B$1:$D$248,3,FALSE) -> פעולות מנהל וארגון | E57: ארוחת צהריים במזנון החקלאות עבור אימון שנתי בטחון | F57: 44920 | G57: 44921 | H57: 40997304 | I57: שילת-חן יזמות והשקעות בע"מ | J57: 513931592 | K57: ILS | L57: 216.03 | M57: 216.03 | N57: 0 | P57: 1565.46 | Q57: 216.03 | R57: N
...

Sheet גיליון2
B1: מסמך רכישה | C1: פריט התחייבות | D1: תיאור תקנה תקציבית
B2: 4502230272 | C2: 73-30-01-03 | D2: איכות מים- ניטור
B3: 4502230508 | C3: 73-30-01-05 | D3: פיתוח ותחזוקת מערכות
B4: 4502230756 | C4: 41-30-01-19 | D4: פעולות מנהל וארגון
B5: 4502230778 | C5: 73-30-01-03 | D5: איכות מים- ניטור
B6: 4502230785 | C6: 73-30-01-03 | D6: איכות מים- ניטור
B7: 4502231561 | C7: 41-30-01-19 | D7: פעולות מנהל וארגון
B8: 4502232934 | C8: 41-30-01-10 | D8: הוצאות תפעול
B9: 4502235024 | C9: 41-30-01-21 | D9: ייעוץ בקרה וליווי
B10: 4502235068 | C10: 73-30-01-03 | D10: איכות מים- ניטור
B11: 4502235286 | C11: 73-30-01-31 | D11: חיזוי שטפונות
B12: 4502236420 | C12: 41-30-01-10 | D12: הוצאות תפעול
B13: 4502236743 | C13: 41-30-01-19 | D13: פעולות מנהל וארגון
... B164: 4502267980 | C164: 41-30-01-19 | D164: פעולות מנהל וארגון
B165: 4502267980 | D165: פעולות מנהל וארגון
B166: 4502268125 | C166: 41-30-01-10 | D166: הוצאות תפעול
B167: 4502268198 | C167: 73-30-01-29 | D167: תכנון מתקן עמק חפר
B168: 4502268229 | C168: 73-30-01-12 | D168: מחקרים וסקרים
B169: 4502268244 | C169: 73-30-01-12 | D169: מחקרים וסקרים
B170: 4502268433 | C170: 73-30-01-12 | D170: מחקרים וסקרים
B171: 4502268451 | C171: 73-30-01-12 | D171: מחקרים וסקרים
B172: 4502268490 | C172: 73-30-01-12 | D172: מחקרים וסקרים
B173: 4502268492 | C173: 73-30-01-12 | D173: מחקרים וסקרים
B174: 4502268508 | C174: 73-30-01-12 | D174: מחקרים וסקרים
B175: 4502268529 | C175: 41-30-01-26 | D175: היערכות משק המים לשע
B176: 4502268643 | C176: 41-30-01-19 | D176: פעולות מנהל וארגון
B177: 4502268724 | C177: 41-30-01-19 | D177: פעולות מנהל וארגון
... B248: 4502273648 | C248: 41-30-01-10 | D248: הוצאות תפעול

Sheet גיליון3
A1: ארגון רכש | B1: קבוצה רוכשת | C1: מסמך רכישה | D1: סוג מסמך רכישה | E1: סימוכין שלך | F1: תאריך מסמך | G1: התחלת תקופת תוקף | H1: סיום תקופת תוקף | I1: שם יוצר ההזמנה | J1: ספק | K1: שם הספק | L1: מספר רישום מע"מ | M1: סמן גירסה | N1: ערך הזמנה + מע"מ | O1: מטבע | P1: ערך הזמנה במ.ט.מ | Q1: יתרת הזמנות נומינלית + מעמ | R1: אחוז ביצוע נומינלי | S1: מטבע מקומי | T1: ביצוע ערך קבלות הטובין במט"מ | U1: ביצוע חשבוניות כולל מע"מ והצמדות במט"מ | V1: יתרת הזמנות משוערכת בניכוי חשבוניות במטמ | W1: לא שלם | X1: טקסט כותרת | Y1: סמן הצמדה | Z1: סמן אירכוב | AA1: יתרת הזנה נומינלית לקליטת גיליון שירות | AB1: קוד חברה | AC1: סימוכין שלנו | AD1: יתרת הזמנות משוערכת בניכוי תשלומים | AE1: אופן רכישה מקור | AF1: סיבת פטור | AG1: הסכם | AH1: ערך הזמנה ללא מע"מ | AI1: הזמנה תשלח לפורטל | AJ1: ספק פורטל | AK1: דורש | AL1: שם דורש | AM1: יוצר ההזמנה | AN1: מטרת התקשרות | AO1: תיאור | AP1: תנאי תשלום | AQ1: מימוש אופציה | AR1: מספר פניית מימוש אופציה | AS1: תאריך מימוש אופציה | AT1: סכום אופציה | AU1: סיבת התקשרות | AV1: מספר פניית התקשרות המשך | AW1: סיבת התקשרות המשך | AX1: תאריך התקשרות המשך | AY1: סכום התקשרות המשך | AZ1: תאריך שחרור הזמנה
A2: 5500 | B2: 089 | C2: 4502230272 | D2: ZPFC | E2: איכות מים | F2: 44836 | G2: 44835 | H2: 45199 | I2: אירה שטרית | J2: 40001034 | K2: רשות הגנים הלאומיים ושמורות הטבע | L2: 500500285 | M2: 3 | N2: 486922.5 | O2: ILS | P2: 486922.5 | Q2: 486922.5 | R2: 0 | S2: ILS | T2: 0 | U2: 0 | V2: 496338.17 | X2: פיקוח וסיוע באכיפה למניעת זיהום באגן נחל שקמה ומנ | Y2: X | Z2: @FM@ | AA2: 486,922.50 | AB2: 5500 | AD2: 0 | AE2: 23 | AF2: 01 | AG2: 6200024315 | AH2: 486922.5 | AI2: להציג בפורטל | AJ2: X | AK2: 034839449 | AL2: חיים כץ | AM2: 314449786 | AN2: פיקוח באגן מנשה | AO2: מסמך מאושר | AP2: 0045 | AT2: 0.00 | AY2: 0.00 | AZ2: 44889
A3: 5500 | B3: 089 | C3: 4502230508 | D3: ZPFC | E3: מערכות מידע | F3: 44836 | G3: 44927 | H3: 45013 | I3: הדס סעידיאן | J3: 41107698 | K3: טי אם ג'י סולושנס בע"מ | L3: 514196765 | M3: 3 | N3: 1857.14 | O3: ILS | P3: 1857.14 | Q3: 0 | R3: 94.02 | S3: ILS | T3: 1857.14 | U3: 1756.36 | V3: 0 | X3: אספקת מערכות ניהול ואבטחת מכשירים ניידים (‪EMM‬) | Y3: X | Z3: @FM@ | AB3: 5500 | AC3: ליאור שמש | AD3: 0 | AE3: 07 | AG3: 4400000360 | AH3: 1587.3 | AI3: להציג בפורטל | AJ3: X | AK3: 034564617 | AL3: ליאור שמש | AM3: 315224006 | AN3: אספקת מערכות ניהול ואבטחת מכשירים ניידים (EMM) | AO3: מסמך מאושר | AP3: 0045 | AT3: 0.00 | AY3: 0.00 | AZ3: 44871
A4: 5500 | B4: 089 | C4: 4502230756 | D4: ZA | E4: צפ"א | F4: 44836 | G4: 44836 | H4: 44926 | I4: שירן בת אל שריקי | J4: 40336715 | K4: ש.ב. פתרונות שינוע בע"מ | L4: 513941229 | M4: 3 | N4: 1989 | O4: ILS | P4: 1989 | Q4: 0 | R4: 100 | S4: ILS | T4: 1989 | U4: 1989 | V4: 0 | X4: רכישת עגלת מטען עבור יחידת צפ"א תוקף אספקת השירות | Z4: @FM@ | AB4: 5500 | AD4: 0 | AE4: 23 | AF4: 57 | AH4: 1700 | AI4: לא רלוונטי לפורטל | AJ4: X | AM4: 205364904 | AN4: רכישת עגלת מטען ליחידת צפא | AO4: מסמך מאושר | AP4: 0045 | AT4: 0.00 | AY4: 0.00 | AZ4: 44853
A5: 5500 | B5: 089 | C5: 4502230778 | D5: ZA | E5: הידרולוגי | F5: 44836 | G5: 44927 | H5: 45291 | I5: אירה שטרית | J5: 40010849 | K5: מתכת יונה בע"מ | L5: 512416538 | M5: 3 | N5: 12285 | O5: ILS | P5: 12285 | Q5: 12285 | R5: 0 | S5: ILS | T5: 0 | U5: 0 | V5: 13400.81 | X5: ייצור מתקנים ממתכת ומדי רום מיוחדים עבור מתקנים ה | Y5: X | Z5: @FM@ | AB5: 5500 | AD5: 0 | AE5: 84 | AH5: 10500 | AI5: להציג בפורטל | AJ5: X | AK5: 014433833 | AL5: יעקב שומכר | AM5: 314449786 | AN5: ייצור מתקנים ממתכת ומדי רום מיוחדים עבור מתקנים הידרומטרים- ארגז מפח | AO5: מסמך מאושר | AP5: 0045 | AT5: 0.00 | AY5: 0.00 | AZ5: 44853
A6: 5500 | B6: 089 | C6: 4502230785 | D6: ZA | E6: הידרולוגי | F6: 44836 | G6: 44927 | H6: 45291 | I6: אירה שטרית | J6: 40010849 | K6: מתכת יונה בע"מ | L6: 512416538 | M6: 3 | N6: 57622.5 | O6: ILS | P6: 57622.5 | Q6: 57622.5 | R6: 0 | S6: ILS | T6: 0 | U6: 0 | V6: 62856.18 | X6: ייצור מתקנים ממתכת ומדי רום מיוחדים עבור מתקנים ה | Y6: X | Z6: @FM@ | AB6: 5500 | AD6: 0 | AE6: 84 | AH6: 49250 | AI6: להציג בפורטל | AJ6: X | AK6: 014433833 | AL6: יעקב שומכר | AM6: 314449786 | AN6: ייצור מתקנים ממתכת ומדי רום מיוחדים עבור מתקנים הידרומטריים | AO6: מסמך מאושר | AP6: 0045 | AT6: 0.00 | AY6: 0.00 | AZ6: 44853
A7: 5500 | B7: 089 | C7: 4502231561 | D7: ZA | E7: רכש | F7: 44837 | G7: 44859 | H7: 44859 | I7: ספיר פרץ | J7: 40984566 | K7: אביב גילת | L7: 022699755 | M7: 3 | N7: 7605 | O7: ILS | P7: 7605 | Q7: 0 | R7: 100 | S7: ILS | T7: 7605 | U7: 7605 | V7: 0 | X7: נושא: הרצאה עבור כנס רפרנטים ב-25.10.2022 רפרנט: | Z7: @FM@ | AB7: 5500 | AD7: 0 | AE7: 23 | AF7: 57 | AH7: 6500 | AI7: לא רלוונטי לפורטל | AK7: 307788216 | AL7: רעיה בליי | AM7: 206220527 | AN7: הרצאה עבור כנס רפרנטים | AO7: מסמך מאושר | AP7: 0045 | AT7: 0.00 | AY7: 0.00 | AZ7: 44853
A8: 5500 | B8: 089 | C8: 4502232934 | D8: ZA | E8: אסדרה | F8: 44852 | G8: 44854 | H8: 45218 | I8: שירן בת אל שריקי | J8: 40006968 | K8: דוקופרינט בע"מ | L8: 510885932 | M8: 3 | N8: 3159 | O8: ILS | P8: 3159 | Q8: 0 | R8: 100 | S8: ILS | T8: 3159 | U8: 3159 | V8: 0 | X8: נושא: דפי רישיונות רפרנט: דניאל לביא שיריון: 1000 | Z8: @FM@ | AB8: 5500 | AD8: 0 | AE8: 23 | AF8: 57 | AH8: 2700 | AI8: לא רלוונטי לפורטל | AJ8: X | AM8: 205364904 | AN8: הדפסת דפי רשיון | AO8: מסמך מאושר | AP8: 0045 | AT8: 0.00 | AY8: 0.00 | AZ8: 44861
A9: 5500 | B9: 089 | C9: 4502235024 | D9: ZPFC | E9: הידרולוגי | F9: 44858 | G9: 44866 | H9: 45229 | I9: אירה שטרית | J9: 40011294 | K9: אקולוג הנדסה בע"מ | L9: 513300483 | M9: 3 | N9: 250000 | O9: ILS | P9: 250000 | Q9: 233404.67 | R9: 6.64 | S9: ILS | T9: 16595.33 | U9: 16595.33 | V9: 237251.6 | X9: ייעוץ לבניה משמרת מים רפרנט: ליאור נצר שריון: 100 | Y9: X | Z9: @FM@ | AA9: 199,491.17 | AB9: 5500 | AD9: 0 | AE9: 01 | AG9: 6200024462 | AH9: 213675.21 | AI9: להציג בפורטל | AJ9: X | AK9: 035866102 | AL9: ליאור נצר | AM9: 314449786 | AN9: ייעוץ לבניה משמרת מים | AO9: מסמך מאושר | AP9: 0045 | AT9: 0.00 | AY9: 0.00 | AZ9: 44894
A10: 5500 | B10: 089 | C10: 4502235068 | D10: ZPFC | E10: הידרולוגי | F10: 44858 | G10: 44774 | H10: 45138 | I10: אירה שטרית | J10: 40270213 | K10: צלח - מרכז הצבעים בע"מ | L10: 511893034 | M10: 3 | N10: 89036.42 | O10: ILS | P10: 89036.42 | Q10: 5522.56 | R10: 93.8 | S10: ILS | T10: 83513.86 | U10: 83513.86 | V10: 6024.16 | X10: הסכם מסגרת- לאספקת מצברים, סוללות נטענות,ציוד וכל | Y10: X | Z10: @FM@ | AA10: 4,720.17 | AB10: 5500 | AD10: 0 | AE10: 84 | AG10: 6200024316 | AH10: 76099.5 | AI10: להציג בפורטל | AJ10: X | AK10: 014433833 | AL10: יעקב שומכר | AM10: 314449786 | AN10: הסכם מסגרת- לאספקת מצברים, סוללות נטענות,ציוד וכלי עבודה | AO10: מסמך מאושר | AP10: 0045 | AT10: 0.00 | AY10: 0.00 | AZ10: 44861
A11: 5500 | B11: 089 | C11: 4502235286 | D11: ZA | E11: הידרולוגי | F11: 44858 | G11: 44837 | H11: 45201 | I11: אירה שטרית | J11: 40010832 | K11: אנויטק בע"מ | L11: 512336454 | M11: 3 | N11: 47469.24 | O11: ILS | P11: 47469.24 | Q11: 0 | R11: 100 | S11: ILS | T11: 47469.24 | U11: 47469.24 | V11: 0 | X11: עדכונים ותמיכה באפליקציה לחיזוי שיטפונות רפרנט: י | Z11: @FM@ | AB11: 5500 | AD11: 0 | AE11: 23 | AF11: 01 | AH11: 40572 | AI11: להציג בפורטל | AJ11: X | AK11: 060125481 | AL11: יהונתן יצחק | AM11: 314449786 | AN11: עדכונים ותמיכה באפליקציה לחיזוי שיטפונות | AO11: מסמך מאושר | AP11: 0045 | AT11: 0.00 | AY11: 0.00 | AZ11: 44885
A12: 5500 | B12: 088 | C12: 4502236420 | D12: ZA | E12: בנא"מ | F12: 44860 | G12: 44860 | H12: 45046 | I12: ספי ביבי | J12: 40451867 | K12: זיו אברהם | L12: 010529113 | M12: 3 | N12: 4329 | O12: ILS | P12: 4329 | Q12: 0 | R12: 100 | S12: ILS | T12: 4329 | U12: 4329 | V12: 0 | X12: ניקוש עשבייה וגיזום בהנדסה חקלאית ריסוס קוטל עשבי | Z12: @FM@ | AB12: 5500 | AD12: 0 | AE12: 23 | AF12: 57 | AH12: 3700 | AI12: לא רלוונטי לפורטל | AM12: 028037448 | AN12: ניקוז עשבייה וריסוס בהנדסה חקלאית | AO12: מסמך מאושר | AP12: 0045 | AT12: 0.00 | AY12: 0.00 | AZ12: 44861
A13: 5500 | B13: 089 | C13: 4502236743 | D13: ZA | E13: איו"ש | F13: 44860 | G13: 44864 | H13: 44957 | I13: שירן בת אל שריקי | J13: 40545414 | K13: א.ע.א אור טכנולוגיות בע"מ | L13: 514644988 | M13: 3 | N13: 5096.98 | O13: ILS | P13: 5096.98 | Q13: 5096.98 | R13: 0 | S13: ILS | T13: 0 | U13: 0 | V13: 5096.98 | X13: רכישת מקררים לרכב עבור יחידת צפ"א תקופה 30.10.202 | Z13: @FM@ | AB13: 5500 | AD13: 0 | AE13: 23 | AF13: 57 | AH13: 4356.39 | AI13: לא רלוונטי לפורטל | AM13: 205364904 | AN13: רכישת מקררים עבור יחידת צפ"א | AO13: מסמך מאושר | AP13: 0045 | AT13: 0.00 | AY13: 0.00 | AZ13: 44871
A14: 5500 | B14: 089 | C14: 4502236751 | D14: ZA | E14: אסדרה | F14: 44860 | G14: 44864 | H14: 44985 | I14: שירן בת אל שריקי | J14: 40010890 | K14: מודוטק בע"מ | L14: 512653031 | M14: 3 | N14: 542.06 | O14: ILS | P14: 542.06 | Q14: 17.9 | R14: 96.7 | S14: ILS | T14: 524.16 | U14: 524.16 | V14: 17.9 | X14: רכישת עטים מגנטים עבור יחידת פיקוח תקופה: 30.10.2 | Z14: @FM@ | AB14: 5500 | AD14: 0 | AE14: 23 | AF14: 57 | AH14: 463.3 | AI14: לא רלוונטי לפורטל | AJ14: X | AM14: 205364904 | AN14: רכישת עט מגנטי | AO14: מסמך מאושר | AP14: 0045 | AT14: 0.00 | AY14: 0.00 | AZ14: 44893
A15: 5500 | B15: 089 | C15: 4502236939 | D15: ZPFC | E15: בטחון מים | F15: 44861 | G15: 44825 | H15: 45189 | I15: ספיר פרץ | J15: 40005144 | K15: ג'י וואן טכנולוגיות מיגון בע"מ | L15: 520039306 | M15: 3 | N15: 150000 | O15: ILS | P15: 150000 | Q15: 0 | R15: 100 | S15: ILS | T15: 0 | U15: 0 | V15: 0 | X15: הזמנה נסגרה כיוון שנפתחו הזמנות כפולות | Y15: X | Z15: @FM@ | AA15: 0.00 | AB15: 5500 | AD15: 0 | AE15: 01 | AG15: 6200024300 | AH15: 128205.13 | AI15: להציג בפורטל | AJ15: X | AK15: 028543544 | AL15: מנחם גרטלר | AM15: 206220527 | AN15: שירותי מערכות מתח נמוך, טמ"ס ושירותי מוקד וסיור | AO15: מסמך מאושר | AP15: 0045 | AT15: 0.00 | AY15: 0.00 | AZ15: 44903
A16: 5500 | B16: 089 | C16: 4502237314 | D16: ZPFC | E16: בטחון מים | F16: 44864 | G16: 44866 | H16: 45230 | I16: ספיר פרץ | J16: 40019591 | K16: טנדו טכנולוגיות ומערכות בטחוניות בע | L16: 511309809 | M16: 3 | N16: 300000 | O16: ILS | P16: 300000 | Q16: 300000 | R16: 0 | S16: ILS | T16: 0 | U16: 0 | V16: 311339.94 | X16: נושא: בחינת תפיסת מיגון שלל משק המים ושירותי יעוץ | Y16: X | Z16: @FM@ | AA16: 256,410.26 | AB16: 5500 | AD16: 0 | AE16: 01 | AG16: 6200024426 | AH16: 256410.26 | AI16: להציג בפורטל | AJ16: X | AK16: 012318507 | AL16: דניאל לקר | AM16: 206220527 | AN16: בחינת תפיסת מיגון שלל משק המים ושירותי יעוץ למנהל אגף לבטחון מים | AO16: מסמך מאושר | AP16: 0045 | AT16: 0.00 | AY16: 0.00 | AZ16: 44908
A17: 5500 | B17: 089 | C17: 4502237744 | D17: ZA | E17: כלכלה | F17: 44864 | G17: 44927 | H17: 45291 | I17: שירן בת אל שריקי | J17: 41645563 | K17: טאו כלכלה ופיננסים בע"מ | L17: 515630937 | M17: 3 | N17: 71830.32 | O17: ILS | P17: 71830.32 | Q17: 61875.58 | R17: 13.86 | S17: ILS | T17: 9954.75 | U17: 9954.75 | V17: 61875.57 | X17: בדיקת תחשיבים לקביעת תעריפי ביוב, דמי הקמה למים ו | Z17: @FM@ | AB17: 5500 | AD17: 0 | AE17: 84 | AH17: 61393.44 | AI17: להציג בפורטל | AJ17: X | AK17: 032729915 | AL17: אחמד עאבד | AM17: 205364904 | AN17: תעריפי ביוב, דמי הקמה למים ולביוב | AO17: מסמך מאושר | AP17: 0045 | AT17: 0.00 | AY17: 0.00 | AZ17: 44871
A18: 5500 | B18: 089 | C18: 4502237761 | D18: ZA | E18: כלכלה | F18: 44864 | G18: 44927 | H18: 45291 | I18: שירן בת אל שריקי | J18: 41387079 | K18: אהוד חסון יעוץ כלכלי ועסקי בע"מ | L18: 514698349 | M18: 3 | N18: 107999.47 | O18: ILS | P18: 107999.47 | Q18: 107999.47 | R18: 0 | S18: ILS | T18: 0 | U18: 0 | V18: 107999.47 | X18: בדיקת תחשיבים לקביעת תעריפי ביוב, דמי הקמה למים ו | Z18: @FM@ | AB18: 5500 | AD18: 0 | AE18: 84 | AH18: 92307.24 | AI18: להציג בפורטל | AJ18: X | AK18: 032729915 | AL18: אחמד עאבד | AM18: 205364904 | AN18: תעריפי ביוב, דמי הקמה למים ולביוב | AO18: מסמך מאושר | AP18: 0045 | AT18: 0.00 | AY18: 0.00 | AZ18: 44906
A19: 5500 | B19: 089 | C19: 4502239278 | D19: ZA | E19: משאבי אנוש | F19: 44867 | G19: 44866 | H19: 44926 | I19: פולינה ניקונוב | J19: 41535631 | K19: ציפור הנפש אומנות ישראלית בע"מ | L19: 515697381 | M19: 3 | N19: 3299.4 | O19: ILS | P19: 3299.4 | Q19: 0 | R19: 100 | S19: ILS | T19: 3299.4 | U19: 3299.4 | V19: 0 | X19: שי לעובד לאחר מעבר הערכת מנהל לשנת 2023 פנקס מתמת | Z19: @FM@ | AB19: 5500 | AC19: מנחם גולדשטי | AD19: 0 | AE19: 23 | AF19: 57 | AH19: 2820 | AI19: לא רלוונטי לפורטל | AK19: 025057571 | AL19: ליאת רון | AM19: 308940881 | AN19: שי לעובד לאחר מעבר הערכת מנהל לשנת 2023 | AO19: מסמך מאושר | AP19: 0045 | AT19: 0.00 | AY19: 0.00 | AZ19: 44885
A20: 5500 | B20: 089 | C20: 4502240164 | D20: ZPFC | E20: מערכות מידע | F20: 44868 | G20: 44869 | H20: 46752 | I20: הדס סעידיאן | J20: 40001244 | K20: דנגוט מחשבים בע"מ | L20: 511398836 | M20: 3 | N20: 17829.42 | O20: ILS | P20: 17829.42 | Q20: 0 | R20: 104.57 | S20: ILS | T20: 17829.42 | U20: 18152.63 | V20: 0 | X20: רכישת מתכלים, שירותי תחזוקה ואחריות ושירותי חכירה | Y20: X | Z20: @FM@ | AB20: 5500 | AC20: ליאור שמש | AD20: 0 | AE20: 07 | AG20: 4400000270 | AH20: 15238.82 | AI20: להציג בפורטל | AJ20: X | AK20: 034564617 | AL20: ליאור שמש | AM20: 315224006 | AN20: רכישת מתכלים | AO20: מסמך מאושר | AP20: 0045 | AT20: 0.00 | AY20: 0.00 | AZ20: 44879
A21: 5500 | B21: 089 | C21: 4502240542 | D21: ZA | E21: מערכות מידע | F21: 44871 | G21: 44927 | H21: 45291 | I21: הדס סעידיאן | J21: 50036932 | K21: GOOGLE CLOUD EMEA LIMITED | M21: 3 | N21: 20021.04 | O21: ILS | P21: 20021.04 | Q21: 0 | R21: 0 | S21: ILS | T21: 0 | U21: 0 | V21: 0 | X21: רכישת רישיון GOOGLE MEET שריון: 100050367 תקופת ה | Y21: X | Z21: @FM@ | AB21: 5500 | AC21: ליאור שמש | AD21: 0 | AE21: 07 | AH21: 17112 | AI21: להציג בפורטל | AJ21: X | AK21: 034564617 | AL21: ליאור שמש | AM21: 315224006 | AN21: רכישת רישיון GOOGLE MEET | AO21: מסמך מאושר | AP21: 0045 | AT21: 0.00 | AY21: 0.00 | AZ21: 44985
A22: 5500 | B22: 089 | C22: 4502240664 | D22: ZPFC | E22: מערכות מידע | F22: 44871 | G22: 44873 | H22: 45141 | I22: הדס סעידיאן | J22: 40532479 | K22: זיפקום תקשורת בע"מ | L22: 512781790 | M22: 3 | N22: 134049.7 | O22: ILS | P22: 134049.7 | Q22: 0 | R22: 105.46 | S22: ILS | T22: 134049.7 | U22: 141952.92 | V22: 0 | X22: תצורה 2.9 - מחשב נייד 14" מתקדם רפרנט: ליאור שמש | Y22: X | Z22: @FM@ | AB22: 5500 | AC22: ליאור שמש | AD22: 0 | AE22: 07 | AG22: 4400000976 | AH22: 114572.4 | AI22: להציג בפורטל | AJ22: X | AK22: 034564617 | AL22: ליאור שמש | AM22: 315224006 | AN22: מחשב נייד 14" מתקדם | AO22: מסמך מאושר | AP22: 0045 | AT22: 0.00 | AY22: 0.00 | AZ22: 44906
A23: 5500 | B23: 088 | C23: 4502240891 | D23: ZA | E23: בנא"מ | F23: 44871 | G23: 44875 | H23: 44875 | I23: ספי ביבי | J23: 40235335 | K23: יד יצחק בן-צבי | L23: 500500962 | M23: 3 | N23: 1420 | O23: ILS | P23: 1420 | Q23: 0 | R23: 100 | S23: ILS | T23: 1420 | U23: 1420 | V23: 0 | X23: יום עיון 10.11.22 עבור חטיבת המשנה תוכניות עבודה | Z23: @FM@ | AB23: 5500 | AD23: 0 | AE23: 23 | AF23: 57 | AH23: 1420 | AI23: לא רלוונטי לפורטל | AM23: 028037448 | AN23: יום עיון חטיבת המשנה | AO23: מסמך מאושר | AP23: 0045 | AT23: 0.00 | AY23: 0.00 | AZ23: 44873
A24: 5500 | B24: 089 | C24: 4502241169 | D24: ZA | E24: תכנון | F24: 44872 | G24: 44896 | H24: 45260 | I24: שירן בת אל שריקי | J24: 40395346 | K24: אתוס - אדריכלות תכנון וסביבה בע"מ | L24: 514260769 | M24: 3 | N24: 382590 | O24: ILS | P24: 382590 | Q24: 382590 | R24: 0 | S24: ILS | T24: 0 | U24: 0 | V24: 389988.18 | X24: תכנון מודל פיזור עבור מתקן התפלה עמק חפר שריון 10 | Y24: X | Z24: @FM@ | AB24: 5500 | AD24: 0 | AE24: 08 | AH24: 327000 | AI24: להציג בפורטל | AJ24: X | AK24: 025737917 | AL24: אפרת קניגסברג | AM24: 205364904 | AN24: תכנון מודל פיזור | AO24: מסמך מאושר | AP24: 0045 | AT24: 0.00 | AY24: 0.00 | AZ24: 44894
A25: 5500 | B25: 089 | C25: 4502242165 | D25: ZA | E25: משאבי אנוש | F25: 44873 | G25: 44873 | H25: 44926 | I25: פולינה ניקונוב | J25: 42346564 | K25: גוג'ו גלובל בע"מ | L25: 516326014 | M25: 3 | N25: 4095 | O25: ILS | P25: 4095 | Q25: 0 | R25: 100 | S25: ILS | T25: 4095 | U25: 4095 | V25: 0 | X25: פריסה לחג סיגד 23.11.2022 רפרנט מנחם גולדשטיין | Z25: @FM@ | AB25: 5500 | AC25: מנחם גולדשטי | AD25: 0 | AE25: 23 | AF25: 57 | AH25: 3500 | AI25: לא רלוונטי לפורטל | AK25: 025057571 | AL25: ליאת רון | AM25: 308940881 | AN25: פריסה לחג סיגד | AO25: מסמך מאושר | AP25: 0045 | AT25: 0.00 | AY25: 0.00 | AZ25: 44879
A26: 5500 | B26: 089 | C26: 4502242194 | D26: ZA | E26: משאבי אנוש | F26: 44873 | G26: 44866 | H26: 44895 | I26: פולינה ניקונוב | J26: 42418251 | K26: וולביז בע"מ | L26: 516369964 | M26: 3 | N26: 2179.41 | O26: ILS | P26: 2179.41 | Q26: 0 | R26: 100 | S26: ILS | T26: 2179.41 | U26: 2179.41 | V26: 0 | X26: מקרונים למודעות סרטן השד 01.11.2022 רפרנט טניה מש | Z26: @FM@ | AB26: 5500 | AC26: טניה משרקי | AD26: 0 | AE26: 23 | AF26: 57 | AH26: 1862.74 | AI26: לא רלוונטי לפורטל | AK26: 025057571 | AL26: ליאת רון | AM26: 308940881 | AN26: מקרונים למודעות סרטן השד | AO26: מסמך מאושר | AP26: 0045 | AT26: 0.00 | AY26: 0.00 | AZ26: 44879
A27: 5500 | B27: 089 | C27: 4502242417 | D27: ZA | E27: משאבי אנוש | F27: 44873 | G27: 44873 | H27: 44926 | I27: פולינה ניקונוב | J27: 40004441 | K27: רובין ר.י.ד. בע"מ | L27: 511237844 | M27: 3 | N27: 643.5 | O27: ILS | P27: 643.5 | Q27: 0 | R27: 100 | S27: ILS | T27: 643.5 | U27: 643.5 | V27: 0 | X27: לחג סיגד - פרסום 23.11.2022 רפרנט מנחם גולדשטיין | Z27: @FM@ | AB27: 5500 | AC27: מנחם גולדשטי | AD27: 0 | AE27: 23 | AF27: 57 | AH27: 550 | AI27: לא רלוונטי לפורטל | AK27: 025057571 | AL27: ליאת רון | AM27: 308940881 | AN27: לחג סיגד - פרסום | AO27: מסמך מאושר | AP27: 0045 | AT27: 0.00 | AY27: 0.00 | AZ27: 44881
A28: 5500 | B28: 089 | C28: 4502242666 | D28: ZPFC | E28: איכות מים | F28: 44874 | G28: 44927 | H28: 45291 | I28: אירה שטרית | J28: 40011294 | K28: אקולוג הנדסה בע"מ | L28: 513300483 | M28: 4 | N28: 359999.99 | O28: ILS | P28: 359999.99 | Q28: 359999.99 | R28: 0 | S28: ILS | T28: 0 | U28: 0 | V28: 365933.44 | X28: לביצוע חקירות לאיתור ואפיון זיהומי מי תהום עבור ר | Y28: X | Z28: @FM@ | AA28: 307,692.30 | AB28: 5500 | AD28: 0 | AE28: 01 | AG28: 6200024724 | AH28: 307692.3 | AI28: להציג בפורטל | AJ28: X | AK28: 034839449 | AL28: חיים כץ | AM28: 314449786 | AN28: לביצוע חקירות לאיתור ואפיון זיהומי מי תהום עבור רשות המים | AO28: ממתין למאשר מקצועי | AP28: 0045 | AT28: 0.00 | AY28: 0.00 | AZ28: 44920
A29: 5500 | B29: 089 | C29: 4502242671 | D29: ZPFC | E29: איכות מים | F29: 44874 | G29: 44927 | H29: 45291 | I29: אירה שטרית | J29: 40276185 | K29: אתגר א הנדסה בע"מ | L29: 511046948 | M29: 3 | N29: 540000.05 | O29: ILS | P29: 540000.05 | Q29: 520235.71 | R29: 3.66 | S29: ILS | T29: 19539 | U29: 19764.34 | V29: 528810.13 | X29: לביצוע חקירות לאיתור ואפיון זיהומי מי תהום עבור ר | Y29: X | Z29: @FM@ | AA29: 444,838.50 | AB29: 5500 | AD29: 0 | AE29: 01 | AG29: 6200024725 | AH29: 461538.5 | AI29: להציג בפורטל | AJ29: X | AK29: 034839449 | AL29: חיים כץ | AM29: 314449786 | AN29: לביצוע חקירות לאיתור ואפיון זיהומי מי תהום עבור רשות המים | AO29: מסמך מאושר | AP29: 0045 | AT29: 0.00 | AY29: 0.00 | AZ29: 44917
A30: 5500 | B30: 089 | C30: 4502242736 | D30: ZA | E30: הידרולוגי | F30: 44874 | G30: 44885 | H30: 45066 | I30: אירה שטרית | J30: 40010597 | K30: מטאו - טק שירותים מטאורולוגיים בע"מ | L30: 511386609 | M30: 3 | N30: 35614.8 | O30: ILS | P30: 35614.8 | Q30: 0 | R30: 100 | S30: ILS | T30: 35614.8 | U30: 35614.8 | V30: 0 | X30: תגבור ואיסוף נתונים ממכשירים משדרים של חברת OTT ת | Z30: @FM@ | AB30: 5500 | AD30: 0 | AE30: 23 | AF30: 57 | AH30: 30440 | AI30: להציג בפורטל | AJ30: X | AK30: 014433833 | AL30: יעקב שומכר | AM30: 314449786 | AN30: תגבור ואיסוף נתונים ממכשירים משדרים של חברת OTT | AO30: מסמך מאושר | AP30: 0045 | AT30: 0.00 | AY30: 0.00 | AZ30: 44885
A31: 5500 | B31: 089 | C31: 4502242791 | D31: ZA | E31: הידרולוגי | F31: 44874 | G31: 44896 | H31: 45260 | I31: אירה שטרית | J31: 40010832 | K31: אנויטק בע"מ | L31: 512336454 | M31: 3 | N31: 25524.72 | O31: ILS | P31: 25524.72 | Q31: 25524.72 | R31: 0 | S31: ILS | T31: 0 | U31: 0 | V31: 25524.72 | X31: שדרוג תחנות הגשם תחנות ספיקה וגשם של רשות ניקוז ק | Z31: @FM@ | AB31: 5500 | AD31: 0 | AE31: 23 | AF31: 57 | AH31: 21816 | AI31: להציג בפורטל | AJ31: X | AK31: 060125481 | AL31: יהונתן יצחק | AM31: 314449786 | AN31: שדרוג תחנות הגשם תחנות ספיקה וגשם של רשות ניקוז קישון לבסיס הנתונים. | AO31: מסמך מאושר | AP31: 0045 | AT31: 0.00 | AY31: 0.00 | AZ31: 44885
A32: 5500 | B32: 088 | C32: 4502242841 | D32: ZA | E32: בנא"מ | F32: 44874 | G32: 44875 | H32: 45240 | I32: טל רחמאני | J32: 40001081 | K32: לטרא סיסטמס בע"מ | L32: 510502008 | M32: 3 | N32: 16497 | O32: ILS | P32: 16497 | Q32: 0 | R32: 100 | S32: ILS | T32: 16497 | U32: 16497 | V32: 0 | X32: רכישת שילוט עבור הרשות הממשלתית למים וביוב בהליך | Z32: @FM@ | AB32: 5500 | AD32: 0 | AE32: 23 | AF32: 57 | AH32: 14100 | AI32: להציג בפורטל | AJ32: X | AK32: 028037448 | AL32: ספי ביבי | AM32: 305017030 | AN32: שילוט עבור אתרי הרשות | AO32: מסמך מאושר | AP32: 0045 | AT32: 0.00 | AY32: 0.00 | AZ32: 44885
A33: 5500 | B33: 089 | C33: 4502243636 | D33: ZPFC | E33: הידרולוגי | F33: 44875 | G33: 44927 | H33: 45291 | I33: אירה שטרית | J33: 42071231 | K33: גיאו- סמפלר קידוחים בע"מ | L33: 515056414 | M33: 3 | N33: 799110 | O33: ILS | P33: 799110 | Q33: 799110 | R33: 0 | S33: ILS | T33: 0 | U33: 0 | V33: 821485.08 | X33: ביצוע קידוחי ניטור בים המלח 2022 שריון: 100048648 | Y33: X | Z33: @FM@ | AA33: 683,000.00 | AB33: 5500 | AD33: 0 | AE33: 01 | AG33: 6200024483 | AH33: 683000 | AI33: להציג בפורטל | AJ33: X | AK33: 317603124 | AL33: מנחם וייס | AM33: 314449786 | AN33: ביצוע קידוחי ניטור בים המלח 2022 | AO33: מסמך מאושר | AP33: 0045 | AT33: 0.00 | AY33: 0.00 | AZ33: 44901
A34: 5500 | B34: 089 | C34: 4502243781 | D34: ZPFC | E34: מערכות מידע | F34: 44875 | G34: 44927 | H34: 45291 | I34: הדס סעידיאן | J34: 40005148 | K34: נס א.ט. בע"מ | L34: 520040122 | M34: 3 | N34: 4779.68 | O34: ILS | P34: 4779.68 | Q34: 4779.68 | R34: 0 | S34: ILS | T34: 0 | U34: 0 | V34: 4779.68 | X34: מערכת ניהול תוכן ארגוני- 25-2010 חידוש תחזוקת ריש | Z34: @FM@ | AB34: 5500 | AC34: יוסי רזניק | AD34: 0 | AE34: 07 | AG34: 4400000259 | AH34: 4085.2 | AI34: להציג בפורטל | AJ34: X | AK34: 016924979 | AL34: יוסף רזניק | AM34: 315224006 | AN34: חידוש תחזוקת רישוי סע"ר 2023 | AO34: מסמך מאושר | AP34: 0045 | AT34: 0.00 | AY34: 0.00 | AZ34: 44906
A35: 5500 | B35: 089 | C35: 4502243912 | D35: ZA | E35: הידרולוגי | F35: 44875 | G35: 44896 | H35: 45046 | I35: אירה שטרית | J35: 42136584 | K35: לומלסקי סבטלנה | L35: 306997024 | M35: 3 | N35: 25000 | O35: ILS | P35: 25000 | Q35: 25000 | R35: 0 | S35: ILS | T35: 0 | U35: 0 | V35: 25000 | X35: ניתוח תוספות מילוי חוזר באזורים אורבניים של אקווי | Z35: @FM@ | AB35: 5500 | AD35: 0 | AE35: 23 | AF35: 57 | AH35: 21367.52 | AI35: להציג בפורטל | AJ35: X | AK35: 308837533 | AL35: יעקב ליבשיץ | AM35: 314449786 | AN35: ניתוח תוספות מילוי חוזר באזורים אורבניים של אקוויפר החוף | AO35: מסמך מאושר | AP35: 0045 | AT35: 0.00 | AY35: 0.00 | AZ35: 44885
A36: 5500 | B36: 089 | C36: 4502243932 | D36: ZA | E36: הידרולוגי | F36: 44875 | G36: 44927 | H36: 45291 | I36: אירה שטרית | J36: 41085653 | K36: ימה פתרונות הידרומטריים בע"מ | L36: 514994789 | M36: 3 | N36: 20287.8 | O36: ILS | P36: 20287.8 | Q36: 20287.8 | R36: 0 | S36: ILS | T36: 0 | U36: 0 | V36: 20287.8 | X36: תחזוקה ותמיכה טכנית לאתר עבור 6 תחנות הידרומטריות | Z36: @FM@ | AB36: 5500 | AD36: 0 | AE36: 23 | AF36: 57 | AH36: 17340 | AI36: להציג בפורטל | AJ36: X | AK36: 014433833 | AL36: יעקב שומכר | AM36: 314449786 | AN36: תחזוקה ותמיכה טכנית לאתר עבור 6 תחנות הידרומטריות | AO36: מסמך מאושר | AP36: 0045 | AT36: 0.00 | AY36: 0.00 | AZ36: 44887
A37: 5500 | B37: 089 | C37: 4502245557 | D37: ZA | E37: מערכות מידע | F37: 44880 | G37: 44879 | H37: 44926 | I37: הדס סעידיאן | J37: 41097839 | K37: גטר גרופ בע"מ | L37: 520042326 | M37: 3 | N37: 2632.5 | O37: ILS | P37: 2632.5 | Q37: 0 | R37: 100 | S37: ILS | T37: 1872 | U37: 2632.5 | V37: 0 | X37: רכישת זרועות למסכי מחשב רפרנט: ליאור שמש שריון: 1 | Z37: @FM@ | AB37: 5500 | AC37: ליאור שמש | AD37: 0 | AE37: 23 | AF37: 57 | AH37: 2250 | AI37: להציג בפורטל | AJ37: X | AK37: 034564617 | AL37: ליאור שמש | AM37: 315224006 | AN37: רכישת זרועות למסכים | AO37: מסמך מאושר | AP37: 0045 | AT37: 0.00 | AY37: 0.00 | AZ37: 44893
A38: 5500 | B38: 089 | C38: 4502245891 | D38: ZA | E38: מערכות מידע | F38: 44880 | G38: 44882 | H38: 44924 | I38: הדס סעידיאן | J38: 40010827 | K38: ד.ה.ב. מד בע"מ | L38: 512307265 | M38: 3 | N38: 46800 | O38: ILS | P38: 46800 | Q38: 0 | R38: 100 | S38: ILS | T38: 46800 | U38: 46800 | V38: 0 | X38: רכישת תוכנת אופטימיזציה LINDO עבור אגף תכנון רפרנ | Z38: @FM@ | AB38: 5500 | AC38: ליאור שמש | AD38: 0 | AE38: 23 | AF38: 57 | AH38: 40000 | AI38: להציג בפורטל | AJ38: X | AK38: 034564617 | AL38: ליאור שמש | AM38: 315224006 | AN38: רכישת תכנית אופטימיזציה LINDO | AO38: מסמך מאושר | AP38: 0045 | AT38: 0.00 | AY38: 0.00 | AZ38: 44903
A39: 5500 | B39: 089 | C39: 4502246304 | D39: ZA | E39: דוברות | F39: 44881 | G39: 44885 | H39: 44926 | I39: אירה שטרית | J39: 41638852 | K39: מיתוגון בע"מ | L39: 515890358 | M39: 3 | N39: 3322.8 | O39: ILS | P39: 3322.8 | Q39: 0 | R39: 100 | S39: ILS | T39: 3322.8 | U39: 3322.8 | V39: 0 | X39: שי עבור סיור דוברים רפרנט: איתי דודי תקופה:20.11. | Z39: @FM@ | AB39: 5500 | AD39: 0 | AE39: 23 | AF39: 57 | AH39: 2840 | AI39: לא רלוונטי לפורטל | AK39: 024145922 | AL39: איתי דודי | AM39: 314449786 | AN39: רכישת שי | AO39: מסמך מאושר | AP39: 0045 | AT39: 0.00 | AY39: 0.00 | AZ39: 44887
A40: 5500 | B40: 088 | C40: 4502247142 | D40: ZPFC | E40: בנא"מ | F40: 44882 | G40: 44882 | H40: 44926 | I40: טל רחמאני | J40: 40001037 | K40: הוצאת עתון הארץ בע"מ | L40: 510015449 | M40: 3 | N40: 67.5 | O40: ILS | P40: 67.5 | Q40: 6.84 | R40: 89.87 | S40: ILS | T40: 60.66 | U40: 60.65 | V40: 6.84 | X40: עיתון הארץ - דה מרקר (מקוון דיגיטלי עבור יועצת מנ | Z40: @FM@ | AB40: 5500 | AD40: 0 | AE40: 07 | AG40: 4400000895 | AH40: 57.69 | AI40: להציג בפורטל | AJ40: X | AK40: 028037448 | AL40: ספי ביבי | AM40: 305017030 | AN40: עיון דה מרקר מקוון ליועצת מנכ"ל יאנינה פליישון | AO40: מסמך מאושר | AP40: 0045 | AT40: 0.00 | AY40: 0.00 | AZ40: 44885
...

Sheet גיליון4
