Workbook

Sheet גיליון1
A1: מסמך רכישה | B1: שם חברה | C1: מספר תקנה | D1: שם תקנה | E1: טקסט כותרת | F1: התחלת תקופת תוקף | G1: סיום תקופת תוקף | H1: ספק | I1: שם הספק | J1: מספר רישום מע"מ | K1: מטבע | L1: ערך הזמנה + מע"מ | M1: ביצוע חשבוניות כולל מע"מ והצמדות במט"מ | N1: יתרת הזמנות נומינלית + מעמ | O1: סימוכין שלך | P1: ערך הזמנה במ.ט.מ | Q1: ביצוע ערך קבלות הטובין במט"מ | R1: הזמנות רגישות
A2: 4502240664 | B2: הרשות למים ולביוב | C2: =VLOOKUP(טבלה1[[#This Row],[מסמך רכישה]],גיליון2!$B$1:$D$248,2,FALSE) -> 73-30-01-05 | D2: =VLOOKUP(טבלה1[[#This Row],[מסמך רכישה]],גיליון2!$B$1:$D$248,3,FALSE) -> פיתוח ותחזוקת מערכות | E2: מחשב נייד 14" מתקדם | F2: 44873 | G2: 45141 | H2: 40532479 | I2: זיפקום תקשורת בע"מ | J2: 512781790 | K2: ILS | L2: 134049.7 | M2: 141952.92 | N2: 0 | O2: מערכות מידע | P2: 134049.7 | Q2: 134049.7 | R2: N
A3: 4502240164 | B3: הרשות למים ולביוב | C3: =VLOOKUP(טבלה1[[#This Row],[מסמך רכישה]],גיליון2!$B$1:$D$248,2,FALSE) -> 73-30-01-05 | D3: =VLOOKUP(טבלה1[[#This Row],[מסמך רכישה]],גיליון2!$B$1:$D$248,3,FALSE) -> פיתוח ותחזוקת מערכות | E3: רכישת מתכלים, שירותי תחזוקה ואחריות ושירותי חכירה | F3: 44869 | G3: 46752 | H3: 40001244 | I3: דנגוט מחשבים בע"מ | J3: 511398836 | K3: ILS | L3: 17829.42 | M3: 18152.63 | N3: 0 | O3: מערכות מידע | P3: 17829.42 | Q3: 17829.42 | R3: N
A4: 4502258334 | B4: הרשות למים ולביוב | C4: =VLOOKUP(טבלה1[[#This Row],[מסמך רכישה]],גיליון2!$B$1:$D$248,2,FALSE) -> 41-30-01-10 | D4: =VLOOKUP(טבלה1[[#This Row],[מסמך רכישה]],גיליון2!$B$1:$D$248,3,FALSE) -> הוצאות תפעול | E4: תשלום עבור התקן מד אוץ לחודש 9/22 | F4: 44805 | G4: 44926 | H4: 40005422 | I4: סונול ישראל בעמ | J4: 510902729 | K4: ILS | L4: 203.93 | M4: 210.6 | N4: 0 | O4: בנא"מ | P4: 24545.33 | Q4: 203.93 | R4: N
A5: 4502269531 | B5: הרשות למים ולביוב | C5: =VLOOKUP(טבלה1[[#This Row],[מסמך רכישה]],גיליון2!$B$1:$D$248,2,FALSE) -> 73-30-01-05 | D5: =VLOOKUP(טבלה1[[#This Row],[מסמך רכישה]],גיליון2!$B$1:$D$248,3,FALSE) -> פיתוח ותחזוקת מערכות | E5: הסכם לחידוש רישוי מוצרי ושירותי מיקרוסופט | F5: 44927 | G5: 46022 | H5: 41129478 | I5: יו-ביטק סולושנס בע"מ | J5: 514008333 | K5: ILS | L5: 111090.16 | M5: 116575.57 | N5: 0 | O5: מערכות מידע | P5: 134039.16 | Q5: 111090.16 | R5: N
A6: 4502259010 | B6: הרשות למים ולביוב | C6: =VLOOKUP(טבלה1[[#This Row],[מסמך רכישה]],גיליון2!$B$1:$D$248,2,FALSE) -> 73-30-01-05 | D6: =VLOOKUP(טבלה1[[#This Row],[מסמך רכישה]],גיליון2!$B$1:$D$248,3,FALSE) -> פיתוח ותחזוקת מערכות | E6: חידוש רישוי שנתי ADOBE ACROBAT PRO FRL | F6: 44973 | G6: 45338 | H6: 40009639 | I6: מאגרי תוכנה (מ.ת.) בע"מ | J6: 513442442 | K6: ILS | L6: 1937.85 | M6: 1930.52 | N6: 0 | O6: מערכות מידע | P6: 5183.74 | Q6: 1937.85 | R6: N
A7: 4502269813 | B7: הרשות למים ולביוב | C7: =VLOOKUP(טבלה1[[#This Row],[מסמך רכישה]],גיליון2!$B$1:$D$248,2,FALSE) -> 73-30-01-05 | D7: =VLOOKUP(טבלה1[[#This Row],[מסמך רכישה]],גיליון2!$B$1:$D$248,3,FALSE) -> פיתוח ותחזוקת מערכות | E7: החלפת הפורטי במתקני ההתפלה ב CHECK POINT | F7: 44917 | G7: 45108 | H7: 40001108 | I7: בינת תקשורת מחשבים בע"מ | J7: 510713407 | K7: ILS | L7: 134039.16 | M7: 137084.45 | N7: 0 | O7: מערכות מידע | P7: 1989 | Q7: 134039.16 | R7: N
A8: 4502249370 | B8: הרשות למים ולביוב | C8: =VLOOKUP(טבלה1[[#This Row],[מסמך רכישה]],גיליון2!$B$1:$D$248,2,FALSE) -> 73-30-01-05 | D8: =VLOOKUP(טבלה1[[#This Row],[מסמך רכישה]],גיליון2!$B$1:$D$248,3,FALSE) -> פיתוח ותחזוקת מערכות | E8: רכישת מתכלים | F8: 44887 | G8: 46934 | H8: 40001247 | I8: הראל טכנולוגיות מידע בע"מ | J8: 511401002 | K8: ILS | L8: 5183.74 | M8: 5189.7 | N8: 0 | O8: מערכות מידע | P8: 7605 | Q8: 5183.74 | R8: N
A9: 4502269235 | B9: הרשות למים ולביוב | C9: =VLOOKUP(טבלה1[[#This Row],[מסמך רכישה]],גיליון2!$B$1:$D$248,2,FALSE) -> 73-30-01-05 | D9: =VLOOKUP(טבלה1[[#This Row],[מסמך רכישה]],גיליון2!$B$1:$D$248,3,FALSE) -> פיתוח ותחזוקת מערכות | E9: הסכם לחידוש רישוי מוצרי ושירותי מיקרוסופט מוצרים | F9: 44927 | G9: 46022 | H9: 41129478 | I9: יו-ביטק סולושנס בע"מ | J9: 514008333 | K9: ILS | L9: 333729.18 | M9: 342564.44 | N9: 0 | O9: מערכות מידע | P9: 3159 | Q9: 333729.18 | R9: N
A10: 4502230756 | B10: הרשות למים ולביוב | C10: =VLOOKUP(טבלה1[[#This Row],[מסמך רכישה]],גיליון2!$B$1:$D$248,2,FALSE) -> 41-30-01-19 | D10: =VLOOKUP(טבלה1[[#This Row],[מסמך רכישה]],גיליון2!$B$1:$D$248,3,FALSE) -> פעולות מנהל וארגון | E10: רכישת עגלת מטען עבור יחידת צפ"א | F10: 44836 | G10: 44926 | H10: 40336715 | I10: ש.ב. פתרונות שינוע בע"מ | J10: 513941229 | K10: ILS | L10: 1989 | M10: 1989 | N10: 0 | O10: צפ"א | P10: 47469.24 | Q10: 1989 | R10: N
A11: 4502231561 | B11: הרשות למים ולביוב | C11: =VLOOKUP(טבלה1[[#This Row],[מסמך רכישה]],גיליון2!$B$1:$D$248,2,FALSE) -> 41-30-01-19 | D11: =VLOOKUP(טבלה1[[#This Row],[מסמך רכישה]],גיליון2!$B$1:$D$248,3,FALSE) -> פעולות מנהל וארגון | E11: הרצאה עבור כנס רפרנטים ב-25.10.2022 | F11: 44859 | G11: 44859 | H11: 40984566 | I11: אביב גילת | J11: 022699755 | K11: ILS | L11: 7605 | M11: 7605 | N11: 0 | O11: רכש | P11: 4329 | Q11: 7605 | R11: N
A12: 4502232934 | B12: הרשות למים ולביוב | C12: =VLOOKUP(טבלה1[[#This Row],[מסמך רכישה]],גיליון2!$B$1:$D$248,2,FALSE) -> 41-30-01-10 | D12: =VLOOKUP(טבלה1[[#This Row],[מסמך רכישה]],גיליון2!$B$1:$D$248,3,FALSE) -> הוצאות תפעול | E12: דפי רישיונות | F12: 44854 | G12: 45218 | H12: 40006968 | I12: דוקופרינט בע"מ | J12: 510885932 | K12: ILS | L12: 3159 | M12: 3159 | N12: 0 | O12: אסדרה | P12: 3299.4 | Q12: 3159 | R12: N
A13: 4502235286 | B13: הרשות למים ולביוב | C13: =VLOOKUP(טבלה1[[#This Row],[מסמך רכישה]],גיליון2!$B$1:$D$248,2,FALSE) -> 73-30-01-31 | D13: =VLOOKUP(טבלה1[[#This Row],[מסמך רכישה]],גיליון2!$B$1:$D$248,3,FALSE) -> חיזוי שטפונות | E13: עדכונים ותמיכה באפליקציה לחיזוי שיטפונות | F13: 44837 | G13: 45201 | H13: 40010832 | I13: אנויטק בע"מ | J13: 512336454 | K13: ILS | L13: 47469.24 | M13: 47469.24 | N13: 0 | O13: הידרולוגי | P13: 1420 | Q13: 47469.24 | R13: N
... A31: 4502249180 | B31: הרשות למים ולביוב | C31: =VLOOKUP(טבלה1[[#This Row],[מסמך רכישה]],גיליון2!$B$1:$D$248,2,FALSE) -> 41-30-01-39 | D31: =VLOOKUP(טבלה1[[#This Row],[מסמך רכישה]],גיליון2!$B$1:$D$248,3,FALSE) -> סייבר | E31: שירותי קוויי IPVPN לטובת סוק מים | F31: 44887 | G31: 45291 | H31: 41560706 | I31: בינת עסקים בע"מ | J31: 514752310 | K31: ILS | L31: 3310.97 | M31: 3310.97 | N31: 0 | O31: מערכות מידע | P31: 216.03 | Q31: 3310.97 | R31: N
A32: 4502249188 | B32: הרשות למים ולביוב | C32: =VLOOKUP(טבלה1[[#This Row],[מסמך רכישה]],גיליון2!$B$1:$D$248,2,FALSE) -> 41-30-01-20 | D32: =VLOOKUP(טבלה1[[#This Row],[מסמך רכישה]],גיליון2!$B$1:$D$248,3,FALSE) -> הדרכה ורווחה | E32: השתתפות בוועדת בוחנים | F32: 44825 | G32: 44895 | H32: 40141883 | I32: קורנהאוזר אליזבטה | J32: 500101753 | K32: ILS | L32: 831.87 | M32: 831.87 | N32: 0 | O32: משאבי אנוש | P32: 93.6 | Q32: 831.87 | R32: N
A33: 4502249214 | B33: הרשות למים ולביוב | C33: =VLOOKUP(טבלה1[[#This Row],[מסמך רכישה]],גיליון2!$B$1:$D$248,2,FALSE) -> 73-30-01-05 | D33: =VLOOKUP(טבלה1[[#This Row],[מסמך רכישה]],גיליון2!$B$1:$D$248,3,FALSE) -> פיתוח ותחזוקת מערכות | E33: חידוש רישוי מערכת זום - 16 רישיונות | F33: 44927 | G33: 45291 | H33: 40009639 | I33: מאגרי תוכנה (מ.ת.) בע"מ | J33: 513442442 | K33: ILS | L33: 10108.8 | M33: 10108.8 | N33: 0 | O33: מערכות מידע | P33: 5000 | Q33: 10108.8 | R33: N
A34: 4502250159 | B34: הרשות למים ולביוב | C34: =VLOOKUP(טבלה1[[#This Row],[מסמך רכישה]],גיליון2!$B$1:$D$248,2,FALSE) -> 41-30-01-10 | D34: =VLOOKUP(טבלה1[[#This Row],[מסמך רכישה]],גיליון2!$B$1:$D$248,3,FALSE) -> הוצאות תפעול | E34: בדיקה שנתית של ציוד ערכות עבודה בגובה | F34: 44888 | G34: 45107 | H34: 41046624 | I34: מערכות בטיחות ג.י. בע"מ | J34: 514954635 | K34: ILS | L34: 3744 | M34: 3744 | N34: 0 | O34: בנא"מ | P34: 2906.35 | Q34: 3744 | R34: N
A35: 4502250530 | B35: הרשות למים ולביוב | C35: =VLOOKUP(טבלה1[[#This Row],[מסמך רכישה]],גיליון2!$B$1:$D$248,2,FALSE) -> 41-30-01-20 | D35: =VLOOKUP(טבלה1[[#This Row],[מסמך רכישה]],גיליון2!$B$1:$D$248,3,FALSE) -> הדרכה ורווחה | E35: שי לחנוכה | F35: 44889 | G35: 44926 | H35: 41402103 | I35: סולתם - רדד (כלי בית) בע"מ | J35: 515360188 | K35: ILS | L35: 42550.09 | M35: 42550.09 | N35: 0 | O35: משאבי אנוש | P35: 1514 | Q35: 42550.09 | R35: N
A36: 4502252255 | B36: הרשות למים ולביוב | C36: =VLOOKUP(טבלה1[[#This Row],[מסמך רכישה]],גיליון2!$B$1:$D$248,2,FALSE) -> 73-30-01-05 | D36: =VLOOKUP(טבלה1[[#This Row],[מסמך רכישה]],גיליון2!$B$1:$D$248,3,FALSE) -> פיתוח ותחזוקת מערכות | E36: חידוש שנתי לרישיונות תוכנת business objects. | F36: 44562 | G36: 44926 | H36: 40004372 | I36: מטריקס אי.טי. מוצרי תוכנה בע"מ | J36: 511072399 | K36: ILS | L36: 29636.1 | M36: 29636.1 | N36: 0 | O36: מערכות מידע | P36: 1109.16 | Q36: 29636.1 | R36: N
A37: 4502253033 | B37: הרשות למים ולביוב | C37: =VLOOKUP(טבלה1[[#This Row],[מסמך רכישה]],גיליון2!$B$1:$D$248,2,FALSE) -> 73-30-01-03 | D37: =VLOOKUP(טבלה1[[#This Row],[מסמך רכישה]],גיליון2!$B$1:$D$248,3,FALSE) -> איכות מים- ניטור | E37: אספקת קרטרידג'ים למיצוי בשיטת SPE למערכת הלאומית | F37: 44896 | G37: 45076 | H37: 40295097 | I37: פוטרמן יזום ניהול ושיווק בע"מ | J37: 512250267 | K37: ILS | L37: 14695.2 | M37: 14695.2 | N37: 0 | O37: איכות מים | P37: 2538.15 | Q37: 14695.2 | R37: N
A38: 4502255550 | B38: הרשות למים ולביוב | C38: =VLOOKUP(טבלה1[[#This Row],[מסמך רכישה]],גיליון2!$B$1:$D$248,2,FALSE) -> 41-30-01-10 | D38: =VLOOKUP(טבלה1[[#This Row],[מסמך רכישה]],גיליון2!$B$1:$D$248,3,FALSE) -> הוצאות תפעול | E38: ארנונה בניין חפציבה 386.5 מ"ר * 342 ש"ח למ"ר לשנת 2023 | F38: 44927 | G38: 45291 | H38: 20000159 | I38: עירית ירושלים | J38: 500230008 | K38: ILS | L38: 120069.78 | M38: 120068.68 | N38: 1.1 | P38: 1222.95 | Q38: 0 | R38: N
A39: 4502255950 | B39: הרשות למים ולביוב | C39: =VLOOKUP(טבלה1[[#This Row],[מסמך רכישה]],גיליון2!$B$1:$D$248,2,FALSE) -> 41-30-01-10 | D39: =VLOOKUP(טבלה1[[#This Row],[מסמך רכישה]],גיליון2!$B$1:$D$248,3,FALSE) -> הוצאות תפעול | E39: ארנונה לבניין ג'נרי 2023 | F39: 44927 | G39: 45016 | H39: 20000159 | I39: עירית ירושלים | J39: 500230008 | K39: ILS | L39: 1874039.3 | M39: 1874039.4 | N39: 0 | P39: 1222.95 | Q39: 0 | R39: N
A40: 4502256556 | B40: הרשות למים ולביוב | C40: =VLOOKUP(טבלה1[[#This Row],[מסמך רכישה]],גיליון2!$B$1:$D$248,2,FALSE) -> 41-30-01-10 | D40: =VLOOKUP(טבלה1[[#This Row],[מסמך רכישה]],גיליון2!$B$1:$D$248,3,FALSE) -> הוצאות תפעול | E40: רכישת מים כחולים לרכבי רשות המים | F40: 44927 | G40: 45291 | H40: 40427007 | I40: ח.נ. טכניק מרכז לאספקה בע"מ | J40: 514062736 | K40: ILS | L40: 1106.02 | M40: 1106.02 | N40: 0 | P40: 1432.86 | Q40: 1106.02 | R40: N
A41: 4502256661 | B41: הרשות למים ולביוב | C41: =VLOOKUP(טבלה1[[#This Row],[מסמך רכישה]],גיליון2!$B$1:$D$248,2,FALSE) -> 73-30-01-03 | D41: =VLOOKUP(טבלה1[[#This Row],[מסמך רכישה]],גיליון2!$B$1:$D$248,3,FALSE) -> איכות מים- ניטור | E41: הכנת נתונים למודל סטטי למטרו | F41: 44906 | G41: 45270 | H41: 40019792 | I41: גיאו - פרוספקט בע"מ | J41: 513195230 | K41: ILS | L41: 4914 | M41: 4914 | N41: 0 | O41: הידרולוגי | P41: 542.06 | Q41: 4914 | R41: N
A42: 4502258250 | B42: הרשות למים ולביוב | C42: =VLOOKUP(טבלה1[[#This Row],[מסמך רכישה]],גיליון2!$B$1:$D$248,2,FALSE) -> 41-30-01-20 | D42: =VLOOKUP(טבלה1[[#This Row],[מסמך רכישה]],גיליון2!$B$1:$D$248,3,FALSE) -> הדרכה ורווחה | E42: סיור חנוכיות למשפחות עובדי רשות המים | F42: 44920 | G42: 44920 | H42: 40530612 | I42: צבי אמיר גמליאל | J42: 033716283 | K42: ILS | L42: 6048.9 | M42: 6048.9 | N42: 0 | O42: משאבי אנוש | P42: 20311.2 | Q42: 6048.9 | R42: N
A43: 4502258698 | B43: הרשות למים ולביוב | C43: =VLOOKUP(טבלה1[[#This Row],[מסמך רכישה]],גיליון2!$B$1:$D$248,2,FALSE) -> 73-30-01-25 | D43: =VLOOKUP(טבלה1[[#This Row],[מסמך רכישה]],גיליון2!$B$1:$D$248,3,FALSE) -> ייעוץ ופעולות בנושא | E43: מתן שירות למערכות איסוף וניתוח מידע | F43: 44927 | G43: 45291 | H43: 40457657 | I43: אי.או. סייט בע"מ | J43: 513573956 | K43: ILS | L43: 68611.14 | M43: 68611.14 | N43: 0 | O43: התפלה | P43: 38214.54 | Q43: 68611.14 | R43: N
A44: 4502258704 | B44: הרשות למים ולביוב | C44: =VLOOKUP(טבלה1[[#This Row],[מסמך רכישה]],גיליון2!$B$1:$D$248,2,FALSE) -> 41-30-01-19 | D44: =VLOOKUP(טבלה1[[#This Row],[מסמך רכישה]],גיליון2!$B$1:$D$248,3,FALSE) -> פעולות מנהל וארגון | E44: הזמנה לציוד רפואי עבור ערכות עזרה ראשונה | F44: 44927 | G44: 45291 | H44: 40001519 | I44: ממרם שיווק ציוד רפואי בע"מ | J44: 512914888 | K44: ILS | L44: 4949.51 | M44: 4949.5 | N44: 0 | P44: 67.5 | Q44: 4949.51 | R44: N
A45: 4502259152 | B45: הרשות למים ולביוב | C45: =VLOOKUP(טבלה1[[#This Row],[מסמך רכישה]],גיליון2!$B$1:$D$248,2,FALSE) -> 73-30-01-05 | D45: =VLOOKUP(טבלה1[[#This Row],[מסמך רכישה]],גיליון2!$B$1:$D$248,3,FALSE) -> פיתוח ותחזוקת מערכות | E45: תצורות מסכים גטר גרופ בע"מ תצורה 3.3 – מסך 24" מת | F45: 44973 | G45: 46799 | H45: 41097839 | I45: גטר גרופ בע"מ | J45: 520042326 | K45: ILS | L45: 19940.66 | M45: 21861.24 | N45: 0 | O45: מערכות מידע | P45: 4791.15 | Q45: 19940.66 | R45: N
A46: 4502263173 | B46: הרשות למים ולביוב | C46: =VLOOKUP(טבלה1[[#This Row],[מסמך רכישה]],גיליון2!$B$1:$D$248,2,FALSE) -> 41-30-01-19 | D46: =VLOOKUP(טבלה1[[#This Row],[מסמך רכישה]],גיליון2!$B$1:$D$248,3,FALSE) -> פעולות מנהל וארגון | E46: רכישת מצלמות רכב 360 | F46: 44910 | G46: 45077 | H46: 41053397 | I46: ל.ד. ישראל אוטו אקוויפמנט (1990) בע | J46: 511457517 | K46: ILS | L46: 21060 | M46: 21060 | N46: 0 | O46: צפא | P46: 9283.95 | Q46: 21060 | R46: N
A47: 4502263585 | B47: הרשות למים ולביוב | C47: =VLOOKUP(טבלה1[[#This Row],[מסמך רכישה]],גיליון2!$B$1:$D$248,2,FALSE) -> 73-30-01-05 | D47: =VLOOKUP(טבלה1[[#This Row],[מסמך רכישה]],גיליון2!$B$1:$D$248,3,FALSE) -> פיתוח ותחזוקת מערכות | E47: תצורה 4.7 - רכישת עט מגע לטאבלט iPad Pro 12.9" M1 | F47: 44411 | G47: 45141 | H47: 40001210 | I47: מטריקס אי.טי. אינטגרציה ותשתיות בע" | J47: 511204026 | K47: ILS | L47: 1076.8 | M47: 1158.97 | N47: 0 | O47: מערכות מידע | P47: 39487.5 | Q47: 1076.8 | R47: N
A48: 4502265032 | B48: הרשות למים ולביוב | C48: =VLOOKUP(טבלה1[[#This Row],[מסמך רכישה]],גיליון2!$B$1:$D$248,2,FALSE) -> 41-30-01-19 | D48: =VLOOKUP(טבלה1[[#This Row],[מסמך רכישה]],גיליון2!$B$1:$D$248,3,FALSE) -> פעולות מנהל וארגון | E48: סיור קבלנים במתחם תעש רמת השרון למתמודדים במכרז | F48: 44914 | G48: 44914 | H48: 40001599 | I48: נצר השרון בע"מ | J48: 520036369 | K48: ILS | L48: 4499.82 | M48: 4499.82 | N48: 0 | P48: 28080 | Q48: 4499.82 | R48: N
A49: 4502265083 | B49: הרשות למים ולביוב | C49: =VLOOKUP(טבלה1[[#This Row],[מסמך רכישה]],גיליון2!$B$1:$D$248,2,FALSE) -> 73-30-01-05 | D49: =VLOOKUP(טבלה1[[#This Row],[מסמך רכישה]],גיליון2!$B$1:$D$248,3,FALSE) -> פיתוח ותחזוקת מערכות | E49: חתימות דיגיטאליות AdobeSing | F49: 44973 | G49: 45338 | H49: 40009639 | I49: מאגרי תוכנה (מ.ת.) בע"מ | J49: 513442442 | K49: ILS | L49: 14227.2 | M49: 14227.2 | N49: 0 | O49: מערכות מידע | P49: 46507.5 | Q49: 14227.2 | R49: N
A50: 4502266564 | B50: הרשות למים ולביוב | C50: =VLOOKUP(טבלה1[[#This Row],[מסמך רכישה]],גיליון2!$B$1:$D$248,2,FALSE) -> 73-30-01-05 | D50: =VLOOKUP(טבלה1[[#This Row],[מסמך רכישה]],גיליון2!$B$1:$D$248,3,FALSE) -> פיתוח ותחזוקת מערכות | E50: חידוש רישיונות שימוש בתוכנת ‪GMS‬ חידוש רישיונות | F50: 44927 | G50: 45291 | H50: 40010832 | I50: אנויטק בע"מ | J50: 512336454 | K50: ILS | L50: 31824 | M50: 31824 | N50: 0 | O50: מערכות מידע | P50: 260957.97 | Q50: 31824 | R50: N
A51: 4502266586 | B51: הרשות למים ולביוב | C51: =VLOOKUP(טבלה1[[#This Row],[מסמך רכישה]],גיליון2!$B$1:$D$248,2,FALSE) -> 73-30-01-05 | D51: =VLOOKUP(טבלה1[[#This Row],[מסמך רכישה]],גיליון2!$B$1:$D$248,3,FALSE) -> פיתוח ותחזוקת מערכות | E51: חידוש שנתי לרישיונות תוכנת business objects. | F51: 44927 | G51: 45291 | H51: 40004372 | I51: מטריקס אי.טי. מוצרי תוכנה בע"מ | J51: 511072399 | K51: ILS | L51: 30673.89 | M51: 30673.89 | N51: 0 | O51: מערכות מידע | P51: 526500 | Q51: 30673.89 | R51: N
A52: 4502266706 | B52: הרשות למים ולביוב | C52: =VLOOKUP(טבלה1[[#This Row],[מסמך רכישה]],גיליון2!$B$1:$D$248,2,FALSE) -> 73-30-01-05 | D52: =VLOOKUP(טבלה1[[#This Row],[מסמך רכישה]],גיליון2!$B$1:$D$248,3,FALSE) -> פיתוח ותחזוקת מערכות | E52: חידוש תלת שנתי לשימוש ותחזוקה בתוכנת COCKPIT | F52: 44927 | G52: 46022 | H52: 40001604 | I52: תים תוכנה בע"מ | J52: 520039355 | K52: ILS | L52: 17199 | M52: 17199 | N52: 0 | O52: מערכות מידע | P52: 704340 | Q52: 17199 | R52: N
A53: 4502266722 | B53: הרשות למים ולביוב | C53: =VLOOKUP(טבלה1[[#This Row],[מסמך רכישה]],גיליון2!$B$1:$D$248,2,FALSE) -> 41-30-01-11 | D53: =VLOOKUP(טבלה1[[#This Row],[מסמך רכישה]],גיליון2!$B$1:$D$248,3,FALSE) -> דמי שימוש ממשלתיים | E53: דמי מנוי מאגר תחזוקה במסגרת המאגר המאוחד | F53: 44562 | G53: 44926 | H53: 10000192 | I53: מינהל הדיור הממשלתי | J53: 500105994 | K53: ILS | L53: 5000 | M53: 5000 | N53: 0 | O53: בנא"מ | P53: 250000 | Q53: 0 | R53: N
A54: 4502266729 | B54: הרשות למים ולביוב | C54: =VLOOKUP(טבלה1[[#This Row],[מסמך רכישה]],גיליון2!$B$1:$D$248,2,FALSE) -> 41-30-01-13 | D54: =VLOOKUP(טבלה1[[#This Row],[מסמך רכישה]],גיליון2!$B$1:$D$248,3,FALSE) -> השתתפות במנהל דיור | E54: עלויות תקשורת קריות ממשלה 2022 | F54: 44562 | G54: 44926 | H54: 10000192 | I54: מינהל הדיור הממשלתי | J54: 500105994 | K54: ILS | L54: 35378.21 | M54: 35378.21 | N54: 0 | O54: בנא"מ | P54: 1618.29 | Q54: 0 | R54: N
A55: 4502267654 | B55: הרשות למים ולביוב | C55: =VLOOKUP(טבלה1[[#This Row],[מסמך רכישה]],גיליון2!$B$1:$D$248,2,FALSE) -> 41-30-01-19 | D55: =VLOOKUP(טבלה1[[#This Row],[מסמך רכישה]],גיליון2!$B$1:$D$248,3,FALSE) -> פעולות מנהל וארגון | E55: עיתונות גלובס מודפסת ומקוונת שורה 10 | F55: 44927 | G55: 45291 | H55: 40001158 | I55: גלובס פבלישר עתונות (1983) בע"מ | J55: 510989940 | K55: ILS | L55: 1724.11 | M55: 1724.11 | N55: 0 | P55: 713700 | Q55: 1724.11 | R55: N
A56: 4502268198 | B56: הרשות למים ולביוב | C56: =VLOOKUP(טבלה1[[#This Row],[מסמך רכישה]],גיליון2!$B$1:$D$248,2,FALSE) -> 73-30-01-29 | D56: =VLOOKUP(טבלה1[[#This Row],[מסמך רכישה]],גיליון2!$B$1:$D$248,3,FALSE) -> תכנון מתקן עמק חפר | E56: עריכת סקר רקע וניטור ימי לתכנון מתקן התפלה עמק חפר | F56: 44927 | G56: 45291 | H56: 40001077 | I56: חקר ימים ואגמים לישראל בעמ | J56: 510485204 | K56: ILS | L56: 120000 | M56: 120000 | N56: 0 | O56: תכנון | P56: 1677.78 | Q56: 120000 | R56: N
A57: 4502268643 | B57: הרשות למים ולביוב | C57: =VLOOKUP(טבלה1[[#This Row],[מסמך רכישה]],גיליון2!$B$1:$D$248,2,FALSE) -> 41-30-01-19 | D57: =VLOOKUP(טבלה1[[#This Row],[מסמך רכישה]],גיליון2!$B$1:$D$248,3,FALSE) -> פעולות מנהל וארגון | E57: ארוחת צהריים במזנון החקלאות עבור אימון שנתי בטחון | F57: 44920 | G57: 44921 | H57: 40997304 | I57: שילת-חן יזמות והשקעות בע"מ | J57: 513931592 | K57: ILS | L57: 216.03 | M57: 216.03 | N57: 0 | P57: 1565.46 | Q57: 216.03 | R57: N
A58: 4502268724 | B58: הרשות למים ולביוב | C58: =VLOOKUP(טבלה1[[#This Row],[מסמך רכישה]],גיליון2!$B$1:$D$248,2,FALSE) -> 41-30-01-19 | D58: =VLOOKUP(טבלה1[[#This Row],[מסמך רכישה]],גיליון2!$B$1:$D$248,3,FALSE) -> פעולות מנהל וארגון | E58: כרטיסים לפקחים ניטור כנרת | F58: 44916 | G58: 45107 | H58: 40007139 | I58: תג נאור בע"מ | J58: 512477845 | K58: ILS | L58: 93.6 | M58: 93.6 | N58: 0 | O58: בנא"מ | P58: 1565.46 | Q58: 93.6 | R58: N
A59: 4502269399 | B59: הרשות למים ולביוב | C59: =VLOOKUP(טבלה1[[#This Row],[מסמך רכישה]],גיליון2!$B$1:$D$248,2,FALSE) -> 73-30-01-03 | D59: =VLOOKUP(טבלה1[[#This Row],[מסמך רכישה]],גיליון2!$B$1:$D$248,3,FALSE) -> איכות מים- ניטור | E59: ייצור והתקנת מדרגות לתחנה הידרומטרית | F59: 44920 | G59: 45070 | H59: 42114652 | I59: ראיד מ. דראושה ואחיו בע"מ | J59: 514371053 | K59: ILS | L59: 5000 | M59: 5000 | N59: 0 | O59: הידרולוגי | P59: 404820 | Q59: 5000 | R59: N
A60: 4502270288 | B60: הרשות למים ולביוב | C60: =VLOOKUP(טבלה1[[#This Row],[מסמך רכישה]],גיליון2!$B$1:$D$248,2,FALSE) -> 41-30-01-10 | D60: =VLOOKUP(טבלה1[[#This Row],[מסמך רכישה]],גיליון2!$B$1:$D$248,3,FALSE) -> הוצאות תפעול | E60: הוספת עמדת תקשורת וחשמל לחדר 5005 קומה 5 רשות המים | F60: 44920 | G60: 45107 | H60: 41111486 | I60: אלייד - ג'נרי 2 בע"מ | J60: 514961853 | K60: ILS | L60: 2906.35 | M60: 2906.35 | N60: 0 | O60: בנא"מ | P60: 49725 | Q60: 2906.35 | R60: N
A61: 4502270295 | B61: הרשות למים ולביוב | C61: =VLOOKUP(טבלה1[[#This Row],[מסמך רכישה]],גיליון2!$B$1:$D$248,2,FALSE) -> 41-30-01-20 | D61: =VLOOKUP(טבלה1[[#This Row],[מסמך רכישה]],גיליון2!$B$1:$D$248,3,FALSE) -> הדרכה ורווחה | E61: תוכנית ליווי לעובדים המטפלים בבני משפחה בשרות המדינה | F61: 44594 | G61: 44643 | H61: 10000020 | I61: משרד ראש הממשלה | J61: 500100037 | K61: ILS | L61: 2400 | M61: 2400 | N61: 0 | O61: משאבי אנוש | P61: 196279.2 | Q61: 2400 | R61: N
A62: 4502270360 | B62: הרשות למים ולביוב | C62: =VLOOKUP(טבלה1[[#This Row],[מסמך רכישה]],גיליון2!$B$1:$D$248,2,FALSE) -> 41-30-01-10 | D62: =VLOOKUP(טבלה1[[#This Row],[מסמך רכישה]],גיליון2!$B$1:$D$248,3,FALSE) -> הוצאות תפעול | E62: תכולה לערכה רפואית ניידת לרכבי שטח 30 (רכבים) | F62: 44927 | G62: 45291 | H62: 40001519 | I62: ממרם שיווק ציוד רפואי בע"מ | J62: 512914888 | K62: ILS | L62: 1930.5 | M62: 1930.5 | N62: 0 | O62: בנא"מ | P62: 521710.25 | Q62: 1930.5 | R62: N
A63: 4502270500 | B63: הרשות למים ולביוב | C63: =VLOOKUP(טבלה1[[#This Row],[מסמך רכישה]],גיליון2!$B$1:$D$248,2,FALSE) -> 41-30-01-10 | D63: =VLOOKUP(טבלה1[[#This Row],[מסמך רכישה]],גיליון2!$B$1:$D$248,3,FALSE) -> הוצאות תפעול | E63: התקנת מנעול מכני לחדר | F63: 44920 | G63: 45291 | H63: 42246038 | I63: סקורי איתי | J63: 036617264 | K63: ILS | L63: 877.5 | M63: 877.5 | N63: 0 | O63: בנא"מ | P63: 1350000.1 | Q63: 877.5 | R63: N
A64: 4502270581 | B64: הרשות למים ולביוב | C64: =VLOOKUP(טבלה1[[#This Row],[מסמך רכישה]],גיליון2!$B$1:$D$248,2,FALSE) -> 41-30-01-19 | D64: =VLOOKUP(טבלה1[[#This Row],[מסמך רכישה]],גיליון2!$B$1:$D$248,3,FALSE) -> פעולות מנהל וארגון | E64: הזמנה לכיבוד קל | F64: 44920 | G64: 45016 | H64: 42462346 | I64: מאפיית שיפון שיר בע"מ | J64: 515144053 | K64: ILS | L64: 1514 | M64: 1514 | N64: 0 | O64: בנא"מ | P64: 6086.48 | Q64: 1514 | R64: N
A65: 4502270834 | B65: הרשות למים ולביוב | C65: =VLOOKUP(טבלה1[[#This Row],[מסמך רכישה]],גיליון2!$B$1:$D$248,2,FALSE) -> 41-30-01-10 | D65: =VLOOKUP(טבלה1[[#This Row],[מסמך רכישה]],גיליון2!$B$1:$D$248,3,FALSE) -> הוצאות תפעול | E65: רכישת מיגון מכונות בהנדסה חקלאית | F65: 44921 | G65: 45016 | H65: 42152199 | I65: יוסטון מאור בע"מ | J65: 515800217 | K65: ILS | L65: 15617.16 | M65: 15617.16 | N65: 0 | P65: 257400 | Q65: 15617.16 | R65: N
A66: 4502271049 | B66: הרשות למים ולביוב | C66: =VLOOKUP(טבלה1[[#This Row],[מסמך רכישה]],גיליון2!$B$1:$D$248,2,FALSE) -> 41-30-01-11 | D66: =VLOOKUP(טבלה1[[#This Row],[מסמך רכישה]],גיליון2!$B$1:$D$248,3,FALSE) -> דמי שימוש ממשלתיים | E66: ליווי פרוגרמות 6/22 (צח"ר) + מרכז | F66: 44562 | G66: 44926 | H66: 10000192 | I66: מינהל הדיור הממשלתי | J66: 500105994 | K66: ILS | L66: 5003.38 | M66: 5003.38 | N66: 0 | O66: בנא"מ | P66: 170005.34 | Q66: 5003.38 | R66: N
A67: 4502271280 | B67: הרשות למים ולביוב | C67: =VLOOKUP(טבלה1[[#This Row],[מסמך רכישה]],גיליון2!$B$1:$D$248,2,FALSE) -> 41-30-01-20 | D67: =VLOOKUP(טבלה1[[#This Row],[מסמך רכישה]],גיליון2!$B$1:$D$248,3,FALSE) -> הדרכה ורווחה | E67: קורס דוגם מי שתיה - רמה א' | F67: 44949 | G67: 45016 | H67: 40170681 | I67: המכללה הטכנולוגית רופין (ע"ר) | J67: 580432136 | K67: ILS | L67: 17575 | M67: 17575 | N67: 0 | O67: משאבי אנוש | P67: 0.01 | Q67: 17575 | R67: N
A68: 4502271443 | B68: הרשות למים ולביוב | C68: =VLOOKUP(טבלה1[[#This Row],[מסמך רכישה]],גיליון2!$B$1:$D$248,2,FALSE) -> 41-30-01-20 | D68: =VLOOKUP(טבלה1[[#This Row],[מסמך רכישה]],גיליון2!$B$1:$D$248,3,FALSE) -> הדרכה ורווחה | E68: רכישת תווי שי לילדי עובדים העולים לכיתה א' | F68: 44927 | G68: 45291 | H68: 40383312 | I68: מקס איט פקדונות בע"מ | J68: 513240879 | K68: ILS | L68: 40706.25 | M68: 40706.25 | N68: 0 | O68: משאבי אנוש | P68: 486922.5 | Q68: 40706.25 | R68: N
A69: 4502271453 | B69: הרשות למים ולביוב | C69: =VLOOKUP(טבלה1[[#This Row],[מסמך רכישה]],גיליון2!$B$1:$D$248,2,FALSE) -> 41-30-01-20 | D69: =VLOOKUP(טבלה1[[#This Row],[מסמך רכישה]],גיליון2!$B$1:$D$248,3,FALSE) -> הדרכה ורווחה | E69: השתתפות בוועדת בוחנים | F69: 44913 | G69: 44915 | H69: 42132406 | I69: זליגר מרה | J69: 500101753 | K69: ILS | L69: 1109.16 | M69: 1109.16 | N69: 0 | O69: משאבי אנוש | P69: 250000 | Q69: 1109.16 | R69: N
A70: 4502271632 | B70: הרשות למים ולביוב | C70: =VLOOKUP(טבלה1[[#This Row],[מסמך רכישה]],גיליון2!$B$1:$D$248,2,FALSE) -> 73-30-01-03 | D70: =VLOOKUP(טבלה1[[#This Row],[מסמך רכישה]],גיליון2!$B$1:$D$248,3,FALSE) -> איכות מים- ניטור | E70: התקנת מערכת שידור במחצבת געתון | F70: 44927 | G70: 45657 | H70: 40010578 | I70: רונלי טכנולוגיות (1988) בע"מ | J70: 511322125 | K70: ILS | L70: 19129.5 | M70: 19129.5 | N70: 0 | O70: הידרולוגי | P70: 5096.98 | Q70: 19129.5 | R70: N
A71: 4502271932 | B71: הרשות למים ולביוב | C71: =VLOOKUP(טבלה1[[#This Row],[מסמך רכישה]],גיליון2!$B$1:$D$248,2,FALSE) -> 41-30-01-20 | D71: =VLOOKUP(טבלה1[[#This Row],[מסמך רכישה]],גיליון2!$B$1:$D$248,3,FALSE) -> הדרכה ורווחה | E71: הזמנת שי לעובדים - תקיק מחשב רפרנט ליאת רון תוקף | F71: 44943 | G71: 44943 | H71: 41558261 | I71: זוהר מתנות שאוהבים בע"מ | J71: 514726421 | K71: ILS | L71: 23120.25 | M71: 23119.2 | N71: 0 | O71: משאבי אנוש | P71: 300000 | Q71: 23120.25 | R71: N
A72: 4502272105 | B72: הרשות למים ולביוב | C72: =VLOOKUP(טבלה1[[#This Row],[מסמך רכישה]],גיליון2!$B$1:$D$248,2,FALSE) -> 41-30-01-20 | D72: =VLOOKUP(טבלה1[[#This Row],[מסמך רכישה]],גיליון2!$B$1:$D$248,3,FALSE) -> הדרכה ורווחה | E72: רכש מחברות ממותגות + עט לכנס תוכניות עבודה | F72: 44943 | G72: 44943 | H72: 40820616 | I72: דיגיטול בע"מ | J72: 514610591 | K72: ILS | L72: 4736.16 | M72: 4736.16 | N72: 0 | O72: משאבי אנוש | P72: 382590 | Q72: 4736.16 | R72: N
A73: 4502272213 | B73: הרשות למים ולביוב | C73: =VLOOKUP(טבלה1[[#This Row],[מסמך רכישה]],גיליון2!$B$1:$D$248,2,FALSE) -> 41-30-01-20 | D73: =VLOOKUP(טבלה1[[#This Row],[מסמך רכישה]],גיליון2!$B$1:$D$248,3,FALSE) -> הדרכה ורווחה | E73: קורס מנהלים - תכנית פיתוח מנהלי דרגי יסוד | F73: 44621 | G73: 44621 | H73: 10000020 | I73: משרד ראש הממשלה | J73: 500100037 | K73: ILS | L73: 5600 | M73: 5600 | N73: 0 | O73: משאבי אנוש | P73: 25524.72 | Q73: 5600 | R73: N
A74: 4502272328 | B74: הרשות למים ולביוב | C74: =VLOOKUP(טבלה1[[#This Row],[מסמך רכישה]],גיליון2!$B$1:$D$248,2,FALSE) -> 41-30-01-20 | D74: =VLOOKUP(טבלה1[[#This Row],[מסמך רכישה]],גיליון2!$B$1:$D$248,3,FALSE) -> הדרכה ורווחה | E74: תוכנית skill you - כישורי קריירה לעולם העבודה | F74: 44605 | G74: 110390 | H74: 10000020 | I74: משרד ראש הממשלה | J74: 500100037 | K74: ILS | L74: 1660 | M74: 1660 | N74: 0 | O74: משאבי אנוש | P74: 25000 | Q74: 1660 | R74: N
A75: 4502273648 | B75: הרשות למים ולביוב | C75: =VLOOKUP(טבלה1[[#This Row],[מסמך רכישה]],גיליון2!$B$1:$D$248,2,FALSE) -> 41-30-01-10 | D75: =VLOOKUP(טבלה1[[#This Row],[מסמך רכישה]],גיליון2!$B$1:$D$248,3,FALSE) -> הוצאות תפעול | E75: תשלומים בגין מתן שירותים נוספים | F75: 44562 | G75: 44926 | H75: 10000192 | I75: מינהל הדיור הממשלתי | J75: 500105994 | K75: ILS | L75: 81299.44 | M75: 81299.44 | N75: 0 | O75: בנא"מ | P75: 1500.17 | Q75: 81299.44 | R75: N
A76: 4502271135 | B76: הרשות למים ולביוב | C76: =VLOOKUP(טבלה1[[#This Row],[מסמך רכישה]],גיליון2!$B$1:$D$248,2,FALSE) -> 73-30-01-05 | D76: =VLOOKUP(טבלה1[[#This Row],[מסמך רכישה]],גיליון2!$B$1:$D$248,3,FALSE) -> פיתוח ותחזוקת מערכות | E76: חידוש שנתי רשיונות מוצרי VMWARE | F76: 44927 | G76: 45291 | H76: 40004893 | I76: אב-נט תקשורת בע"מ | J76: 512557166 | K76: ILS | L76: 31787.02 | M76: 31708.17 | N76: 0 | O76: מערכות מידע | P76: 1960 | Q76: 31787.02 | R76: N
A77: 4502248622 | B77: הרשות למים ולביוב | C77: =VLOOKUP(טבלה1[[#This Row],[מסמך רכישה]],גיליון2!$B$1:$D$248,2,FALSE) -> 41-30-01-10 | D77: =VLOOKUP(טבלה1[[#This Row],[מסמך רכישה]],גיליון2!$B$1:$D$248,3,FALSE) -> הוצאות תפעול | E77: נסיעת עבודה | F77: 44866 | G77: 44870 | H77: 41003244 | I77: משרד סוכנות/האוצר נסיעות ממשלתית | J77: 500107321 | K77: ILS | L77: 2538.15 | M77: 2156 | N77: 18.46 | O77: נסיעות לחו"ל | P77: 650000.01 | Q77: 2520.38 | R77: N
A78: 4502248630 | B78: הרשות למים ולביוב | C78: =VLOOKUP(טבלה1[[#This Row],[מסמך רכישה]],גיליון2!$B$1:$D$248,2,FALSE) -> 41-30-01-10 | D78: =VLOOKUP(טבלה1[[#This Row],[מסמך רכישה]],גיליון2!$B$1:$D$248,3,FALSE) -> הוצאות תפעול | E78: נסיעת עבודה | F78: 44878 | G78: 44881 | H78: 41003244 | I78: משרד סוכנות/האוצר נסיעות ממשלתית | J78: 500107321 | K78: ILS | L78: 1222.95 | M78: 1034.81 | N78: 13 | O78: נסיעות לחו"ל | P78: 3744 | Q78: 1210.72 | R78: N
A79: 4502248634 | B79: הרשות למים ולביוב | C79: =VLOOKUP(טבלה1[[#This Row],[מסמך רכישה]],גיליון2!$B$1:$D$248,2,FALSE) -> 41-30-01-10 | D79: =VLOOKUP(טבלה1[[#This Row],[מסמך רכישה]],גיליון2!$B$1:$D$248,3,FALSE) -> הוצאות תפעול | E79: נסיעת עבודה | F79: 44878 | G79: 44881 | H79: 41003244 | I79: משרד סוכנות/האוצר נסיעות ממשלתית | J79: 500107321 | K79: ILS | L79: 1222.95 | M79: 1034.81 | N79: 13 | O79: נסיעות לחו"ל | P79: 3303 | Q79: 1210.72 | R79: N
A80: 4502256369 | B80: הרשות למים ולביוב | C80: =VLOOKUP(טבלה1[[#This Row],[מסמך רכישה]],גיליון2!$B$1:$D$248,2,FALSE) -> 73-30-01-05 | D80: =VLOOKUP(טבלה1[[#This Row],[מסמך רכישה]],גיליון2!$B$1:$D$248,3,FALSE) -> פיתוח ותחזוקת מערכות | E80: חידוש רישוי SSL JAVA | F80: 44941 | G80: 45671 | H80: 40009306 | I80: קומסיין בע"מ | J80: 512961293 | K80: ILS | L80: 5392.41 | M80: 5398.73 | N80: 0 | O80: מערכות מידע | P80: 8700 | Q80: 5392.41 | R80: N
A81: 4502248640 | B81: הרשות למים ולביוב | C81: =VLOOKUP(טבלה1[[#This Row],[מסמך רכישה]],גיליון2!$B$1:$D$248,2,FALSE) -> 41-30-01-10 | D81: =VLOOKUP(טבלה1[[#This Row],[מסמך רכישה]],גיליון2!$B$1:$D$248,3,FALSE) -> הוצאות תפעול | E81: נסיעת עבודה | F81: 44872 | G81: 44875 | H81: 41003244 | I81: משרד סוכנות/האוצר נסיעות ממשלתית | J81: 500107321 | K81: ILS | L81: 1432.86 | M81: 1194.05 | N81: 37.11 | O81: נסיעות לחו"ל | P81: 741370.5 | Q81: 1397.04 | R81: N
A82: 4502255916 | B82: הרשות למים ולביוב | C82: =VLOOKUP(טבלה1[[#This Row],[מסמך רכישה]],גיליון2!$B$1:$D$248,2,FALSE) -> 41-30-01-10 | D82: =VLOOKUP(טבלה1[[#This Row],[מסמך רכישה]],גיליון2!$B$1:$D$248,3,FALSE) -> הוצאות תפעול | E82: תשלומי ארנונה למועצה האזורית ראש פינה | F82: 44927 | G82: 45291 | H82: 20000001 | I82: מ. מ. ראש פינה | J82: 500200266 | K82: ILS | L82: 25000 | M82: 24374.6 | N82: 625.4 | P82: 49959 | Q82: 0 | R82: N
A83: 4502255893 | B83: הרשות למים ולביוב | C83: =VLOOKUP(טבלה1[[#This Row],[מסמך רכישה]],גיליון2!$B$1:$D$248,2,FALSE) -> 41-30-01-10 | D83: =VLOOKUP(טבלה1[[#This Row],[מסמך רכישה]],גיליון2!$B$1:$D$248,3,FALSE) -> הוצאות תפעול | E83: תשלומי ארנונה למ.א. שומרון - משרדי צפ"א בברקן | F83: 44927 | G83: 45291 | H83: 20000232 | I83: מ. א. שומרון | J83: 500273727 | K83: ILS | L83: 4955.16 | M83: 4824 | N83: 131.16 | P83: 36001.37 | Q83: 0 | R83: N
A84: 4502236751 | B84: הרשות למים ולביוב | C84: =VLOOKUP(טבלה1[[#This Row],[מסמך רכישה]],גיליון2!$B$1:$D$248,2,FALSE) -> 41-30-01-19 | D84: =VLOOKUP(טבלה1[[#This Row],[מסמך רכישה]],גיליון2!$B$1:$D$248,3,FALSE) -> פעולות מנהל וארגון | E84: רכישת עטים מגנטים עבור יחידת פיקוח | F84: 44864 | G84: 44985 | H84: 40010890 | I84: מודוטק בע"מ | J84: 512653031 | K84: ILS | L84: 542.06 | M84: 524.16 | N84: 17.9 | O84: אסדרה | P84: 877.5 | Q84: 524.16 | R84: N
A85: 4502255878 | B85: הרשות למים ולביוב | C85: =VLOOKUP(טבלה1[[#This Row],[מסמך רכישה]],גיליון2!$B$1:$D$248,2,FALSE) -> 41-30-01-10 | D85: =VLOOKUP(טבלה1[[#This Row],[מסמך רכישה]],גיליון2!$B$1:$D$248,3,FALSE) -> הוצאות תפעול | E85: הידרומטריה צפון - נשר תשלום ארנונה לשנת 2023 | F85: 44927 | G85: 45291 | H85: 20000141 | I85: עירית נשר | J85: 500225008 | K85: ILS | L85: 10346.6 | M85: 9846.6 | N85: 500 | P85: 15617.16 | Q85: 0 | R85: N
A86: 4502230508 | B86: הרשות למים ולביוב | C86: =VLOOKUP(טבלה1[[#This Row],[מסמך רכישה]],גיליון2!$B$1:$D$248,2,FALSE) -> 73-30-01-05 | D86: =VLOOKUP(טבלה1[[#This Row],[מסמך רכישה]],גיליון2!$B$1:$D$248,3,FALSE) -> פיתוח ותחזוקת מערכות | E86: אספקת מערכות ניהול ואבטחת מכשירים ניידים (‪EMM‬) | F86: 44927 | G86: 45013 | H86: 41107698 | I86: טי אם ג'י סולושנס בע"מ | J86: 514196765 | K86: ILS | L86: 1857.14 | M86: 1756.36 | N86: 0 | O86: מערכות מידע | P86: 1791.93 | Q86: 1857.14 | R86: N
A87: 4502235068 | B87: הרשות למים ולביוב | C87: =VLOOKUP(טבלה1[[#This Row],[מסמך רכישה]],גיליון2!$B$1:$D$248,2,FALSE) -> 73-30-01-03 | D87: =VLOOKUP(טבלה1[[#This Row],[מסמך רכישה]],גיליון2!$B$1:$D$248,3,FALSE) -> איכות מים- ניטור | E87: הסכם מסגרת- לאספקת מצברים, סוללות נטענות,ציוד וכלים | F87: 44774 | G87: 45138 | H87: 40270213 | I87: צלח - מרכז הצבעים בע"מ | J87: 511893034 | K87: ILS | L87: 89036.42 | M87: 83513.86 | N87: 6024.16 | O87: הידרולוגי | P87: 3505.32 | Q87: 83513.86 | R87: N
A88: 4502267708 | B88: הרשות למים ולביוב | C88: =VLOOKUP(טבלה1[[#This Row],[מסמך רכישה]],גיליון2!$B$1:$D$248,2,FALSE) -> 41-30-01-19 | D88: =VLOOKUP(טבלה1[[#This Row],[מסמך רכישה]],גיליון2!$B$1:$D$248,3,FALSE) -> פעולות מנהל וארגון | E88: עיתונות הארץ ודה מרקר מודפסת ומקוונת | F88: 44927 | G88: 45291 | H88: 40001037 | I88: הוצאת עתון הארץ בע"מ | J88: 510015449 | K88: ILS | L88: 6809.98 | M88: 6269.98 | N88: 0 | P88: 458 | Q88: 6270 | R88: N
A89: 4502247722 | B89: הרשות למים ולביוב | C89: =VLOOKUP(טבלה1[[#This Row],[מסמך רכישה]],גיליון2!$B$1:$D$248,2,FALSE) -> 41-30-01-22 | D89: =VLOOKUP(טבלה1[[#This Row],[מסמך רכישה]],גיליון2!$B$1:$D$248,3,FALSE) -> חסכון במים הסברה | E89: ייעוץ אסטרטגי תקשורתי | F89: 44891 | G89: 44951 | H89: 40458989 | I89: אמיר דן - עינת אורן יעוץ תקשורת ואס | J89: 514217629 | K89: ILS | L89: 38214.54 | M89: 35043.84 | N89: 3177.72 | O89: דוברות | Q89: 35036.82
A90: 4502247142 | B90: הרשות למים ולביוב | C90: =VLOOKUP(טבלה1[[#This Row],[מסמך רכישה]],גיליון2!$B$1:$D$248,2,FALSE) -> 41-30-01-19 | D90: =VLOOKUP(טבלה1[[#This Row],[מסמך רכישה]],גיליון2!$B$1:$D$248,3,FALSE) -> פעולות מנהל וארגון | E90: עיתון הארץ - דה מרקר (דיגיטאלי) | F90: 44882 | G90: 44926 | H90: 40001037 | I90: הוצאת עתון הארץ בע"מ | J90: 510015449 | K90: ILS | L90: 67.5 | M90: 60.65 | N90: 6.84 | O90: בנא"מ | Q90: 60.66
A91: 4502271113 | B91: הרשות למים ולביוב | C91: =VLOOKUP(טבלה1[[#This Row],[מסמך רכישה]],גיליון2!$B$1:$D$248,2,FALSE) -> 41-30-01-19 | D91: =VLOOKUP(טבלה1[[#This Row],[מסמך רכישה]],גיליון2!$B$1:$D$248,3,FALSE) -> פעולות מנהל וארגון | E91: ציוד משרדי לשנת 2023 | F91: 44921 | G91: 45107 | H91: 40001103 | I91: קרביץ (1974) בעמ | J91: 510674039 | K91: ILS | L91: 1791.93 | M91: 1728.11 | N91: 197.12 | Q91: 1610.33
A92: 4502269094 | B92: הרשות למים ולביוב | C92: =VLOOKUP(טבלה1[[#This Row],[מסמך רכישה]],גיליון2!$B$1:$D$248,2,FALSE) -> 41-30-01-19 | D92: =VLOOKUP(טבלה1[[#This Row],[מסמך רכישה]],גיליון2!$B$1:$D$248,3,FALSE) -> פעולות מנהל וארגון | E92: רכישת מדפסת מכונה מדגם Fuji Xerox VersaLink B7030 | F92: 44927 | G92: 45291 | H92: 40005151 | I92: צילומעתיק בעמ | J92: 520041880 | K92: ILS | L92: 381.53 | M92: 359.82 | N92: 0 | Q92: 381.53
A93: 4502267717 | B93: הרשות למים ולביוב | C93: =VLOOKUP(טבלה1[[#This Row],[מסמך רכישה]],גיליון2!$B$1:$D$248,2,FALSE) -> 41-30-01-19 | D93: =VLOOKUP(טבלה1[[#This Row],[מסמך רכישה]],גיליון2!$B$1:$D$248,3,FALSE) -> פעולות מנהל וארגון | E93: עיתונות ידיעות וכלכליסט מודפסת ומקוונת | F93: 44927 | G93: 45291 | H93: 40011446 | I93: ידיעות מינויים | J93: 540181054 | K93: ILS | L93: 2733.58 | M93: 2374.68 | N93: 59 | Q93: 2374.69
A94: 4502248075 | B94: הרשות למים ולביוב | C94: =VLOOKUP(טבלה1[[#This Row],[מסמך רכישה]],גיליון2!$B$1:$D$248,2,FALSE) -> 73-30-01-05 | D94: =VLOOKUP(טבלה1[[#This Row],[מסמך רכישה]],גיליון2!$B$1:$D$248,3,FALSE) -> פיתוח ותחזוקת מערכות | E94: שירותי אירוח למערכות מידע (DR) | F94: 44885 | G94: 45518 | H94: 40225199 | I94: אינטרנט בינת בע"מ | J94: 513049759 | K94: ILS | L94: 9283.95 | M94: 7916.43 | N94: 1367.52 | O94: מערכות מידע | Q94: 7916.43
A95: 4502247338 | B95: הרשות למים ולביוב | C95: =VLOOKUP(טבלה1[[#This Row],[מסמך רכישה]],גיליון2!$B$1:$D$248,2,FALSE) -> 41-30-01-21 | D95: =VLOOKUP(טבלה1[[#This Row],[מסמך רכישה]],גיליון2!$B$1:$D$248,3,FALSE) -> ייעוץ בקרה וליווי | E95: ייעוץ משפטי בתחום דיני מימון תשתיות מוניציפאליות | F95: 44682 | G95: 45046 | H95: 40007269 | I95: יגאל ארנון - תדמור - לוי | J95: 513311175 | K95: ILS | L95: 81217.89 | M95: 67823.74 | N95: 13614.92 | O95: לשכה משפטית | Q95: 67823.74
A96: 4502256043 | B96: הרשות למים ולביוב | C96: =VLOOKUP(טבלה1[[#This Row],[מסמך רכישה]],גיליון2!$B$1:$D$248,2,FALSE) -> 41-30-01-19 | D96: =VLOOKUP(טבלה1[[#This Row],[מסמך רכישה]],גיליון2!$B$1:$D$248,3,FALSE) -> פעולות מנהל וארגון | E96: רכישת שירות שנתי למכונת ביול ואספקת חלפים | F96: 44927 | G96: 45291 | H96: 41049139 | I96: אי.או.אס פתרונות משרד מתקדמים בע"מ | J96: 515031177 | K96: ILS | L96: 4234.23 | M96: 2779.92 | N96: 1454.31 | O96: בנא"מ | Q96: 2779.92
A97: 4502257481 | B97: הרשות למים ולביוב | C97: =VLOOKUP(טבלה1[[#This Row],[מסמך רכישה]],גיליון2!$B$1:$D$248,2,FALSE) -> 73-30-01-05 | D97: =VLOOKUP(טבלה1[[#This Row],[מסמך רכישה]],גיליון2!$B$1:$D$248,3,FALSE) -> פיתוח ותחזוקת מערכות | E97: רכישת רישוי לשנה עבור תוכנת ‪MONDAY‬ | F97: 44927 | G97: 45291 | H97: 41113291 | I97: אנטריפוינט מערכות 2004 בע"מ | J97: 513513267 | K97: ILS | L97: 49175.1 | M97: 32157.45 | N97: 17017.65 | O97: מערכות מידע | Q97: 32157.45
A98: 4502256681 | B98: הרשות למים ולביוב | C98: =VLOOKUP(טבלה1[[#This Row],[מסמך רכישה]],גיליון2!$B$1:$D$248,2,FALSE) -> 73-30-01-03 | D98: =VLOOKUP(טבלה1[[#This Row],[מסמך רכישה]],גיליון2!$B$1:$D$248,3,FALSE) -> איכות מים- ניטור | E98: תיקון מכשירי OTT | F98: 44927 | G98: 45291 | H98: 40010597 | I98: מטאו - טק שירותים מטאורולוגיים בע"מ | J98: 511386609 | K98: ILS | L98: 69746.04 | M98: 42096.6 | N98: 27649.44 | O98: הידרולוגי | Q98: 42096.6
A99: 4502272199 | B99: הרשות למים ולביוב | C99: =VLOOKUP(טבלה1[[#This Row],[מסמך רכישה]],גיליון2!$B$1:$D$248,2,FALSE) -> 41-30-01-21 | D99: =VLOOKUP(טבלה1[[#This Row],[מסמך רכישה]],גיליון2!$B$1:$D$248,3,FALSE) -> ייעוץ בקרה וליווי | E99: מתן שירותי בקרה על ספקי מים | F99: 44927 | G99: 44985 | H99: 40006481 | I99: סיני חיים אפרים | J99: 025742214 | K99: ILS | L99: 102487.32 | M99: 58523 | N99: 45626.16 | O99: אסדרה | Q99: 58523.4
A100: 4502256306 | B100: הרשות למים ולביוב | C100: =VLOOKUP(טבלה1[[#This Row],[מסמך רכישה]],גיליון2!$B$1:$D$248,2,FALSE) -> 41-30-01-10 | D100: =VLOOKUP(טבלה1[[#This Row],[מסמך רכישה]],גיליון2!$B$1:$D$248,3,FALSE) -> הוצאות תפעול | E100: דמי ניהול ניקיון, אבטחה ושירותים נוספים לבניין ג' | F100: 44927 | G100: 45107 | H100: 41111486 | I100: אלייד - ג'נרי 2 בע"מ | J100: 514961853 | K100: ILS | L100: 834995.03 | M100: 417497.51 | N100: 417497.51 | Q100: 417497.51
A101: 4502269874 | B101: הרשות למים ולביוב | C101: =VLOOKUP(טבלה1[[#This Row],[מסמך רכישה]],גיליון2!$B$1:$D$248,2,FALSE) -> 41-30-01-26 | D101: =VLOOKUP(טבלה1[[#This Row],[מסמך רכישה]],גיליון2!$B$1:$D$248,3,FALSE) -> היערכות משק המים לשע | E101: שירותי אחסנה עבור עתודות מים | F101: 44927 | G101: 45046 | H101: 41123709 | I101: גליל מערבי (1993) חברה להובלה בע"מ | J101: 511822595 | K101: ILS | L101: 49140 | M101: 24570 | N101: 24570 | O101: בטחון מים | Q101: 24570
A102: 4502259928 | B102: הרשות למים ולביוב | C102: =VLOOKUP(טבלה1[[#This Row],[מסמך רכישה]],גיליון2!$B$1:$D$248,2,FALSE) -> 73-30-01-05 | D102: =VLOOKUP(טבלה1[[#This Row],[מסמך רכישה]],גיליון2!$B$1:$D$248,3,FALSE) -> פיתוח ותחזוקת מערכות | E102: לאספקה של שירותי תמיכה בתשתיות התקשוב של רשות המים | F102: 44927 | G102: 45291 | H102: 40001247 | I102: הראל טכנולוגיות מידע בע"מ | J102: 511401002 | K102: ILS | L102: 167310 | M102: 83070 | N102: 90890.03 | O102: מערכות מידע | Q102: 83070
A103: 4502255428 | B103: הרשות למים ולביוב | C103: =VLOOKUP(טבלה1[[#This Row],[מסמך רכישה]],גיליון2!$B$1:$D$248,2,FALSE) -> 41-30-01-10 | D103: =VLOOKUP(טבלה1[[#This Row],[מסמך רכישה]],גיליון2!$B$1:$D$248,3,FALSE) -> הוצאות תפעול | E103: תחזוקת חפציבה | F103: 44927 | G103: 45107 | H103: 40004697 | I103: רמות מ.א. ניהול ותחזוקה (1993) בע"מ | J103: 511845497 | K103: ILS | L103: 109137.43 | M103: 52007.01 | N103: 57129.41 | Q103: 52008.02
A104: 4502256624 | B104: הרשות למים ולביוב | C104: =VLOOKUP(טבלה1[[#This Row],[מסמך רכישה]],גיליון2!$B$1:$D$248,2,FALSE) -> 41-30-01-10 | D104: =VLOOKUP(טבלה1[[#This Row],[מסמך רכישה]],גיליון2!$B$1:$D$248,3,FALSE) -> הוצאות תפעול | E104: תדלוק רכבים +שטיפת רכבים שורה 30 דלקים ללא מע"מ | F104: 44927 | G104: 45016 | H104: 40004164 | I104: פז חברת נפט בעמ | J104: 510216054 | K104: ILS | L104: 448095.6 | M104: 212744.82 | N104: 257182.45 | Q104: 212072.23
A105: 4502261530 | B105: הרשות למים ולביוב | C105: =VLOOKUP(טבלה1[[#This Row],[מסמך רכישה]],גיליון2!$B$1:$D$248,2,FALSE) -> 73-30-01-03 | D105: =VLOOKUP(טבלה1[[#This Row],[מסמך רכישה]],גיליון2!$B$1:$D$248,3,FALSE) -> איכות מים- ניטור | E105: תיקון מכשירים וחלקים של SEBA | F105: 44927 | G105: 45291 | H105: 40010431 | I105: מחשב 72 חברה לבצוע עבוד נתונים במחש | J105: 510610223 | K105: ILS | L105: 199555.2 | M105: 80985.06 | N105: 118570.14 | O105: הידרולוגי | Q105: 80985.06
A106: 4502253049 | B106: הרשות למים ולביוב | C106: =VLOOKUP(טבלה1[[#This Row],[מסמך רכישה]],גיליון2!$B$1:$D$248,2,FALSE) -> 73-30-01-03 | D106: =VLOOKUP(טבלה1[[#This Row],[מסמך רכישה]],גיליון2!$B$1:$D$248,3,FALSE) -> איכות מים- ניטור | E106: ביצוע דיגום קידוחי ניטור רב מפלסיים | F106: 44896 | G106: 45626 | H106: 40011294 | I106: אקולוג הנדסה בע"מ | J106: 513300483 | K106: ILS | L106: 28080 | M106: 9360 | N106: 18922.53 | O106: איכות מים | Q106: 9360
A107: 4502263688 | B107: הרשות למים ולביוב | C107: =VLOOKUP(טבלה1[[#This Row],[מסמך רכישה]],גיליון2!$B$1:$D$248,2,FALSE) -> 41-30-01-19 | D107: =VLOOKUP(טבלה1[[#This Row],[מסמך רכישה]],גיליון2!$B$1:$D$248,3,FALSE) -> פעולות מנהל וארגון | E107: רכישת מאפים לאירועים / כנסים / פגישות | F107: 44927 | G107: 45291 | H107: 41939936 | I107: אורות התחנה המרכזית 2014 בע"מ | J107: 515042265 | K107: ILS | L107: 5000 | M107: 1600.11 | N107: 3399.89 | Q107: 1727.6
A108: 4502258406 | B108: הרשות למים ולביוב | C108: =VLOOKUP(טבלה1[[#This Row],[מסמך רכישה]],גיליון2!$B$1:$D$248,2,FALSE) -> 41-30-01-10 | D108: =VLOOKUP(טבלה1[[#This Row],[מסמך רכישה]],גיליון2!$B$1:$D$248,3,FALSE) -> הוצאות תפעול | E108: חניה עבור בניין ג'נרי 2 לעובדים לשנת 2023 ההזמנה | F108: 44927 | G108: 45107 | H108: 41111486 | I108: אלייד - ג'נרי 2 בע"מ | J108: 514961853 | K108: ILS | L108: 200000.01 | M108: 63771.02 | N108: 158735.38 | Q108: 57754.89
A109: 4502248918 | B109: הרשות למים ולביוב | C109: =VLOOKUP(טבלה1[[#This Row],[מסמך רכישה]],גיליון2!$B$1:$D$248,2,FALSE) -> 41-30-01-19 | D109: =VLOOKUP(טבלה1[[#This Row],[מסמך רכישה]],גיליון2!$B$1:$D$248,3,FALSE) -> פעולות מנהל וארגון | E109: מכונת צילום מוצבת באסדרה | F109: 44896 | G109: 45077 | H109: 40001601 | I109: מפעיל בעמ | J109: 520037631 | K109: ILS | L109: 1618.29 | M109: 434 | N109: 1242.83 | O109: בנא"מ | Q109: 460.88
A110: 4502248772 | B110: הרשות למים ולביוב | C110: =VLOOKUP(טבלה1[[#This Row],[מסמך רכישה]],גיליון2!$B$1:$D$248,2,FALSE) -> 73-30-01-05 | D110: =VLOOKUP(טבלה1[[#This Row],[מסמך רכישה]],גיליון2!$B$1:$D$248,3,FALSE) -> פיתוח ותחזוקת מערכות | E110: ייעוץ עבור תשתיות ומערכות אורקל | F110: 44866 | G110: 45291 | H110: 40414566 | I110: נאיה פ.א.י טכנולוגיות בע"מ | J110: 514387984 | K110: ILS | L110: 49725 | M110: 13762.13 | N110: 35962.87 | O110: מערכות מידע | Q110: 13762.13
A111: 4502255176 | B111: הרשות למים ולביוב | C111: =VLOOKUP(טבלה1[[#This Row],[מסמך רכישה]],גיליון2!$B$1:$D$248,2,FALSE) -> 41-30-01-10 | D111: =VLOOKUP(טבלה1[[#This Row],[מסמך רכישה]],גיליון2!$B$1:$D$248,3,FALSE) -> הוצאות תפעול | E111: שירותי ניהול ותחזוקה עבור השירות ההידרולוגי | F111: 44927 | G111: 45291 | H111: 40015645 | I111: פ. פורמן נכסים בע"מ | J111: 512023730 | K111: ILS | L111: 29357.64 | M111: 7896.33 | N111: 23991.89 | Q111: 7339.41
A112: 4502255453 | B112: הרשות למים ולביוב | C112: =VLOOKUP(טבלה1[[#This Row],[מסמך רכישה]],גיליון2!$B$1:$D$248,2,FALSE) -> 41-30-01-10 | D112: =VLOOKUP(טבלה1[[#This Row],[מסמך רכישה]],גיליון2!$B$1:$D$248,3,FALSE) -> הוצאות תפעול | E112: חניות במשרדי רשות המים בבית נועם בבאר שבע | F112: 44927 | G112: 45199 | H112: 40003252 | I112: אושירה בע"מ | J112: 511113243 | K112: ILS | L112: 26128.44 | M112: 6532.11 | N112: 19596.33 | Q112: 6532.11
A113: 4502255505 | B113: הרשות למים ולביוב | C113: =VLOOKUP(טבלה1[[#This Row],[מסמך רכישה]],גיליון2!$B$1:$D$248,2,FALSE) -> 41-30-01-10 | D113: =VLOOKUP(טבלה1[[#This Row],[מסמך רכישה]],גיליון2!$B$1:$D$248,3,FALSE) -> הוצאות תפעול | E113: דמי ניהול ותחזוקה לשטחים חיצוניים ופנימיים | F113: 44927 | G113: 45152 | H113: 41372013 | I113: ש.י.ק. מבנים בגליל בע"מ | J113: 511589129 | K113: ILS | L113: 50740.56 | M113: 13742.64 | N113: 41673.97 | Q113: 12685.14
A114: 4502248821 | B114: הרשות למים ולביוב | C114: =VLOOKUP(טבלה1[[#This Row],[מסמך רכישה]],גיליון2!$B$1:$D$248,2,FALSE) -> 73-30-01-05 | D114: =VLOOKUP(טבלה1[[#This Row],[מסמך רכישה]],גיליון2!$B$1:$D$248,3,FALSE) -> פיתוח ותחזוקת מערכות | E114: שירותי מחשוב | F114: 44868 | G114: 45291 | H114: 40003679 | I114: טלדור יועצים בע"מ | J114: 511350613 | K114: ILS | L114: 526500 | M114: 124526.91 | N114: 401973.09 | O114: מערכות מידע | Q114: 124526.91
A115: 4502270339 | B115: הרשות למים ולביוב | C115: =VLOOKUP(טבלה1[[#This Row],[מסמך רכישה]],גיליון2!$B$1:$D$248,2,FALSE) -> 41-30-01-19 | D115: =VLOOKUP(טבלה1[[#This Row],[מסמך רכישה]],גיליון2!$B$1:$D$248,3,FALSE) -> פעולות מנהל וארגון | E115: כיבוד לישיבות מועצה ואירועים ברשות | F115: 44927 | G115: 45291 | H115: 40242807 | I115: מעדני אורי ובניו בע"מ | J115: 511635799 | K115: ILS | L115: 49999.95 | M115: 10211.57 | N115: 39788.4 | Q115: 12773.01
A116: 4502262461 | B116: הרשות למים ולביוב | C116: =VLOOKUP(טבלה1[[#This Row],[מסמך רכישה]],גיליון2!$B$1:$D$248,2,FALSE) -> 41-30-01-19 | D116: =VLOOKUP(טבלה1[[#This Row],[מסמך רכישה]],גיליון2!$B$1:$D$248,3,FALSE) -> פעולות מנהל וארגון | E116: 2 מכונות צילום משאבי אנוש + משנה למנכל | F116: 44896 | G116: 45260 | H116: 40001041 | I116: גסטטנרטק בע"מ | J116: 510041692 | K116: ILS | L116: 1677.78 | M116: 319.87 | N116: 1355.38 | O116: בנא"מ | Q116: 322.42
A117: 4502255978 | B117: הרשות למים ולביוב | C117: =VLOOKUP(טבלה1[[#This Row],[מסמך רכישה]],גיליון2!$B$1:$D$248,2,FALSE) -> 41-30-01-10 | D117: =VLOOKUP(טבלה1[[#This Row],[מסמך רכישה]],גיליון2!$B$1:$D$248,3,FALSE) -> הוצאות תפעול | E117: תשלום עבור חיובי מים וחשמל בניין ג'נרי 2 ירושלים | F117: 44927 | G117: 45107 | H117: 40003408 | I117: אנרג'י - מערכי אנרגיה לירושלים | J117: 550017644 | K117: ILS | L117: 477934.77 | M117: 89590 | N117: 388344.77 | Q117: 0
...

Sheet גיליון2
B1: מסמך רכישה | C1: פריט התחייבות | D1: תיאור תקנה תקציבית
B2: 4502230272 | C2: 73-30-01-03 | D2: איכות מים- ניטור
B3: 4502230508 | C3: 73-30-01-05 | D3: פיתוח ותחזוקת מערכות
B4: 4502230756 | C4: 41-30-01-19 | D4: פעולות מנהל וארגון
B5: 4502230778 | C5: 73-30-01-03 | D5: איכות מים- ניטור
B6: 4502230785 | C6: 73-30-01-03 | D6: איכות מים- ניטור
B7: 4502231561 | C7: 41-30-01-19 | D7: פעולות מנהל וארגון
B8: 4502232934 | C8: 41-30-01-10 | D8: הוצאות תפעול
B9: 4502235024 | C9: 41-30-01-21 | D9: ייעוץ בקרה וליווי
B10: 4502235068 | C10: 73-30-01-03 | D10: איכות מים- ניטור
B11: 4502235286 | C11: 73-30-01-31 | D11: חיזוי שטפונות
B12: 4502236420 | C12: 41-30-01-10 | D12: הוצאות תפעול
B13: 4502236743 | C13: 41-30-01-19 | D13: פעולות מנהל וארגון
... B164: 4502267980 | C164: 41-30-01-19 | D164: פעולות מנהל וארגון
B165: 4502267980 | D165: פעולות מנהל וארגון
B166: 4502268125 | C166: 41-30-01-10 | D166: הוצאות תפעול
B167: 4502268198 | C167: 73-30-01-29 | D167: תכנון מתקן עמק חפר
B168: 4502268229 | C168: 73-30-01-12 | D168: מחקרים וסקרים
B169: 4502268244 | C169: 73-30-01-12 | D169: מחקרים וסקרים
B170: 4502268433 | C170: 73-30-01-12 | D170: מחקרים וסקרים
B171: 4502268451 | C171: 73-30-01-12 | D171: מחקרים וסקרים
B172: 4502268490 | C172: 73-30-01-12 | D172: מחקרים וסקרים
B173: 4502268492 | C173: 73-30-01-12 | D173: מחקרים וסקרים
B174: 4502268508 | C174: 73-30-01-12 | D174: מחקרים וסקרים
B175: 4502268529 | C175: 41-30-01-26 | D175: היערכות משק המים לשע
B176: 4502268643 | C176: 41-30-01-19 | D176: פעולות מנהל וארגון
B177: 4502268724 | C177: 41-30-01-19 | D177: פעולות מנהל וארגון
... B248: 4502273648 | C248: 41-30-01-10 | D248: הוצאות תפעול

Sheet גיליון3
A1: ארגון רכש | B1: קבוצה רוכשת | C1: מסמך רכישה | D1: סוג מסמך רכישה | E1: סימוכין שלך | F1: תאריך מסמך | G1: התחלת תקופת תוקף | H1: סיום תקופת תוקף | I1: שם יוצר ההזמנה | J1: ספק | K1: שם הספק | L1: מספר רישום מע"מ | M1: סמן גירסה | N1: ערך הזמנה + מע"מ | O1: מטבע | P1: ערך הזמנה במ.ט.מ | Q1: יתרת הזמנות נומינלית + מעמ | R1: אחוז ביצוע נומינלי | S1: מטבע מקומי | T1: ביצוע ערך קבלות הטובין במט"מ | U1: ביצוע חשבוניות כולל מע"מ והצמדות במט"מ | V1: יתרת הזמנות משוערכת בניכוי חשבוניות במטמ | W1: לא שלם | X1: טקסט כותרת | Y1: סמן הצמדה | Z1: סמן אירכוב | AA1: יתרת הזנה נומינלית לקליטת גיליון שירות | AB1: קוד חברה | AC1: סימוכין שלנו | AD1: יתרת הזמנות משוערכת בניכוי תשלומים | AE1: אופן רכישה מקור | AF1: סיבת פטור | AG1: הסכם | AH1: ערך הזמנה ללא מע"מ | AI1: הזמנה תשלח לפורטל | AJ1: ספק פורטל | AK1: דורש | AL1: שם דורש | AM1: יוצר ההזמנה | AN1: מטרת התקשרות | AO1: תיאור | AP1: תנאי תשלום | AQ1: מימוש אופציה | AR1: מספר פניית מימוש אופציה | AS1: תאריך מימוש אופציה | AT1: סכום אופציה | AU1: סיבת התקשרות | AV1: מספר פניית התקשרות המשך | AW1: סיבת התקשרות המשך | AX1: תאריך התקשרות המשך | AY1: סכום התקשרות המשך | AZ1: תאריך שחרור הזמנה
A2: 5500 | B2: 089 | C2: 4502230272 | D2: ZPFC | E2: איכות מים | F2: 44836 | G2: 44835 | H2: 45199 | I2: אירה שטרית | J2: 40001034 | K2: רשות הגנים הלאומיים ושמורות הטבע | L2: 500500285 | M2: 3 | N2: 486922.5 | O2: ILS | P2: 486922.5 | Q2: 486922.5 | R2: 0 | S2: ILS | T2: 0 | U2: 0 | V2: 496338.17 | X2: פיקוח וסיוע באכיפה למניעת זיהום באגן נחל שקמה ומנ | Y2: X | Z2: @FM@ | AA2: 486,922.50 | AB2: 5500 | AD2: 0 | AE2: 23 | AF2: 01 | AG2: 6200024315 | AH2: 486922.5 | AI2: להציג בפורטל | AJ2: X | AK2: 034839449 | AL2: חיים כץ | AM2: 314449786 | AN2: פיקוח באגן מנשה | AO2: מסמך מאושר | AP2: 0045 | AT2: 0.00 | AY2: 0.00 | AZ2: 44889
A3: 5500 | B3: 089 | C3: 4502230508 | D3: ZPFC | E3: מערכות מידע | F3: 44836 | G3: 44927 | H3: 45013 | I3: הדס סעידיאן | J3: 41107698 | K3: טי אם ג'י סולושנס בע"מ | L3: 514196765 | M3: 3 | N3: 1857.14 | O3: ILS | P3: 1857.14 | Q3: 0 | R3: 94.02 | S3: ILS | T3: 1857.14 | U3: 1756.36 | V3: 0 | X3: אספקת מערכות ניהול ואבטחת מכשירים ניידים (‪EMM‬) | Y3: X | Z3: @FM@ | AB3: 5500 | AC3: ליאור שמש | AD3: 0 | AE3: 07 | AG3: 4400000360 | AH3: 1587.3 | AI3: להציג בפורטל | AJ3: X | AK3: 034564617 | AL3: ליאור שמש | AM3: 315224006 | AN3: אספקת מערכות ניהול ואבטחת מכשירים ניידים (EMM) | AO3: מסמך מאושר | AP3: 0045 | AT3: 0.00 | AY3: 0.00 | AZ3: 44871
A4: 5500 | B4: 089 | C4: 4502230756 | D4: ZA | E4: צפ"א | F4: 44836 | G4: 44836 | H4: 44926 | I4: שירן בת אל שריקי | J4: 40336715 | K4: ש.ב. פתרונות שינוע בע"מ | L4: 513941229 | M4: 3 | N4: 1989 | O4: ILS | P4: 1989 | Q4: 0 | R4: 100 | S4: ILS | T4: 1989 | U4: 1989 | V4: 0 | X4: רכישת עגלת מטען עבור יחידת צפ"א תוקף אספקת השירות | Z4: @FM@ | AB4: 5500 | AD4: 0 | AE4: 23 | AF4: 57 | AH4: 1700 | AI4: לא רלוונטי לפורטל | AJ4: X | AM4: 205364904 | AN4: רכישת עגלת מטען ליחידת צפא | AO4: מסמך מאושר | AP4: 0045 | AT4: 0.00 | AY4: 0.00 | AZ4: 44853
A5: 5500 | B5: 089 | C5: 4502230778 | D5: ZA | E5: הידרולוגי | F5: 44836 | G5: 44927 | H5: 45291 | I5: אירה שטרית | J5: 40010849 | K5: מתכת יונה בע"מ | L5: 512416538 | M5: 3 | N5: 12285 | O5: ILS | P5: 12285 | Q5: 12285 | R5: 0 | S5: ILS | T5: 0 | U5: 0 | V5: 13400.81 | X5: ייצור מתקנים ממתכת ומדי רום מיוחדים עבור מתקנים ה | Y5: X | Z5: @FM@ | AB5: 5500 | AD5: 0 | AE5: 84 | AH5: 10500 | AI5: להציג בפורטל | AJ5: X | AK5: 014433833 | AL5: יעקב שומכר | AM5: 314449786 | AN5: ייצור מתקנים ממתכת ומדי רום מיוחדים עבור מתקנים הידרומטרים- ארגז מפח | AO5: מסמך מאושר | AP5: 0045 | AT5: 0.00 | AY5: 0.00 | AZ5: 44853
A6: 5500 | B6: 089 | C6: 4502230785 | D6: ZA | E6: הידרולוגי | F6: 44836 | G6: 44927 | H6: 45291 | I6: אירה שטרית | J6: 40010849 | K6: מתכת יונה בע"מ | L6: 512416538 | M6: 3 | N6: 57622.5 | O6: ILS | P6: 57622.5 | Q6: 57622.5 | R6: 0 | S6: ILS | T6: 0 | U6: 0 | V6: 62856.18 | X6: ייצור מתקנים ממתכת ומדי רום מיוחדים עבור מתקנים ה | Y6: X | Z6: @FM@ | AB6: 5500 | AD6: 0 | AE6: 84 | AH6: 49250 | AI6: להציג בפורטל | AJ6: X | AK6: 014433833 | AL6: יעקב שומכר | AM6: 314449786 | AN6: ייצור מתקנים ממתכת ומדי רום מיוחדים עבור מתקנים הידרומטריים | AO6: מסמך מאושר | AP6: 0045 | AT6: 0.00 | AY6: 0.00 | AZ6: 44853
A7: 5500 | B7: 089 | C7: 4502231561 | D7: ZA | E7: רכש | F7: 44837 | G7: 44859 | H7: 44859 | I7: ספיר פרץ | J7: 40984566 | K7: אביב גילת | L7: 022699755 | M7: 3 | N7: 7605 | O7: ILS | P7: 7605 | Q7: 0 | R7: 100 | S7: ILS | T7: 7605 | U7: 7605 | V7: 0 | X7: נושא: הרצאה עבור כנס רפרנטים ב-25.10.2022 רפרנט: | Z7: @FM@ | AB7: 5500 | AD7: 0 | AE7: 23 | AF7: 57 | AH7: 6500 | AI7: לא רלוונטי לפורטל | AK7: 307788216 | AL7: רעיה בליי | AM7: 206220527 | AN7: הרצאה עבור כנס רפרנטים | AO7: מסמך מאושר | AP7: 0045 | AT7: 0.00 | AY7: 0.00 | AZ7: 44853
A8: 5500 | B8: 089 | C8: 4502232934 | D8: ZA | E8: אסדרה | F8: 44852 | G8: 44854 | H8: 45218 | I8: שירן בת אל שריקי | J8: 40006968 | K8: דוקופרינט בע"מ | L8: 510885932 | M8: 3 | N8: 3159 | O8: ILS | P8: 3159 | Q8: 0 | R8: 100 | S8: ILS | T8: 3159 | U8: 3159 | V8: 0 | X8: נושא: דפי רישיונות רפרנט: דניאל לביא שיריון: 1000 | Z8: @FM@ | AB8: 5500 | AD8: 0 | AE8: 23 | AF8: 57 | AH8: 2700 | AI8: לא רלוונטי לפורטל | AJ8: X | AM8: 205364904 | AN8: הדפסת דפי רשיון | AO8: מסמך מאושר | AP8: 0045 | AT8: 0.00 | AY8: 0.00 | AZ8: 44861
A9: 5500 | B9: 089 | C9: 4502235024 | D9: ZPFC | E9: הידרולוגי | F9: 44858 | G9: 44866 | H9: 45229 | I9: אירה שטרית | J9: 40011294 | K9: אקולוג הנדסה בע"מ | L9: 513300483 | M9: 3 | N9: 250000 | O9: ILS | P9: 250000 | Q9: 233404.67 | R9: 6.64 | S9: ILS | T9: 16595.33 | U9: 16595.33 | V9: 237251.6 | X9: ייעוץ לבניה משמרת מים רפרנט: ליאור נצר שריון: 100 | Y9: X | Z9: @FM@ | AA9: 199,491.17 | AB9: 5500 | AD9: 0 | AE9: 01 | AG9: 6200024462 | AH9: 213675.21 | AI9: להציג בפורטל | AJ9: X | AK9: 035866102 | AL9: ליאור נצר | AM9: 314449786 | AN9: ייעוץ לבניה משמרת מים | AO9: מסמך מאושר | AP9: 0045 | AT9: 0.00 | AY9: 0.00 | AZ9: 44894
A10: 5500 | B10: 089 | C10: 4502235068 | D10: ZPFC | E10: הידרולוגי | F10: 44858 | G10: 44774 | H10: 45138 | I10: אירה שטרית | J10: 40270213 | K10: צלח - מרכז הצבעים בע"מ | L10: 511893034 | M10: 3 | N10: 89036.42 | O10: ILS | P10: 89036.42 | Q10: 5522.56 | R10: 93.8 | S10: ILS | T10: 83513.86 | U10: 83513.86 | V10: 6024.16 | X10: הסכם מסגרת- לאספקת מצברים, סוללות נטענות,ציוד וכל | Y10: X | Z10: @FM@ | AA10: 4,720.17 | AB10: 5500 | AD10: 0 | AE10: 84 | AG10: 6200024316 | AH10: 76099.5 | AI10: להציג בפורטל | AJ10: X | AK10: 014433833 | AL10: יעקב שומכר | AM10: 314449786 | AN10: הסכם מסגרת- לאספקת מצברים, סוללות נטענות,ציוד וכלי עבודה | AO10: מסמך מאושר | AP10: 0045 | AT10: 0.00 | AY10: 0.00 | AZ10: 44861
A11: 5500 | B11: 089 | C11: 4502235286 | D11: ZA | E11: הידרולוגי | F11: 44858 | G11: 44837 | H11: 45201 | I11: אירה שטרית | J11: 40010832 | K11: אנויטק בע"מ | L11: 512336454 | M11: 3 | N11: 47469.24 | O11: ILS | P11: 47469.24 | Q11: 0 | R11: 100 | S11: ILS | T11: 47469.24 | U11: 47469.24 | V11: 0 | X11: עדכונים ותמיכה באפליקציה לחיזוי שיטפונות רפרנט: י | Z11: @FM@ | AB11: 5500 | AD11: 0 | AE11: 23 | AF11: 01 | AH11: 40572 | AI11: להציג בפורטל | AJ11: X | AK11: 060125481 | AL11: יהונתן יצחק | AM11: 314449786 | AN11: עדכונים ותמיכה באפליקציה לחיזוי שיטפונות | AO11: מסמך מאושר | AP11: 0045 | AT11: 0.00 | AY11: 0.00 | AZ11: 44885
A12: 5500 | B12: 088 | C12: 4502236420 | D12: ZA | E12: בנא"מ | F12: 44860 | G12: 44860 | H12: 45046 | I12: ספי ביבי | J12: 40451867 | K12: זיו אברהם | L12: 010529113 | M12: 3 | N12: 4329 | O12: ILS | P12: 4329 | Q12: 0 | R12: 100 | S12: ILS | T12: 4329 | U12: 4329 | V12: 0 | X12: ניקוש עשבייה וגיזום בהנדסה חקלאית ריסוס קוטל עשבי | Z12: @FM@ | AB12: 5500 | AD12: 0 | AE12: 23 | AF12: 57 | AH12: 3700 | AI12: לא רלוונטי לפורטל | AM12: 028037448 | AN12: ניקוז עשבייה וריסוס בהנדסה חקלאית | AO12: מסמך מאושר | AP12: 0045 | AT12: 0.00 | AY12: 0.00 | AZ12: 44861
A13: 5500 | B13: 089 | C13: 4502236743 | D13: ZA | E13: איו"ש | F13: 44860 | G13: 44864 | H13: 44957 | I13: שירן בת אל שריקי | J13: 40545414 | K13: א.ע.א אור טכנולוגיות בע"מ | L13: 514644988 | M13: 3 | N13: 5096.98 | O13: ILS | P13: 5096.98 | Q13: 5096.98 | R13: 0 | S13: ILS | T13: 0 | U13: 0 | V13: 5096.98 | X13: רכישת מקררים לרכב עבור יחידת צפ"א תקופה 30.10.202 | Z13: @FM@ | AB13: 5500 | AD13: 0 | AE13: 23 | AF13: 57 | AH13: 4356.39 | AI13: לא רלוונטי לפורטל | AM13: 205364904 | AN13: רכישת מקררים עבור יחידת צפ"א | AO13: מסמך מאושר | AP13: 0045 | AT13: 0.00 | AY13: 0.00 | AZ13: 44871
A14: 5500 | B14: 089 | C14: 4502236751 | D14: ZA | E14: אסדרה | F14: 44860 | G14: 44864 | H14: 44985 | I14: שירן בת אל שריקי | J14: 40010890 | K14: מודוטק בע"מ | L14: 512653031 | M14: 3 | N14: 542.06 | O14: ILS | P14: 542.06 | Q14: 17.9 | R14: 96.7 | S14: ILS | T14: 524.16 | U14: 524.16 | V14: 17.9 | X14: רכישת עטים מגנטים עבור יחידת פיקוח תקופה: 30.10.2 | Z14: @FM@ | AB14: 5500 | AD14: 0 | AE14: 23 | AF14: 57 | AH14: 463.3 | AI14: לא רלוונטי לפורטל | AJ14: X | AM14: 205364904 | AN14: רכישת עט מגנטי | AO14: מסמך מאושר | AP14: 0045 | AT14: 0.00 | AY14: 0.00 | AZ14: 44893
A15: 5500 | B15: 089 | C15: 4502236939 | D15: ZPFC | E15: בטחון מים | F15: 44861 | G15: 44825 | H15: 45189 | I15: ספיר פרץ | J15: 40005144 | K15: ג'י וואן טכנולוגיות מיגון בע"מ | L15: 520039306 | M15: 3 | N15: 150000 | O15: ILS | P15: 150000 | Q15: 0 | R15: 100 | S15: ILS | T15: 0 | U15: 0 | V15: 0 | X15: הזמנה נסגרה כיוון שנפתחו הזמנות כפולות | Y15: X | Z15: @FM@ | AA15: 0.00 | AB15: 5500 | AD15: 0 | AE15: 01 | AG15: 6200024300 | AH15: 128205.13 | AI15: להציג בפורטל | AJ15: X | AK15: 028543544 | AL15: מנחם גרטלר | AM15: 206220527 | AN15: שירותי מערכות מתח נמוך, טמ"ס ושירותי מוקד וסיור | AO15: מסמך מאושר | AP15: 0045 | AT15: 0.00 | AY15: 0.00 | AZ15: 44903
A16: 5500 | B16: 089 | C16: 4502237314 | D16: ZPFC | E16: בטחון מים | F16: 44864 | G16: 44866 | H16: 45230 | I16: ספיר פרץ | J16: 40019591 | K16: טנדו טכנולוגיות ומערכות בטחוניות בע | L16: 511309809 | M16: 3 | N16: 300000 | O16: ILS | P16: 300000 | Q16: 300000 | R16: 0 | S16: ILS | T16: 0 | U16: 0 | V16: 311339.94 | X16: נושא: בחינת תפיסת מיגון שלל משק המים ושירותי יעוץ | Y16: X | Z16: @FM@ | AA16: 256,410.26 | AB16: 5500 | AD16: 0 | AE16: 01 | AG16: 6200024426 | AH16: 256410.26 | AI16: להציג בפורטל | AJ16: X | AK16: 012318507 | AL16: דניאל לקר | AM16: 206220527 | AN16: בחינת תפיסת מיגון שלל משק המים ושירותי יעוץ למנהל אגף לבטחון מים | AO16: מסמך מאושר | AP16: 0045 | AT16: 0.00 | AY16: 0.00 | AZ16: 44908
A17: 5500 | B17: 089 | C17: 4502237744 | D17: ZA | E17: כלכלה | F17: 44864 | G17: 44927 | H17: 45291 | I17: שירן בת אל שריקי | J17: 41645563 | K17: טאו כלכלה ופיננסים בע"מ | L17: 515630937 | M17: 3 | N17: 71830.32 | O17: ILS | P17: 71830.32 | Q17: 61875.58 | R17: 13.86 | S17: ILS | T17: 9954.75 | U17: 9954.75 | V17: 61875.57 | X17: בדיקת תחשיבים לקביעת תעריפי ביוב, דמי הקמה למים ו | Z17: @FM@ | AB17: 5500 | AD17: 0 | AE17: 84 | AH17: 61393.44 | AI17: להציג בפורטל | AJ17: X | AK17: 032729915 | AL17: אחמד עאבד | AM17: 205364904 | AN17: תעריפי ביוב, דמי הקמה למים ולביוב | AO17: מסמך מאושר | AP17: 0045 | AT17: 0.00 | AY17: 0.00 | AZ17: 44871
A18: 5500 | B18: 089 | C18: 4502237761 | D18: ZA | E18: כלכלה | F18: 44864 | G18: 44927 | H18: 45291 | I18: שירן בת אל שריקי | J18: 41387079 | K18: אהוד חסון יעוץ כלכלי ועסקי בע"מ | L18: 514698349 | M18: 3 | N18: 107999.47 | O18: ILS | P18: 107999.47 | Q18: 107999.47 | R18: 0 | S18: ILS | T18: 0 | U18: 0 | V18: 107999.47 | X18: בדיקת תחשיבים לקביעת תעריפי ביוב, דמי הקמה למים ו | Z18: @FM@ | AB18: 5500 | AD18: 0 | AE18: 84 | AH18: 92307.24 | AI18: להציג בפורטל | AJ18: X | AK18: 032729915 | AL18: אחמד עאבד | AM18: 205364904 | AN18: תעריפי ביוב, דמי הקמה למים ולביוב | AO18: מסמך מאושר | AP18: 0045 | AT18: 0.00 | AY18: 0.00 | AZ18: 44906
A19: 5500 | B19: 089 | C19: 4502239278 | D19: ZA | E19: משאבי אנוש | F19: 44867 | G19: 44866 | H19: 44926 | I19: פולינה ניקונוב | J19: 41535631 | K19: ציפור הנפש אומנות ישראלית בע"מ | L19: 515697381 | M19: 3 | N19: 3299.4 | O19: ILS | P19: 3299.4 | Q19: 0 | R19: 100 | S19: ILS | T19: 3299.4 | U19: 3299.4 | V19: 0 | X19: שי לעובד לאחר מעבר הערכת מנהל לשנת 2023 פנקס מתמת | Z19: @FM@ | AB19: 5500 | AC19: מנחם גולדשטי | AD19: 0 | AE19: 23 | AF19: 57 | AH19: 2820 | AI19: לא רלוונטי לפורטל | AK19: 025057571 | AL19: ליאת רון | AM19: 308940881 | AN19: שי לעובד לאחר מעבר הערכת מנהל לשנת 2023 | AO19: מסמך מאושר | AP19: 0045 | AT19: 0.00 | AY19: 0.00 | AZ19: 44885
A20: 5500 | B20: 089 | C20: 4502240164 | D20: ZPFC | E20: מערכות מידע | F20: 44868 | G20: 44869 | H20: 46752 | I20: הדס סעידיאן | J20: 40001244 | K20: דנגוט מחשבים בע"מ | L20: 511398836 | M20: 3 | N20: 17829.42 | O20: ILS | P20: 17829.42 | Q20: 0 | R20: 104.57 | S20: ILS | T20: 17829.42 | U20: 18152.63 | V20: 0 | X20: רכישת מתכלים, שירותי תחזוקה ואחריות ושירותי חכירה | Y20: X | Z20: @FM@ | AB20: 5500 | AC20: ליאור שמש | AD20: 0 | AE20: 07 | AG20: 4400000270 | AH20: 15238.82 | AI20: להציג בפורטל | AJ20: X | AK20: 034564617 | AL20: ליאור שמש | AM20: 315224006 | AN20: רכישת מתכלים | AO20: מסמך מאושר | AP20: 0045 | AT20: 0.00 | AY20: 0.00 | AZ20: 44879
A21: 5500 | B21: 089 | C21: 4502240542 | D21: ZA | E21: מערכות מידע | F21: 44871 | G21: 44927 | H21: 45291 | I21: הדס סעידיאן | J21: 50036932 | K21: GOOGLE CLOUD EMEA LIMITED | M21: 3 | N21: 20021.04 | O21: ILS | P21: 20021.04 | Q21: 0 | R21: 0 | S21: ILS | T21: 0 | U21: 0 | V21: 0 | X21: רכישת רישיון GOOGLE MEET שריון: 100050367 תקופת ה | Y21: X | Z21: @FM@ | AB21: 5500 | AC21: ליאור שמש | AD21: 0 | AE21: 07 | AH21: 17112 | AI21: להציג בפורטל | AJ21: X | AK21: 034564617 | AL21: ליאור שמש | AM21: 315224006 | AN21: רכישת רישיון GOOGLE MEET | AO21: מסמך מאושר | AP21: 0045 | AT21: 0.00 | AY21: 0.00 | AZ21: 44985
A22: 5500 | B22: 089 | C22: 4502240664 | D22: ZPFC | E22: מערכות מידע | F22: 44871 | G22: 44873 | H22: 45141 | I22: הדס סעידיאן | J22: 40532479 | K22: זיפקום תקשורת בע"מ | L22: 512781790 | M22: 3 | N22: 134049.7 | O22: ILS | P22: 134049.7 | Q22: 0 | R22: 105.46 | S22: ILS | T22: 134049.7 | U22: 141952.92 | V22: 0 | X22: תצורה 2.9 - מחשב נייד 14" מתקדם רפרנט: ליאור שמש | Y22: X | Z22: @FM@ | AB22: 5500 | AC22: ליאור שמש | AD22: 0 | AE22: 07 | AG22: 4400000976 | AH22: 114572.4 | AI22: להציג בפורטל | AJ22: X | AK22: 034564617 | AL22: ליאור שמש | AM22: 315224006 | AN22: מחשב נייד 14" מתקדם | AO22: מסמך מאושר | AP22: 0045 | AT22: 0.00 | AY22: 0.00 | AZ22: 44906
A23: 5500 | B23: 088 | C23: 4502240891 | D23: ZA | E23: בנא"מ | F23: 44871 | G23: 44875 | H23: 44875 | I23: ספי ביבי | J23: 40235335 | K23: יד יצחק בן-צבי | L23: 500500962 | M23: 3 | N23: 1420 | O23: ILS | P23: 1420 | Q23: 0 | R23: 100 | S23: ILS | T23: 1420 | U23: 1420 | V23: 0 | X23: יום עיון 10.11.22 עבור חטיבת המשנה תוכניות עבודה | Z23: @FM@ | AB23: 5500 | AD23: 0 | AE23: 23 | AF23: 57 | AH23: 1420 | AI23: לא רלוונטי לפורטל | AM23: 028037448 | AN23: יום עיון חטיבת המשנה | AO23: מסמך מאושר | AP23: 0045 | AT23: 0.00 | AY23: 0.00 | AZ23: 44873
A24: 5500 | B24: 089 | C24: 4502241169 | D24: ZA | E24: תכנון | F24: 44872 | G24: 44896 | H24: 45260 | I24: שירן בת אל שריקי | J24: 40395346 | K24: אתוס - אדריכלות תכנון וסביבה בע"מ | L24: 514260769 | M24: 3 | N24: 382590 | O24: ILS | P24: 382590 | Q24: 382590 | R24: 0 | S24: ILS | T24: 0 | U24: 0 | V24: 389988.18 | X24: תכנון מודל פיזור עבור מתקן התפלה עמק חפר שריון 10 | Y24: X | Z24: @FM@ | AB24: 5500 | AD24: 0 | AE24: 08 | AH24: 327000 | AI24: להציג בפורטל | AJ24: X | AK24: 025737917 | AL24: אפרת קניגסברג | AM24: 205364904 | AN24: תכנון מודל פיזור | AO24: מסמך מאושר | AP24: 0045 | AT24: 0.00 | AY24: 0.00 | AZ24: 44894
A25: 5500 | B25: 089 | C25: 4502242165 | D25: ZA | E25: משאבי אנוש | F25: 44873 | G25: 44873 | H25: 44926 | I25: פולינה ניקונוב | J25: 42346564 | K25: גוג'ו גלובל בע"מ | L25: 516326014 | M25: 3 | N25: 4095 | O25: ILS | P25: 4095 | Q25: 0 | R25: 100 | S25: ILS | T25: 4095 | U25: 4095 | V25: 0 | X25: פריסה לחג סיגד 23.11.2022 רפרנט מנחם גולדשטיין | Z25: @FM@ | AB25: 5500 | AC25: מנחם גולדשטי | AD25: 0 | AE25: 23 | AF25: 57 | AH25: 3500 | AI25: לא רלוונטי לפורטל | AK25: 025057571 | AL25: ליאת רון | AM25: 308940881 | AN25: פריסה לחג סיגד | AO25: מסמך מאושר | AP25: 0045 | AT25: 0.00 | AY25: 0.00 | AZ25: 44879
A26: 5500 | B26: 089 | C26: 4502242194 | D26: ZA | E26: משאבי אנוש | F26: 44873 | G26: 44866 | H26: 44895 | I26: פולינה ניקונוב | J26: 42418251 | K26: וולביז בע"מ | L26: 516369964 | M26: 3 | N26: 2179.41 | O26: ILS | P26: 2179.41 | Q26: 0 | R26: 100 | S26: ILS | T26: 2179.41 | U26: 2179.41 | V26: 0 | X26: מקרונים למודעות סרטן השד 01.11.2022 רפרנט טניה מש | Z26: @FM@ | AB26: 5500 | AC26: טניה משרקי | AD26: 0 | AE26: 23 | AF26: 57 | AH26: 1862.74 | AI26: לא רלוונטי לפורטל | AK26: 025057571 | AL26: ליאת רון | AM26: 308940881 | AN26: מקרונים למודעות סרטן השד | AO26: מסמך מאושר | AP26: 0045 | AT26: 0.00 | AY26: 0.00 | AZ26: 44879
A27: 5500 | B27: 089 | C27: 4502242417 | D27: ZA | E27: משאבי אנוש | F27: 44873 | G27: 44873 | H27: 44926 | I27: פולינה ניקונוב | J27: 40004441 | K27: רובין ר.י.ד. בע"מ | L27: 511237844 | M27: 3 | N27: 643.5 | O27: ILS | P27: 643.5 | Q27: 0 | R27: 100 | S27: ILS | T27: 643.5 | U27: 643.5 | V27: 0 | X27: לחג סיגד - פרסום 23.11.2022 רפרנט מנחם גולדשטיין | Z27: @FM@ | AB27: 5500 | AC27: מנחם גולדשטי | AD27: 0 | AE27: 23 | AF27: 57 | AH27: 550 | AI27: לא רלוונטי לפורטל | AK27: 025057571 | AL27: ליאת רון | AM27: 308940881 | AN27: לחג סיגד - פרסום | AO27: מסמך מאושר | AP27: 0045 | AT27: 0.00 | AY27: 0.00 | AZ27: 44881
A28: 5500 | B28: 089 | C28: 4502242666 | D28: ZPFC | E28: איכות מים | F28: 44874 | G28: 44927 | H28: 45291 | I28: אירה שטרית | J28: 40011294 | K28: אקולוג הנדסה בע"מ | L28: 513300483 | M28: 4 | N28: 359999.99 | O28: ILS | P28: 359999.99 | Q28: 359999.99 | R28: 0 | S28: ILS | T28: 0 | U28: 0 | V28: 365933.44 | X28: לביצוע חקירות לאיתור ואפיון זיהומי מי תהום עבור ר | Y28: X | Z28: @FM@ | AA28: 307,692.30 | AB28: 5500 | AD28: 0 | AE28: 01 | AG28: 6200024724 | AH28: 307692.3 | AI28: להציג בפורטל | AJ28: X | AK28: 034839449 | AL28: חיים כץ | AM28: 314449786 | AN28: לביצוע חקירות לאיתור ואפיון זיהומי מי תהום עבור רשות המים | AO28: ממתין למאשר מקצועי | AP28: 0045 | AT28: 0.00 | AY28: 0.00 | AZ28: 44920
A29: 5500 | B29: 089 | C29: 4502242671 | D29: ZPFC | E29: איכות מים | F29: 44874 | G29: 44927 | H29: 45291 | I29: אירה שטרית | J29: 40276185 | K29: אתגר א הנדסה בע"מ | L29: 511046948 | M29: 3 | N29: 540000.05 | O29: ILS | P29: 540000.05 | Q29: 520235.71 | R29: 3.66 | S29: ILS | T29: 19539 | U29: 19764.34 | V29: 528810.13 | X29: לביצוע חקירות לאיתור ואפיון זיהומי מי תהום עבור ר | Y29: X | Z29: @FM@ | AA29: 444,838.50 | AB29: 5500 | AD29: 0 | AE29: 01 | AG29: 6200024725 | AH29: 461538.5 | AI29: להציג בפורטל | AJ29: X | AK29: 034839449 | AL29: חיים כץ | AM29: 314449786 | AN29: לביצוע חקירות לאיתור ואפיון זיהומי מי תהום עבור רשות המים | AO29: מסמך מאושר | AP29: 0045 | AT29: 0.00 | AY29: 0.00 | AZ29: 44917
A30: 5500 | B30: 089 | C30: 4502242736 | D30: ZA | E30: הידרולוגי | F30: 44874 | G30: 44885 | H30: 45066 | I30: אירה שטרית | J30: 40010597 | K30: מטאו - טק שירותים מטאורולוגיים בע"מ | L30: 511386609 | M30: 3 | N30: 35614.8 | O30: ILS | P30: 35614.8 | Q30: 0 | R30: 100 | S30: ILS | T30: 35614.8 | U30: 35614.8 | V30: 0 | X30: תגבור ואיסוף נתונים ממכשירים משדרים של חברת OTT ת | Z30: @FM@ | AB30: 5500 | AD30: 0 | AE30: 23 | AF30: 57 | AH30: 30440 | AI30: להציג בפורטל | AJ30: X | AK30: 014433833 | AL30: יעקב שומכר | AM30: 314449786 | AN30: תגבור ואיסוף נתונים ממכשירים משדרים של חברת OTT | AO30: מסמך מאושר | AP30: 0045 | AT30: 0.00 | AY30: 0.00 | AZ30: 44885
A31: 5500 | B31: 089 | C31: 4502242791 | D31: ZA | E31: הידרולוגי | F31: 44874 | G31: 44896 | H31: 45260 | I31: אירה שטרית | J31: 40010832 | K31: אנויטק בע"מ | L31: 512336454 | M31: 3 | N31: 25524.72 | O31: ILS | P31: 25524.72 | Q31: 25524.72 | R31: 0 | S31: ILS | T31: 0 | U31: 0 | V31: 25524.72 | X31: שדרוג תחנות הגשם תחנות ספיקה וגשם של רשות ניקוז ק | Z31: @FM@ | AB31: 5500 | AD31: 0 | AE31: 23 | AF31: 57 | AH31: 21816 | AI31: להציג בפורטל | AJ31: X | AK31: 060125481 | AL31: יהונתן יצחק | AM31: 314449786 | AN31: שדרוג תחנות הגשם תחנות ספיקה וגשם של רשות ניקוז קישון לבסיס הנתונים. | AO31: מסמך מאושר | AP31: 0045 | AT31: 0.00 | AY31: 0.00 | AZ31: 44885
A32: 5500 | B32: 088 | C32: 4502242841 | D32: ZA | E32: בנא"מ | F32: 44874 | G32: 44875 | H32: 45240 | I32: טל רחמאני | J32: 40001081 | K32: לטרא סיסטמס בע"מ | L32: 510502008 | M32: 3 | N32: 16497 | O32: ILS | P32: 16497 | Q32: 0 | R32: 100 | S32: ILS | T32: 16497 | U32: 16497 | V32: 0 | X32: רכישת שילוט עבור הרשות הממשלתית למים וביוב בהליך | Z32: @FM@ | AB32: 5500 | AD32: 0 | AE32: 23 | AF32: 57 | AH32: 14100 | AI32: להציג בפורטל | AJ32: X | AK32: 028037448 | AL32: ספי ביבי | AM32: 305017030 | AN32: שילוט עבור אתרי הרשות | AO32: מסמך מאושר | AP32: 0045 | AT32: 0.00 | AY32: 0.00 | AZ32: 44885
A33: 5500 | B33: 089 | C33: 4502243636 | D33: ZPFC | E33: הידרולוגי | F33: 44875 | G33: 44927 | H33: 45291 | I33: אירה שטרית | J33: 42071231 | K33: גיאו- סמפלר קידוחים בע"מ | L33: 515056414 | M33: 3 | N33: 799110 | O33: ILS | P33: 799110 | Q33: 799110 | R33: 0 | S33: ILS | T33: 0 | U33: 0 | V33: 821485.08 | X33: ביצוע קידוחי ניטור בים המלח 2022 שריון: 100048648 | Y33: X | Z33: @FM@ | AA33: 683,000.00 | AB33: 5500 | AD33: 0 | AE33: 01 | AG33: 6200024483 | AH33: 683000 | AI33: להציג בפורטל | AJ33: X | AK33: 317603124 | AL33: מנחם וייס | AM33: 314449786 | AN33: ביצוע קידוחי ניטור בים המלח 2022 | AO33: מסמך מאושר | AP33: 0045 | AT33: 0.00 | AY33: 0.00 | AZ33: 44901
A34: 5500 | B34: 089 | C34: 4502243781 | D34: ZPFC | E34: מערכות מידע | F34: 44875 | G34: 44927 | H34: 45291 | I34: הדס סעידיאן | J34: 40005148 | K34: נס א.ט. בע"מ | L34: 520040122 | M34: 3 | N34: 4779.68 | O34: ILS | P34: 4779.68 | Q34: 4779.68 | R34: 0 | S34: ILS | T34: 0 | U34: 0 | V34: 4779.68 | X34: מערכת ניהול תוכן ארגוני- 25-2010 חידוש תחזוקת ריש | Z34: @FM@ | AB34: 5500 | AC34: יוסי רזניק | AD34: 0 | AE34: 07 | AG34: 4400000259 | AH34: 4085.2 | AI34: להציג בפורטל | AJ34: X | AK34: 016924979 | AL34: יוסף רזניק | AM34: 315224006 | AN34: חידוש תחזוקת רישוי סע"ר 2023 | AO34: מסמך מאושר | AP34: 0045 | AT34: 0.00 | AY34: 0.00 | AZ34: 44906
A35: 5500 | B35: 089 | C35: 4502243912 | D35: ZA | E35: הידרולוגי | F35: 44875 | G35: 44896 | H35: 45046 | I35: אירה שטרית | J35: 42136584 | K35: לומלסקי סבטלנה | L35: 306997024 | M35: 3 | N35: 25000 | O35: ILS | P35: 25000 | Q35: 25000 | R35: 0 | S35: ILS | T35: 0 | U35: 0 | V35: 25000 | X35: ניתוח תוספות מילוי חוזר באזורים אורבניים של אקווי | Z35: @FM@ | AB35: 5500 | AD35: 0 | AE35: 23 | AF35: 57 | AH35: 21367.52 | AI35: להציג בפורטל | AJ35: X | AK35: 308837533 | AL35: יעקב ליבשיץ | AM35: 314449786 | AN35: ניתוח תוספות מילוי חוזר באזורים אורבניים של אקוויפר החוף | AO35: מסמך מאושר | AP35: 0045 | AT35: 0.00 | AY35: 0.00 | AZ35: 44885
A36: 5500 | B36: 089 | C36: 4502243932 | D36: ZA | E36: הידרולוגי | F36: 44875 | G36: 44927 | H36: 45291 | I36: אירה שטרית | J36: 41085653 | K36: ימה פתרונות הידרומטריים בע"מ | L36: 514994789 | M36: 3 | N36: 20287.8 | O36: ILS | P36: 20287.8 | Q36: 20287.8 | R36: 0 | S36: ILS | T36: 0 | U36: 0 | V36: 20287.8 | X36: תחזוקה ותמיכה טכנית לאתר עבור 6 תחנות הידרומטריות | Z36: @FM@ | AB36: 5500 | AD36: 0 | AE36: 23 | AF36: 57 | AH36: 17340 | AI36: להציג בפורטל | AJ36: X | AK36: 014433833 | AL36: יעקב שומכר | AM36: 314449786 | AN36: תחזוקה ותמיכה טכנית לאתר עבור 6 תחנות הידרומטריות | AO36: מסמך מאושר | AP36: 0045 | AT36: 0.00 | AY36: 0.00 | AZ36: 44887
A37: 5500 | B37: 089 | C37: 4502245557 | D37: ZA | E37: מערכות מידע | F37: 44880 | G37: 44879 | H37: 44926 | I37: הדס סעידיאן | J37: 41097839 | K37: גטר גרופ בע"מ | L37: 520042326 | M37: 3 | N37: 2632.5 | O37: ILS | P37: 2632.5 | Q37: 0 | R37: 100 | S37: ILS | T37: 1872 | U37: 2632.5 | V37: 0 | X37: רכישת זרועות למסכי מחשב רפרנט: ליאור שמש שריון: 1 | Z37: @FM@ | AB37: 5500 | AC37: ליאור שמש | AD37: 0 | AE37: 23 | AF37: 57 | AH37: 2250 | AI37: להציג בפורטל | AJ37: X | AK37: 034564617 | AL37: ליאור שמש | AM37: 315224006 | AN37: רכישת זרועות למסכים | AO37: מסמך מאושר | AP37: 0045 | AT37: 0.00 | AY37: 0.00 | AZ37: 44893
A38: 5500 | B38: 089 | C38: 4502245891 | D38: ZA | E38: מערכות מידע | F38: 44880 | G38: 44882 | H38: 44924 | I38: הדס סעידיאן | J38: 40010827 | K38: ד.ה.ב. מד בע"מ | L38: 512307265 | M38: 3 | N38: 46800 | O38: ILS | P38: 46800 | Q38: 0 | R38: 100 | S38: ILS | T38: 46800 | U38: 46800 | V38: 0 | X38: רכישת תוכנת אופטימיזציה LINDO עבור אגף תכנון רפרנ | Z38: @FM@ | AB38: 5500 | AC38: ליאור שמש | AD38: 0 | AE38: 23 | AF38: 57 | AH38: 40000 | AI38: להציג בפורטל | AJ38: X | AK38: 034564617 | AL38: ליאור שמש | AM38: 315224006 | AN38: רכישת תכנית אופטימיזציה LINDO | AO38: מסמך מאושר | AP38: 0045 | AT38: 0.00 | AY38: 0.00 | AZ38: 44903
A39: 5500 | B39: 089 | C39: 4502246304 | D39: ZA | E39: דוברות | F39: 44881 | G39: 44885 | H39: 44926 | I39: אירה שטרית | J39: 41638852 | K39: מיתוגון בע"מ | L39: 515890358 | M39: 3 | N39: 3322.8 | O39: ILS | P39: 3322.8 | Q39: 0 | R39: 100 | S39: ILS | T39: 3322.8 | U39: 3322.8 | V39: 0 | X39: שי עבור סיור דוברים רפרנט: איתי דודי תקופה:20.11. | Z39: @FM@ | AB39: 5500 | AD39: 0 | AE39: 23 | AF39: 57 | AH39: 2840 | AI39: לא רלוונטי לפורטל | AK39: 024145922 | AL39: איתי דודי | AM39: 314449786 | AN39: רכישת שי | AO39: מסמך מאושר | AP39: 0045 | AT39: 0.00 | AY39: 0.00 | AZ39: 44887
A40: 5500 | B40: 088 | C40: 4502247142 | D40: ZPFC | E40: בנא"מ | F40: 44882 | G40: 44882 | H40: 44926 | I40: טל רחמאני | J40: 40001037 | K40: הוצאת עתון הארץ בע"מ | L40: 510015449 | M40: 3 | N40: 67.5 | O40: ILS | P40: 67.5 | Q40: 6.84 | R40: 89.87 | S40: ILS | T40: 60.66 | U40: 60.65 | V40: 6.84 | X40: עיתון הארץ - דה מרקר (מקוון דיגיטלי עבור יועצת מנ | Z40: @FM@ | AB40: 5500 | AD40: 0 | AE40: 07 | AG40: 4400000895 | AH40: 57.69 | AI40: להציג בפורטל | AJ40: X | AK40: 028037448 | AL40: ספי ביבי | AM40: 305017030 | AN40: עיון דה מרקר מקוון ליועצת מנכ"ל יאנינה פליישון | AO40: מסמך מאושר | AP40: 0045 | AT40: 0.00 | AY40: 0.00 | AZ40: 44885
A41: 5500 | B41: 089 | C41: 4502247338 | D41: ZA | E41: לשכה משפטית | F41: 44885 | G41: 44682 | H41: 45046 | I41: אירה שטרית | J41: 40007269 | K41: יגאל ארנון - תדמור - לוי | L41: 513311175 | M41: 3 | N41: 81217.89 | O41: ILS | P41: 81217.89 | Q41: 13394.16 | R41: 83.51 | S41: ILS | T41: 67823.74 | U41: 67823.74 | V41: 13614.92 | X41: ייעוץ משפטי בתחום דיני מימון תשתיות מוניציפאליות | Y41: X | Z41: @FM@ | AB41: 5500 | AD41: 0 | AE41: 08 | AH41: 69417 | AI41: להציג בפורטל | AJ41: X | AK41: 031415136 | AL41: יסמין רוזנברג | AM41: 314449786 | AN41: ייעוץ משפטי בתחום דיני מימון תשתיות מוניציפאליות והסדרים לגבייתם | AO41: מסמך מאושר | AP41: 0045 | AT41: 0.00 | AY41: 0.00 | AZ41: 44885
A42: 5500 | B42: 089 | C42: 4502247405 | D42: ZPFC | E42: אסדרה | F42: 44885 | G42: 44927 | H42: 45382 | I42: שירן בת אל שריקי | J42: 40006107 | K42: מרטנס הופמן יועצים לניהול בע"מ | L42: 511887655 | M42: 4 | N42: 1069848 | O42: ILS | P42: 1069848 | Q42: 1069848 | R42: 0 | S42: ILS | T42: 0 | U42: 0 | V42: 1088497.4 | X42: ייעוץ, סיוע ועיבוד נתונים ותמיכה לאגף אסדרה רפרנט | Y42: X | Z42: @FM@ | AA42: 914,400.00 | AB42: 5500 | AD42: 0 | AE42: 23 | AF42: 05 | AG42: 6200024606 | AH42: 914400 | AI42: להציג בפורטל | AJ42: X | AK42: 304589302 | AL42: גריגורי ברנשטיין | AM42: 205364904 | AN42: ייעוץ, סיוע ועיבוד נתונים ותמיכה לאגף אסדרה | AO42: ממתין למאשר מקצועי | AP42: 0045 | AT42: 0.00 | AY42: 0.00 | AZ42: 44909
A43: 5500 | B43: 089 | C43: 4502247722 | D43: ZA | E43: דוברות | F43: 44885 | G43: 44891 | H43: 44951 | I43: אירה שטרית | J43: 40458989 | K43: אמיר דן - עינת אורן יעוץ תקשורת ואס | L43: 514217629 | M43: 3 | N43: 38214.54 | O43: ILS | P43: 38214.54 | Q43: 3177.72 | R43: 91.68 | S43: ILS | T43: 35036.82 | U43: 35043.84 | V43: 3177.72 | X43: ייעוץ אסטרטגי תקשורתי רפרנט: איתי דודי שריון: 100 | Z43: @FM@ | AB43: 5500 | AD43: 0 | AE43: 23 | AF43: 57 | AH43: 32662 | AI43: להציג בפורטל | AJ43: X | AK43: 024145922 | AL43: איתי דודי | AM43: 314449786 | AN43: ייעוץ אסטרטגי תקשורתי | AO43: מסמך מאושר | AP43: 0045 | AT43: 0.00 | AY43: 0.00 | AZ43: 44887
A44: 5500 | B44: 089 | C44: 4502247755 | D44: ZA | E44: דוברות | F44: 44885 | G44: 44902 | H44: 44902 | I44: אירה שטרית | J44: 41122316 | K44: שורק חברה לתפעול ותחזוקה בע"מ | L44: 514564038 | M44: 3 | N44: 1500.17 | O44: ILS | P44: 1500.17 | Q44: 1500.17 | R44: 0 | S44: ILS | T44: 0 | U44: 0 | V44: 1500.17 | X44: ארוחת צהריים במתקן שורק עבור סיור דוברים ב-7.12.2 | Z44: @FM@ | AB44: 5500 | AD44: 0 | AE44: 23 | AF44: 57 | AH44: 1282.2 | AI44: לא רלוונטי לפורטל | AK44: 024145922 | AL44: איתי דודי | AM44: 314449786 | AN44: ארוחת צהריים במתקן שורק עבור סיור דוברים ב-7.12.2022 | AO44: מסמך מאושר | AP44: 0045 | AT44: 0.00 | AY44: 0.00 | AZ44: 44887
A45: 5500 | B45: 089 | C45: 4502247950 | D45: ZA | E45: הידרולוגי | F45: 44885 | G45: 44866 | H45: 45229 | I45: אירה שטרית | J45: 40263556 | K45: נ. טמיר - פרויקטים - בע"מ | L45: 511525099 | M45: 3 | N45: 118798.99 | O45: ILS | P45: 118798.99 | Q45: 0 | R45: 100 | S45: ILS | T45: 118798.99 | U45: 118798.99 | V45: 0 | X45: תיקון סכר מדידה בנחל גרר תקופה: 1.11.2022-30.10.2 | Z45: @FM@ | AB45: 5500 | AD45: 0 | AE45: 06 | AH45: 101537.6 | AI45: להציג בפורטל | AJ45: X | AK45: 014433833 | AL45: יעקב שומכר | AM45: 314449786 | AN45: תיקון סכר בנחל גרר | AO45: מסמך מאושר | AP45: 0045 | AT45: 0.00 | AY45: 0.00 | AZ45: 44910
A46: 5500 | B46: 089 | C46: 4502248075 | D46: ZPFC | E46: מערכות מידע | F46: 44885 | G46: 44885 | H46: 45518 | I46: הדס סעידיאן | J46: 40225199 | K46: אינטרנט בינת בע"מ | L46: 513049759 | M46: 3 | N46: 9283.95 | O46: ILS | P46: 9283.95 | Q46: 1367.52 | R46: 85.27 | S46: ILS | T46: 7916.43 | U46: 7916.43 | V46: 1367.52 | X46: שירותי אירוח למערכות מידע (DR) רפרנט: ליאור שמש מ | Z46: @FM@ | AB46: 5500 | AC46: ליאור שמש | AD46: 0 | AE46: 07 | AG46: 4400000702 | AH46: 7935 | AI46: להציג בפורטל | AJ46: X | AK46: 034564617 | AL46: ליאור שמש | AM46: 315224006 | AN46: שירותי אירוח למערכות מידע (‪DR‬) | AO46: מסמך מאושר | AP46: 0045 | AT46: 0.00 | AY46: 0.00 | AZ46: 44887
A47: 5500 | B47: 089 | C47: 4502248485 | D47: ZA | E47: משאבי אנוש | F47: 44886 | G47: 44881 | H47: 44882 | I47: פולינה ניקונוב | J47: 10000020 | K47: משרד ראש הממשלה | M47: 3 | N47: 1960 | O47: ILS | P47: 1960 | Q47: 1960 | R47: 0 | S47: ILS | T47: 0 | U47: 0 | V47: 1960 | X47: השתלמות למנהלי למידה מיטל טרבלסי רפרנט ליאת רון ת | Z47: @FM@ | AB47: 5500 | AC47: ליאת רון | AD47: 0 | AE47: 85 | AH47: 1960 | AI47: לא רלוונטי לפורטל | AK47: 025057571 | AL47: ליאת רון | AM47: 308940881 | AN47: השתלמות למנהלי למידה מיטל טרבלסי | AO47: מסמך מאושר | AP47: 0030 | AT47: 0.00 | AY47: 0.00 | AZ47: 44889
A48: 5500 | B48: 089 | C48: 4502248543 | D48: ZA | E48: משאבי אנוש | F48: 44886 | G48: 44864 | H48: 44926 | I48: פולינה ניקונוב | J48: 40003393 | K48: ענבל חברה לביטוח בע"מ-מקבל הלואות | L48: 520031030 | M48: 3 | N48: 6214 | O48: ILS | P48: 6214 | Q48: 0 | R48: 100 | S48: ILS | T48: 6214 | U48: 6214 | V48: 0 | X48: קורס הכשרת ממונות וממונים על מניעת גזענות מנחם גו | Z48: @FM@ | AB48: 5500 | AC48: ליאת רון | AD48: 0 | AE48: 85 | AH48: 6214 | AI48: לא רלוונטי לפורטל | AJ48: X | AK48: 025057571 | AL48: ליאת רון | AM48: 308940881 | AN48: קורס הכשרת ממונות וממונים על מניעת גזענות | AO48: מסמך מאושר | AP48: 0045 | AT48: 0.00 | AY48: 0.00 | AZ48: 44893
A49: 5500 | B49: 089 | C49: 4502248552 | D49: ZA | E49: משאבי אנוש | F49: 44886 | G49: 44805 | H49: 44865 | I49: פולינה ניקונוב | J49: 40003393 | K49: ענבל חברה לביטוח בע"מ-מקבל הלואות | L49: 520031030 | M49: 3 | N49: 6523 | O49: ILS | P49: 6523 | Q49: 0 | R49: 100 | S49: ILS | T49: 6523 | U49: 6523 | V49: 0 | X49: קורס דיני מכרזים 09.22 רפרנט ליאת רון | Z49: @FM@ | AB49: 5500 | AC49: ליאת רון | AD49: 0 | AE49: 85 | AH49: 6523 | AI49: לא רלוונטי לפורטל | AJ49: X | AK49: 025057571 | AL49: ליאת רון | AM49: 308940881 | AN49: קורס דיני מכרזים | AO49: מסמך מאושר | AP49: 0045 | AT49: 0.00 | AY49: 0.00 | AZ49: 44893
A50: 5500 | B50: 089 | C50: 4502248555 | D50: ZA | E50: איכות מים | F50: 44886 | G50: 44927 | H50: 45746 | I50: אירה שטרית | J50: 40292621 | K50: ספקטרו (ישראל) בע"מ | L50: 512018227 | M50: 3 | N50: 301860 | O50: ILS | P50: 301860 | Q50: 0 | R50: 100 | S50: ILS | T50: 301860 | U50: 301860 | V50: 0 | X50: אספקת מערכת ICP עבור מעבדת רשות המים שריון: 10004 | Y50: X | Z50: @FM@ | AB50: 5500 | AD50: 0 | AE50: 01 | AH50: 258000 | AI50: להציג בפורטל | AJ50: X | AK50: 032193815 | AL50: שרונה הניג | AM50: 314449786 | AN50: אספקת מערכת ICP | AO50: מסמך מאושר | AP50: 0045 | AT50: 0.00 | AY50: 0.00 | AZ50: 44915
A51: 5500 | B51: 089 | C51: 4502248572 | D51: ZA | E51: משאבי אנוש | F51: 44886 | G51: 44907 | H51: 44907 | I51: פולינה ניקונוב | J51: 10000020 | K51: משרד ראש הממשלה | M51: 3 | N51: 458 | O51: ILS | P51: 458 | Q51: 0 | R51: 0 | S51: ILS | T51: 0 | U51: 0 | V51: 0 | X51: יום עיון במרכז מעל"ה ליאת רון 12.12.2022 04.01.20 | Z51: @FM@ | AB51: 5500 | AC51: ליאת רון | AD51: 0 | AE51: 85 | AH51: 458 | AI51: לא רלוונטי לפורטל | AK51: 025057571 | AL51: ליאת רון | AM51: 308940881 | AN51: יום עיון במרכז מעל"ה | AO51: מסמך מאושר | AP51: 0030 | AT51: 0.00 | AY51: 0.00 | AZ51: 44935
A52: 5500 | B52: 088 | C52: 4502248593 | D52: ZPFC | E52: בנא"מ | F52: 44886 | G52: 44886 | H52: 44926 | I52: ספי ביבי | J52: 40931516 | K52: דיאיי טכנולוגיות בע"מ | L52: 511765596 | M52: 3 | N52: 655.2 | O52: ILS | P52: 655.2 | Q52: 0 | R52: 100 | S52: ILS | T52: 655.2 | U52: 655.2 | V52: 0 | X52: תוספת סבונים למדיחים הקיימים ברשות המים. תקופת הת | Y52: X | Z52: @FM@ | AB52: 5500 | AD52: 0 | AE52: 23 | AF52: 01 | AG52: 4400001136 | AH52: 560 | AI52: להציג בפורטל | AJ52: X | AK52: 028037448 | AL52: ספי ביבי | AM52: 028037448 | AN52: סבון למדיחי כלים | AO52: מסמך מאושר | AP52: 0045 | AT52: 0.00 | AY52: 0.00 | AZ52: 44887
A53: 5500 | B53: 089 | C53: 4502248622 | D53: ZA | E53: נסיעות לחו"ל | F53: 44886 | G53: 44866 | H53: 44870 | I53: פולינה ניקונוב | J53: 41003244 | K53: משרד סוכנות/האוצר נסיעות ממשלתית | M53: 3 | N53: 2538.15 | O53: ILS | P53: 2538.15 | Q53: 17.77 | R53: 99.3 | S53: ILS | T53: 2520.38 | U53: 2156 | V53: 18.46 | X53: טיסה גיא רשף לג'נבה 01.11.2022-05.11.2022 | Y53: X | Z53: @FM@ | AB53: 5500 | AC53: פולינה ניקונ | AD53: 0 | AE53: 85 | AH53: 2169.36 | AI53: לא רלוונטי לפורטל | AM53: 308940881 | AN53: טיסה גיא רשף לג'נבה | AO53: מסמך מאושר | AP53: 0030 | AT53: 0.00 | AY53: 0.00 | AZ53: 44893
A54: 5500 | B54: 089 | C54: 4502248630 | D54: ZA | E54: נסיעות לחו"ל | F54: 44886 | G54: 44878 | H54: 44881 | I54: פולינה ניקונוב | J54: 41003244 | K54: משרד סוכנות/האוצר נסיעות ממשלתית | M54: 3 | N54: 1222.95 | O54: ILS | P54: 1222.95 | Q54: 12.23 | R54: 99 | S54: ILS | T54: 1210.72 | U54: 1034.81 | V54: 13 | X54: טיסה יעל סטורץ שארם 13.11 -16.11 | Y54: X | Z54: @FM@ | AB54: 5500 | AC54: פולינה ניקונ | AD54: 0 | AE54: 85 | AH54: 1045.26 | AI54: לא רלוונטי לפורטל | AM54: 308940881 | AN54: טיסה יעל סטורץ שארם | AO54: מסמך מאושר | AP54: 0030 | AT54: 0.00 | AY54: 0.00 | AZ54: 44889
A55: 5500 | B55: 089 | C55: 4502248634 | D55: ZA | E55: נסיעות לחו"ל | F55: 44886 | G55: 44878 | H55: 44881 | I55: פולינה ניקונוב | J55: 41003244 | K55: משרד סוכנות/האוצר נסיעות ממשלתית | M55: 3 | N55: 1222.95 | O55: ILS | P55: 1222.95 | Q55: 12.23 | R55: 99 | S55: ILS | T55: 1210.72 | U55: 1034.81 | V55: 13 | X55: טיסה דני גרינוולד לשארם 13.11- 16.11 | Y55: X | Z55: @FM@ | AB55: 5500 | AC55: פולינה ניקונ | AD55: 0 | AE55: 85 | AH55: 1045.26 | AI55: טרם נקבע | AM55: 308940881 | AN55: טיסה דני גרינוולד לשארם | AO55: מסמך מאושר | AP55: 0030 | AT55: 0.00 | AY55: 0.00 | AZ55: 44889
A56: 5500 | B56: 089 | C56: 4502248640 | D56: ZA | E56: נסיעות לחו"ל | F56: 44886 | G56: 44872 | H56: 44875 | I56: פולינה ניקונוב | J56: 41003244 | K56: משרד סוכנות/האוצר נסיעות ממשלתית | M56: 3 | N56: 1432.86 | O56: ILS | P56: 1432.86 | Q56: 35.83 | R56: 97.5 | S56: ILS | T56: 1397.04 | U56: 1194.05 | V56: 37.11 | X56: טיסה יחזקל ליפשיץ מנכ"ל רשות לשארם 07.11-10.11 | Y56: X | Z56: @FM@ | AB56: 5500 | AC56: פולינה ניקונ | AD56: 0 | AE56: 85 | AH56: 1224.67 | AI56: טרם נקבע | AM56: 308940881 | AN56: טיסה יחזקל ליפשיץ מנכ"ל רשות לשארם | AO56: מסמך מאושר | AP56: 0030 | AT56: 0.00 | AY56: 0.00 | AZ56: 44889
A57: 5500 | B57: 089 | C57: 4502248746 | D57: ZPFC | E57: אסדרה | F57: 44886 | G57: 44896 | H57: 45260 | I57: שירן בת אל שריקי | J57: 42407897 | K57: ח.ן טרסטקו בע"מ | L57: 516556016 | M57: 3 | N57: 650000.01 | O57: ILS | P57: 650000.01 | Q57: 650000.01 | R57: 0 | S57: ILS | T57: 0 | U57: 0 | V57: 674569.88 | X57: מתן שירותי בקרה על ספקי מים בנושאי אמות מידה לשיר | Y57: X | Z57: @FM@ | AA57: 555,555.56 | AB57: 5500 | AD57: 0 | AE57: 08 | AG57: 6200024605 | AH57: 555555.56 | AI57: לא רלוונטי לפורטל | AK57: 023895782 | AL57: שרון נוסבאום | AM57: 205364904 | AN57: מתן שירותי בקרה על ספקי מים בנושאי אמות מידה לשירות ומהימנות הדיווחים לרשות המים | AO57: מסמך מאושר | AP57: 0045 | AT57: 0.00 | AY57: 0.00 | AZ57: 44901
A58: 5500 | B58: 089 | C58: 4502248772 | D58: ZA | E58: מערכות מידע | F58: 44886 | G58: 44866 | H58: 45291 | I58: פולינה ניקונוב | J58: 40414566 | K58: נאיה פ.א.י טכנולוגיות בע"מ | L58: 514387984 | M58: 3 | N58: 49725 | O58: ILS | P58: 49725 | Q58: 35962.88 | R58: 27.68 | S58: ILS | T58: 13762.13 | U58: 13762.13 | V58: 35962.87 | X58: ייעוץ עבור תשתיות ומערכות אורקל רפרנט יוסי רזניק | Z58: @FM@ | AB58: 5500 | AC58: ליאור שמש | AD58: 0 | AE58: 23 | AF58: 57 | AH58: 42500 | AI58: להציג בפורטל | AJ58: X | AK58: 034564617 | AL58: ליאור שמש | AM58: 308940881 | AN58: ייעוץ עבור תשתיות ומערכות אורקל | AO58: מסמך מאושר | AP58: 0045 | AT58: 0.00 | AY58: 0.00 | AZ58: 44889
A59: 5500 | B59: 089 | C59: 4502248821 | D59: ZPFH | E59: מערכות מידע | F59: 44886 | G59: 44868 | H59: 45291 | I59: פולינה ניקונוב | J59: 40003679 | K59: טלדור יועצים בע"מ | L59: 511350613 | M59: 3 | N59: 526500 | O59: ILS | P59: 526500 | Q59: 432998.86 | R59: 17.76 | S59: ILS | T59: 93501.14 | U59: 93501.14 | V59: 432998.86 | X59: הסכם נותני שירותים - מפתח תוכנה לתחום ה - GIS רפר | Z59: @FM@ | AA59: 370,084.50 | AB59: 5500 | AC59: ליאור שמש | AD59: 0 | AE59: 07 | AG59: 6200024653 | AH59: 450000 | AI59: להציג בפורטל | AJ59: X | AK59: 034564617 | AL59: ליאור שמש | AM59: 308940881 | AN59: טלדור יועצים בע"מ - ספק נותני שירותים | AO59: מסמך מאושר | AP59: 0045 | AT59: 0.00 | AY59: 0.00 | AZ59: 44903
A60: 5500 | B60: 088 | C60: 4502248918 | D60: ZPFC | E60: בנא"מ | F60: 44886 | G60: 44896 | H60: 45077 | I60: טל רחמאני | J60: 40001601 | K60: מפעיל בעמ | L60: 520037631 | M60: 3 | N60: 1618.29 | O60: ILS | P60: 1618.29 | Q60: 1358.78 | R60: 16.04 | S60: ILS | T60: 259.52 | U60: 234.61 | V60: 1459.03 | X60: מכונת צילום מוצבת באסדרה ע"פ הוראת תכ"ם 16.3.3.1, | Y60: X | Z60: @FM@ | AB60: 5500 | AC60: 16.5.5 | AD60: 0 | AE60: 07 | AG60: 4400000273 | AH60: 1383.15 | AI60: להציג בפורטל | AJ60: X | AM60: 305017030 | AN60: חכירת מכונת צילום - אסדרה | AO60: מסמך מאושר | AP60: 0045 | AT60: 0.00 | AY60: 0.00 | AZ60: 44893
A61: 5500 | B61: 089 | C61: 4502249152 | D61: ZA | E61: משאבי אנוש | F61: 44887 | G61: 44797 | H61: 44857 | I61: פולינה ניקונוב | J61: 40573985 | K61: דייטש גרישה | L61: 014596852 | M61: 3 | N61: 1109.16 | O61: ILS | P61: 1109.16 | Q61: 0 | R61: 100 | S61: ILS | T61: 1109.16 | U61: 1109.16 | V61: 0 | X61: השתתפות בוועדת בוחנים גרישה דייטש 24.08.2022 23.1 | Z61: @FM@ | AB61: 5500 | AC61: מנחם גולדשטי | AD61: 0 | AE61: 76 | AH61: 948 | AI61: טרם נקבע | AM61: 308940881 | AN61: השתתפות בוועדת בוחנים גרישה דייטש | AO61: מסמך מאושר | AP61: 0045 | AT61: 0.00 | AY61: 0.00 | AZ61: 44887
A62: 5500 | B62: 089 | C62: 4502249180 | D62: ZPFC | E62: מערכות מידע | F62: 44887 | G62: 44887 | H62: 45291 | I62: הדס סעידיאן | J62: 41560706 | K62: בינת עסקים בע"מ | L62: 514752310 | M62: 3 | N62: 3310.97 | O62: ILS | P62: 3310.97 | Q62: 0 | R62: 100 | S62: ILS | T62: 3310.97 | U62: 3310.97 | V62: 0 | X62: שירותי קוויי IPVPN לטובת סוק מים תקופת התקשרות : | Z62: @FM@ | AB62: 5500 | AC62: ליאור שמש | AD62: 0 | AE62: 07 | AG62: 4400000408 | AH62: 2829.89 | AI62: להציג בפורטל | AJ62: X | AK62: 034564617 | AL62: ליאור שמש | AM62: 315224006 | AN62: שירותי קוויי IPVPN עבור סוק מים | AO62: מסמך מאושר | AP62: 0045 | AT62: 0.00 | AY62: 0.00 | AZ62: 44887
A63: 5500 | B63: 089 | C63: 4502249188 | D63: ZB | E63: משאבי אנוש | F63: 44887 | G63: 44825 | H63: 44895 | I63: פולינה ניקונוב | J63: 40141883 | K63: קורנהאוזר אליזבטה | M63: 3 | N63: 831.87 | O63: ILS | P63: 831.87 | Q63: 0 | R63: 100 | S63: ILS | T63: 831.87 | U63: 831.87 | V63: 0 | X63: השתתפות בוועדת בוחנים- אליזבטה קורנראוזר 2 ועדות | Z63: @FM@ | AB63: 5500 | AC63: מנחם גולדשטי | AD63: 0 | AE63: 76 | AH63: 711 | AI63: טרם נקבע | AM63: 308940881 | AN63: השתתפות בוועדת בוחנים- אליזבטה קורנראוזר | AO63: מסמך מאושר | AP63: 0045 | AT63: 0.00 | AY63: 0.00 | AZ63: 44887
A64: 5500 | B64: 089 | C64: 4502249214 | D64: ZA | E64: מערכות מידע | F64: 44887 | G64: 44927 | H64: 45291 | I64: הדס סעידיאן | J64: 40009639 | K64: מאגרי תוכנה (מ.ת.) בע"מ | L64: 513442442 | M64: 3 | N64: 10108.8 | O64: ILS | P64: 10108.8 | Q64: 0 | R64: 100 | S64: ILS | T64: 10108.8 | U64: 10108.8 | V64: 0 | X64: חידוש רישוי מערכת זום - 16 רישיונות רפרנט: ליאור | Z64: @FM@ | AB64: 5500 | AC64: ליאור שמש | AD64: 0 | AE64: 23 | AF64: 57 | AH64: 8640 | AI64: להציג בפורטל | AJ64: X | AK64: 034564617 | AL64: ליאור שמש | AM64: 315224006 | AN64: חידוש רישוי זום | AO64: מסמך מאושר | AP64: 0045 | AT64: 0.00 | AY64: 0.00 | AZ64: 44893
A65: 5500 | B65: 089 | C65: 4502249370 | D65: ZPFC | E65: מערכות מידע | F65: 44887 | G65: 44887 | H65: 46934 | I65: הדס סעידיאן | J65: 40001247 | K65: הראל טכנולוגיות מידע בע"מ | L65: 511401002 | M65: 3 | N65: 5183.74 | O65: ILS | P65: 5183.74 | Q65: 0 | R65: 100.11 | S65: ILS | T65: 5183.74 | U65: 5189.7 | V65: 0 | X65: רכישת מתכלים רפרנט: ליאור שמש מזמין: הדס סעידיאן | Y65: X | Z65: @FM@ | AB65: 5500 | AC65: ליאור שמש | AD65: 0 | AE65: 07 | AG65: 4400000271 | AH65: 4430.55 | AI65: להציג בפורטל | AJ65: X | AK65: 034564617 | AL65: ליאור שמש | AM65: 315224006 | AN65: רכישת מתכלים | AO65: מסמך מאושר | AP65: 0045 | AT65: 0.00 | AY65: 0.00 | AZ65: 44893
A66: 5500 | B66: 089 | C66: 4502249586 | D66: ZPFC | E66: חשבות | F66: 44887 | G66: 44927 | H66: 45291 | I66: ספיר פרץ | J66: 40470571 | K66: מלם שכר בע"מ | L66: 513027102 | M66: 3 | N66: 78000 | O66: ILS | P66: 78000 | Q66: 78000 | R66: 0 | S66: ILS | T66: 0 | U66: 0 | V66: 78000 | X66: תחזוקה, תלושים ודוחות למערכת שכר לשנת 2023 רפרנט: | Z66: @FM@ | AA66: 66,666.67 | AB66: 5500 | AD66: 0 | AE66: 07 | AG66: 6200011889 | AH66: 66666.67 | AI66: להציג בפורטל | AJ66: X | AK66: 052854726 | AL66: מיכאל עזרא | AM66: 206220527 | AN66: תחזוקה, תלושים ודוחות למערכת שכר 2023 | AO66: מסמך מאושר | AP66: ILG1 | AT66: 0.00 | AY66: 0.00 | AZ66: 44920
A67: 5500 | B67: 088 | C67: 4502250159 | D67: ZA | E67: בנא"מ | F67: 44888 | G67: 44888 | H67: 45107 | I67: ספי ביבי | J67: 41046624 | K67: מערכות בטיחות ג.י. בע"מ | L67: 514954635 | M67: 3 | N67: 3744 | O67: ILS | P67: 3744 | Q67: 0 | R67: 100 | S67: ILS | T67: 3744 | U67: 3744 | V67: 0 | X67: בדיקה שנתית של ציוד ערכות עבודה בגובה רפרנט: שרון | Z67: @FM@ | AB67: 5500 | AD67: 0 | AE67: 23 | AF67: 57 | AH67: 3200 | AI67: לא רלוונטי לפורטל | AM67: 028037448 | AN67: בדיקה שנתית של ערכות עבודה בגובה | AO67: מסמך מאושר | AP67: 0045 | AT67: 0.00 | AY67: 0.00 | AZ67: 44894
A68: 5500 | B68: 089 | C68: 4502250530 | D68: ZA | E68: משאבי אנוש | F68: 44889 | G68: 44889 | H68: 44926 | I68: פולינה ניקונוב | J68: 41402103 | K68: סולתם - רדד (כלי בית) בע"מ | L68: 515360188 | M68: 3 | N68: 42550.09 | O68: ILS | P68: 42550.09 | Q68: 0 | R68: 100 | S68: ILS | T68: 42550.09 | U68: 42550.09 | V68: 0 | X68: שי לחנוכה רפרנט טניה משרקי | Z68: @FM@ | AB68: 5500 | AC68: טניה משרקי | AD68: 0 | AE68: 23 | AF68: 57 | AH68: 36367.6 | AI68: לא רלוונטי לפורטל | AK68: 025057571 | AL68: ליאת רון | AM68: 308940881 | AN68: שי לחנוכה | AO68: מסמך מאושר | AP68: 0045 | AT68: 0.00 | AY68: 0.00 | AZ68: 44894
A69: 5500 | B69: 089 | C69: 4502251021 | D69: ZA | E69: הידרולוגי | F69: 44889 | G69: 44927 | H69: 45291 | I69: אירה שטרית | J69: 40231135 | K69: ניהול משאבי הסביבה (אינווירומנג'ר) | L69: 513736017 | M69: 3 | N69: 231660 | O69: ILS | P69: 231660 | Q69: 231660 | R69: 0 | S69: ILS | T69: 0 | U69: 0 | V69: 236139.64 | X69: ניתוח זמני פיגור וזמני זרימה בנחלים- 100049510 רפ | Y69: X | Z69: @FM@ | AB69: 5500 | AD69: 0 | AE69: 01 | AH69: 198000 | AI69: להציג בפורטל | AJ69: X | AK69: 040092413 | AL69: יאיר רינת | AM69: 314449786 | AN69: ניתוח זמני פיזור וזמני זרימה בנחלים | AO69: מסמך מאושר | AP69: 0045 | AT69: 0.00 | AY69: 0.00 | AZ69: 44914
A70: 5500 | B70: 089 | C70: 4502252255 | D70: ZA | E70: מערכות מידע | F70: 44893 | G70: 44562 | H70: 44926 | I70: הדס סעידיאן | J70: 40004372 | K70: מטריקס אי.טי. מוצרי תוכנה בע"מ | L70: 511072399 | M70: 3 | N70: 29636.1 | O70: ILS | P70: 29636.1 | Q70: 0 | R70: 100 | S70: ILS | T70: 29636.1 | U70: 29636.1 | V70: 0 | X70: חידוש שנתי לרישיונות תוכנת business objects. רפרנ | Z70: @FM@ | AB70: 5500 | AC70: ליאור שמש | AD70: 0 | AE70: 23 | AF70: 01 | AH70: 25330 | AI70: להציג בפורטל | AJ70: X | AK70: 034564617 | AL70: ליאור שמש | AM70: 315224006 | AN70: חידוש שנתי לרישיונות תוכנת business objects | AO70: מסמך מאושר | AP70: 0045 | AT70: 0.00 | AY70: 0.00 | AZ70: 44999
A71: 5500 | B71: 089 | C71: 4502252680 | D71: ZPFC | E71: מערכות מידע | F71: 44893 | G71: 44927 | H71: 45169 | I71: הדס סעידיאן | J71: 40004770 | K71: בזק בינלאומי בע"מ | L71: 512133729 | M71: 3 | N71: 5798.75 | O71: ILS | P71: 5798.75 | Q71: 5798.75 | R71: 0 | S71: ILS | T71: 0 | U71: 0 | V71: 5747.04 | X71: חידוש מקאפי תוקף: 21.12.2022-20.12.2023 שריון: 10 | Y71: X | Z71: @FM@ | AB71: 5500 | AC71: ליאור שמש | AD71: 0 | AE71: 07 | AG71: 4400000394 | AH71: 4956.2 | AI71: להציג בפורטל | AJ71: X | AK71: 034564617 | AL71: ליאור שמש | AM71: 315224006 | AN71: חידוש מקאפי | AO71: מסמך מאושר | AP71: 0045 | AT71: 0.00 | AY71: 0.00 | AZ71: 44922
A72: 5500 | B72: 089 | C72: 4502253033 | D72: ZA | E72: איכות מים | F72: 44894 | G72: 44896 | H72: 45076 | I72: אירה שטרית | J72: 40295097 | K72: פוטרמן יזום ניהול ושיווק בע"מ | L72: 512250267 | M72: 3 | N72: 14695.2 | O72: ILS | P72: 14695.2 | Q72: 0 | R72: 100 | S72: ILS | T72: 14695.2 | U72: 14695.2 | V72: 0 | X72: אספקת קרטרידג'ים למיצוי בשיטת SPE למערכת הלאומית | Z72: @FM@ | AB72: 5500 | AD72: 0 | AE72: 23 | AF72: 57 | AH72: 12560 | AI72: להציג בפורטל | AJ72: X | AK72: 032193815 | AL72: שרונה הניג | AM72: 314449786 | AN72: אספקת קרטרידג'ים למיצוי בשיטת SPE למערכת הלאומית לניטור מים של רשות | AO72: מסמך מאושר | AP72: 0045 | AT72: 0.00 | AY72: 0.00 | AZ72: 44894
A73: 5500 | B73: 089 | C73: 4502253049 | D73: ZA | E73: איכות מים | F73: 44894 | G73: 44896 | H73: 45626 | I73: אירה שטרית | J73: 40011294 | K73: אקולוג הנדסה בע"מ | L73: 513300483 | M73: 3 | N73: 28080 | O73: ILS | P73: 28080 | Q73: 18720 | R73: 33.33 | S73: ILS | T73: 9360 | U73: 9360 | V73: 18922.53 | X73: ביצוע דיגום קידוחי ניטור רב מפלסיים רפרנט: חיים כ | Y73: X | Z73: @FM@ | AB73: 5500 | AD73: 0 | AE73: 23 | AF73: 57 | AH73: 24000 | AI73: להציג בפורטל | AJ73: X | AK73: 034839449 | AL73: חיים כץ | AM73: 314449786 | AN73: דיגום בודד | AO73: מסמך מאושר | AP73: 0045 | AT73: 0.00 | AY73: 0.00 | AZ73: 44903
A74: 5500 | B74: 089 | C74: 4502253646 | D74: ZA | E74: התפלה | F74: 44894 | G74: 44927 | H74: 45291 | I74: שירן בת אל שריקי | J74: 40010890 | K74: מודוטק בע"מ | L74: 512653031 | M74: 3 | N74: 1100034 | O74: ILS | P74: 1100034 | Q74: 1008364.5 | R74: 8.33 | S74: ILS | T74: 91669.5 | U74: 91669.5 | V74: 1008364.5 | X74: מתן שירותי תפעול ואחזקה של מבני הדיגום במתקני התפ | Z74: @FM@ | AB74: 5500 | AD74: 0 | AE74: 23 | AF74: 01 | AH74: 940200 | AI74: להציג בפורטל | AJ74: X | AK74: 301718425 | AL74: נועה הלפר | AM74: 205364904 | AN74: מתן שירותי תפעול ואחזקה של מבני הדיגום במתקני התפלת מי ים | AO74: מסמך מאושר | AP74: 0045 | AT74: 0.00 | AY74: 0.00 | AZ74: 44921
A75: 5500 | B75: 088 | C75: 4502255176 | D75: ZA | F75: 44896 | G75: 44927 | H75: 45291 | I75: טל רחמאני | J75: 40015645 | K75: פ. פורמן נכסים בע"מ | L75: 512023730 | M75: 3 | N75: 29357.64 | O75: ILS | P75: 29357.64 | Q75: 22018.23 | R75: 25 | S75: ILS | T75: 7339.41 | U75: 7896.33 | V75: 23991.89 | X75: שירותי ניהול ותחזוקה עבור השירות ההידרולוגי בנשר | Y75: X | Z75: @FM@ | AB75: 5500 | AC75: בנא"מ | AD75: 0 | AE75: 23 | AF75: 01 | AH75: 25092 | AI75: לא רלוונטי לפורטל | AM75: 305017030 | AN75: דמי ניהול נשר | AO75: מסמך מאושר | AP75: 0045 | AT75: 0.00 | AY75: 0.00 | AZ75: 44903
A76: 5500 | B76: 088 | C76: 4502255428 | D76: ZA | F76: 44896 | G76: 44927 | H76: 45107 | I76: טל רחמאני | J76: 40004697 | K76: רמות מ.א. ניהול ותחזוקה (1993) בע"מ | L76: 511845497 | M76: 3 | N76: 109137.43 | O76: ILS | P76: 109137.43 | Q76: 57129.42 | R76: 47.65 | S76: ILS | T76: 52008.02 | U76: 52007.01 | V76: 57129.41 | X76: הוצ' ותחזוקה ביניין חפציבה ירושלים כולל תשלומי מ | Z76: @FM@ | AB76: 5500 | AC76: בנא"מ | AD76: 0 | AE76: 23 | AF76: 90 | AH76: 93279.86 | AI76: להציג בפורטל | AJ76: X | AK76: 028037448 | AL76: ספי ביבי | AM76: 305017030 | AN76: דמי ניהול חפציבה | AO76: מסמך מאושר | AP76: 0045 | AT76: 0.00 | AY76: 0.00 | AZ76: 44978
A77: 5500 | B77: 088 | C77: 4502255453 | D77: ZA | F77: 44896 | G77: 44927 | H77: 45199 | I77: טל רחמאני | J77: 40003252 | K77: אושירה בע"מ | L77: 511113243 | M77: 3 | N77: 26128.44 | O77: ILS | P77: 26128.44 | Q77: 19596.33 | R77: 25 | S77: ILS | T77: 6532.11 | U77: 6532.11 | V77: 19596.33 | X77: חניות במשרדי רשות המים בבית נועם בבאר שבע לשנת 20 | Z77: @FM@ | AB77: 5500 | AC77: בנא"מ | AD77: 0 | AE77: 23 | AF77: 57 | AH77: 22332 | AI77: להציג בפורטל | AJ77: X | AK77: 028037448 | AL77: ספי ביבי | AM77: 305017030 | AN77: חניות בית נועם | AO77: מסמך מאושר | AP77: 0045 | AT77: 0.00 | AY77: 0.00 | AZ77: 44903
A78: 5500 | B78: 088 | C78: 4502255472 | D78: ZA | F78: 44896 | G78: 44927 | H78: 45199 | I78: טל רחמאני | J78: 40003252 | K78: אושירה בע"מ | L78: 511113243 | M78: 3 | N78: 57666.96 | O78: ILS | P78: 57666.96 | Q78: 47491.47 | R78: 17.65 | S78: ILS | T78: 10175.49 | U78: 12393 | V78: 56765.1 | X78: תשלום ניהול ואחזקה עבור בית נועם (באר שבע) בתוספת | Y78: X | Z78: @FM@ | AB78: 5500 | AC78: בנא"מ | AD78: 0 | AE78: 23 | AF78: 01 | AH78: 49288 | AI78: להציג בפורטל | AJ78: X | AK78: 028037448 | AL78: ספי ביבי | AM78: 305017030 | AN78: דמי ניהול ב"ש | AO78: מסמך מאושר | AP78: 0045 | AT78: 0.00 | AY78: 0.00 | AZ78: 44913
A79: 5500 | B79: 088 | C79: 4502255483 | D79: ZA | F79: 44896 | G79: 44927 | H79: 45107 | I79: טל רחמאני | J79: 42004412 | K79: אי בי סנטר נכסים בע"מ | L79: 515791598 | M79: 3 | N79: 5007.51 | O79: ILS | P79: 5007.51 | Q79: 5007.51 | R79: 0 | S79: ILS | T79: 0 | U79: 0 | V79: 6860.7 | X79: דמי ניהול עבור ברקן לשנת 2023 תוקף הסכם מינהל הדי | Y79: X | Z79: @FM@ | AB79: 5500 | AC79: בנא"מ | AD79: 0 | AE79: 23 | AF79: 01 | AH79: 4279.92 | AI79: לא רלוונטי לפורטל | AM79: 305017030 | AN79: דמי ניהול ברקן | AO79: מסמך מאושר | AP79: 0045 | AT79: 0.00 | AY79: 0.00 | AZ79: 44903
A80: 5500 | B80: 089 | C80: 4502255492 | D80: ZA | E80: משאבי אנוש | F80: 44896 | G80: 44867 | H80: 44944 | I80: פולינה ניקונוב | J80: 40000248 | K80: אוניברסיטה העברית | L80: 500701610 | M80: 3 | N80: 3303 | O80: ILS | P80: 3303 | Q80: 3303 | R80: 0 | S80: ILS | T80: 0 | U80: 0 | V80: 3303 | X80: נופים קרסטיים ובעיות הסביבה - רופא בני רפרנט ליאת | Z80: @FM@ | AB80: 5500 | AC80: ליאת רון | AD80: 0 | AE80: 23 | AF80: 57 | AH80: 3303 | AI80: לא רלוונטי לפורטל | AJ80: X | AM80: 308940881 | AN80: נופים קרסטיים ובעיות הסביבה - רופא בני | AO80: מסמך מאושר | AP80: 0045 | AT80: 0.00 | AY80: 0.00 | AZ80: 44914
A81: 5500 | B81: 088 | C81: 4502255505 | D81: ZA | F81: 44896 | G81: 44927 | H81: 45152 | I81: טל רחמאני | J81: 41372013 | K81: ש.י.ק. מבנים בגליל בע"מ | L81: 511589129 | M81: 3 | N81: 50740.56 | O81: ILS | P81: 50740.56 | Q81: 38055.42 | R81: 25 | S81: ILS | T81: 12685.14 | U81: 13742.64 | V81: 41673.97 | X81: דמי ניהול ותחזוקה לשטחים חיצוניים ופנימיים (ללא נ | Y81: X | Z81: @FM@ | AB81: 5500 | AC81: בנא"מ | AD81: 0 | AE81: 84 | AH81: 43368 | AI81: לא רלוונטי לפורטל | AM81: 305017030 | AN81: דמי ניהול צחר | AO81: מסמך מאושר | AP81: 0045 | AT81: 0.00 | AY81: 0.00 | AZ81: 44903
A82: 5500 | B82: 088 | C82: 4502255550 | D82: ZFO | F82: 44896 | G82: 44927 | H82: 45291 | I82: טל רחמאני | J82: 20000159 | K82: עירית ירושלים | L82: 500230008 | M82: 3 | N82: 120069.78 | O82: ILS | P82: 120069.78 | Q82: 1.1 | R82: 100 | S82: ILS | T82: 0 | U82: 120068.68 | V82: 1.1 | X82: ארנונה בניין חפציבה 386.5 מ"ר * 342 ש"ח למ"ר לשנת | Z82: @FM@ | AB82: 5500 | AC82: בנא"מ | AD82: 0 | AE82: 90 | AH82: 120069.78 | AI82: להציג בפורטל | AJ82: X | AK82: 028037448 | AL82: ספי ביבי | AM82: 305017030 | AN82: ארנונה חפציבה | AO82: מסמך מאושר | AP82: 0030 | AT82: 0.00 | AY82: 0.00 | AZ82: 44906
A83: 5500 | B83: 089 | C83: 4502255579 | D83: ZA | E83: לשכת מנכל | F83: 44896 | G83: 44927 | H83: 45291 | I83: ספיר פרץ | J83: 40010044 | K83: יזרעאלי משה | L83: 007882822 | M83: 3 | N83: 131919.84 | O83: ILS | P83: 131919.84 | Q83: 131919.84 | R83: 0 | S83: ILS | T83: 0 | U83: 0 | V83: 131919.84 | X83: ייעוץ בנושא שיחות השלום בתחום הידרופוליטיקה רפרנט | Z83: @FM@ | AB83: 5500 | AD83: 0 | AE83: 84 | AH83: 112752 | AI83: לא רלוונטי לפורטל | AK83: 307199216 | AL83: אולגה סלפנר | AM83: 206220527 | AN83: ייעוץ בנושא שיחות השלום בתחום הידרופוליטיקה | AO83: מסמך מאושר | AP83: 0045 | AT83: 0.00 | AY83: 0.00 | AZ83: 44920
A84: 5500 | B84: 088 | C84: 4502255878 | D84: ZFO | F84: 44899 | G84: 44927 | H84: 45291 | I84: טל רחמאני | J84: 20000141 | K84: עירית נשר | L84: 500225008 | M84: 3 | N84: 10346.6 | O84: ILS | P84: 10346.6 | Q84: 500 | R84: 95.17 | S84: ILS | T84: 0 | U84: 9846.6 | V84: 500 | X84: הידרומטריה צפון - נשר תשלום ארנונה לשנת 2023, ההז | Z84: @FM@ | AB84: 5500 | AC84: בנא"מ | AD84: 0 | AE84: 90 | AH84: 10346.6 | AI84: להציג בפורטל | AJ84: X | AK84: 028037448 | AL84: ספי ביבי | AM84: 305017030 | AN84: ארנונה נשר | AO84: מסמך מאושר | AP84: 0045 | AT84: 0.00 | AY84: 0.00 | AZ84: 44903
A85: 5500 | B85: 088 | C85: 4502255893 | D85: ZFO | F85: 44899 | G85: 44927 | H85: 45291 | I85: טל רחמאני | J85: 20000232 | K85: מ. א. שומרון | L85: 500273727 | M85: 3 | N85: 4955.16 | O85: ILS | P85: 4955.16 | Q85: 131.16 | R85: 97.35 | S85: ILS | T85: 0 | U85: 4824 | V85: 131.16 | X85: תשלומי ארנונה למ.א. שומרון - משרדי צפ"א בברקן מבו | Z85: @FM@ | AB85: 5500 | AC85: בנא"מ | AD85: 0 | AE85: 90 | AH85: 4955.16 | AI85: להציג בפורטל | AJ85: X | AK85: 028037448 | AL85: ספי ביבי | AM85: 305017030 | AN85: ארנונה ברקן | AO85: מסמך מאושר | AP85: 0027 | AT85: 0.00 | AY85: 0.00 | AZ85: 44903
A86: 5500 | B86: 088 | C86: 4502255916 | D86: ZFO | F86: 44899 | G86: 44927 | H86: 45291 | I86: טל רחמאני | J86: 20000001 | K86: מ. מ. ראש פינה | M86: 3 | N86: 25000 | O86: ILS | P86: 25000 | Q86: 625.4 | R86: 97.5 | S86: ILS | T86: 0 | U86: 24374.6 | V86: 625.4 | X86: תשלומי ארנונה למועצה האזורית ראש פינה עבור הנכס ב | Z86: @FM@ | AB86: 5500 | AC86: בנא"מ | AD86: 0 | AE86: 90 | AH86: 25000 | AI86: להציג בפורטל | AJ86: X | AK86: 028037448 | AL86: ספי ביבי | AM86: 305017030 | AN86: ארנונה צח"ר | AO86: מסמך מאושר | AP86: 0045 | AT86: 0.00 | AY86: 0.00 | AZ86: 44903
A87: 5500 | B87: 088 | C87: 4502255930 | D87: ZFO | F87: 44899 | G87: 44927 | H87: 45291 | I87: טל רחמאני | J87: 20000254 | K87: עירית באר שבע | L87: 500290002 | M87: 3 | N87: 39463 | O87: ILS | P87: 39463 | Q87: 33101.83 | R87: 16.12 | S87: ILS | T87: 0 | U87: 6361.17 | V87: 33101.83 | X87: תשלומי ארנונה עיריית ב"ש עבור בית נועם לשנת 2023 | Z87: @FM@ | AB87: 5500 | AC87: בנא"מ | AD87: 0 | AE87: 90 | AH87: 39463 | AI87: להציג בפורטל | AJ87: X | AK87: 028037448 | AL87: ספי ביבי | AM87: 305017030 | AN87: ארנונה באר שבע | AO87: מסמך מאושר | AP87: 0045 | AT87: 0.00 | AY87: 0.00 | AZ87: 44903
A88: 5500 | B88: 088 | C88: 4502255950 | D88: ZFO | F88: 44899 | G88: 44927 | H88: 45016 | I88: טל רחמאני | J88: 20000159 | K88: עירית ירושלים | L88: 500230008 | M88: 3 | N88: 1874039.3 | O88: ILS | P88: 1874039.3 | Q88: 0 | R88: 100 | S88: ILS | T88: 0 | U88: 1874039.4 | V88: 0 | X88: ארנונה לבניין ג'נרי 2023 (סכום שנתי1,832,102.86 3 | Z88: @FM@ | AB88: 5500 | AC88: בנא"מ | AD88: 0 | AE88: 90 | AH88: 1874039.3 | AI88: לא רלוונטי לפורטל | AJ88: X | AK88: 028037448 | AL88: ספי ביבי | AM88: 305017030 | AN88: ארנונה עבור בניין + חניות ג'נרי לשנת 2023 | AO88: מסמך מאושר | AP88: 0030 | AT88: 0.00 | AY88: 0.00 | AZ88: 44923
A89: 5500 | B89: 088 | C89: 4502255978 | D89: ZFO | F89: 44899 | G89: 44927 | H89: 45107 | I89: טל רחמאני | J89: 40003408 | K89: אנרג'י - מערכי אנרגיה לירושלים | L89: 550017644 | M89: 3 | N89: 477934.77 | O89: ILS | P89: 477934.77 | Q89: 388344.77 | R89: 18.75 | S89: ILS | T89: 0 | U89: 89590 | V89: 388344.77 | X89: תשלום עבור חיובי מים וחשמל בניין ג'נרי 2 ירושלים | Z89: @FM@ | AB89: 5500 | AC89: בנא"מ | AD89: 0 | AE89: 90 | AH89: 408491.26 | AI89: להציג בפורטל | AJ89: X | AK89: 028037448 | AL89: ספי ביבי | AM89: 305017030 | AN89: חיובי מים וחשמל בניין ג'נרי 2 ירושלים לשנת 2023 | AO89: מסמך מאושר | AP89: 0030 | AT89: 0.00 | AY89: 0.00 | AZ89: 44924
A90: 5500 | B90: 088 | C90: 4502256043 | D90: ZA | E90: בנא"מ | F90: 44899 | G90: 44927 | H90: 45291 | I90: ספי ביבי | J90: 41049139 | K90: אי.או.אס פתרונות משרד מתקדמים בע"מ | L90: 515031177 | M90: 3 | N90: 4234.23 | O90: ILS | P90: 4234.23 | Q90: 1454.31 | R90: 65.65 | S90: ILS | T90: 2779.92 | U90: 2779.92 | V90: 1454.31 | X90: רכישת שירות שנתי למכונת ביול ואספקת חלפים בהתאם ל | Z90: @FM@ | AB90: 5500 | AD90: 0 | AE90: 23 | AF90: 57 | AH90: 3619 | AI90: להציג בפורטל | AJ90: X | AK90: 028037448 | AL90: ספי ביבי | AM90: 028037448 | AN90: שרות למכונת ביול | AO90: מסמך מאושר | AP90: 0045 | AT90: 0.00 | AY90: 0.00 | AZ90: 44903
A91: 5500 | B91: 088 | C91: 4502256103 | D91: ZPFC | F91: 44899 | G91: 44927 | H91: 45291 | I91: ספי ביבי | J91: 40001108 | K91: בינת תקשורת מחשבים בע"מ | L91: 510713407 | M91: 3 | N91: 152221.68 | O91: ILS | P91: 152221.68 | Q91: 126892.7 | R91: 16.64 | S91: ILS | T91: 25328.96 | U91: 25328.98 | V91: 126892.69 | X91: אספקת שירותי תקשורת מנוהלים עבור מערכת טלפונייה. | Z91: @FM@ | AA91: 49,175.30 | AB91: 5500 | AD91: 0 | AE91: 07 | AG91: 4400000549 | AH91: 130104 | AI91: להציג בפורטל | AJ91: X | AK91: 028037448 | AL91: ספי ביבי | AM91: 028037448 | AN91: אספקת שירותי תקשורת מנוהלים - עבור מערכת טלפוניה | AO91: מסמך מאושר | AP91: 0045 | AT91: 0.00 | AY91: 0.00 | AZ91: 44923
A92: 5500 | B92: 088 | C92: 4502256284 | D92: ZFO | F92: 44899 | G92: 44927 | H92: 45291 | I92: טל רחמאני | J92: 40001579 | K92: חברת החשמל לישראל בעמ | L92: 520000472 | M92: 3 | N92: 49999.95 | O92: ILS | P92: 49999.95 | Q92: 48509.35 | R92: 2.98 | S92: ILS | T92: 0 | U92: 1490.6 | V92: 48509.35 | X92: תשלומים שוטפים עבור צריכת חשמל במשרדי רשות המים ל | Z92: @FM@ | AB92: 5500 | AC92: בנא"מ | AD92: 0 | AE92: 90 | AH92: 42735 | AI92: להציג בפורטל | AJ92: X | AK92: 028037448 | AL92: ספי ביבי | AM92: 305017030 | AN92: חשמל אתרי הרשות | AO92: מסמך מאושר | AP92: 0045 | AT92: 0.00 | AY92: 0.00 | AZ92: 44903
A93: 5500 | B93: 088 | C93: 4502256306 | D93: ZA | F93: 44899 | G93: 44927 | H93: 45107 | I93: טל רחמאני | J93: 41111486 | K93: אלייד - ג'נרי 2 בע"מ | L93: 514961853 | M93: 3 | N93: 834995.03 | O93: ILS | P93: 834995.03 | Q93: 417497.51 | R93: 50 | S93: ILS | T93: 417497.51 | U93: 417497.51 | V93: 417497.51 | X93: דמי ניהול ניקיון, אבטחה ושירותים נוספים לבניין ג' | Z93: @FM@ | AB93: 5500 | AC93: בנא"מ | AD93: 0 | AE93: 23 | AF93: 01 | AH93: 713670.96 | AI93: להציג בפורטל | AJ93: X | AK93: 028037448 | AL93: ספי ביבי | AM93: 305017030 | AN93: דמי ניהול ניקיון, אבטחה ושירותים נוספים לבניין ג'נרי 2023 | AO93: מסמך מאושר | AP93: 0045 | AT93: 0.00 | AY93: 0.00 | AZ93: 44978
A94: 5500 | B94: 089 | C94: 4502256369 | D94: ZA | E94: מערכות מידע | F94: 44899 | G94: 44941 | H94: 45671 | I94: הדס סעידיאן | J94: 40009306 | K94: קומסיין בע"מ | L94: 512961293 | M94: 3 | N94: 5392.41 | O94: ILS | P94: 5392.41 | Q94: 0 | R94: 98.97 | S94: ILS | T94: 5392.41 | U94: 5398.73 | V94: 0 | X94: חידוש רישוי SSL JAVA. רפרנט: ליאור שמש שריון: 100 | Y94: X | Z94: @FM@ | AB94: 5500 | AC94: ליאור שמש | AD94: 0 | AE94: 23 | AF94: 57 | AH94: 4608.9 | AI94: להציג בפורטל | AJ94: X | AK94: 034564617 | AL94: ליאור שמש | AM94: 315224006 | AN94: חידוש רישוי SSL JAVA | AO94: מסמך מאושר | AP94: 0045 | AT94: 0.00 | AY94: 0.00 | AZ94: 44903
A95: 5500 | B95: 088 | C95: 4502256430 | D95: ZFO | F95: 44899 | G95: 44927 | H95: 45291 | I95: ספי ביבי | J95: 40001174 | K95: פלאפון תקשורת בע"מ | L95: 511076572 | M95: 3 | N95: 190685 | O95: ILS | P95: 190685 | Q95: 175852.33 | R95: 7.78 | S95: ILS | T95: 0 | U95: 14832.67 | V95: 175852.33 | X95: שירותי סלולאר עבור עובדי רשות המים - שימוש שוטף; | Z95: @FM@ | AB95: 5500 | AD95: 0 | AE95: 07 | AH95: 164102.52 | AI95: להציג בפורטל | AJ95: X | AK95: 028037448 | AL95: ספי ביבי | AM95: 028037448 | AN95: שירותי סלולאר עבור עובדי רשות המים | AO95: מסמך מאושר | AP95: 0045 | AT95: 0.00 | AY95: 0.00 | AZ95: 44923
A96: 5500 | B96: 088 | C96: 4502256531 | D96: ZFO | F96: 44899 | G96: 44927 | H96: 45291 | I96: טל רחמאני | J96: 40003393 | K96: ענבל חברה לביטוח בע"מ-מקבל הלואות | L96: 520031030 | M96: 3 | N96: 197000 | O96: ILS | P96: 197000 | Q96: 197000 | R96: 0 | S96: ILS | T96: 0 | U96: 0 | V96: 197000 | X96: *** בכפוף להוראת תכ"ם ה.4.1.0.1 ביטוח ענבל לשנת 2 | Z96: @FM@ | AB96: 5500 | AC96: בנא"מ | AD96: 0 | AE96: 85 | AH96: 197000 | AI96: להציג בפורטל | AJ96: X | AK96: 028037448 | AL96: ספי ביבי | AM96: 305017030 | AN96: ביטוח מבנים + עובדים לשנת 2023 | AO96: מסמך מאושר | AP96: 0045 | AT96: 0.00 | AY96: 0.00 | AZ96: 44906
A97: 5500 | B97: 088 | C97: 4502256548 | D97: ZFO | F97: 44899 | G97: 44927 | H97: 45291 | I97: טל רחמאני | J97: 40333585 | K97: קבוצת כרמלטון בע"מ | L97: 512542721 | M97: 3 | N97: 700 | O97: ILS | P97: 700 | Q97: 700 | R97: 0 | S97: ILS | T97: 0 | U97: 0 | V97: 700 | X97: נסיעת רכב ממשלתי (רכבי איגום ורכב מנכ"ל בלבד) הור | Z97: @FM@ | AB97: 5500 | AC97: בנא"מ | AD97: 0 | AE97: 07 | AH97: 598.29 | AI97: לא רלוונטי לפורטל | AM97: 305017030 | AN97: מנהרות הכרמל לשנת 2023 | AO97: מסמך מאושר | AP97: 0045 | AT97: 0.00 | AY97: 0.00 | AZ97: 44903
A98: 5500 | B98: 088 | C98: 4502256556 | D98: ZA | F98: 44899 | G98: 44927 | H98: 45291 | I98: טל רחמאני | J98: 40427007 | K98: ח.נ. טכניק מרכז לאספקה בע"מ | L98: 514062736 | M98: 3 | N98: 1106.02 | O98: ILS | P98: 1106.02 | Q98: 0 | R98: 100 | S98: ILS | T98: 1106.02 | U98: 1106.02 | V98: 0 | X98: רכישת מים כחולים לרכבי רשות המים ע"פ הצעת מחיר מי | Z98: @FM@ | AB98: 5500 | AC98: בנא"מ | AD98: 0 | AE98: 23 | AF98: 57 | AH98: 945.32 | AI98: לא רלוונטי לפורטל | AM98: 305017030 | AN98: רכישת מים כחולים לרכבי רשות המים לשנת 2023 | AO98: מסמך מאושר | AP98: 0045 | AT98: 0.00 | AY98: 0.00 | AZ98: 44903
A99: 5500 | B99: 088 | C99: 4502256566 | D99: ZFO | F99: 44899 | G99: 44927 | H99: 45291 | I99: טל רחמאני | J99: 10000160 | K99: משרד התחבורה | M99: 3 | N99: 128000 | O99: ILS | P99: 128000 | Q99: 108877 | R99: 14.94 | S99: ILS | T99: 0 | U99: 19123 | V99: 108877 | X99: אגרת רישוי לרכבי רשות המים לשנת 2023 חיוב ע"י משר | Z99: @FM@ | AB99: 5500 | AC99: בנא"מ | AD99: 0 | AE99: 85 | AH99: 128000 | AI99: לא רלוונטי לפורטל | AM99: 305017030 | AN99: אגרת רכב 2023 | AO99: מסמך מאושר | AP99: 0030 | AT99: 0.00 | AY99: 0.00 | AZ99: 44923
A100: 5500 | B100: 088 | C100: 4502256577 | D100: ZFO | F100: 44899 | G100: 44927 | H100: 45291 | I100: טל רחמאני | J100: 40413627 | K100: פנגו פיי אנד גו בע"מ | L100: 514020015 | M100: 3 | N100: 47652.3 | O100: ILS | P100: 47652.3 | Q100: 39764.12 | R100: 16.55 | S100: ILS | T100: 0 | U100: 7888.18 | V100: 39764.12 | X100: פנגו שירותי חניה עבור רכבי רשות המים לשנת 2023 הה | Z100: @FM@ | AB100: 5500 | AC100: בנא"מ | AD100: 0 | AE100: 23 | AF100: 57 | AH100: 42735.04 | AI100: להציג בפורטל | AJ100: X | AK100: 028037448 | AL100: ספי ביבי | AM100: 305017030 | AN100: פנגו שירותי חניה עבור רכבי רשות המים לשנת 2023 | AO100: מסמך מאושר | AP100: 0045 | AT100: 0.00 | AY100: 0.00 | AZ100: 44910
...

Sheet גיליון4
