Workbook

Sheet חופש מידע
A1: הזמנה רגישה | B1: שם חברה | C1: תאור של ארגון רכש | D1: שם אתר | E1: תקנה תקציבית | F1: תיאור תקנה תקציבית | G1: הזמנת רכש | H1: מטרת התקשרות | I1: תאריך יצירת ההזמנה | J1: סיום תקופת תוקף | K1: קוד ספק | L1: שם הספק | M1: מספר ח"פ | N1: ערך ההזמנה כולל מע"מ | O1: מטבע | P1: ביצוע חשבוניות מצטבר כולל מע"מ והצמדות | Q1: ביצוע חשבוניות לתקופת הדוח' במטבע מקומי | R1: מטבע חשבונית | S1: אופן רכישה מקור | T1: מס' פנייה במנו"ף/מנור" | U1: סיבת פטור | V1: תאריך מימוש אופציה | W1: מספר פניית מימוש אופציה | X1: סכום אופציה במטבע מקומי | Y1: סכום אופציה מצטבר במטבע מקומי | Z1: תאריך התקשרות המשך | AA1: סיבת התקשרות המשך | AB1: מספר פניית התקשרות המשך | AC1: סכום התקשרות המשך במטבע מקומי | AD1: סכום התקשרות מצטבר במטבע מקומי | AE1: תאור סיבת רגישות | AF1: קבוצת רכש
A2: לא | B2: רוה"מ | C2: משרד ראש הממשלה | D2: משרד ראש הממשלה | E2: 04510110 | F2: פעולות | G2: 4501244458 | H2: תפעול ותחזוקה | I2: 42548 | J2: 44006 | K2: 40005160 | L2: סומך חייקין | M2: 540002383 | N2: 245045.97 | O2: ILS | P2: 99567 | Q2: 0 | R2: ILS | S2: תקנה 14ב - מכרז מרכזי | T2: 528639 | X2: 0.00 | Y2: 0.00 | AC2: 0.00 | AD2: 0.00 | AE2: לא רגיש | AF2: =VLOOKUP(G2,[1]הזמנות!A:B,2,0) -> G02 | AG2: =VLOOKUP(AF2,'[1]קבוצות רכש'!A:B,2,0) -> רוה"מ יחידת רכש
A3: לא | B3: רוה"מ | C3: משרד ראש הממשלה | D3: משרד ראש הממשלה | E3: 04510110 | F3: פעולות | G3: 4501305562 | H3: שירותי יעוץ | I3: 42689 | J3: 43053 | K3: 40040171 | L3: שלוסר אנליה לאורה | N3: 47501.06 | O3: ILS | P3: 0 | Q3: 0 | S3: פטור ממכרז | U3: תקנה 3(1) - התקשרות ששוויה אינה עולה על 50,000 ש"ח | X3: 0.00 | Y3: 0.00 | AC3: 0.00 | AD3: 0.00 | AE3: לא רגיש | AF3: =VLOOKUP(G3,[1]הזמנות!A:B,2,0) -> G04 | AG3: =VLOOKUP(AF3,'[1]קבוצות רכש'!A:B,2,0) -> רוה"מ חוזים,יועצים
A4: לא | B4: רוה"מ | C4: משרד ראש הממשלה | D4: משרד ראש הממשלה | E4: 04510110 | F4: פעולות | G4: 4501349381 | H4: הוצאות קשיחות | I4: 42758 | J4: 43100 | K4: 40003288 | L4: ג.ט.י. הגן הטכנולוגי ירושלים בע"מ | M4: 511590275 | N4: 2115.71 | O4: ILS | P4: 611.01 | Q4: 0 | R4: ILS | S4: פטור ממכרז | T4: אין פניה במנוף | U4: תקנה 3(29) - ספק יחיד | X4: 0.00 | Y4: 0.00 | AC4: 0.00 | AD4: 0.00 | AE4: לא רגיש | AF4: =VLOOKUP(G4,[1]הזמנות!A:B,2,0) -> G04 | AG4: =VLOOKUP(AF4,'[1]קבוצות רכש'!A:B,2,0) -> רוה"מ חוזים,יועצים
A5: לא | B5: רוה"מ | C5: משרד ראש הממשלה | D5: משרד ראש הממשלה | E5: 04510110 | F5: פעולות | G5: 4501351401 | H5: הוצאות תפעול | I5: 42761 | J5: 44196 | K5: 40238786 | L5: גאריביאן גרשון | M5: 055634687 | N5: 50000 | O5: ILS | P5: 47828.19 | Q5: 0 | R5: ILS | S5: פטור ממכרז | U5: תקנה 3(1) - התקשרות ששוויה אינה עולה על 50,000 ש"ח | X5: 0.00 | Y5: 0.00 | AC5: 0.00 | AD5: 0.00 | AE5: לא רגיש | AF5: =VLOOKUP(G5,[1]הזמנות!A:B,2,0) -> G02 | AG5: =VLOOKUP(AF5,'[1]קבוצות רכש'!A:B,2,0) -> רוה"מ יחידת רכש
A6: לא | B6: רוה"מ | C6: משרד ראש הממשלה | D6: משרד ראש הממשלה | E6: 04510110 | F6: פעולות | G6: 4501399702 | H6: תרגום | I6: 42862 | J6: 43710 | K6: 41344031 | L6: איי.בי.סי מילה תרגומים בע"מ | M6: 515264869 | N6: 209664 | O6: ILS | P6: 54890.23 | Q6: 0 | R6: ILS | S6: תקנה 1ב - מכרז פומבי רגיל | T6: 577631 | X6: 0.00 | Y6: 0.00 | AC6: 0.00 | AD6: 0.00 | AE6: לא רגיש | AF6: =VLOOKUP(G6,[1]הזמנות!A:B,2,0) -> G02 | AG6: =VLOOKUP(AF6,'[1]קבוצות רכש'!A:B,2,0) -> רוה"מ יחידת רכש
A7: לא | B7: רוה"מ | C7: משרד ראש הממשלה | D7: משרד ראש הממשלה | E7: 04510110 | F7: פעולות | G7: 4501462491 | H7: השכרת אולם לצורך כנס צוערים | I7: 42984 | K7: 40140406 | L7: שלוה - האגודה הישראלית לטיפול באנשי | M7: 580173987 | N7: 3000 | O7: ILS | P7: 0 | Q7: 0 | S7: פטור ממכרז | U7: תקנה 3(1) - התקשרות ששוויה אינה עולה על 50,000 ש"ח | X7: 0.00 | Y7: 0.00 | AC7: 0.00 | AD7: 0.00 | AE7: לא רגיש | AF7: =VLOOKUP(G7,[1]הזמנות!A:B,2,0) -> G02 | AG7: =VLOOKUP(AF7,'[1]קבוצות רכש'!A:B,2,0) -> רוה"מ יחידת רכש
A8: לא | B8: רוה"מ | C8: משרד ראש הממשלה | D8: משרד ראש הממשלה | E8: 04510110 | F8: פעולות | G8: 4501482424 | H8: תחזוקת הר הרצל | I8: 43033 | J8: 43465 | K8: 40000247 | L8: ההסתדרות הציונית העולמית | M8: 500500350 | N8: 454550 | O8: ILS | P8: 378080.65 | Q8: 0 | R8: ILS | S8: פטור ממכרז | T8: 9999 | U8: תקנה 3(19)(א) - הסוכנות היהודית או ההסתדרות הציונית | X8: 0.00 | Y8: 0.00 | AC8: 0.00 | AD8: 0.00 | AE8: לא רגיש | AF8: =VLOOKUP(G8,[1]הזמנות!A:B,2,0) -> G01 | AG8: =VLOOKUP(AF8,'[1]קבוצות רכש'!A:B,2,0) -> הוצאות קשיחות
A9: לא | B9: רוה"מ | C9: משרד ראש הממשלה | D9: משרד ראש הממשלה | E9: 04510110 | F9: פעולות | G9: 4501517266 | H9: חניות לעובדים ואורחים-פנ"צ | I9: 43086 | J9: 43539 | K9: 40003496 | L9: כלכלית ירושלים בע"מ | M9: 520017070 | N9: 28486.46 | O9: ILS | P9: 13123.53 | Q9: 0 | R9: ILS | S9: פטור ממכרז | U9: תקנה 3(1) - התקשרות ששוויה אינה עולה על 50,000 ש"ח | X9: 0.00 | Y9: 0.00 | AC9: 0.00 | AD9: 0.00 | AE9: לא רגיש | AF9: =VLOOKUP(G9,[1]הזמנות!A:B,2,0) -> G02 | AG9: =VLOOKUP(AF9,'[1]קבוצות רכש'!A:B,2,0) -> רוה"מ יחידת רכש
A10: לא | B10: רוה"מ | C10: משרד ראש הממשלה | D10: משרד ראש הממשלה | E10: 04510110 | F10: פעולות | G10: 4501522495 | H10: שירותי תחזוקה | I10: 43096 | J10: 43146 | K10: 40003388 | L10: שיקום ולפתוח הרובע היהודי בעיר העתי | M10: 520028127 | N10: 89524.49 | O10: ILS | P10: 41016.69 | Q10: 0 | R10: ILS | S10: פטור ממכרז | T10: 609572 | U10: תקנה 3(29) - ספק יחיד | X10: 0.00 | Y10: 0.00 | AC10: 0.00 | AD10: 0.00 | AE10: לא רגיש | AF10: =VLOOKUP(G10,[1]הזמנות!A:B,2,0) -> G02 | AG10: =VLOOKUP(AF10,'[1]קבוצות רכש'!A:B,2,0) -> רוה"מ יחידת רכש
A11: לא | B11: רוה"מ | C11: משרד ראש הממשלה | D11: משרד ראש הממשלה | E11: 04510110 | F11: פעולות | G11: 4501526264 | H11: שרותי ייעוץ | I11: 43107 | J11: 44085 | K11: 40314838 | L11: בריטמן אלמגור זוהר | M11: 557934692 | N11: 310248.9 | O11: ILS | P11: 111933 | Q11: 0 | R11: ILS | S11: תקנה 3ג - מימוש זכות ברירה | X11: 0.00 | Y11: 0.00 | AC11: 0.00 | AD11: 0.00 | AE11: לא רגיש | AF11: =VLOOKUP(G11,[1]הזמנות!A:B,2,0) -> G02 | AG11: =VLOOKUP(AF11,'[1]קבוצות רכש'!A:B,2,0) -> רוה"מ יחידת רכש
A12: לא | B12: רוה"מ | C12: משרד ראש הממשלה | D12: משרד ראש הממשלה | E12: 04510110 | F12: פעולות | G12: 4501528418 | H12: נסיעות חול | I12: 43110 | K12: 41003244 | L12: משרד סוכנות/האוצר נסיעות ממשלתית | M12: 500107321 | N12: 3048.42 | O12: ILS | P12: 3048.42 | Q12: 0 | R12: ILS | S12: התקשרות עם גופים ממשלתיים | X12: 0.00 | Y12: 0.00 | AC12: 0.00 | AD12: 0.00 | AE12: לא רגיש | AF12: =VLOOKUP(G12,[1]הזמנות!A:B,2,0) -> G03 | AG12: =VLOOKUP(AF12,'[1]קבוצות רכש'!A:B,2,0) -> רוה"מ נסיעות לחו"ל
A13: לא | B13: רוה"מ | C13: משרד ראש הממשלה | D13: משרד ראש הממשלה | E13: 04510110 | F13: פעולות | G13: 4501575342 | H13: שרותי ייעוץ | I13: 43206 | J13: 43934 | K13: 41382414 | L13: מתאם - לפיתוח משאבי אנוש בארגונים ח | M13: 580527992 | N13: 43000 | O13: ILS | P13: 41172.5 | Q13: 0 | R13: ILS | S13: פטור ממכרז | U13: תקנה 3(1) - התקשרות ששוויה אינה עולה על 50,000 ש"ח | X13: 0.00 | Y13: 0.00 | AC13: 0.00 | AD13: 0.00 | AE13: לא רגיש | AF13: =VLOOKUP(G13,[1]הזמנות!A:B,2,0) -> G02 | AG13: =VLOOKUP(AF13,'[1]קבוצות רכש'!A:B,2,0) -> רוה"מ יחידת רכש
A14: לא | B14: רוה"מ | C14: משרד ראש הממשלה | D14: משרד ראש הממשלה | E14: 04510110 | F14: פעולות | G14: 4501584430 | H14: נסיעות חו"ל | I14: 43226 | K14: 41003244 | L14: משרד סוכנות/האוצר נסיעות ממשלתית | M14: 500107321 | N14: 3371.2 | O14: ILS | P14: 3367.73 | Q14: 0 | R14: ILS | S14: התקשרות עם גופים ממשלתיים | X14: 0.00 | Y14: 0.00 | AC14: 0.00 | AD14: 0.00 | AE14: לא רגיש | AF14: =VLOOKUP(G14,[1]הזמנות!A:B,2,0) -> G03 | AG14: =VLOOKUP(AF14,'[1]קבוצות רכש'!A:B,2,0) -> רוה"מ נסיעות לחו"ל
A15: לא | B15: רוה"מ | C15: משרד ראש הממשלה | D15: משרד ראש הממשלה | E15: 04510110 | F15: פעולות | G15: 4501584523 | H15: נסיעות חו"ל | I15: 43226 | K15: 41003244 | L15: משרד סוכנות/האוצר נסיעות ממשלתית | M15: 500107321 | N15: 10967.4 | O15: ILS | P15: 10836.82 | Q15: 0 | R15: ILS | S15: התקשרות עם גופים ממשלתיים | X15: 0.00 | Y15: 0.00 | AC15: 0.00 | AD15: 0.00 | AE15: לא רגיש | AF15: =VLOOKUP(G15,[1]הזמנות!A:B,2,0) -> G03 | AG15: =VLOOKUP(AF15,'[1]קבוצות רכש'!A:B,2,0) -> רוה"מ נסיעות לחו"ל
A16: לא | B16: רוה"מ | C16: משרד ראש הממשלה | D16: משרד ראש הממשלה | E16: 04510110 | F16: פעולות | G16: 4501584548 | H16: נסיעות חו"ל | I16: 43226 | K16: 41003244 | L16: משרד סוכנות/האוצר נסיעות ממשלתית | M16: 500107321 | N16: 8816 | O16: ILS | P16: 8672.69 | Q16: 0 | R16: ILS | S16: התקשרות עם גופים ממשלתיים | X16: 0.00 | Y16: 0.00 | AC16: 0.00 | AD16: 0.00 | AE16: לא רגיש | AF16: =VLOOKUP(G16,[1]הזמנות!A:B,2,0) -> G03 | AG16: =VLOOKUP(AF16,'[1]קבוצות רכש'!A:B,2,0) -> רוה"מ נסיעות לחו"ל
A17: לא | B17: רוה"מ | C17: משרד ראש הממשלה | D17: משרד ראש הממשלה | E17: 04510110 | F17: פעולות | G17: 4501590909 | H17: נסיעות חו"ל | I17: 43241 | K17: 41003244 | L17: משרד סוכנות/האוצר נסיעות ממשלתית | M17: 500107321 | N17: 18015.72 | O17: ILS | P17: 18015.72 | Q17: 0 | R17: ILS | S17: התקשרות עם גופים ממשלתיים | X17: 0.00 | Y17: 0.00 | AC17: 0.00 | AD17: 0.00 | AE17: לא רגיש | AF17: =VLOOKUP(G17,[1]הזמנות!A:B,2,0) -> G03 | AG17: =VLOOKUP(AF17,'[1]קבוצות רכש'!A:B,2,0) -> רוה"מ נסיעות לחו"ל
A18: לא | B18: רוה"מ | C18: משרד ראש הממשלה | D18: משרד ראש הממשלה | E18: 04510110 | F18: פעולות | G18: 4501593074 | H18: נסיעות חו"ל | I18: 43244 | K18: 41003244 | L18: משרד סוכנות/האוצר נסיעות ממשלתית | M18: 500107321 | N18: 15148 | O18: ILS | P18: 9416.35 | Q18: 0 | R18: ILS | S18: התקשרות עם גופים ממשלתיים | X18: 0.00 | Y18: 0.00 | AC18: 0.00 | AD18: 0.00 | AE18: לא רגיש | AF18: =VLOOKUP(G18,[1]הזמנות!A:B,2,0) -> G03 | AG18: =VLOOKUP(AF18,'[1]קבוצות רכש'!A:B,2,0) -> רוה"מ נסיעות לחו"ל
A19: לא | B19: רוה"מ | C19: משרד ראש הממשלה | D19: משרד ראש הממשלה | E19: 04510110 | F19: פעולות | G19: 4501624242 | H19: שרותי ייעוץ | I19: 43312 | J19: 43865 | K19: 40005076 | L19: עדליא - ייעוץ כלכלי בע"מ | M19: 513238816 | N19: 12870 | O19: ILS | P19: 12870 | Q19: 0 | R19: ILS | S19: תקנה 1ב - מכרז פומבי רגיל | T19: 60080043 | X19: 0.00 | Y19: 0.00 | AC19: 0.00 | AD19: 0.00 | AE19: לא רגיש | AF19: =VLOOKUP(G19,[1]הזמנות!A:B,2,0) -> G02 | AG19: =VLOOKUP(AF19,'[1]קבוצות רכש'!A:B,2,0) -> רוה"מ יחידת רכש
A20: לא | B20: רוה"מ | C20: משרד ראש הממשלה | D20: משרד ראש הממשלה | E20: 04510110 | F20: פעולות | G20: 4501625269 | H20: שרותי ייעוץ | I20: 43313 | J20: 43865 | K20: 40005076 | L20: עדליא - ייעוץ כלכלי בע"מ | M20: 513238816 | N20: 20317.05 | O20: ILS | P20: 20317.06 | Q20: 0 | R20: ILS | S20: תקנה 1ב - מכרז פומבי רגיל | T20: 60080043 | X20: 0.00 | Y20: 0.00 | AC20: 0.00 | AD20: 0.00 | AE20: לא רגיש | AF20: =VLOOKUP(G20,[1]הזמנות!A:B,2,0) -> G02 | AG20: =VLOOKUP(AF20,'[1]קבוצות רכש'!A:B,2,0) -> רוה"מ יחידת רכש
A21: לא | B21: רוה"מ | C21: משרד ראש הממשלה | D21: משרד ראש הממשלה | E21: 04510110 | F21: פעולות | G21: 4501627808 | H21: פורטל מידע ממשלתי תחזוקה והקמה | I21: 43319 | J21: 44602 | K21: 40371942 | L21: פיונט טכנולוגיות בע"מ | M21: 512841016 | N21: 497804.91 | O21: ILS | P21: 13346.19 | Q21: 13346.19 | R21: ILS | S21: תקנה 14ב - מכרז מרכזי | T21: 577889 | X21: 0.00 | Y21: 0.00 | AC21: 0.00 | AD21: 0.00 | AE21: לא רגיש | AF21: =VLOOKUP(G21,[1]הזמנות!A:B,2,0) -> G06 | AG21: =VLOOKUP(AF21,'[1]קבוצות רכש'!A:B,2,0) -> רוה"מ טכנו' והמידע
A22: לא | B22: רוה"מ | C22: משרד ראש הממשלה | D22: משרד ראש הממשלה | E22: 04510110 | F22: פעולות | G22: 4501632390 | H22: דמי מנוי לעיתון | I22: 43328 | J22: 43465 | K22: 40176979 | L22: סטימצקי (2005) בע"מ | M22: 513742320 | N22: 735.15 | O22: ILS | P22: 0 | Q22: 0 | S22: פטור ממכרז | U22: תקנה 3(1) - התקשרות ששוויה אינה עולה על 50,000 ש"ח | X22: 0.00 | Y22: 0.00 | AC22: 0.00 | AD22: 0.00 | AE22: לא רגיש | AF22: =VLOOKUP(G22,[1]הזמנות!A:B,2,0) -> G02 | AG22: =VLOOKUP(AF22,'[1]קבוצות רכש'!A:B,2,0) -> רוה"מ יחידת רכש
A23: לא | B23: רוה"מ | C23: משרד ראש הממשלה | D23: משרד ראש הממשלה | E23: 04510110 | F23: פעולות | G23: 4501632462 | H23: הוצאות קשיחות - שירותי צפייה | I23: 43331 | J23: 43664 | K23: 40001490 | L23: די.בי.אס. שרותי לווין (1998) בע"מ | M23: 512705138 | N23: 2779.92 | O23: ILS | P23: 0 | Q23: 0 | R23: ILS | S23: פטור ממכרז | U23: תקנה 3(1) - התקשרות ששוויה אינה עולה על 50,000 ש"ח | X23: 0.00 | Y23: 0.00 | AC23: 0.00 | AD23: 0.00 | AE23: לא רגיש | AF23: =VLOOKUP(G23,[1]הזמנות!A:B,2,0) -> G01 | AG23: =VLOOKUP(AF23,'[1]קבוצות רכש'!A:B,2,0) -> הוצאות קשיחות
A24: לא | B24: רוה"מ | C24: משרד ראש הממשלה | D24: משרד ראש הממשלה | E24: 04510110 | F24: פעולות | G24: 4501648964 | H24: דמי מנוי לעיתון | I24: 43387 | J24: 43830 | K24: 40011446 | L24: ידיעות מינויים | M24: 540181054 | N24: 900 | O24: ILS | P24: 0 | Q24: 0 | S24: פטור ממכרז | U24: תקנה 3(1) - התקשרות ששוויה אינה עולה על 50,000 ש"ח | X24: 0.00 | Y24: 0.00 | AC24: 0.00 | AD24: 0.00 | AE24: לא רגיש | AF24: =VLOOKUP(G24,[1]הזמנות!A:B,2,0) -> G02 | AG24: =VLOOKUP(AF24,'[1]קבוצות רכש'!A:B,2,0) -> רוה"מ יחידת רכש
A25: לא | B25: רוה"מ | C25: משרד ראש הממשלה | D25: משרד ראש הממשלה | E25: 04510110 | F25: פעולות | G25: 4501651826 | H25: שירותי תמלול והקלדה | I25: 43391 | J25: 43830 | K25: 40005003 | L25: חבר תרגומים בע"מ | M25: 512892126 | N25: 50000 | O25: ILS | P25: 0 | Q25: 0 | S25: פטור ממכרז | U25: תקנה 3(1) - התקשרות ששוויה אינה עולה על 50,000 ש"ח | X25: 0.00 | Y25: 0.00 | AC25: 0.00 | AD25: 0.00 | AE25: לא רגיש | AF25: =VLOOKUP(G25,[1]הזמנות!A:B,2,0) -> G01 | AG25: =VLOOKUP(AF25,'[1]קבוצות רכש'!A:B,2,0) -> הוצאות קשיחות
A26: לא | B26: רוה"מ | C26: משרד ראש הממשלה | D26: משרד ראש הממשלה | E26: 04510110 | F26: פעולות | G26: 4501661479 | H26: שירותי כ"א | I26: 43411 | J26: 43830 | K26: 40003644 | L26: אס. קיו. לינק בע"מ | M26: 512042045 | N26: 636573.6 | O26: ILS | P26: 574248.54 | Q26: 0 | R26: ILS | S26: תקנה 14ב - מכרז מרכזי | T26: 537977 | X26: 0.00 | Y26: 0.00 | AC26: 0.00 | AD26: 0.00 | AE26: לא רגיש | AF26: =VLOOKUP(G26,[1]הזמנות!A:B,2,0) -> G06 | AG26: =VLOOKUP(AF26,'[1]קבוצות רכש'!A:B,2,0) -> רוה"מ טכנו' והמידע
A27: לא | B27: רוה"מ | C27: משרד ראש הממשלה | D27: משרד ראש הממשלה | E27: 04510110 | F27: פעולות | G27: 4501661679 | H27: שירותי כ"א | I27: 43411 | J27: 43830 | K27: 40001205 | L27: מטריקס אי. טי. מערכות מידע מתקדמות | M27: 511171662 | N27: 297648 | O27: ILS | P27: 274446.34 | Q27: 0 | R27: ILS | S27: תקנה 14ב - מכרז מרכזי | T27: 537977 | X27: 0.00 | Y27: 0.00 | AC27: 0.00 | AD27: 0.00 | AE27: לא רגיש | AF27: =VLOOKUP(G27,[1]הזמנות!A:B,2,0) -> G06 | AG27: =VLOOKUP(AF27,'[1]קבוצות רכש'!A:B,2,0) -> רוה"מ טכנו' והמידע
A28: לא | B28: רוה"מ | C28: משרד ראש הממשלה | D28: משרד ראש הממשלה | E28: 04510110 | F28: פעולות | G28: 4501662558 | H28: פעילות חברתית אגף כלכלה ותשתיות | I28: 43415 | J28: 43780 | K28: 41517045 | L28: נחום אוהד | M28: 040912586 | N28: 809.97 | O28: ILS | P28: 0 | Q28: 0 | S28: פטור ממכרז | U28: תקנה 3(1) - התקשרות ששוויה אינה עולה על 50,000 ש"ח | X28: 0.00 | Y28: 0.00 | AC28: 0.00 | AD28: 0.00 | AE28: לא רגיש | AF28: =VLOOKUP(G28,[1]הזמנות!A:B,2,0) -> G02 | AG28: =VLOOKUP(AF28,'[1]קבוצות רכש'!A:B,2,0) -> רוה"מ יחידת רכש
A29: לא | B29: רוה"מ | C29: משרד ראש הממשלה | D29: משרד ראש הממשלה | E29: 04510110 | F29: פעולות | G29: 4501663047 | H29: פעילות חברתית אגף כלכלה ותשתיות | I29: 43415 | J29: 43780 | K29: 40329386 | L29: קפית בגן (2008) בע"מ | M29: 514173863 | N29: 525.97 | O29: ILS | P29: 0 | Q29: 0 | S29: פטור ממכרז | U29: תקנה 3(1) - התקשרות ששוויה אינה עולה על 50,000 ש"ח | X29: 0.00 | Y29: 0.00 | AC29: 0.00 | AD29: 0.00 | AE29: לא רגיש | AF29: =VLOOKUP(G29,[1]הזמנות!A:B,2,0) -> G02 | AG29: =VLOOKUP(AF29,'[1]קבוצות רכש'!A:B,2,0) -> רוה"מ יחידת רכש
A30: לא | B30: רוה"מ | C30: משרד ראש הממשלה | D30: משרד ראש הממשלה | E30: 04510110 | F30: פעולות | G30: 4501665162 | H30: מיזם משותף - סטודנטים מהפריפריה | I30: 43418 | J30: 43710 | K30: 40000431 | L30: איסף - הקרן הבין-לאומית לחינוך | M30: 580074888 | N30: 1560250 | O30: ILS | P30: 1499501.9 | Q30: 0 | R30: ILS | S30: פטור ממכרז | T30: 620882 | U30: תקנה 3(30) - מיזם משותף | X30: 0.00 | Y30: 0.00 | AC30: 0.00 | AD30: 0.00 | AE30: לא רגיש | AF30: =VLOOKUP(G30,[1]הזמנות!A:B,2,0) -> G04 | AG30: =VLOOKUP(AF30,'[1]קבוצות רכש'!A:B,2,0) -> רוה"מ חוזים,יועצים
A31: לא | B31: רוה"מ | C31: משרד ראש הממשלה | D31: משרד ראש הממשלה | E31: 04510110 | F31: פעולות | G31: 4501669321 | H31: מחקרים למועצה הלאומית לכלכלה | I31: 43425 | J31: 44520 | K31: 41052601 | L31: מכון למחקר כלכלי על שם ד"ר ישעיהו פ | M31: 580007714 | N31: 2977989 | O31: ILS | P31: 338100 | Q31: 150500 | R31: ILS | S31: מכרז פומבי רגיל ממוכן | T31: 609276 | V31: 44156 | W31: 110 | X31: 2,181,000.00 | Y31: 4,362,000.00 | AC31: 0.00 | AD31: 0.00 | AE31: לא רגיש | AF31: =VLOOKUP(G31,[1]הזמנות!A:B,2,0) -> G04 | AG31: =VLOOKUP(AF31,'[1]קבוצות רכש'!A:B,2,0) -> רוה"מ חוזים,יועצים
A32: לא | B32: רוה"מ | C32: משרד ראש הממשלה | D32: משרד ראש הממשלה | E32: 04510110 | F32: פעולות | G32: 4501670202 | H32: יעוץ | I32: 43426 | J32: 43769 | K32: 41563845 | L32: ירון בלום בע"מ | M32: 514735653 | N32: 668179.98 | O32: ILS | P32: 590428.8 | Q32: 0 | R32: ILS | S32: תקנה 3ג - מימוש זכות ברירה | T32: 625036 | X32: 0.00 | Y32: 0.00 | AC32: 0.00 | AD32: 0.00 | AE32: לא רגיש | AF32: =VLOOKUP(G32,[1]הזמנות!A:B,2,0) -> G04 | AG32: =VLOOKUP(AF32,'[1]קבוצות רכש'!A:B,2,0) -> רוה"מ חוזים,יועצים
A33: לא | B33: רוה"מ | C33: משרד ראש הממשלה | D33: משרד ראש הממשלה | E33: 04510110 | F33: פעולות | G33: 4501675513 | H33: כתיבת נאומים | I33: 43437 | J33: 43830 | K33: 40960041 | L33: חריף חגי | M33: 023593239 | N33: 150000 | O33: ILS | P33: 118282.09 | Q33: 0 | R33: ILS | S33: תקנה 5(ג)(2) - התקשרות עם מומחה - בדיקת מס' הצעות | T33: 625034 | X33: 0.00 | Y33: 0.00 | AC33: 0.00 | AD33: 0.00 | AE33: לא רגיש | AF33: =VLOOKUP(G33,[1]הזמנות!A:B,2,0) -> G04 | AG33: =VLOOKUP(AF33,'[1]קבוצות רכש'!A:B,2,0) -> רוה"מ חוזים,יועצים
A34: לא | B34: רוה"מ | C34: משרד ראש הממשלה | D34: משרד ראש הממשלה | E34: 04510110 | F34: פעולות | G34: 4501680530 | H34: כתיבת מכרז מעליות | I34: 43444 | J34: 43865 | K34: 40005076 | N34: 15210 | O34: ILS | P34: 6084 | Q34: 0 | R34: ILS | S34: תקנה 1ב - מכרז פומבי רגיל | T34: 60080043 | X34: 0.00 | Y34: 0.00 | AC34: 0.00 | AD34: 0.00 | AE34: לא רגיש | AF34: =VLOOKUP(G34,[1]הזמנות!A:B,2,0) -> G04 | AG34: =VLOOKUP(AF34,'[1]קבוצות רכש'!A:B,2,0) -> רוה"מ חוזים,יועצים
A35: לא | B35: רוה"מ | C35: משרד ראש הממשלה | D35: משרד ראש הממשלה | E35: 04510110 | F35: פעולות | G35: 4501680634 | H35: נסיעת חול | I35: 43444 | K35: 41003244 | L35: משרד סוכנות/האוצר נסיעות ממשלתית | M35: 500107321 | N35: 1835 | O35: ILS | P35: 1828 | Q35: 0 | R35: ILS | S35: התקשרות עם גופים ממשלתיים | X35: 0.00 | Y35: 0.00 | AC35: 0.00 | AD35: 0.00 | AE35: לא רגיש | AF35: =VLOOKUP(G35,[1]הזמנות!A:B,2,0) -> G03 | AG35: =VLOOKUP(AF35,'[1]קבוצות רכש'!A:B,2,0) -> רוה"מ נסיעות לחו"ל
A36: לא | B36: רוה"מ | C36: משרד ראש הממשלה | D36: משרד ראש הממשלה | E36: 04510110 | F36: פעולות | G36: 4501680652 | H36: נסיעת חול | I36: 43444 | K36: 41003244 | L36: משרד סוכנות/האוצר נסיעות ממשלתית | M36: 500107321 | N36: 3046 | O36: ILS | P36: 3048 | Q36: 0 | R36: ILS | S36: התקשרות עם גופים ממשלתיים | X36: 0.00 | Y36: 0.00 | AC36: 0.00 | AD36: 0.00 | AE36: לא רגיש | AF36: =VLOOKUP(G36,[1]הזמנות!A:B,2,0) -> G03 | AG36: =VLOOKUP(AF36,'[1]קבוצות רכש'!A:B,2,0) -> רוה"מ נסיעות לחו"ל
A37: לא | B37: רוה"מ | C37: משרד ראש הממשלה | D37: משרד ראש הממשלה | E37: 04510110 | F37: פעולות | G37: 4501680668 | H37: נסיעת חול | I37: 43444 | K37: 41003244 | L37: משרד סוכנות/האוצר נסיעות ממשלתית | M37: 500107321 | N37: 9106.98 | O37: ILS | P37: 9067.01 | Q37: 0 | R37: ILS | S37: התקשרות עם גופים ממשלתיים | X37: 0.00 | Y37: 0.00 | AC37: 0.00 | AD37: 0.00 | AE37: לא רגיש | AF37: =VLOOKUP(G37,[1]הזמנות!A:B,2,0) -> G03 | AG37: =VLOOKUP(AF37,'[1]קבוצות רכש'!A:B,2,0) -> רוה"מ נסיעות לחו"ל
A38: לא | B38: רוה"מ | C38: משרד ראש הממשלה | D38: משרד ראש הממשלה | E38: 04510110 | F38: פעולות | G38: 4501683319 | H38: תחזוקת הר הרצל | I38: 43447 | J38: 43830 | K38: 40000247 | L38: ההסתדרות הציונית העולמית | M38: 500500350 | N38: 350000 | O38: ILS | P38: 252286.3 | Q38: 0 | R38: ILS | S38: פטור ממכרז | T38: 629415 | U38: תקנה 3(19)(א) - הסוכנות היהודית או ההסתדרות הציונית | X38: 0.00 | Y38: 0.00 | AC38: 0.00 | AD38: 0.00 | AE38: לא רגיש | AF38: =VLOOKUP(G38,[1]הזמנות!A:B,2,0) -> G04 | AG38: =VLOOKUP(AF38,'[1]קבוצות רכש'!A:B,2,0) -> רוה"מ חוזים,יועצים
A39: לא | B39: רוה"מ | C39: משרד ראש הממשלה | D39: משרד ראש הממשלה | E39: 04510110 | F39: פעולות | G39: 4501695466 | H39: שיתוף משאבי אנוש במסגרת מכרז שירותי יעוץ | I39: 43474 | J39: 44458 | K39: 40397632 | L39: מטריקס אי. טי. בע"מ | M39: 520039413 | N39: 173394 | O39: ILS | P39: 0 | Q39: 0 | S39: תקנה 14ב - מכרז מרכזי | T39: 552845 | V39: 44094 | W39: 654147 | X39: 1.00 | Y39: 1.00 | AC39: 0.00 | AD39: 0.00 | AE39: לא רגיש | AF39: =VLOOKUP(G39,[1]הזמנות!A:B,2,0) -> G04 | AG39: =VLOOKUP(AF39,'[1]קבוצות רכש'!A:B,2,0) -> רוה"מ חוזים,יועצים
A40: לא | B40: רוה"מ | C40: משרד ראש הממשלה | D40: משרד ראש הממשלה | E40: 04510110 | F40: פעולות | G40: 4501696572 | H40: חנית עובדים בגן הטכנולוגי | I40: 43475 | J40: 43830 | K40: 40003288 | L40: ג.ט.י. הגן הטכנולוגי ירושלים בע"מ | M40: 511590275 | N40: 56777.76 | O40: ILS | P40: 55161.99 | Q40: 0 | R40: ILS | S40: פטור ממכרז | T40: 627450 | U40: תקנה 3ג - מימוש זכות ברירה | X40: 0.00 | Y40: 0.00 | AC40: 0.00 | AD40: 0.00 | AE40: לא רגיש | AF40: =VLOOKUP(G40,[1]הזמנות!A:B,2,0) -> G04 | AG40: =VLOOKUP(AF40,'[1]קבוצות רכש'!A:B,2,0) -> רוה"מ חוזים,יועצים
A41: לא | B41: רוה"מ | C41: משרד ראש הממשלה | D41: משרד ראש הממשלה | E41: 04510110 | F41: פעולות | G41: 4501697417 | H41: מתנות | I41: 43478 | J41: 44561 | K41: 40004060 | L41: פרץ שלום חי | M41: 056761695 | N41: 3000 | O41: ILS | P41: 397.8 | Q41: 0 | R41: ILS | S41: פטור ממכרז | U41: תקנה 3(1) - התקשרות ששוויה אינה עולה על 50,000 ש"ח | X41: 0.00 | Y41: 0.00 | AC41: 0.00 | AD41: 0.00 | AE41: לא רגיש | AF41: =VLOOKUP(G41,[1]הזמנות!A:B,2,0) -> G02 | AG41: =VLOOKUP(AF41,'[1]קבוצות רכש'!A:B,2,0) -> רוה"מ יחידת רכש
A42: לא | B42: רוה"מ | C42: משרד ראש הממשלה | D42: משרד ראש הממשלה | E42: 04510110 | F42: פעולות | G42: 4501704117 | H42: פרויקט מחשב לכל ילד 2019 | I42: 43489 | J42: 43830 | K42: 40396456 | L42: המפעל הלאומי לפתוח חברתי | M42: 580231546 | N42: 3000000 | O42: ILS | P42: 2942983 | Q42: 0 | R42: ILS | S42: פטור ממכרז | T42: 636695 | U42: תקנה 3(4)(ב)(3) - התקשרות המשך באישור ועדת פטור מרכזית | X42: 0.00 | Y42: 0.00 | AC42: 0.00 | AD42: 0.00 | AE42: לא רגיש | AF42: =VLOOKUP(G42,[1]הזמנות!A:B,2,0) -> G01 | AG42: =VLOOKUP(AF42,'[1]קבוצות רכש'!A:B,2,0) -> הוצאות קשיחות
A43: לא | B43: רוה"מ | C43: משרד ראש הממשלה | D43: משרד ראש הממשלה | E43: 04510110 | F43: פעולות | G43: 4501714650 | H43: תשלום לחבר וועדה ציבורית | I43: 43509 | J43: 43830 | K43: 40571316 | L43: עתידים-אתגר ניהול קרנות בע"מ | M43: 512127978 | N43: 9874.8 | O43: ILS | P43: 2098.4 | Q43: 0 | R43: ILS | S43: פטור ממכרז | U43: תקנה 3(1) - התקשרות ששוויה אינה עולה על 50,000 ש"ח | X43: 0.00 | Y43: 0.00 | AC43: 0.00 | AD43: 0.00 | AE43: לא רגיש | AF43: =VLOOKUP(G43,[1]הזמנות!A:B,2,0) -> G02 | AG43: =VLOOKUP(AF43,'[1]קבוצות רכש'!A:B,2,0) -> רוה"מ יחידת רכש
A44: לא | B44: רוה"מ | C44: משרד ראש הממשלה | D44: משרד ראש הממשלה | E44: 04510110 | F44: פעולות | G44: 4501717313 | H44: ניהול ותחזוקה קשת רובינסון | I44: 43514 | J44: 43875 | K44: 40003388 | L44: שיקום ולפתוח הרובע היהודי בעיר העתי | M44: 520028127 | N44: 1982657.4 | O44: ILS | P44: 1846786.4 | Q44: 0 | R44: ILS | S44: פטור ממכרז | T44: 628301 | U44: תקנה 3(4)(ב)(3) - התקשרות המשך באישור ועדת פטור מרכזית | X44: 0.00 | Y44: 0.00 | AC44: 0.00 | AD44: 0.00 | AE44: לא רגיש | AF44: =VLOOKUP(G44,[1]הזמנות!A:B,2,0) -> G04 | AG44: =VLOOKUP(AF44,'[1]קבוצות רכש'!A:B,2,0) -> רוה"מ חוזים,יועצים
A45: לא | B45: רוה"מ | C45: משרד ראש הממשלה | D45: משרד ראש הממשלה | E45: 04510110 | F45: פעולות | G45: 4501725398 | H45: שירותי ביקורת | I45: 43530 | J45: 44620 | K45: 40005659 | L45: בן דוד שלוי קופ ושות' רואי חשבון (ב | M45: 513464842 | N45: 487071 | O45: ILS | P45: 301387.56 | Q45: 0 | R45: ILS | S45: תקנה 5(ג)(1) - התקשרות עם מומחה - פניה תחרותית להצעות | T45: לא בוצעה פניה | V45: 44256 | W45: 4000529908 | X45: 50,000.00 | Y45: 170,000.00 | AC45: 0.00 | AD45: 0.00 | AE45: לא רגיש | AF45: =VLOOKUP(G45,[1]הזמנות!A:B,2,0) -> G04 | AG45: =VLOOKUP(AF45,'[1]קבוצות רכש'!A:B,2,0) -> רוה"מ חוזים,יועצים
A46: לא | B46: רוה"מ | C46: משרד ראש הממשלה | D46: משרד ראש הממשלה | E46: 04510110 | F46: פעולות | G46: 4501730971 | H46: שירותי יעוץ | I46: 43542 | J46: 43903 | K46: 41500040 | L46: רד מארק | M46: 558002424 | N46: 36000.9 | O46: ILS | P46: 0 | Q46: 0 | S46: פטור ממכרז | T46: אין פניה במנוף | U46: תקנה 3(1) - התקשרות ששוויה אינה עולה על 50,000 ש"ח | X46: 0.00 | Y46: 0.00 | AC46: 0.00 | AD46: 0.00 | AE46: לא רגיש | AF46: =VLOOKUP(G46,[1]הזמנות!A:B,2,0) -> G04 | AG46: =VLOOKUP(AF46,'[1]קבוצות רכש'!A:B,2,0) -> רוה"מ חוזים,יועצים
A47: לא | B47: רוה"מ | C47: משרד ראש הממשלה | D47: משרד ראש הממשלה | E47: 04510110 | F47: פעולות | G47: 4501733000 | H47: כתיבת מכרז עבודות גינון | I47: 43545 | J47: 43865 | K47: 40005076 | L47: עדליא - ייעוץ כלכלי בע"מ | M47: 513238816 | N47: 25564.5 | O47: ILS | P47: 20475 | Q47: 0 | R47: ILS | S47: תקנה 1ב - מכרז פומבי רגיל | T47: 60080043 | X47: 0.00 | Y47: 0.00 | AC47: 0.00 | AD47: 0.00 | AE47: לא רגיש | AF47: =VLOOKUP(G47,[1]הזמנות!A:B,2,0) -> G04 | AG47: =VLOOKUP(AF47,'[1]קבוצות רכש'!A:B,2,0) -> רוה"מ חוזים,יועצים
A48: לא | B48: רוה"מ | C48: משרד ראש הממשלה | D48: משרד ראש הממשלה | E48: 04510110 | F48: פעולות | G48: 4501734770 | H48: רכישת פלאפון | I48: 43550 | J48: 43830 | K48: 40001174 | L48: פלאפון תקשורת בע"מ | M48: 511076572 | N48: 2998.99 | O48: ILS | P48: 0 | Q48: 0 | S48: פטור ממכרז | U48: תקנה 3(1) - התקשרות ששוויה אינה עולה על 50,000 ש"ח | X48: 0.00 | Y48: 0.00 | AC48: 0.00 | AD48: 0.00 | AE48: לא רגיש | AF48: =VLOOKUP(G48,[1]הזמנות!A:B,2,0) -> G02 | AG48: =VLOOKUP(AF48,'[1]קבוצות רכש'!A:B,2,0) -> רוה"מ יחידת רכש
A49: לא | B49: רוה"מ | C49: משרד ראש הממשלה | D49: משרד ראש הממשלה | E49: 04510110 | F49: פעולות | G49: 4501775772 | H49: שרותי תרגום | I49: 43649 | J49: 44561 | K49: 40005174 | L49: מנפאואר פתרונות שפה | M49: 540179223 | N49: 3000 | O49: ILS | P49: 789.61 | Q49: 0 | R49: ILS | S49: פטור ממכרז | U49: תקנה 3(1) - התקשרות ששוויה אינה עולה על 50,000 ש"ח | X49: 0.00 | Y49: 0.00 | AC49: 0.00 | AD49: 0.00 | AE49: לא רגיש | AF49: =VLOOKUP(G49,[1]הזמנות!A:B,2,0) -> G02 | AG49: =VLOOKUP(AF49,'[1]קבוצות רכש'!A:B,2,0) -> רוה"מ יחידת רכש
A50: לא | B50: רוה"מ | C50: משרד ראש הממשלה | D50: משרד ראש הממשלה | E50: 04510110 | F50: פעולות | G50: 4501779074 | H50: ביצוע מחקר | I50: 43656 | J50: 44356 | K50: 50001954 | L50: oecd/CEMT | M50: R3605/03711/4612 | N50: 60000 | O50: EUR | P50: 117858 | Q50: 0 | R50: EUR | S50: פטור ממכרז | T50: לא בוצעה פניה | U50: תקנה 3(31) - התקשרות עם תושב חוץ | X50: 0.00 | Y50: 0.00 | AC50: 0.00 | AD50: 0.00 | AE50: לא רגיש | AF50: =VLOOKUP(G50,[1]הזמנות!A:B,2,0) -> G04 | AG50: =VLOOKUP(AF50,'[1]קבוצות רכש'!A:B,2,0) -> רוה"מ חוזים,יועצים
A51: לא | B51: רוה"מ | C51: משרד ראש הממשלה | D51: משרד ראש הממשלה | E51: 04510110 | F51: פעולות | G51: 4501781245 | H51: נסיעות לחול אגף ממש וחברה נסיעה לציריך | I51: 43662 | K51: 41003244 | L51: משרד סוכנות/האוצר נסיעות ממשלתית | M51: 500107321 | N51: 6246.6 | O51: ILS | P51: 6246.6 | Q51: 0 | R51: ILS | S51: התקשרות עם גופים ממשלתיים | X51: 0.00 | Y51: 0.00 | AC51: 0.00 | AD51: 0.00 | AE51: לא רגיש | AF51: =VLOOKUP(G51,[1]הזמנות!A:B,2,0) -> G03 | AG51: =VLOOKUP(AF51,'[1]קבוצות רכש'!A:B,2,0) -> רוה"מ נסיעות לחו"ל
A52: לא | B52: רוה"מ | C52: משרד ראש הממשלה | D52: משרד ראש הממשלה | E52: 04510110 | F52: פעולות | G52: 4501781295 | H52: נסיעות לחול | I52: 43662 | K52: 41003244 | L52: משרד סוכנות/האוצר נסיעות ממשלתית | M52: 500107321 | N52: 19024.6 | O52: ILS | P52: 16235.14 | Q52: 0 | R52: ILS | S52: התקשרות עם גופים ממשלתיים | X52: 0.00 | Y52: 0.00 | AC52: 0.00 | AD52: 0.00 | AE52: לא רגיש | AF52: =VLOOKUP(G52,[1]הזמנות!A:B,2,0) -> G03 | AG52: =VLOOKUP(AF52,'[1]קבוצות רכש'!A:B,2,0) -> רוה"מ נסיעות לחו"ל
A53: לא | B53: רוה"מ | C53: משרד ראש הממשלה | D53: משרד ראש הממשלה | E53: 04510110 | F53: פעולות | G53: 4501791032 | H53: שירותי ביקורת ובקרה | I53: 43684 | J53: 44401 | K53: 40005659 | L53: בן דוד שלוי קופ ושות' רואי חשבון (ב | M53: 513464842 | N53: 819000.02 | O53: ILS | P53: 506017.32 | Q53: 60540.36 | R53: ILS | S53: תקנה 1ב - מכרז פומבי רגיל | T53: לא בוצעה פניה | V53: 44075 | W53: 652768 | X53: 614,250.00 | Y53: 819,000.00 | AC53: 0.00 | AD53: 0.00 | AE53: לא רגיש | AF53: =VLOOKUP(G53,[1]הזמנות!A:B,2,0) -> G04 | AG53: =VLOOKUP(AF53,'[1]קבוצות רכש'!A:B,2,0) -> רוה"מ חוזים,יועצים
A54: לא | B54: רוה"מ | C54: משרד ראש הממשלה | D54: משרד ראש הממשלה | E54: 04510110 | F54: פעולות | G54: 4501800690 | H54: כיבודים לפורום | I54: 43710 | J54: 43830 | K54: 40242807 | L54: מעדני אורי ובניו בע"מ | M54: 511635799 | N54: 1138.41 | O54: ILS | P54: 0 | Q54: 0 | S54: פטור ממכרז | U54: תקנה 3(1) - התקשרות ששוויה אינה עולה על 50,000 ש"ח | X54: 0.00 | Y54: 0.00 | AC54: 0.00 | AD54: 0.00 | AE54: לא רגיש | AF54: =VLOOKUP(G54,[1]הזמנות!A:B,2,0) -> G02 | AG54: =VLOOKUP(AF54,'[1]קבוצות רכש'!A:B,2,0) -> רוה"מ יחידת רכש
A55: לא | B55: רוה"מ | C55: משרד ראש הממשלה | D55: משרד ראש הממשלה | E55: 04510110 | F55: פעולות | G55: 4501802474 | H55: נסיעות חול | I55: 43713 | K55: 41003244 | L55: משרד סוכנות/האוצר נסיעות ממשלתית | M55: 500107321 | N55: 4404.58 | O55: ILS | P55: 4201.92 | Q55: 0 | R55: ILS | S55: התקשרות עם גופים ממשלתיים | X55: 0.00 | Y55: 0.00 | AC55: 0.00 | AD55: 0.00 | AE55: לא רגיש | AF55: =VLOOKUP(G55,[1]הזמנות!A:B,2,0) -> G03 | AG55: =VLOOKUP(AF55,'[1]קבוצות רכש'!A:B,2,0) -> רוה"מ נסיעות לחו"ל
A56: לא | B56: רוה"מ | C56: משרד ראש הממשלה | D56: משרד ראש הממשלה | E56: 04510110 | F56: פעולות | G56: 4501804119 | H56: מיזם משותף - סטודנטים מהפריפריה | I56: 43718 | J56: 44076 | K56: 40000431 | L56: איסף - הקרן הבין-לאומית לחינוך | M56: 580074888 | N56: 2557808 | O56: ILS | P56: 2211099.2 | Q56: 0 | R56: ILS | S56: פטור ממכרז | T56: 620882 | U56: תקנה 3(30) - מיזם משותף | X56: 0.00 | Y56: 0.00 | AC56: 0.00 | AD56: 0.00 | AE56: לא רגיש | AF56: =VLOOKUP(G56,[1]הזמנות!A:B,2,0) -> G04 | AG56: =VLOOKUP(AF56,'[1]קבוצות רכש'!A:B,2,0) -> רוה"מ חוזים,יועצים
A57: לא | B57: רוה"מ | C57: משרד ראש הממשלה | D57: משרד ראש הממשלה | E57: 04510110 | F57: פעולות | G57: 4501804561 | H57: הזמנת כיבוד- ישיבת מנהל עתודות לישראל | I57: 43719 | J57: 44196 | K57: 40242875 | L57: איכות קייטרינג שולץ 1997 בע"מ | M57: 512570649 | N57: 45.15 | O57: ILS | P57: 0 | Q57: 0 | S57: פטור ממכרז | U57: תקנה 3(1) - התקשרות ששוויה אינה עולה על 50,000 ש"ח | X57: 0.00 | Y57: 0.00 | AC57: 0.00 | AD57: 0.00 | AE57: לא רגיש | AF57: =VLOOKUP(G57,[1]הזמנות!A:B,2,0) -> G02 | AG57: =VLOOKUP(AF57,'[1]קבוצות רכש'!A:B,2,0) -> רוה"מ יחידת רכש
A58: לא | B58: רוה"מ | C58: משרד ראש הממשלה | D58: משרד ראש הממשלה | E58: 04510110 | F58: פעולות | G58: 4501806548 | H58: הנצחת רחבעם זאבי | I58: 43724 | J58: 44819 | K58: 20000232 | L58: מ. א. שומרון | M58: 500273727 | N58: 23222195 | O58: ILS | P58: 970911.75 | Q58: 970911.75 | R58: ILS | S58: פטור ממכרז | T58: 614587 | U58: תקנה 3(16) - רשות מקומית | X58: 0.00 | Y58: 0.00 | AC58: 0.00 | AD58: 0.00 | AE58: לא רגיש | AF58: =VLOOKUP(G58,[1]הזמנות!A:B,2,0) -> G04 | AG58: =VLOOKUP(AF58,'[1]קבוצות רכש'!A:B,2,0) -> רוה"מ חוזים,יועצים
A59: לא | B59: רוה"מ | C59: משרד ראש הממשלה | D59: משרד ראש הממשלה | E59: 04510110 | F59: פעולות | G59: 4501807136 | H59: נסיעות חול | I59: 43726 | K59: 41003244 | L59: משרד סוכנות/האוצר נסיעות ממשלתית | M59: 500107321 | N59: 1531.95 | O59: ILS | P59: 48.69 | Q59: 0 | R59: ILS | S59: התקשרות עם גופים ממשלתיים | X59: 0.00 | Y59: 0.00 | AC59: 0.00 | AD59: 0.00 | AE59: לא רגיש | AF59: =VLOOKUP(G59,[1]הזמנות!A:B,2,0) -> G03 | AG59: =VLOOKUP(AF59,'[1]קבוצות רכש'!A:B,2,0) -> רוה"מ נסיעות לחו"ל
A60: לא | B60: רוה"מ | C60: משרד ראש הממשלה | D60: משרד ראש הממשלה | E60: 04510110 | F60: פעולות | G60: 4501807184 | H60: שירותי הגברה | I60: 43726 | J60: 44092 | K60: 40207218 | L60: ספידי קול בע"מ | M60: 512828310 | N60: 525499.69 | O60: ILS | P60: 352784.25 | Q60: 0 | R60: ILS | S60: פטור ממכרז | T60: 639297 | U60: תקנה 3ג - מימוש זכות ברירה | X60: 0.00 | Y60: 0.00 | AC60: 0.00 | AD60: 0.00 | AE60: לא רגיש | AF60: =VLOOKUP(G60,[1]הזמנות!A:B,2,0) -> G04 | AG60: =VLOOKUP(AF60,'[1]קבוצות רכש'!A:B,2,0) -> רוה"מ חוזים,יועצים
A61: לא | B61: רוה"מ | C61: משרד ראש הממשלה | D61: משרד ראש הממשלה | E61: 04510110 | F61: פעולות | G61: 4501811959 | H61: שירותי מחקר | I61: 43741 | J61: 43860 | K61: 40125265 | L61: איי.וי.סי - ריסרצ' סנטר בע"מ | M61: 512765314 | N61: 25000 | O61: ILS | P61: 0 | Q61: 0 | R61: ILS | S61: פטור ממכרז | T61: אין פניה במנוף | U61: תקנה 3(1) - התקשרות ששוויה אינה עולה על 50,000 ש"ח | X61: 0.00 | Y61: 0.00 | AC61: 0.00 | AD61: 0.00 | AE61: לא רגיש | AF61: =VLOOKUP(G61,[1]הזמנות!A:B,2,0) -> G04 | AG61: =VLOOKUP(AF61,'[1]קבוצות רכש'!A:B,2,0) -> רוה"מ חוזים,יועצים
A62: לא | B62: רוה"מ | C62: משרד ראש הממשלה | D62: משרד ראש הממשלה | E62: 04510110 | F62: פעולות | G62: 4501821812 | H62: כיבוד+משלוח | I62: 43774 | J62: 43830 | K62: 40268465 | L62: מתוקה - מזון ואירוח בע"מ | M62: 512785205 | N62: 694.3 | O62: ILS | P62: 694.3 | Q62: 0 | R62: ILS | S62: פטור ממכרז | U62: תקנה 3(1) - התקשרות ששוויה אינה עולה על 50,000 ש"ח | X62: 0.00 | Y62: 0.00 | AC62: 0.00 | AD62: 0.00 | AE62: לא רגיש | AF62: =VLOOKUP(G62,[1]הזמנות!A:B,2,0) -> G02 | AG62: =VLOOKUP(AF62,'[1]קבוצות רכש'!A:B,2,0) -> רוה"מ יחידת רכש
A63: לא | B63: רוה"מ | C63: משרד ראש הממשלה | D63: משרד ראש הממשלה | E63: 04510110 | F63: פעולות | G63: 4501829369 | H63: שירותי כ"א | I63: 43788 | J63: 44196 | K63: 40003644 | L63: אס. קיו. לינק בע"מ | M63: 512042045 | N63: 646425 | O63: ILS | P63: 622357.31 | Q63: 0 | R63: ILS | S63: תקנה 14ב - מכרז מרכזי | T63: 537977 | X63: 0.00 | Y63: 0.00 | AC63: 0.00 | AD63: 0.00 | AE63: לא רגיש | AF63: =VLOOKUP(G63,[1]הזמנות!A:B,2,0) -> G06 | AG63: =VLOOKUP(AF63,'[1]קבוצות רכש'!A:B,2,0) -> רוה"מ טכנו' והמידע
A64: לא | B64: רוה"מ | C64: משרד ראש הממשלה | D64: משרד ראש הממשלה | E64: 04510110 | F64: פעולות | G64: 4501829527 | H64: שירותי כ"א | I64: 43788 | J64: 44196 | K64: 40001205 | L64: מטריקס אי. טי. מערכות מידע מתקדמות | M64: 511171662 | N64: 297648 | O64: ILS | P64: 282968.97 | Q64: 0 | R64: ILS | S64: תקנה 14ב - מכרז מרכזי | T64: 537977 | X64: 0.00 | Y64: 0.00 | AC64: 0.00 | AD64: 0.00 | AE64: לא רגיש | AF64: =VLOOKUP(G64,[1]הזמנות!A:B,2,0) -> G06 | AG64: =VLOOKUP(AF64,'[1]קבוצות רכש'!A:B,2,0) -> רוה"מ טכנו' והמידע
A65: לא | B65: רוה"מ | C65: משרד ראש הממשלה | D65: משרד ראש הממשלה | E65: 04510110 | F65: פעולות | G65: 4501833109 | H65: נסיעות חול | I65: 43795 | K65: 41003244 | L65: משרד סוכנות/האוצר נסיעות ממשלתית | M65: 500107321 | N65: 2359.8 | O65: ILS | P65: 2359.8 | Q65: 0 | R65: ILS | S65: התקשרות עם גופים ממשלתיים | X65: 0.00 | Y65: 0.00 | AC65: 0.00 | AD65: 0.00 | AE65: לא רגיש | AF65: =VLOOKUP(G65,[1]הזמנות!A:B,2,0) -> G03 | AG65: =VLOOKUP(AF65,'[1]קבוצות רכש'!A:B,2,0) -> רוה"מ נסיעות לחו"ל
A66: לא | B66: רוה"מ | C66: משרד ראש הממשלה | D66: משרד ראש הממשלה | E66: 04510110 | F66: פעולות | G66: 4501836291 | H66: עבודות דפוס | I66: 43801 | J66: 44196 | K66: 40374201 | L66: גרפצ'יק בע"מ | M66: 513868620 | N66: 1200.42 | O66: ILS | P66: 0 | Q66: 0 | S66: פטור ממכרז | U66: תקנה 3(1) - התקשרות ששוויה אינה עולה על 50,000 ש"ח | X66: 0.00 | Y66: 0.00 | AC66: 0.00 | AD66: 0.00 | AE66: לא רגיש | AF66: =VLOOKUP(G66,[1]הזמנות!A:B,2,0) -> G02 | AG66: =VLOOKUP(AF66,'[1]קבוצות רכש'!A:B,2,0) -> רוה"מ יחידת רכש
A67: לא | B67: רוה"מ | C67: משרד ראש הממשלה | D67: משרד ראש הממשלה | E67: 04510110 | F67: פעולות | G67: 4501838230 | H67: תרגום לשפה הערבית | I67: 43803 | J67: 44076 | K67: 41344031 | L67: איי.בי.סי מילה תרגומים בע"מ | M67: 515264869 | N67: 82087.2 | O67: ILS | P67: 26423 | Q67: 0 | R67: ILS | S67: פטור ממכרז | T67: 638723 | U67: תקנה 3ג - מימוש זכות ברירה | X67: 0.00 | Y67: 0.00 | AC67: 0.00 | AD67: 0.00 | AE67: לא רגיש | AF67: =VLOOKUP(G67,[1]הזמנות!A:B,2,0) -> G04 | AG67: =VLOOKUP(AF67,'[1]קבוצות רכש'!A:B,2,0) -> רוה"מ חוזים,יועצים
A68: לא | B68: רוה"מ | C68: משרד ראש הממשלה | D68: משרד ראש הממשלה | E68: 04510110 | F68: פעולות | G68: 4501838232 | H68: תרגום לשפה הערבית | I68: 43803 | J68: 43966 | K68: 40005174 | L68: מנפאואר פתרונות שפה | M68: 540179223 | N68: 69419.76 | O68: ILS | P68: 0 | Q68: 0 | S68: פטור ממכרז | T68: 636179 | U68: תקנה 3ג - מימוש זכות ברירה | X68: 0.00 | Y68: 0.00 | AC68: 0.00 | AD68: 0.00 | AE68: לא רגיש | AF68: =VLOOKUP(G68,[1]הזמנות!A:B,2,0) -> G04 | AG68: =VLOOKUP(AF68,'[1]קבוצות רכש'!A:B,2,0) -> רוה"מ חוזים,יועצים
A69: לא | B69: רוה"מ | C69: משרד ראש הממשלה | D69: משרד ראש הממשלה | E69: 04510110 | F69: פעולות | G69: 4501838727 | H69: יעוץ | I69: 43804 | J69: 44135 | K69: 41563845 | L69: ירון בלום בע"מ | M69: 514735653 | N69: 668179.98 | O69: ILS | P69: 604170.45 | Q69: 0 | R69: ILS | S69: תקנה 3ג - מימוש זכות ברירה | T69: לא בוצעה פניה | X69: 0.00 | Y69: 0.00 | AC69: 0.00 | AD69: 0.00 | AE69: לא רגיש | AF69: =VLOOKUP(G69,[1]הזמנות!A:B,2,0) -> G04 | AG69: =VLOOKUP(AF69,'[1]קבוצות רכש'!A:B,2,0) -> רוה"מ חוזים,יועצים
A70: לא | B70: רוה"מ | C70: משרד ראש הממשלה | D70: משרד ראש הממשלה | E70: 04510110 | F70: פעולות | G70: 4501842738 | H70: תשלומי ארנונה עיריית ירושלים | I70: 43810 | J70: 44196 | K70: 20000159 | L70: עירית ירושלים | M70: 500230008 | N70: 72000 | O70: ILS | P70: 0 | Q70: 0 | R70: ILS | S70: התקשרות עם גופים ממשלתיים | X70: 0.00 | Y70: 0.00 | AC70: 0.00 | AD70: 0.00 | AE70: לא רגיש | AF70: =VLOOKUP(G70,[1]הזמנות!A:B,2,0) -> G01 | AG70: =VLOOKUP(AF70,'[1]קבוצות רכש'!A:B,2,0) -> הוצאות קשיחות
A71: לא | B71: רוה"מ | C71: משרד ראש הממשלה | D71: משרד ראש הממשלה | E71: 04510110 | F71: פעולות | G71: 4501851965 | H71: מיזם משותף קרן קרב | I71: 43829 | J71: 44422 | K71: 40442190 | L71: קרב יוזמות בחינוך (ע"ר) | M71: 580415917 | N71: 2840000 | O71: ILS | P71: 354729 | Q71: 354729 | R71: ILS | S71: פטור ממכרז | T71: 644776 | U71: תקנה 3(30) - מיזם משותף | X71: 0.00 | Y71: 0.00 | AC71: 0.00 | AD71: 0.00 | AE71: לא רגיש | AF71: =VLOOKUP(G71,[1]הזמנות!A:B,2,0) -> G04 | AG71: =VLOOKUP(AF71,'[1]קבוצות רכש'!A:B,2,0) -> רוה"מ חוזים,יועצים
A72: לא | B72: רוה"מ | C72: משרד ראש הממשלה | D72: משרד ראש הממשלה | E72: 04510110 | F72: פעולות | G72: 4501852339 | H72: תחזוקת הר הרצל | I72: 43829 | J72: 44196 | K72: 40000247 | L72: ההסתדרות הציונית העולמית | M72: 500500350 | N72: 21000 | O72: ILS | P72: 0 | Q72: 0 | S72: פטור ממכרז | T72: 645037 | U72: תקנה 3(19)(א) - הסוכנות היהודית או ההסתדרות הציונית | X72: 0.00 | Y72: 0.00 | AC72: 0.00 | AD72: 0.00 | AE72: לא רגיש | AF72: =VLOOKUP(G72,[1]הזמנות!A:B,2,0) -> G04 | AG72: =VLOOKUP(AF72,'[1]קבוצות רכש'!A:B,2,0) -> רוה"מ חוזים,יועצים
A73: לא | B73: רוה"מ | C73: משרד ראש הממשלה | D73: משרד ראש הממשלה | E73: 04510110 | F73: פעולות | G73: 4501852435 | H73: כתיבת נאומים | I73: 43829 | J73: 44196 | K73: 40960041 | L73: חריף חגי | M73: 023593239 | N73: 150000 | O73: ILS | P73: 124192.04 | Q73: 11279.99 | R73: ILS | S73: תקנה 5(ג)(2) - התקשרות עם מומחה - בדיקת מס' הצעות | T73: 643656 | X73: 0.00 | Y73: 0.00 | AC73: 0.00 | AD73: 0.00 | AE73: לא רגיש | AF73: =VLOOKUP(G73,[1]הזמנות!A:B,2,0) -> G04 | AG73: =VLOOKUP(AF73,'[1]קבוצות רכש'!A:B,2,0) -> רוה"מ חוזים,יועצים
A74: לא | B74: רוה"מ | C74: משרד ראש הממשלה | D74: משרד ראש הממשלה | E74: 04510110 | F74: פעולות | G74: 4501871391 | H74: שרותי אחזקה וניקיון ברחבת הכותל | I74: 43878 | J74: 44241 | K74: 40003388 | L74: שיקום ולפתוח הרובע היהודי בעיר העתי | M74: 520028127 | N74: 2052857.4 | O74: ILS | P74: 1889598 | Q74: 382185.18 | R74: ILS | S74: פטור ממכרז | T74: 628301 | U74: תקנה 3(4)(ב)(3) - התקשרות המשך באישור ועדת פטור מרכזית | X74: 0.00 | Y74: 0.00 | AC74: 0.00 | AD74: 0.00 | AE74: לא רגיש | AF74: =VLOOKUP(G74,[1]הזמנות!A:B,2,0) -> G04 | AG74: =VLOOKUP(AF74,'[1]קבוצות רכש'!A:B,2,0) -> רוה"מ חוזים,יועצים
A75: לא | B75: רוה"מ | C75: משרד ראש הממשלה | D75: משרד ראש הממשלה | E75: 04510110 | F75: פעולות | G75: 4501876276 | H75: הדפסת חוברות | I75: 43891 | J75: 44196 | K75: 40374201 | L75: גרפצ'יק בע"מ | M75: 513868620 | N75: 1600.56 | O75: ILS | P75: 0 | Q75: 0 | S75: פטור ממכרז | U75: תקנה 3(1) - התקשרות ששוויה אינה עולה על 50,000 ש"ח | X75: 0.00 | Y75: 0.00 | AC75: 0.00 | AD75: 0.00 | AE75: לא רגיש | AF75: =VLOOKUP(G75,[1]הזמנות!A:B,2,0) -> G02 | AG75: =VLOOKUP(AF75,'[1]קבוצות רכש'!A:B,2,0) -> רוה"מ יחידת רכש
A76: לא | B76: רוה"מ | C76: משרד ראש הממשלה | D76: משרד ראש הממשלה | E76: 04510110 | F76: פעולות | G76: 4501882285 | H76: עיצוב גרפי | I76: 43907 | J76: 44561 | K76: 41612416 | L76: קורן מירב סטפני | M76: 038094462 | N76: 4984.2 | O76: ILS | P76: 1769.46 | Q76: 1769.46 | R76: ILS | S76: פטור ממכרז | U76: תקנה 3(1) - התקשרות ששוויה אינה עולה על 50,000 ש"ח | X76: 0.00 | Y76: 0.00 | AC76: 0.00 | AD76: 0.00 | AE76: לא רגיש | AF76: =VLOOKUP(G76,[1]הזמנות!A:B,2,0) -> G02 | AG76: =VLOOKUP(AF76,'[1]קבוצות רכש'!A:B,2,0) -> רוה"מ יחידת רכש
A77: לא | B77: רוה"מ | C77: משרד ראש הממשלה | D77: משרד ראש הממשלה | E77: 04510110 | F77: פעולות | G77: 4501882541 | H77: שרותי תרגום | I77: 43907 | J77: 44196 | K77: 40005174 | L77: מנפאואר פתרונות שפה | M77: 540179223 | N77: 1879.02 | O77: ILS | P77: 1879.02 | Q77: 0 | R77: ILS | S77: פטור ממכרז | U77: תקנה 3(1) - התקשרות ששוויה אינה עולה על 50,000 ש"ח | X77: 0.00 | Y77: 0.00 | AC77: 0.00 | AD77: 0.00 | AE77: לא רגיש | AF77: =VLOOKUP(G77,[1]הזמנות!A:B,2,0) -> G02 | AG77: =VLOOKUP(AF77,'[1]קבוצות רכש'!A:B,2,0) -> רוה"מ יחידת רכש
A78: לא | B78: רוה"מ | C78: משרד ראש הממשלה | D78: משרד ראש הממשלה | E78: 04510110 | F78: פעולות | G78: 4501891798 | H78: פרויקט מחשב לכל ילד 2020 | I78: 43948 | J78: 44561 | K78: 40396456 | L78: המפעל הלאומי לפתוח חברתי | M78: 580231546 | N78: 33500000 | O78: ILS | P78: 14042480 | Q78: 0 | R78: ILS | S78: פטור ממכרז | T78: 645174 | U78: תקנה 3(29) - ספק יחיד | X78: 0.00 | Y78: 0.00 | Z78: 44013 | AA78: תקנה 3(4)(ב)(3) - התקשרות המשך באישור ועדת פטור מרכזית | AB78: 331522 | AC78: 33,500,000.00 | AD78: 33,500,000.00 | AE78: לא רגיש | AF78: =VLOOKUP(G78,[1]הזמנות!A:B,2,0) -> G04 | AG78: =VLOOKUP(AF78,'[1]קבוצות רכש'!A:B,2,0) -> רוה"מ חוזים,יועצים
A79: לא | B79: רוה"מ | C79: משרד ראש הממשלה | D79: משרד ראש הממשלה | E79: 04510110 | F79: פעולות | G79: 4501899950 | H79: מנוי לעיתון | I79: 43971 | J79: 44561 | K79: 50046533 | L79: WOLL STREET JAVNA | M79: 4162000 | N79: 720 | O79: USD | P79: 1471.09 | Q79: 287.43 | R79: USD | S79: פטור ממכרז | U79: תקנה 3(1) - התקשרות ששוויה אינה עולה על 50,000 ש"ח | X79: 0.00 | Y79: 0.00 | AC79: 0.00 | AD79: 0.00 | AE79: לא רגיש | AF79: =VLOOKUP(G79,[1]הזמנות!A:B,2,0) -> G02 | AG79: =VLOOKUP(AF79,'[1]קבוצות רכש'!A:B,2,0) -> רוה"מ יחידת רכש
A80: לא | B80: רוה"מ | C80: משרד ראש הממשלה | D80: משרד ראש הממשלה | E80: 04510110 | F80: פעולות | G80: 4501910287 | H80: שירותי דפוס | I80: 43999 | J80: 44337 | K80: 40002893 | L80: גרפוס-פרינט (1990) בע"מ | M80: 511524886 | N80: 1170 | O80: ILS | P80: 0 | Q80: 0 | R80: ILS | S80: פטור ממכרז | T80: 649414 | U80: תקנה 3ג - מימוש זכות ברירה | X80: 0.00 | Y80: 0.00 | AC80: 0.00 | AD80: 0.00 | AE80: לא רגיש | AF80: =VLOOKUP(G80,[1]הזמנות!A:B,2,0) -> G04 | AG80: =VLOOKUP(AF80,'[1]קבוצות רכש'!A:B,2,0) -> רוה"מ חוזים,יועצים
A81: לא | B81: רוה"מ | C81: משרד ראש הממשלה | D81: משרד ראש הממשלה | E81: 04510110 | F81: פעולות | G81: 4501910667 | H81: רכישת פלא פון | I81: 43999 | J81: 44196 | K81: 40557663 | L81: סאני תקשורת סלולרית בע"מ | M81: 520031808 | N81: 2538 | O81: ILS | P81: 2538 | Q81: 0 | R81: ILS | S81: פטור ממכרז | U81: תקנה 3(1) - התקשרות ששוויה אינה עולה על 50,000 ש"ח | X81: 0.00 | Y81: 0.00 | AC81: 0.00 | AD81: 0.00 | AE81: לא רגיש | AF81: =VLOOKUP(G81,[1]הזמנות!A:B,2,0) -> G02 | AG81: =VLOOKUP(AF81,'[1]קבוצות רכש'!A:B,2,0) -> רוה"מ יחידת רכש
A82: לא | B82: רוה"מ | C82: משרד ראש הממשלה | D82: משרד ראש הממשלה | E82: 04510110 | F82: פעולות | G82: 4501910843 | H82: עבודות דפוס | I82: 44000 | J82: 44196 | K82: 40374201 | L82: גרפצ'יק בע"מ | M82: 513868620 | N82: 2475.14 | O82: ILS | P82: 0 | Q82: 0 | S82: פטור ממכרז | U82: תקנה 3(1) - התקשרות ששוויה אינה עולה על 50,000 ש"ח | X82: 0.00 | Y82: 0.00 | AC82: 0.00 | AD82: 0.00 | AE82: לא רגיש | AF82: =VLOOKUP(G82,[1]הזמנות!A:B,2,0) -> G02 | AG82: =VLOOKUP(AF82,'[1]קבוצות רכש'!A:B,2,0) -> רוה"מ יחידת רכש
A83: לא | B83: רוה"מ | C83: משרד ראש הממשלה | D83: משרד ראש הממשלה | E83: 04510110 | F83: פעולות | G83: 4501913042 | H83: השתתפות בועדה | I83: 44006 | J83: 44196 | K83: 40570126 | L83: יצחקי יאיר | N83: 3409.38 | O83: ILS | P83: 3409.38 | Q83: 0 | R83: ILS | S83: פטור ממכרז | U83: תקנה 3(1) - התקשרות ששוויה אינה עולה על 50,000 ש"ח | X83: 0.00 | Y83: 0.00 | AC83: 0.00 | AD83: 0.00 | AE83: לא רגיש | AF83: =VLOOKUP(G83,[1]הזמנות!A:B,2,0) -> G02 | AG83: =VLOOKUP(AF83,'[1]קבוצות רכש'!A:B,2,0) -> רוה"מ יחידת רכש
A84: לא | B84: רוה"מ | C84: משרד ראש הממשלה | D84: משרד ראש הממשלה | E84: 04510110 | F84: פעולות | G84: 4501913072 | H84: תשלום לחבר וועדה ציבורית | I84: 44006 | J84: 44196 | K84: 40571316 | L84: עתידים-אתגר ניהול קרנות בע"מ | M84: 512127978 | N84: 3826.49 | O84: ILS | P84: 3826.49 | Q84: 3826.49 | R84: ILS | S84: פטור ממכרז | U84: תקנה 3(1) - התקשרות ששוויה אינה עולה על 50,000 ש"ח | X84: 0.00 | Y84: 0.00 | AC84: 0.00 | AD84: 0.00 | AE84: לא רגיש | AF84: =VLOOKUP(G84,[1]הזמנות!A:B,2,0) -> G02 | AG84: =VLOOKUP(AF84,'[1]קבוצות רכש'!A:B,2,0) -> רוה"מ יחידת רכש
A85: לא | B85: רוה"מ | C85: משרד ראש הממשלה | D85: משרד ראש הממשלה | E85: 04510110 | F85: פעולות | G85: 4501913158 | H85: השכרה והפעלת מכשיר טלפרונטר | I85: 44006 | J85: 44561 | K85: 40525176 | L85: סלקופי בע"מ | M85: 511665515 | N85: 23400 | O85: ILS | P85: 23400 | Q85: 0 | R85: ILS | S85: פטור ממכרז | U85: תקנה 3(1) - התקשרות ששוויה אינה עולה על 50,000 ש"ח | X85: 0.00 | Y85: 0.00 | AC85: 0.00 | AD85: 0.00 | AE85: לא רגיש | AF85: =VLOOKUP(G85,[1]הזמנות!A:B,2,0) -> G02 | AG85: =VLOOKUP(AF85,'[1]קבוצות רכש'!A:B,2,0) -> רוה"מ יחידת רכש
A86: לא | B86: רוה"מ | C86: משרד ראש הממשלה | D86: משרד ראש הממשלה | E86: 04510110 | F86: פעולות | G86: 4501922812 | H86: כתיבת מכרז | I86: 44033 | J86: 44231 | K86: 40005076 | L86: עדליא - ייעוץ כלכלי בע"מ | M86: 513238816 | N86: 28080 | O86: ILS | P86: 0 | Q86: 0 | S86: תקנה 1ב - מכרז פומבי רגיל | T86: 644693 | X86: 0.00 | Y86: 0.00 | AC86: 0.00 | AD86: 0.00 | AE86: לא רגיש | AF86: =VLOOKUP(G86,[1]הזמנות!A:B,2,0) -> G04 | AG86: =VLOOKUP(AF86,'[1]קבוצות רכש'!A:B,2,0) -> רוה"מ חוזים,יועצים
A87: לא | B87: רוה"מ | C87: משרד ראש הממשלה | D87: משרד ראש הממשלה | E87: 04510110 | F87: פעולות | G87: 4501926826 | H87: כיבודים | I87: 44046 | J87: 44561 | K87: 41401023 | L87: ת.ל. אספרסו - בר בע"מ | M87: 513624049 | N87: 19999.98 | O87: ILS | P87: 17323.52 | Q87: 0 | R87: ILS | S87: פטור ממכרז | U87: תקנה 3(1) - התקשרות ששוויה אינה עולה על 50,000 ש"ח | X87: 0.00 | Y87: 0.00 | AC87: 0.00 | AD87: 0.00 | AE87: לא רגיש | AF87: =VLOOKUP(G87,[1]הזמנות!A:B,2,0) -> G02 | AG87: =VLOOKUP(AF87,'[1]קבוצות רכש'!A:B,2,0) -> רוה"מ יחידת רכש
A88: לא | B88: רוה"מ | C88: משרד ראש הממשלה | D88: משרד ראש הממשלה | E88: 04510110 | F88: פעולות | G88: 4501926997 | H88: מנוי לעיתון | I88: 44047 | J88: 44196 | K88: 40001417 | L88: ג'רוזלם פוסט בע"מ | M88: 512311598 | N88: 895.05 | O88: ILS | P88: 894.75 | Q88: 0 | R88: ILS | S88: פטור ממכרז | U88: תקנה 3(1) - התקשרות ששוויה אינה עולה על 50,000 ש"ח | X88: 0.00 | Y88: 0.00 | AC88: 0.00 | AD88: 0.00 | AE88: לא רגיש | AF88: =VLOOKUP(G88,[1]הזמנות!A:B,2,0) -> G02 | AG88: =VLOOKUP(AF88,'[1]קבוצות רכש'!A:B,2,0) -> רוה"מ יחידת רכש
A89: לא | B89: רוה"מ | C89: משרד ראש הממשלה | D89: משרד ראש הממשלה | E89: 04510110 | F89: פעולות | G89: 4501941117 | H89: קשת רובינסון | I89: 44095 | J89: 44367 | K89: 40006929 | L89: רשות העתיקות | M89: 500500491 | N89: 1575669.6 | O89: ILS | P89: 0 | Q89: 0 | S89: פטור ממכרז | T89: 650924 | U89: תקנה 3(4)(ב)(3) - התקשרות המשך באישור ועדת פטור מרכזית | X89: 0.00 | Y89: 0.00 | AC89: 0.00 | AD89: 0.00 | AE89: לא רגיש | AF89: =VLOOKUP(G89,[1]הזמנות!A:B,2,0) -> G04 | AG89: =VLOOKUP(AF89,'[1]קבוצות רכש'!A:B,2,0) -> רוה"מ חוזים,יועצים
A90: לא | B90: רוה"מ | C90: משרד ראש הממשלה | D90: משרד ראש הממשלה | E90: 04510110 | F90: פעולות | G90: 4501943363 | H90: מיזם משותף סטודנטים מהפריפריה | I90: 44104 | J90: 44441 | K90: 40000431 | L90: איסף - הקרן הבין-לאומית לחינוך | M90: 580074888 | N90: 2557808 | O90: ILS | P90: 0 | Q90: 0 | S90: פטור ממכרז | T90: 620882, 620882 | U90: תקנה 3(30) - מיזם משותף | V90: 44077 | W90: 620882 | X90: 2,557,808.00 | Y90: 2,557,808.00 | AC90: 0.00 | AD90: 0.00 | AE90: לא רגיש | AF90: =VLOOKUP(G90,[1]הזמנות!A:B,2,0) -> G04 | AG90: =VLOOKUP(AF90,'[1]קבוצות רכש'!A:B,2,0) -> רוה"מ חוזים,יועצים
A91: לא | B91: רוה"מ | C91: משרד ראש הממשלה | D91: משרד ראש הממשלה | E91: 04510110 | F91: פעולות | G91: 4501947775 | H91: שירותי יעוץ דלויט | I91: 44123 | J91: 44551 | K91: 40314838 | L91: בריטמן אלמגור זוהר | M91: 557934692 | N91: 793601.64 | O91: ILS | P91: 793601.64 | Q91: 0 | R91: ILS | S91: פטור ממכרז | T91: לא בוצעה פניה | U91: תקנה 3ג - מימוש זכות ברירה | V91: 44093 | W91: 4501947775 | X91: 793,601.00 | Y91: 793,601.00 | AC91: 0.00 | AD91: 0.00 | AE91: לא רגיש | AF91: =VLOOKUP(G91,[1]הזמנות!A:B,2,0) -> G04 | AG91: =VLOOKUP(AF91,'[1]קבוצות רכש'!A:B,2,0) -> רוה"מ חוזים,יועצים
A92: לא | B92: רוה"מ | C92: משרד ראש הממשלה | D92: משרד ראש הממשלה | E92: 04510110 | F92: פעולות | G92: 4501948851 | H92: דמי השתתפות במפגשים | I92: 44125 | J92: 44561 | K92: 40001681 | L92: מנהיגות אזרחית (ע"ר) | M92: 580108520 | N92: 1000 | O92: ILS | P92: 1000 | Q92: 0 | R92: ILS | S92: פטור ממכרז | U92: תקנה 3(1) - התקשרות ששוויה אינה עולה על 50,000 ש"ח | X92: 0.00 | Y92: 0.00 | AC92: 0.00 | AD92: 0.00 | AE92: לא רגיש | AF92: =VLOOKUP(G92,[1]הזמנות!A:B,2,0) -> G02 | AG92: =VLOOKUP(AF92,'[1]קבוצות רכש'!A:B,2,0) -> רוה"מ יחידת רכש
A93: לא | B93: רוה"מ | C93: משרד ראש הממשלה | D93: משרד ראש הממשלה | E93: 04510110 | F93: פעולות | G93: 4501952088 | H93: שירותי יעוץ | I93: 44133 | J93: 44453 | K93: 40207164 | L93: התנועה הקיבוצית - נכסי תרבות בע"מ ( | M93: 510628647 | N93: 16000 | O93: ILS | P93: 0 | Q93: 0 | S93: פטור ממכרז | T93: לא בוצעה פניה במנוף | U93: תקנה 3(1) - התקשרות ששוויה אינה עולה על 50,000 ש"ח | X93: 0.00 | Y93: 0.00 | AC93: 0.00 | AD93: 0.00 | AE93: לא רגיש | AF93: =VLOOKUP(G93,[1]הזמנות!A:B,2,0) -> G04 | AG93: =VLOOKUP(AF93,'[1]קבוצות רכש'!A:B,2,0) -> רוה"מ חוזים,יועצים
A94: לא | B94: רוה"מ | C94: משרד ראש הממשלה | D94: משרד ראש הממשלה | E94: 04510110 | F94: פעולות | G94: 4501952153 | H94: שירותי יעוץ דלויט | I94: 44133 | J94: 44316 | K94: 40314838 | L94: בריטמן אלמגור זוהר | M94: 557934692 | N94: 388066 | O94: ILS | P94: 198400 | Q94: 0 | R94: ILS | S94: פטור ממכרז | T94: 4000521799 | U94: תקנה 3ג - מימוש זכות ברירה | V94: 44133 | W94: 4000521799 | X94: 388,066.00 | Y94: 388,066.00 | Z94: 44231 | AA94: תקנה 3(4)(ב)(1) - התקשרות המשך באישור ועדת מכרזים משרדית | AB94: 4000530405 | AC94: 0.10 | AD94: 0.10 | AE94: לא רגיש | AF94: =VLOOKUP(G94,[1]הזמנות!A:B,2,0) -> G04 | AG94: =VLOOKUP(AF94,'[1]קבוצות רכש'!A:B,2,0) -> רוה"מ חוזים,יועצים
A95: לא | B95: רוה"מ | C95: משרד ראש הממשלה | D95: משרד ראש הממשלה | E95: 04510110 | F95: פעולות | G95: 4501953570 | H95: יעוץ | I95: 44137 | J95: 44499 | K95: 41563845 | L95: ירון בלום בע"מ | M95: 514735653 | N95: 694685.16 | O95: ILS | P95: 232466.13 | Q95: 177002.28 | R95: ILS | S95: תקנה 3ג - מימוש זכות ברירה | T95: 4000522718 | V95: 44136 | W95: 4000522718 | X95: 657,072.00 | Y95: 657,072.00 | AC95: 0.00 | AD95: 0.00 | AE95: לא רגיש | AF95: =VLOOKUP(G95,[1]הזמנות!A:B,2,0) -> G04 | AG95: =VLOOKUP(AF95,'[1]קבוצות רכש'!A:B,2,0) -> רוה"מ חוזים,יועצים
A96: לא | B96: רוה"מ | C96: משרד ראש הממשלה | D96: משרד ראש הממשלה | E96: 04510110 | F96: פעולות | G96: 4501959288 | H96: שירותי כ"א | I96: 44150 | J96: 44377 | K96: 40001205 | L96: מטריקס אי. טי. מערכות מידע מתקדמות | M96: 511171662 | N96: 148824 | O96: ILS | P96: 46567.03 | Q96: 46567.03 | R96: ILS | S96: תקנה 14ב - מכרז מרכזי | T96: 537977 | X96: 0.00 | Y96: 0.00 | AC96: 0.00 | AD96: 0.00 | AE96: לא רגיש | AF96: =VLOOKUP(G96,[1]הזמנות!A:B,2,0) -> G06 | AG96: =VLOOKUP(AF96,'[1]קבוצות רכש'!A:B,2,0) -> רוה"מ טכנו' והמידע
A97: לא | B97: רוה"מ | C97: משרד ראש הממשלה | D97: משרד ראש הממשלה | E97: 04510110 | F97: פעולות | G97: 4501959418 | H97: שירותי כ"א | I97: 44150 | J97: 44377 | K97: 40003644 | L97: אס. קיו. לינק בע"מ | M97: 512042045 | N97: 318286.8 | O97: ILS | P97: 100706.68 | Q97: 100706.68 | R97: ILS | S97: תקנה 14ב - מכרז מרכזי | T97: 537977 | X97: 0.00 | Y97: 0.00 | AC97: 0.00 | AD97: 0.00 | AE97: לא רגיש | AF97: =VLOOKUP(G97,[1]הזמנות!A:B,2,0) -> G06 | AG97: =VLOOKUP(AF97,'[1]קבוצות רכש'!A:B,2,0) -> רוה"מ טכנו' והמידע
A98: לא | B98: רוה"מ | C98: משרד ראש הממשלה | D98: משרד ראש הממשלה | E98: 04510110 | F98: פעולות | G98: 4501959591 | H98: שירותי הגברה | I98: 44150 | J98: 44458 | K98: 40207218 | L98: ספידי קול בע"מ | M98: 512828310 | N98: 600000 | O98: ILS | P98: 323923.28 | Q98: 172680.3 | R98: ILS | S98: פטור ממכרז | T98: 4000523377 | U98: תקנה 3(4)(ב)(3) - התקשרות המשך באישור ועדת פטור מרכזית | V98: 44093 | W98: 4000523377 | X98: 1,000,000.00 | Y98: 1,000,000.00 | AC98: 0.00 | AD98: 0.00 | AE98: לא רגיש | AF98: =VLOOKUP(G98,[1]הזמנות!A:B,2,0) -> G04 | AG98: =VLOOKUP(AF98,'[1]קבוצות רכש'!A:B,2,0) -> רוה"מ חוזים,יועצים
A99: לא | B99: רוה"מ | C99: משרד ראש הממשלה | D99: משרד ראש הממשלה | E99: 04510110 | F99: פעולות | G99: 4501960112 | H99: שירותי תרגום | I99: 44151 | J99: 44561 | K99: 40377949 | L99: עצמאי שכיר בע"מ | M99: 513500181 | N99: 49959 | O99: ILS | P99: 11468.57 | Q99: 11468.57 | R99: ILS | S99: פטור ממכרז | U99: תקנה 3(1) - התקשרות ששוויה אינה עולה על 50,000 ש"ח | X99: 0.00 | Y99: 0.00 | AC99: 0.00 | AD99: 0.00 | AE99: לא רגיש | AF99: =VLOOKUP(G99,[1]הזמנות!A:B,2,0) -> G02 | AG99: =VLOOKUP(AF99,'[1]קבוצות רכש'!A:B,2,0) -> רוה"מ יחידת רכש
A100: לא | B100: רוה"מ | C100: משרד ראש הממשלה | D100: משרד ראש הממשלה | E100: 04510110 | F100: פעולות | G100: 4501961695 | H100: שירותי גרפיקה | I100: 44153 | J100: 44561 | K100: 41612416 | L100: קורן מירב סטפני | M100: 038094462 | N100: 8002.8 | O100: ILS | P100: 8002.8 | Q100: 8002.8 | R100: ILS | S100: פטור ממכרז | U100: תקנה 3(1) - התקשרות ששוויה אינה עולה על 50,000 ש"ח | X100: 0.00 | Y100: 0.00 | AC100: 0.00 | AD100: 0.00 | AE100: לא רגיש | AF100: =VLOOKUP(G100,[1]הזמנות!A:B,2,0) -> G02 | AG100: =VLOOKUP(AF100,'[1]קבוצות רכש'!A:B,2,0) -> רוה"מ יחידת רכש
...
