Workbook

Sheet חופש מידע
A1: הזמנה רגישה | B1: שם חברה | C1: תאור של ארגון רכש | D1: שם אתר | E1: תקנה תקציבית | F1: תיאור תקנה תקציבית | G1: הזמנת רכש | H1: מטרת התקשרות | I1: תאריך יצירת ההזמנה | J1: סיום תקופת תוקף | K1: קוד ספק | L1: שם הספק | M1: מספר ח"פ | N1: ערך ההזמנה כולל מע"מ | O1: מטבע | P1: ביצוע חשבוניות מצטבר כולל מע"מ והצמדות | Q1: ביצוע חשבוניות לתקופת הדוח' במטבע מקומי | R1: מטבע חשבונית | S1: אופן רכישה מקור | T1: מס' פנייה במנו"ף/מנור" | U1: סיבת פטור | V1: תאריך מימוש אופציה | W1: מספר פניית מימוש אופציה | X1: סכום אופציה במטבע מקומי | Y1: סכום אופציה מצטבר במטבע מקומי | Z1: תאריך התקשרות המשך | AA1: סיבת התקשרות המשך | AB1: מספר פניית התקשרות המשך | AC1: סכום התקשרות המשך במטבע מקומי | AD1: סכום התקשרות מצטבר במטבע מקומי | AE1: תאור סיבת רגישות | AF1: קבוצת רכש
A2: לא | B2: רוה"מ | C2: משרד ראש הממשלה | D2: משרד ראש הממשלה | E2: 04510110 | F2: פעולות | G2: 4501244458 | H2: תפעול ותחזוקה | I2: 42548 | J2: 44006 | K2: 40005160 | L2: סומך חייקין | M2: 540002383 | N2: 245045.97 | O2: ILS | P2: 99567 | Q2: 0 | R2: ILS | S2: תקנה 14ב - מכרז מרכזי | T2: 528639 | X2: 0.00 | Y2: 0.00 | AC2: 0.00 | AD2: 0.00 | AE2: לא רגיש | AF2: =VLOOKUP(G2,[1]הזמנות!A:B,2,0) -> G02 | AG2: =VLOOKUP(AF2,'[1]קבוצות רכש'!A:B,2,0) -> רוה"מ יחידת רכש
A3: לא | B3: רוה"מ | C3: משרד ראש הממשלה | D3: משרד ראש הממשלה | E3: 04510110 | F3: פעולות | G3: 4501305562 | H3: שירותי יעוץ | I3: 42689 | J3: 43053 | K3: 40040171 | L3: שלוסר אנליה לאורה | N3: 47501.06 | O3: ILS | P3: 0 | Q3: 0 | S3: פטור ממכרז | U3: תקנה 3(1) - התקשרות ששוויה אינה עולה על 50,000 ש"ח | X3: 0.00 | Y3: 0.00 | AC3: 0.00 | AD3: 0.00 | AE3: לא רגיש | AF3: =VLOOKUP(G3,[1]הזמנות!A:B,2,0) -> G04 | AG3: =VLOOKUP(AF3,'[1]קבוצות רכש'!A:B,2,0) -> רוה"מ חוזים,יועצים
A4: לא | B4: רוה"מ | C4: משרד ראש הממשלה | D4: משרד ראש הממשלה | E4: 04510110 | F4: פעולות | G4: 4501349381 | H4: הוצאות קשיחות | I4: 42758 | J4: 43100 | K4: 40003288 | L4: ג.ט.י. הגן הטכנולוגי ירושלים בע"מ | M4: 511590275 | N4: 2115.71 | O4: ILS | P4: 611.01 | Q4: 0 | R4: ILS | S4: פטור ממכרז | T4: אין פניה במנוף | U4: תקנה 3(29) - ספק יחיד | X4: 0.00 | Y4: 0.00 | AC4: 0.00 | AD4: 0.00 | AE4: לא רגיש | AF4: =VLOOKUP(G4,[1]הזמנות!A:B,2,0) -> G04 | AG4: =VLOOKUP(AF4,'[1]קבוצות רכש'!A:B,2,0) -> רוה"מ חוזים,יועצים
A5: לא | B5: רוה"מ | C5: משרד ראש הממשלה | D5: משרד ראש הממשלה | E5: 04510110 | F5: פעולות | G5: 4501351401 | H5: הוצאות תפעול | I5: 42761 | J5: 44196 | K5: 40238786 | L5: גאריביאן גרשון | M5: 055634687 | N5: 50000 | O5: ILS | P5: 47828.19 | Q5: 0 | R5: ILS | S5: פטור ממכרז | U5: תקנה 3(1) - התקשרות ששוויה אינה עולה על 50,000 ש"ח | X5: 0.00 | Y5: 0.00 | AC5: 0.00 | AD5: 0.00 | AE5: לא רגיש | AF5: =VLOOKUP(G5,[1]הזמנות!A:B,2,0) -> G02 | AG5: =VLOOKUP(AF5,'[1]קבוצות רכש'!A:B,2,0) -> רוה"מ יחידת רכש
A6: לא | B6: רוה"מ | C6: משרד ראש הממשלה | D6: משרד ראש הממשלה | E6: 04510110 | F6: פעולות | G6: 4501399702 | H6: תרגום | I6: 42862 | J6: 43710 | K6: 41344031 | L6: איי.בי.סי מילה תרגומים בע"מ | M6: 515264869 | N6: 209664 | O6: ILS | P6: 54890.23 | Q6: 0 | R6: ILS | S6: תקנה 1ב - מכרז פומבי רגיל | T6: 577631 | X6: 0.00 | Y6: 0.00 | AC6: 0.00 | AD6: 0.00 | AE6: לא רגיש | AF6: =VLOOKUP(G6,[1]הזמנות!A:B,2,0) -> G02 | AG6: =VLOOKUP(AF6,'[1]קבוצות רכש'!A:B,2,0) -> רוה"מ יחידת רכש
A7: לא | B7: רוה"מ | C7: משרד ראש הממשלה | D7: משרד ראש הממשלה | E7: 04510110 | F7: פעולות | G7: 4501462491 | H7: השכרת אולם לצורך כנס צוערים | I7: 42984 | K7: 40140406 | L7: שלוה - האגודה הישראלית לטיפול באנשי | M7: 580173987 | N7: 3000 | O7: ILS | P7: 0 | Q7: 0 | S7: פטור ממכרז | U7: תקנה 3(1) - התקשרות ששוויה אינה עולה על 50,000 ש"ח | X7: 0.00 | Y7: 0.00 | AC7: 0.00 | AD7: 0.00 | AE7: לא רגיש | AF7: =VLOOKUP(G7,[1]הזמנות!A:B,2,0) -> G02 | AG7: =VLOOKUP(AF7,'[1]קבוצות רכש'!A:B,2,0) -> רוה"מ יחידת רכש
A8: לא | B8: רוה"מ | C8: משרד ראש הממשלה | D8: משרד ראש הממשלה | E8: 04510110 | F8: פעולות | G8: 4501482424 | H8: תחזוקת הר הרצל | I8: 43033 | J8: 43465 | K8: 40000247 | L8: ההסתדרות הציונית העולמית | M8: 500500350 | N8: 454550 | O8: ILS | P8: 378080.65 | Q8: 0 | R8: ILS | S8: פטור ממכרז | T8: 9999 | U8: תקנה 3(19)(א) - הסוכנות היהודית או ההסתדרות הציונית | X8: 0.00 | Y8: 0.00 | AC8: 0.00 | AD8: 0.00 | AE8: לא רגיש | AF8: =VLOOKUP(G8,[1]הזמנות!A:B,2,0) -> G01 | AG8: =VLOOKUP(AF8,'[1]קבוצות רכש'!A:B,2,0) -> הוצאות קשיחות
A9: לא | B9: רוה"מ | C9: משרד ראש הממשלה | D9: משרד ראש הממשלה | E9: 04510110 | F9: פעולות | G9: 4501517266 | H9: חניות לעובדים ואורחים-פנ"צ | I9: 43086 | J9: 43539 | K9: 40003496 | L9: כלכלית ירושלים בע"מ | M9: 520017070 | N9: 28486.46 | O9: ILS | P9: 13123.53 | Q9: 0 | R9: ILS | S9: פטור ממכרז | U9: תקנה 3(1) - התקשרות ששוויה אינה עולה על 50,000 ש"ח | X9: 0.00 | Y9: 0.00 | AC9: 0.00 | AD9: 0.00 | AE9: לא רגיש | AF9: =VLOOKUP(G9,[1]הזמנות!A:B,2,0) -> G02 | AG9: =VLOOKUP(AF9,'[1]קבוצות רכש'!A:B,2,0) -> רוה"מ יחידת רכש
A10: לא | B10: רוה"מ | C10: משרד ראש הממשלה | D10: משרד ראש הממשלה | E10: 04510110 | F10: פעולות | G10: 4501522495 | H10: שירותי תחזוקה | I10: 43096 | J10: 43146 | K10: 40003388 | L10: שיקום ולפתוח הרובע היהודי בעיר העתי | M10: 520028127 | N10: 89524.49 | O10: ILS | P10: 41016.69 | Q10: 0 | R10: ILS | S10: פטור ממכרז | T10: 609572 | U10: תקנה 3(29) - ספק יחיד | X10: 0.00 | Y10: 0.00 | AC10: 0.00 | AD10: 0.00 | AE10: לא רגיש | AF10: =VLOOKUP(G10,[1]הזמנות!A:B,2,0) -> G02 | AG10: =VLOOKUP(AF10,'[1]קבוצות רכש'!A:B,2,0) -> רוה"מ יחידת רכש
A11: לא | B11: רוה"מ | C11: משרד ראש הממשלה | D11: משרד ראש הממשלה | E11: 04510110 | F11: פעולות | G11: 4501526264 | H11: שרותי ייעוץ | I11: 43107 | J11: 44085 | K11: 40314838 | L11: בריטמן אלמגור זוהר | M11: 557934692 | N11: 310248.9 | O11: ILS | P11: 111933 | Q11: 0 | R11: ILS | S11: תקנה 3ג - מימוש זכות ברירה | X11: 0.00 | Y11: 0.00 | AC11: 0.00 | AD11: 0.00 | AE11: לא רגיש | AF11: =VLOOKUP(G11,[1]הזמנות!A:B,2,0) -> G02 | AG11: =VLOOKUP(AF11,'[1]קבוצות רכש'!A:B,2,0) -> רוה"מ יחידת רכש
A12: לא | B12: רוה"מ | C12: משרד ראש הממשלה | D12: משרד ראש הממשלה | E12: 04510110 | F12: פעולות | G12: 4501528418 | H12: נסיעות חול | I12: 43110 | K12: 41003244 | L12: משרד סוכנות/האוצר נסיעות ממשלתית | M12: 500107321 | N12: 3048.42 | O12: ILS | P12: 3048.42 | Q12: 0 | R12: ILS | S12: התקשרות עם גופים ממשלתיים | X12: 0.00 | Y12: 0.00 | AC12: 0.00 | AD12: 0.00 | AE12: לא רגיש | AF12: =VLOOKUP(G12,[1]הזמנות!A:B,2,0) -> G03 | AG12: =VLOOKUP(AF12,'[1]קבוצות רכש'!A:B,2,0) -> רוה"מ נסיעות לחו"ל
A13: לא | B13: רוה"מ | C13: משרד ראש הממשלה | D13: משרד ראש הממשלה | E13: 04510110 | F13: פעולות | G13: 4501575342 | H13: שרותי ייעוץ | I13: 43206 | J13: 43934 | K13: 41382414 | L13: מתאם - לפיתוח משאבי אנוש בארגונים ח | M13: 580527992 | N13: 43000 | O13: ILS | P13: 41172.5 | Q13: 0 | R13: ILS | S13: פטור ממכרז | U13: תקנה 3(1) - התקשרות ששוויה אינה עולה על 50,000 ש"ח | X13: 0.00 | Y13: 0.00 | AC13: 0.00 | AD13: 0.00 | AE13: לא רגיש | AF13: =VLOOKUP(G13,[1]הזמנות!A:B,2,0) -> G02 | AG13: =VLOOKUP(AF13,'[1]קבוצות רכש'!A:B,2,0) -> רוה"מ יחידת רכש
A14: לא | B14: רוה"מ | C14: משרד ראש הממשלה | D14: משרד ראש הממשלה | E14: 04510110 | F14: פעולות | G14: 4501584430 | H14: נסיעות חו"ל | I14: 43226 | K14: 41003244 | L14: משרד סוכנות/האוצר נסיעות ממשלתית | M14: 500107321 | N14: 3371.2 | O14: ILS | P14: 3367.73 | Q14: 0 | R14: ILS | S14: התקשרות עם גופים ממשלתיים | X14: 0.00 | Y14: 0.00 | AC14: 0.00 | AD14: 0.00 | AE14: לא רגיש | AF14: =VLOOKUP(G14,[1]הזמנות!A:B,2,0) -> G03 | AG14: =VLOOKUP(AF14,'[1]קבוצות רכש'!A:B,2,0) -> רוה"מ נסיעות לחו"ל
A15: לא | B15: רוה"מ | C15: משרד ראש הממשלה | D15: משרד ראש הממשלה | E15: 04510110 | F15: פעולות | G15: 4501584523 | H15: נסיעות חו"ל | I15: 43226 | K15: 41003244 | L15: משרד סוכנות/האוצר נסיעות ממשלתית | M15: 500107321 | N15: 10967.4 | O15: ILS | P15: 10836.82 | Q15: 0 | R15: ILS | S15: התקשרות עם גופים ממשלתיים | X15: 0.00 | Y15: 0.00 | AC15: 0.00 | AD15: 0.00 | AE15: לא רגיש | AF15: =VLOOKUP(G15,[1]הזמנות!A:B,2,0) -> G03 | AG15: =VLOOKUP(AF15,'[1]קבוצות רכש'!A:B,2,0) -> רוה"מ נסיעות לחו"ל
A16: לא | B16: רוה"מ | C16: משרד ראש הממשלה | D16: משרד ראש הממשלה | E16: 04510110 | F16: פעולות | G16: 4501584548 | H16: נסיעות חו"ל | I16: 43226 | K16: 41003244 | L16: משרד סוכנות/האוצר נסיעות ממשלתית | M16: 500107321 | N16: 8816 | O16: ILS | P16: 8672.69 | Q16: 0 | R16: ILS | S16: התקשרות עם גופים ממשלתיים | X16: 0.00 | Y16: 0.00 | AC16: 0.00 | AD16: 0.00 | AE16: לא רגיש | AF16: =VLOOKUP(G16,[1]הזמנות!A:B,2,0) -> G03 | AG16: =VLOOKUP(AF16,'[1]קבוצות רכש'!A:B,2,0) -> רוה"מ נסיעות לחו"ל
A17: לא | B17: רוה"מ | C17: משרד ראש הממשלה | D17: משרד ראש הממשלה | E17: 04510110 | F17: פעולות | G17: 4501590909 | H17: נסיעות חו"ל | I17: 43241 | K17: 41003244 | L17: משרד סוכנות/האוצר נסיעות ממשלתית | M17: 500107321 | N17: 18015.72 | O17: ILS | P17: 18015.72 | Q17: 0 | R17: ILS | S17: התקשרות עם גופים ממשלתיים | X17: 0.00 | Y17: 0.00 | AC17: 0.00 | AD17: 0.00 | AE17: לא רגיש | AF17: =VLOOKUP(G17,[1]הזמנות!A:B,2,0) -> G03 | AG17: =VLOOKUP(AF17,'[1]קבוצות רכש'!A:B,2,0) -> רוה"מ נסיעות לחו"ל
A18: לא | B18: רוה"מ | C18: משרד ראש הממשלה | D18: משרד ראש הממשלה | E18: 04510110 | F18: פעולות | G18: 4501593074 | H18: נסיעות חו"ל | I18: 43244 | K18: 41003244 | L18: משרד סוכנות/האוצר נסיעות ממשלתית | M18: 500107321 | N18: 15148 | O18: ILS | P18: 9416.35 | Q18: 0 | R18: ILS | S18: התקשרות עם גופים ממשלתיים | X18: 0.00 | Y18: 0.00 | AC18: 0.00 | AD18: 0.00 | AE18: לא רגיש | AF18: =VLOOKUP(G18,[1]הזמנות!A:B,2,0) -> G03 | AG18: =VLOOKUP(AF18,'[1]קבוצות רכש'!A:B,2,0) -> רוה"מ נסיעות לחו"ל
A19: לא | B19: רוה"מ | C19: משרד ראש הממשלה | D19: משרד ראש הממשלה | E19: 04510110 | F19: פעולות | G19: 4501624242 | H19: שרותי ייעוץ | I19: 43312 | J19: 43865 | K19: 40005076 | L19: עדליא - ייעוץ כלכלי בע"מ | M19: 513238816 | N19: 12870 | O19: ILS | P19: 12870 | Q19: 0 | R19: ILS | S19: תקנה 1ב - מכרז פומבי רגיל | T19: 60080043 | X19: 0.00 | Y19: 0.00 | AC19: 0.00 | AD19: 0.00 | AE19: לא רגיש | AF19: =VLOOKUP(G19,[1]הזמנות!A:B,2,0) -> G02 | AG19: =VLOOKUP(AF19,'[1]קבוצות רכש'!A:B,2,0) -> רוה"מ יחידת רכש
A20: לא | B20: רוה"מ | C20: משרד ראש הממשלה | D20: משרד ראש הממשלה | E20: 04510110 | F20: פעולות | G20: 4501625269 | H20: שרותי ייעוץ | I20: 43313 | J20: 43865 | K20: 40005076 | L20: עדליא - ייעוץ כלכלי בע"מ | M20: 513238816 | N20: 20317.05 | O20: ILS | P20: 20317.06 | Q20: 0 | R20: ILS | S20: תקנה 1ב - מכרז פומבי רגיל | T20: 60080043 | X20: 0.00 | Y20: 0.00 | AC20: 0.00 | AD20: 0.00 | AE20: לא רגיש | AF20: =VLOOKUP(G20,[1]הזמנות!A:B,2,0) -> G02 | AG20: =VLOOKUP(AF20,'[1]קבוצות רכש'!A:B,2,0) -> רוה"מ יחידת רכש
A21: לא | B21: רוה"מ | C21: משרד ראש הממשלה | D21: משרד ראש הממשלה | E21: 04510110 | F21: פעולות | G21: 4501627808 | H21: פורטל מידע ממשלתי תחזוקה והקמה | I21: 43319 | J21: 44602 | K21: 40371942 | L21: פיונט טכנולוגיות בע"מ | M21: 512841016 | N21: 497804.91 | O21: ILS | P21: 13346.19 | Q21: 13346.19 | R21: ILS | S21: תקנה 14ב - מכרז מרכזי | T21: 577889 | X21: 0.00 | Y21: 0.00 | AC21: 0.00 | AD21: 0.00 | AE21: לא רגיש | AF21: =VLOOKUP(G21,[1]הזמנות!A:B,2,0) -> G06 | AG21: =VLOOKUP(AF21,'[1]קבוצות רכש'!A:B,2,0) -> רוה"מ טכנו' והמידע
A22: לא | B22: רוה"מ | C22: משרד ראש הממשלה | D22: משרד ראש הממשלה | E22: 04510110 | F22: פעולות | G22: 4501632390 | H22: דמי מנוי לעיתון | I22: 43328 | J22: 43465 | K22: 40176979 | L22: סטימצקי (2005) בע"מ | M22: 513742320 | N22: 735.15 | O22: ILS | P22: 0 | Q22: 0 | S22: פטור ממכרז | U22: תקנה 3(1) - התקשרות ששוויה אינה עולה על 50,000 ש"ח | X22: 0.00 | Y22: 0.00 | AC22: 0.00 | AD22: 0.00 | AE22: לא רגיש | AF22: =VLOOKUP(G22,[1]הזמנות!A:B,2,0) -> G02 | AG22: =VLOOKUP(AF22,'[1]קבוצות רכש'!A:B,2,0) -> רוה"מ יחידת רכש
A23: לא | B23: רוה"מ | C23: משרד ראש הממשלה | D23: משרד ראש הממשלה | E23: 04510110 | F23: פעולות | G23: 4501632462 | H23: הוצאות קשיחות - שירותי צפייה | I23: 43331 | J23: 43664 | K23: 40001490 | L23: די.בי.אס. שרותי לווין (1998) בע"מ | M23: 512705138 | N23: 2779.92 | O23: ILS | P23: 0 | Q23: 0 | R23: ILS | S23: פטור ממכרז | U23: תקנה 3(1) - התקשרות ששוויה אינה עולה על 50,000 ש"ח | X23: 0.00 | Y23: 0.00 | AC23: 0.00 | AD23: 0.00 | AE23: לא רגיש | AF23: =VLOOKUP(G23,[1]הזמנות!A:B,2,0) -> G01 | AG23: =VLOOKUP(AF23,'[1]קבוצות רכש'!A:B,2,0) -> הוצאות קשיחות
A24: לא | B24: רוה"מ | C24: משרד ראש הממשלה | D24: משרד ראש הממשלה | E24: 04510110 | F24: פעולות | G24: 4501648964 | H24: דמי מנוי לעיתון | I24: 43387 | J24: 43830 | K24: 40011446 | L24: ידיעות מינויים | M24: 540181054 | N24: 900 | O24: ILS | P24: 0 | Q24: 0 | S24: פטור ממכרז | U24: תקנה 3(1) - התקשרות ששוויה אינה עולה על 50,000 ש"ח | X24: 0.00 | Y24: 0.00 | AC24: 0.00 | AD24: 0.00 | AE24: לא רגיש | AF24: =VLOOKUP(G24,[1]הזמנות!A:B,2,0) -> G02 | AG24: =VLOOKUP(AF24,'[1]קבוצות רכש'!A:B,2,0) -> רוה"מ יחידת רכש
A25: לא | B25: רוה"מ | C25: משרד ראש הממשלה | D25: משרד ראש הממשלה | E25: 04510110 | F25: פעולות | G25: 4501651826 | H25: שירותי תמלול והקלדה | I25: 43391 | J25: 43830 | K25: 40005003 | L25: חבר תרגומים בע"מ | M25: 512892126 | N25: 50000 | O25: ILS | P25: 0 | Q25: 0 | S25: פטור ממכרז | U25: תקנה 3(1) - התקשרות ששוויה אינה עולה על 50,000 ש"ח | X25: 0.00 | Y25: 0.00 | AC25: 0.00 | AD25: 0.00 | AE25: לא רגיש | AF25: =VLOOKUP(G25,[1]הזמנות!A:B,2,0) -> G01 | AG25: =VLOOKUP(AF25,'[1]קבוצות רכש'!A:B,2,0) -> הוצאות קשיחות
A26: לא | B26: רוה"מ | C26: משרד ראש הממשלה | D26: משרד ראש הממשלה | E26: 04510110 | F26: פעולות | G26: 4501661479 | H26: שירותי כ"א | I26: 43411 | J26: 43830 | K26: 40003644 | L26: אס. קיו. לינק בע"מ | M26: 512042045 | N26: 636573.6 | O26: ILS | P26: 574248.54 | Q26: 0 | R26: ILS | S26: תקנה 14ב - מכרז מרכזי | T26: 537977 | X26: 0.00 | Y26: 0.00 | AC26: 0.00 | AD26: 0.00 | AE26: לא רגיש | AF26: =VLOOKUP(G26,[1]הזמנות!A:B,2,0) -> G06 | AG26: =VLOOKUP(AF26,'[1]קבוצות רכש'!A:B,2,0) -> רוה"מ טכנו' והמידע
A27: לא | B27: רוה"מ | C27: משרד ראש הממשלה | D27: משרד ראש הממשלה | E27: 04510110 | F27: פעולות | G27: 4501661679 | H27: שירותי כ"א | I27: 43411 | J27: 43830 | K27: 40001205 | L27: מטריקס אי. טי. מערכות מידע מתקדמות | M27: 511171662 | N27: 297648 | O27: ILS | P27: 274446.34 | Q27: 0 | R27: ILS | S27: תקנה 14ב - מכרז מרכזי | T27: 537977 | X27: 0.00 | Y27: 0.00 | AC27: 0.00 | AD27: 0.00 | AE27: לא רגיש | AF27: =VLOOKUP(G27,[1]הזמנות!A:B,2,0) -> G06 | AG27: =VLOOKUP(AF27,'[1]קבוצות רכש'!A:B,2,0) -> רוה"מ טכנו' והמידע
A28: לא | B28: רוה"מ | C28: משרד ראש הממשלה | D28: משרד ראש הממשלה | E28: 04510110 | F28: פעולות | G28: 4501662558 | H28: פעילות חברתית אגף כלכלה ותשתיות | I28: 43415 | J28: 43780 | K28: 41517045 | L28: נחום אוהד | M28: 040912586 | N28: 809.97 | O28: ILS | P28: 0 | Q28: 0 | S28: פטור ממכרז | U28: תקנה 3(1) - התקשרות ששוויה אינה עולה על 50,000 ש"ח | X28: 0.00 | Y28: 0.00 | AC28: 0.00 | AD28: 0.00 | AE28: לא רגיש | AF28: =VLOOKUP(G28,[1]הזמנות!A:B,2,0) -> G02 | AG28: =VLOOKUP(AF28,'[1]קבוצות רכש'!A:B,2,0) -> רוה"מ יחידת רכש
A29: לא | B29: רוה"מ | C29: משרד ראש הממשלה | D29: משרד ראש הממשלה | E29: 04510110 | F29: פעולות | G29: 4501663047 | H29: פעילות חברתית אגף כלכלה ותשתיות | I29: 43415 | J29: 43780 | K29: 40329386 | L29: קפית בגן (2008) בע"מ | M29: 514173863 | N29: 525.97 | O29: ILS | P29: 0 | Q29: 0 | S29: פטור ממכרז | U29: תקנה 3(1) - התקשרות ששוויה אינה עולה על 50,000 ש"ח | X29: 0.00 | Y29: 0.00 | AC29: 0.00 | AD29: 0.00 | AE29: לא רגיש | AF29: =VLOOKUP(G29,[1]הזמנות!A:B,2,0) -> G02 | AG29: =VLOOKUP(AF29,'[1]קבוצות רכש'!A:B,2,0) -> רוה"מ יחידת רכש
A30: לא | B30: רוה"מ | C30: משרד ראש הממשלה | D30: משרד ראש הממשלה | E30: 04510110 | F30: פעולות | G30: 4501665162 | H30: מיזם משותף - סטודנטים מהפריפריה | I30: 43418 | J30: 43710 | K30: 40000431 | L30: איסף - הקרן הבין-לאומית לחינוך | M30: 580074888 | N30: 1560250 | O30: ILS | P30: 1499501.9 | Q30: 0 | R30: ILS | S30: פטור ממכרז | T30: 620882 | U30: תקנה 3(30) - מיזם משותף | X30: 0.00 | Y30: 0.00 | AC30: 0.00 | AD30: 0.00 | AE30: לא רגיש | AF30: =VLOOKUP(G30,[1]הזמנות!A:B,2,0) -> G04 | AG30: =VLOOKUP(AF30,'[1]קבוצות רכש'!A:B,2,0) -> רוה"מ חוזים,יועצים
A31: לא | B31: רוה"מ | C31: משרד ראש הממשלה | D31: משרד ראש הממשלה | E31: 04510110 | F31: פעולות | G31: 4501669321 | H31: מחקרים למועצה הלאומית לכלכלה | I31: 43425 | J31: 44520 | K31: 41052601 | L31: מכון למחקר כלכלי על שם ד"ר ישעיהו פ | M31: 580007714 | N31: 2977989 | O31: ILS | P31: 338100 | Q31: 150500 | R31: ILS | S31: מכרז פומבי רגיל ממוכן | T31: 609276 | V31: 44156 | W31: 110 | X31: 2,181,000.00 | Y31: 4,362,000.00 | AC31: 0.00 | AD31: 0.00 | AE31: לא רגיש | AF31: =VLOOKUP(G31,[1]הזמנות!A:B,2,0) -> G04 | AG31: =VLOOKUP(AF31,'[1]קבוצות רכש'!A:B,2,0) -> רוה"מ חוזים,יועצים
A32: לא | B32: רוה"מ | C32: משרד ראש הממשלה | D32: משרד ראש הממשלה | E32: 04510110 | F32: פעולות | G32: 4501670202 | H32: יעוץ | I32: 43426 | J32: 43769 | K32: 41563845 | L32: ירון בלום בע"מ | M32: 514735653 | N32: 668179.98 | O32: ILS | P32: 590428.8 | Q32: 0 | R32: ILS | S32: תקנה 3ג - מימוש זכות ברירה | T32: 625036 | X32: 0.00 | Y32: 0.00 | AC32: 0.00 | AD32: 0.00 | AE32: לא רגיש | AF32: =VLOOKUP(G32,[1]הזמנות!A:B,2,0) -> G04 | AG32: =VLOOKUP(AF32,'[1]קבוצות רכש'!A:B,2,0) -> רוה"מ חוזים,יועצים
A33: לא | B33: רוה"מ | C33: משרד ראש הממשלה | D33: משרד ראש הממשלה | E33: 04510110 | F33: פעולות | G33: 4501675513 | H33: כתיבת נאומים | I33: 43437 | J33: 43830 | K33: 40960041 | L33: חריף חגי | M33: 023593239 | N33: 150000 | O33: ILS | P33: 118282.09 | Q33: 0 | R33: ILS | S33: תקנה 5(ג)(2) - התקשרות עם מומחה - בדיקת מס' הצעות | T33: 625034 | X33: 0.00 | Y33: 0.00 | AC33: 0.00 | AD33: 0.00 | AE33: לא רגיש | AF33: =VLOOKUP(G33,[1]הזמנות!A:B,2,0) -> G04 | AG33: =VLOOKUP(AF33,'[1]קבוצות רכש'!A:B,2,0) -> רוה"מ חוזים,יועצים
A34: לא | B34: רוה"מ | C34: משרד ראש הממשלה | D34: משרד ראש הממשלה | E34: 04510110 | F34: פעולות | G34: 4501680530 | H34: כתיבת מכרז מעליות | I34: 43444 | J34: 43865 | K34: 40005076 | N34: 15210 | O34: ILS | P34: 6084 | Q34: 0 | R34: ILS | S34: תקנה 1ב - מכרז פומבי רגיל | T34: 60080043 | X34: 0.00 | Y34: 0.00 | AC34: 0.00 | AD34: 0.00 | AE34: לא רגיש | AF34: =VLOOKUP(G34,[1]הזמנות!A:B,2,0) -> G04 | AG34: =VLOOKUP(AF34,'[1]קבוצות רכש'!A:B,2,0) -> רוה"מ חוזים,יועצים
A35: לא | B35: רוה"מ | C35: משרד ראש הממשלה | D35: משרד ראש הממשלה | E35: 04510110 | F35: פעולות | G35: 4501680634 | H35: נסיעת חול | I35: 43444 | K35: 41003244 | L35: משרד סוכנות/האוצר נסיעות ממשלתית | M35: 500107321 | N35: 1835 | O35: ILS | P35: 1828 | Q35: 0 | R35: ILS | S35: התקשרות עם גופים ממשלתיים | X35: 0.00 | Y35: 0.00 | AC35: 0.00 | AD35: 0.00 | AE35: לא רגיש | AF35: =VLOOKUP(G35,[1]הזמנות!A:B,2,0) -> G03 | AG35: =VLOOKUP(AF35,'[1]קבוצות רכש'!A:B,2,0) -> רוה"מ נסיעות לחו"ל
A36: לא | B36: רוה"מ | C36: משרד ראש הממשלה | D36: משרד ראש הממשלה | E36: 04510110 | F36: פעולות | G36: 4501680652 | H36: נסיעת חול | I36: 43444 | K36: 41003244 | L36: משרד סוכנות/האוצר נסיעות ממשלתית | M36: 500107321 | N36: 3046 | O36: ILS | P36: 3048 | Q36: 0 | R36: ILS | S36: התקשרות עם גופים ממשלתיים | X36: 0.00 | Y36: 0.00 | AC36: 0.00 | AD36: 0.00 | AE36: לא רגיש | AF36: =VLOOKUP(G36,[1]הזמנות!A:B,2,0) -> G03 | AG36: =VLOOKUP(AF36,'[1]קבוצות רכש'!A:B,2,0) -> רוה"מ נסיעות לחו"ל
A37: לא | B37: רוה"מ | C37: משרד ראש הממשלה | D37: משרד ראש הממשלה | E37: 04510110 | F37: פעולות | G37: 4501680668 | H37: נסיעת חול | I37: 43444 | K37: 41003244 | L37: משרד סוכנות/האוצר נסיעות ממשלתית | M37: 500107321 | N37: 9106.98 | O37: ILS | P37: 9067.01 | Q37: 0 | R37: ILS | S37: התקשרות עם גופים ממשלתיים | X37: 0.00 | Y37: 0.00 | AC37: 0.00 | AD37: 0.00 | AE37: לא רגיש | AF37: =VLOOKUP(G37,[1]הזמנות!A:B,2,0) -> G03 | AG37: =VLOOKUP(AF37,'[1]קבוצות רכש'!A:B,2,0) -> רוה"מ נסיעות לחו"ל
A38: לא | B38: רוה"מ | C38: משרד ראש הממשלה | D38: משרד ראש הממשלה | E38: 04510110 | F38: פעולות | G38: 4501683319 | H38: תחזוקת הר הרצל | I38: 43447 | J38: 43830 | K38: 40000247 | L38: ההסתדרות הציונית העולמית | M38: 500500350 | N38: 350000 | O38: ILS | P38: 252286.3 | Q38: 0 | R38: ILS | S38: פטור ממכרז | T38: 629415 | U38: תקנה 3(19)(א) - הסוכנות היהודית או ההסתדרות הציונית | X38: 0.00 | Y38: 0.00 | AC38: 0.00 | AD38: 0.00 | AE38: לא רגיש | AF38: =VLOOKUP(G38,[1]הזמנות!A:B,2,0) -> G04 | AG38: =VLOOKUP(AF38,'[1]קבוצות רכש'!A:B,2,0) -> רוה"מ חוזים,יועצים
A39: לא | B39: רוה"מ | C39: משרד ראש הממשלה | D39: משרד ראש הממשלה | E39: 04510110 | F39: פעולות | G39: 4501695466 | H39: שיתוף משאבי אנוש במסגרת מכרז שירותי יעוץ | I39: 43474 | J39: 44458 | K39: 40397632 | L39: מטריקס אי. טי. בע"מ | M39: 520039413 | N39: 173394 | O39: ILS | P39: 0 | Q39: 0 | S39: תקנה 14ב - מכרז מרכזי | T39: 552845 | V39: 44094 | W39: 654147 | X39: 1.00 | Y39: 1.00 | AC39: 0.00 | AD39: 0.00 | AE39: לא רגיש | AF39: =VLOOKUP(G39,[1]הזמנות!A:B,2,0) -> G04 | AG39: =VLOOKUP(AF39,'[1]קבוצות רכש'!A:B,2,0) -> רוה"מ חוזים,יועצים
A40: לא | B40: רוה"מ | C40: משרד ראש הממשלה | D40: משרד ראש הממשלה | E40: 04510110 | F40: פעולות | G40: 4501696572 | H40: חנית עובדים בגן הטכנולוגי | I40: 43475 | J40: 43830 | K40: 40003288 | L40: ג.ט.י. הגן הטכנולוגי ירושלים בע"מ | M40: 511590275 | N40: 56777.76 | O40: ILS | P40: 55161.99 | Q40: 0 | R40: ILS | S40: פטור ממכרז | T40: 627450 | U40: תקנה 3ג - מימוש זכות ברירה | X40: 0.00 | Y40: 0.00 | AC40: 0.00 | AD40: 0.00 | AE40: לא רגיש | AF40: =VLOOKUP(G40,[1]הזמנות!A:B,2,0) -> G04 | AG40: =VLOOKUP(AF40,'[1]קבוצות רכש'!A:B,2,0) -> רוה"מ חוזים,יועצים
...
