Workbook

Sheet 2.2019
A1: שם חברה | B1: תאור של ארגון רכש | C1: שם אתר | D1: תקנה תקציבית | E1: תיאור תקנה תקציבית | F1: הזמנת רכש | G1: מטרת התקשרות | H1: תאריך יצירת ההזמנה | I1: סיום תקופת תוקף | J1: קוד ספק | K1: שם הספק | L1: מספר ח"פ | M1: ערך ההזמנה כולל מע"מ | N1: מטבע | O1: ביצוע חשבוניות מצטבר כולל מע"מ והצמדות | P1: מטבע חשבונית | Q1: אופן רכישה מקור | R1: מס' פנייה במנו"ף/מנור" | S1: סיבת פטור | T1: הזמנה רגישה | U1: קבוצת רכש
A2: רוה"מ | B2: משרד ראש הממשלה | C2: משרד ראש הממשלה | D2: 04510110 | E2: פעולות | F2: 4501116804 | G2: הוצאות תפעול | H2: 42306 | J2: 40008865 | K2: עידוד לקליטת אומן עולה (ע"ר) | L2: 580342996 | M2: 3000 | N2: ILS | O2: 3000 | P2: ILS | Q2: פטור ממכרז | S2: תקנה 3(1) - התקשרות ששוויה אינה עולה על 50,000 ש"ח | T2: לא | U2: G02 | V2: רוה"מ יחידת רכש
A3: רוה"מ | B3: משרד ראש הממשלה | C3: משרד ראש הממשלה | D3: 04510110 | E3: פעולות | F3: 4501244458 | G3: תפעול ותחזוקה | H3: 42548 | I3: 44006 | J3: 40005160 | K3: סומך חייקין | L3: 540002383 | M3: 314387.19 | N3: ILS | O3: 0 | Q3: תקנה 14ב - מכרז מרכזי | R3: 528639 | T3: לא | U3: G02 | V3: רוה"מ יחידת רכש
A4: רוה"מ | B4: משרד ראש הממשלה | C4: משרד ראש הממשלה | D4: 04510110 | E4: פעולות | F4: 4501352626 | G4: נסיעות חו"ל | H4: 42764 | J4: 41003244 | K4: משרד סוכנות/האוצר נסיעות ממשלתית | L4: 500107321 | M4: 24185.22 | N4: ILS | O4: 8454.31 | P4: ILS | Q4: אחר | T4: לא | U4: G03 | V4: רוה"מ נסיעות לחו"ל
A5: רוה"מ | B5: משרד ראש הממשלה | C5: משרד ראש הממשלה | D5: 04510110 | E5: פעולות | F5: 4501362178 | G5: הוצאות תפעול | H5: 42780 | I5: 43100 | J5: 40295695 | K5: עיתון ישראל היום בע"מ | L5: 513942151 | M5: 492 | N5: ILS | O5: 0 | Q5: פטור ממכרז | S5: תקנה 3(1) - התקשרות ששוויה אינה עולה על 50,000 ש"ח | T5: לא | U5: G02 | V5: רוה"מ יחידת רכש
A6: רוה"מ | B6: משרד ראש הממשלה | C6: משרד ראש הממשלה | D6: 04510110 | E6: פעולות | F6: 4501379317 | G6: נסיעות חו"ל | H6: 42810 | J6: 50000297 | K6: MINISTRY OF FOREIGN AFFAIRS VIA BAN | L6: 500101076 | M6: 13345 | N6: USD | O6: 34090.29 | P6: USD | Q6: אחר | T6: לא | U6: G03 | V6: רוה"מ נסיעות לחו"ל
A7: רוה"מ | B7: משרד ראש הממשלה | C7: משרד ראש הממשלה | D7: 04510110 | E7: פעולות | F7: 4501395000 | G7: נסיעות חו"ל | H7: 42850 | J7: 50000297 | K7: MINISTRY OF FOREIGN AFFAIRS VIA BAN | L7: 500101076 | M7: 2500 | N7: USD | O7: 0 | Q7: אחר | T7: לא | U7: G03 | V7: רוה"מ נסיעות לחו"ל
A8: רוה"מ | B8: משרד ראש הממשלה | C8: משרד ראש הממשלה | D8: 04510110 | E8: פעולות | F8: 4501395239 | G8: נסיעות חו"ל | H8: 42851 | J8: 50000297 | K8: MINISTRY OF FOREIGN AFFAIRS VIA BAN | L8: 500101076 | M8: 2500 | N8: USD | O8: 0 | Q8: התקשרות עם גופים ממשלתיים | T8: לא | U8: G03 | V8: רוה"מ נסיעות לחו"ל
A9: רוה"מ | B9: משרד ראש הממשלה | C9: משרד ראש הממשלה | D9: 04510110 | E9: פעולות | F9: 4501434899 | G9: שרותי ייעוץ | H9: 42927 | I9: 43291 | J9: 41067902 | K9: ספורטא אקשטין איתי | M9: 26500 | N9: ILS | O9: 0 | Q9: פטור ממכרז | S9: תקנה 3(1) - התקשרות ששוויה אינה עולה על 50,000 ש"ח | T9: לא | U9: G02 | V9: רוה"מ יחידת רכש
A10: רוה"מ | B10: משרד ראש הממשלה | C10: משרד ראש הממשלה | D10: 04510110 | E10: פעולות | F10: 4501436052 | G10: נסיעות חו"ל | H10: 42929 | J10: 41003244 | K10: משרד סוכנות/האוצר נסיעות ממשלתית | L10: 500107321 | M10: 2960 | N10: ILS | O10: 72.06 | P10: ILS | Q10: התקשרות עם גופים ממשלתיים | T10: לא | U10: G03 | V10: רוה"מ נסיעות לחו"ל
A11: רוה"מ | B11: משרד ראש הממשלה | C11: משרד ראש הממשלה | D11: 04510110 | E11: פעולות | F11: 4501449990 | G11: מנוי דיגיטלי לעיתון | H11: 42957 | I11: 43321 | J11: 50004142 | K11: THE NEW YORK TIMES | L11: 000000356 | M11: 98 | N11: USD | O11: 26.17 | P11: USD | Q11: פטור ממכרז | S11: תקנה 3(1) - התקשרות ששוויה אינה עולה על 50,000 ש"ח | T11: לא | U11: G02 | V11: רוה"מ יחידת רכש
A12: רוה"מ | B12: משרד ראש הממשלה | C12: משרד ראש הממשלה | D12: 04510110 | E12: פעולות | F12: 4501449998 | G12: מנוי דיגיטלי לעיתון | H12: 42957 | I12: 43321 | J12: 50046533 | K12: WOLL STREET JAVNA | L12: 4162000 | M12: 348 | N12: USD | O12: 3.51 | P12: USD | Q12: פטור ממכרז | S12: תקנה 3(1) - התקשרות ששוויה אינה עולה על 50,000 ש"ח | T12: לא | U12: G02 | V12: רוה"מ יחידת רכש
A13: רוה"מ | B13: משרד ראש הממשלה | C13: משרד ראש הממשלה | D13: 04510110 | E13: פעולות | F13: 4501450312 | G13: מנוי דיגיטלי לעיתון | H13: 42957 | I13: 43321 | J13: 50046534 | K13: WASHINGTON POST | L13: 3346100 | M13: 99 | N13: USD | O13: 66.75 | P13: USD | Q13: פטור ממכרז | S13: תקנה 3(1) - התקשרות ששוויה אינה עולה על 50,000 ש"ח | T13: לא | U13: G02 | V13: רוה"מ יחידת רכש
A14: רוה"מ | B14: משרד ראש הממשלה | C14: משרד ראש הממשלה | D14: 04510110 | E14: פעולות | F14: 4501462491 | G14: השכרת אולם לצורך כנס צוערים | H14: 42984 | J14: 40140406 | K14: שלוה - האגודה הישראלית לטיפול באנשי | L14: 580173987 | M14: 3000 | N14: ILS | O14: 0 | Q14: פטור ממכרז | S14: תקנה 3(1) - התקשרות ששוויה אינה עולה על 50,000 ש"ח | T14: לא | U14: G02 | V14: רוה"מ יחידת רכש
A15: רוה"מ | B15: משרד ראש הממשלה | C15: משרד ראש הממשלה | D15: 04510110 | E15: פעולות | F15: 4501482424 | G15: תחזוקת הר הרצל | H15: 43033 | I15: 43465 | J15: 40000247 | K15: ההסתדרות הציונית העולמית | L15: 500500350 | M15: 454550 | N15: ILS | O15: 378080.65 | P15: ILS | Q15: פטור ממכרז | R15: 9999 | S15: תקנה 3(19)(א) - הסוכנות היהודית או ההסתדרות הציונית | T15: לא | U15: G01 | V15: הוצאות קשיחות
A16: רוה"מ | B16: משרד ראש הממשלה | C16: משרד ראש הממשלה | D16: 04510110 | E16: פעולות | F16: 4501485976 | G16: הכשרת רחבת הכותל | H16: 43039 | I16: 44002 | J16: 40006929 | K16: רשות העתיקות | L16: 500500491 | M16: 2738664 | N16: ILS | O16: 1163927.5 | P16: ILS | Q16: פטור ממכרז | R16: 599657 | S16: תקנה 3(7) - תאגיד שהוקם בחוק | T16: לא | U16: G02 | V16: רוה"מ יחידת רכש
A17: רוה"מ | B17: משרד ראש הממשלה | C17: משרד ראש הממשלה | D17: 04510110 | E17: פעולות | F17: 4501505566 | G17: שירותי נציגות | H17: 43068 | J17: 50000297 | K17: MINISTRY OF FOREIGN AFFAIRS VIA BAN | L17: 500101076 | M17: 12779.72 | N17: USD | O17: 0 | P17: USD | Q17: התקשרות עם גופים ממשלתיים | T17: לא | U17: G03 | V17: רוה"מ נסיעות לחו"ל
A18: רוה"מ | B18: משרד ראש הממשלה | C18: משרד ראש הממשלה | D18: 04510110 | E18: פעולות | F18: 4501511549 | G18: כתיבת דו"ח | H18: 43076 | I18: 43465 | J18: 40240096 | K18: העמותה לקידום לימודי כלכלה וחברה (ע | L18: 580431237 | M18: 3000 | N18: ILS | O18: 0 | Q18: פטור ממכרז | S18: תקנה 3(1) - התקשרות ששוויה אינה עולה על 50,000 ש"ח | T18: לא | U18: G02 | V18: רוה"מ יחידת רכש
A19: רוה"מ | B19: משרד ראש הממשלה | C19: משרד ראש הממשלה | D19: 04510110 | E19: פעולות | F19: 4501512245 | G19: סדנה למובילי תוכניות עתודה | H19: 43076 | I19: 43465 | J19: 40314150 | K19: קולות בעם (ע"ר) | L19: 580301299 | M19: 2500 | N19: ILS | O19: 0 | Q19: פטור ממכרז | S19: תקנה 3(1) - התקשרות ששוויה אינה עולה על 50,000 ש"ח | T19: לא | U19: G02 | V19: רוה"מ יחידת רכש
A20: רוה"מ | B20: משרד ראש הממשלה | C20: משרד ראש הממשלה | D20: 04510110 | E20: פעולות | F20: 4501528418 | G20: נסיעות חול | H20: 43110 | J20: 41003244 | K20: משרד סוכנות/האוצר נסיעות ממשלתית | L20: 500107321 | M20: 3048.42 | N20: ILS | O20: 3048.42 | P20: ILS | Q20: התקשרות עם גופים ממשלתיים | T20: לא | U20: G03 | V20: רוה"מ נסיעות לחו"ל
A21: רוה"מ | B21: משרד ראש הממשלה | C21: משרד ראש הממשלה | D21: 04510110 | E21: פעולות | F21: 4501550025 | G21: נסיעות חו"ל | H21: 43145 | J21: 41003244 | K21: משרד סוכנות/האוצר נסיעות ממשלתית | L21: 500107321 | M21: 3734.79 | N21: ILS | O21: 3732.32 | P21: ILS | Q21: התקשרות עם גופים ממשלתיים | T21: לא | U21: G03 | V21: רוה"מ נסיעות לחו"ל
A22: רוה"מ | B22: משרד ראש הממשלה | C22: משרד ראש הממשלה | D22: 04510110 | E22: פעולות | F22: 4501555636 | G22: שרותי ניהול ותחזוקה קשת רובינסון | H22: 43157 | I22: 43510 | J22: 40003388 | K22: שיקום ולפתוח הרובע היהודי בעיר העתי | L22: 520028127 | M22: 2093397.9 | N22: ILS | O22: 1822870.5 | P22: ILS | Q22: פטור ממכרז | R22: 611493 | S22: תקנה 3(28) - נסיבות מיוחדות | T22: לא | U22: G02 | V22: רוה"מ יחידת רכש
A23: רוה"מ | B23: משרד ראש הממשלה | C23: משרד ראש הממשלה | D23: 04510110 | E23: פעולות | F23: 4501584394 | G23: נסיעות חו"ל | H23: 43226 | J23: 41003244 | K23: משרד סוכנות/האוצר נסיעות ממשלתית | L23: 500107321 | M23: 7288.5 | N23: ILS | O23: 7270.4 | P23: ILS | Q23: התקשרות עם גופים ממשלתיים | T23: לא | U23: G03 | V23: רוה"מ נסיעות לחו"ל
A24: רוה"מ | B24: משרד ראש הממשלה | C24: משרד ראש הממשלה | D24: 04510110 | E24: פעולות | F24: 4501584430 | G24: נסיעות חו"ל | H24: 43226 | J24: 41003244 | K24: משרד סוכנות/האוצר נסיעות ממשלתית | L24: 500107321 | M24: 3371.2 | N24: ILS | O24: 3367.73 | P24: ILS | Q24: התקשרות עם גופים ממשלתיים | T24: לא | U24: G03 | V24: רוה"מ נסיעות לחו"ל
A25: רוה"מ | B25: משרד ראש הממשלה | C25: משרד ראש הממשלה | D25: 04510110 | E25: פעולות | F25: 4501584523 | G25: נסיעות חו"ל | H25: 43226 | J25: 41003244 | K25: משרד סוכנות/האוצר נסיעות ממשלתית | L25: 500107321 | M25: 10967.4 | N25: ILS | O25: 10836.82 | P25: ILS | Q25: התקשרות עם גופים ממשלתיים | T25: לא | U25: G03 | V25: רוה"מ נסיעות לחו"ל
A26: רוה"מ | B26: משרד ראש הממשלה | C26: משרד ראש הממשלה | D26: 04510110 | E26: פעולות | F26: 4501584548 | G26: נסיעות חו"ל | H26: 43226 | J26: 41003244 | K26: משרד סוכנות/האוצר נסיעות ממשלתית | L26: 500107321 | M26: 8816 | N26: ILS | O26: 8672.69 | P26: ILS | Q26: התקשרות עם גופים ממשלתיים | T26: לא | U26: G03 | V26: רוה"מ נסיעות לחו"ל
A27: רוה"מ | B27: משרד ראש הממשלה | C27: משרד ראש הממשלה | D27: 04510110 | E27: פעולות | F27: 4501590909 | G27: נסיעות חו"ל | H27: 43241 | J27: 41003244 | K27: משרד סוכנות/האוצר נסיעות ממשלתית | L27: 500107321 | M27: 18015.72 | N27: ILS | O27: 18015.72 | P27: ILS | Q27: התקשרות עם גופים ממשלתיים | T27: לא | U27: G03 | V27: רוה"מ נסיעות לחו"ל
A28: רוה"מ | B28: משרד ראש הממשלה | C28: משרד ראש הממשלה | D28: 04510110 | E28: פעולות | F28: 4501591749 | G28: דמי מנוי לעיתון | H28: 43242 | I28: 43465 | J28: 40001037 | K28: הוצאת עתון הארץ בע"מ | L28: 510015449 | M28: 1575 | N28: ILS | O28: 0 | Q28: פטור ממכרז | S28: תקנה 3(1) - התקשרות ששוויה אינה עולה על 50,000 ש"ח | T28: לא | U28: G02 | V28: רוה"מ יחידת רכש
A29: רוה"מ | B29: משרד ראש הממשלה | C29: משרד ראש הממשלה | D29: 04510110 | E29: פעולות | F29: 4501593074 | G29: נסיעות חו"ל | H29: 43244 | J29: 41003244 | K29: משרד סוכנות/האוצר נסיעות ממשלתית | L29: 500107321 | M29: 15148 | N29: ILS | O29: 9416.35 | P29: ILS | Q29: התקשרות עם גופים ממשלתיים | T29: לא | U29: G03 | V29: רוה"מ נסיעות לחו"ל
A30: רוה"מ | B30: משרד ראש הממשלה | C30: משרד ראש הממשלה | D30: 04510110 | E30: פעולות | F30: 4501648131 | G30: נסיעות לחו"ל | H30: 43383 | I30: 43830 | J30: 50000297 | K30: MINISTRY OF FOREIGN AFFAIRS VIA BAN | L30: 500101076 | M30: 4025 | N30: USD | O30: 0 | Q30: התקשרות עם גופים ממשלתיים | T30: לא | U30: G03 | V30: רוה"מ נסיעות לחו"ל
A31: רוה"מ | B31: משרד ראש הממשלה | C31: משרד ראש הממשלה | D31: 04510110 | E31: פעולות | F31: 4501648964 | G31: דמי מנוי לעיתון | H31: 43387 | I31: 43830 | J31: 40011446 | K31: ידיעות מינויים | L31: 540181054 | M31: 900 | N31: ILS | O31: 820.8 | P31: ILS | Q31: פטור ממכרז | S31: תקנה 3(1) - התקשרות ששוויה אינה עולה על 50,000 ש"ח | T31: לא | U31: G02 | V31: רוה"מ יחידת רכש
A32: רוה"מ | B32: משרד ראש הממשלה | C32: משרד ראש הממשלה | D32: 04510110 | E32: פעולות | F32: 4501649015 | G32: שרותי ייעוץ | H32: 43387 | I32: 43699 | J32: 40314838 | K32: בריטמן אלמגור זוהר | L32: 557934692 | M32: 153590.58 | N32: ILS | O32: 76473.99 | P32: ILS | Q32: תקנה 3ג - מימוש זכות ברירה | T32: לא | U32: G02 | V32: רוה"מ יחידת רכש
A33: רוה"מ | B33: משרד ראש הממשלה | C33: משרד ראש הממשלה | D33: 04510110 | E33: פעולות | F33: 4501680634 | G33: נסיעת חול | H33: 43444 | J33: 41003244 | K33: משרד סוכנות/האוצר נסיעות ממשלתית | L33: 500107321 | M33: 16698 | N33: ILS | O33: 16626.39 | P33: ILS | Q33: התקשרות עם גופים ממשלתיים | T33: לא | U33: G03 | V33: רוה"מ נסיעות לחו"ל
A34: רוה"מ | B34: משרד ראש הממשלה | C34: משרד ראש הממשלה | D34: 04510110 | E34: פעולות | F34: 4501680668 | G34: נסיעת חול | H34: 43444 | J34: 41003244 | K34: משרד סוכנות/האוצר נסיעות ממשלתית | L34: 500107321 | M34: 9106.98 | N34: ILS | O34: 9067.01 | P34: ILS | Q34: התקשרות עם גופים ממשלתיים | T34: לא | U34: G03 | V34: רוה"מ נסיעות לחו"ל
A35: רוה"מ | B35: משרד ראש הממשלה | C35: משרד ראש הממשלה | D35: 04510110 | E35: פעולות | F35: 4501681989 | G35: דמי מנוי לעיתון | H35: 43446 | I35: 43830 | J35: 40176979 | K35: סטימצקי (2005) בע"מ | L35: 513742320 | M35: 2703.19 | N35: ILS | O35: 256.57 | P35: ILS | Q35: פטור ממכרז | S35: תקנה 3(1) - התקשרות ששוויה אינה עולה על 50,000 ש"ח | T35: לא | U35: G02 | V35: רוה"מ יחידת רכש
A36: רוה"מ | B36: משרד ראש הממשלה | C36: משרד ראש הממשלה | D36: 04510110 | E36: פעולות | F36: 4501682210 | G36: דמי מנוי לעיתון | H36: 43446 | I36: 43830 | J36: 40001037 | K36: הוצאת עתון הארץ בע"מ | L36: 510015449 | M36: 13782.99 | N36: ILS | O36: 11080.99 | P36: ILS | Q36: פטור ממכרז | S36: תקנה 3(1) - התקשרות ששוויה אינה עולה על 50,000 ש"ח | T36: לא | U36: G02 | V36: רוה"מ יחידת רכש
A37: רוה"מ | B37: משרד ראש הממשלה | C37: משרד ראש הממשלה | D37: 04510110 | E37: פעולות | F37: 4501689561 | G37: שרותי ייעוץ | H37: 43460 | I37: 43727 | J37: 40397632 | K37: מטריקס אי. טי. בע"מ | L37: 520039413 | M37: 120802.5 | N37: ILS | O37: 0 | Q37: פטור ממכרז | S37: תקנה 3(1) - התקשרות ששוויה אינה עולה על 50,000 ש"ח | T37: לא | U37: G02 | V37: רוה"מ יחידת רכש
A38: רוה"מ | B38: משרד ראש הממשלה | C38: משרד ראש הממשלה | D38: 04510110 | E38: פעולות | F38: 4501691064 | G38: יום עיון | H38: 43464 | I38: 43830 | J38: 41575887 | K38: שלוה מיזמי שילוב ותעסוקה בע"מ | L38: 515754364 | M38: 5000 | N38: ILS | O38: 0 | Q38: פטור ממכרז | S38: תקנה 3(1) - התקשרות ששוויה אינה עולה על 50,000 ש"ח | T38: לא | U38: G02 | V38: רוה"מ יחידת רכש
A39: רוה"מ | B39: משרד ראש הממשלה | C39: משרד ראש הממשלה | D39: 04510110 | E39: פעולות | F39: 4501691358 | G39: סדנה | H39: 43468 | I39: 43830 | J39: 41458518 | K39: דלויט אנליטיקס | L39: 540256195 | M39: 46800 | N39: ILS | O39: 38025 | P39: ILS | Q39: פטור ממכרז | S39: תקנה 3(1) - התקשרות ששוויה אינה עולה על 50,000 ש"ח | T39: לא | U39: G02 | V39: רוה"מ יחידת רכש
A40: רוה"מ | B40: משרד ראש הממשלה | C40: משרד ראש הממשלה | D40: 04510110 | E40: פעולות | F40: 4501692585 | G40: שירותי יעוץ להטמעת תרבות תכנון | H40: 43468 | I40: 43699 | J40: 40314838 | K40: בריטמן אלמגור זוהר | L40: 557934692 | M40: 70398.9 | N40: ILS | O40: 70398.9 | P40: ILS | Q40: פטור ממכרז | R40: 627982 | S40: תקנה 3ג - מימוש זכות ברירה | T40: לא | U40: G04 | V40: רוה"מ חוזים,יועצים
A41: רוה"מ | B41: משרד ראש הממשלה | C41: משרד ראש הממשלה | D41: 04510110 | E41: פעולות | F41: 4501694342 | G41: מיזם משותף מכון ירושלים וכלכלת ותשתיות | H41: 43472 | I41: 43776 | J41: 40000401 | K41: מכון ירושלים למחקרי מדיניות (ע''ר) | L41: 580051894 | M41: 96075 | N41: ILS | O41: 0 | Q41: פטור ממכרז | R41: 625794 | S41: תקנה 3(30) - מיזם משותף | T41: לא | U41: G04 | V41: רוה"מ חוזים,יועצים
A42: רוה"מ | B42: משרד ראש הממשלה | C42: משרד ראש הממשלה | D42: 04510110 | E42: פעולות | F42: 4501700476 | G42: שירותי יעוץ להטמעת תרבות תכנון | H42: 43482 | I42: 43699 | J42: 40314838 | K42: בריטמן אלמגור זוהר | L42: 557934692 | M42: 198400.41 | N42: ILS | O42: 198400.41 | P42: ILS | Q42: פטור ממכרז | R42: 627982 | S42: תקנה 3ג - מימוש זכות ברירה | T42: לא | U42: G04 | V42: רוה"מ חוזים,יועצים
A43: רוה"מ | B43: משרד ראש הממשלה | C43: משרד ראש הממשלה | D43: 04510110 | E43: פעולות | F43: 4501701457 | G43: דמי מנוי דיגיטלי | H43: 43485 | I43: 43830 | J43: 40001037 | K43: הוצאת עתון הארץ בע"מ | L43: 510015449 | M43: 377.33 | N43: ILS | O43: 312.8 | P43: ILS | Q43: פטור ממכרז | S43: תקנה 3(1) - התקשרות ששוויה אינה עולה על 50,000 ש"ח | T43: לא | U43: G02 | V43: רוה"מ יחידת רכש
A44: רוה"מ | B44: משרד ראש הממשלה | C44: משרד ראש הממשלה | D44: 04510110 | E44: פעולות | F44: 4501703246 | G44: יום עיון | H44: 43487 | I44: 43830 | J44: 40158741 | K44: מקום. ערכים ויוזמות - אדם בנוף בע"מ | L44: 511926479 | M44: 8611.2 | N44: ILS | O44: 8611.2 | P44: ILS | Q44: פטור ממכרז | S44: תקנה 3(1) - התקשרות ששוויה אינה עולה על 50,000 ש"ח | T44: לא | U44: G02 | V44: רוה"מ יחידת רכש
A45: רוה"מ | B45: משרד ראש הממשלה | C45: משרד ראש הממשלה | D45: 04510110 | E45: פעולות | F45: 4501300454 | G45: נסיעות חול | H45: 42682 | J45: 50000297 | K45: MINISTRY OF FOREIGN AFFAIRS VIA BAN | L45: 500101076 | M45: 43010 | N45: USD | O45: 0 | Q45: אחר | T45: לא | U45: G03 | V45: רוה"מ נסיעות לחו"ל
A46: רוה"מ | B46: משרד ראש הממשלה | C46: משרד ראש הממשלה | D46: 04510110 | E46: פעולות | F46: 4501336431 | G46: הוצאות תפעול | H46: 42739 | I46: 43951 | J46: 40386641 | K46: שטראוס מים בע"מ | L46: 513919779 | M46: 893.41 | N46: ILS | O46: 893.41 | P46: ILS | Q46: תקנה 14ב - מכרז מרכזי | R46: 535400 | T46: לא | U46: G02 | V46: רוה"מ יחידת רכש
A47: רוה"מ | B47: משרד ראש הממשלה | C47: משרד ראש הממשלה | D47: 04510110 | E47: פעולות | F47: 4501452850 | G47: מיזם ללימודים תחום ההנדסה | H47: 42963 | I47: 43327 | J47: 40000431 | K47: איסף - הקרן הבין-לאומית לחינוך | L47: 580074888 | M47: 1200500 | N47: ILS | O47: 756137.23 | P47: ILS | Q47: פטור ממכרז | R47: 598659 | S47: תקנה 3(30) - מיזם משותף | T47: לא | U47: G02 | V47: רוה"מ יחידת רכש
A48: רוה"מ | B48: משרד ראש הממשלה | C48: משרד ראש הממשלה | D48: 04510110 | E48: פעולות | F48: 4501473805 | G48: שרותי תחזוקה | H48: 43010 | I48: 43100 | J48: 40003388 | K48: שיקום ולפתוח הרובע היהודי בעיר העתי | L48: 520028127 | M48: 1026429 | N48: ILS | O48: 1001990.1 | P48: ILS | Q48: פטור ממכרז | R48: 602231 | S48: תקנה 3(29) - ספק יחיד | T48: לא | U48: G02 | V48: רוה"מ יחידת רכש
A49: רוה"מ | B49: משרד ראש הממשלה | C49: משרד ראש הממשלה | D49: 04510110 | E49: פעולות | F49: 4501522495 | G49: שירותי תחזוקה | H49: 43096 | I49: 43146 | J49: 40003388 | K49: שיקום ולפתוח הרובע היהודי בעיר העתי | L49: 520028127 | M49: 89524.49 | N49: ILS | O49: 41016.69 | P49: ILS | Q49: פטור ממכרז | R49: 609572 | S49: תקנה 3(29) - ספק יחיד | T49: לא | U49: G02 | V49: רוה"מ יחידת רכש
A50: רוה"מ | B50: משרד ראש הממשלה | C50: משרד ראש הממשלה | D50: 04510110 | E50: פעולות | F50: 4501526264 | G50: שרותי ייעוץ | H50: 43107 | I50: 43699 | J50: 40314838 | K50: בריטמן אלמגור זוהר | L50: 557934692 | M50: 310248.9 | N50: ILS | O50: 111933 | P50: ILS | Q50: תקנה 3ג - מימוש זכות ברירה | T50: לא | U50: G02 | V50: רוה"מ יחידת רכש
A51: רוה"מ | B51: משרד ראש הממשלה | C51: משרד ראש הממשלה | D51: 04510110 | E51: פעולות | F51: 4501528320 | G51: הוצאות קשיחות | H51: 43110 | I51: 43465 | J51: 40003288 | K51: ג.ט.י. הגן הטכנולוגי ירושלים בע"מ | L51: 511590275 | M51: 8687.95 | N51: ILS | O51: 8312.38 | P51: ILS | Q51: פטור ממכרז | R51: אין פניה במנוף | S51: תקנה 3(29) - ספק יחיד | T51: לא | U51: G04 | V51: רוה"מ חוזים,יועצים
A52: רוה"מ | B52: משרד ראש הממשלה | C52: משרד ראש הממשלה | D52: 04510110 | E52: פעולות | F52: 4501530530 | G52: תשלומי ביטוח | H52: 43114 | I52: 43830 | J52: 40089015 | K52: הפניקס חברה לביטוח בע"מ | L52: 520023185 | M52: 36455.84 | N52: ILS | O52: 30512 | P52: ILS | Q52: פטור ממכרז | R52: 610275 | S52: תקנה 3(3) - פגיעה מהותית בבטחון המדינה, ביחסי החוץ שלה ובכלכ | T52: לא | U52: G02 | V52: רוה"מ יחידת רכש
A53: רוה"מ | B53: משרד ראש הממשלה | C53: משרד ראש הממשלה | D53: 04510110 | E53: פעולות | F53: 4501535833 | G53: ארוחת ערב | H53: 43121 | I53: 43465 | J53: 41373588 | K53: מוסקוביץ הלן | L53: 313776064 | M53: 4244.55 | N53: ILS | O53: 2462.8 | P53: ILS | Q53: פטור ממכרז | S53: תקנה 3(1) - התקשרות ששוויה אינה עולה על 50,000 ש"ח | T53: לא | U53: G02 | V53: רוה"מ יחידת רכש
A54: רוה"מ | B54: משרד ראש הממשלה | C54: משרד ראש הממשלה | D54: 04510110 | E54: פעולות | F54: 4501611780 | G54: נסיעות חו"ל | H54: 43284 | J54: 41003244 | K54: משרד סוכנות/האוצר נסיעות ממשלתית | L54: 500107321 | M54: 3582 | N54: ILS | O54: 3536.1 | P54: ILS | Q54: התקשרות עם גופים ממשלתיים | T54: לא | U54: G03 | V54: רוה"מ נסיעות לחו"ל
A55: רוה"מ | B55: משרד ראש הממשלה | C55: משרד ראש הממשלה | D55: 04510110 | E55: פעולות | F55: 4501627808 | G55: פורטל מידע ממשלתי תחזוקה והקמה | H55: 43319 | I55: 43982 | J55: 40371942 | K55: פיונט טכנולוגיות בע"מ | L55: 512841016 | M55: 458837.04 | N55: ILS | O55: 114699.78 | P55: ILS | Q55: תקנה 14ב - מכרז מרכזי | R55: 577889 | T55: לא | U55: G06 | V55: רוה"מ טכנו' והמידע
A56: רוה"מ | B56: משרד ראש הממשלה | C56: משרד ראש הממשלה | D56: 04510110 | E56: פעולות | F56: 4501681959 | G56: דמי מנוי לעיתון | H56: 43446 | I56: 43830 | J56: 40295695 | K56: עיתון ישראל היום בע"מ | L56: 513942151 | M56: 2339.97 | N56: ILS | O56: 2256.38 | P56: ILS | Q56: פטור ממכרז | S56: תקנה 3(1) - התקשרות ששוויה אינה עולה על 50,000 ש"ח | T56: לא | U56: G02 | V56: רוה"מ יחידת רכש
A57: רוה"מ | B57: משרד ראש הממשלה | C57: משרד ראש הממשלה | D57: 04510110 | E57: פעולות | F57: 4501695466 | G57: שיתוף משאבי אנוש במסגרת מכרז שירותי יעוץ | H57: 43474 | I57: 43727 | J57: 40397632 | K57: מטריקס אי. טי. בע"מ | L57: 520039413 | M57: 173394 | N57: ILS | O57: 0 | Q57: תקנה 14ב - מכרז מרכזי | R57: 552845 | T57: לא | U57: G04 | V57: רוה"מ חוזים,יועצים
A58: רוה"מ | B58: משרד ראש הממשלה | C58: משרד ראש הממשלה | D58: 04510110 | E58: פעולות | F58: 4501119297 | G58: הוצאות תפעול | H58: 42311 | J58: 40242784 | K58: מ. א. מ. ירושלים (1988) חברה לשרותי | L58: 511258246 | M58: 35100 | N58: ILS | O58: 35100 | P58: ILS | Q58: פטור ממכרז | S58: תקנה 3(1) - התקשרות ששוויה אינה עולה על 50,000 ש"ח | T58: לא | U58: G02 | V58: רוה"מ יחידת רכש
A59: רוה"מ | B59: משרד ראש הממשלה | C59: משרד ראש הממשלה | D59: 04510110 | E59: פעולות | F59: 4501239524 | G59: שירותי יעוץ | H59: 42537 | I59: 42901 | J59: 41442398 | K59: חזן משה | L59: 028477586 | M59: 47499.55 | N59: ILS | O59: 0 | Q59: פטור ממכרז | S59: תקנה 3(1) - התקשרות ששוויה אינה עולה על 50,000 ש"ח | T59: לא | U59: G04 | V59: רוה"מ חוזים,יועצים
A60: רוה"מ | B60: משרד ראש הממשלה | C60: משרד ראש הממשלה | D60: 04510110 | E60: פעולות | F60: 4501305562 | G60: שירותי יעוץ | H60: 42689 | I60: 43053 | J60: 40040171 | K60: שלוסר אנליה לאורה | M60: 47501.06 | N60: ILS | O60: 0 | Q60: פטור ממכרז | S60: תקנה 3(1) - התקשרות ששוויה אינה עולה על 50,000 ש"ח | T60: לא | U60: G04 | V60: רוה"מ חוזים,יועצים
A61: רוה"מ | B61: משרד ראש הממשלה | C61: משרד ראש הממשלה | D61: 04510110 | E61: פעולות | F61: 4501375248 | G61: מחשב לכל ילד | H61: 42802 | I61: 43100 | J61: 40396456 | K61: המפעל הלאומי לפתוח חברתי | L61: 580231546 | M61: 10250000 | N61: ILS | O61: 10249970 | P61: ILS | Q61: פטור ממכרז | R61: 587510 | S61: תקנה 3(29) - ספק יחיד | T61: לא | U61: G04 | V61: רוה"מ חוזים,יועצים
A62: רוה"מ | B62: משרד ראש הממשלה | C62: משרד ראש הממשלה | D62: 04510110 | E62: פעולות | F62: 4501399691 | G62: תרגום | H62: 42862 | I62: 43600 | J62: 40005174 | K62: אם. ג'י. אס. פתרונות שפה | L62: 540179223 | M62: 138841.56 | N62: ILS | O62: 3107.85 | P62: ILS | Q62: תקנה 1ב - מכרז פומבי רגיל | R62: 577631 | T62: לא | U62: G02 | V62: רוה"מ יחידת רכש
A63: רוה"מ | B63: משרד ראש הממשלה | C63: משרד ראש הממשלה | D63: 04510110 | E63: פעולות | F63: 4501399702 | G63: תרגום | H63: 42862 | I63: 43710 | J63: 41344031 | K63: איי.בי.סי מילה תרגומים בע"מ | L63: 515264869 | M63: 209664 | N63: ILS | O63: 52227.31 | P63: ILS | Q63: תקנה 1ב - מכרז פומבי רגיל | R63: 577631 | T63: לא | U63: G02 | V63: רוה"מ יחידת רכש
A64: רוה"מ | B64: משרד ראש הממשלה | C64: משרד ראש הממשלה | D64: 04510110 | E64: פעולות | F64: 4501428018 | G64: הוצאות קשיחות | H64: 42914 | I64: 43299 | J64: 40001490 | K64: די.בי.אס. שרותי לווין (1998) בע"מ | L64: 512705138 | M64: 11383.21 | N64: ILS | O64: 8166.85 | P64: ILS | Q64: פטור ממכרז | S64: תקנה 3(1) - התקשרות ששוויה אינה עולה על 50,000 ש"ח | T64: לא | U64: G01 | V64: הוצאות קשיחות
A65: רוה"מ | B65: משרד ראש הממשלה | C65: משרד ראש הממשלה | D65: 04510110 | E65: פעולות | F65: 4501443500 | G65: תשלום ביטוחים | H65: 42946 | I65: 43159 | J65: 40009731 | K65: שימרון מולכו פרסקי ושו | L65: 557409349 | M65: 58500 | N65: ILS | O65: 53187.52 | P65: ILS | Q65: פטור ממכרז | S65: תקנה 3(1) - התקשרות ששוויה אינה עולה על 50,000 ש"ח | T65: לא | U65: G02 | V65: רוה"מ יחידת רכש
A66: רוה"מ | B66: משרד ראש הממשלה | C66: משרד ראש הממשלה | D66: 04510110 | E66: פעולות | F66: 4501452111 | G66: שעות ייעוץ | H66: 42962 | I66: 43293 | J66: 40819653 | K66: אבלזון רבקה | L66: 007590607 | M66: 60307.75 | N66: ILS | O66: 43963.34 | P66: ILS | Q66: פטור ממכרז | R66: 581943 | S66: תקנה 3ג - מימוש זכות ברירה | T66: לא | U66: G02 | V66: רוה"מ יחידת רכש
A67: רוה"מ | B67: משרד ראש הממשלה | C67: משרד ראש הממשלה | D67: 04510110 | E67: פעולות | F67: 4501486788 | G67: הוצאות קשיחות | H67: 43040 | I67: 43454 | J67: 40011045 | K67: הוט - מערכות תקשורת בע"מ | L67: 520040072 | M67: 31465.14 | N67: ILS | O67: 24827.24 | P67: ILS | Q67: פטור ממכרז | R67: 569347 | S67: תקנה 3(4)(ב)(3) - התקשרות המשך באישור ועדת פטור מרכזית | T67: לא | U67: G01 | V67: הוצאות קשיחות
A68: רוה"מ | B68: משרד ראש הממשלה | C68: משרד ראש הממשלה | D68: 04510110 | E68: פעולות | F68: 4501486869 | G68: שירותי ביקורת כספים | H68: 43040 | I68: 43465 | J68: 40005659 | K68: בן דוד שלוי קופ ושות' רואי חשבון (ב | L68: 513464842 | M68: 468000 | N68: ILS | O68: 501433.1 | P68: ILS | Q68: פטור ממכרז | R68: 604482 | S68: תקנה 3ג - מימוש זכות ברירה | T68: לא | U68: G02 | V68: רוה"מ יחידת רכש
A69: רוה"מ | B69: משרד ראש הממשלה | C69: משרד ראש הממשלה | D69: 04510110 | E69: פעולות | F69: 4501507122 | G69: ייעוץ | H69: 43069 | I69: 43404 | J69: 41563845 | K69: ירון בלום בע"מ | L69: 514735653 | M69: 26379.99 | N69: ILS | O69: 22630.61 | P69: ILS | Q69: אחר | R69: 607708 | T69: לא | U69: G02 | V69: רוה"מ יחידת רכש
A70: רוה"מ | B70: משרד ראש הממשלה | C70: משרד ראש הממשלה | D70: 04510110 | E70: פעולות | F70: 4501518987 | G70: דמי מנוי לעיתון | H70: 43089 | I70: 43465 | J70: 40011446 | K70: ידיעות מינויים | L70: 540181054 | M70: 10558.08 | N70: ILS | O70: 8871.26 | P70: ILS | Q70: פטור ממכרז | S70: תקנה 3(1) - התקשרות ששוויה אינה עולה על 50,000 ש"ח | T70: לא | U70: G02 | V70: רוה"מ יחידת רכש
A71: רוה"מ | B71: משרד ראש הממשלה | C71: משרד ראש הממשלה | D71: 04510110 | E71: פעולות | F71: 4501519085 | G71: דמי מנוי לעיתון | H71: 43089 | I71: 43465 | J71: 40001158 | K71: גלובס פבלישר עתונות (1983) בע"מ | L71: 510989940 | M71: 4577.04 | N71: ILS | O71: 0 | P71: ILS | Q71: פטור ממכרז | S71: תקנה 3(1) - התקשרות ששוויה אינה עולה על 50,000 ש"ח | T71: לא | U71: G02 | V71: רוה"מ יחידת רכש
A72: רוה"מ | B72: משרד ראש הממשלה | C72: משרד ראש הממשלה | D72: 04510110 | E72: פעולות | F72: 4501519264 | G72: דמי מנוי לעיתון | H72: 43089 | I72: 43465 | J72: 40176979 | K72: סטימצקי (2005) בע"מ | L72: 513742320 | M72: 1123.1 | N72: ILS | O72: 259.18 | P72: ILS | Q72: פטור ממכרז | S72: תקנה 3(1) - התקשרות ששוויה אינה עולה על 50,000 ש"ח | T72: לא | U72: G02 | V72: רוה"מ יחידת רכש
A73: רוה"מ | B73: משרד ראש הממשלה | C73: משרד ראש הממשלה | D73: 04510110 | E73: פעולות | F73: 4501522692 | G73: פרויקט מחשב לכל ילד-2018 | H73: 43097 | I73: 43465 | J73: 40396456 | K73: המפעל הלאומי לפתוח חברתי | L73: 580231546 | M73: 9369359 | N73: ILS | O73: 9369359 | P73: ILS | Q73: פטור ממכרז | R73: 999999 | S73: תקנה 3(29) - ספק יחיד | T73: לא | U73: G01 | V73: הוצאות קשיחות
A74: רוה"מ | B74: משרד ראש הממשלה | C74: משרד ראש הממשלה | D74: 04510110 | E74: פעולות | F74: 4501524185 | G74: חניות לעובדי תקשוב בגטי | H74: 43103 | I74: 43465 | J74: 40003288 | K74: ג.ט.י. הגן הטכנולוגי ירושלים בע"מ | L74: 511590275 | M74: 121475.5 | N74: ILS | O74: 77432.58 | P74: ILS | Q74: פטור ממכרז | R74: 609855 | S74: תקנה 3(4)(ב)(1) - התקשרות המשך באישור ועדת מכרזים משרדית | T74: לא | U74: G02 | V74: רוה"מ יחידת רכש
A75: רוה"מ | B75: משרד ראש הממשלה | C75: משרד ראש הממשלה | D75: 04510110 | E75: פעולות | F75: 4501534524 | G75: הזמנת אוטובוס לסיור | H75: 43118 | I75: 43465 | J75: 40010480 | K75: מסיעי אריה שאשא בע"מ | L75: 510840028 | M75: 1250.03 | N75: ILS | O75: 1288.91 | P75: ILS | Q75: תקנה 14ב - מכרז מרכזי | R75: 568602 | T75: לא | U75: G02 | V75: רוה"מ יחידת רכש
A76: רוה"מ | B76: משרד ראש הממשלה | C76: משרד ראש הממשלה | D76: 04510110 | E76: פעולות | F76: 4501535410 | G76: כיבודים | H76: 43121 | I76: 43465 | J76: 40001389 | K76: ארבע עונות קייטרינג בבלי שמר בע"מ | L76: 512164310 | M76: 2897.39 | N76: ILS | O76: 2027 | P76: ILS | Q76: פטור ממכרז | S76: תקנה 3(1) - התקשרות ששוויה אינה עולה על 50,000 ש"ח | T76: לא | U76: G02 | V76: רוה"מ יחידת רכש
A77: רוה"מ | B77: משרד ראש הממשלה | C77: משרד ראש הממשלה | D77: 04510110 | E77: פעולות | F77: 4501538047 | G77: שרותי ייעוץ | H77: 43124 | I77: 43537 | J77: 41567431 | K77: אלברגר לואיס ראובן | L77: 015711997 | M77: 37366 | N77: ILS | O77: 1568.97 | P77: ILS | Q77: פטור ממכרז | S77: תקנה 3(1) - התקשרות ששוויה אינה עולה על 50,000 ש"ח | T77: לא | U77: G02 | V77: רוה"מ יחידת רכש
A78: רוה"מ | B78: משרד ראש הממשלה | C78: משרד ראש הממשלה | D78: 04510110 | E78: פעולות | F78: 4501611544 | G78: ערב גיבוש - אגף חשבות | H78: 43284 | I78: 43465 | J78: 40141063 | K78: "ירושלים הקטנה" - שרותי אירוח בע"מ | L78: 512567967 | M78: 6749.73 | N78: ILS | O78: 5399.78 | P78: ILS | Q78: פטור ממכרז | S78: תקנה 3(1) - התקשרות ששוויה אינה עולה על 50,000 ש"ח | T78: לא | U78: G02 | V78: רוה"מ יחידת רכש
A79: רוה"מ | B79: משרד ראש הממשלה | C79: משרד ראש הממשלה | D79: 04510110 | E79: פעולות | F79: 4501632390 | G79: דמי מנוי לעיתון | H79: 43328 | I79: 43465 | J79: 40176979 | K79: סטימצקי (2005) בע"מ | L79: 513742320 | M79: 735.15 | N79: ILS | O79: 0 | Q79: פטור ממכרז | S79: תקנה 3(1) - התקשרות ששוויה אינה עולה על 50,000 ש"ח | T79: לא | U79: G02 | V79: רוה"מ יחידת רכש
A80: רוה"מ | B80: משרד ראש הממשלה | C80: משרד ראש הממשלה | D80: 04510110 | E80: פעולות | F80: 4501632462 | G80: הוצאות קשיחות - שירותי צפייה | H80: 43331 | I80: 43664 | J80: 40001490 | K80: די.בי.אס. שרותי לווין (1998) בע"מ | L80: 512705138 | M80: 10828.63 | N80: ILS | O80: 7646.18 | P80: ILS | Q80: פטור ממכרז | S80: תקנה 3(1) - התקשרות ששוויה אינה עולה על 50,000 ש"ח | T80: לא | U80: G01 | V80: הוצאות קשיחות
A81: רוה"מ | B81: משרד ראש הממשלה | C81: משרד ראש הממשלה | D81: 04510110 | E81: פעולות | F81: 4501643823 | G81: עבודות דפוס | H81: 43375 | I81: 43830 | J81: 41612416 | K81: קורן מירב סטפני | L81: 038094462 | M81: 12402 | N81: ILS | O81: 1940.33 | P81: ILS | Q81: פטור ממכרז | S81: תקנה 3(1) - התקשרות ששוויה אינה עולה על 50,000 ש"ח | T81: לא | U81: G02 | V81: רוה"מ יחידת רכש
A82: רוה"מ | B82: משרד ראש הממשלה | C82: משרד ראש הממשלה | D82: 04510110 | E82: פעולות | F82: 4501662558 | G82: פעילות חברתית אגף כלכלה ותשתיות | H82: 43415 | I82: 43780 | J82: 41517045 | K82: נחום אוהד | L82: 040912586 | M82: 809.97 | N82: ILS | O82: 0 | Q82: פטור ממכרז | S82: תקנה 3(1) - התקשרות ששוויה אינה עולה על 50,000 ש"ח | T82: לא | U82: G02 | V82: רוה"מ יחידת רכש
A83: רוה"מ | B83: משרד ראש הממשלה | C83: משרד ראש הממשלה | D83: 04510110 | E83: פעולות | F83: 4501663047 | G83: פעילות חברתית אגף כלכלה ותשתיות | H83: 43415 | I83: 43780 | J83: 40329386 | K83: קפית בגן (2008) בע"מ | L83: 514173863 | M83: 525.97 | N83: ILS | O83: 0 | Q83: פטור ממכרז | S83: תקנה 3(1) - התקשרות ששוויה אינה עולה על 50,000 ש"ח | T83: לא | U83: G02 | V83: רוה"מ יחידת רכש
A84: רוה"מ | B84: משרד ראש הממשלה | C84: משרד ראש הממשלה | D84: 04510110 | E84: פעולות | F84: 4501665162 | G84: מיזם משותף - סטודנטים מהפריפריה | H84: 43418 | I84: 43710 | J84: 40000431 | K84: איסף - הקרן הבין-לאומית לחינוך | L84: 580074888 | M84: 1560250 | N84: ILS | O84: 581550.49 | P84: ILS | Q84: פטור ממכרז | R84: 620882 | S84: תקנה 3(30) - מיזם משותף | T84: לא | U84: G04 | V84: רוה"מ חוזים,יועצים
A85: רוה"מ | B85: משרד ראש הממשלה | C85: משרד ראש הממשלה | D85: 04510110 | E85: פעולות | F85: 4501670202 | G85: יעוץ | H85: 43426 | I85: 43769 | J85: 41563845 | K85: ירון בלום בע"מ | L85: 514735653 | M85: 668179.98 | N85: ILS | O85: 362956.23 | P85: ILS | Q85: תקנה 3ג - מימוש זכות ברירה | R85: 625036 | T85: לא | U85: G04 | V85: רוה"מ חוזים,יועצים
A86: רוה"מ | B86: משרד ראש הממשלה | C86: משרד ראש הממשלה | D86: 04510110 | E86: פעולות | F86: 4501672975 | G86: מתנות | H86: 43432 | I86: 43830 | J86: 40000885 | K86: צחובוי אילן | L86: 050719913 | M86: 2457 | N86: ILS | O86: 2457 | P86: ILS | Q86: פטור ממכרז | S86: תקנה 3(1) - התקשרות ששוויה אינה עולה על 50,000 ש"ח | T86: לא | U86: G02 | V86: רוה"מ יחידת רכש
A87: רוה"מ | B87: משרד ראש הממשלה | C87: משרד ראש הממשלה | D87: 04510110 | E87: פעולות | F87: 4501680652 | G87: נסיעת חול | H87: 43444 | J87: 41003244 | K87: משרד סוכנות/האוצר נסיעות ממשלתית | L87: 500107321 | M87: 3046 | N87: ILS | O87: 3048 | P87: ILS | Q87: התקשרות עם גופים ממשלתיים | T87: לא | U87: G03 | V87: רוה"מ נסיעות לחו"ל
A88: רוה"מ | B88: משרד ראש הממשלה | C88: משרד ראש הממשלה | D88: 04510110 | E88: פעולות | F88: 4501682242 | G88: דמי מנוי לעיתון | H88: 43446 | I88: 43830 | J88: 40001417 | K88: ג'רוזלם פוסט בע"מ | L88: 512311598 | M88: 6116.15 | N88: ILS | O88: 6048.87 | P88: ILS | Q88: פטור ממכרז | S88: תקנה 3(1) - התקשרות ששוויה אינה עולה על 50,000 ש"ח | T88: לא | U88: G02 | V88: רוה"מ יחידת רכש
A89: רוה"מ | B89: משרד ראש הממשלה | C89: משרד ראש הממשלה | D89: 04510110 | E89: פעולות | F89: 4501686344 | G89: ארוחת צהריים במסגרת פגישה | H89: 43453 | I89: 43830 | J89: 40461029 | K89: פשם חוצות בע"מ | L89: 513754309 | M89: 594.92 | N89: ILS | O89: 382.45 | P89: ILS | Q89: פטור ממכרז | S89: תקנה 3(1) - התקשרות ששוויה אינה עולה על 50,000 ש"ח | T89: לא | U89: G02 | V89: רוה"מ יחידת רכש
A90: רוה"מ | B90: משרד ראש הממשלה | C90: משרד ראש הממשלה | D90: 04510110 | E90: פעולות | F90: 4501689560 | G90: שירותי ביקורת חיצונית - חשבות | H90: 43460 | I90: 43830 | J90: 40005659 | K90: בן דוד שלוי קופ ושות' רואי חשבון (ב | L90: 513464842 | M90: 468000 | N90: ILS | O90: 521831.48 | P90: ILS | Q90: פטור ממכרז | R90: 623502 | S90: תקנה 3ג - מימוש זכות ברירה | T90: לא | U90: G04 | V90: רוה"מ חוזים,יועצים
A91: רוה"מ | B91: משרד ראש הממשלה | C91: משרד ראש הממשלה | D91: 04510110 | E91: פעולות | F91: 4501696572 | G91: חנית עובדים בגן הטכנולוגי | H91: 43475 | I91: 43830 | J91: 40003288 | K91: ג.ט.י. הגן הטכנולוגי ירושלים בע"מ | L91: 511590275 | M91: 85166.64 | N91: ILS | O91: 26743.86 | P91: ILS | Q91: פטור ממכרז | R91: 627450 | S91: תקנה 3ג - מימוש זכות ברירה | T91: לא | U91: G04 | V91: רוה"מ חוזים,יועצים
A92: רוה"מ | B92: משרד ראש הממשלה | C92: משרד ראש הממשלה | D92: 04510110 | E92: פעולות | F92: 4501699083 | G92: נסיעת חול | H92: 43480 | J92: 41003244 | K92: משרד סוכנות/האוצר נסיעות ממשלתית | L92: 500107321 | M92: 9333.06 | N92: ILS | O92: 9333.06 | P92: ILS | Q92: התקשרות עם גופים ממשלתיים | T92: לא | U92: G03 | V92: רוה"מ נסיעות לחו"ל
A93: רוה"מ | B93: משרד ראש הממשלה | C93: משרד ראש הממשלה | D93: 04510110 | E93: פעולות | F93: 4501704117 | G93: פרויקט מחשב לכל ילד 2019 | H93: 43489 | I93: 43830 | J93: 40396456 | K93: המפעל הלאומי לפתוח חברתי | L93: 580231546 | M93: 10250000 | N93: ILS | O93: 2369880 | P93: ILS | Q93: פטור ממכרז | R93: 999999 | S93: תקנה 3(29) - ספק יחיד | T93: לא | U93: G01 | V93: הוצאות קשיחות
A94: רוה"מ | B94: משרד ראש הממשלה | C94: משרד ראש הממשלה | D94: 04510110 | E94: פעולות | F94: 4501352738 | G94: הוצאות קשיחות | H94: 42764 | I94: 43067 | J94: 40003496 | K94: כלכלית ירושלים בע"מ | L94: 520017070 | M94: 1177.61 | N94: ILS | O94: 0 | Q94: פטור ממכרז | S94: תקנה 3(1) - התקשרות ששוויה אינה עולה על 50,000 ש"ח | T94: לא | U94: G01 | V94: הוצאות קשיחות
A95: רוה"מ | B95: משרד ראש הממשלה | C95: משרד ראש הממשלה | D95: 04510110 | E95: פעולות | F95: 4501441965 | G95: הוצאות קשיחות- תחזוקה | H95: 42942 | I95: 42369 | J95: 40003496 | K95: כלכלית ירושלים בע"מ | L95: 520017070 | M95: 2069.07 | N95: ILS | O95: 0 | Q95: פטור ממכרז | S95: תקנה 3(1) - התקשרות ששוויה אינה עולה על 50,000 ש"ח | T95: לא | U95: G01 | V95: הוצאות קשיחות
A96: רוה"מ | B96: משרד ראש הממשלה | C96: משרד ראש הממשלה | D96: 04510110 | E96: פעולות | F96: 4501544276 | G96: הוצאות תחזוקה-כנפי נשרים 24 | H96: 43136 | I96: 43721 | J96: 40003496 | K96: כלכלית ירושלים בע"מ | L96: 520017070 | M96: 5139.75 | N96: ILS | O96: 2425.16 | P96: ILS | Q96: פטור ממכרז | R96: אין פניה במנוף | S96: תקנה 3(29) - ספק יחיד | T96: לא | U96: G01 | V96: הוצאות קשיחות
A97: רוה"מ | B97: משרד ראש הממשלה | C97: משרד ראש הממשלה | D97: 04510110 | E97: פעולות | F97: 4501669321 | G97: מחקרים למועצה הלאומית לכלכלה | H97: 43425 | I97: 44155 | J97: 41052601 | K97: מכון למחקר כלכלי על שם ד"ר ישעיהו פ | L97: 580007714 | M97: 796989 | N97: ILS | O97: 93800 | P97: ILS | Q97: מכרז פומבי רגיל ממוכן | R97: 609276 | T97: לא | U97: G04 | V97: רוה"מ חוזים,יועצים
A98: רוה"מ | B98: משרד ראש הממשלה | C98: משרד ראש הממשלה | D98: 04510110 | E98: פעולות | F98: 4501729566 | G98: יין לעובדים לפורים | H98: 43538 | I98: 43830 | J98: 41133380 | K98: באשר פרומז'רי בע"מ | L98: 514152933 | M98: 1679.89 | N98: ILS | O98: 1679.89 | P98: ILS | Q98: פטור ממכרז | S98: תקנה 3(1) - התקשרות ששוויה אינה עולה על 50,000 ש"ח | T98: לא | U98: G02 | V98: רוה"מ יחידת רכש
A99: רוה"מ | B99: משרד ראש הממשלה | C99: משרד ראש הממשלה | D99: 04510110 | E99: פעולות | F99: 4501766782 | G99: כסאות | H99: 43629 | I99: 43830 | J99: 40003692 | K99: טופ-ליין יבוא ושיווק רהיטים בע"מ | L99: 511613564 | M99: 2828.22 | N99: ILS | O99: 0 | Q99: תקנה 14ב - מכרז מרכזי | R99: 559541 | T99: לא | U99: G02 | V99: רוה"מ יחידת רכש
A100: רוה"מ | B100: משרד ראש הממשלה | C100: משרד ראש הממשלה | D100: 04510110 | E100: פעולות | F100: 4501129626 | G100: שירותי ייעוץ | H100: 42331 | I100: 43465 | J100: 40005160 | K100: סומך חייקין | L100: 540002383 | M100: 149129.55 | N100: ILS | O100: 139265.78 | P100: ILS | Q100: תקנה 14ב - מכרז מרכזי | R100: 528639 | T100: לא | U100: G04 | V100: רוה"מ חוזים,יועצים
...

Sheet 3.2019
A1: שם חברה | B1: תאור של ארגון רכש | C1: שם אתר | D1: תקנה תקציבית | E1: תיאור תקנה תקציבית | F1: הזמנת רכש | G1: מטרת התקשרות | H1: תאריך יצירת ההזמנה | I1: סיום תקופת תוקף | J1: קוד ספק | K1: שם הספק | L1: מספר ח"פ | M1: ערך ההזמנה כולל מע"מ | N1: מטבע | O1: ביצוע חשבוניות מצטבר כולל מע"מ והצמדות | P1: מטבע חשבונית | Q1: אופן רכישה מקור | R1: מס' פנייה במנו"ף/מנור" | S1: סיבת פטור | T1: הזמנה רגישה | U1: קבוצת רכש
A2: רוה"מ | B2: משרד ראש הממשלה | C2: משרד ראש הממשלה | D2: 04510110 | E2: פעולות | F2: 4501802474 | G2: נסיעות חול | H2: 43713 | J2: 41003244 | K2: משרד סוכנות/האוצר נסיעות ממשלתית | L2: 500107321 | M2: 4404.58 | N2: ILS | O2: 71.58 | P2: ILS | Q2: התקשרות עם גופים ממשלתיים | T2: לא | U2: G03 | V2: רוה"מ נסיעות לחו"ל
A3: רוה"מ | B3: משרד ראש הממשלה | C3: משרד ראש הממשלה | D3: 04510110 | E3: פעולות | F3: 4501535833 | G3: ארוחת ערב | H3: 43121 | I3: 43465 | J3: 41373588 | K3: מוסקוביץ הלן | L3: 313776064 | M3: 4244.55 | N3: ILS | O3: 2462.8 | P3: ILS | Q3: פטור ממכרז | S3: תקנה 3(1) - התקשרות ששוויה אינה עולה על 50,000 ש"ח | T3: לא | U3: G02 | V3: רוה"מ יחידת רכש
A4: רוה"מ | B4: משרד ראש הממשלה | C4: משרד ראש הממשלה | D4: 04510110 | E4: פעולות | F4: 4501686344 | G4: ארוחת צהריים במסגרת פגישה | H4: 43453 | I4: 43830 | J4: 40461029 | K4: פשם חוצות בע"מ | L4: 513754309 | M4: 594.92 | N4: ILS | O4: 382.45 | P4: ILS | Q4: פטור ממכרז | S4: תקנה 3(1) - התקשרות ששוויה אינה עולה על 50,000 ש"ח | T4: לא | U4: G02 | V4: רוה"מ יחידת רכש
A5: רוה"מ | B5: משרד ראש הממשלה | C5: משרד ראש הממשלה | D5: 04510110 | E5: פעולות | F5: 4501779074 | G5: ביצוע מחקר | H5: 43656 | I5: 44356 | J5: 50001954 | K5: oecd/CEMT | L5: R3605/03711/4612 | M5: 120000 | N5: EUR | O5: 234594 | P5: EUR | Q5: פטור ממכרז | R5: לא בוצעה פניה | S5: תקנה 3(31) - התקשרות עם תושב חוץ | T5: לא | U5: G04 | V5: רוה"מ חוזים,יועצים
A6: רוה"מ | B6: משרד ראש הממשלה | C6: משרד ראש הממשלה | D6: 04510110 | E6: פעולות | F6: 4501701457 | G6: דמי מנוי דיגיטלי | H6: 43485 | I6: 43830 | J6: 40001037 | K6: הוצאת עתון הארץ בע"מ | L6: 510015449 | M6: 377.33 | N6: ILS | O6: 312.8 | P6: ILS | Q6: פטור ממכרז | S6: תקנה 3(1) - התקשרות ששוויה אינה עולה על 50,000 ש"ח | T6: לא | U6: G02 | V6: רוה"מ יחידת רכש
A7: רוה"מ | B7: משרד ראש הממשלה | C7: משרד ראש הממשלה | D7: 04510110 | E7: פעולות | F7: 4501591749 | G7: דמי מנוי לעיתון | H7: 43242 | I7: 43465 | J7: 40001037 | K7: הוצאת עתון הארץ בע"מ | L7: 510015449 | M7: 1575 | N7: ILS | O7: 0 | Q7: פטור ממכרז | S7: תקנה 3(1) - התקשרות ששוויה אינה עולה על 50,000 ש"ח | T7: לא | U7: G02 | V7: רוה"מ יחידת רכש
A8: רוה"מ | B8: משרד ראש הממשלה | C8: משרד ראש הממשלה | D8: 04510110 | E8: פעולות | F8: 4501648964 | G8: דמי מנוי לעיתון | H8: 43387 | I8: 43830 | J8: 40011446 | K8: ידיעות מינויים | L8: 540181054 | M8: 900 | N8: ILS | O8: 820.8 | P8: ILS | Q8: פטור ממכרז | S8: תקנה 3(1) - התקשרות ששוויה אינה עולה על 50,000 ש"ח | T8: לא | U8: G02 | V8: רוה"מ יחידת רכש
A9: רוה"מ | B9: משרד ראש הממשלה | C9: משרד ראש הממשלה | D9: 04510110 | E9: פעולות | F9: 4501681989 | G9: דמי מנוי לעיתון | H9: 43446 | I9: 43830 | J9: 40176979 | K9: סטימצקי (2005) בע"מ | L9: 513742320 | M9: 2703.19 | N9: ILS | O9: 2206.81 | P9: ILS | Q9: פטור ממכרז | S9: תקנה 3(1) - התקשרות ששוויה אינה עולה על 50,000 ש"ח | T9: לא | U9: G02 | V9: רוה"מ יחידת רכש
A10: רוה"מ | B10: משרד ראש הממשלה | C10: משרד ראש הממשלה | D10: 04510110 | E10: פעולות | F10: 4501681959 | G10: דמי מנוי לעיתון | H10: 43446 | I10: 43830 | J10: 40295695 | K10: עיתון ישראל היום בע"מ | L10: 513942151 | M10: 2339.97 | N10: ILS | O10: 2256.38 | P10: ILS | Q10: פטור ממכרז | S10: תקנה 3(1) - התקשרות ששוויה אינה עולה על 50,000 ש"ח | T10: לא | U10: G02 | V10: רוה"מ יחידת רכש
A11: רוה"מ | B11: משרד ראש הממשלה | C11: משרד ראש הממשלה | D11: 04510110 | E11: פעולות | F11: 4501518987 | G11: דמי מנוי לעיתון | H11: 43089 | I11: 43465 | J11: 40011446 | K11: ידיעות מינויים | L11: 540181054 | M11: 10558.08 | N11: ILS | O11: 8871.26 | P11: ILS | Q11: פטור ממכרז | S11: תקנה 3(1) - התקשרות ששוויה אינה עולה על 50,000 ש"ח | T11: לא | U11: G02 | V11: רוה"מ יחידת רכש
A12: רוה"מ | B12: משרד ראש הממשלה | C12: משרד ראש הממשלה | D12: 04510110 | E12: פעולות | F12: 4501519085 | G12: דמי מנוי לעיתון | H12: 43089 | I12: 43465 | J12: 40001158 | K12: גלובס פבלישר עתונות (1983) בע"מ | L12: 510989940 | M12: 4577.04 | N12: ILS | O12: 0 | P12: ILS | Q12: פטור ממכרז | S12: תקנה 3(1) - התקשרות ששוויה אינה עולה על 50,000 ש"ח | T12: לא | U12: G02 | V12: רוה"מ יחידת רכש
A13: רוה"מ | B13: משרד ראש הממשלה | C13: משרד ראש הממשלה | D13: 04510110 | E13: פעולות | F13: 4501519264 | G13: דמי מנוי לעיתון | H13: 43089 | I13: 43465 | J13: 40176979 | K13: סטימצקי (2005) בע"מ | L13: 513742320 | M13: 1123.1 | N13: ILS | O13: 1015.12 | P13: ILS | Q13: פטור ממכרז | S13: תקנה 3(1) - התקשרות ששוויה אינה עולה על 50,000 ש"ח | T13: לא | U13: G02 | V13: רוה"מ יחידת רכש
A14: רוה"מ | B14: משרד ראש הממשלה | C14: משרד ראש הממשלה | D14: 04510110 | E14: פעולות | F14: 4501632390 | G14: דמי מנוי לעיתון | H14: 43328 | I14: 43465 | J14: 40176979 | K14: סטימצקי (2005) בע"מ | L14: 513742320 | M14: 735.15 | N14: ILS | O14: 0 | Q14: פטור ממכרז | S14: תקנה 3(1) - התקשרות ששוויה אינה עולה על 50,000 ש"ח | T14: לא | U14: G02 | V14: רוה"מ יחידת רכש
A15: רוה"מ | B15: משרד ראש הממשלה | C15: משרד ראש הממשלה | D15: 04510110 | E15: פעולות | F15: 4501682210 | G15: דמי מנוי לעיתון | H15: 43446 | I15: 43830 | J15: 40001037 | K15: הוצאת עתון הארץ בע"מ | L15: 510015449 | M15: 13509.99 | N15: ILS | O15: 10807.99 | P15: ILS | Q15: פטור ממכרז | S15: תקנה 3(1) - התקשרות ששוויה אינה עולה על 50,000 ש"ח | T15: לא | U15: G02 | V15: רוה"מ יחידת רכש
A16: רוה"מ | B16: משרד ראש הממשלה | C16: משרד ראש הממשלה | D16: 04510110 | E16: פעולות | F16: 4501682242 | G16: דמי מנוי לעיתון | H16: 43446 | I16: 43830 | J16: 40001417 | K16: ג'רוזלם פוסט בע"מ | L16: 512311598 | M16: 6116.15 | N16: ILS | O16: 6048.87 | P16: ILS | Q16: פטור ממכרז | S16: תקנה 3(1) - התקשרות ששוויה אינה עולה על 50,000 ש"ח | T16: לא | U16: G02 | V16: רוה"מ יחידת רכש
A17: רוה"מ | B17: משרד ראש הממשלה | C17: משרד ראש הממשלה | D17: 04510110 | E17: פעולות | F17: 4501749071 | G17: דמי מנוי לעיתון | H17: 43587 | I17: 43830 | J17: 40001417 | K17: ג'רוזלם פוסט בע"מ | L17: 512311598 | M17: 1019.39 | N17: ILS | O17: 372.61 | P17: ILS | Q17: פטור ממכרז | S17: תקנה 3(1) - התקשרות ששוויה אינה עולה על 50,000 ש"ח | T17: לא | U17: G02 | V17: רוה"מ יחידת רכש
A18: רוה"מ | B18: משרד ראש הממשלה | C18: משרד ראש הממשלה | D18: 04510110 | E18: פעולות | F18: 4501539630 | G18: הוצאות ארנונה- עיריית ירושלים | H18: 43128 | I18: 43465 | J18: 20000159 | K18: עירית ירושלים | L18: 500230008 | M18: 68015 | N18: ILS | O18: 68010.56 | P18: ILS | Q18: התקשרות עם גופים ממשלתיים | T18: לא | U18: G01 | V18: הוצאות קשיחות
A19: רוה"מ | B19: משרד ראש הממשלה | C19: משרד ראש הממשלה | D19: 04510110 | E19: פעולות | F19: 4501528320 | G19: הוצאות קשיחות | H19: 43110 | I19: 43465 | J19: 40003288 | K19: ג.ט.י. הגן הטכנולוגי ירושלים בע"מ | L19: 511590275 | M19: 15167.88 | N19: ILS | O19: 9572.47 | P19: ILS | Q19: פטור ממכרז | R19: אין פניה במנוף | S19: תקנה 3(29) - ספק יחיד | T19: לא | U19: G04 | V19: רוה"מ חוזים,יועצים
A20: רוה"מ | B20: משרד ראש הממשלה | C20: משרד ראש הממשלה | D20: 04510110 | E20: פעולות | F20: 4501428018 | G20: הוצאות קשיחות | H20: 42914 | I20: 43299 | J20: 40001490 | K20: די.בי.אס. שרותי לווין (1998) בע"מ | L20: 512705138 | M20: 11383.21 | N20: ILS | O20: 8166.85 | P20: ILS | Q20: פטור ממכרז | S20: תקנה 3(1) - התקשרות ששוויה אינה עולה על 50,000 ש"ח | T20: לא | U20: G01 | V20: הוצאות קשיחות
A21: רוה"מ | B21: משרד ראש הממשלה | C21: משרד ראש הממשלה | D21: 04510110 | E21: פעולות | F21: 4501486788 | G21: הוצאות קשיחות | H21: 43040 | I21: 43454 | J21: 40011045 | K21: הוט - מערכות תקשורת בע"מ | L21: 520040072 | M21: 31465.14 | N21: ILS | O21: 24827.24 | P21: ILS | Q21: פטור ממכרז | R21: 569347 | S21: תקנה 3(4)(ב)(3) - התקשרות המשך באישור ועדת פטור מרכזית | T21: לא | U21: G01 | V21: הוצאות קשיחות
A22: רוה"מ | B22: משרד ראש הממשלה | C22: משרד ראש הממשלה | D22: 04510110 | E22: פעולות | F22: 4501352738 | G22: הוצאות קשיחות | H22: 42764 | I22: 43067 | J22: 40003496 | K22: כלכלית ירושלים בע"מ | L22: 520017070 | M22: 1177.61 | N22: ILS | O22: 0 | Q22: פטור ממכרז | S22: תקנה 3(1) - התקשרות ששוויה אינה עולה על 50,000 ש"ח | T22: לא | U22: G01 | V22: הוצאות קשיחות
A23: רוה"מ | B23: משרד ראש הממשלה | C23: משרד ראש הממשלה | D23: 04510110 | E23: פעולות | F23: 4501340421 | G23: הוצאות קשיחות | H23: 42746 | I23: 43400 | J23: 40401962 | K23: 012 סמייל טלקום בע"מ | L23: 514350024 | M23: 2925 | N23: ILS | O23: 416.23 | P23: ILS | Q23: תקנה 14ב - מכרז מרכזי | R23: 563883 | T23: לא | U23: G01 | V23: הוצאות קשיחות
A24: רוה"מ | B24: משרד ראש הממשלה | C24: משרד ראש הממשלה | D24: 04510110 | E24: פעולות | F24: 4501528495 | G24: הוצאות קשיחות | H24: 43110 | I24: 43465 | J24: 40003288 | K24: ג.ט.י. הגן הטכנולוגי ירושלים בע"מ | L24: 511590275 | M24: 2574 | N24: ILS | O24: 1667.62 | P24: ILS | Q24: פטור ממכרז | R24: אין פניה במנוף | S24: תקנה 3ג - מימוש זכות ברירה | T24: לא | U24: G01 | V24: הוצאות קשיחות
A25: רוה"מ | B25: משרד ראש הממשלה | C25: משרד ראש הממשלה | D25: 04510110 | E25: פעולות | F25: 4501349381 | G25: הוצאות קשיחות | H25: 42758 | I25: 43100 | J25: 40003288 | K25: ג.ט.י. הגן הטכנולוגי ירושלים בע"מ | L25: 511590275 | M25: 2115.71 | N25: ILS | O25: 611.01 | P25: ILS | Q25: פטור ממכרז | R25: אין פניה במנוף | S25: תקנה 3(29) - ספק יחיד | T25: לא | U25: G04 | V25: רוה"מ חוזים,יועצים
A26: רוה"מ | B26: משרד ראש הממשלה | C26: משרד ראש הממשלה | D26: 04510110 | E26: פעולות | F26: 4501441965 | G26: הוצאות קשיחות- תחזוקה | H26: 42942 | I26: 42369 | J26: 40003496 | K26: כלכלית ירושלים בע"מ | L26: 520017070 | M26: 2069.07 | N26: ILS | O26: 0 | Q26: פטור ממכרז | S26: תקנה 3(1) - התקשרות ששוויה אינה עולה על 50,000 ש"ח | T26: לא | U26: G01 | V26: הוצאות קשיחות
A27: רוה"מ | B27: משרד ראש הממשלה | C27: משרד ראש הממשלה | D27: 04510110 | E27: פעולות | F27: 4501545197 | G27: הוצאות קשיחות-פלאפון-כלל יחידות המשרד | H27: 43137 | I27: 43465 | J27: 40001174 | K27: פלאפון תקשורת בע"מ | L27: 511076572 | M27: 46499.99 | N27: ILS | O27: 39302.05 | P27: ILS | Q27: התקשרות עם גופים ממשלתיים | T27: לא | U27: G01 | V27: הוצאות קשיחות
A28: רוה"מ | B28: משרד ראש הממשלה | C28: משרד ראש הממשלה | D28: 04510110 | E28: פעולות | F28: 4501632462 | G28: הוצאות קשיחות - שירותי צפייה | H28: 43331 | I28: 43664 | J28: 40001490 | K28: די.בי.אס. שרותי לווין (1998) בע"מ | L28: 512705138 | M28: 10828.63 | N28: ILS | O28: 7646.18 | P28: ILS | Q28: פטור ממכרז | S28: תקנה 3(1) - התקשרות ששוויה אינה עולה על 50,000 ש"ח | T28: לא | U28: G01 | V28: הוצאות קשיחות
A29: רוה"מ | B29: משרד ראש הממשלה | C29: משרד ראש הממשלה | D29: 04510110 | E29: פעולות | F29: 4501544276 | G29: הוצאות תחזוקה-כנפי נשרים 24 | H29: 43136 | I29: 43797 | J29: 40003496 | K29: כלכלית ירושלים בע"מ | L29: 520017070 | M29: 5351.48 | N29: ILS | O29: 2425.16 | P29: ILS | Q29: פטור ממכרז | R29: אין פניה במנוף | S29: תקנה 3(29) - ספק יחיד | T29: לא | U29: G01 | V29: הוצאות קשיחות
A30: רוה"מ | B30: משרד ראש הממשלה | C30: משרד ראש הממשלה | D30: 04510110 | E30: פעולות | F30: 4501116804 | G30: הוצאות תפעול | H30: 42306 | J30: 40008865 | K30: עידוד לקליטת אומן עולה (ע"ר) | L30: 580342996 | M30: 3000 | N30: ILS | O30: 3000 | P30: ILS | Q30: פטור ממכרז | S30: תקנה 3(1) - התקשרות ששוויה אינה עולה על 50,000 ש"ח | T30: לא | U30: G02 | V30: רוה"מ יחידת רכש
A31: רוה"מ | B31: משרד ראש הממשלה | C31: משרד ראש הממשלה | D31: 04510110 | E31: פעולות | F31: 4501362178 | G31: הוצאות תפעול | H31: 42780 | I31: 43100 | J31: 40295695 | K31: עיתון ישראל היום בע"מ | L31: 513942151 | M31: 492 | N31: ILS | O31: 0 | Q31: פטור ממכרז | S31: תקנה 3(1) - התקשרות ששוויה אינה עולה על 50,000 ש"ח | T31: לא | U31: G02 | V31: רוה"מ יחידת רכש
A32: רוה"מ | B32: משרד ראש הממשלה | C32: משרד ראש הממשלה | D32: 04510110 | E32: פעולות | F32: 4501336431 | G32: הוצאות תפעול | H32: 42739 | I32: 43951 | J32: 40386641 | K32: שטראוס מים בע"מ | L32: 513919779 | M32: 893.41 | N32: ILS | O32: 893.41 | P32: ILS | Q32: תקנה 14ב - מכרז מרכזי | R32: 535400 | T32: לא | U32: G02 | V32: רוה"מ יחידת רכש
A33: רוה"מ | B33: משרד ראש הממשלה | C33: משרד ראש הממשלה | D33: 04510110 | E33: פעולות | F33: 4501119297 | G33: הוצאות תפעול | H33: 42311 | J33: 40242784 | K33: מ. א. מ. ירושלים (1988) חברה לשרותי | L33: 511258246 | M33: 35100 | N33: ILS | O33: 35100 | P33: ILS | Q33: פטור ממכרז | S33: תקנה 3(1) - התקשרות ששוויה אינה עולה על 50,000 ש"ח | T33: לא | U33: G02 | V33: רוה"מ יחידת רכש
A34: רוה"מ | B34: משרד ראש הממשלה | C34: משרד ראש הממשלה | D34: 04510110 | E34: פעולות | F34: 4501345017 | G34: הוצאות תפעול | H34: 42752 | I34: 43159 | J34: 40008975 | K34: חברה לבנין מלון הנביאים בעמ | L34: 520039744 | M34: 30110 | N34: ILS | O34: 1780 | P34: ILS | Q34: פטור ממכרז | S34: תקנה 3(1) - התקשרות ששוויה אינה עולה על 50,000 ש"ח | T34: לא | U34: G02 | V34: רוה"מ יחידת רכש
A35: רוה"מ | B35: משרד ראש הממשלה | C35: משרד ראש הממשלה | D35: 04510110 | E35: פעולות | F35: 4501351401 | G35: הוצאות תפעול | H35: 42761 | I35: 43830 | J35: 40238786 | K35: גאריביאן גרשון | L35: 055634687 | M35: 50000 | N35: ILS | O35: 41480.7 | P35: ILS | Q35: פטור ממכרז | S35: תקנה 3(1) - התקשרות ששוויה אינה עולה על 50,000 ש"ח | T35: לא | U35: G02 | V35: רוה"מ יחידת רכש
A36: רוה"מ | B36: משרד ראש הממשלה | C36: משרד ראש הממשלה | D36: 04510110 | E36: פעולות | F36: 4501804561 | G36: הזמנת כיבוד- ישיבת מנהל עתודות לישראל | H36: 43719 | I36: 44196 | J36: 40242875 | K36: איכות קייטרינג שולץ 1997 בע"מ | L36: 512570649 | M36: 346.14 | N36: ILS | O36: 0 | Q36: פטור ממכרז | S36: תקנה 3(1) - התקשרות ששוויה אינה עולה על 50,000 ש"ח | T36: לא | U36: G02 | V36: רוה"מ יחידת רכש
A37: רוה"מ | B37: משרד ראש הממשלה | C37: משרד ראש הממשלה | D37: 04510110 | E37: פעולות | F37: 4501806385 | G37: הזמנת רול אפ | H37: 43724 | I37: 43830 | J37: 40374201 | K37: גרפצ'יק בע"מ | L37: 513868620 | M37: 250.01 | N37: ILS | O37: 0 | Q37: פטור ממכרז | S37: תקנה 3(1) - התקשרות ששוויה אינה עולה על 50,000 ש"ח | T37: לא | U37: G02 | V37: רוה"מ יחידת רכש
A38: רוה"מ | B38: משרד ראש הממשלה | C38: משרד ראש הממשלה | D38: 04510110 | E38: פעולות | F38: 4501485976 | G38: הכשרת רחבת הכותל | H38: 43039 | I38: 44002 | J38: 40006929 | K38: רשות העתיקות | L38: 500500491 | M38: 2738664 | N38: ILS | O38: 1163927.5 | P38: ILS | Q38: פטור ממכרז | R38: 599657 | S38: תקנה 3(7) - תאגיד שהוקם בחוק | T38: לא | U38: G02 | V38: רוה"מ יחידת רכש
A39: רוה"מ | B39: משרד ראש הממשלה | C39: משרד ראש הממשלה | D39: 04510110 | E39: פעולות | F39: 4501806548 | G39: הנצחת רחבעם זאבי | H39: 43724 | I39: 44819 | J39: 20000232 | K39: מ. א. שומרון | L39: 500273727 | M39: 23499598 | N39: ILS | O39: 0 | Q39: פטור ממכרז | R39: 614587 | S39: תקנה 3(16) - רשות מקומית | T39: לא | U39: G04 | V39: רוה"מ חוזים,יועצים
A40: רוה"מ | B40: משרד ראש הממשלה | C40: משרד ראש הממשלה | D40: 04510110 | E40: פעולות | F40: 4501462491 | G40: השכרת אולם לצורך כנס צוערים | H40: 42984 | J40: 40140406 | K40: שלוה - האגודה הישראלית לטיפול באנשי | L40: 580173987 | M40: 3000 | N40: ILS | O40: 0 | Q40: פטור ממכרז | S40: תקנה 3(1) - התקשרות ששוויה אינה עולה על 50,000 ש"ח | T40: לא | U40: G02 | V40: רוה"מ יחידת רכש
A41: רוה"מ | B41: משרד ראש הממשלה | C41: משרד ראש הממשלה | D41: 04510110 | E41: פעולות | F41: 4501474906 | G41: השכרת כלים לארוח | H41: 43011 | I41: 43830 | J41: 40004999 | K41: י.מ. סיטי ארועים בע"מ | L41: 512883174 | M41: 19999.98 | N41: ILS | O41: 0 | Q41: פטור ממכרז | S41: תקנה 3(1) - התקשרות ששוויה אינה עולה על 50,000 ש"ח | T41: לא | U41: G02 | V41: רוה"מ יחידת רכש
A42: רוה"מ | B42: משרד ראש הממשלה | C42: משרד ראש הממשלה | D42: 04510110 | E42: פעולות | F42: 4501480217 | G42: התקשרות עם משרד עו"ד | H42: 43030 | I42: 43090 | J42: 40245044 | K42: נסים,רינקוב,סנדרוביץ | L42: 557564739 | M42: 10775.99 | N42: ILS | O42: 9775.7 | P42: ILS | Q42: פטור ממכרז | R42: 533857 | S42: תקנה 3(1) - התקשרות ששוויה אינה עולה על 50,000 ש"ח | T42: לא | U42: G02 | V42: רוה"מ יחידת רכש
A43: רוה"מ | B43: משרד ראש הממשלה | C43: משרד ראש הממשלה | D43: 04510110 | E43: פעולות | F43: 4501524185 | G43: חניות לעובדי תקשוב בגטי | H43: 43103 | I43: 43465 | J43: 40003288 | K43: ג.ט.י. הגן הטכנולוגי ירושלים בע"מ | L43: 511590275 | M43: 121475.5 | N43: ILS | O43: 112217.61 | P43: ILS | Q43: פטור ממכרז | R43: 609855 | S43: תקנה 3(4)(ב)(1) - התקשרות המשך באישור ועדת מכרזים משרדית | T43: לא | U43: G02 | V43: רוה"מ יחידת רכש
A44: רוה"מ | B44: משרד ראש הממשלה | C44: משרד ראש הממשלה | D44: 04510110 | E44: פעולות | F44: 4501517266 | G44: חניות לעובדים ואורחים-פנ"צ | H44: 43086 | I44: 43539 | J44: 40003496 | K44: כלכלית ירושלים בע"מ | L44: 520017070 | M44: 28486.46 | N44: ILS | O44: 13123.53 | P44: ILS | Q44: פטור ממכרז | S44: תקנה 3(1) - התקשרות ששוויה אינה עולה על 50,000 ש"ח | T44: לא | U44: G02 | V44: רוה"מ יחידת רכש
A45: רוה"מ | B45: משרד ראש הממשלה | C45: משרד ראש הממשלה | D45: 04510110 | E45: פעולות | F45: 4501696572 | G45: חנית עובדים בגן הטכנולוגי | H45: 43475 | I45: 43830 | J45: 40003288 | K45: ג.ט.י. הגן הטכנולוגי ירושלים בע"מ | L45: 511590275 | M45: 85166.64 | N45: ILS | O45: 64557.55 | P45: ILS | Q45: פטור ממכרז | R45: 627450 | S45: תקנה 3ג - מימוש זכות ברירה | T45: לא | U45: G04 | V45: רוה"מ חוזים,יועצים
A46: רוה"מ | B46: משרד ראש הממשלה | C46: משרד ראש הממשלה | D46: 04510110 | E46: פעולות | F46: 4501788577 | G46: חריטה שלטים | H46: 43678 | I46: 43830 | J46: 41600673 | K46: עמיאל יצחק אלנתן | L46: 036500510 | M46: 198.9 | N46: ILS | O46: 198.9 | P46: ILS | Q46: פטור ממכרז | S46: תקנה 3(1) - התקשרות ששוויה אינה עולה על 50,000 ש"ח | T46: לא | U46: G02 | V46: רוה"מ יחידת רכש
A47: רוה"מ | B47: משרד ראש הממשלה | C47: משרד ראש הממשלה | D47: 04510110 | E47: פעולות | F47: 4501359877 | G47: חשמל-הוצאות קשיחות | H47: 42775 | I47: 43100 | J47: 40001579 | K47: חברת החשמל לישראל בעמ | L47: 520000472 | M47: 105300 | N47: ILS | O47: 81232.95 | P47: ILS | Q47: התקשרות עם גופים ממשלתיים | T47: לא | U47: G01 | V47: הוצאות קשיחות
A48: רוה"מ | B48: משרד ראש הממשלה | C48: משרד ראש הממשלה | D48: 04510110 | E48: פעולות | F48: 4501544501 | G48: חשמל-הוצאות קשיחות | H48: 43136 | I48: 43465 | J48: 40001579 | K48: חברת החשמל לישראל בעמ | L48: 520000472 | M48: 86999.99 | N48: ILS | O48: 53144.99 | P48: ILS | Q48: התקשרות עם גופים ממשלתיים | T48: לא | U48: G01 | V48: הוצאות קשיחות
A49: רוה"מ | B49: משרד ראש הממשלה | C49: משרד ראש הממשלה | D49: 04510110 | E49: פעולות | F49: 4501691064 | G49: יום עיון | H49: 43464 | I49: 43830 | J49: 41575887 | K49: שלוה מיזמי שילוב ותעסוקה בע"מ | L49: 515754364 | M49: 7249.99 | N49: ILS | O49: 0 | Q49: פטור ממכרז | S49: תקנה 3(1) - התקשרות ששוויה אינה עולה על 50,000 ש"ח | T49: לא | U49: G02 | V49: רוה"מ יחידת רכש
A50: רוה"מ | B50: משרד ראש הממשלה | C50: משרד ראש הממשלה | D50: 04510110 | E50: פעולות | F50: 4501507122 | G50: ייעוץ | H50: 43069 | I50: 43404 | J50: 41563845 | K50: ירון בלום בע"מ | L50: 514735653 | M50: 26379.99 | N50: ILS | O50: 22630.61 | P50: ILS | Q50: אחר | R50: 607708 | T50: לא | U50: G02 | V50: רוה"מ יחידת רכש
A51: רוה"מ | B51: משרד ראש הממשלה | C51: משרד ראש הממשלה | D51: 04510110 | E51: פעולות | F51: 4501670202 | G51: יעוץ | H51: 43426 | I51: 43769 | J51: 41563845 | K51: ירון בלום בע"מ | L51: 514735653 | M51: 668179.98 | N51: ILS | O51: 501190.56 | P51: ILS | Q51: תקנה 3ג - מימוש זכות ברירה | R51: 625036 | T51: לא | U51: G04 | V51: רוה"מ חוזים,יועצים
A52: רוה"מ | B52: משרד ראש הממשלה | C52: משרד ראש הממשלה | D52: 04510110 | E52: פעולות | F52: 4501535410 | G52: כיבודים | H52: 43121 | I52: 43465 | J52: 40001389 | K52: ארבע עונות קייטרינג בבלי שמר בע"מ | L52: 512164310 | M52: 2897.39 | N52: ILS | O52: 2027 | P52: ILS | Q52: פטור ממכרז | S52: תקנה 3(1) - התקשרות ששוויה אינה עולה על 50,000 ש"ח | T52: לא | U52: G02 | V52: רוה"מ יחידת רכש
A53: רוה"מ | B53: משרד ראש הממשלה | C53: משרד ראש הממשלה | D53: 04510110 | E53: פעולות | F53: 4501800690 | G53: כיבודים לפורום | H53: 43710 | I53: 43830 | J53: 40242807 | K53: מעדני אורי ובניו בע"מ | L53: 511635799 | M53: 1138.41 | N53: ILS | O53: 0 | Q53: פטור ממכרז | S53: תקנה 3(1) - התקשרות ששוויה אינה עולה על 50,000 ש"ח | T53: לא | U53: G02 | V53: רוה"מ יחידת רכש
A54: רוה"מ | B54: משרד ראש הממשלה | C54: משרד ראש הממשלה | D54: 04510110 | E54: פעולות | F54: 4501766782 | G54: כסאות | H54: 43629 | I54: 43830 | J54: 40003692 | K54: טופ-ליין יבוא ושיווק רהיטים בע"מ | L54: 511613564 | M54: 2828.22 | N54: ILS | O54: 2828.22 | P54: ILS | Q54: תקנה 14ב - מכרז מרכזי | R54: 559541 | T54: לא | U54: G02 | V54: רוה"מ יחידת רכש
A55: רוה"מ | B55: משרד ראש הממשלה | C55: משרד ראש הממשלה | D55: 04510110 | E55: פעולות | F55: 4501762857 | G55: כסאות | H55: 43620 | I55: 43830 | J55: 40003692 | K55: טופ-ליין יבוא ושיווק רהיטים בע"מ | L55: 511613564 | M55: 1380.31 | N55: ILS | O55: 1380.31 | P55: ILS | Q55: תקנה 14ב - מכרז מרכזי | R55: 559541 | T55: לא | U55: G02 | V55: רוה"מ יחידת רכש
A56: רוה"מ | B56: משרד ראש הממשלה | C56: משרד ראש הממשלה | D56: 04510110 | E56: פעולות | F56: 4501770424 | G56: כרטיסי טיסה | H56: 43636 | I56: 43830 | J56: 50000297 | K56: MINISTRY OF FOREIGN AFFAIRS VIA BAN | L56: 500101076 | M56: 5000 | N56: USD | O56: 17860 | P56: USD | Q56: התקשרות עם גופים ממשלתיים | T56: לא | U56: G28 | V56: רה"מ בי משרדי
A57: רוה"מ | B57: משרד ראש הממשלה | C57: משרד ראש הממשלה | D57: 04510110 | E57: פעולות | F57: 4501511549 | G57: כתיבת דו"ח | H57: 43076 | I57: 43465 | J57: 40240096 | K57: העמותה לקידום לימודי כלכלה וחברה (ע | L57: 580431237 | M57: 3000 | N57: ILS | O57: 0 | Q57: פטור ממכרז | S57: תקנה 3(1) - התקשרות ששוויה אינה עולה על 50,000 ש"ח | T57: לא | U57: G02 | V57: רוה"מ יחידת רכש
A58: רוה"מ | B58: משרד ראש הממשלה | C58: משרד ראש הממשלה | D58: 04510110 | E58: פעולות | F58: 4501757489 | G58: כתיבת מכרז מיגון | H58: 43607 | I58: 43865 | J58: 40005076 | K58: עדליא - ייעוץ כלכלי בע"מ | L58: 513238816 | M58: 21645 | N58: ILS | O58: 21645 | P58: ILS | Q58: תקנה 1ב - מכרז פומבי רגיל | R58: 60080043 | T58: לא | U58: G04 | V58: רוה"מ חוזים,יועצים
A59: רוה"מ | B59: משרד ראש הממשלה | C59: משרד ראש הממשלה | D59: 04510110 | E59: פעולות | F59: 4501680530 | G59: כתיבת מכרז מעליות | H59: 43444 | I59: 43865 | J59: 40005076 | K59: עדליא - ייעוץ כלכלי בע"מ | L59: 513238816 | M59: 15210 | N59: ILS | O59: 6084 | P59: ILS | Q59: תקנה 1ב - מכרז פומבי רגיל | R59: 60080043 | T59: לא | U59: G04 | V59: רוה"מ חוזים,יועצים
A60: רוה"מ | B60: משרד ראש הממשלה | C60: משרד ראש הממשלה | D60: 04510110 | E60: פעולות | F60: 4501733000 | G60: כתיבת מכרז עבודות גינון | H60: 43545 | I60: 43865 | J60: 40005076 | K60: עדליא - ייעוץ כלכלי בע"מ | L60: 513238816 | M60: 25564.5 | N60: ILS | O60: 0 | Q60: תקנה 1ב - מכרז פומבי רגיל | R60: 60080043 | T60: לא | U60: G04 | V60: רוה"מ חוזים,יועצים
A61: רוה"מ | B61: משרד ראש הממשלה | C61: משרד ראש הממשלה | D61: 04510110 | E61: פעולות | F61: 4501675513 | G61: כתיבת נאומים | H61: 43437 | I61: 43830 | J61: 40960041 | K61: חריף חגי | L61: 023593239 | M61: 150000 | N61: ILS | O61: 87180.07 | P61: ILS | Q61: תקנה 5(ג)(2) - התקשרות עם מומחה - בדיקת מס' הצעות | R61: 625034 | T61: לא | U61: G04 | V61: רוה"מ חוזים,יועצים
A62: רוה"מ | B62: משרד ראש הממשלה | C62: משרד ראש הממשלה | D62: 04510110 | E62: פעולות | F62: 4501503713 | G62: כתיבת נאומים עיבוד ועריכה | H62: 43066 | I62: 43465 | J62: 40960041 | K62: חריף חגי | L62: 023593239 | M62: 149999.99 | N62: ILS | O62: 144870.09 | P62: ILS | Q62: פטור ממכרז | R62: 607181 | S62: תקנה 3(4)(ב)(2) - התקשרות המשך באישור ועדת פטור משרדית | T62: לא | U62: G02 | V62: רוה"מ יחידת רכש
A63: רוה"מ | B63: משרד ראש הממשלה | C63: משרד ראש הממשלה | D63: 04510110 | E63: פעולות | F63: 4501669321 | G63: מחקרים למועצה הלאומית לכלכלה | H63: 43425 | I63: 44155 | J63: 41052601 | K63: מכון למחקר כלכלי על שם ד"ר ישעיהו פ | L63: 580007714 | M63: 796989 | N63: ILS | O63: 187600 | P63: ILS | Q63: מכרז פומבי רגיל ממוכן | R63: 609276 | T63: לא | U63: G04 | V63: רוה"מ חוזים,יועצים
A64: רוה"מ | B64: משרד ראש הממשלה | C64: משרד ראש הממשלה | D64: 04510110 | E64: פעולות | F64: 4501375248 | G64: מחשב לכל ילד | H64: 42802 | I64: 43100 | J64: 40396456 | K64: המפעל הלאומי לפתוח חברתי | L64: 580231546 | M64: 10250000 | N64: ILS | O64: 10249970 | P64: ILS | Q64: פטור ממכרז | R64: 587510 | S64: תקנה 3(29) - ספק יחיד | T64: לא | U64: G04 | V64: רוה"מ חוזים,יועצים
A65: רוה"מ | B65: משרד ראש הממשלה | C65: משרד ראש הממשלה | D65: 04510110 | E65: פעולות | F65: 4501452850 | G65: מיזם ללימודים תחום ההנדסה | H65: 42963 | I65: 43327 | J65: 40000431 | K65: איסף - הקרן הבין-לאומית לחינוך | L65: 580074888 | M65: 1200500 | N65: ILS | O65: 756137.23 | P65: ILS | Q65: פטור ממכרז | R65: 598659 | S65: תקנה 3(30) - מיזם משותף | T65: לא | U65: G02 | V65: רוה"מ יחידת רכש
A66: רוה"מ | B66: משרד ראש הממשלה | C66: משרד ראש הממשלה | D66: 04510110 | E66: פעולות | F66: 4501665162 | G66: מיזם משותף - סטודנטים מהפריפריה | H66: 43418 | I66: 43710 | J66: 40000431 | K66: איסף - הקרן הבין-לאומית לחינוך | L66: 580074888 | M66: 1560250 | N66: ILS | O66: 1393317.1 | P66: ILS | Q66: פטור ממכרז | R66: 620882 | S66: תקנה 3(30) - מיזם משותף | T66: לא | U66: G04 | V66: רוה"מ חוזים,יועצים
A67: רוה"מ | B67: משרד ראש הממשלה | C67: משרד ראש הממשלה | D67: 04510110 | E67: פעולות | F67: 4501694342 | G67: מיזם משותף מכון ירושלים וכלכלת ותשתיות | H67: 43472 | I67: 43776 | J67: 40000401 | K67: מכון ירושלים למחקרי מדיניות (ע''ר) | L67: 580051894 | M67: 96075 | N67: ILS | O67: 96075 | P67: ILS | Q67: פטור ממכרז | R67: 625794 | S67: תקנה 3(30) - מיזם משותף | T67: לא | U67: G04 | V67: רוה"מ חוזים,יועצים
A68: רוה"מ | B68: משרד ראש הממשלה | C68: משרד ראש הממשלה | D68: 04510110 | E68: פעולות | F68: 4501449990 | G68: מנוי דיגיטלי לעיתון | H68: 42957 | I68: 43321 | J68: 50004142 | K68: THE NEW YORK TIMES | L68: 000000356 | M68: 98 | N68: USD | O68: 26.17 | P68: USD | Q68: פטור ממכרז | S68: תקנה 3(1) - התקשרות ששוויה אינה עולה על 50,000 ש"ח | T68: לא | U68: G02 | V68: רוה"מ יחידת רכש
A69: רוה"מ | B69: משרד ראש הממשלה | C69: משרד ראש הממשלה | D69: 04510110 | E69: פעולות | F69: 4501449998 | G69: מנוי דיגיטלי לעיתון | H69: 42957 | I69: 43321 | J69: 50046533 | K69: WOLL STREET JAVNA | L69: 4162000 | M69: 348 | N69: USD | O69: 3.51 | P69: USD | Q69: פטור ממכרז | S69: תקנה 3(1) - התקשרות ששוויה אינה עולה על 50,000 ש"ח | T69: לא | U69: G02 | V69: רוה"מ יחידת רכש
A70: רוה"מ | B70: משרד ראש הממשלה | C70: משרד ראש הממשלה | D70: 04510110 | E70: פעולות | F70: 4501450312 | G70: מנוי דיגיטלי לעיתון | H70: 42957 | I70: 43321 | J70: 50046534 | K70: WASHINGTON POST | L70: 3346100 | M70: 99 | N70: USD | O70: 66.75 | P70: USD | Q70: פטור ממכרז | S70: תקנה 3(1) - התקשרות ששוויה אינה עולה על 50,000 ש"ח | T70: לא | U70: G02 | V70: רוה"מ יחידת רכש
A71: רוה"מ | B71: משרד ראש הממשלה | C71: משרד ראש הממשלה | D71: 04510110 | E71: פעולות | F71: 4501795964 | G71: מנוי לעיתון | H71: 43696 | I71: 43830 | J71: 40295695 | K71: עיתון ישראל היום בע"מ | L71: 513942151 | M71: 292.5 | N71: ILS | O71: 0 | Q71: פטור ממכרז | S71: תקנה 3(1) - התקשרות ששוויה אינה עולה על 50,000 ש"ח | T71: לא | U71: G02 | V71: רוה"מ יחידת רכש
A72: רוה"מ | B72: משרד ראש הממשלה | C72: משרד ראש הממשלה | D72: 04510110 | E72: פעולות | F72: 4501672975 | G72: מתנות | H72: 43432 | I72: 43830 | J72: 40000885 | K72: צחובוי אילן | L72: 050719913 | M72: 2457 | N72: ILS | O72: 2457 | P72: ILS | Q72: פטור ממכרז | S72: תקנה 3(1) - התקשרות ששוויה אינה עולה על 50,000 ש"ח | T72: לא | U72: G02 | V72: רוה"מ יחידת רכש
A73: רוה"מ | B73: משרד ראש הממשלה | C73: משרד ראש הממשלה | D73: 04510110 | E73: פעולות | F73: 4501697417 | G73: מתנות | H73: 43478 | I73: 44196 | J73: 40004060 | K73: פרץ שלום חי | L73: 056761695 | M73: 3000 | N73: ILS | O73: 0 | Q73: פטור ממכרז | S73: תקנה 3(1) - התקשרות ששוויה אינה עולה על 50,000 ש"ח | T73: לא | U73: G02 | V73: רוה"מ יחידת רכש
A74: רוה"מ | B74: משרד ראש הממשלה | C74: משרד ראש הממשלה | D74: 04510110 | E74: פעולות | F74: 4501717313 | G74: ניהול ותחזוקה קשת רובינסון | H74: 43514 | I74: 43875 | J74: 40003388 | K74: שיקום ולפתוח הרובע היהודי בעיר העתי | L74: 520028127 | M74: 2052857.4 | N74: ILS | O74: 1041565.6 | P74: ILS | Q74: פטור ממכרז | R74: 628301 | S74: תקנה 3(4)(ב)(3) - התקשרות המשך באישור ועדת פטור מרכזית | T74: לא | U74: G04 | V74: רוה"מ חוזים,יועצים
A75: רוה"מ | B75: משרד ראש הממשלה | C75: משרד ראש הממשלה | D75: 04510110 | E75: פעולות | F75: 4501352626 | G75: נסיעות חו"ל | H75: 42764 | J75: 41003244 | K75: משרד סוכנות/האוצר נסיעות ממשלתית | L75: 500107321 | M75: 24185.22 | N75: ILS | O75: 8454.31 | P75: ILS | Q75: אחר | T75: לא | U75: G03 | V75: רוה"מ נסיעות לחו"ל
A76: רוה"מ | B76: משרד ראש הממשלה | C76: משרד ראש הממשלה | D76: 04510110 | E76: פעולות | F76: 4501379317 | G76: נסיעות חו"ל | H76: 42810 | J76: 50000297 | K76: MINISTRY OF FOREIGN AFFAIRS VIA BAN | L76: 500101076 | M76: 13345 | N76: USD | O76: 34090.29 | P76: USD | Q76: אחר | T76: לא | U76: G03 | V76: רוה"מ נסיעות לחו"ל
A77: רוה"מ | B77: משרד ראש הממשלה | C77: משרד ראש הממשלה | D77: 04510110 | E77: פעולות | F77: 4501395000 | G77: נסיעות חו"ל | H77: 42850 | J77: 50000297 | K77: MINISTRY OF FOREIGN AFFAIRS VIA BAN | L77: 500101076 | M77: 2500 | N77: USD | O77: 0 | Q77: אחר | T77: לא | U77: G03 | V77: רוה"מ נסיעות לחו"ל
A78: רוה"מ | B78: משרד ראש הממשלה | C78: משרד ראש הממשלה | D78: 04510110 | E78: פעולות | F78: 4501395239 | G78: נסיעות חו"ל | H78: 42851 | J78: 50000297 | K78: MINISTRY OF FOREIGN AFFAIRS VIA BAN | L78: 500101076 | M78: 2500 | N78: USD | O78: 0 | Q78: התקשרות עם גופים ממשלתיים | T78: לא | U78: G03 | V78: רוה"מ נסיעות לחו"ל
A79: רוה"מ | B79: משרד ראש הממשלה | C79: משרד ראש הממשלה | D79: 04510110 | E79: פעולות | F79: 4501436052 | G79: נסיעות חו"ל | H79: 42929 | J79: 41003244 | K79: משרד סוכנות/האוצר נסיעות ממשלתית | L79: 500107321 | M79: 2960 | N79: ILS | O79: 72.06 | P79: ILS | Q79: התקשרות עם גופים ממשלתיים | T79: לא | U79: G03 | V79: רוה"מ נסיעות לחו"ל
A80: רוה"מ | B80: משרד ראש הממשלה | C80: משרד ראש הממשלה | D80: 04510110 | E80: פעולות | F80: 4501550025 | G80: נסיעות חו"ל | H80: 43145 | J80: 41003244 | K80: משרד סוכנות/האוצר נסיעות ממשלתית | L80: 500107321 | M80: 3734.79 | N80: ILS | O80: 3732.32 | P80: ILS | Q80: התקשרות עם גופים ממשלתיים | T80: לא | U80: G03 | V80: רוה"מ נסיעות לחו"ל
A81: רוה"מ | B81: משרד ראש הממשלה | C81: משרד ראש הממשלה | D81: 04510110 | E81: פעולות | F81: 4501584394 | G81: נסיעות חו"ל | H81: 43226 | J81: 41003244 | K81: משרד סוכנות/האוצר נסיעות ממשלתית | L81: 500107321 | M81: 7288.5 | N81: ILS | O81: 7270.4 | P81: ILS | Q81: התקשרות עם גופים ממשלתיים | T81: לא | U81: G03 | V81: רוה"מ נסיעות לחו"ל
A82: רוה"מ | B82: משרד ראש הממשלה | C82: משרד ראש הממשלה | D82: 04510110 | E82: פעולות | F82: 4501584430 | G82: נסיעות חו"ל | H82: 43226 | J82: 41003244 | K82: משרד סוכנות/האוצר נסיעות ממשלתית | L82: 500107321 | M82: 3371.2 | N82: ILS | O82: 3367.73 | P82: ILS | Q82: התקשרות עם גופים ממשלתיים | T82: לא | U82: G03 | V82: רוה"מ נסיעות לחו"ל
A83: רוה"מ | B83: משרד ראש הממשלה | C83: משרד ראש הממשלה | D83: 04510110 | E83: פעולות | F83: 4501584523 | G83: נסיעות חו"ל | H83: 43226 | J83: 41003244 | K83: משרד סוכנות/האוצר נסיעות ממשלתית | L83: 500107321 | M83: 10967.4 | N83: ILS | O83: 10836.82 | P83: ILS | Q83: התקשרות עם גופים ממשלתיים | T83: לא | U83: G03 | V83: רוה"מ נסיעות לחו"ל
A84: רוה"מ | B84: משרד ראש הממשלה | C84: משרד ראש הממשלה | D84: 04510110 | E84: פעולות | F84: 4501584548 | G84: נסיעות חו"ל | H84: 43226 | J84: 41003244 | K84: משרד סוכנות/האוצר נסיעות ממשלתית | L84: 500107321 | M84: 8816 | N84: ILS | O84: 8672.69 | P84: ILS | Q84: התקשרות עם גופים ממשלתיים | T84: לא | U84: G03 | V84: רוה"מ נסיעות לחו"ל
A85: רוה"מ | B85: משרד ראש הממשלה | C85: משרד ראש הממשלה | D85: 04510110 | E85: פעולות | F85: 4501590909 | G85: נסיעות חו"ל | H85: 43241 | J85: 41003244 | K85: משרד סוכנות/האוצר נסיעות ממשלתית | L85: 500107321 | M85: 18015.72 | N85: ILS | O85: 18015.72 | P85: ILS | Q85: התקשרות עם גופים ממשלתיים | T85: לא | U85: G03 | V85: רוה"מ נסיעות לחו"ל
A86: רוה"מ | B86: משרד ראש הממשלה | C86: משרד ראש הממשלה | D86: 04510110 | E86: פעולות | F86: 4501593074 | G86: נסיעות חו"ל | H86: 43244 | J86: 41003244 | K86: משרד סוכנות/האוצר נסיעות ממשלתית | L86: 500107321 | M86: 15148 | N86: ILS | O86: 9416.35 | P86: ILS | Q86: התקשרות עם גופים ממשלתיים | T86: לא | U86: G03 | V86: רוה"מ נסיעות לחו"ל
A87: רוה"מ | B87: משרד ראש הממשלה | C87: משרד ראש הממשלה | D87: 04510110 | E87: פעולות | F87: 4501611780 | G87: נסיעות חו"ל | H87: 43284 | J87: 41003244 | K87: משרד סוכנות/האוצר נסיעות ממשלתית | L87: 500107321 | M87: 3582 | N87: ILS | O87: 3536.1 | P87: ILS | Q87: התקשרות עם גופים ממשלתיים | T87: לא | U87: G03 | V87: רוה"מ נסיעות לחו"ל
A88: רוה"מ | B88: משרד ראש הממשלה | C88: משרד ראש הממשלה | D88: 04510110 | E88: פעולות | F88: 4501528418 | G88: נסיעות חול | H88: 43110 | J88: 41003244 | K88: משרד סוכנות/האוצר נסיעות ממשלתית | L88: 500107321 | M88: 3048.42 | N88: ILS | O88: 3048.42 | P88: ILS | Q88: התקשרות עם גופים ממשלתיים | T88: לא | U88: G03 | V88: רוה"מ נסיעות לחו"ל
A89: רוה"מ | B89: משרד ראש הממשלה | C89: משרד ראש הממשלה | D89: 04510110 | E89: פעולות | F89: 4501300454 | G89: נסיעות חול | H89: 42682 | J89: 50000297 | K89: MINISTRY OF FOREIGN AFFAIRS VIA BAN | L89: 500101076 | M89: 43010 | N89: USD | O89: 0 | Q89: אחר | T89: לא | U89: G03 | V89: רוה"מ נסיעות לחו"ל
A90: רוה"מ | B90: משרד ראש הממשלה | C90: משרד ראש הממשלה | D90: 04510110 | E90: פעולות | F90: 4501764658 | G90: נסיעות חול | H90: 43626 | J90: 41003244 | K90: משרד סוכנות/האוצר נסיעות ממשלתית | L90: 500107321 | M90: 184.05 | N90: ILS | O90: 184.05 | P90: ILS | Q90: התקשרות עם גופים ממשלתיים | T90: לא | U90: G03 | V90: רוה"מ נסיעות לחו"ל
A91: רוה"מ | B91: משרד ראש הממשלה | C91: משרד ראש הממשלה | D91: 04510110 | E91: פעולות | F91: 4501807136 | G91: נסיעות חול | H91: 43726 | J91: 41003244 | K91: משרד סוכנות/האוצר נסיעות ממשלתית | L91: 500107321 | M91: 1531.95 | N91: ILS | O91: 1529.8 | P91: ILS | Q91: התקשרות עם גופים ממשלתיים | T91: לא | U91: G03 | V91: רוה"מ נסיעות לחו"ל
A92: רוה"מ | B92: משרד ראש הממשלה | C92: משרד ראש הממשלה | D92: 04510110 | E92: פעולות | F92: 4501648131 | G92: נסיעות לחו"ל | H92: 43383 | I92: 43830 | J92: 50000297 | K92: MINISTRY OF FOREIGN AFFAIRS VIA BAN | L92: 500101076 | M92: 4025 | N92: USD | O92: 0 | Q92: התקשרות עם גופים ממשלתיים | T92: לא | U92: G03 | V92: רוה"מ נסיעות לחו"ל
A93: רוה"מ | B93: משרד ראש הממשלה | C93: משרד ראש הממשלה | D93: 04510110 | E93: פעולות | F93: 4501780236 | G93: נסיעות לחול | H93: 43660 | J93: 41003244 | K93: משרד סוכנות/האוצר נסיעות ממשלתית | L93: 500107321 | M93: 5976.8 | N93: ILS | O93: 5972.35 | P93: ILS | Q93: התקשרות עם גופים ממשלתיים | T93: לא | U93: G03 | V93: רוה"מ נסיעות לחו"ל
A94: רוה"מ | B94: משרד ראש הממשלה | C94: משרד ראש הממשלה | D94: 04510110 | E94: פעולות | F94: 4501780474 | G94: נסיעות לחול | H94: 43661 | J94: 41003244 | K94: משרד סוכנות/האוצר נסיעות ממשלתית | L94: 500107321 | M94: 3170.79 | N94: ILS | O94: 3170.79 | P94: ILS | Q94: התקשרות עם גופים ממשלתיים | T94: לא | U94: G03 | V94: רוה"מ נסיעות לחו"ל
A95: רוה"מ | B95: משרד ראש הממשלה | C95: משרד ראש הממשלה | D95: 04510110 | E95: פעולות | F95: 4501780500 | G95: נסיעות לחול | H95: 43661 | J95: 41003244 | K95: משרד סוכנות/האוצר נסיעות ממשלתית | L95: 500107321 | M95: 6735.3 | N95: ILS | O95: 6725.68 | P95: ILS | Q95: התקשרות עם גופים ממשלתיים | T95: לא | U95: G03 | V95: רוה"מ נסיעות לחו"ל
A96: רוה"מ | B96: משרד ראש הממשלה | C96: משרד ראש הממשלה | D96: 04510110 | E96: פעולות | F96: 4501781295 | G96: נסיעות לחול | H96: 43662 | J96: 41003244 | K96: משרד סוכנות/האוצר נסיעות ממשלתית | L96: 500107321 | M96: 19024.6 | N96: ILS | O96: 16235.14 | P96: ILS | Q96: התקשרות עם גופים ממשלתיים | T96: לא | U96: G03 | V96: רוה"מ נסיעות לחו"ל
A97: רוה"מ | B97: משרד ראש הממשלה | C97: משרד ראש הממשלה | D97: 04510110 | E97: פעולות | F97: 4501781245 | G97: נסיעות לחול אגף ממש וחברה נסיעה לציריך | H97: 43662 | J97: 41003244 | K97: משרד סוכנות/האוצר נסיעות ממשלתית | L97: 500107321 | M97: 6246.6 | N97: ILS | O97: 6246.6 | P97: ILS | Q97: התקשרות עם גופים ממשלתיים | T97: לא | U97: G03 | V97: רוה"מ נסיעות לחו"ל
A98: רוה"מ | B98: משרד ראש הממשלה | C98: משרד ראש הממשלה | D98: 04510110 | E98: פעולות | F98: 4501680634 | G98: נסיעת חול | H98: 43444 | J98: 41003244 | K98: משרד סוכנות/האוצר נסיעות ממשלתית | L98: 500107321 | M98: 16698 | N98: ILS | O98: 16626.39 | P98: ILS | Q98: התקשרות עם גופים ממשלתיים | T98: לא | U98: G03 | V98: רוה"מ נסיעות לחו"ל
A99: רוה"מ | B99: משרד ראש הממשלה | C99: משרד ראש הממשלה | D99: 04510110 | E99: פעולות | F99: 4501680668 | G99: נסיעת חול | H99: 43444 | J99: 41003244 | K99: משרד סוכנות/האוצר נסיעות ממשלתית | L99: 500107321 | M99: 9106.98 | N99: ILS | O99: 9067.01 | P99: ILS | Q99: התקשרות עם גופים ממשלתיים | T99: לא | U99: G03 | V99: רוה"מ נסיעות לחו"ל
A100: רוה"מ | B100: משרד ראש הממשלה | C100: משרד ראש הממשלה | D100: 04510110 | E100: פעולות | F100: 4501680652 | G100: נסיעת חול | H100: 43444 | J100: 41003244 | K100: משרד סוכנות/האוצר נסיעות ממשלתית | L100: 500107321 | M100: 3046 | N100: ILS | O100: 3048 | P100: ILS | Q100: התקשרות עם גופים ממשלתיים | T100: לא | U100: G03 | V100: רוה"מ נסיעות לחו"ל
...

Sheet 4.2019
A1: שם חברה | B1: תאור של ארגון רכש | C1: שם אתר | D1: תקנה תקציבית | E1: תיאור תקנה תקציבית | F1: הזמנת רכש | G1: מטרת התקשרות | H1: תאריך יצירת ההזמנה | I1: סיום תקופת תוקף | J1: קוד ספק | K1: שם הספק | L1: מספר ח"פ | M1: ערך ההזמנה כולל מע"מ | N1: מטבע | O1: ביצוע חשבוניות מצטבר כולל מע"מ והצמדות | P1: מטבע חשבונית | Q1: אופן רכישה מקור | R1: מס' פנייה במנו"ף/מנור" | S1: סיבת פטור | T1: הזמנה רגישה | U1: קבוצת רכש | V1: שם קבוצת רכש
A2: רוה"מ | B2: משרד ראש הממשלה | C2: משרד ראש הממשלה | D2: 04510110 | E2: פעולות | F2: 4501116804 | G2: הוצאות תפעול | H2: 42306 | J2: 40008865 | K2: עידוד לקליטת אומן עולה (ע"ר) | L2: 580342996 | M2: 3000 | N2: ILS | O2: 3000 | P2: ILS | Q2: פטור ממכרז | S2: תקנה 3(1) - התקשרות ששוויה אינה עולה על 50,000 ש"ח | T2: לא | U2: G02 | V2: רוה"מ יחידת רכש
A3: רוה"מ | B3: משרד ראש הממשלה | C3: משרד ראש הממשלה | D3: 04510110 | E3: פעולות | F3: 4501244458 | G3: תפעול ותחזוקה | H3: 42548 | I3: 44006 | J3: 40005160 | K3: סומך חייקין | L3: 540002383 | M3: 314387.19 | N3: ILS | O3: 0 | Q3: תקנה 14ב - מכרז מרכזי | R3: 528639 | T3: לא | U3: G02 | V3: רוה"מ יחידת רכש
A4: רוה"מ | B4: משרד ראש הממשלה | C4: משרד ראש הממשלה | D4: 04510110 | E4: פעולות | F4: 4501352626 | G4: נסיעות חו"ל | H4: 42764 | J4: 41003244 | K4: משרד סוכנות/האוצר נסיעות ממשלתית | L4: 500107321 | M4: 24185.22 | N4: ILS | O4: 8454.31 | P4: ILS | Q4: אחר | T4: לא | U4: G03 | V4: רוה"מ נסיעות לחו"ל
A5: רוה"מ | B5: משרד ראש הממשלה | C5: משרד ראש הממשלה | D5: 04510110 | E5: פעולות | F5: 4501434899 | G5: שרותי ייעוץ | H5: 42927 | I5: 43291 | J5: 41067902 | K5: ספורטא אקשטין איתי | M5: 26500 | N5: ILS | O5: 0 | Q5: פטור ממכרז | S5: תקנה 3(1) - התקשרות ששוויה אינה עולה על 50,000 ש"ח | T5: לא | U5: G02 | V5: רוה"מ יחידת רכש
A6: רוה"מ | B6: משרד ראש הממשלה | C6: משרד ראש הממשלה | D6: 04510110 | E6: פעולות | F6: 4501436052 | G6: נסיעות חו"ל | H6: 42929 | J6: 41003244 | K6: משרד סוכנות/האוצר נסיעות ממשלתית | L6: 500107321 | M6: 2960 | N6: ILS | O6: 72.06 | P6: ILS | Q6: התקשרות עם גופים ממשלתיים | T6: לא | U6: G03 | V6: רוה"מ נסיעות לחו"ל
A7: רוה"מ | B7: משרד ראש הממשלה | C7: משרד ראש הממשלה | D7: 04510110 | E7: פעולות | F7: 4501449990 | G7: מנוי דיגיטלי לעיתון | H7: 42957 | I7: 43321 | J7: 50004142 | K7: THE NEW YORK TIMES | L7: 000000356 | M7: 98 | N7: USD | O7: 258.37 | P7: USD | Q7: פטור ממכרז | S7: תקנה 3(1) - התקשרות ששוויה אינה עולה על 50,000 ש"ח | T7: לא | U7: G02 | V7: רוה"מ יחידת רכש
A8: רוה"מ | B8: משרד ראש הממשלה | C8: משרד ראש הממשלה | D8: 04510110 | E8: פעולות | F8: 4501449998 | G8: מנוי דיגיטלי לעיתון | H8: 42957 | I8: 43321 | J8: 50046533 | K8: WOLL STREET JAVNA | L8: 4162000 | M8: 348 | N8: USD | O8: 804.31 | P8: USD | Q8: פטור ממכרז | S8: תקנה 3(1) - התקשרות ששוויה אינה עולה על 50,000 ש"ח | T8: לא | U8: G02 | V8: רוה"מ יחידת רכש
A9: רוה"מ | B9: משרד ראש הממשלה | C9: משרד ראש הממשלה | D9: 04510110 | E9: פעולות | F9: 4501462491 | G9: השכרת אולם לצורך כנס צוערים | H9: 42984 | J9: 40140406 | K9: שלוה - האגודה הישראלית לטיפול באנשי | L9: 580173987 | M9: 3000 | N9: ILS | O9: 0 | Q9: פטור ממכרז | S9: תקנה 3(1) - התקשרות ששוויה אינה עולה על 50,000 ש"ח | T9: לא | U9: G02 | V9: רוה"מ יחידת רכש
A10: רוה"מ | B10: משרד ראש הממשלה | C10: משרד ראש הממשלה | D10: 04510110 | E10: פעולות | F10: 4501482424 | G10: תחזוקת הר הרצל | H10: 43033 | I10: 43465 | J10: 40000247 | K10: ההסתדרות הציונית העולמית | L10: 500500350 | M10: 454550 | N10: ILS | O10: 378080.65 | P10: ILS | Q10: פטור ממכרז | R10: 9999 | S10: תקנה 3(19)(א) - הסוכנות היהודית או ההסתדרות הציונית | T10: לא | U10: G01 | V10: הוצאות קשיחות
A11: רוה"מ | B11: משרד ראש הממשלה | C11: משרד ראש הממשלה | D11: 04510110 | E11: פעולות | F11: 4501485976 | G11: הכשרת רחבת הכותל | H11: 43039 | I11: 44002 | J11: 40006929 | K11: רשות העתיקות | L11: 500500491 | M11: 2738664 | N11: ILS | O11: 1163927.5 | P11: ILS | Q11: פטור ממכרז | R11: 599657 | S11: תקנה 3(7) - תאגיד שהוקם בחוק | T11: לא | U11: G02 | V11: רוה"מ יחידת רכש
A12: רוה"מ | B12: משרד ראש הממשלה | C12: משרד ראש הממשלה | D12: 04510110 | E12: פעולות | F12: 4501511549 | G12: כתיבת דו"ח | H12: 43076 | I12: 43465 | J12: 40240096 | K12: העמותה לקידום לימודי כלכלה וחברה (ע | L12: 580431237 | M12: 3000 | N12: ILS | O12: 0 | Q12: פטור ממכרז | S12: תקנה 3(1) - התקשרות ששוויה אינה עולה על 50,000 ש"ח | T12: לא | U12: G02 | V12: רוה"מ יחידת רכש
A13: רוה"מ | B13: משרד ראש הממשלה | C13: משרד ראש הממשלה | D13: 04510110 | E13: פעולות | F13: 4501512245 | G13: סדנה למובילי תוכניות עתודה | H13: 43076 | I13: 43465 | J13: 40314150 | K13: קולות - ממעשה ללימוד למעשה (ע"ר) | L13: 580301299 | M13: 2500 | N13: ILS | O13: 0 | Q13: פטור ממכרז | S13: תקנה 3(1) - התקשרות ששוויה אינה עולה על 50,000 ש"ח | T13: לא | U13: G02 | V13: רוה"מ יחידת רכש
A14: רוה"מ | B14: משרד ראש הממשלה | C14: משרד ראש הממשלה | D14: 04510110 | E14: פעולות | F14: 4501528418 | G14: נסיעות חול | H14: 43110 | J14: 41003244 | K14: משרד סוכנות/האוצר נסיעות ממשלתית | L14: 500107321 | M14: 3048.42 | N14: ILS | O14: 3048.42 | P14: ILS | Q14: התקשרות עם גופים ממשלתיים | T14: לא | U14: G03 | V14: רוה"מ נסיעות לחו"ל
A15: רוה"מ | B15: משרד ראש הממשלה | C15: משרד ראש הממשלה | D15: 04510110 | E15: פעולות | F15: 4501550025 | G15: נסיעות חו"ל | H15: 43145 | J15: 41003244 | K15: משרד סוכנות/האוצר נסיעות ממשלתית | L15: 500107321 | M15: 3734.79 | N15: ILS | O15: 3732.32 | P15: ILS | Q15: התקשרות עם גופים ממשלתיים | T15: לא | U15: G03 | V15: רוה"מ נסיעות לחו"ל
A16: רוה"מ | B16: משרד ראש הממשלה | C16: משרד ראש הממשלה | D16: 04510110 | E16: פעולות | F16: 4501555636 | G16: שרותי ניהול ותחזוקה קשת רובינסון | H16: 43157 | I16: 43510 | J16: 40003388 | K16: שיקום ולפתוח הרובע היהודי בעיר העתי | L16: 520028127 | M16: 2093397.9 | N16: ILS | O16: 1822870.5 | P16: ILS | Q16: פטור ממכרז | R16: 611493 | S16: תקנה 3(28) - נסיבות מיוחדות | T16: לא | U16: G02 | V16: רוה"מ יחידת רכש
A17: רוה"מ | B17: משרד ראש הממשלה | C17: משרד ראש הממשלה | D17: 04510110 | E17: פעולות | F17: 4501584394 | G17: נסיעות חו"ל | H17: 43226 | J17: 41003244 | K17: משרד סוכנות/האוצר נסיעות ממשלתית | L17: 500107321 | M17: 7288.5 | N17: ILS | O17: 7270.4 | P17: ILS | Q17: התקשרות עם גופים ממשלתיים | T17: לא | U17: G03 | V17: רוה"מ נסיעות לחו"ל
A18: רוה"מ | B18: משרד ראש הממשלה | C18: משרד ראש הממשלה | D18: 04510110 | E18: פעולות | F18: 4501584430 | G18: נסיעות חו"ל | H18: 43226 | J18: 41003244 | K18: משרד סוכנות/האוצר נסיעות ממשלתית | L18: 500107321 | M18: 3371.2 | N18: ILS | O18: 3367.73 | P18: ILS | Q18: התקשרות עם גופים ממשלתיים | T18: לא | U18: G03 | V18: רוה"מ נסיעות לחו"ל
A19: רוה"מ | B19: משרד ראש הממשלה | C19: משרד ראש הממשלה | D19: 04510110 | E19: פעולות | F19: 4501584523 | G19: נסיעות חו"ל | H19: 43226 | J19: 41003244 | K19: משרד סוכנות/האוצר נסיעות ממשלתית | L19: 500107321 | M19: 10967.4 | N19: ILS | O19: 10836.82 | P19: ILS | Q19: התקשרות עם גופים ממשלתיים | T19: לא | U19: G03 | V19: רוה"מ נסיעות לחו"ל
A20: רוה"מ | B20: משרד ראש הממשלה | C20: משרד ראש הממשלה | D20: 04510110 | E20: פעולות | F20: 4501584548 | G20: נסיעות חו"ל | H20: 43226 | J20: 41003244 | K20: משרד סוכנות/האוצר נסיעות ממשלתית | L20: 500107321 | M20: 8816 | N20: ILS | O20: 8672.69 | P20: ILS | Q20: התקשרות עם גופים ממשלתיים | T20: לא | U20: G03 | V20: רוה"מ נסיעות לחו"ל
A21: רוה"מ | B21: משרד ראש הממשלה | C21: משרד ראש הממשלה | D21: 04510110 | E21: פעולות | F21: 4501590909 | G21: נסיעות חו"ל | H21: 43241 | J21: 41003244 | K21: משרד סוכנות/האוצר נסיעות ממשלתית | L21: 500107321 | M21: 18015.72 | N21: ILS | O21: 18015.72 | P21: ILS | Q21: התקשרות עם גופים ממשלתיים | T21: לא | U21: G03 | V21: רוה"מ נסיעות לחו"ל
A22: רוה"מ | B22: משרד ראש הממשלה | C22: משרד ראש הממשלה | D22: 04510110 | E22: פעולות | F22: 4501591749 | G22: דמי מנוי לעיתון | H22: 43242 | I22: 43465 | J22: 40001037 | K22: הוצאת עתון הארץ בע"מ | L22: 510015449 | M22: 1575 | N22: ILS | O22: 0 | Q22: פטור ממכרז | S22: תקנה 3(1) - התקשרות ששוויה אינה עולה על 50,000 ש"ח | T22: לא | U22: G02 | V22: רוה"מ יחידת רכש
A23: רוה"מ | B23: משרד ראש הממשלה | C23: משרד ראש הממשלה | D23: 04510110 | E23: פעולות | F23: 4501593074 | G23: נסיעות חו"ל | H23: 43244 | J23: 41003244 | K23: משרד סוכנות/האוצר נסיעות ממשלתית | L23: 500107321 | M23: 15148 | N23: ILS | O23: 9416.35 | P23: ILS | Q23: התקשרות עם גופים ממשלתיים | T23: לא | U23: G03 | V23: רוה"מ נסיעות לחו"ל
A24: רוה"מ | B24: משרד ראש הממשלה | C24: משרד ראש הממשלה | D24: 04510110 | E24: פעולות | F24: 4501648964 | G24: דמי מנוי לעיתון | H24: 43387 | I24: 43830 | J24: 40011446 | K24: ידיעות מינויים | L24: 540181054 | M24: 900 | N24: ILS | O24: 0 | Q24: פטור ממכרז | S24: תקנה 3(1) - התקשרות ששוויה אינה עולה על 50,000 ש"ח | T24: לא | U24: G02 | V24: רוה"מ יחידת רכש
A25: רוה"מ | B25: משרד ראש הממשלה | C25: משרד ראש הממשלה | D25: 04510110 | E25: פעולות | F25: 4501649015 | G25: שרותי ייעוץ | H25: 43387 | I25: 44085 | J25: 40314838 | K25: בריטמן אלמגור זוהר | L25: 557934692 | M25: 153590.58 | N25: ILS | O25: 76473.99 | P25: ILS | Q25: תקנה 3ג - מימוש זכות ברירה | T25: לא | U25: G02 | V25: רוה"מ יחידת רכש
A26: רוה"מ | B26: משרד ראש הממשלה | C26: משרד ראש הממשלה | D26: 04510110 | E26: פעולות | F26: 4501680634 | G26: נסיעת חול | H26: 43444 | J26: 41003244 | K26: משרד סוכנות/האוצר נסיעות ממשלתית | L26: 500107321 | M26: 16698 | N26: ILS | O26: 16626.39 | P26: ILS | Q26: התקשרות עם גופים ממשלתיים | T26: לא | U26: G03 | V26: רוה"מ נסיעות לחו"ל
A27: רוה"מ | B27: משרד ראש הממשלה | C27: משרד ראש הממשלה | D27: 04510110 | E27: פעולות | F27: 4501680668 | G27: נסיעת חול | H27: 43444 | J27: 41003244 | K27: משרד סוכנות/האוצר נסיעות ממשלתית | L27: 500107321 | M27: 9106.98 | N27: ILS | O27: 9067.01 | P27: ILS | Q27: התקשרות עם גופים ממשלתיים | T27: לא | U27: G03 | V27: רוה"מ נסיעות לחו"ל
A28: רוה"מ | B28: משרד ראש הממשלה | C28: משרד ראש הממשלה | D28: 04510110 | E28: פעולות | F28: 4501681989 | G28: דמי מנוי לעיתון | H28: 43446 | I28: 43830 | J28: 40176979 | K28: סטימצקי (2005) בע"מ | L28: 513742320 | M28: 2703.19 | N28: ILS | O28: 2206.81 | P28: ILS | Q28: פטור ממכרז | S28: תקנה 3(1) - התקשרות ששוויה אינה עולה על 50,000 ש"ח | T28: לא | U28: G02 | V28: רוה"מ יחידת רכש
A29: רוה"מ | B29: משרד ראש הממשלה | C29: משרד ראש הממשלה | D29: 04510110 | E29: פעולות | F29: 4501691064 | G29: יום עיון | H29: 43464 | I29: 43830 | J29: 41575887 | K29: שלוה מיזמי שילוב ותעסוקה בע"מ | L29: 515754364 | M29: 7249.99 | N29: ILS | O29: 7249.99 | P29: ILS | Q29: פטור ממכרז | S29: תקנה 3(1) - התקשרות ששוויה אינה עולה על 50,000 ש"ח | T29: לא | U29: G02 | V29: רוה"מ יחידת רכש
A30: רוה"מ | B30: משרד ראש הממשלה | C30: משרד ראש הממשלה | D30: 04510110 | E30: פעולות | F30: 4501691358 | G30: סדנה | H30: 43468 | I30: 43830 | J30: 41458518 | K30: דלויט אנליטיקס | L30: 540256195 | M30: 8775 | N30: ILS | O30: 0 | Q30: פטור ממכרז | S30: תקנה 3(1) - התקשרות ששוויה אינה עולה על 50,000 ש"ח | T30: לא | U30: G02 | V30: רוה"מ יחידת רכש
A31: רוה"מ | B31: משרד ראש הממשלה | C31: משרד ראש הממשלה | D31: 04510110 | E31: פעולות | F31: 4501694342 | G31: מיזם משותף מכון ירושלים וכלכלת ותשתיות | H31: 43472 | I31: 43776 | J31: 40000401 | K31: מכון ירושלים למחקרי מדיניות (ע''ר) | L31: 580051894 | M31: 96075 | N31: ILS | O31: 96075 | P31: ILS | Q31: פטור ממכרז | R31: 625794 | S31: תקנה 3(30) - מיזם משותף | T31: לא | U31: G04 | V31: רוה"מ חוזים,יועצים
A32: רוה"מ | B32: משרד ראש הממשלה | C32: משרד ראש הממשלה | D32: 04510110 | E32: פעולות | F32: 4501701457 | G32: דמי מנוי דיגיטלי | H32: 43485 | I32: 43830 | J32: 40001037 | K32: הוצאת עתון הארץ בע"מ | L32: 510015449 | M32: 377.33 | N32: ILS | O32: 312.8 | P32: ILS | Q32: פטור ממכרז | S32: תקנה 3(1) - התקשרות ששוויה אינה עולה על 50,000 ש"ח | T32: לא | U32: G02 | V32: רוה"מ יחידת רכש
A33: רוה"מ | B33: משרד ראש הממשלה | C33: משרד ראש הממשלה | D33: 04510110 | E33: פעולות | F33: 4501452850 | G33: מיזם ללימודים תחום ההנדסה | H33: 42963 | I33: 43327 | J33: 40000431 | K33: איסף - הקרן הבין-לאומית לחינוך | L33: 580074888 | M33: 1200500 | N33: ILS | O33: 756137.23 | P33: ILS | Q33: פטור ממכרז | R33: 598659 | S33: תקנה 3(30) - מיזם משותף | T33: לא | U33: G02 | V33: רוה"מ יחידת רכש
A34: רוה"מ | B34: משרד ראש הממשלה | C34: משרד ראש הממשלה | D34: 04510110 | E34: פעולות | F34: 4501473805 | G34: שרותי תחזוקה | H34: 43010 | I34: 43100 | J34: 40003388 | K34: שיקום ולפתוח הרובע היהודי בעיר העתי | L34: 520028127 | M34: 1026429 | N34: ILS | O34: 1001990.1 | P34: ILS | Q34: פטור ממכרז | R34: 602231 | S34: תקנה 3(29) - ספק יחיד | T34: לא | U34: G02 | V34: רוה"מ יחידת רכש
A35: רוה"מ | B35: משרד ראש הממשלה | C35: משרד ראש הממשלה | D35: 04510110 | E35: פעולות | F35: 4501522495 | G35: שירותי תחזוקה | H35: 43096 | I35: 43146 | J35: 40003388 | K35: שיקום ולפתוח הרובע היהודי בעיר העתי | L35: 520028127 | M35: 89524.49 | N35: ILS | O35: 41016.69 | P35: ILS | Q35: פטור ממכרז | R35: 609572 | S35: תקנה 3(29) - ספק יחיד | T35: לא | U35: G02 | V35: רוה"מ יחידת רכש
A36: רוה"מ | B36: משרד ראש הממשלה | C36: משרד ראש הממשלה | D36: 04510110 | E36: פעולות | F36: 4501526264 | G36: שרותי ייעוץ | H36: 43107 | I36: 44085 | J36: 40314838 | K36: בריטמן אלמגור זוהר | L36: 557934692 | M36: 310248.9 | N36: ILS | O36: 111933 | P36: ILS | Q36: תקנה 3ג - מימוש זכות ברירה | T36: לא | U36: G02 | V36: רוה"מ יחידת רכש
A37: רוה"מ | B37: משרד ראש הממשלה | C37: משרד ראש הממשלה | D37: 04510110 | E37: פעולות | F37: 4501530530 | G37: תשלומי ביטוח | H37: 43114 | I37: 43830 | J37: 40089015 | K37: הפניקס חברה לביטוח בע"מ | L37: 520023185 | M37: 91502.83 | N37: ILS | O37: 30512 | P37: ILS | Q37: פטור ממכרז | R37: 610275 | S37: תקנה 3(3) - פגיעה מהותית בבטחון המדינה, ביחסי החוץ שלה ובכלכ | T37: לא | U37: G02 | V37: רוה"מ יחידת רכש
A38: רוה"מ | B38: משרד ראש הממשלה | C38: משרד ראש הממשלה | D38: 04510110 | E38: פעולות | F38: 4501535833 | G38: ארוחת ערב | H38: 43121 | I38: 43465 | J38: 41373588 | K38: מוסקוביץ הלן | L38: 313776064 | M38: 4244.55 | N38: ILS | O38: 2462.8 | P38: ILS | Q38: פטור ממכרז | S38: תקנה 3(1) - התקשרות ששוויה אינה עולה על 50,000 ש"ח | T38: לא | U38: G02 | V38: רוה"מ יחידת רכש
A39: רוה"מ | B39: משרד ראש הממשלה | C39: משרד ראש הממשלה | D39: 04510110 | E39: פעולות | F39: 4501611780 | G39: נסיעות חו"ל | H39: 43284 | J39: 41003244 | K39: משרד סוכנות/האוצר נסיעות ממשלתית | L39: 500107321 | M39: 3582 | N39: ILS | O39: 3536.1 | P39: ILS | Q39: התקשרות עם גופים ממשלתיים | T39: לא | U39: G03 | V39: רוה"מ נסיעות לחו"ל
A40: רוה"מ | B40: משרד ראש הממשלה | C40: משרד ראש הממשלה | D40: 04510110 | E40: פעולות | F40: 4501627808 | G40: פורטל מידע ממשלתי תחזוקה והקמה | H40: 43319 | I40: 43982 | J40: 40371942 | K40: פיונט טכנולוגיות בע"מ | L40: 512841016 | M40: 271063.5 | N40: ILS | O40: 0 | Q40: תקנה 14ב - מכרז מרכזי | R40: 577889 | T40: לא | U40: G06 | V40: רוה"מ טכנו' והמידע
A41: רוה"מ | B41: משרד ראש הממשלה | C41: משרד ראש הממשלה | D41: 04510110 | E41: פעולות | F41: 4501681959 | G41: דמי מנוי לעיתון | H41: 43446 | I41: 43830 | J41: 40295695 | K41: עיתון ישראל היום בע"מ | L41: 513942151 | M41: 2339.97 | N41: ILS | O41: 2256.38 | P41: ILS | Q41: פטור ממכרז | S41: תקנה 3(1) - התקשרות ששוויה אינה עולה על 50,000 ש"ח | T41: לא | U41: G02 | V41: רוה"מ יחידת רכש
A42: רוה"מ | B42: משרד ראש הממשלה | C42: משרד ראש הממשלה | D42: 04510110 | E42: פעולות | F42: 4501695466 | G42: שיתוף משאבי אנוש במסגרת מכרז שירותי יעוץ | H42: 43474 | I42: 43727 | J42: 40397632 | K42: מטריקס אי. טי. בע"מ | L42: 520039413 | M42: 173394 | N42: ILS | O42: 0 | Q42: תקנה 14ב - מכרז מרכזי | R42: 552845 | T42: לא | U42: G04 | V42: רוה"מ חוזים,יועצים
A43: רוה"מ | B43: משרד ראש הממשלה | C43: משרד ראש הממשלה | D43: 04510110 | E43: פעולות | F43: 4501851965 | G43: מיזם משותף קרן קרב | H43: 43829 | I43: 44196 | J43: 40442190 | K43: קרב יוזמות בחינוך (ע"ר) | L43: 580415917 | M43: 3000000 | N43: ILS | O43: 0 | Q43: פטור ממכרז | R43: 644776 | S43: תקנה 3(30) - מיזם משותף | T43: לא | U43: G04 | V43: רוה"מ חוזים,יועצים
A44: רוה"מ | B44: משרד ראש הממשלה | C44: משרד ראש הממשלה | D44: 04510110 | E44: פעולות | F44: 4501119297 | G44: הוצאות תפעול | H44: 42311 | J44: 40242784 | K44: מ. א. מ. ירושלים (1988) חברה לשרותי | L44: 511258246 | M44: 35100 | N44: ILS | O44: 35100 | P44: ILS | Q44: פטור ממכרז | S44: תקנה 3(1) - התקשרות ששוויה אינה עולה על 50,000 ש"ח | T44: לא | U44: G02 | V44: רוה"מ יחידת רכש
A45: רוה"מ | B45: משרד ראש הממשלה | C45: משרד ראש הממשלה | D45: 04510110 | E45: פעולות | F45: 4501305562 | G45: שירותי יעוץ | H45: 42689 | I45: 43053 | J45: 40040171 | K45: שלוסר אנליה לאורה | M45: 47501.06 | N45: ILS | O45: 0 | Q45: פטור ממכרז | S45: תקנה 3(1) - התקשרות ששוויה אינה עולה על 50,000 ש"ח | T45: לא | U45: G04 | V45: רוה"מ חוזים,יועצים
A46: רוה"מ | B46: משרד ראש הממשלה | C46: משרד ראש הממשלה | D46: 04510110 | E46: פעולות | F46: 4501399691 | G46: תרגום | H46: 42862 | I46: 43600 | J46: 40005174 | K46: אם. ג'י. אס. פתרונות שפה | L46: 540179223 | M46: 35321.13 | N46: ILS | O46: 3107.85 | P46: ILS | Q46: תקנה 1ב - מכרז פומבי רגיל | R46: 577631 | T46: לא | U46: G02 | V46: רוה"מ יחידת רכש
A47: רוה"מ | B47: משרד ראש הממשלה | C47: משרד ראש הממשלה | D47: 04510110 | E47: פעולות | F47: 4501399702 | G47: תרגום | H47: 42862 | I47: 43710 | J47: 41344031 | K47: איי.בי.סי מילה תרגומים בע"מ | L47: 515264869 | M47: 209664 | N47: ILS | O47: 54890.23 | P47: ILS | Q47: תקנה 1ב - מכרז פומבי רגיל | R47: 577631 | T47: לא | U47: G02 | V47: רוה"מ יחידת רכש
A48: רוה"מ | B48: משרד ראש הממשלה | C48: משרד ראש הממשלה | D48: 04510110 | E48: פעולות | F48: 4501452111 | G48: שעות ייעוץ | H48: 42962 | I48: 43293 | J48: 40819653 | K48: אבלזון רבקה | L48: 007590607 | M48: 60307.75 | N48: ILS | O48: 43963.34 | P48: ILS | Q48: פטור ממכרז | R48: 581943 | S48: תקנה 3ג - מימוש זכות ברירה | T48: לא | U48: G02 | V48: רוה"מ יחידת רכש
A49: רוה"מ | B49: משרד ראש הממשלה | C49: משרד ראש הממשלה | D49: 04510110 | E49: פעולות | F49: 4501486869 | G49: שירותי ביקורת כספים | H49: 43040 | I49: 43465 | J49: 40005659 | K49: בן דוד שלוי קופ ושות' רואי חשבון (ב | L49: 513464842 | M49: 468000 | N49: ILS | O49: 501433.1 | P49: ILS | Q49: פטור ממכרז | R49: 604482 | S49: תקנה 3ג - מימוש זכות ברירה | T49: לא | U49: G02 | V49: רוה"מ יחידת רכש
A50: רוה"מ | B50: משרד ראש הממשלה | C50: משרד ראש הממשלה | D50: 04510110 | E50: פעולות | F50: 4501524185 | G50: חניות לעובדי תקשוב בגטי | H50: 43103 | I50: 43465 | J50: 40003288 | K50: ג.ט.י. הגן הטכנולוגי ירושלים בע"מ | L50: 511590275 | M50: 88355.14 | N50: ILS | O50: 81967.26 | P50: ILS | Q50: פטור ממכרז | R50: 609855 | S50: תקנה 3(4)(ב)(1) - התקשרות המשך באישור ועדת מכרזים משרדית | T50: לא | U50: G02 | V50: רוה"מ יחידת רכש
A51: רוה"מ | B51: משרד ראש הממשלה | C51: משרד ראש הממשלה | D51: 04510110 | E51: פעולות | F51: 4501535410 | G51: כיבודים | H51: 43121 | I51: 43465 | J51: 40001389 | K51: ארבע עונות קייטרינג בבלי שמר בע"מ | L51: 512164310 | M51: 2897.39 | N51: ILS | O51: 2027 | P51: ILS | Q51: פטור ממכרז | S51: תקנה 3(1) - התקשרות ששוויה אינה עולה על 50,000 ש"ח | T51: לא | U51: G02 | V51: רוה"מ יחידת רכש
A52: רוה"מ | B52: משרד ראש הממשלה | C52: משרד ראש הממשלה | D52: 04510110 | E52: פעולות | F52: 4501538047 | G52: שרותי ייעוץ | H52: 43124 | I52: 43537 | J52: 41567431 | K52: אלברגר לואיס ראובן | L52: 015711997 | M52: 37366 | N52: ILS | O52: 1568.97 | P52: ILS | Q52: פטור ממכרז | S52: תקנה 3(1) - התקשרות ששוויה אינה עולה על 50,000 ש"ח | T52: לא | U52: G02 | V52: רוה"מ יחידת רכש
A53: רוה"מ | B53: משרד ראש הממשלה | C53: משרד ראש הממשלה | D53: 04510110 | E53: פעולות | F53: 4501611544 | G53: ערב גיבוש - אגף חשבות | H53: 43284 | I53: 43465 | J53: 40141063 | K53: "ירושלים הקטנה" - שרותי אירוח בע"מ | L53: 512567967 | M53: 6749.73 | N53: ILS | O53: 5399.78 | P53: ILS | Q53: פטור ממכרז | S53: תקנה 3(1) - התקשרות ששוויה אינה עולה על 50,000 ש"ח | T53: לא | U53: G02 | V53: רוה"מ יחידת רכש
A54: רוה"מ | B54: משרד ראש הממשלה | C54: משרד ראש הממשלה | D54: 04510110 | E54: פעולות | F54: 4501632390 | G54: דמי מנוי לעיתון | H54: 43328 | I54: 43465 | J54: 40176979 | K54: סטימצקי (2005) בע"מ | L54: 513742320 | M54: 735.15 | N54: ILS | O54: 0 | Q54: פטור ממכרז | S54: תקנה 3(1) - התקשרות ששוויה אינה עולה על 50,000 ש"ח | T54: לא | U54: G02 | V54: רוה"מ יחידת רכש
A55: רוה"מ | B55: משרד ראש הממשלה | C55: משרד ראש הממשלה | D55: 04510110 | E55: פעולות | F55: 4501632462 | G55: הוצאות קשיחות - שירותי צפייה | H55: 43331 | I55: 43664 | J55: 40001490 | K55: די.בי.אס. שרותי לווין (1998) בע"מ | L55: 512705138 | M55: 10828.63 | N55: ILS | O55: 7646.18 | P55: ILS | Q55: פטור ממכרז | S55: תקנה 3(1) - התקשרות ששוויה אינה עולה על 50,000 ש"ח | T55: לא | U55: G01 | V55: הוצאות קשיחות
A56: רוה"מ | B56: משרד ראש הממשלה | C56: משרד ראש הממשלה | D56: 04510110 | E56: פעולות | F56: 4501662558 | G56: פעילות חברתית אגף כלכלה ותשתיות | H56: 43415 | I56: 43780 | J56: 41517045 | K56: נחום אוהד | L56: 040912586 | M56: 809.97 | N56: ILS | O56: 0 | Q56: פטור ממכרז | S56: תקנה 3(1) - התקשרות ששוויה אינה עולה על 50,000 ש"ח | T56: לא | U56: G02 | V56: רוה"מ יחידת רכש
A57: רוה"מ | B57: משרד ראש הממשלה | C57: משרד ראש הממשלה | D57: 04510110 | E57: פעולות | F57: 4501663047 | G57: פעילות חברתית אגף כלכלה ותשתיות | H57: 43415 | I57: 43780 | J57: 40329386 | K57: קפית בגן (2008) בע"מ | L57: 514173863 | M57: 525.97 | N57: ILS | O57: 0 | Q57: פטור ממכרז | S57: תקנה 3(1) - התקשרות ששוויה אינה עולה על 50,000 ש"ח | T57: לא | U57: G02 | V57: רוה"מ יחידת רכש
A58: רוה"מ | B58: משרד ראש הממשלה | C58: משרד ראש הממשלה | D58: 04510110 | E58: פעולות | F58: 4501665162 | G58: מיזם משותף - סטודנטים מהפריפריה | H58: 43418 | I58: 43710 | J58: 40000431 | K58: איסף - הקרן הבין-לאומית לחינוך | L58: 580074888 | M58: 1560250 | N58: ILS | O58: 1393317.1 | P58: ILS | Q58: פטור ממכרז | R58: 620882 | S58: תקנה 3(30) - מיזם משותף | T58: לא | U58: G04 | V58: רוה"מ חוזים,יועצים
A59: רוה"מ | B59: משרד ראש הממשלה | C59: משרד ראש הממשלה | D59: 04510110 | E59: פעולות | F59: 4501670202 | G59: יעוץ | H59: 43426 | I59: 43769 | J59: 41563845 | K59: ירון בלום בע"מ | L59: 514735653 | M59: 668179.98 | N59: ILS | O59: 590428.8 | P59: ILS | Q59: תקנה 3ג - מימוש זכות ברירה | R59: 625036 | T59: לא | U59: G04 | V59: רוה"מ חוזים,יועצים
A60: רוה"מ | B60: משרד ראש הממשלה | C60: משרד ראש הממשלה | D60: 04510110 | E60: פעולות | F60: 4501672975 | G60: מתנות | H60: 43432 | I60: 43830 | J60: 40000885 | K60: צחובוי אילן | L60: 050719913 | M60: 2457 | N60: ILS | O60: 2457 | P60: ILS | Q60: פטור ממכרז | S60: תקנה 3(1) - התקשרות ששוויה אינה עולה על 50,000 ש"ח | T60: לא | U60: G02 | V60: רוה"מ יחידת רכש
A61: רוה"מ | B61: משרד ראש הממשלה | C61: משרד ראש הממשלה | D61: 04510110 | E61: פעולות | F61: 4501680652 | G61: נסיעת חול | H61: 43444 | J61: 41003244 | K61: משרד סוכנות/האוצר נסיעות ממשלתית | L61: 500107321 | M61: 3046 | N61: ILS | O61: 3048 | P61: ILS | Q61: התקשרות עם גופים ממשלתיים | T61: לא | U61: G03 | V61: רוה"מ נסיעות לחו"ל
A62: רוה"מ | B62: משרד ראש הממשלה | C62: משרד ראש הממשלה | D62: 04510110 | E62: פעולות | F62: 4501682210 | G62: דמי מנוי לעיתון | H62: 43446 | I62: 43830 | J62: 40001037 | K62: הוצאת עתון הארץ בע"מ | L62: 510015449 | M62: 13509.99 | N62: ILS | O62: 10807.99 | P62: ILS | Q62: פטור ממכרז | S62: תקנה 3(1) - התקשרות ששוויה אינה עולה על 50,000 ש"ח | T62: לא | U62: G02 | V62: רוה"מ יחידת רכש
A63: רוה"מ | B63: משרד ראש הממשלה | C63: משרד ראש הממשלה | D63: 04510110 | E63: פעולות | F63: 4501682242 | G63: דמי מנוי לעיתון | H63: 43446 | I63: 43830 | J63: 40001417 | K63: ג'רוזלם פוסט בע"מ | L63: 512311598 | M63: 6116.15 | N63: ILS | O63: 6048.87 | P63: ILS | Q63: פטור ממכרז | S63: תקנה 3(1) - התקשרות ששוויה אינה עולה על 50,000 ש"ח | T63: לא | U63: G02 | V63: רוה"מ יחידת רכש
A64: רוה"מ | B64: משרד ראש הממשלה | C64: משרד ראש הממשלה | D64: 04510110 | E64: פעולות | F64: 4501686344 | G64: ארוחת צהריים במסגרת פגישה | H64: 43453 | I64: 43830 | J64: 40461029 | K64: פשם חוצות בע"מ | L64: 513754309 | M64: 594.92 | N64: ILS | O64: 382.45 | P64: ILS | Q64: פטור ממכרז | S64: תקנה 3(1) - התקשרות ששוויה אינה עולה על 50,000 ש"ח | T64: לא | U64: G02 | V64: רוה"מ יחידת רכש
A65: רוה"מ | B65: משרד ראש הממשלה | C65: משרד ראש הממשלה | D65: 04510110 | E65: פעולות | F65: 4501689560 | G65: שירותי ביקורת חיצונית - חשבות | H65: 43460 | I65: 43830 | J65: 40005659 | K65: בן דוד שלוי קופ ושות' רואי חשבון (ב | L65: 513464842 | M65: 468000 | N65: ILS | O65: 521831.48 | P65: ILS | Q65: פטור ממכרז | R65: 623502 | S65: תקנה 3ג - מימוש זכות ברירה | T65: לא | U65: G04 | V65: רוה"מ חוזים,יועצים
A66: רוה"מ | B66: משרד ראש הממשלה | C66: משרד ראש הממשלה | D66: 04510110 | E66: פעולות | F66: 4501696572 | G66: חנית עובדים בגן הטכנולוגי | H66: 43475 | I66: 43830 | J66: 40003288 | K66: ג.ט.י. הגן הטכנולוגי ירושלים בע"מ | L66: 511590275 | M66: 85166.64 | N66: ILS | O66: 85420.46 | P66: ILS | Q66: פטור ממכרז | R66: 627450 | S66: תקנה 3ג - מימוש זכות ברירה | T66: לא | U66: G04 | V66: רוה"מ חוזים,יועצים
A67: רוה"מ | B67: משרד ראש הממשלה | C67: משרד ראש הממשלה | D67: 04510110 | E67: פעולות | F67: 4501704117 | G67: פרויקט מחשב לכל ילד 2019 | H67: 43489 | I67: 43830 | J67: 40396456 | K67: המפעל הלאומי לפתוח חברתי | L67: 580231546 | M67: 13250000 | N67: ILS | O67: 6957623 | P67: ILS | Q67: פטור ממכרז | R67: 636695 | S67: תקנה 3(4)(ב)(3) - התקשרות המשך באישור ועדת פטור מרכזית | T67: לא | U67: G01 | V67: הוצאות קשיחות
A68: רוה"מ | B68: משרד ראש הממשלה | C68: משרד ראש הממשלה | D68: 04510110 | E68: פעולות | F68: 4501852339 | G68: תחזוקת הר הרצל | H68: 43829 | I68: 44196 | J68: 40000247 | K68: ההסתדרות הציונית העולמית | L68: 500500350 | M68: 21000 | N68: ILS | O68: 0 | Q68: פטור ממכרז | R68: 645037 | S68: תקנה 3(19)(א) - הסוכנות היהודית או ההסתדרות הציונית | T68: לא | U68: G04 | V68: רוה"מ חוזים,יועצים
A69: רוה"מ | B69: משרד ראש הממשלה | C69: משרד ראש הממשלה | D69: 04510110 | E69: פעולות | F69: 4501852435 | G69: כתיבת נאומים | H69: 43829 | I69: 44196 | J69: 40960041 | K69: חריף חגי | L69: 023593239 | M69: 150000 | N69: ILS | O69: 0 | Q69: תקנה 5(ג)(2) - התקשרות עם מומחה - בדיקת מס' הצעות | R69: 643656 | T69: לא | U69: G04 | V69: רוה"מ חוזים,יועצים
A70: רוה"מ | B70: משרד ראש הממשלה | C70: משרד ראש הממשלה | D70: 04510110 | E70: פעולות | F70: 4501849806 | G70: אירוע חנוכת אנדרטה | H70: 43824 | I70: 44196 | J70: 40004141 | K70: הרשות לפיתוח ירושלים | L70: 500500392 | M70: 1060000 | N70: ILS | O70: 0 | Q70: פטור ממכרז | R70: לא בוצעה פניה++ | S70: תקנה 3(7) - תאגיד שהוקם בחוק | T70: לא | U70: G04 | V70: רוה"מ חוזים,יועצים
A71: רוה"מ | B71: משרד ראש הממשלה | C71: משרד ראש הממשלה | D71: 04510110 | E71: פעולות | F71: 4501352738 | G71: הוצאות קשיחות | H71: 42764 | I71: 43067 | J71: 40003496 | K71: כלכלית ירושלים בע"מ | L71: 520017070 | M71: 1177.61 | N71: ILS | O71: 0 | Q71: פטור ממכרז | S71: תקנה 3(1) - התקשרות ששוויה אינה עולה על 50,000 ש"ח | T71: לא | U71: G01 | V71: הוצאות קשיחות
A72: רוה"מ | B72: משרד ראש הממשלה | C72: משרד ראש הממשלה | D72: 04510110 | E72: פעולות | F72: 4501544276 | G72: הוצאות תחזוקה-כנפי נשרים 24 | H72: 43136 | I72: 43646 | J72: 40003496 | K72: כלכלית ירושלים בע"מ | L72: 520017070 | M72: 2261.01 | N72: ILS | O72: 0 | Q72: פטור ממכרז | R72: אין פניה במנוף | S72: תקנה 3(29) - ספק יחיד | T72: לא | U72: G01 | V72: הוצאות קשיחות
A73: רוה"מ | B73: משרד ראש הממשלה | C73: משרד ראש הממשלה | D73: 04510110 | E73: פעולות | F73: 4501842738 | G73: תשלומי ארנונה עיריית ירושלים | H73: 43810 | I73: 44196 | J73: 20000159 | K73: עירית ירושלים | L73: 500230008 | M73: 72000 | N73: ILS | O73: 0 | Q73: התקשרות עם גופים ממשלתיים | T73: לא | U73: G01 | V73: הוצאות קשיחות
A74: רוה"מ | B74: משרד ראש הממשלה | C74: משרד ראש הממשלה | D74: 04510110 | E74: פעולות | F74: 4501669321 | G74: מחקרים למועצה הלאומית לכלכלה | H74: 43425 | I74: 44155 | J74: 41052601 | K74: מכון למחקר כלכלי על שם ד"ר ישעיהו פ | L74: 580007714 | M74: 796989 | N74: ILS | O74: 187600 | P74: ILS | Q74: מכרז פומבי רגיל ממוכן | R74: 609276 | T74: לא | U74: G04 | V74: רוה"מ חוזים,יועצים
A75: רוה"מ | B75: משרד ראש הממשלה | C75: משרד ראש הממשלה | D75: 04510110 | E75: פעולות | F75: 4501340421 | G75: הוצאות קשיחות | H75: 42746 | I75: 43400 | J75: 40401962 | K75: 012 סמייל טלקום בע"מ | L75: 514350024 | M75: 2925 | N75: ILS | O75: 416.23 | P75: ILS | Q75: תקנה 14ב - מכרז מרכזי | R75: 563883 | T75: לא | U75: G01 | V75: הוצאות קשיחות
A76: רוה"מ | B76: משרד ראש הממשלה | C76: משרד ראש הממשלה | D76: 04510110 | E76: פעולות | F76: 4501351401 | G76: הוצאות תפעול | H76: 42761 | I76: 44196 | J76: 40238786 | K76: גאריביאן גרשון | L76: 055634687 | M76: 50000 | N76: ILS | O76: 41480.7 | P76: ILS | Q76: פטור ממכרז | S76: תקנה 3(1) - התקשרות ששוויה אינה עולה על 50,000 ש"ח | T76: לא | U76: G02 | V76: רוה"מ יחידת רכש
A77: רוה"מ | B77: משרד ראש הממשלה | C77: משרד ראש הממשלה | D77: 04510110 | E77: פעולות | F77: 4501404811 | G77: שרותי ייעוץ | H77: 42869 | I77: 43465 | J77: 40005160 | K77: סומך חייקין | L77: 540002383 | M77: 118267.11 | N77: ILS | O77: 0 | Q77: תקנה 1ב - מכרז פומבי רגיל | R77: 528639 | T77: לא | U77: G04 | V77: רוה"מ חוזים,יועצים
A78: רוה"מ | B78: משרד ראש הממשלה | C78: משרד ראש הממשלה | D78: 04510110 | E78: פעולות | F78: 4501466458 | G78: שרותי הגברה | H78: 42992 | I78: 43717 | J78: 40207218 | K78: ספידי קול בע"מ | L78: 512828310 | M78: 512999.99 | N78: ILS | O78: 429688.35 | P78: ILS | Q78: תקנה 1ב - מכרז פומבי רגיל | R78: 595590 | T78: לא | U78: G02 | V78: רוה"מ יחידת רכש
A79: רוה"מ | B79: משרד ראש הממשלה | C79: משרד ראש הממשלה | D79: 04510110 | E79: פעולות | F79: 4501474906 | G79: השכרת כלים לארוח | H79: 43011 | I79: 43830 | J79: 40004999 | K79: י.מ. סיטי ארועים בע"מ | L79: 512883174 | M79: 19999.98 | N79: ILS | O79: 0 | Q79: פטור ממכרז | S79: תקנה 3(1) - התקשרות ששוויה אינה עולה על 50,000 ש"ח | T79: לא | U79: G02 | V79: רוה"מ יחידת רכש
A80: רוה"מ | B80: משרד ראש הממשלה | C80: משרד ראש הממשלה | D80: 04510110 | E80: פעולות | F80: 4501480217 | G80: התקשרות עם משרד עו"ד | H80: 43030 | I80: 43090 | J80: 40245044 | K80: נסים,רינקוב,סנדרוביץ | L80: 557564739 | M80: 10775.99 | N80: ILS | O80: 9775.7 | P80: ILS | Q80: פטור ממכרז | R80: 533857 | S80: תקנה 3(1) - התקשרות ששוויה אינה עולה על 50,000 ש"ח | T80: לא | U80: G02 | V80: רוה"מ יחידת רכש
A81: רוה"מ | B81: משרד ראש הממשלה | C81: משרד ראש הממשלה | D81: 04510110 | E81: פעולות | F81: 4501517266 | G81: חניות לעובדים ואורחים-פנ"צ | H81: 43086 | I81: 43539 | J81: 40003496 | K81: כלכלית ירושלים בע"מ | L81: 520017070 | M81: 28486.46 | N81: ILS | O81: 13123.53 | P81: ILS | Q81: פטור ממכרז | S81: תקנה 3(1) - התקשרות ששוויה אינה עולה על 50,000 ש"ח | T81: לא | U81: G02 | V81: רוה"מ יחידת רכש
A82: רוה"מ | B82: משרד ראש הממשלה | C82: משרד ראש הממשלה | D82: 04510110 | E82: פעולות | F82: 4501528495 | G82: הוצאות קשיחות | H82: 43110 | I82: 43465 | J82: 40003288 | K82: ג.ט.י. הגן הטכנולוגי ירושלים בע"מ | L82: 511590275 | M82: 2574 | N82: ILS | O82: 1667.62 | P82: ILS | Q82: פטור ממכרז | R82: אין פניה במנוף | S82: תקנה 3ג - מימוש זכות ברירה | T82: לא | U82: G01 | V82: הוצאות קשיחות
A83: רוה"מ | B83: משרד ראש הממשלה | C83: משרד ראש הממשלה | D83: 04510110 | E83: פעולות | F83: 4501539630 | G83: הוצאות ארנונה- עיריית ירושלים | H83: 43128 | I83: 43465 | J83: 20000159 | K83: עירית ירושלים | L83: 500230008 | M83: 68015 | N83: ILS | O83: 68010.56 | P83: ILS | Q83: התקשרות עם גופים ממשלתיים | T83: לא | U83: G01 | V83: הוצאות קשיחות
A84: רוה"מ | B84: משרד ראש הממשלה | C84: משרד ראש הממשלה | D84: 04510110 | E84: פעולות | F84: 4501556229 | G84: שירותי תקשורת בינלאומי פרטנר | H84: 43158 | I84: 43830 | J84: 40445380 | K84: פרטנר פתרונות תקשורת נייחים שותפות | L84: 550223549 | M84: 678.6 | N84: ILS | O84: 447.12 | P84: ILS | Q84: תקנה 14ב - מכרז מרכזי | R84: 563883 | T84: לא | U84: G01 | V84: הוצאות קשיחות
A85: רוה"מ | B85: משרד ראש הממשלה | C85: משרד ראש הממשלה | D85: 04510110 | E85: פעולות | F85: 4501575342 | G85: שרותי ייעוץ | H85: 43206 | I85: 43934 | J85: 41382414 | K85: מתאם - לפיתוח משאבי אנוש בארגונים ח | L85: 580527992 | M85: 43000 | N85: ILS | O85: 41172.5 | P85: ILS | Q85: פטור ממכרז | S85: תקנה 3(1) - התקשרות ששוויה אינה עולה על 50,000 ש"ח | T85: לא | U85: G02 | V85: רוה"מ יחידת רכש
A86: רוה"מ | B86: משרד ראש הממשלה | C86: משרד ראש הממשלה | D86: 04510110 | E86: פעולות | F86: 4501592201 | G86: שרותייעוץ לכתיבת מכרז | H86: 43242 | I86: 43465 | J86: 41399606 | K86: רחמן משה | L86: 000262907 | M86: 14040 | N86: ILS | O86: 14040 | P86: ILS | Q86: תקנה 1ב - מכרז פומבי רגיל | R86: 60080043 | T86: לא | U86: G02 | V86: רוה"מ יחידת רכש
A87: רוה"מ | B87: משרד ראש הממשלה | C87: משרד ראש הממשלה | D87: 04510110 | E87: פעולות | F87: 4501593134 | G87: עבודות דפוס | H87: 43244 | I87: 43606 | J87: 40002893 | K87: גרפוס-פרינט (1990) בע"מ | L87: 511524886 | M87: 7020 | N87: ILS | O87: 795.6 | P87: ILS | Q87: תקנה 1ב - מכרז פומבי רגיל | R87: 604965 | T87: לא | U87: G02 | V87: רוה"מ יחידת רכש
A88: רוה"מ | B88: משרד ראש הממשלה | C88: משרד ראש הממשלה | D88: 04510110 | E88: פעולות | F88: 4501615219 | G88: שרותי גינון | H88: 43291 | I88: 43465 | J88: 40473248 | K88: משתלות פולק יגאל בע"מ | L88: 514532746 | M88: 2750 | N88: ILS | O88: 2749.5 | P88: ILS | Q88: תקנה 1ב - מכרז פומבי רגיל | R88: 571076 | T88: לא | U88: G01 | V88: הוצאות קשיחות
A89: רוה"מ | B89: משרד ראש הממשלה | C89: משרד ראש הממשלה | D89: 04510110 | E89: פעולות | F89: 4501615375 | G89: שרותי ייעוץ לכתיבת מכרזים | H89: 43291 | I89: 43865 | J89: 40005076 | K89: עדליא - ייעוץ כלכלי בע"מ | L89: 513238816 | M89: 49080 | N89: ILS | O89: 49080 | P89: ILS | Q89: תקנה 1ב - מכרז פומבי רגיל | R89: 60080043 | T89: לא | U89: G02 | V89: רוה"מ יחידת רכש
A90: רוה"מ | B90: משרד ראש הממשלה | C90: משרד ראש הממשלה | D90: 04510110 | E90: פעולות | F90: 4501620070 | G90: שרותי ייעוץ לכתיבת מכרזים | H90: 43300 | I90: 43500 | J90: 40005076 | K90: עדליא - ייעוץ כלכלי בע"מ | L90: 513238816 | M90: 26910 | N90: ILS | O90: 13455 | P90: ILS | Q90: תקנה 1ב - מכרז פומבי רגיל | R90: 60080043 | T90: לא | U90: G02 | V90: רוה"מ יחידת רכש
A91: רוה"מ | B91: משרד ראש הממשלה | C91: משרד ראש הממשלה | D91: 04510110 | E91: פעולות | F91: 4501625269 | G91: שרותי ייעוץ | H91: 43313 | I91: 43865 | J91: 40005076 | K91: עדליא - ייעוץ כלכלי בע"מ | L91: 513238816 | M91: 20317.05 | N91: ILS | O91: 20317.06 | P91: ILS | Q91: תקנה 1ב - מכרז פומבי רגיל | R91: 60080043 | T91: לא | U91: G02 | V91: רוה"מ יחידת רכש
A92: רוה"מ | B92: משרד ראש הממשלה | C92: משרד ראש הממשלה | D92: 04510110 | E92: פעולות | F92: 4501651826 | G92: שירותי תמלול והקלדה | H92: 43391 | I92: 43830 | J92: 40005003 | K92: חבר תרגומים בע"מ | L92: 512892126 | M92: 50000 | N92: ILS | O92: 0 | Q92: פטור ממכרז | S92: תקנה 3(1) - התקשרות ששוויה אינה עולה על 50,000 ש"ח | T92: לא | U92: G01 | V92: הוצאות קשיחות
A93: רוה"מ | B93: משרד ראש הממשלה | C93: משרד ראש הממשלה | D93: 04510110 | E93: פעולות | F93: 4501675513 | G93: כתיבת נאומים | H93: 43437 | I93: 43830 | J93: 40960041 | K93: חריף חגי | L93: 023593239 | M93: 150000 | N93: ILS | O93: 103832.09 | P93: ILS | Q93: תקנה 5(ג)(2) - התקשרות עם מומחה - בדיקת מס' הצעות | R93: 625034 | T93: לא | U93: G04 | V93: רוה"מ חוזים,יועצים
A94: רוה"מ | B94: משרד ראש הממשלה | C94: משרד ראש הממשלה | D94: 04510110 | E94: פעולות | F94: 4501680530 | G94: כתיבת מכרז מעליות | H94: 43444 | I94: 43865 | J94: 40005076 | K94: עדליא - ייעוץ כלכלי בע"מ | L94: 513238816 | M94: 15210 | N94: ILS | O94: 6084 | P94: ILS | Q94: תקנה 1ב - מכרז פומבי רגיל | R94: 60080043 | T94: לא | U94: G04 | V94: רוה"מ חוזים,יועצים
A95: רוה"מ | B95: משרד ראש הממשלה | C95: משרד ראש הממשלה | D95: 04510110 | E95: פעולות | F95: 4501697417 | G95: מתנות | H95: 43478 | I95: 44196 | J95: 40004060 | K95: פרץ שלום חי | L95: 056761695 | M95: 3000 | N95: ILS | O95: 0 | Q95: פטור ממכרז | S95: תקנה 3(1) - התקשרות ששוויה אינה עולה על 50,000 ש"ח | T95: לא | U95: G02 | V95: רוה"מ יחידת רכש
A96: רוה"מ | B96: משרד ראש הממשלה | C96: משרד ראש הממשלה | D96: 04510110 | E96: פעולות | F96: 4501714650 | G96: תשלום לחבר וועדה ציבורית | H96: 43509 | I96: 43830 | J96: 40571316 | K96: עתידים-אתגר ניהול קרנות בע"מ | L96: 512127978 | M96: 10583.82 | N96: ILS | O96: 0 | Q96: פטור ממכרז | S96: תקנה 3(1) - התקשרות ששוויה אינה עולה על 50,000 ש"ח | T96: לא | U96: G02 | V96: רוה"מ יחידת רכש
A97: רוה"מ | B97: משרד ראש הממשלה | C97: משרד ראש הממשלה | D97: 04510110 | E97: פעולות | F97: 4501717313 | G97: ניהול ותחזוקה קשת רובינסון | H97: 43514 | I97: 43875 | J97: 40003388 | K97: שיקום ולפתוח הרובע היהודי בעיר העתי | L97: 520028127 | M97: 2052857.4 | N97: ILS | O97: 1373233.7 | P97: ILS | Q97: פטור ממכרז | R97: 628301 | S97: תקנה 3(4)(ב)(3) - התקשרות המשך באישור ועדת פטור מרכזית | T97: לא | U97: G04 | V97: רוה"מ חוזים,יועצים
A98: רוה"מ | B98: משרד ראש הממשלה | C98: משרד ראש הממשלה | D98: 04510110 | E98: פעולות | F98: 4501689561 | G98: שרותי ייעוץ | H98: 43460 | I98: 43727 | J98: 40397632 | K98: מטריקס אי. טי. בע"מ | L98: 520039413 | M98: 74587.5 | N98: ILS | O98: 61893 | P98: ILS | Q98: פטור ממכרז | S98: תקנה 3(1) - התקשרות ששוויה אינה עולה על 50,000 ש"ח | T98: לא | U98: G02 | V98: רוה"מ יחידת רכש
A99: רוה"מ | B99: משרד ראש הממשלה | C99: משרד ראש הממשלה | D99: 04510110 | E99: פעולות | F99: 4501683319 | G99: תחזוקת הר הרצל | H99: 43447 | I99: 43830 | J99: 40000247 | K99: ההסתדרות הציונית העולמית | L99: 500500350 | M99: 350000 | N99: ILS | O99: 0 | Q99: פטור ממכרז | R99: 629415 | S99: תקנה 3(19)(א) - הסוכנות היהודית או ההסתדרות הציונית | T99: לא | U99: G04 | V99: רוה"מ חוזים,יועצים
A100: רוה"מ | B100: משרד ראש הממשלה | C100: משרד ראש הממשלה | D100: 04510110 | E100: פעולות | F100: 4501725398 | G100: שירותי ביקורת | H100: 43530 | I100: 43890 | J100: 40005659 | K100: בן דוד שלוי קופ ושות' רואי חשבון (ב | L100: 513464842 | M100: 317070 | N100: ILS | O100: 80550.76 | P100: ILS | Q100: תקנה 5(ג)(1) - התקשרות עם מומחה - פניה תחרותית להצעות | R100: לא בוצעה פניה | T100: לא | U100: G04 | V100: רוה"מ חוזים,יועצים
...

Sheet 1.2020
A1: שם חברה | B1: תאור של ארגון רכש | C1: שם אתר | D1: תקנה תקציבית | E1: תיאור תקנה תקציבית | F1: הזמנת רכש | G1: מטרת התקשרות | H1: תאריך יצירת ההזמנה | I1: סיום תקופת תוקף | J1: קוד ספק | K1: שם הספק | L1: מספר ח"פ | M1: ערך ההזמנה כולל מע"מ | N1: מטבע | O1: ביצוע חשבוניות מצטבר כולל מע"מ והצמדות | P1: מטבע חשבונית | Q1: אופן רכישה מקור | R1: מס' פנייה במנו"ף/מנור" | S1: סיבת פטור | T1: הזמנה רגישה | U1: קבוצת רכש | V1: יחידה
A2: רוה"מ | B2: משרד ראש הממשלה | C2: משרד ראש הממשלה | D2: 04510110 | E2: פעולות | F2: 4501116804 | G2: הוצאות תפעול | H2: 42306 | J2: 40008865 | K2: עידוד לקליטת אומן עולה (ע"ר) | L2: 580342996 | M2: 3000 | N2: ILS | O2: 3000 | P2: ILS | Q2: פטור ממכרז | S2: תקנה 3(1) - התקשרות ששוויה אינה עולה על 50,000 ש"ח | T2: לא | U2: G02 | V2: רוה"מ יחידת רכש
A3: רוה"מ | B3: משרד ראש הממשלה | C3: משרד ראש הממשלה | D3: 04510110 | E3: פעולות | F3: 4501244458 | G3: תפעול ותחזוקה | H3: 42548 | I3: 44006 | J3: 40005160 | K3: סומך חייקין | L3: 540002383 | M3: 314387.19 | N3: ILS | O3: 0 | Q3: תקנה 14ב - מכרז מרכזי | R3: 528639 | T3: לא | U3: G02 | V3: רוה"מ יחידת רכש
A4: רוה"מ | B4: משרד ראש הממשלה | C4: משרד ראש הממשלה | D4: 04510110 | E4: פעולות | F4: 4501434899 | G4: שרותי ייעוץ | H4: 42927 | I4: 43291 | J4: 41067902 | K4: ספורטא אקשטין איתי | M4: 26500 | N4: ILS | O4: 0 | Q4: פטור ממכרז | S4: תקנה 3(1) - התקשרות ששוויה אינה עולה על 50,000 ש"ח | T4: לא | U4: G02 | V4: רוה"מ יחידת רכש
A5: רוה"מ | B5: משרד ראש הממשלה | C5: משרד ראש הממשלה | D5: 04510110 | E5: פעולות | F5: 4501462491 | G5: השכרת אולם לצורך כנס צוערים | H5: 42984 | J5: 40140406 | K5: שלוה - האגודה הישראלית לטיפול באנשי | L5: 580173987 | M5: 3000 | N5: ILS | O5: 0 | Q5: פטור ממכרז | S5: תקנה 3(1) - התקשרות ששוויה אינה עולה על 50,000 ש"ח | T5: לא | U5: G02 | V5: רוה"מ יחידת רכש
A6: רוה"מ | B6: משרד ראש הממשלה | C6: משרד ראש הממשלה | D6: 04510110 | E6: פעולות | F6: 4501482424 | G6: תחזוקת הר הרצל | H6: 43033 | I6: 43465 | J6: 40000247 | K6: ההסתדרות הציונית העולמית | L6: 500500350 | M6: 454550 | N6: ILS | O6: 378080.65 | P6: ILS | Q6: פטור ממכרז | R6: 9999 | S6: תקנה 3(19)(א) - הסוכנות היהודית או ההסתדרות הציונית | T6: לא | U6: G01 | V6: הוצאות קשיחות
A7: רוה"מ | B7: משרד ראש הממשלה | C7: משרד ראש הממשלה | D7: 04510110 | E7: פעולות | F7: 4501485976 | G7: הכשרת רחבת הכותל | H7: 43039 | I7: 44002 | J7: 40006929 | K7: רשות העתיקות | L7: 500500491 | M7: 2738664 | N7: ILS | O7: 1163927.5 | P7: ILS | Q7: פטור ממכרז | R7: 599657 | S7: תקנה 3(7) - תאגיד שהוקם בחוק | T7: לא | U7: G02 | V7: רוה"מ יחידת רכש
A8: רוה"מ | B8: משרד ראש הממשלה | C8: משרד ראש הממשלה | D8: 04510110 | E8: פעולות | F8: 4501511549 | G8: כתיבת דו"ח | H8: 43076 | I8: 43465 | J8: 40240096 | K8: העמותה לקידום לימודי כלכלה וחברה (ע | L8: 580431237 | M8: 3000 | N8: ILS | O8: 0 | Q8: פטור ממכרז | S8: תקנה 3(1) - התקשרות ששוויה אינה עולה על 50,000 ש"ח | T8: לא | U8: G02 | V8: רוה"מ יחידת רכש
A9: רוה"מ | B9: משרד ראש הממשלה | C9: משרד ראש הממשלה | D9: 04510110 | E9: פעולות | F9: 4501512245 | G9: סדנה למובילי תוכניות עתודה | H9: 43076 | I9: 43465 | J9: 40314150 | K9: קולות - ממעשה ללימוד למעשה (ע"ר) | L9: 580301299 | M9: 2500 | N9: ILS | O9: 0 | Q9: פטור ממכרז | S9: תקנה 3(1) - התקשרות ששוויה אינה עולה על 50,000 ש"ח | T9: לא | U9: G02 | V9: רוה"מ יחידת רכש
A10: רוה"מ | B10: משרד ראש הממשלה | C10: משרד ראש הממשלה | D10: 04510110 | E10: פעולות | F10: 4501528418 | G10: נסיעות חול | H10: 43110 | J10: 41003244 | K10: משרד סוכנות/האוצר נסיעות ממשלתית | L10: 500107321 | M10: 3048.42 | N10: ILS | O10: 3048.42 | P10: ILS | Q10: התקשרות עם גופים ממשלתיים | T10: לא | U10: G03 | V10: רוה"מ נסיעות לחו"ל
A11: רוה"מ | B11: משרד ראש הממשלה | C11: משרד ראש הממשלה | D11: 04510110 | E11: פעולות | F11: 4501584394 | G11: נסיעות חו"ל | H11: 43226 | J11: 41003244 | K11: משרד סוכנות/האוצר נסיעות ממשלתית | L11: 500107321 | M11: 7288.5 | N11: ILS | O11: 7270.4 | P11: ILS | Q11: התקשרות עם גופים ממשלתיים | T11: לא | U11: G03 | V11: רוה"מ נסיעות לחו"ל
A12: רוה"מ | B12: משרד ראש הממשלה | C12: משרד ראש הממשלה | D12: 04510110 | E12: פעולות | F12: 4501584430 | G12: נסיעות חו"ל | H12: 43226 | J12: 41003244 | K12: משרד סוכנות/האוצר נסיעות ממשלתית | L12: 500107321 | M12: 3371.2 | N12: ILS | O12: 3367.73 | P12: ILS | Q12: התקשרות עם גופים ממשלתיים | T12: לא | U12: G03 | V12: רוה"מ נסיעות לחו"ל
A13: רוה"מ | B13: משרד ראש הממשלה | C13: משרד ראש הממשלה | D13: 04510110 | E13: פעולות | F13: 4501584523 | G13: נסיעות חו"ל | H13: 43226 | J13: 41003244 | K13: משרד סוכנות/האוצר נסיעות ממשלתית | L13: 500107321 | M13: 10967.4 | N13: ILS | O13: 10836.82 | P13: ILS | Q13: התקשרות עם גופים ממשלתיים | T13: לא | U13: G03 | V13: רוה"מ נסיעות לחו"ל
A14: רוה"מ | B14: משרד ראש הממשלה | C14: משרד ראש הממשלה | D14: 04510110 | E14: פעולות | F14: 4501584548 | G14: נסיעות חו"ל | H14: 43226 | J14: 41003244 | K14: משרד סוכנות/האוצר נסיעות ממשלתית | L14: 500107321 | M14: 8816 | N14: ILS | O14: 8672.69 | P14: ILS | Q14: התקשרות עם גופים ממשלתיים | T14: לא | U14: G03 | V14: רוה"מ נסיעות לחו"ל
A15: רוה"מ | B15: משרד ראש הממשלה | C15: משרד ראש הממשלה | D15: 04510110 | E15: פעולות | F15: 4501590909 | G15: נסיעות חו"ל | H15: 43241 | J15: 41003244 | K15: משרד סוכנות/האוצר נסיעות ממשלתית | L15: 500107321 | M15: 18015.72 | N15: ILS | O15: 18015.72 | P15: ILS | Q15: התקשרות עם גופים ממשלתיים | T15: לא | U15: G03 | V15: רוה"מ נסיעות לחו"ל
A16: רוה"מ | B16: משרד ראש הממשלה | C16: משרד ראש הממשלה | D16: 04510110 | E16: פעולות | F16: 4501591749 | G16: דמי מנוי לעיתון | H16: 43242 | I16: 43465 | J16: 40001037 | K16: הוצאת עתון הארץ בע"מ | L16: 510015449 | M16: 1575 | N16: ILS | O16: 0 | Q16: פטור ממכרז | S16: תקנה 3(1) - התקשרות ששוויה אינה עולה על 50,000 ש"ח | T16: לא | U16: G02 | V16: רוה"מ יחידת רכש
A17: רוה"מ | B17: משרד ראש הממשלה | C17: משרד ראש הממשלה | D17: 04510110 | E17: פעולות | F17: 4501593074 | G17: נסיעות חו"ל | H17: 43244 | J17: 41003244 | K17: משרד סוכנות/האוצר נסיעות ממשלתית | L17: 500107321 | M17: 15148 | N17: ILS | O17: 9416.35 | P17: ILS | Q17: התקשרות עם גופים ממשלתיים | T17: לא | U17: G03 | V17: רוה"מ נסיעות לחו"ל
A18: רוה"מ | B18: משרד ראש הממשלה | C18: משרד ראש הממשלה | D18: 04510110 | E18: פעולות | F18: 4501648964 | G18: דמי מנוי לעיתון | H18: 43387 | I18: 43830 | J18: 40011446 | K18: ידיעות מינויים | L18: 540181054 | M18: 900 | N18: ILS | O18: 0 | Q18: פטור ממכרז | S18: תקנה 3(1) - התקשרות ששוויה אינה עולה על 50,000 ש"ח | T18: לא | U18: G02 | V18: רוה"מ יחידת רכש
A19: רוה"מ | B19: משרד ראש הממשלה | C19: משרד ראש הממשלה | D19: 04510110 | E19: פעולות | F19: 4501649015 | G19: שרותי ייעוץ | H19: 43387 | I19: 44085 | J19: 40314838 | K19: בריטמן אלמגור זוהר | L19: 557934692 | M19: 153590.58 | N19: ILS | O19: 76473.99 | P19: ILS | Q19: תקנה 3ג - מימוש זכות ברירה | T19: לא | U19: G02 | V19: רוה"מ יחידת רכש
A20: רוה"מ | B20: משרד ראש הממשלה | C20: משרד ראש הממשלה | D20: 04510110 | E20: פעולות | F20: 4501680634 | G20: נסיעת חול | H20: 43444 | J20: 41003244 | K20: משרד סוכנות/האוצר נסיעות ממשלתית | L20: 500107321 | M20: 16698 | N20: ILS | O20: 16626.39 | P20: ILS | Q20: התקשרות עם גופים ממשלתיים | T20: לא | U20: G03 | V20: רוה"מ נסיעות לחו"ל
A21: רוה"מ | B21: משרד ראש הממשלה | C21: משרד ראש הממשלה | D21: 04510110 | E21: פעולות | F21: 4501680668 | G21: נסיעת חול | H21: 43444 | J21: 41003244 | K21: משרד סוכנות/האוצר נסיעות ממשלתית | L21: 500107321 | M21: 9106.98 | N21: ILS | O21: 9067.01 | P21: ILS | Q21: התקשרות עם גופים ממשלתיים | T21: לא | U21: G03 | V21: רוה"מ נסיעות לחו"ל
A22: רוה"מ | B22: משרד ראש הממשלה | C22: משרד ראש הממשלה | D22: 04510110 | E22: פעולות | F22: 4501681989 | G22: דמי מנוי לעיתון | H22: 43446 | I22: 43830 | J22: 40176979 | K22: סטימצקי (2005) בע"מ | L22: 513742320 | M22: 2703.19 | N22: ILS | O22: 2550.43 | P22: ILS | Q22: פטור ממכרז | S22: תקנה 3(1) - התקשרות ששוויה אינה עולה על 50,000 ש"ח | T22: לא | U22: G02 | V22: רוה"מ יחידת רכש
A23: רוה"מ | B23: משרד ראש הממשלה | C23: משרד ראש הממשלה | D23: 04510110 | E23: פעולות | F23: 4501522495 | G23: שירותי תחזוקה | H23: 43096 | I23: 43146 | J23: 40003388 | K23: שיקום ולפתוח הרובע היהודי בעיר העתי | L23: 520028127 | M23: 89524.49 | N23: ILS | O23: 41016.69 | P23: ILS | Q23: פטור ממכרז | R23: 609572 | S23: תקנה 3(29) - ספק יחיד | T23: לא | U23: G02 | V23: רוה"מ יחידת רכש
A24: רוה"מ | B24: משרד ראש הממשלה | C24: משרד ראש הממשלה | D24: 04510110 | E24: פעולות | F24: 4501526264 | G24: שרותי ייעוץ | H24: 43107 | I24: 44085 | J24: 40314838 | K24: בריטמן אלמגור זוהר | L24: 557934692 | M24: 310248.9 | N24: ILS | O24: 111933 | P24: ILS | Q24: תקנה 3ג - מימוש זכות ברירה | T24: לא | U24: G02 | V24: רוה"מ יחידת רכש
A25: רוה"מ | B25: משרד ראש הממשלה | C25: משרד ראש הממשלה | D25: 04510110 | E25: פעולות | F25: 4501611780 | G25: נסיעות חו"ל | H25: 43284 | J25: 41003244 | K25: משרד סוכנות/האוצר נסיעות ממשלתית | L25: 500107321 | M25: 3582 | N25: ILS | O25: 3536.1 | P25: ILS | Q25: התקשרות עם גופים ממשלתיים | T25: לא | U25: G03 | V25: רוה"מ נסיעות לחו"ל
A26: רוה"מ | B26: משרד ראש הממשלה | C26: משרד ראש הממשלה | D26: 04510110 | E26: פעולות | F26: 4501627808 | G26: פורטל מידע ממשלתי תחזוקה והקמה | H26: 43319 | I26: 43982 | J26: 40371942 | K26: פיונט טכנולוגיות בע"מ | L26: 512841016 | M26: 271063.5 | N26: ILS | O26: 0 | Q26: תקנה 14ב - מכרז מרכזי | R26: 577889 | T26: לא | U26: G06 | V26: רוה"מ טכנו' והמידע
A27: רוה"מ | B27: משרד ראש הממשלה | C27: משרד ראש הממשלה | D27: 04510110 | E27: פעולות | F27: 4501695466 | G27: שיתוף משאבי אנוש במסגרת מכרז שירותי יעוץ | H27: 43474 | I27: 44093 | J27: 40397632 | K27: מטריקס אי. טי. בע"מ | L27: 520039413 | M27: 173394 | N27: ILS | O27: 0 | Q27: תקנה 14ב - מכרז מרכזי | R27: 552845 | T27: לא | U27: G04 | V27: רוה"מ חוזים,יועצים
A28: רוה"מ | B28: משרד ראש הממשלה | C28: משרד ראש הממשלה | D28: 04510110 | E28: פעולות | F28: 4501851965 | G28: מיזם משותף קרן קרב | H28: 43829 | I28: 44196 | J28: 40442190 | K28: קרב יוזמות בחינוך (ע"ר) | L28: 580415917 | M28: 3000000 | N28: ILS | O28: 0 | Q28: פטור ממכרז | R28: 644776 | S28: תקנה 3(30) - מיזם משותף | T28: לא | U28: G04 | V28: רוה"מ חוזים,יועצים
A29: רוה"מ | B29: משרד ראש הממשלה | C29: משרד ראש הממשלה | D29: 04510110 | E29: פעולות | F29: 4501119297 | G29: הוצאות תפעול | H29: 42311 | J29: 40242784 | K29: מ. א. מ. ירושלים (1988) חברה לשרותי | L29: 511258246 | M29: 35100 | N29: ILS | O29: 35100 | P29: ILS | Q29: פטור ממכרז | S29: תקנה 3(1) - התקשרות ששוויה אינה עולה על 50,000 ש"ח | T29: לא | U29: G02 | V29: רוה"מ יחידת רכש
A30: רוה"מ | B30: משרד ראש הממשלה | C30: משרד ראש הממשלה | D30: 04510110 | E30: פעולות | F30: 4501305562 | G30: שירותי יעוץ | H30: 42689 | I30: 43053 | J30: 40040171 | K30: שלוסר אנליה לאורה | M30: 47501.06 | N30: ILS | O30: 0 | Q30: פטור ממכרז | S30: תקנה 3(1) - התקשרות ששוויה אינה עולה על 50,000 ש"ח | T30: לא | U30: G04 | V30: רוה"מ חוזים,יועצים
A31: רוה"מ | B31: משרד ראש הממשלה | C31: משרד ראש הממשלה | D31: 04510110 | E31: פעולות | F31: 4501399702 | G31: תרגום | H31: 42862 | I31: 43710 | J31: 41344031 | K31: איי.בי.סי מילה תרגומים בע"מ | L31: 515264869 | M31: 209664 | N31: ILS | O31: 54890.23 | P31: ILS | Q31: תקנה 1ב - מכרז פומבי רגיל | R31: 577631 | T31: לא | U31: G02 | V31: רוה"מ יחידת רכש
A32: רוה"מ | B32: משרד ראש הממשלה | C32: משרד ראש הממשלה | D32: 04510110 | E32: פעולות | F32: 4501524185 | G32: חניות לעובדי תקשוב בגטי | H32: 43103 | I32: 43465 | J32: 40003288 | K32: ג.ט.י. הגן הטכנולוגי ירושלים בע"מ | L32: 511590275 | M32: 88355.14 | N32: ILS | O32: 81967.26 | P32: ILS | Q32: פטור ממכרז | R32: 609855 | S32: תקנה 3(4)(ב)(1) - התקשרות המשך באישור ועדת מכרזים משרדית | T32: לא | U32: G02 | V32: רוה"מ יחידת רכש
A33: רוה"מ | B33: משרד ראש הממשלה | C33: משרד ראש הממשלה | D33: 04510110 | E33: פעולות | F33: 4501611544 | G33: ערב גיבוש - אגף חשבות | H33: 43284 | I33: 43465 | J33: 40141063 | K33: "ירושלים הקטנה" - שרותי אירוח בע"מ | L33: 512567967 | M33: 6749.73 | N33: ILS | O33: 5399.78 | P33: ILS | Q33: פטור ממכרז | S33: תקנה 3(1) - התקשרות ששוויה אינה עולה על 50,000 ש"ח | T33: לא | U33: G02 | V33: רוה"מ יחידת רכש
A34: רוה"מ | B34: משרד ראש הממשלה | C34: משרד ראש הממשלה | D34: 04510110 | E34: פעולות | F34: 4501632390 | G34: דמי מנוי לעיתון | H34: 43328 | I34: 43465 | J34: 40176979 | K34: סטימצקי (2005) בע"מ | L34: 513742320 | M34: 735.15 | N34: ILS | O34: 0 | Q34: פטור ממכרז | S34: תקנה 3(1) - התקשרות ששוויה אינה עולה על 50,000 ש"ח | T34: לא | U34: G02 | V34: רוה"מ יחידת רכש
A35: רוה"מ | B35: משרד ראש הממשלה | C35: משרד ראש הממשלה | D35: 04510110 | E35: פעולות | F35: 4501632462 | G35: הוצאות קשיחות - שירותי צפייה | H35: 43331 | I35: 43664 | J35: 40001490 | K35: די.בי.אס. שרותי לווין (1998) בע"מ | L35: 512705138 | M35: 10828.63 | N35: ILS | O35: 8048.76 | P35: ILS | Q35: פטור ממכרז | S35: תקנה 3(1) - התקשרות ששוויה אינה עולה על 50,000 ש"ח | T35: לא | U35: G01 | V35: הוצאות קשיחות
A36: רוה"מ | B36: משרד ראש הממשלה | C36: משרד ראש הממשלה | D36: 04510110 | E36: פעולות | F36: 4501662558 | G36: פעילות חברתית אגף כלכלה ותשתיות | H36: 43415 | I36: 43780 | J36: 41517045 | K36: נחום אוהד | L36: 040912586 | M36: 809.97 | N36: ILS | O36: 0 | Q36: פטור ממכרז | S36: תקנה 3(1) - התקשרות ששוויה אינה עולה על 50,000 ש"ח | T36: לא | U36: G02 | V36: רוה"מ יחידת רכש
A37: רוה"מ | B37: משרד ראש הממשלה | C37: משרד ראש הממשלה | D37: 04510110 | E37: פעולות | F37: 4501663047 | G37: פעילות חברתית אגף כלכלה ותשתיות | H37: 43415 | I37: 43780 | J37: 40329386 | K37: קפית בגן (2008) בע"מ | L37: 514173863 | M37: 525.97 | N37: ILS | O37: 0 | Q37: פטור ממכרז | S37: תקנה 3(1) - התקשרות ששוויה אינה עולה על 50,000 ש"ח | T37: לא | U37: G02 | V37: רוה"מ יחידת רכש
A38: רוה"מ | B38: משרד ראש הממשלה | C38: משרד ראש הממשלה | D38: 04510110 | E38: פעולות | F38: 4501665162 | G38: מיזם משותף - סטודנטים מהפריפריה | H38: 43418 | I38: 43710 | J38: 40000431 | K38: איסף - הקרן הבין-לאומית לחינוך | L38: 580074888 | M38: 1560250 | N38: ILS | O38: 1499501.9 | P38: ILS | Q38: פטור ממכרז | R38: 620882 | S38: תקנה 3(30) - מיזם משותף | T38: לא | U38: G04 | V38: רוה"מ חוזים,יועצים
A39: רוה"מ | B39: משרד ראש הממשלה | C39: משרד ראש הממשלה | D39: 04510110 | E39: פעולות | F39: 4501670202 | G39: יעוץ | H39: 43426 | I39: 43769 | J39: 41563845 | K39: ירון בלום בע"מ | L39: 514735653 | M39: 668179.98 | N39: ILS | O39: 590428.8 | P39: ILS | Q39: תקנה 3ג - מימוש זכות ברירה | R39: 625036 | T39: לא | U39: G04 | V39: רוה"מ חוזים,יועצים
A40: רוה"מ | B40: משרד ראש הממשלה | C40: משרד ראש הממשלה | D40: 04510110 | E40: פעולות | F40: 4501672975 | G40: מתנות | H40: 43432 | I40: 43830 | J40: 40000885 | K40: צחובוי אילן | L40: 050719913 | M40: 2457 | N40: ILS | O40: 2457 | P40: ILS | Q40: פטור ממכרז | S40: תקנה 3(1) - התקשרות ששוויה אינה עולה על 50,000 ש"ח | T40: לא | U40: G02 | V40: רוה"מ יחידת רכש
A41: רוה"מ | B41: משרד ראש הממשלה | C41: משרד ראש הממשלה | D41: 04510110 | E41: פעולות | F41: 4501680652 | G41: נסיעת חול | H41: 43444 | J41: 41003244 | K41: משרד סוכנות/האוצר נסיעות ממשלתית | L41: 500107321 | M41: 3046 | N41: ILS | O41: 3048 | P41: ILS | Q41: התקשרות עם גופים ממשלתיים | T41: לא | U41: G03 | V41: רוה"מ נסיעות לחו"ל
A42: רוה"מ | B42: משרד ראש הממשלה | C42: משרד ראש הממשלה | D42: 04510110 | E42: פעולות | F42: 4501682210 | G42: דמי מנוי לעיתון | H42: 43446 | I42: 43830 | J42: 40001037 | K42: הוצאת עתון הארץ בע"מ | L42: 510015449 | M42: 13509.99 | N42: ILS | O42: 10807.99 | P42: ILS | Q42: פטור ממכרז | S42: תקנה 3(1) - התקשרות ששוויה אינה עולה על 50,000 ש"ח | T42: לא | U42: G02 | V42: רוה"מ יחידת רכש
A43: רוה"מ | B43: משרד ראש הממשלה | C43: משרד ראש הממשלה | D43: 04510110 | E43: פעולות | F43: 4501696572 | G43: חנית עובדים בגן הטכנולוגי | H43: 43475 | I43: 43830 | J43: 40003288 | K43: ג.ט.י. הגן הטכנולוגי ירושלים בע"מ | L43: 511590275 | M43: 56777.76 | N43: ILS | O43: 55161.99 | P43: ILS | Q43: פטור ממכרז | R43: 627450 | S43: תקנה 3ג - מימוש זכות ברירה | T43: לא | U43: G04 | V43: רוה"מ חוזים,יועצים
A44: רוה"מ | B44: משרד ראש הממשלה | C44: משרד ראש הממשלה | D44: 04510110 | E44: פעולות | F44: 4501704117 | G44: פרויקט מחשב לכל ילד 2019 | H44: 43489 | I44: 43830 | J44: 40396456 | K44: המפעל הלאומי לפתוח חברתי | L44: 580231546 | M44: 13250000 | N44: ILS | O44: 13192983 | P44: ILS | Q44: פטור ממכרז | R44: 636695 | S44: תקנה 3(4)(ב)(3) - התקשרות המשך באישור ועדת פטור מרכזית | T44: לא | U44: G01 | V44: הוצאות קשיחות
A45: רוה"מ | B45: משרד ראש הממשלה | C45: משרד ראש הממשלה | D45: 04510110 | E45: פעולות | F45: 4501852339 | G45: תחזוקת הר הרצל | H45: 43829 | I45: 44196 | J45: 40000247 | K45: ההסתדרות הציונית העולמית | L45: 500500350 | M45: 21000 | N45: ILS | O45: 0 | Q45: פטור ממכרז | R45: 645037 | S45: תקנה 3(19)(א) - הסוכנות היהודית או ההסתדרות הציונית | T45: לא | U45: G04 | V45: רוה"מ חוזים,יועצים
A46: רוה"מ | B46: משרד ראש הממשלה | C46: משרד ראש הממשלה | D46: 04510110 | E46: פעולות | F46: 4501852435 | G46: כתיבת נאומים | H46: 43829 | I46: 44196 | J46: 40960041 | K46: חריף חגי | L46: 023593239 | M46: 150000 | N46: ILS | O46: 15250 | P46: ILS | Q46: תקנה 5(ג)(2) - התקשרות עם מומחה - בדיקת מס' הצעות | R46: 643656 | T46: לא | U46: G04 | V46: רוה"מ חוזים,יועצים
A47: רוה"מ | B47: משרד ראש הממשלה | C47: משרד ראש הממשלה | D47: 04510110 | E47: פעולות | F47: 4501849806 | G47: אירוע חנוכת אנדרטה | H47: 43824 | I47: 43861 | J47: 40004141 | K47: הרשות לפיתוח ירושלים | L47: 500500392 | M47: 1060000 | N47: ILS | O47: 1066000 | P47: ILS | Q47: פטור ממכרז | R47: 645183 | S47: תקנה 3(7) - תאגיד שהוקם בחוק | T47: לא | U47: G04 | V47: רוה"מ חוזים,יועצים
A48: רוה"מ | B48: משרד ראש הממשלה | C48: משרד ראש הממשלה | D48: 04510110 | E48: פעולות | F48: 4501842738 | G48: תשלומי ארנונה עיריית ירושלים | H48: 43810 | I48: 44196 | J48: 20000159 | K48: עירית ירושלים | L48: 500230008 | M48: 72000 | N48: ILS | O48: 0 | P48: ILS | Q48: התקשרות עם גופים ממשלתיים | T48: לא | U48: G01 | V48: הוצאות קשיחות
A49: רוה"מ | B49: משרד ראש הממשלה | C49: משרד ראש הממשלה | D49: 04510110 | E49: פעולות | F49: 4501669321 | G49: מחקרים למועצה הלאומית לכלכלה | H49: 43425 | I49: 44155 | J49: 41052601 | K49: מכון למחקר כלכלי על שם ד"ר ישעיהו פ | L49: 580007714 | M49: 796989 | N49: ILS | O49: 187600 | P49: ILS | Q49: מכרז פומבי רגיל ממוכן | R49: 609276 | T49: לא | U49: G04 | V49: רוה"מ חוזים,יועצים
A50: רוה"מ | B50: משרד ראש הממשלה | C50: משרד ראש הממשלה | D50: 04510110 | E50: פעולות | F50: 4501351401 | G50: הוצאות תפעול | H50: 42761 | I50: 44196 | J50: 40238786 | K50: גאריביאן גרשון | L50: 055634687 | M50: 50000 | N50: ILS | O50: 45546.2 | P50: ILS | Q50: פטור ממכרז | S50: תקנה 3(1) - התקשרות ששוויה אינה עולה על 50,000 ש"ח | T50: לא | U50: G02 | V50: רוה"מ יחידת רכש
A51: רוה"מ | B51: משרד ראש הממשלה | C51: משרד ראש הממשלה | D51: 04510110 | E51: פעולות | F51: 4501404811 | G51: שרותי ייעוץ | H51: 42869 | I51: 43465 | J51: 40005160 | K51: סומך חייקין | L51: 540002383 | M51: 118267.11 | N51: ILS | O51: 0 | Q51: תקנה 1ב - מכרז פומבי רגיל | R51: 528639 | T51: לא | U51: G04 | V51: רוה"מ חוזים,יועצים
A52: רוה"מ | B52: משרד ראש הממשלה | C52: משרד ראש הממשלה | D52: 04510110 | E52: פעולות | F52: 4501466458 | G52: שרותי הגברה | H52: 42992 | I52: 43717 | J52: 40207218 | K52: ספידי קול בע"מ | L52: 512828310 | M52: 512999.99 | N52: ILS | O52: 429688.35 | P52: ILS | Q52: תקנה 1ב - מכרז פומבי רגיל | R52: 595590 | T52: לא | U52: G02 | V52: רוה"מ יחידת רכש
A53: רוה"מ | B53: משרד ראש הממשלה | C53: משרד ראש הממשלה | D53: 04510110 | E53: פעולות | F53: 4501474906 | G53: השכרת כלים לארוח | H53: 43011 | I53: 43830 | J53: 40004999 | K53: י.מ. סיטי ארועים בע"מ | L53: 512883174 | M53: 19999.98 | N53: ILS | O53: 0 | Q53: פטור ממכרז | S53: תקנה 3(1) - התקשרות ששוויה אינה עולה על 50,000 ש"ח | T53: לא | U53: G02 | V53: רוה"מ יחידת רכש
A54: רוה"מ | B54: משרד ראש הממשלה | C54: משרד ראש הממשלה | D54: 04510110 | E54: פעולות | F54: 4501517266 | G54: חניות לעובדים ואורחים-פנ"צ | H54: 43086 | I54: 43539 | J54: 40003496 | K54: כלכלית ירושלים בע"מ | L54: 520017070 | M54: 28486.46 | N54: ILS | O54: 13123.53 | P54: ILS | Q54: פטור ממכרז | S54: תקנה 3(1) - התקשרות ששוויה אינה עולה על 50,000 ש"ח | T54: לא | U54: G02 | V54: רוה"מ יחידת רכש
A55: רוה"מ | B55: משרד ראש הממשלה | C55: משרד ראש הממשלה | D55: 04510110 | E55: פעולות | F55: 4501528495 | G55: הוצאות קשיחות | H55: 43110 | I55: 43465 | J55: 40003288 | K55: ג.ט.י. הגן הטכנולוגי ירושלים בע"מ | L55: 511590275 | M55: 2574 | N55: ILS | O55: 1667.62 | P55: ILS | Q55: פטור ממכרז | R55: אין פניה במנוף | S55: תקנה 3ג - מימוש זכות ברירה | T55: לא | U55: G01 | V55: הוצאות קשיחות
A56: רוה"מ | B56: משרד ראש הממשלה | C56: משרד ראש הממשלה | D56: 04510110 | E56: פעולות | F56: 4501556229 | G56: שירותי תקשורת בינלאומי פרטנר | H56: 43158 | I56: 43830 | J56: 40445380 | K56: פרטנר פתרונות תקשורת נייחים שותפות | L56: 550223549 | M56: 678.6 | N56: ILS | O56: 447.12 | P56: ILS | Q56: תקנה 14ב - מכרז מרכזי | R56: 563883 | T56: לא | U56: G01 | V56: הוצאות קשיחות
A57: רוה"מ | B57: משרד ראש הממשלה | C57: משרד ראש הממשלה | D57: 04510110 | E57: פעולות | F57: 4501575342 | G57: שרותי ייעוץ | H57: 43206 | I57: 43934 | J57: 41382414 | K57: מתאם - לפיתוח משאבי אנוש בארגונים ח | L57: 580527992 | M57: 43000 | N57: ILS | O57: 41172.5 | P57: ILS | Q57: פטור ממכרז | S57: תקנה 3(1) - התקשרות ששוויה אינה עולה על 50,000 ש"ח | T57: לא | U57: G02 | V57: רוה"מ יחידת רכש
A58: רוה"מ | B58: משרד ראש הממשלה | C58: משרד ראש הממשלה | D58: 04510110 | E58: פעולות | F58: 4501592201 | G58: שרותייעוץ לכתיבת מכרז | H58: 43242 | I58: 43465 | J58: 41399606 | K58: רחמן משה | L58: 000262907 | M58: 14040 | N58: ILS | O58: 14040 | P58: ILS | Q58: תקנה 1ב - מכרז פומבי רגיל | R58: 60080043 | T58: לא | U58: G02 | V58: רוה"מ יחידת רכש
A59: רוה"מ | B59: משרד ראש הממשלה | C59: משרד ראש הממשלה | D59: 04510110 | E59: פעולות | F59: 4501593134 | G59: עבודות דפוס | H59: 43244 | I59: 43606 | J59: 40002893 | K59: גרפוס-פרינט (1990) בע"מ | L59: 511524886 | M59: 7020 | N59: ILS | O59: 795.6 | P59: ILS | Q59: תקנה 1ב - מכרז פומבי רגיל | R59: 604965 | T59: לא | U59: G02 | V59: רוה"מ יחידת רכש
A60: רוה"מ | B60: משרד ראש הממשלה | C60: משרד ראש הממשלה | D60: 04510110 | E60: פעולות | F60: 4501615219 | G60: שרותי גינון | H60: 43291 | I60: 43465 | J60: 40473248 | K60: משתלות פולק יגאל בע"מ | L60: 514532746 | M60: 2750 | N60: ILS | O60: 2749.5 | P60: ILS | Q60: תקנה 1ב - מכרז פומבי רגיל | R60: 571076 | T60: לא | U60: G01 | V60: הוצאות קשיחות
A61: רוה"מ | B61: משרד ראש הממשלה | C61: משרד ראש הממשלה | D61: 04510110 | E61: פעולות | F61: 4501625269 | G61: שרותי ייעוץ | H61: 43313 | I61: 43865 | J61: 40005076 | K61: עדליא - ייעוץ כלכלי בע"מ | L61: 513238816 | M61: 20317.05 | N61: ILS | O61: 20317.06 | P61: ILS | Q61: תקנה 1ב - מכרז פומבי רגיל | R61: 60080043 | T61: לא | U61: G02 | V61: רוה"מ יחידת רכש
A62: רוה"מ | B62: משרד ראש הממשלה | C62: משרד ראש הממשלה | D62: 04510110 | E62: פעולות | F62: 4501651826 | G62: שירותי תמלול והקלדה | H62: 43391 | I62: 43830 | J62: 40005003 | K62: חבר תרגומים בע"מ | L62: 512892126 | M62: 50000 | N62: ILS | O62: 0 | Q62: פטור ממכרז | S62: תקנה 3(1) - התקשרות ששוויה אינה עולה על 50,000 ש"ח | T62: לא | U62: G01 | V62: הוצאות קשיחות
A63: רוה"מ | B63: משרד ראש הממשלה | C63: משרד ראש הממשלה | D63: 04510110 | E63: פעולות | F63: 4501675513 | G63: כתיבת נאומים | H63: 43437 | I63: 43830 | J63: 40960041 | K63: חריף חגי | L63: 023593239 | M63: 150000 | N63: ILS | O63: 118282.09 | P63: ILS | Q63: תקנה 5(ג)(2) - התקשרות עם מומחה - בדיקת מס' הצעות | R63: 625034 | T63: לא | U63: G04 | V63: רוה"מ חוזים,יועצים
A64: רוה"מ | B64: משרד ראש הממשלה | C64: משרד ראש הממשלה | D64: 04510110 | E64: פעולות | F64: 4501680530 | G64: כתיבת מכרז מעליות | H64: 43444 | I64: 43865 | J64: 40005076 | M64: 15210 | N64: ILS | O64: 6084 | P64: ILS | Q64: תקנה 1ב - מכרז פומבי רגיל | R64: 60080043 | T64: לא | U64: G04 | V64: רוה"מ חוזים,יועצים
A65: רוה"מ | B65: משרד ראש הממשלה | C65: משרד ראש הממשלה | D65: 04510110 | E65: פעולות | F65: 4501697417 | G65: מתנות | H65: 43478 | I65: 44196 | J65: 40004060 | K65: פרץ שלום חי | L65: 056761695 | M65: 3000 | N65: ILS | O65: 0 | Q65: פטור ממכרז | S65: תקנה 3(1) - התקשרות ששוויה אינה עולה על 50,000 ש"ח | T65: לא | U65: G02 | V65: רוה"מ יחידת רכש
A66: רוה"מ | B66: משרד ראש הממשלה | C66: משרד ראש הממשלה | D66: 04510110 | E66: פעולות | F66: 4501714650 | G66: תשלום לחבר וועדה ציבורית | H66: 43509 | I66: 43830 | J66: 40571316 | K66: עתידים-אתגר ניהול קרנות בע"מ | L66: 512127978 | M66: 10583.82 | N66: ILS | O66: 2807.42 | P66: ILS | Q66: פטור ממכרז | S66: תקנה 3(1) - התקשרות ששוויה אינה עולה על 50,000 ש"ח | T66: לא | U66: G02 | V66: רוה"מ יחידת רכש
A67: רוה"מ | B67: משרד ראש הממשלה | C67: משרד ראש הממשלה | D67: 04510110 | E67: פעולות | F67: 4501717313 | G67: ניהול ותחזוקה קשת רובינסון | H67: 43514 | I67: 43875 | J67: 40003388 | K67: שיקום ולפתוח הרובע היהודי בעיר העתי | L67: 520028127 | M67: 2052857.4 | N67: ILS | O67: 1916946.6 | P67: ILS | Q67: פטור ממכרז | R67: 628301 | S67: תקנה 3(4)(ב)(3) - התקשרות המשך באישור ועדת פטור מרכזית | T67: לא | U67: G04 | V67: רוה"מ חוזים,יועצים
A68: רוה"מ | B68: משרד ראש הממשלה | C68: משרד ראש הממשלה | D68: 04510110 | E68: פעולות | F68: 4501689561 | G68: שרותי ייעוץ | H68: 43460 | I68: 44093 | J68: 40397632 | K68: מטריקס אי. טי. בע"מ | L68: 520039413 | M68: 63472.5 | N68: ILS | O68: 63472.5 | P68: ILS | Q68: פטור ממכרז | S68: תקנה 3(1) - התקשרות ששוויה אינה עולה על 50,000 ש"ח | T68: לא | U68: G02 | V68: רוה"מ יחידת רכש
A69: רוה"מ | B69: משרד ראש הממשלה | C69: משרד ראש הממשלה | D69: 04510110 | E69: פעולות | F69: 4501683319 | G69: תחזוקת הר הרצל | H69: 43447 | I69: 43830 | J69: 40000247 | K69: ההסתדרות הציונית העולמית | L69: 500500350 | M69: 350000 | N69: ILS | O69: 265835 | P69: ILS | Q69: פטור ממכרז | R69: 629415 | S69: תקנה 3(19)(א) - הסוכנות היהודית או ההסתדרות הציונית | T69: לא | U69: G04 | V69: רוה"מ חוזים,יועצים
A70: רוה"מ | B70: משרד ראש הממשלה | C70: משרד ראש הממשלה | D70: 04510110 | E70: פעולות | F70: 4501725398 | G70: שירותי ביקורת | H70: 43530 | I70: 43890 | J70: 40005659 | K70: בן דוד שלוי קופ ושות' רואי חשבון (ב | L70: 513464842 | M70: 317070 | N70: ILS | O70: 80550.76 | P70: ILS | Q70: תקנה 5(ג)(1) - התקשרות עם מומחה - פניה תחרותית להצעות | R70: לא בוצעה פניה | T70: לא | U70: G04 | V70: רוה"מ חוזים,יועצים
A71: רוה"מ | B71: משרד ראש הממשלה | C71: משרד ראש הממשלה | D71: 04510110 | E71: פעולות | F71: 4501733000 | G71: כתיבת מכרז עבודות גינון | H71: 43545 | I71: 43865 | J71: 40005076 | K71: עדליא - ייעוץ כלכלי בע"מ | L71: 513238816 | M71: 25564.5 | N71: ILS | O71: 0 | Q71: תקנה 1ב - מכרז פומבי רגיל | R71: 60080043 | T71: לא | U71: G04 | V71: רוה"מ חוזים,יועצים
A72: רוה"מ | B72: משרד ראש הממשלה | C72: משרד ראש הממשלה | D72: 04510110 | E72: פעולות | F72: 4501734770 | G72: רכישת פלאפון | H72: 43550 | I72: 43830 | J72: 40001174 | K72: פלאפון תקשורת בע"מ | L72: 511076572 | M72: 2998.99 | N72: ILS | O72: 0 | Q72: פטור ממכרז | S72: תקנה 3(1) - התקשרות ששוויה אינה עולה על 50,000 ש"ח | T72: לא | U72: G02 | V72: רוה"מ יחידת רכש
A73: רוה"מ | B73: משרד ראש הממשלה | C73: משרד ראש הממשלה | D73: 04510110 | E73: פעולות | F73: 4501749071 | G73: דמי מנוי לעיתון | H73: 43587 | I73: 43830 | J73: 40001417 | K73: ג'רוזלם פוסט בע"מ | L73: 512311598 | M73: 1019.39 | N73: ILS | O73: 372.61 | P73: ILS | Q73: פטור ממכרז | S73: תקנה 3(1) - התקשרות ששוויה אינה עולה על 50,000 ש"ח | T73: לא | U73: G02 | V73: רוה"מ יחידת רכש
A74: רוה"מ | B74: משרד ראש הממשלה | C74: משרד ראש הממשלה | D74: 04510110 | E74: פעולות | F74: 4501624242 | G74: שרותי ייעוץ | H74: 43312 | I74: 43865 | J74: 40005076 | K74: עדליא - ייעוץ כלכלי בע"מ | L74: 513238816 | M74: 12870 | N74: ILS | O74: 12870 | P74: ILS | Q74: תקנה 1ב - מכרז פומבי רגיל | R74: 60080043 | T74: לא | U74: G02 | V74: רוה"מ יחידת רכש
A75: רוה"מ | B75: משרד ראש הממשלה | C75: משרד ראש הממשלה | D75: 04510110 | E75: פעולות | F75: 4501757648 | G75: שירותי דפוס | H75: 43607 | I75: 43972 | J75: 40002893 | K75: גרפוס-פרינט (1990) בע"מ | L75: 511524886 | M75: 7020 | N75: ILS | O75: 0 | P75: ILS | Q75: פטור ממכרז | R75: 631037 | S75: תקנה 3ג - מימוש זכות ברירה | T75: לא | U75: G04 | V75: רוה"מ חוזים,יועצים
A76: רוה"מ | B76: משרד ראש הממשלה | C76: משרד ראש הממשלה | D76: 04510110 | E76: פעולות | F76: 4501661479 | G76: שירותי כ"א | H76: 43411 | I76: 43830 | J76: 40003644 | K76: אס. קיו. לינק בע"מ | L76: 512042045 | M76: 636573.6 | N76: ILS | O76: 574248.54 | P76: ILS | Q76: תקנה 14ב - מכרז מרכזי | R76: 537977 | T76: לא | U76: G06 | V76: רוה"מ טכנו' והמידע
A77: רוה"מ | B77: משרד ראש הממשלה | C77: משרד ראש הממשלה | D77: 04510110 | E77: פעולות | F77: 4501661679 | G77: שירותי כ"א | H77: 43411 | I77: 43830 | J77: 40001205 | K77: מטריקס אי. טי. מערכות מידע מתקדמות | L77: 511171662 | M77: 297648 | N77: ILS | O77: 274446.34 | P77: ILS | Q77: תקנה 14ב - מכרז מרכזי | R77: 537977 | T77: לא | U77: G06 | V77: רוה"מ טכנו' והמידע
A78: רוה"מ | B78: משרד ראש הממשלה | C78: משרד ראש הממשלה | D78: 04510110 | E78: פעולות | F78: 4501768564 | G78: עבודות דפוס | H78: 43633 | I78: 43830 | J78: 40374201 | K78: גרפצ'יק בע"מ | L78: 513868620 | M78: 850.59 | N78: ILS | O78: 0 | Q78: פטור ממכרז | S78: תקנה 3(1) - התקשרות ששוויה אינה עולה על 50,000 ש"ח | T78: לא | U78: G02 | V78: רוה"מ יחידת רכש
A79: רוה"מ | B79: משרד ראש הממשלה | C79: משרד ראש הממשלה | D79: 04510110 | E79: פעולות | F79: 4501770195 | G79: רכישת יין | H79: 43636 | I79: 44196 | J79: 41331870 | K79: אחת שתים שלוש י-ם בע"מ | L79: 513835462 | M79: 3000 | N79: ILS | O79: 2304.79 | P79: ILS | Q79: פטור ממכרז | S79: תקנה 3(1) - התקשרות ששוויה אינה עולה על 50,000 ש"ח | T79: לא | U79: G02 | V79: רוה"מ יחידת רכש
A80: רוה"מ | B80: משרד ראש הממשלה | C80: משרד ראש הממשלה | D80: 04510110 | E80: פעולות | F80: 4501775772 | G80: שרותי תרגום | H80: 43649 | I80: 44196 | J80: 40005174 | K80: אם. ג'י. אס. פתרונות שפה | L80: 540179223 | M80: 3000 | N80: ILS | O80: 789.61 | P80: ILS | Q80: פטור ממכרז | S80: תקנה 3(1) - התקשרות ששוויה אינה עולה על 50,000 ש"ח | T80: לא | U80: G02 | V80: רוה"מ יחידת רכש
A81: רוה"מ | B81: משרד ראש הממשלה | C81: משרד ראש הממשלה | D81: 04510110 | E81: פעולות | F81: 4501779074 | G81: ביצוע מחקר | H81: 43656 | I81: 44356 | J81: 50001954 | K81: oecd/CEMT | L81: R3605/03711/4612 | M81: 60000 | N81: EUR | O81: 0 | Q81: פטור ממכרז | R81: לא בוצעה פניה | S81: תקנה 3(31) - התקשרות עם תושב חוץ | T81: לא | U81: G04 | V81: רוה"מ חוזים,יועצים
A82: רוה"מ | B82: משרד ראש הממשלה | C82: משרד ראש הממשלה | D82: 04510110 | E82: פעולות | F82: 4501643823 | G82: עבודות דפוס | H82: 43375 | I82: 43830 | J82: 41612416 | K82: קורן מירב סטפני | L82: 038094462 | M82: 10459.8 | N82: ILS | O82: 10459.8 | P82: ILS | Q82: פטור ממכרז | S82: תקנה 3(1) - התקשרות ששוויה אינה עולה על 50,000 ש"ח | T82: לא | U82: G02 | V82: רוה"מ יחידת רכש
A83: רוה"מ | B83: משרד ראש הממשלה | C83: משרד ראש הממשלה | D83: 04510110 | E83: פעולות | F83: 4501781245 | G83: נסיעות לחול אגף ממש וחברה נסיעה לציריך | H83: 43662 | J83: 41003244 | K83: משרד סוכנות/האוצר נסיעות ממשלתית | L83: 500107321 | M83: 6246.6 | N83: ILS | O83: 6246.6 | P83: ILS | Q83: התקשרות עם גופים ממשלתיים | T83: לא | U83: G03 | V83: רוה"מ נסיעות לחו"ל
A84: רוה"מ | B84: משרד ראש הממשלה | C84: משרד ראש הממשלה | D84: 04510110 | E84: פעולות | F84: 4501781295 | G84: נסיעות לחול | H84: 43662 | J84: 41003244 | K84: משרד סוכנות/האוצר נסיעות ממשלתית | L84: 500107321 | M84: 19024.6 | N84: ILS | O84: 16235.14 | P84: ILS | Q84: התקשרות עם גופים ממשלתיים | T84: לא | U84: G03 | V84: רוה"מ נסיעות לחו"ל
A85: רוה"מ | B85: משרד ראש הממשלה | C85: משרד ראש הממשלה | D85: 04510110 | E85: פעולות | F85: 4501730971 | G85: שירותי יעוץ | H85: 43542 | I85: 43903 | J85: 41500040 | K85: רד מארק | L85: 558002424 | M85: 36000.9 | N85: ILS | O85: 0 | Q85: פטור ממכרז | R85: אין פניה במנוף | S85: תקנה 3(1) - התקשרות ששוויה אינה עולה על 50,000 ש"ח | T85: לא | U85: G04 | V85: רוה"מ חוזים,יועצים
A86: רוה"מ | B86: משרד ראש הממשלה | C86: משרד ראש הממשלה | D86: 04510110 | E86: פעולות | F86: 4501349381 | G86: הוצאות קשיחות | H86: 42758 | I86: 43100 | J86: 40003288 | K86: ג.ט.י. הגן הטכנולוגי ירושלים בע"מ | L86: 511590275 | M86: 2115.71 | N86: ILS | O86: 611.01 | P86: ILS | Q86: פטור ממכרז | R86: אין פניה במנוף | S86: תקנה 3(29) - ספק יחיד | T86: לא | U86: G04 | V86: רוה"מ חוזים,יועצים
A87: רוה"מ | B87: משרד ראש הממשלה | C87: משרד ראש הממשלה | D87: 04510110 | E87: פעולות | F87: 4501791032 | G87: שירותי ביקורת ובקרה | H87: 43684 | I87: 44049 | J87: 40005659 | K87: בן דוד שלוי קופ ושות' רואי חשבון (ב | L87: 513464842 | M87: 614250.07 | N87: ILS | O87: 0 | Q87: תקנה 1ב - מכרז פומבי רגיל | R87: לא בוצעה פניה | T87: לא | U87: G04 | V87: רוה"מ חוזים,יועצים
A88: רוה"מ | B88: משרד ראש הממשלה | C88: משרד ראש הממשלה | D88: 04510110 | E88: פעולות | F88: 4501795964 | G88: מנוי לעיתון | H88: 43696 | I88: 43830 | J88: 40295695 | K88: עיתון ישראל היום בע"מ | L88: 513942151 | M88: 292.5 | N88: ILS | O88: 0 | Q88: פטור ממכרז | S88: תקנה 3(1) - התקשרות ששוויה אינה עולה על 50,000 ש"ח | T88: לא | U88: G02 | V88: רוה"מ יחידת רכש
A89: רוה"מ | B89: משרד ראש הממשלה | C89: משרד ראש הממשלה | D89: 04510110 | E89: פעולות | F89: 4501800690 | G89: כיבודים לפורום | H89: 43710 | I89: 43830 | J89: 40242807 | K89: מעדני אורי ובניו בע"מ | L89: 511635799 | M89: 1138.41 | N89: ILS | O89: 0 | Q89: פטור ממכרז | S89: תקנה 3(1) - התקשרות ששוויה אינה עולה על 50,000 ש"ח | T89: לא | U89: G02 | V89: רוה"מ יחידת רכש
A90: רוה"מ | B90: משרד ראש הממשלה | C90: משרד ראש הממשלה | D90: 04510110 | E90: פעולות | F90: 4501802474 | G90: נסיעות חול | H90: 43713 | J90: 41003244 | K90: משרד סוכנות/האוצר נסיעות ממשלתית | L90: 500107321 | M90: 4404.58 | N90: ILS | O90: 4201.92 | P90: ILS | Q90: התקשרות עם גופים ממשלתיים | T90: לא | U90: G03 | V90: רוה"מ נסיעות לחו"ל
A91: רוה"מ | B91: משרד ראש הממשלה | C91: משרד ראש הממשלה | D91: 04510110 | E91: פעולות | F91: 4501804119 | G91: מיזם משותף - סטודנטים מהפריפריה | H91: 43718 | I91: 44076 | J91: 40000431 | K91: איסף - הקרן הבין-לאומית לחינוך | L91: 580074888 | M91: 2557808 | N91: ILS | O91: 903894.36 | P91: ILS | Q91: פטור ממכרז | R91: 620882 | S91: תקנה 3(30) - מיזם משותף | T91: לא | U91: G04 | V91: רוה"מ חוזים,יועצים
A92: רוה"מ | B92: משרד ראש הממשלה | C92: משרד ראש הממשלה | D92: 04510110 | E92: פעולות | F92: 4501827718 | G92: עיצוב גרפי לדו"ח | H92: 43786 | I92: 44196 | J92: 41612416 | K92: קורן מירב סטפני | L92: 038094462 | M92: 4984.2 | N92: ILS | O92: 4984.2 | P92: ILS | Q92: פטור ממכרז | S92: תקנה 3(1) - התקשרות ששוויה אינה עולה על 50,000 ש"ח | T92: לא | U92: G02 | V92: רוה"מ יחידת רכש
A93: רוה"מ | B93: משרד ראש הממשלה | C93: משרד ראש הממשלה | D93: 04510110 | E93: פעולות | F93: 4501804561 | G93: הזמנת כיבוד- ישיבת מנהל עתודות לישראל | H93: 43719 | I93: 44196 | J93: 40242875 | K93: איכות קייטרינג שולץ 1997 בע"מ | L93: 512570649 | M93: 346.14 | N93: ILS | O93: 0 | Q93: פטור ממכרז | S93: תקנה 3(1) - התקשרות ששוויה אינה עולה על 50,000 ש"ח | T93: לא | U93: G02 | V93: רוה"מ יחידת רכש
A94: רוה"מ | B94: משרד ראש הממשלה | C94: משרד ראש הממשלה | D94: 04510110 | E94: פעולות | F94: 4501806385 | G94: הזמנת רול אפ | H94: 43724 | I94: 43830 | J94: 40374201 | K94: גרפצ'יק בע"מ | L94: 513868620 | M94: 250.01 | N94: ILS | O94: 0 | Q94: פטור ממכרז | S94: תקנה 3(1) - התקשרות ששוויה אינה עולה על 50,000 ש"ח | T94: לא | U94: G02 | V94: רוה"מ יחידת רכש
A95: רוה"מ | B95: משרד ראש הממשלה | C95: משרד ראש הממשלה | D95: 04510110 | E95: פעולות | F95: 4501806548 | G95: הנצחת רחבעם זאבי | H95: 43724 | I95: 44819 | J95: 20000232 | K95: מ. א. שומרון | L95: 500273727 | M95: 23499598 | N95: ILS | O95: 0 | Q95: פטור ממכרז | R95: 614587 | S95: תקנה 3(16) - רשות מקומית | T95: לא | U95: G04 | V95: רוה"מ חוזים,יועצים
A96: רוה"מ | B96: משרד ראש הממשלה | C96: משרד ראש הממשלה | D96: 04510110 | E96: פעולות | F96: 4501807136 | G96: נסיעות חול | H96: 43726 | J96: 41003244 | K96: משרד סוכנות/האוצר נסיעות ממשלתית | L96: 500107321 | M96: 1531.95 | N96: ILS | O96: 48.69 | P96: ILS | Q96: התקשרות עם גופים ממשלתיים | T96: לא | U96: G03 | V96: רוה"מ נסיעות לחו"ל
A97: רוה"מ | B97: משרד ראש הממשלה | C97: משרד ראש הממשלה | D97: 04510110 | E97: פעולות | F97: 4501807184 | G97: שירותי הגברה | H97: 43726 | I97: 44092 | J97: 40207218 | K97: ספידי קול בע"מ | L97: 512828310 | M97: 256499.69 | N97: ILS | O97: 88247.25 | P97: ILS | Q97: פטור ממכרז | R97: 639297 | S97: תקנה 3ג - מימוש זכות ברירה | T97: לא | U97: G04 | V97: רוה"מ חוזים,יועצים
A98: רוה"מ | B98: משרד ראש הממשלה | C98: משרד ראש הממשלה | D98: 04510110 | E98: פעולות | F98: 4501811959 | G98: שירותי מחקר | H98: 43741 | I98: 43860 | J98: 40125265 | K98: איי.וי.סי - ריסרצ' סנטר בע"מ | L98: 512765314 | M98: 50000 | N98: ILS | O98: 25000 | P98: ILS | Q98: פטור ממכרז | R98: אין פניה במנוף | S98: תקנה 3(1) - התקשרות ששוויה אינה עולה על 50,000 ש"ח | T98: לא | U98: G04 | V98: רוה"מ חוזים,יועצים
A99: רוה"מ | B99: משרד ראש הממשלה | C99: משרד ראש הממשלה | D99: 04510110 | E99: פעולות | F99: 4501811755 | G99: פרסום | H99: 43741 | I99: 43863 | J99: 40326085 | K99: בוקרא תקשורת בע"מ | L99: 513858688 | M99: 2950.04 | N99: ILS | O99: 2950.04 | P99: ILS | Q99: פטור ממכרז | S99: תקנה 3(1) - התקשרות ששוויה אינה עולה על 50,000 ש"ח | T99: לא | U99: G02 | V99: רוה"מ יחידת רכש
A100: רוה"מ | B100: משרד ראש הממשלה | C100: משרד ראש הממשלה | D100: 04510110 | E100: פעולות | F100: 4501819173 | G100: השכרת אולם לטקס | H100: 43768 | I100: 44196 | J100: 40000019 | K100: תיאטרון ירושלים לאומנויות הבמה (חל" | L100: 510655756 | M100: 22500 | N100: ILS | O100: 19500 | P100: ILS | Q100: פטור ממכרז | S100: תקנה 3(1) - התקשרות ששוויה אינה עולה על 50,000 ש"ח | T100: לא | U100: G02 | V100: רוה"מ יחידת רכש
...

Sheet 2.2020
A1: שם חברה | B1: תאור של ארגון רכש | C1: שם אתר | D1: תקנה תקציבית | E1: תיאור תקנה תקציבית | F1: הזמנת רכש | G1: מטרת התקשרות | H1: תאריך יצירת ההזמנה | I1: סיום תקופת תוקף | J1: קוד ספק | K1: שם הספק | L1: מספר ח"פ | M1: ערך ההזמנה כולל מע"מ | N1: מטבע | O1: ביצוע חשבוניות מצטבר כולל מע"מ והצמדות | P1: מטבע חשבונית | Q1: אופן רכישה מקור | R1: מס' פנייה במנו"ף/מנור" | S1: סיבת פטור | T1: סיבת רגישות | U1: ביצוע חשבוניות לתקופת הדוח' במטבע מקומי | V1: תאור סיבת רגישות | W1: סכום אופציה מצטבר במטבע מקומי | X1: מספר פניית מימוש אופציה | Y1: תאריך התקשרות המשך | Z1: סכום התקשרות המשך במטבע מקומי | AA1: תאריך מימוש אופציה | AB1: סכום אופציה במטבע מקומי | AC1: סיבת התקשרות המשך | AD1: מספר פניית התקשרות המשך | AE1: סכום התקשרות מצטבר במטבע מקומי | AF1: הזמנה רגישה | AG1: קבוצה רוכשת | AH1: שם קבוצה רוכשת
A2: רוה"מ | B2: משרד ראש הממשלה | C2: משרד ראש הממשלה | D2: 04510110 | E2: פעולות | F2: 4501066919 | G2: הוצאות משרדיות שונות | H2: 42165 | J2: 40570126 | K2: יצחקי יאיר | M2: 9055.8 | N2: ILS | O2: 9055.8 | P2: ILS | Q2: פטור ממכרז | S2: תקנה 3(1) - התקשרות ששוויה אינה עולה על 50,000 ש"ח | U2: 9055.8 | V2: לא רגיש | W2: 0.00 | Z2: 0.00 | AB2: 0.00 | AE2: 0.00 | AF2: לא | AG2: =VLOOKUP(F2,[1]הזמנות!$D:$E,2,0) -> G02 | AH2: =VLOOKUP(AG2,'[1]קבוצות רכש'!$A:$B,2,0) -> רוה"מ יחידת רכש
A3: רוה"מ | B3: משרד ראש הממשלה | C3: משרד ראש הממשלה | D3: 04510110 | E3: פעולות | F3: 4501116804 | G3: הוצאות תפעול | H3: 42306 | J3: 40008865 | K3: עידוד לקליטת אומן עולה (ע"ר) | L3: 580342996 | M3: 3000 | N3: ILS | O3: 3000 | P3: ILS | Q3: פטור ממכרז | S3: תקנה 3(1) - התקשרות ששוויה אינה עולה על 50,000 ש"ח | U3: 0 | V3: לא רגיש | W3: 0.00 | Z3: 0.00 | AB3: 0.00 | AE3: 0.00 | AF3: לא | AG3: =VLOOKUP(F3,[1]הזמנות!$D:$E,2,0) -> G02 | AH3: =VLOOKUP(AG3,'[1]קבוצות רכש'!$A:$B,2,0) -> רוה"מ יחידת רכש
A4: רוה"מ | B4: משרד ראש הממשלה | C4: משרד ראש הממשלה | D4: 04510110 | E4: פעולות | F4: 4501119297 | G4: הוצאות תפעול | H4: 42311 | J4: 40242784 | K4: מ. א. מ. ירושלים (1988) חברה לשרותי | L4: 511258246 | M4: 35100 | N4: ILS | O4: 35100 | P4: ILS | Q4: פטור ממכרז | S4: תקנה 3(1) - התקשרות ששוויה אינה עולה על 50,000 ש"ח | U4: 0 | V4: לא רגיש | W4: 0.00 | Z4: 0.00 | AB4: 0.00 | AE4: 0.00 | AF4: לא | AG4: =VLOOKUP(F4,[1]הזמנות!$D:$E,2,0) -> G02 | AH4: =VLOOKUP(AG4,'[1]קבוצות רכש'!$A:$B,2,0) -> רוה"מ יחידת רכש
A5: רוה"מ | B5: משרד ראש הממשלה | C5: משרד ראש הממשלה | D5: 04510110 | E5: פעולות | F5: 4501244458 | G5: תפעול ותחזוקה | H5: 42548 | I5: 44006 | J5: 40005160 | K5: סומך חייקין | L5: 540002383 | M5: 314387.19 | N5: ILS | O5: 69341.22 | P5: ILS | Q5: תקנה 14ב - מכרז מרכזי | R5: 528639 | U5: 0 | V5: לא רגיש | W5: 0.00 | Z5: 0.00 | AB5: 0.00 | AE5: 0.00 | AF5: לא | AG5: =VLOOKUP(F5,[1]הזמנות!$D:$E,2,0) -> G02 | AH5: =VLOOKUP(AG5,'[1]קבוצות רכש'!$A:$B,2,0) -> רוה"מ יחידת רכש
A6: רוה"מ | B6: משרד ראש הממשלה | C6: משרד ראש הממשלה | D6: 04510110 | E6: פעולות | F6: 4501305562 | G6: שירותי יעוץ | H6: 42689 | I6: 43053 | J6: 40040171 | K6: שלוסר אנליה לאורה | M6: 47501.06 | N6: ILS | O6: 0 | Q6: פטור ממכרז | S6: תקנה 3(1) - התקשרות ששוויה אינה עולה על 50,000 ש"ח | U6: 0 | V6: לא רגיש | W6: 0.00 | Z6: 0.00 | AB6: 0.00 | AE6: 0.00 | AF6: לא | AG6: =VLOOKUP(F6,[1]הזמנות!$D:$E,2,0) -> G04 | AH6: =VLOOKUP(AG6,'[1]קבוצות רכש'!$A:$B,2,0) -> רוה"מ חוזים,יועצים
A7: רוה"מ | B7: משרד ראש הממשלה | C7: משרד ראש הממשלה | D7: 04510110 | E7: פעולות | F7: 4501349381 | G7: הוצאות קשיחות | H7: 42758 | I7: 43100 | J7: 40003288 | K7: ג.ט.י. הגן הטכנולוגי ירושלים בע"מ | L7: 511590275 | M7: 2115.71 | N7: ILS | O7: 611.01 | P7: ILS | Q7: פטור ממכרז | R7: אין פניה במנוף | S7: תקנה 3(29) - ספק יחיד | U7: 0 | V7: לא רגיש | W7: 0.00 | Z7: 0.00 | AB7: 0.00 | AE7: 0.00 | AF7: לא | AG7: =VLOOKUP(F7,[1]הזמנות!$D:$E,2,0) -> G04 | AH7: =VLOOKUP(AG7,'[1]קבוצות רכש'!$A:$B,2,0) -> רוה"מ חוזים,יועצים
A8: רוה"מ | B8: משרד ראש הממשלה | C8: משרד ראש הממשלה | D8: 04510110 | E8: פעולות | F8: 4501351401 | G8: הוצאות תפעול | H8: 42761 | I8: 44196 | J8: 40238786 | K8: גאריביאן גרשון | L8: 055634687 | M8: 50000 | N8: ILS | O8: 47594.19 | P8: ILS | Q8: פטור ממכרז | S8: תקנה 3(1) - התקשרות ששוויה אינה עולה על 50,000 ש"ח | U8: 2047.99 | V8: לא רגיש | W8: 0.00 | Z8: 0.00 | AB8: 0.00 | AE8: 0.00 | AF8: לא | AG8: =VLOOKUP(F8,[1]הזמנות!$D:$E,2,0) -> G02 | AH8: =VLOOKUP(AG8,'[1]קבוצות רכש'!$A:$B,2,0) -> רוה"מ יחידת רכש
A9: רוה"מ | B9: משרד ראש הממשלה | C9: משרד ראש הממשלה | D9: 04510110 | E9: פעולות | F9: 4501399702 | G9: תרגום | H9: 42862 | I9: 43710 | J9: 41344031 | K9: איי.בי.סי מילה תרגומים בע"מ | L9: 515264869 | M9: 209664 | N9: ILS | O9: 54890.23 | P9: ILS | Q9: תקנה 1ב - מכרז פומבי רגיל | R9: 577631 | U9: 0 | V9: לא רגיש | W9: 0.00 | Z9: 0.00 | AB9: 0.00 | AE9: 0.00 | AF9: לא | AG9: =VLOOKUP(F9,[1]הזמנות!$D:$E,2,0) -> G02 | AH9: =VLOOKUP(AG9,'[1]קבוצות רכש'!$A:$B,2,0) -> רוה"מ יחידת רכש
A10: רוה"מ | B10: משרד ראש הממשלה | C10: משרד ראש הממשלה | D10: 04510110 | E10: פעולות | F10: 4501404811 | G10: שרותי ייעוץ | H10: 42869 | I10: 43465 | J10: 40005160 | K10: סומך חייקין | L10: 540002383 | M10: 118267.11 | N10: ILS | O10: 0 | Q10: תקנה 1ב - מכרז פומבי רגיל | R10: 528639 | U10: 0 | V10: לא רגיש | W10: 0.00 | Z10: 0.00 | AB10: 0.00 | AE10: 0.00 | AF10: לא | AG10: =VLOOKUP(F10,[1]הזמנות!$D:$E,2,0) -> G04 | AH10: =VLOOKUP(AG10,'[1]קבוצות רכש'!$A:$B,2,0) -> רוה"מ חוזים,יועצים
A11: רוה"מ | B11: משרד ראש הממשלה | C11: משרד ראש הממשלה | D11: 04510110 | E11: פעולות | F11: 4501434899 | G11: שרותי ייעוץ | H11: 42927 | I11: 43291 | J11: 41067902 | K11: ספורטא אקשטין איתי | M11: 26500 | N11: ILS | O11: 0 | Q11: פטור ממכרז | S11: תקנה 3(1) - התקשרות ששוויה אינה עולה על 50,000 ש"ח | U11: 0 | V11: לא רגיש | W11: 0.00 | Z11: 0.00 | AB11: 0.00 | AE11: 0.00 | AF11: לא | AG11: =VLOOKUP(F11,[1]הזמנות!$D:$E,2,0) -> G02 | AH11: =VLOOKUP(AG11,'[1]קבוצות רכש'!$A:$B,2,0) -> רוה"מ יחידת רכש
A12: רוה"מ | B12: משרד ראש הממשלה | C12: משרד ראש הממשלה | D12: 04510110 | E12: פעולות | F12: 4501462491 | G12: השכרת אולם לצורך כנס צוערים | H12: 42984 | J12: 40140406 | K12: שלוה - האגודה הישראלית לטיפול באנשי | L12: 580173987 | M12: 3000 | N12: ILS | O12: 0 | Q12: פטור ממכרז | S12: תקנה 3(1) - התקשרות ששוויה אינה עולה על 50,000 ש"ח | U12: 0 | V12: לא רגיש | W12: 0.00 | Z12: 0.00 | AB12: 0.00 | AE12: 0.00 | AF12: לא | AG12: =VLOOKUP(F12,[1]הזמנות!$D:$E,2,0) -> G02 | AH12: =VLOOKUP(AG12,'[1]קבוצות רכש'!$A:$B,2,0) -> רוה"מ יחידת רכש
A13: רוה"מ | B13: משרד ראש הממשלה | C13: משרד ראש הממשלה | D13: 04510110 | E13: פעולות | F13: 4501474906 | G13: השכרת כלים לארוח | H13: 43011 | I13: 43830 | J13: 40004999 | K13: י.מ. סיטי ארועים בע"מ | L13: 512883174 | M13: 19999.98 | N13: ILS | O13: 0 | Q13: פטור ממכרז | S13: תקנה 3(1) - התקשרות ששוויה אינה עולה על 50,000 ש"ח | U13: 0 | V13: לא רגיש | W13: 0.00 | Z13: 0.00 | AB13: 0.00 | AE13: 0.00 | AF13: לא | AG13: =VLOOKUP(F13,[1]הזמנות!$D:$E,2,0) -> G02 | AH13: =VLOOKUP(AG13,'[1]קבוצות רכש'!$A:$B,2,0) -> רוה"מ יחידת רכש
A14: רוה"מ | B14: משרד ראש הממשלה | C14: משרד ראש הממשלה | D14: 04510110 | E14: פעולות | F14: 4501482424 | G14: תחזוקת הר הרצל | H14: 43033 | I14: 43465 | J14: 40000247 | K14: ההסתדרות הציונית העולמית | L14: 500500350 | M14: 454550 | N14: ILS | O14: 378080.65 | P14: ILS | Q14: פטור ממכרז | R14: 9999 | S14: תקנה 3(19)(א) - הסוכנות היהודית או ההסתדרות הציונית | U14: 0 | V14: לא רגיש | W14: 0.00 | Z14: 0.00 | AB14: 0.00 | AE14: 0.00 | AF14: לא | AG14: =VLOOKUP(F14,[1]הזמנות!$D:$E,2,0) -> G01 | AH14: =VLOOKUP(AG14,'[1]קבוצות רכש'!$A:$B,2,0) -> הוצאות קשיחות
A15: רוה"מ | B15: משרד ראש הממשלה | C15: משרד ראש הממשלה | D15: 04510110 | E15: פעולות | F15: 4501485976 | G15: הכשרת רחבת הכותל | H15: 43039 | I15: 44002 | J15: 40006929 | K15: רשות העתיקות | L15: 500500491 | M15: 2738664 | N15: ILS | O15: 1163927.5 | P15: ILS | Q15: פטור ממכרז | R15: 599657 | S15: תקנה 3(7) - תאגיד שהוקם בחוק | U15: 0 | V15: לא רגיש | W15: 0.00 | Z15: 0.00 | AB15: 0.00 | AE15: 0.00 | AF15: לא | AG15: =VLOOKUP(F15,[1]הזמנות!$D:$E,2,0) -> G02 | AH15: =VLOOKUP(AG15,'[1]קבוצות רכש'!$A:$B,2,0) -> רוה"מ יחידת רכש
A16: רוה"מ | B16: משרד ראש הממשלה | C16: משרד ראש הממשלה | D16: 04510110 | E16: פעולות | F16: 4501511549 | G16: כתיבת דו"ח | H16: 43076 | I16: 43465 | J16: 40240096 | K16: העמותה לקידום לימודי כלכלה וחברה (ע | L16: 580431237 | M16: 3000 | N16: ILS | O16: 0 | Q16: פטור ממכרז | S16: תקנה 3(1) - התקשרות ששוויה אינה עולה על 50,000 ש"ח | U16: 0 | V16: לא רגיש | W16: 0.00 | Z16: 0.00 | AB16: 0.00 | AE16: 0.00 | AF16: לא | AG16: =VLOOKUP(F16,[1]הזמנות!$D:$E,2,0) -> G02 | AH16: =VLOOKUP(AG16,'[1]קבוצות רכש'!$A:$B,2,0) -> רוה"מ יחידת רכש
A17: רוה"מ | B17: משרד ראש הממשלה | C17: משרד ראש הממשלה | D17: 04510110 | E17: פעולות | F17: 4501512245 | G17: סדנה למובילי תוכניות עתודה | H17: 43076 | I17: 43465 | J17: 40314150 | K17: קולות - ממעשה ללימוד למעשה (ע"ר) | L17: 580301299 | M17: 2500 | N17: ILS | O17: 0 | Q17: פטור ממכרז | S17: תקנה 3(1) - התקשרות ששוויה אינה עולה על 50,000 ש"ח | U17: 0 | V17: לא רגיש | W17: 0.00 | Z17: 0.00 | AB17: 0.00 | AE17: 0.00 | AF17: לא | AG17: =VLOOKUP(F17,[1]הזמנות!$D:$E,2,0) -> G02 | AH17: =VLOOKUP(AG17,'[1]קבוצות רכש'!$A:$B,2,0) -> רוה"מ יחידת רכש
A18: רוה"מ | B18: משרד ראש הממשלה | C18: משרד ראש הממשלה | D18: 04510110 | E18: פעולות | F18: 4501517266 | G18: חניות לעובדים ואורחים-פנ"צ | H18: 43086 | I18: 43539 | J18: 40003496 | K18: כלכלית ירושלים בע"מ | L18: 520017070 | M18: 28486.46 | N18: ILS | O18: 13123.53 | P18: ILS | Q18: פטור ממכרז | S18: תקנה 3(1) - התקשרות ששוויה אינה עולה על 50,000 ש"ח | U18: 0 | V18: לא רגיש | W18: 0.00 | Z18: 0.00 | AB18: 0.00 | AE18: 0.00 | AF18: לא | AG18: =VLOOKUP(F18,[1]הזמנות!$D:$E,2,0) -> G02 | AH18: =VLOOKUP(AG18,'[1]קבוצות רכש'!$A:$B,2,0) -> רוה"מ יחידת רכש
A19: רוה"מ | B19: משרד ראש הממשלה | C19: משרד ראש הממשלה | D19: 04510110 | E19: פעולות | F19: 4501522495 | G19: שירותי תחזוקה | H19: 43096 | I19: 43146 | J19: 40003388 | K19: שיקום ולפתוח הרובע היהודי בעיר העתי | L19: 520028127 | M19: 89524.49 | N19: ILS | O19: 41016.69 | P19: ILS | Q19: פטור ממכרז | R19: 609572 | S19: תקנה 3(29) - ספק יחיד | U19: 0 | V19: לא רגיש | W19: 0.00 | Z19: 0.00 | AB19: 0.00 | AE19: 0.00 | AF19: לא | AG19: =VLOOKUP(F19,[1]הזמנות!$D:$E,2,0) -> G02 | AH19: =VLOOKUP(AG19,'[1]קבוצות רכש'!$A:$B,2,0) -> רוה"מ יחידת רכש
A20: רוה"מ | B20: משרד ראש הממשלה | C20: משרד ראש הממשלה | D20: 04510110 | E20: פעולות | F20: 4501526264 | G20: שרותי ייעוץ | H20: 43107 | I20: 44085 | J20: 40314838 | K20: בריטמן אלמגור זוהר | L20: 557934692 | M20: 310248.9 | N20: ILS | O20: 111933 | P20: ILS | Q20: תקנה 3ג - מימוש זכות ברירה | U20: 0 | V20: לא רגיש | W20: 0.00 | Z20: 0.00 | AB20: 0.00 | AE20: 0.00 | AF20: לא | AG20: =VLOOKUP(F20,[1]הזמנות!$D:$E,2,0) -> G02 | AH20: =VLOOKUP(AG20,'[1]קבוצות רכש'!$A:$B,2,0) -> רוה"מ יחידת רכש
A21: רוה"מ | B21: משרד ראש הממשלה | C21: משרד ראש הממשלה | D21: 04510110 | E21: פעולות | F21: 4501528418 | G21: נסיעות חול | H21: 43110 | J21: 41003244 | K21: משרד סוכנות/האוצר נסיעות ממשלתית | L21: 500107321 | M21: 3048.42 | N21: ILS | O21: 3048.42 | P21: ILS | Q21: התקשרות עם גופים ממשלתיים | U21: 0 | V21: לא רגיש | W21: 0.00 | Z21: 0.00 | AB21: 0.00 | AE21: 0.00 | AF21: לא | AG21: =VLOOKUP(F21,[1]הזמנות!$D:$E,2,0) -> G03 | AH21: =VLOOKUP(AG21,'[1]קבוצות רכש'!$A:$B,2,0) -> רוה"מ נסיעות לחו"ל
A22: רוה"מ | B22: משרד ראש הממשלה | C22: משרד ראש הממשלה | D22: 04510110 | E22: פעולות | F22: 4501528495 | G22: הוצאות קשיחות | H22: 43110 | I22: 43465 | J22: 40003288 | K22: ג.ט.י. הגן הטכנולוגי ירושלים בע"מ | L22: 511590275 | M22: 2574 | N22: ILS | O22: 1667.62 | P22: ILS | Q22: פטור ממכרז | R22: אין פניה במנוף | S22: תקנה 3ג - מימוש זכות ברירה | U22: 0 | V22: לא רגיש | W22: 0.00 | Z22: 0.00 | AB22: 0.00 | AE22: 0.00 | AF22: לא | AG22: =VLOOKUP(F22,[1]הזמנות!$D:$E,2,0) -> G01 | AH22: =VLOOKUP(AG22,'[1]קבוצות רכש'!$A:$B,2,0) -> הוצאות קשיחות
A23: רוה"מ | B23: משרד ראש הממשלה | C23: משרד ראש הממשלה | D23: 04510110 | E23: פעולות | F23: 4501575342 | G23: שרותי ייעוץ | H23: 43206 | I23: 43934 | J23: 41382414 | K23: מתאם - לפיתוח משאבי אנוש בארגונים ח | L23: 580527992 | M23: 43000 | N23: ILS | O23: 41172.5 | P23: ILS | Q23: פטור ממכרז | S23: תקנה 3(1) - התקשרות ששוויה אינה עולה על 50,000 ש"ח | U23: 0 | V23: לא רגיש | W23: 0.00 | Z23: 0.00 | AB23: 0.00 | AE23: 0.00 | AF23: לא | AG23: =VLOOKUP(F23,[1]הזמנות!$D:$E,2,0) -> G02 | AH23: =VLOOKUP(AG23,'[1]קבוצות רכש'!$A:$B,2,0) -> רוה"מ יחידת רכש
A24: רוה"מ | B24: משרד ראש הממשלה | C24: משרד ראש הממשלה | D24: 04510110 | E24: פעולות | F24: 4501584394 | G24: נסיעות חו"ל | H24: 43226 | J24: 41003244 | K24: משרד סוכנות/האוצר נסיעות ממשלתית | L24: 500107321 | M24: 7288.5 | N24: ILS | O24: 7270.4 | P24: ILS | Q24: התקשרות עם גופים ממשלתיים | U24: 0 | V24: לא רגיש | W24: 0.00 | Z24: 0.00 | AB24: 0.00 | AE24: 0.00 | AF24: לא | AG24: =VLOOKUP(F24,[1]הזמנות!$D:$E,2,0) -> G03 | AH24: =VLOOKUP(AG24,'[1]קבוצות רכש'!$A:$B,2,0) -> רוה"מ נסיעות לחו"ל
A25: רוה"מ | B25: משרד ראש הממשלה | C25: משרד ראש הממשלה | D25: 04510110 | E25: פעולות | F25: 4501584430 | G25: נסיעות חו"ל | H25: 43226 | J25: 41003244 | K25: משרד סוכנות/האוצר נסיעות ממשלתית | L25: 500107321 | M25: 3371.2 | N25: ILS | O25: 3367.73 | P25: ILS | Q25: התקשרות עם גופים ממשלתיים | U25: 0 | V25: לא רגיש | W25: 0.00 | Z25: 0.00 | AB25: 0.00 | AE25: 0.00 | AF25: לא | AG25: =VLOOKUP(F25,[1]הזמנות!$D:$E,2,0) -> G03 | AH25: =VLOOKUP(AG25,'[1]קבוצות רכש'!$A:$B,2,0) -> רוה"מ נסיעות לחו"ל
A26: רוה"מ | B26: משרד ראש הממשלה | C26: משרד ראש הממשלה | D26: 04510110 | E26: פעולות | F26: 4501584523 | G26: נסיעות חו"ל | H26: 43226 | J26: 41003244 | K26: משרד סוכנות/האוצר נסיעות ממשלתית | L26: 500107321 | M26: 10967.4 | N26: ILS | O26: 10836.82 | P26: ILS | Q26: התקשרות עם גופים ממשלתיים | U26: 0 | V26: לא רגיש | W26: 0.00 | Z26: 0.00 | AB26: 0.00 | AE26: 0.00 | AF26: לא | AG26: =VLOOKUP(F26,[1]הזמנות!$D:$E,2,0) -> G03 | AH26: =VLOOKUP(AG26,'[1]קבוצות רכש'!$A:$B,2,0) -> רוה"מ נסיעות לחו"ל
A27: רוה"מ | B27: משרד ראש הממשלה | C27: משרד ראש הממשלה | D27: 04510110 | E27: פעולות | F27: 4501584548 | G27: נסיעות חו"ל | H27: 43226 | J27: 41003244 | K27: משרד סוכנות/האוצר נסיעות ממשלתית | L27: 500107321 | M27: 8816 | N27: ILS | O27: 8672.69 | P27: ILS | Q27: התקשרות עם גופים ממשלתיים | U27: 0 | V27: לא רגיש | W27: 0.00 | Z27: 0.00 | AB27: 0.00 | AE27: 0.00 | AF27: לא | AG27: =VLOOKUP(F27,[1]הזמנות!$D:$E,2,0) -> G03 | AH27: =VLOOKUP(AG27,'[1]קבוצות רכש'!$A:$B,2,0) -> רוה"מ נסיעות לחו"ל
A28: רוה"מ | B28: משרד ראש הממשלה | C28: משרד ראש הממשלה | D28: 04510110 | E28: פעולות | F28: 4501590909 | G28: נסיעות חו"ל | H28: 43241 | J28: 41003244 | K28: משרד סוכנות/האוצר נסיעות ממשלתית | L28: 500107321 | M28: 18015.72 | N28: ILS | O28: 18015.72 | P28: ILS | Q28: התקשרות עם גופים ממשלתיים | U28: 0 | V28: לא רגיש | W28: 0.00 | Z28: 0.00 | AB28: 0.00 | AE28: 0.00 | AF28: לא | AG28: =VLOOKUP(F28,[1]הזמנות!$D:$E,2,0) -> G03 | AH28: =VLOOKUP(AG28,'[1]קבוצות רכש'!$A:$B,2,0) -> רוה"מ נסיעות לחו"ל
A29: רוה"מ | B29: משרד ראש הממשלה | C29: משרד ראש הממשלה | D29: 04510110 | E29: פעולות | F29: 4501591749 | G29: דמי מנוי לעיתון | H29: 43242 | I29: 43465 | J29: 40001037 | K29: הוצאת עתון הארץ בע"מ | L29: 510015449 | M29: 1575 | N29: ILS | O29: 0 | Q29: פטור ממכרז | S29: תקנה 3(1) - התקשרות ששוויה אינה עולה על 50,000 ש"ח | U29: 0 | V29: לא רגיש | W29: 0.00 | Z29: 0.00 | AB29: 0.00 | AE29: 0.00 | AF29: לא | AG29: =VLOOKUP(F29,[1]הזמנות!$D:$E,2,0) -> G02 | AH29: =VLOOKUP(AG29,'[1]קבוצות רכש'!$A:$B,2,0) -> רוה"מ יחידת רכש
A30: רוה"מ | B30: משרד ראש הממשלה | C30: משרד ראש הממשלה | D30: 04510110 | E30: פעולות | F30: 4501593074 | G30: נסיעות חו"ל | H30: 43244 | J30: 41003244 | K30: משרד סוכנות/האוצר נסיעות ממשלתית | L30: 500107321 | M30: 15148 | N30: ILS | O30: 9416.35 | P30: ILS | Q30: התקשרות עם גופים ממשלתיים | U30: 0 | V30: לא רגיש | W30: 0.00 | Z30: 0.00 | AB30: 0.00 | AE30: 0.00 | AF30: לא | AG30: =VLOOKUP(F30,[1]הזמנות!$D:$E,2,0) -> G03 | AH30: =VLOOKUP(AG30,'[1]קבוצות רכש'!$A:$B,2,0) -> רוה"מ נסיעות לחו"ל
A31: רוה"מ | B31: משרד ראש הממשלה | C31: משרד ראש הממשלה | D31: 04510110 | E31: פעולות | F31: 4501611544 | G31: ערב גיבוש - אגף חשבות | H31: 43284 | I31: 43465 | J31: 40141063 | K31: "ירושלים הקטנה" - שרותי אירוח בע"מ | L31: 512567967 | M31: 6749.73 | N31: ILS | O31: 5399.78 | P31: ILS | Q31: פטור ממכרז | S31: תקנה 3(1) - התקשרות ששוויה אינה עולה על 50,000 ש"ח | U31: 0 | V31: לא רגיש | W31: 0.00 | Z31: 0.00 | AB31: 0.00 | AE31: 0.00 | AF31: לא | AG31: =VLOOKUP(F31,[1]הזמנות!$D:$E,2,0) -> G02 | AH31: =VLOOKUP(AG31,'[1]קבוצות רכש'!$A:$B,2,0) -> רוה"מ יחידת רכש
A32: רוה"מ | B32: משרד ראש הממשלה | C32: משרד ראש הממשלה | D32: 04510110 | E32: פעולות | F32: 4501611780 | G32: נסיעות חו"ל | H32: 43284 | J32: 41003244 | K32: משרד סוכנות/האוצר נסיעות ממשלתית | L32: 500107321 | M32: 3582 | N32: ILS | O32: 3536.1 | P32: ILS | Q32: התקשרות עם גופים ממשלתיים | U32: 0 | V32: לא רגיש | W32: 0.00 | Z32: 0.00 | AB32: 0.00 | AE32: 0.00 | AF32: לא | AG32: =VLOOKUP(F32,[1]הזמנות!$D:$E,2,0) -> G03 | AH32: =VLOOKUP(AG32,'[1]קבוצות רכש'!$A:$B,2,0) -> רוה"מ נסיעות לחו"ל
A33: רוה"מ | B33: משרד ראש הממשלה | C33: משרד ראש הממשלה | D33: 04510110 | E33: פעולות | F33: 4501615219 | G33: שרותי גינון | H33: 43291 | I33: 43465 | J33: 40473248 | K33: משתלות פולק יגאל בע"מ | L33: 514532746 | M33: 2750 | N33: ILS | O33: 2749.5 | P33: ILS | Q33: תקנה 1ב - מכרז פומבי רגיל | R33: 571076 | U33: 0 | V33: לא רגיש | W33: 0.00 | Z33: 0.00 | AB33: 0.00 | AE33: 0.00 | AF33: לא | AG33: =VLOOKUP(F33,[1]הזמנות!$D:$E,2,0) -> G01 | AH33: =VLOOKUP(AG33,'[1]קבוצות רכש'!$A:$B,2,0) -> הוצאות קשיחות
A34: רוה"מ | B34: משרד ראש הממשלה | C34: משרד ראש הממשלה | D34: 04510110 | E34: פעולות | F34: 4501624242 | G34: שרותי ייעוץ | H34: 43312 | I34: 43865 | J34: 40005076 | K34: עדליא - ייעוץ כלכלי בע"מ | L34: 513238816 | M34: 12870 | N34: ILS | O34: 12870 | P34: ILS | Q34: תקנה 1ב - מכרז פומבי רגיל | R34: 60080043 | U34: 0 | V34: לא רגיש | W34: 0.00 | Z34: 0.00 | AB34: 0.00 | AE34: 0.00 | AF34: לא | AG34: =VLOOKUP(F34,[1]הזמנות!$D:$E,2,0) -> G02 | AH34: =VLOOKUP(AG34,'[1]קבוצות רכש'!$A:$B,2,0) -> רוה"מ יחידת רכש
A35: רוה"מ | B35: משרד ראש הממשלה | C35: משרד ראש הממשלה | D35: 04510110 | E35: פעולות | F35: 4501625269 | G35: שרותי ייעוץ | H35: 43313 | I35: 43865 | J35: 40005076 | K35: עדליא - ייעוץ כלכלי בע"מ | L35: 513238816 | M35: 20317.05 | N35: ILS | O35: 20317.06 | P35: ILS | Q35: תקנה 1ב - מכרז פומבי רגיל | R35: 60080043 | U35: 0 | V35: לא רגיש | W35: 0.00 | Z35: 0.00 | AB35: 0.00 | AE35: 0.00 | AF35: לא | AG35: =VLOOKUP(F35,[1]הזמנות!$D:$E,2,0) -> G02 | AH35: =VLOOKUP(AG35,'[1]קבוצות רכש'!$A:$B,2,0) -> רוה"מ יחידת רכש
A36: רוה"מ | B36: משרד ראש הממשלה | C36: משרד ראש הממשלה | D36: 04510110 | E36: פעולות | F36: 4501627808 | G36: פורטל מידע ממשלתי תחזוקה והקמה | H36: 43319 | I36: 43982 | J36: 40371942 | K36: פיונט טכנולוגיות בע"מ | L36: 512841016 | M36: 271063.5 | N36: ILS | O36: 0 | Q36: תקנה 14ב - מכרז מרכזי | R36: 577889 | U36: 0 | V36: לא רגיש | W36: 0.00 | Z36: 0.00 | AB36: 0.00 | AE36: 0.00 | AF36: לא | AG36: =VLOOKUP(F36,[1]הזמנות!$D:$E,2,0) -> G06 | AH36: =VLOOKUP(AG36,'[1]קבוצות רכש'!$A:$B,2,0) -> רוה"מ טכנו' והמידע
A37: רוה"מ | B37: משרד ראש הממשלה | C37: משרד ראש הממשלה | D37: 04510110 | E37: פעולות | F37: 4501632390 | G37: דמי מנוי לעיתון | H37: 43328 | I37: 43465 | J37: 40176979 | K37: סטימצקי (2005) בע"מ | L37: 513742320 | M37: 735.15 | N37: ILS | O37: 0 | Q37: פטור ממכרז | S37: תקנה 3(1) - התקשרות ששוויה אינה עולה על 50,000 ש"ח | U37: 0 | V37: לא רגיש | W37: 0.00 | Z37: 0.00 | AB37: 0.00 | AE37: 0.00 | AF37: לא | AG37: =VLOOKUP(F37,[1]הזמנות!$D:$E,2,0) -> G02 | AH37: =VLOOKUP(AG37,'[1]קבוצות רכש'!$A:$B,2,0) -> רוה"מ יחידת רכש
A38: רוה"מ | B38: משרד ראש הממשלה | C38: משרד ראש הממשלה | D38: 04510110 | E38: פעולות | F38: 4501632462 | G38: הוצאות קשיחות - שירותי צפייה | H38: 43331 | I38: 43664 | J38: 40001490 | K38: די.בי.אס. שרותי לווין (1998) בע"מ | L38: 512705138 | M38: 2779.92 | N38: ILS | O38: 0 | P38: ILS | Q38: פטור ממכרז | S38: תקנה 3(1) - התקשרות ששוויה אינה עולה על 50,000 ש"ח | U38: 0 | V38: לא רגיש | W38: 0.00 | Z38: 0.00 | AB38: 0.00 | AE38: 0.00 | AF38: לא | AG38: =VLOOKUP(F38,[1]הזמנות!$D:$E,2,0) -> G01 | AH38: =VLOOKUP(AG38,'[1]קבוצות רכש'!$A:$B,2,0) -> הוצאות קשיחות
A39: רוה"מ | B39: משרד ראש הממשלה | C39: משרד ראש הממשלה | D39: 04510110 | E39: פעולות | F39: 4501648964 | G39: דמי מנוי לעיתון | H39: 43387 | I39: 43830 | J39: 40011446 | K39: ידיעות מינויים | L39: 540181054 | M39: 900 | N39: ILS | O39: 0 | Q39: פטור ממכרז | S39: תקנה 3(1) - התקשרות ששוויה אינה עולה על 50,000 ש"ח | U39: 0 | V39: לא רגיש | W39: 0.00 | Z39: 0.00 | AB39: 0.00 | AE39: 0.00 | AF39: לא | AG39: =VLOOKUP(F39,[1]הזמנות!$D:$E,2,0) -> G02 | AH39: =VLOOKUP(AG39,'[1]קבוצות רכש'!$A:$B,2,0) -> רוה"מ יחידת רכש
A40: רוה"מ | B40: משרד ראש הממשלה | C40: משרד ראש הממשלה | D40: 04510110 | E40: פעולות | F40: 4501649015 | G40: שרותי ייעוץ | H40: 43387 | I40: 44085 | J40: 40314838 | K40: בריטמן אלמגור זוהר | L40: 557934692 | M40: 153590.58 | N40: ILS | O40: 153422.87 | P40: ILS | Q40: תקנה 3ג - מימוש זכות ברירה | U40: 0 | V40: לא רגיש | W40: 0.00 | Z40: 0.00 | AB40: 0.00 | AE40: 0.00 | AF40: לא | AG40: =VLOOKUP(F40,[1]הזמנות!$D:$E,2,0) -> G02 | AH40: =VLOOKUP(AG40,'[1]קבוצות רכש'!$A:$B,2,0) -> רוה"מ יחידת רכש
A41: רוה"מ | B41: משרד ראש הממשלה | C41: משרד ראש הממשלה | D41: 04510110 | E41: פעולות | F41: 4501651826 | G41: שירותי תמלול והקלדה | H41: 43391 | I41: 43830 | J41: 40005003 | K41: חבר תרגומים בע"מ | L41: 512892126 | M41: 50000 | N41: ILS | O41: 0 | Q41: פטור ממכרז | S41: תקנה 3(1) - התקשרות ששוויה אינה עולה על 50,000 ש"ח | U41: 0 | V41: לא רגיש | W41: 0.00 | Z41: 0.00 | AB41: 0.00 | AE41: 0.00 | AF41: לא | AG41: =VLOOKUP(F41,[1]הזמנות!$D:$E,2,0) -> G01 | AH41: =VLOOKUP(AG41,'[1]קבוצות רכש'!$A:$B,2,0) -> הוצאות קשיחות
A42: רוה"מ | B42: משרד ראש הממשלה | C42: משרד ראש הממשלה | D42: 04510110 | E42: פעולות | F42: 4501661479 | G42: שירותי כ"א | H42: 43411 | I42: 43830 | J42: 40003644 | K42: אס. קיו. לינק בע"מ | L42: 512042045 | M42: 636573.6 | N42: ILS | O42: 574248.54 | P42: ILS | Q42: תקנה 14ב - מכרז מרכזי | R42: 537977 | U42: 0 | V42: לא רגיש | W42: 0.00 | Z42: 0.00 | AB42: 0.00 | AE42: 0.00 | AF42: לא | AG42: =VLOOKUP(F42,[1]הזמנות!$D:$E,2,0) -> G06 | AH42: =VLOOKUP(AG42,'[1]קבוצות רכש'!$A:$B,2,0) -> רוה"מ טכנו' והמידע
A43: רוה"מ | B43: משרד ראש הממשלה | C43: משרד ראש הממשלה | D43: 04510110 | E43: פעולות | F43: 4501661679 | G43: שירותי כ"א | H43: 43411 | I43: 43830 | J43: 40001205 | K43: מטריקס אי. טי. מערכות מידע מתקדמות | L43: 511171662 | M43: 297648 | N43: ILS | O43: 274446.34 | P43: ILS | Q43: תקנה 14ב - מכרז מרכזי | R43: 537977 | U43: 0 | V43: לא רגיש | W43: 0.00 | Z43: 0.00 | AB43: 0.00 | AE43: 0.00 | AF43: לא | AG43: =VLOOKUP(F43,[1]הזמנות!$D:$E,2,0) -> G06 | AH43: =VLOOKUP(AG43,'[1]קבוצות רכש'!$A:$B,2,0) -> רוה"מ טכנו' והמידע
A44: רוה"מ | B44: משרד ראש הממשלה | C44: משרד ראש הממשלה | D44: 04510110 | E44: פעולות | F44: 4501662558 | G44: פעילות חברתית אגף כלכלה ותשתיות | H44: 43415 | I44: 43780 | J44: 41517045 | K44: נחום אוהד | L44: 040912586 | M44: 809.97 | N44: ILS | O44: 0 | Q44: פטור ממכרז | S44: תקנה 3(1) - התקשרות ששוויה אינה עולה על 50,000 ש"ח | U44: 0 | V44: לא רגיש | W44: 0.00 | Z44: 0.00 | AB44: 0.00 | AE44: 0.00 | AF44: לא | AG44: =VLOOKUP(F44,[1]הזמנות!$D:$E,2,0) -> G02 | AH44: =VLOOKUP(AG44,'[1]קבוצות רכש'!$A:$B,2,0) -> רוה"מ יחידת רכש
A45: רוה"מ | B45: משרד ראש הממשלה | C45: משרד ראש הממשלה | D45: 04510110 | E45: פעולות | F45: 4501663047 | G45: פעילות חברתית אגף כלכלה ותשתיות | H45: 43415 | I45: 43780 | J45: 40329386 | K45: קפית בגן (2008) בע"מ | L45: 514173863 | M45: 525.97 | N45: ILS | O45: 0 | Q45: פטור ממכרז | S45: תקנה 3(1) - התקשרות ששוויה אינה עולה על 50,000 ש"ח | U45: 0 | V45: לא רגיש | W45: 0.00 | Z45: 0.00 | AB45: 0.00 | AE45: 0.00 | AF45: לא | AG45: =VLOOKUP(F45,[1]הזמנות!$D:$E,2,0) -> G02 | AH45: =VLOOKUP(AG45,'[1]קבוצות רכש'!$A:$B,2,0) -> רוה"מ יחידת רכש
A46: רוה"מ | B46: משרד ראש הממשלה | C46: משרד ראש הממשלה | D46: 04510110 | E46: פעולות | F46: 4501665162 | G46: מיזם משותף - סטודנטים מהפריפריה | H46: 43418 | I46: 43710 | J46: 40000431 | K46: איסף - הקרן הבין-לאומית לחינוך | L46: 580074888 | M46: 1560250 | N46: ILS | O46: 1499501.9 | P46: ILS | Q46: פטור ממכרז | R46: 620882 | S46: תקנה 3(30) - מיזם משותף | U46: 0 | V46: לא רגיש | W46: 0.00 | Z46: 0.00 | AB46: 0.00 | AE46: 0.00 | AF46: לא | AG46: =VLOOKUP(F46,[1]הזמנות!$D:$E,2,0) -> G04 | AH46: =VLOOKUP(AG46,'[1]קבוצות רכש'!$A:$B,2,0) -> רוה"מ חוזים,יועצים
A47: רוה"מ | B47: משרד ראש הממשלה | C47: משרד ראש הממשלה | D47: 04510110 | E47: פעולות | F47: 4501669321 | G47: מחקרים למועצה הלאומית לכלכלה | H47: 43425 | I47: 44155 | J47: 41052601 | K47: מכון למחקר כלכלי על שם ד"ר ישעיהו פ | L47: 580007714 | M47: 796989 | N47: ILS | O47: 187600 | P47: ILS | Q47: מכרז פומבי רגיל ממוכן | R47: 609276 | U47: 0 | V47: לא רגיש | W47: 0.00 | Z47: 0.00 | AB47: 0.00 | AE47: 0.00 | AF47: לא | AG47: =VLOOKUP(F47,[1]הזמנות!$D:$E,2,0) -> G04 | AH47: =VLOOKUP(AG47,'[1]קבוצות רכש'!$A:$B,2,0) -> רוה"מ חוזים,יועצים
A48: רוה"מ | B48: משרד ראש הממשלה | C48: משרד ראש הממשלה | D48: 04510110 | E48: פעולות | F48: 4501670202 | G48: יעוץ | H48: 43426 | I48: 43769 | J48: 41563845 | K48: ירון בלום בע"מ | L48: 514735653 | M48: 668179.98 | N48: ILS | O48: 590428.8 | P48: ILS | Q48: תקנה 3ג - מימוש זכות ברירה | R48: 625036 | U48: 0 | V48: לא רגיש | W48: 0.00 | Z48: 0.00 | AB48: 0.00 | AE48: 0.00 | AF48: לא | AG48: =VLOOKUP(F48,[1]הזמנות!$D:$E,2,0) -> G04 | AH48: =VLOOKUP(AG48,'[1]קבוצות רכש'!$A:$B,2,0) -> רוה"מ חוזים,יועצים
A49: רוה"מ | B49: משרד ראש הממשלה | C49: משרד ראש הממשלה | D49: 04510110 | E49: פעולות | F49: 4501675513 | G49: כתיבת נאומים | H49: 43437 | I49: 43830 | J49: 40960041 | K49: חריף חגי | L49: 023593239 | M49: 150000 | N49: ILS | O49: 118282.09 | P49: ILS | Q49: תקנה 5(ג)(2) - התקשרות עם מומחה - בדיקת מס' הצעות | R49: 625034 | U49: 0 | V49: לא רגיש | W49: 0.00 | Z49: 0.00 | AB49: 0.00 | AE49: 0.00 | AF49: לא | AG49: =VLOOKUP(F49,[1]הזמנות!$D:$E,2,0) -> G04 | AH49: =VLOOKUP(AG49,'[1]קבוצות רכש'!$A:$B,2,0) -> רוה"מ חוזים,יועצים
A50: רוה"מ | B50: משרד ראש הממשלה | C50: משרד ראש הממשלה | D50: 04510110 | E50: פעולות | F50: 4501680530 | G50: כתיבת מכרז מעליות | H50: 43444 | I50: 43865 | J50: 40005076 | K50: עדליא - ייעוץ כלכלי בע"מ | L50: 513238816 | M50: 15210 | N50: ILS | O50: 6084 | P50: ILS | Q50: תקנה 1ב - מכרז פומבי רגיל | R50: 60080043 | U50: 0 | V50: לא רגיש | W50: 0.00 | Z50: 0.00 | AB50: 0.00 | AE50: 0.00 | AF50: לא | AG50: =VLOOKUP(F50,[1]הזמנות!$D:$E,2,0) -> G04 | AH50: =VLOOKUP(AG50,'[1]קבוצות רכש'!$A:$B,2,0) -> רוה"מ חוזים,יועצים
A51: רוה"מ | B51: משרד ראש הממשלה | C51: משרד ראש הממשלה | D51: 04510110 | E51: פעולות | F51: 4501680634 | G51: נסיעת חול | H51: 43444 | J51: 41003244 | K51: משרד סוכנות/האוצר נסיעות ממשלתית | L51: 500107321 | M51: 16698 | N51: ILS | O51: 16626.39 | P51: ILS | Q51: התקשרות עם גופים ממשלתיים | U51: 0 | V51: לא רגיש | W51: 0.00 | Z51: 0.00 | AB51: 0.00 | AE51: 0.00 | AF51: לא | AG51: =VLOOKUP(F51,[1]הזמנות!$D:$E,2,0) -> G03 | AH51: =VLOOKUP(AG51,'[1]קבוצות רכש'!$A:$B,2,0) -> רוה"מ נסיעות לחו"ל
A52: רוה"מ | B52: משרד ראש הממשלה | C52: משרד ראש הממשלה | D52: 04510110 | E52: פעולות | F52: 4501680652 | G52: נסיעת חול | H52: 43444 | J52: 41003244 | K52: משרד סוכנות/האוצר נסיעות ממשלתית | L52: 500107321 | M52: 3046 | N52: ILS | O52: 3048 | P52: ILS | Q52: התקשרות עם גופים ממשלתיים | U52: 0 | V52: לא רגיש | W52: 0.00 | Z52: 0.00 | AB52: 0.00 | AE52: 0.00 | AF52: לא | AG52: =VLOOKUP(F52,[1]הזמנות!$D:$E,2,0) -> G03 | AH52: =VLOOKUP(AG52,'[1]קבוצות רכש'!$A:$B,2,0) -> רוה"מ נסיעות לחו"ל
A53: רוה"מ | B53: משרד ראש הממשלה | C53: משרד ראש הממשלה | D53: 04510110 | E53: פעולות | F53: 4501680668 | G53: נסיעת חול | H53: 43444 | J53: 41003244 | K53: משרד סוכנות/האוצר נסיעות ממשלתית | L53: 500107321 | M53: 9106.98 | N53: ILS | O53: 9067.01 | P53: ILS | Q53: התקשרות עם גופים ממשלתיים | U53: 0 | V53: לא רגיש | W53: 0.00 | Z53: 0.00 | AB53: 0.00 | AE53: 0.00 | AF53: לא | AG53: =VLOOKUP(F53,[1]הזמנות!$D:$E,2,0) -> G03 | AH53: =VLOOKUP(AG53,'[1]קבוצות רכש'!$A:$B,2,0) -> רוה"מ נסיעות לחו"ל
A54: רוה"מ | B54: משרד ראש הממשלה | C54: משרד ראש הממשלה | D54: 04510110 | E54: פעולות | F54: 4501681989 | G54: דמי מנוי לעיתון | H54: 43446 | I54: 43830 | J54: 40176979 | K54: סטימצקי (2005) בע"מ | L54: 513742320 | M54: 1123.2 | N54: ILS | O54: 1122.68 | P54: ILS | Q54: פטור ממכרז | S54: תקנה 3(1) - התקשרות ששוויה אינה עולה על 50,000 ש"ח | U54: -101.57 | V54: לא רגיש | W54: 0.00 | Z54: 0.00 | AB54: 0.00 | AE54: 0.00 | AF54: לא | AG54: =VLOOKUP(F54,[1]הזמנות!$D:$E,2,0) -> G02 | AH54: =VLOOKUP(AG54,'[1]קבוצות רכש'!$A:$B,2,0) -> רוה"מ יחידת רכש
A55: רוה"מ | B55: משרד ראש הממשלה | C55: משרד ראש הממשלה | D55: 04510110 | E55: פעולות | F55: 4501682210 | G55: דמי מנוי לעיתון | H55: 43446 | I55: 43830 | J55: 40001037 | K55: הוצאת עתון הארץ בע"מ | L55: 510015449 | M55: 13509.99 | N55: ILS | O55: 10807.99 | P55: ILS | Q55: פטור ממכרז | S55: תקנה 3(1) - התקשרות ששוויה אינה עולה על 50,000 ש"ח | U55: 0 | V55: לא רגיש | W55: 0.00 | Z55: 0.00 | AB55: 0.00 | AE55: 0.00 | AF55: לא | AG55: =VLOOKUP(F55,[1]הזמנות!$D:$E,2,0) -> G02 | AH55: =VLOOKUP(AG55,'[1]קבוצות רכש'!$A:$B,2,0) -> רוה"מ יחידת רכש
A56: רוה"מ | B56: משרד ראש הממשלה | C56: משרד ראש הממשלה | D56: 04510110 | E56: פעולות | F56: 4501683319 | G56: תחזוקת הר הרצל | H56: 43447 | I56: 43830 | J56: 40000247 | K56: ההסתדרות הציונית העולמית | L56: 500500350 | M56: 350000 | N56: ILS | O56: 252286.3 | P56: ILS | Q56: פטור ממכרז | R56: 629415 | S56: תקנה 3(19)(א) - הסוכנות היהודית או ההסתדרות הציונית | U56: -13548.7 | V56: לא רגיש | W56: 0.00 | Z56: 0.00 | AB56: 0.00 | AE56: 0.00 | AF56: לא | AG56: =VLOOKUP(F56,[1]הזמנות!$D:$E,2,0) -> G04 | AH56: =VLOOKUP(AG56,'[1]קבוצות רכש'!$A:$B,2,0) -> רוה"מ חוזים,יועצים
A57: רוה"מ | B57: משרד ראש הממשלה | C57: משרד ראש הממשלה | D57: 04510110 | E57: פעולות | F57: 4501695466 | G57: שיתוף משאבי אנוש במסגרת מכרז שירותי יעוץ | H57: 43474 | I57: 44093 | J57: 40397632 | K57: מטריקס אי. טי. בע"מ | L57: 520039413 | M57: 173394 | N57: ILS | O57: 0 | Q57: תקנה 14ב - מכרז מרכזי | R57: 552845 | U57: 0 | V57: לא רגיש | W57: 0.00 | Z57: 0.00 | AB57: 0.00 | AE57: 0.00 | AF57: לא | AG57: =VLOOKUP(F57,[1]הזמנות!$D:$E,2,0) -> G04 | AH57: =VLOOKUP(AG57,'[1]קבוצות רכש'!$A:$B,2,0) -> רוה"מ חוזים,יועצים
A58: רוה"מ | B58: משרד ראש הממשלה | C58: משרד ראש הממשלה | D58: 04510110 | E58: פעולות | F58: 4501696572 | G58: חנית עובדים בגן הטכנולוגי | H58: 43475 | I58: 43830 | J58: 40003288 | K58: ג.ט.י. הגן הטכנולוגי ירושלים בע"מ | L58: 511590275 | M58: 56777.76 | N58: ILS | O58: 55161.99 | P58: ILS | Q58: פטור ממכרז | R58: 627450 | S58: תקנה 3ג - מימוש זכות ברירה | U58: 0 | V58: לא רגיש | W58: 0.00 | Z58: 0.00 | AB58: 0.00 | AE58: 0.00 | AF58: לא | AG58: =VLOOKUP(F58,[1]הזמנות!$D:$E,2,0) -> G04 | AH58: =VLOOKUP(AG58,'[1]קבוצות רכש'!$A:$B,2,0) -> רוה"מ חוזים,יועצים
A59: רוה"מ | B59: משרד ראש הממשלה | C59: משרד ראש הממשלה | D59: 04510110 | E59: פעולות | F59: 4501697417 | G59: מתנות | H59: 43478 | I59: 44196 | J59: 40004060 | K59: פרץ שלום חי | L59: 056761695 | M59: 3000 | N59: ILS | O59: 397.8 | P59: ILS | Q59: פטור ממכרז | S59: תקנה 3(1) - התקשרות ששוויה אינה עולה על 50,000 ש"ח | U59: 397.8 | V59: לא רגיש | W59: 0.00 | Z59: 0.00 | AB59: 0.00 | AE59: 0.00 | AF59: לא | AG59: =VLOOKUP(F59,[1]הזמנות!$D:$E,2,0) -> G02 | AH59: =VLOOKUP(AG59,'[1]קבוצות רכש'!$A:$B,2,0) -> רוה"מ יחידת רכש
A60: רוה"מ | B60: משרד ראש הממשלה | C60: משרד ראש הממשלה | D60: 04510110 | E60: פעולות | F60: 4501704117 | G60: פרויקט מחשב לכל ילד 2019 | H60: 43489 | I60: 43830 | J60: 40396456 | K60: המפעל הלאומי לפתוח חברתי | L60: 580231546 | M60: 3000000 | N60: ILS | O60: 2942983 | P60: ILS | Q60: פטור ממכרז | R60: 636695 | S60: תקנה 3(4)(ב)(3) - התקשרות המשך באישור ועדת פטור מרכזית | U60: 0 | V60: לא רגיש | W60: 0.00 | Z60: 0.00 | AB60: 0.00 | AE60: 0.00 | AF60: לא | AG60: =VLOOKUP(F60,[1]הזמנות!$D:$E,2,0) -> G01 | AH60: =VLOOKUP(AG60,'[1]קבוצות רכש'!$A:$B,2,0) -> הוצאות קשיחות
A61: רוה"מ | B61: משרד ראש הממשלה | C61: משרד ראש הממשלה | D61: 04510110 | E61: פעולות | F61: 4501714650 | G61: תשלום לחבר וועדה ציבורית | H61: 43509 | I61: 43830 | J61: 40571316 | K61: עתידים-אתגר ניהול קרנות בע"מ | L61: 512127978 | M61: 9874.8 | N61: ILS | O61: 2098.4 | P61: ILS | Q61: פטור ממכרז | S61: תקנה 3(1) - התקשרות ששוויה אינה עולה על 50,000 ש"ח | U61: 0 | V61: לא רגיש | W61: 0.00 | Z61: 0.00 | AB61: 0.00 | AE61: 0.00 | AF61: לא | AG61: =VLOOKUP(F61,[1]הזמנות!$D:$E,2,0) -> G02 | AH61: =VLOOKUP(AG61,'[1]קבוצות רכש'!$A:$B,2,0) -> רוה"מ יחידת רכש
A62: רוה"מ | B62: משרד ראש הממשלה | C62: משרד ראש הממשלה | D62: 04510110 | E62: פעולות | F62: 4501717313 | G62: ניהול ותחזוקה קשת רובינסון | H62: 43514 | I62: 43875 | J62: 40003388 | K62: שיקום ולפתוח הרובע היהודי בעיר העתי | L62: 520028127 | M62: 1982657.4 | N62: ILS | O62: 1846786.4 | P62: ILS | Q62: פטור ממכרז | R62: 628301 | S62: תקנה 3(4)(ב)(3) - התקשרות המשך באישור ועדת פטור מרכזית | U62: 0 | V62: לא רגיש | W62: 0.00 | Z62: 0.00 | AB62: 0.00 | AE62: 0.00 | AF62: לא | AG62: =VLOOKUP(F62,[1]הזמנות!$D:$E,2,0) -> G04 | AH62: =VLOOKUP(AG62,'[1]קבוצות רכש'!$A:$B,2,0) -> רוה"מ חוזים,יועצים
A63: רוה"מ | B63: משרד ראש הממשלה | C63: משרד ראש הממשלה | D63: 04510110 | E63: פעולות | F63: 4501725398 | G63: שירותי ביקורת | H63: 43530 | I63: 43890 | J63: 40005659 | K63: בן דוד שלוי קופ ושות' רואי חשבון (ב | L63: 513464842 | M63: 317070 | N63: ILS | O63: 114578.34 | P63: ILS | Q63: תקנה 5(ג)(1) - התקשרות עם מומחה - פניה תחרותית להצעות | R63: לא בוצעה פניה | U63: 7761.08 | V63: לא רגיש | W63: 0.00 | Z63: 0.00 | AB63: 0.00 | AE63: 0.00 | AF63: לא | AG63: =VLOOKUP(F63,[1]הזמנות!$D:$E,2,0) -> G04 | AH63: =VLOOKUP(AG63,'[1]קבוצות רכש'!$A:$B,2,0) -> רוה"מ חוזים,יועצים
A64: רוה"מ | B64: משרד ראש הממשלה | C64: משרד ראש הממשלה | D64: 04510110 | E64: פעולות | F64: 4501730971 | G64: שירותי יעוץ | H64: 43542 | I64: 43903 | J64: 41500040 | K64: רד מארק | L64: 558002424 | M64: 36000.9 | N64: ILS | O64: 0 | Q64: פטור ממכרז | R64: אין פניה במנוף | S64: תקנה 3(1) - התקשרות ששוויה אינה עולה על 50,000 ש"ח | U64: 0 | V64: לא רגיש | W64: 0.00 | Z64: 0.00 | AB64: 0.00 | AE64: 0.00 | AF64: לא | AG64: =VLOOKUP(F64,[1]הזמנות!$D:$E,2,0) -> G04 | AH64: =VLOOKUP(AG64,'[1]קבוצות רכש'!$A:$B,2,0) -> רוה"מ חוזים,יועצים
A65: רוה"מ | B65: משרד ראש הממשלה | C65: משרד ראש הממשלה | D65: 04510110 | E65: פעולות | F65: 4501733000 | G65: כתיבת מכרז עבודות גינון | H65: 43545 | I65: 43865 | J65: 40005076 | K65: עדליא - ייעוץ כלכלי בע"מ | L65: 513238816 | M65: 25564.5 | N65: ILS | O65: 20475 | P65: ILS | Q65: תקנה 1ב - מכרז פומבי רגיל | R65: 60080043 | U65: 20475 | V65: לא רגיש | W65: 0.00 | Z65: 0.00 | AB65: 0.00 | AE65: 0.00 | AF65: לא | AG65: =VLOOKUP(F65,[1]הזמנות!$D:$E,2,0) -> G04 | AH65: =VLOOKUP(AG65,'[1]קבוצות רכש'!$A:$B,2,0) -> רוה"מ חוזים,יועצים
A66: רוה"מ | B66: משרד ראש הממשלה | C66: משרד ראש הממשלה | D66: 04510110 | E66: פעולות | F66: 4501734770 | G66: רכישת פלאפון | H66: 43550 | I66: 43830 | J66: 40001174 | K66: פלאפון תקשורת בע"מ | L66: 511076572 | M66: 2998.99 | N66: ILS | O66: 0 | Q66: פטור ממכרז | S66: תקנה 3(1) - התקשרות ששוויה אינה עולה על 50,000 ש"ח | U66: 0 | V66: לא רגיש | W66: 0.00 | Z66: 0.00 | AB66: 0.00 | AE66: 0.00 | AF66: לא | AG66: =VLOOKUP(F66,[1]הזמנות!$D:$E,2,0) -> G02 | AH66: =VLOOKUP(AG66,'[1]קבוצות רכש'!$A:$B,2,0) -> רוה"מ יחידת רכש
A67: רוה"מ | B67: משרד ראש הממשלה | C67: משרד ראש הממשלה | D67: 04510110 | E67: פעולות | F67: 4501735900 | G67: משלחת מז"פ | H67: 43551 | I67: 43830 | J67: 50000297 | K67: MINISTRY OF FOREIGN AFFAIRS VIA BAN | L67: 500101076 | M67: 23500 | N67: USD | O67: 36392.75 | P67: USD | Q67: התקשרות עם גופים ממשלתיים | U67: 0 | V67: לא רגיש | W67: 0.00 | Z67: 0.00 | AB67: 0.00 | AE67: 0.00 | AF67: לא | AG67: =VLOOKUP(F67,[1]הזמנות!$D:$E,2,0) -> G28 | AH67: =VLOOKUP(AG67,'[1]קבוצות רכש'!$A:$B,2,0) -> רה"מ בי משרדי
A68: רוה"מ | B68: משרד ראש הממשלה | C68: משרד ראש הממשלה | D68: 04510110 | E68: פעולות | F68: 4501749071 | G68: דמי מנוי לעיתון | H68: 43587 | I68: 43830 | J68: 40001417 | K68: ג'רוזלם פוסט בע"מ | L68: 512311598 | M68: 1019.39 | N68: ILS | O68: 372.61 | P68: ILS | Q68: פטור ממכרז | S68: תקנה 3(1) - התקשרות ששוויה אינה עולה על 50,000 ש"ח | U68: 0 | V68: לא רגיש | W68: 0.00 | Z68: 0.00 | AB68: 0.00 | AE68: 0.00 | AF68: לא | AG68: =VLOOKUP(F68,[1]הזמנות!$D:$E,2,0) -> G02 | AH68: =VLOOKUP(AG68,'[1]קבוצות רכש'!$A:$B,2,0) -> רוה"מ יחידת רכש
A69: רוה"מ | B69: משרד ראש הממשלה | C69: משרד ראש הממשלה | D69: 04510110 | E69: פעולות | F69: 4501757648 | G69: שירותי דפוס | H69: 43607 | I69: 43972 | J69: 40002893 | K69: גרפוס-פרינט (1990) בע"מ | L69: 511524886 | M69: 7020 | N69: ILS | O69: 0 | P69: ILS | Q69: פטור ממכרז | R69: 631037 | S69: תקנה 3ג - מימוש זכות ברירה | U69: 0 | V69: לא רגיש | W69: 0.00 | Z69: 0.00 | AB69: 0.00 | AE69: 0.00 | AF69: לא | AG69: =VLOOKUP(F69,[1]הזמנות!$D:$E,2,0) -> G04 | AH69: =VLOOKUP(AG69,'[1]קבוצות רכש'!$A:$B,2,0) -> רוה"מ חוזים,יועצים
A70: רוה"מ | B70: משרד ראש הממשלה | C70: משרד ראש הממשלה | D70: 04510110 | E70: פעולות | F70: 4501768564 | G70: עבודות דפוס | H70: 43633 | I70: 43830 | J70: 40374201 | K70: גרפצ'יק בע"מ | L70: 513868620 | M70: 850.59 | N70: ILS | O70: 0 | Q70: פטור ממכרז | S70: תקנה 3(1) - התקשרות ששוויה אינה עולה על 50,000 ש"ח | U70: 0 | V70: לא רגיש | W70: 0.00 | Z70: 0.00 | AB70: 0.00 | AE70: 0.00 | AF70: לא | AG70: =VLOOKUP(F70,[1]הזמנות!$D:$E,2,0) -> G02 | AH70: =VLOOKUP(AG70,'[1]קבוצות רכש'!$A:$B,2,0) -> רוה"מ יחידת רכש
A71: רוה"מ | B71: משרד ראש הממשלה | C71: משרד ראש הממשלה | D71: 04510110 | E71: פעולות | F71: 4501770195 | G71: רכישת יין | H71: 43636 | I71: 44196 | J71: 41331870 | K71: אחת שתים שלוש י-ם בע"מ | L71: 513835462 | M71: 3000 | N71: ILS | O71: 2304.79 | P71: ILS | Q71: פטור ממכרז | S71: תקנה 3(1) - התקשרות ששוויה אינה עולה על 50,000 ש"ח | U71: 0 | V71: לא רגיש | W71: 0.00 | Z71: 0.00 | AB71: 0.00 | AE71: 0.00 | AF71: לא | AG71: =VLOOKUP(F71,[1]הזמנות!$D:$E,2,0) -> G02 | AH71: =VLOOKUP(AG71,'[1]קבוצות רכש'!$A:$B,2,0) -> רוה"מ יחידת רכש
A72: רוה"מ | B72: משרד ראש הממשלה | C72: משרד ראש הממשלה | D72: 04510110 | E72: פעולות | F72: 4501775772 | G72: שרותי תרגום | H72: 43649 | I72: 44196 | J72: 40005174 | K72: אם. ג'י. אס. פתרונות שפה | L72: 540179223 | M72: 3000 | N72: ILS | O72: 789.61 | P72: ILS | Q72: פטור ממכרז | S72: תקנה 3(1) - התקשרות ששוויה אינה עולה על 50,000 ש"ח | U72: 0 | V72: לא רגיש | W72: 0.00 | Z72: 0.00 | AB72: 0.00 | AE72: 0.00 | AF72: לא | AG72: =VLOOKUP(F72,[1]הזמנות!$D:$E,2,0) -> G02 | AH72: =VLOOKUP(AG72,'[1]קבוצות רכש'!$A:$B,2,0) -> רוה"מ יחידת רכש
A73: רוה"מ | B73: משרד ראש הממשלה | C73: משרד ראש הממשלה | D73: 04510110 | E73: פעולות | F73: 4501779074 | G73: ביצוע מחקר | H73: 43656 | I73: 44356 | J73: 50001954 | K73: oecd/CEMT | L73: R3605/03711/4612 | M73: 60000 | N73: EUR | O73: 0 | Q73: פטור ממכרז | R73: לא בוצעה פניה | S73: תקנה 3(31) - התקשרות עם תושב חוץ | U73: 0 | V73: לא רגיש | W73: 0.00 | Z73: 0.00 | AB73: 0.00 | AE73: 0.00 | AF73: לא | AG73: =VLOOKUP(F73,[1]הזמנות!$D:$E,2,0) -> G04 | AH73: =VLOOKUP(AG73,'[1]קבוצות רכש'!$A:$B,2,0) -> רוה"מ חוזים,יועצים
A74: רוה"מ | B74: משרד ראש הממשלה | C74: משרד ראש הממשלה | D74: 04510110 | E74: פעולות | F74: 4501781245 | G74: נסיעות לחול אגף ממש וחברה נסיעה לציריך | H74: 43662 | J74: 41003244 | K74: משרד סוכנות/האוצר נסיעות ממשלתית | L74: 500107321 | M74: 6246.6 | N74: ILS | O74: 6246.6 | P74: ILS | Q74: התקשרות עם גופים ממשלתיים | U74: 0 | V74: לא רגיש | W74: 0.00 | Z74: 0.00 | AB74: 0.00 | AE74: 0.00 | AF74: לא | AG74: =VLOOKUP(F74,[1]הזמנות!$D:$E,2,0) -> G03 | AH74: =VLOOKUP(AG74,'[1]קבוצות רכש'!$A:$B,2,0) -> רוה"מ נסיעות לחו"ל
A75: רוה"מ | B75: משרד ראש הממשלה | C75: משרד ראש הממשלה | D75: 04510110 | E75: פעולות | F75: 4501781295 | G75: נסיעות לחול | H75: 43662 | J75: 41003244 | K75: משרד סוכנות/האוצר נסיעות ממשלתית | L75: 500107321 | M75: 19024.6 | N75: ILS | O75: 16235.14 | P75: ILS | Q75: התקשרות עם גופים ממשלתיים | U75: 0 | V75: לא רגיש | W75: 0.00 | Z75: 0.00 | AB75: 0.00 | AE75: 0.00 | AF75: לא | AG75: =VLOOKUP(F75,[1]הזמנות!$D:$E,2,0) -> G03 | AH75: =VLOOKUP(AG75,'[1]קבוצות רכש'!$A:$B,2,0) -> רוה"מ נסיעות לחו"ל
A76: רוה"מ | B76: משרד ראש הממשלה | C76: משרד ראש הממשלה | D76: 04510110 | E76: פעולות | F76: 4501791032 | G76: שירותי ביקורת ובקרה | H76: 43684 | I76: 44049 | J76: 40005659 | K76: בן דוד שלוי קופ ושות' רואי חשבון (ב | L76: 513464842 | M76: 614250.07 | N76: ILS | O76: 0 | Q76: תקנה 1ב - מכרז פומבי רגיל | R76: לא בוצעה פניה | U76: 0 | V76: לא רגיש | W76: 0.00 | Z76: 0.00 | AB76: 0.00 | AE76: 0.00 | AF76: לא | AG76: =VLOOKUP(F76,[1]הזמנות!$D:$E,2,0) -> G04 | AH76: =VLOOKUP(AG76,'[1]קבוצות רכש'!$A:$B,2,0) -> רוה"מ חוזים,יועצים
A77: רוה"מ | B77: משרד ראש הממשלה | C77: משרד ראש הממשלה | D77: 04510110 | E77: פעולות | F77: 4501795964 | G77: מנוי לעיתון | H77: 43696 | I77: 43830 | J77: 40295695 | K77: עיתון ישראל היום בע"מ | L77: 513942151 | M77: 292.5 | N77: ILS | O77: 0 | Q77: פטור ממכרז | S77: תקנה 3(1) - התקשרות ששוויה אינה עולה על 50,000 ש"ח | U77: 0 | V77: לא רגיש | W77: 0.00 | Z77: 0.00 | AB77: 0.00 | AE77: 0.00 | AF77: לא | AG77: =VLOOKUP(F77,[1]הזמנות!$D:$E,2,0) -> G02 | AH77: =VLOOKUP(AG77,'[1]קבוצות רכש'!$A:$B,2,0) -> רוה"מ יחידת רכש
A78: רוה"מ | B78: משרד ראש הממשלה | C78: משרד ראש הממשלה | D78: 04510110 | E78: פעולות | F78: 4501800690 | G78: כיבודים לפורום | H78: 43710 | I78: 43830 | J78: 40242807 | K78: מעדני אורי ובניו בע"מ | L78: 511635799 | M78: 1138.41 | N78: ILS | O78: 0 | Q78: פטור ממכרז | S78: תקנה 3(1) - התקשרות ששוויה אינה עולה על 50,000 ש"ח | U78: 0 | V78: לא רגיש | W78: 0.00 | Z78: 0.00 | AB78: 0.00 | AE78: 0.00 | AF78: לא | AG78: =VLOOKUP(F78,[1]הזמנות!$D:$E,2,0) -> G02 | AH78: =VLOOKUP(AG78,'[1]קבוצות רכש'!$A:$B,2,0) -> רוה"מ יחידת רכש
A79: רוה"מ | B79: משרד ראש הממשלה | C79: משרד ראש הממשלה | D79: 04510110 | E79: פעולות | F79: 4501802474 | G79: נסיעות חול | H79: 43713 | J79: 41003244 | K79: משרד סוכנות/האוצר נסיעות ממשלתית | L79: 500107321 | M79: 4404.58 | N79: ILS | O79: 4201.92 | P79: ILS | Q79: התקשרות עם גופים ממשלתיים | U79: 0 | V79: לא רגיש | W79: 0.00 | Z79: 0.00 | AB79: 0.00 | AE79: 0.00 | AF79: לא | AG79: =VLOOKUP(F79,[1]הזמנות!$D:$E,2,0) -> G03 | AH79: =VLOOKUP(AG79,'[1]קבוצות רכש'!$A:$B,2,0) -> רוה"מ נסיעות לחו"ל
A80: רוה"מ | B80: משרד ראש הממשלה | C80: משרד ראש הממשלה | D80: 04510110 | E80: פעולות | F80: 4501804119 | G80: מיזם משותף - סטודנטים מהפריפריה | H80: 43718 | I80: 44076 | J80: 40000431 | K80: איסף - הקרן הבין-לאומית לחינוך | L80: 580074888 | M80: 2557808 | N80: ILS | O80: 1890982.6 | P80: ILS | Q80: פטור ממכרז | R80: 620882 | S80: תקנה 3(30) - מיזם משותף | U80: 987088.19 | V80: לא רגיש | W80: 0.00 | Z80: 0.00 | AB80: 0.00 | AE80: 0.00 | AF80: לא | AG80: =VLOOKUP(F80,[1]הזמנות!$D:$E,2,0) -> G04 | AH80: =VLOOKUP(AG80,'[1]קבוצות רכש'!$A:$B,2,0) -> רוה"מ חוזים,יועצים
A81: רוה"מ | B81: משרד ראש הממשלה | C81: משרד ראש הממשלה | D81: 04510110 | E81: פעולות | F81: 4501804561 | G81: הזמנת כיבוד- ישיבת מנהל עתודות לישראל | H81: 43719 | I81: 44196 | J81: 40242875 | K81: איכות קייטרינג שולץ 1997 בע"מ | L81: 512570649 | M81: 346.14 | N81: ILS | O81: 0 | Q81: פטור ממכרז | S81: תקנה 3(1) - התקשרות ששוויה אינה עולה על 50,000 ש"ח | U81: 0 | V81: לא רגיש | W81: 0.00 | Z81: 0.00 | AB81: 0.00 | AE81: 0.00 | AF81: לא | AG81: =VLOOKUP(F81,[1]הזמנות!$D:$E,2,0) -> G02 | AH81: =VLOOKUP(AG81,'[1]קבוצות רכש'!$A:$B,2,0) -> רוה"מ יחידת רכש
A82: רוה"מ | B82: משרד ראש הממשלה | C82: משרד ראש הממשלה | D82: 04510110 | E82: פעולות | F82: 4501806385 | G82: הזמנת רול אפ | H82: 43724 | I82: 43830 | J82: 40374201 | K82: גרפצ'יק בע"מ | L82: 513868620 | M82: 250.01 | N82: ILS | O82: 250.01 | P82: ILS | Q82: פטור ממכרז | S82: תקנה 3(1) - התקשרות ששוויה אינה עולה על 50,000 ש"ח | U82: 0 | V82: לא רגיש | W82: 0.00 | Z82: 0.00 | AB82: 0.00 | AE82: 0.00 | AF82: לא | AG82: =VLOOKUP(F82,[1]הזמנות!$D:$E,2,0) -> G02 | AH82: =VLOOKUP(AG82,'[1]קבוצות רכש'!$A:$B,2,0) -> רוה"מ יחידת רכש
A83: רוה"מ | B83: משרד ראש הממשלה | C83: משרד ראש הממשלה | D83: 04510110 | E83: פעולות | F83: 4501806548 | G83: הנצחת רחבעם זאבי | H83: 43724 | I83: 44819 | J83: 20000232 | K83: מ. א. שומרון | L83: 500273727 | M83: 23499598 | N83: ILS | O83: 277403 | P83: ILS | Q83: פטור ממכרז | R83: 614587 | S83: תקנה 3(16) - רשות מקומית | U83: 277403 | V83: לא רגיש | W83: 0.00 | Z83: 0.00 | AB83: 0.00 | AE83: 0.00 | AF83: לא | AG83: =VLOOKUP(F83,[1]הזמנות!$D:$E,2,0) -> G04 | AH83: =VLOOKUP(AG83,'[1]קבוצות רכש'!$A:$B,2,0) -> רוה"מ חוזים,יועצים
A84: רוה"מ | B84: משרד ראש הממשלה | C84: משרד ראש הממשלה | D84: 04510110 | E84: פעולות | F84: 4501807136 | G84: נסיעות חול | H84: 43726 | J84: 41003244 | K84: משרד סוכנות/האוצר נסיעות ממשלתית | L84: 500107321 | M84: 1531.95 | N84: ILS | O84: 48.69 | P84: ILS | Q84: התקשרות עם גופים ממשלתיים | U84: 0 | V84: לא רגיש | W84: 0.00 | Z84: 0.00 | AB84: 0.00 | AE84: 0.00 | AF84: לא | AG84: =VLOOKUP(F84,[1]הזמנות!$D:$E,2,0) -> G03 | AH84: =VLOOKUP(AG84,'[1]קבוצות רכש'!$A:$B,2,0) -> רוה"מ נסיעות לחו"ל
A85: רוה"מ | B85: משרד ראש הממשלה | C85: משרד ראש הממשלה | D85: 04510110 | E85: פעולות | F85: 4501807184 | G85: שירותי הגברה | H85: 43726 | I85: 44092 | J85: 40207218 | K85: ספידי קול בע"מ | L85: 512828310 | M85: 291499.69 | N85: ILS | O85: 253404.45 | P85: ILS | Q85: פטור ממכרז | R85: 639297 | S85: תקנה 3ג - מימוש זכות ברירה | U85: 165157.2 | V85: לא רגיש | W85: 0.00 | Z85: 0.00 | AB85: 0.00 | AE85: 0.00 | AF85: לא | AG85: =VLOOKUP(F85,[1]הזמנות!$D:$E,2,0) -> G04 | AH85: =VLOOKUP(AG85,'[1]קבוצות רכש'!$A:$B,2,0) -> רוה"מ חוזים,יועצים
A86: רוה"מ | B86: משרד ראש הממשלה | C86: משרד ראש הממשלה | D86: 04510110 | E86: פעולות | F86: 4501811959 | G86: שירותי מחקר | H86: 43741 | I86: 43860 | J86: 40125265 | K86: איי.וי.סי - ריסרצ' סנטר בע"מ | L86: 512765314 | M86: 25000 | N86: ILS | O86: 0 | P86: ILS | Q86: פטור ממכרז | R86: אין פניה במנוף | S86: תקנה 3(1) - התקשרות ששוויה אינה עולה על 50,000 ש"ח | U86: 0 | V86: לא רגיש | W86: 0.00 | Z86: 0.00 | AB86: 0.00 | AE86: 0.00 | AF86: לא | AG86: =VLOOKUP(F86,[1]הזמנות!$D:$E,2,0) -> G04 | AH86: =VLOOKUP(AG86,'[1]קבוצות רכש'!$A:$B,2,0) -> רוה"מ חוזים,יועצים
A87: רוה"מ | B87: משרד ראש הממשלה | C87: משרד ראש הממשלה | D87: 04510110 | E87: פעולות | F87: 4501821812 | G87: כיבוד+משלוח | H87: 43774 | I87: 43830 | J87: 40268465 | K87: מתוקה - מזון ואירוח בע"מ | L87: 512785205 | M87: 694.3 | N87: ILS | O87: 694.3 | P87: ILS | Q87: פטור ממכרז | S87: תקנה 3(1) - התקשרות ששוויה אינה עולה על 50,000 ש"ח | U87: 0 | V87: לא רגיש | W87: 0.00 | Z87: 0.00 | AB87: 0.00 | AE87: 0.00 | AF87: לא | AG87: =VLOOKUP(F87,[1]הזמנות!$D:$E,2,0) -> G02 | AH87: =VLOOKUP(AG87,'[1]קבוצות רכש'!$A:$B,2,0) -> רוה"מ יחידת רכש
A88: רוה"מ | B88: משרד ראש הממשלה | C88: משרד ראש הממשלה | D88: 04510110 | E88: פעולות | F88: 4501829369 | G88: שירותי כ"א | H88: 43788 | I88: 44196 | J88: 40003644 | K88: אס. קיו. לינק בע"מ | L88: 512042045 | M88: 636573.6 | N88: ILS | O88: 308099.83 | P88: ILS | Q88: תקנה 14ב - מכרז מרכזי | R88: 537977 | U88: 151155.71 | V88: לא רגיש | W88: 0.00 | Z88: 0.00 | AB88: 0.00 | AE88: 0.00 | AF88: לא | AG88: =VLOOKUP(F88,[1]הזמנות!$D:$E,2,0) -> G06 | AH88: =VLOOKUP(AG88,'[1]קבוצות רכש'!$A:$B,2,0) -> רוה"מ טכנו' והמידע
A89: רוה"מ | B89: משרד ראש הממשלה | C89: משרד ראש הממשלה | D89: 04510110 | E89: פעולות | F89: 4501829527 | G89: שירותי כ"א | H89: 43788 | I89: 44196 | J89: 40001205 | K89: מטריקס אי. טי. מערכות מידע מתקדמות | L89: 511171662 | M89: 297648 | N89: ILS | O89: 137994.57 | P89: ILS | Q89: תקנה 14ב - מכרז מרכזי | R89: 537977 | U89: 95672.75 | V89: לא רגיש | W89: 0.00 | Z89: 0.00 | AB89: 0.00 | AE89: 0.00 | AF89: לא | AG89: =VLOOKUP(F89,[1]הזמנות!$D:$E,2,0) -> G06 | AH89: =VLOOKUP(AG89,'[1]קבוצות רכש'!$A:$B,2,0) -> רוה"מ טכנו' והמידע
A90: רוה"מ | B90: משרד ראש הממשלה | C90: משרד ראש הממשלה | D90: 04510110 | E90: פעולות | F90: 4501833109 | G90: נסיעות חול | H90: 43795 | J90: 41003244 | K90: משרד סוכנות/האוצר נסיעות ממשלתית | L90: 500107321 | M90: 2359.8 | N90: ILS | O90: 2359.8 | P90: ILS | Q90: התקשרות עם גופים ממשלתיים | U90: 0 | V90: לא רגיש | W90: 0.00 | Z90: 0.00 | AB90: 0.00 | AE90: 0.00 | AF90: לא | AG90: =VLOOKUP(F90,[1]הזמנות!$D:$E,2,0) -> G03 | AH90: =VLOOKUP(AG90,'[1]קבוצות רכש'!$A:$B,2,0) -> רוה"מ נסיעות לחו"ל
A91: רוה"מ | B91: משרד ראש הממשלה | C91: משרד ראש הממשלה | D91: 04510110 | E91: פעולות | F91: 4501836291 | G91: עבודות דפוס | H91: 43801 | I91: 44196 | J91: 40374201 | K91: גרפצ'יק בע"מ | L91: 513868620 | M91: 4940.02 | N91: ILS | O91: 3739.6 | P91: ILS | Q91: פטור ממכרז | S91: תקנה 3(1) - התקשרות ששוויה אינה עולה על 50,000 ש"ח | U91: 3739.6 | V91: לא רגיש | W91: 0.00 | Z91: 0.00 | AB91: 0.00 | AE91: 0.00 | AF91: לא | AG91: =VLOOKUP(F91,[1]הזמנות!$D:$E,2,0) -> G02 | AH91: =VLOOKUP(AG91,'[1]קבוצות רכש'!$A:$B,2,0) -> רוה"מ יחידת רכש
A92: רוה"מ | B92: משרד ראש הממשלה | C92: משרד ראש הממשלה | D92: 04510110 | E92: פעולות | F92: 4501836871 | G92: שרותי ייעוץ | H92: 43802 | I92: 44196 | J92: 40528880 | K92: אסטרטגיות משא ומתן בע"מ | L92: 514652049 | M92: 4464.72 | N92: ILS | O92: 0 | Q92: פטור ממכרז | S92: תקנה 3(1) - התקשרות ששוויה אינה עולה על 50,000 ש"ח | U92: 0 | V92: לא רגיש | W92: 0.00 | Z92: 0.00 | AB92: 0.00 | AE92: 0.00 | AF92: לא | AG92: =VLOOKUP(F92,[1]הזמנות!$D:$E,2,0) -> G02 | AH92: =VLOOKUP(AG92,'[1]קבוצות רכש'!$A:$B,2,0) -> רוה"מ יחידת רכש
A93: רוה"מ | B93: משרד ראש הממשלה | C93: משרד ראש הממשלה | D93: 04510110 | E93: פעולות | F93: 4501838205 | G93: שירותי יעוץ | H93: 43803 | I93: 44012 | J93: 40207164 | K93: התנועה הקיבוצית - נכסי תרבות בע"מ ( | L93: 510628647 | M93: 16000 | N93: ILS | O93: 16000 | P93: ILS | Q93: פטור ממכרז | R93: 641102 | S93: תקנה 3(4)(ב)(1) - התקשרות המשך באישור ועדת מכרזים משרדית | U93: 16000 | V93: לא רגיש | W93: 0.00 | Z93: 0.00 | AB93: 0.00 | AE93: 0.00 | AF93: לא | AG93: =VLOOKUP(F93,[1]הזמנות!$D:$E,2,0) -> G04 | AH93: =VLOOKUP(AG93,'[1]קבוצות רכש'!$A:$B,2,0) -> רוה"מ חוזים,יועצים
A94: רוה"מ | B94: משרד ראש הממשלה | C94: משרד ראש הממשלה | D94: 04510110 | E94: פעולות | F94: 4501838230 | G94: תרגום לשפה הערבית | H94: 43803 | I94: 44076 | J94: 41344031 | K94: איי.בי.סי מילה תרגומים בע"מ | L94: 515264869 | M94: 82087.2 | N94: ILS | O94: 13599.8 | P94: ILS | Q94: פטור ממכרז | R94: 638723 | S94: תקנה 3ג - מימוש זכות ברירה | U94: 10876.32 | V94: לא רגיש | W94: 0.00 | Z94: 0.00 | AB94: 0.00 | AE94: 0.00 | AF94: לא | AG94: =VLOOKUP(F94,[1]הזמנות!$D:$E,2,0) -> G04 | AH94: =VLOOKUP(AG94,'[1]קבוצות רכש'!$A:$B,2,0) -> רוה"מ חוזים,יועצים
A95: רוה"מ | B95: משרד ראש הממשלה | C95: משרד ראש הממשלה | D95: 04510110 | E95: פעולות | F95: 4501838232 | G95: תרגום לשפה הערבית | H95: 43803 | I95: 43966 | J95: 40005174 | K95: אם. ג'י. אס. פתרונות שפה | L95: 540179223 | M95: 69419.76 | N95: ILS | O95: 0 | Q95: פטור ממכרז | R95: 636179 | S95: תקנה 3ג - מימוש זכות ברירה | U95: 0 | V95: לא רגיש | W95: 0.00 | Z95: 0.00 | AB95: 0.00 | AE95: 0.00 | AF95: לא | AG95: =VLOOKUP(F95,[1]הזמנות!$D:$E,2,0) -> G04 | AH95: =VLOOKUP(AG95,'[1]קבוצות רכש'!$A:$B,2,0) -> רוה"מ חוזים,יועצים
A96: רוה"מ | B96: משרד ראש הממשלה | C96: משרד ראש הממשלה | D96: 04510110 | E96: פעולות | F96: 4501838727 | G96: יעוץ | H96: 43804 | I96: 44135 | J96: 41563845 | K96: ירון בלום בע"מ | L96: 514735653 | M96: 668179.98 | N96: ILS | O96: 351893.88 | P96: ILS | Q96: תקנה 3ג - מימוש זכות ברירה | R96: לא בוצעה פניה | U96: 153396.36 | V96: לא רגיש | W96: 0.00 | Z96: 0.00 | AB96: 0.00 | AE96: 0.00 | AF96: לא | AG96: =VLOOKUP(F96,[1]הזמנות!$D:$E,2,0) -> G04 | AH96: =VLOOKUP(AG96,'[1]קבוצות רכש'!$A:$B,2,0) -> רוה"מ חוזים,יועצים
A97: רוה"מ | B97: משרד ראש הממשלה | C97: משרד ראש הממשלה | D97: 04510110 | E97: פעולות | F97: 4501842738 | G97: תשלומי ארנונה עיריית ירושלים | H97: 43810 | I97: 44196 | J97: 20000159 | K97: עירית ירושלים | L97: 500230008 | M97: 72000 | N97: ILS | O97: 0 | P97: ILS | Q97: התקשרות עם גופים ממשלתיים | U97: 0 | V97: לא רגיש | W97: 0.00 | Z97: 0.00 | AB97: 0.00 | AE97: 0.00 | AF97: לא | AG97: =VLOOKUP(F97,[1]הזמנות!$D:$E,2,0) -> G01 | AH97: =VLOOKUP(AG97,'[1]קבוצות רכש'!$A:$B,2,0) -> הוצאות קשיחות
A98: רוה"מ | B98: משרד ראש הממשלה | C98: משרד ראש הממשלה | D98: 04510110 | E98: פעולות | F98: 4501842917 | G98: כרטיסי טיסה | H98: 43810 | J98: 50000297 | K98: MINISTRY OF FOREIGN AFFAIRS VIA BAN | L98: 500101076 | M98: 6935 | N98: USD | O98: 24488.64 | P98: USD | Q98: התקשרות עם גופים ממשלתיים | U98: 0 | V98: לא רגיש | W98: 0.00 | Z98: 0.00 | AB98: 0.00 | AE98: 0.00 | AF98: לא | AG98: =VLOOKUP(F98,[1]הזמנות!$D:$E,2,0) -> G03 | AH98: =VLOOKUP(AG98,'[1]קבוצות רכש'!$A:$B,2,0) -> רוה"מ נסיעות לחו"ל
A99: רוה"מ | B99: משרד ראש הממשלה | C99: משרד ראש הממשלה | D99: 04510110 | E99: פעולות | F99: 4501851965 | G99: מיזם משותף קרן קרב | H99: 43829 | I99: 44196 | J99: 40442190 | K99: קרב יוזמות בחינוך (ע"ר) | L99: 580415917 | M99: 3000000 | N99: ILS | O99: 0 | Q99: פטור ממכרז | R99: 644776 | S99: תקנה 3(30) - מיזם משותף | U99: 0 | V99: לא רגיש | W99: 0.00 | Z99: 0.00 | AB99: 0.00 | AE99: 0.00 | AF99: לא | AG99: =VLOOKUP(F99,[1]הזמנות!$D:$E,2,0) -> G04 | AH99: =VLOOKUP(AG99,'[1]קבוצות רכש'!$A:$B,2,0) -> רוה"מ חוזים,יועצים
