Workbook

Sheet 2.2019
A1: שם חברה | B1: תאור של ארגון רכש | C1: שם אתר | D1: תקנה תקציבית | E1: תיאור תקנה תקציבית | F1: הזמנת רכש | G1: מטרת התקשרות | H1: תאריך יצירת ההזמנה | I1: סיום תקופת תוקף | J1: קוד ספק | K1: שם הספק | L1: מספר ח"פ | M1: ערך ההזמנה כולל מע"מ | N1: מטבע | O1: ביצוע חשבוניות מצטבר כולל מע"מ והצמדות | P1: מטבע חשבונית | Q1: אופן רכישה מקור | R1: מס' פנייה במנו"ף/מנור" | S1: סיבת פטור | T1: הזמנה רגישה | U1: קבוצת רכש
A2: רוה"מ | B2: משרד ראש הממשלה | C2: משרד ראש הממשלה | D2: 04510110 | E2: פעולות | F2: 4501116804 | G2: הוצאות תפעול | H2: 42306 | J2: 40008865 | K2: עידוד לקליטת אומן עולה (ע"ר) | L2: 580342996 | M2: 3000 | N2: ILS | O2: 3000 | P2: ILS | Q2: פטור ממכרז | S2: תקנה 3(1) - התקשרות ששוויה אינה עולה על 50,000 ש"ח | T2: לא | U2: G02 | V2: רוה"מ יחידת רכש
A3: רוה"מ | B3: משרד ראש הממשלה | C3: משרד ראש הממשלה | D3: 04510110 | E3: פעולות | F3: 4501244458 | G3: תפעול ותחזוקה | H3: 42548 | I3: 44006 | J3: 40005160 | K3: סומך חייקין | L3: 540002383 | M3: 314387.19 | N3: ILS | O3: 0 | Q3: תקנה 14ב - מכרז מרכזי | R3: 528639 | T3: לא | U3: G02 | V3: רוה"מ יחידת רכש
A4: רוה"מ | B4: משרד ראש הממשלה | C4: משרד ראש הממשלה | D4: 04510110 | E4: פעולות | F4: 4501352626 | G4: נסיעות חו"ל | H4: 42764 | J4: 41003244 | K4: משרד סוכנות/האוצר נסיעות ממשלתית | L4: 500107321 | M4: 24185.22 | N4: ILS | O4: 8454.31 | P4: ILS | Q4: אחר | T4: לא | U4: G03 | V4: רוה"מ נסיעות לחו"ל
A5: רוה"מ | B5: משרד ראש הממשלה | C5: משרד ראש הממשלה | D5: 04510110 | E5: פעולות | F5: 4501362178 | G5: הוצאות תפעול | H5: 42780 | I5: 43100 | J5: 40295695 | K5: עיתון ישראל היום בע"מ | L5: 513942151 | M5: 492 | N5: ILS | O5: 0 | Q5: פטור ממכרז | S5: תקנה 3(1) - התקשרות ששוויה אינה עולה על 50,000 ש"ח | T5: לא | U5: G02 | V5: רוה"מ יחידת רכש
A6: רוה"מ | B6: משרד ראש הממשלה | C6: משרד ראש הממשלה | D6: 04510110 | E6: פעולות | F6: 4501379317 | G6: נסיעות חו"ל | H6: 42810 | J6: 50000297 | K6: MINISTRY OF FOREIGN AFFAIRS VIA BAN | L6: 500101076 | M6: 13345 | N6: USD | O6: 34090.29 | P6: USD | Q6: אחר | T6: לא | U6: G03 | V6: רוה"מ נסיעות לחו"ל
A7: רוה"מ | B7: משרד ראש הממשלה | C7: משרד ראש הממשלה | D7: 04510110 | E7: פעולות | F7: 4501395000 | G7: נסיעות חו"ל | H7: 42850 | J7: 50000297 | K7: MINISTRY OF FOREIGN AFFAIRS VIA BAN | L7: 500101076 | M7: 2500 | N7: USD | O7: 0 | Q7: אחר | T7: לא | U7: G03 | V7: רוה"מ נסיעות לחו"ל
A8: רוה"מ | B8: משרד ראש הממשלה | C8: משרד ראש הממשלה | D8: 04510110 | E8: פעולות | F8: 4501395239 | G8: נסיעות חו"ל | H8: 42851 | J8: 50000297 | K8: MINISTRY OF FOREIGN AFFAIRS VIA BAN | L8: 500101076 | M8: 2500 | N8: USD | O8: 0 | Q8: התקשרות עם גופים ממשלתיים | T8: לא | U8: G03 | V8: רוה"מ נסיעות לחו"ל
A9: רוה"מ | B9: משרד ראש הממשלה | C9: משרד ראש הממשלה | D9: 04510110 | E9: פעולות | F9: 4501434899 | G9: שרותי ייעוץ | H9: 42927 | I9: 43291 | J9: 41067902 | K9: ספורטא אקשטין איתי | M9: 26500 | N9: ILS | O9: 0 | Q9: פטור ממכרז | S9: תקנה 3(1) - התקשרות ששוויה אינה עולה על 50,000 ש"ח | T9: לא | U9: G02 | V9: רוה"מ יחידת רכש
A10: רוה"מ | B10: משרד ראש הממשלה | C10: משרד ראש הממשלה | D10: 04510110 | E10: פעולות | F10: 4501436052 | G10: נסיעות חו"ל | H10: 42929 | J10: 41003244 | K10: משרד סוכנות/האוצר נסיעות ממשלתית | L10: 500107321 | M10: 2960 | N10: ILS | O10: 72.06 | P10: ILS | Q10: התקשרות עם גופים ממשלתיים | T10: לא | U10: G03 | V10: רוה"מ נסיעות לחו"ל
A11: רוה"מ | B11: משרד ראש הממשלה | C11: משרד ראש הממשלה | D11: 04510110 | E11: פעולות | F11: 4501449990 | G11: מנוי דיגיטלי לעיתון | H11: 42957 | I11: 43321 | J11: 50004142 | K11: THE NEW YORK TIMES | L11: 000000356 | M11: 98 | N11: USD | O11: 26.17 | P11: USD | Q11: פטור ממכרז | S11: תקנה 3(1) - התקשרות ששוויה אינה עולה על 50,000 ש"ח | T11: לא | U11: G02 | V11: רוה"מ יחידת רכש
A12: רוה"מ | B12: משרד ראש הממשלה | C12: משרד ראש הממשלה | D12: 04510110 | E12: פעולות | F12: 4501449998 | G12: מנוי דיגיטלי לעיתון | H12: 42957 | I12: 43321 | J12: 50046533 | K12: WOLL STREET JAVNA | L12: 4162000 | M12: 348 | N12: USD | O12: 3.51 | P12: USD | Q12: פטור ממכרז | S12: תקנה 3(1) - התקשרות ששוויה אינה עולה על 50,000 ש"ח | T12: לא | U12: G02 | V12: רוה"מ יחידת רכש
A13: רוה"מ | B13: משרד ראש הממשלה | C13: משרד ראש הממשלה | D13: 04510110 | E13: פעולות | F13: 4501450312 | G13: מנוי דיגיטלי לעיתון | H13: 42957 | I13: 43321 | J13: 50046534 | K13: WASHINGTON POST | L13: 3346100 | M13: 99 | N13: USD | O13: 66.75 | P13: USD | Q13: פטור ממכרז | S13: תקנה 3(1) - התקשרות ששוויה אינה עולה על 50,000 ש"ח | T13: לא | U13: G02 | V13: רוה"מ יחידת רכש
A14: רוה"מ | B14: משרד ראש הממשלה | C14: משרד ראש הממשלה | D14: 04510110 | E14: פעולות | F14: 4501462491 | G14: השכרת אולם לצורך כנס צוערים | H14: 42984 | J14: 40140406 | K14: שלוה - האגודה הישראלית לטיפול באנשי | L14: 580173987 | M14: 3000 | N14: ILS | O14: 0 | Q14: פטור ממכרז | S14: תקנה 3(1) - התקשרות ששוויה אינה עולה על 50,000 ש"ח | T14: לא | U14: G02 | V14: רוה"מ יחידת רכש
A15: רוה"מ | B15: משרד ראש הממשלה | C15: משרד ראש הממשלה | D15: 04510110 | E15: פעולות | F15: 4501482424 | G15: תחזוקת הר הרצל | H15: 43033 | I15: 43465 | J15: 40000247 | K15: ההסתדרות הציונית העולמית | L15: 500500350 | M15: 454550 | N15: ILS | O15: 378080.65 | P15: ILS | Q15: פטור ממכרז | R15: 9999 | S15: תקנה 3(19)(א) - הסוכנות היהודית או ההסתדרות הציונית | T15: לא | U15: G01 | V15: הוצאות קשיחות
A16: רוה"מ | B16: משרד ראש הממשלה | C16: משרד ראש הממשלה | D16: 04510110 | E16: פעולות | F16: 4501485976 | G16: הכשרת רחבת הכותל | H16: 43039 | I16: 44002 | J16: 40006929 | K16: רשות העתיקות | L16: 500500491 | M16: 2738664 | N16: ILS | O16: 1163927.5 | P16: ILS | Q16: פטור ממכרז | R16: 599657 | S16: תקנה 3(7) - תאגיד שהוקם בחוק | T16: לא | U16: G02 | V16: רוה"מ יחידת רכש
A17: רוה"מ | B17: משרד ראש הממשלה | C17: משרד ראש הממשלה | D17: 04510110 | E17: פעולות | F17: 4501505566 | G17: שירותי נציגות | H17: 43068 | J17: 50000297 | K17: MINISTRY OF FOREIGN AFFAIRS VIA BAN | L17: 500101076 | M17: 12779.72 | N17: USD | O17: 0 | P17: USD | Q17: התקשרות עם גופים ממשלתיים | T17: לא | U17: G03 | V17: רוה"מ נסיעות לחו"ל
A18: רוה"מ | B18: משרד ראש הממשלה | C18: משרד ראש הממשלה | D18: 04510110 | E18: פעולות | F18: 4501511549 | G18: כתיבת דו"ח | H18: 43076 | I18: 43465 | J18: 40240096 | K18: העמותה לקידום לימודי כלכלה וחברה (ע | L18: 580431237 | M18: 3000 | N18: ILS | O18: 0 | Q18: פטור ממכרז | S18: תקנה 3(1) - התקשרות ששוויה אינה עולה על 50,000 ש"ח | T18: לא | U18: G02 | V18: רוה"מ יחידת רכש
A19: רוה"מ | B19: משרד ראש הממשלה | C19: משרד ראש הממשלה | D19: 04510110 | E19: פעולות | F19: 4501512245 | G19: סדנה למובילי תוכניות עתודה | H19: 43076 | I19: 43465 | J19: 40314150 | K19: קולות בעם (ע"ר) | L19: 580301299 | M19: 2500 | N19: ILS | O19: 0 | Q19: פטור ממכרז | S19: תקנה 3(1) - התקשרות ששוויה אינה עולה על 50,000 ש"ח | T19: לא | U19: G02 | V19: רוה"מ יחידת רכש
A20: רוה"מ | B20: משרד ראש הממשלה | C20: משרד ראש הממשלה | D20: 04510110 | E20: פעולות | F20: 4501528418 | G20: נסיעות חול | H20: 43110 | J20: 41003244 | K20: משרד סוכנות/האוצר נסיעות ממשלתית | L20: 500107321 | M20: 3048.42 | N20: ILS | O20: 3048.42 | P20: ILS | Q20: התקשרות עם גופים ממשלתיים | T20: לא | U20: G03 | V20: רוה"מ נסיעות לחו"ל
A21: רוה"מ | B21: משרד ראש הממשלה | C21: משרד ראש הממשלה | D21: 04510110 | E21: פעולות | F21: 4501550025 | G21: נסיעות חו"ל | H21: 43145 | J21: 41003244 | K21: משרד סוכנות/האוצר נסיעות ממשלתית | L21: 500107321 | M21: 3734.79 | N21: ILS | O21: 3732.32 | P21: ILS | Q21: התקשרות עם גופים ממשלתיים | T21: לא | U21: G03 | V21: רוה"מ נסיעות לחו"ל
A22: רוה"מ | B22: משרד ראש הממשלה | C22: משרד ראש הממשלה | D22: 04510110 | E22: פעולות | F22: 4501555636 | G22: שרותי ניהול ותחזוקה קשת רובינסון | H22: 43157 | I22: 43510 | J22: 40003388 | K22: שיקום ולפתוח הרובע היהודי בעיר העתי | L22: 520028127 | M22: 2093397.9 | N22: ILS | O22: 1822870.5 | P22: ILS | Q22: פטור ממכרז | R22: 611493 | S22: תקנה 3(28) - נסיבות מיוחדות | T22: לא | U22: G02 | V22: רוה"מ יחידת רכש
A23: רוה"מ | B23: משרד ראש הממשלה | C23: משרד ראש הממשלה | D23: 04510110 | E23: פעולות | F23: 4501584394 | G23: נסיעות חו"ל | H23: 43226 | J23: 41003244 | K23: משרד סוכנות/האוצר נסיעות ממשלתית | L23: 500107321 | M23: 7288.5 | N23: ILS | O23: 7270.4 | P23: ILS | Q23: התקשרות עם גופים ממשלתיים | T23: לא | U23: G03 | V23: רוה"מ נסיעות לחו"ל
A24: רוה"מ | B24: משרד ראש הממשלה | C24: משרד ראש הממשלה | D24: 04510110 | E24: פעולות | F24: 4501584430 | G24: נסיעות חו"ל | H24: 43226 | J24: 41003244 | K24: משרד סוכנות/האוצר נסיעות ממשלתית | L24: 500107321 | M24: 3371.2 | N24: ILS | O24: 3367.73 | P24: ILS | Q24: התקשרות עם גופים ממשלתיים | T24: לא | U24: G03 | V24: רוה"מ נסיעות לחו"ל
A25: רוה"מ | B25: משרד ראש הממשלה | C25: משרד ראש הממשלה | D25: 04510110 | E25: פעולות | F25: 4501584523 | G25: נסיעות חו"ל | H25: 43226 | J25: 41003244 | K25: משרד סוכנות/האוצר נסיעות ממשלתית | L25: 500107321 | M25: 10967.4 | N25: ILS | O25: 10836.82 | P25: ILS | Q25: התקשרות עם גופים ממשלתיים | T25: לא | U25: G03 | V25: רוה"מ נסיעות לחו"ל
A26: רוה"מ | B26: משרד ראש הממשלה | C26: משרד ראש הממשלה | D26: 04510110 | E26: פעולות | F26: 4501584548 | G26: נסיעות חו"ל | H26: 43226 | J26: 41003244 | K26: משרד סוכנות/האוצר נסיעות ממשלתית | L26: 500107321 | M26: 8816 | N26: ILS | O26: 8672.69 | P26: ILS | Q26: התקשרות עם גופים ממשלתיים | T26: לא | U26: G03 | V26: רוה"מ נסיעות לחו"ל
A27: רוה"מ | B27: משרד ראש הממשלה | C27: משרד ראש הממשלה | D27: 04510110 | E27: פעולות | F27: 4501590909 | G27: נסיעות חו"ל | H27: 43241 | J27: 41003244 | K27: משרד סוכנות/האוצר נסיעות ממשלתית | L27: 500107321 | M27: 18015.72 | N27: ILS | O27: 18015.72 | P27: ILS | Q27: התקשרות עם גופים ממשלתיים | T27: לא | U27: G03 | V27: רוה"מ נסיעות לחו"ל
A28: רוה"מ | B28: משרד ראש הממשלה | C28: משרד ראש הממשלה | D28: 04510110 | E28: פעולות | F28: 4501591749 | G28: דמי מנוי לעיתון | H28: 43242 | I28: 43465 | J28: 40001037 | K28: הוצאת עתון הארץ בע"מ | L28: 510015449 | M28: 1575 | N28: ILS | O28: 0 | Q28: פטור ממכרז | S28: תקנה 3(1) - התקשרות ששוויה אינה עולה על 50,000 ש"ח | T28: לא | U28: G02 | V28: רוה"מ יחידת רכש
A29: רוה"מ | B29: משרד ראש הממשלה | C29: משרד ראש הממשלה | D29: 04510110 | E29: פעולות | F29: 4501593074 | G29: נסיעות חו"ל | H29: 43244 | J29: 41003244 | K29: משרד סוכנות/האוצר נסיעות ממשלתית | L29: 500107321 | M29: 15148 | N29: ILS | O29: 9416.35 | P29: ILS | Q29: התקשרות עם גופים ממשלתיים | T29: לא | U29: G03 | V29: רוה"מ נסיעות לחו"ל
A30: רוה"מ | B30: משרד ראש הממשלה | C30: משרד ראש הממשלה | D30: 04510110 | E30: פעולות | F30: 4501648131 | G30: נסיעות לחו"ל | H30: 43383 | I30: 43830 | J30: 50000297 | K30: MINISTRY OF FOREIGN AFFAIRS VIA BAN | L30: 500101076 | M30: 4025 | N30: USD | O30: 0 | Q30: התקשרות עם גופים ממשלתיים | T30: לא | U30: G03 | V30: רוה"מ נסיעות לחו"ל
A31: רוה"מ | B31: משרד ראש הממשלה | C31: משרד ראש הממשלה | D31: 04510110 | E31: פעולות | F31: 4501648964 | G31: דמי מנוי לעיתון | H31: 43387 | I31: 43830 | J31: 40011446 | K31: ידיעות מינויים | L31: 540181054 | M31: 900 | N31: ILS | O31: 820.8 | P31: ILS | Q31: פטור ממכרז | S31: תקנה 3(1) - התקשרות ששוויה אינה עולה על 50,000 ש"ח | T31: לא | U31: G02 | V31: רוה"מ יחידת רכש
A32: רוה"מ | B32: משרד ראש הממשלה | C32: משרד ראש הממשלה | D32: 04510110 | E32: פעולות | F32: 4501649015 | G32: שרותי ייעוץ | H32: 43387 | I32: 43699 | J32: 40314838 | K32: בריטמן אלמגור זוהר | L32: 557934692 | M32: 153590.58 | N32: ILS | O32: 76473.99 | P32: ILS | Q32: תקנה 3ג - מימוש זכות ברירה | T32: לא | U32: G02 | V32: רוה"מ יחידת רכש
A33: רוה"מ | B33: משרד ראש הממשלה | C33: משרד ראש הממשלה | D33: 04510110 | E33: פעולות | F33: 4501680634 | G33: נסיעת חול | H33: 43444 | J33: 41003244 | K33: משרד סוכנות/האוצר נסיעות ממשלתית | L33: 500107321 | M33: 16698 | N33: ILS | O33: 16626.39 | P33: ILS | Q33: התקשרות עם גופים ממשלתיים | T33: לא | U33: G03 | V33: רוה"מ נסיעות לחו"ל
A34: רוה"מ | B34: משרד ראש הממשלה | C34: משרד ראש הממשלה | D34: 04510110 | E34: פעולות | F34: 4501680668 | G34: נסיעת חול | H34: 43444 | J34: 41003244 | K34: משרד סוכנות/האוצר נסיעות ממשלתית | L34: 500107321 | M34: 9106.98 | N34: ILS | O34: 9067.01 | P34: ILS | Q34: התקשרות עם גופים ממשלתיים | T34: לא | U34: G03 | V34: רוה"מ נסיעות לחו"ל
A35: רוה"מ | B35: משרד ראש הממשלה | C35: משרד ראש הממשלה | D35: 04510110 | E35: פעולות | F35: 4501681989 | G35: דמי מנוי לעיתון | H35: 43446 | I35: 43830 | J35: 40176979 | K35: סטימצקי (2005) בע"מ | L35: 513742320 | M35: 2703.19 | N35: ILS | O35: 256.57 | P35: ILS | Q35: פטור ממכרז | S35: תקנה 3(1) - התקשרות ששוויה אינה עולה על 50,000 ש"ח | T35: לא | U35: G02 | V35: רוה"מ יחידת רכש
A36: רוה"מ | B36: משרד ראש הממשלה | C36: משרד ראש הממשלה | D36: 04510110 | E36: פעולות | F36: 4501682210 | G36: דמי מנוי לעיתון | H36: 43446 | I36: 43830 | J36: 40001037 | K36: הוצאת עתון הארץ בע"מ | L36: 510015449 | M36: 13782.99 | N36: ILS | O36: 11080.99 | P36: ILS | Q36: פטור ממכרז | S36: תקנה 3(1) - התקשרות ששוויה אינה עולה על 50,000 ש"ח | T36: לא | U36: G02 | V36: רוה"מ יחידת רכש
A37: רוה"מ | B37: משרד ראש הממשלה | C37: משרד ראש הממשלה | D37: 04510110 | E37: פעולות | F37: 4501689561 | G37: שרותי ייעוץ | H37: 43460 | I37: 43727 | J37: 40397632 | K37: מטריקס אי. טי. בע"מ | L37: 520039413 | M37: 120802.5 | N37: ILS | O37: 0 | Q37: פטור ממכרז | S37: תקנה 3(1) - התקשרות ששוויה אינה עולה על 50,000 ש"ח | T37: לא | U37: G02 | V37: רוה"מ יחידת רכש
A38: רוה"מ | B38: משרד ראש הממשלה | C38: משרד ראש הממשלה | D38: 04510110 | E38: פעולות | F38: 4501691064 | G38: יום עיון | H38: 43464 | I38: 43830 | J38: 41575887 | K38: שלוה מיזמי שילוב ותעסוקה בע"מ | L38: 515754364 | M38: 5000 | N38: ILS | O38: 0 | Q38: פטור ממכרז | S38: תקנה 3(1) - התקשרות ששוויה אינה עולה על 50,000 ש"ח | T38: לא | U38: G02 | V38: רוה"מ יחידת רכש
A39: רוה"מ | B39: משרד ראש הממשלה | C39: משרד ראש הממשלה | D39: 04510110 | E39: פעולות | F39: 4501691358 | G39: סדנה | H39: 43468 | I39: 43830 | J39: 41458518 | K39: דלויט אנליטיקס | L39: 540256195 | M39: 46800 | N39: ILS | O39: 38025 | P39: ILS | Q39: פטור ממכרז | S39: תקנה 3(1) - התקשרות ששוויה אינה עולה על 50,000 ש"ח | T39: לא | U39: G02 | V39: רוה"מ יחידת רכש
A40: רוה"מ | B40: משרד ראש הממשלה | C40: משרד ראש הממשלה | D40: 04510110 | E40: פעולות | F40: 4501692585 | G40: שירותי יעוץ להטמעת תרבות תכנון | H40: 43468 | I40: 43699 | J40: 40314838 | K40: בריטמן אלמגור זוהר | L40: 557934692 | M40: 70398.9 | N40: ILS | O40: 70398.9 | P40: ILS | Q40: פטור ממכרז | R40: 627982 | S40: תקנה 3ג - מימוש זכות ברירה | T40: לא | U40: G04 | V40: רוה"מ חוזים,יועצים
...

Sheet 3.2019
A1: שם חברה | B1: תאור של ארגון רכש | C1: שם אתר | D1: תקנה תקציבית | E1: תיאור תקנה תקציבית | F1: הזמנת רכש | G1: מטרת התקשרות | H1: תאריך יצירת ההזמנה | I1: סיום תקופת תוקף | J1: קוד ספק | K1: שם הספק | L1: מספר ח"פ | M1: ערך ההזמנה כולל מע"מ | N1: מטבע | O1: ביצוע חשבוניות מצטבר כולל מע"מ והצמדות | P1: מטבע חשבונית | Q1: אופן רכישה מקור | R1: מס' פנייה במנו"ף/מנור" | S1: סיבת פטור | T1: הזמנה רגישה | U1: קבוצת רכש
A2: רוה"מ | B2: משרד ראש הממשלה | C2: משרד ראש הממשלה | D2: 04510110 | E2: פעולות | F2: 4501802474 | G2: נסיעות חול | H2: 43713 | J2: 41003244 | K2: משרד סוכנות/האוצר נסיעות ממשלתית | L2: 500107321 | M2: 4404.58 | N2: ILS | O2: 71.58 | P2: ILS | Q2: התקשרות עם גופים ממשלתיים | T2: לא | U2: G03 | V2: רוה"מ נסיעות לחו"ל
A3: רוה"מ | B3: משרד ראש הממשלה | C3: משרד ראש הממשלה | D3: 04510110 | E3: פעולות | F3: 4501535833 | G3: ארוחת ערב | H3: 43121 | I3: 43465 | J3: 41373588 | K3: מוסקוביץ הלן | L3: 313776064 | M3: 4244.55 | N3: ILS | O3: 2462.8 | P3: ILS | Q3: פטור ממכרז | S3: תקנה 3(1) - התקשרות ששוויה אינה עולה על 50,000 ש"ח | T3: לא | U3: G02 | V3: רוה"מ יחידת רכש
A4: רוה"מ | B4: משרד ראש הממשלה | C4: משרד ראש הממשלה | D4: 04510110 | E4: פעולות | F4: 4501686344 | G4: ארוחת צהריים במסגרת פגישה | H4: 43453 | I4: 43830 | J4: 40461029 | K4: פשם חוצות בע"מ | L4: 513754309 | M4: 594.92 | N4: ILS | O4: 382.45 | P4: ILS | Q4: פטור ממכרז | S4: תקנה 3(1) - התקשרות ששוויה אינה עולה על 50,000 ש"ח | T4: לא | U4: G02 | V4: רוה"מ יחידת רכש
A5: רוה"מ | B5: משרד ראש הממשלה | C5: משרד ראש הממשלה | D5: 04510110 | E5: פעולות | F5: 4501779074 | G5: ביצוע מחקר | H5: 43656 | I5: 44356 | J5: 50001954 | K5: oecd/CEMT | L5: R3605/03711/4612 | M5: 120000 | N5: EUR | O5: 234594 | P5: EUR | Q5: פטור ממכרז | R5: לא בוצעה פניה | S5: תקנה 3(31) - התקשרות עם תושב חוץ | T5: לא | U5: G04 | V5: רוה"מ חוזים,יועצים
A6: רוה"מ | B6: משרד ראש הממשלה | C6: משרד ראש הממשלה | D6: 04510110 | E6: פעולות | F6: 4501701457 | G6: דמי מנוי דיגיטלי | H6: 43485 | I6: 43830 | J6: 40001037 | K6: הוצאת עתון הארץ בע"מ | L6: 510015449 | M6: 377.33 | N6: ILS | O6: 312.8 | P6: ILS | Q6: פטור ממכרז | S6: תקנה 3(1) - התקשרות ששוויה אינה עולה על 50,000 ש"ח | T6: לא | U6: G02 | V6: רוה"מ יחידת רכש
A7: רוה"מ | B7: משרד ראש הממשלה | C7: משרד ראש הממשלה | D7: 04510110 | E7: פעולות | F7: 4501591749 | G7: דמי מנוי לעיתון | H7: 43242 | I7: 43465 | J7: 40001037 | K7: הוצאת עתון הארץ בע"מ | L7: 510015449 | M7: 1575 | N7: ILS | O7: 0 | Q7: פטור ממכרז | S7: תקנה 3(1) - התקשרות ששוויה אינה עולה על 50,000 ש"ח | T7: לא | U7: G02 | V7: רוה"מ יחידת רכש
A8: רוה"מ | B8: משרד ראש הממשלה | C8: משרד ראש הממשלה | D8: 04510110 | E8: פעולות | F8: 4501648964 | G8: דמי מנוי לעיתון | H8: 43387 | I8: 43830 | J8: 40011446 | K8: ידיעות מינויים | L8: 540181054 | M8: 900 | N8: ILS | O8: 820.8 | P8: ILS | Q8: פטור ממכרז | S8: תקנה 3(1) - התקשרות ששוויה אינה עולה על 50,000 ש"ח | T8: לא | U8: G02 | V8: רוה"מ יחידת רכש
A9: רוה"מ | B9: משרד ראש הממשלה | C9: משרד ראש הממשלה | D9: 04510110 | E9: פעולות | F9: 4501681989 | G9: דמי מנוי לעיתון | H9: 43446 | I9: 43830 | J9: 40176979 | K9: סטימצקי (2005) בע"מ | L9: 513742320 | M9: 2703.19 | N9: ILS | O9: 2206.81 | P9: ILS | Q9: פטור ממכרז | S9: תקנה 3(1) - התקשרות ששוויה אינה עולה על 50,000 ש"ח | T9: לא | U9: G02 | V9: רוה"מ יחידת רכש
A10: רוה"מ | B10: משרד ראש הממשלה | C10: משרד ראש הממשלה | D10: 04510110 | E10: פעולות | F10: 4501681959 | G10: דמי מנוי לעיתון | H10: 43446 | I10: 43830 | J10: 40295695 | K10: עיתון ישראל היום בע"מ | L10: 513942151 | M10: 2339.97 | N10: ILS | O10: 2256.38 | P10: ILS | Q10: פטור ממכרז | S10: תקנה 3(1) - התקשרות ששוויה אינה עולה על 50,000 ש"ח | T10: לא | U10: G02 | V10: רוה"מ יחידת רכש
A11: רוה"מ | B11: משרד ראש הממשלה | C11: משרד ראש הממשלה | D11: 04510110 | E11: פעולות | F11: 4501518987 | G11: דמי מנוי לעיתון | H11: 43089 | I11: 43465 | J11: 40011446 | K11: ידיעות מינויים | L11: 540181054 | M11: 10558.08 | N11: ILS | O11: 8871.26 | P11: ILS | Q11: פטור ממכרז | S11: תקנה 3(1) - התקשרות ששוויה אינה עולה על 50,000 ש"ח | T11: לא | U11: G02 | V11: רוה"מ יחידת רכש
A12: רוה"מ | B12: משרד ראש הממשלה | C12: משרד ראש הממשלה | D12: 04510110 | E12: פעולות | F12: 4501519085 | G12: דמי מנוי לעיתון | H12: 43089 | I12: 43465 | J12: 40001158 | K12: גלובס פבלישר עתונות (1983) בע"מ | L12: 510989940 | M12: 4577.04 | N12: ILS | O12: 0 | P12: ILS | Q12: פטור ממכרז | S12: תקנה 3(1) - התקשרות ששוויה אינה עולה על 50,000 ש"ח | T12: לא | U12: G02 | V12: רוה"מ יחידת רכש
A13: רוה"מ | B13: משרד ראש הממשלה | C13: משרד ראש הממשלה | D13: 04510110 | E13: פעולות | F13: 4501519264 | G13: דמי מנוי לעיתון | H13: 43089 | I13: 43465 | J13: 40176979 | K13: סטימצקי (2005) בע"מ | L13: 513742320 | M13: 1123.1 | N13: ILS | O13: 1015.12 | P13: ILS | Q13: פטור ממכרז | S13: תקנה 3(1) - התקשרות ששוויה אינה עולה על 50,000 ש"ח | T13: לא | U13: G02 | V13: רוה"מ יחידת רכש
A14: רוה"מ | B14: משרד ראש הממשלה | C14: משרד ראש הממשלה | D14: 04510110 | E14: פעולות | F14: 4501632390 | G14: דמי מנוי לעיתון | H14: 43328 | I14: 43465 | J14: 40176979 | K14: סטימצקי (2005) בע"מ | L14: 513742320 | M14: 735.15 | N14: ILS | O14: 0 | Q14: פטור ממכרז | S14: תקנה 3(1) - התקשרות ששוויה אינה עולה על 50,000 ש"ח | T14: לא | U14: G02 | V14: רוה"מ יחידת רכש
A15: רוה"מ | B15: משרד ראש הממשלה | C15: משרד ראש הממשלה | D15: 04510110 | E15: פעולות | F15: 4501682210 | G15: דמי מנוי לעיתון | H15: 43446 | I15: 43830 | J15: 40001037 | K15: הוצאת עתון הארץ בע"מ | L15: 510015449 | M15: 13509.99 | N15: ILS | O15: 10807.99 | P15: ILS | Q15: פטור ממכרז | S15: תקנה 3(1) - התקשרות ששוויה אינה עולה על 50,000 ש"ח | T15: לא | U15: G02 | V15: רוה"מ יחידת רכש
A16: רוה"מ | B16: משרד ראש הממשלה | C16: משרד ראש הממשלה | D16: 04510110 | E16: פעולות | F16: 4501682242 | G16: דמי מנוי לעיתון | H16: 43446 | I16: 43830 | J16: 40001417 | K16: ג'רוזלם פוסט בע"מ | L16: 512311598 | M16: 6116.15 | N16: ILS | O16: 6048.87 | P16: ILS | Q16: פטור ממכרז | S16: תקנה 3(1) - התקשרות ששוויה אינה עולה על 50,000 ש"ח | T16: לא | U16: G02 | V16: רוה"מ יחידת רכש
A17: רוה"מ | B17: משרד ראש הממשלה | C17: משרד ראש הממשלה | D17: 04510110 | E17: פעולות | F17: 4501749071 | G17: דמי מנוי לעיתון | H17: 43587 | I17: 43830 | J17: 40001417 | K17: ג'רוזלם פוסט בע"מ | L17: 512311598 | M17: 1019.39 | N17: ILS | O17: 372.61 | P17: ILS | Q17: פטור ממכרז | S17: תקנה 3(1) - התקשרות ששוויה אינה עולה על 50,000 ש"ח | T17: לא | U17: G02 | V17: רוה"מ יחידת רכש
A18: רוה"מ | B18: משרד ראש הממשלה | C18: משרד ראש הממשלה | D18: 04510110 | E18: פעולות | F18: 4501539630 | G18: הוצאות ארנונה- עיריית ירושלים | H18: 43128 | I18: 43465 | J18: 20000159 | K18: עירית ירושלים | L18: 500230008 | M18: 68015 | N18: ILS | O18: 68010.56 | P18: ILS | Q18: התקשרות עם גופים ממשלתיים | T18: לא | U18: G01 | V18: הוצאות קשיחות
A19: רוה"מ | B19: משרד ראש הממשלה | C19: משרד ראש הממשלה | D19: 04510110 | E19: פעולות | F19: 4501528320 | G19: הוצאות קשיחות | H19: 43110 | I19: 43465 | J19: 40003288 | K19: ג.ט.י. הגן הטכנולוגי ירושלים בע"מ | L19: 511590275 | M19: 15167.88 | N19: ILS | O19: 9572.47 | P19: ILS | Q19: פטור ממכרז | R19: אין פניה במנוף | S19: תקנה 3(29) - ספק יחיד | T19: לא | U19: G04 | V19: רוה"מ חוזים,יועצים
A20: רוה"מ | B20: משרד ראש הממשלה | C20: משרד ראש הממשלה | D20: 04510110 | E20: פעולות | F20: 4501428018 | G20: הוצאות קשיחות | H20: 42914 | I20: 43299 | J20: 40001490 | K20: די.בי.אס. שרותי לווין (1998) בע"מ | L20: 512705138 | M20: 11383.21 | N20: ILS | O20: 8166.85 | P20: ILS | Q20: פטור ממכרז | S20: תקנה 3(1) - התקשרות ששוויה אינה עולה על 50,000 ש"ח | T20: לא | U20: G01 | V20: הוצאות קשיחות
A21: רוה"מ | B21: משרד ראש הממשלה | C21: משרד ראש הממשלה | D21: 04510110 | E21: פעולות | F21: 4501486788 | G21: הוצאות קשיחות | H21: 43040 | I21: 43454 | J21: 40011045 | K21: הוט - מערכות תקשורת בע"מ | L21: 520040072 | M21: 31465.14 | N21: ILS | O21: 24827.24 | P21: ILS | Q21: פטור ממכרז | R21: 569347 | S21: תקנה 3(4)(ב)(3) - התקשרות המשך באישור ועדת פטור מרכזית | T21: לא | U21: G01 | V21: הוצאות קשיחות
A22: רוה"מ | B22: משרד ראש הממשלה | C22: משרד ראש הממשלה | D22: 04510110 | E22: פעולות | F22: 4501352738 | G22: הוצאות קשיחות | H22: 42764 | I22: 43067 | J22: 40003496 | K22: כלכלית ירושלים בע"מ | L22: 520017070 | M22: 1177.61 | N22: ILS | O22: 0 | Q22: פטור ממכרז | S22: תקנה 3(1) - התקשרות ששוויה אינה עולה על 50,000 ש"ח | T22: לא | U22: G01 | V22: הוצאות קשיחות
A23: רוה"מ | B23: משרד ראש הממשלה | C23: משרד ראש הממשלה | D23: 04510110 | E23: פעולות | F23: 4501340421 | G23: הוצאות קשיחות | H23: 42746 | I23: 43400 | J23: 40401962 | K23: 012 סמייל טלקום בע"מ | L23: 514350024 | M23: 2925 | N23: ILS | O23: 416.23 | P23: ILS | Q23: תקנה 14ב - מכרז מרכזי | R23: 563883 | T23: לא | U23: G01 | V23: הוצאות קשיחות
A24: רוה"מ | B24: משרד ראש הממשלה | C24: משרד ראש הממשלה | D24: 04510110 | E24: פעולות | F24: 4501528495 | G24: הוצאות קשיחות | H24: 43110 | I24: 43465 | J24: 40003288 | K24: ג.ט.י. הגן הטכנולוגי ירושלים בע"מ | L24: 511590275 | M24: 2574 | N24: ILS | O24: 1667.62 | P24: ILS | Q24: פטור ממכרז | R24: אין פניה במנוף | S24: תקנה 3ג - מימוש זכות ברירה | T24: לא | U24: G01 | V24: הוצאות קשיחות
A25: רוה"מ | B25: משרד ראש הממשלה | C25: משרד ראש הממשלה | D25: 04510110 | E25: פעולות | F25: 4501349381 | G25: הוצאות קשיחות | H25: 42758 | I25: 43100 | J25: 40003288 | K25: ג.ט.י. הגן הטכנולוגי ירושלים בע"מ | L25: 511590275 | M25: 2115.71 | N25: ILS | O25: 611.01 | P25: ILS | Q25: פטור ממכרז | R25: אין פניה במנוף | S25: תקנה 3(29) - ספק יחיד | T25: לא | U25: G04 | V25: רוה"מ חוזים,יועצים
A26: רוה"מ | B26: משרד ראש הממשלה | C26: משרד ראש הממשלה | D26: 04510110 | E26: פעולות | F26: 4501441965 | G26: הוצאות קשיחות- תחזוקה | H26: 42942 | I26: 42369 | J26: 40003496 | K26: כלכלית ירושלים בע"מ | L26: 520017070 | M26: 2069.07 | N26: ILS | O26: 0 | Q26: פטור ממכרז | S26: תקנה 3(1) - התקשרות ששוויה אינה עולה על 50,000 ש"ח | T26: לא | U26: G01 | V26: הוצאות קשיחות
A27: רוה"מ | B27: משרד ראש הממשלה | C27: משרד ראש הממשלה | D27: 04510110 | E27: פעולות | F27: 4501545197 | G27: הוצאות קשיחות-פלאפון-כלל יחידות המשרד | H27: 43137 | I27: 43465 | J27: 40001174 | K27: פלאפון תקשורת בע"מ | L27: 511076572 | M27: 46499.99 | N27: ILS | O27: 39302.05 | P27: ILS | Q27: התקשרות עם גופים ממשלתיים | T27: לא | U27: G01 | V27: הוצאות קשיחות
A28: רוה"מ | B28: משרד ראש הממשלה | C28: משרד ראש הממשלה | D28: 04510110 | E28: פעולות | F28: 4501632462 | G28: הוצאות קשיחות - שירותי צפייה | H28: 43331 | I28: 43664 | J28: 40001490 | K28: די.בי.אס. שרותי לווין (1998) בע"מ | L28: 512705138 | M28: 10828.63 | N28: ILS | O28: 7646.18 | P28: ILS | Q28: פטור ממכרז | S28: תקנה 3(1) - התקשרות ששוויה אינה עולה על 50,000 ש"ח | T28: לא | U28: G01 | V28: הוצאות קשיחות
A29: רוה"מ | B29: משרד ראש הממשלה | C29: משרד ראש הממשלה | D29: 04510110 | E29: פעולות | F29: 4501544276 | G29: הוצאות תחזוקה-כנפי נשרים 24 | H29: 43136 | I29: 43797 | J29: 40003496 | K29: כלכלית ירושלים בע"מ | L29: 520017070 | M29: 5351.48 | N29: ILS | O29: 2425.16 | P29: ILS | Q29: פטור ממכרז | R29: אין פניה במנוף | S29: תקנה 3(29) - ספק יחיד | T29: לא | U29: G01 | V29: הוצאות קשיחות
A30: רוה"מ | B30: משרד ראש הממשלה | C30: משרד ראש הממשלה | D30: 04510110 | E30: פעולות | F30: 4501116804 | G30: הוצאות תפעול | H30: 42306 | J30: 40008865 | K30: עידוד לקליטת אומן עולה (ע"ר) | L30: 580342996 | M30: 3000 | N30: ILS | O30: 3000 | P30: ILS | Q30: פטור ממכרז | S30: תקנה 3(1) - התקשרות ששוויה אינה עולה על 50,000 ש"ח | T30: לא | U30: G02 | V30: רוה"מ יחידת רכש
A31: רוה"מ | B31: משרד ראש הממשלה | C31: משרד ראש הממשלה | D31: 04510110 | E31: פעולות | F31: 4501362178 | G31: הוצאות תפעול | H31: 42780 | I31: 43100 | J31: 40295695 | K31: עיתון ישראל היום בע"מ | L31: 513942151 | M31: 492 | N31: ILS | O31: 0 | Q31: פטור ממכרז | S31: תקנה 3(1) - התקשרות ששוויה אינה עולה על 50,000 ש"ח | T31: לא | U31: G02 | V31: רוה"מ יחידת רכש
A32: רוה"מ | B32: משרד ראש הממשלה | C32: משרד ראש הממשלה | D32: 04510110 | E32: פעולות | F32: 4501336431 | G32: הוצאות תפעול | H32: 42739 | I32: 43951 | J32: 40386641 | K32: שטראוס מים בע"מ | L32: 513919779 | M32: 893.41 | N32: ILS | O32: 893.41 | P32: ILS | Q32: תקנה 14ב - מכרז מרכזי | R32: 535400 | T32: לא | U32: G02 | V32: רוה"מ יחידת רכש
A33: רוה"מ | B33: משרד ראש הממשלה | C33: משרד ראש הממשלה | D33: 04510110 | E33: פעולות | F33: 4501119297 | G33: הוצאות תפעול | H33: 42311 | J33: 40242784 | K33: מ. א. מ. ירושלים (1988) חברה לשרותי | L33: 511258246 | M33: 35100 | N33: ILS | O33: 35100 | P33: ILS | Q33: פטור ממכרז | S33: תקנה 3(1) - התקשרות ששוויה אינה עולה על 50,000 ש"ח | T33: לא | U33: G02 | V33: רוה"מ יחידת רכש
A34: רוה"מ | B34: משרד ראש הממשלה | C34: משרד ראש הממשלה | D34: 04510110 | E34: פעולות | F34: 4501345017 | G34: הוצאות תפעול | H34: 42752 | I34: 43159 | J34: 40008975 | K34: חברה לבנין מלון הנביאים בעמ | L34: 520039744 | M34: 30110 | N34: ILS | O34: 1780 | P34: ILS | Q34: פטור ממכרז | S34: תקנה 3(1) - התקשרות ששוויה אינה עולה על 50,000 ש"ח | T34: לא | U34: G02 | V34: רוה"מ יחידת רכש
A35: רוה"מ | B35: משרד ראש הממשלה | C35: משרד ראש הממשלה | D35: 04510110 | E35: פעולות | F35: 4501351401 | G35: הוצאות תפעול | H35: 42761 | I35: 43830 | J35: 40238786 | K35: גאריביאן גרשון | L35: 055634687 | M35: 50000 | N35: ILS | O35: 41480.7 | P35: ILS | Q35: פטור ממכרז | S35: תקנה 3(1) - התקשרות ששוויה אינה עולה על 50,000 ש"ח | T35: לא | U35: G02 | V35: רוה"מ יחידת רכש
A36: רוה"מ | B36: משרד ראש הממשלה | C36: משרד ראש הממשלה | D36: 04510110 | E36: פעולות | F36: 4501804561 | G36: הזמנת כיבוד- ישיבת מנהל עתודות לישראל | H36: 43719 | I36: 44196 | J36: 40242875 | K36: איכות קייטרינג שולץ 1997 בע"מ | L36: 512570649 | M36: 346.14 | N36: ILS | O36: 0 | Q36: פטור ממכרז | S36: תקנה 3(1) - התקשרות ששוויה אינה עולה על 50,000 ש"ח | T36: לא | U36: G02 | V36: רוה"מ יחידת רכש
A37: רוה"מ | B37: משרד ראש הממשלה | C37: משרד ראש הממשלה | D37: 04510110 | E37: פעולות | F37: 4501806385 | G37: הזמנת רול אפ | H37: 43724 | I37: 43830 | J37: 40374201 | K37: גרפצ'יק בע"מ | L37: 513868620 | M37: 250.01 | N37: ILS | O37: 0 | Q37: פטור ממכרז | S37: תקנה 3(1) - התקשרות ששוויה אינה עולה על 50,000 ש"ח | T37: לא | U37: G02 | V37: רוה"מ יחידת רכש
A38: רוה"מ | B38: משרד ראש הממשלה | C38: משרד ראש הממשלה | D38: 04510110 | E38: פעולות | F38: 4501485976 | G38: הכשרת רחבת הכותל | H38: 43039 | I38: 44002 | J38: 40006929 | K38: רשות העתיקות | L38: 500500491 | M38: 2738664 | N38: ILS | O38: 1163927.5 | P38: ILS | Q38: פטור ממכרז | R38: 599657 | S38: תקנה 3(7) - תאגיד שהוקם בחוק | T38: לא | U38: G02 | V38: רוה"מ יחידת רכש
A39: רוה"מ | B39: משרד ראש הממשלה | C39: משרד ראש הממשלה | D39: 04510110 | E39: פעולות | F39: 4501806548 | G39: הנצחת רחבעם זאבי | H39: 43724 | I39: 44819 | J39: 20000232 | K39: מ. א. שומרון | L39: 500273727 | M39: 23499598 | N39: ILS | O39: 0 | Q39: פטור ממכרז | R39: 614587 | S39: תקנה 3(16) - רשות מקומית | T39: לא | U39: G04 | V39: רוה"מ חוזים,יועצים
A40: רוה"מ | B40: משרד ראש הממשלה | C40: משרד ראש הממשלה | D40: 04510110 | E40: פעולות | F40: 4501462491 | G40: השכרת אולם לצורך כנס צוערים | H40: 42984 | J40: 40140406 | K40: שלוה - האגודה הישראלית לטיפול באנשי | L40: 580173987 | M40: 3000 | N40: ILS | O40: 0 | Q40: פטור ממכרז | S40: תקנה 3(1) - התקשרות ששוויה אינה עולה על 50,000 ש"ח | T40: לא | U40: G02 | V40: רוה"מ יחידת רכש
...

Sheet 4.2019
A1: שם חברה | B1: תאור של ארגון רכש | C1: שם אתר | D1: תקנה תקציבית | E1: תיאור תקנה תקציבית | F1: הזמנת רכש | G1: מטרת התקשרות | H1: תאריך יצירת ההזמנה | I1: סיום תקופת תוקף | J1: קוד ספק | K1: שם הספק | L1: מספר ח"פ | M1: ערך ההזמנה כולל מע"מ | N1: מטבע | O1: ביצוע חשבוניות מצטבר כולל מע"מ והצמדות | P1: מטבע חשבונית | Q1: אופן רכישה מקור | R1: מס' פנייה במנו"ף/מנור" | S1: סיבת פטור | T1: הזמנה רגישה | U1: קבוצת רכש | V1: שם קבוצת רכש
A2: רוה"מ | B2: משרד ראש הממשלה | C2: משרד ראש הממשלה | D2: 04510110 | E2: פעולות | F2: 4501116804 | G2: הוצאות תפעול | H2: 42306 | J2: 40008865 | K2: עידוד לקליטת אומן עולה (ע"ר) | L2: 580342996 | M2: 3000 | N2: ILS | O2: 3000 | P2: ILS | Q2: פטור ממכרז | S2: תקנה 3(1) - התקשרות ששוויה אינה עולה על 50,000 ש"ח | T2: לא | U2: G02 | V2: רוה"מ יחידת רכש
A3: רוה"מ | B3: משרד ראש הממשלה | C3: משרד ראש הממשלה | D3: 04510110 | E3: פעולות | F3: 4501244458 | G3: תפעול ותחזוקה | H3: 42548 | I3: 44006 | J3: 40005160 | K3: סומך חייקין | L3: 540002383 | M3: 314387.19 | N3: ILS | O3: 0 | Q3: תקנה 14ב - מכרז מרכזי | R3: 528639 | T3: לא | U3: G02 | V3: רוה"מ יחידת רכש
A4: רוה"מ | B4: משרד ראש הממשלה | C4: משרד ראש הממשלה | D4: 04510110 | E4: פעולות | F4: 4501352626 | G4: נסיעות חו"ל | H4: 42764 | J4: 41003244 | K4: משרד סוכנות/האוצר נסיעות ממשלתית | L4: 500107321 | M4: 24185.22 | N4: ILS | O4: 8454.31 | P4: ILS | Q4: אחר | T4: לא | U4: G03 | V4: רוה"מ נסיעות לחו"ל
A5: רוה"מ | B5: משרד ראש הממשלה | C5: משרד ראש הממשלה | D5: 04510110 | E5: פעולות | F5: 4501434899 | G5: שרותי ייעוץ | H5: 42927 | I5: 43291 | J5: 41067902 | K5: ספורטא אקשטין איתי | M5: 26500 | N5: ILS | O5: 0 | Q5: פטור ממכרז | S5: תקנה 3(1) - התקשרות ששוויה אינה עולה על 50,000 ש"ח | T5: לא | U5: G02 | V5: רוה"מ יחידת רכש
A6: רוה"מ | B6: משרד ראש הממשלה | C6: משרד ראש הממשלה | D6: 04510110 | E6: פעולות | F6: 4501436052 | G6: נסיעות חו"ל | H6: 42929 | J6: 41003244 | K6: משרד סוכנות/האוצר נסיעות ממשלתית | L6: 500107321 | M6: 2960 | N6: ILS | O6: 72.06 | P6: ILS | Q6: התקשרות עם גופים ממשלתיים | T6: לא | U6: G03 | V6: רוה"מ נסיעות לחו"ל
A7: רוה"מ | B7: משרד ראש הממשלה | C7: משרד ראש הממשלה | D7: 04510110 | E7: פעולות | F7: 4501449990 | G7: מנוי דיגיטלי לעיתון | H7: 42957 | I7: 43321 | J7: 50004142 | K7: THE NEW YORK TIMES | L7: 000000356 | M7: 98 | N7: USD | O7: 258.37 | P7: USD | Q7: פטור ממכרז | S7: תקנה 3(1) - התקשרות ששוויה אינה עולה על 50,000 ש"ח | T7: לא | U7: G02 | V7: רוה"מ יחידת רכש
A8: רוה"מ | B8: משרד ראש הממשלה | C8: משרד ראש הממשלה | D8: 04510110 | E8: פעולות | F8: 4501449998 | G8: מנוי דיגיטלי לעיתון | H8: 42957 | I8: 43321 | J8: 50046533 | K8: WOLL STREET JAVNA | L8: 4162000 | M8: 348 | N8: USD | O8: 804.31 | P8: USD | Q8: פטור ממכרז | S8: תקנה 3(1) - התקשרות ששוויה אינה עולה על 50,000 ש"ח | T8: לא | U8: G02 | V8: רוה"מ יחידת רכש
A9: רוה"מ | B9: משרד ראש הממשלה | C9: משרד ראש הממשלה | D9: 04510110 | E9: פעולות | F9: 4501462491 | G9: השכרת אולם לצורך כנס צוערים | H9: 42984 | J9: 40140406 | K9: שלוה - האגודה הישראלית לטיפול באנשי | L9: 580173987 | M9: 3000 | N9: ILS | O9: 0 | Q9: פטור ממכרז | S9: תקנה 3(1) - התקשרות ששוויה אינה עולה על 50,000 ש"ח | T9: לא | U9: G02 | V9: רוה"מ יחידת רכש
A10: רוה"מ | B10: משרד ראש הממשלה | C10: משרד ראש הממשלה | D10: 04510110 | E10: פעולות | F10: 4501482424 | G10: תחזוקת הר הרצל | H10: 43033 | I10: 43465 | J10: 40000247 | K10: ההסתדרות הציונית העולמית | L10: 500500350 | M10: 454550 | N10: ILS | O10: 378080.65 | P10: ILS | Q10: פטור ממכרז | R10: 9999 | S10: תקנה 3(19)(א) - הסוכנות היהודית או ההסתדרות הציונית | T10: לא | U10: G01 | V10: הוצאות קשיחות
A11: רוה"מ | B11: משרד ראש הממשלה | C11: משרד ראש הממשלה | D11: 04510110 | E11: פעולות | F11: 4501485976 | G11: הכשרת רחבת הכותל | H11: 43039 | I11: 44002 | J11: 40006929 | K11: רשות העתיקות | L11: 500500491 | M11: 2738664 | N11: ILS | O11: 1163927.5 | P11: ILS | Q11: פטור ממכרז | R11: 599657 | S11: תקנה 3(7) - תאגיד שהוקם בחוק | T11: לא | U11: G02 | V11: רוה"מ יחידת רכש
A12: רוה"מ | B12: משרד ראש הממשלה | C12: משרד ראש הממשלה | D12: 04510110 | E12: פעולות | F12: 4501511549 | G12: כתיבת דו"ח | H12: 43076 | I12: 43465 | J12: 40240096 | K12: העמותה לקידום לימודי כלכלה וחברה (ע | L12: 580431237 | M12: 3000 | N12: ILS | O12: 0 | Q12: פטור ממכרז | S12: תקנה 3(1) - התקשרות ששוויה אינה עולה על 50,000 ש"ח | T12: לא | U12: G02 | V12: רוה"מ יחידת רכש
A13: רוה"מ | B13: משרד ראש הממשלה | C13: משרד ראש הממשלה | D13: 04510110 | E13: פעולות | F13: 4501512245 | G13: סדנה למובילי תוכניות עתודה | H13: 43076 | I13: 43465 | J13: 40314150 | K13: קולות - ממעשה ללימוד למעשה (ע"ר) | L13: 580301299 | M13: 2500 | N13: ILS | O13: 0 | Q13: פטור ממכרז | S13: תקנה 3(1) - התקשרות ששוויה אינה עולה על 50,000 ש"ח | T13: לא | U13: G02 | V13: רוה"מ יחידת רכש
A14: רוה"מ | B14: משרד ראש הממשלה | C14: משרד ראש הממשלה | D14: 04510110 | E14: פעולות | F14: 4501528418 | G14: נסיעות חול | H14: 43110 | J14: 41003244 | K14: משרד סוכנות/האוצר נסיעות ממשלתית | L14: 500107321 | M14: 3048.42 | N14: ILS | O14: 3048.42 | P14: ILS | Q14: התקשרות עם גופים ממשלתיים | T14: לא | U14: G03 | V14: רוה"מ נסיעות לחו"ל
A15: רוה"מ | B15: משרד ראש הממשלה | C15: משרד ראש הממשלה | D15: 04510110 | E15: פעולות | F15: 4501550025 | G15: נסיעות חו"ל | H15: 43145 | J15: 41003244 | K15: משרד סוכנות/האוצר נסיעות ממשלתית | L15: 500107321 | M15: 3734.79 | N15: ILS | O15: 3732.32 | P15: ILS | Q15: התקשרות עם גופים ממשלתיים | T15: לא | U15: G03 | V15: רוה"מ נסיעות לחו"ל
A16: רוה"מ | B16: משרד ראש הממשלה | C16: משרד ראש הממשלה | D16: 04510110 | E16: פעולות | F16: 4501555636 | G16: שרותי ניהול ותחזוקה קשת רובינסון | H16: 43157 | I16: 43510 | J16: 40003388 | K16: שיקום ולפתוח הרובע היהודי בעיר העתי | L16: 520028127 | M16: 2093397.9 | N16: ILS | O16: 1822870.5 | P16: ILS | Q16: פטור ממכרז | R16: 611493 | S16: תקנה 3(28) - נסיבות מיוחדות | T16: לא | U16: G02 | V16: רוה"מ יחידת רכש
A17: רוה"מ | B17: משרד ראש הממשלה | C17: משרד ראש הממשלה | D17: 04510110 | E17: פעולות | F17: 4501584394 | G17: נסיעות חו"ל | H17: 43226 | J17: 41003244 | K17: משרד סוכנות/האוצר נסיעות ממשלתית | L17: 500107321 | M17: 7288.5 | N17: ILS | O17: 7270.4 | P17: ILS | Q17: התקשרות עם גופים ממשלתיים | T17: לא | U17: G03 | V17: רוה"מ נסיעות לחו"ל
A18: רוה"מ | B18: משרד ראש הממשלה | C18: משרד ראש הממשלה | D18: 04510110 | E18: פעולות | F18: 4501584430 | G18: נסיעות חו"ל | H18: 43226 | J18: 41003244 | K18: משרד סוכנות/האוצר נסיעות ממשלתית | L18: 500107321 | M18: 3371.2 | N18: ILS | O18: 3367.73 | P18: ILS | Q18: התקשרות עם גופים ממשלתיים | T18: לא | U18: G03 | V18: רוה"מ נסיעות לחו"ל
A19: רוה"מ | B19: משרד ראש הממשלה | C19: משרד ראש הממשלה | D19: 04510110 | E19: פעולות | F19: 4501584523 | G19: נסיעות חו"ל | H19: 43226 | J19: 41003244 | K19: משרד סוכנות/האוצר נסיעות ממשלתית | L19: 500107321 | M19: 10967.4 | N19: ILS | O19: 10836.82 | P19: ILS | Q19: התקשרות עם גופים ממשלתיים | T19: לא | U19: G03 | V19: רוה"מ נסיעות לחו"ל
A20: רוה"מ | B20: משרד ראש הממשלה | C20: משרד ראש הממשלה | D20: 04510110 | E20: פעולות | F20: 4501584548 | G20: נסיעות חו"ל | H20: 43226 | J20: 41003244 | K20: משרד סוכנות/האוצר נסיעות ממשלתית | L20: 500107321 | M20: 8816 | N20: ILS | O20: 8672.69 | P20: ILS | Q20: התקשרות עם גופים ממשלתיים | T20: לא | U20: G03 | V20: רוה"מ נסיעות לחו"ל
A21: רוה"מ | B21: משרד ראש הממשלה | C21: משרד ראש הממשלה | D21: 04510110 | E21: פעולות | F21: 4501590909 | G21: נסיעות חו"ל | H21: 43241 | J21: 41003244 | K21: משרד סוכנות/האוצר נסיעות ממשלתית | L21: 500107321 | M21: 18015.72 | N21: ILS | O21: 18015.72 | P21: ILS | Q21: התקשרות עם גופים ממשלתיים | T21: לא | U21: G03 | V21: רוה"מ נסיעות לחו"ל
A22: רוה"מ | B22: משרד ראש הממשלה | C22: משרד ראש הממשלה | D22: 04510110 | E22: פעולות | F22: 4501591749 | G22: דמי מנוי לעיתון | H22: 43242 | I22: 43465 | J22: 40001037 | K22: הוצאת עתון הארץ בע"מ | L22: 510015449 | M22: 1575 | N22: ILS | O22: 0 | Q22: פטור ממכרז | S22: תקנה 3(1) - התקשרות ששוויה אינה עולה על 50,000 ש"ח | T22: לא | U22: G02 | V22: רוה"מ יחידת רכש
A23: רוה"מ | B23: משרד ראש הממשלה | C23: משרד ראש הממשלה | D23: 04510110 | E23: פעולות | F23: 4501593074 | G23: נסיעות חו"ל | H23: 43244 | J23: 41003244 | K23: משרד סוכנות/האוצר נסיעות ממשלתית | L23: 500107321 | M23: 15148 | N23: ILS | O23: 9416.35 | P23: ILS | Q23: התקשרות עם גופים ממשלתיים | T23: לא | U23: G03 | V23: רוה"מ נסיעות לחו"ל
A24: רוה"מ | B24: משרד ראש הממשלה | C24: משרד ראש הממשלה | D24: 04510110 | E24: פעולות | F24: 4501648964 | G24: דמי מנוי לעיתון | H24: 43387 | I24: 43830 | J24: 40011446 | K24: ידיעות מינויים | L24: 540181054 | M24: 900 | N24: ILS | O24: 0 | Q24: פטור ממכרז | S24: תקנה 3(1) - התקשרות ששוויה אינה עולה על 50,000 ש"ח | T24: לא | U24: G02 | V24: רוה"מ יחידת רכש
A25: רוה"מ | B25: משרד ראש הממשלה | C25: משרד ראש הממשלה | D25: 04510110 | E25: פעולות | F25: 4501649015 | G25: שרותי ייעוץ | H25: 43387 | I25: 44085 | J25: 40314838 | K25: בריטמן אלמגור זוהר | L25: 557934692 | M25: 153590.58 | N25: ILS | O25: 76473.99 | P25: ILS | Q25: תקנה 3ג - מימוש זכות ברירה | T25: לא | U25: G02 | V25: רוה"מ יחידת רכש
A26: רוה"מ | B26: משרד ראש הממשלה | C26: משרד ראש הממשלה | D26: 04510110 | E26: פעולות | F26: 4501680634 | G26: נסיעת חול | H26: 43444 | J26: 41003244 | K26: משרד סוכנות/האוצר נסיעות ממשלתית | L26: 500107321 | M26: 16698 | N26: ILS | O26: 16626.39 | P26: ILS | Q26: התקשרות עם גופים ממשלתיים | T26: לא | U26: G03 | V26: רוה"מ נסיעות לחו"ל
A27: רוה"מ | B27: משרד ראש הממשלה | C27: משרד ראש הממשלה | D27: 04510110 | E27: פעולות | F27: 4501680668 | G27: נסיעת חול | H27: 43444 | J27: 41003244 | K27: משרד סוכנות/האוצר נסיעות ממשלתית | L27: 500107321 | M27: 9106.98 | N27: ILS | O27: 9067.01 | P27: ILS | Q27: התקשרות עם גופים ממשלתיים | T27: לא | U27: G03 | V27: רוה"מ נסיעות לחו"ל
A28: רוה"מ | B28: משרד ראש הממשלה | C28: משרד ראש הממשלה | D28: 04510110 | E28: פעולות | F28: 4501681989 | G28: דמי מנוי לעיתון | H28: 43446 | I28: 43830 | J28: 40176979 | K28: סטימצקי (2005) בע"מ | L28: 513742320 | M28: 2703.19 | N28: ILS | O28: 2206.81 | P28: ILS | Q28: פטור ממכרז | S28: תקנה 3(1) - התקשרות ששוויה אינה עולה על 50,000 ש"ח | T28: לא | U28: G02 | V28: רוה"מ יחידת רכש
A29: רוה"מ | B29: משרד ראש הממשלה | C29: משרד ראש הממשלה | D29: 04510110 | E29: פעולות | F29: 4501691064 | G29: יום עיון | H29: 43464 | I29: 43830 | J29: 41575887 | K29: שלוה מיזמי שילוב ותעסוקה בע"מ | L29: 515754364 | M29: 7249.99 | N29: ILS | O29: 7249.99 | P29: ILS | Q29: פטור ממכרז | S29: תקנה 3(1) - התקשרות ששוויה אינה עולה על 50,000 ש"ח | T29: לא | U29: G02 | V29: רוה"מ יחידת רכש
A30: רוה"מ | B30: משרד ראש הממשלה | C30: משרד ראש הממשלה | D30: 04510110 | E30: פעולות | F30: 4501691358 | G30: סדנה | H30: 43468 | I30: 43830 | J30: 41458518 | K30: דלויט אנליטיקס | L30: 540256195 | M30: 8775 | N30: ILS | O30: 0 | Q30: פטור ממכרז | S30: תקנה 3(1) - התקשרות ששוויה אינה עולה על 50,000 ש"ח | T30: לא | U30: G02 | V30: רוה"מ יחידת רכש
A31: רוה"מ | B31: משרד ראש הממשלה | C31: משרד ראש הממשלה | D31: 04510110 | E31: פעולות | F31: 4501694342 | G31: מיזם משותף מכון ירושלים וכלכלת ותשתיות | H31: 43472 | I31: 43776 | J31: 40000401 | K31: מכון ירושלים למחקרי מדיניות (ע''ר) | L31: 580051894 | M31: 96075 | N31: ILS | O31: 96075 | P31: ILS | Q31: פטור ממכרז | R31: 625794 | S31: תקנה 3(30) - מיזם משותף | T31: לא | U31: G04 | V31: רוה"מ חוזים,יועצים
A32: רוה"מ | B32: משרד ראש הממשלה | C32: משרד ראש הממשלה | D32: 04510110 | E32: פעולות | F32: 4501701457 | G32: דמי מנוי דיגיטלי | H32: 43485 | I32: 43830 | J32: 40001037 | K32: הוצאת עתון הארץ בע"מ | L32: 510015449 | M32: 377.33 | N32: ILS | O32: 312.8 | P32: ILS | Q32: פטור ממכרז | S32: תקנה 3(1) - התקשרות ששוויה אינה עולה על 50,000 ש"ח | T32: לא | U32: G02 | V32: רוה"מ יחידת רכש
A33: רוה"מ | B33: משרד ראש הממשלה | C33: משרד ראש הממשלה | D33: 04510110 | E33: פעולות | F33: 4501452850 | G33: מיזם ללימודים תחום ההנדסה | H33: 42963 | I33: 43327 | J33: 40000431 | K33: איסף - הקרן הבין-לאומית לחינוך | L33: 580074888 | M33: 1200500 | N33: ILS | O33: 756137.23 | P33: ILS | Q33: פטור ממכרז | R33: 598659 | S33: תקנה 3(30) - מיזם משותף | T33: לא | U33: G02 | V33: רוה"מ יחידת רכש
A34: רוה"מ | B34: משרד ראש הממשלה | C34: משרד ראש הממשלה | D34: 04510110 | E34: פעולות | F34: 4501473805 | G34: שרותי תחזוקה | H34: 43010 | I34: 43100 | J34: 40003388 | K34: שיקום ולפתוח הרובע היהודי בעיר העתי | L34: 520028127 | M34: 1026429 | N34: ILS | O34: 1001990.1 | P34: ILS | Q34: פטור ממכרז | R34: 602231 | S34: תקנה 3(29) - ספק יחיד | T34: לא | U34: G02 | V34: רוה"מ יחידת רכש
A35: רוה"מ | B35: משרד ראש הממשלה | C35: משרד ראש הממשלה | D35: 04510110 | E35: פעולות | F35: 4501522495 | G35: שירותי תחזוקה | H35: 43096 | I35: 43146 | J35: 40003388 | K35: שיקום ולפתוח הרובע היהודי בעיר העתי | L35: 520028127 | M35: 89524.49 | N35: ILS | O35: 41016.69 | P35: ILS | Q35: פטור ממכרז | R35: 609572 | S35: תקנה 3(29) - ספק יחיד | T35: לא | U35: G02 | V35: רוה"מ יחידת רכש
A36: רוה"מ | B36: משרד ראש הממשלה | C36: משרד ראש הממשלה | D36: 04510110 | E36: פעולות | F36: 4501526264 | G36: שרותי ייעוץ | H36: 43107 | I36: 44085 | J36: 40314838 | K36: בריטמן אלמגור זוהר | L36: 557934692 | M36: 310248.9 | N36: ILS | O36: 111933 | P36: ILS | Q36: תקנה 3ג - מימוש זכות ברירה | T36: לא | U36: G02 | V36: רוה"מ יחידת רכש
A37: רוה"מ | B37: משרד ראש הממשלה | C37: משרד ראש הממשלה | D37: 04510110 | E37: פעולות | F37: 4501530530 | G37: תשלומי ביטוח | H37: 43114 | I37: 43830 | J37: 40089015 | K37: הפניקס חברה לביטוח בע"מ | L37: 520023185 | M37: 91502.83 | N37: ILS | O37: 30512 | P37: ILS | Q37: פטור ממכרז | R37: 610275 | S37: תקנה 3(3) - פגיעה מהותית בבטחון המדינה, ביחסי החוץ שלה ובכלכ | T37: לא | U37: G02 | V37: רוה"מ יחידת רכש
A38: רוה"מ | B38: משרד ראש הממשלה | C38: משרד ראש הממשלה | D38: 04510110 | E38: פעולות | F38: 4501535833 | G38: ארוחת ערב | H38: 43121 | I38: 43465 | J38: 41373588 | K38: מוסקוביץ הלן | L38: 313776064 | M38: 4244.55 | N38: ILS | O38: 2462.8 | P38: ILS | Q38: פטור ממכרז | S38: תקנה 3(1) - התקשרות ששוויה אינה עולה על 50,000 ש"ח | T38: לא | U38: G02 | V38: רוה"מ יחידת רכש
A39: רוה"מ | B39: משרד ראש הממשלה | C39: משרד ראש הממשלה | D39: 04510110 | E39: פעולות | F39: 4501611780 | G39: נסיעות חו"ל | H39: 43284 | J39: 41003244 | K39: משרד סוכנות/האוצר נסיעות ממשלתית | L39: 500107321 | M39: 3582 | N39: ILS | O39: 3536.1 | P39: ILS | Q39: התקשרות עם גופים ממשלתיים | T39: לא | U39: G03 | V39: רוה"מ נסיעות לחו"ל
A40: רוה"מ | B40: משרד ראש הממשלה | C40: משרד ראש הממשלה | D40: 04510110 | E40: פעולות | F40: 4501627808 | G40: פורטל מידע ממשלתי תחזוקה והקמה | H40: 43319 | I40: 43982 | J40: 40371942 | K40: פיונט טכנולוגיות בע"מ | L40: 512841016 | M40: 271063.5 | N40: ILS | O40: 0 | Q40: תקנה 14ב - מכרז מרכזי | R40: 577889 | T40: לא | U40: G06 | V40: רוה"מ טכנו' והמידע
...

Sheet 1.2020
A1: שם חברה | B1: תאור של ארגון רכש | C1: שם אתר | D1: תקנה תקציבית | E1: תיאור תקנה תקציבית | F1: הזמנת רכש | G1: מטרת התקשרות | H1: תאריך יצירת ההזמנה | I1: סיום תקופת תוקף | J1: קוד ספק | K1: שם הספק | L1: מספר ח"פ | M1: ערך ההזמנה כולל מע"מ | N1: מטבע | O1: ביצוע חשבוניות מצטבר כולל מע"מ והצמדות | P1: מטבע חשבונית | Q1: אופן רכישה מקור | R1: מס' פנייה במנו"ף/מנור" | S1: סיבת פטור | T1: הזמנה רגישה | U1: קבוצת רכש | V1: יחידה
A2: רוה"מ | B2: משרד ראש הממשלה | C2: משרד ראש הממשלה | D2: 04510110 | E2: פעולות | F2: 4501116804 | G2: הוצאות תפעול | H2: 42306 | J2: 40008865 | K2: עידוד לקליטת אומן עולה (ע"ר) | L2: 580342996 | M2: 3000 | N2: ILS | O2: 3000 | P2: ILS | Q2: פטור ממכרז | S2: תקנה 3(1) - התקשרות ששוויה אינה עולה על 50,000 ש"ח | T2: לא | U2: G02 | V2: רוה"מ יחידת רכש
A3: רוה"מ | B3: משרד ראש הממשלה | C3: משרד ראש הממשלה | D3: 04510110 | E3: פעולות | F3: 4501244458 | G3: תפעול ותחזוקה | H3: 42548 | I3: 44006 | J3: 40005160 | K3: סומך חייקין | L3: 540002383 | M3: 314387.19 | N3: ILS | O3: 0 | Q3: תקנה 14ב - מכרז מרכזי | R3: 528639 | T3: לא | U3: G02 | V3: רוה"מ יחידת רכש
A4: רוה"מ | B4: משרד ראש הממשלה | C4: משרד ראש הממשלה | D4: 04510110 | E4: פעולות | F4: 4501434899 | G4: שרותי ייעוץ | H4: 42927 | I4: 43291 | J4: 41067902 | K4: ספורטא אקשטין איתי | M4: 26500 | N4: ILS | O4: 0 | Q4: פטור ממכרז | S4: תקנה 3(1) - התקשרות ששוויה אינה עולה על 50,000 ש"ח | T4: לא | U4: G02 | V4: רוה"מ יחידת רכש
A5: רוה"מ | B5: משרד ראש הממשלה | C5: משרד ראש הממשלה | D5: 04510110 | E5: פעולות | F5: 4501462491 | G5: השכרת אולם לצורך כנס צוערים | H5: 42984 | J5: 40140406 | K5: שלוה - האגודה הישראלית לטיפול באנשי | L5: 580173987 | M5: 3000 | N5: ILS | O5: 0 | Q5: פטור ממכרז | S5: תקנה 3(1) - התקשרות ששוויה אינה עולה על 50,000 ש"ח | T5: לא | U5: G02 | V5: רוה"מ יחידת רכש
A6: רוה"מ | B6: משרד ראש הממשלה | C6: משרד ראש הממשלה | D6: 04510110 | E6: פעולות | F6: 4501482424 | G6: תחזוקת הר הרצל | H6: 43033 | I6: 43465 | J6: 40000247 | K6: ההסתדרות הציונית העולמית | L6: 500500350 | M6: 454550 | N6: ILS | O6: 378080.65 | P6: ILS | Q6: פטור ממכרז | R6: 9999 | S6: תקנה 3(19)(א) - הסוכנות היהודית או ההסתדרות הציונית | T6: לא | U6: G01 | V6: הוצאות קשיחות
A7: רוה"מ | B7: משרד ראש הממשלה | C7: משרד ראש הממשלה | D7: 04510110 | E7: פעולות | F7: 4501485976 | G7: הכשרת רחבת הכותל | H7: 43039 | I7: 44002 | J7: 40006929 | K7: רשות העתיקות | L7: 500500491 | M7: 2738664 | N7: ILS | O7: 1163927.5 | P7: ILS | Q7: פטור ממכרז | R7: 599657 | S7: תקנה 3(7) - תאגיד שהוקם בחוק | T7: לא | U7: G02 | V7: רוה"מ יחידת רכש
A8: רוה"מ | B8: משרד ראש הממשלה | C8: משרד ראש הממשלה | D8: 04510110 | E8: פעולות | F8: 4501511549 | G8: כתיבת דו"ח | H8: 43076 | I8: 43465 | J8: 40240096 | K8: העמותה לקידום לימודי כלכלה וחברה (ע | L8: 580431237 | M8: 3000 | N8: ILS | O8: 0 | Q8: פטור ממכרז | S8: תקנה 3(1) - התקשרות ששוויה אינה עולה על 50,000 ש"ח | T8: לא | U8: G02 | V8: רוה"מ יחידת רכש
A9: רוה"מ | B9: משרד ראש הממשלה | C9: משרד ראש הממשלה | D9: 04510110 | E9: פעולות | F9: 4501512245 | G9: סדנה למובילי תוכניות עתודה | H9: 43076 | I9: 43465 | J9: 40314150 | K9: קולות - ממעשה ללימוד למעשה (ע"ר) | L9: 580301299 | M9: 2500 | N9: ILS | O9: 0 | Q9: פטור ממכרז | S9: תקנה 3(1) - התקשרות ששוויה אינה עולה על 50,000 ש"ח | T9: לא | U9: G02 | V9: רוה"מ יחידת רכש
A10: רוה"מ | B10: משרד ראש הממשלה | C10: משרד ראש הממשלה | D10: 04510110 | E10: פעולות | F10: 4501528418 | G10: נסיעות חול | H10: 43110 | J10: 41003244 | K10: משרד סוכנות/האוצר נסיעות ממשלתית | L10: 500107321 | M10: 3048.42 | N10: ILS | O10: 3048.42 | P10: ILS | Q10: התקשרות עם גופים ממשלתיים | T10: לא | U10: G03 | V10: רוה"מ נסיעות לחו"ל
A11: רוה"מ | B11: משרד ראש הממשלה | C11: משרד ראש הממשלה | D11: 04510110 | E11: פעולות | F11: 4501584394 | G11: נסיעות חו"ל | H11: 43226 | J11: 41003244 | K11: משרד סוכנות/האוצר נסיעות ממשלתית | L11: 500107321 | M11: 7288.5 | N11: ILS | O11: 7270.4 | P11: ILS | Q11: התקשרות עם גופים ממשלתיים | T11: לא | U11: G03 | V11: רוה"מ נסיעות לחו"ל
A12: רוה"מ | B12: משרד ראש הממשלה | C12: משרד ראש הממשלה | D12: 04510110 | E12: פעולות | F12: 4501584430 | G12: נסיעות חו"ל | H12: 43226 | J12: 41003244 | K12: משרד סוכנות/האוצר נסיעות ממשלתית | L12: 500107321 | M12: 3371.2 | N12: ILS | O12: 3367.73 | P12: ILS | Q12: התקשרות עם גופים ממשלתיים | T12: לא | U12: G03 | V12: רוה"מ נסיעות לחו"ל
A13: רוה"מ | B13: משרד ראש הממשלה | C13: משרד ראש הממשלה | D13: 04510110 | E13: פעולות | F13: 4501584523 | G13: נסיעות חו"ל | H13: 43226 | J13: 41003244 | K13: משרד סוכנות/האוצר נסיעות ממשלתית | L13: 500107321 | M13: 10967.4 | N13: ILS | O13: 10836.82 | P13: ILS | Q13: התקשרות עם גופים ממשלתיים | T13: לא | U13: G03 | V13: רוה"מ נסיעות לחו"ל
A14: רוה"מ | B14: משרד ראש הממשלה | C14: משרד ראש הממשלה | D14: 04510110 | E14: פעולות | F14: 4501584548 | G14: נסיעות חו"ל | H14: 43226 | J14: 41003244 | K14: משרד סוכנות/האוצר נסיעות ממשלתית | L14: 500107321 | M14: 8816 | N14: ILS | O14: 8672.69 | P14: ILS | Q14: התקשרות עם גופים ממשלתיים | T14: לא | U14: G03 | V14: רוה"מ נסיעות לחו"ל
A15: רוה"מ | B15: משרד ראש הממשלה | C15: משרד ראש הממשלה | D15: 04510110 | E15: פעולות | F15: 4501590909 | G15: נסיעות חו"ל | H15: 43241 | J15: 41003244 | K15: משרד סוכנות/האוצר נסיעות ממשלתית | L15: 500107321 | M15: 18015.72 | N15: ILS | O15: 18015.72 | P15: ILS | Q15: התקשרות עם גופים ממשלתיים | T15: לא | U15: G03 | V15: רוה"מ נסיעות לחו"ל
A16: רוה"מ | B16: משרד ראש הממשלה | C16: משרד ראש הממשלה | D16: 04510110 | E16: פעולות | F16: 4501591749 | G16: דמי מנוי לעיתון | H16: 43242 | I16: 43465 | J16: 40001037 | K16: הוצאת עתון הארץ בע"מ | L16: 510015449 | M16: 1575 | N16: ILS | O16: 0 | Q16: פטור ממכרז | S16: תקנה 3(1) - התקשרות ששוויה אינה עולה על 50,000 ש"ח | T16: לא | U16: G02 | V16: רוה"מ יחידת רכש
A17: רוה"מ | B17: משרד ראש הממשלה | C17: משרד ראש הממשלה | D17: 04510110 | E17: פעולות | F17: 4501593074 | G17: נסיעות חו"ל | H17: 43244 | J17: 41003244 | K17: משרד סוכנות/האוצר נסיעות ממשלתית | L17: 500107321 | M17: 15148 | N17: ILS | O17: 9416.35 | P17: ILS | Q17: התקשרות עם גופים ממשלתיים | T17: לא | U17: G03 | V17: רוה"מ נסיעות לחו"ל
A18: רוה"מ | B18: משרד ראש הממשלה | C18: משרד ראש הממשלה | D18: 04510110 | E18: פעולות | F18: 4501648964 | G18: דמי מנוי לעיתון | H18: 43387 | I18: 43830 | J18: 40011446 | K18: ידיעות מינויים | L18: 540181054 | M18: 900 | N18: ILS | O18: 0 | Q18: פטור ממכרז | S18: תקנה 3(1) - התקשרות ששוויה אינה עולה על 50,000 ש"ח | T18: לא | U18: G02 | V18: רוה"מ יחידת רכש
A19: רוה"מ | B19: משרד ראש הממשלה | C19: משרד ראש הממשלה | D19: 04510110 | E19: פעולות | F19: 4501649015 | G19: שרותי ייעוץ | H19: 43387 | I19: 44085 | J19: 40314838 | K19: בריטמן אלמגור זוהר | L19: 557934692 | M19: 153590.58 | N19: ILS | O19: 76473.99 | P19: ILS | Q19: תקנה 3ג - מימוש זכות ברירה | T19: לא | U19: G02 | V19: רוה"מ יחידת רכש
A20: רוה"מ | B20: משרד ראש הממשלה | C20: משרד ראש הממשלה | D20: 04510110 | E20: פעולות | F20: 4501680634 | G20: נסיעת חול | H20: 43444 | J20: 41003244 | K20: משרד סוכנות/האוצר נסיעות ממשלתית | L20: 500107321 | M20: 16698 | N20: ILS | O20: 16626.39 | P20: ILS | Q20: התקשרות עם גופים ממשלתיים | T20: לא | U20: G03 | V20: רוה"מ נסיעות לחו"ל
A21: רוה"מ | B21: משרד ראש הממשלה | C21: משרד ראש הממשלה | D21: 04510110 | E21: פעולות | F21: 4501680668 | G21: נסיעת חול | H21: 43444 | J21: 41003244 | K21: משרד סוכנות/האוצר נסיעות ממשלתית | L21: 500107321 | M21: 9106.98 | N21: ILS | O21: 9067.01 | P21: ILS | Q21: התקשרות עם גופים ממשלתיים | T21: לא | U21: G03 | V21: רוה"מ נסיעות לחו"ל
A22: רוה"מ | B22: משרד ראש הממשלה | C22: משרד ראש הממשלה | D22: 04510110 | E22: פעולות | F22: 4501681989 | G22: דמי מנוי לעיתון | H22: 43446 | I22: 43830 | J22: 40176979 | K22: סטימצקי (2005) בע"מ | L22: 513742320 | M22: 2703.19 | N22: ILS | O22: 2550.43 | P22: ILS | Q22: פטור ממכרז | S22: תקנה 3(1) - התקשרות ששוויה אינה עולה על 50,000 ש"ח | T22: לא | U22: G02 | V22: רוה"מ יחידת רכש
A23: רוה"מ | B23: משרד ראש הממשלה | C23: משרד ראש הממשלה | D23: 04510110 | E23: פעולות | F23: 4501522495 | G23: שירותי תחזוקה | H23: 43096 | I23: 43146 | J23: 40003388 | K23: שיקום ולפתוח הרובע היהודי בעיר העתי | L23: 520028127 | M23: 89524.49 | N23: ILS | O23: 41016.69 | P23: ILS | Q23: פטור ממכרז | R23: 609572 | S23: תקנה 3(29) - ספק יחיד | T23: לא | U23: G02 | V23: רוה"מ יחידת רכש
A24: רוה"מ | B24: משרד ראש הממשלה | C24: משרד ראש הממשלה | D24: 04510110 | E24: פעולות | F24: 4501526264 | G24: שרותי ייעוץ | H24: 43107 | I24: 44085 | J24: 40314838 | K24: בריטמן אלמגור זוהר | L24: 557934692 | M24: 310248.9 | N24: ILS | O24: 111933 | P24: ILS | Q24: תקנה 3ג - מימוש זכות ברירה | T24: לא | U24: G02 | V24: רוה"מ יחידת רכש
A25: רוה"מ | B25: משרד ראש הממשלה | C25: משרד ראש הממשלה | D25: 04510110 | E25: פעולות | F25: 4501611780 | G25: נסיעות חו"ל | H25: 43284 | J25: 41003244 | K25: משרד סוכנות/האוצר נסיעות ממשלתית | L25: 500107321 | M25: 3582 | N25: ILS | O25: 3536.1 | P25: ILS | Q25: התקשרות עם גופים ממשלתיים | T25: לא | U25: G03 | V25: רוה"מ נסיעות לחו"ל
A26: רוה"מ | B26: משרד ראש הממשלה | C26: משרד ראש הממשלה | D26: 04510110 | E26: פעולות | F26: 4501627808 | G26: פורטל מידע ממשלתי תחזוקה והקמה | H26: 43319 | I26: 43982 | J26: 40371942 | K26: פיונט טכנולוגיות בע"מ | L26: 512841016 | M26: 271063.5 | N26: ILS | O26: 0 | Q26: תקנה 14ב - מכרז מרכזי | R26: 577889 | T26: לא | U26: G06 | V26: רוה"מ טכנו' והמידע
A27: רוה"מ | B27: משרד ראש הממשלה | C27: משרד ראש הממשלה | D27: 04510110 | E27: פעולות | F27: 4501695466 | G27: שיתוף משאבי אנוש במסגרת מכרז שירותי יעוץ | H27: 43474 | I27: 44093 | J27: 40397632 | K27: מטריקס אי. טי. בע"מ | L27: 520039413 | M27: 173394 | N27: ILS | O27: 0 | Q27: תקנה 14ב - מכרז מרכזי | R27: 552845 | T27: לא | U27: G04 | V27: רוה"מ חוזים,יועצים
A28: רוה"מ | B28: משרד ראש הממשלה | C28: משרד ראש הממשלה | D28: 04510110 | E28: פעולות | F28: 4501851965 | G28: מיזם משותף קרן קרב | H28: 43829 | I28: 44196 | J28: 40442190 | K28: קרב יוזמות בחינוך (ע"ר) | L28: 580415917 | M28: 3000000 | N28: ILS | O28: 0 | Q28: פטור ממכרז | R28: 644776 | S28: תקנה 3(30) - מיזם משותף | T28: לא | U28: G04 | V28: רוה"מ חוזים,יועצים
A29: רוה"מ | B29: משרד ראש הממשלה | C29: משרד ראש הממשלה | D29: 04510110 | E29: פעולות | F29: 4501119297 | G29: הוצאות תפעול | H29: 42311 | J29: 40242784 | K29: מ. א. מ. ירושלים (1988) חברה לשרותי | L29: 511258246 | M29: 35100 | N29: ILS | O29: 35100 | P29: ILS | Q29: פטור ממכרז | S29: תקנה 3(1) - התקשרות ששוויה אינה עולה על 50,000 ש"ח | T29: לא | U29: G02 | V29: רוה"מ יחידת רכש
A30: רוה"מ | B30: משרד ראש הממשלה | C30: משרד ראש הממשלה | D30: 04510110 | E30: פעולות | F30: 4501305562 | G30: שירותי יעוץ | H30: 42689 | I30: 43053 | J30: 40040171 | K30: שלוסר אנליה לאורה | M30: 47501.06 | N30: ILS | O30: 0 | Q30: פטור ממכרז | S30: תקנה 3(1) - התקשרות ששוויה אינה עולה על 50,000 ש"ח | T30: לא | U30: G04 | V30: רוה"מ חוזים,יועצים
A31: רוה"מ | B31: משרד ראש הממשלה | C31: משרד ראש הממשלה | D31: 04510110 | E31: פעולות | F31: 4501399702 | G31: תרגום | H31: 42862 | I31: 43710 | J31: 41344031 | K31: איי.בי.סי מילה תרגומים בע"מ | L31: 515264869 | M31: 209664 | N31: ILS | O31: 54890.23 | P31: ILS | Q31: תקנה 1ב - מכרז פומבי רגיל | R31: 577631 | T31: לא | U31: G02 | V31: רוה"מ יחידת רכש
A32: רוה"מ | B32: משרד ראש הממשלה | C32: משרד ראש הממשלה | D32: 04510110 | E32: פעולות | F32: 4501524185 | G32: חניות לעובדי תקשוב בגטי | H32: 43103 | I32: 43465 | J32: 40003288 | K32: ג.ט.י. הגן הטכנולוגי ירושלים בע"מ | L32: 511590275 | M32: 88355.14 | N32: ILS | O32: 81967.26 | P32: ILS | Q32: פטור ממכרז | R32: 609855 | S32: תקנה 3(4)(ב)(1) - התקשרות המשך באישור ועדת מכרזים משרדית | T32: לא | U32: G02 | V32: רוה"מ יחידת רכש
A33: רוה"מ | B33: משרד ראש הממשלה | C33: משרד ראש הממשלה | D33: 04510110 | E33: פעולות | F33: 4501611544 | G33: ערב גיבוש - אגף חשבות | H33: 43284 | I33: 43465 | J33: 40141063 | K33: "ירושלים הקטנה" - שרותי אירוח בע"מ | L33: 512567967 | M33: 6749.73 | N33: ILS | O33: 5399.78 | P33: ILS | Q33: פטור ממכרז | S33: תקנה 3(1) - התקשרות ששוויה אינה עולה על 50,000 ש"ח | T33: לא | U33: G02 | V33: רוה"מ יחידת רכש
A34: רוה"מ | B34: משרד ראש הממשלה | C34: משרד ראש הממשלה | D34: 04510110 | E34: פעולות | F34: 4501632390 | G34: דמי מנוי לעיתון | H34: 43328 | I34: 43465 | J34: 40176979 | K34: סטימצקי (2005) בע"מ | L34: 513742320 | M34: 735.15 | N34: ILS | O34: 0 | Q34: פטור ממכרז | S34: תקנה 3(1) - התקשרות ששוויה אינה עולה על 50,000 ש"ח | T34: לא | U34: G02 | V34: רוה"מ יחידת רכש
A35: רוה"מ | B35: משרד ראש הממשלה | C35: משרד ראש הממשלה | D35: 04510110 | E35: פעולות | F35: 4501632462 | G35: הוצאות קשיחות - שירותי צפייה | H35: 43331 | I35: 43664 | J35: 40001490 | K35: די.בי.אס. שרותי לווין (1998) בע"מ | L35: 512705138 | M35: 10828.63 | N35: ILS | O35: 8048.76 | P35: ILS | Q35: פטור ממכרז | S35: תקנה 3(1) - התקשרות ששוויה אינה עולה על 50,000 ש"ח | T35: לא | U35: G01 | V35: הוצאות קשיחות
A36: רוה"מ | B36: משרד ראש הממשלה | C36: משרד ראש הממשלה | D36: 04510110 | E36: פעולות | F36: 4501662558 | G36: פעילות חברתית אגף כלכלה ותשתיות | H36: 43415 | I36: 43780 | J36: 41517045 | K36: נחום אוהד | L36: 040912586 | M36: 809.97 | N36: ILS | O36: 0 | Q36: פטור ממכרז | S36: תקנה 3(1) - התקשרות ששוויה אינה עולה על 50,000 ש"ח | T36: לא | U36: G02 | V36: רוה"מ יחידת רכש
A37: רוה"מ | B37: משרד ראש הממשלה | C37: משרד ראש הממשלה | D37: 04510110 | E37: פעולות | F37: 4501663047 | G37: פעילות חברתית אגף כלכלה ותשתיות | H37: 43415 | I37: 43780 | J37: 40329386 | K37: קפית בגן (2008) בע"מ | L37: 514173863 | M37: 525.97 | N37: ILS | O37: 0 | Q37: פטור ממכרז | S37: תקנה 3(1) - התקשרות ששוויה אינה עולה על 50,000 ש"ח | T37: לא | U37: G02 | V37: רוה"מ יחידת רכש
A38: רוה"מ | B38: משרד ראש הממשלה | C38: משרד ראש הממשלה | D38: 04510110 | E38: פעולות | F38: 4501665162 | G38: מיזם משותף - סטודנטים מהפריפריה | H38: 43418 | I38: 43710 | J38: 40000431 | K38: איסף - הקרן הבין-לאומית לחינוך | L38: 580074888 | M38: 1560250 | N38: ILS | O38: 1499501.9 | P38: ILS | Q38: פטור ממכרז | R38: 620882 | S38: תקנה 3(30) - מיזם משותף | T38: לא | U38: G04 | V38: רוה"מ חוזים,יועצים
A39: רוה"מ | B39: משרד ראש הממשלה | C39: משרד ראש הממשלה | D39: 04510110 | E39: פעולות | F39: 4501670202 | G39: יעוץ | H39: 43426 | I39: 43769 | J39: 41563845 | K39: ירון בלום בע"מ | L39: 514735653 | M39: 668179.98 | N39: ILS | O39: 590428.8 | P39: ILS | Q39: תקנה 3ג - מימוש זכות ברירה | R39: 625036 | T39: לא | U39: G04 | V39: רוה"מ חוזים,יועצים
A40: רוה"מ | B40: משרד ראש הממשלה | C40: משרד ראש הממשלה | D40: 04510110 | E40: פעולות | F40: 4501672975 | G40: מתנות | H40: 43432 | I40: 43830 | J40: 40000885 | K40: צחובוי אילן | L40: 050719913 | M40: 2457 | N40: ILS | O40: 2457 | P40: ILS | Q40: פטור ממכרז | S40: תקנה 3(1) - התקשרות ששוויה אינה עולה על 50,000 ש"ח | T40: לא | U40: G02 | V40: רוה"מ יחידת רכש
...

Sheet 2.2020
A1: שם חברה | B1: תאור של ארגון רכש | C1: שם אתר | D1: תקנה תקציבית | E1: תיאור תקנה תקציבית | F1: הזמנת רכש | G1: מטרת התקשרות | H1: תאריך יצירת ההזמנה | I1: סיום תקופת תוקף | J1: קוד ספק | K1: שם הספק | L1: מספר ח"פ | M1: ערך ההזמנה כולל מע"מ | N1: מטבע | O1: ביצוע חשבוניות מצטבר כולל מע"מ והצמדות | P1: מטבע חשבונית | Q1: אופן רכישה מקור | R1: מס' פנייה במנו"ף/מנור" | S1: סיבת פטור | T1: סיבת רגישות | U1: ביצוע חשבוניות לתקופת הדוח' במטבע מקומי | V1: תאור סיבת רגישות | W1: סכום אופציה מצטבר במטבע מקומי | X1: מספר פניית מימוש אופציה | Y1: תאריך התקשרות המשך | Z1: סכום התקשרות המשך במטבע מקומי | AA1: תאריך מימוש אופציה | AB1: סכום אופציה במטבע מקומי | AC1: סיבת התקשרות המשך | AD1: מספר פניית התקשרות המשך | AE1: סכום התקשרות מצטבר במטבע מקומי | AF1: הזמנה רגישה | AG1: קבוצה רוכשת | AH1: שם קבוצה רוכשת
A2: רוה"מ | B2: משרד ראש הממשלה | C2: משרד ראש הממשלה | D2: 04510110 | E2: פעולות | F2: 4501066919 | G2: הוצאות משרדיות שונות | H2: 42165 | J2: 40570126 | K2: יצחקי יאיר | M2: 9055.8 | N2: ILS | O2: 9055.8 | P2: ILS | Q2: פטור ממכרז | S2: תקנה 3(1) - התקשרות ששוויה אינה עולה על 50,000 ש"ח | U2: 9055.8 | V2: לא רגיש | W2: 0.00 | Z2: 0.00 | AB2: 0.00 | AE2: 0.00 | AF2: לא | AG2: =VLOOKUP(F2,[1]הזמנות!$D:$E,2,0) -> G02 | AH2: =VLOOKUP(AG2,'[1]קבוצות רכש'!$A:$B,2,0) -> רוה"מ יחידת רכש
