Workbook

Sheet רק עוס
A1: מפתח | B1: שנה | C1: סמל רשות | D1: תאור רשות | E1: FPAH02 | F1: מאפיין תקן | G1: תקן עו"ס | H1: איוש עו"ס | I1: FPAH06
A2: =B2&C2 -> 2017101 | B2: 2017 | C2: 101 | D2: ע. אשקלון | E2: 1 | F2: עו"ס | G2: 81.37 | H2: 68.82 | I2: 1
A3: =B3&C3 -> 2017103 | B3: 2017 | C3: 103 | D3: ע. ירושלים | E3: 1 | F3: עו"ס | G3: 435.87 | H3: 420.22 | I3: 1
A4: =B4&C4 -> 2017104 | B4: 2017 | C4: 104 | D4: ע. אשדוד | E4: 1 | F4: עו"ס | G4: 143.94 | H4: 132.69 | I4: 1
A5: =B5&C5 -> 2017121 | B5: 2017 | C5: 121 | D5: ע. בית שמש | E5: 1 | F5: עו"ס | G5: 50.7 | H5: 41.5 | I5: 1
A6: =B6&C6 -> 2017122 | B6: 2017 | C6: 122 | D6: מ.מ קרית יערים | E6: 1 | F6: עו"ס | G6: 3.48 | H6: 3.11 | I6: 1
A7: =B7&C7 -> 2017124 | B7: 2017 | C7: 124 | D7: מ.מ מבשרת ציון | E7: 1 | F7: עו"ס | G7: 9.84 | H7: 9.84 | I7: 1
A8: =B8&C8 -> 2017126 | B8: 2017 | C8: 126 | D8: מ.מ הר-אדר | E8: 1 | F8: עו"ס | G8: 1.5 | H8: 1.5 | I8: 1
A9: =B9&C9 -> 2017129 | B9: 2017 | C9: 129 | D9: ע. ק.מלאכי | E9: 1 | F9: עו"ס | G9: 23.65 | H9: 19.2 | I9: 1
A10: =B10&C10 -> 2017131 | B10: 2017 | C10: 131 | D10: מ.מ קרית ארבע | E10: 1 | F10: עו"ס | G10: 6.55 | H10: 5.85 | I10: 1
A11: =B11&C11 -> 2017132 | B11: 2017 | C11: 132 | D11: מ.מ יהודי חברון | E11: 1 | F11: עו"ס | G11: 1.45 | H11: 1 | I11: 1
A12: =B12&C12 -> 2017134 | B12: 2017 | C12: 134 | D12: מ.מ בית אל | E12: 1 | F12: עו"ס | G12: 3.43 | H12: 3.43 | I12: 1
A13: =B13&C13 -> 2017139 | B13: 2017 | C13: 139 | D13: מ.מ מעלה אפרים | E13: 1 | F13: עו"ס | G13: 2.58 | H13: 2.58 | I13: 1
... A333: =B333&C333 -> 2018357 | B333: 2018 | C333: 357 | D333: מ.מ קדומים | E333: 1 | F333: עו"ס | G333: 2.28 | H333: 1.95 | I333: 1
A334: =B334&C334 -> 2018358 | B334: 2018 | C334: 358 | D334: מ.מ סביון | E334: 1 | F334: עו"ס | G334: 1.5 | I334: 1
A335: =B335&C335 -> 2018359 | B335: 2018 | C335: 359 | D335: ע. ראש העין | E335: 1 | F335: עו"ס | G335: 23.02 | H335: 21.37 | I335: 1
A336: =B336&C336 -> 2018361 | B336: 2018 | C336: 361 | D336: מ.א ברנר | E336: 1 | F336: עו"ס | G336: 2.78 | H336: 2.68 | I336: 1
A337: =B337&C337 -> 2018362 | B337: 2018 | C337: 362 | D337: מ.א גדרות | E337: 1 | F337: עו"ס | G337: 2.19 | H337: 2.19 | I337: 1
A338: =B338&C338 -> 2018363 | B338: 2018 | C338: 363 | D338: מ.א גזר | E338: 1 | F338: עו"ס | G338: 8.26 | H338: 7.6 | I338: 1
A339: =B339&C339 -> 2018364 | B339: 2018 | C339: 364 | D339: מ.א גן רוה | E339: 1 | F339: עו"ס | G339: 1 | I339: 1
A340: =B340&C340 -> 2018365 | B340: 2018 | C340: 365 | D340: מ.א לב השרון | E340: 1 | F340: עו"ס | G340: 10.44 | H340: 9.94 | I340: 1
A341: =B341&C341 -> 2018366 | B341: 2018 | C341: 366 | D341: ע. אלעד | E341: 1 | F341: עו"ס | G341: 20.58 | H341: 19.43 | I341: 1
A342: =B342&C342 -> 2018368 | B342: 2018 | C342: 368 | D342: מ.א ד.השרון-ר.השבים | E342: 1 | F342: עו"ס | G342: 10.88 | H342: 10.38 | I342: 1
A343: =B343&C343 -> 2018369 | B343: 2018 | C343: 369 | D343: מ.א חבל יבנה | E343: 1 | F343: עו"ס | G343: 2.7 | H343: 2.7 | I343: 1
A344: =B344&C344 -> 2018370 | B344: 2018 | C344: 370 | D344: מ.א חוף השרון | E344: 1 | F344: עו"ס | G344: 4.72 | H344: 3.49 | I344: 1
A345: =B345&C345 -> 2018371 | B345: 2018 | C345: 371 | D345: מ.א חבל מודיעים | E345: 1 | F345: עו"ס | G345: 9.69 | H345: 8.19 | I345: 1
A346: =B346&C346 -> 2018373 | B346: 2018 | C346: 373 | D346: מ.א נחל שורק | E346: 1 | F346: עו"ס | G346: 4.72 | H346: 4.12 | I346: 1
A347: =B347&C347 -> 2018374 | B347: 2018 | C347: 374 | D347: מ.א עמק חפר | E347: 1 | F347: עו"ס | G347: 17.35 | H347: 16.1 | I347: 1
A348: =B348&C348 -> 2018375 | B348: 2018 | C348: 375 | D348: מ.א שדות דן | E348: 1 | F348: עו"ס | G348: 8.26 | H348: 7.45 | I348: 1
A349: =B349&C349 -> 2018377 | B349: 2018 | C349: 377 | D349: מ.א שומרון | E349: 1 | F349: עו"ס | G349: 19.98 | H349: 19.93 | I349: 1
A350: =B350&C350 -> 2018378 | B350: 2018 | C350: 378 | D350: מ.מ אורנית | E350: 1 | F350: עו"ס | G350: 2.13 | H350: 2.13 | I350: 1
A351: =B351&C351 -> 2018379 | B351: 2018 | C351: 379 | D351: מ.מ שוהם | E351: 1 | F351: עו"ס | G351: 5.68 | H351: 5.68 | I351: 1
... A589: =B589&C589 -> 2019357 | B589: 2019 | C589: 357 | D589: מ.מ קדומים | E589: 1 | F589: עו"ס | G589: 2.78 | H589: 2.78 | I589: 1
A590: =B590&C590 -> 2019358 | B590: 2019 | C590: 358 | D590: מ.מ סביון | E590: 1 | F590: עו"ס | G590: 2 | I590: 1
A591: =B591&C591 -> 2019359 | B591: 2019 | C591: 359 | D591: ע. ראש העין | E591: 1 | F591: עו"ס | G591: 26.87 | H591: 22.17 | I591: 1
A592: =B592&C592 -> 2019361 | B592: 2019 | C592: 361 | D592: מ.א ברנר | E592: 1 | F592: עו"ס | G592: 3.18 | H592: 2.78 | I592: 1
A593: =B593&C593 -> 2019362 | B593: 2019 | C593: 362 | D593: מ.א גדרות | E593: 1 | F593: עו"ס | G593: 2.19 | H593: 2.19 | I593: 1
A594: =B594&C594 -> 2019363 | B594: 2019 | C594: 363 | D594: מ.א גזר | E594: 1 | F594: עו"ס | G594: 9.05 | H594: 9.05 | I594: 1
A595: =B595&C595 -> 2019364 | B595: 2019 | C595: 364 | D595: מ.א גן רוה | E595: 1 | F595: עו"ס | G595: 1.5 | H595: 1 | I595: 1
A596: =B596&C596 -> 2019365 | B596: 2019 | C596: 365 | D596: מ.א לב השרון | E596: 1 | F596: עו"ס | G596: 10.67 | H596: 10.17 | I596: 1
...

Sheet כל התקינה
A1: מפתח | B1: שנה | C1: סמל רשות | D1: תאור רשות | E1: כל התקינה | F1: כל האיוש | G1: FPAH06
A2: =B2&C2 -> 2017100 | B2: 2017 | C2: 100 | D2: ע. אילת | E2: 29.46 | F2: 28.46 | G2: 1
A3: =B3&C3 -> 2017101 | B3: 2017 | C3: 101 | D3: ע. אשקלון | E3: 116.54 | F3: 101.59 | G3: 1
A4: =B4&C4 -> 2017102 | B4: 2017 | C4: 102 | D4: ע. באר שבע | E4: 170.84 | F4: 154.3 | G4: 1
A5: =B5&C5 -> 2017103 | B5: 2017 | C5: 103 | D5: ע. ירושלים | E5: 526.14 | F5: 505.99 | G5: 1
A6: =B6&C6 -> 2017104 | B6: 2017 | C6: 104 | D6: ע. אשדוד | E6: 198.84 | F6: 186.49 | G6: 1
A7: =B7&C7 -> 2017105 | B7: 2017 | C7: 105 | D7: ע. דימונה | E7: 45.1 | F7: 39.55 | G7: 1
A8: =B8&C8 -> 2017106 | B8: 2017 | C8: 106 | D8: ע. קרית גת | E8: 56.97 | F8: 53.14 | G8: 1
A9: =B9&C9 -> 2017120 | B9: 2017 | C9: 120 | D9: ע. אופקים | E9: 32.59 | F9: 29.26 | G9: 1
A10: =B10&C10 -> 2017121 | B10: 2017 | C10: 121 | D10: ע. בית שמש | E10: 65.2 | F10: 54.25 | G10: 1
A11: =B11&C11 -> 2017122 | B11: 2017 | C11: 122 | D11: מ.מ קרית יערים | E11: 3.73 | F11: 3.36 | G11: 1
A12: =B12&C12 -> 2017123 | B12: 2017 | C12: 123 | D12: מ.מ ירוחם | E12: 19.57 | F12: 18.57 | G12: 1
A13: =B13&C13 -> 2017124 | B13: 2017 | C13: 124 | D13: מ.מ מבשרת ציון | E13: 11.84 | F13: 11.84 | G13: 1
... A1025: =B1025&C1025 -> 2020694 | B1025: 2020 | C1025: 694 | D1025: מ.מ זרזיר | E1025: 8.43 | F1025: 8.43 | G1025: 1

Sheet נתוני יסוד
A1: מפתח | B1: שנה | C1: רשות | D1: סמל רשות | E1: סך נפשות | F1: סך משפחות / תיקים | G1: תקן עו"ס | H1: איוש עו"ס | I1: כל התקינה | J1: כל האיוש | K1: יחס תיקים לאיוש עו"ס
A2: =B2&D2 -> 2017100 | B2: 2017 | C2: 100 אילת | D2: 100 | E2: 6637 | F2: 3100 | G2: =IFERROR(VLOOKUP(A2,'רק עוס'!$A$2:$H$299999,7,FALSE),0) -> 25.14 | H2: =IFERROR(VLOOKUP(A2,'רק עוס'!$A$2:$H$299999,8,FALSE),0) -> 24.14 | I2: =IFERROR(VLOOKUP(A2,'כל התקינה'!$A$2:$F$29999,5,FALSE),0) -> 29.46 | J2: =IFERROR(VLOOKUP(A2,'כל התקינה'!$A$2:$F$29999,6,FALSE),0) -> 28.46 | K2: =IFERROR(F2/H2,0) -> 128.41756
A3: =B3&D3 -> 2017101 | B3: 2017 | C3: 101 אשקלון | D3: 101 | E3: 19396 | F3: 10128 | G3: =IFERROR(VLOOKUP(A3,'רק עוס'!$A$2:$H$299999,7,FALSE),0) -> 81.37 | H3: =IFERROR(VLOOKUP(A3,'רק עוס'!$A$2:$H$299999,8,FALSE),0) -> 68.82 | I3: =IFERROR(VLOOKUP(A3,'כל התקינה'!$A$2:$F$29999,5,FALSE),0) -> 116.54 | J3: =IFERROR(VLOOKUP(A3,'כל התקינה'!$A$2:$F$29999,6,FALSE),0) -> 101.59 | K3: =IFERROR(F3/H3,0) -> 147.16652
A4: =B4&D4 -> 2017102 | B4: 2017 | C4: 102 באר שבע | D4: 102 | E4: 31388 | F4: 15987 | G4: =IFERROR(VLOOKUP(A4,'רק עוס'!$A$2:$H$299999,7,FALSE),0) -> 132.79 | H4: =IFERROR(VLOOKUP(A4,'רק עוס'!$A$2:$H$299999,8,FALSE),0) -> 117.05 | I4: =IFERROR(VLOOKUP(A4,'כל התקינה'!$A$2:$F$29999,5,FALSE),0) -> 170.84 | J4: =IFERROR(VLOOKUP(A4,'כל התקינה'!$A$2:$F$29999,6,FALSE),0) -> 154.3 | K4: =IFERROR(F4/H4,0) -> 136.58266
A5: =B5&D5 -> 2017103 | B5: 2017 | C5: 103 ירושלים | D5: 103 | E5: 122278 | F5: 43894 | G5: =IFERROR(VLOOKUP(A5,'רק עוס'!$A$2:$H$299999,7,FALSE),0) -> 435.87 | H5: =IFERROR(VLOOKUP(A5,'רק עוס'!$A$2:$H$299999,8,FALSE),0) -> 420.22 | I5: =IFERROR(VLOOKUP(A5,'כל התקינה'!$A$2:$F$29999,5,FALSE),0) -> 526.14 | J5: =IFERROR(VLOOKUP(A5,'כל התקינה'!$A$2:$F$29999,6,FALSE),0) -> 505.99 | K5: =IFERROR(F5/H5,0) -> 104.45481
A6: =B6&D6 -> 2017104 | B6: 2017 | C6: 104 אשדוד | D6: 104 | E6: 31830 | F6: 15943 | G6: =IFERROR(VLOOKUP(A6,'רק עוס'!$A$2:$H$299999,7,FALSE),0) -> 143.94 | H6: =IFERROR(VLOOKUP(A6,'רק עוס'!$A$2:$H$299999,8,FALSE),0) -> 132.69 | I6: =IFERROR(VLOOKUP(A6,'כל התקינה'!$A$2:$F$29999,5,FALSE),0) -> 198.84 | J6: =IFERROR(VLOOKUP(A6,'כל התקינה'!$A$2:$F$29999,6,FALSE),0) -> 186.49 | K6: =IFERROR(F6/H6,0) -> 120.15223
A7: =B7&D7 -> 2017105 | B7: 2017 | C7: 105 דימונה | D7: 105 | E7: 7371 | F7: 3415 | G7: =IFERROR(VLOOKUP(A7,'רק עוס'!$A$2:$H$299999,7,FALSE),0) -> 30.8 | H7: =IFERROR(VLOOKUP(A7,'רק עוס'!$A$2:$H$299999,8,FALSE),0) -> 25.25 | I7: =IFERROR(VLOOKUP(A7,'כל התקינה'!$A$2:$F$29999,5,FALSE),0) -> 45.1 | J7: =IFERROR(VLOOKUP(A7,'כל התקינה'!$A$2:$F$29999,6,FALSE),0) -> 39.55 | K7: =IFERROR(F7/H7,0) -> 135.24752
A8: =B8&D8 -> 2017106 | B8: 2017 | C8: 106 קרית גת | D8: 106 | E8: 9583 | F8: 4288 | G8: =IFERROR(VLOOKUP(A8,'רק עוס'!$A$2:$H$299999,7,FALSE),0) -> 45.01 | H8: =IFERROR(VLOOKUP(A8,'רק עוס'!$A$2:$H$299999,8,FALSE),0) -> 42.18 | I8: =IFERROR(VLOOKUP(A8,'כל התקינה'!$A$2:$F$29999,5,FALSE),0) -> 56.97 | J8: =IFERROR(VLOOKUP(A8,'כל התקינה'!$A$2:$F$29999,6,FALSE),0) -> 53.14 | K8: =IFERROR(F8/H8,0) -> 101.65955
A9: =B9&D9 -> 2017120 | B9: 2017 | C9: 120 אופקים | D9: 120 | E9: 4321 | F9: 1962 | G9: =IFERROR(VLOOKUP(A9,'רק עוס'!$A$2:$H$299999,7,FALSE),0) -> 23.39 | H9: =IFERROR(VLOOKUP(A9,'רק עוס'!$A$2:$H$299999,8,FALSE),0) -> 20.76 | I9: =IFERROR(VLOOKUP(A9,'כל התקינה'!$A$2:$F$29999,5,FALSE),0) -> 32.59 | J9: =IFERROR(VLOOKUP(A9,'כל התקינה'!$A$2:$F$29999,6,FALSE),0) -> 29.26 | K9: =IFERROR(F9/H9,0) -> 94.508671
A10: =B10&D10 -> 2017121 | B10: 2017 | C10: 121 בית שמש | D10: 121 | E10: 14684 | F10: 3964 | G10: =IFERROR(VLOOKUP(A10,'רק עוס'!$A$2:$H$299999,7,FALSE),0) -> 50.7 | H10: =IFERROR(VLOOKUP(A10,'רק עוס'!$A$2:$H$299999,8,FALSE),0) -> 41.5 | I10: =IFERROR(VLOOKUP(A10,'כל התקינה'!$A$2:$F$29999,5,FALSE),0) -> 65.2 | J10: =IFERROR(VLOOKUP(A10,'כל התקינה'!$A$2:$F$29999,6,FALSE),0) -> 54.25 | K10: =IFERROR(F10/H10,0) -> 95.518072
A11: =B11&D11 -> 2017122 | B11: 2017 | C11: 122 קרית יערים | D11: 122 | E11: 1364 | F11: 273 | G11: =IFERROR(VLOOKUP(A11,'רק עוס'!$A$2:$H$299999,7,FALSE),0) -> 3.48 | H11: =IFERROR(VLOOKUP(A11,'רק עוס'!$A$2:$H$299999,8,FALSE),0) -> 3.11 | I11: =IFERROR(VLOOKUP(A11,'כל התקינה'!$A$2:$F$29999,5,FALSE),0) -> 3.73 | J11: =IFERROR(VLOOKUP(A11,'כל התקינה'!$A$2:$F$29999,6,FALSE),0) -> 3.36 | K11: =IFERROR(F11/H11,0) -> 87.78135
A12: =B12&D12 -> 2017123 | B12: 2017 | C12: 123 ירוחם | D12: 123 | E12: 2614 | F12: 973 | G12: =IFERROR(VLOOKUP(A12,'רק עוס'!$A$2:$H$299999,7,FALSE),0) -> 14.54 | H12: =IFERROR(VLOOKUP(A12,'רק עוס'!$A$2:$H$299999,8,FALSE),0) -> 13.54 | I12: =IFERROR(VLOOKUP(A12,'כל התקינה'!$A$2:$F$29999,5,FALSE),0) -> 19.57 | J12: =IFERROR(VLOOKUP(A12,'כל התקינה'!$A$2:$F$29999,6,FALSE),0) -> 18.57 | K12: =IFERROR(F12/H12,0) -> 71.861152
A13: =B13&D13 -> 2017124 | B13: 2017 | C13: 124 מבשרת ציון | D13: 124 | E13: 1929 | F13: 884 | G13: =IFERROR(VLOOKUP(A13,'רק עוס'!$A$2:$H$299999,7,FALSE),0) -> 9.84 | H13: =IFERROR(VLOOKUP(A13,'רק עוס'!$A$2:$H$299999,8,FALSE),0) -> 9.84 | I13: =IFERROR(VLOOKUP(A13,'כל התקינה'!$A$2:$F$29999,5,FALSE),0) -> 11.84 | J13: =IFERROR(VLOOKUP(A13,'כל התקינה'!$A$2:$F$29999,6,FALSE),0) -> 11.84 | K13: =IFERROR(F13/H13,0) -> 89.837398
... A257: =B257&D257 -> 2017694 | B257: 2017 | C257: 694 זרזיר | D257: 694 | E257: 1644 | F257: 526 | G257: =IFERROR(VLOOKUP(A257,'רק עוס'!$A$2:$H$299999,7,FALSE),0) -> 5.93 | H257: =IFERROR(VLOOKUP(A257,'רק עוס'!$A$2:$H$299999,8,FALSE),0) -> 5.9 | I257: =IFERROR(VLOOKUP(A257,'כל התקינה'!$A$2:$F$29999,5,FALSE),0) -> 6.13 | J257: =IFERROR(VLOOKUP(A257,'כל התקינה'!$A$2:$F$29999,6,FALSE),0) -> 5.9 | K257: =IFERROR(F257/H257,0) -> 89.152542
B258: 2017 סה"כ | E258: =SUBTOTAL(9,E2:E257) -> 1312854 | F258: =SUBTOTAL(9,F2:F257) -> 535340 | G258: =SUBTOTAL(9,G2:G257) -> 4867.57 | H258: =SUBTOTAL(9,H2:H257) -> 4333.61 | I258: =SUBTOTAL(9,I2:I257) -> 6166.52 | J258: =SUBTOTAL(9,J2:J257) -> 5526.66 | K258: =IFERROR(F258/H258,0) -> 123.53211
A259: =B259&D259 -> 2018100 | B259: 2018 | C259: 100 אילת | D259: 100 | E259: 5321 | F259: 2485 | G259: =IFERROR(VLOOKUP(A259,'רק עוס'!$A$2:$H$299999,7,FALSE),0) -> 26.69 | H259: =IFERROR(VLOOKUP(A259,'רק עוס'!$A$2:$H$299999,8,FALSE),0) -> 25.19 | I259: =IFERROR(VLOOKUP(A259,'כל התקינה'!$A$2:$F$29999,5,FALSE),0) -> 32.01 | J259: =IFERROR(VLOOKUP(A259,'כל התקינה'!$A$2:$F$29999,6,FALSE),0) -> 30.48 | K259: =IFERROR(F259/H259,0) -> 98.650258
A260: =B260&D260 -> 2018101 | B260: 2018 | C260: 101 אשקלון | D260: 101 | E260: 19133 | F260: 10151 | G260: =IFERROR(VLOOKUP(A260,'רק עוס'!$A$2:$H$299999,7,FALSE),0) -> 84.13 | H260: =IFERROR(VLOOKUP(A260,'רק עוס'!$A$2:$H$299999,8,FALSE),0) -> 78.72 | I260: =IFERROR(VLOOKUP(A260,'כל התקינה'!$A$2:$F$29999,5,FALSE),0) -> 119.3 | J260: =IFERROR(VLOOKUP(A260,'כל התקינה'!$A$2:$F$29999,6,FALSE),0) -> 113.89 | K260: =IFERROR(F260/H260,0) -> 128.95071
A261: =B261&D261 -> 2018102 | B261: 2018 | C261: 102 באר שבע | D261: 102 | E261: 30447 | F261: 15276 | G261: =IFERROR(VLOOKUP(A261,'רק עוס'!$A$2:$H$299999,7,FALSE),0) -> 141.6 | H261: =IFERROR(VLOOKUP(A261,'רק עוס'!$A$2:$H$299999,8,FALSE),0) -> 123.87 | I261: =IFERROR(VLOOKUP(A261,'כל התקינה'!$A$2:$F$29999,5,FALSE),0) -> 181.15 | J261: =IFERROR(VLOOKUP(A261,'כל התקינה'!$A$2:$F$29999,6,FALSE),0) -> 159.42 | K261: =IFERROR(F261/H261,0) -> 123.32284
A262: =B262&D262 -> 2018103 | B262: 2018 | C262: 103 ירושלים | D262: 103 | E262: 123158 | F262: 44450 | G262: =IFERROR(VLOOKUP(A262,'רק עוס'!$A$2:$H$299999,7,FALSE),0) -> 463.04 | H262: =IFERROR(VLOOKUP(A262,'רק עוס'!$A$2:$H$299999,8,FALSE),0) -> 458.44 | I262: =IFERROR(VLOOKUP(A262,'כל התקינה'!$A$2:$F$29999,5,FALSE),0) -> 563.31 | J262: =IFERROR(VLOOKUP(A262,'כל התקינה'!$A$2:$F$29999,6,FALSE),0) -> 554.96 | K262: =IFERROR(F262/H262,0) -> 96.959253
A263: =B263&D263 -> 2018104 | B263: 2018 | C263: 104 אשדוד | D263: 104 | E263: 30738 | F263: 15653 | G263: =IFERROR(VLOOKUP(A263,'רק עוס'!$A$2:$H$299999,7,FALSE),0) -> 146.4 | H263: =IFERROR(VLOOKUP(A263,'רק עוס'!$A$2:$H$299999,8,FALSE),0) -> 139.63 | I263: =IFERROR(VLOOKUP(A263,'כל התקינה'!$A$2:$F$29999,5,FALSE),0) -> 201.3 | J263: =IFERROR(VLOOKUP(A263,'כל התקינה'!$A$2:$F$29999,6,FALSE),0) -> 192.53 | K263: =IFERROR(F263/H263,0) -> 112.10342
A264: =B264&D264 -> 2018105 | B264: 2018 | C264: 105 דימונה | D264: 105 | E264: 6601 | F264: 3136 | G264: =IFERROR(VLOOKUP(A264,'רק עוס'!$A$2:$H$299999,7,FALSE),0) -> 31.25 | H264: =IFERROR(VLOOKUP(A264,'רק עוס'!$A$2:$H$299999,8,FALSE),0) -> 26.3 | I264: =IFERROR(VLOOKUP(A264,'כל התקינה'!$A$2:$F$29999,5,FALSE),0) -> 45.55 | J264: =IFERROR(VLOOKUP(A264,'כל התקינה'!$A$2:$F$29999,6,FALSE),0) -> 40.6 | K264: =IFERROR(F264/H264,0) -> 119.23954
A265: =B265&D265 -> 2018106 | B265: 2018 | C265: 106 קרית גת | D265: 106 | E265: 8704 | F265: 3892 | G265: =IFERROR(VLOOKUP(A265,'רק עוס'!$A$2:$H$299999,7,FALSE),0) -> 46.31 | H265: =IFERROR(VLOOKUP(A265,'רק עוס'!$A$2:$H$299999,8,FALSE),0) -> 43.31 | I265: =IFERROR(VLOOKUP(A265,'כל התקינה'!$A$2:$F$29999,5,FALSE),0) -> 57.27 | J265: =IFERROR(VLOOKUP(A265,'כל התקינה'!$A$2:$F$29999,6,FALSE),0) -> 54.27 | K265: =IFERROR(F265/H265,0) -> 89.863773
A266: =B266&D266 -> 2018120 | B266: 2018 | C266: 120 אופקים | D266: 120 | E266: 4443 | F266: 2017 | G266: =IFERROR(VLOOKUP(A266,'רק עוס'!$A$2:$H$299999,7,FALSE),0) -> 27.14 | H266: =IFERROR(VLOOKUP(A266,'רק עוס'!$A$2:$H$299999,8,FALSE),0) -> 25.14 | I266: =IFERROR(VLOOKUP(A266,'כל התקינה'!$A$2:$F$29999,5,FALSE),0) -> 35.34 | J266: =IFERROR(VLOOKUP(A266,'כל התקינה'!$A$2:$F$29999,6,FALSE),0) -> 33.34 | K266: =IFERROR(F266/H266,0) -> 80.230708
A267: =B267&D267 -> 2018121 | B267: 2018 | C267: 121 בית שמש | D267: 121 | E267: 15247 | F267: 4184 | G267: =IFERROR(VLOOKUP(A267,'רק עוס'!$A$2:$H$299999,7,FALSE),0) -> 50.88 | H267: =IFERROR(VLOOKUP(A267,'רק עוס'!$A$2:$H$299999,8,FALSE),0) -> 41.75 | I267: =IFERROR(VLOOKUP(A267,'כל התקינה'!$A$2:$F$29999,5,FALSE),0) -> 65.38 | J267: =IFERROR(VLOOKUP(A267,'כל התקינה'!$A$2:$F$29999,6,FALSE),0) -> 55 | K267: =IFERROR(F267/H267,0) -> 100.21557
A268: =B268&D268 -> 2018122 | B268: 2018 | C268: 122 קרית יערים | D268: 122 | E268: 1451 | F268: 300 | G268: =IFERROR(VLOOKUP(A268,'רק עוס'!$A$2:$H$299999,7,FALSE),0) -> 3.48 | H268: =IFERROR(VLOOKUP(A268,'רק עוס'!$A$2:$H$299999,8,FALSE),0) -> 3.48 | I268: =IFERROR(VLOOKUP(A268,'כל התקינה'!$A$2:$F$29999,5,FALSE),0) -> 3.73 | J268: =IFERROR(VLOOKUP(A268,'כל התקינה'!$A$2:$F$29999,6,FALSE),0) -> 3.73 | K268: =IFERROR(F268/H268,0) -> 86.206897
A269: =B269&D269 -> 2018123 | B269: 2018 | C269: 123 ירוחם | D269: 123 | E269: 2642 | F269: 980 | G269: =IFERROR(VLOOKUP(A269,'רק עוס'!$A$2:$H$299999,7,FALSE),0) -> 14.79 | H269: =IFERROR(VLOOKUP(A269,'רק עוס'!$A$2:$H$299999,8,FALSE),0) -> 13.2 | I269: =IFERROR(VLOOKUP(A269,'כל התקינה'!$A$2:$F$29999,5,FALSE),0) -> 20.32 | J269: =IFERROR(VLOOKUP(A269,'כל התקינה'!$A$2:$F$29999,6,FALSE),0) -> 18.73 | K269: =IFERROR(F269/H269,0) -> 74.242424
A270: =B270&D270 -> 2018124 | B270: 2018 | C270: 124 מבשרת ציון | D270: 124 | E270: 1958 | F270: 909 | G270: =IFERROR(VLOOKUP(A270,'רק עוס'!$A$2:$H$299999,7,FALSE),0) -> 10.66 | H270: =IFERROR(VLOOKUP(A270,'רק עוס'!$A$2:$H$299999,8,FALSE),0) -> 9.38 | I270: =IFERROR(VLOOKUP(A270,'כל התקינה'!$A$2:$F$29999,5,FALSE),0) -> 12.66 | J270: =IFERROR(VLOOKUP(A270,'כל התקינה'!$A$2:$F$29999,6,FALSE),0) -> 11.38 | K270: =IFERROR(F270/H270,0) -> 96.908316
... A514: =B514&D514 -> 2018694 | B514: 2018 | C514: 694 זרזיר | D514: 694 | E514: 1553 | F514: 534 | G514: =IFERROR(VLOOKUP(A514,'רק עוס'!$A$2:$H$299999,7,FALSE),0) -> 5.93 | H514: =IFERROR(VLOOKUP(A514,'רק עוס'!$A$2:$H$299999,8,FALSE),0) -> 5.9 | I514: =IFERROR(VLOOKUP(A514,'כל התקינה'!$A$2:$F$29999,5,FALSE),0) -> 6.13 | J514: =IFERROR(VLOOKUP(A514,'כל התקינה'!$A$2:$F$29999,6,FALSE),0) -> 5.9 | K514: =IFERROR(F514/H514,0) -> 90.508475
B515: 2018 סה"כ | E515: =SUBTOTAL(9,E259:E514) -> 1242452 | F515: =SUBTOTAL(9,F259:F514) -> 515008 | G515: =SUBTOTAL(9,G259:G514) -> 5010.61 | H515: =SUBTOTAL(9,H259:H514) -> 4605.8 | I515: =SUBTOTAL(9,I259:I514) -> 6317.02 | J515: =SUBTOTAL(9,J259:J514) -> 5828.85 | K515: =IFERROR(F515/H515,0) -> 111.81727
A516: =B516&D516 -> 2019100 | B516: 2019 | C516: 100 אילת | D516: 100 | E516: 5910 | F516: 2691 | G516: =IFERROR(VLOOKUP(A516,'רק עוס'!$A$2:$H$299999,7,FALSE),0) -> 32.68 | H516: =IFERROR(VLOOKUP(A516,'רק עוס'!$A$2:$H$299999,8,FALSE),0) -> 31.66 | I516: =IFERROR(VLOOKUP(A516,'כל התקינה'!$A$2:$F$29999,5,FALSE),0) -> 38.09 | J516: =IFERROR(VLOOKUP(A516,'כל התקינה'!$A$2:$F$29999,6,FALSE),0) -> 37.07 | K516: =IFERROR(F516/H516,0) -> 84.996841
A517: =B517&D517 -> 2019101 | B517: 2019 | C517: 101 אשקלון | D517: 101 | E517: 12525 | F517: 5598 | G517: =IFERROR(VLOOKUP(A517,'רק עוס'!$A$2:$H$299999,7,FALSE),0) -> 92.35 | H517: =IFERROR(VLOOKUP(A517,'רק עוס'!$A$2:$H$299999,8,FALSE),0) -> 86.28 | I517: =IFERROR(VLOOKUP(A517,'כל התקינה'!$A$2:$F$29999,5,FALSE),0) -> 128.02 | J517: =IFERROR(VLOOKUP(A517,'כל התקינה'!$A$2:$F$29999,6,FALSE),0) -> 121.95 | K517: =IFERROR(F517/H517,0) -> 64.88178
A518: =B518&D518 -> 2019102 | B518: 2019 | C518: 102 באר שבע | D518: 102 | E518: 29607 | F518: 14308 | G518: =IFERROR(VLOOKUP(A518,'רק עוס'!$A$2:$H$299999,7,FALSE),0) -> 163.43 | H518: =IFERROR(VLOOKUP(A518,'רק עוס'!$A$2:$H$299999,8,FALSE),0) -> 137.13 | I518: =IFERROR(VLOOKUP(A518,'כל התקינה'!$A$2:$F$29999,5,FALSE),0) -> 203.98 | J518: =IFERROR(VLOOKUP(A518,'כל התקינה'!$A$2:$F$29999,6,FALSE),0) -> 173.53 | K518: =IFERROR(F518/H518,0) -> 104.33895
A519: =B519&D519 -> 2019103 | B519: 2019 | C519: 103 ירושלים | D519: 103 | E519: 117343 | F519: 40347 | G519: =IFERROR(VLOOKUP(A519,'רק עוס'!$A$2:$H$299999,7,FALSE),0) -> 504.02 | H519: =IFERROR(VLOOKUP(A519,'רק עוס'!$A$2:$H$299999,8,FALSE),0) -> 478.77 | I519: =IFERROR(VLOOKUP(A519,'כל התקינה'!$A$2:$F$29999,5,FALSE),0) -> 604.72 | J519: =IFERROR(VLOOKUP(A519,'כל התקינה'!$A$2:$F$29999,6,FALSE),0) -> 577.47 | K519: =IFERROR(F519/H519,0) -> 84.272198
A520: =B520&D520 -> 2019104 | B520: 2019 | C520: 104 אשדוד | D520: 104 | E520: 28550 | F520: 13506 | G520: =IFERROR(VLOOKUP(A520,'רק עוס'!$A$2:$H$299999,7,FALSE),0) -> 166.65 | H520: =IFERROR(VLOOKUP(A520,'רק עוס'!$A$2:$H$299999,8,FALSE),0) -> 139.98 | I520: =IFERROR(VLOOKUP(A520,'כל התקינה'!$A$2:$F$29999,5,FALSE),0) -> 222.05 | J520: =IFERROR(VLOOKUP(A520,'כל התקינה'!$A$2:$F$29999,6,FALSE),0) -> 193.38 | K520: =IFERROR(F520/H520,0) -> 96.485212
A521: =B521&D521 -> 2019105 | B521: 2019 | C521: 105 דימונה | D521: 105 | E521: 5726 | F521: 2505 | G521: =IFERROR(VLOOKUP(A521,'רק עוס'!$A$2:$H$299999,7,FALSE),0) -> 35.25 | H521: =IFERROR(VLOOKUP(A521,'רק עוס'!$A$2:$H$299999,8,FALSE),0) -> 25.29 | I521: =IFERROR(VLOOKUP(A521,'כל התקינה'!$A$2:$F$29999,5,FALSE),0) -> 49.55 | J521: =IFERROR(VLOOKUP(A521,'כל התקינה'!$A$2:$F$29999,6,FALSE),0) -> 39.34 | K521: =IFERROR(F521/H521,0) -> 99.051008
A522: =B522&D522 -> 2019106 | B522: 2019 | C522: 106 קרית גת | D522: 106 | E522: 8013 | F522: 3437 | G522: =IFERROR(VLOOKUP(A522,'רק עוס'!$A$2:$H$299999,7,FALSE),0) -> 51.47 | H522: =IFERROR(VLOOKUP(A522,'רק עוס'!$A$2:$H$299999,8,FALSE),0) -> 46.22 | I522: =IFERROR(VLOOKUP(A522,'כל התקינה'!$A$2:$F$29999,5,FALSE),0) -> 64.02 | J522: =IFERROR(VLOOKUP(A522,'כל התקינה'!$A$2:$F$29999,6,FALSE),0) -> 57.77 | K522: =IFERROR(F522/H522,0) -> 74.361748
A523: =B523&D523 -> 2019120 | B523: 2019 | C523: 120 אופקים | D523: 120 | E523: 4872 | F523: 2136 | G523: =IFERROR(VLOOKUP(A523,'רק עוס'!$A$2:$H$299999,7,FALSE),0) -> 29.52 | H523: =IFERROR(VLOOKUP(A523,'רק עוס'!$A$2:$H$299999,8,FALSE),0) -> 27.44 | I523: =IFERROR(VLOOKUP(A523,'כל התקינה'!$A$2:$F$29999,5,FALSE),0) -> 37.72 | J523: =IFERROR(VLOOKUP(A523,'כל התקינה'!$A$2:$F$29999,6,FALSE),0) -> 35.39 | K523: =IFERROR(F523/H523,0) -> 77.842566
A524: =B524&D524 -> 2019121 | B524: 2019 | C524: 121 בית שמש | D524: 121 | E524: 15235 | F524: 4045 | G524: =IFERROR(VLOOKUP(A524,'רק עוס'!$A$2:$H$299999,7,FALSE),0) -> 56.86 | H524: =IFERROR(VLOOKUP(A524,'רק עוס'!$A$2:$H$299999,8,FALSE),0) -> 49.9 | I524: =IFERROR(VLOOKUP(A524,'כל התקינה'!$A$2:$F$29999,5,FALSE),0) -> 71.36 | J524: =IFERROR(VLOOKUP(A524,'כל התקינה'!$A$2:$F$29999,6,FALSE),0) -> 63.4 | K524: =IFERROR(F524/H524,0) -> 81.062124
A525: =B525&D525 -> 2019122 | B525: 2019 | C525: 122 קרית יערים | D525: 122 | E525: 1554 | F525: 328 | G525: =IFERROR(VLOOKUP(A525,'רק עוס'!$A$2:$H$299999,7,FALSE),0) -> 3.98 | H525: =IFERROR(VLOOKUP(A525,'רק עוס'!$A$2:$H$299999,8,FALSE),0) -> 3.56 | I525: =IFERROR(VLOOKUP(A525,'כל התקינה'!$A$2:$F$29999,5,FALSE),0) -> 4.23 | J525: =IFERROR(VLOOKUP(A525,'כל התקינה'!$A$2:$F$29999,6,FALSE),0) -> 3.81 | K525: =IFERROR(F525/H525,0) -> 92.134831
A526: =B526&D526 -> 2019123 | B526: 2019 | C526: 123 ירוחם | D526: 123 | E526: 2774 | F526: 990 | G526: =IFERROR(VLOOKUP(A526,'רק עוס'!$A$2:$H$299999,7,FALSE),0) -> 16.97 | H526: =IFERROR(VLOOKUP(A526,'רק עוס'!$A$2:$H$299999,8,FALSE),0) -> 12.93 | I526: =IFERROR(VLOOKUP(A526,'כל התקינה'!$A$2:$F$29999,5,FALSE),0) -> 22.47 | J526: =IFERROR(VLOOKUP(A526,'כל התקינה'!$A$2:$F$29999,6,FALSE),0) -> 16.43 | K526: =IFERROR(F526/H526,0) -> 76.566125
...

Sheet תנאי חתך
A1: בס"ד
A3: שנה | B3: עיבוד נתוני יסוד | C3: עיבוד כ"א ברשו"מ
A4: 2020 | B4: 44136 | C4: 44105
A5: 2019 | B5: 47453 | C5: 43739
A6: 2018 | B6: 43435 | C6: 43374
A7: 2017 | B7: 43070 | C7: 43009
A10: * | B10: נתנוי סוף שנה בכ"א בשרשו"מ זה חודש אוקטובר ונתוני יסוד זה דצמברלמעט שנת 2020 נתוני יסוד זה העיבוד האחרון הקיים במערכות הbi
