Workbook

Sheet גיליון1
A1: סמל מחוז | B1: תאור מחוז | C1: סמל רשות | D1: תאור רשות | E1: תקני זרים קורבנות סחר | F1: איוש זרים קורבנות סחר
A2: 1 | B2: ירושלים | C2: 104 | D2: ע. אשדוד | E2: 0.5 | F2: 0.5
A3: 1 | B3: ירושלים | C3: 101 | D3: ע. אשקלון | E3: 0.5 | F3: 0.5
A4: 1 | B4: ירושלים | C4: 103 | D4: ע. ירושלים | E4: 0.75 | F4: 0.75
B5: ירושלים סה"כ | E5: =SUBTOTAL(9,E2:E4) -> 1.75 | F5: =SUBTOTAL(9,F2:F4) -> 1.75
A6: 2 | B6: תל - אביב | C6: 307 | D6: ע. נתניה | E6: 0.75 | F6: 0.75
A7: 2 | B7: תל - אביב | C7: 308 | D7: ע. פתח תקוה | E7: 1 | F7: 1
A8: 2 | B8: תל - אביב | C8: 309 | D8: ע. ראשל"צ | E8: 0.5 | F8: 0.5
A9: 2 | B9: תל - אביב | C9: 310 | D9: ע. רחובות | E9: 0.5 | G9: לא אוייש
A10: 2 | B10: תל - אביב | C10: 313 | D10: ע. תל אביב | E10: 4.75 | F10: 4.75
B11: תל - אביב סה"כ | E11: =SUBTOTAL(9,E6:E10) -> 7.5 | F11: =SUBTOTAL(9,F6:F10) -> 7
A12: 4 | B12: דרום | C12: 100 | D12: ע. אילת | E12: 0.75 | F12: 0.75
B13: דרום סה"כ | E13: =SUBTOTAL(9,E12:E12) -> 0.75 | F13: =SUBTOTAL(9,F12:F12) -> 0.75
B14: סכום כולל | E14: =SUBTOTAL(9,E2:E12) -> 10 | F14: =SUBTOTAL(9,F2:F12) -> 9.5

Sheet גיליון2
A1: kvozat_teken | B1: הקבוצה | C1: סמל מחוז | D1: תאור מחוז | E1: סמל רשות | F1: תאור רשות | G1: תקני זרים קורבנות סחר | H1: איוש זרים קורבנות סחר | I1: מועד איוש התקן | J1: סה"כ התקציבים שהועברו לטובת התקנים בחלוקה לערים | K1: האחוז שמהווים התקנים מכלל התקנים בעירייה
A2: 30 | B2: זרים קורבנות סחר | C2: 1 | D2: ירושלים | E2: 101 | F2: ע. אשקלון | G2: 0.5 | H2: 0.5 | I2: 43952 | J2: =IFERROR(VLOOKUP(E2,גיליון5!$A$2:$D$10,4,FALSE),0) -> 80278 | K2: =G2/(IFERROR(VLOOKUP(E2,גיליון6!$C$3:$E$333,3,FALSE),0)) -> 0.0038150465
A3: 30 | B3: זרים קורבנות סחר | C3: 1 | D3: ירושלים | E3: 103 | F3: ע. ירושלים | G3: 0.75 | H3: 0.75 | I3: 43525 | J3: =IFERROR(VLOOKUP(E3,גיליון5!$A$2:$D$10,4,FALSE),0) -> 198745 | K3: =G3/(IFERROR(VLOOKUP(E3,גיליון6!$C$3:$E$333,3,FALSE),0)) -> 0.00122525
A4: 30 | B4: זרים קורבנות סחר | C4: 1 | D4: ירושלים | E4: 104 | F4: ע. אשדוד | G4: 0.5 | H4: 0.5 | I4: 44013 | J4: =IFERROR(VLOOKUP(E4,גיליון5!$A$2:$D$10,4,FALSE),0) -> 50039 | K4: =G4/(IFERROR(VLOOKUP(E4,גיליון6!$C$3:$E$333,3,FALSE),0)) -> 0.0023550469
D5: ירושלים סה"כ | G5: =SUBTOTAL(9,G2:G4) -> 1.75 | H5: =SUBTOTAL(9,H2:H4) -> 1.75 | J5: =SUBTOTAL(9,J2:J4) -> 329062 | K5: =SUBTOTAL(9,K2:K4) -> 0.0073953434
A6: 30 | B6: זרים קורבנות סחר | C6: 2 | D6: תל - אביב | E6: 307 | F6: ע. נתניה | G6: 0.75 | H6: 0.75 | I6: 43586 | J6: =IFERROR(VLOOKUP(E6,גיליון5!$A$2:$D$10,4,FALSE),0) -> 192932 | K6: =G6/(IFERROR(VLOOKUP(E6,גיליון6!$C$3:$E$333,3,FALSE),0)) -> 0.0041109406
A7: 30 | B7: זרים קורבנות סחר | C7: 2 | D7: תל - אביב | E7: 308 | F7: ע. פתח תקוה | G7: 1 | H7: 1 | I7: 43466 | J7: =IFERROR(VLOOKUP(E7,גיליון5!$A$2:$D$10,4,FALSE),0) -> 286612 | K7: =G7/(IFERROR(VLOOKUP(E7,גיליון6!$C$3:$E$333,3,FALSE),0)) -> 0.0067654421
A8: 30 | B8: זרים קורבנות סחר | C8: 2 | D8: תל - אביב | E8: 309 | F8: ע. ראשל"צ | G8: 0.5 | H8: 0.5 | I8: 44136 | J8: =IFERROR(VLOOKUP(E8,גיליון5!$A$2:$D$10,4,FALSE),0) -> 44150 | K8: =G8/(IFERROR(VLOOKUP(E8,גיליון6!$C$3:$E$333,3,FALSE),0)) -> 0.0033204941
A9: 30 | B9: זרים קורבנות סחר | C9: 2 | D9: תל - אביב | E9: 310 | F9: ע. רחובות | G9: 0.5 | H9: 0.5 | I9: 44166 | J9: =IFERROR(VLOOKUP(E9,גיליון5!$A$2:$D$10,4,FALSE),0) -> 35872 | K9: =G9/(IFERROR(VLOOKUP(E9,גיליון6!$C$3:$E$333,3,FALSE),0)) -> 0.0052224775
A10: 30 | B10: זרים קורבנות סחר | C10: 2 | D10: תל - אביב | E10: 313 | F10: ע. תל אביב | G10: 4.75 | H10: 4.75 | I10: 43466 | J10: =IFERROR(VLOOKUP(E10,גיליון5!$A$2:$D$10,4,FALSE),0) -> 1543523 | K10: =G10/(IFERROR(VLOOKUP(E10,גיליון6!$C$3:$E$333,3,FALSE),0)) -> 0.015811198
D11: תל - אביב סה"כ | G11: =SUBTOTAL(9,G6:G10) -> 7.5 | H11: =SUBTOTAL(9,H6:H10) -> 7.5 | J11: =SUBTOTAL(9,J6:J10) -> 2103089 | K11: =SUBTOTAL(9,K6:K10) -> 0.035230552
A12: 30 | B12: זרים קורבנות סחר | C12: 4 | D12: דרום | E12: 100 | F12: ע. אילת | G12: 0.75 | H12: 0.75 | I12: 43556 | J12: =IFERROR(VLOOKUP(E12,גיליון5!$A$2:$D$10,4,FALSE),0) -> 231506 | K12: =G12/(IFERROR(VLOOKUP(E12,גיליון6!$C$3:$E$333,3,FALSE),0)) -> 0.018666003
D13: דרום סה"כ | G13: =SUBTOTAL(9,G12:G12) -> 0.75 | H13: =SUBTOTAL(9,H12:H12) -> 0.75 | J13: =SUBTOTAL(9,J12:J12) -> 231506 | K13: =SUBTOTAL(9,K12:K12) -> 0.018666003
D14: סכום כולל | G14: =SUBTOTAL(9,G2:G12) -> 10 | H14: =SUBTOTAL(9,H2:H12) -> 10 | J14: =SUBTOTAL(9,J2:J12) -> 2663657 | K14: =SUBTOTAL(9,K2:K12) -> 0.061291898

Sheet גיליון3
A1: סמל מחוז | B1: תאור מחוז | C1: מספר רשות | D1: תאור רשות | E1: ברוטו | F1: נטו | G1: חלקיות איוש לתשלום | H1: עיבוד
A2: 1 | B2: ירושלים | C2: 101 | D2: ע. אשקלון | E2: 7821 | F2: 5869 | G2: 0.5 | H2: 43952
A3: 1 | B3: ירושלים | C3: 101 | D3: ע. אשקלון | E3: 7821 | F3: 5869 | G3: 0.5 | H3: 43983
A4: 1 | B4: ירושלים | C4: 101 | D4: ע. אשקלון | E4: 3911 | F4: 2939 | G4: 0.5 | H4: 44013
A5: 1 | B5: ירושלים | C5: 101 | D5: ע. אשקלון | E5: 9973 | F5: 7483 | G5: 0.5 | H5: 44044
A6: 1 | B6: ירושלים | C6: 101 | D6: ע. אשקלון | E6: 8598 | F6: 6452 | G6: 0.5 | H6: 44075
A7: 1 | B7: ירושלים | C7: 101 | D7: ע. אשקלון | E7: 8794 | F7: 6599 | G7: 0.5 | H7: 44105
A8: 1 | B8: ירושלים | C8: 101 | D8: ע. אשקלון | E8: 8598 | F8: 6452 | G8: 0.5 | H8: 44136
A9: 1 | B9: ירושלים | C9: 101 | D9: ע. אשקלון | E9: 8598 | F9: 6452 | G9: 0.5 | H9: 44166
A10: 1 | B10: ירושלים | C10: 101 | D10: ע. אשקלון | E10: 9973 | F10: 7483 | G10: 0.5 | H10: 44197
A11: 1 | B11: ירושלים | C11: 101 | D11: ע. אשקלון | E11: 8222 | F11: 6170 | G11: 0.5 | H11: 44228
A12: 1 | B12: ירושלים | C12: 101 | D12: ע. אשקלון | E12: 8222 | F12: 6170 | G12: 0.5 | H12: 44256
A13: 1 | B13: ירושלים | C13: 101 | D13: ע. אשקלון | E13: 8222 | F13: 6170 | G13: 0.5 | H13: 44287
A14: 1 | B14: ירושלים | C14: 101 | D14: ע. אשקלון | E14: 8222 | F14: 6170 | G14: 0.5 | H14: 44317
C15: 101 סה"כ | E15: =SUBTOTAL(9,E2:E14) -> 106975 | F15: =SUBTOTAL(9,F2:F14) -> 80278
A16: 1 | B16: ירושלים | C16: 103 | D16: ע. ירושלים | E16: 10803 | F16: 8104 | G16: 0.75 | H16: 43525
A17: 1 | B17: ירושלים | C17: 103 | D17: ע. ירושלים | E17: 10803 | F17: 8104 | G17: 0.75 | H17: 43556
A18: 1 | B18: ירושלים | C18: 103 | D18: ע. ירושלים | E18: 10803 | F18: 8104 | G18: 0.75 | H18: 43586
A19: 1 | B19: ירושלים | C19: 103 | D19: ע. ירושלים | E19: 10803 | F19: 8104 | G19: 0.75 | H19: 43617
A20: 1 | B20: ירושלים | C20: 103 | D20: ע. ירושלים | E20: 10808 | F20: 8109 | G20: 0.75 | H20: 43647
A21: 1 | B21: ירושלים | C21: 103 | D21: ע. ירושלים | E21: 10885 | F21: 8167 | G21: 0.75 | H21: 43678
A22: 1 | B22: ירושלים | C22: 103 | D22: ע. ירושלים | E22: 10973 | F22: 8234 | G22: 0.75 | H22: 43709
A23: 1 | B23: ירושלים | C23: 103 | D23: ע. ירושלים | E23: 11267 | F23: 8455 | G23: 0.75 | H23: 43739
A24: 1 | B24: ירושלים | C24: 103 | D24: ע. ירושלים | E24: 11510 | F24: 8634 | G24: 0.75 | H24: 43891
A25: 1 | B25: ירושלים | C25: 103 | D25: ע. ירושלים | E25: 11510 | F25: 8634 | G25: 0.75 | H25: 43922
A26: 1 | B26: ירושלים | C26: 103 | D26: ע. ירושלים | E26: 11510 | F26: 8634 | G26: 0.75 | H26: 43952
A27: 1 | B27: ירושלים | C27: 103 | D27: ע. ירושלים | E27: 11510 | F27: 8634 | G27: 0.75 | H27: 43983
... A38: 1 | B38: ירושלים | C38: 103 | D38: ע. ירושלים | E38: 12097 | F38: 9073 | G38: 0.75 | H38: 44317
C39: 103 סה"כ | E39: =SUBTOTAL(9,E16:E38) -> 264933 | F39: =SUBTOTAL(9,F16:F38) -> 198745
A40: 1 | B40: ירושלים | C40: 104 | D40: ע. אשדוד | E40: 3580 | F40: 2680 | G40: 0.5 | H40: 44013
A41: 1 | B41: ירושלים | C41: 104 | D41: ע. אשדוד | E41: 9068 | F41: 6801 | G41: 0.5 | H41: 44044
A42: 1 | B42: ירושלים | C42: 104 | D42: ע. אשדוד | E42: 7693 | F42: 5770 | G42: 0.5 | H42: 44075
A43: 1 | B43: ירושלים | C43: 104 | D43: ע. אשדוד | E43: 7897 | F43: 5924 | G43: 0.5 | H43: 44105
A44: 1 | B44: ירושלים | C44: 104 | D44: ע. אשדוד | E44: 7702 | F44: 5777 | G44: 0.5 | H44: 44136
A45: 1 | B45: ירושלים | C45: 104 | D45: ע. אשדוד | E45: 7702 | F45: 5777 | G45: 0.5 | H45: 44166
A46: 1 | B46: ירושלים | C46: 104 | D46: ע. אשדוד | E46: 7693 | F46: 5770 | G46: 0.5 | H46: 44256
A47: 1 | B47: ירושלים | C47: 104 | D47: ע. אשדוד | E47: 7693 | F47: 5770 | G47: 0.5 | H47: 44287
A48: 1 | B48: ירושלים | C48: 104 | D48: ע. אשדוד | E48: 7693 | F48: 5770 | G48: 0.5 | H48: 44317
C49: 104 סה"כ | E49: =SUBTOTAL(9,E40:E48) -> 66721 | F49: =SUBTOTAL(9,F40:F48) -> 50039
A50: 2 | B50: תל - אביב | C50: 307 | D50: ע. נתניה | E50: 7409 | F50: 5557 | G50: 0.5 | H50: 43556
...

Sheet גיליון4
A1: מספר רשות | B1: תאור רשות | C1: ברוטו | D1: נטו
A2: 101 | C2: 106975 | D2: 80278
A3: 103 | C3: 264933 | D3: 198745
A4: 104 | C4: 66721 | D4: 50039
A5: 307 | C5: 257291 | D5: 192932
A6: 308 | C6: 382084 | D6: 286612
A7: 309 | C7: 58840 | D7: 44150
A8: 310 | C8: 47827 | D8: 35872
A9: 313 | C9: 2052692 | D9: 1543523
A10: 100 | C10: 308585 | D10: 231506
A11: סכום כולל | C11: 3545948 | D11: 2663657

Sheet גיליון5
A1: מספר רשות | B1: תאור רשות | C1: ברוטו | D1: נטו
A2: 101 | C2: 106975 | D2: 80278
A3: 103 | C3: 264933 | D3: 198745
A4: 104 | C4: 66721 | D4: 50039
A5: 307 | C5: 257291 | D5: 192932
A6: 308 | C6: 382084 | D6: 286612
A7: 309 | C7: 58840 | D7: 44150
A8: 310 | C8: 47827 | D8: 35872
A9: 313 | C9: 2052692 | D9: 1543523
A10: 100 | C10: 308585 | D10: 231506

Sheet גיליון6
A1: שאילתה תקן ואיוש מימון 01 קבוע לעיבוד איוש לפי רשות כמותי
A2: סמל מחוז | B2: תאור מחוז | C2: מספר רשות | D2: תאור רשות | E2: תקן | F2: איוש
A3: 3 | B3: חיפה | C3: 501 | D3: ע.חיפה | E3: 228.14 | F3: 192.48
A4: 2 | B4: תל - אביב | C4: 301 | D4: ע. בת ים | E4: 124.99 | F4: 101.47
A5: 4 | B5: דרום | C5: 102 | D5: ע. באר שבע | E5: 203.1 | F5: 182.6
A6: 2 | B6: תל - אביב | C6: 306 | D6: ע. לוד | E6: 88.2 | F6: 71.04
A7: 2 | B7: תל - אביב | C7: 308 | D7: ע. פתח תקוה | E7: 147.81 | F7: 133.02
A8: 2 | B8: תל - אביב | C8: 309 | D8: ע. ראשל"צ | E8: 150.58 | F8: 138.79
A9: 4 | B9: דרום | C9: 105 | D9: ע. דימונה | E9: 50.37 | F9: 40
A10: 2 | B10: תל - אביב | C10: 307 | D10: ע. נתניה | E10: 182.44 | F10: 173.07
A11: 3 | B11: חיפה | C11: 600 | D11: ע. נצרת | E11: 74.51 | F11: 66.13
A12: 3 | B12: חיפה | C12: 505 | D12: ע. צפת | E12: 48.73 | F12: 40.37
A13: 1 | B13: ירושלים | C13: 101 | D13: ע. אשקלון | E13: 131.06 | F13: 122.73
A14: 3 | B14: חיפה | C14: 535 | D14: ע. נוף הגליל | E14: 59.01 | F14: 50.7
... A258: 2 | B258: תל - אביב | C258: 348 | D258: מ.מ אליכין | E258: 2.7 | F258: 2.7
A259: 5 | B259: ארצי | C259: 999 | D259: מאגר ארצי | E259: 8.93
