Workbook

Sheet גיליון1
A1: סמל מחוז | B1: תאור מחוז | C1: סמל רשות | D1: תאור רשות | E1: תקני זרים קורבנות סחר | F1: איוש זרים קורבנות סחר
A2: 1 | B2: ירושלים | C2: 104 | D2: ע. אשדוד | E2: 0.5 | F2: 0.5
A3: 1 | B3: ירושלים | C3: 101 | D3: ע. אשקלון | E3: 0.5 | F3: 0.5
A4: 1 | B4: ירושלים | C4: 103 | D4: ע. ירושלים | E4: 0.75 | F4: 0.75
B5: ירושלים סה"כ | E5: =SUBTOTAL(9,E2:E4) -> 1.75 | F5: =SUBTOTAL(9,F2:F4) -> 1.75
A6: 2 | B6: תל - אביב | C6: 307 | D6: ע. נתניה | E6: 0.75 | F6: 0.75
A7: 2 | B7: תל - אביב | C7: 308 | D7: ע. פתח תקוה | E7: 1 | F7: 1
A8: 2 | B8: תל - אביב | C8: 309 | D8: ע. ראשל"צ | E8: 0.5 | F8: 0.5
A9: 2 | B9: תל - אביב | C9: 310 | D9: ע. רחובות | E9: 0.5 | G9: לא אוייש
A10: 2 | B10: תל - אביב | C10: 313 | D10: ע. תל אביב | E10: 4.75 | F10: 4.75
B11: תל - אביב סה"כ | E11: =SUBTOTAL(9,E6:E10) -> 7.5 | F11: =SUBTOTAL(9,F6:F10) -> 7
A12: 4 | B12: דרום | C12: 100 | D12: ע. אילת | E12: 0.75 | F12: 0.75
B13: דרום סה"כ | E13: =SUBTOTAL(9,E12:E12) -> 0.75 | F13: =SUBTOTAL(9,F12:F12) -> 0.75
B14: סכום כולל | E14: =SUBTOTAL(9,E2:E12) -> 10 | F14: =SUBTOTAL(9,F2:F12) -> 9.5

Sheet גיליון2
A1: kvozat_teken | B1: הקבוצה | C1: סמל מחוז | D1: תאור מחוז | E1: סמל רשות | F1: תאור רשות | G1: תקני זרים קורבנות סחר | H1: איוש זרים קורבנות סחר | I1: מועד איוש התקן | J1: סה"כ התקציבים שהועברו לטובת התקנים בחלוקה לערים | K1: האחוז שמהווים התקנים מכלל התקנים בעירייה
A2: 30 | B2: זרים קורבנות סחר | C2: 1 | D2: ירושלים | E2: 101 | F2: ע. אשקלון | G2: 0.5 | H2: 0.5 | I2: 43952 | J2: =IFERROR(VLOOKUP(E2,גיליון5!$A$2:$D$10,4,FALSE),0) -> 80278 | K2: =G2/(IFERROR(VLOOKUP(E2,גיליון6!$C$3:$E$333,3,FALSE),0)) -> 0.0038150465
A3: 30 | B3: זרים קורבנות סחר | C3: 1 | D3: ירושלים | E3: 103 | F3: ע. ירושלים | G3: 0.75 | H3: 0.75 | I3: 43525 | J3: =IFERROR(VLOOKUP(E3,גיליון5!$A$2:$D$10,4,FALSE),0) -> 198745 | K3: =G3/(IFERROR(VLOOKUP(E3,גיליון6!$C$3:$E$333,3,FALSE),0)) -> 0.00122525
A4: 30 | B4: זרים קורבנות סחר | C4: 1 | D4: ירושלים | E4: 104 | F4: ע. אשדוד | G4: 0.5 | H4: 0.5 | I4: 44013 | J4: =IFERROR(VLOOKUP(E4,גיליון5!$A$2:$D$10,4,FALSE),0) -> 50039 | K4: =G4/(IFERROR(VLOOKUP(E4,גיליון6!$C$3:$E$333,3,FALSE),0)) -> 0.0023550469
D5: ירושלים סה"כ | G5: =SUBTOTAL(9,G2:G4) -> 1.75 | H5: =SUBTOTAL(9,H2:H4) -> 1.75 | J5: =SUBTOTAL(9,J2:J4) -> 329062 | K5: =SUBTOTAL(9,K2:K4) -> 0.0073953434
A6: 30 | B6: זרים קורבנות סחר | C6: 2 | D6: תל - אביב | E6: 307 | F6: ע. נתניה | G6: 0.75 | H6: 0.75 | I6: 43586 | J6: =IFERROR(VLOOKUP(E6,גיליון5!$A$2:$D$10,4,FALSE),0) -> 192932 | K6: =G6/(IFERROR(VLOOKUP(E6,גיליון6!$C$3:$E$333,3,FALSE),0)) -> 0.0041109406
A7: 30 | B7: זרים קורבנות סחר | C7: 2 | D7: תל - אביב | E7: 308 | F7: ע. פתח תקוה | G7: 1 | H7: 1 | I7: 43466 | J7: =IFERROR(VLOOKUP(E7,גיליון5!$A$2:$D$10,4,FALSE),0) -> 286612 | K7: =G7/(IFERROR(VLOOKUP(E7,גיליון6!$C$3:$E$333,3,FALSE),0)) -> 0.0067654421
A8: 30 | B8: זרים קורבנות סחר | C8: 2 | D8: תל - אביב | E8: 309 | F8: ע. ראשל"צ | G8: 0.5 | H8: 0.5 | I8: 44136 | J8: =IFERROR(VLOOKUP(E8,גיליון5!$A$2:$D$10,4,FALSE),0) -> 44150 | K8: =G8/(IFERROR(VLOOKUP(E8,גיליון6!$C$3:$E$333,3,FALSE),0)) -> 0.0033204941
A9: 30 | B9: זרים קורבנות סחר | C9: 2 | D9: תל - אביב | E9: 310 | F9: ע. רחובות | G9: 0.5 | H9: 0.5 | I9: 44166 | J9: =IFERROR(VLOOKUP(E9,גיליון5!$A$2:$D$10,4,FALSE),0) -> 35872 | K9: =G9/(IFERROR(VLOOKUP(E9,גיליון6!$C$3:$E$333,3,FALSE),0)) -> 0.0052224775
A10: 30 | B10: זרים קורבנות סחר | C10: 2 | D10: תל - אביב | E10: 313 | F10: ע. תל אביב | G10: 4.75 | H10: 4.75 | I10: 43466 | J10: =IFERROR(VLOOKUP(E10,גיליון5!$A$2:$D$10,4,FALSE),0) -> 1543523 | K10: =G10/(IFERROR(VLOOKUP(E10,גיליון6!$C$3:$E$333,3,FALSE),0)) -> 0.015811198
D11: תל - אביב סה"כ | G11: =SUBTOTAL(9,G6:G10) -> 7.5 | H11: =SUBTOTAL(9,H6:H10) -> 7.5 | J11: =SUBTOTAL(9,J6:J10) -> 2103089 | K11: =SUBTOTAL(9,K6:K10) -> 0.035230552
A12: 30 | B12: זרים קורבנות סחר | C12: 4 | D12: דרום | E12: 100 | F12: ע. אילת | G12: 0.75 | H12: 0.75 | I12: 43556 | J12: =IFERROR(VLOOKUP(E12,גיליון5!$A$2:$D$10,4,FALSE),0) -> 231506 | K12: =G12/(IFERROR(VLOOKUP(E12,גיליון6!$C$3:$E$333,3,FALSE),0)) -> 0.018666003
D13: דרום סה"כ | G13: =SUBTOTAL(9,G12:G12) -> 0.75 | H13: =SUBTOTAL(9,H12:H12) -> 0.75 | J13: =SUBTOTAL(9,J12:J12) -> 231506 | K13: =SUBTOTAL(9,K12:K12) -> 0.018666003
D14: סכום כולל | G14: =SUBTOTAL(9,G2:G12) -> 10 | H14: =SUBTOTAL(9,H2:H12) -> 10 | J14: =SUBTOTAL(9,J2:J12) -> 2663657 | K14: =SUBTOTAL(9,K2:K12) -> 0.061291898

Sheet גיליון3
A1: סמל מחוז | B1: תאור מחוז | C1: מספר רשות | D1: תאור רשות | E1: ברוטו | F1: נטו | G1: חלקיות איוש לתשלום | H1: עיבוד
A2: 1 | B2: ירושלים | C2: 101 | D2: ע. אשקלון | E2: 7821 | F2: 5869 | G2: 0.5 | H2: 43952
A3: 1 | B3: ירושלים | C3: 101 | D3: ע. אשקלון | E3: 7821 | F3: 5869 | G3: 0.5 | H3: 43983
A4: 1 | B4: ירושלים | C4: 101 | D4: ע. אשקלון | E4: 3911 | F4: 2939 | G4: 0.5 | H4: 44013
A5: 1 | B5: ירושלים | C5: 101 | D5: ע. אשקלון | E5: 9973 | F5: 7483 | G5: 0.5 | H5: 44044
A6: 1 | B6: ירושלים | C6: 101 | D6: ע. אשקלון | E6: 8598 | F6: 6452 | G6: 0.5 | H6: 44075
A7: 1 | B7: ירושלים | C7: 101 | D7: ע. אשקלון | E7: 8794 | F7: 6599 | G7: 0.5 | H7: 44105
A8: 1 | B8: ירושלים | C8: 101 | D8: ע. אשקלון | E8: 8598 | F8: 6452 | G8: 0.5 | H8: 44136
A9: 1 | B9: ירושלים | C9: 101 | D9: ע. אשקלון | E9: 8598 | F9: 6452 | G9: 0.5 | H9: 44166
A10: 1 | B10: ירושלים | C10: 101 | D10: ע. אשקלון | E10: 9973 | F10: 7483 | G10: 0.5 | H10: 44197
A11: 1 | B11: ירושלים | C11: 101 | D11: ע. אשקלון | E11: 8222 | F11: 6170 | G11: 0.5 | H11: 44228
A12: 1 | B12: ירושלים | C12: 101 | D12: ע. אשקלון | E12: 8222 | F12: 6170 | G12: 0.5 | H12: 44256
A13: 1 | B13: ירושלים | C13: 101 | D13: ע. אשקלון | E13: 8222 | F13: 6170 | G13: 0.5 | H13: 44287
A14: 1 | B14: ירושלים | C14: 101 | D14: ע. אשקלון | E14: 8222 | F14: 6170 | G14: 0.5 | H14: 44317
C15: 101 סה"כ | E15: =SUBTOTAL(9,E2:E14) -> 106975 | F15: =SUBTOTAL(9,F2:F14) -> 80278
A16: 1 | B16: ירושלים | C16: 103 | D16: ע. ירושלים | E16: 10803 | F16: 8104 | G16: 0.75 | H16: 43525
A17: 1 | B17: ירושלים | C17: 103 | D17: ע. ירושלים | E17: 10803 | F17: 8104 | G17: 0.75 | H17: 43556
A18: 1 | B18: ירושלים | C18: 103 | D18: ע. ירושלים | E18: 10803 | F18: 8104 | G18: 0.75 | H18: 43586
A19: 1 | B19: ירושלים | C19: 103 | D19: ע. ירושלים | E19: 10803 | F19: 8104 | G19: 0.75 | H19: 43617
A20: 1 | B20: ירושלים | C20: 103 | D20: ע. ירושלים | E20: 10808 | F20: 8109 | G20: 0.75 | H20: 43647
A21: 1 | B21: ירושלים | C21: 103 | D21: ע. ירושלים | E21: 10885 | F21: 8167 | G21: 0.75 | H21: 43678
A22: 1 | B22: ירושלים | C22: 103 | D22: ע. ירושלים | E22: 10973 | F22: 8234 | G22: 0.75 | H22: 43709
A23: 1 | B23: ירושלים | C23: 103 | D23: ע. ירושלים | E23: 11267 | F23: 8455 | G23: 0.75 | H23: 43739
A24: 1 | B24: ירושלים | C24: 103 | D24: ע. ירושלים | E24: 11510 | F24: 8634 | G24: 0.75 | H24: 43891
A25: 1 | B25: ירושלים | C25: 103 | D25: ע. ירושלים | E25: 11510 | F25: 8634 | G25: 0.75 | H25: 43922
A26: 1 | B26: ירושלים | C26: 103 | D26: ע. ירושלים | E26: 11510 | F26: 8634 | G26: 0.75 | H26: 43952
A27: 1 | B27: ירושלים | C27: 103 | D27: ע. ירושלים | E27: 11510 | F27: 8634 | G27: 0.75 | H27: 43983
... A38: 1 | B38: ירושלים | C38: 103 | D38: ע. ירושלים | E38: 12097 | F38: 9073 | G38: 0.75 | H38: 44317
C39: 103 סה"כ | E39: =SUBTOTAL(9,E16:E38) -> 264933 | F39: =SUBTOTAL(9,F16:F38) -> 198745
A40: 1 | B40: ירושלים | C40: 104 | D40: ע. אשדוד | E40: 3580 | F40: 2680 | G40: 0.5 | H40: 44013
A41: 1 | B41: ירושלים | C41: 104 | D41: ע. אשדוד | E41: 9068 | F41: 6801 | G41: 0.5 | H41: 44044
A42: 1 | B42: ירושלים | C42: 104 | D42: ע. אשדוד | E42: 7693 | F42: 5770 | G42: 0.5 | H42: 44075
A43: 1 | B43: ירושלים | C43: 104 | D43: ע. אשדוד | E43: 7897 | F43: 5924 | G43: 0.5 | H43: 44105
A44: 1 | B44: ירושלים | C44: 104 | D44: ע. אשדוד | E44: 7702 | F44: 5777 | G44: 0.5 | H44: 44136
A45: 1 | B45: ירושלים | C45: 104 | D45: ע. אשדוד | E45: 7702 | F45: 5777 | G45: 0.5 | H45: 44166
A46: 1 | B46: ירושלים | C46: 104 | D46: ע. אשדוד | E46: 7693 | F46: 5770 | G46: 0.5 | H46: 44256
A47: 1 | B47: ירושלים | C47: 104 | D47: ע. אשדוד | E47: 7693 | F47: 5770 | G47: 0.5 | H47: 44287
A48: 1 | B48: ירושלים | C48: 104 | D48: ע. אשדוד | E48: 7693 | F48: 5770 | G48: 0.5 | H48: 44317
C49: 104 סה"כ | E49: =SUBTOTAL(9,E40:E48) -> 66721 | F49: =SUBTOTAL(9,F40:F48) -> 50039
A50: 2 | B50: תל - אביב | C50: 307 | D50: ע. נתניה | E50: 7409 | F50: 5557 | G50: 0.5 | H50: 43556
A51: 2 | B51: תל - אביב | C51: 307 | D51: ע. נתניה | E51: 9297 | F51: 6975 | G51: 0.6271 | H51: 43586
A52: 2 | B52: תל - אביב | C52: 307 | D52: ע. נתניה | E52: 10978 | F52: 8231 | G52: 0.74 | H52: 43617
A53: 2 | B53: תל - אביב | C53: 307 | D53: ע. נתניה | E53: 10983 | F53: 8235 | G53: 0.74 | H53: 43647
A54: 2 | B54: תל - אביב | C54: 307 | D54: ע. נתניה | E54: 11059 | F54: 8292 | G54: 0.74 | H54: 43678
A55: 2 | B55: תל - אביב | C55: 307 | D55: ע. נתניה | E55: 11059 | F55: 8292 | G55: 0.74 | H55: 43709
A56: 2 | B56: תל - אביב | C56: 307 | D56: ע. נתניה | E56: 11156 | F56: 8365 | G56: 0.74 | H56: 43739
A57: 2 | B57: תל - אביב | C57: 307 | D57: ע. נתניה | E57: 11207 | F57: 8404 | G57: 0.75 | H57: 43770
A58: 2 | B58: תל - אביב | C58: 307 | D58: ע. נתניה | E58: 9397 | F58: 7045 | G58: 0.6235 | H58: 43800
A59: 2 | B59: תל - אביב | C59: 307 | D59: ע. נתניה | E59: 3926 | F59: 2942 | G59: 0.26 | H59: 43831
A60: 2 | B60: תל - אביב | C60: 307 | D60: ע. נתניה | E60: 3926 | F60: 2942 | G60: 0.26 | H60: 43862
A61: 2 | B61: תל - אביב | C61: 307 | D61: ע. נתניה | E61: 11435 | F61: 8574 | G61: 0.75 | H61: 43891
... A75: 2 | B75: תל - אביב | C75: 307 | D75: ע. נתניה | E75: 12149 | F75: 9111 | G75: 0.75 | H75: 44317
C76: 307 סה"כ | E76: =SUBTOTAL(9,E50:E75) -> 257291 | F76: =SUBTOTAL(9,F50:F75) -> 192932
A77: 2 | B77: תל - אביב | C77: 308 | D77: ע. פתח תקוה | E77: 7384 | F77: 5540 | G77: 0.5 | H77: 43466
A78: 2 | B78: תל - אביב | C78: 308 | D78: ע. פתח תקוה | E78: 7384 | F78: 5540 | G78: 0.5 | H78: 43497
A79: 2 | B79: תל - אביב | C79: 308 | D79: ע. פתח תקוה | E79: 7431 | F79: 5575 | G79: 0.5 | H79: 43525
A80: 2 | B80: תל - אביב | C80: 308 | D80: ע. פתח תקוה | E80: 7431 | F80: 5575 | G80: 0.5 | H80: 43556
A81: 2 | B81: תל - אביב | C81: 308 | D81: ע. פתח תקוה | E81: 7431 | F81: 5575 | G81: 0.5 | H81: 43586
A82: 2 | B82: תל - אביב | C82: 308 | D82: ע. פתח תקוה | E82: 7431 | F82: 5575 | G82: 0.5 | H82: 43617
A83: 2 | B83: תל - אביב | C83: 308 | D83: ע. פתח תקוה | E83: 7435 | F83: 5579 | G83: 0.5 | H83: 43647
A84: 2 | B84: תל - אביב | C84: 308 | D84: ע. פתח תקוה | E84: 7225 | F84: 5421 | G84: 0.5 | H84: 43678
A85: 2 | B85: תל - אביב | C85: 308 | D85: ע. פתח תקוה | E85: 14726 | F85: 11049 | G85: 1 | H85: 43709
A86: 2 | B86: תל - אביב | C86: 308 | D86: ע. פתח תקוה | E86: 15022 | F86: 11270 | G86: 1 | H86: 43739
A87: 2 | B87: תל - אביב | C87: 308 | D87: ע. פתח תקוה | E87: 14908 | F87: 11185 | G87: 1 | H87: 43770
A88: 2 | B88: תל - אביב | C88: 308 | D88: ע. פתח תקוה | E88: 15029 | F88: 11276 | G88: 1 | H88: 43800
... A105: 2 | B105: תל - אביב | C105: 308 | D105: ע. פתח תקוה | E105: 16060 | F105: 12046 | G105: 1 | H105: 44317
C106: 308 סה"כ | E106: =SUBTOTAL(9,E77:E105) -> 382084 | F106: =SUBTOTAL(9,F77:F105) -> 286612
A107: 2 | B107: תל - אביב | C107: 309 | D107: ע. ראשל"צ | E107: 7390 | F107: 5540 | G107: 0.425 | H107: 44136
A108: 2 | B108: תל - אביב | C108: 309 | D108: ע. ראשל"צ | E108: 7454 | F108: 5593 | G108: 0.5 | H108: 44166
A109: 2 | B109: תל - אביב | C109: 309 | D109: ע. ראשל"צ | E109: 9868 | F109: 7405 | G109: 0.5 | H109: 44197
A110: 2 | B110: תל - אביב | C110: 309 | D110: ע. ראשל"צ | E110: 8492 | F110: 6373 | G110: 0.5 | H110: 44228
A111: 2 | B111: תל - אביב | C111: 309 | D111: ע. ראשל"צ | E111: 8492 | F111: 6373 | G111: 0.5 | H111: 44256
A112: 2 | B112: תל - אביב | C112: 309 | D112: ע. ראשל"צ | E112: 8492 | F112: 6373 | G112: 0.5 | H112: 44287
A113: 2 | B113: תל - אביב | C113: 309 | D113: ע. ראשל"צ | E113: 8652 | F113: 6493 | G113: 0.5 | H113: 44317
C114: 309 סה"כ | E114: =SUBTOTAL(9,E107:E113) -> 58840 | F114: =SUBTOTAL(9,F107:F113) -> 44150
A115: 2 | B115: תל - אביב | C115: 310 | D115: ע. רחובות | E115: 6362 | F115: 4771 | G115: 0.3871 | H115: 44166
A116: 2 | B116: תל - אביב | C116: 310 | D116: ע. רחובות | E116: 9393 | F116: 7045 | G116: 0.5 | H116: 44197
A117: 2 | B117: תל - אביב | C117: 310 | D117: ע. רחובות | E117: 8018 | F117: 6014 | G117: 0.5 | H117: 44228
A118: 2 | B118: תל - אביב | C118: 310 | D118: ע. רחובות | E118: 8018 | F118: 6014 | G118: 0.5 | H118: 44256
A119: 2 | B119: תל - אביב | C119: 310 | D119: ע. רחובות | E119: 8018 | F119: 6014 | G119: 0.5 | H119: 44287
A120: 2 | B120: תל - אביב | C120: 310 | D120: ע. רחובות | E120: 8018 | F120: 6014 | G120: 0.5 | H120: 44317
C121: 310 סה"כ | E121: =SUBTOTAL(9,E115:E120) -> 47827 | F121: =SUBTOTAL(9,F115:F120) -> 35872
A122: 2 | B122: תל - אביב | C122: 313 | D122: ע. תל אביב | E122: 15171 | F122: 11378 | G122: 1 | H122: 43466
A123: 2 | B123: תל - אביב | C123: 313 | D123: ע. תל אביב | E123: 15171 | F123: 11378 | G123: 1 | H123: 43497
A124: 2 | B124: תל - אביב | C124: 313 | D124: ע. תל אביב | E124: 16586 | F124: 12443 | G124: 1 | H124: 43525
A125: 2 | B125: תל - אביב | C125: 313 | D125: ע. תל אביב | E125: 16660 | F125: 12499 | G125: 1 | H125: 43556
A126: 2 | B126: תל - אביב | C126: 313 | D126: ע. תל אביב | E126: 18114 | F126: 13593 | G126: 1 | H126: 43586
A127: 2 | B127: תל - אביב | C127: 313 | D127: ע. תל אביב | E127: 61260 | F127: 49976 | G127: 4 | H127: 43617
A128: 2 | B128: תל - אביב | C128: 313 | D128: ע. תל אביב | E128: 61787 | F128: 46347 | G128: 4 | H128: 43647
A129: 2 | B129: תל - אביב | C129: 313 | D129: ע. תל אביב | E129: 72289 | F129: 54221 | G129: 5 | H129: 43678
A130: 2 | B130: תל - אביב | C130: 313 | D130: ע. תל אביב | E130: 76349 | F130: 57268 | G130: 5 | H130: 43709
A131: 2 | B131: תל - אביב | C131: 313 | D131: ע. תל אביב | E131: 77552 | F131: 58169 | G131: 5 | H131: 43739
A132: 2 | B132: תל - אביב | C132: 313 | D132: ע. תל אביב | E132: 81622 | F132: 61223 | G132: 5.4667 | H132: 43770
A133: 2 | B133: תל - אביב | C133: 313 | D133: ע. תל אביב | E133: 82756 | F133: 62073 | G133: 5.5 | H133: 43800
... A150: 2 | B150: תל - אביב | C150: 313 | D150: ע. תל אביב | E150: 90250 | F150: 67684 | G150: 5.75 | H150: 44317
C151: 313 סה"כ | E151: =SUBTOTAL(9,E122:E150) -> 2052692 | F151: =SUBTOTAL(9,F122:F150) -> 1543523
A152: 4 | B152: הדרום | C152: 100 | D152: ע. אילת | E152: 11053 | F152: 8288 | G152: 0.75 | H152: 43525
A153: 4 | B153: הדרום | C153: 100 | D153: ע. אילת | E153: 11053 | F153: 8288 | G153: 0.75 | H153: 43556
A154: 4 | B154: הדרום | C154: 100 | D154: ע. אילת | E154: 10967 | F154: 8230 | G154: 0.75 | H154: 43586
A155: 4 | B155: הדרום | C155: 100 | D155: ע. אילת | E155: 10967 | F155: 8230 | G155: 0.75 | H155: 43617
...

Sheet גיליון4
A1: מספר רשות | B1: תאור רשות | C1: ברוטו | D1: נטו
A2: 101 | C2: 106975 | D2: 80278
A3: 103 | C3: 264933 | D3: 198745
A4: 104 | C4: 66721 | D4: 50039
A5: 307 | C5: 257291 | D5: 192932
A6: 308 | C6: 382084 | D6: 286612
A7: 309 | C7: 58840 | D7: 44150
A8: 310 | C8: 47827 | D8: 35872
A9: 313 | C9: 2052692 | D9: 1543523
A10: 100 | C10: 308585 | D10: 231506
A11: סכום כולל | C11: 3545948 | D11: 2663657

Sheet גיליון5
A1: מספר רשות | B1: תאור רשות | C1: ברוטו | D1: נטו
A2: 101 | C2: 106975 | D2: 80278
A3: 103 | C3: 264933 | D3: 198745
A4: 104 | C4: 66721 | D4: 50039
A5: 307 | C5: 257291 | D5: 192932
A6: 308 | C6: 382084 | D6: 286612
A7: 309 | C7: 58840 | D7: 44150
A8: 310 | C8: 47827 | D8: 35872
A9: 313 | C9: 2052692 | D9: 1543523
A10: 100 | C10: 308585 | D10: 231506

Sheet גיליון6
A1: שאילתה תקן ואיוש מימון 01 קבוע לעיבוד איוש לפי רשות כמותי
A2: סמל מחוז | B2: תאור מחוז | C2: מספר רשות | D2: תאור רשות | E2: תקן | F2: איוש
A3: 3 | B3: חיפה | C3: 501 | D3: ע.חיפה | E3: 228.14 | F3: 192.48
A4: 2 | B4: תל - אביב | C4: 301 | D4: ע. בת ים | E4: 124.99 | F4: 101.47
A5: 4 | B5: דרום | C5: 102 | D5: ע. באר שבע | E5: 203.1 | F5: 182.6
A6: 2 | B6: תל - אביב | C6: 306 | D6: ע. לוד | E6: 88.2 | F6: 71.04
A7: 2 | B7: תל - אביב | C7: 308 | D7: ע. פתח תקוה | E7: 147.81 | F7: 133.02
A8: 2 | B8: תל - אביב | C8: 309 | D8: ע. ראשל"צ | E8: 150.58 | F8: 138.79
A9: 4 | B9: דרום | C9: 105 | D9: ע. דימונה | E9: 50.37 | F9: 40
A10: 2 | B10: תל - אביב | C10: 307 | D10: ע. נתניה | E10: 182.44 | F10: 173.07
A11: 3 | B11: חיפה | C11: 600 | D11: ע. נצרת | E11: 74.51 | F11: 66.13
A12: 3 | B12: חיפה | C12: 505 | D12: ע. צפת | E12: 48.73 | F12: 40.37
A13: 1 | B13: ירושלים | C13: 101 | D13: ע. אשקלון | E13: 131.06 | F13: 122.73
A14: 3 | B14: חיפה | C14: 535 | D14: ע. נוף הגליל | E14: 59.01 | F14: 50.7
... A258: 2 | B258: תל - אביב | C258: 348 | D258: מ.מ אליכין | E258: 2.7 | F258: 2.7
A259: 5 | B259: ארצי | C259: 999 | D259: מאגר ארצי | E259: 8.93
