Workbook

Sheet תנאי החתך
A1: סמל סיווג | B1: סיווג מקצועי
A2: 63 | B2: מרכז נושא מוגבלויות | D2: =A2 -> 63
A3: 64 | B3: מרכז נושא שיקום | D3: =D2&" OR "&A3 -> 63 OR 64
A4: 84 | B4: מנהל מדור שיקום | D4: =D3&" OR "&A4 -> 63 OR 64 OR 84
A5: 85 | B5: אחראי מדור מוגבליות | D5: =D4&" OR "&A5 -> 63 OR 64 OR 84 OR 85
A6: 140 | B6: עו"ס שיקום | D6: =D5&" OR "&A6 -> 63 OR 64 OR 84 OR 85 OR 140
A7: 141 | B7: עו"ס מוגבליות | D7: =D6&" OR "&A7 -> 63 OR 64 OR 84 OR 85 OR 140 OR 141
A9: סמל קבוצת | B9: קבוצת תקן
A10: 8 | B10: עו"ס - אוטיסטים

Sheet פילוח 12-2022
A3: סכום של חלקיות העסקה | B3: תוויות עמודה
A4: תוויות שורה | B4: גברים | C4: נשים | D4: (ריק) | E4: סכום כולל
A5: 100 | C5: 2.14 | E5: 2.14
A6: 101 | B6: 1 | C6: 2.5 | E6: 3.5
A7: 102 | B7: 1 | C7: 4.25 | E7: 5.25
A8: 103 | B8: 2.65 | C8: 26.85 | E8: 29.5
A9: 104 | B9: 0.24 | C9: 10.34 | E9: 10.58
A10: 105 | C10: 0.5 | E10: 0.5
A11: 106 | C11: 4.25 | E11: 4.25
A12: 120
A13: 121 | C13: 1.5 | E13: 1.5
A14: 123 | B14: 1 | E14: 1
A15: 124
A16: 125 | C16: 0.83 | E16: 0.83
A17: 128 | C17: 0.33 | E17: 0.33
A18: 129 | B18: 1 | C18: 0.5 | E18: 1.5
A19: 130
A20: 131 | C20: 0.75 | E20: 0.75
A21: 134 | C21: 0.5 | E21: 0.5
A22: 140 | C22: 0.5 | E22: 0.5
A23: 141 | C23: 0.33 | E23: 0.33
A24: 142 | C24: 0.33 | E24: 0.33
A25: 143 | C25: 0.33 | E25: 0.33
A26: 145 | C26: 0.33 | E26: 0.33
A27: 146 | C27: 1.25 | E27: 1.25
A28: 147 | C28: 1.25 | E28: 1.25
A29: 161 | C29: 0.33 | E29: 0.33
A30: 162
A31: 164 | C31: 1 | E31: 1
A32: 165 | C32: 0.83 | E32: 0.83
A33: 166 | C33: 1 | E33: 1
A34: 167 | C34: 0.33 | E34: 0.33
A35: 168
A36: 169 | C36: 0.83 | E36: 0.83
A37: 171 | C37: 0.33 | E37: 0.33
A38: 172 | C38: 0.5 | E38: 0.5
A39: 173 | C39: 0.5 | E39: 0.5
A40: 174 | C40: 0.33 | E40: 0.33
A41: 178 | C41: 1.25 | E41: 1.25
A42: 184 | C42: 0.5 | E42: 0.5
A43: 186 | B43: 0.41 | E43: 0.41
A44: 221 | C44: 1.33 | E44: 1.33
A45: 222 | C45: 0.5 | E45: 0.5
A46: 223
A47: 245 | B47: 0.5 | E47: 0.5
A48: 246
A49: 300 | B49: 1.16 | C49: 7.86 | E49: 9.02
A50: 301 | C50: 2.25 | E50: 2.25
A51: 302 | B51: 1 | C51: 0.5 | E51: 1.5
A52: 303 | C52: 2.75 | E52: 2.75
A53: 304 | C53: 4.15 | E53: 4.15
A54: 305 | B54: 0.75 | C54: 2.78 | E54: 3.53
A55: 306 | C55: 0.5 | E55: 0.5
A56: 307 | B56: 0.25 | C56: 3.75 | E56: 4
A57: 308 | B57: 0.85 | C57: 4.9 | E57: 5.75
A58: 309 | B58: 1.2 | C58: 5.8 | E58: 7
A59: 310 | B59: 0.75 | C59: 2.37 | E59: 3.12
A60: 311 | C60: 2.3 | E60: 2.3
A61: 312 | C61: 3.75 | E61: 3.75
A62: 313 | C62: 8 | E62: 8
A63: 320 | C63: 0.33 | E63: 0.33
A64: 321 | C64: 0.33 | E64: 0.33
A65: 322 | C65: 0.33 | E65: 0.33
A66: 324 | C66: 0.33 | E66: 0.33
A67: 325 | C67: 0.5 | E67: 0.5
A68: 327 | B68: 0.5 | E68: 0.5
A69: 328 | C69: 1.75 | E69: 1.75
A70: 329 | C70: 0.75 | E70: 0.75
A71: 330 | C71: 0.33 | E71: 0.33
A72: 331 | C72: 0.5 | E72: 0.5
A73: 332 | B73: 0.75 | E73: 0.75
A74: 337 | C74: 1.5 | E74: 1.5
A75: 338 | C75: 0.33 | E75: 0.33
A76: 339 | C76: 0.83 | E76: 0.83
A77: 340 | B77: 0.75 | E77: 0.75
A78: 341 | C78: 1 | E78: 1
A79: 342 | C79: 2 | E79: 2
A80: 343 | C80: 2.5 | E80: 2.5
A81: 344 | C81: 0.33 | E81: 0.33
A82: 345 | C82: 0.33 | E82: 0.33
A83: 346 | C83: 0.2 | E83: 0.2
A84: 347 | B84: 0.15 | C84: 0.86 | E84: 1.01
A85: 350 | C85: 0.33 | E85: 0.33
A86: 352 | C86: 0.33 | E86: 0.33
A87: 355 | C87: 0.33 | E87: 0.33
A88: 359 | C88: 2 | E88: 2
A89: 361
A90: 362 | C90: 0.33 | E90: 0.33
A91: 363 | C91: 0.5 | E91: 0.5
A92: 365 | C92: 0.33 | E92: 0.33
A93: 366 | C93: 1 | E93: 1
A94: 368 | C94: 0.5 | E94: 0.5
A95: 370 | C95: 0.33 | E95: 0.33
A96: 371 | C96: 0.33 | E96: 0.33
A97: 374 | B97: 0.08 | C97: 0.25 | E97: 0.33
A98: 375 | C98: 0.33 | E98: 0.33
A99: 377 | C99: 0.5 | E99: 0.5
A100: 378 | C100: 0.33 | E100: 0.33
A101: 379 | C101: 0.5 | E101: 0.5
A102: 421
...

Sheet פירוט 12-2022
A1: סמל מחוז | B1: מחוז | C1: סמל רשות | D1: שם הרשות | E1: סמל מחלקה | F1: תאור מחלקה | G1: מספר משרה | H1: סמל סיווג תקן | I1: סיווג מקצועי תקן | J1: סמל מימון | K1: מימון | L1: סמל סעיף תקציבי | M1: סעיף תקציבי | N1: סמל קבוצת תקן | O1: קבוצת תקן | P1: הסכמים מיוחדים | Q1: תז | R1: שם משפחה | S1: שם פרטי | T1: מין | U1: חלקיות תקן | V1: חלקיות העסקה | W1: סמל סיווג העובד | X1: סיווג העובד | Y1: סמל תוספת | Z1: סוג תוספת | AA1: סמל דרוג | AB1: דרוג | AC1: דרגה | AD1: גמול השתלמות | AE1: תאריך התחלה בתפקיד | AF1: תאריך התחלת העובד במשרה | AG1: תאריך סיום העובד במשרה | AH1: תאריך התחלה כרטיס עובד | AI1: תאריך סיום כרטיס עובד | AJ1: תאריך התחלת תקן | AK1: תאריך סיום תקן
A2: 4 | B2: דרום | C2: 100 | D2: אילת | E2: 1000000 | F2: ע. אילת | G2: 2000 | H2: 63 | I2: מרכז נושא מוגבלויות | J2: 1 | K2: ע"ח המשרד | L2: 1 | M2: שכר עובדי המחלקה לש"ח | N2: 0 | P2: ללא הסכם מיוחד | Q2: 302878269 | R2: אברהם | S2: רות | T2: נשים | U2: 0.5 | V2: 0.5 | W2: 63 | X2: מרכז נושא מוגבלויות | Y2: 0 | AA2: 80 | AB2: עו"ס | AC2: 27 | AE2: 44440 | AF2: 44440 | AG2: 47848 | AH2: 43466 | AI2: 47848 | AJ2: 34060
A3: 4 | B3: דרום | C3: 100 | D3: אילת | E3: 1000000 | F3: ע. אילת | G3: 3000 | H3: 64 | I3: מרכז נושא שיקום | J3: 1 | K3: ע"ח המשרד | L3: 1 | M3: שכר עובדי המחלקה לש"ח | N3: 0 | P3: ללא הסכם מיוחד | Q3: 15485998 | R3: ספלטר | S3: לילה | T3: נשים | U3: 0.5 | V3: 0.5 | W3: 64 | X3: מרכז נושא שיקום | Y3: 0 | AA3: 80 | AB3: עו"ס | AC3: 28 | AD3: 108 | AE3: 44743 | AF3: 44743 | AG3: 47848 | AH3: 40664 | AI3: 47848 | AJ3: 26390
A4: 4 | B4: דרום | C4: 100 | D4: אילת | E4: 1000040 | F4: ע. אילת צ.מוגבלויות | G4: 120100 | H4: 120 | I4: עו"ס משפחה (כוללני) | J4: 1 | K4: ע"ח המשרד | L4: 1 | M4: שכר עובדי המחלקה לש"ח | N4: 8 | O4: עו"ס - אוטיסטים | P4: ללא הסכם מיוחד | Q4: 305434664 | R4: לנקרי | S4: עדי | T4: נשים | U4: 0.75 | V4: 0.75 | W4: 120 | X4: עו"ס משפחה (כוללני) | Y4: 0 | AA4: 80 | AB4: עו"ס | AC4: 21 | AD4: 101 | AE4: 42858 | AF4: 44440 | AG4: 47848 | AH4: 43922 | AI4: 47848 | AJ4: 42461
A5: 4 | B5: דרום | C5: 100 | D5: אילת | E5: 1000040 | F5: ע. אילת צ.מוגבלויות | G5: 140100 | H5: 140 | I5: עו"ס שיקום | J5: 1 | K5: ע"ח המשרד | L5: 1 | M5: שכר עובדי המחלקה לש"ח | N5: 0 | P5: ללא הסכם מיוחד | Q5: 302878269 | R5: אברהם | S5: רות | T5: נשים | U5: 0.39 | V5: 0.39 | W5: 140 | X5: עו"ס שיקום | Y5: 0 | AA5: 80 | AB5: עו"ס | AC5: 21 | AE5: 44440 | AF5: 44440 | AG5: 47848 | AH5: 43466 | AI5: 47848 | AJ5: 44348
A6: 1 | B6: ירושלים | C6: 101 | D6: אשקלון | E6: 1010000 | F6: ע. אשקלון | G6: 40100 | H6: 63 | I6: מרכז נושא מוגבלויות | J6: 1 | K6: ע"ח המשרד | L6: 1 | M6: שכר עובדי המחלקה לש"ח | N6: 0 | P6: ללא הסכם מיוחד | Q6: 15857873 | R6: סרדם | S6: אנדריאה | T6: נשים | U6: 1 | V6: 1 | W6: 63 | X6: מרכז נושא מוגבלויות | Y6: 0 | AA6: 80 | AB6: עו"ס | AC6: 27 | AD6: 105 | AE6: 41548 | AF6: 41548 | AG6: 46843 | AH6: 33939 | AI6: 46843 | AJ6: 18629
A7: 1 | B7: ירושלים | C7: 101 | D7: אשקלון | E7: 1010000 | F7: ע. אשקלון | G7: 50200 | H7: 64 | I7: מרכז נושא שיקום | J7: 1 | K7: ע"ח המשרד | L7: 1 | M7: שכר עובדי המחלקה לש"ח | N7: 0 | P7: ללא הסכם מיוחד | Q7: 309855096 | R7: יצחק | S7: לאקהברהן | T7: גברים | U7: 1 | V7: 1 | W7: 64 | X7: מרכז נושא שיקום | Y7: 0 | AA7: 80 | AB7: עו"ס | AC7: 30 | AD7: 111 | AE7: 40238 | AF7: 40238 | AG7: 46752 | AH7: 36151 | AI7: 46752 | AJ7: 18629
A8: 1 | B8: ירושלים | C8: 101 | D8: אשקלון | E8: 1010110 | F8: ע.אשקלון צרכים מיוחד | G8: 120200 | H8: 120 | I8: עו"ס משפחה (כוללני) | J8: 1 | K8: ע"ח המשרד | L8: 1 | M8: שכר עובדי המחלקה לש"ח | N8: 8 | O8: עו"ס - אוטיסטים | P8: ללא הסכם מיוחד | Q8: 29359346 | R8: כהן | S8: ליז | T8: נשים | U8: 0.5 | V8: 0.5 | W8: 120 | X8: עו"ס משפחה (כוללני) | Y8: 0 | AA8: 80 | AB8: עו"ס | AC8: 21 | AD8: 107 | AE8: 43786 | AF8: 43786 | AG8: 48944 | AH8: 43786 | AI8: 49674 | AJ8: 42461
A9: 1 | B9: ירושלים | C9: 101 | D9: אשקלון | E9: 1010110 | F9: ע.אשקלון צרכים מיוחד | G9: 120300 | H9: 120 | I9: עו"ס משפחה (כוללני) | J9: 1 | K9: ע"ח המשרד | L9: 1 | M9: שכר עובדי המחלקה לש"ח | N9: 8 | O9: עו"ס - אוטיסטים | P9: ללא הסכם מיוחד | Q9: 309787885 | R9: ווסה | S9: אנייש | T9: נשים | U9: 1 | V9: 1 | W9: 120 | X9: עו"ס משפחה (כוללני) | Y9: 0 | AA9: 80 | AB9: עו"ס | AC9: 22 | AD9: 102 | AE9: 42522 | AF9: 44440 | AG9: 54057 | AH9: 40163 | AI9: 54057 | AJ9: 42461
A10: 4 | B10: דרום | C10: 102 | D10: באר-שבע | E10: 1020005 | F10: ע.באר שבע צ.שיקום | G10: 60300 | H10: 63 | I10: מרכז נושא מוגבלויות | J10: 1 | K10: ע"ח המשרד | L10: 1 | M10: שכר עובדי המחלקה לש"ח | N10: 0 | P10: ללא הסכם מיוחד | Q10: 58828609 | R10: בן זקרי לוי | S10: מרים מירי | T10: נשים | U10: 1 | V10: 1 | W10: 63 | X10: מרכז נושא מוגבלויות | Y10: 0 | AA10: 80 | AB10: עו"ס | AC10: 30 | AD10: 111 | AE10: 37926 | AF10: 44440 | AG10: 45535 | AH10: 32387 | AI10: 45535 | AJ10: 37073
A11: 4 | B11: דרום | C11: 102 | D11: באר-שבע | E11: 1020005 | F11: ע.באר שבע צ.שיקום | G11: 60400 | H11: 64 | I11: מרכז נושא שיקום | J11: 1 | K11: ע"ח המשרד | L11: 1 | M11: שכר עובדי המחלקה לש"ח | N11: 0 | P11: ללא הסכם מיוחד | Q11: 25410705 | R11: הלל | S11: צביה | T11: נשים | U11: 1 | V11: 0.5 | W11: 64 | X11: מרכז נושא שיקום | Y11: 0 | AA11: 80 | AB11: עו"ס | AC11: 29 | AD11: 106 | AE11: 44424 | AF11: 44424 | AG11: 55153 | AH11: 38678 | AI11: 55153 | AJ11: 33786
A12: 4 | B12: דרום | C12: 102 | D12: באר-שבע | E12: 1020005 | F12: ע.באר שבע צ.שיקום | G12: 60400 | H12: 64 | I12: מרכז נושא שיקום | J12: 1 | K12: ע"ח המשרד | L12: 1 | M12: שכר עובדי המחלקה לש"ח | N12: 0 | P12: ללא הסכם מיוחד | Q12: 29634003 | R12: שקמה | S12: ענבל | T12: נשים | U12: 1 | V12: 0.5 | W12: 64 | X12: מרכז נושא שיקום | Y12: 0 | AA12: 80 | AB12: עו"ס | AC12: 30 | AD12: 111 | AE12: 44424 | AF12: 44424 | AG12: 55153 | AH12: 35476 | AI12: 55153 | AJ12: 33786
A13: 4 | B13: דרום | C13: 102 | D13: באר-שבע | E13: 1020005 | F13: ע.באר שבע צ.שיקום | G13: 120330 | H13: 120 | I13: עו"ס משפחה (כוללני) | J13: 1 | K13: ע"ח המשרד | L13: 1 | M13: שכר עובדי המחלקה לש"ח | N13: 8 | O13: עו"ס - אוטיסטים | P13: ללא הסכם מיוחד | Q13: 22618250 | R13: ביטון בריח | S13: דנה | T13: נשים | U13: 0.25 | V13: 0.25 | W13: 120 | X13: עו"ס משפחה (כוללני) | Y13: 0 | AA13: 80 | AB13: עו"ס | AC13: 21 | AD13: 102 | AE13: 33117 | AF13: 44136 | AG13: 55153 | AH13: 33117 | AI13: 55153 | AJ13: 42461
A14: 4 | B14: דרום | C14: 102 | D14: באר-שבע | E14: 1020005 | F14: ע.באר שבע צ.שיקום | G14: 120340 | H14: 120 | I14: עו"ס משפחה (כוללני) | J14: 1 | K14: ע"ח המשרד | L14: 1 | M14: שכר עובדי המחלקה לש"ח | N14: 8 | O14: עו"ס - אוטיסטים | P14: ללא הסכם מיוחד | Q14: 37978384 | R14: עטיה | S14: ליאור | T14: גברים | U14: 1 | V14: 1 | W14: 120 | X14: עו"ס משפחה (כוללני) | Y14: 0 | AA14: 80 | AB14: עו"ס | AC14: 20 | AD14: 109 | AE14: 44563 | AF14: 44563 | AG14: 47848 | AH14: 44563 | AI14: 47848 | AJ14: 42461
A15: 4 | B15: דרום | C15: 102 | D15: באר-שבע | E15: 1020005 | F15: ע.באר שבע צ.שיקום | G15: 120350 | H15: 120 | I15: עו"ס משפחה (כוללני) | J15: 1 | K15: ע"ח המשרד | L15: 1 | M15: שכר עובדי המחלקה לש"ח | N15: 8 | O15: עו"ס - אוטיסטים | P15: ללא הסכם מיוחד | Q15: 301719498 | R15: אינהסז | S15: רעות | T15: נשים | U15: 1 | V15: 1 | W15: 120 | X15: עו"ס משפחה (כוללני) | Y15: 0 | AA15: 80 | AB15: עו"ס | AC15: 21 | AE15: 41791 | AF15: 44805 | AG15: 46387 | AH15: 41791 | AI15: 55153 | AJ15: 42461
A16: 4 | B16: דרום | C16: 102 | D16: באר-שבע | E16: 1020005 | F16: ע.באר שבע צ.שיקום | G16: 120600 | H16: 120 | I16: עו"ס משפחה (כוללני) | J16: 1 | K16: ע"ח המשרד | L16: 1 | M16: שכר עובדי המחלקה לש"ח | N16: 8 | O16: עו"ס - אוטיסטים | P16: ללא הסכם מיוחד | Q16: 311393854 | R16: פרץ | S16: תהילה | T16: נשים | U16: 1 | V16: 1 | W16: 120 | X16: עו"ס משפחה (כוללני) | Y16: 0 | AA16: 80 | AB16: עו"ס | AC16: 20 | AE16: 44080 | AF16: 44808 | AG16: 46022 | AH16: 44080 | AI16: 47848 | AJ16: 42461
A17: 1 | B17: ירושלים | C17: 103 | D17: ירושלים | E17: 1030000 | F17: ע. י-ם הנהלה | G17: 39210 | H17: 120 | I17: עו"ס משפחה (כוללני) | J17: 1 | K17: ע"ח המשרד | L17: 1 | M17: שכר עובדי המחלקה לש"ח | N17: 8 | O17: עו"ס - אוטיסטים | P17: ללא הסכם מיוחד | Q17: 24395592 | R17: כהן (גבאי) | S17: יעל | T17: נשים | U17: 0.25 | V17: 0.25 | W17: 120 | X17: עו"ס משפחה (כוללני) | Y17: 0 | AA17: 80 | AB17: עו"ס | AC17: 24 | AD17: 111 | AE17: 38534 | AF17: 43831 | AG17: 50009 | AH17: 35521 | AI17: 50009 | AJ17: 42461
A18: 1 | B18: ירושלים | C18: 103 | D18: ירושלים | E18: 1030030 | F18: ע. י-ם מ.שיקום | G18: 7500 | H18: 120 | I18: עו"ס משפחה (כוללני) | J18: 1 | K18: ע"ח המשרד | L18: 1 | M18: שכר עובדי המחלקה לש"ח | N18: 8 | O18: עו"ס - אוטיסטים | P18: ללא הסכם מיוחד | Q18: 302547989 | R18: סויונוב | S18: מורן | T18: נשים | U18: 1 | V18: 0.8 | W18: 120 | X18: עו"ס משפחה (כוללני) | Y18: 0 | AA18: 80 | AB18: עו"ס | AC18: 21 | AD18: 136 | AE18: 43992 | AF18: 43992 | AG18: 57496 | AH18: 42764 | AI18: 57496 | AJ18: 42461
A19: 1 | B19: ירושלים | C19: 103 | D19: ירושלים | E19: 1030030 | F19: ע. י-ם מ.שיקום | G19: 7500 | H19: 120 | I19: עו"ס משפחה (כוללני) | J19: 1 | K19: ע"ח המשרד | L19: 1 | M19: שכר עובדי המחלקה לש"ח | N19: 8 | O19: עו"ס - אוטיסטים | P19: ללא הסכם מיוחד | Q19: 305612681 | R19: באואר | S19: הודיה | T19: נשים | U19: 1 | V19: 0.2 | W19: 120 | X19: עו"ס משפחה (כוללני) | Y19: 0 | AA19: 80 | AB19: עו"ס | AC19: 21 | AE19: 41974 | AF19: 44774 | AG19: 57710 | AH19: 41974 | AI19: 57710 | AJ19: 42461
A20: 1 | B20: ירושלים | C20: 103 | D20: ירושלים | E20: 1030030 | F20: ע. י-ם מ.שיקום | G20: 10200 | H20: 140 | I20: עו"ס שיקום | J20: 1 | K20: ע"ח המשרד | L20: 1 | M20: שכר עובדי המחלקה לש"ח | N20: 0 | P20: ללא הסכם מיוחד | Q20: 305366387 | R20: אריה ברזני | S20: מיכל | T20: נשים | U20: 0.25 | V20: 0.25 | W20: 140 | X20: עו"ס שיקום | Y20: 0 | AA20: 80 | AB20: עו"ס | AC20: 20 | AE20: 44674 | AF20: 44674 | AG20: 57588 | AH20: 44571 | AI20: 57588 | AJ20: 18629
A21: 1 | B21: ירושלים | C21: 103 | D21: ירושלים | E21: 1030030 | F21: ע. י-ם מ.שיקום | G21: 10300 | H21: 140 | I21: עו"ס שיקום | J21: 1 | K21: ע"ח המשרד | L21: 1 | M21: שכר עובדי המחלקה לש"ח | N21: 0 | P21: ללא הסכם מיוחד | Q21: 24395592 | R21: כהן (גבאי) | S21: יעל | T21: נשים | U21: 0.5 | V21: 0.25 | W21: 140 | X21: עו"ס שיקום | Y21: 0 | AA21: 80 | AB21: עו"ס | AC21: 24 | AD21: 111 | AE21: 43922 | AF21: 43922 | AG21: 50009 | AH21: 35521 | AI21: 50009 | AJ21: 18629
A22: 1 | B22: ירושלים | C22: 103 | D22: ירושלים | E22: 1030030 | F22: ע. י-ם מ.שיקום | G22: 10300 | H22: 140 | I22: עו"ס שיקום | J22: 1 | K22: ע"ח המשרד | L22: 1 | M22: שכר עובדי המחלקה לש"ח | N22: 0 | P22: ללא הסכם מיוחד | Q22: 305950388 | R22: בלפר | S22: גלינה | T22: נשים | U22: 0.5 | V22: 0.25 | W22: 140 | X22: עו"ס שיקום | Y22: 0 | AA22: 80 | AB22: עו"ס | AC22: 24 | AD22: 111 | AE22: 39934 | AF22: 43297 | AG22: 46660 | AH22: 35186 | AI22: 46660 | AJ22: 18629
A23: 1 | B23: ירושלים | C23: 103 | D23: ירושלים | E23: 1030030 | F23: ע. י-ם מ.שיקום | G23: 10500 | H23: 140 | I23: עו"ס שיקום | J23: 1 | K23: ע"ח המשרד | L23: 1 | M23: שכר עובדי המחלקה לש"ח | N23: 0 | P23: ללא הסכם מיוחד | Q23: 305950388 | R23: בלפר | S23: גלינה | T23: נשים | U23: 0.5 | V23: 0.5 | W23: 140 | X23: עו"ס שיקום | Y23: 0 | AA23: 80 | AB23: עו"ס | AC23: 24 | AD23: 111 | AE23: 39934 | AF23: 40063 | AG23: 46660 | AH23: 35186 | AI23: 46660 | AJ23: 33786
A24: 1 | B24: ירושלים | C24: 103 | D24: ירושלים | E24: 1030030 | F24: ע. י-ם מ.שיקום | G24: 10700 | H24: 140 | I24: עו"ס שיקום | J24: 1 | K24: ע"ח המשרד | L24: 1 | M24: שכר עובדי המחלקה לש"ח | N24: 0 | P24: ללא הסכם מיוחד | Q24: 33229915 | R24: סרי לוי | S24: יסכה | T24: נשים | U24: 1 | V24: 1 | W24: 140 | X24: עו"ס שיקום | Y24: 0 | AA24: 80 | AB24: עו"ס | AC24: 21 | AE24: 39904 | AF24: 41699 | AG24: 51774 | AH24: 39904 | AI24: 51774 | AJ24: 18629
A25: 1 | B25: ירושלים | C25: 103 | D25: ירושלים | E25: 1030055 | F25: ע.י-ם צוות תלפ"ז | G25: 21500 | H25: 120 | I25: עו"ס משפחה (כוללני) | J25: 1 | K25: ע"ח המשרד | L25: 1 | M25: שכר עובדי המחלקה לש"ח | N25: 8 | O25: עו"ס - אוטיסטים | P25: ללא הסכם מיוחד | Q25: 36508075 | R25: סיימנוס | S25: רחל תרצה | T25: נשים | U25: 0.5 | V25: 0.5 | W25: 120 | X25: עו"ס משפחה (כוללני) | Y25: 0 | AA25: 80 | AB25: עו"ס | AC25: 23 | AD25: 108 | AE25: 38550 | AF25: 44792 | AG25: 53692 | AH25: 37926 | AI25: 53692 | AJ25: 37773
A26: 1 | B26: ירושלים | C26: 103 | D26: ירושלים | E26: 1030056 | F26: ע. י-ם ל ד ש'גילה | G26: 23700 | H26: 120 | I26: עו"ס משפחה (כוללני) | J26: 1 | K26: ע"ח המשרד | L26: 1 | M26: שכר עובדי המחלקה לש"ח | N26: 8 | O26: עו"ס - אוטיסטים | P26: ללא הסכם מיוחד | Q26: 201206471 | R26: אברגל | S26: רעות | T26: נשים | U26: 0.5 | V26: 0.25 | W26: 120 | X26: עו"ס משפחה (כוללני) | Y26: 0 | AA26: 80 | AB26: עו"ס | AC26: 21 | AE26: 43376 | AF26: 44872 | AG26: 57038 | AH26: 43376 | AI26: 57038 | AJ26: 42461
A27: 1 | B27: ירושלים | C27: 103 | D27: ירושלים | E27: 1030056 | F27: ע. י-ם ל ד ש'גילה | G27: 23700 | H27: 120 | I27: עו"ס משפחה (כוללני) | J27: 1 | K27: ע"ח המשרד | L27: 1 | M27: שכר עובדי המחלקה לש"ח | N27: 8 | O27: עו"ס - אוטיסטים | P27: ללא הסכם מיוחד | Q27: 301772372 | R27: סבטיצקי | S27: זילפה | T27: נשים | U27: 0.5 | V27: 0.25 | W27: 120 | X27: עו"ס משפחה (כוללני) | Y27: 0 | AA27: 80 | AB27: עו"ס | AC27: 21 | AE27: 42603 | AF27: 43101 | AG27: 56948 | AH27: 42603 | AI27: 56948 | AJ27: 42461
A28: 1 | B28: ירושלים | C28: 103 | D28: ירושלים | E28: 1030060 | F28: ע. י-ם לשכת מערב | G28: 13100 | H28: 64 | I28: מרכז נושא שיקום | J28: 1 | K28: ע"ח המשרד | L28: 1 | M28: שכר עובדי המחלקה לש"ח | N28: 0 | P28: ללא הסכם מיוחד | Q28: 300970621 | R28: קלין לזוביך | S28: עדי הילה | T28: נשים | U28: 1 | V28: 1 | W28: 64 | X28: מרכז נושא שיקום | Y28: 0 | AA28: 80 | AB28: עו"ס | AC28: 28 | AD28: 104 | AE28: 44059 | AF28: 44470 | AG28: 54635 | AH28: 42948 | AI28: 54635 | AJ28: 37469
A29: 1 | B29: ירושלים | C29: 103 | D29: ירושלים | E29: 1030060 | F29: ע. י-ם לשכת מערב | G29: 40400 | H29: 140 | I29: עו"ס שיקום | J29: 1 | K29: ע"ח המשרד | L29: 1 | M29: שכר עובדי המחלקה לש"ח | N29: 0 | P29: ללא הסכם מיוחד | Q29: 203392493 | R29: הלה גולדברג | S29: ענת | T29: נשים | U29: 0.25 | V29: 0.25 | W29: 140 | X29: עו"ס שיקום | Y29: 0 | AA29: 80 | AB29: עו"ס | AC29: 21 | AD29: 101 | AE29: 44059 | AF29: 44726 | AG29: 58106 | AH29: 43757 | AI29: 58106 | AJ29: 42736
A30: 1 | B30: ירושלים | C30: 103 | D30: ירושלים | E30: 1030073 | F30: ע. י-ם סילואן | G30: 8700 | H30: 120 | I30: עו"ס משפחה (כוללני) | J30: 1 | K30: ע"ח המשרד | L30: 1 | M30: שכר עובדי המחלקה לש"ח | N30: 8 | O30: עו"ס - אוטיסטים | P30: ללא הסכם מיוחד | Q30: 316365147 | R30: מנצור | S30: קריסטין | T30: נשים | U30: 0.25 | V30: 0.25 | W30: 120 | X30: עו"ס משפחה (כוללני) | Y30: 0 | AA30: 80 | AB30: עו"ס | AC30: 21 | AE30: 42953 | AF30: 43922 | AG30: 59291 | AH30: 42953 | AI30: 59291 | AJ30: 42461
A31: 1 | B31: ירושלים | C31: 103 | D31: ירושלים | E31: 1030075 | F31: ע. י-ם ב.צפפה צ.באהר | G31: 120310 | H31: 120 | I31: עו"ס משפחה (כוללני) | J31: 1 | K31: ע"ח המשרד | L31: 1 | M31: שכר עובדי המחלקה לש"ח | N31: 8 | O31: עו"ס - אוטיסטים | P31: ללא הסכם מיוחד | Q31: 312449739 | R31: אבו אלהא | S31: פאטמה | T31: נשים | U31: 0.5 | V31: 0.5 | W31: 120 | X31: עו"ס משפחה (כוללני) | Y31: 0 | AA31: 80 | AB31: עו"ס | AC31: 21 | AD31: 101 | AE31: 42583 | AF31: 43586 | AG31: 58806 | AH31: 42498 | AI31: 58806 | AJ31: 42461
A32: 1 | B32: ירושלים | C32: 103 | D32: ירושלים | E32: 1030110 | F32: ע. י-ם צפון מוגבל'צ1 | G32: 120200 | H32: 120 | I32: עו"ס משפחה (כוללני) | J32: 1 | K32: ע"ח המשרד | L32: 1 | M32: שכר עובדי המחלקה לש"ח | N32: 8 | O32: עו"ס - אוטיסטים | P32: ללא הסכם מיוחד | U32: 0.75 | AJ32: 42461
A33: 1 | B33: ירושלים | C33: 103 | D33: ירושלים | E33: 1030110 | F33: ע. י-ם צפון מוגבל'צ1 | G33: 120500 | H33: 120 | I33: עו"ס משפחה (כוללני) | J33: 1 | K33: ע"ח המשרד | L33: 1 | M33: שכר עובדי המחלקה לש"ח | N33: 8 | O33: עו"ס - אוטיסטים | P33: ללא הסכם מיוחד | Q33: 33365479 | R33: פרנקל | S33: חגית | T33: נשים | U33: 0.5 | V33: 0.25 | W33: 120 | X33: עו"ס משפחה (כוללני) | Y33: 0 | AA33: 80 | AB33: עו"ס | AC33: 22 | AD33: 136 | AE33: 41931 | AF33: 44044 | AG33: 52655 | AH33: 41931 | AI33: 52655 | AJ33: 42461
A34: 1 | B34: ירושלים | C34: 103 | D34: ירושלים | E34: 1030110 | F34: ע. י-ם צפון מוגבל'צ1 | G34: 120500 | H34: 120 | I34: עו"ס משפחה (כוללני) | J34: 1 | K34: ע"ח המשרד | L34: 1 | M34: שכר עובדי המחלקה לש"ח | N34: 8 | O34: עו"ס - אוטיסטים | P34: ללא הסכם מיוחד | Q34: 208243329 | R34: עמיצור שטסל | S34: חן | T34: נשים | U34: 0.5 | V34: 0.25 | W34: 120 | X34: עו"ס משפחה (כוללני) | Y34: 0 | AA34: 80 | AB34: עו"ס | AC34: 21 | AE34: 43450 | AF34: 44505 | AG34: 59505 | AH34: 43450 | AI34: 59505 | AJ34: 42461
A35: 1 | B35: ירושלים | C35: 103 | D35: ירושלים | E35: 1030110 | F35: ע. י-ם צפון מוגבל'צ1 | G35: 140100 | H35: 140 | I35: עו"ס שיקום | J35: 1 | K35: ע"ח המשרד | L35: 1 | M35: שכר עובדי המחלקה לש"ח | N35: 0 | P35: ללא הסכם מיוחד | Q35: 205382757 | R35: לופיאן | S35: רחלי | T35: נשים | U35: 1 | V35: 1 | W35: 140 | X35: עו"ס שיקום | Y35: 0 | AA35: 80 | AB35: עו"ס | AC35: 20 | AE35: 44713 | AF35: 44743 | AG35: 59110 | AH35: 44682 | AI35: 59110 | AJ35: 42736
A36: 1 | B36: ירושלים | C36: 103 | D36: ירושלים | E36: 1030110 | F36: ע. י-ם צפון מוגבל'צ1 | G36: 140300 | H36: 140 | I36: עו"ס שיקום | J36: 1 | K36: ע"ח המשרד | L36: 1 | M36: שכר עובדי המחלקה לש"ח | N36: 0 | P36: ללא הסכם מיוחד | Q36: 33365479 | R36: פרנקל | S36: חגית | T36: נשים | U36: 0.75 | V36: 0.75 | W36: 140 | X36: עו"ס שיקום | Y36: 0 | AA36: 80 | AB36: עו"ס | AC36: 22 | AD36: 136 | AE36: 43952 | AF36: 43983 | AG36: 52655 | AH36: 41931 | AI36: 52655 | AJ36: 42736
A37: 1 | B37: ירושלים | C37: 103 | D37: ירושלים | E37: 1030120 | F37: ע. י-ם צפון מוגבל'צ2 | G37: 140100 | H37: 140 | I37: עו"ס שיקום | J37: 1 | K37: ע"ח המשרד | L37: 1 | M37: שכר עובדי המחלקה לש"ח | N37: 0 | P37: ללא הסכם מיוחד | Q37: 205834765 | R37: שמש | S37: הדסה | T37: נשים | U37: 0.75 | V37: 0.75 | W37: 140 | X37: עו"ס שיקום | Y37: 0 | AA37: 80 | AB37: עו"ס | AC37: 21 | AE37: 43983 | AF37: 44562 | AG37: 59717 | AH37: 43605 | AI37: 59717 | AJ37: 18629
A38: 1 | B38: ירושלים | C38: 103 | D38: ירושלים | E38: 1030120 | F38: ע. י-ם צפון מוגבל'צ2 | G38: 140200 | H38: 140 | I38: עו"ס שיקום | J38: 1 | K38: ע"ח המשרד | L38: 1 | M38: שכר עובדי המחלקה לש"ח | N38: 0 | P38: ללא הסכם מיוחד | Q38: 300733185 | R38: קורן | S38: ענבל | T38: נשים | U38: 0.5 | V38: 0.5 | W38: 140 | X38: עו"ס שיקום | Y38: 0 | AA38: 80 | AB38: עו"ס | AC38: 22 | AD38: 102 | AE38: 44105 | AF38: 44834 | AG38: 56308 | AH38: 41288 | AI38: 56308 | AJ38: 18629
A39: 1 | B39: ירושלים | C39: 103 | D39: ירושלים | E39: 1030120 | F39: ע. י-ם צפון מוגבל'צ2 | G39: 140400 | H39: 140 | I39: עו"ס שיקום | J39: 1 | K39: ע"ח המשרד | L39: 1 | M39: שכר עובדי המחלקה לש"ח | N39: 0 | P39: ללא הסכם מיוחד | Q39: 31790694 | R39: זכריה-ג'בלי | S39: אסתר | T39: נשים | U39: 0.5 | V39: 0.25 | W39: 140 | X39: עו"ס שיקום | Y39: 0 | AA39: 80 | AB39: עו"ס | AC39: 24 | AD39: 111 | AE39: 41091 | AF39: 44228 | AG39: 51713 | AH39: 38905 | AI39: 51713 | AJ39: 18629
A40: 1 | B40: ירושלים | C40: 103 | D40: ירושלים | E40: 1030120 | F40: ע. י-ם צפון מוגבל'צ2 | G40: 140400 | H40: 140 | I40: עו"ס שיקום | J40: 1 | K40: ע"ח המשרד | L40: 1 | M40: שכר עובדי המחלקה לש"ח | N40: 0 | P40: ללא הסכם מיוחד | Q40: 208243329 | R40: עמיצור שטסל | S40: חן | T40: נשים | U40: 0.5 | V40: 0.25 | W40: 140 | X40: עו"ס שיקום | Y40: 0 | AA40: 80 | AB40: עו"ס | AC40: 21 | AE40: 44440 | AF40: 44505 | AG40: 59505 | AH40: 43450 | AI40: 59505 | AJ40: 18629
A41: 1 | B41: ירושלים | C41: 103 | D41: ירושלים | E41: 1030120 | F41: ע. י-ם צפון מוגבל'צ2 | G41: 140500 | H41: 140 | I41: עו"ס שיקום | J41: 1 | K41: ע"ח המשרד | L41: 1 | M41: שכר עובדי המחלקה לש"ח | N41: 0 | P41: ללא הסכם מיוחד | Q41: 208243329 | R41: עמיצור שטסל | S41: חן | T41: נשים | U41: 0.75 | V41: 0.25 | W41: 140 | X41: עו"ס שיקום | Y41: 0 | AA41: 80 | AB41: עו"ס | AC41: 21 | AE41: 44440 | AF41: 44505 | AG41: 59505 | AH41: 43450 | AI41: 59505 | AJ41: 41306
A42: 1 | B42: ירושלים | C42: 103 | D42: ירושלים | E42: 1030120 | F42: ע. י-ם צפון מוגבל'צ2 | G42: 140500 | H42: 140 | I42: עו"ס שיקום | J42: 1 | K42: ע"ח המשרד | L42: 1 | M42: שכר עובדי המחלקה לש"ח | N42: 0 | P42: ללא הסכם מיוחד | Q42: 333854339 | R42: צרצ'ס | S42: יוליה | T42: נשים | U42: 0.75 | V42: 0.5 | W42: 140 | X42: עו"ס שיקום | Y42: 0 | AA42: 80 | AB42: עו"ס | AC42: 21 | AE42: 43983 | AF42: 43983 | AG42: 58440 | AH42: 43450 | AI42: 58440 | AJ42: 41306
A43: 1 | B43: ירושלים | C43: 103 | D43: ירושלים | E43: 1030120 | F43: ע. י-ם צפון מוגבל'צ2 | G43: 140600 | H43: 140 | I43: עו"ס שיקום | J43: 1 | K43: ע"ח המשרד | L43: 1 | M43: שכר עובדי המחלקה לש"ח | N43: 0 | P43: ללא הסכם מיוחד | Q43: 31790694 | R43: זכריה-ג'בלי | S43: אסתר | T43: נשים | U43: 0.55 | V43: 0.55 | W43: 140 | X43: עו"ס שיקום | Y43: 0 | AA43: 80 | AB43: עו"ס | AC43: 24 | AD43: 111 | AE43: 41091 | AF43: 43983 | AG43: 51713 | AH43: 38905 | AI43: 51713 | AJ43: 18629
A44: 1 | B44: ירושלים | C44: 103 | D44: ירושלים | E44: 1030120 | F44: ע. י-ם צפון מוגבל'צ2 | G44: 140800 | H44: 140 | I44: עו"ס שיקום | J44: 1 | K44: ע"ח המשרד | L44: 1 | M44: שכר עובדי המחלקה לש"ח | N44: 0 | P44: ללא הסכם מיוחד | Q44: 300733185 | R44: קורן | S44: ענבל | T44: נשים | U44: 0.5 | V44: 0.5 | W44: 140 | X44: עו"ס שיקום | Y44: 0 | AA44: 80 | AB44: עו"ס | AC44: 22 | AD44: 102 | AE44: 44105 | AF44: 44834 | AG44: 56308 | AH44: 41288 | AI44: 56308 | AJ44: 18629
A45: 1 | B45: ירושלים | C45: 103 | D45: ירושלים | E45: 1030120 | F45: ע. י-ם צפון מוגבל'צ2 | G45: 140900 | H45: 140 | I45: עו"ס שיקום | J45: 1 | K45: ע"ח המשרד | L45: 1 | M45: שכר עובדי המחלקה לש"ח | N45: 0 | P45: ללא הסכם מיוחד | Q45: 39416813 | R45: בלקמן | S45: משה ברוך | T45: גברים | U45: 0.65 | V45: 0.65 | W45: 140 | X45: עו"ס שיקום | Y45: 0 | AA45: 80 | AB45: עו"ס | AC45: 20 | AE45: 44558 | AF45: 44558 | AG45: 55273 | AH45: 44558 | AI45: 55273 | AJ45: 42736
A46: 1 | B46: ירושלים | C46: 103 | D46: ירושלים | E46: 1030210 | F46: ע. י-ם מערב מוגבל'צ1 | G46: 120100 | H46: 120 | I46: עו"ס משפחה (כוללני) | J46: 1 | K46: ע"ח המשרד | L46: 1 | M46: שכר עובדי המחלקה לש"ח | N46: 8 | O46: עו"ס - אוטיסטים | P46: ללא הסכם מיוחד | Q46: 212031595 | R46: פדה | S46: בלמא | T46: נשים | U46: 0.25 | V46: 0.25 | W46: 120 | X46: עו"ס משפחה (כוללני) | Y46: 0 | AA46: 80 | AB46: עו"ס | AC46: 20 | AE46: 44911 | AF46: 44911 | AG46: 61240 | AH46: 44911 | AI46: 61240 | AJ46: 42461
A47: 1 | B47: ירושלים | C47: 103 | D47: ירושלים | E47: 1030210 | F47: ע. י-ם מערב מוגבל'צ1 | G47: 140200 | H47: 140 | I47: עו"ס שיקום | J47: 1 | K47: ע"ח המשרד | L47: 1 | M47: שכר עובדי המחלקה לש"ח | N47: 0 | P47: ללא הסכם מיוחד | Q47: 38828604 | R47: בלפר | S47: שפרה | T47: נשים | U47: 0.75 | V47: 0.75 | W47: 140 | X47: עו"ס שיקום | Y47: 0 | AA47: 80 | AB47: עו"ס | AC47: 20 | AE47: 44197 | AF47: 44291 | AG47: 49095 | AH47: 44129 | AI47: 49095 | AJ47: 42736
A48: 1 | B48: ירושלים | C48: 103 | D48: ירושלים | E48: 1030210 | F48: ע. י-ם מערב מוגבל'צ1 | G48: 140400 | H48: 140 | I48: עו"ס שיקום | J48: 1 | K48: ע"ח המשרד | L48: 1 | M48: שכר עובדי המחלקה לש"ח | N48: 0 | P48: ללא הסכם מיוחד | Q48: 212031595 | R48: פדה | S48: בלמא | T48: נשים | U48: 0.5 | V48: 0.5 | W48: 140 | X48: עו"ס שיקום | Y48: 0 | AA48: 80 | AB48: עו"ס | AC48: 20 | AE48: 44911 | AF48: 44911 | AG48: 61240 | AH48: 44911 | AI48: 61240 | AJ48: 41153
A49: 1 | B49: ירושלים | C49: 103 | D49: ירושלים | E49: 1030210 | F49: ע. י-ם מערב מוגבל'צ1 | G49: 140600 | H49: 140 | I49: עו"ס שיקום | J49: 1 | K49: ע"ח המשרד | L49: 1 | M49: שכר עובדי המחלקה לש"ח | N49: 0 | P49: ללא הסכם מיוחד | Q49: 203561766 | R49: לופוביץ | S49: מיכל | T49: נשים | U49: 0.75 | V49: 0.75 | W49: 140 | X49: עו"ס שיקום | Y49: 0 | AA49: 80 | AB49: עו"ס | AC49: 20 | AE49: 43949 | AF49: 44695 | AG49: 58348 | AH49: 43949 | AI49: 58348 | AJ49: 37469
A50: 1 | B50: ירושלים | C50: 103 | D50: ירושלים | E50: 1030210 | F50: ע. י-ם מערב מוגבל'צ1 | G50: 140700 | H50: 140 | I50: עו"ס שיקום | J50: 1 | K50: ע"ח המשרד | L50: 1 | M50: שכר עובדי המחלקה לש"ח | N50: 0 | P50: ללא הסכם מיוחד | Q50: 66470113 | R50: חביב אטינגר | S50: מיטל | T50: נשים | U50: 0.5 | V50: 0.5 | W50: 140 | X50: עו"ס שיקום | Y50: 0 | AA50: 80 | AB50: עו"ס | AC50: 22 | AE50: 44621 | AF50: 44621 | AG50: 55396 | AH50: 42723 | AI50: 55396 | AJ50: 18629
A51: 1 | B51: ירושלים | C51: 103 | D51: ירושלים | E51: 1030220 | F51: ע. י-ם מערב מוגבל'צ2 | G51: 140100 | H51: 140 | I51: עו"ס שיקום | J51: 1 | K51: ע"ח המשרד | L51: 1 | M51: שכר עובדי המחלקה לש"ח | N51: 0 | P51: ללא הסכם מיוחד | Q51: 313345704 | R51: אלמליח | S51: נטע | T51: נשים | U51: 1 | V51: 0.25 | W51: 140 | X51: עו"ס שיקום | Y51: 0 | AA51: 80 | AB51: עו"ס | AC51: 20 | AE51: 44766 | AF51: 44766 | AG51: 59567 | AH51: 44473 | AI51: 59567 | AJ51: 18629
A52: 1 | B52: ירושלים | C52: 103 | D52: ירושלים | E52: 1030220 | F52: ע. י-ם מערב מוגבל'צ2 | G52: 140100 | H52: 140 | I52: עו"ס שיקום | J52: 1 | K52: ע"ח המשרד | L52: 1 | M52: שכר עובדי המחלקה לש"ח | N52: 0 | P52: ללא הסכם מיוחד | Q52: 315078402 | R52: בוסקילה | S52: רינה | T52: נשים | U52: 1 | V52: 0.75 | W52: 140 | X52: עו"ס שיקום | Y52: 0 | AA52: 80 | AB52: עו"ס | AC52: 20 | AE52: 44769 | AF52: 44769 | AG52: 47848 | AH52: 44690 | AI52: 47848 | AJ52: 18629
A53: 1 | B53: ירושלים | C53: 103 | D53: ירושלים | E53: 1030220 | F53: ע. י-ם מערב מוגבל'צ2 | G53: 140200 | H53: 140 | I53: עו"ס שיקום | J53: 1 | K53: ע"ח המשרד | L53: 1 | M53: שכר עובדי המחלקה לש"ח | N53: 0 | P53: ללא הסכם מיוחד | Q53: 15722457 | R53: בן-דור | S53: קרול | T53: נשים | U53: 1 | V53: 1 | W53: 140 | X53: עו"ס שיקום | Y53: 0 | AA53: 80 | AB53: עו"ס | AC53: 23 | AD53: 106 | AE53: 43952 | AF53: 44105 | AG53: 44926 | AH53: 37956 | AI53: 44926 | AJ53: 42736
A54: 1 | B54: ירושלים | C54: 103 | D54: ירושלים | E54: 1030310 | F54: ע. י-ם מזרח מוגבל'צ1 | G54: 140100 | H54: 140 | I54: עו"ס שיקום | J54: 1 | K54: ע"ח המשרד | L54: 1 | M54: שכר עובדי המחלקה לש"ח | N54: 12 | O54: תקנים זמניים | P54: ללא הסכם מיוחד | Q54: 315759654 | R54: יגמור | S54: רהאם | T54: נשים | U54: 0.5 | V54: 0.5 | W54: 140 | X54: עו"ס שיקום | Y54: 4 | Z54: תקנים זמניים | AA54: 80 | AB54: עו"ס | AC54: 21 | AD54: 101 | AE54: 42125 | AF54: 44819 | AG54: 58379 | AH54: 42125 | AI54: 58379 | AJ54: 42005
A55: 1 | B55: ירושלים | C55: 103 | D55: ירושלים | E55: 1030310 | F55: ע. י-ם מזרח מוגבל'צ1 | G55: 140200 | H55: 140 | I55: עו"ס שיקום | J55: 1 | K55: ע"ח המשרד | L55: 1 | M55: שכר עובדי המחלקה לש"ח | N55: 12 | O55: תקנים זמניים | P55: ללא הסכם מיוחד | Q55: 205930589 | R55: רבאעה | S55: הדיל | T55: גברים | U55: 0.5 | V55: 0.5 | W55: 140 | X55: עו"ס שיקום | Y55: 4 | Z55: תקנים זמניים | AA55: 80 | AB55: עו"ס | AC55: 21 | AE55: 44166 | AF55: 44166 | AG55: 58471 | AH55: 43177 | AI55: 58471 | AJ55: 43101
A56: 1 | B56: ירושלים | C56: 103 | D56: ירושלים | E56: 1030310 | F56: ע. י-ם מזרח מוגבל'צ1 | G56: 140300 | H56: 140 | I56: עו"ס שיקום | J56: 1 | K56: ע"ח המשרד | L56: 1 | M56: שכר עובדי המחלקה לש"ח | N56: 0 | P56: ללא הסכם מיוחד | Q56: 207713934 | R56: אבו גרבייה | S56: פרח | T56: נשים | U56: 1 | V56: 1 | W56: 140 | X56: עו"ס שיקום | Y56: 0 | AA56: 80 | AB56: עו"ס | AC56: 20 | AE56: 44136 | AF56: 44715 | AG56: 60418 | AH56: 44136 | AI56: 60418 | AJ56: 40026
A57: 1 | B57: ירושלים | C57: 103 | D57: ירושלים | E57: 1030320 | F57: ע. י-ם מזרח מוגבל'צ2 | G57: 140100 | H57: 140 | I57: עו"ס שיקום | J57: 1 | K57: ע"ח המשרד | L57: 1 | M57: שכר עובדי המחלקה לש"ח | N57: 12 | O57: תקנים זמניים | P57: ללא הסכם מיוחד | Q57: 32713349 | R57: עיסאוי | S57: ווסאם | T57: גברים | U57: 1 | V57: 1 | W57: 140 | X57: עו"ס שיקום | Y57: 4 | Z57: תקנים זמניים | AA57: 80 | AB57: עו"ס | AC57: 21 | AE57: 44166 | AF57: 44166 | AG57: 56127 | AH57: 43215 | AI57: 56127 | AJ57: 43101
A58: 1 | B58: ירושלים | C58: 103 | D58: ירושלים | E58: 1030320 | F58: ע. י-ם מזרח מוגבל'צ2 | G58: 140310 | H58: 140 | I58: עו"ס שיקום | J58: 1 | K58: ע"ח המשרד | L58: 1 | M58: שכר עובדי המחלקה לש"ח | N58: 0 | P58: ללא הסכם מיוחד | Q58: 207248568 | R58: סאלחי | S58: מונזר | T58: גברים | U58: 0.5 | V58: 0.5 | W58: 140 | X58: עו"ס שיקום | Y58: 0 | AA58: 80 | AB58: עו"ס | AC58: 20 | AE58: 44223 | AF58: 44733 | AG58: 59809 | AH58: 44223 | AI58: 59809 | AJ58: 37469
A59: 1 | B59: ירושלים | C59: 103 | D59: ירושלים | E59: 1030320 | F59: ע. י-ם מזרח מוגבל'צ2 | G59: 140400 | H59: 140 | I59: עו"ס שיקום | J59: 1 | K59: ע"ח המשרד | L59: 1 | M59: שכר עובדי המחלקה לש"ח | N59: 0 | P59: ללא הסכם מיוחד | Q59: 313728438 | R59: מונה | S59: נוהא | T59: נשים | U59: 0.75 | V59: 0.75 | W59: 140 | X59: עו"ס שיקום | Y59: 0 | AA59: 80 | AB59: עו"ס | AC59: 21 | AD59: 101 | AE59: 40422 | AF59: 44166 | AG59: 50252 | AH59: 39264 | AI59: 50252 | AJ59: 32599
A60: 1 | B60: ירושלים | C60: 103 | D60: ירושלים | E60: 1030320 | F60: ע. י-ם מזרח מוגבל'צ2 | G60: 140500 | H60: 140 | I60: עו"ס שיקום | J60: 1 | K60: ע"ח המשרד | L60: 1 | M60: שכר עובדי המחלקה לש"ח | N60: 0 | P60: ללא הסכם מיוחד | Q60: 34013466 | R60: אבו טאעה | S60: רנא | T60: נשים | U60: 0.5 | V60: 0.5 | W60: 140 | X60: עו"ס שיקום | Y60: 0 | AA60: 80 | AB60: עו"ס | AC60: 21 | AE60: 44166 | AF60: 44166 | AG60: 52748 | AH60: 43740 | AI60: 52748 | AJ60: 40026
A61: 1 | B61: ירושלים | C61: 103 | D61: ירושלים | E61: 1030320 | F61: ע. י-ם מזרח מוגבל'צ2 | G61: 140600 | H61: 140 | I61: עו"ס שיקום | J61: 1 | K61: ע"ח המשרד | L61: 1 | M61: שכר עובדי המחלקה לש"ח | N61: 12 | O61: תקנים זמניים | P61: ללא הסכם מיוחד | Q61: 34013466 | R61: אבו טאעה | S61: רנא | T61: נשים | U61: 0.5 | V61: 0.5 | W61: 140 | X61: עו"ס שיקום | Y61: 4 | Z61: תקנים זמניים | AA61: 80 | AB61: עו"ס | AC61: 21 | AE61: 44166 | AF61: 44166 | AG61: 52748 | AH61: 43740 | AI61: 52748 | AJ61: 42370
A62: 1 | B62: ירושלים | C62: 103 | D62: ירושלים | E62: 1030330 | F62: ע. י-ם מזרח מוגבל'צ3 | G62: 140200 | H62: 140 | I62: עו"ס שיקום | J62: 1 | K62: ע"ח המשרד | L62: 1 | M62: שכר עובדי המחלקה לש"ח | N62: 0 | P62: ללא הסכם מיוחד | Q62: 206034449 | R62: גית | S62: סוזאן | T62: נשים | U62: 0.25 | V62: 0.25 | W62: 140 | X62: עו"ס שיקום | Y62: 0 | AA62: 80 | AB62: עו"ס | AC62: 20 | AE62: 44409 | AF62: 44501 | AG62: 47848 | AH62: 44409 | AI62: 47848 | AJ62: 18629
A63: 1 | B63: ירושלים | C63: 103 | D63: ירושלים | E63: 1030330 | F63: ע. י-ם מזרח מוגבל'צ3 | G63: 140300 | H63: 140 | I63: עו"ס שיקום | J63: 1 | K63: ע"ח המשרד | L63: 1 | M63: שכר עובדי המחלקה לש"ח | N63: 12 | O63: תקנים זמניים | P63: ללא הסכם מיוחד | Q63: 312442049 | R63: נמארי | S63: חנין | T63: נשים | U63: 0.75 | V63: 0.75 | W63: 140 | X63: עו"ס שיקום | Y63: 4 | Z63: תקנים זמניים | AA63: 80 | AB63: עו"ס | AC63: 21 | AE63: 44166 | AF63: 44166 | AG63: 58957 | AH63: 43807 | AI63: 58957 | AJ63: 42005
A64: 1 | B64: ירושלים | C64: 103 | D64: ירושלים | E64: 1030330 | F64: ע. י-ם מזרח מוגבל'צ3 | G64: 140400 | H64: 140 | I64: עו"ס שיקום | J64: 1 | K64: ע"ח המשרד | L64: 1 | M64: שכר עובדי המחלקה לש"ח | N64: 0 | P64: ללא הסכם מיוחד | Q64: 34019281 | R64: נאזל | S64: כפאח | T64: נשים | U64: 0.75 | V64: 0.75 | W64: 140 | X64: עו"ס שיקום | Y64: 0 | AA64: 80 | AB64: עו"ס | AC64: 21 | AE64: 44166 | AF64: 44166 | AG64: 52778 | AH64: 43629 | AI64: 52778 | AJ64: 18629
A65: 1 | B65: ירושלים | C65: 103 | D65: ירושלים | E65: 1030330 | F65: ע. י-ם מזרח מוגבל'צ3 | G65: 140700 | H65: 140 | I65: עו"ס שיקום | J65: 1 | K65: ע"ח המשרד | L65: 1 | M65: שכר עובדי המחלקה לש"ח | N65: 0 | P65: ללא הסכם מיוחד | Q65: 301157327 | R65: מיסק תמימי | S65: מינאס | T65: נשים | U65: 0.75 | V65: 0.75 | W65: 140 | X65: עו"ס שיקום | Y65: 0 | AA65: 80 | AB65: עו"ס | AC65: 21 | AE65: 43906 | AF65: 44166 | AG65: 56645 | AH65: 43164 | AI65: 56645 | AJ65: 42736
A66: 1 | B66: ירושלים | C66: 103 | D66: ירושלים | E66: 1030410 | F66: ע. י-ם דרום מוגבל'צ1 | G66: 120200 | H66: 120 | I66: עו"ס משפחה (כוללני) | J66: 1 | K66: ע"ח המשרד | L66: 1 | M66: שכר עובדי המחלקה לש"ח | N66: 8 | O66: עו"ס - אוטיסטים | P66: ללא הסכם מיוחד | Q66: 40197030 | R66: רשף רטבי | S66: ורד חנה | T66: נשים | U66: 0.5 | V66: 0.5 | W66: 120 | X66: עו"ס משפחה (כוללני) | Y66: 0 | AA66: 80 | AB66: עו"ס | AC66: 21 | AE66: 43040 | AF66: 44317 | AG66: 54116 | AH66: 42919 | AI66: 54116 | AJ66: 42461
A67: 1 | B67: ירושלים | C67: 103 | D67: ירושלים | E67: 1030410 | F67: ע. י-ם דרום מוגבל'צ1 | G67: 140300 | H67: 140 | I67: עו"ס שיקום | J67: 1 | K67: ע"ח המשרד | L67: 1 | M67: שכר עובדי המחלקה לש"ח | N67: 0 | P67: ללא הסכם מיוחד | Q67: 13773841 | R67: ור | S67: אמי | T67: נשים | U67: 0.5 | V67: 0.5 | W67: 140 | X67: עו"ס שיקום | Y67: 0 | AA67: 80 | AB67: עו"ס | AC67: 22 | AD67: 106 | AE67: 43983 | AF67: 44317 | AG67: 47999 | AH67: 32966 | AI67: 47999 | AJ67: 42736
A68: 1 | B68: ירושלים | C68: 103 | D68: ירושלים | E68: 1030410 | F68: ע. י-ם דרום מוגבל'צ1 | G68: 140400 | H68: 140 | I68: עו"ס שיקום | J68: 1 | K68: ע"ח המשרד | L68: 1 | M68: שכר עובדי המחלקה לש"ח | N68: 0 | P68: ללא הסכם מיוחד | Q68: 201643319 | R68: קאופמן | S68: מזהב | T68: נשים | U68: 0.7 | V68: 0.7 | W68: 140 | X68: עו"ס שיקום | Y68: 0 | AA68: 80 | AB68: עו"ס | AC68: 20 | AD68: 105 | AE68: 44531 | AF68: 44873 | AG68: 57161 | AH68: 44531 | AI68: 57161 | AJ68: 39661
A69: 1 | B69: ירושלים | C69: 103 | D69: ירושלים | E69: 1030410 | F69: ע. י-ם דרום מוגבל'צ1 | G69: 140500 | H69: 140 | I69: עו"ס שיקום | J69: 1 | K69: ע"ח המשרד | L69: 1 | M69: שכר עובדי המחלקה לש"ח | N69: 0 | P69: ללא הסכם מיוחד | Q69: 300850971 | R69: לוי | S69: צילה | T69: נשים | U69: 0.85 | V69: 0.85 | W69: 140 | X69: עו"ס שיקום | Y69: 0 | AA69: 80 | AB69: עו"ס | AC69: 21 | AD69: 106 | AE69: 43061 | AF69: 44317 | AG69: 56461 | AH69: 43061 | AI69: 56461 | AJ69: 33970
A70: 1 | B70: ירושלים | C70: 103 | D70: ירושלים | E70: 1030410 | F70: ע. י-ם דרום מוגבל'צ1 | G70: 140600 | H70: 140 | I70: עו"ס שיקום | J70: 1 | K70: ע"ח המשרד | L70: 1 | M70: שכר עובדי המחלקה לש"ח | N70: 0 | P70: ללא הסכם מיוחד | Q70: 308858042 | R70: לוי | S70: ליאורה | T70: נשים | U70: 0.75 | V70: 0.75 | W70: 140 | X70: עו"ס שיקום | Y70: 0 | AA70: 80 | AB70: עו"ס | AC70: 21 | AD70: 135 | AE70: 44317 | AF70: 44317 | AG70: 49278 | AH70: 33786 | AI70: 49278 | AJ70: 18629
A71: 1 | B71: ירושלים | C71: 103 | D71: ירושלים | E71: 1032080 | F71: ע.ים מערב הר נוף ב | G71: 120600 | H71: 120 | I71: עו"ס משפחה (כוללני) | J71: 1 | K71: ע"ח המשרד | L71: 1 | M71: שכר עובדי המחלקה לש"ח | N71: 8 | O71: עו"ס - אוטיסטים | P71: ללא הסכם מיוחד | Q71: 316425834 | R71: יומטוב | S71: אוריה | T71: נשים | U71: 0.75 | V71: 0.75 | W71: 120 | X71: עו"ס משפחה (כוללני) | Y71: 0 | AA71: 80 | AB71: עו"ס | AC71: 20 | AE71: 44422 | AF71: 44693 | AG71: 59414 | AH71: 44017 | AI71: 59414 | AJ71: 42461
A72: 1 | B72: ירושלים | C72: 104 | D72: אשדוד | E72: 1040000 | F72: ע. אשדוד הנהלה | G72: 40010 | H72: 140 | I72: עו"ס שיקום | J72: 1 | K72: ע"ח המשרד | L72: 1 | M72: שכר עובדי המחלקה לש"ח | N72: 0 | P72: ללא הסכם מיוחד | U72: 0.5 | AJ72: 40026
A73: 1 | B73: ירושלים | C73: 104 | D73: אשדוד | E73: 1040100 | F73: ע.אשדוד שיקום הנהלה | G73: 64100 | H73: 64 | I73: מרכז נושא שיקום | J73: 1 | K73: ע"ח המשרד | L73: 1 | M73: שכר עובדי המחלקה לש"ח | N73: 0 | P73: ללא הסכם מיוחד | U73: 1 | AJ73: 29312
A74: 1 | B74: ירושלים | C74: 104 | D74: אשדוד | E74: 1040100 | F74: ע.אשדוד שיקום הנהלה | G74: 64200 | H74: 64 | I74: מרכז נושא שיקום | J74: 1 | K74: ע"ח המשרד | L74: 1 | M74: שכר עובדי המחלקה לש"ח | N74: 0 | P74: ללא הסכם מיוחד | Q74: 37398161 | R74: מלכה | S74: מירית | T74: נשים | U74: 0.8 | V74: 0.8 | W74: 64 | X74: מרכז נושא שיקום | Y74: 0 | AA74: 80 | AB74: עו"ס | AC74: 28 | AD74: 102 | AE74: 43952 | AF74: 43952 | AG74: 47483 | AH74: 40283 | AI74: 47483 | AJ74: 37073
A75: 1 | B75: ירושלים | C75: 104 | D75: אשדוד | E75: 1040100 | F75: ע.אשדוד שיקום הנהלה | G75: 64300 | H75: 64 | I75: מרכז נושא שיקום | J75: 1 | K75: ע"ח המשרד | L75: 1 | M75: שכר עובדי המחלקה לש"ח | N75: 0 | P75: ללא הסכם מיוחד | Q75: 22903496 | R75: סופר | S75: יעל | T75: נשים | U75: 1 | V75: 1 | W75: 64 | X75: מרכז נושא שיקום | Y75: 0 | AA75: 80 | AB75: עו"ס | AC75: 29 | AD75: 110 | AE75: 43952 | AF75: 43952 | AG75: 48944 | AH75: 33725 | AI75: 48944 | AJ75: 26359
A76: 1 | B76: ירושלים | C76: 104 | D76: אשדוד | E76: 1040110 | F76: ע.אשדוד שיקום צ.צפון | G76: 120100 | H76: 120 | I76: עו"ס משפחה (כוללני) | J76: 1 | K76: ע"ח המשרד | L76: 1 | M76: שכר עובדי המחלקה לש"ח | N76: 8 | O76: עו"ס - אוטיסטים | P76: ללא הסכם מיוחד | Q76: 15899115 | R76: אוקלרס | S76: מריאל | T76: נשים | U76: 1 | V76: 1 | W76: 120 | X76: עו"ס משפחה (כוללני) | Y76: 0 | AA76: 80 | AB76: עו"ס | AC76: 23 | AD76: 136 | AE76: 39814 | AF76: 43952 | AG76: 49309 | AH76: 36739 | AI76: 49309 | AJ76: 42461
A77: 1 | B77: ירושלים | C77: 104 | D77: אשדוד | E77: 1040110 | F77: ע.אשדוד שיקום צ.צפון | G77: 120400 | H77: 120 | I77: עו"ס משפחה (כוללני) | J77: 1 | K77: ע"ח המשרד | L77: 1 | M77: שכר עובדי המחלקה לש"ח | N77: 8 | O77: עו"ס - אוטיסטים | P77: ללא הסכם מיוחד | Q77: 40142390 | R77: ז'אנה | S77: חנה | T77: גברים | U77: 0.24 | V77: 0.24 | W77: 120 | X77: עו"ס משפחה (כוללני) | Y77: 0 | AA77: 80 | AB77: עו"ס | AC77: 20 | AE77: 44531 | AF77: 44774 | AG77: 47848 | AH77: 44531 | AI77: 47848 | AJ77: 38777
A78: 1 | B78: ירושלים | C78: 104 | D78: אשדוד | E78: 1040110 | F78: ע.אשדוד שיקום צ.צפון | G78: 140200 | H78: 140 | I78: עו"ס שיקום | J78: 1 | K78: ע"ח המשרד | L78: 1 | M78: שכר עובדי המחלקה לש"ח | N78: 0 | P78: ללא הסכם מיוחד | Q78: 316413616 | R78: דהן | S78: שירה | T78: נשים | U78: 0.3 | V78: 0.3 | W78: 140 | X78: עו"ס שיקום | Y78: 0 | AA78: 80 | AB78: עו"ס | AC78: 20 | AE78: 44562 | AF78: 44562 | AG78: 47848 | AH78: 44562 | AI78: 47848 | AJ78: 37469
A79: 1 | B79: ירושלים | C79: 104 | D79: אשדוד | E79: 1040120 | F79: ע.אשדוד שיקום צ.דרום | G79: 120100 | H79: 120 | I79: עו"ס משפחה (כוללני) | J79: 1 | K79: ע"ח המשרד | L79: 1 | M79: שכר עובדי המחלקה לש"ח | N79: 8 | O79: עו"ס - אוטיסטים | P79: ללא הסכם מיוחד | Q79: 203062963 | R79: אלבז | S79: שיר | T79: נשים | U79: 0.25 | V79: 0.25 | W79: 120 | X79: עו"ס משפחה (כוללני) | Y79: 0 | AA79: 80 | AB79: עו"ס | AC79: 21 | AE79: 43206 | AF79: 43952 | AG79: 47118 | AH79: 43206 | AI79: 47118 | AJ79: 38777
A80: 1 | B80: ירושלים | C80: 104 | D80: אשדוד | E80: 1040120 | F80: ע.אשדוד שיקום צ.דרום | G80: 120400 | H80: 120 | I80: עו"ס משפחה (כוללני) | J80: 1 | K80: ע"ח המשרד | L80: 1 | M80: שכר עובדי המחלקה לש"ח | N80: 8 | O80: עו"ס - אוטיסטים | P80: ללא הסכם מיוחד | Q80: 15623150 | R80: גרפינקל | S80: אסתר | T80: נשים | U80: 0.1 | V80: 0.1 | W80: 120 | X80: עו"ס משפחה (כוללני) | Y80: 0 | AA80: 80 | AB80: עו"ס | AC80: 21 | AE80: 42905 | AF80: 44774 | AG80: 47848 | AH80: 43271 | AI80: 47848 | AJ80: 42461
A81: 1 | B81: ירושלים | C81: 104 | D81: אשדוד | E81: 1040120 | F81: ע.אשדוד שיקום צ.דרום | G81: 120500 | H81: 120 | I81: עו"ס משפחה (כוללני) | J81: 1 | K81: ע"ח המשרד | L81: 1 | M81: שכר עובדי המחלקה לש"ח | N81: 8 | O81: עו"ס - אוטיסטים | P81: ללא הסכם מיוחד | Q81: 203399688 | R81: דהן | S81: רביד | T81: נשים | U81: 0.9 | V81: 0.9 | W81: 120 | X81: עו"ס משפחה (כוללני) | Y81: 0 | AA81: 80 | AB81: עו"ס | AC81: 21 | AE81: 43639 | AF81: 44774 | AG81: 47848 | AH81: 43639 | AI81: 47848 | AJ81: 42461
A82: 1 | B82: ירושלים | C82: 104 | D82: אשדוד | E82: 1040120 | F82: ע.אשדוד שיקום צ.דרום | G82: 120600 | H82: 120 | I82: עו"ס משפחה (כוללני) | J82: 1 | K82: ע"ח המשרד | L82: 1 | M82: שכר עובדי המחלקה לש"ח | N82: 8 | O82: עו"ס - אוטיסטים | P82: ללא הסכם מיוחד | U82: 0.01 | AJ82: 38777
A83: 1 | B83: ירושלים | C83: 104 | D83: אשדוד | E83: 1040120 | F83: ע.אשדוד שיקום צ.דרום | G83: 140100 | H83: 140 | I83: עו"ס שיקום | J83: 1 | K83: ע"ח המשרד | L83: 1 | M83: שכר עובדי המחלקה לש"ח | N83: 0 | P83: ללא הסכם מיוחד | Q83: 35928241 | R83: דניאל | S83: לימור | T83: נשים | U83: 1 | V83: 1 | W83: 140 | X83: עו"ס שיקום | Y83: 0 | AA83: 80 | AB83: עו"ס | AC83: 23 | AD83: 105 | AE83: 38830 | AF83: 44774 | AG83: 47848 | AH83: 38018 | AI83: 47848 | AJ83: 37469
A84: 1 | B84: ירושלים | C84: 104 | D84: אשדוד | E84: 1040120 | F84: ע.אשדוד שיקום צ.דרום | G84: 140300 | H84: 140 | I84: עו"ס שיקום | J84: 1 | K84: ע"ח המשרד | L84: 1 | M84: שכר עובדי המחלקה לש"ח | N84: 0 | P84: ללא הסכם מיוחד | Q84: 15623150 | R84: גרפינקל | S84: אסתר | T84: נשים | U84: 0.3 | V84: 0.3 | W84: 140 | X84: עו"ס שיקום | Y84: 0 | AA84: 80 | AB84: עו"ס | AC84: 21 | AE84: 43952 | AF84: 43952 | AG84: 47483 | AH84: 43271 | AI84: 47848 | AJ84: 38292
A85: 1 | B85: ירושלים | C85: 104 | D85: אשדוד | E85: 1040120 | F85: ע.אשדוד שיקום צ.דרום | G85: 140500 | H85: 140 | I85: עו"ס שיקום | J85: 1 | K85: ע"ח המשרד | L85: 1 | M85: שכר עובדי המחלקה לש"ח | N85: 0 | P85: ללא הסכם מיוחד | Q85: 43246644 | R85: סיבוני | S85: אלינור | T85: נשים | U85: 0.8 | V85: 0.8 | W85: 140 | X85: עו"ס שיקום | Y85: 0 | AA85: 80 | AB85: עו"ס | AC85: 20 | AE85: 44682 | AF85: 44774 | AG85: 47848 | AH85: 44682 | AI85: 47848 | AJ85: 38292
A86: 1 | B86: ירושלים | C86: 104 | D86: אשדוד | E86: 1040120 | F86: ע.אשדוד שיקום צ.דרום | G86: 140600 | H86: 140 | I86: עו"ס שיקום | J86: 1 | K86: ע"ח המשרד | L86: 1 | M86: שכר עובדי המחלקה לש"ח | N86: 0 | P86: ללא הסכם מיוחד | Q86: 15623150 | R86: גרפינקל | S86: אסתר | T86: נשים | U86: 0.39 | V86: 0.39 | W86: 140 | X86: עו"ס שיקום | Y86: 0 | AA86: 80 | AB86: עו"ס | AC86: 21 | AE86: 43952 | AF86: 44774 | AG86: 47848 | AH86: 43271 | AI86: 47848 | AJ86: 39661
A87: 1 | B87: ירושלים | C87: 104 | D87: אשדוד | E87: 1040130 | F87: ע.אשדוד שיקום צ.מערב | G87: 140100 | H87: 140 | I87: עו"ס שיקום | J87: 1 | K87: ע"ח המשרד | L87: 1 | M87: שכר עובדי המחלקה לש"ח | N87: 0 | P87: ללא הסכם מיוחד | Q87: 66460262 | R87: נקש | S87: הודיה | T87: נשים | U87: 0.5 | V87: 0.5 | W87: 140 | X87: עו"ס שיקום | Y87: 0 | AA87: 80 | AB87: עו"ס | AC87: 21 | AE87: 42768 | AF87: 44774 | AG87: 47483 | AH87: 42988 | AI87: 47483 | AJ87: 38292
A88: 1 | B88: ירושלים | C88: 104 | D88: אשדוד | E88: 1040130 | F88: ע.אשדוד שיקום צ.מערב | G88: 140200 | H88: 140 | I88: עו"ס שיקום | J88: 1 | K88: ע"ח המשרד | L88: 1 | M88: שכר עובדי המחלקה לש"ח | N88: 0 | P88: ללא הסכם מיוחד | Q88: 59058966 | R88: מלכה | S88: פאני | T88: נשים | U88: 1 | V88: 1 | W88: 140 | X88: עו"ס שיקום | Y88: 0 | AA88: 80 | AB88: עו"ס | AC88: 22 | AD88: 108 | AE88: 37803 | AF88: 44774 | AG88: 48579 | AH88: 32325 | AI88: 48579 | AJ88: 18629
A89: 1 | B89: ירושלים | C89: 104 | D89: אשדוד | E89: 1040400 | F89: ע.אשדוד א. ב,ג הנהלה | G89: 64100 | H89: 64 | I89: מרכז נושא שיקום | J89: 1 | K89: ע"ח המשרד | L89: 1 | M89: שכר עובדי המחלקה לש"ח | N89: 0 | P89: ללא הסכם מיוחד | Q89: 23092380 | R89: בלן אלפון | S89: לאה | T89: נשים | U89: 1 | V89: 1 | W89: 64 | X89: מרכז נושא שיקום | Y89: 0 | AA89: 80 | AB89: עו"ס | AC89: 29 | AD89: 136 | AE89: 43678 | AF89: 44348 | AG89: 48579 | AH89: 34686 | AI89: 48579 | AJ89: 40026
A90: 1 | B90: ירושלים | C90: 104 | D90: אשדוד | E90: 1040400 | F90: ע.אשדוד א. ב,ג הנהלה | G90: 64200 | H90: 64 | I90: מרכז נושא שיקום | J90: 1 | K90: ע"ח המשרד | L90: 1 | M90: שכר עובדי המחלקה לש"ח | N90: 0 | P90: ללא הסכם מיוחד | Q90: 12404943 | R90: שער | S90: סימה | T90: נשים | U90: 1 | V90: 1 | W90: 64 | X90: מרכז נושא שיקום | Y90: 0 | AA90: 80 | AB90: עו"ס | AC90: 29 | AD90: 136 | AE90: 37681 | AF90: 44562 | AG90: 47848 | AH90: 33939 | AI90: 47848 | AJ90: 34060
A91: 4 | B91: דרום | C91: 105 | D91: דימונה | E91: 1050020 | F91: ע. דימונה צוות צפון | G91: 19200 | H91: 140 | I91: עו"ס שיקום | J91: 1 | K91: ע"ח המשרד | L91: 1 | M91: שכר עובדי המחלקה לש"ח | N91: 0 | P91: ללא הסכם מיוחד | U91: 0.86 | AJ91: 27760
A92: 4 | B92: דרום | C92: 105 | D92: דימונה | E92: 1050040 | F92: ע.דימונה נוער מ.אופק | G92: 120400 | H92: 120 | I92: עו"ס משפחה (כוללני) | J92: 1 | K92: ע"ח המשרד | L92: 1 | M92: שכר עובדי המחלקה לש"ח | N92: 8 | O92: עו"ס - אוטיסטים | P92: ללא הסכם מיוחד | Q92: 39760673 | R92: צוהר | S92: חוה לאה | T92: נשים | U92: 0.5 | V92: 0.25 | W92: 120 | X92: עו"ס משפחה (כוללני) | Y92: 0 | AA92: 80 | AB92: עו"ס | AC92: 22 | AE92: 42708 | AF92: 44287 | AG92: 49400 | AH92: 42708 | AI92: 49400 | AJ92: 42461
A93: 4 | B93: דרום | C93: 105 | D93: דימונה | E93: 1050040 | F93: ע.דימונה נוער מ.אופק | G93: 120400 | H93: 120 | I93: עו"ס משפחה (כוללני) | J93: 1 | K93: ע"ח המשרד | L93: 1 | M93: שכר עובדי המחלקה לש"ח | N93: 8 | O93: עו"ס - אוטיסטים | P93: ללא הסכם מיוחד | Q93: 300568995 | R93: ליברמן | S93: אלין | T93: נשים | U93: 0.5 | V93: 0.25 | W93: 120 | X93: עו"ס משפחה (כוללני) | Y93: 0 | AA93: 80 | AB93: עו"ס | AC93: 22 | AD93: 107 | AE93: 41988 | AF93: 44197 | AG93: 47808 | AH93: 41988 | AI93: 47808 | AJ93: 42461
A94: 4 | B94: דרום | C94: 106 | D94: קרית-גת | E94: 1060060 | F94: ע. קרית גת מוגבלויות | G94: 60300 | H94: 63 | I94: מרכז נושא מוגבלויות | J94: 1 | K94: ע"ח המשרד | L94: 1 | M94: שכר עובדי המחלקה לש"ח | N94: 0 | P94: ללא הסכם מיוחד | Q94: 31898554 | R94: שוקר | S94: יעל | T94: נשים | U94: 1 | V94: 1 | W94: 63 | X94: מרכז נושא מוגבלויות | Y94: 0 | AA94: 80 | AB94: עו"ס | AC94: 28 | AD94: 106 | AE94: 37104 | AF94: 44287 | AG94: 47848 | AH94: 36135 | AI94: 47848 | AJ94: 36039
A95: 4 | B95: דרום | C95: 106 | D95: קרית-גת | E95: 1060060 | F95: ע. קרית גת מוגבלויות | G95: 60400 | H95: 64 | I95: מרכז נושא שיקום | J95: 1 | K95: ע"ח המשרד | L95: 1 | M95: שכר עובדי המחלקה לש"ח | N95: 0 | P95: ללא הסכם מיוחד | Q95: 321042525 | R95: גיטין | S95: דינה | T95: נשים | U95: 1 | V95: 1 | W95: 64 | X95: מרכז נושא שיקום | Y95: 0 | AA95: 80 | AB95: עו"ס | AC95: 26 | AD95: 108 | AE95: 44866 | AF95: 44866 | AG95: 48579 | AH95: 43884 | AI95: 48579 | AJ95: 36100
A96: 4 | B96: דרום | C96: 106 | D96: קרית-גת | E96: 1060060 | F96: ע. קרית גת מוגבלויות | G96: 120100 | H96: 120 | I96: עו"ס משפחה (כוללני) | J96: 1 | K96: ע"ח המשרד | L96: 1 | M96: שכר עובדי המחלקה לש"ח | N96: 8 | O96: עו"ס - אוטיסטים | P96: ללא הסכם מיוחד | Q96: 206837460 | R96: צרפתי | S96: יעל | T96: נשים | U96: 0.75 | V96: 0.75 | W96: 120 | X96: עו"ס משפחה (כוללני) | Y96: 0 | AA96: 80 | AB96: עו"ס | AC96: 20 | AE96: 43943 | AF96: 44682 | AG96: 47848 | AH96: 43943 | AI96: 47848 | AJ96: 42461
A97: 4 | B97: דרום | C97: 106 | D97: קרית-גת | E97: 1060060 | F97: ע. קרית גת מוגבלויות | G97: 140100 | H97: 140 | I97: עו"ס שיקום | J97: 1 | K97: ע"ח המשרד | L97: 1 | M97: שכר עובדי המחלקה לש"ח | N97: 0 | P97: ללא הסכם מיוחד | Q97: 206837460 | R97: צרפתי | S97: יעל | T97: נשים | U97: 0.25 | V97: 0.25 | W97: 140 | X97: עו"ס שיקום | Y97: 0 | AA97: 80 | AB97: עו"ס | AC97: 20 | AE97: 44287 | AF97: 44682 | AG97: 47848 | AH97: 43943 | AI97: 47848 | AJ97: 18629
A98: 4 | B98: דרום | C98: 106 | D98: קרית-גת | E98: 1060060 | F98: ע. קרית גת מוגבלויות | G98: 140200 | H98: 140 | I98: עו"ס שיקום | J98: 1 | K98: ע"ח המשרד | L98: 1 | M98: שכר עובדי המחלקה לש"ח | N98: 0 | P98: ללא הסכם מיוחד | Q98: 303172183 | R98: רפאל | S98: אורית | T98: נשים | U98: 0.25 | V98: 0.25 | W98: 140 | X98: עו"ס שיקום | Y98: 0 | AA98: 80 | AB98: עו"ס | AC98: 21 | AD98: 102 | AE98: 44805 | AF98: 44805 | AG98: 47848 | AH98: 42705 | AI98: 47848 | AJ98: 18629
A99: 4 | B99: דרום | C99: 106 | D99: קרית-גת | E99: 1060060 | F99: ע. קרית גת מוגבלויות | G99: 140300 | H99: 140 | I99: עו"ס שיקום | J99: 1 | K99: ע"ח המשרד | L99: 1 | M99: שכר עובדי המחלקה לש"ח | N99: 0 | P99: ללא הסכם מיוחד | Q99: 39079256 | R99: מלסה | S99: תמר | T99: נשים | U99: 0.75 | V99: 0.75 | W99: 140 | X99: עו"ס שיקום | Y99: 0 | AA99: 80 | AB99: עו"ס | AC99: 21 | AD99: 101 | AE99: 44822 | AF99: 44822 | AG99: 46387 | AH99: 44822 | AI99: 47848 | AJ99: 36039
A100: 4 | B100: דרום | C100: 106 | D100: קרית-גת | E100: 1060060 | F100: ע. קרית גת מוגבלויות | G100: 140400 | H100: 140 | I100: עו"ס שיקום | J100: 1 | K100: ע"ח המשרד | L100: 1 | M100: שכר עובדי המחלקה לש"ח | N100: 0 | P100: ללא הסכם מיוחד | Q100: 39079256 | R100: מלסה | S100: תמר | T100: נשים | U100: 0.25 | V100: 0.25 | W100: 140 | X100: עו"ס שיקום | Y100: 0 | AA100: 80 | AB100: עו"ס | AC100: 21 | AD100: 101 | AE100: 44822 | AF100: 44822 | AG100: 46022 | AH100: 44822 | AI100: 47848 | AJ100: 18629
...

Sheet סיכום
A1: סמל מחוז | B1: מחוז | C1: סמל רשות | D1: רשות | E1: תקן - 2010 | F1: איוש -2010 | G1: אחוז איוש -2010 | H1: גברים- 2010 | I1: נשים -2010 | J1: אחוז גברים- 2010 | K1: אחוז נשים -2010 | L1: תקן - 2020 | M1: איוש -2020 | N1: אחוז איוש -2020 | O1: גברים- 2020 | P1: נשים -2020 | Q1: אחוז גברים- 2020 | R1: אחוז נשים -2020 | S1: תקן - 2022 | T1: איוש -2022 | U1: אחוז איוש -2022 | V1: גברים- 2022 | W1: נשים -2022 | X1: אחוז גברים- 2022 | Y1: אחוז נשים -2022
A2: 1 | B2: ירושלים | C2: 101 | D2: ע. אשקלון | E2: =IFERROR(VLOOKUP(C2,'סיכום 10-2010'!C:H,3,FALSE),0) -> 2 | F2: =IFERROR(VLOOKUP(C2,'סיכום 10-2010'!C:H,4,FALSE),0) -> 2 | G2: =IF(F2=0,0,F2/E2) -> 1 | H2: =IFERROR(VLOOKUP(C2,'סיכום 10-2010'!C:H,5,FALSE),0) -> 1 | I2: =IFERROR(VLOOKUP(C2,'סיכום 10-2010'!C:H,6,FALSE),0) -> 1 | J2: =IF(H2=0,0,H2/F2) -> 0.5 | K2: =IF(I2=0,0,I2/F2) -> 0.5 | L2: =IFERROR(VLOOKUP(C2,'סיכום 10-2020'!C:H,3,FALSE),0) -> 3.5 | M2: =IFERROR(VLOOKUP(C2,'סיכום 10-2020'!C:H,4,FALSE),0) -> 3.5 | N2: =IF(M2=0,0,M2/L2) -> 1 | O2: =IFERROR(VLOOKUP(C2,'סיכום 10-2020'!C:H,5,FALSE),0) -> 1 | P2: =IFERROR(VLOOKUP(C2,'סיכום 10-2020'!C:H,6,FALSE),0) -> 2.5 | Q2: =IF(O2=0,0,O2/M2) -> 0.28571429 | R2: =IF(P2=0,0,P2/M2) -> 0.71428571 | S2: =IFERROR(VLOOKUP(C2,'סיכום 12-2022'!C:H,3,FALSE),0) -> 3.5 | T2: =IFERROR(VLOOKUP(C2,'סיכום 12-2022'!C:H,4,FALSE),0) -> 3.5 | U2: =IF(T2=0,0,T2/S2) -> 1 | V2: =IFERROR(VLOOKUP(C2,'סיכום 12-2022'!C:H,5,FALSE),0) -> 1 | W2: =IFERROR(VLOOKUP(C2,'סיכום 12-2022'!C:H,6,FALSE),0) -> 2.5 | X2: =IF(V2=0,0,V2/T2) -> 0.28571429 | Y2: =IF(W2=0,0,W2/T2) -> 0.71428571
A3: 1 | B3: ירושלים | C3: 103 | D3: ע. ירושלים | E3: =IFERROR(VLOOKUP(C3,'סיכום 10-2010'!C:H,3,FALSE),0) -> 12.4 | F3: =IFERROR(VLOOKUP(C3,'סיכום 10-2010'!C:H,4,FALSE),0) -> 12.4 | G3: =IF(F3=0,0,F3/E3) -> 1 | H3: =IFERROR(VLOOKUP(C3,'סיכום 10-2010'!C:H,5,FALSE),0) -> 1 | I3: =IFERROR(VLOOKUP(C3,'סיכום 10-2010'!C:H,6,FALSE),0) -> 11.4 | J3: =IF(H3=0,0,H3/F3) -> 0.080645161 | K3: =IF(I3=0,0,I3/F3) -> 0.91935484 | L3: =IFERROR(VLOOKUP(C3,'סיכום 10-2020'!C:H,3,FALSE),0) -> 29.85 | M3: =IFERROR(VLOOKUP(C3,'סיכום 10-2020'!C:H,4,FALSE),0) -> 29.85 | N3: =IF(M3=0,0,M3/L3) -> 1 | O3: =IFERROR(VLOOKUP(C3,'סיכום 10-2020'!C:H,5,FALSE),0) -> 0 | P3: =IFERROR(VLOOKUP(C3,'סיכום 10-2020'!C:H,6,FALSE),0) -> 29.85 | Q3: =IF(O3=0,0,O3/M3) -> 0 | R3: =IF(P3=0,0,P3/M3) -> 1 | S3: =IFERROR(VLOOKUP(C3,'סיכום 12-2022'!C:H,3,FALSE),0) -> 30.25 | T3: =IFERROR(VLOOKUP(C3,'סיכום 12-2022'!C:H,4,FALSE),0) -> 29.5 | U3: =IF(T3=0,0,T3/S3) -> 0.97520661 | V3: =IFERROR(VLOOKUP(C3,'סיכום 12-2022'!C:H,5,FALSE),0) -> 2.65 | W3: =IFERROR(VLOOKUP(C3,'סיכום 12-2022'!C:H,6,FALSE),0) -> 26.85 | X3: =IF(V3=0,0,V3/T3) -> 0.089830508 | Y3: =IF(W3=0,0,W3/T3) -> 0.91016949
A4: 1 | B4: ירושלים | C4: 104 | D4: ע. אשדוד | E4: =IFERROR(VLOOKUP(C4,'סיכום 10-2010'!C:H,3,FALSE),0) -> 5.55 | F4: =IFERROR(VLOOKUP(C4,'סיכום 10-2010'!C:H,4,FALSE),0) -> 5.55 | G4: =IF(F4=0,0,F4/E4) -> 1 | H4: =IFERROR(VLOOKUP(C4,'סיכום 10-2010'!C:H,5,FALSE),0) -> 0 | I4: =IFERROR(VLOOKUP(C4,'סיכום 10-2010'!C:H,6,FALSE),0) -> 5.55 | J4: =IF(H4=0,0,H4/F4) -> 0 | K4: =IF(I4=0,0,I4/F4) -> 1 | L4: =IFERROR(VLOOKUP(C4,'סיכום 10-2020'!C:H,3,FALSE),0) -> 13.89 | M4: =IFERROR(VLOOKUP(C4,'סיכום 10-2020'!C:H,4,FALSE),0) -> 12.75 | N4: =IF(M4=0,0,M4/L4) -> 0.91792657 | O4: =IFERROR(VLOOKUP(C4,'סיכום 10-2020'!C:H,5,FALSE),0) -> 0 | P4: =IFERROR(VLOOKUP(C4,'סיכום 10-2020'!C:H,6,FALSE),0) -> 12.75 | Q4: =IF(O4=0,0,O4/M4) -> 0 | R4: =IF(P4=0,0,P4/M4) -> 1 | S4: =IFERROR(VLOOKUP(C4,'סיכום 12-2022'!C:H,3,FALSE),0) -> 12.09 | T4: =IFERROR(VLOOKUP(C4,'סיכום 12-2022'!C:H,4,FALSE),0) -> 10.58 | U4: =IF(T4=0,0,T4/S4) -> 0.87510339 | V4: =IFERROR(VLOOKUP(C4,'סיכום 12-2022'!C:H,5,FALSE),0) -> 0.24 | W4: =IFERROR(VLOOKUP(C4,'סיכום 12-2022'!C:H,6,FALSE),0) -> 10.34 | X4: =IF(V4=0,0,V4/T4) -> 0.02268431 | Y4: =IF(W4=0,0,W4/T4) -> 0.97731569
A5: 1 | B5: ירושלים | C5: 121 | D5: ע. בית שמש | E5: =IFERROR(VLOOKUP(C5,'סיכום 10-2010'!C:H,3,FALSE),0) -> 0 | F5: =IFERROR(VLOOKUP(C5,'סיכום 10-2010'!C:H,4,FALSE),0) -> 0 | G5: =IF(F5=0,0,F5/E5) -> 0 | H5: =IFERROR(VLOOKUP(C5,'סיכום 10-2010'!C:H,5,FALSE),0) -> 0 | I5: =IFERROR(VLOOKUP(C5,'סיכום 10-2010'!C:H,6,FALSE),0) -> 0 | J5: =IF(H5=0,0,H5/F5) -> 0 | K5: =IF(I5=0,0,I5/F5) -> 0 | L5: =IFERROR(VLOOKUP(C5,'סיכום 10-2020'!C:H,3,FALSE),0) -> 2.25 | M5: =IFERROR(VLOOKUP(C5,'סיכום 10-2020'!C:H,4,FALSE),0) -> 2.25 | N5: =IF(M5=0,0,M5/L5) -> 1 | O5: =IFERROR(VLOOKUP(C5,'סיכום 10-2020'!C:H,5,FALSE),0) -> 0 | P5: =IFERROR(VLOOKUP(C5,'סיכום 10-2020'!C:H,6,FALSE),0) -> 2.25 | Q5: =IF(O5=0,0,O5/M5) -> 0 | R5: =IF(P5=0,0,P5/M5) -> 1 | S5: =IFERROR(VLOOKUP(C5,'סיכום 12-2022'!C:H,3,FALSE),0) -> 1.5 | T5: =IFERROR(VLOOKUP(C5,'סיכום 12-2022'!C:H,4,FALSE),0) -> 1.5 | U5: =IF(T5=0,0,T5/S5) -> 1 | V5: =IFERROR(VLOOKUP(C5,'סיכום 12-2022'!C:H,5,FALSE),0) -> 0 | W5: =IFERROR(VLOOKUP(C5,'סיכום 12-2022'!C:H,6,FALSE),0) -> 1.5 | X5: =IF(V5=0,0,V5/T5) -> 0 | Y5: =IF(W5=0,0,W5/T5) -> 1
A6: 1 | B6: ירושלים | C6: 124 | D6: מ.מ מבשרת ציון | E6: =IFERROR(VLOOKUP(C6,'סיכום 10-2010'!C:H,3,FALSE),0) -> 0 | F6: =IFERROR(VLOOKUP(C6,'סיכום 10-2010'!C:H,4,FALSE),0) -> 0 | G6: =IF(F6=0,0,F6/E6) -> 0 | H6: =IFERROR(VLOOKUP(C6,'סיכום 10-2010'!C:H,5,FALSE),0) -> 0 | I6: =IFERROR(VLOOKUP(C6,'סיכום 10-2010'!C:H,6,FALSE),0) -> 0 | J6: =IF(H6=0,0,H6/F6) -> 0 | K6: =IF(I6=0,0,I6/F6) -> 0 | L6: =IFERROR(VLOOKUP(C6,'סיכום 10-2020'!C:H,3,FALSE),0) -> 0.33 | M6: =IFERROR(VLOOKUP(C6,'סיכום 10-2020'!C:H,4,FALSE),0) -> 0.33 | N6: =IF(M6=0,0,M6/L6) -> 1 | O6: =IFERROR(VLOOKUP(C6,'סיכום 10-2020'!C:H,5,FALSE),0) -> 0 | P6: =IFERROR(VLOOKUP(C6,'סיכום 10-2020'!C:H,6,FALSE),0) -> 0.33 | Q6: =IF(O6=0,0,O6/M6) -> 0 | R6: =IF(P6=0,0,P6/M6) -> 1 | S6: =IFERROR(VLOOKUP(C6,'סיכום 12-2022'!C:H,3,FALSE),0) -> 0.5 | T6: =IFERROR(VLOOKUP(C6,'סיכום 12-2022'!C:H,4,FALSE),0) -> 0 | U6: =IF(T6=0,0,T6/S6) -> 0 | V6: =IFERROR(VLOOKUP(C6,'סיכום 12-2022'!C:H,5,FALSE),0) -> 0 | W6: =IFERROR(VLOOKUP(C6,'סיכום 12-2022'!C:H,6,FALSE),0) -> 0 | X6: =IF(V6=0,0,V6/T6) -> 0 | Y6: =IF(W6=0,0,W6/T6) -> 0
A7: 1 | B7: ירושלים | C7: 129 | D7: ע. ק.מלאכי | E7: =IFERROR(VLOOKUP(C7,'סיכום 10-2010'!C:H,3,FALSE),0) -> 0.5 | F7: =IFERROR(VLOOKUP(C7,'סיכום 10-2010'!C:H,4,FALSE),0) -> 0 | G7: =IF(F7=0,0,F7/E7) -> 0 | H7: =IFERROR(VLOOKUP(C7,'סיכום 10-2010'!C:H,5,FALSE),0) -> 0 | I7: =IFERROR(VLOOKUP(C7,'סיכום 10-2010'!C:H,6,FALSE),0) -> 0 | J7: =IF(H7=0,0,H7/F7) -> 0 | K7: =IF(I7=0,0,I7/F7) -> 0 | L7: =IFERROR(VLOOKUP(C7,'סיכום 10-2020'!C:H,3,FALSE),0) -> 1.5 | M7: =IFERROR(VLOOKUP(C7,'סיכום 10-2020'!C:H,4,FALSE),0) -> 1.5 | N7: =IF(M7=0,0,M7/L7) -> 1 | O7: =IFERROR(VLOOKUP(C7,'סיכום 10-2020'!C:H,5,FALSE),0) -> 0 | P7: =IFERROR(VLOOKUP(C7,'סיכום 10-2020'!C:H,6,FALSE),0) -> 1.5 | Q7: =IF(O7=0,0,O7/M7) -> 0 | R7: =IF(P7=0,0,P7/M7) -> 1 | S7: =IFERROR(VLOOKUP(C7,'סיכום 12-2022'!C:H,3,FALSE),0) -> 1.5 | T7: =IFERROR(VLOOKUP(C7,'סיכום 12-2022'!C:H,4,FALSE),0) -> 1.5 | U7: =IF(T7=0,0,T7/S7) -> 1 | V7: =IFERROR(VLOOKUP(C7,'סיכום 12-2022'!C:H,5,FALSE),0) -> 1 | W7: =IFERROR(VLOOKUP(C7,'סיכום 12-2022'!C:H,6,FALSE),0) -> 0.5 | X7: =IF(V7=0,0,V7/T7) -> 0.66666667 | Y7: =IF(W7=0,0,W7/T7) -> 0.33333333
A8: 1 | B8: ירושלים | C8: 131 | D8: מ.מ קרית ארבע | E8: =IFERROR(VLOOKUP(C8,'סיכום 10-2010'!C:H,3,FALSE),0) -> 0 | F8: =IFERROR(VLOOKUP(C8,'סיכום 10-2010'!C:H,4,FALSE),0) -> 0 | G8: =IF(F8=0,0,F8/E8) -> 0 | H8: =IFERROR(VLOOKUP(C8,'סיכום 10-2010'!C:H,5,FALSE),0) -> 0 | I8: =IFERROR(VLOOKUP(C8,'סיכום 10-2010'!C:H,6,FALSE),0) -> 0 | J8: =IF(H8=0,0,H8/F8) -> 0 | K8: =IF(I8=0,0,I8/F8) -> 0 | L8: =IFERROR(VLOOKUP(C8,'סיכום 10-2020'!C:H,3,FALSE),0) -> 0 | M8: =IFERROR(VLOOKUP(C8,'סיכום 10-2020'!C:H,4,FALSE),0) -> 0 | N8: =IF(M8=0,0,M8/L8) -> 0 | O8: =IFERROR(VLOOKUP(C8,'סיכום 10-2020'!C:H,5,FALSE),0) -> 0 | P8: =IFERROR(VLOOKUP(C8,'סיכום 10-2020'!C:H,6,FALSE),0) -> 0 | Q8: =IF(O8=0,0,O8/M8) -> 0 | R8: =IF(P8=0,0,P8/M8) -> 0 | S8: =IFERROR(VLOOKUP(C8,'סיכום 12-2022'!C:H,3,FALSE),0) -> 0.75 | T8: =IFERROR(VLOOKUP(C8,'סיכום 12-2022'!C:H,4,FALSE),0) -> 0.75 | U8: =IF(T8=0,0,T8/S8) -> 1 | V8: =IFERROR(VLOOKUP(C8,'סיכום 12-2022'!C:H,5,FALSE),0) -> 0 | W8: =IFERROR(VLOOKUP(C8,'סיכום 12-2022'!C:H,6,FALSE),0) -> 0.75 | X8: =IF(V8=0,0,V8/T8) -> 0 | Y8: =IF(W8=0,0,W8/T8) -> 1
A9: 1 | B9: ירושלים | C9: 134 | D9: מ.מ בית אל | E9: =IFERROR(VLOOKUP(C9,'סיכום 10-2010'!C:H,3,FALSE),0) -> 0 | F9: =IFERROR(VLOOKUP(C9,'סיכום 10-2010'!C:H,4,FALSE),0) -> 0 | G9: =IF(F9=0,0,F9/E9) -> 0 | H9: =IFERROR(VLOOKUP(C9,'סיכום 10-2010'!C:H,5,FALSE),0) -> 0 | I9: =IFERROR(VLOOKUP(C9,'סיכום 10-2010'!C:H,6,FALSE),0) -> 0 | J9: =IF(H9=0,0,H9/F9) -> 0 | K9: =IF(I9=0,0,I9/F9) -> 0 | L9: =IFERROR(VLOOKUP(C9,'סיכום 10-2020'!C:H,3,FALSE),0) -> 0.33 | M9: =IFERROR(VLOOKUP(C9,'סיכום 10-2020'!C:H,4,FALSE),0) -> 0.33 | N9: =IF(M9=0,0,M9/L9) -> 1 | O9: =IFERROR(VLOOKUP(C9,'סיכום 10-2020'!C:H,5,FALSE),0) -> 0 | P9: =IFERROR(VLOOKUP(C9,'סיכום 10-2020'!C:H,6,FALSE),0) -> 0.33 | Q9: =IF(O9=0,0,O9/M9) -> 0 | R9: =IF(P9=0,0,P9/M9) -> 1 | S9: =IFERROR(VLOOKUP(C9,'סיכום 12-2022'!C:H,3,FALSE),0) -> 0.5 | T9: =IFERROR(VLOOKUP(C9,'סיכום 12-2022'!C:H,4,FALSE),0) -> 0.5 | U9: =IF(T9=0,0,T9/S9) -> 1 | V9: =IFERROR(VLOOKUP(C9,'סיכום 12-2022'!C:H,5,FALSE),0) -> 0 | W9: =IFERROR(VLOOKUP(C9,'סיכום 12-2022'!C:H,6,FALSE),0) -> 0.5 | X9: =IF(V9=0,0,V9/T9) -> 0 | Y9: =IF(W9=0,0,W9/T9) -> 1
A10: 1 | B10: ירושלים | C10: 140 | D10: ע. מעלה אדומים | E10: =IFERROR(VLOOKUP(C10,'סיכום 10-2010'!C:H,3,FALSE),0) -> 0 | F10: =IFERROR(VLOOKUP(C10,'סיכום 10-2010'!C:H,4,FALSE),0) -> 0 | G10: =IF(F10=0,0,F10/E10) -> 0 | H10: =IFERROR(VLOOKUP(C10,'סיכום 10-2010'!C:H,5,FALSE),0) -> 0 | I10: =IFERROR(VLOOKUP(C10,'סיכום 10-2010'!C:H,6,FALSE),0) -> 0 | J10: =IF(H10=0,0,H10/F10) -> 0 | K10: =IF(I10=0,0,I10/F10) -> 0 | L10: =IFERROR(VLOOKUP(C10,'סיכום 10-2020'!C:H,3,FALSE),0) -> 0.5 | M10: =IFERROR(VLOOKUP(C10,'סיכום 10-2020'!C:H,4,FALSE),0) -> 0.5 | N10: =IF(M10=0,0,M10/L10) -> 1 | O10: =IFERROR(VLOOKUP(C10,'סיכום 10-2020'!C:H,5,FALSE),0) -> 0 | P10: =IFERROR(VLOOKUP(C10,'סיכום 10-2020'!C:H,6,FALSE),0) -> 0.5 | Q10: =IF(O10=0,0,O10/M10) -> 0 | R10: =IF(P10=0,0,P10/M10) -> 1 | S10: =IFERROR(VLOOKUP(C10,'סיכום 12-2022'!C:H,3,FALSE),0) -> 0.5 | T10: =IFERROR(VLOOKUP(C10,'סיכום 12-2022'!C:H,4,FALSE),0) -> 0.5 | U10: =IF(T10=0,0,T10/S10) -> 1 | V10: =IFERROR(VLOOKUP(C10,'סיכום 12-2022'!C:H,5,FALSE),0) -> 0 | W10: =IFERROR(VLOOKUP(C10,'סיכום 12-2022'!C:H,6,FALSE),0) -> 0.5 | X10: =IF(V10=0,0,V10/T10) -> 0 | Y10: =IF(W10=0,0,W10/T10) -> 1
A11: 1 | B11: ירושלים | C11: 141 | D11: מ.מ אפרת | E11: =IFERROR(VLOOKUP(C11,'סיכום 10-2010'!C:H,3,FALSE),0) -> 0 | F11: =IFERROR(VLOOKUP(C11,'סיכום 10-2010'!C:H,4,FALSE),0) -> 0 | G11: =IF(F11=0,0,F11/E11) -> 0 | H11: =IFERROR(VLOOKUP(C11,'סיכום 10-2010'!C:H,5,FALSE),0) -> 0 | I11: =IFERROR(VLOOKUP(C11,'סיכום 10-2010'!C:H,6,FALSE),0) -> 0 | J11: =IF(H11=0,0,H11/F11) -> 0 | K11: =IF(I11=0,0,I11/F11) -> 0 | L11: =IFERROR(VLOOKUP(C11,'סיכום 10-2020'!C:H,3,FALSE),0) -> 0.33 | M11: =IFERROR(VLOOKUP(C11,'סיכום 10-2020'!C:H,4,FALSE),0) -> 0.33 | N11: =IF(M11=0,0,M11/L11) -> 1 | O11: =IFERROR(VLOOKUP(C11,'סיכום 10-2020'!C:H,5,FALSE),0) -> 0 | P11: =IFERROR(VLOOKUP(C11,'סיכום 10-2020'!C:H,6,FALSE),0) -> 0.33 | Q11: =IF(O11=0,0,O11/M11) -> 0 | R11: =IF(P11=0,0,P11/M11) -> 1 | S11: =IFERROR(VLOOKUP(C11,'סיכום 12-2022'!C:H,3,FALSE),0) -> 0.33 | T11: =IFERROR(VLOOKUP(C11,'סיכום 12-2022'!C:H,4,FALSE),0) -> 0.33 | U11: =IF(T11=0,0,T11/S11) -> 1 | V11: =IFERROR(VLOOKUP(C11,'סיכום 12-2022'!C:H,5,FALSE),0) -> 0 | W11: =IFERROR(VLOOKUP(C11,'סיכום 12-2022'!C:H,6,FALSE),0) -> 0.33 | X11: =IF(V11=0,0,V11/T11) -> 0 | Y11: =IF(W11=0,0,W11/T11) -> 1
A12: 1 | B12: ירושלים | C12: 142 | D12: מ.מ גבעת זאב | E12: =IFERROR(VLOOKUP(C12,'סיכום 10-2010'!C:H,3,FALSE),0) -> 0 | F12: =IFERROR(VLOOKUP(C12,'סיכום 10-2010'!C:H,4,FALSE),0) -> 0 | G12: =IF(F12=0,0,F12/E12) -> 0 | H12: =IFERROR(VLOOKUP(C12,'סיכום 10-2010'!C:H,5,FALSE),0) -> 0 | I12: =IFERROR(VLOOKUP(C12,'סיכום 10-2010'!C:H,6,FALSE),0) -> 0 | J12: =IF(H12=0,0,H12/F12) -> 0 | K12: =IF(I12=0,0,I12/F12) -> 0 | L12: =IFERROR(VLOOKUP(C12,'סיכום 10-2020'!C:H,3,FALSE),0) -> 0.33 | M12: =IFERROR(VLOOKUP(C12,'סיכום 10-2020'!C:H,4,FALSE),0) -> 0.33 | N12: =IF(M12=0,0,M12/L12) -> 1 | O12: =IFERROR(VLOOKUP(C12,'סיכום 10-2020'!C:H,5,FALSE),0) -> 0 | P12: =IFERROR(VLOOKUP(C12,'סיכום 10-2020'!C:H,6,FALSE),0) -> 0.33 | Q12: =IF(O12=0,0,O12/M12) -> 0 | R12: =IF(P12=0,0,P12/M12) -> 1 | S12: =IFERROR(VLOOKUP(C12,'סיכום 12-2022'!C:H,3,FALSE),0) -> 0.33 | T12: =IFERROR(VLOOKUP(C12,'סיכום 12-2022'!C:H,4,FALSE),0) -> 0.33 | U12: =IF(T12=0,0,T12/S12) -> 1 | V12: =IFERROR(VLOOKUP(C12,'סיכום 12-2022'!C:H,5,FALSE),0) -> 0 | W12: =IFERROR(VLOOKUP(C12,'סיכום 12-2022'!C:H,6,FALSE),0) -> 0.33 | X12: =IF(V12=0,0,V12/T12) -> 0 | Y12: =IF(W12=0,0,W12/T12) -> 1
A13: 1 | B13: ירושלים | C13: 146 | D13: ע. ביתר עילית | E13: =IFERROR(VLOOKUP(C13,'סיכום 10-2010'!C:H,3,FALSE),0) -> 0 | F13: =IFERROR(VLOOKUP(C13,'סיכום 10-2010'!C:H,4,FALSE),0) -> 0 | G13: =IF(F13=0,0,F13/E13) -> 0 | H13: =IFERROR(VLOOKUP(C13,'סיכום 10-2010'!C:H,5,FALSE),0) -> 0 | I13: =IFERROR(VLOOKUP(C13,'סיכום 10-2010'!C:H,6,FALSE),0) -> 0 | J13: =IF(H13=0,0,H13/F13) -> 0 | K13: =IF(I13=0,0,I13/F13) -> 0 | L13: =IFERROR(VLOOKUP(C13,'סיכום 10-2020'!C:H,3,FALSE),0) -> 1.25 | M13: =IFERROR(VLOOKUP(C13,'סיכום 10-2020'!C:H,4,FALSE),0) -> 1.25 | N13: =IF(M13=0,0,M13/L13) -> 1 | O13: =IFERROR(VLOOKUP(C13,'סיכום 10-2020'!C:H,5,FALSE),0) -> 0 | P13: =IFERROR(VLOOKUP(C13,'סיכום 10-2020'!C:H,6,FALSE),0) -> 1.25 | Q13: =IF(O13=0,0,O13/M13) -> 0 | R13: =IF(P13=0,0,P13/M13) -> 1 | S13: =IFERROR(VLOOKUP(C13,'סיכום 12-2022'!C:H,3,FALSE),0) -> 1.25 | T13: =IFERROR(VLOOKUP(C13,'סיכום 12-2022'!C:H,4,FALSE),0) -> 1.25 | U13: =IF(T13=0,0,T13/S13) -> 1 | V13: =IFERROR(VLOOKUP(C13,'סיכום 12-2022'!C:H,5,FALSE),0) -> 0 | W13: =IFERROR(VLOOKUP(C13,'סיכום 12-2022'!C:H,6,FALSE),0) -> 1.25 | X13: =IF(V13=0,0,V13/T13) -> 0 | Y13: =IF(W13=0,0,W13/T13) -> 1
... A168: 4 | B168: דרום | C168: 246 | D168: מ.א נווה מדבר | E168: =IFERROR(VLOOKUP(C168,'סיכום 10-2010'!C:H,3,FALSE),0) -> 0 | F168: =IFERROR(VLOOKUP(C168,'סיכום 10-2010'!C:H,4,FALSE),0) -> 0 | G168: =IF(F168=0,0,F168/E168) -> 0 | H168: =IFERROR(VLOOKUP(C168,'סיכום 10-2010'!C:H,5,FALSE),0) -> 0 | I168: =IFERROR(VLOOKUP(C168,'סיכום 10-2010'!C:H,6,FALSE),0) -> 0 | J168: =IF(H168=0,0,H168/F168) -> 0 | K168: =IF(I168=0,0,I168/F168) -> 0 | L168: =IFERROR(VLOOKUP(C168,'סיכום 10-2020'!C:H,3,FALSE),0) -> 1 | M168: =IFERROR(VLOOKUP(C168,'סיכום 10-2020'!C:H,4,FALSE),0) -> 1 | N168: =IF(M168=0,0,M168/L168) -> 1 | O168: =IFERROR(VLOOKUP(C168,'סיכום 10-2020'!C:H,5,FALSE),0) -> 0 | P168: =IFERROR(VLOOKUP(C168,'סיכום 10-2020'!C:H,6,FALSE),0) -> 1 | Q168: =IF(O168=0,0,O168/M168) -> 0 | R168: =IF(P168=0,0,P168/M168) -> 1 | S168: =IFERROR(VLOOKUP(C168,'סיכום 12-2022'!C:H,3,FALSE),0) -> 1 | T168: =IFERROR(VLOOKUP(C168,'סיכום 12-2022'!C:H,4,FALSE),0) -> 0 | U168: =IF(T168=0,0,T168/S168) -> 0 | V168: =IFERROR(VLOOKUP(C168,'סיכום 12-2022'!C:H,5,FALSE),0) -> 0 | W168: =IFERROR(VLOOKUP(C168,'סיכום 12-2022'!C:H,6,FALSE),0) -> 0 | X168: =IF(V168=0,0,V168/T168) -> 0 | Y168: =IF(W168=0,0,W168/T168) -> 0
E170: =SUM(E2:E168) -> 73.19 | F170: =SUM(F2:F168) -> 70.75 | G170: =F170/E170 -> 0.96666211 | H170: =SUM(H2:H168) -> 4.5 | I170: =SUM(I2:I168) -> 66.25 | J170: =IF(H170=0,0,H170/F170) -> 0.06360424 | K170: =IF(I170=0,0,I170/F170) -> 0.93639576 | L170: =SUM(L2:L168) -> 217.28 | M170: =SUM(M2:M168) -> 205.87 | N170: =IF(M170=0,0,M170/L170) -> 0.94748711 | O170: =SUM(O2:O168) -> 11.04 | P170: =SUM(P2:P168) -> 194.83 | Q170: =IF(O170=0,0,O170/M170) -> 0.053626075 | R170: =IF(P170=0,0,P170/M170) -> 0.94637393 | S170: =SUM(S2:S168) -> 233.31 | T170: =SUM(T2:T168) -> 210.35 | U170: =IF(T170=0,0,T170/S170) -> 0.90159016 | V170: =SUM(V2:V168) -> 21.13 | W170: =SUM(W2:W168) -> 189.22 | X170: =IF(V170=0,0,V170/T170) -> 0.10045163 | Y170: =IF(W170=0,0,W170/T170) -> 0.89954837

Sheet סיכום 10-2010
A1: סמל מחוז | B1: מחוז | C1: סמל רשות | D1: רשות | E1: תקן | F1: איוש | G1: גברים | H1: נשים | I1: סכום כולל
A2: 1 | B2: ירושלים | C2: 101 | D2: ע. אשקלון | E2: 2 | F2: 2 | G2: =IFERROR(VLOOKUP(C2,'פילוח 10-2010'!A:E,2,FALSE),0) -> 1 | H2: =IFERROR(VLOOKUP(C2,'פילוח 10-2010'!A:E,3,FALSE),0) -> 1 | I2: =IFERROR(VLOOKUP(C2,'פילוח 10-2010'!A:E,5,FALSE),0) -> 2 | J2: =I2-F2 -> 0
A3: 1 | B3: ירושלים | C3: 103 | D3: ע. ירושלים | E3: 12.4 | F3: 12.4 | G3: =IFERROR(VLOOKUP(C3,'פילוח 10-2010'!A:E,2,FALSE),0) -> 1 | H3: =IFERROR(VLOOKUP(C3,'פילוח 10-2010'!A:E,3,FALSE),0) -> 11.4 | I3: =IFERROR(VLOOKUP(C3,'פילוח 10-2010'!A:E,5,FALSE),0) -> 12.4 | J3: =I3-F3 -> 0
A4: 1 | B4: ירושלים | C4: 104 | D4: ע. אשדוד | E4: 5.55 | F4: 5.55 | G4: =IFERROR(VLOOKUP(C4,'פילוח 10-2010'!A:E,2,FALSE),0) -> 0 | H4: =IFERROR(VLOOKUP(C4,'פילוח 10-2010'!A:E,3,FALSE),0) -> 5.55 | I4: =IFERROR(VLOOKUP(C4,'פילוח 10-2010'!A:E,5,FALSE),0) -> 5.55 | J4: =I4-F4 -> 0
A5: 1 | B5: ירושלים | C5: 129 | D5: ע. ק.מלאכי | E5: 0.5 | G5: =IFERROR(VLOOKUP(C5,'פילוח 10-2010'!A:E,2,FALSE),0) -> 0 | H5: =IFERROR(VLOOKUP(C5,'פילוח 10-2010'!A:E,3,FALSE),0) -> 0 | I5: =IFERROR(VLOOKUP(C5,'פילוח 10-2010'!A:E,5,FALSE),0) -> 0 | J5: =I5-F5 -> 0
A6: 1 | B6: ירושלים | C6: 147 | D6: ע. מודיעין עילית | E6: 0.5 | F6: 0.5 | G6: =IFERROR(VLOOKUP(C6,'פילוח 10-2010'!A:E,2,FALSE),0) -> 0 | H6: =IFERROR(VLOOKUP(C6,'פילוח 10-2010'!A:E,3,FALSE),0) -> 0.5 | I6: =IFERROR(VLOOKUP(C6,'פילוח 10-2010'!A:E,5,FALSE),0) -> 0.5 | J6: =I6-F6 -> 0
A7: 2 | B7: תל - אביב | C7: 300 | D7: ע. בני ברק | E7: 4.21 | F7: 4.04 | G7: =IFERROR(VLOOKUP(C7,'פילוח 10-2010'!A:E,2,FALSE),0) -> 0 | H7: =IFERROR(VLOOKUP(C7,'פילוח 10-2010'!A:E,3,FALSE),0) -> 4.04 | I7: =IFERROR(VLOOKUP(C7,'פילוח 10-2010'!A:E,5,FALSE),0) -> 4.04 | J7: =I7-F7 -> 0
A8: 2 | B8: תל - אביב | C8: 301 | D8: ע. בת ים | E8: 1.5 | F8: 1.5 | G8: =IFERROR(VLOOKUP(C8,'פילוח 10-2010'!A:E,2,FALSE),0) -> 0 | H8: =IFERROR(VLOOKUP(C8,'פילוח 10-2010'!A:E,3,FALSE),0) -> 1.5 | I8: =IFERROR(VLOOKUP(C8,'פילוח 10-2010'!A:E,5,FALSE),0) -> 1.5 | J8: =I8-F8 -> 0
A9: 2 | B9: תל - אביב | C9: 302 | D9: ע. גבעתיים | E9: 0.5 | F9: 0.5 | G9: =IFERROR(VLOOKUP(C9,'פילוח 10-2010'!A:E,2,FALSE),0) -> 0 | H9: =IFERROR(VLOOKUP(C9,'פילוח 10-2010'!A:E,3,FALSE),0) -> 0.5 | I9: =IFERROR(VLOOKUP(C9,'פילוח 10-2010'!A:E,5,FALSE),0) -> 0.5 | J9: =I9-F9 -> 0
A10: 2 | B10: תל - אביב | C10: 303 | D10: ע. הרצליה | E10: 1.25 | F10: 1.25 | G10: =IFERROR(VLOOKUP(C10,'פילוח 10-2010'!A:E,2,FALSE),0) -> 0 | H10: =IFERROR(VLOOKUP(C10,'פילוח 10-2010'!A:E,3,FALSE),0) -> 1.25 | I10: =IFERROR(VLOOKUP(C10,'פילוח 10-2010'!A:E,5,FALSE),0) -> 1.25 | J10: =I10-F10 -> 0
A11: 2 | B11: תל - אביב | C11: 304 | D11: ע. חולון | E11: 1.4 | F11: 1.4 | G11: =IFERROR(VLOOKUP(C11,'פילוח 10-2010'!A:E,2,FALSE),0) -> 0 | H11: =IFERROR(VLOOKUP(C11,'פילוח 10-2010'!A:E,3,FALSE),0) -> 1.4 | I11: =IFERROR(VLOOKUP(C11,'פילוח 10-2010'!A:E,5,FALSE),0) -> 1.4 | J11: =I11-F11 -> 0
A12: 2 | B12: תל - אביב | C12: 305 | D12: ע. כפר סבא | E12: 1.45 | F12: 1.45 | G12: =IFERROR(VLOOKUP(C12,'פילוח 10-2010'!A:E,2,FALSE),0) -> 0 | H12: =IFERROR(VLOOKUP(C12,'פילוח 10-2010'!A:E,3,FALSE),0) -> 1.45 | I12: =IFERROR(VLOOKUP(C12,'פילוח 10-2010'!A:E,5,FALSE),0) -> 1.45 | J12: =I12-F12 -> 0
A13: 2 | B13: תל - אביב | C13: 306 | D13: ע. לוד | E13: 1 | F13: 1 | G13: =IFERROR(VLOOKUP(C13,'פילוח 10-2010'!A:E,2,FALSE),0) -> 0 | H13: =IFERROR(VLOOKUP(C13,'פילוח 10-2010'!A:E,3,FALSE),0) -> 1 | I13: =IFERROR(VLOOKUP(C13,'פילוח 10-2010'!A:E,5,FALSE),0) -> 1 | J13: =I13-F13 -> 0
A14: 2 | B14: תל - אביב | C14: 307 | D14: ע. נתניה | E14: 0.5 | F14: 0.5 | G14: =IFERROR(VLOOKUP(C14,'פילוח 10-2010'!A:E,2,FALSE),0) -> 0 | H14: =IFERROR(VLOOKUP(C14,'פילוח 10-2010'!A:E,3,FALSE),0) -> 0.5 | I14: =IFERROR(VLOOKUP(C14,'פילוח 10-2010'!A:E,5,FALSE),0) -> 0.5 | J14: =I14-F14 -> 0
A15: 2 | B15: תל - אביב | C15: 308 | D15: ע. פתח תקוה | E15: 1.25 | F15: 1.25 | G15: =IFERROR(VLOOKUP(C15,'פילוח 10-2010'!A:E,2,FALSE),0) -> 0 | H15: =IFERROR(VLOOKUP(C15,'פילוח 10-2010'!A:E,3,FALSE),0) -> 1.25 | I15: =IFERROR(VLOOKUP(C15,'פילוח 10-2010'!A:E,5,FALSE),0) -> 1.25 | J15: =I15-F15 -> 0
A16: 2 | B16: תל - אביב | C16: 309 | D16: ע. ראשל"צ | E16: 1.25 | F16: 1.25 | G16: =IFERROR(VLOOKUP(C16,'פילוח 10-2010'!A:E,2,FALSE),0) -> 0 | H16: =IFERROR(VLOOKUP(C16,'פילוח 10-2010'!A:E,3,FALSE),0) -> 1.25 | I16: =IFERROR(VLOOKUP(C16,'פילוח 10-2010'!A:E,5,FALSE),0) -> 1.25 | J16: =I16-F16 -> 0
A17: 2 | B17: תל - אביב | C17: 310 | D17: ע. רחובות | E17: 1 | F17: 1 | G17: =IFERROR(VLOOKUP(C17,'פילוח 10-2010'!A:E,2,FALSE),0) -> 0 | H17: =IFERROR(VLOOKUP(C17,'פילוח 10-2010'!A:E,3,FALSE),0) -> 1 | I17: =IFERROR(VLOOKUP(C17,'פילוח 10-2010'!A:E,5,FALSE),0) -> 1 | J17: =I17-F17 -> 0
... A32: 3 | B32: חיפה | C32: 501 | D32: ע.חיפה | E32: 4.5 | F32: 4.5 | G32: =IFERROR(VLOOKUP(C32,'פילוח 10-2010'!A:E,2,FALSE),0) -> 1 | H32: =IFERROR(VLOOKUP(C32,'פילוח 10-2010'!A:E,3,FALSE),0) -> 3.5 | I32: =IFERROR(VLOOKUP(C32,'פילוח 10-2010'!A:E,5,FALSE),0) -> 4.5 | J32: =I32-F32 -> 0
A33: 3 | B33: חיפה | C33: 502 | D33: ע. טבריה | E33: 0.5 | G33: =IFERROR(VLOOKUP(C33,'פילוח 10-2010'!A:E,2,FALSE),0) -> 0 | H33: =IFERROR(VLOOKUP(C33,'פילוח 10-2010'!A:E,3,FALSE),0) -> 0 | I33: =IFERROR(VLOOKUP(C33,'פילוח 10-2010'!A:E,5,FALSE),0) -> 0 | J33: =I33-F33 -> 0
A34: 3 | B34: חיפה | C34: 504 | D34: ע. עכו | E34: 1.5 | F34: 1.5 | G34: =IFERROR(VLOOKUP(C34,'פילוח 10-2010'!A:E,2,FALSE),0) -> 0 | H34: =IFERROR(VLOOKUP(C34,'פילוח 10-2010'!A:E,3,FALSE),0) -> 1.5 | I34: =IFERROR(VLOOKUP(C34,'פילוח 10-2010'!A:E,5,FALSE),0) -> 1.5 | J34: =I34-F34 -> 0
A35: 3 | B35: חיפה | C35: 506 | D35: ע. ק.אתא | E35: 0.5 | F35: 0.5 | G35: =IFERROR(VLOOKUP(C35,'פילוח 10-2010'!A:E,2,FALSE),0) -> 0 | H35: =IFERROR(VLOOKUP(C35,'פילוח 10-2010'!A:E,3,FALSE),0) -> 0.5 | I35: =IFERROR(VLOOKUP(C35,'פילוח 10-2010'!A:E,5,FALSE),0) -> 0.5 | J35: =I35-F35 -> 0
A36: 3 | B36: חיפה | C36: 507 | D36: ע. עפולה | E36: 0.5 | F36: 0.5 | G36: =IFERROR(VLOOKUP(C36,'פילוח 10-2010'!A:E,2,FALSE),0) -> 0 | H36: =IFERROR(VLOOKUP(C36,'פילוח 10-2010'!A:E,3,FALSE),0) -> 0.5 | I36: =IFERROR(VLOOKUP(C36,'פילוח 10-2010'!A:E,5,FALSE),0) -> 0.5 | J36: =I36-F36 -> 0
A37: 3 | B37: חיפה | C37: 529 | D37: ע. יקנעם | E37: 0.5 | F37: 0.5 | G37: =IFERROR(VLOOKUP(C37,'פילוח 10-2010'!A:E,2,FALSE),0) -> 0 | H37: =IFERROR(VLOOKUP(C37,'פילוח 10-2010'!A:E,3,FALSE),0) -> 0.5 | I37: =IFERROR(VLOOKUP(C37,'פילוח 10-2010'!A:E,5,FALSE),0) -> 0.5 | J37: =I37-F37 -> 0
A38: 3 | B38: חיפה | C38: 543 | D38: ע. קרית ים | E38: 1 | F38: 1 | G38: =IFERROR(VLOOKUP(C38,'פילוח 10-2010'!A:E,2,FALSE),0) -> 0 | H38: =IFERROR(VLOOKUP(C38,'פילוח 10-2010'!A:E,3,FALSE),0) -> 1 | I38: =IFERROR(VLOOKUP(C38,'פילוח 10-2010'!A:E,5,FALSE),0) -> 1 | J38: =I38-F38 -> 0
A39: 3 | B39: חיפה | C39: 544 | D39: ע. קרית מוצקין | E39: 0.75 | F39: 0.75 | G39: =IFERROR(VLOOKUP(C39,'פילוח 10-2010'!A:E,2,FALSE),0) -> 0 | H39: =IFERROR(VLOOKUP(C39,'פילוח 10-2010'!A:E,3,FALSE),0) -> 0.75 | I39: =IFERROR(VLOOKUP(C39,'פילוח 10-2010'!A:E,5,FALSE),0) -> 0.75 | J39: =I39-F39 -> 0
A40: 3 | B40: חיפה | C40: 545 | D40: ע. קרית שמונה | E40: 1 | F40: 1 | G40: =IFERROR(VLOOKUP(C40,'פילוח 10-2010'!A:E,2,FALSE),0) -> 0 | H40: =IFERROR(VLOOKUP(C40,'פילוח 10-2010'!A:E,3,FALSE),0) -> 1 | I40: =IFERROR(VLOOKUP(C40,'פילוח 10-2010'!A:E,5,FALSE),0) -> 1 | J40: =I40-F40 -> 0
A41: 3 | B41: חיפה | C41: 552 | D41: ע. כרמיאל | E41: 0.6 | F41: 0.6 | G41: =IFERROR(VLOOKUP(C41,'פילוח 10-2010'!A:E,2,FALSE),0) -> 0 | H41: =IFERROR(VLOOKUP(C41,'פילוח 10-2010'!A:E,3,FALSE),0) -> 0.6 | I41: =IFERROR(VLOOKUP(C41,'פילוח 10-2010'!A:E,5,FALSE),0) -> 0.6 | J41: =I41-F41 -> 0
A42: 3 | B42: חיפה | C42: 562 | D42: מ.א מטה אשר | E42: 0.5 | F42: 0.5 | G42: =IFERROR(VLOOKUP(C42,'פילוח 10-2010'!A:E,2,FALSE),0) -> 0 | H42: =IFERROR(VLOOKUP(C42,'פילוח 10-2010'!A:E,3,FALSE),0) -> 0.5 | I42: =IFERROR(VLOOKUP(C42,'פילוח 10-2010'!A:E,5,FALSE),0) -> 0.5 | J42: =I42-F42 -> 0
A43: 3 | B43: חיפה | C43: 564 | D43: מ.א גליל עליון | E43: 0.5 | F43: 0.5 | G43: =IFERROR(VLOOKUP(C43,'פילוח 10-2010'!A:E,2,FALSE),0) -> 0 | H43: =IFERROR(VLOOKUP(C43,'פילוח 10-2010'!A:E,3,FALSE),0) -> 0.5 | I43: =IFERROR(VLOOKUP(C43,'פילוח 10-2010'!A:E,5,FALSE),0) -> 0.5 | J43: =I43-F43 -> 0
A44: 3 | B44: חיפה | C44: 600 | D44: ע. נצרת | E44: 1.4 | F44: 1.4 | G44: =IFERROR(VLOOKUP(C44,'פילוח 10-2010'!A:E,2,FALSE),0) -> 0 | H44: =IFERROR(VLOOKUP(C44,'פילוח 10-2010'!A:E,3,FALSE),0) -> 1.4 | I44: =IFERROR(VLOOKUP(C44,'פילוח 10-2010'!A:E,5,FALSE),0) -> 1.4 | J44: =I44-F44 -> 0
A45: 3 | B45: חיפה | C45: 601 | D45: ע. שפרעם | E45: 0.5 | F45: 0.5 | G45: =IFERROR(VLOOKUP(C45,'פילוח 10-2010'!A:E,2,FALSE),0) -> 0 | H45: =IFERROR(VLOOKUP(C45,'פילוח 10-2010'!A:E,3,FALSE),0) -> 0.5 | I45: =IFERROR(VLOOKUP(C45,'פילוח 10-2010'!A:E,5,FALSE),0) -> 0.5 | J45: =I45-F45 -> 0
... A55: 4 | B55: דרום | C55: 123 | D55: מ.מ ירוחם | E55: 1 | F55: 1 | G55: =IFERROR(VLOOKUP(C55,'פילוח 10-2010'!A:E,2,FALSE),0) -> 0 | H55: =IFERROR(VLOOKUP(C55,'פילוח 10-2010'!A:E,3,FALSE),0) -> 1 | I55: =IFERROR(VLOOKUP(C55,'פילוח 10-2010'!A:E,5,FALSE),0) -> 1 | J55: =I55-F55 -> 0
A56: 4 | B56: דרום | C56: 125 | D56: ע. נתיבות | E56: 0.5 | G56: =IFERROR(VLOOKUP(C56,'פילוח 10-2010'!A:E,2,FALSE),0) -> 0 | H56: =IFERROR(VLOOKUP(C56,'פילוח 10-2010'!A:E,3,FALSE),0) -> 0 | I56: =IFERROR(VLOOKUP(C56,'פילוח 10-2010'!A:E,5,FALSE),0) -> 0 | J56: =I56-F56 -> 0
A57: 4 | B57: דרום | C57: 245 | D57: מ.א אל קאסום | E57: 0.5 | F57: 0.5 | G57: =IFERROR(VLOOKUP(C57,'פילוח 10-2010'!A:E,2,FALSE),0) -> 0 | H57: =IFERROR(VLOOKUP(C57,'פילוח 10-2010'!A:E,3,FALSE),0) -> 0.5 | I57: =IFERROR(VLOOKUP(C57,'פילוח 10-2010'!A:E,5,FALSE),0) -> 0.5 | J57: =I57-F57 -> 0
E59: =SUM(E2:E58) -> 73.19 | F59: =SUM(F2:F58) -> 70.75 | G59: =SUM(G2:G58) -> 4.5 | H59: =SUM(H2:H58) -> 66.25 | I59: =SUM(I2:I58) -> 70.75 | J59: =SUM(J2:J58) -> 0

Sheet פילוח 10-2010
A3: סכום של חלקיות העסקה | B3: תוויות עמודה
A4: תוויות שורה | B4: גברים | C4: נשים | D4: (ריק) | E4: סכום כולל
A5: 100 | C5: 1 | E5: 1
A6: 101 | B6: 1 | C6: 1 | E6: 2
A7: 102 | C7: 1 | E7: 1
A8: 103 | B8: 1 | C8: 11.4 | E8: 12.4
A9: 104 | C9: 5.55 | E9: 5.55
A10: 105 | C10: 0.76 | E10: 0.76
A11: 106 | C11: 1 | E11: 1
A12: 120 | C12: 0.5 | E12: 0.5
A13: 123 | C13: 1 | E13: 1
A14: 125
A15: 129
A16: 147 | C16: 0.5 | E16: 0.5
A17: 245 | C17: 0.5 | E17: 0.5
A18: 300 | C18: 4.04 | E18: 4.04
A19: 301 | C19: 1.5 | E19: 1.5
A20: 302 | C20: 0.5 | E20: 0.5
A21: 303 | C21: 1.25 | E21: 1.25
A22: 304 | C22: 1.4 | E22: 1.4
A23: 305 | C23: 1.45 | E23: 1.45
A24: 306 | C24: 1 | E24: 1
A25: 307 | C25: 0.5 | E25: 0.5
A26: 308 | C26: 1.25 | E26: 1.25
A27: 309 | C27: 1.25 | E27: 1.25
... A39: 359 | C39: 1.25 | E39: 1.25
A40: 374 | B40: 0.5 | E40: 0.5
A41: 426 | C41: 0.4 | E41: 0.4
A42: 500 | C42: 1.25 | E42: 1.25
A43: 501 | B43: 1 | C43: 3.5 | E43: 4.5
A44: 502
A45: 504 | C45: 1.5 | E45: 1.5
A46: 506 | C46: 0.5 | E46: 0.5
A47: 507 | C47: 0.5 | E47: 0.5
A48: 529 | C48: 0.5 | E48: 0.5
A49: 543 | C49: 1 | E49: 1
A50: 544 | C50: 0.75 | E50: 0.75
A51: 545 | C51: 1 | E51: 1
A52: 552 | C52: 0.6 | E52: 0.6
A53: 562 | C53: 0.5 | E53: 0.5
A54: 564 | C54: 0.5 | E54: 0.5
A55: 600 | C55: 1.4 | E55: 1.4
A56: 601 | C56: 0.5 | E56: 0.5
A57: 620 | B57: 1 | E57: 1
A58: 629 | C58: 0.5 | E58: 0.5
A59: 643 | C59: 0.5 | E59: 0.5
A60: 649 | C60: 0.5 | E60: 0.5
A61: סכום כולל | B61: 4.5 | C61: 66.25 | E61: 70.75

Sheet פירוט 10-2010
A1: סמל מחוז | B1: מחוז | C1: סמל רשות | D1: שם הרשות | E1: סמל מחלקה | F1: תאור מחלקה | G1: מספר משרה | H1: סמל סיווג תקן | I1: סיווג מקצועי תקן | J1: סמל מימון | K1: מימון | L1: סמל סעיף תקציבי | M1: סעיף תקציבי | N1: סמל קבוצת תקן | O1: קבוצת תקן | P1: הסכמים מיוחדים | Q1: תז | R1: שם משפחה | S1: שם פרטי | T1: מין | U1: חלקיות תקן | V1: חלקיות העסקה | W1: סמל סיווג העובד | X1: סיווג העובד | Y1: סמל תוספת | Z1: סוג תוספת | AA1: סמל דרוג | AB1: דרוג | AC1: דרגה | AD1: גמול השתלמות | AE1: תאריך התחלה בתפקיד | AF1: תאריך התחלת העובד במשרה | AG1: תאריך סיום העובד במשרה | AH1: תאריך התחלה כרטיס עובד | AI1: תאריך סיום כרטיס עובד | AJ1: תאריך התחלת תקן | AK1: תאריך סיום תקן | AL1: סמל סיווג חדש | AM1: סיווג מקצועי חדש | AN1: חלקיות העסקה חדשה | AO1: תפקיד נוסף - למילוי
A2: 1 | B2: ירושלים | C2: 101 | D2: אשקלון | E2: 1010000 | F2: ע. אשקלון | G2: 40100 | H2: 63 | I2: מרכז נושא מוגבלויות | J2: 1 | K2: ע"ח המשרד | L2: 1 | M2: שכר עובדי המחלקה לש"ח | N2: 0 | P2: ללא הסכם מיוחד | Q2: 62628250 | R2: כהן | S2: מרים | T2: נשים | U2: 1 | V2: 1 | W2: 63 | X2: מרכז נושא מוגבלויות | AA2: 80 | AB2: עו"ס | AC2: 6 | AD2: 111 | AE2: 25842 | AF2: 25842 | AG2: 42825 | AH2: 25842 | AI2: 41517 | AJ2: 18629
A3: 1 | B3: ירושלים | C3: 101 | D3: אשקלון | E3: 1010000 | F3: ע. אשקלון | G3: 50200 | H3: 64 | I3: מרכז נושא שיקום | J3: 1 | K3: ע"ח המשרד | L3: 1 | M3: שכר עובדי המחלקה לש"ח | N3: 0 | P3: ללא הסכם מיוחד | Q3: 309855096 | R3: יצחק | S3: לאקהברהן | T3: גברים | U3: 1 | V3: 1 | W3: 64 | X3: מרכז נושא שיקום | AA3: 80 | AB3: עו"ס | AC3: 5 | AD3: 108 | AE3: 40238 | AF3: 40238 | AG3: 44286 | AH3: 36151 | AI3: 46752 | AJ3: 18629
A4: 1 | B4: ירושלים | C4: 103 | D4: ירושלים | E4: 1030030 | F4: ע. י-ם מ.שיקום | G4: 50 | H4: 63 | I4: מרכז נושא מוגבלויות | J4: 1 | K4: ע"ח המשרד | L4: 1 | M4: שכר עובדי המחלקה לש"ח | N4: 0 | P4: ללא הסכם מיוחד | Q4: 51562239 | R4: ויגודה | S4: לאה | T4: נשים | U4: 0.75 | V4: 0.75 | W4: 63 | X4: מרכז נושא מוגבלויות | AA4: 80 | AB4: עו"ס | AC4: 6 | AD4: 111 | AE4: 37377 | AF4: 37377 | AG4: 49003 | AH4: 33878 | AI4: 43982 | AJ4: 18629
A5: 1 | B5: ירושלים | C5: 103 | D5: ירושלים | E5: 1030030 | F5: ע. י-ם מ.שיקום | G5: 100 | H5: 84 | I5: מנהל מדור שיקום | J5: 1 | K5: ע"ח המשרד | L5: 1 | M5: שכר עובדי המחלקה לש"ח | N5: 0 | P5: ללא הסכם מיוחד | Q5: 30090237 | R5: הופמן | S5: אירית | T5: נשים | U5: 1 | V5: 1 | W5: 84 | X5: מנהל מדור שיקום | AA5: 80 | AB5: עו"ס | AC5: 6 | AD5: 130 | AE5: 38200 | AF5: 38200 | AG5: 43889 | AH5: 28550 | AI5: 43889 | AJ5: 18629
A6: 1 | B6: ירושלים | C6: 103 | D6: ירושלים | E6: 1030030 | F6: ע. י-ם מ.שיקום | G6: 10100 | H6: 140 | I6: עו"ס שיקום | J6: 1 | K6: ע"ח המשרד | L6: 1 | M6: שכר עובדי המחלקה לש"ח | N6: 0 | P6: ללא הסכם מיוחד | Q6: 56381825 | R6: נוימן | S6: יעל | T6: נשים | U6: 1 | V6: 1 | W6: 140 | X6: עו"ס שיקום | AA6: 80 | AB6: עו"ס | AC6: 3 | AD6: 107 | AE6: 37487 | AF6: 38353 | AG6: 45716 | AH6: 37196 | AI6: 45716 | AJ6: 18629
A7: 1 | B7: ירושלים | C7: 103 | D7: ירושלים | E7: 1030030 | F7: ע. י-ם מ.שיקום | G7: 10200 | H7: 140 | I7: עו"ס שיקום | J7: 1 | K7: ע"ח המשרד | L7: 1 | M7: שכר עובדי המחלקה לש"ח | N7: 0 | P7: ללא הסכם מיוחד | Q7: 13896949 | R7: צבע | S7: שרה | T7: נשים | U7: 0.5 | V7: 0.5 | W7: 140 | X7: עו"ס שיקום | AA7: 80 | AB7: עו"ס | AC7: 3 | AD7: 105 | AE7: 35065 | AF7: 38961 | AG7: 44279 | AH7: 29682 | AI7: 45016 | AJ7: 18629
A8: 1 | B8: ירושלים | C8: 103 | D8: ירושלים | E8: 1030030 | F8: ע. י-ם מ.שיקום | G8: 10300 | H8: 140 | I8: עו"ס שיקום | J8: 1 | K8: ע"ח המשרד | L8: 1 | M8: שכר עובדי המחלקה לש"ח | N8: 0 | P8: ללא הסכם מיוחד | Q8: 24531014 | R8: רחמים | S8: שרית | T8: נשים | U8: 1 | V8: 1 | W8: 140 | X8: עו"ס שיקום | AA8: 80 | AB8: עו"ס | AC8: 3 | AD8: 101 | AE8: 34486 | AF8: 37043 | AG8: 49255 | AH8: 34486 | AI8: 49278 | AJ8: 18629
A9: 1 | B9: ירושלים | C9: 103 | D9: ירושלים | E9: 1030030 | F9: ע. י-ם מ.שיקום | G9: 10400 | H9: 140 | I9: עו"ס שיקום | J9: 1 | K9: ע"ח המשרד | L9: 1 | M9: שכר עובדי המחלקה לש"ח | N9: 0 | P9: ללא הסכם מיוחד | Q9: 11161163 | R9: ברמן | S9: גילה פרמן | T9: נשים | U9: 0.5 | V9: 0.5 | W9: 140 | X9: עו"ס שיקום | AA9: 80 | AB9: עו"ס | AC9: 3 | AD9: 111 | AE9: 38161 | AF9: 38161 | AG9: 41547 | AH9: 33909 | AI9: 43131 | AJ9: 18629
A10: 1 | B10: ירושלים | C10: 103 | D10: ירושלים | E10: 1030030 | F10: ע. י-ם מ.שיקום | G10: 10500 | H10: 140 | I10: עו"ס שיקום | J10: 1 | K10: ע"ח המשרד | L10: 1 | M10: שכר עובדי המחלקה לש"ח | N10: 0 | P10: ללא הסכם מיוחד | Q10: 59839654 | R10: אדלר ארזי | S10: אורית | T10: נשים | U10: 1 | V10: 0.5 | W10: 140 | X10: עו"ס שיקום | AA10: 80 | AB10: עו"ס | AC10: 3 | AE10: 37956 | AF10: 39448 | AG10: 48579 | AH10: 37956 | AI10: 48579 | AJ10: 33786
A11: 1 | B11: ירושלים | C11: 103 | D11: ירושלים | E11: 1030030 | F11: ע. י-ם מ.שיקום | G11: 10500 | H11: 140 | I11: עו"ס שיקום | J11: 1 | K11: ע"ח המשרד | L11: 1 | M11: שכר עובדי המחלקה לש"ח | N11: 0 | P11: ללא הסכם מיוחד | Q11: 305950388 | R11: בלפר | S11: גלינה | T11: נשים | U11: 1 | V11: 0.5 | W11: 140 | X11: עו"ס שיקום | AA11: 80 | AB11: עו"ס | AC11: 5 | AD11: 111 | AE11: 39934 | AF11: 40063 | AG11: 45961 | AH11: 35186 | AI11: 46660 | AJ11: 33786
A12: 1 | B12: ירושלים | C12: 103 | D12: ירושלים | E12: 1030030 | F12: ע. י-ם מ.שיקום | G12: 10700 | H12: 140 | I12: עו"ס שיקום | J12: 1 | K12: ע"ח המשרד | L12: 1 | M12: שכר עובדי המחלקה לש"ח | N12: 0 | P12: ללא הסכם מיוחד | Q12: 5540893 | R12: עזריאלי | S12: אהובה | T12: נשים | U12: 1 | V12: 1 | W12: 140 | X12: עו"ס שיקום | AA12: 80 | AB12: עו"ס | AC12: 3 | AD12: 111 | AE12: 37681 | AF12: 38322 | AG12: 40967 | AH12: 26969 | AI12: 41698 | AJ12: 18629
A13: 1 | B13: ירושלים | C13: 103 | D13: ירושלים | E13: 1030030 | F13: ע. י-ם מ.שיקום | G13: 10800 | H13: 140 | I13: עו"ס שיקום | J13: 1 | K13: ע"ח המשרד | L13: 1 | M13: שכר עובדי המחלקה לש"ח | N13: 0 | P13: ללא הסכם מיוחד | Q13: 12659033 | R13: גולדשטיין | S13: ליאת | T13: נשים | U13: 0.5 | V13: 0.5 | W13: 140 | X13: עו"ס שיקום | AA13: 85 | AB13: עו"ס לא אקדמאי | AC13: 3 | AD13: 101 | AE13: 38018 | AF13: 38018 | AG13: 42247 | AH13: 31959 | AI13: 41729 | AJ13: 18629
A14: 1 | B14: ירושלים | C14: 103 | D14: ירושלים | E14: 1030030 | F14: ע. י-ם מ.שיקום | G14: 11000 | H14: 140 | I14: עו"ס שיקום | J14: 1 | K14: ע"ח המשרד | L14: 1 | M14: שכר עובדי המחלקה לש"ח | N14: 0 | P14: ללא הסכם מיוחד | Q14: 58142662 | R14: רוז'ני | S14: מיכל | T14: נשים | U14: 0.75 | V14: 0.75 | W14: 140 | X14: עו"ס שיקום | AA14: 80 | AB14: עו"ס | AC14: 5 | AD14: 104 | AE14: 36251 | AF14: 38777 | AG14: 45169 | AH14: 32033 | AI14: 43373 | AJ14: 18629
A15: 1 | B15: ירושלים | C15: 103 | D15: ירושלים | E15: 1030040 | F15: ע. י-ם לשכה א צפון | G15: 39100 | H15: 64 | I15: מרכז נושא שיקום | J15: 1 | K15: ע"ח המשרד | L15: 1 | M15: שכר עובדי המחלקה לש"ח | N15: 0 | P15: ללא הסכם מיוחד | Q15: 51935716 | R15: ערבות | S15: דורית | T15: נשים | U15: 1 | V15: 1 | W15: 64 | X15: מרכז נושא שיקום | AA15: 80 | AB15: עו"ס | AC15: 6 | AD15: 111 | AE15: 37681 | AF15: 37681 | AG15: 41639 | AH15: 30032 | AI15: 43281 | AJ15: 18629
A16: 1 | B16: ירושלים | C16: 103 | D16: ירושלים | E16: 1030050 | F16: ע. ירושלים לשכת דרום | G16: 22100 | H16: 64 | I16: מרכז נושא שיקום | J16: 1 | K16: ע"ח המשרד | L16: 1 | M16: שכר עובדי המחלקה לש"ח | N16: 0 | P16: ללא הסכם מיוחד | Q16: 22076772 | R16: גרוס | S16: רונית | T16: נשים | U16: 0.9 | V16: 0.9 | W16: 64 | X16: מרכז נושא שיקום | AA16: 80 | AB16: עו"ס | AC16: 6 | AD16: 105 | AE16: 40299 | AF16: 40299 | AG16: 47787 | AH16: 33204 | AI16: 47787 | AJ16: 18629
A17: 1 | B17: ירושלים | C17: 103 | D17: ירושלים | E17: 1030055 | F17: ע.י-ם צוות תלפ"ז | G17: 21500 | H17: 120 | I17: עו"ס משפחה (כוללני) | J17: 1 | K17: ע"ח המשרד | L17: 1 | M17: שכר עובדי המחלקה לש"ח | N17: 8 | O17: עו"ס - אוטיסטים | P17: ללא הסכם מיוחד | Q17: 24395592 | R17: כהן (גבאי) | S17: יעל | T17: נשים | U17: 0.5 | V17: 0.25 | W17: 120 | X17: עו"ס משפחה (כוללני) | AA17: 80 | AB17: עו"ס | AC17: 4 | AD17: 111 | AE17: 38534 | AF17: 39753 | AG17: 40482 | AH17: 35521 | AI17: 50009 | AJ17: 37773 | AK17: 40847
A18: 1 | B18: ירושלים | C18: 103 | D18: ירושלים | E18: 1030055 | F18: ע.י-ם צוות תלפ"ז | G18: 21500 | H18: 120 | I18: עו"ס משפחה (כוללני) | J18: 1 | K18: ע"ח המשרד | L18: 1 | M18: שכר עובדי המחלקה לש"ח | N18: 8 | O18: עו"ס - אוטיסטים | P18: ללא הסכם מיוחד | Q18: 56352149 | R18: רפואה | S18: עדנה | T18: נשים | U18: 0.5 | V18: 0.25 | W18: 120 | X18: עו"ס משפחה (כוללני) | AA18: 80 | AB18: עו"ס | AC18: 5 | AD18: 105 | AE18: 35156 | AF18: 40148 | AG18: 40482 | AH18: 35078 | AI18: 44742 | AJ18: 37773 | AK18: 40847
A19: 1 | B19: ירושלים | C19: 103 | D19: ירושלים | E19: 1030060 | F19: ע. י-ם לשכת מערב | G19: 13100 | H19: 64 | I19: מרכז נושא שיקום | J19: 1 | K19: ע"ח המשרד | L19: 1 | M19: שכר עובדי המחלקה לש"ח | N19: 0 | P19: ללא הסכם מיוחד | Q19: 59789313 | R19: שרפי | S19: חנה | T19: נשים | U19: 1 | V19: 1 | W19: 64 | X19: מרכז נושא שיקום | AA19: 80 | AB19: עו"ס | AC19: 6 | AD19: 106 | AE19: 39569 | AF19: 39569 | AG19: 48244 | AH19: 34217 | AI19: 48975 | AJ19: 37469
A20: 1 | B20: ירושלים | C20: 103 | D20: ירושלים | E20: 1030070 | F20: ע. י-ם לשכת מזרח | G20: 10200 | H20: 64 | I20: מרכז נושא שיקום | J20: 1 | K20: ע"ח המשרד | L20: 1 | M20: שכר עובדי המחלקה לש"ח | N20: 0 | P20: ללא הסכם מיוחד | Q20: 80135239 | R20: אבו-סואי | S20: מוחמד | T20: גברים | U20: 1 | V20: 1 | W20: 64 | X20: מרכז נושא שיקום | AA20: 80 | AB20: עו"ס | AC20: 6 | AD20: 110 | AE20: 38261 | AF20: 38261 | AG20: 45138 | AH20: 31089 | AI20: 42735 | AJ20: 18629
A21: 1 | B21: ירושלים | C21: 104 | D21: אשדוד | E21: 1040000 | F21: ע. אשדוד הנהלה | G21: 13100 | H21: 64 | I21: מרכז נושא שיקום | J21: 1 | K21: ע"ח המשרד | L21: 1 | M21: שכר עובדי המחלקה לש"ח | N21: 0 | P21: ללא הסכם מיוחד | Q21: 23071848 | R21: בן מיכה | S21: אוסנת | T21: נשים | U21: 1 | V21: 1 | W21: 64 | X21: מרכז נושא שיקום | AA21: 80 | AB21: עו"ס | AC21: 6 | AD21: 108 | AE21: 37681 | AF21: 38869 | AG21: 43160 | AH21: 33147 | AI21: 46387 | AJ21: 29312
A22: 1 | B22: ירושלים | C22: 104 | D22: אשדוד | E22: 1040000 | F22: ע. אשדוד הנהלה | G22: 14200 | H22: 64 | I22: מרכז נושא שיקום | J22: 1 | K22: ע"ח המשרד | L22: 1 | M22: שכר עובדי המחלקה לש"ח | N22: 0 | P22: ללא הסכם מיוחד | Q22: 12404943 | R22: שער | S22: סימה | T22: נשים | U22: 1 | V22: 1 | W22: 64 | X22: מרכז נושא שיקום | AA22: 80 | AB22: עו"ס | AC22: 6 | AD22: 108 | AE22: 37681 | AF22: 37681 | AG22: 41759 | AH22: 33939 | AI22: 47848 | AJ22: 34060
A23: 1 | B23: ירושלים | C23: 104 | D23: אשדוד | E23: 1040050 | F23: ע. אשדוד קהילה | G23: 20800 | H23: 120 | I23: עו"ס משפחה (כוללני) | J23: 1 | K23: ע"ח המשרד | L23: 1 | M23: שכר עובדי המחלקה לש"ח | N23: 8 | O23: עו"ס - אוטיסטים | P23: ללא הסכם מיוחד | Q23: 25733940 | R23: כהן-צמח | S23: קרן | T23: נשים | U23: 0.5 | V23: 0.5 | W23: 120 | X23: עו"ס משפחה (כוללני) | AA23: 80 | AB23: עו"ס | AC23: 5 | AD23: 105 | AE23: 38292 | AF23: 39387 | AG23: 40847 | AH23: 37530 | AI23: 51866 | AJ23: 38777 | AK23: 40847
A24: 1 | B24: ירושלים | C24: 104 | D24: אשדוד | E24: 1040050 | F24: ע. אשדוד קהילה | G24: 30100 | H24: 140 | I24: עו"ס שיקום | J24: 1 | K24: ע"ח המשרד | L24: 1 | M24: שכר עובדי המחלקה לש"ח | N24: 0 | P24: ללא הסכם מיוחד | Q24: 22169411 | R24: טוביאס (דוידי) | S24: אורנה | T24: נשים | U24: 1 | V24: 1 | W24: 140 | X24: עו"ס שיקום | AA24: 80 | AB24: עו"ס | AC24: 5 | AD24: 111 | AE24: 38869 | AF24: 38869 | AG24: 41365 | AH24: 32417 | AI24: 48944 | AJ24: 18629
A25: 1 | B25: ירושלים | C25: 104 | D25: אשדוד | E25: 1040050 | F25: ע. אשדוד קהילה | G25: 30900 | H25: 140 | I25: עו"ס שיקום | J25: 1 | K25: ע"ח המשרד | L25: 1 | M25: שכר עובדי המחלקה לש"ח | N25: 0 | P25: ללא הסכם מיוחד | Q25: 31377864 | R25: זהבי | S25: מירי | T25: נשים | U25: 0.75 | V25: 0.75 | W25: 140 | X25: עו"ס שיקום | AA25: 80 | AB25: עו"ס | AC25: 3 | AD25: 102 | AE25: 39013 | AF25: 40421 | AG25: 48579 | AH25: 38487 | AI25: 46387 | AJ25: 37469
A26: 1 | B26: ירושלים | C26: 104 | D26: אשדוד | E26: 1040050 | F26: ע. אשדוד קהילה | G26: 31000 | H26: 140 | I26: עו"ס שיקום | J26: 1 | K26: ע"ח המשרד | L26: 1 | M26: שכר עובדי המחלקה לש"ח | N26: 0 | P26: ללא הסכם מיוחד | Q26: 29523958 | R26: היינה | S26: סיגלית | T26: נשים | U26: 0.3 | V26: 0.3 | W26: 140 | X26: עו"ס שיקום | AA26: 80 | AB26: עו"ס | AC26: 3 | AE26: 37735 | AF26: 39114 | AG26: 50405 | AH26: 40909 | AI26: 47848 | AJ26: 37469
A27: 1 | B27: ירושלים | C27: 104 | D27: אשדוד | E27: 1040050 | F27: ע. אשדוד קהילה | G27: 31100 | H27: 140 | I27: עו"ס שיקום | J27: 1 | K27: ע"ח המשרד | L27: 1 | M27: שכר עובדי המחלקה לש"ח | N27: 0 | P27: ללא הסכם מיוחד | Q27: 27335884 | R27: פרץ | S27: לילך | T27: נשים | U27: 1 | V27: 0.25 | W27: 140 | X27: עו"ס שיקום | AA27: 80 | AB27: עו"ס | AC27: 5 | AD27: 102 | AE27: 37681 | AF27: 39622 | AG27: 51075 | AH27: 37201 | AI27: 41280 | AJ27: 37469
A28: 1 | B28: ירושלים | C28: 104 | D28: אשדוד | E28: 1040050 | F28: ע. אשדוד קהילה | G28: 31100 | H28: 140 | I28: עו"ס שיקום | J28: 1 | K28: ע"ח המשרד | L28: 1 | M28: שכר עובדי המחלקה לש"ח | N28: 0 | P28: ללא הסכם מיוחד | Q28: 35928241 | R28: דניאל | S28: לימור | T28: נשים | U28: 1 | V28: 0.5 | W28: 140 | X28: עו"ס שיקום | AA28: 80 | AB28: עו"ס | AC28: 3 | AD28: 102 | AE28: 38830 | AF28: 38830 | AG28: 40543 | AH28: 38018 | AI28: 47848 | AJ28: 37469
A29: 1 | B29: ירושלים | C29: 104 | D29: אשדוד | E29: 1040050 | F29: ע. אשדוד קהילה | G29: 31100 | H29: 140 | I29: עו"ס שיקום | J29: 1 | K29: ע"ח המשרד | L29: 1 | M29: שכר עובדי המחלקה לש"ח | N29: 0 | P29: ללא הסכם מיוחד | Q29: 59058966 | R29: מלכה | S29: פאני | T29: נשים | U29: 1 | V29: 0.25 | W29: 140 | X29: עו"ס שיקום | AA29: 80 | AB29: עו"ס | AC29: 5 | AD29: 107 | AE29: 37803 | AF29: 37803 | AG29: 48579 | AH29: 32325 | AI29: 48579 | AJ29: 37469
A30: 1 | B30: ירושלים | C30: 129 | D30: קרית-מלאכי | E30: 1290000 | F30: ע. ק.מלאכי | G30: 11100 | H30: 64 | I30: מרכז נושא שיקום | J30: 1 | K30: ע"ח המשרד | L30: 1 | M30: שכר עובדי המחלקה לש"ח | N30: 0 | P30: ללא הסכם מיוחד | U30: 0.5 | AJ30: 34060
A31: 1 | B31: ירושלים | C31: 147 | D31: מודיעין-עלית | E31: 1470000 | F31: ע. מודיעין עילית | G31: 200 | H31: 64 | I31: מרכז נושא שיקום | J31: 1 | K31: ע"ח המשרד | L31: 1 | M31: שכר עובדי המחלקה לש"ח | N31: 0 | P31: ללא הסכם מיוחד | Q31: 33598004 | R31: ליבנשטיין | S31: ליבנת | T31: נשים | U31: 0.5 | V31: 0.5 | W31: 64 | X31: מרכז נושא שיקום | AA31: 80 | AB31: עו"ס | AC31: 6 | AD31: 101 | AE31: 38808 | AF31: 39995 | AG31: 41274 | AH31: 42767 | AI31: 54819 | AJ31: 38292
A32: 2 | B32: תל - אביב | C32: 300 | D32: בני-ברק | E32: 3000000 | F32: ע. בני ברק הנהלה | G32: 22200 | H32: 63 | I32: מרכז נושא מוגבלויות | J32: 1 | K32: ע"ח המשרד | L32: 1 | M32: שכר עובדי המחלקה לש"ח | N32: 0 | P32: ללא הסכם מיוחד | Q32: 3630928 | R32: פלדמן | S32: אסתר | T32: נשים | U32: 0.6 | V32: 0.6 | W32: 63 | X32: מרכז נושא מוגבלויות | AA32: 80 | AB32: עו"ס | AC32: 6 | AD32: 111 | AE32: 37377 | AF32: 37377 | AG32: 41072 | AH32: 33604 | AI32: 41102 | AJ32: 32599
A33: 2 | B33: תל - אביב | C33: 300 | D33: בני-ברק | E33: 3000000 | F33: ע. בני ברק הנהלה | G33: 25000 | H33: 64 | I33: מרכז נושא שיקום | J33: 1 | K33: ע"ח המשרד | L33: 1 | M33: שכר עובדי המחלקה לש"ח | N33: 0 | P33: ללא הסכם מיוחד | Q33: 22801716 | R33: לוי | S33: סיגל | T33: נשים | U33: 0.85 | V33: 0.85 | W33: 64 | X33: מרכז נושא שיקום | AA33: 80 | AB33: עו"ס | AC33: 6 | AD33: 108 | AE33: 37377 | AF33: 37377 | AG33: 47222 | AH33: 34151 | AI33: 49064 | AJ33: 36312
A34: 2 | B34: תל - אביב | C34: 300 | D34: בני-ברק | E34: 3000110 | F34: ע.ב"ב ל.צפון צוות א | G34: 60100 | H34: 140 | I34: עו"ס שיקום | J34: 1 | K34: ע"ח המשרד | L34: 1 | M34: שכר עובדי המחלקה לש"ח | N34: 0 | P34: ללא הסכם מיוחד | Q34: 57390379 | R34: עיני | S34: גילה | T34: נשים | U34: 0.75 | V34: 0.75 | W34: 140 | X34: עו"ס שיקום | AA34: 80 | AB34: עו"ס | AC34: 4 | AD34: 111 | AE34: 37377 | AF34: 37377 | AG34: 44610 | AH34: 36775 | AI34: 47177 | AJ34: 34060
A35: 2 | B35: תל - אביב | C35: 300 | D35: בני-ברק | E35: 3000210 | F35: ע.ב"ב ל.מערב צוות א | G35: 60100 | H35: 140 | I35: עו"ס שיקום | J35: 1 | K35: ע"ח המשרד | L35: 1 | M35: שכר עובדי המחלקה לש"ח | N35: 0 | P35: ללא הסכם מיוחד | Q35: 13620869 | R35: בלונדר | S35: צימקה | T35: נשים | U35: 0.75 | V35: 0.05 | W35: 140 | X35: עו"ס שיקום | AA35: 80 | AB35: עו"ס | AC35: 3 | AE35: 39934 | AF35: 39934 | AG35: 43294 | AH35: 35490 | AI35: 45851 | AJ35: 33604
A36: 2 | B36: תל - אביב | C36: 300 | D36: בני-ברק | E36: 3000210 | F36: ע.ב"ב ל.מערב צוות א | G36: 60100 | H36: 140 | I36: עו"ס שיקום | J36: 1 | K36: ע"ח המשרד | L36: 1 | M36: שכר עובדי המחלקה לש"ח | N36: 0 | P36: ללא הסכם מיוחד | Q36: 23977804 | R36: בירנבאום | S36: דינה | T36: נשים | U36: 0.75 | V36: 0.3 | W36: 140 | X36: עו"ס שיקום | AA36: 80 | AB36: עו"ס | AC36: 4 | AD36: 107 | AE36: 40026 | AF36: 40026 | AG36: 47026 | AH36: 33482 | AI36: 47026 | AJ36: 33604
A37: 2 | B37: תל - אביב | C37: 300 | D37: בני-ברק | E37: 3000210 | F37: ע.ב"ב ל.מערב צוות א | G37: 60100 | H37: 140 | I37: עו"ס שיקום | J37: 1 | K37: ע"ח המשרד | L37: 1 | M37: שכר עובדי המחלקה לש"ח | N37: 0 | P37: ללא הסכם מיוחד | Q37: 58249715 | R37: סמואל | S37: שרון | T37: נשים | U37: 0.75 | V37: 0.4 | W37: 140 | X37: עו"ס שיקום | AA37: 80 | AB37: עו"ס | AC37: 5 | AD37: 111 | AE37: 39904 | AF37: 39904 | AG37: 45842 | AH37: 34029 | AI37: 45842 | AJ37: 33604
A38: 2 | B38: תל - אביב | C38: 300 | D38: בני-ברק | E38: 3000220 | F38: ע.ב"ב ל.מערב צוות ב | G38: 50100 | H38: 140 | I38: עו"ס שיקום | J38: 1 | K38: ע"ח המשרד | L38: 1 | M38: שכר עובדי המחלקה לש"ח | N38: 0 | P38: ללא הסכם מיוחד | Q38: 58810334 | R38: חפץ | S38: בלה | T38: נשים | U38: 0.75 | V38: 0.75 | W38: 140 | X38: עו"ס שיקום | AA38: 80 | AB38: עו"ס | AC38: 3 | AD38: 111 | AE38: 36404 | AF38: 37377 | AG38: 43100 | AH38: 34029 | AI38: 48036 | AJ38: 34060
A39: 2 | B39: תל - אביב | C39: 300 | D39: בני-ברק | E39: 3000310 | F39: ע.ב"ב ל.דרום צוות א | G39: 50100 | H39: 140 | I39: עו"ס שיקום | J39: 1 | K39: ע"ח המשרד | L39: 1 | M39: שכר עובדי המחלקה לש"ח | N39: 0 | P39: ללא הסכם מיוחד | Q39: 62541016 | R39: סבטון | S39: בלהה | T39: נשים | U39: 0.25 | V39: 0.25 | W39: 140 | X39: עו"ס שיקום | AA39: 80 | AB39: עו"ס | AC39: 3 | AE39: 39348 | AF39: 40269 | AG39: 48384 | AH39: 38888 | AI39: 54727 | AJ39: 18629
A40: 2 | B40: תל - אביב | C40: 300 | D40: בני-ברק | E40: 3000320 | F40: ע.ב"ב ל.דרום צוות ב | G40: 70100 | H40: 140 | I40: עו"ס שיקום | J40: 1 | K40: ע"ח המשרד | L40: 1 | M40: שכר עובדי המחלקה לש"ח | N40: 0 | P40: ללא הסכם מיוחד | Q40: 39840517 | R40: וינוקור | S40: מיכל | T40: נשים | U40: 0.26 | V40: 0.09 | W40: 140 | X40: עו"ס שיקום | AA40: 80 | AB40: עו"ס | AC40: 2 | AE40: 40422 | AF40: 40422 | AG40: 52376 | AH40: 39784 | AI40: 40504 | AJ40: 18629
A41: 2 | B41: תל - אביב | C41: 301 | D41: בת-ים | E41: 3010000 | F41: ע. בת ים | G41: 20900 | H41: 63 | I41: מרכז נושא מוגבלויות | J41: 1 | K41: ע"ח המשרד | L41: 1 | M41: שכר עובדי המחלקה לש"ח | N41: 0 | P41: ללא הסכם מיוחד | Q41: 26686360 | R41: קניגל | S41: פאני | T41: נשים | U41: 0.5 | V41: 0.5 | W41: 63 | X41: מרכז נושא מוגבלויות | AA41: 80 | AB41: עו"ס | AC41: 6 | AD41: 101 | AE41: 38078 | AF41: 38078 | AG41: 44043 | AH41: 28795 | AI41: 41882 | AJ41: 18629
A42: 2 | B42: תל - אביב | C42: 301 | D42: בת-ים | E42: 3010000 | F42: ע. בת ים | G42: 21300 | H42: 64 | I42: מרכז נושא שיקום | J42: 1 | K42: ע"ח המשרד | L42: 1 | M42: שכר עובדי המחלקה לש"ח | N42: 0 | P42: ללא הסכם מיוחד | Q42: 26686360 | R42: קניגל | S42: פאני | T42: נשים | U42: 0.5 | V42: 0.5 | W42: 64 | X42: מרכז נושא שיקום | AA42: 80 | AB42: עו"ס | AC42: 6 | AD42: 101 | AE42: 38078 | AF42: 38078 | AG42: 44043 | AH42: 28795 | AI42: 41882 | AJ42: 18629
A43: 2 | B43: תל - אביב | C43: 301 | D43: בת-ים | E43: 3010050 | F43: ע. בת ים נכויות | G43: 10700 | H43: 120 | I43: עו"ס משפחה (כוללני) | J43: 1 | K43: ע"ח המשרד | L43: 1 | M43: שכר עובדי המחלקה לש"ח | N43: 8 | O43: עו"ס - אוטיסטים | P43: ללא הסכם מיוחד | Q43: 33014739 | R43: עמית | S43: עדי | T43: נשים | U43: 0.5 | V43: 0.5 | W43: 120 | X43: עו"ס משפחה (כוללני) | AA43: 80 | AB43: עו"ס | AC43: 2 | AE43: 39852 | AF43: 40210 | AG43: 40482 | AH43: 39488 | AI43: 52443 | AJ43: 38777 | AK43: 40847
A44: 2 | B44: תל - אביב | C44: 302 | D44: גבעתיים | E44: 3020000 | F44: ע. גבעתיים | G44: 20100 | H44: 64 | I44: מרכז נושא שיקום | J44: 1 | K44: ע"ח המשרד | L44: 1 | M44: שכר עובדי המחלקה לש"ח | N44: 0 | P44: ללא הסכם מיוחד | Q44: 57242273 | R44: לביא | S44: אורלי | T44: נשים | U44: 0.5 | V44: 0.5 | W44: 64 | X44: מרכז נושא שיקום | AA44: 80 | AB44: עו"ס | AC44: 6 | AD44: 111 | AE44: 32905 | AF44: 32905 | AG44: 44255 | AH44: 32905 | AI44: 46783 | AJ44: 34060
A45: 2 | B45: תל - אביב | C45: 303 | D45: הרצליה | E45: 3030000 | F45: ע. הרצליה | G45: 35100 | H45: 63 | I45: מרכז נושא מוגבלויות | J45: 1 | K45: ע"ח המשרד | L45: 1 | M45: שכר עובדי המחלקה לש"ח | N45: 0 | P45: ללא הסכם מיוחד | Q45: 58811803 | R45: ריזל | S45: תמר | T45: נשים | U45: 0.75 | V45: 0.75 | W45: 63 | X45: מרכז נושא מוגבלויות | AA45: 80 | AB45: עו"ס | AC45: 6 | AD45: 104 | AE45: 32629 | AF45: 36008 | AG45: 45413 | AH45: 32629 | AI45: 45443 | AJ45: 33970
A46: 2 | B46: תל - אביב | C46: 303 | D46: הרצליה | E46: 3030000 | F46: ע. הרצליה | G46: 40100 | H46: 64 | I46: מרכז נושא שיקום | J46: 1 | K46: ע"ח המשרד | L46: 1 | M46: שכר עובדי המחלקה לש"ח | N46: 0 | P46: ללא הסכם מיוחד | Q46: 22718050 | R46: סלמן | S46: אלה | T46: נשים | U46: 0.5 | V46: 0.5 | W46: 64 | X46: מרכז נושא שיקום | AA46: 80 | AB46: עו"ס | AC46: 5 | AE46: 39417 | AF46: 39417 | AG46: 43069 | AH46: 35612 | AI46: 43100 | AJ46: 18629
A47: 2 | B47: תל - אביב | C47: 304 | D47: חולון | E47: 3040000 | F47: ע. חולון | G47: 40100 | H47: 64 | I47: מרכז נושא שיקום | J47: 1 | K47: ע"ח המשרד | L47: 1 | M47: שכר עובדי המחלקה לש"ח | N47: 0 | P47: ללא הסכם מיוחד | Q47: 55585210 | R47: פישגורד-שורץ | S47: חיה | T47: נשים | U47: 0.9 | V47: 0.9 | W47: 64 | X47: מרכז נושא שיקום | AA47: 80 | AB47: עו"ס | AC47: 5 | AE47: 39539 | AF47: 39539 | AG47: 47027 | AH47: 39539 | AI47: 40968 | AJ47: 26665
A48: 2 | B48: תל - אביב | C48: 304 | D48: חולון | E48: 3040000 | F48: ע. חולון | G48: 92200 | H48: 120 | I48: עו"ס משפחה (כוללני) | J48: 1 | K48: ע"ח המשרד | L48: 1 | M48: שכר עובדי המחלקה לש"ח | N48: 8 | O48: עו"ס - אוטיסטים | P48: ללא הסכם מיוחד | Q48: 38624482 | R48: משיח-דדוש | S48: טל | T48: נשים | U48: 0.5 | V48: 0.5 | W48: 120 | X48: עו"ס משפחה (כוללני) | AA48: 80 | AB48: עו"ס | AC48: 1 | AE48: 40330 | AF48: 40330 | AG48: 40482 | AH48: 44038 | AI48: 44469 | AJ48: 38777 | AK48: 40847
A49: 2 | B49: תל - אביב | C49: 305 | D49: כפר-סבא | E49: 3050000 | F49: ע. כפר סבא | G49: 20100 | H49: 63 | I49: מרכז נושא מוגבלויות | J49: 1 | K49: ע"ח המשרד | L49: 1 | M49: שכר עובדי המחלקה לש"ח | N49: 0 | P49: ללא הסכם מיוחד | Q49: 28069367 | R49: המר | S49: יפעת | T49: נשים | U49: 0.7 | V49: 0.34 | W49: 63 | X49: מרכז נושא מוגבלויות | AA49: 80 | AB49: עו"ס | AC49: 6 | AD49: 108 | AE49: 39904 | AF49: 39904 | AG49: 40543 | AH49: 35309 | AI49: 50436 | AJ49: 33970
A50: 2 | B50: תל - אביב | C50: 305 | D50: כפר-סבא | E50: 3050000 | F50: ע. כפר סבא | G50: 20100 | H50: 63 | I50: מרכז נושא מוגבלויות | J50: 1 | K50: ע"ח המשרד | L50: 1 | M50: שכר עובדי המחלקה לש"ח | N50: 0 | P50: ללא הסכם מיוחד | Q50: 30371132 | R50: גונן | S50: אהובה | T50: נשים | U50: 0.7 | V50: 0.36 | W50: 63 | X50: מרכז נושא מוגבלויות | AA50: 80 | AB50: עו"ס | AC50: 6 | AD50: 111 | AE50: 37803 | AF50: 37803 | AG50: 40908 | AH50: 26604 | AI50: 42308 | AJ50: 33970
A51: 2 | B51: תל - אביב | C51: 305 | D51: כפר-סבא | E51: 3050000 | F51: ע. כפר סבא | G51: 30100 | H51: 64 | I51: מרכז נושא שיקום | J51: 1 | K51: ע"ח המשרד | L51: 1 | M51: שכר עובדי המחלקה לש"ח | N51: 0 | P51: ללא הסכם מיוחד | Q51: 56472590 | R51: שטרנברג שוחט | S51: רינת | T51: נשים | U51: 0.75 | V51: 0.75 | W51: 64 | X51: מרכז נושא שיקום | AA51: 80 | AB51: עו"ס | AC51: 6 | AD51: 101 | AE51: 32082 | AF51: 32082 | AG51: 44012 | AH51: 32082 | AI51: 47483 | AJ51: 18629
A52: 2 | B52: תל - אביב | C52: 306 | D52: לוד | E52: 3060000 | F52: ע. לוד | G52: 30100 | H52: 63 | I52: מרכז נושא מוגבלויות | J52: 1 | K52: ע"ח המשרד | L52: 1 | M52: שכר עובדי המחלקה לש"ח | N52: 0 | P52: ללא הסכם מיוחד | Q52: 29052040 | R52: קרנצלר | S52: עירית | T52: נשים | U52: 0.5 | V52: 0.5 | W52: 63 | X52: מרכז נושא מוגבלויות | AA52: 80 | AB52: עו"ס | AC52: 5 | AE52: 39387 | AF52: 39387 | AG52: 42369 | AH52: 36822 | AI52: 42879 | AJ52: 18629
A53: 2 | B53: תל - אביב | C53: 306 | D53: לוד | E53: 3060000 | F53: ע. לוד | G53: 32100 | H53: 64 | I53: מרכז נושא שיקום | J53: 1 | K53: ע"ח המשרד | L53: 1 | M53: שכר עובדי המחלקה לש"ח | N53: 0 | P53: ללא הסכם מיוחד | Q53: 23758923 | R53: בורג סמו | S53: נירה | T53: נשים | U53: 0.5 | V53: 0.5 | W53: 64 | X53: מרכז נושא שיקום | AA53: 80 | AB53: עו"ס | AC53: 6 | AE53: 39508 | AF53: 39508 | AG53: 42369 | AH53: 34881 | AI53: 43159 | AJ53: 31138
A54: 2 | B54: תל - אביב | C54: 307 | D54: נתניה | E54: 3070050 | F54: ע.נתניה מוגבל+נושמים | G54: 7300 | H54: 120 | I54: עו"ס משפחה (כוללני) | J54: 1 | K54: ע"ח המשרד | L54: 1 | M54: שכר עובדי המחלקה לש"ח | N54: 8 | O54: עו"ס - אוטיסטים | P54: ללא הסכם מיוחד | Q54: 300109394 | R54: אודסר | S54: אפרת | T54: נשים | U54: 0.5 | V54: 0.5 | W54: 120 | X54: עו"ס משפחה (כוללני) | AA54: 80 | AB54: עו"ס | AC54: 2 | AE54: 40360 | AF54: 40391 | AG54: 40847 | AH54: 40111 | AI54: 56188 | AJ54: 38777 | AK54: 40847
A55: 2 | B55: תל - אביב | C55: 308 | D55: פתח-תקוה | E55: 3080000 | F55: ע. פתח תקוה | G55: 25100 | H55: 63 | I55: מרכז נושא מוגבלויות | J55: 1 | K55: ע"ח המשרד | L55: 1 | M55: שכר עובדי המחלקה לש"ח | N55: 0 | P55: ללא הסכם מיוחד | Q55: 56114770 | R55: זומר | S55: יפה | T55: נשים | U55: 0.75 | V55: 0.75 | W55: 63 | X55: מרכז נושא מוגבלויות | AA55: 80 | AB55: עו"ס | AC55: 6 | AD55: 108 | AE55: 39661 | AF55: 39661 | AG55: 43496 | AH55: 32112 | AI55: 46341 | AJ55: 32143
A56: 2 | B56: תל - אביב | C56: 308 | D56: פתח-תקוה | E56: 3080080 | F56: ע. פתח תקוה ירקון | G56: 30900 | H56: 120 | I56: עו"ס משפחה (כוללני) | J56: 1 | K56: ע"ח המשרד | L56: 1 | M56: שכר עובדי המחלקה לש"ח | N56: 8 | O56: עו"ס - אוטיסטים | P56: ללא הסכם מיוחד | Q56: 26612788 | R56: קלפר | S56: אפרת | T56: נשים | U56: 0.5 | V56: 0.5 | W56: 120 | X56: עו"ס משפחה (כוללני) | AA56: 80 | AB56: עו"ס | AC56: 2 | AE56: 38368 | AF56: 40148 | AG56: 40482 | AH56: 38368 | AI56: 50405 | AJ56: 37773 | AK56: 40847
A57: 2 | B57: תל - אביב | C57: 309 | D57: ראשון-לציון | E57: 3090000 | F57: ע. ראשל"צ | G57: 43500 | H57: 120 | I57: עו"ס משפחה (כוללני) | J57: 1 | K57: ע"ח המשרד | L57: 1 | M57: שכר עובדי המחלקה לש"ח | N57: 8 | O57: עו"ס - אוטיסטים | P57: ללא הסכם מיוחד | Q57: 11192762 | R57: אריאל | S57: ג'נט | T57: נשים | U57: 0.5 | V57: 0.2 | W57: 120 | X57: עו"ס משפחה (כוללני) | AA57: 80 | AB57: עו"ס | AC57: 3 | AE57: 40349 | AF57: 40349 | AG57: 40482 | AH57: 37257 | AI57: 51440 | AJ57: 37773 | AK57: 40847
A58: 2 | B58: תל - אביב | C58: 309 | D58: ראשון-לציון | E58: 3090000 | F58: ע. ראשל"צ | G58: 43500 | H58: 120 | I58: עו"ס משפחה (כוללני) | J58: 1 | K58: ע"ח המשרד | L58: 1 | M58: שכר עובדי המחלקה לש"ח | N58: 8 | O58: עו"ס - אוטיסטים | P58: ללא הסכם מיוחד | Q58: 38445615 | R58: זהרון | S58: אורנית | T58: נשים | U58: 0.5 | V58: 0.2 | W58: 120 | X58: עו"ס משפחה (כוללני) | AA58: 80 | AB58: עו"ס | AC58: 3 | AD58: 101 | AE58: 39878 | AF58: 39878 | AG58: 40482 | AH58: 37956 | AI58: 49767 | AJ58: 37773 | AK58: 40847
A59: 2 | B59: תל - אביב | C59: 309 | D59: ראשון-לציון | E59: 3090000 | F59: ע. ראשל"צ | G59: 43500 | H59: 120 | I59: עו"ס משפחה (כוללני) | J59: 1 | K59: ע"ח המשרד | L59: 1 | M59: שכר עובדי המחלקה לש"ח | N59: 8 | O59: עו"ס - אוטיסטים | P59: ללא הסכם מיוחד | Q59: 40281453 | R59: מאיר | S59: הדס | T59: נשים | U59: 0.5 | V59: 0.1 | W59: 120 | X59: עו"ס משפחה (כוללני) | AA59: 80 | AB59: עו"ס | AC59: 3 | AE59: 40427 | AF59: 40427 | AG59: 40482 | AH59: 39722 | AI59: 41281 | AJ59: 37773 | AK59: 40847
A60: 2 | B60: תל - אביב | C60: 309 | D60: ראשון-לציון | E60: 3090020 | F60: ע. ראשל"צ מרכז העיר | G60: 27100 | H60: 140 | I60: עו"ס שיקום | J60: 1 | K60: ע"ח המשרד | L60: 1 | M60: שכר עובדי המחלקה לש"ח | N60: 0 | P60: ללא הסכם מיוחד | Q60: 27479658 | R60: גרניט | S60: עדי | T60: נשים | U60: 0.75 | V60: 0.7 | W60: 140 | X60: עו"ס שיקום | AA60: 80 | AB60: עו"ס | AC60: 3 | AE60: 40416 | AF60: 40416 | AG60: 49392 | AH60: 38873 | AI60: 57679 | AJ60: 37469
A61: 2 | B61: תל - אביב | C61: 309 | D61: ראשון-לציון | E61: 3090020 | F61: ע. ראשל"צ מרכז העיר | G61: 27100 | H61: 140 | I61: עו"ס שיקום | J61: 1 | K61: ע"ח המשרד | L61: 1 | M61: שכר עובדי המחלקה לש"ח | N61: 0 | P61: ללא הסכם מיוחד | Q61: 35871292 | R61: רודן-ירון | S61: מיכל | T61: נשים | U61: 0.75 | V61: 0.05 | W61: 140 | X61: עו"ס שיקום | AA61: 80 | AB61: עו"ס | AC61: 3 | AE61: 40026 | AF61: 40026 | AG61: 44195 | AH61: 37956 | AI61: 44227 | AJ61: 37469
A62: 2 | B62: תל - אביב | C62: 310 | D62: רחובות | E62: 3100000 | F62: ע. רחובות | G62: 30300 | H62: 64 | I62: מרכז נושא שיקום | J62: 1 | K62: ע"ח המשרד | L62: 1 | M62: שכר עובדי המחלקה לש"ח | N62: 0 | P62: ללא הסכם מיוחד | Q62: 57847626 | R62: שטאובר | S62: רבקה | T62: נשים | U62: 1 | V62: 1 | W62: 64 | X62: מרכז נושא שיקום | AA62: 80 | AB62: עו"ס | AC62: 6 | AD62: 110 | AE62: 38838 | AF62: 38838 | AG62: 44895 | AH62: 30956 | AI62: 44895 | AJ62: 18629
A63: 2 | B63: תל - אביב | C63: 311 | D63: רמלה | E63: 3110000 | F63: ע. רמלה הנהלה | G63: 850 | H63: 63 | I63: מרכז נושא מוגבלויות | J63: 1 | K63: ע"ח המשרד | L63: 1 | M63: שכר עובדי המחלקה לש"ח | N63: 0 | P63: ללא הסכם מיוחד | Q63: 15722572 | R63: סלומינסקי | S63: אסתר | T63: נשים | U63: 0.75 | V63: 0.75 | W63: 63 | X63: מרכז נושא מוגבלויות | AA63: 80 | AB63: עו"ס | AC63: 4 | AE63: 40299 | AF63: 40299 | AG63: 42063 | AH63: 37501 | AI63: 53428 | AJ63: 32690
A64: 2 | B64: תל - אביב | C64: 311 | D64: רמלה | E64: 3110000 | F64: ע. רמלה הנהלה | G64: 865 | H64: 64 | I64: מרכז נושא שיקום | J64: 1 | K64: ע"ח המשרד | L64: 1 | M64: שכר עובדי המחלקה לש"ח | N64: 0 | P64: ללא הסכם מיוחד | Q64: 63671960 | R64: לוי | S64: מזל | T64: נשים | U64: 0.75 | V64: 0.75 | W64: 64 | X64: מרכז נושא שיקום | AA64: 80 | AB64: עו"ס | AC64: 6 | AD64: 125 | AE64: 37987 | AF64: 37987 | AG64: 41399 | AH64: 32633 | AI64: 41152 | AJ64: 18629
A65: 2 | B65: תל - אביב | C65: 312 | D65: רמת-גן | E65: 3120000 | F65: ע. רמת גן | G65: 40100 | H65: 63 | I65: מרכז נושא מוגבלויות | J65: 1 | K65: ע"ח המשרד | L65: 1 | M65: שכר עובדי המחלקה לש"ח | N65: 0 | P65: ללא הסכם מיוחד | Q65: 22961726 | R65: טאושטיין | S65: גילה | T65: נשים | U65: 0.5 | V65: 0.5 | W65: 63 | X65: מרכז נושא מוגבלויות | AA65: 80 | AB65: עו"ס | AC65: 5 | AE65: 39083 | AF65: 39083 | AG65: 51501 | AH65: 37257 | AI65: 51501 | AJ65: 26146
A66: 2 | B66: תל - אביב | C66: 312 | D66: רמת-גן | E66: 3120000 | F66: ע. רמת גן | G66: 70000 | H66: 120 | I66: עו"ס משפחה (כוללני) | J66: 1 | K66: ע"ח המשרד | L66: 1 | M66: שכר עובדי המחלקה לש"ח | N66: 8 | O66: עו"ס - אוטיסטים | P66: ללא הסכם מיוחד | Q66: 34120535 | R66: ליבנה | S66: יונית | T66: נשים | U66: 0.5 | V66: 0.5 | W66: 120 | X66: עו"ס משפחה (כוללני) | AA66: 80 | AB66: עו"ס | AC66: 3 | AE66: 39661 | AF66: 39783 | AG66: 40482 | AH66: 37500 | AI66: 52047 | AJ66: 38777 | AK66: 40847
A67: 2 | B67: תל - אביב | C67: 313 | D67: תל-אביב | E67: 3130000 | F67: ע. תל אביב הנהלה | G67: 72300 | H67: 120 | I67: עו"ס משפחה (כוללני) | J67: 1 | K67: ע"ח המשרד | L67: 1 | M67: שכר עובדי המחלקה לש"ח | N67: 8 | O67: עו"ס - אוטיסטים | P67: ללא הסכם מיוחד | Q67: 25443474 | R67: חמל | S67: גלית | T67: נשים | U67: 0.5 | V67: 0.5 | W67: 120 | X67: עו"ס משפחה (כוללני) | AA67: 80 | AB67: עו"ס | AC67: 3 | AE67: 39295 | AF67: 40269 | AG67: 40482 | AH67: 39295 | AI67: 43131 | AJ67: 37773 | AK67: 40847
A68: 2 | B68: תל - אביב | C68: 313 | D68: תל-אביב | E68: 3130121 | F68: לשכת אחווה צוות-1 | G68: 40100 | H68: 140 | I68: עו"ס שיקום | J68: 1 | K68: ע"ח המשרד | L68: 1 | M68: שכר עובדי המחלקה לש"ח | N68: 0 | P68: ללא הסכם מיוחד | Q68: 57214926 | R68: פאר | S68: רונית | T68: נשים | U68: 1 | V68: 1 | W68: 140 | X68: עו"ס שיקום | AA68: 80 | AB68: עו"ס | AC68: 3 | AD68: 111 | AE68: 33451 | AF68: 36495 | AG68: 44286 | AH68: 33451 | AI68: 46965 | AJ68: 18629
A69: 2 | B69: תל - אביב | C69: 313 | D69: תל-אביב | E69: 3130210 | F69: חוצות יפו הנהלה | G69: 10100 | H69: 64 | I69: מרכז נושא שיקום | J69: 1 | K69: ע"ח המשרד | L69: 1 | M69: שכר עובדי המחלקה לש"ח | N69: 0 | P69: ללא הסכם מיוחד | Q69: 3206794 | R69: ברקת | S69: שרה | T69: נשים | U69: 0.75 | V69: 0.75 | W69: 64 | X69: מרכז נושא שיקום | AA69: 80 | AB69: עו"ס | AC69: 6 | AD69: 111 | AE69: 28369 | AF69: 28369 | AG69: 41182 | AH69: 28369 | AI69: 40694 | AJ69: 32051
A70: 2 | B70: תל - אביב | C70: 328 | D70: הוד-השרון | E70: 3280000 | F70: ע. הוד שרון | G70: 1100 | H70: 63 | I70: מרכז נושא מוגבלויות | J70: 1 | K70: ע"ח המשרד | L70: 1 | M70: שכר עובדי המחלקה לש"ח | N70: 0 | P70: ללא הסכם מיוחד | Q70: 10281178 | R70: דבי | S70: אדית | T70: נשים | U70: 0.5 | V70: 0.5 | W70: 63 | X70: מרכז נושא מוגבלויות | AA70: 80 | AB70: עו"ס | AC70: 6 | AD70: 111 | AE70: 36495 | AF70: 36495 | AG70: 43008 | AH70: 31594 | AI70: 40968 | AJ70: 28126
A71: 2 | B71: תל - אביב | C71: 337 | D71: נס-ציונה | E71: 3370000 | F71: ע. נס ציונה | G71: 23100 | H71: 63 | I71: מרכז נושא מוגבלויות | J71: 1 | K71: ע"ח המשרד | L71: 1 | M71: שכר עובדי המחלקה לש"ח | N71: 0 | P71: ללא הסכם מיוחד | Q71: 54301361 | R71: גרופי | S71: ברכה | T71: נשים | U71: 0.5 | V71: 0.5 | W71: 63 | X71: מרכז נושא מוגבלויות | AA71: 80 | AB71: עו"ס | AC71: 6 | AD71: 110 | AE71: 37104 | AF71: 37104 | AG71: 42369 | AH71: 32660 | AI71: 44104 | AJ71: 36039
A72: 2 | B72: תל - אביב | C72: 339 | D72: קדימה - צורן | E72: 3390000 | F72: מ.מ קדימה-צורן | G72: 10100 | H72: 63 | I72: מרכז נושא מוגבלויות | J72: 1 | K72: ע"ח המשרד | L72: 1 | M72: שכר עובדי המחלקה לש"ח | N72: 0 | P72: ללא הסכם מיוחד | Q72: 56098429 | R72: להט קרטר | S72: שושנה | T72: נשים | U72: 0.5 | V72: 0.5 | W72: 63 | X72: מרכז נושא מוגבלויות | AA72: 80 | AB72: עו"ס | AC72: 6 | AD72: 106 | AE72: 36100 | AF72: 36100 | AG72: 43830 | AH72: 35400 | AI72: 40543 | AJ72: 18629
A73: 2 | B73: תל - אביב | C73: 341 | D73: רמת-השרון | E73: 3410000 | F73: ע. רמת השרון | G73: 10100 | H73: 63 | I73: מרכז נושא מוגבלויות | J73: 1 | K73: ע"ח המשרד | L73: 1 | M73: שכר עובדי המחלקה לש"ח | N73: 0 | P73: ללא הסכם מיוחד | Q73: 6851307 | R73: אפלבוים | S73: נילי | T73: נשים | U73: 0.5 | V73: 0.5 | W73: 63 | X73: מרכז נושא מוגבלויות | AA73: 80 | AB73: עו"ס | AC73: 6 | AD73: 111 | AE73: 35339 | AF73: 35339 | AG73: 40543 | AH73: 28915 | AI73: 40786 | AJ73: 33878
A74: 2 | B74: תל - אביב | C74: 342 | D74: מודיעין - מכבים-רעות | E74: 3420000 | F74: ע. מודיעין-מ.רעות | G74: 5000 | H74: 64 | I74: מרכז נושא שיקום | J74: 1 | K74: ע"ח המשרד | L74: 1 | M74: שכר עובדי המחלקה לש"ח | P74: ללא הסכם מיוחד | Q74: 24418378 | R74: קורן | S74: עינת | T74: נשים | U74: 0.5 | V74: 0.5 | W74: 64 | X74: מרכז נושא שיקום | AA74: 80 | AB74: עו"ס | AC74: 4 | AD74: 102 | AE74: 39630 | AF74: 39630 | AG74: 45291 | AH74: 34912 | AI74: 40709 | AJ74: 35186
A75: 2 | B75: תל - אביב | C75: 343 | D75: רעננה | E75: 3430000 | F75: ע. רעננה | G75: 10100 | H75: 63 | I75: מרכז נושא מוגבלויות | J75: 1 | K75: ע"ח המשרד | L75: 1 | M75: שכר עובדי המחלקה לש"ח | N75: 0 | P75: ללא הסכם מיוחד | Q75: 15254733 | R75: בבצ'יק | S75: ליליאנה | T75: נשים | U75: 0.5 | V75: 0.5 | W75: 63 | X75: מרכז נושא מוגבלויות | AA75: 80 | AB75: עו"ס | AC75: 6 | AD75: 105 | AE75: 36251 | AF75: 36251 | AG75: 46022 | AH75: 34442 | AI75: 46022 | AJ75: 18629
A76: 2 | B76: תל - אביב | C76: 343 | D76: רעננה | E76: 3430000 | F76: ע. רעננה | G76: 20100 | H76: 64 | I76: מרכז נושא שיקום | J76: 1 | K76: ע"ח המשרד | L76: 1 | M76: שכר עובדי המחלקה לש"ח | N76: 0 | P76: ללא הסכם מיוחד | Q76: 24621740 | R76: ישראלי | S76: יסכה | T76: נשים | U76: 0.5 | V76: 0.5 | W76: 64 | X76: מרכז נושא שיקום | AA76: 80 | AB76: עו"ס | AC76: 4 | AD76: 106 | AE76: 40210 | AF76: 40210 | AG76: 44196 | AH76: 34060 | AI76: 47149 | AJ76: 34060
A77: 2 | B77: תל - אביב | C77: 347 | D77: אור-יהודה | E77: 3470000 | F77: ע. אור יהודה | G77: 20100 | H77: 63 | I77: מרכז נושא מוגבלויות | J77: 1 | K77: ע"ח המשרד | L77: 1 | M77: שכר עובדי המחלקה לש"ח | N77: 0 | P77: ללא הסכם מיוחד | Q77: 307588541 | R77: מרזליאקוב | S77: אינה | T77: נשים | U77: 0.5 | V77: 0.5 | W77: 63 | X77: מרכז נושא מוגבלויות | AA77: 80 | AB77: עו"ס | AC77: 6 | AD77: 111 | AE77: 35612 | AF77: 35612 | AG77: 42369 | AH77: 35156 | AI77: 41305 | AJ77: 18629
A78: 2 | B78: תל - אביב | C78: 347 | D78: אור-יהודה | E78: 3470000 | F78: ע. אור יהודה | G78: 30100 | H78: 63 | I78: מרכז נושא מוגבלויות | J78: 1 | K78: ע"ח המשרד | L78: 1 | M78: שכר עובדי המחלקה לש"ח | N78: 0 | P78: ללא הסכם מיוחד | Q78: 50145986 | R78: וולפסון | S78: צופי | T78: נשים | U78: 0.5 | V78: 0.5 | W78: 63 | X78: מרכז נושא מוגבלויות | AA78: 80 | AB78: עו"ס | AC78: 6 | AD78: 111 | AE78: 32448 | AF78: 32448 | AG78: 40543 | AH78: 29099 | AI78: 41059 | AJ78: 18629
A79: 2 | B79: תל - אביב | C79: 347 | D79: אור-יהודה | E79: 3470010 | F79: ע. אור יהודה צ.גיור | G79: 17100 | H79: 140 | I79: עו"ס שיקום | J79: 1 | K79: ע"ח המשרד | L79: 1 | M79: שכר עובדי המחלקה לש"ח | N79: 0 | P79: ללא הסכם מיוחד | Q79: 33575697 | R79: אליאס-עטר | S79: שגית | T79: נשים | U79: 0.5 | V79: 0.5 | W79: 140 | X79: עו"ס שיקום | AA79: 80 | AB79: עו"ס | AC79: 3 | AD79: 104 | AE79: 40069 | AF79: 40069 | AG79: 43830 | AH79: 36822 | AI79: 50005 | AJ79: 18629
A80: 2 | B80: תל - אביב | C80: 359 | D80: ראש-העין | E80: 3590000 | F80: ע. ראש העין | G80: 20100 | H80: 63 | I80: מרכז נושא מוגבלויות | J80: 1 | K80: ע"ח המשרד | L80: 1 | M80: שכר עובדי המחלקה לש"ח | N80: 0 | P80: ללא הסכם מיוחד | Q80: 59859173 | R80: שרון | S80: איריס | T80: נשים | U80: 0.5 | V80: 0.5 | W80: 63 | X80: מרכז נושא מוגבלויות | AA80: 80 | AB80: עו"ס | AC80: 6 | AD80: 101 | AE80: 39904 | AF80: 39904 | AG80: 46538 | AH80: 33482 | AI80: 43008 | AJ80: 34608
A81: 2 | B81: תל - אביב | C81: 359 | D81: ראש-העין | E81: 3590000 | F81: ע. ראש העין | G81: 30100 | H81: 64 | I81: מרכז נושא שיקום | J81: 1 | K81: ע"ח המשרד | L81: 1 | M81: שכר עובדי המחלקה לש"ח | N81: 0 | P81: ללא הסכם מיוחד | Q81: 31584196 | R81: לוי | S81: רינת | T81: נשים | U81: 0.75 | V81: 0.75 | W81: 64 | X81: מרכז נושא שיקום | AA81: 80 | AB81: עו"ס | AC81: 5 | AD81: 101 | AE81: 39391 | AF81: 39391 | AG81: 50739 | AH81: 38944 | AI81: 50739 | AJ81: 18629
A82: 2 | B82: תל - אביב | C82: 374 | D82: עמק-חפר | E82: 3740000 | F82: מ.א עמק חפר | G82: 11100 | H82: 140 | I82: עו"ס שיקום | J82: 1 | K82: ע"ח המשרד | L82: 1 | M82: שכר עובדי המחלקה לש"ח | N82: 0 | P82: ללא הסכם מיוחד | Q82: 32207870 | R82: וייס | S82: מרדכי | T82: גברים | U82: 0.5 | V82: 0.5 | W82: 140 | X82: עו"ס שיקום | AA82: 80 | AB82: עו"ס | AC82: 3 | AD82: 105 | AE82: 38991 | AF82: 38991 | AG82: 40543 | AH82: 37712 | AI82: 52231 | AJ82: 33604
A83: 2 | B83: תל - אביב | C83: 426 | D83: זמר | E83: 4260000 | F83: מ.מ זמר | G83: 23100 | H83: 140 | I83: עו"ס שיקום | J83: 1 | K83: ע"ח המשרד | L83: 1 | M83: שכר עובדי המחלקה לש"ח | N83: 0 | P83: ללא הסכם מיוחד | Q83: 29785979 | R83: אבופול | S83: גיהאן | T83: נשים | U83: 0.4 | V83: 0.25 | W83: 120 | X83: עו"ס משפחה (כוללני) | AA83: 80 | AB83: עו"ס | AC83: 3 | AE83: 35582 | AF83: 40148 | AG83: 45845 | AH83: 37347 | AI83: 45845 | AJ83: 33329
A84: 2 | B84: תל - אביב | C84: 426 | D84: זמר | E84: 4260000 | F84: מ.מ זמר | G84: 23100 | H84: 140 | I84: עו"ס שיקום | J84: 1 | K84: ע"ח המשרד | L84: 1 | M84: שכר עובדי המחלקה לש"ח | N84: 0 | P84: ללא הסכם מיוחד | Q84: 59456384 | R84: וותד | S84: ח'אולה | T84: נשים | U84: 0.4 | V84: 0.15 | W84: 120 | X84: עו"ס משפחה (כוללני) | AA84: 80 | AB84: עו"ס | AC84: 3 | AE84: 38961 | AF84: 39965 | AG84: 40543 | AH84: 37773 | AI84: 43830 | AJ84: 33329
A85: 3 | B85: חיפה | C85: 500 | D85: חדרה | E85: 5000000 | F85: ע. חדרה | G85: 30100 | H85: 63 | I85: מרכז נושא מוגבלויות | J85: 1 | K85: ע"ח המשרד | L85: 1 | M85: שכר עובדי המחלקה לש"ח | N85: 0 | P85: ללא הסכם מיוחד | Q85: 51610079 | R85: ברק | S85: עופרה | T85: נשים | U85: 0.5 | V85: 0.5 | W85: 63 | X85: מרכז נושא מוגבלויות | AA85: 80 | AB85: עו"ס | AC85: 6 | AD85: 105 | AE85: 32752 | AF85: 36281 | AG85: 41274 | AH85: 32752 | AI85: 44255 | AJ85: 33970
A86: 3 | B86: חיפה | C86: 500 | D86: חדרה | E86: 5000000 | F86: ע. חדרה | G86: 37100 | H86: 64 | I86: מרכז נושא שיקום | J86: 1 | K86: ע"ח המשרד | L86: 1 | M86: שכר עובדי המחלקה לש"ח | N86: 0 | P86: ללא הסכם מיוחד | Q86: 33445727 | R86: שליבובסקי | S86: דלית | T86: נשים | U86: 0.75 | V86: 0.75 | W86: 64 | X86: מרכז נושא שיקום | AA86: 80 | AB86: עו"ס | AC86: 6 | AD86: 101 | AE86: 39155 | AF86: 40210 | AG86: 50009 | AH86: 36917 | AI86: 50009 | AJ86: 32051
A87: 3 | B87: חיפה | C87: 501 | D87: חיפה | E87: 5010004 | F87: ע.חיפה מח' שיקום | G87: 90 | H87: 63 | I87: מרכז נושא מוגבלויות | J87: 1 | K87: ע"ח המשרד | L87: 1 | M87: שכר עובדי המחלקה לש"ח | N87: 0 | P87: ללא הסכם מיוחד | Q87: 52863719 | R87: גרינטל | S87: נעמי | T87: נשים | U87: 1 | V87: 1 | W87: 63 | X87: מרכז נושא מוגבלויות | AA87: 80 | AB87: עו"ס | AC87: 6 | AD87: 106 | AE87: 35431 | AF87: 36130 | AG87: 43739 | AH87: 35431 | AI87: 43100 | AJ87: 18629
A88: 3 | B88: חיפה | C88: 501 | D88: חיפה | E88: 5010004 | F88: ע.חיפה מח' שיקום | G88: 100 | H88: 64 | I88: מרכז נושא שיקום | J88: 1 | K88: ע"ח המשרד | L88: 1 | M88: שכר עובדי המחלקה לש"ח | N88: 0 | P88: ללא הסכם מיוחד | Q88: 3065208 | R88: רוזנר | S88: יצחק | T88: גברים | U88: 1 | V88: 1 | W88: 64 | X88: מרכז נושא שיקום | AA88: 80 | AB88: עו"ס | AC88: 6 | AD88: 111 | AE88: 29677 | AF88: 29677 | AG88: 40848 | AH88: 29677 | AI88: 41486 | AJ88: 27973
A89: 3 | B89: חיפה | C89: 501 | D89: חיפה | E89: 5010004 | F89: ע.חיפה מח' שיקום | G89: 10100 | H89: 140 | I89: עו"ס שיקום | J89: 1 | K89: ע"ח המשרד | L89: 1 | M89: שכר עובדי המחלקה לש"ח | N89: 0 | P89: ללא הסכם מיוחד | Q89: 67238667 | R89: בורגר | S89: שושנה | T89: נשים | U89: 1 | V89: 1 | W89: 140 | X89: עו"ס שיקום | AA89: 80 | AB89: עו"ס | AC89: 3 | AD89: 111 | AE89: 30042 | AF89: 39693 | AG89: 42063 | AH89: 30042 | AI89: 40816 | AJ89: 18629
A90: 3 | B90: חיפה | C90: 501 | D90: חיפה | E90: 5010004 | F90: ע.חיפה מח' שיקום | G90: 10200 | H90: 140 | I90: עו"ס שיקום | J90: 1 | K90: ע"ח המשרד | L90: 1 | M90: שכר עובדי המחלקה לש"ח | N90: 0 | P90: ללא הסכם מיוחד | Q90: 55323349 | R90: איגרא | S90: פנינה | T90: נשים | U90: 0.65 | V90: 0.65 | W90: 140 | X90: עו"ס שיקום | AA90: 80 | AB90: עו"ס | AC90: 3 | AD90: 110 | AE90: 32599 | AF90: 32599 | AG90: 41122 | AH90: 32599 | AI90: 43100 | AJ90: 27851
A91: 3 | B91: חיפה | C91: 501 | D91: חיפה | E91: 5010031 | F91: ע.חיפה מזרח1 נתיב חן | G91: 11800 | H91: 120 | I91: עו"ס משפחה (כוללני) | J91: 1 | K91: ע"ח המשרד | L91: 1 | M91: שכר עובדי המחלקה לש"ח | N91: 8 | O91: עו"ס - אוטיסטים | P91: ללא הסכם מיוחד | Q91: 33197047 | R91: עוגן בורנשטיין | S91: כנרת | T91: נשים | U91: 0.5 | V91: 0.5 | W91: 120 | X91: עו"ס משפחה (כוללני) | AA91: 80 | AB91: עו"ס | AC91: 2 | AD91: 111 | AE91: 38443 | AF91: 39753 | AG91: 40481 | AH91: 38443 | AI91: 55639 | AJ91: 37773 | AK91: 40847
A92: 3 | B92: חיפה | C92: 501 | D92: חיפה | E92: 5010041 | F92: ע.חיפה ק.חיים צוות 1 | G92: 23100 | H92: 140 | I92: עו"ס שיקום | J92: 1 | K92: ע"ח המשרד | L92: 1 | M92: שכר עובדי המחלקה לש"ח | N92: 0 | P92: ללא הסכם מיוחד | Q92: 31731672 | R92: נוימן | S92: חני | T92: נשים | U92: 0.35 | V92: 0.35 | W92: 140 | X92: עו"ס שיקום | AA92: 80 | AB92: עו"ס | AC92: 3 | AD92: 105 | AE92: 36739 | AF92: 37288 | AG92: 51135 | AH92: 36552 | AI92: 40451 | AJ92: 18629
A93: 3 | B93: חיפה | C93: 502 | D93: טבריה | E93: 5020000 | F93: ע. טבריה | G93: 10200 | H93: 64 | I93: מרכז נושא שיקום | J93: 1 | K93: ע"ח המשרד | L93: 1 | M93: שכר עובדי המחלקה לש"ח | N93: 0 | P93: ללא הסכם מיוחד | U93: 0.5 | AJ93: 18629
A94: 3 | B94: חיפה | C94: 504 | D94: עכו | E94: 5040000 | F94: ע. עכו | G94: 13100 | H94: 63 | I94: מרכז נושא מוגבלויות | J94: 1 | K94: ע"ח המשרד | L94: 1 | M94: שכר עובדי המחלקה לש"ח | P94: ללא הסכם מיוחד | Q94: 24220220 | R94: שר | S94: סיגל | T94: נשים | U94: 0.5 | V94: 0.5 | W94: 63 | X94: מרכז נושא מוגבלויות | AA94: 80 | AB94: עו"ס | AC94: 6 | AD94: 108 | AE94: 39264 | AF94: 39264 | AG94: 44196 | AH94: 34182 | AI94: 46021 | AJ94: 39234
A95: 3 | B95: חיפה | C95: 504 | D95: עכו | E95: 5040000 | F95: ע. עכו | G95: 14100 | H95: 64 | I95: מרכז נושא שיקום | J95: 1 | K95: ע"ח המשרד | L95: 1 | M95: שכר עובדי המחלקה לש"ח | N95: 0 | P95: ללא הסכם מיוחד | Q95: 22093272 | R95: שרון | S95: מיכל | T95: נשים | U95: 0.5 | V95: 0.5 | W95: 64 | X95: מרכז נושא שיקום | AA95: 80 | AB95: עו"ס | AC95: 6 | AD95: 111 | AE95: 38991 | AF95: 38991 | AG95: 44074 | AH95: 35217 | AI95: 45900 | AJ95: 18629
A96: 3 | B96: חיפה | C96: 504 | D96: עכו | E96: 5040040 | F96: ע. עכו צוות 4 | G96: 40100 | H96: 140 | I96: עו"ס שיקום | J96: 1 | K96: ע"ח המשרד | L96: 1 | M96: שכר עובדי המחלקה לש"ח | N96: 0 | P96: ללא הסכם מיוחד | Q96: 22093272 | R96: שרון | S96: מיכל | T96: נשים | U96: 0.5 | V96: 0.5 | W96: 140 | X96: עו"ס שיקום | AA96: 80 | AB96: עו"ס | AC96: 5 | AD96: 111 | AE96: 37834 | AF96: 38991 | AG96: 44074 | AH96: 35217 | AI96: 45900 | AJ96: 18629
A97: 3 | B97: חיפה | C97: 506 | D97: קרית-אתא | E97: 5060000 | F97: ע. ק.אתא | G97: 500 | H97: 63 | I97: מרכז נושא מוגבלויות | J97: 1 | K97: ע"ח המשרד | L97: 1 | M97: שכר עובדי המחלקה לש"ח | N97: 0 | P97: ללא הסכם מיוחד | Q97: 24448227 | R97: גל אתרוג | S97: רונית | T97: נשים | U97: 0.5 | V97: 0.5 | W97: 63 | X97: מרכז נושא מוגבלויות | AA97: 80 | AB97: עו"ס | AC97: 6 | AD97: 102 | AE97: 37895 | AF97: 40057 | AG97: 49201 | AH97: 36434 | AI97: 49201 | AJ97: 18629
A98: 3 | B98: חיפה | C98: 507 | D98: עפולה | E98: 5070000 | F98: ע. עפולה | G98: 20100 | H98: 63 | I98: מרכז נושא מוגבלויות | J98: 1 | K98: ע"ח המשרד | L98: 1 | M98: שכר עובדי המחלקה לש"ח | N98: 0 | P98: ללא הסכם מיוחד | Q98: 58665217 | R98: איתן | S98: שרית | T98: נשים | U98: 0.5 | V98: 0.5 | W98: 63 | X98: מרכז נושא מוגבלויות | AA98: 80 | AB98: עו"ס | AC98: 6 | AD98: 111 | AE98: 36527 | AF98: 36527 | AG98: 43831 | AH98: 41579 | AI98: 49101 | AJ98: 33970
A99: 3 | B99: חיפה | C99: 529 | D99: יקנעם | E99: 5290000 | F99: ע. יקנעם | G99: 5000 | H99: 64 | I99: מרכז נושא שיקום | J99: 1 | K99: ע"ח המשרד | L99: 1 | M99: שכר עובדי המחלקה לש"ח | N99: 0 | P99: ללא הסכם מיוחד | Q99: 23870611 | R99: בן עמי | S99: רות | T99: נשים | U99: 0.5 | V99: 0.5 | W99: 64 | X99: מרכז נושא שיקום | AA99: 80 | AB99: עו"ס | AC99: 6 | AD99: 107 | AE99: 37377 | AF99: 37377 | AG99: 47042 | AH99: 34623 | AI99: 47848 | AJ99: 27699
A100: 3 | B100: חיפה | C100: 543 | D100: קרית-ים | E100: 5430000 | F100: ע. קרית ים | G100: 25100 | H100: 63 | I100: מרכז נושא מוגבלויות | J100: 1 | K100: ע"ח המשרד | L100: 1 | M100: שכר עובדי המחלקה לש"ח | N100: 0 | P100: ללא הסכם מיוחד | Q100: 306207937 | R100: דרוביצקי | S100: אלנה | T100: נשים | U100: 0.5 | V100: 0.5 | W100: 63 | X100: מרכז נושא מוגבלויות | AA100: 80 | AB100: עו"ס | AC100: 6 | AD100: 111 | AE100: 35643 | AF100: 36678 | AG100: 44805 | AH100: 34029 | AI100: 43708 | AJ100: 18629
...

Sheet סיכום 10-2020
A1: סמל מחוז | B1: מחוז | C1: סמל רשות | D1: רשות | E1: תקן | F1: איוש | G1: גברים | H1: נשים | I1: סכום כולל
A2: 1 | B2: ירושלים | C2: 101 | D2: ע. אשקלון | E2: 3.5 | F2: 3.5 | G2: =IFERROR(VLOOKUP(C2,'פילוח 10-2020'!A:E,2,FALSE),0) -> 1 | H2: =IFERROR(VLOOKUP(C2,'פילוח 10-2020'!A:E,3,FALSE),0) -> 2.5 | I2: =IFERROR(VLOOKUP(C2,'פילוח 10-2020'!A:E,5,FALSE),0) -> 3.5 | J2: =I2-F2 -> 0
A3: 1 | B3: ירושלים | C3: 103 | D3: ע. ירושלים | E3: 29.85 | F3: 29.85 | G3: =IFERROR(VLOOKUP(C3,'פילוח 10-2020'!A:E,2,FALSE),0) -> 0 | H3: =IFERROR(VLOOKUP(C3,'פילוח 10-2020'!A:E,3,FALSE),0) -> 29.85 | I3: =IFERROR(VLOOKUP(C3,'פילוח 10-2020'!A:E,5,FALSE),0) -> 29.85 | J3: =I3-F3 -> 0
A4: 1 | B4: ירושלים | C4: 104 | D4: ע. אשדוד | E4: 13.89 | F4: 12.75 | G4: =IFERROR(VLOOKUP(C4,'פילוח 10-2020'!A:E,2,FALSE),0) -> 0 | H4: =IFERROR(VLOOKUP(C4,'פילוח 10-2020'!A:E,3,FALSE),0) -> 12.75 | I4: =IFERROR(VLOOKUP(C4,'פילוח 10-2020'!A:E,5,FALSE),0) -> 12.75 | J4: =I4-F4 -> 0
A5: 1 | B5: ירושלים | C5: 121 | D5: ע. בית שמש | E5: 2.25 | F5: 2.25 | G5: =IFERROR(VLOOKUP(C5,'פילוח 10-2020'!A:E,2,FALSE),0) -> 0 | H5: =IFERROR(VLOOKUP(C5,'פילוח 10-2020'!A:E,3,FALSE),0) -> 2.25 | I5: =IFERROR(VLOOKUP(C5,'פילוח 10-2020'!A:E,5,FALSE),0) -> 2.25 | J5: =I5-F5 -> 0
A6: 1 | B6: ירושלים | C6: 124 | D6: מ.מ מבשרת ציון | E6: 0.33 | F6: 0.33 | G6: =IFERROR(VLOOKUP(C6,'פילוח 10-2020'!A:E,2,FALSE),0) -> 0 | H6: =IFERROR(VLOOKUP(C6,'פילוח 10-2020'!A:E,3,FALSE),0) -> 0.33 | I6: =IFERROR(VLOOKUP(C6,'פילוח 10-2020'!A:E,5,FALSE),0) -> 0.33 | J6: =I6-F6 -> 0
A7: 1 | B7: ירושלים | C7: 129 | D7: ע. ק.מלאכי | E7: 1.5 | F7: 1.5 | G7: =IFERROR(VLOOKUP(C7,'פילוח 10-2020'!A:E,2,FALSE),0) -> 0 | H7: =IFERROR(VLOOKUP(C7,'פילוח 10-2020'!A:E,3,FALSE),0) -> 1.5 | I7: =IFERROR(VLOOKUP(C7,'פילוח 10-2020'!A:E,5,FALSE),0) -> 1.5 | J7: =I7-F7 -> 0
A8: 1 | B8: ירושלים | C8: 134 | D8: מ.מ בית אל | E8: 0.33 | F8: 0.33 | G8: =IFERROR(VLOOKUP(C8,'פילוח 10-2020'!A:E,2,FALSE),0) -> 0 | H8: =IFERROR(VLOOKUP(C8,'פילוח 10-2020'!A:E,3,FALSE),0) -> 0.33 | I8: =IFERROR(VLOOKUP(C8,'פילוח 10-2020'!A:E,5,FALSE),0) -> 0.33 | J8: =I8-F8 -> 0
A9: 1 | B9: ירושלים | C9: 140 | D9: ע. מעלה אדומים | E9: 0.5 | F9: 0.5 | G9: =IFERROR(VLOOKUP(C9,'פילוח 10-2020'!A:E,2,FALSE),0) -> 0 | H9: =IFERROR(VLOOKUP(C9,'פילוח 10-2020'!A:E,3,FALSE),0) -> 0.5 | I9: =IFERROR(VLOOKUP(C9,'פילוח 10-2020'!A:E,5,FALSE),0) -> 0.5 | J9: =I9-F9 -> 0
A10: 1 | B10: ירושלים | C10: 141 | D10: מ.מ אפרת | E10: 0.33 | F10: 0.33 | G10: =IFERROR(VLOOKUP(C10,'פילוח 10-2020'!A:E,2,FALSE),0) -> 0 | H10: =IFERROR(VLOOKUP(C10,'פילוח 10-2020'!A:E,3,FALSE),0) -> 0.33 | I10: =IFERROR(VLOOKUP(C10,'פילוח 10-2020'!A:E,5,FALSE),0) -> 0.33 | J10: =I10-F10 -> 0
A11: 1 | B11: ירושלים | C11: 142 | D11: מ.מ גבעת זאב | E11: 0.33 | F11: 0.33 | G11: =IFERROR(VLOOKUP(C11,'פילוח 10-2020'!A:E,2,FALSE),0) -> 0 | H11: =IFERROR(VLOOKUP(C11,'פילוח 10-2020'!A:E,3,FALSE),0) -> 0.33 | I11: =IFERROR(VLOOKUP(C11,'פילוח 10-2020'!A:E,5,FALSE),0) -> 0.33 | J11: =I11-F11 -> 0
A12: 1 | B12: ירושלים | C12: 146 | D12: ע. ביתר עילית | E12: 1.25 | F12: 1.25 | G12: =IFERROR(VLOOKUP(C12,'פילוח 10-2020'!A:E,2,FALSE),0) -> 0 | H12: =IFERROR(VLOOKUP(C12,'פילוח 10-2020'!A:E,3,FALSE),0) -> 1.25 | I12: =IFERROR(VLOOKUP(C12,'פילוח 10-2020'!A:E,5,FALSE),0) -> 1.25 | J12: =I12-F12 -> 0
A13: 1 | B13: ירושלים | C13: 147 | D13: ע. מודיעין עילית | E13: 1.25 | F13: 1.2 | G13: =IFERROR(VLOOKUP(C13,'פילוח 10-2020'!A:E,2,FALSE),0) -> 0 | H13: =IFERROR(VLOOKUP(C13,'פילוח 10-2020'!A:E,3,FALSE),0) -> 1.2 | I13: =IFERROR(VLOOKUP(C13,'פילוח 10-2020'!A:E,5,FALSE),0) -> 1.2 | J13: =I13-F13 -> 0
... A18: 1 | B18: ירושלים | C18: 173 | D18: מ.א באר טוביה | E18: 1 | F18: 1 | G18: =IFERROR(VLOOKUP(C18,'פילוח 10-2020'!A:E,2,FALSE),0) -> 0 | H18: =IFERROR(VLOOKUP(C18,'פילוח 10-2020'!A:E,3,FALSE),0) -> 1 | I18: =IFERROR(VLOOKUP(C18,'פילוח 10-2020'!A:E,5,FALSE),0) -> 1 | J18: =I18-F18 -> 0
A19: 1 | B19: ירושלים | C19: 174 | D19: מ.א שפיר | E19: 0.33 | G19: =IFERROR(VLOOKUP(C19,'פילוח 10-2020'!A:E,2,FALSE),0) -> 0 | H19: =IFERROR(VLOOKUP(C19,'פילוח 10-2020'!A:E,3,FALSE),0) -> 0 | I19: =IFERROR(VLOOKUP(C19,'פילוח 10-2020'!A:E,5,FALSE),0) -> 0 | J19: =I19-F19 -> 0
A20: 1 | B20: ירושלים | C20: 178 | D20: מ.א מטה בנימין | E20: 1.25 | F20: 1.25 | G20: =IFERROR(VLOOKUP(C20,'פילוח 10-2020'!A:E,2,FALSE),0) -> 0 | H20: =IFERROR(VLOOKUP(C20,'פילוח 10-2020'!A:E,3,FALSE),0) -> 1.25 | I20: =IFERROR(VLOOKUP(C20,'פילוח 10-2020'!A:E,5,FALSE),0) -> 1.25 | J20: =I20-F20 -> 0
A21: 1 | B21: ירושלים | C21: 184 | D21: מ.א גוש עציון | E21: 0.5 | F21: 0.5 | G21: =IFERROR(VLOOKUP(C21,'פילוח 10-2020'!A:E,2,FALSE),0) -> 0 | H21: =IFERROR(VLOOKUP(C21,'פילוח 10-2020'!A:E,3,FALSE),0) -> 0.5 | I21: =IFERROR(VLOOKUP(C21,'פילוח 10-2020'!A:E,5,FALSE),0) -> 0.5 | J21: =I21-F21 -> 0
A22: 1 | B22: ירושלים | C22: 186 | D22: מ.א ערבות הירדן | E22: 0.33 | F22: 0.33 | G22: =IFERROR(VLOOKUP(C22,'פילוח 10-2020'!A:E,2,FALSE),0) -> 0 | H22: =IFERROR(VLOOKUP(C22,'פילוח 10-2020'!A:E,3,FALSE),0) -> 0.33 | I22: =IFERROR(VLOOKUP(C22,'פילוח 10-2020'!A:E,5,FALSE),0) -> 0.33 | J22: =I22-F22 -> 0
A23: 2 | B23: תל - אביב | C23: 300 | D23: ע. בני ברק | E23: 9.47 | F23: 8.81 | G23: =IFERROR(VLOOKUP(C23,'פילוח 10-2020'!A:E,2,FALSE),0) -> 1.05 | H23: =IFERROR(VLOOKUP(C23,'פילוח 10-2020'!A:E,3,FALSE),0) -> 7.76 | I23: =IFERROR(VLOOKUP(C23,'פילוח 10-2020'!A:E,5,FALSE),0) -> 8.81 | J23: =I23-F23 -> 0
A24: 2 | B24: תל - אביב | C24: 301 | D24: ע. בת ים | E24: 2.5 | F24: 1.75 | G24: =IFERROR(VLOOKUP(C24,'פילוח 10-2020'!A:E,2,FALSE),0) -> 1 | H24: =IFERROR(VLOOKUP(C24,'פילוח 10-2020'!A:E,3,FALSE),0) -> 0.75 | I24: =IFERROR(VLOOKUP(C24,'פילוח 10-2020'!A:E,5,FALSE),0) -> 1.75 | J24: =I24-F24 -> 0
A25: 2 | B25: תל - אביב | C25: 302 | D25: ע. גבעתיים | E25: 2 | F25: 2 | G25: =IFERROR(VLOOKUP(C25,'פילוח 10-2020'!A:E,2,FALSE),0) -> 0 | H25: =IFERROR(VLOOKUP(C25,'פילוח 10-2020'!A:E,3,FALSE),0) -> 2 | I25: =IFERROR(VLOOKUP(C25,'פילוח 10-2020'!A:E,5,FALSE),0) -> 2 | J25: =I25-F25 -> 0
A26: 2 | B26: תל - אביב | C26: 303 | D26: ע. הרצליה | E26: 2.75 | F26: 2.45 | G26: =IFERROR(VLOOKUP(C26,'פילוח 10-2020'!A:E,2,FALSE),0) -> 0 | H26: =IFERROR(VLOOKUP(C26,'פילוח 10-2020'!A:E,3,FALSE),0)-J26 -> 2.45 | I26: =IFERROR(VLOOKUP(C26,'פילוח 10-2020'!A:E,5,FALSE),0) -> 3.45 | J26: =I26-F26 -> 1
A27: 2 | B27: תל - אביב | C27: 304 | D27: ע. חולון | E27: 4.15 | F27: 4.15 | G27: =IFERROR(VLOOKUP(C27,'פילוח 10-2020'!A:E,2,FALSE),0) -> 0 | H27: =IFERROR(VLOOKUP(C27,'פילוח 10-2020'!A:E,3,FALSE),0) -> 4.15 | I27: =IFERROR(VLOOKUP(C27,'פילוח 10-2020'!A:E,5,FALSE),0) -> 4.15 | J27: =I27-F27 -> 0
A28: 2 | B28: תל - אביב | C28: 305 | D28: ע. כפר סבא | E28: 3.56 | F28: 3.16 | G28: =IFERROR(VLOOKUP(C28,'פילוח 10-2020'!A:E,2,FALSE),0) -> 0 | H28: =IFERROR(VLOOKUP(C28,'פילוח 10-2020'!A:E,3,FALSE),0) -> 3.16 | I28: =IFERROR(VLOOKUP(C28,'פילוח 10-2020'!A:E,5,FALSE),0) -> 3.16 | J28: =I28-F28 -> 0
A29: 2 | B29: תל - אביב | C29: 306 | D29: ע. לוד | E29: 1.5 | F29: 1.5 | G29: =IFERROR(VLOOKUP(C29,'פילוח 10-2020'!A:E,2,FALSE),0) -> 0 | H29: =IFERROR(VLOOKUP(C29,'פילוח 10-2020'!A:E,3,FALSE),0) -> 1.5 | I29: =IFERROR(VLOOKUP(C29,'פילוח 10-2020'!A:E,5,FALSE),0) -> 1.5 | J29: =I29-F29 -> 0
A30: 2 | B30: תל - אביב | C30: 307 | D30: ע. נתניה | E30: 4 | F30: 4 | G30: =IFERROR(VLOOKUP(C30,'פילוח 10-2020'!A:E,2,FALSE),0) -> 0.75 | H30: =IFERROR(VLOOKUP(C30,'פילוח 10-2020'!A:E,3,FALSE),0) -> 3.25 | I30: =IFERROR(VLOOKUP(C30,'פילוח 10-2020'!A:E,5,FALSE),0) -> 4 | J30: =I30-F30 -> 0
A31: 2 | B31: תל - אביב | C31: 308 | D31: ע. פתח תקוה | E31: 5.75 | F31: 5.75 | G31: =IFERROR(VLOOKUP(C31,'פילוח 10-2020'!A:E,2,FALSE),0) -> 0.85 | H31: =IFERROR(VLOOKUP(C31,'פילוח 10-2020'!A:E,3,FALSE),0) -> 4.9 | I31: =IFERROR(VLOOKUP(C31,'פילוח 10-2020'!A:E,5,FALSE),0) -> 5.75 | J31: =I31-F31 -> 0
A32: 2 | B32: תל - אביב | C32: 309 | D32: ע. ראשל"צ | E32: 7 | F32: 7 | G32: =IFERROR(VLOOKUP(C32,'פילוח 10-2020'!A:E,2,FALSE),0) -> 0 | H32: =IFERROR(VLOOKUP(C32,'פילוח 10-2020'!A:E,3,FALSE),0) -> 7 | I32: =IFERROR(VLOOKUP(C32,'פילוח 10-2020'!A:E,5,FALSE),0) -> 7 | J32: =I32-F32 -> 0
A33: 2 | B33: תל - אביב | C33: 310 | D33: ע. רחובות | E33: 4.25 | F33: 4.12 | G33: =IFERROR(VLOOKUP(C33,'פילוח 10-2020'!A:E,2,FALSE),0) -> 0.75 | H33: =IFERROR(VLOOKUP(C33,'פילוח 10-2020'!A:E,3,FALSE),0) -> 3.37 | I33: =IFERROR(VLOOKUP(C33,'פילוח 10-2020'!A:E,5,FALSE),0) -> 4.12 | J33: =I33-F33 -> 0
A34: 2 | B34: תל - אביב | C34: 311 | D34: ע. רמלה | E34: 2.5 | F34: 1.75 | G34: =IFERROR(VLOOKUP(C34,'פילוח 10-2020'!A:E,2,FALSE),0) -> 0 | H34: =IFERROR(VLOOKUP(C34,'פילוח 10-2020'!A:E,3,FALSE),0) -> 1.75 | I34: =IFERROR(VLOOKUP(C34,'פילוח 10-2020'!A:E,5,FALSE),0) -> 1.75 | J34: =I34-F34 -> 0
A35: 2 | B35: תל - אביב | C35: 312 | D35: ע. רמת גן | E35: 3.75 | F35: 3.75 | G35: =IFERROR(VLOOKUP(C35,'פילוח 10-2020'!A:E,2,FALSE),0) -> 0 | H35: =IFERROR(VLOOKUP(C35,'פילוח 10-2020'!A:E,3,FALSE),0) -> 3.75 | I35: =IFERROR(VLOOKUP(C35,'פילוח 10-2020'!A:E,5,FALSE),0) -> 3.75 | J35: =I35-F35 -> 0
A36: 2 | B36: תל - אביב | C36: 313 | D36: ע. תל אביב | E36: 7 | F36: 7 | G36: =IFERROR(VLOOKUP(C36,'פילוח 10-2020'!A:E,2,FALSE),0) -> 0 | H36: =IFERROR(VLOOKUP(C36,'פילוח 10-2020'!A:E,3,FALSE),0) -> 7 | I36: =IFERROR(VLOOKUP(C36,'פילוח 10-2020'!A:E,5,FALSE),0) -> 7 | J36: =I36-F36 -> 0
A37: 2 | B37: תל - אביב | C37: 320 | D37: מ.מ אבןיהודה | E37: 0.33 | F37: 0.33 | G37: =IFERROR(VLOOKUP(C37,'פילוח 10-2020'!A:E,2,FALSE),0) -> 0 | H37: =IFERROR(VLOOKUP(C37,'פילוח 10-2020'!A:E,3,FALSE),0) -> 0.33 | I37: =IFERROR(VLOOKUP(C37,'פילוח 10-2020'!A:E,5,FALSE),0) -> 0.33 | J37: =I37-F37 -> 0
A38: 2 | B38: תל - אביב | C38: 321 | D38: מ.מ אזור | E38: 0.33 | F38: 0.33 | G38: =IFERROR(VLOOKUP(C38,'פילוח 10-2020'!A:E,2,FALSE),0) -> 0 | H38: =IFERROR(VLOOKUP(C38,'פילוח 10-2020'!A:E,3,FALSE),0) -> 0.33 | I38: =IFERROR(VLOOKUP(C38,'פילוח 10-2020'!A:E,5,FALSE),0) -> 0.33 | J38: =I38-F38 -> 0
... A48: 2 | B48: תל - אביב | C48: 331 | D48: מ.מ כפר יונה | E48: 0.5 | F48: 0.5 | G48: =IFERROR(VLOOKUP(C48,'פילוח 10-2020'!A:E,2,FALSE),0) -> 0 | H48: =IFERROR(VLOOKUP(C48,'פילוח 10-2020'!A:E,3,FALSE),0) -> 0.5 | I48: =IFERROR(VLOOKUP(C48,'פילוח 10-2020'!A:E,5,FALSE),0) -> 0.5 | J48: =I48-F48 -> 0
A49: 2 | B49: תל - אביב | C49: 332 | D49: מ.מ ק עקרון | E49: 0.75 | G49: =IFERROR(VLOOKUP(C49,'פילוח 10-2020'!A:E,2,FALSE),0) -> 0 | H49: =IFERROR(VLOOKUP(C49,'פילוח 10-2020'!A:E,3,FALSE),0) -> 0 | I49: =IFERROR(VLOOKUP(C49,'פילוח 10-2020'!A:E,5,FALSE),0) -> 0 | J49: =I49-F49 -> 0
A50: 2 | B50: תל - אביב | C50: 334 | D50: מ.מ מזכרת בתיה | E50: 0.33 | F50: 0.33 | G50: =IFERROR(VLOOKUP(C50,'פילוח 10-2020'!A:E,2,FALSE),0) -> 0 | H50: =IFERROR(VLOOKUP(C50,'פילוח 10-2020'!A:E,3,FALSE),0) -> 0.33 | I50: =IFERROR(VLOOKUP(C50,'פילוח 10-2020'!A:E,5,FALSE),0) -> 0.33 | J50: =I50-F50 -> 0
A51: 2 | B51: תל - אביב | C51: 337 | D51: ע. נס ציונה | E51: 1.5 | F51: 0.7 | G51: =IFERROR(VLOOKUP(C51,'פילוח 10-2020'!A:E,2,FALSE),0) -> 0 | H51: =IFERROR(VLOOKUP(C51,'פילוח 10-2020'!A:E,3,FALSE),0) -> 0.7 | I51: =IFERROR(VLOOKUP(C51,'פילוח 10-2020'!A:E,5,FALSE),0) -> 0.7 | J51: =I51-F51 -> 0
A52: 2 | B52: תל - אביב | C52: 338 | D52: מ.מ פרדסיה | E52: 0.33 | F52: 0.33 | G52: =IFERROR(VLOOKUP(C52,'פילוח 10-2020'!A:E,2,FALSE),0) -> 0 | H52: =IFERROR(VLOOKUP(C52,'פילוח 10-2020'!A:E,3,FALSE),0) -> 0.33 | I52: =IFERROR(VLOOKUP(C52,'פילוח 10-2020'!A:E,5,FALSE),0) -> 0.33 | J52: =I52-F52 -> 0
A53: 2 | B53: תל - אביב | C53: 339 | D53: מ.מ קדימה-צורן | E53: 0.83 | F53: 0.83 | G53: =IFERROR(VLOOKUP(C53,'פילוח 10-2020'!A:E,2,FALSE),0) -> 0 | H53: =IFERROR(VLOOKUP(C53,'פילוח 10-2020'!A:E,3,FALSE),0) -> 0.83 | I53: =IFERROR(VLOOKUP(C53,'פילוח 10-2020'!A:E,5,FALSE),0) -> 0.83 | J53: =I53-F53 -> 0
A54: 2 | B54: תל - אביב | C54: 340 | D54: ע. ק.אונו | E54: 0.75 | F54: 0.75 | G54: =IFERROR(VLOOKUP(C54,'פילוח 10-2020'!A:E,2,FALSE),0) -> 0.75 | H54: =IFERROR(VLOOKUP(C54,'פילוח 10-2020'!A:E,3,FALSE),0) -> 0 | I54: =IFERROR(VLOOKUP(C54,'פילוח 10-2020'!A:E,5,FALSE),0) -> 0.75 | J54: =I54-F54 -> 0
A55: 2 | B55: תל - אביב | C55: 341 | D55: ע. רמת השרון | E55: 1 | F55: 1 | G55: =IFERROR(VLOOKUP(C55,'פילוח 10-2020'!A:E,2,FALSE),0) -> 0 | H55: =IFERROR(VLOOKUP(C55,'פילוח 10-2020'!A:E,3,FALSE),0) -> 1 | I55: =IFERROR(VLOOKUP(C55,'פילוח 10-2020'!A:E,5,FALSE),0) -> 1 | J55: =I55-F55 -> 0
A56: 2 | B56: תל - אביב | C56: 342 | D56: ע. מודיעין-מ.רעות | E56: 2.5 | F56: 2.5 | G56: =IFERROR(VLOOKUP(C56,'פילוח 10-2020'!A:E,2,FALSE),0) -> 0 | H56: =IFERROR(VLOOKUP(C56,'פילוח 10-2020'!A:E,3,FALSE),0) -> 2.5 | I56: =IFERROR(VLOOKUP(C56,'פילוח 10-2020'!A:E,5,FALSE),0) -> 2.5 | J56: =I56-F56 -> 0
A57: 2 | B57: תל - אביב | C57: 343 | D57: ע. רעננה | E57: 2.5 | F57: 2.5 | G57: =IFERROR(VLOOKUP(C57,'פילוח 10-2020'!A:E,2,FALSE),0) -> 0 | H57: =IFERROR(VLOOKUP(C57,'פילוח 10-2020'!A:E,3,FALSE),0) -> 2.5 | I57: =IFERROR(VLOOKUP(C57,'פילוח 10-2020'!A:E,5,FALSE),0) -> 2.5 | J57: =I57-F57 -> 0
A58: 2 | B58: תל - אביב | C58: 344 | D58: מ.מ תל מונד | E58: 0.33 | F58: 0.33 | G58: =IFERROR(VLOOKUP(C58,'פילוח 10-2020'!A:E,2,FALSE),0) -> 0 | H58: =IFERROR(VLOOKUP(C58,'פילוח 10-2020'!A:E,3,FALSE),0) -> 0.33 | I58: =IFERROR(VLOOKUP(C58,'פילוח 10-2020'!A:E,5,FALSE),0) -> 0.33 | J58: =I58-F58 -> 0
A59: 2 | B59: תל - אביב | C59: 345 | D59: מ.מ בני עייש | E59: 0.33 | F59: 0.33 | G59: =IFERROR(VLOOKUP(C59,'פילוח 10-2020'!A:E,2,FALSE),0) -> 0 | H59: =IFERROR(VLOOKUP(C59,'פילוח 10-2020'!A:E,3,FALSE),0) -> 0.33 | I59: =IFERROR(VLOOKUP(C59,'פילוח 10-2020'!A:E,5,FALSE),0) -> 0.33 | J59: =I59-F59 -> 0
A60: 2 | B60: תל - אביב | C60: 346 | D60: מ.מ גני תקוה | E60: 0.5 | F60: 0.5 | G60: =IFERROR(VLOOKUP(C60,'פילוח 10-2020'!A:E,2,FALSE),0) -> 0 | H60: =IFERROR(VLOOKUP(C60,'פילוח 10-2020'!A:E,3,FALSE),0) -> 0.5 | I60: =IFERROR(VLOOKUP(C60,'פילוח 10-2020'!A:E,5,FALSE),0) -> 0.5 | J60: =I60-F60 -> 0
A61: 2 | B61: תל - אביב | C61: 347 | D61: ע. אור יהודה | E61: 2 | F61: 1.7 | G61: =IFERROR(VLOOKUP(C61,'פילוח 10-2020'!A:E,2,FALSE),0) -> 0.15 | H61: =IFERROR(VLOOKUP(C61,'פילוח 10-2020'!A:E,3,FALSE),0) -> 1.55 | I61: =IFERROR(VLOOKUP(C61,'פילוח 10-2020'!A:E,5,FALSE),0) -> 1.7 | J61: =I61-F61 -> 0
... A80: 2 | B80: תל - אביב | C80: 421 | D80: ע. טייבה | E80: 0.33 | F80: 0.33 | G80: =IFERROR(VLOOKUP(C80,'פילוח 10-2020'!A:E,2,FALSE),0) -> 0 | H80: =IFERROR(VLOOKUP(C80,'פילוח 10-2020'!A:E,3,FALSE),0) -> 0.33 | I80: =IFERROR(VLOOKUP(C80,'פילוח 10-2020'!A:E,5,FALSE),0) -> 0.33 | J80: =I80-F80 -> 0
A81: 2 | B81: תל - אביב | C81: 422 | D81: ע. טירה | E81: 0.33 | G81: =IFERROR(VLOOKUP(C81,'פילוח 10-2020'!A:E,2,FALSE),0) -> 0 | H81: =IFERROR(VLOOKUP(C81,'פילוח 10-2020'!A:E,3,FALSE),0) -> 0 | I81: =IFERROR(VLOOKUP(C81,'פילוח 10-2020'!A:E,5,FALSE),0) -> 0 | J81: =I81-F81 -> 0
A82: 2 | B82: תל - אביב | C82: 424 | D82: ע. כפר קאסם | E82: 0.33 | F82: 0.33 | G82: =IFERROR(VLOOKUP(C82,'פילוח 10-2020'!A:E,2,FALSE),0) -> 0 | H82: =IFERROR(VLOOKUP(C82,'פילוח 10-2020'!A:E,3,FALSE),0) -> 0.33 | I82: =IFERROR(VLOOKUP(C82,'פילוח 10-2020'!A:E,5,FALSE),0) -> 0.33 | J82: =I82-F82 -> 0
A83: 2 | B83: תל - אביב | C83: 425 | D83: ע. קלנסואה | E83: 0.33 | F83: 0.33 | G83: =IFERROR(VLOOKUP(C83,'פילוח 10-2020'!A:E,2,FALSE),0) -> 0 | H83: =IFERROR(VLOOKUP(C83,'פילוח 10-2020'!A:E,3,FALSE),0) -> 0.33 | I83: =IFERROR(VLOOKUP(C83,'פילוח 10-2020'!A:E,5,FALSE),0) -> 0.33 | J83: =I83-F83 -> 0
A84: 2 | B84: תל - אביב | C84: 426 | D84: מ.מ זמר | E84: 0.4 | F84: 0.25 | G84: =IFERROR(VLOOKUP(C84,'פילוח 10-2020'!A:E,2,FALSE),0) -> 0 | H84: =IFERROR(VLOOKUP(C84,'פילוח 10-2020'!A:E,3,FALSE),0) -> 0.25 | I84: =IFERROR(VLOOKUP(C84,'פילוח 10-2020'!A:E,5,FALSE),0) -> 0.25 | J84: =I84-F84 -> 0
A85: 3 | B85: חיפה | C85: 500 | D85: ע. חדרה | E85: 2 | F85: 2 | G85: =IFERROR(VLOOKUP(C85,'פילוח 10-2020'!A:E,2,FALSE),0) -> 0 | H85: =IFERROR(VLOOKUP(C85,'פילוח 10-2020'!A:E,3,FALSE),0) -> 2 | I85: =IFERROR(VLOOKUP(C85,'פילוח 10-2020'!A:E,5,FALSE),0) -> 2 | J85: =I85-F85 -> 0
A86: 3 | B86: חיפה | C86: 501 | D86: ע.חיפה | E86: 7.25 | F86: 7.25 | G86: =IFERROR(VLOOKUP(C86,'פילוח 10-2020'!A:E,2,FALSE),0) -> 0 | H86: =IFERROR(VLOOKUP(C86,'פילוח 10-2020'!A:E,3,FALSE),0) -> 7.25 | I86: =IFERROR(VLOOKUP(C86,'פילוח 10-2020'!A:E,5,FALSE),0) -> 7.25 | J86: =I86-F86 -> 0
A87: 3 | B87: חיפה | C87: 502 | D87: ע. טבריה | E87: 1.49 | F87: 1.49 | G87: =IFERROR(VLOOKUP(C87,'פילוח 10-2020'!A:E,2,FALSE),0) -> 0 | H87: =IFERROR(VLOOKUP(C87,'פילוח 10-2020'!A:E,3,FALSE),0) -> 1.49 | I87: =IFERROR(VLOOKUP(C87,'פילוח 10-2020'!A:E,5,FALSE),0) -> 1.49 | J87: =I87-F87 -> 0
A88: 3 | B88: חיפה | C88: 503 | D88: ע. נהריה | E88: 1.75 | F88: 1.75 | G88: =IFERROR(VLOOKUP(C88,'פילוח 10-2020'!A:E,2,FALSE),0) -> 0 | H88: =IFERROR(VLOOKUP(C88,'פילוח 10-2020'!A:E,3,FALSE),0) -> 1.75 | I88: =IFERROR(VLOOKUP(C88,'פילוח 10-2020'!A:E,5,FALSE),0) -> 1.75 | J88: =I88-F88 -> 0
A89: 3 | B89: חיפה | C89: 504 | D89: ע. עכו | E89: 1.75 | F89: 1.63 | G89: =IFERROR(VLOOKUP(C89,'פילוח 10-2020'!A:E,2,FALSE),0) -> 0 | H89: =IFERROR(VLOOKUP(C89,'פילוח 10-2020'!A:E,3,FALSE),0) -> 1.63 | I89: =IFERROR(VLOOKUP(C89,'פילוח 10-2020'!A:E,5,FALSE),0) -> 1.63 | J89: =I89-F89 -> 0
A90: 3 | B90: חיפה | C90: 505 | D90: ע. צפת | E90: 0.33 | F90: 0.25 | G90: =IFERROR(VLOOKUP(C90,'פילוח 10-2020'!A:E,2,FALSE),0) -> 0 | H90: =IFERROR(VLOOKUP(C90,'פילוח 10-2020'!A:E,3,FALSE),0) -> 0.25 | I90: =IFERROR(VLOOKUP(C90,'פילוח 10-2020'!A:E,5,FALSE),0) -> 0.25 | J90: =I90-F90 -> 0
A91: 3 | B91: חיפה | C91: 506 | D91: ע. ק.אתא | E91: 1 | F91: 1 | G91: =IFERROR(VLOOKUP(C91,'פילוח 10-2020'!A:E,2,FALSE),0) -> 0 | H91: =IFERROR(VLOOKUP(C91,'פילוח 10-2020'!A:E,3,FALSE),0) -> 1 | I91: =IFERROR(VLOOKUP(C91,'פילוח 10-2020'!A:E,5,FALSE),0) -> 1 | J91: =I91-F91 -> 0
A92: 3 | B92: חיפה | C92: 507 | D92: ע. עפולה | E92: 1.33 | F92: 1 | G92: =IFERROR(VLOOKUP(C92,'פילוח 10-2020'!A:E,2,FALSE),0) -> 0 | H92: =IFERROR(VLOOKUP(C92,'פילוח 10-2020'!A:E,3,FALSE),0) -> 1 | I92: =IFERROR(VLOOKUP(C92,'פילוח 10-2020'!A:E,5,FALSE),0) -> 1 | J92: =I92-F92 -> 0
A93: 3 | B93: חיפה | C93: 520 | D93: ע. אור עקיבא | E93: 0.33 | F93: 0.33 | G93: =IFERROR(VLOOKUP(C93,'פילוח 10-2020'!A:E,2,FALSE),0) -> 0 | H93: =IFERROR(VLOOKUP(C93,'פילוח 10-2020'!A:E,3,FALSE),0) -> 0.33 | I93: =IFERROR(VLOOKUP(C93,'פילוח 10-2020'!A:E,5,FALSE),0) -> 0.33 | J93: =I93-F93 -> 0
... A100: 3 | B100: חיפה | C100: 535 | D100: ע. נוף הגליל | E100: 0.33 | F100: 0.33 | G100: =IFERROR(VLOOKUP(C100,'פילוח 10-2020'!A:E,2,FALSE),0) -> 0 | H100: =IFERROR(VLOOKUP(C100,'פילוח 10-2020'!A:E,3,FALSE),0) -> 0.33 | I100: =IFERROR(VLOOKUP(C100,'פילוח 10-2020'!A:E,5,FALSE),0) -> 0.33 | J100: =I100-F100 -> 0
A101: 3 | B101: חיפה | C101: 536 | D101: ע. נשר | E101: 0.33 | F101: 0.33 | G101: =IFERROR(VLOOKUP(C101,'פילוח 10-2020'!A:E,2,FALSE),0) -> 0.33 | H101: =IFERROR(VLOOKUP(C101,'פילוח 10-2020'!A:E,3,FALSE),0)-J101 -> 0 | I101: =IFERROR(VLOOKUP(C101,'פילוח 10-2020'!A:E,5,FALSE),0) -> 0.66 | J101: =I101-F101 -> 0.33
A102: 3 | B102: חיפה | C102: 539 | D102: מ.מ פרדס חנה | E102: 0.5 | F102: 0.5 | G102: =IFERROR(VLOOKUP(C102,'פילוח 10-2020'!A:E,2,FALSE),0) -> 0 | H102: =IFERROR(VLOOKUP(C102,'פילוח 10-2020'!A:E,3,FALSE),0) -> 0.5 | I102: =IFERROR(VLOOKUP(C102,'פילוח 10-2020'!A:E,5,FALSE),0) -> 0.5 | J102: =I102-F102 -> 0
A103: 3 | B103: חיפה | C103: 540 | D103: ע. קרית ביאליק | E103: 1.25 | F103: 1.25 | G103: =IFERROR(VLOOKUP(C103,'פילוח 10-2020'!A:E,2,FALSE),0) -> 0 | H103: =IFERROR(VLOOKUP(C103,'פילוח 10-2020'!A:E,3,FALSE),0) -> 1.25 | I103: =IFERROR(VLOOKUP(C103,'פילוח 10-2020'!A:E,5,FALSE),0) -> 1.25 | J103: =I103-F103 -> 0
A104: 3 | B104: חיפה | C104: 542 | D104: מ.מ קרית טבעון | E104: 0.33 | F104: 0.33 | G104: =IFERROR(VLOOKUP(C104,'פילוח 10-2020'!A:E,2,FALSE),0) -> 0 | H104: =IFERROR(VLOOKUP(C104,'פילוח 10-2020'!A:E,3,FALSE),0) -> 0.33 | I104: =IFERROR(VLOOKUP(C104,'פילוח 10-2020'!A:E,5,FALSE),0) -> 0.33 | J104: =I104-F104 -> 0
A105: 3 | B105: חיפה | C105: 543 | D105: ע. קרית ים | E105: 1.5 | F105: 1.5 | G105: =IFERROR(VLOOKUP(C105,'פילוח 10-2020'!A:E,2,FALSE),0) -> 0 | H105: =IFERROR(VLOOKUP(C105,'פילוח 10-2020'!A:E,3,FALSE),0) -> 1.5 | I105: =IFERROR(VLOOKUP(C105,'פילוח 10-2020'!A:E,5,FALSE),0) -> 1.5 | J105: =I105-F105 -> 0
A106: 3 | B106: חיפה | C106: 544 | D106: ע. קרית מוצקין | E106: 2.15 | F106: 1.9 | G106: =IFERROR(VLOOKUP(C106,'פילוח 10-2020'!A:E,2,FALSE),0) -> 0 | H106: =IFERROR(VLOOKUP(C106,'פילוח 10-2020'!A:E,3,FALSE),0) -> 1.9 | I106: =IFERROR(VLOOKUP(C106,'פילוח 10-2020'!A:E,5,FALSE),0) -> 1.9 | J106: =I106-F106 -> 0
A107: 3 | B107: חיפה | C107: 545 | D107: ע. קרית שמונה | E107: 1.25 | F107: 1.25 | G107: =IFERROR(VLOOKUP(C107,'פילוח 10-2020'!A:E,2,FALSE),0) -> 0 | H107: =IFERROR(VLOOKUP(C107,'פילוח 10-2020'!A:E,3,FALSE),0) -> 1.25 | I107: =IFERROR(VLOOKUP(C107,'פילוח 10-2020'!A:E,5,FALSE),0) -> 1.25 | J107: =I107-F107 -> 0
A108: 3 | B108: חיפה | C108: 550 | D108: ע. מעלות תרשיחא | E108: 0.33 | F108: 0.33 | G108: =IFERROR(VLOOKUP(C108,'פילוח 10-2020'!A:E,2,FALSE),0) -> 0 | H108: =IFERROR(VLOOKUP(C108,'פילוח 10-2020'!A:E,3,FALSE),0) -> 0.33 | I108: =IFERROR(VLOOKUP(C108,'פילוח 10-2020'!A:E,5,FALSE),0) -> 0.33 | J108: =I108-F108 -> 0
A109: 3 | B109: חיפה | C109: 552 | D109: ע. כרמיאל | E109: 1.35 | F109: 1.35 | G109: =IFERROR(VLOOKUP(C109,'פילוח 10-2020'!A:E,2,FALSE),0) -> 0 | H109: =IFERROR(VLOOKUP(C109,'פילוח 10-2020'!A:E,3,FALSE),0) -> 1.35 | I109: =IFERROR(VLOOKUP(C109,'פילוח 10-2020'!A:E,5,FALSE),0) -> 1.35 | J109: =I109-F109 -> 0
A110: 3 | B110: חיפה | C110: 556 | D110: מ.מ כפר ורדים | E110: 0.33 | F110: 0.33 | G110: =IFERROR(VLOOKUP(C110,'פילוח 10-2020'!A:E,2,FALSE),0) -> 0 | H110: =IFERROR(VLOOKUP(C110,'פילוח 10-2020'!A:E,3,FALSE),0) -> 0.33 | I110: =IFERROR(VLOOKUP(C110,'פילוח 10-2020'!A:E,5,FALSE),0) -> 0.33 | J110: =I110-F110 -> 0
A111: 3 | B111: חיפה | C111: 561 | D111: מ.א עמק המעיינות | E111: 0.33 | F111: 0.33 | G111: =IFERROR(VLOOKUP(C111,'פילוח 10-2020'!A:E,2,FALSE),0) -> 0 | H111: =IFERROR(VLOOKUP(C111,'פילוח 10-2020'!A:E,3,FALSE),0) -> 0.33 | I111: =IFERROR(VLOOKUP(C111,'פילוח 10-2020'!A:E,5,FALSE),0) -> 0.33 | J111: =I111-F111 -> 0
A112: 3 | B112: חיפה | C112: 562 | D112: מ.א מטה אשר | E112: 0.83 | F112: 0.83 | G112: =IFERROR(VLOOKUP(C112,'פילוח 10-2020'!A:E,2,FALSE),0) -> 0 | H112: =IFERROR(VLOOKUP(C112,'פילוח 10-2020'!A:E,3,FALSE),0) -> 0.83 | I112: =IFERROR(VLOOKUP(C112,'פילוח 10-2020'!A:E,5,FALSE),0) -> 0.83 | J112: =I112-F112 -> 0
A113: 3 | B113: חיפה | C113: 563 | D113: מ.א גלבוע | E113: 0.33 | F113: 0.33 | G113: =IFERROR(VLOOKUP(C113,'פילוח 10-2020'!A:E,2,FALSE),0) -> 0 | H113: =IFERROR(VLOOKUP(C113,'פילוח 10-2020'!A:E,3,FALSE),0) -> 0.33 | I113: =IFERROR(VLOOKUP(C113,'פילוח 10-2020'!A:E,5,FALSE),0) -> 0.33 | J113: =I113-F113 -> 0
... A146: 4 | B146: דרום | C146: 133 | D146: מ.מ עומר | E146: 0.33 | F146: 0.33 | G146: =IFERROR(VLOOKUP(C146,'פילוח 10-2020'!A:E,2,FALSE),0) -> 0 | H146: =IFERROR(VLOOKUP(C146,'פילוח 10-2020'!A:E,3,FALSE),0) -> 0.33 | I146: =IFERROR(VLOOKUP(C146,'פילוח 10-2020'!A:E,5,FALSE),0) -> 0.33 | J146: =I146-F146 -> 0
A147: 4 | B147: דרום | C147: 143 | D147: מ.מ מיתר | E147: 0.33 | G147: =IFERROR(VLOOKUP(C147,'פילוח 10-2020'!A:E,2,FALSE),0) -> 0 | H147: =IFERROR(VLOOKUP(C147,'פילוח 10-2020'!A:E,3,FALSE),0) -> 0 | I147: =IFERROR(VLOOKUP(C147,'פילוח 10-2020'!A:E,5,FALSE),0) -> 0 | J147: =I147-F147 -> 0
A148: 4 | B148: דרום | C148: 145 | D148: מ.מ להבים | E148: 0.33 | F148: 0.33 | G148: =IFERROR(VLOOKUP(C148,'פילוח 10-2020'!A:E,2,FALSE),0) -> 0 | H148: =IFERROR(VLOOKUP(C148,'פילוח 10-2020'!A:E,3,FALSE),0) -> 0.33 | I148: =IFERROR(VLOOKUP(C148,'פילוח 10-2020'!A:E,5,FALSE),0) -> 0.33 | J148: =I148-F148 -> 0
A149: 4 | B149: דרום | C149: 161 | D149: מ.א בני שמעון | E149: 0.33 | F149: 0.33 | G149: =IFERROR(VLOOKUP(C149,'פילוח 10-2020'!A:E,2,FALSE),0) -> 0 | H149: =IFERROR(VLOOKUP(C149,'פילוח 10-2020'!A:E,3,FALSE),0) -> 0.33 | I149: =IFERROR(VLOOKUP(C149,'פילוח 10-2020'!A:E,5,FALSE),0) -> 0.33 | J149: =I149-F149 -> 0
A150: 4 | B150: דרום | C150: 165 | D150: מ.א אשכול | E150: 0.83 | F150: 0.83 | G150: =IFERROR(VLOOKUP(C150,'פילוח 10-2020'!A:E,2,FALSE),0) -> 0 | H150: =IFERROR(VLOOKUP(C150,'פילוח 10-2020'!A:E,3,FALSE),0) -> 0.83 | I150: =IFERROR(VLOOKUP(C150,'פילוח 10-2020'!A:E,5,FALSE),0) -> 0.83 | J150: =I150-F150 -> 0
A151: 4 | B151: דרום | C151: 166 | D151: מ.א חוף אשקלון | E151: 0.33 | F151: 0.33 | G151: =IFERROR(VLOOKUP(C151,'פילוח 10-2020'!A:E,2,FALSE),0) -> 0 | H151: =IFERROR(VLOOKUP(C151,'פילוח 10-2020'!A:E,3,FALSE),0) -> 0.33 | I151: =IFERROR(VLOOKUP(C151,'פילוח 10-2020'!A:E,5,FALSE),0) -> 0.33 | J151: =I151-F151 -> 0
A152: 4 | B152: דרום | C152: 169 | D152: מ.א מרחבים | E152: 0.33 | F152: 0.33 | G152: =IFERROR(VLOOKUP(C152,'פילוח 10-2020'!A:E,2,FALSE),0) -> 0 | H152: =IFERROR(VLOOKUP(C152,'פילוח 10-2020'!A:E,3,FALSE),0) -> 0.33 | I152: =IFERROR(VLOOKUP(C152,'פילוח 10-2020'!A:E,5,FALSE),0) -> 0.33 | J152: =I152-F152 -> 0
A153: 4 | B153: דרום | C153: 171 | D153: מ.א רמת הנגב | E153: 0.33 | F153: 0.33 | G153: =IFERROR(VLOOKUP(C153,'פילוח 10-2020'!A:E,2,FALSE),0) -> 0 | H153: =IFERROR(VLOOKUP(C153,'פילוח 10-2020'!A:E,3,FALSE),0) -> 0.33 | I153: =IFERROR(VLOOKUP(C153,'פילוח 10-2020'!A:E,5,FALSE),0) -> 0.33 | J153: =I153-F153 -> 0
A154: 4 | B154: דרום | C154: 172 | D154: מ.א שער הנגב | E154: 0.33 | F154: 0.33 | G154: =IFERROR(VLOOKUP(C154,'פילוח 10-2020'!A:E,2,FALSE),0) -> 0 | H154: =IFERROR(VLOOKUP(C154,'פילוח 10-2020'!A:E,3,FALSE),0) -> 0.33 | I154: =IFERROR(VLOOKUP(C154,'פילוח 10-2020'!A:E,5,FALSE),0) -> 0.33 | J154: =I154-F154 -> 0
A155: 4 | B155: דרום | C155: 221 | D155: ע. רהט | E155: 1.33 | F155: 0.83 | G155: =IFERROR(VLOOKUP(C155,'פילוח 10-2020'!A:E,2,FALSE),0) -> 0.33 | H155: =IFERROR(VLOOKUP(C155,'פילוח 10-2020'!A:E,3,FALSE),0) -> 0.5 | I155: =IFERROR(VLOOKUP(C155,'פילוח 10-2020'!A:E,5,FALSE),0) -> 0.83 | J155: =I155-F155 -> 0
A156: 4 | B156: דרום | C156: 222 | D156: מ.מ תל שבע | E156: 0.5 | G156: =IFERROR(VLOOKUP(C156,'פילוח 10-2020'!A:E,2,FALSE),0) -> 0 | H156: =IFERROR(VLOOKUP(C156,'פילוח 10-2020'!A:E,3,FALSE),0) -> 0 | I156: =IFERROR(VLOOKUP(C156,'פילוח 10-2020'!A:E,5,FALSE),0) -> 0 | J156: =I156-F156 -> 0
A157: 4 | B157: דרום | C157: 245 | D157: מ.א אל קאסום | E157: 0.5 | F157: 0.5 | G157: =IFERROR(VLOOKUP(C157,'פילוח 10-2020'!A:E,2,FALSE),0) -> 0.5 | H157: =IFERROR(VLOOKUP(C157,'פילוח 10-2020'!A:E,3,FALSE),0) -> 0 | I157: =IFERROR(VLOOKUP(C157,'פילוח 10-2020'!A:E,5,FALSE),0) -> 0.5 | J157: =I157-F157 -> 0
A158: 4 | B158: דרום | C158: 246 | D158: מ.א נווה מדבר | E158: 1 | F158: 1 | G158: =IFERROR(VLOOKUP(C158,'פילוח 10-2020'!A:E,2,FALSE),0) -> 0 | H158: =IFERROR(VLOOKUP(C158,'פילוח 10-2020'!A:E,3,FALSE),0) -> 1 | I158: =IFERROR(VLOOKUP(C158,'פילוח 10-2020'!A:E,5,FALSE),0) -> 1 | J158: =I158-F158 -> 0
E160: =SUM(E2:E159) -> 217.28 | F160: =SUM(F2:F159) -> 205.87 | G160: =SUM(G2:G159) -> 11.04 | H160: =SUM(H2:H159) -> 194.83 | I160: =SUM(I2:I159) -> 207.2 | J160: =SUM(J2:J159) -> 1.33

Sheet פילוח 10-2020
A3: סכום של חלקיות העסקה | B3: תוויות עמודה
A4: תוויות שורה | B4: גברים | C4: נשים | D4: (ריק) | E4: סכום כולל
A5: 100 | B5: 0.25 | C5: 1.5 | E5: 1.75
A6: 101 | B6: 1 | C6: 2.5 | E6: 3.5
A7: 102 | C7: 4.25 | E7: 4.25
A8: 103 | C8: 29.85 | E8: 29.85
A9: 104 | C9: 12.75 | E9: 12.75
A10: 105 | C10: 0.86 | E10: 0.86
A11: 106 | C11: 2.75 | E11: 2.75
A12: 120 | C12: 0.83 | E12: 0.83
A13: 121 | C13: 2.25 | E13: 2.25
A14: 123 | B14: 1 | E14: 1
A15: 124 | C15: 0.33 | E15: 0.33
A16: 125 | C16: 0.83 | E16: 0.83
A17: 127 | C17: 0.33 | E17: 0.33
A18: 128 | C18: 0.33 | E18: 0.33
A19: 129 | C19: 1.5 | E19: 1.5
A20: 130 | B20: 0.5 | C20: 0.5 | E20: 1
A21: 133 | C21: 0.33 | E21: 0.33
A22: 134 | C22: 0.33 | E22: 0.33
A23: 140 | C23: 0.5 | E23: 0.5
A24: 141 | C24: 0.33 | E24: 0.33
A25: 142 | C25: 0.33 | E25: 0.33
A26: 143
A27: 145 | C27: 0.33 | E27: 0.33
A28: 146 | C28: 1.25 | E28: 1.25
A29: 147 | C29: 1.2 | E29: 1.2
A30: 161 | C30: 0.33 | E30: 0.33
A31: 162 | C31: 0.33 | E31: 0.33
A32: 164 | C32: 0.5 | E32: 0.5
A33: 165 | C33: 0.83 | E33: 0.83
A34: 166 | C34: 0.33 | E34: 0.33
A35: 167 | C35: 0.33 | E35: 0.33
A36: 168 | C36: 0.33 | E36: 0.33
A37: 169 | C37: 0.33 | E37: 0.33
A38: 171 | C38: 0.33 | E38: 0.33
... A40: 173 | C40: 1 | E40: 1
A41: 174
A42: 178 | C42: 1.25 | E42: 1.25
A43: 184 | C43: 0.5 | E43: 0.5
A44: 186 | C44: 0.33 | E44: 0.33
A45: 221 | B45: 0.33 | C45: 0.5 | E45: 0.83
A46: 222
A47: 245 | B47: 0.5 | E47: 0.5
A48: 246 | C48: 1 | E48: 1
A49: 300 | B49: 1.05 | C49: 7.76 | E49: 8.81
A50: 301 | B50: 1 | C50: 0.75 | E50: 1.75
A51: 302 | C51: 2 | E51: 2
A52: 303 | C52: 3.45 | E52: 3.45
A53: 304 | C53: 4.15 | E53: 4.15
A54: 305 | C54: 3.16 | E54: 3.16
A55: 306 | C55: 1.5 | E55: 1.5
A56: 307 | B56: 0.75 | C56: 3.25 | E56: 4
A57: 308 | B57: 0.85 | C57: 4.9 | E57: 5.75
A58: 309 | C58: 7 | E58: 7
A59: 310 | B59: 0.75 | C59: 3.37 | E59: 4.12
A60: 311 | C60: 1.75 | E60: 1.75
A61: 312 | C61: 3.75 | E61: 3.75
A62: 313 | C62: 7 | E62: 7
A63: 320 | C63: 0.33 | E63: 0.33
A64: 321 | C64: 0.33 | E64: 0.33
A65: 322 | C65: 0.33 | E65: 0.33
A66: 323 | C66: 0.33 | E66: 0.33
A67: 324 | C67: 0.33 | E67: 0.33
A68: 325 | C68: 0.5 | E68: 0.5
A69: 326 | C69: 0.33 | E69: 0.33
A70: 327 | B70: 0.33 | E70: 0.33
A71: 328 | C71: 2 | E71: 2
A72: 329 | C72: 0.75 | E72: 0.75
A73: 330 | C73: 0.33 | E73: 0.33
A74: 331 | C74: 0.5 | E74: 0.5
A75: 332
A76: 334 | C76: 0.33 | E76: 0.33
A77: 337 | C77: 0.7 | E77: 0.7
A78: 338 | C78: 0.33 | E78: 0.33
A79: 339 | C79: 0.83 | E79: 0.83
A80: 340 | B80: 0.75 | E80: 0.75
A81: 341 | C81: 1 | E81: 1
A82: 342 | C82: 2.5 | E82: 2.5
A83: 343 | C83: 2.5 | E83: 2.5
A84: 344 | C84: 0.33 | E84: 0.33
A85: 345 | C85: 0.33 | E85: 0.33
A86: 346 | C86: 0.5 | E86: 0.5
A87: 347 | B87: 0.15 | C87: 1.55 | E87: 1.7
A88: 350 | C88: 0.33 | E88: 0.33
A89: 352 | C89: 0.33 | E89: 0.33
A90: 353 | C90: 0.33 | E90: 0.33
A91: 355 | C91: 0.33 | E91: 0.33
A92: 359 | C92: 2 | E92: 2
A93: 361 | C93: 0.33 | E93: 0.33
A94: 362 | C94: 0.33 | E94: 0.33
A95: 363 | C95: 0.5 | E95: 0.5
A96: 365 | C96: 0.33 | E96: 0.33
A97: 366 | B97: 0.5 | C97: 0.5 | E97: 1
A98: 368 | C98: 0.5 | E98: 0.5
A99: 370 | C99: 0.33 | E99: 0.33
A100: 371 | C100: 0.33 | E100: 0.33
A101: 374 | C101: 0.33 | E101: 0.33
A102: 375 | C102: 0.33 | E102: 0.33
A103: 377 | C103: 0.5 | E103: 0.5
...

Sheet פירוט 10-2020
A1: סמל מחוז | B1: מחוז | C1: סמל רשות | D1: שם הרשות | E1: סמל מחלקה | F1: תאור מחלקה | G1: מספר משרה | H1: סמל סיווג תקן | I1: סיווג מקצועי תקן | J1: סמל מימון | K1: מימון | L1: סמל סעיף תקציבי | M1: סעיף תקציבי | N1: סמל קבוצת תקן | O1: קבוצת תקן | P1: הסכמים מיוחדים | Q1: תז | R1: שם משפחה | S1: שם פרטי | T1: מין | U1: חלקיות תקן | V1: חלקיות העסקה | W1: סמל סיווג העובד | X1: סיווג העובד | Y1: סמל תוספת | Z1: סוג תוספת | AA1: סמל דרוג | AB1: דרוג | AC1: דרגה | AD1: גמול השתלמות | AE1: תאריך התחלה בתפקיד | AF1: תאריך התחלת העובד במשרה | AG1: תאריך סיום העובד במשרה | AH1: תאריך התחלה כרטיס עובד | AI1: תאריך סיום כרטיס עובד | AJ1: תאריך התחלת תקן | AK1: תאריך סיום תקן | AL1: סמל סיווג חדש | AM1: סיווג מקצועי חדש | AN1: חלקיות העסקה חדשה | AO1: תפקיד נוסף - למילוי
A2: 1 | B2: ירושלים | C2: 101 | D2: אשקלון | E2: 1010000 | F2: ע. אשקלון | G2: 40100 | H2: 63 | I2: מרכז נושא מוגבלויות | J2: 1 | K2: ע"ח המשרד | L2: 1 | M2: שכר עובדי המחלקה לש"ח | N2: 0 | P2: ללא הסכם מיוחד | Q2: 15857873 | R2: סרדם | S2: אנדריאה | T2: נשים | U2: 1 | V2: 1 | W2: 63 | X2: מרכז נושא מוגבלויות | Y2: 0 | AA2: 80 | AB2: עו"ס | AC2: 6 | AD2: 105 | AE2: 41548 | AF2: 41548 | AG2: 46843 | AH2: 33939 | AI2: 46843 | AJ2: 18629
A3: 1 | B3: ירושלים | C3: 101 | D3: אשקלון | E3: 1010000 | F3: ע. אשקלון | G3: 50200 | H3: 64 | I3: מרכז נושא שיקום | J3: 1 | K3: ע"ח המשרד | L3: 1 | M3: שכר עובדי המחלקה לש"ח | N3: 0 | P3: ללא הסכם מיוחד | Q3: 309855096 | R3: יצחק | S3: לאקהברהן | T3: גברים | U3: 1 | V3: 1 | W3: 64 | X3: מרכז נושא שיקום | Y3: 0 | AA3: 80 | AB3: עו"ס | AC3: 6 | AD3: 111 | AE3: 40238 | AF3: 40238 | AG3: 46752 | AH3: 36151 | AI3: 46752 | AJ3: 18629
A4: 1 | B4: ירושלים | C4: 101 | D4: אשקלון | E4: 1010110 | F4: ע.אשקלון צרכים מיוחד | G4: 120200 | H4: 120 | I4: עו"ס משפחה (כוללני) | J4: 1 | K4: ע"ח המשרד | L4: 1 | M4: שכר עובדי המחלקה לש"ח | N4: 8 | O4: עו"ס - אוטיסטים | P4: ללא הסכם מיוחד | Q4: 29359346 | R4: כהן | S4: ליז | T4: נשים | U4: 0.5 | V4: 0.5 | W4: 120 | X4: עו"ס משפחה (כוללני) | Y4: 0 | AA4: 80 | AB4: עו"ס | AC4: 1 | AE4: 43786 | AF4: 43786 | AG4: 44926 | AH4: 43786 | AI4: 49674 | AJ4: 42461
A5: 1 | B5: ירושלים | C5: 101 | D5: אשקלון | E5: 1010110 | F5: ע.אשקלון צרכים מיוחד | G5: 120300 | H5: 120 | I5: עו"ס משפחה (כוללני) | J5: 1 | K5: ע"ח המשרד | L5: 1 | M5: שכר עובדי המחלקה לש"ח | N5: 8 | O5: עו"ס - אוטיסטים | P5: ללא הסכם מיוחד | Q5: 309787885 | R5: ווסה | S5: אנייש | T5: נשים | U5: 1 | V5: 1 | W5: 120 | X5: עו"ס משפחה (כוללני) | Y5: 0 | AA5: 80 | AB5: עו"ס | AC5: 3 | AD5: 102 | AE5: 42522 | AF5: 43678 | AG5: 51501 | AH5: 40163 | AI5: 54057 | AJ5: 42461
A6: 1 | B6: ירושלים | C6: 103 | D6: ירושלים | E6: 1030000 | F6: ע. י-ם הנהלה | G6: 39210 | H6: 120 | I6: עו"ס משפחה (כוללני) | J6: 1 | K6: ע"ח המשרד | L6: 1 | M6: שכר עובדי המחלקה לש"ח | N6: 8 | O6: עו"ס - אוטיסטים | P6: ללא הסכם מיוחד | Q6: 24395592 | R6: כהן (גבאי) | S6: יעל | T6: נשים | U6: 0.25 | V6: 0.25 | W6: 120 | X6: עו"ס משפחה (כוללני) | Y6: 0 | AA6: 80 | AB6: עו"ס | AC6: 3 | AD6: 111 | AE6: 40483 | AF6: 43831 | AG6: 50009 | AH6: 35521 | AI6: 50009 | AJ6: 42461
A7: 1 | B7: ירושלים | C7: 103 | D7: ירושלים | E7: 1030030 | F7: ע. י-ם מ.שיקום | G7: 50 | H7: 63 | I7: מרכז נושא מוגבלויות | J7: 1 | K7: ע"ח המשרד | L7: 1 | M7: שכר עובדי המחלקה לש"ח | N7: 0 | P7: ללא הסכם מיוחד | Q7: 22076772 | R7: גרוס | S7: רונית | T7: נשים | U7: 0.75 | V7: 0.75 | W7: 63 | X7: מרכז נושא מוגבלויות | Y7: 0 | AA7: 80 | AB7: עו"ס | AC7: 6 | AD7: 111 | AE7: 43983 | AF7: 43983 | AG7: 47787 | AH7: 33204 | AI7: 47787 | AJ7: 18629
A8: 1 | B8: ירושלים | C8: 103 | D8: ירושלים | E8: 1030030 | F8: ע. י-ם מ.שיקום | G8: 100 | H8: 84 | I8: מנהל מדור שיקום | J8: 1 | K8: ע"ח המשרד | L8: 1 | M8: שכר עובדי המחלקה לש"ח | N8: 0 | P8: ללא הסכם מיוחד | Q8: 24531014 | R8: רחמים | S8: שרית | T8: נשים | U8: 1 | V8: 1 | W8: 84 | X8: מנהל מדור שיקום | Y8: 0 | AA8: 80 | AB8: עו"ס | AC8: 6 | AD8: 105 | AE8: 42795 | AF8: 42795 | AG8: 49278 | AH8: 34486 | AI8: 49278 | AJ8: 18629
A9: 1 | B9: ירושלים | C9: 103 | D9: ירושלים | E9: 1030030 | F9: ע. י-ם מ.שיקום | G9: 7500 | H9: 120 | I9: עו"ס משפחה (כוללני) | J9: 1 | K9: ע"ח המשרד | L9: 1 | M9: שכר עובדי המחלקה לש"ח | N9: 8 | O9: עו"ס - אוטיסטים | P9: ללא הסכם מיוחד | Q9: 66002254 | R9: אברהם | S9: שרון | T9: נשים | U9: 1 | V9: 0.2 | W9: 120 | X9: עו"ס משפחה (כוללני) | Y9: 0 | AA9: 80 | AB9: עו"ס | AC9: 3 | AD9: 102 | AE9: 40238 | AF9: 43983 | AG9: 54696 | AH9: 39744 | AI9: 44809 | AJ9: 42461
A10: 1 | B10: ירושלים | C10: 103 | D10: ירושלים | E10: 1030030 | F10: ע. י-ם מ.שיקום | G10: 7500 | H10: 120 | I10: עו"ס משפחה (כוללני) | J10: 1 | K10: ע"ח המשרד | L10: 1 | M10: שכר עובדי המחלקה לש"ח | N10: 8 | O10: עו"ס - אוטיסטים | P10: ללא הסכם מיוחד | Q10: 302547989 | R10: סויונוב | S10: מורן | T10: נשים | U10: 1 | V10: 0.8 | W10: 120 | X10: עו"ס משפחה (כוללני) | Y10: 0 | AA10: 80 | AB10: עו"ס | AC10: 3 | AD10: 136 | AE10: 43992 | AF10: 43992 | AG10: 57496 | AH10: 42764 | AI10: 57496 | AJ10: 42461
A11: 1 | B11: ירושלים | C11: 103 | D11: ירושלים | E11: 1030030 | F11: ע. י-ם מ.שיקום | G11: 10100 | H11: 140 | I11: עו"ס שיקום | J11: 1 | K11: ע"ח המשרד | L11: 1 | M11: שכר עובדי המחלקה לש"ח | N11: 0 | P11: ללא הסכם מיוחד | Q11: 56381825 | R11: נוימן | S11: יעל | T11: נשים | U11: 1 | V11: 1 | W11: 140 | X11: עו"ס שיקום | Y11: 0 | AA11: 80 | AB11: עו"ס | AC11: 3 | AD11: 110 | AE11: 37487 | AF11: 38353 | AG11: 45716 | AH11: 37196 | AI11: 45716 | AJ11: 18629
A12: 1 | B12: ירושלים | C12: 103 | D12: ירושלים | E12: 1030030 | F12: ע. י-ם מ.שיקום | G12: 10200 | H12: 140 | I12: עו"ס שיקום | J12: 1 | K12: ע"ח המשרד | L12: 1 | M12: שכר עובדי המחלקה לש"ח | N12: 0 | P12: ללא הסכם מיוחד | Q12: 13896949 | R12: צבע | S12: שרה | T12: נשים | U12: 0.5 | V12: 0.5 | W12: 140 | X12: עו"ס שיקום | Y12: 0 | AA12: 80 | AB12: עו"ס | AC12: 3 | AD12: 105 | AE12: 35065 | AF12: 38961 | AG12: 44279 | AH12: 29682 | AI12: 45016 | AJ12: 18629
A13: 1 | B13: ירושלים | C13: 103 | D13: ירושלים | E13: 1030030 | F13: ע. י-ם מ.שיקום | G13: 10300 | H13: 140 | I13: עו"ס שיקום | J13: 1 | K13: ע"ח המשרד | L13: 1 | M13: שכר עובדי המחלקה לש"ח | N13: 0 | P13: ללא הסכם מיוחד | Q13: 24395592 | R13: כהן (גבאי) | S13: יעל | T13: נשים | U13: 0.5 | V13: 0.25 | W13: 140 | X13: עו"ס שיקום | Y13: 0 | AA13: 80 | AB13: עו"ס | AC13: 3 | AD13: 111 | AE13: 43922 | AF13: 43922 | AG13: 50009 | AH13: 35521 | AI13: 50009 | AJ13: 18629
A14: 1 | B14: ירושלים | C14: 103 | D14: ירושלים | E14: 1030030 | F14: ע. י-ם מ.שיקום | G14: 10300 | H14: 140 | I14: עו"ס שיקום | J14: 1 | K14: ע"ח המשרד | L14: 1 | M14: שכר עובדי המחלקה לש"ח | N14: 0 | P14: ללא הסכם מיוחד | Q14: 305950388 | R14: בלפר | S14: גלינה | T14: נשים | U14: 0.5 | V14: 0.25 | W14: 120 | X14: עו"ס משפחה (כוללני) | Y14: 0 | AA14: 80 | AB14: עו"ס | AC14: 5 | AD14: 111 | AE14: 41699 | AF14: 43297 | AG14: 45961 | AH14: 35186 | AI14: 46660 | AJ14: 18629
A15: 1 | B15: ירושלים | C15: 103 | D15: ירושלים | E15: 1030030 | F15: ע. י-ם מ.שיקום | G15: 10400 | H15: 140 | I15: עו"ס שיקום | J15: 1 | K15: ע"ח המשרד | L15: 1 | M15: שכר עובדי המחלקה לש"ח | N15: 0 | P15: ללא הסכם מיוחד | Q15: 57154619 | R15: שרמן | S15: רונית | T15: נשים | U15: 0.25 | V15: 0.25 | W15: 120 | X15: עו"ס משפחה (כוללני) | Y15: 0 | AA15: 80 | AB15: עו"ס | AC15: 5 | AD15: 111 | AE15: 31594 | AF15: 43126 | AG15: 46265 | AH15: 31564 | AI15: 46996 | AJ15: 18629
A16: 1 | B16: ירושלים | C16: 103 | D16: ירושלים | E16: 1030030 | F16: ע. י-ם מ.שיקום | G16: 10500 | H16: 140 | I16: עו"ס שיקום | J16: 1 | K16: ע"ח המשרד | L16: 1 | M16: שכר עובדי המחלקה לש"ח | N16: 0 | P16: ללא הסכם מיוחד | Q16: 59839654 | R16: אדלר ארזי | S16: אורית | T16: נשים | U16: 1 | V16: 0.5 | W16: 140 | X16: עו"ס שיקום | Y16: 0 | AA16: 80 | AB16: עו"ס | AC16: 3 | AD16: 102 | AE16: 37956 | AF16: 39448 | AG16: 48579 | AH16: 37956 | AI16: 48579 | AJ16: 33786
A17: 1 | B17: ירושלים | C17: 103 | D17: ירושלים | E17: 1030030 | F17: ע. י-ם מ.שיקום | G17: 10500 | H17: 140 | I17: עו"ס שיקום | J17: 1 | K17: ע"ח המשרד | L17: 1 | M17: שכר עובדי המחלקה לש"ח | N17: 0 | P17: ללא הסכם מיוחד | Q17: 305950388 | R17: בלפר | S17: גלינה | T17: נשים | U17: 1 | V17: 0.5 | W17: 140 | X17: עו"ס שיקום | Y17: 0 | AA17: 80 | AB17: עו"ס | AC17: 5 | AD17: 111 | AE17: 39934 | AF17: 40063 | AG17: 45961 | AH17: 35186 | AI17: 46660 | AJ17: 33786
A18: 1 | B18: ירושלים | C18: 103 | D18: ירושלים | E18: 1030030 | F18: ע. י-ם מ.שיקום | G18: 10700 | H18: 140 | I18: עו"ס שיקום | J18: 1 | K18: ע"ח המשרד | L18: 1 | M18: שכר עובדי המחלקה לש"ח | N18: 0 | P18: ללא הסכם מיוחד | Q18: 33229915 | R18: סרי לוי | S18: יסכה | T18: נשים | U18: 1 | V18: 1 | W18: 140 | X18: עו"ס שיקום | Y18: 0 | AA18: 80 | AB18: עו"ס | AC18: 3 | AE18: 39904 | AF18: 41699 | AG18: 51774 | AH18: 39904 | AI18: 51774 | AJ18: 18629
A19: 1 | B19: ירושלים | C19: 103 | D19: ירושלים | E19: 1030030 | F19: ע. י-ם מ.שיקום | G19: 10800 | H19: 140 | I19: עו"ס שיקום | J19: 1 | K19: ע"ח המשרד | L19: 1 | M19: שכר עובדי המחלקה לש"ח | N19: 0 | P19: ללא הסכם מיוחד | Q19: 66002254 | R19: אברהם | S19: שרון | T19: נשים | U19: 0.5 | V19: 0.5 | W19: 140 | X19: עו"ס שיקום | Y19: 0 | AA19: 80 | AB19: עו"ס | AC19: 3 | AD19: 102 | AE19: 42795 | AF19: 43770 | AG19: 54696 | AH19: 39744 | AI19: 44809 | AJ19: 18629
A20: 1 | B20: ירושלים | C20: 103 | D20: ירושלים | E20: 1030030 | F20: ע. י-ם מ.שיקום | G20: 11000 | H20: 140 | I20: עו"ס שיקום | J20: 1 | K20: ע"ח המשרד | L20: 1 | M20: שכר עובדי המחלקה לש"ח | N20: 0 | P20: ללא הסכם מיוחד | Q20: 22218614 | R20: ידגר זייד | S20: אתי | T20: נשים | U20: 0.5 | V20: 0.5 | W20: 140 | X20: עו"ס שיקום | Y20: 0 | AA20: 80 | AB20: עו"ס | AC20: 3 | AD20: 104 | AE20: 38899 | AF20: 43374 | AG20: 47879 | AH20: 33604 | AI20: 47879 | AJ20: 18629
A21: 1 | B21: ירושלים | C21: 103 | D21: ירושלים | E21: 1030049 | F21: ע.לשכה שכונתית פ.זאב | G21: 17100 | H21: 120 | I21: עו"ס משפחה (כוללני) | J21: 1 | K21: ע"ח המשרד | L21: 1 | M21: שכר עובדי המחלקה לש"ח | N21: 8 | O21: עו"ס - אוטיסטים | P21: ללא הסכם מיוחד | Q21: 305189581 | R21: גזונד הייט | S21: נועה | T21: נשים | U21: 0.75 | V21: 0.75 | W21: 120 | X21: עו"ס משפחה (כוללני) | Y21: 0 | AA21: 80 | AB21: עו"ס | AC21: 1 | AE21: 44075 | AF21: 44075 | AG21: 44561 | AH21: 44075 | AI21: 44654 | AJ21: 42461
A22: 1 | B22: ירושלים | C22: 103 | D22: ירושלים | E22: 1030050 | F22: ע. ירושלים לשכת דרום | G22: 22100 | H22: 64 | I22: מרכז נושא שיקום | J22: 1 | K22: ע"ח המשרד | L22: 1 | M22: שכר עובדי המחלקה לש"ח | N22: 0 | P22: ללא הסכם מיוחד | Q22: 24828865 | R22: פלדמן (בן יהוד | S22: ענת | T22: נשים | U22: 0.9 | V22: 0.9 | W22: 64 | X22: מרכז נושא שיקום | Y22: 0 | AA22: 80 | AB22: עו"ס | AC22: 4 | AD22: 101 | AE22: 44010 | AF22: 44010 | AG22: 53539 | AH22: 42757 | AI22: 53539 | AJ22: 18629
A23: 1 | B23: ירושלים | C23: 103 | D23: ירושלים | E23: 1030050 | F23: ע. ירושלים לשכת דרום | G23: 30300 | H23: 120 | I23: עו"ס משפחה (כוללני) | J23: 1 | K23: ע"ח המשרד | L23: 1 | M23: שכר עובדי המחלקה לש"ח | N23: 8 | O23: עו"ס - אוטיסטים | P23: ללא הסכם מיוחד | Q23: 23713894 | R23: בנלולו | S23: דבורה | T23: נשים | U23: 0.5 | V23: 0.5 | W23: 120 | X23: עו"ס משפחה (כוללני) | Y23: 0 | AA23: 80 | AB23: עו"ס | AC23: 5 | AE23: 36647 | AF23: 43922 | AG23: 48760 | AH23: 36647 | AI23: 44196 | AJ23: 42461
A24: 1 | B24: ירושלים | C24: 103 | D24: ירושלים | E24: 1030050 | F24: ע. ירושלים לשכת דרום | G24: 60000 | H24: 140 | I24: עו"ס שיקום | J24: 1 | K24: ע"ח המשרד | L24: 1 | M24: שכר עובדי המחלקה לש"ח | N24: 0 | P24: ללא הסכם מיוחד | Q24: 300850971 | R24: לוי | S24: צילה | T24: נשים | U24: 0.25 | V24: 0.25 | W24: 140 | X24: עו"ס שיקום | Y24: 0 | AA24: 80 | AB24: עו"ס | AC24: 2 | AD24: 106 | AE24: 43061 | AF24: 43770 | AG24: 56461 | AH24: 43061 | AI24: 56461 | AJ24: 18629
A25: 1 | B25: ירושלים | C25: 103 | D25: ירושלים | E25: 1030050 | F25: ע. ירושלים לשכת דרום | G25: 60400 | H25: 140 | I25: עו"ס שיקום | J25: 1 | K25: ע"ח המשרד | L25: 1 | M25: שכר עובדי המחלקה לש"ח | N25: 0 | P25: ללא הסכם מיוחד | Q25: 13773841 | R25: ור | S25: אמי | T25: נשים | U25: 0.5 | V25: 0.5 | W25: 140 | X25: עו"ס שיקום | Y25: 0 | AA25: 80 | AB25: עו"ס | AC25: 5 | AD25: 106 | AE25: 43983 | AF25: 43983 | AG25: 47269 | AH25: 32966 | AI25: 47999 | AJ25: 42736
A26: 1 | B26: ירושלים | C26: 103 | D26: ירושלים | E26: 1030055 | F26: ע.י-ם צוות תלפ"ז | G26: 21500 | H26: 120 | I26: עו"ס משפחה (כוללני) | J26: 1 | K26: ע"ח המשרד | L26: 1 | M26: שכר עובדי המחלקה לש"ח | N26: 8 | O26: עו"ס - אוטיסטים | P26: ללא הסכם מיוחד | Q26: 311612592 | R26: עוזר | S26: דבורה | T26: נשים | U26: 0.5 | V26: 0.5 | W26: 120 | X26: עו"ס משפחה (כוללני) | Y26: 0 | AA26: 80 | AB26: עו"ס | AC26: 3 | AE26: 42723 | AF26: 42826 | AG26: 53296 | AH26: 42723 | AI26: 58806 | AJ26: 37773
A27: 1 | B27: ירושלים | C27: 103 | D27: ירושלים | E27: 1030056 | F27: ע. י-ם ל ד ש'גילה | G27: 23700 | H27: 120 | I27: עו"ס משפחה (כוללני) | J27: 1 | K27: ע"ח המשרד | L27: 1 | M27: שכר עובדי המחלקה לש"ח | N27: 8 | O27: עו"ס - אוטיסטים | P27: ללא הסכם מיוחד | Q27: 200188092 | R27: קוטלר | S27: נעמה | T27: נשים | U27: 0.5 | V27: 0.25 | W27: 120 | X27: עו"ס משפחה (כוללני) | Y27: 0 | AA27: 80 | AB27: עו"ס | AC27: 1 | AE27: 43842 | AF27: 43928 | AG27: 56400 | AH27: 43842 | AI27: 44902 | AJ27: 42461
A28: 1 | B28: ירושלים | C28: 103 | D28: ירושלים | E28: 1030056 | F28: ע. י-ם ל ד ש'גילה | G28: 23700 | H28: 120 | I28: עו"ס משפחה (כוללני) | J28: 1 | K28: ע"ח המשרד | L28: 1 | M28: שכר עובדי המחלקה לש"ח | N28: 8 | O28: עו"ס - אוטיסטים | P28: ללא הסכם מיוחד | Q28: 301772372 | R28: סבטיצקי | S28: זילפה | T28: נשים | U28: 0.5 | V28: 0.25 | W28: 120 | X28: עו"ס משפחה (כוללני) | Y28: 0 | AA28: 80 | AB28: עו"ס | AC28: 4 | AE28: 42603 | AF28: 43101 | AG28: 56948 | AH28: 42603 | AI28: 56948 | AJ28: 42461
A29: 1 | B29: ירושלים | C29: 103 | D29: ירושלים | E29: 1030060 | F29: ע. י-ם לשכת מערב | G29: 13100 | H29: 64 | I29: מרכז נושא שיקום | J29: 1 | K29: ע"ח המשרד | L29: 1 | M29: שכר עובדי המחלקה לש"ח | N29: 0 | P29: ללא הסכם מיוחד | Q29: 300970621 | R29: קלין לזוביך | S29: עדי הילה | T29: נשים | U29: 1 | V29: 1 | W29: 64 | X29: מרכז נושא שיקום | Y29: 0 | AA29: 80 | AB29: עו"ס | AC29: 4 | AD29: 101 | AE29: 44059 | AF29: 44059 | AG29: 56461 | AH29: 42948 | AI29: 54635 | AJ29: 37469
A30: 1 | B30: ירושלים | C30: 103 | D30: ירושלים | E30: 1030060 | F30: ע. י-ם לשכת מערב | G30: 40400 | H30: 140 | I30: עו"ס שיקום | J30: 1 | K30: ע"ח המשרד | L30: 1 | M30: שכר עובדי המחלקה לש"ח | N30: 0 | P30: ללא הסכם מיוחד | Q30: 17136227 | R30: טמיר | S30: נעמי | T30: נשים | U30: 0.25 | V30: 0.25 | W30: 140 | X30: עו"ס שיקום | Y30: 0 | AA30: 80 | AB30: עו"ס | AC30: 5 | AD30: 110 | AE30: 43891 | AF30: 43891 | AG30: 54362 | AH30: 38603 | AI30: 54362 | AJ30: 42736
A31: 1 | B31: ירושלים | C31: 103 | D31: ירושלים | E31: 1030065 | F31: ע.י-ם מע" ה.נוף ג.ש | G31: 14700 | H31: 120 | I31: עו"ס משפחה (כוללני) | J31: 1 | K31: ע"ח המשרד | L31: 1 | M31: שכר עובדי המחלקה לש"ח | N31: 8 | O31: עו"ס - אוטיסטים | P31: ללא הסכם מיוחד | Q31: 311600456 | R31: ליפשיץ | S31: רבקה | T31: נשים | U31: 0.75 | V31: 0.75 | W31: 120 | X31: עו"ס משפחה (כוללני) | Y31: 0 | AA31: 80 | AB31: עו"ס | AC31: 3 | AE31: 43023 | AF31: 43922 | AG31: 58714 | AH31: 43023 | AI31: 44633 | AJ31: 42461
A32: 1 | B32: ירושלים | C32: 103 | D32: ירושלים | E32: 1030070 | F32: ע. י-ם לשכת מזרח | G32: 10200 | H32: 64 | I32: מרכז נושא שיקום | J32: 1 | K32: ע"ח המשרד | L32: 1 | M32: שכר עובדי המחלקה לש"ח | N32: 0 | P32: ללא הסכם מיוחד | Q32: 27658103 | R32: דאודי רביע | S32: גדיר | T32: נשים | U32: 1 | V32: 1 | W32: 64 | X32: מרכז נושא שיקום | Y32: 0 | AA32: 80 | AB32: עו"ס | AC32: 5 | AD32: 106 | AE32: 43586 | AF32: 43586 | AG32: 54362 | AH32: 33905 | AI32: 54362 | AJ32: 18629
A33: 1 | B33: ירושלים | C33: 103 | D33: ירושלים | E33: 1030070 | F33: ע. י-ם לשכת מזרח | G33: 25050 | H33: 140 | I33: עו"ס שיקום | J33: 1 | K33: ע"ח המשרד | L33: 1 | M33: שכר עובדי המחלקה לש"ח | N33: 0 | P33: ללא הסכם מיוחד | Q33: 301157327 | R33: מיסק תמימי | S33: מינאס | T33: נשים | U33: 0.25 | V33: 0.25 | W33: 140 | X33: עו"ס שיקום | Y33: 0 | AA33: 80 | AB33: עו"ס | AC33: 2 | AE33: 43906 | AF33: 43906 | AG33: 56645 | AH33: 43164 | AI33: 56645 | AJ33: 42736
A34: 1 | B34: ירושלים | C34: 103 | D34: ירושלים | E34: 1030072 | F34: ע. י-ם לשכת שועפט | G34: 16100 | H34: 140 | I34: עו"ס שיקום | J34: 1 | K34: ע"ח המשרד | L34: 1 | M34: שכר עובדי המחלקה לש"ח | P34: ללא הסכם מיוחד | Q34: 25927419 | R34: אבו גזאלה | S34: דאליה | T34: נשים | U34: 0.75 | V34: 0.75 | W34: 140 | X34: עו"ס שיקום | Y34: 0 | AA34: 80 | AB34: עו"ס | AC34: 5 | AD34: 102 | AE34: 43983 | AF34: 43983 | AG34: 51013 | AH34: 38755 | AI34: 51744 | AJ34: 42736
A35: 1 | B35: ירושלים | C35: 103 | D35: ירושלים | E35: 1030073 | F35: ע. י-ם סילואן | G35: 8700 | H35: 120 | I35: עו"ס משפחה (כוללני) | J35: 1 | K35: ע"ח המשרד | L35: 1 | M35: שכר עובדי המחלקה לש"ח | N35: 8 | O35: עו"ס - אוטיסטים | P35: ללא הסכם מיוחד | Q35: 25927419 | R35: אבו גזאלה | S35: דאליה | T35: נשים | U35: 0.5 | V35: 0.25 | W35: 120 | X35: עו"ס משפחה (כוללני) | Y35: 0 | AA35: 80 | AB35: עו"ס | AC35: 5 | AD35: 102 | AE35: 38755 | AF35: 43983 | AG35: 51013 | AH35: 38755 | AI35: 51744 | AJ35: 42461
A36: 1 | B36: ירושלים | C36: 103 | D36: ירושלים | E36: 1030073 | F36: ע. י-ם סילואן | G36: 8700 | H36: 120 | I36: עו"ס משפחה (כוללני) | J36: 1 | K36: ע"ח המשרד | L36: 1 | M36: שכר עובדי המחלקה לש"ח | N36: 8 | O36: עו"ס - אוטיסטים | P36: ללא הסכם מיוחד | Q36: 316365147 | R36: מנצור | S36: קריסטין | T36: נשים | U36: 0.5 | V36: 0.25 | W36: 120 | X36: עו"ס משפחה (כוללני) | Y36: 0 | AA36: 80 | AB36: עו"ס | AC36: 3 | AE36: 42953 | AF36: 43922 | AG36: 59291 | AH36: 42953 | AI36: 59291 | AJ36: 42461
A37: 1 | B37: ירושלים | C37: 103 | D37: ירושלים | E37: 1030075 | F37: ע. י-ם ב.צפפה צ.באהר | G37: 120310 | H37: 120 | I37: עו"ס משפחה (כוללני) | J37: 1 | K37: ע"ח המשרד | L37: 1 | M37: שכר עובדי המחלקה לש"ח | N37: 8 | O37: עו"ס - אוטיסטים | P37: ללא הסכם מיוחד | Q37: 312449739 | R37: אבו אלהא | S37: פאטמה | T37: נשים | U37: 0.5 | V37: 0.5 | W37: 120 | X37: עו"ס משפחה (כוללני) | Y37: 0 | AA37: 80 | AB37: עו"ס | AC37: 2 | AD37: 101 | AE37: 42583 | AF37: 43586 | AG37: 58806 | AH37: 42498 | AI37: 58806 | AJ37: 42461
A38: 1 | B38: ירושלים | C38: 103 | D38: ירושלים | E38: 1030110 | F38: ע. י-ם צפון מוגבל'צ1 | G38: 120200 | H38: 120 | I38: עו"ס משפחה (כוללני) | J38: 1 | K38: ע"ח המשרד | L38: 1 | M38: שכר עובדי המחלקה לש"ח | N38: 8 | O38: עו"ס - אוטיסטים | P38: ללא הסכם מיוחד | Q38: 301069829 | R38: אוחנה | S38: אורטל | T38: נשים | U38: 0.75 | V38: 0.75 | W38: 120 | X38: עו"ס משפחה (כוללני) | Y38: 0 | AA38: 80 | AB38: עו"ס | AC38: 4 | AE38: 42264 | AF38: 44123 | AG38: 56492 | AH38: 42264 | AI38: 44895 | AJ38: 42461
A39: 1 | B39: ירושלים | C39: 103 | D39: ירושלים | E39: 1030110 | F39: ע. י-ם צפון מוגבל'צ1 | G39: 120500 | H39: 120 | I39: עו"ס משפחה (כוללני) | J39: 1 | K39: ע"ח המשרד | L39: 1 | M39: שכר עובדי המחלקה לש"ח | N39: 8 | O39: עו"ס - אוטיסטים | P39: ללא הסכם מיוחד | Q39: 33365479 | R39: פרנקל | S39: חגית | T39: נשים | U39: 0.5 | V39: 0.25 | W39: 120 | X39: עו"ס משפחה (כוללני) | Y39: 0 | AA39: 80 | AB39: עו"ס | AC39: 3 | AD39: 136 | AE39: 41931 | AF39: 44044 | AG39: 52655 | AH39: 41931 | AI39: 52655 | AJ39: 42461
A40: 1 | B40: ירושלים | C40: 103 | D40: ירושלים | E40: 1030110 | F40: ע. י-ם צפון מוגבל'צ1 | G40: 120500 | H40: 120 | I40: עו"ס משפחה (כוללני) | J40: 1 | K40: ע"ח המשרד | L40: 1 | M40: שכר עובדי המחלקה לש"ח | N40: 8 | O40: עו"ס - אוטיסטים | P40: ללא הסכם מיוחד | Q40: 203561766 | R40: לופוביץ | S40: מיכל | T40: נשים | U40: 0.5 | V40: 0.25 | W40: 120 | X40: עו"ס משפחה (כוללני) | Y40: 0 | AA40: 80 | AB40: עו"ס | AC40: 1 | AE40: 43990 | AF40: 44044 | AG40: 58348 | AH40: 43949 | AI40: 58348 | AJ40: 42461
A41: 1 | B41: ירושלים | C41: 103 | D41: ירושלים | E41: 1030110 | F41: ע. י-ם צפון מוגבל'צ1 | G41: 140100 | H41: 140 | I41: עו"ס שיקום | J41: 1 | K41: ע"ח המשרד | L41: 1 | M41: שכר עובדי המחלקה לש"ח | P41: ללא הסכם מיוחד | Q41: 301488490 | R41: וילק | S41: ליאורה | T41: נשים | U41: 1 | V41: 1 | W41: 140 | X41: עו"ס שיקום | Y41: 0 | AA41: 80 | AB41: עו"ס | AC41: 3 | AD41: 101 | AE41: 42370 | AF41: 43983 | AG41: 56795 | AH41: 42370 | AI41: 44742 | AJ41: 42736
A42: 1 | B42: ירושלים | C42: 103 | D42: ירושלים | E42: 1030110 | F42: ע. י-ם צפון מוגבל'צ1 | G42: 140300 | H42: 140 | I42: עו"ס שיקום | J42: 1 | K42: ע"ח המשרד | L42: 1 | M42: שכר עובדי המחלקה לש"ח | P42: ללא הסכם מיוחד | Q42: 33365479 | R42: פרנקל | S42: חגית | T42: נשים | U42: 0.75 | V42: 0.75 | W42: 140 | X42: עו"ס שיקום | Y42: 0 | AA42: 80 | AB42: עו"ס | AC42: 3 | AD42: 136 | AE42: 43952 | AF42: 43983 | AG42: 52655 | AH42: 41931 | AI42: 52655 | AJ42: 42736
A43: 1 | B43: ירושלים | C43: 103 | D43: ירושלים | E43: 1030120 | F43: ע. י-ם צפון מוגבל'צ2 | G43: 140100 | H43: 140 | I43: עו"ס שיקום | J43: 1 | K43: ע"ח המשרד | L43: 1 | M43: שכר עובדי המחלקה לש"ח | P43: ללא הסכם מיוחד | Q43: 15714736 | R43: זקהיים | S43: חנה | T43: נשים | U43: 0.75 | V43: 0.75 | W43: 140 | X43: עו"ס שיקום | Y43: 0 | AA43: 80 | AB43: עו"ס | AC43: 5 | AE43: 43497 | AF43: 43983 | AG43: 44561 | AH43: 33878 | AI43: 59717 | AJ43: 18629
A44: 1 | B44: ירושלים | C44: 103 | D44: ירושלים | E44: 1030120 | F44: ע. י-ם צפון מוגבל'צ2 | G44: 140200 | H44: 140 | I44: עו"ס שיקום | J44: 1 | K44: ע"ח המשרד | L44: 1 | M44: שכר עובדי המחלקה לש"ח | P44: ללא הסכם מיוחד | Q44: 205834765 | R44: שמש | S44: הדסה | T44: נשים | U44: 0.5 | V44: 0.5 | W44: 120 | X44: עו"ס משפחה (כוללני) | Y44: 0 | AA44: 80 | AB44: עו"ס | AC44: 2 | AE44: 43605 | AF44: 43983 | AG44: 59717 | AH44: 43605 | AI44: 59717 | AJ44: 18629
A45: 1 | B45: ירושלים | C45: 103 | D45: ירושלים | E45: 1030120 | F45: ע. י-ם צפון מוגבל'צ2 | G45: 140400 | H45: 140 | I45: עו"ס שיקום | J45: 1 | K45: ע"ח המשרד | L45: 1 | M45: שכר עובדי המחלקה לש"ח | P45: ללא הסכם מיוחד | Q45: 302095633 | R45: פרנק | S45: מרים ברכה | T45: נשים | U45: 0.5 | V45: 0.5 | W45: 140 | X45: עו"ס שיקום | Y45: 0 | AA45: 80 | AB45: עו"ס | AC45: 3 | AE45: 43891 | AF45: 43983 | AG45: 56887 | AH45: 42871 | AI45: 56887 | AJ45: 18629
A46: 1 | B46: ירושלים | C46: 103 | D46: ירושלים | E46: 1030120 | F46: ע. י-ם צפון מוגבל'צ2 | G46: 140500 | H46: 140 | I46: עו"ס שיקום | J46: 1 | K46: ע"ח המשרד | L46: 1 | M46: שכר עובדי המחלקה לש"ח | P46: ללא הסכם מיוחד | Q46: 333854339 | R46: צרצ'ס | S46: יוליה | T46: נשים | U46: 0.75 | V46: 0.75 | W46: 140 | X46: עו"ס שיקום | Y46: 0 | AA46: 80 | AB46: עו"ס | AC46: 2 | AE46: 43983 | AF46: 43983 | AG46: 58440 | AH46: 43450 | AI46: 58440 | AJ46: 41306
A47: 1 | B47: ירושלים | C47: 103 | D47: ירושלים | E47: 1030120 | F47: ע. י-ם צפון מוגבל'צ2 | G47: 140600 | H47: 140 | I47: עו"ס שיקום | J47: 1 | K47: ע"ח המשרד | L47: 1 | M47: שכר עובדי המחלקה לש"ח | P47: ללא הסכם מיוחד | Q47: 31790694 | R47: זכריה-ג'בלי | S47: אסתר | T47: נשים | U47: 0.55 | V47: 0.55 | W47: 140 | X47: עו"ס שיקום | Y47: 0 | AA47: 80 | AB47: עו"ס | AC47: 3 | AD47: 108 | AE47: 41091 | AF47: 43983 | AG47: 51713 | AH47: 38905 | AI47: 51713 | AJ47: 18629
A48: 1 | B48: ירושלים | C48: 103 | D48: ירושלים | E48: 1030120 | F48: ע. י-ם צפון מוגבל'צ2 | G48: 140800 | H48: 140 | I48: עו"ס שיקום | J48: 1 | K48: ע"ח המשרד | L48: 1 | M48: שכר עובדי המחלקה לש"ח | P48: ללא הסכם מיוחד | Q48: 31286867 | R48: זעפראני | S48: רחל | T48: נשים | U48: 0.5 | V48: 0.5 | W48: 140 | X48: עו"ס שיקום | Y48: 0 | AA48: 80 | AB48: עו"ס | AC48: 3 | AD48: 107 | AE48: 43983 | AF48: 43983 | AG48: 44347 | AH48: 39839 | AI48: 44347 | AJ48: 18629
A49: 1 | B49: ירושלים | C49: 103 | D49: ירושלים | E49: 1030120 | F49: ע. י-ם צפון מוגבל'צ2 | G49: 140900 | H49: 140 | I49: עו"ס שיקום | J49: 1 | K49: ע"ח המשרד | L49: 1 | M49: שכר עובדי המחלקה לש"ח | P49: ללא הסכם מיוחד | Q49: 203223649 | R49: הכהן | S49: חנה | T49: נשים | U49: 0.65 | V49: 0.65 | W49: 140 | X49: עו"ס שיקום | Y49: 0 | AA49: 80 | AB49: עו"ס | AC49: 2 | AE49: 43047 | AF49: 44075 | AG49: 58044 | AH49: 43047 | AI49: 44557 | AJ49: 42736
A50: 1 | B50: ירושלים | C50: 103 | D50: ירושלים | E50: 1030210 | F50: ע. י-ם מערב מוגבל'צ1 | G50: 120100 | H50: 120 | I50: עו"ס משפחה (כוללני) | J50: 1 | K50: ע"ח המשרד | L50: 1 | M50: שכר עובדי המחלקה לש"ח | N50: 8 | O50: עו"ס - אוטיסטים | P50: ללא הסכם מיוחד | Q50: 300733185 | R50: קורן | S50: ענבל | T50: נשים | U50: 0.25 | V50: 0.25 | W50: 120 | X50: עו"ס משפחה (כוללני) | Y50: 0 | AA50: 80 | AB50: עו"ס | AC50: 3 | AD50: 102 | AE50: 41288 | AF50: 44105 | AG50: 56308 | AH50: 41288 | AI50: 56308 | AJ50: 42461
A51: 1 | B51: ירושלים | C51: 103 | D51: ירושלים | E51: 1030210 | F51: ע. י-ם מערב מוגבל'צ1 | G51: 140200 | H51: 140 | I51: עו"ס שיקום | J51: 1 | K51: ע"ח המשרד | L51: 1 | M51: שכר עובדי המחלקה לש"ח | P51: ללא הסכם מיוחד | Q51: 203392493 | R51: הלה גולדברג | S51: ענת | T51: נשים | U51: 0.75 | V51: 0.75 | W51: 140 | X51: עו"ס שיקום | Y51: 0 | AA51: 80 | AB51: עו"ס | AC51: 2 | AE51: 44059 | AF51: 44105 | AG51: 58106 | AH51: 43757 | AI51: 58106 | AJ51: 42736
A52: 1 | B52: ירושלים | C52: 103 | D52: ירושלים | E52: 1030210 | F52: ע. י-ם מערב מוגבל'צ1 | G52: 140400 | H52: 140 | I52: עו"ס שיקום | J52: 1 | K52: ע"ח המשרד | L52: 1 | M52: שכר עובדי המחלקה לש"ח | P52: ללא הסכם מיוחד | Q52: 61109559 | R52: מרכוס | S52: הילה | T52: נשים | U52: 0.5 | V52: 0.5 | W52: 140 | X52: עו"ס שיקום | Y52: 0 | AA52: 80 | AB52: עו"ס | AC52: 2 | AE52: 44105 | AF52: 44105 | AG52: 54635 | AH52: 44045 | AI52: 44880 | AJ52: 41153
A53: 1 | B53: ירושלים | C53: 103 | D53: ירושלים | E53: 1030210 | F53: ע. י-ם מערב מוגבל'צ1 | G53: 140600 | H53: 140 | I53: עו"ס שיקום | J53: 1 | K53: ע"ח המשרד | L53: 1 | M53: שכר עובדי המחלקה לש"ח | P53: ללא הסכם מיוחד | Q53: 300733185 | R53: קורן | S53: ענבל | T53: נשים | U53: 0.75 | V53: 0.75 | W53: 140 | X53: עו"ס שיקום | Y53: 0 | AA53: 80 | AB53: עו"ס | AC53: 3 | AD53: 102 | AE53: 44105 | AF53: 44105 | AG53: 56308 | AH53: 41288 | AI53: 56308 | AJ53: 37469
A54: 1 | B54: ירושלים | C54: 103 | D54: ירושלים | E54: 1030210 | F54: ע. י-ם מערב מוגבל'צ1 | G54: 140700 | H54: 140 | I54: עו"ס שיקום | J54: 1 | K54: ע"ח המשרד | L54: 1 | M54: שכר עובדי המחלקה לש"ח | P54: ללא הסכם מיוחד | Q54: 37181054 | R54: ריש | S54: שירה | T54: נשים | U54: 0.5 | V54: 0.5 | W54: 140 | X54: עו"ס שיקום | Y54: 0 | AA54: 80 | AB54: עו"ס | AC54: 3 | AE54: 44105 | AF54: 44105 | AG54: 53386 | AH54: 42675 | AI54: 53386 | AJ54: 18629
A55: 1 | B55: ירושלים | C55: 103 | D55: ירושלים | E55: 1030220 | F55: ע. י-ם מערב מוגבל'צ2 | G55: 120400 | H55: 120 | I55: עו"ס משפחה (כוללני) | J55: 1 | K55: ע"ח המשרד | L55: 1 | M55: שכר עובדי המחלקה לש"ח | N55: 8 | O55: עו"ס - אוטיסטים | P55: ללא הסכם מיוחד | Q55: 11125747 | R55: פרידמן-רוזנברג | S55: רחל | T55: נשים | U55: 0.25 | V55: 0.25 | W55: 120 | X55: עו"ס משפחה (כוללני) | Y55: 0 | AA55: 80 | AB55: עו"ס | AC55: 5 | AD55: 136 | AE55: 37826 | AF55: 44105 | AG55: 51287 | AH55: 37826 | AI55: 51287 | AJ55: 42461
A56: 1 | B56: ירושלים | C56: 103 | D56: ירושלים | E56: 1030220 | F56: ע. י-ם מערב מוגבל'צ2 | G56: 140100 | H56: 140 | I56: עו"ס שיקום | J56: 1 | K56: ע"ח המשרד | L56: 1 | M56: שכר עובדי המחלקה לש"ח | P56: ללא הסכם מיוחד | Q56: 39990130 | R56: משלי מור | S56: פנינה | T56: נשים | U56: 1 | V56: 1 | W56: 140 | X56: עו"ס שיקום | Y56: 0 | AA56: 80 | AB56: עו"ס | AC56: 4 | AE56: 44105 | AF56: 44105 | AG56: 56157 | AH56: 41862 | AI56: 44765 | AJ56: 18629
A57: 1 | B57: ירושלים | C57: 103 | D57: ירושלים | E57: 1030220 | F57: ע. י-ם מערב מוגבל'צ2 | G57: 140200 | H57: 140 | I57: עו"ס שיקום | J57: 1 | K57: ע"ח המשרד | L57: 1 | M57: שכר עובדי המחלקה לש"ח | P57: ללא הסכם מיוחד | Q57: 15722457 | R57: בן-דור | S57: קרול | T57: נשים | U57: 1 | V57: 1 | W57: 140 | X57: עו"ס שיקום | Y57: 0 | AA57: 80 | AB57: עו"ס | AC57: 3 | AD57: 106 | AE57: 43952 | AF57: 44105 | AG57: 44926 | AH57: 37956 | AI57: 44926 | AJ57: 42736
A58: 1 | B58: ירושלים | C58: 103 | D58: ירושלים | E58: 1030220 | F58: ע. י-ם מערב מוגבל'צ2 | G58: 140300 | H58: 140 | I58: עו"ס שיקום | J58: 1 | K58: ע"ח המשרד | L58: 1 | M58: שכר עובדי המחלקה לש"ח | P58: ללא הסכם מיוחד | Q58: 11125747 | R58: פרידמן-רוזנברג | S58: רחל | T58: נשים | U58: 0.5 | V58: 0.5 | W58: 140 | X58: עו"ס שיקום | Y58: 0 | AA58: 80 | AB58: עו"ס | AC58: 5 | AD58: 136 | AE58: 43891 | AF58: 44105 | AG58: 51287 | AH58: 37826 | AI58: 51287 | AJ58: 18629
A59: 1 | B59: ירושלים | C59: 104 | D59: אשדוד | E59: 1040020 | F59: ע. אשדוד ב,ג הנהלה | G59: 4100 | H59: 64 | I59: מרכז נושא שיקום | J59: 1 | K59: ע"ח המשרד | L59: 1 | M59: שכר עובדי המחלקה לש"ח | N59: 0 | P59: ללא הסכם מיוחד | Q59: 23092380 | R59: בלן אלפון | S59: לאה | T59: נשים | U59: 1 | V59: 1 | W59: 65 | X59: מרכז מש. במשבר וסכון | Y59: 0 | AA59: 80 | AB59: עו"ס | AC59: 5 | AD59: 136 | AE59: 43678 | AF59: 43678 | AG59: 46387 | AH59: 34686 | AI59: 48579 | AJ59: 40026
A60: 1 | B60: ירושלים | C60: 104 | D60: אשדוד | E60: 1040020 | F60: ע. אשדוד ב,ג הנהלה | G60: 5200 | H60: 64 | I60: מרכז נושא שיקום | J60: 1 | K60: ע"ח המשרד | L60: 1 | M60: שכר עובדי המחלקה לש"ח | N60: 0 | P60: ללא הסכם מיוחד | Q60: 320469513 | R60: אלייב | S60: ניקול | T60: נשים | U60: 1 | V60: 1 | W60: 64 | X60: מרכז נושא שיקום | Y60: 0 | AA60: 80 | AB60: עו"ס | AC60: 6 | AE60: 41000 | AF60: 41000 | AG60: 51866 | AH60: 40454 | AI60: 51866 | AJ60: 34060
A61: 1 | B61: ירושלים | C61: 104 | D61: אשדוד | E61: 1040032 | F61: ע.אשדוד ו,ז מוגבלות | G61: 120800 | H61: 140 | I61: עו"ס שיקום | J61: 1 | K61: ע"ח המשרד | L61: 1 | M61: שכר עובדי המחלקה לש"ח | N61: 0 | P61: ללא הסכם מיוחד | U61: 0.5 | AJ61: 40026
A62: 1 | B62: ירושלים | C62: 104 | D62: אשדוד | E62: 1040040 | F62: ע. אשדוד י-יג הנהלה | G62: 10300 | H62: 140 | I62: עו"ס שיקום | J62: 1 | K62: ע"ח המשרד | L62: 1 | M62: שכר עובדי המחלקה לש"ח | N62: 0 | P62: ללא הסכם מיוחד | Q62: 32176869 | R62: שייניק | S62: מיכל | T62: נשים | U62: 0.8 | V62: 0.8 | W62: 140 | X62: עו"ס שיקום | Y62: 0 | AA62: 80 | AB62: עו"ס | AC62: 3 | AD62: 106 | AE62: 42540 | AF62: 42979 | AG62: 46752 | AH62: 42296 | AI62: 47848 | AJ62: 39661
A63: 1 | B63: ירושלים | C63: 104 | D63: אשדוד | E63: 1040041 | F63: ע.אשדוד י-יג מוגבלות | G63: 120000 | H63: 120 | I63: עו"ס משפחה (כוללני) | J63: 1 | K63: ע"ח המשרד | L63: 1 | M63: שכר עובדי המחלקה לש"ח | N63: 8 | O63: עו"ס - אוטיסטים | P63: ללא הסכם מיוחד | U63: 0.25 | AJ63: 38777
A64: 1 | B64: ירושלים | C64: 104 | D64: אשדוד | E64: 1040100 | F64: ע.אשדוד שיקום הנהלה | G64: 64100 | H64: 64 | I64: מרכז נושא שיקום | J64: 1 | K64: ע"ח המשרד | L64: 1 | M64: שכר עובדי המחלקה לש"ח | P64: ללא הסכם מיוחד | Q64: 23071848 | R64: בן מיכה | S64: אוסנת | T64: נשים | U64: 1 | V64: 1 | W64: 64 | X64: מרכז נושא שיקום | Y64: 0 | AA64: 80 | AB64: עו"ס | AC64: 6 | AD64: 111 | AE64: 37681 | AF64: 43952 | AG64: 46387 | AH64: 33147 | AI64: 46387 | AJ64: 29312
A65: 1 | B65: ירושלים | C65: 104 | D65: אשדוד | E65: 1040100 | F65: ע.אשדוד שיקום הנהלה | G65: 64200 | H65: 64 | I65: מרכז נושא שיקום | J65: 1 | K65: ע"ח המשרד | L65: 1 | M65: שכר עובדי המחלקה לש"ח | P65: ללא הסכם מיוחד | Q65: 37398161 | R65: מלכה | S65: מירית | T65: נשים | U65: 0.8 | V65: 0.8 | W65: 64 | X65: מרכז נושא שיקום | Y65: 0 | AA65: 80 | AB65: עו"ס | AC65: 6 | AD65: 102 | AE65: 43952 | AF65: 43952 | AG65: 47483 | AH65: 40283 | AI65: 47483 | AJ65: 37073
A66: 1 | B66: ירושלים | C66: 104 | D66: אשדוד | E66: 1040100 | F66: ע.אשדוד שיקום הנהלה | G66: 64300 | H66: 64 | I66: מרכז נושא שיקום | J66: 1 | K66: ע"ח המשרד | L66: 1 | M66: שכר עובדי המחלקה לש"ח | P66: ללא הסכם מיוחד | Q66: 22903496 | R66: סופר | S66: יעל | T66: נשים | U66: 1 | V66: 1 | W66: 64 | X66: מרכז נושא שיקום | Y66: 0 | AA66: 80 | AB66: עו"ס | AC66: 6 | AD66: 110 | AE66: 43952 | AF66: 43952 | AG66: 48944 | AH66: 33725 | AI66: 48944 | AJ66: 26359
A67: 1 | B67: ירושלים | C67: 104 | D67: אשדוד | E67: 1040110 | F67: ע.אשדוד שיקום צ.צפון | G67: 120100 | H67: 120 | I67: עו"ס משפחה (כוללני) | J67: 1 | K67: ע"ח המשרד | L67: 1 | M67: שכר עובדי המחלקה לש"ח | N67: 8 | O67: עו"ס - אוטיסטים | P67: ללא הסכם מיוחד | Q67: 15899115 | R67: אוקלרס | S67: מריאל | T67: נשים | U67: 1 | V67: 1 | W67: 120 | X67: עו"ס משפחה (כוללני) | Y67: 0 | AA67: 80 | AB67: עו"ס | AC67: 5 | AD67: 105 | AE67: 39814 | AF67: 43952 | AG67: 49309 | AH67: 36739 | AI67: 49309 | AJ67: 42461
A68: 1 | B68: ירושלים | C68: 104 | D68: אשדוד | E68: 1040110 | F68: ע.אשדוד שיקום צ.צפון | G68: 120200 | H68: 120 | I68: עו"ס משפחה (כוללני) | J68: 1 | K68: ע"ח המשרד | L68: 1 | M68: שכר עובדי המחלקה לש"ח | N68: 8 | O68: עו"ס - אוטיסטים | P68: ללא הסכם מיוחד | Q68: 203399688 | R68: דהן | S68: רביד | T68: נשים | U68: 1 | V68: 1 | W68: 120 | X68: עו"ס משפחה (כוללני) | Y68: 0 | AA68: 80 | AB68: עו"ס | AC68: 2 | AE68: 43639 | AF68: 43952 | AG68: 47483 | AH68: 43639 | AI68: 47848 | AJ68: 42461
A69: 1 | B69: ירושלים | C69: 104 | D69: אשדוד | E69: 1040110 | F69: ע.אשדוד שיקום צ.צפון | G69: 120300 | H69: 120 | I69: עו"ס משפחה (כוללני) | J69: 1 | K69: ע"ח המשרד | L69: 1 | M69: שכר עובדי המחלקה לש"ח | N69: 8 | O69: עו"ס - אוטיסטים | P69: ללא הסכם מיוחד | Q69: 66460262 | R69: נקש | S69: הודיה | T69: נשים | U69: 0.25 | V69: 0.25 | W69: 120 | X69: עו"ס משפחה (כוללני) | Y69: 0 | AA69: 80 | AB69: עו"ס | AC69: 3 | AE69: 42768 | AF69: 43952 | AG69: 47483 | AH69: 42988 | AI69: 47483 | AJ69: 42461
A70: 1 | B70: ירושלים | C70: 104 | D70: אשדוד | E70: 1040110 | F70: ע.אשדוד שיקום צ.צפון | G70: 140100 | H70: 140 | I70: עו"ס שיקום | J70: 1 | K70: ע"ח המשרד | L70: 1 | M70: שכר עובדי המחלקה לש"ח | P70: ללא הסכם מיוחד | Q70: 59058966 | R70: מלכה | S70: פאני | T70: נשים | U70: 1 | V70: 1 | W70: 140 | X70: עו"ס שיקום | Y70: 0 | AA70: 80 | AB70: עו"ס | AC70: 5 | AD70: 108 | AE70: 37803 | AF70: 43952 | AG70: 48579 | AH70: 32325 | AI70: 48579 | AJ70: 18629
A71: 1 | B71: ירושלים | C71: 104 | D71: אשדוד | E71: 1040110 | F71: ע.אשדוד שיקום צ.צפון | G71: 140200 | H71: 140 | I71: עו"ס שיקום | J71: 1 | K71: ע"ח המשרד | L71: 1 | M71: שכר עובדי המחלקה לש"ח | P71: ללא הסכם מיוחד | Q71: 61674834 | R71: אזולאי | S71: מיטל | T71: נשים | U71: 0.3 | V71: 0.3 | W71: 140 | X71: עו"ס שיקום | Y71: 0 | AA71: 80 | AB71: עו"ס | AC71: 3 | AD71: 102 | AE71: 41673 | AF71: 43952 | AG71: 53692 | AH71: 41673 | AI71: 47848 | AJ71: 37469
A72: 1 | B72: ירושלים | C72: 104 | D72: אשדוד | E72: 1040110 | F72: ע.אשדוד שיקום צ.צפון | G72: 140300 | H72: 140 | I72: עו"ס שיקום | J72: 1 | K72: ע"ח המשרד | L72: 1 | M72: שכר עובדי המחלקה לש"ח | P72: ללא הסכם מיוחד | Q72: 66460262 | R72: נקש | S72: הודיה | T72: נשים | U72: 0.25 | V72: 0.25 | W72: 140 | X72: עו"ס שיקום | Y72: 0 | AA72: 80 | AB72: עו"ס | AC72: 3 | AE72: 42768 | AF72: 43952 | AG72: 47483 | AH72: 42988 | AI72: 47483 | AJ72: 38292
A73: 1 | B73: ירושלים | C73: 104 | D73: אשדוד | E73: 1040110 | F73: ע.אשדוד שיקום צ.צפון | G73: 140400 | H73: 140 | I73: עו"ס שיקום | J73: 1 | K73: ע"ח המשרד | L73: 1 | M73: שכר עובדי המחלקה לש"ח | P73: ללא הסכם מיוחד | U73: 0.39 | AJ73: 39661
A74: 1 | B74: ירושלים | C74: 104 | D74: אשדוד | E74: 1040120 | F74: ע.אשדוד שיקום צ.דרום | G74: 120100 | H74: 120 | I74: עו"ס משפחה (כוללני) | J74: 1 | K74: ע"ח המשרד | L74: 1 | M74: שכר עובדי המחלקה לש"ח | N74: 8 | O74: עו"ס - אוטיסטים | P74: ללא הסכם מיוחד | Q74: 203062963 | R74: אלבז | S74: שיר | T74: נשים | U74: 0.25 | V74: 0.25 | W74: 120 | X74: עו"ס משפחה (כוללני) | Y74: 0 | AA74: 80 | AB74: עו"ס | AC74: 2 | AE74: 43206 | AF74: 43952 | AG74: 47118 | AH74: 43206 | AI74: 47118 | AJ74: 38777
A75: 1 | B75: ירושלים | C75: 104 | D75: אשדוד | E75: 1040120 | F75: ע.אשדוד שיקום צ.דרום | G75: 120300 | H75: 120 | I75: עו"ס משפחה (כוללני) | J75: 1 | K75: ע"ח המשרד | L75: 1 | M75: שכר עובדי המחלקה לש"ח | N75: 8 | O75: עו"ס - אוטיסטים | P75: ללא הסכם מיוחד | Q75: 39904800 | R75: חגי | S75: הילה | T75: נשים | U75: 0.5 | V75: 0.5 | W75: 120 | X75: עו"ס משפחה (כוללני) | Y75: 0 | AA75: 80 | AB75: עו"ס | AC75: 4 | AE75: 41334 | AF75: 43952 | AG75: 49309 | AH75: 41078 | AI75: 49309 | AJ75: 42461
A76: 1 | B76: ירושלים | C76: 104 | D76: אשדוד | E76: 1040120 | F76: ע.אשדוד שיקום צ.דרום | G76: 140100 | H76: 140 | I76: עו"ס שיקום | J76: 1 | K76: ע"ח המשרד | L76: 1 | M76: שכר עובדי המחלקה לש"ח | P76: ללא הסכם מיוחד | Q76: 35928241 | R76: דניאל | S76: לימור | T76: נשים | U76: 1 | V76: 1 | W76: 140 | X76: עו"ס שיקום | Y76: 0 | AA76: 80 | AB76: עו"ס | AC76: 5 | AD76: 105 | AE76: 38830 | AF76: 43952 | AG76: 46387 | AH76: 38018 | AI76: 47848 | AJ76: 37469
A77: 1 | B77: ירושלים | C77: 104 | D77: אשדוד | E77: 1040120 | F77: ע.אשדוד שיקום צ.דרום | G77: 140200 | H77: 140 | I77: עו"ס שיקום | J77: 1 | K77: ע"ח המשרד | L77: 1 | M77: שכר עובדי המחלקה לש"ח | P77: ללא הסכם מיוחד | Q77: 316580257 | R77: דמארי | S77: הילה | T77: נשים | U77: 1 | V77: 1 | W77: 140 | X77: עו"ס שיקום | Y77: 0 | AA77: 80 | AB77: עו"ס | AC77: 1 | AE77: 43835 | AF77: 43952 | AG77: 44196 | AH77: 43835 | AI77: 47848 | AJ77: 37073
A78: 1 | B78: ירושלים | C78: 104 | D78: אשדוד | E78: 1040120 | F78: ע.אשדוד שיקום צ.דרום | G78: 140300 | H78: 140 | I78: עו"ס שיקום | J78: 1 | K78: ע"ח המשרד | L78: 1 | M78: שכר עובדי המחלקה לש"ח | P78: ללא הסכם מיוחד | Q78: 15623150 | R78: גרפינקל | S78: אסתר | T78: נשים | U78: 0.3 | V78: 0.3 | W78: 140 | X78: עו"ס שיקום | Y78: 0 | AA78: 80 | AB78: עו"ס | AC78: 3 | AE78: 43952 | AF78: 43952 | AG78: 47483 | AH78: 43271 | AI78: 47848 | AJ78: 38292
A79: 1 | B79: ירושלים | C79: 104 | D79: אשדוד | E79: 1040120 | F79: ע.אשדוד שיקום צ.דרום | G79: 140400 | H79: 140 | I79: עו"ס שיקום | J79: 1 | K79: ע"ח המשרד | L79: 1 | M79: שכר עובדי המחלקה לש"ח | P79: ללא הסכם מיוחד | Q79: 39904800 | R79: חגי | S79: הילה | T79: נשים | U79: 0.3 | V79: 0.3 | W79: 140 | X79: עו"ס שיקום | Y79: 0 | AA79: 80 | AB79: עו"ס | AC79: 4 | AE79: 42468 | AF79: 43952 | AG79: 49309 | AH79: 41078 | AI79: 49309 | AJ79: 38292
A80: 1 | B80: ירושלים | C80: 121 | D80: בית-שמש | E80: 1210000 | F80: ע. בית שמש | G80: 3000 | H80: 64 | I80: מרכז נושא שיקום | J80: 1 | K80: ע"ח המשרד | L80: 1 | M80: שכר עובדי המחלקה לש"ח | N80: 0 | P80: ללא הסכם מיוחד | Q80: 39796180 | R80: סהר | S80: יעל-מרגלית | T80: נשים | U80: 0.75 | V80: 0.75 | W80: 64 | X80: מרכז נושא שיקום | Y80: 0 | AA80: 80 | AB80: עו"ס | AC80: 5 | AE80: 43569 | AF80: 43569 | AG80: 44561 | AH80: 40930 | AI80: 46022 | AJ80: 18629
A81: 1 | B81: ירושלים | C81: 121 | D81: בית-שמש | E81: 1210010 | F81: ע. בית שמש צ.דרום | G81: 12700 | H81: 120 | I81: עו"ס משפחה (כוללני) | J81: 1 | K81: ע"ח המשרד | L81: 1 | M81: שכר עובדי המחלקה לש"ח | N81: 8 | O81: עו"ס - אוטיסטים | P81: ללא הסכם מיוחד | Q81: 31406614 | R81: רוזנפלד | S81: שמרית | T81: נשים | U81: 0.75 | V81: 0.75 | W81: 120 | X81: עו"ס משפחה (כוללני) | Y81: 0 | AA81: 80 | AB81: עו"ס | AC81: 5 | AE81: 40874 | AF81: 43040 | AG81: 52516 | AH81: 40874 | AI81: 52516 | AJ81: 42461
A82: 1 | B82: ירושלים | C82: 121 | D82: בית-שמש | E82: 1210020 | F82: ע. בית שמש ג.ב.ש | G82: 30750 | H82: 120 | I82: עו"ס משפחה (כוללני) | J82: 1 | K82: ע"ח המשרד | L82: 1 | M82: שכר עובדי המחלקה לש"ח | N82: 8 | O82: עו"ס - אוטיסטים | P82: ללא הסכם מיוחד | Q82: 52842697 | R82: גרוס | S82: נוגה | T82: נשים | U82: 0.25 | V82: 0.25 | W82: 120 | X82: עו"ס משפחה (כוללני) | Y82: 0 | AA82: 80 | AB82: עו"ס | AC82: 5 | AD82: 102 | AE82: 38473 | AF82: 42917 | AG82: 47484 | AH82: 33117 | AI82: 45291 | AJ82: 42461
A83: 1 | B83: ירושלים | C83: 121 | D83: בית-שמש | E83: 1210020 | F83: ע. בית שמש ג.ב.ש | G83: 32400 | H83: 120 | I83: עו"ס משפחה (כוללני) | J83: 1 | K83: ע"ח המשרד | L83: 1 | M83: שכר עובדי המחלקה לש"ח | N83: 8 | O83: עו"ס - אוטיסטים | P83: ללא הסכם מיוחד | Q83: 52842697 | R83: גרוס | S83: נוגה | T83: נשים | U83: 0.5 | V83: 0.5 | W83: 120 | X83: עו"ס משפחה (כוללני) | Y83: 0 | AA83: 80 | AB83: עו"ס | AC83: 5 | AD83: 102 | AE83: 38473 | AF83: 43040 | AG83: 44926 | AH83: 33117 | AI83: 45291 | AJ83: 42461
A84: 1 | B84: ירושלים | C84: 124 | D84: מבשרת-ציון | E84: 1240000 | F84: מ.מ מבשרת ציון | G84: 15400 | H84: 120 | I84: עו"ס משפחה (כוללני) | J84: 1 | K84: ע"ח המשרד | L84: 1 | M84: שכר עובדי המחלקה לש"ח | N84: 8 | O84: עו"ס - אוטיסטים | P84: ללא הסכם מיוחד | Q84: 34463307 | R84: רגב | S84: אורית | T84: נשים | U84: 0.33 | V84: 0.33 | W84: 120 | X84: עו"ס משפחה (כוללני) | Y84: 0 | AA84: 80 | AB84: עו"ס | AC84: 5 | AD84: 105 | AE84: 37241 | AF84: 42736 | AG84: 44196 | AH84: 37241 | AI84: 44712 | AJ84: 42461
A85: 1 | B85: ירושלים | C85: 129 | D85: קרית-מלאכי | E85: 1290000 | F85: ע. ק.מלאכי | G85: 11100 | H85: 64 | I85: מרכז נושא שיקום | J85: 1 | K85: ע"ח המשרד | L85: 1 | M85: שכר עובדי המחלקה לש"ח | N85: 0 | P85: ללא הסכם מיוחד | Q85: 33225756 | R85: מרשל | S85: דבורה | T85: נשים | U85: 0.5 | V85: 0.5 | W85: 64 | X85: מרכז נושא שיקום | Y85: 0 | AA85: 80 | AB85: עו"ס | AC85: 5 | AE85: 43800 | AF85: 43800 | AG85: 47088 | AH85: 42887 | AI85: 44525 | AJ85: 34060
A86: 1 | B86: ירושלים | C86: 129 | D86: קרית-מלאכי | E86: 1290000 | F86: ע. ק.מלאכי | G86: 11110 | H86: 64 | I86: מרכז נושא שיקום | J86: 1 | K86: ע"ח המשרד | L86: 1 | M86: שכר עובדי המחלקה לש"ח | P86: ללא הסכם מיוחד | Q86: 24440968 | R86: קלצהנדלר | S86: שלומית | T86: נשים | U86: 0.5 | V86: 0.5 | W86: 64 | X86: מרכז נושא שיקום | Y86: 0 | AA86: 80 | AB86: עו"ס | AC86: 6 | AD86: 102 | AE86: 39264 | AF86: 44044 | AG86: 47848 | AH86: 34516 | AI86: 49614 | AJ86: 26177
A87: 1 | B87: ירושלים | C87: 129 | D87: קרית-מלאכי | E87: 1290000 | F87: ע. ק.מלאכי | G87: 31000 | H87: 120 | I87: עו"ס משפחה (כוללני) | J87: 1 | K87: ע"ח המשרד | L87: 1 | M87: שכר עובדי המחלקה לש"ח | N87: 8 | O87: עו"ס - אוטיסטים | P87: ללא הסכם מיוחד | Q87: 33225756 | R87: מרשל | S87: דבורה | T87: נשים | U87: 0.5 | V87: 0.5 | W87: 120 | X87: עו"ס משפחה (כוללני) | Y87: 0 | AA87: 80 | AB87: עו"ס | AC87: 3 | AE87: 42887 | AF87: 42887 | AG87: 44196 | AH87: 42887 | AI87: 44525 | AJ87: 42461
A88: 1 | B88: ירושלים | C88: 134 | D88: בית-א-ל | E88: 1340000 | F88: מ.מ בית אל | G88: 11500 | H88: 120 | I88: עו"ס משפחה (כוללני) | J88: 1 | K88: ע"ח המשרד | L88: 1 | M88: שכר עובדי המחלקה לש"ח | N88: 8 | O88: עו"ס - אוטיסטים | P88: ללא הסכם מיוחד | Q88: 315345710 | R88: לוי | S88: טליה | T88: נשים | U88: 0.33 | V88: 0.33 | W88: 120 | X88: עו"ס משפחה (כוללני) | Y88: 0 | AA88: 80 | AB88: עו"ס | AC88: 1 | AE88: 44082 | AF88: 44082 | AG88: 44561 | AH88: 44082 | AI88: 49674 | AJ88: 42461
A89: 1 | B89: ירושלים | C89: 140 | D89: מעלה-אדומים | E89: 1400020 | F89: ע. מעלה אדומים צוות2 | G89: 22100 | H89: 120 | I89: עו"ס משפחה (כוללני) | J89: 1 | K89: ע"ח המשרד | L89: 1 | M89: שכר עובדי המחלקה לש"ח | N89: 8 | O89: עו"ס - אוטיסטים | P89: ללא הסכם מיוחד | Q89: 311520910 | R89: דביר | S89: תמר | T89: נשים | U89: 0.5 | V89: 0.5 | W89: 200 | X89: עו"ס קהילה | Y89: 0 | AA89: 80 | AB89: עו"ס | AC89: 4 | AE89: 43617 | AF89: 44105 | AG89: 47848 | AH89: 43027 | AI89: 47848 | AJ89: 42461
A90: 1 | B90: ירושלים | C90: 141 | D90: אפרת | E90: 1410000 | F90: מ.מ אפרת | G90: 11400 | H90: 120 | I90: עו"ס משפחה (כוללני) | J90: 1 | K90: ע"ח המשרד | L90: 1 | M90: שכר עובדי המחלקה לש"ח | N90: 8 | O90: עו"ס - אוטיסטים | P90: ללא הסכם מיוחד | Q90: 314440298 | R90: בלנק | S90: שרונה | T90: נשים | U90: 0.33 | V90: 0.33 | W90: 120 | X90: עו"ס משפחה (כוללני) | Y90: 0 | AA90: 80 | AB90: עו"ס | AC90: 4 | AD90: 104 | AE90: 35247 | AF90: 42461 | AG90: 44196 | AH90: 39630 | AI90: 47848 | AJ90: 42461
A91: 1 | B91: ירושלים | C91: 142 | D91: גבעת-זאב | E91: 1420000 | F91: מ.מ גבעת זאב | G91: 11600 | H91: 120 | I91: עו"ס משפחה (כוללני) | J91: 1 | K91: ע"ח המשרד | L91: 1 | M91: שכר עובדי המחלקה לש"ח | N91: 8 | O91: עו"ס - אוטיסטים | P91: ללא הסכם מיוחד | Q91: 300631066 | R91: בשן | S91: הודיה | T91: נשים | U91: 0.33 | V91: 0.33 | W91: 120 | X91: עו"ס משפחה (כוללני) | Y91: 0 | AA91: 80 | AB91: עו"ס | AC91: 4 | AD91: 105 | AE91: 42064 | AF91: 42675 | AG91: 47848 | AH91: 42064 | AI91: 47848 | AJ91: 42461
A92: 1 | B92: ירושלים | C92: 146 | D92: ביתר-עלית | E92: 1460000 | F92: ע. ביתר עילית | G92: 2100 | H92: 63 | I92: מרכז נושא מוגבלויות | J92: 1 | K92: ע"ח המשרד | L92: 1 | M92: שכר עובדי המחלקה לש"ח | N92: 0 | P92: ללא הסכם מיוחד | Q92: 58313867 | R92: אסודרי | S92: רחל | T92: נשים | U92: 0.5 | V92: 0.5 | W92: 63 | X92: מרכז נושא מוגבלויות | Y92: 0 | AA92: 80 | AB92: עו"ס | AC92: 6 | AD92: 104 | AE92: 41579 | AF92: 41579 | AG92: 47756 | AH92: 34988 | AI92: 47756 | AJ92: 36039
A93: 1 | B93: ירושלים | C93: 146 | D93: ביתר-עלית | E93: 1460030 | F93: ע. ביתר עלית צוות 3 | G93: 120300 | H93: 120 | I93: עו"ס משפחה (כוללני) | J93: 1 | K93: ע"ח המשרד | L93: 1 | M93: שכר עובדי המחלקה לש"ח | N93: 8 | O93: עו"ס - אוטיסטים | P93: ללא הסכם מיוחד | Q93: 323561225 | R93: נולמן | S93: לאה | T93: נשים | U93: 0.75 | V93: 0.75 | W93: 120 | X93: עו"ס משפחה (כוללני) | Y93: 0 | AA93: 80 | AB93: עו"ס | AC93: 3 | AE93: 42464 | AF93: 43406 | AG93: 53327 | AH93: 42464 | AI93: 44743 | AJ93: 42461
A94: 1 | B94: ירושלים | C94: 147 | D94: מודיעין-עלית | E94: 1470000 | F94: ע. מודיעין עילית | G94: 200 | H94: 64 | I94: מרכז נושא שיקום | J94: 1 | K94: ע"ח המשרד | L94: 1 | M94: שכר עובדי המחלקה לש"ח | N94: 0 | P94: ללא הסכם מיוחד | Q94: 43028018 | R94: שחור | S94: אפרת | T94: נשים | U94: 0.5 | V94: 0.5 | W94: 64 | X94: מרכז נושא שיקום | Y94: 0 | AA94: 80 | AB94: עו"ס | AC94: 4 | AE94: 43952 | AF94: 43952 | AG94: 47848 | AH94: 42248 | AI94: 48487 | AJ94: 38292
A95: 1 | B95: ירושלים | C95: 147 | D95: מודיעין-עלית | E95: 1470020 | F95: ע.ממודיעין ע' צוות ב | G95: 22600 | H95: 120 | I95: עו"ס משפחה (כוללני) | J95: 1 | K95: ע"ח המשרד | L95: 1 | M95: שכר עובדי המחלקה לש"ח | N95: 8 | O95: עו"ס - אוטיסטים | P95: ללא הסכם מיוחד | Q95: 29522158 | R95: סילון | S95: ורד | T95: נשים | U95: 0.75 | V95: 0.3 | W95: 120 | X95: עו"ס משפחה (כוללני) | Y95: 0 | AA95: 80 | AB95: עו"ס | AC95: 3 | AD95: 111 | AE95: 42095 | AF95: 43617 | AG95: 47848 | AH95: 41877 | AI95: 47848 | AJ95: 42461
A96: 1 | B96: ירושלים | C96: 147 | D96: מודיעין-עלית | E96: 1470020 | F96: ע.ממודיעין ע' צוות ב | G96: 22600 | H96: 120 | I96: עו"ס משפחה (כוללני) | J96: 1 | K96: ע"ח המשרד | L96: 1 | M96: שכר עובדי המחלקה לש"ח | N96: 8 | O96: עו"ס - אוטיסטים | P96: ללא הסכם מיוחד | Q96: 39820576 | R96: לנדאו | S96: מיכל | T96: נשים | U96: 0.75 | V96: 0.4 | W96: 120 | X96: עו"ס משפחה (כוללני) | Y96: 0 | AA96: 80 | AB96: עו"ס | AC96: 3 | AE96: 42979 | AF96: 44013 | AG96: 47848 | AH96: 42979 | AI96: 47848 | AJ96: 42461
A97: 1 | B97: ירושלים | C97: 162 | D97: הר-חברון | E97: 1620000 | F97: מ.א הר חברון | G97: 11200 | H97: 121 | I97: עו"ס מרחבי | J97: 1 | K97: ע"ח המשרד | L97: 1 | M97: שכר עובדי המחלקה לש"ח | N97: 8 | O97: עו"ס - אוטיסטים | P97: ללא הסכם מיוחד | Q97: 58707688 | R97: פרץ | S97: נעמי | T97: נשים | U97: 0.33 | V97: 0.33 | W97: 121 | X97: עו"ס מרחבי | Y97: 0 | AA97: 80 | AB97: עו"ס | AC97: 4 | AD97: 132 | AE97: 43313 | AF97: 43648 | AG97: 44196 | AH97: 34896 | AI97: 53327 | AJ97: 42461
