Workbook

Sheet תנאי החתך
A1: סמל סיווג | B1: סיווג מקצועי
A2: 63 | B2: מרכז נושא מוגבלויות | D2: =A2 -> 63
A3: 64 | B3: מרכז נושא שיקום | D3: =D2&" OR "&A3 -> 63 OR 64
A4: 84 | B4: מנהל מדור שיקום | D4: =D3&" OR "&A4 -> 63 OR 64 OR 84
A5: 85 | B5: אחראי מדור מוגבליות | D5: =D4&" OR "&A5 -> 63 OR 64 OR 84 OR 85
A6: 140 | B6: עו"ס שיקום | D6: =D5&" OR "&A6 -> 63 OR 64 OR 84 OR 85 OR 140
A7: 141 | B7: עו"ס מוגבליות | D7: =D6&" OR "&A7 -> 63 OR 64 OR 84 OR 85 OR 140 OR 141
A9: סמל קבוצת | B9: קבוצת תקן
A10: 8 | B10: עו"ס - אוטיסטים

Sheet פילוח 12-2022
A3: סכום של חלקיות העסקה | B3: תוויות עמודה
A4: תוויות שורה | B4: גברים | C4: נשים | D4: (ריק) | E4: סכום כולל
A5: 100 | C5: 2.14 | E5: 2.14
A6: 101 | B6: 1 | C6: 2.5 | E6: 3.5
A7: 102 | B7: 1 | C7: 4.25 | E7: 5.25
A8: 103 | B8: 2.65 | C8: 26.85 | E8: 29.5
A9: 104 | B9: 0.24 | C9: 10.34 | E9: 10.58
A10: 105 | C10: 0.5 | E10: 0.5
A11: 106 | C11: 4.25 | E11: 4.25
A12: 120
A13: 121 | C13: 1.5 | E13: 1.5
A14: 123 | B14: 1 | E14: 1
A15: 124
A16: 125 | C16: 0.83 | E16: 0.83
A17: 128 | C17: 0.33 | E17: 0.33
A18: 129 | B18: 1 | C18: 0.5 | E18: 1.5
A19: 130
A20: 131 | C20: 0.75 | E20: 0.75
A21: 134 | C21: 0.5 | E21: 0.5
A22: 140 | C22: 0.5 | E22: 0.5
A23: 141 | C23: 0.33 | E23: 0.33
A24: 142 | C24: 0.33 | E24: 0.33
A25: 143 | C25: 0.33 | E25: 0.33
A26: 145 | C26: 0.33 | E26: 0.33
A27: 146 | C27: 1.25 | E27: 1.25
A28: 147 | C28: 1.25 | E28: 1.25
A29: 161 | C29: 0.33 | E29: 0.33
A30: 162
A31: 164 | C31: 1 | E31: 1
A32: 165 | C32: 0.83 | E32: 0.83
A33: 166 | C33: 1 | E33: 1
A34: 167 | C34: 0.33 | E34: 0.33
A35: 168
A36: 169 | C36: 0.83 | E36: 0.83
A37: 171 | C37: 0.33 | E37: 0.33
A38: 172 | C38: 0.5 | E38: 0.5
A39: 173 | C39: 0.5 | E39: 0.5
A40: 174 | C40: 0.33 | E40: 0.33
A41: 178 | C41: 1.25 | E41: 1.25
A42: 184 | C42: 0.5 | E42: 0.5
...

Sheet פירוט 12-2022
A1: סמל מחוז | B1: מחוז | C1: סמל רשות | D1: שם הרשות | E1: סמל מחלקה | F1: תאור מחלקה | G1: מספר משרה | H1: סמל סיווג תקן | I1: סיווג מקצועי תקן | J1: סמל מימון | K1: מימון | L1: סמל סעיף תקציבי | M1: סעיף תקציבי | N1: סמל קבוצת תקן | O1: קבוצת תקן | P1: הסכמים מיוחדים | Q1: תז | R1: שם משפחה | S1: שם פרטי | T1: מין | U1: חלקיות תקן | V1: חלקיות העסקה | W1: סמל סיווג העובד | X1: סיווג העובד | Y1: סמל תוספת | Z1: סוג תוספת | AA1: סמל דרוג | AB1: דרוג | AC1: דרגה | AD1: גמול השתלמות | AE1: תאריך התחלה בתפקיד | AF1: תאריך התחלת העובד במשרה | AG1: תאריך סיום העובד במשרה | AH1: תאריך התחלה כרטיס עובד | AI1: תאריך סיום כרטיס עובד | AJ1: תאריך התחלת תקן | AK1: תאריך סיום תקן
A2: 4 | B2: דרום | C2: 100 | D2: אילת | E2: 1000000 | F2: ע. אילת | G2: 2000 | H2: 63 | I2: מרכז נושא מוגבלויות | J2: 1 | K2: ע"ח המשרד | L2: 1 | M2: שכר עובדי המחלקה לש"ח | N2: 0 | P2: ללא הסכם מיוחד | Q2: 302878269 | R2: אברהם | S2: רות | T2: נשים | U2: 0.5 | V2: 0.5 | W2: 63 | X2: מרכז נושא מוגבלויות | Y2: 0 | AA2: 80 | AB2: עו"ס | AC2: 27 | AE2: 44440 | AF2: 44440 | AG2: 47848 | AH2: 43466 | AI2: 47848 | AJ2: 34060
A3: 4 | B3: דרום | C3: 100 | D3: אילת | E3: 1000000 | F3: ע. אילת | G3: 3000 | H3: 64 | I3: מרכז נושא שיקום | J3: 1 | K3: ע"ח המשרד | L3: 1 | M3: שכר עובדי המחלקה לש"ח | N3: 0 | P3: ללא הסכם מיוחד | Q3: 15485998 | R3: ספלטר | S3: לילה | T3: נשים | U3: 0.5 | V3: 0.5 | W3: 64 | X3: מרכז נושא שיקום | Y3: 0 | AA3: 80 | AB3: עו"ס | AC3: 28 | AD3: 108 | AE3: 44743 | AF3: 44743 | AG3: 47848 | AH3: 40664 | AI3: 47848 | AJ3: 26390
A4: 4 | B4: דרום | C4: 100 | D4: אילת | E4: 1000040 | F4: ע. אילת צ.מוגבלויות | G4: 120100 | H4: 120 | I4: עו"ס משפחה (כוללני) | J4: 1 | K4: ע"ח המשרד | L4: 1 | M4: שכר עובדי המחלקה לש"ח | N4: 8 | O4: עו"ס - אוטיסטים | P4: ללא הסכם מיוחד | Q4: 305434664 | R4: לנקרי | S4: עדי | T4: נשים | U4: 0.75 | V4: 0.75 | W4: 120 | X4: עו"ס משפחה (כוללני) | Y4: 0 | AA4: 80 | AB4: עו"ס | AC4: 21 | AD4: 101 | AE4: 42858 | AF4: 44440 | AG4: 47848 | AH4: 43922 | AI4: 47848 | AJ4: 42461
A5: 4 | B5: דרום | C5: 100 | D5: אילת | E5: 1000040 | F5: ע. אילת צ.מוגבלויות | G5: 140100 | H5: 140 | I5: עו"ס שיקום | J5: 1 | K5: ע"ח המשרד | L5: 1 | M5: שכר עובדי המחלקה לש"ח | N5: 0 | P5: ללא הסכם מיוחד | Q5: 302878269 | R5: אברהם | S5: רות | T5: נשים | U5: 0.39 | V5: 0.39 | W5: 140 | X5: עו"ס שיקום | Y5: 0 | AA5: 80 | AB5: עו"ס | AC5: 21 | AE5: 44440 | AF5: 44440 | AG5: 47848 | AH5: 43466 | AI5: 47848 | AJ5: 44348
A6: 1 | B6: ירושלים | C6: 101 | D6: אשקלון | E6: 1010000 | F6: ע. אשקלון | G6: 40100 | H6: 63 | I6: מרכז נושא מוגבלויות | J6: 1 | K6: ע"ח המשרד | L6: 1 | M6: שכר עובדי המחלקה לש"ח | N6: 0 | P6: ללא הסכם מיוחד | Q6: 15857873 | R6: סרדם | S6: אנדריאה | T6: נשים | U6: 1 | V6: 1 | W6: 63 | X6: מרכז נושא מוגבלויות | Y6: 0 | AA6: 80 | AB6: עו"ס | AC6: 27 | AD6: 105 | AE6: 41548 | AF6: 41548 | AG6: 46843 | AH6: 33939 | AI6: 46843 | AJ6: 18629
A7: 1 | B7: ירושלים | C7: 101 | D7: אשקלון | E7: 1010000 | F7: ע. אשקלון | G7: 50200 | H7: 64 | I7: מרכז נושא שיקום | J7: 1 | K7: ע"ח המשרד | L7: 1 | M7: שכר עובדי המחלקה לש"ח | N7: 0 | P7: ללא הסכם מיוחד | Q7: 309855096 | R7: יצחק | S7: לאקהברהן | T7: גברים | U7: 1 | V7: 1 | W7: 64 | X7: מרכז נושא שיקום | Y7: 0 | AA7: 80 | AB7: עו"ס | AC7: 30 | AD7: 111 | AE7: 40238 | AF7: 40238 | AG7: 46752 | AH7: 36151 | AI7: 46752 | AJ7: 18629
A8: 1 | B8: ירושלים | C8: 101 | D8: אשקלון | E8: 1010110 | F8: ע.אשקלון צרכים מיוחד | G8: 120200 | H8: 120 | I8: עו"ס משפחה (כוללני) | J8: 1 | K8: ע"ח המשרד | L8: 1 | M8: שכר עובדי המחלקה לש"ח | N8: 8 | O8: עו"ס - אוטיסטים | P8: ללא הסכם מיוחד | Q8: 29359346 | R8: כהן | S8: ליז | T8: נשים | U8: 0.5 | V8: 0.5 | W8: 120 | X8: עו"ס משפחה (כוללני) | Y8: 0 | AA8: 80 | AB8: עו"ס | AC8: 21 | AD8: 107 | AE8: 43786 | AF8: 43786 | AG8: 48944 | AH8: 43786 | AI8: 49674 | AJ8: 42461
A9: 1 | B9: ירושלים | C9: 101 | D9: אשקלון | E9: 1010110 | F9: ע.אשקלון צרכים מיוחד | G9: 120300 | H9: 120 | I9: עו"ס משפחה (כוללני) | J9: 1 | K9: ע"ח המשרד | L9: 1 | M9: שכר עובדי המחלקה לש"ח | N9: 8 | O9: עו"ס - אוטיסטים | P9: ללא הסכם מיוחד | Q9: 309787885 | R9: ווסה | S9: אנייש | T9: נשים | U9: 1 | V9: 1 | W9: 120 | X9: עו"ס משפחה (כוללני) | Y9: 0 | AA9: 80 | AB9: עו"ס | AC9: 22 | AD9: 102 | AE9: 42522 | AF9: 44440 | AG9: 54057 | AH9: 40163 | AI9: 54057 | AJ9: 42461
A10: 4 | B10: דרום | C10: 102 | D10: באר-שבע | E10: 1020005 | F10: ע.באר שבע צ.שיקום | G10: 60300 | H10: 63 | I10: מרכז נושא מוגבלויות | J10: 1 | K10: ע"ח המשרד | L10: 1 | M10: שכר עובדי המחלקה לש"ח | N10: 0 | P10: ללא הסכם מיוחד | Q10: 58828609 | R10: בן זקרי לוי | S10: מרים מירי | T10: נשים | U10: 1 | V10: 1 | W10: 63 | X10: מרכז נושא מוגבלויות | Y10: 0 | AA10: 80 | AB10: עו"ס | AC10: 30 | AD10: 111 | AE10: 37926 | AF10: 44440 | AG10: 45535 | AH10: 32387 | AI10: 45535 | AJ10: 37073
A11: 4 | B11: דרום | C11: 102 | D11: באר-שבע | E11: 1020005 | F11: ע.באר שבע צ.שיקום | G11: 60400 | H11: 64 | I11: מרכז נושא שיקום | J11: 1 | K11: ע"ח המשרד | L11: 1 | M11: שכר עובדי המחלקה לש"ח | N11: 0 | P11: ללא הסכם מיוחד | Q11: 25410705 | R11: הלל | S11: צביה | T11: נשים | U11: 1 | V11: 0.5 | W11: 64 | X11: מרכז נושא שיקום | Y11: 0 | AA11: 80 | AB11: עו"ס | AC11: 29 | AD11: 106 | AE11: 44424 | AF11: 44424 | AG11: 55153 | AH11: 38678 | AI11: 55153 | AJ11: 33786
A12: 4 | B12: דרום | C12: 102 | D12: באר-שבע | E12: 1020005 | F12: ע.באר שבע צ.שיקום | G12: 60400 | H12: 64 | I12: מרכז נושא שיקום | J12: 1 | K12: ע"ח המשרד | L12: 1 | M12: שכר עובדי המחלקה לש"ח | N12: 0 | P12: ללא הסכם מיוחד | Q12: 29634003 | R12: שקמה | S12: ענבל | T12: נשים | U12: 1 | V12: 0.5 | W12: 64 | X12: מרכז נושא שיקום | Y12: 0 | AA12: 80 | AB12: עו"ס | AC12: 30 | AD12: 111 | AE12: 44424 | AF12: 44424 | AG12: 55153 | AH12: 35476 | AI12: 55153 | AJ12: 33786
A13: 4 | B13: דרום | C13: 102 | D13: באר-שבע | E13: 1020005 | F13: ע.באר שבע צ.שיקום | G13: 120330 | H13: 120 | I13: עו"ס משפחה (כוללני) | J13: 1 | K13: ע"ח המשרד | L13: 1 | M13: שכר עובדי המחלקה לש"ח | N13: 8 | O13: עו"ס - אוטיסטים | P13: ללא הסכם מיוחד | Q13: 22618250 | R13: ביטון בריח | S13: דנה | T13: נשים | U13: 0.25 | V13: 0.25 | W13: 120 | X13: עו"ס משפחה (כוללני) | Y13: 0 | AA13: 80 | AB13: עו"ס | AC13: 21 | AD13: 102 | AE13: 33117 | AF13: 44136 | AG13: 55153 | AH13: 33117 | AI13: 55153 | AJ13: 42461
A14: 4 | B14: דרום | C14: 102 | D14: באר-שבע | E14: 1020005 | F14: ע.באר שבע צ.שיקום | G14: 120340 | H14: 120 | I14: עו"ס משפחה (כוללני) | J14: 1 | K14: ע"ח המשרד | L14: 1 | M14: שכר עובדי המחלקה לש"ח | N14: 8 | O14: עו"ס - אוטיסטים | P14: ללא הסכם מיוחד | Q14: 37978384 | R14: עטיה | S14: ליאור | T14: גברים | U14: 1 | V14: 1 | W14: 120 | X14: עו"ס משפחה (כוללני) | Y14: 0 | AA14: 80 | AB14: עו"ס | AC14: 20 | AD14: 109 | AE14: 44563 | AF14: 44563 | AG14: 47848 | AH14: 44563 | AI14: 47848 | AJ14: 42461
A15: 4 | B15: דרום | C15: 102 | D15: באר-שבע | E15: 1020005 | F15: ע.באר שבע צ.שיקום | G15: 120350 | H15: 120 | I15: עו"ס משפחה (כוללני) | J15: 1 | K15: ע"ח המשרד | L15: 1 | M15: שכר עובדי המחלקה לש"ח | N15: 8 | O15: עו"ס - אוטיסטים | P15: ללא הסכם מיוחד | Q15: 301719498 | R15: אינהסז | S15: רעות | T15: נשים | U15: 1 | V15: 1 | W15: 120 | X15: עו"ס משפחה (כוללני) | Y15: 0 | AA15: 80 | AB15: עו"ס | AC15: 21 | AE15: 41791 | AF15: 44805 | AG15: 46387 | AH15: 41791 | AI15: 55153 | AJ15: 42461
A16: 4 | B16: דרום | C16: 102 | D16: באר-שבע | E16: 1020005 | F16: ע.באר שבע צ.שיקום | G16: 120600 | H16: 120 | I16: עו"ס משפחה (כוללני) | J16: 1 | K16: ע"ח המשרד | L16: 1 | M16: שכר עובדי המחלקה לש"ח | N16: 8 | O16: עו"ס - אוטיסטים | P16: ללא הסכם מיוחד | Q16: 311393854 | R16: פרץ | S16: תהילה | T16: נשים | U16: 1 | V16: 1 | W16: 120 | X16: עו"ס משפחה (כוללני) | Y16: 0 | AA16: 80 | AB16: עו"ס | AC16: 20 | AE16: 44080 | AF16: 44808 | AG16: 46022 | AH16: 44080 | AI16: 47848 | AJ16: 42461
A17: 1 | B17: ירושלים | C17: 103 | D17: ירושלים | E17: 1030000 | F17: ע. י-ם הנהלה | G17: 39210 | H17: 120 | I17: עו"ס משפחה (כוללני) | J17: 1 | K17: ע"ח המשרד | L17: 1 | M17: שכר עובדי המחלקה לש"ח | N17: 8 | O17: עו"ס - אוטיסטים | P17: ללא הסכם מיוחד | Q17: 24395592 | R17: כהן (גבאי) | S17: יעל | T17: נשים | U17: 0.25 | V17: 0.25 | W17: 120 | X17: עו"ס משפחה (כוללני) | Y17: 0 | AA17: 80 | AB17: עו"ס | AC17: 24 | AD17: 111 | AE17: 38534 | AF17: 43831 | AG17: 50009 | AH17: 35521 | AI17: 50009 | AJ17: 42461
A18: 1 | B18: ירושלים | C18: 103 | D18: ירושלים | E18: 1030030 | F18: ע. י-ם מ.שיקום | G18: 7500 | H18: 120 | I18: עו"ס משפחה (כוללני) | J18: 1 | K18: ע"ח המשרד | L18: 1 | M18: שכר עובדי המחלקה לש"ח | N18: 8 | O18: עו"ס - אוטיסטים | P18: ללא הסכם מיוחד | Q18: 302547989 | R18: סויונוב | S18: מורן | T18: נשים | U18: 1 | V18: 0.8 | W18: 120 | X18: עו"ס משפחה (כוללני) | Y18: 0 | AA18: 80 | AB18: עו"ס | AC18: 21 | AD18: 136 | AE18: 43992 | AF18: 43992 | AG18: 57496 | AH18: 42764 | AI18: 57496 | AJ18: 42461
A19: 1 | B19: ירושלים | C19: 103 | D19: ירושלים | E19: 1030030 | F19: ע. י-ם מ.שיקום | G19: 7500 | H19: 120 | I19: עו"ס משפחה (כוללני) | J19: 1 | K19: ע"ח המשרד | L19: 1 | M19: שכר עובדי המחלקה לש"ח | N19: 8 | O19: עו"ס - אוטיסטים | P19: ללא הסכם מיוחד | Q19: 305612681 | R19: באואר | S19: הודיה | T19: נשים | U19: 1 | V19: 0.2 | W19: 120 | X19: עו"ס משפחה (כוללני) | Y19: 0 | AA19: 80 | AB19: עו"ס | AC19: 21 | AE19: 41974 | AF19: 44774 | AG19: 57710 | AH19: 41974 | AI19: 57710 | AJ19: 42461
A20: 1 | B20: ירושלים | C20: 103 | D20: ירושלים | E20: 1030030 | F20: ע. י-ם מ.שיקום | G20: 10200 | H20: 140 | I20: עו"ס שיקום | J20: 1 | K20: ע"ח המשרד | L20: 1 | M20: שכר עובדי המחלקה לש"ח | N20: 0 | P20: ללא הסכם מיוחד | Q20: 305366387 | R20: אריה ברזני | S20: מיכל | T20: נשים | U20: 0.25 | V20: 0.25 | W20: 140 | X20: עו"ס שיקום | Y20: 0 | AA20: 80 | AB20: עו"ס | AC20: 20 | AE20: 44674 | AF20: 44674 | AG20: 57588 | AH20: 44571 | AI20: 57588 | AJ20: 18629
A21: 1 | B21: ירושלים | C21: 103 | D21: ירושלים | E21: 1030030 | F21: ע. י-ם מ.שיקום | G21: 10300 | H21: 140 | I21: עו"ס שיקום | J21: 1 | K21: ע"ח המשרד | L21: 1 | M21: שכר עובדי המחלקה לש"ח | N21: 0 | P21: ללא הסכם מיוחד | Q21: 24395592 | R21: כהן (גבאי) | S21: יעל | T21: נשים | U21: 0.5 | V21: 0.25 | W21: 140 | X21: עו"ס שיקום | Y21: 0 | AA21: 80 | AB21: עו"ס | AC21: 24 | AD21: 111 | AE21: 43922 | AF21: 43922 | AG21: 50009 | AH21: 35521 | AI21: 50009 | AJ21: 18629
A22: 1 | B22: ירושלים | C22: 103 | D22: ירושלים | E22: 1030030 | F22: ע. י-ם מ.שיקום | G22: 10300 | H22: 140 | I22: עו"ס שיקום | J22: 1 | K22: ע"ח המשרד | L22: 1 | M22: שכר עובדי המחלקה לש"ח | N22: 0 | P22: ללא הסכם מיוחד | Q22: 305950388 | R22: בלפר | S22: גלינה | T22: נשים | U22: 0.5 | V22: 0.25 | W22: 140 | X22: עו"ס שיקום | Y22: 0 | AA22: 80 | AB22: עו"ס | AC22: 24 | AD22: 111 | AE22: 39934 | AF22: 43297 | AG22: 46660 | AH22: 35186 | AI22: 46660 | AJ22: 18629
A23: 1 | B23: ירושלים | C23: 103 | D23: ירושלים | E23: 1030030 | F23: ע. י-ם מ.שיקום | G23: 10500 | H23: 140 | I23: עו"ס שיקום | J23: 1 | K23: ע"ח המשרד | L23: 1 | M23: שכר עובדי המחלקה לש"ח | N23: 0 | P23: ללא הסכם מיוחד | Q23: 305950388 | R23: בלפר | S23: גלינה | T23: נשים | U23: 0.5 | V23: 0.5 | W23: 140 | X23: עו"ס שיקום | Y23: 0 | AA23: 80 | AB23: עו"ס | AC23: 24 | AD23: 111 | AE23: 39934 | AF23: 40063 | AG23: 46660 | AH23: 35186 | AI23: 46660 | AJ23: 33786
A24: 1 | B24: ירושלים | C24: 103 | D24: ירושלים | E24: 1030030 | F24: ע. י-ם מ.שיקום | G24: 10700 | H24: 140 | I24: עו"ס שיקום | J24: 1 | K24: ע"ח המשרד | L24: 1 | M24: שכר עובדי המחלקה לש"ח | N24: 0 | P24: ללא הסכם מיוחד | Q24: 33229915 | R24: סרי לוי | S24: יסכה | T24: נשים | U24: 1 | V24: 1 | W24: 140 | X24: עו"ס שיקום | Y24: 0 | AA24: 80 | AB24: עו"ס | AC24: 21 | AE24: 39904 | AF24: 41699 | AG24: 51774 | AH24: 39904 | AI24: 51774 | AJ24: 18629
A25: 1 | B25: ירושלים | C25: 103 | D25: ירושלים | E25: 1030055 | F25: ע.י-ם צוות תלפ"ז | G25: 21500 | H25: 120 | I25: עו"ס משפחה (כוללני) | J25: 1 | K25: ע"ח המשרד | L25: 1 | M25: שכר עובדי המחלקה לש"ח | N25: 8 | O25: עו"ס - אוטיסטים | P25: ללא הסכם מיוחד | Q25: 36508075 | R25: סיימנוס | S25: רחל תרצה | T25: נשים | U25: 0.5 | V25: 0.5 | W25: 120 | X25: עו"ס משפחה (כוללני) | Y25: 0 | AA25: 80 | AB25: עו"ס | AC25: 23 | AD25: 108 | AE25: 38550 | AF25: 44792 | AG25: 53692 | AH25: 37926 | AI25: 53692 | AJ25: 37773
A26: 1 | B26: ירושלים | C26: 103 | D26: ירושלים | E26: 1030056 | F26: ע. י-ם ל ד ש'גילה | G26: 23700 | H26: 120 | I26: עו"ס משפחה (כוללני) | J26: 1 | K26: ע"ח המשרד | L26: 1 | M26: שכר עובדי המחלקה לש"ח | N26: 8 | O26: עו"ס - אוטיסטים | P26: ללא הסכם מיוחד | Q26: 201206471 | R26: אברגל | S26: רעות | T26: נשים | U26: 0.5 | V26: 0.25 | W26: 120 | X26: עו"ס משפחה (כוללני) | Y26: 0 | AA26: 80 | AB26: עו"ס | AC26: 21 | AE26: 43376 | AF26: 44872 | AG26: 57038 | AH26: 43376 | AI26: 57038 | AJ26: 42461
A27: 1 | B27: ירושלים | C27: 103 | D27: ירושלים | E27: 1030056 | F27: ע. י-ם ל ד ש'גילה | G27: 23700 | H27: 120 | I27: עו"ס משפחה (כוללני) | J27: 1 | K27: ע"ח המשרד | L27: 1 | M27: שכר עובדי המחלקה לש"ח | N27: 8 | O27: עו"ס - אוטיסטים | P27: ללא הסכם מיוחד | Q27: 301772372 | R27: סבטיצקי | S27: זילפה | T27: נשים | U27: 0.5 | V27: 0.25 | W27: 120 | X27: עו"ס משפחה (כוללני) | Y27: 0 | AA27: 80 | AB27: עו"ס | AC27: 21 | AE27: 42603 | AF27: 43101 | AG27: 56948 | AH27: 42603 | AI27: 56948 | AJ27: 42461
A28: 1 | B28: ירושלים | C28: 103 | D28: ירושלים | E28: 1030060 | F28: ע. י-ם לשכת מערב | G28: 13100 | H28: 64 | I28: מרכז נושא שיקום | J28: 1 | K28: ע"ח המשרד | L28: 1 | M28: שכר עובדי המחלקה לש"ח | N28: 0 | P28: ללא הסכם מיוחד | Q28: 300970621 | R28: קלין לזוביך | S28: עדי הילה | T28: נשים | U28: 1 | V28: 1 | W28: 64 | X28: מרכז נושא שיקום | Y28: 0 | AA28: 80 | AB28: עו"ס | AC28: 28 | AD28: 104 | AE28: 44059 | AF28: 44470 | AG28: 54635 | AH28: 42948 | AI28: 54635 | AJ28: 37469
A29: 1 | B29: ירושלים | C29: 103 | D29: ירושלים | E29: 1030060 | F29: ע. י-ם לשכת מערב | G29: 40400 | H29: 140 | I29: עו"ס שיקום | J29: 1 | K29: ע"ח המשרד | L29: 1 | M29: שכר עובדי המחלקה לש"ח | N29: 0 | P29: ללא הסכם מיוחד | Q29: 203392493 | R29: הלה גולדברג | S29: ענת | T29: נשים | U29: 0.25 | V29: 0.25 | W29: 140 | X29: עו"ס שיקום | Y29: 0 | AA29: 80 | AB29: עו"ס | AC29: 21 | AD29: 101 | AE29: 44059 | AF29: 44726 | AG29: 58106 | AH29: 43757 | AI29: 58106 | AJ29: 42736
A30: 1 | B30: ירושלים | C30: 103 | D30: ירושלים | E30: 1030073 | F30: ע. י-ם סילואן | G30: 8700 | H30: 120 | I30: עו"ס משפחה (כוללני) | J30: 1 | K30: ע"ח המשרד | L30: 1 | M30: שכר עובדי המחלקה לש"ח | N30: 8 | O30: עו"ס - אוטיסטים | P30: ללא הסכם מיוחד | Q30: 316365147 | R30: מנצור | S30: קריסטין | T30: נשים | U30: 0.25 | V30: 0.25 | W30: 120 | X30: עו"ס משפחה (כוללני) | Y30: 0 | AA30: 80 | AB30: עו"ס | AC30: 21 | AE30: 42953 | AF30: 43922 | AG30: 59291 | AH30: 42953 | AI30: 59291 | AJ30: 42461
A31: 1 | B31: ירושלים | C31: 103 | D31: ירושלים | E31: 1030075 | F31: ע. י-ם ב.צפפה צ.באהר | G31: 120310 | H31: 120 | I31: עו"ס משפחה (כוללני) | J31: 1 | K31: ע"ח המשרד | L31: 1 | M31: שכר עובדי המחלקה לש"ח | N31: 8 | O31: עו"ס - אוטיסטים | P31: ללא הסכם מיוחד | Q31: 312449739 | R31: אבו אלהא | S31: פאטמה | T31: נשים | U31: 0.5 | V31: 0.5 | W31: 120 | X31: עו"ס משפחה (כוללני) | Y31: 0 | AA31: 80 | AB31: עו"ס | AC31: 21 | AD31: 101 | AE31: 42583 | AF31: 43586 | AG31: 58806 | AH31: 42498 | AI31: 58806 | AJ31: 42461
A32: 1 | B32: ירושלים | C32: 103 | D32: ירושלים | E32: 1030110 | F32: ע. י-ם צפון מוגבל'צ1 | G32: 120200 | H32: 120 | I32: עו"ס משפחה (כוללני) | J32: 1 | K32: ע"ח המשרד | L32: 1 | M32: שכר עובדי המחלקה לש"ח | N32: 8 | O32: עו"ס - אוטיסטים | P32: ללא הסכם מיוחד | U32: 0.75 | AJ32: 42461
A33: 1 | B33: ירושלים | C33: 103 | D33: ירושלים | E33: 1030110 | F33: ע. י-ם צפון מוגבל'צ1 | G33: 120500 | H33: 120 | I33: עו"ס משפחה (כוללני) | J33: 1 | K33: ע"ח המשרד | L33: 1 | M33: שכר עובדי המחלקה לש"ח | N33: 8 | O33: עו"ס - אוטיסטים | P33: ללא הסכם מיוחד | Q33: 33365479 | R33: פרנקל | S33: חגית | T33: נשים | U33: 0.5 | V33: 0.25 | W33: 120 | X33: עו"ס משפחה (כוללני) | Y33: 0 | AA33: 80 | AB33: עו"ס | AC33: 22 | AD33: 136 | AE33: 41931 | AF33: 44044 | AG33: 52655 | AH33: 41931 | AI33: 52655 | AJ33: 42461
A34: 1 | B34: ירושלים | C34: 103 | D34: ירושלים | E34: 1030110 | F34: ע. י-ם צפון מוגבל'צ1 | G34: 120500 | H34: 120 | I34: עו"ס משפחה (כוללני) | J34: 1 | K34: ע"ח המשרד | L34: 1 | M34: שכר עובדי המחלקה לש"ח | N34: 8 | O34: עו"ס - אוטיסטים | P34: ללא הסכם מיוחד | Q34: 208243329 | R34: עמיצור שטסל | S34: חן | T34: נשים | U34: 0.5 | V34: 0.25 | W34: 120 | X34: עו"ס משפחה (כוללני) | Y34: 0 | AA34: 80 | AB34: עו"ס | AC34: 21 | AE34: 43450 | AF34: 44505 | AG34: 59505 | AH34: 43450 | AI34: 59505 | AJ34: 42461
A35: 1 | B35: ירושלים | C35: 103 | D35: ירושלים | E35: 1030110 | F35: ע. י-ם צפון מוגבל'צ1 | G35: 140100 | H35: 140 | I35: עו"ס שיקום | J35: 1 | K35: ע"ח המשרד | L35: 1 | M35: שכר עובדי המחלקה לש"ח | N35: 0 | P35: ללא הסכם מיוחד | Q35: 205382757 | R35: לופיאן | S35: רחלי | T35: נשים | U35: 1 | V35: 1 | W35: 140 | X35: עו"ס שיקום | Y35: 0 | AA35: 80 | AB35: עו"ס | AC35: 20 | AE35: 44713 | AF35: 44743 | AG35: 59110 | AH35: 44682 | AI35: 59110 | AJ35: 42736
A36: 1 | B36: ירושלים | C36: 103 | D36: ירושלים | E36: 1030110 | F36: ע. י-ם צפון מוגבל'צ1 | G36: 140300 | H36: 140 | I36: עו"ס שיקום | J36: 1 | K36: ע"ח המשרד | L36: 1 | M36: שכר עובדי המחלקה לש"ח | N36: 0 | P36: ללא הסכם מיוחד | Q36: 33365479 | R36: פרנקל | S36: חגית | T36: נשים | U36: 0.75 | V36: 0.75 | W36: 140 | X36: עו"ס שיקום | Y36: 0 | AA36: 80 | AB36: עו"ס | AC36: 22 | AD36: 136 | AE36: 43952 | AF36: 43983 | AG36: 52655 | AH36: 41931 | AI36: 52655 | AJ36: 42736
A37: 1 | B37: ירושלים | C37: 103 | D37: ירושלים | E37: 1030120 | F37: ע. י-ם צפון מוגבל'צ2 | G37: 140100 | H37: 140 | I37: עו"ס שיקום | J37: 1 | K37: ע"ח המשרד | L37: 1 | M37: שכר עובדי המחלקה לש"ח | N37: 0 | P37: ללא הסכם מיוחד | Q37: 205834765 | R37: שמש | S37: הדסה | T37: נשים | U37: 0.75 | V37: 0.75 | W37: 140 | X37: עו"ס שיקום | Y37: 0 | AA37: 80 | AB37: עו"ס | AC37: 21 | AE37: 43983 | AF37: 44562 | AG37: 59717 | AH37: 43605 | AI37: 59717 | AJ37: 18629
A38: 1 | B38: ירושלים | C38: 103 | D38: ירושלים | E38: 1030120 | F38: ע. י-ם צפון מוגבל'צ2 | G38: 140200 | H38: 140 | I38: עו"ס שיקום | J38: 1 | K38: ע"ח המשרד | L38: 1 | M38: שכר עובדי המחלקה לש"ח | N38: 0 | P38: ללא הסכם מיוחד | Q38: 300733185 | R38: קורן | S38: ענבל | T38: נשים | U38: 0.5 | V38: 0.5 | W38: 140 | X38: עו"ס שיקום | Y38: 0 | AA38: 80 | AB38: עו"ס | AC38: 22 | AD38: 102 | AE38: 44105 | AF38: 44834 | AG38: 56308 | AH38: 41288 | AI38: 56308 | AJ38: 18629
A39: 1 | B39: ירושלים | C39: 103 | D39: ירושלים | E39: 1030120 | F39: ע. י-ם צפון מוגבל'צ2 | G39: 140400 | H39: 140 | I39: עו"ס שיקום | J39: 1 | K39: ע"ח המשרד | L39: 1 | M39: שכר עובדי המחלקה לש"ח | N39: 0 | P39: ללא הסכם מיוחד | Q39: 31790694 | R39: זכריה-ג'בלי | S39: אסתר | T39: נשים | U39: 0.5 | V39: 0.25 | W39: 140 | X39: עו"ס שיקום | Y39: 0 | AA39: 80 | AB39: עו"ס | AC39: 24 | AD39: 111 | AE39: 41091 | AF39: 44228 | AG39: 51713 | AH39: 38905 | AI39: 51713 | AJ39: 18629
A40: 1 | B40: ירושלים | C40: 103 | D40: ירושלים | E40: 1030120 | F40: ע. י-ם צפון מוגבל'צ2 | G40: 140400 | H40: 140 | I40: עו"ס שיקום | J40: 1 | K40: ע"ח המשרד | L40: 1 | M40: שכר עובדי המחלקה לש"ח | N40: 0 | P40: ללא הסכם מיוחד | Q40: 208243329 | R40: עמיצור שטסל | S40: חן | T40: נשים | U40: 0.5 | V40: 0.25 | W40: 140 | X40: עו"ס שיקום | Y40: 0 | AA40: 80 | AB40: עו"ס | AC40: 21 | AE40: 44440 | AF40: 44505 | AG40: 59505 | AH40: 43450 | AI40: 59505 | AJ40: 18629
...

Sheet סיכום
A1: סמל מחוז | B1: מחוז | C1: סמל רשות | D1: רשות | E1: תקן - 2010 | F1: איוש -2010 | G1: אחוז איוש -2010 | H1: גברים- 2010 | I1: נשים -2010 | J1: אחוז גברים- 2010 | K1: אחוז נשים -2010 | L1: תקן - 2020 | M1: איוש -2020 | N1: אחוז איוש -2020 | O1: גברים- 2020 | P1: נשים -2020 | Q1: אחוז גברים- 2020 | R1: אחוז נשים -2020 | S1: תקן - 2022 | T1: איוש -2022 | U1: אחוז איוש -2022 | V1: גברים- 2022 | W1: נשים -2022 | X1: אחוז גברים- 2022 | Y1: אחוז נשים -2022
A2: 1 | B2: ירושלים | C2: 101 | D2: ע. אשקלון | E2: =IFERROR(VLOOKUP(C2,'סיכום 10-2010'!C:H,3,FALSE),0) -> 2 | F2: =IFERROR(VLOOKUP(C2,'סיכום 10-2010'!C:H,4,FALSE),0) -> 2 | G2: =IF(F2=0,0,F2/E2) -> 1 | H2: =IFERROR(VLOOKUP(C2,'סיכום 10-2010'!C:H,5,FALSE),0) -> 1 | I2: =IFERROR(VLOOKUP(C2,'סיכום 10-2010'!C:H,6,FALSE),0) -> 1 | J2: =IF(H2=0,0,H2/F2) -> 0.5 | K2: =IF(I2=0,0,I2/F2) -> 0.5 | L2: =IFERROR(VLOOKUP(C2,'סיכום 10-2020'!C:H,3,FALSE),0) -> 3.5 | M2: =IFERROR(VLOOKUP(C2,'סיכום 10-2020'!C:H,4,FALSE),0) -> 3.5 | N2: =IF(M2=0,0,M2/L2) -> 1 | O2: =IFERROR(VLOOKUP(C2,'סיכום 10-2020'!C:H,5,FALSE),0) -> 1 | P2: =IFERROR(VLOOKUP(C2,'סיכום 10-2020'!C:H,6,FALSE),0) -> 2.5 | Q2: =IF(O2=0,0,O2/M2) -> 0.28571429 | R2: =IF(P2=0,0,P2/M2) -> 0.71428571 | S2: =IFERROR(VLOOKUP(C2,'סיכום 12-2022'!C:H,3,FALSE),0) -> 3.5 | T2: =IFERROR(VLOOKUP(C2,'סיכום 12-2022'!C:H,4,FALSE),0) -> 3.5 | U2: =IF(T2=0,0,T2/S2) -> 1 | V2: =IFERROR(VLOOKUP(C2,'סיכום 12-2022'!C:H,5,FALSE),0) -> 1 | W2: =IFERROR(VLOOKUP(C2,'סיכום 12-2022'!C:H,6,FALSE),0) -> 2.5 | X2: =IF(V2=0,0,V2/T2) -> 0.28571429 | Y2: =IF(W2=0,0,W2/T2) -> 0.71428571
A3: 1 | B3: ירושלים | C3: 103 | D3: ע. ירושלים | E3: =IFERROR(VLOOKUP(C3,'סיכום 10-2010'!C:H,3,FALSE),0) -> 12.4 | F3: =IFERROR(VLOOKUP(C3,'סיכום 10-2010'!C:H,4,FALSE),0) -> 12.4 | G3: =IF(F3=0,0,F3/E3) -> 1 | H3: =IFERROR(VLOOKUP(C3,'סיכום 10-2010'!C:H,5,FALSE),0) -> 1 | I3: =IFERROR(VLOOKUP(C3,'סיכום 10-2010'!C:H,6,FALSE),0) -> 11.4 | J3: =IF(H3=0,0,H3/F3) -> 0.080645161 | K3: =IF(I3=0,0,I3/F3) -> 0.91935484 | L3: =IFERROR(VLOOKUP(C3,'סיכום 10-2020'!C:H,3,FALSE),0) -> 29.85 | M3: =IFERROR(VLOOKUP(C3,'סיכום 10-2020'!C:H,4,FALSE),0) -> 29.85 | N3: =IF(M3=0,0,M3/L3) -> 1 | O3: =IFERROR(VLOOKUP(C3,'סיכום 10-2020'!C:H,5,FALSE),0) -> 0 | P3: =IFERROR(VLOOKUP(C3,'סיכום 10-2020'!C:H,6,FALSE),0) -> 29.85 | Q3: =IF(O3=0,0,O3/M3) -> 0 | R3: =IF(P3=0,0,P3/M3) -> 1 | S3: =IFERROR(VLOOKUP(C3,'סיכום 12-2022'!C:H,3,FALSE),0) -> 30.25 | T3: =IFERROR(VLOOKUP(C3,'סיכום 12-2022'!C:H,4,FALSE),0) -> 29.5 | U3: =IF(T3=0,0,T3/S3) -> 0.97520661 | V3: =IFERROR(VLOOKUP(C3,'סיכום 12-2022'!C:H,5,FALSE),0) -> 2.65 | W3: =IFERROR(VLOOKUP(C3,'סיכום 12-2022'!C:H,6,FALSE),0) -> 26.85 | X3: =IF(V3=0,0,V3/T3) -> 0.089830508 | Y3: =IF(W3=0,0,W3/T3) -> 0.91016949
A4: 1 | B4: ירושלים | C4: 104 | D4: ע. אשדוד | E4: =IFERROR(VLOOKUP(C4,'סיכום 10-2010'!C:H,3,FALSE),0) -> 5.55 | F4: =IFERROR(VLOOKUP(C4,'סיכום 10-2010'!C:H,4,FALSE),0) -> 5.55 | G4: =IF(F4=0,0,F4/E4) -> 1 | H4: =IFERROR(VLOOKUP(C4,'סיכום 10-2010'!C:H,5,FALSE),0) -> 0 | I4: =IFERROR(VLOOKUP(C4,'סיכום 10-2010'!C:H,6,FALSE),0) -> 5.55 | J4: =IF(H4=0,0,H4/F4) -> 0 | K4: =IF(I4=0,0,I4/F4) -> 1 | L4: =IFERROR(VLOOKUP(C4,'סיכום 10-2020'!C:H,3,FALSE),0) -> 13.89 | M4: =IFERROR(VLOOKUP(C4,'סיכום 10-2020'!C:H,4,FALSE),0) -> 12.75 | N4: =IF(M4=0,0,M4/L4) -> 0.91792657 | O4: =IFERROR(VLOOKUP(C4,'סיכום 10-2020'!C:H,5,FALSE),0) -> 0 | P4: =IFERROR(VLOOKUP(C4,'סיכום 10-2020'!C:H,6,FALSE),0) -> 12.75 | Q4: =IF(O4=0,0,O4/M4) -> 0 | R4: =IF(P4=0,0,P4/M4) -> 1 | S4: =IFERROR(VLOOKUP(C4,'סיכום 12-2022'!C:H,3,FALSE),0) -> 12.09 | T4: =IFERROR(VLOOKUP(C4,'סיכום 12-2022'!C:H,4,FALSE),0) -> 10.58 | U4: =IF(T4=0,0,T4/S4) -> 0.87510339 | V4: =IFERROR(VLOOKUP(C4,'סיכום 12-2022'!C:H,5,FALSE),0) -> 0.24 | W4: =IFERROR(VLOOKUP(C4,'סיכום 12-2022'!C:H,6,FALSE),0) -> 10.34 | X4: =IF(V4=0,0,V4/T4) -> 0.02268431 | Y4: =IF(W4=0,0,W4/T4) -> 0.97731569
A5: 1 | B5: ירושלים | C5: 121 | D5: ע. בית שמש | E5: =IFERROR(VLOOKUP(C5,'סיכום 10-2010'!C:H,3,FALSE),0) -> 0 | F5: =IFERROR(VLOOKUP(C5,'סיכום 10-2010'!C:H,4,FALSE),0) -> 0 | G5: =IF(F5=0,0,F5/E5) -> 0 | H5: =IFERROR(VLOOKUP(C5,'סיכום 10-2010'!C:H,5,FALSE),0) -> 0 | I5: =IFERROR(VLOOKUP(C5,'סיכום 10-2010'!C:H,6,FALSE),0) -> 0 | J5: =IF(H5=0,0,H5/F5) -> 0 | K5: =IF(I5=0,0,I5/F5) -> 0 | L5: =IFERROR(VLOOKUP(C5,'סיכום 10-2020'!C:H,3,FALSE),0) -> 2.25 | M5: =IFERROR(VLOOKUP(C5,'סיכום 10-2020'!C:H,4,FALSE),0) -> 2.25 | N5: =IF(M5=0,0,M5/L5) -> 1 | O5: =IFERROR(VLOOKUP(C5,'סיכום 10-2020'!C:H,5,FALSE),0) -> 0 | P5: =IFERROR(VLOOKUP(C5,'סיכום 10-2020'!C:H,6,FALSE),0) -> 2.25 | Q5: =IF(O5=0,0,O5/M5) -> 0 | R5: =IF(P5=0,0,P5/M5) -> 1 | S5: =IFERROR(VLOOKUP(C5,'סיכום 12-2022'!C:H,3,FALSE),0) -> 1.5 | T5: =IFERROR(VLOOKUP(C5,'סיכום 12-2022'!C:H,4,FALSE),0) -> 1.5 | U5: =IF(T5=0,0,T5/S5) -> 1 | V5: =IFERROR(VLOOKUP(C5,'סיכום 12-2022'!C:H,5,FALSE),0) -> 0 | W5: =IFERROR(VLOOKUP(C5,'סיכום 12-2022'!C:H,6,FALSE),0) -> 1.5 | X5: =IF(V5=0,0,V5/T5) -> 0 | Y5: =IF(W5=0,0,W5/T5) -> 1
A6: 1 | B6: ירושלים | C6: 124 | D6: מ.מ מבשרת ציון | E6: =IFERROR(VLOOKUP(C6,'סיכום 10-2010'!C:H,3,FALSE),0) -> 0 | F6: =IFERROR(VLOOKUP(C6,'סיכום 10-2010'!C:H,4,FALSE),0) -> 0 | G6: =IF(F6=0,0,F6/E6) -> 0 | H6: =IFERROR(VLOOKUP(C6,'סיכום 10-2010'!C:H,5,FALSE),0) -> 0 | I6: =IFERROR(VLOOKUP(C6,'סיכום 10-2010'!C:H,6,FALSE),0) -> 0 | J6: =IF(H6=0,0,H6/F6) -> 0 | K6: =IF(I6=0,0,I6/F6) -> 0 | L6: =IFERROR(VLOOKUP(C6,'סיכום 10-2020'!C:H,3,FALSE),0) -> 0.33 | M6: =IFERROR(VLOOKUP(C6,'סיכום 10-2020'!C:H,4,FALSE),0) -> 0.33 | N6: =IF(M6=0,0,M6/L6) -> 1 | O6: =IFERROR(VLOOKUP(C6,'סיכום 10-2020'!C:H,5,FALSE),0) -> 0 | P6: =IFERROR(VLOOKUP(C6,'סיכום 10-2020'!C:H,6,FALSE),0) -> 0.33 | Q6: =IF(O6=0,0,O6/M6) -> 0 | R6: =IF(P6=0,0,P6/M6) -> 1 | S6: =IFERROR(VLOOKUP(C6,'סיכום 12-2022'!C:H,3,FALSE),0) -> 0.5 | T6: =IFERROR(VLOOKUP(C6,'סיכום 12-2022'!C:H,4,FALSE),0) -> 0 | U6: =IF(T6=0,0,T6/S6) -> 0 | V6: =IFERROR(VLOOKUP(C6,'סיכום 12-2022'!C:H,5,FALSE),0) -> 0 | W6: =IFERROR(VLOOKUP(C6,'סיכום 12-2022'!C:H,6,FALSE),0) -> 0 | X6: =IF(V6=0,0,V6/T6) -> 0 | Y6: =IF(W6=0,0,W6/T6) -> 0
A7: 1 | B7: ירושלים | C7: 129 | D7: ע. ק.מלאכי | E7: =IFERROR(VLOOKUP(C7,'סיכום 10-2010'!C:H,3,FALSE),0) -> 0.5 | F7: =IFERROR(VLOOKUP(C7,'סיכום 10-2010'!C:H,4,FALSE),0) -> 0 | G7: =IF(F7=0,0,F7/E7) -> 0 | H7: =IFERROR(VLOOKUP(C7,'סיכום 10-2010'!C:H,5,FALSE),0) -> 0 | I7: =IFERROR(VLOOKUP(C7,'סיכום 10-2010'!C:H,6,FALSE),0) -> 0 | J7: =IF(H7=0,0,H7/F7) -> 0 | K7: =IF(I7=0,0,I7/F7) -> 0 | L7: =IFERROR(VLOOKUP(C7,'סיכום 10-2020'!C:H,3,FALSE),0) -> 1.5 | M7: =IFERROR(VLOOKUP(C7,'סיכום 10-2020'!C:H,4,FALSE),0) -> 1.5 | N7: =IF(M7=0,0,M7/L7) -> 1 | O7: =IFERROR(VLOOKUP(C7,'סיכום 10-2020'!C:H,5,FALSE),0) -> 0 | P7: =IFERROR(VLOOKUP(C7,'סיכום 10-2020'!C:H,6,FALSE),0) -> 1.5 | Q7: =IF(O7=0,0,O7/M7) -> 0 | R7: =IF(P7=0,0,P7/M7) -> 1 | S7: =IFERROR(VLOOKUP(C7,'סיכום 12-2022'!C:H,3,FALSE),0) -> 1.5 | T7: =IFERROR(VLOOKUP(C7,'סיכום 12-2022'!C:H,4,FALSE),0) -> 1.5 | U7: =IF(T7=0,0,T7/S7) -> 1 | V7: =IFERROR(VLOOKUP(C7,'סיכום 12-2022'!C:H,5,FALSE),0) -> 1 | W7: =IFERROR(VLOOKUP(C7,'סיכום 12-2022'!C:H,6,FALSE),0) -> 0.5 | X7: =IF(V7=0,0,V7/T7) -> 0.66666667 | Y7: =IF(W7=0,0,W7/T7) -> 0.33333333
A8: 1 | B8: ירושלים | C8: 131 | D8: מ.מ קרית ארבע | E8: =IFERROR(VLOOKUP(C8,'סיכום 10-2010'!C:H,3,FALSE),0) -> 0 | F8: =IFERROR(VLOOKUP(C8,'סיכום 10-2010'!C:H,4,FALSE),0) -> 0 | G8: =IF(F8=0,0,F8/E8) -> 0 | H8: =IFERROR(VLOOKUP(C8,'סיכום 10-2010'!C:H,5,FALSE),0) -> 0 | I8: =IFERROR(VLOOKUP(C8,'סיכום 10-2010'!C:H,6,FALSE),0) -> 0 | J8: =IF(H8=0,0,H8/F8) -> 0 | K8: =IF(I8=0,0,I8/F8) -> 0 | L8: =IFERROR(VLOOKUP(C8,'סיכום 10-2020'!C:H,3,FALSE),0) -> 0 | M8: =IFERROR(VLOOKUP(C8,'סיכום 10-2020'!C:H,4,FALSE),0) -> 0 | N8: =IF(M8=0,0,M8/L8) -> 0 | O8: =IFERROR(VLOOKUP(C8,'סיכום 10-2020'!C:H,5,FALSE),0) -> 0 | P8: =IFERROR(VLOOKUP(C8,'סיכום 10-2020'!C:H,6,FALSE),0) -> 0 | Q8: =IF(O8=0,0,O8/M8) -> 0 | R8: =IF(P8=0,0,P8/M8) -> 0 | S8: =IFERROR(VLOOKUP(C8,'סיכום 12-2022'!C:H,3,FALSE),0) -> 0.75 | T8: =IFERROR(VLOOKUP(C8,'סיכום 12-2022'!C:H,4,FALSE),0) -> 0.75 | U8: =IF(T8=0,0,T8/S8) -> 1 | V8: =IFERROR(VLOOKUP(C8,'סיכום 12-2022'!C:H,5,FALSE),0) -> 0 | W8: =IFERROR(VLOOKUP(C8,'סיכום 12-2022'!C:H,6,FALSE),0) -> 0.75 | X8: =IF(V8=0,0,V8/T8) -> 0 | Y8: =IF(W8=0,0,W8/T8) -> 1
A9: 1 | B9: ירושלים | C9: 134 | D9: מ.מ בית אל | E9: =IFERROR(VLOOKUP(C9,'סיכום 10-2010'!C:H,3,FALSE),0) -> 0 | F9: =IFERROR(VLOOKUP(C9,'סיכום 10-2010'!C:H,4,FALSE),0) -> 0 | G9: =IF(F9=0,0,F9/E9) -> 0 | H9: =IFERROR(VLOOKUP(C9,'סיכום 10-2010'!C:H,5,FALSE),0) -> 0 | I9: =IFERROR(VLOOKUP(C9,'סיכום 10-2010'!C:H,6,FALSE),0) -> 0 | J9: =IF(H9=0,0,H9/F9) -> 0 | K9: =IF(I9=0,0,I9/F9) -> 0 | L9: =IFERROR(VLOOKUP(C9,'סיכום 10-2020'!C:H,3,FALSE),0) -> 0.33 | M9: =IFERROR(VLOOKUP(C9,'סיכום 10-2020'!C:H,4,FALSE),0) -> 0.33 | N9: =IF(M9=0,0,M9/L9) -> 1 | O9: =IFERROR(VLOOKUP(C9,'סיכום 10-2020'!C:H,5,FALSE),0) -> 0 | P9: =IFERROR(VLOOKUP(C9,'סיכום 10-2020'!C:H,6,FALSE),0) -> 0.33 | Q9: =IF(O9=0,0,O9/M9) -> 0 | R9: =IF(P9=0,0,P9/M9) -> 1 | S9: =IFERROR(VLOOKUP(C9,'סיכום 12-2022'!C:H,3,FALSE),0) -> 0.5 | T9: =IFERROR(VLOOKUP(C9,'סיכום 12-2022'!C:H,4,FALSE),0) -> 0.5 | U9: =IF(T9=0,0,T9/S9) -> 1 | V9: =IFERROR(VLOOKUP(C9,'סיכום 12-2022'!C:H,5,FALSE),0) -> 0 | W9: =IFERROR(VLOOKUP(C9,'סיכום 12-2022'!C:H,6,FALSE),0) -> 0.5 | X9: =IF(V9=0,0,V9/T9) -> 0 | Y9: =IF(W9=0,0,W9/T9) -> 1
A10: 1 | B10: ירושלים | C10: 140 | D10: ע. מעלה אדומים | E10: =IFERROR(VLOOKUP(C10,'סיכום 10-2010'!C:H,3,FALSE),0) -> 0 | F10: =IFERROR(VLOOKUP(C10,'סיכום 10-2010'!C:H,4,FALSE),0) -> 0 | G10: =IF(F10=0,0,F10/E10) -> 0 | H10: =IFERROR(VLOOKUP(C10,'סיכום 10-2010'!C:H,5,FALSE),0) -> 0 | I10: =IFERROR(VLOOKUP(C10,'סיכום 10-2010'!C:H,6,FALSE),0) -> 0 | J10: =IF(H10=0,0,H10/F10) -> 0 | K10: =IF(I10=0,0,I10/F10) -> 0 | L10: =IFERROR(VLOOKUP(C10,'סיכום 10-2020'!C:H,3,FALSE),0) -> 0.5 | M10: =IFERROR(VLOOKUP(C10,'סיכום 10-2020'!C:H,4,FALSE),0) -> 0.5 | N10: =IF(M10=0,0,M10/L10) -> 1 | O10: =IFERROR(VLOOKUP(C10,'סיכום 10-2020'!C:H,5,FALSE),0) -> 0 | P10: =IFERROR(VLOOKUP(C10,'סיכום 10-2020'!C:H,6,FALSE),0) -> 0.5 | Q10: =IF(O10=0,0,O10/M10) -> 0 | R10: =IF(P10=0,0,P10/M10) -> 1 | S10: =IFERROR(VLOOKUP(C10,'סיכום 12-2022'!C:H,3,FALSE),0) -> 0.5 | T10: =IFERROR(VLOOKUP(C10,'סיכום 12-2022'!C:H,4,FALSE),0) -> 0.5 | U10: =IF(T10=0,0,T10/S10) -> 1 | V10: =IFERROR(VLOOKUP(C10,'סיכום 12-2022'!C:H,5,FALSE),0) -> 0 | W10: =IFERROR(VLOOKUP(C10,'סיכום 12-2022'!C:H,6,FALSE),0) -> 0.5 | X10: =IF(V10=0,0,V10/T10) -> 0 | Y10: =IF(W10=0,0,W10/T10) -> 1
A11: 1 | B11: ירושלים | C11: 141 | D11: מ.מ אפרת | E11: =IFERROR(VLOOKUP(C11,'סיכום 10-2010'!C:H,3,FALSE),0) -> 0 | F11: =IFERROR(VLOOKUP(C11,'סיכום 10-2010'!C:H,4,FALSE),0) -> 0 | G11: =IF(F11=0,0,F11/E11) -> 0 | H11: =IFERROR(VLOOKUP(C11,'סיכום 10-2010'!C:H,5,FALSE),0) -> 0 | I11: =IFERROR(VLOOKUP(C11,'סיכום 10-2010'!C:H,6,FALSE),0) -> 0 | J11: =IF(H11=0,0,H11/F11) -> 0 | K11: =IF(I11=0,0,I11/F11) -> 0 | L11: =IFERROR(VLOOKUP(C11,'סיכום 10-2020'!C:H,3,FALSE),0) -> 0.33 | M11: =IFERROR(VLOOKUP(C11,'סיכום 10-2020'!C:H,4,FALSE),0) -> 0.33 | N11: =IF(M11=0,0,M11/L11) -> 1 | O11: =IFERROR(VLOOKUP(C11,'סיכום 10-2020'!C:H,5,FALSE),0) -> 0 | P11: =IFERROR(VLOOKUP(C11,'סיכום 10-2020'!C:H,6,FALSE),0) -> 0.33 | Q11: =IF(O11=0,0,O11/M11) -> 0 | R11: =IF(P11=0,0,P11/M11) -> 1 | S11: =IFERROR(VLOOKUP(C11,'סיכום 12-2022'!C:H,3,FALSE),0) -> 0.33 | T11: =IFERROR(VLOOKUP(C11,'סיכום 12-2022'!C:H,4,FALSE),0) -> 0.33 | U11: =IF(T11=0,0,T11/S11) -> 1 | V11: =IFERROR(VLOOKUP(C11,'סיכום 12-2022'!C:H,5,FALSE),0) -> 0 | W11: =IFERROR(VLOOKUP(C11,'סיכום 12-2022'!C:H,6,FALSE),0) -> 0.33 | X11: =IF(V11=0,0,V11/T11) -> 0 | Y11: =IF(W11=0,0,W11/T11) -> 1
A12: 1 | B12: ירושלים | C12: 142 | D12: מ.מ גבעת זאב | E12: =IFERROR(VLOOKUP(C12,'סיכום 10-2010'!C:H,3,FALSE),0) -> 0 | F12: =IFERROR(VLOOKUP(C12,'סיכום 10-2010'!C:H,4,FALSE),0) -> 0 | G12: =IF(F12=0,0,F12/E12) -> 0 | H12: =IFERROR(VLOOKUP(C12,'סיכום 10-2010'!C:H,5,FALSE),0) -> 0 | I12: =IFERROR(VLOOKUP(C12,'סיכום 10-2010'!C:H,6,FALSE),0) -> 0 | J12: =IF(H12=0,0,H12/F12) -> 0 | K12: =IF(I12=0,0,I12/F12) -> 0 | L12: =IFERROR(VLOOKUP(C12,'סיכום 10-2020'!C:H,3,FALSE),0) -> 0.33 | M12: =IFERROR(VLOOKUP(C12,'סיכום 10-2020'!C:H,4,FALSE),0) -> 0.33 | N12: =IF(M12=0,0,M12/L12) -> 1 | O12: =IFERROR(VLOOKUP(C12,'סיכום 10-2020'!C:H,5,FALSE),0) -> 0 | P12: =IFERROR(VLOOKUP(C12,'סיכום 10-2020'!C:H,6,FALSE),0) -> 0.33 | Q12: =IF(O12=0,0,O12/M12) -> 0 | R12: =IF(P12=0,0,P12/M12) -> 1 | S12: =IFERROR(VLOOKUP(C12,'סיכום 12-2022'!C:H,3,FALSE),0) -> 0.33 | T12: =IFERROR(VLOOKUP(C12,'סיכום 12-2022'!C:H,4,FALSE),0) -> 0.33 | U12: =IF(T12=0,0,T12/S12) -> 1 | V12: =IFERROR(VLOOKUP(C12,'סיכום 12-2022'!C:H,5,FALSE),0) -> 0 | W12: =IFERROR(VLOOKUP(C12,'סיכום 12-2022'!C:H,6,FALSE),0) -> 0.33 | X12: =IF(V12=0,0,V12/T12) -> 0 | Y12: =IF(W12=0,0,W12/T12) -> 1
A13: 1 | B13: ירושלים | C13: 146 | D13: ע. ביתר עילית | E13: =IFERROR(VLOOKUP(C13,'סיכום 10-2010'!C:H,3,FALSE),0) -> 0 | F13: =IFERROR(VLOOKUP(C13,'סיכום 10-2010'!C:H,4,FALSE),0) -> 0 | G13: =IF(F13=0,0,F13/E13) -> 0 | H13: =IFERROR(VLOOKUP(C13,'סיכום 10-2010'!C:H,5,FALSE),0) -> 0 | I13: =IFERROR(VLOOKUP(C13,'סיכום 10-2010'!C:H,6,FALSE),0) -> 0 | J13: =IF(H13=0,0,H13/F13) -> 0 | K13: =IF(I13=0,0,I13/F13) -> 0 | L13: =IFERROR(VLOOKUP(C13,'סיכום 10-2020'!C:H,3,FALSE),0) -> 1.25 | M13: =IFERROR(VLOOKUP(C13,'סיכום 10-2020'!C:H,4,FALSE),0) -> 1.25 | N13: =IF(M13=0,0,M13/L13) -> 1 | O13: =IFERROR(VLOOKUP(C13,'סיכום 10-2020'!C:H,5,FALSE),0) -> 0 | P13: =IFERROR(VLOOKUP(C13,'סיכום 10-2020'!C:H,6,FALSE),0) -> 1.25 | Q13: =IF(O13=0,0,O13/M13) -> 0 | R13: =IF(P13=0,0,P13/M13) -> 1 | S13: =IFERROR(VLOOKUP(C13,'סיכום 12-2022'!C:H,3,FALSE),0) -> 1.25 | T13: =IFERROR(VLOOKUP(C13,'סיכום 12-2022'!C:H,4,FALSE),0) -> 1.25 | U13: =IF(T13=0,0,T13/S13) -> 1 | V13: =IFERROR(VLOOKUP(C13,'סיכום 12-2022'!C:H,5,FALSE),0) -> 0 | W13: =IFERROR(VLOOKUP(C13,'סיכום 12-2022'!C:H,6,FALSE),0) -> 1.25 | X13: =IF(V13=0,0,V13/T13) -> 0 | Y13: =IF(W13=0,0,W13/T13) -> 1
... A168: 4 | B168: דרום | C168: 246 | D168: מ.א נווה מדבר | E168: =IFERROR(VLOOKUP(C168,'סיכום 10-2010'!C:H,3,FALSE),0) -> 0 | F168: =IFERROR(VLOOKUP(C168,'סיכום 10-2010'!C:H,4,FALSE),0) -> 0 | G168: =IF(F168=0,0,F168/E168) -> 0 | H168: =IFERROR(VLOOKUP(C168,'סיכום 10-2010'!C:H,5,FALSE),0) -> 0 | I168: =IFERROR(VLOOKUP(C168,'סיכום 10-2010'!C:H,6,FALSE),0) -> 0 | J168: =IF(H168=0,0,H168/F168) -> 0 | K168: =IF(I168=0,0,I168/F168) -> 0 | L168: =IFERROR(VLOOKUP(C168,'סיכום 10-2020'!C:H,3,FALSE),0) -> 1 | M168: =IFERROR(VLOOKUP(C168,'סיכום 10-2020'!C:H,4,FALSE),0) -> 1 | N168: =IF(M168=0,0,M168/L168) -> 1 | O168: =IFERROR(VLOOKUP(C168,'סיכום 10-2020'!C:H,5,FALSE),0) -> 0 | P168: =IFERROR(VLOOKUP(C168,'סיכום 10-2020'!C:H,6,FALSE),0) -> 1 | Q168: =IF(O168=0,0,O168/M168) -> 0 | R168: =IF(P168=0,0,P168/M168) -> 1 | S168: =IFERROR(VLOOKUP(C168,'סיכום 12-2022'!C:H,3,FALSE),0) -> 1 | T168: =IFERROR(VLOOKUP(C168,'סיכום 12-2022'!C:H,4,FALSE),0) -> 0 | U168: =IF(T168=0,0,T168/S168) -> 0 | V168: =IFERROR(VLOOKUP(C168,'סיכום 12-2022'!C:H,5,FALSE),0) -> 0 | W168: =IFERROR(VLOOKUP(C168,'סיכום 12-2022'!C:H,6,FALSE),0) -> 0 | X168: =IF(V168=0,0,V168/T168) -> 0 | Y168: =IF(W168=0,0,W168/T168) -> 0
E170: =SUM(E2:E168) -> 73.19 | F170: =SUM(F2:F168) -> 70.75 | G170: =F170/E170 -> 0.96666211 | H170: =SUM(H2:H168) -> 4.5 | I170: =SUM(I2:I168) -> 66.25 | J170: =IF(H170=0,0,H170/F170) -> 0.06360424 | K170: =IF(I170=0,0,I170/F170) -> 0.93639576 | L170: =SUM(L2:L168) -> 217.28 | M170: =SUM(M2:M168) -> 205.87 | N170: =IF(M170=0,0,M170/L170) -> 0.94748711 | O170: =SUM(O2:O168) -> 11.04 | P170: =SUM(P2:P168) -> 194.83 | Q170: =IF(O170=0,0,O170/M170) -> 0.053626075 | R170: =IF(P170=0,0,P170/M170) -> 0.94637393 | S170: =SUM(S2:S168) -> 233.31 | T170: =SUM(T2:T168) -> 210.35 | U170: =IF(T170=0,0,T170/S170) -> 0.90159016 | V170: =SUM(V2:V168) -> 21.13 | W170: =SUM(W2:W168) -> 189.22 | X170: =IF(V170=0,0,V170/T170) -> 0.10045163 | Y170: =IF(W170=0,0,W170/T170) -> 0.89954837

Sheet סיכום 10-2010
A1: סמל מחוז | B1: מחוז | C1: סמל רשות | D1: רשות | E1: תקן | F1: איוש | G1: גברים | H1: נשים | I1: סכום כולל
A2: 1 | B2: ירושלים | C2: 101 | D2: ע. אשקלון | E2: 2 | F2: 2 | G2: =IFERROR(VLOOKUP(C2,'פילוח 10-2010'!A:E,2,FALSE),0) -> 1 | H2: =IFERROR(VLOOKUP(C2,'פילוח 10-2010'!A:E,3,FALSE),0) -> 1 | I2: =IFERROR(VLOOKUP(C2,'פילוח 10-2010'!A:E,5,FALSE),0) -> 2 | J2: =I2-F2 -> 0
A3: 1 | B3: ירושלים | C3: 103 | D3: ע. ירושלים | E3: 12.4 | F3: 12.4 | G3: =IFERROR(VLOOKUP(C3,'פילוח 10-2010'!A:E,2,FALSE),0) -> 1 | H3: =IFERROR(VLOOKUP(C3,'פילוח 10-2010'!A:E,3,FALSE),0) -> 11.4 | I3: =IFERROR(VLOOKUP(C3,'פילוח 10-2010'!A:E,5,FALSE),0) -> 12.4 | J3: =I3-F3 -> 0
A4: 1 | B4: ירושלים | C4: 104 | D4: ע. אשדוד | E4: 5.55 | F4: 5.55 | G4: =IFERROR(VLOOKUP(C4,'פילוח 10-2010'!A:E,2,FALSE),0) -> 0 | H4: =IFERROR(VLOOKUP(C4,'פילוח 10-2010'!A:E,3,FALSE),0) -> 5.55 | I4: =IFERROR(VLOOKUP(C4,'פילוח 10-2010'!A:E,5,FALSE),0) -> 5.55 | J4: =I4-F4 -> 0
A5: 1 | B5: ירושלים | C5: 129 | D5: ע. ק.מלאכי | E5: 0.5 | G5: =IFERROR(VLOOKUP(C5,'פילוח 10-2010'!A:E,2,FALSE),0) -> 0 | H5: =IFERROR(VLOOKUP(C5,'פילוח 10-2010'!A:E,3,FALSE),0) -> 0 | I5: =IFERROR(VLOOKUP(C5,'פילוח 10-2010'!A:E,5,FALSE),0) -> 0 | J5: =I5-F5 -> 0
A6: 1 | B6: ירושלים | C6: 147 | D6: ע. מודיעין עילית | E6: 0.5 | F6: 0.5 | G6: =IFERROR(VLOOKUP(C6,'פילוח 10-2010'!A:E,2,FALSE),0) -> 0 | H6: =IFERROR(VLOOKUP(C6,'פילוח 10-2010'!A:E,3,FALSE),0) -> 0.5 | I6: =IFERROR(VLOOKUP(C6,'פילוח 10-2010'!A:E,5,FALSE),0) -> 0.5 | J6: =I6-F6 -> 0
A7: 2 | B7: תל - אביב | C7: 300 | D7: ע. בני ברק | E7: 4.21 | F7: 4.04 | G7: =IFERROR(VLOOKUP(C7,'פילוח 10-2010'!A:E,2,FALSE),0) -> 0 | H7: =IFERROR(VLOOKUP(C7,'פילוח 10-2010'!A:E,3,FALSE),0) -> 4.04 | I7: =IFERROR(VLOOKUP(C7,'פילוח 10-2010'!A:E,5,FALSE),0) -> 4.04 | J7: =I7-F7 -> 0
A8: 2 | B8: תל - אביב | C8: 301 | D8: ע. בת ים | E8: 1.5 | F8: 1.5 | G8: =IFERROR(VLOOKUP(C8,'פילוח 10-2010'!A:E,2,FALSE),0) -> 0 | H8: =IFERROR(VLOOKUP(C8,'פילוח 10-2010'!A:E,3,FALSE),0) -> 1.5 | I8: =IFERROR(VLOOKUP(C8,'פילוח 10-2010'!A:E,5,FALSE),0) -> 1.5 | J8: =I8-F8 -> 0
A9: 2 | B9: תל - אביב | C9: 302 | D9: ע. גבעתיים | E9: 0.5 | F9: 0.5 | G9: =IFERROR(VLOOKUP(C9,'פילוח 10-2010'!A:E,2,FALSE),0) -> 0 | H9: =IFERROR(VLOOKUP(C9,'פילוח 10-2010'!A:E,3,FALSE),0) -> 0.5 | I9: =IFERROR(VLOOKUP(C9,'פילוח 10-2010'!A:E,5,FALSE),0) -> 0.5 | J9: =I9-F9 -> 0
A10: 2 | B10: תל - אביב | C10: 303 | D10: ע. הרצליה | E10: 1.25 | F10: 1.25 | G10: =IFERROR(VLOOKUP(C10,'פילוח 10-2010'!A:E,2,FALSE),0) -> 0 | H10: =IFERROR(VLOOKUP(C10,'פילוח 10-2010'!A:E,3,FALSE),0) -> 1.25 | I10: =IFERROR(VLOOKUP(C10,'פילוח 10-2010'!A:E,5,FALSE),0) -> 1.25 | J10: =I10-F10 -> 0
A11: 2 | B11: תל - אביב | C11: 304 | D11: ע. חולון | E11: 1.4 | F11: 1.4 | G11: =IFERROR(VLOOKUP(C11,'פילוח 10-2010'!A:E,2,FALSE),0) -> 0 | H11: =IFERROR(VLOOKUP(C11,'פילוח 10-2010'!A:E,3,FALSE),0) -> 1.4 | I11: =IFERROR(VLOOKUP(C11,'פילוח 10-2010'!A:E,5,FALSE),0) -> 1.4 | J11: =I11-F11 -> 0
A12: 2 | B12: תל - אביב | C12: 305 | D12: ע. כפר סבא | E12: 1.45 | F12: 1.45 | G12: =IFERROR(VLOOKUP(C12,'פילוח 10-2010'!A:E,2,FALSE),0) -> 0 | H12: =IFERROR(VLOOKUP(C12,'פילוח 10-2010'!A:E,3,FALSE),0) -> 1.45 | I12: =IFERROR(VLOOKUP(C12,'פילוח 10-2010'!A:E,5,FALSE),0) -> 1.45 | J12: =I12-F12 -> 0
A13: 2 | B13: תל - אביב | C13: 306 | D13: ע. לוד | E13: 1 | F13: 1 | G13: =IFERROR(VLOOKUP(C13,'פילוח 10-2010'!A:E,2,FALSE),0) -> 0 | H13: =IFERROR(VLOOKUP(C13,'פילוח 10-2010'!A:E,3,FALSE),0) -> 1 | I13: =IFERROR(VLOOKUP(C13,'פילוח 10-2010'!A:E,5,FALSE),0) -> 1 | J13: =I13-F13 -> 0
A14: 2 | B14: תל - אביב | C14: 307 | D14: ע. נתניה | E14: 0.5 | F14: 0.5 | G14: =IFERROR(VLOOKUP(C14,'פילוח 10-2010'!A:E,2,FALSE),0) -> 0 | H14: =IFERROR(VLOOKUP(C14,'פילוח 10-2010'!A:E,3,FALSE),0) -> 0.5 | I14: =IFERROR(VLOOKUP(C14,'פילוח 10-2010'!A:E,5,FALSE),0) -> 0.5 | J14: =I14-F14 -> 0
A15: 2 | B15: תל - אביב | C15: 308 | D15: ע. פתח תקוה | E15: 1.25 | F15: 1.25 | G15: =IFERROR(VLOOKUP(C15,'פילוח 10-2010'!A:E,2,FALSE),0) -> 0 | H15: =IFERROR(VLOOKUP(C15,'פילוח 10-2010'!A:E,3,FALSE),0) -> 1.25 | I15: =IFERROR(VLOOKUP(C15,'פילוח 10-2010'!A:E,5,FALSE),0) -> 1.25 | J15: =I15-F15 -> 0
A16: 2 | B16: תל - אביב | C16: 309 | D16: ע. ראשל"צ | E16: 1.25 | F16: 1.25 | G16: =IFERROR(VLOOKUP(C16,'פילוח 10-2010'!A:E,2,FALSE),0) -> 0 | H16: =IFERROR(VLOOKUP(C16,'פילוח 10-2010'!A:E,3,FALSE),0) -> 1.25 | I16: =IFERROR(VLOOKUP(C16,'פילוח 10-2010'!A:E,5,FALSE),0) -> 1.25 | J16: =I16-F16 -> 0
A17: 2 | B17: תל - אביב | C17: 310 | D17: ע. רחובות | E17: 1 | F17: 1 | G17: =IFERROR(VLOOKUP(C17,'פילוח 10-2010'!A:E,2,FALSE),0) -> 0 | H17: =IFERROR(VLOOKUP(C17,'פילוח 10-2010'!A:E,3,FALSE),0) -> 1 | I17: =IFERROR(VLOOKUP(C17,'פילוח 10-2010'!A:E,5,FALSE),0) -> 1 | J17: =I17-F17 -> 0
... A32: 3 | B32: חיפה | C32: 501 | D32: ע.חיפה | E32: 4.5 | F32: 4.5 | G32: =IFERROR(VLOOKUP(C32,'פילוח 10-2010'!A:E,2,FALSE),0) -> 1 | H32: =IFERROR(VLOOKUP(C32,'פילוח 10-2010'!A:E,3,FALSE),0) -> 3.5 | I32: =IFERROR(VLOOKUP(C32,'פילוח 10-2010'!A:E,5,FALSE),0) -> 4.5 | J32: =I32-F32 -> 0
A33: 3 | B33: חיפה | C33: 502 | D33: ע. טבריה | E33: 0.5 | G33: =IFERROR(VLOOKUP(C33,'פילוח 10-2010'!A:E,2,FALSE),0) -> 0 | H33: =IFERROR(VLOOKUP(C33,'פילוח 10-2010'!A:E,3,FALSE),0) -> 0 | I33: =IFERROR(VLOOKUP(C33,'פילוח 10-2010'!A:E,5,FALSE),0) -> 0 | J33: =I33-F33 -> 0
A34: 3 | B34: חיפה | C34: 504 | D34: ע. עכו | E34: 1.5 | F34: 1.5 | G34: =IFERROR(VLOOKUP(C34,'פילוח 10-2010'!A:E,2,FALSE),0) -> 0 | H34: =IFERROR(VLOOKUP(C34,'פילוח 10-2010'!A:E,3,FALSE),0) -> 1.5 | I34: =IFERROR(VLOOKUP(C34,'פילוח 10-2010'!A:E,5,FALSE),0) -> 1.5 | J34: =I34-F34 -> 0
A35: 3 | B35: חיפה | C35: 506 | D35: ע. ק.אתא | E35: 0.5 | F35: 0.5 | G35: =IFERROR(VLOOKUP(C35,'פילוח 10-2010'!A:E,2,FALSE),0) -> 0 | H35: =IFERROR(VLOOKUP(C35,'פילוח 10-2010'!A:E,3,FALSE),0) -> 0.5 | I35: =IFERROR(VLOOKUP(C35,'פילוח 10-2010'!A:E,5,FALSE),0) -> 0.5 | J35: =I35-F35 -> 0
A36: 3 | B36: חיפה | C36: 507 | D36: ע. עפולה | E36: 0.5 | F36: 0.5 | G36: =IFERROR(VLOOKUP(C36,'פילוח 10-2010'!A:E,2,FALSE),0) -> 0 | H36: =IFERROR(VLOOKUP(C36,'פילוח 10-2010'!A:E,3,FALSE),0) -> 0.5 | I36: =IFERROR(VLOOKUP(C36,'פילוח 10-2010'!A:E,5,FALSE),0) -> 0.5 | J36: =I36-F36 -> 0
A37: 3 | B37: חיפה | C37: 529 | D37: ע. יקנעם | E37: 0.5 | F37: 0.5 | G37: =IFERROR(VLOOKUP(C37,'פילוח 10-2010'!A:E,2,FALSE),0) -> 0 | H37: =IFERROR(VLOOKUP(C37,'פילוח 10-2010'!A:E,3,FALSE),0) -> 0.5 | I37: =IFERROR(VLOOKUP(C37,'פילוח 10-2010'!A:E,5,FALSE),0) -> 0.5 | J37: =I37-F37 -> 0
A38: 3 | B38: חיפה | C38: 543 | D38: ע. קרית ים | E38: 1 | F38: 1 | G38: =IFERROR(VLOOKUP(C38,'פילוח 10-2010'!A:E,2,FALSE),0) -> 0 | H38: =IFERROR(VLOOKUP(C38,'פילוח 10-2010'!A:E,3,FALSE),0) -> 1 | I38: =IFERROR(VLOOKUP(C38,'פילוח 10-2010'!A:E,5,FALSE),0) -> 1 | J38: =I38-F38 -> 0
A39: 3 | B39: חיפה | C39: 544 | D39: ע. קרית מוצקין | E39: 0.75 | F39: 0.75 | G39: =IFERROR(VLOOKUP(C39,'פילוח 10-2010'!A:E,2,FALSE),0) -> 0 | H39: =IFERROR(VLOOKUP(C39,'פילוח 10-2010'!A:E,3,FALSE),0) -> 0.75 | I39: =IFERROR(VLOOKUP(C39,'פילוח 10-2010'!A:E,5,FALSE),0) -> 0.75 | J39: =I39-F39 -> 0
A40: 3 | B40: חיפה | C40: 545 | D40: ע. קרית שמונה | E40: 1 | F40: 1 | G40: =IFERROR(VLOOKUP(C40,'פילוח 10-2010'!A:E,2,FALSE),0) -> 0 | H40: =IFERROR(VLOOKUP(C40,'פילוח 10-2010'!A:E,3,FALSE),0) -> 1 | I40: =IFERROR(VLOOKUP(C40,'פילוח 10-2010'!A:E,5,FALSE),0) -> 1 | J40: =I40-F40 -> 0
A41: 3 | B41: חיפה | C41: 552 | D41: ע. כרמיאל | E41: 0.6 | F41: 0.6 | G41: =IFERROR(VLOOKUP(C41,'פילוח 10-2010'!A:E,2,FALSE),0) -> 0 | H41: =IFERROR(VLOOKUP(C41,'פילוח 10-2010'!A:E,3,FALSE),0) -> 0.6 | I41: =IFERROR(VLOOKUP(C41,'פילוח 10-2010'!A:E,5,FALSE),0) -> 0.6 | J41: =I41-F41 -> 0
A42: 3 | B42: חיפה | C42: 562 | D42: מ.א מטה אשר | E42: 0.5 | F42: 0.5 | G42: =IFERROR(VLOOKUP(C42,'פילוח 10-2010'!A:E,2,FALSE),0) -> 0 | H42: =IFERROR(VLOOKUP(C42,'פילוח 10-2010'!A:E,3,FALSE),0) -> 0.5 | I42: =IFERROR(VLOOKUP(C42,'פילוח 10-2010'!A:E,5,FALSE),0) -> 0.5 | J42: =I42-F42 -> 0
A43: 3 | B43: חיפה | C43: 564 | D43: מ.א גליל עליון | E43: 0.5 | F43: 0.5 | G43: =IFERROR(VLOOKUP(C43,'פילוח 10-2010'!A:E,2,FALSE),0) -> 0 | H43: =IFERROR(VLOOKUP(C43,'פילוח 10-2010'!A:E,3,FALSE),0) -> 0.5 | I43: =IFERROR(VLOOKUP(C43,'פילוח 10-2010'!A:E,5,FALSE),0) -> 0.5 | J43: =I43-F43 -> 0
A44: 3 | B44: חיפה | C44: 600 | D44: ע. נצרת | E44: 1.4 | F44: 1.4 | G44: =IFERROR(VLOOKUP(C44,'פילוח 10-2010'!A:E,2,FALSE),0) -> 0 | H44: =IFERROR(VLOOKUP(C44,'פילוח 10-2010'!A:E,3,FALSE),0) -> 1.4 | I44: =IFERROR(VLOOKUP(C44,'פילוח 10-2010'!A:E,5,FALSE),0) -> 1.4 | J44: =I44-F44 -> 0
A45: 3 | B45: חיפה | C45: 601 | D45: ע. שפרעם | E45: 0.5 | F45: 0.5 | G45: =IFERROR(VLOOKUP(C45,'פילוח 10-2010'!A:E,2,FALSE),0) -> 0 | H45: =IFERROR(VLOOKUP(C45,'פילוח 10-2010'!A:E,3,FALSE),0) -> 0.5 | I45: =IFERROR(VLOOKUP(C45,'פילוח 10-2010'!A:E,5,FALSE),0) -> 0.5 | J45: =I45-F45 -> 0
... A55: 4 | B55: דרום | C55: 123 | D55: מ.מ ירוחם | E55: 1 | F55: 1 | G55: =IFERROR(VLOOKUP(C55,'פילוח 10-2010'!A:E,2,FALSE),0) -> 0 | H55: =IFERROR(VLOOKUP(C55,'פילוח 10-2010'!A:E,3,FALSE),0) -> 1 | I55: =IFERROR(VLOOKUP(C55,'פילוח 10-2010'!A:E,5,FALSE),0) -> 1 | J55: =I55-F55 -> 0
A56: 4 | B56: דרום | C56: 125 | D56: ע. נתיבות | E56: 0.5 | G56: =IFERROR(VLOOKUP(C56,'פילוח 10-2010'!A:E,2,FALSE),0) -> 0 | H56: =IFERROR(VLOOKUP(C56,'פילוח 10-2010'!A:E,3,FALSE),0) -> 0 | I56: =IFERROR(VLOOKUP(C56,'פילוח 10-2010'!A:E,5,FALSE),0) -> 0 | J56: =I56-F56 -> 0
A57: 4 | B57: דרום | C57: 245 | D57: מ.א אל קאסום | E57: 0.5 | F57: 0.5 | G57: =IFERROR(VLOOKUP(C57,'פילוח 10-2010'!A:E,2,FALSE),0) -> 0 | H57: =IFERROR(VLOOKUP(C57,'פילוח 10-2010'!A:E,3,FALSE),0) -> 0.5 | I57: =IFERROR(VLOOKUP(C57,'פילוח 10-2010'!A:E,5,FALSE),0) -> 0.5 | J57: =I57-F57 -> 0
E59: =SUM(E2:E58) -> 73.19 | F59: =SUM(F2:F58) -> 70.75 | G59: =SUM(G2:G58) -> 4.5 | H59: =SUM(H2:H58) -> 66.25 | I59: =SUM(I2:I58) -> 70.75 | J59: =SUM(J2:J58) -> 0

Sheet פילוח 10-2010
A3: סכום של חלקיות העסקה | B3: תוויות עמודה
A4: תוויות שורה | B4: גברים | C4: נשים | D4: (ריק) | E4: סכום כולל
A5: 100 | C5: 1 | E5: 1
A6: 101 | B6: 1 | C6: 1 | E6: 2
A7: 102 | C7: 1 | E7: 1
A8: 103 | B8: 1 | C8: 11.4 | E8: 12.4
A9: 104 | C9: 5.55 | E9: 5.55
A10: 105 | C10: 0.76 | E10: 0.76
A11: 106 | C11: 1 | E11: 1
A12: 120 | C12: 0.5 | E12: 0.5
A13: 123 | C13: 1 | E13: 1
A14: 125
A15: 129
A16: 147 | C16: 0.5 | E16: 0.5
A17: 245 | C17: 0.5 | E17: 0.5
A18: 300 | C18: 4.04 | E18: 4.04
A19: 301 | C19: 1.5 | E19: 1.5
A20: 302 | C20: 0.5 | E20: 0.5
A21: 303 | C21: 1.25 | E21: 1.25
A22: 304 | C22: 1.4 | E22: 1.4
A23: 305 | C23: 1.45 | E23: 1.45
A24: 306 | C24: 1 | E24: 1
A25: 307 | C25: 0.5 | E25: 0.5
A26: 308 | C26: 1.25 | E26: 1.25
A27: 309 | C27: 1.25 | E27: 1.25
... A39: 359 | C39: 1.25 | E39: 1.25
A40: 374 | B40: 0.5 | E40: 0.5
A41: 426 | C41: 0.4 | E41: 0.4
A42: 500 | C42: 1.25 | E42: 1.25
A43: 501 | B43: 1 | C43: 3.5 | E43: 4.5
A44: 502
A45: 504 | C45: 1.5 | E45: 1.5
A46: 506 | C46: 0.5 | E46: 0.5
A47: 507 | C47: 0.5 | E47: 0.5
A48: 529 | C48: 0.5 | E48: 0.5
A49: 543 | C49: 1 | E49: 1
A50: 544 | C50: 0.75 | E50: 0.75
A51: 545 | C51: 1 | E51: 1
A52: 552 | C52: 0.6 | E52: 0.6
A53: 562 | C53: 0.5 | E53: 0.5
...

Sheet פירוט 10-2010
A1: סמל מחוז | B1: מחוז | C1: סמל רשות | D1: שם הרשות | E1: סמל מחלקה | F1: תאור מחלקה | G1: מספר משרה | H1: סמל סיווג תקן | I1: סיווג מקצועי תקן | J1: סמל מימון | K1: מימון | L1: סמל סעיף תקציבי | M1: סעיף תקציבי | N1: סמל קבוצת תקן | O1: קבוצת תקן | P1: הסכמים מיוחדים | Q1: תז | R1: שם משפחה | S1: שם פרטי | T1: מין | U1: חלקיות תקן | V1: חלקיות העסקה | W1: סמל סיווג העובד | X1: סיווג העובד | Y1: סמל תוספת | Z1: סוג תוספת | AA1: סמל דרוג | AB1: דרוג | AC1: דרגה | AD1: גמול השתלמות | AE1: תאריך התחלה בתפקיד | AF1: תאריך התחלת העובד במשרה | AG1: תאריך סיום העובד במשרה | AH1: תאריך התחלה כרטיס עובד | AI1: תאריך סיום כרטיס עובד | AJ1: תאריך התחלת תקן | AK1: תאריך סיום תקן | AL1: סמל סיווג חדש | AM1: סיווג מקצועי חדש | AN1: חלקיות העסקה חדשה | AO1: תפקיד נוסף - למילוי
A2: 1 | B2: ירושלים | C2: 101 | D2: אשקלון | E2: 1010000 | F2: ע. אשקלון | G2: 40100 | H2: 63 | I2: מרכז נושא מוגבלויות | J2: 1 | K2: ע"ח המשרד | L2: 1 | M2: שכר עובדי המחלקה לש"ח | N2: 0 | P2: ללא הסכם מיוחד | Q2: 62628250 | R2: כהן | S2: מרים | T2: נשים | U2: 1 | V2: 1 | W2: 63 | X2: מרכז נושא מוגבלויות | AA2: 80 | AB2: עו"ס | AC2: 6 | AD2: 111 | AE2: 25842 | AF2: 25842 | AG2: 42825 | AH2: 25842 | AI2: 41517 | AJ2: 18629
A3: 1 | B3: ירושלים | C3: 101 | D3: אשקלון | E3: 1010000 | F3: ע. אשקלון | G3: 50200 | H3: 64 | I3: מרכז נושא שיקום | J3: 1 | K3: ע"ח המשרד | L3: 1 | M3: שכר עובדי המחלקה לש"ח | N3: 0 | P3: ללא הסכם מיוחד | Q3: 309855096 | R3: יצחק | S3: לאקהברהן | T3: גברים | U3: 1 | V3: 1 | W3: 64 | X3: מרכז נושא שיקום | AA3: 80 | AB3: עו"ס | AC3: 5 | AD3: 108 | AE3: 40238 | AF3: 40238 | AG3: 44286 | AH3: 36151 | AI3: 46752 | AJ3: 18629
A4: 1 | B4: ירושלים | C4: 103 | D4: ירושלים | E4: 1030030 | F4: ע. י-ם מ.שיקום | G4: 50 | H4: 63 | I4: מרכז נושא מוגבלויות | J4: 1 | K4: ע"ח המשרד | L4: 1 | M4: שכר עובדי המחלקה לש"ח | N4: 0 | P4: ללא הסכם מיוחד | Q4: 51562239 | R4: ויגודה | S4: לאה | T4: נשים | U4: 0.75 | V4: 0.75 | W4: 63 | X4: מרכז נושא מוגבלויות | AA4: 80 | AB4: עו"ס | AC4: 6 | AD4: 111 | AE4: 37377 | AF4: 37377 | AG4: 49003 | AH4: 33878 | AI4: 43982 | AJ4: 18629
A5: 1 | B5: ירושלים | C5: 103 | D5: ירושלים | E5: 1030030 | F5: ע. י-ם מ.שיקום | G5: 100 | H5: 84 | I5: מנהל מדור שיקום | J5: 1 | K5: ע"ח המשרד | L5: 1 | M5: שכר עובדי המחלקה לש"ח | N5: 0 | P5: ללא הסכם מיוחד | Q5: 30090237 | R5: הופמן | S5: אירית | T5: נשים | U5: 1 | V5: 1 | W5: 84 | X5: מנהל מדור שיקום | AA5: 80 | AB5: עו"ס | AC5: 6 | AD5: 130 | AE5: 38200 | AF5: 38200 | AG5: 43889 | AH5: 28550 | AI5: 43889 | AJ5: 18629
A6: 1 | B6: ירושלים | C6: 103 | D6: ירושלים | E6: 1030030 | F6: ע. י-ם מ.שיקום | G6: 10100 | H6: 140 | I6: עו"ס שיקום | J6: 1 | K6: ע"ח המשרד | L6: 1 | M6: שכר עובדי המחלקה לש"ח | N6: 0 | P6: ללא הסכם מיוחד | Q6: 56381825 | R6: נוימן | S6: יעל | T6: נשים | U6: 1 | V6: 1 | W6: 140 | X6: עו"ס שיקום | AA6: 80 | AB6: עו"ס | AC6: 3 | AD6: 107 | AE6: 37487 | AF6: 38353 | AG6: 45716 | AH6: 37196 | AI6: 45716 | AJ6: 18629
A7: 1 | B7: ירושלים | C7: 103 | D7: ירושלים | E7: 1030030 | F7: ע. י-ם מ.שיקום | G7: 10200 | H7: 140 | I7: עו"ס שיקום | J7: 1 | K7: ע"ח המשרד | L7: 1 | M7: שכר עובדי המחלקה לש"ח | N7: 0 | P7: ללא הסכם מיוחד | Q7: 13896949 | R7: צבע | S7: שרה | T7: נשים | U7: 0.5 | V7: 0.5 | W7: 140 | X7: עו"ס שיקום | AA7: 80 | AB7: עו"ס | AC7: 3 | AD7: 105 | AE7: 35065 | AF7: 38961 | AG7: 44279 | AH7: 29682 | AI7: 45016 | AJ7: 18629
A8: 1 | B8: ירושלים | C8: 103 | D8: ירושלים | E8: 1030030 | F8: ע. י-ם מ.שיקום | G8: 10300 | H8: 140 | I8: עו"ס שיקום | J8: 1 | K8: ע"ח המשרד | L8: 1 | M8: שכר עובדי המחלקה לש"ח | N8: 0 | P8: ללא הסכם מיוחד | Q8: 24531014 | R8: רחמים | S8: שרית | T8: נשים | U8: 1 | V8: 1 | W8: 140 | X8: עו"ס שיקום | AA8: 80 | AB8: עו"ס | AC8: 3 | AD8: 101 | AE8: 34486 | AF8: 37043 | AG8: 49255 | AH8: 34486 | AI8: 49278 | AJ8: 18629
A9: 1 | B9: ירושלים | C9: 103 | D9: ירושלים | E9: 1030030 | F9: ע. י-ם מ.שיקום | G9: 10400 | H9: 140 | I9: עו"ס שיקום | J9: 1 | K9: ע"ח המשרד | L9: 1 | M9: שכר עובדי המחלקה לש"ח | N9: 0 | P9: ללא הסכם מיוחד | Q9: 11161163 | R9: ברמן | S9: גילה פרמן | T9: נשים | U9: 0.5 | V9: 0.5 | W9: 140 | X9: עו"ס שיקום | AA9: 80 | AB9: עו"ס | AC9: 3 | AD9: 111 | AE9: 38161 | AF9: 38161 | AG9: 41547 | AH9: 33909 | AI9: 43131 | AJ9: 18629
A10: 1 | B10: ירושלים | C10: 103 | D10: ירושלים | E10: 1030030 | F10: ע. י-ם מ.שיקום | G10: 10500 | H10: 140 | I10: עו"ס שיקום | J10: 1 | K10: ע"ח המשרד | L10: 1 | M10: שכר עובדי המחלקה לש"ח | N10: 0 | P10: ללא הסכם מיוחד | Q10: 59839654 | R10: אדלר ארזי | S10: אורית | T10: נשים | U10: 1 | V10: 0.5 | W10: 140 | X10: עו"ס שיקום | AA10: 80 | AB10: עו"ס | AC10: 3 | AE10: 37956 | AF10: 39448 | AG10: 48579 | AH10: 37956 | AI10: 48579 | AJ10: 33786
A11: 1 | B11: ירושלים | C11: 103 | D11: ירושלים | E11: 1030030 | F11: ע. י-ם מ.שיקום | G11: 10500 | H11: 140 | I11: עו"ס שיקום | J11: 1 | K11: ע"ח המשרד | L11: 1 | M11: שכר עובדי המחלקה לש"ח | N11: 0 | P11: ללא הסכם מיוחד | Q11: 305950388 | R11: בלפר | S11: גלינה | T11: נשים | U11: 1 | V11: 0.5 | W11: 140 | X11: עו"ס שיקום | AA11: 80 | AB11: עו"ס | AC11: 5 | AD11: 111 | AE11: 39934 | AF11: 40063 | AG11: 45961 | AH11: 35186 | AI11: 46660 | AJ11: 33786
A12: 1 | B12: ירושלים | C12: 103 | D12: ירושלים | E12: 1030030 | F12: ע. י-ם מ.שיקום | G12: 10700 | H12: 140 | I12: עו"ס שיקום | J12: 1 | K12: ע"ח המשרד | L12: 1 | M12: שכר עובדי המחלקה לש"ח | N12: 0 | P12: ללא הסכם מיוחד | Q12: 5540893 | R12: עזריאלי | S12: אהובה | T12: נשים | U12: 1 | V12: 1 | W12: 140 | X12: עו"ס שיקום | AA12: 80 | AB12: עו"ס | AC12: 3 | AD12: 111 | AE12: 37681 | AF12: 38322 | AG12: 40967 | AH12: 26969 | AI12: 41698 | AJ12: 18629
A13: 1 | B13: ירושלים | C13: 103 | D13: ירושלים | E13: 1030030 | F13: ע. י-ם מ.שיקום | G13: 10800 | H13: 140 | I13: עו"ס שיקום | J13: 1 | K13: ע"ח המשרד | L13: 1 | M13: שכר עובדי המחלקה לש"ח | N13: 0 | P13: ללא הסכם מיוחד | Q13: 12659033 | R13: גולדשטיין | S13: ליאת | T13: נשים | U13: 0.5 | V13: 0.5 | W13: 140 | X13: עו"ס שיקום | AA13: 85 | AB13: עו"ס לא אקדמאי | AC13: 3 | AD13: 101 | AE13: 38018 | AF13: 38018 | AG13: 42247 | AH13: 31959 | AI13: 41729 | AJ13: 18629
A14: 1 | B14: ירושלים | C14: 103 | D14: ירושלים | E14: 1030030 | F14: ע. י-ם מ.שיקום | G14: 11000 | H14: 140 | I14: עו"ס שיקום | J14: 1 | K14: ע"ח המשרד | L14: 1 | M14: שכר עובדי המחלקה לש"ח | N14: 0 | P14: ללא הסכם מיוחד | Q14: 58142662 | R14: רוז'ני | S14: מיכל | T14: נשים | U14: 0.75 | V14: 0.75 | W14: 140 | X14: עו"ס שיקום | AA14: 80 | AB14: עו"ס | AC14: 5 | AD14: 104 | AE14: 36251 | AF14: 38777 | AG14: 45169 | AH14: 32033 | AI14: 43373 | AJ14: 18629
A15: 1 | B15: ירושלים | C15: 103 | D15: ירושלים | E15: 1030040 | F15: ע. י-ם לשכה א צפון | G15: 39100 | H15: 64 | I15: מרכז נושא שיקום | J15: 1 | K15: ע"ח המשרד | L15: 1 | M15: שכר עובדי המחלקה לש"ח | N15: 0 | P15: ללא הסכם מיוחד | Q15: 51935716 | R15: ערבות | S15: דורית | T15: נשים | U15: 1 | V15: 1 | W15: 64 | X15: מרכז נושא שיקום | AA15: 80 | AB15: עו"ס | AC15: 6 | AD15: 111 | AE15: 37681 | AF15: 37681 | AG15: 41639 | AH15: 30032 | AI15: 43281 | AJ15: 18629
A16: 1 | B16: ירושלים | C16: 103 | D16: ירושלים | E16: 1030050 | F16: ע. ירושלים לשכת דרום | G16: 22100 | H16: 64 | I16: מרכז נושא שיקום | J16: 1 | K16: ע"ח המשרד | L16: 1 | M16: שכר עובדי המחלקה לש"ח | N16: 0 | P16: ללא הסכם מיוחד | Q16: 22076772 | R16: גרוס | S16: רונית | T16: נשים | U16: 0.9 | V16: 0.9 | W16: 64 | X16: מרכז נושא שיקום | AA16: 80 | AB16: עו"ס | AC16: 6 | AD16: 105 | AE16: 40299 | AF16: 40299 | AG16: 47787 | AH16: 33204 | AI16: 47787 | AJ16: 18629
A17: 1 | B17: ירושלים | C17: 103 | D17: ירושלים | E17: 1030055 | F17: ע.י-ם צוות תלפ"ז | G17: 21500 | H17: 120 | I17: עו"ס משפחה (כוללני) | J17: 1 | K17: ע"ח המשרד | L17: 1 | M17: שכר עובדי המחלקה לש"ח | N17: 8 | O17: עו"ס - אוטיסטים | P17: ללא הסכם מיוחד | Q17: 24395592 | R17: כהן (גבאי) | S17: יעל | T17: נשים | U17: 0.5 | V17: 0.25 | W17: 120 | X17: עו"ס משפחה (כוללני) | AA17: 80 | AB17: עו"ס | AC17: 4 | AD17: 111 | AE17: 38534 | AF17: 39753 | AG17: 40482 | AH17: 35521 | AI17: 50009 | AJ17: 37773 | AK17: 40847
A18: 1 | B18: ירושלים | C18: 103 | D18: ירושלים | E18: 1030055 | F18: ע.י-ם צוות תלפ"ז | G18: 21500 | H18: 120 | I18: עו"ס משפחה (כוללני) | J18: 1 | K18: ע"ח המשרד | L18: 1 | M18: שכר עובדי המחלקה לש"ח | N18: 8 | O18: עו"ס - אוטיסטים | P18: ללא הסכם מיוחד | Q18: 56352149 | R18: רפואה | S18: עדנה | T18: נשים | U18: 0.5 | V18: 0.25 | W18: 120 | X18: עו"ס משפחה (כוללני) | AA18: 80 | AB18: עו"ס | AC18: 5 | AD18: 105 | AE18: 35156 | AF18: 40148 | AG18: 40482 | AH18: 35078 | AI18: 44742 | AJ18: 37773 | AK18: 40847
A19: 1 | B19: ירושלים | C19: 103 | D19: ירושלים | E19: 1030060 | F19: ע. י-ם לשכת מערב | G19: 13100 | H19: 64 | I19: מרכז נושא שיקום | J19: 1 | K19: ע"ח המשרד | L19: 1 | M19: שכר עובדי המחלקה לש"ח | N19: 0 | P19: ללא הסכם מיוחד | Q19: 59789313 | R19: שרפי | S19: חנה | T19: נשים | U19: 1 | V19: 1 | W19: 64 | X19: מרכז נושא שיקום | AA19: 80 | AB19: עו"ס | AC19: 6 | AD19: 106 | AE19: 39569 | AF19: 39569 | AG19: 48244 | AH19: 34217 | AI19: 48975 | AJ19: 37469
A20: 1 | B20: ירושלים | C20: 103 | D20: ירושלים | E20: 1030070 | F20: ע. י-ם לשכת מזרח | G20: 10200 | H20: 64 | I20: מרכז נושא שיקום | J20: 1 | K20: ע"ח המשרד | L20: 1 | M20: שכר עובדי המחלקה לש"ח | N20: 0 | P20: ללא הסכם מיוחד | Q20: 80135239 | R20: אבו-סואי | S20: מוחמד | T20: גברים | U20: 1 | V20: 1 | W20: 64 | X20: מרכז נושא שיקום | AA20: 80 | AB20: עו"ס | AC20: 6 | AD20: 110 | AE20: 38261 | AF20: 38261 | AG20: 45138 | AH20: 31089 | AI20: 42735 | AJ20: 18629
A21: 1 | B21: ירושלים | C21: 104 | D21: אשדוד | E21: 1040000 | F21: ע. אשדוד הנהלה | G21: 13100 | H21: 64 | I21: מרכז נושא שיקום | J21: 1 | K21: ע"ח המשרד | L21: 1 | M21: שכר עובדי המחלקה לש"ח | N21: 0 | P21: ללא הסכם מיוחד | Q21: 23071848 | R21: בן מיכה | S21: אוסנת | T21: נשים | U21: 1 | V21: 1 | W21: 64 | X21: מרכז נושא שיקום | AA21: 80 | AB21: עו"ס | AC21: 6 | AD21: 108 | AE21: 37681 | AF21: 38869 | AG21: 43160 | AH21: 33147 | AI21: 46387 | AJ21: 29312
A22: 1 | B22: ירושלים | C22: 104 | D22: אשדוד | E22: 1040000 | F22: ע. אשדוד הנהלה | G22: 14200 | H22: 64 | I22: מרכז נושא שיקום | J22: 1 | K22: ע"ח המשרד | L22: 1 | M22: שכר עובדי המחלקה לש"ח | N22: 0 | P22: ללא הסכם מיוחד | Q22: 12404943 | R22: שער | S22: סימה | T22: נשים | U22: 1 | V22: 1 | W22: 64 | X22: מרכז נושא שיקום | AA22: 80 | AB22: עו"ס | AC22: 6 | AD22: 108 | AE22: 37681 | AF22: 37681 | AG22: 41759 | AH22: 33939 | AI22: 47848 | AJ22: 34060
A23: 1 | B23: ירושלים | C23: 104 | D23: אשדוד | E23: 1040050 | F23: ע. אשדוד קהילה | G23: 20800 | H23: 120 | I23: עו"ס משפחה (כוללני) | J23: 1 | K23: ע"ח המשרד | L23: 1 | M23: שכר עובדי המחלקה לש"ח | N23: 8 | O23: עו"ס - אוטיסטים | P23: ללא הסכם מיוחד | Q23: 25733940 | R23: כהן-צמח | S23: קרן | T23: נשים | U23: 0.5 | V23: 0.5 | W23: 120 | X23: עו"ס משפחה (כוללני) | AA23: 80 | AB23: עו"ס | AC23: 5 | AD23: 105 | AE23: 38292 | AF23: 39387 | AG23: 40847 | AH23: 37530 | AI23: 51866 | AJ23: 38777 | AK23: 40847
A24: 1 | B24: ירושלים | C24: 104 | D24: אשדוד | E24: 1040050 | F24: ע. אשדוד קהילה | G24: 30100 | H24: 140 | I24: עו"ס שיקום | J24: 1 | K24: ע"ח המשרד | L24: 1 | M24: שכר עובדי המחלקה לש"ח | N24: 0 | P24: ללא הסכם מיוחד | Q24: 22169411 | R24: טוביאס (דוידי) | S24: אורנה | T24: נשים | U24: 1 | V24: 1 | W24: 140 | X24: עו"ס שיקום | AA24: 80 | AB24: עו"ס | AC24: 5 | AD24: 111 | AE24: 38869 | AF24: 38869 | AG24: 41365 | AH24: 32417 | AI24: 48944 | AJ24: 18629
A25: 1 | B25: ירושלים | C25: 104 | D25: אשדוד | E25: 1040050 | F25: ע. אשדוד קהילה | G25: 30900 | H25: 140 | I25: עו"ס שיקום | J25: 1 | K25: ע"ח המשרד | L25: 1 | M25: שכר עובדי המחלקה לש"ח | N25: 0 | P25: ללא הסכם מיוחד | Q25: 31377864 | R25: זהבי | S25: מירי | T25: נשים | U25: 0.75 | V25: 0.75 | W25: 140 | X25: עו"ס שיקום | AA25: 80 | AB25: עו"ס | AC25: 3 | AD25: 102 | AE25: 39013 | AF25: 40421 | AG25: 48579 | AH25: 38487 | AI25: 46387 | AJ25: 37469
A26: 1 | B26: ירושלים | C26: 104 | D26: אשדוד | E26: 1040050 | F26: ע. אשדוד קהילה | G26: 31000 | H26: 140 | I26: עו"ס שיקום | J26: 1 | K26: ע"ח המשרד | L26: 1 | M26: שכר עובדי המחלקה לש"ח | N26: 0 | P26: ללא הסכם מיוחד | Q26: 29523958 | R26: היינה | S26: סיגלית | T26: נשים | U26: 0.3 | V26: 0.3 | W26: 140 | X26: עו"ס שיקום | AA26: 80 | AB26: עו"ס | AC26: 3 | AE26: 37735 | AF26: 39114 | AG26: 50405 | AH26: 40909 | AI26: 47848 | AJ26: 37469
