Workbook
Name Format: גיליון1!$A$2:$S$940

Sheet גיליון1
A1: שם חברה | B1: תאור של ארגון רכש | C1: שם אתר | D1: תקנה תקציבית | E1: תיאור תקנה תקציבית | F1: הזמנת רכש | G1: מטרת התקשרות | H1: תאריך יצירת ההזמנה | I1: סיום תקופת תוקף | J1: קוד ספק | K1: שם הספק | L1: מספר ח"פ | M1: ערך ההזמנה כולל מע"מ | N1: מטבע | O1: ביצוע חשבוניות מצטבר כולל מע"מ והצמדות | P1: מטבע חשבונית | Q1: אופן רכישה מקור | R1: מס' פנייה במנו"ף/מנור" | S1: סיבת פטור | T1: הזמנה רגישה
A2: מ.האוצר מנהל התכנון | B2: מינהל התכנון | C2: מינהל התכנון | D2: 54330201 | E2: שירותי ייעוץ ומחקר | F2: 4501082744 | G2: =VLOOKUP(טבלה1[[#This Row],[הזמנת רכש]],[1]גיליון1!$F:$G,2,FALSE) -> שמאי | H2: 42206 | I2: 44561 | J2: 40407115 | K2: דותן דרעי - אורן נס (2006) בע"מ | L2: 513820282 | M2: 853017.48 | N2: ILS | O2: 852335.58 | P2: ILS | Q2: תקנה 5א(ב)(1) - התקשרות עם מתכננים | R2: 99 | T2: לא
A3: מ.האוצר מנהל התכנון | B3: מינהל התכנון | C3: מינהל התכנון | D3: 54330203 | E3: תכנון מתארי | F3: 4501083335 | G3: =VLOOKUP(טבלה1[[#This Row],[הזמנת רכש]],[1]גיליון1!$F:$G,2,FALSE) -> מתאר מקומית נחל איילון; מכרז 42/2001 | H3: 42207 | I3: 44469 | J3: 40011426 | K3: גוגנהיים דוד | L3: 000478396 | M3: 248543.1 | N3: ILS | O3: 0 | Q3: תקנה 1ב - מכרז פומבי רגיל | R3: 98 | T3: לא
A4: מ.האוצר מנהל התכנון | B4: מינהל התכנון | C4: מינהל התכנון | D4: 54330207 | E4: מחשוב - פיתוח ותפעול | F4: 4501083372 | G4: =VLOOKUP(טבלה1[[#This Row],[הזמנת רכש]],[1]גיליון1!$F:$G,2,FALSE) -> יישומי ליבה עבור אגף מערכות מידע | H4: 42220 | I4: 44774 | J4: 40001612 | K4: מלם מערכות בע"מ | L4: 520044041 | M4: 9944386.9 | N4: ILS | O4: 4727037.9 | P4: ILS | Q4: תקנה 1ב - מכרז פומבי רגיל | R4: על פי תקנה 3(4)(ב)(3) | T4: לא
A5: מ.האוצר מנהל התכנון | B5: מינהל התכנון | C5: מינהל התכנון | D5: 54330201 | E5: שירותי ייעוץ ומחקר | F5: 4501083608 | G5: =VLOOKUP(טבלה1[[#This Row],[הזמנת רכש]],[1]גיליון1!$F:$G,2,FALSE) -> שמאי | H5: 42207 | I5: 44561 | J5: 40273657 | K5: אציל לדור גלית | L5: 023646599 | M5: 104386.47 | N5: ILS | O5: 38657.52 | P5: ILS | Q5: תקנה 5א(ב)(1) - התקשרות עם מתכננים | R5: 98 | T5: לא
A6: מ.האוצר מנהל התכנון | B6: מינהל התכנון | C6: מינהל התכנון | D6: 54330210 | E6: ועדות ערר - חברת | F6: 4501083627 | G6: =VLOOKUP(טבלה1[[#This Row],[הזמנת רכש]],[1]גיליון1!$F:$G,2,FALSE) -> חבר ועדת ערר-חיפה | H6: 42207 | I6: 45107 | J6: 40242310 | K6: אפק שמחה | L6: 008037798 | M6: 317392.92 | N6: ILS | O6: 140004.54 | P6: ILS | Q6: מינוי חברים בועדות | R6: 98 | T6: לא
A7: מ.האוצר מנהל התכנון | B7: מינהל התכנון | C7: מינהל התכנון | D7: 54330210 | E7: ועדות ערר - חברת | F7: 4501083630 | G7: =VLOOKUP(טבלה1[[#This Row],[הזמנת רכש]],[1]גיליון1!$F:$G,2,FALSE) -> חבר ועדת ערר - דרום | H7: 42207 | I7: 44926 | J7: 40242879 | K7: רפיק טורס בע"מ | L7: 512664277 | M7: 95940.11 | N7: ILS | O7: 43613.42 | P7: ILS | Q7: מינוי חברים בועדות | R7: 98 | T7: לא
A8: מ.האוצר מנהל התכנון | B8: מינהל התכנון | C8: מינהל התכנון | D8: 54330210 | E8: ועדות ערר - חברת | F8: 4501083633 | G8: =VLOOKUP(טבלה1[[#This Row],[הזמנת רכש]],[1]גיליון1!$F:$G,2,FALSE) -> חבר ועדת ערר - תל אביב | H8: 42207 | I8: 44926 | J8: 40185097 | K8: גופר מיכאל | L8: 047319637 | M8: 374862.38 | N8: ILS | O8: 179294.67 | P8: ILS | Q8: תקנה 5(ג)(4) - התקשרות עם מומחה - מינוי לועדה ציבורית/בורר/מ | R8: 98 | T8: לא
A9: מ.האוצר מנהל התכנון | B9: מינהל התכנון | C9: מינהל התכנון | D9: 54330210 | E9: ועדות ערר - חברת | F9: 4501083636 | G9: =VLOOKUP(טבלה1[[#This Row],[הזמנת רכש]],[1]גיליון1!$F:$G,2,FALSE) -> חבר ועדת ערר - חיפה | H9: 42207 | I9: 44926 | J9: 40242539 | K9: קציר חנה פסיה | L9: 052915519 | M9: 148912.92 | N9: ILS | O9: 73320.59 | P9: ILS | Q9: תקנה 5(ג)(4) - התקשרות עם מומחה - מינוי לועדה ציבורית/בורר/מ | R9: 98 | T9: לא
A10: מ.האוצר מנהל התכנון | B10: מינהל התכנון | C10: מינהל התכנון | D10: 54330210 | E10: ועדות ערר - חברת | F10: 4501083640 | G10: =VLOOKUP(טבלה1[[#This Row],[הזמנת רכש]],[1]גיליון1!$F:$G,2,FALSE) -> חבר ועדת ערר - מרכז | H10: 42207 | I10: 44742 | J10: 40242266 | K10: חכים שמואל | L10: 001329895 | M10: 391968.72 | N10: ILS | O10: 322326.31 | P10: ILS | Q10: תקנה 5(ג)(4) - התקשרות עם מומחה - מינוי לועדה ציבורית/בורר/מ | R10: 98 | T10: לא
A11: מ.האוצר מנהל התכנון | B11: מינהל התכנון | C11: מינהל התכנון | D11: 54330210 | E11: ועדות ערר - חברת | F11: 4501083646 | G11: =VLOOKUP(טבלה1[[#This Row],[הזמנת רכש]],[1]גיליון1!$F:$G,2,FALSE) -> חבר ועדת ערר - צפון | H11: 42207 | I11: 44742 | J11: 40242444 | K11: בראון מנדל דוד | L11: 030427199 | M11: 204188.87 | N11: ILS | O11: 106397.95 | P11: ILS | Q11: מינוי חברים בועדות | R11: 98 | T11: לא
A12: מ.האוצר מנהל התכנון | B12: מינהל התכנון | C12: מינהל התכנון | D12: 54330201 | E12: שירותי ייעוץ ומחקר | F12: 4501083734 | G12: =VLOOKUP(טבלה1[[#This Row],[הזמנת רכש]],[1]גיליון1!$F:$G,2,FALSE) -> יועץ אדריכלות | H12: 42208 | I12: 44469 | J12: 40276653 | K12: אפל נעה | L12: 032416430 | M12: 304521.7 | N12: ILS | O12: 284107.28 | P12: ILS | Q12: תקנה 5א(ב)(1) - התקשרות עם מתכננים | R12: 98 | T12: לא
A13: מ.האוצר מנהל התכנון | B13: מינהל התכנון | C13: מינהל התכנון | D13: 54330210 | E13: ועדות ערר - חברת | F13: 4501083738 | G13: =VLOOKUP(טבלה1[[#This Row],[הזמנת רכש]],[1]גיליון1!$F:$G,2,FALSE) -> חבר ועדת ערר | H13: 42208 | I13: 44834 | J13: 40242303 | K13: דנקנר רפאל | L13: 007689193 | M13: 70277.22 | N13: ILS | O13: 22749.8 | P13: ILS | Q13: תקנה 5(ג)(4) - התקשרות עם מומחה - מינוי לועדה ציבורית/בורר/מ | R13: 98 | T13: לא
A14: מ.האוצר מנהל התכנון | B14: מינהל התכנון | C14: מינהל התכנון | D14: 54330210 | E14: ועדות ערר - חברת | F14: 4501083775 | G14: =VLOOKUP(טבלה1[[#This Row],[הזמנת רכש]],[1]גיליון1!$F:$G,2,FALSE) -> חבר ועדת ערר - מחוז צפון וחיפה | H14: 42208 | I14: 44926 | J14: 40242712 | K14: גרון מאיר | L14: 065568065 | M14: 94378.89 | N14: ILS | O14: 28655.36 | P14: ILS | Q14: מינוי חברים בועדות | R14: 98 | T14: לא
A15: מ.האוצר מנהל התכנון | B15: מינהל התכנון | C15: מינהל התכנון | D15: 54330210 | E15: ועדות ערר - חברת | F15: 4501083814 | G15: =VLOOKUP(טבלה1[[#This Row],[הזמנת רכש]],[1]גיליון1!$F:$G,2,FALSE) -> חבר ועדת ערר - ירושלים | H15: 42208 | I15: 44926 | J15: 40243488 | K15: בלומנטל מנחם | M15: 159910.92 | N15: ILS | O15: 66005.6 | P15: ILS | Q15: תקנה 5(ג)(4) - התקשרות עם מומחה - מינוי לועדה ציבורית/בורר/מ | R15: 98 | T15: לא
A16: מ.האוצר מנהל התכנון | B16: מינהל התכנון | C16: מינהל התכנון | D16: 54330210 | E16: ועדות ערר - חברת | F16: 4501083860 | G16: =VLOOKUP(טבלה1[[#This Row],[הזמנת רכש]],[1]גיליון1!$F:$G,2,FALSE) -> חבר ועדת ערר - דרום וממלא מקום מחוז ת"א,ירושלים ומרכז | H16: 42208 | I16: 45016 | J16: 40169024 | K16: עירון זהר | L16: 055991038 | M16: 227630.52 | N16: ILS | O16: 112003.78 | P16: ILS | Q16: תקנה 5(ג)(4) - התקשרות עם מומחה - מינוי לועדה ציבורית/בורר/מ | R16: 98 | T16: לא
A17: מ.האוצר מנהל התכנון | B17: מינהל התכנון | C17: מינהל התכנון | D17: 54330203 | E17: תכנון מתארי | F17: 4501083877 | G17: =VLOOKUP(טבלה1[[#This Row],[הזמנת רכש]],[1]גיליון1!$F:$G,2,FALSE) -> מתאר מקומית קדימה צורן 37/2008 | H17: 42208 | I17: 44926 | J17: 40329164 | K17: ענת פיק - אדריכלות ובינוי ערים בע"מ | L17: 513918789 | M17: 821478.06 | N17: ILS | O17: 523877.68 | P17: ILS | Q17: תקנה 1ב - מכרז פומבי רגיל | R17: 98 | T17: לא
A18: מ.האוצר מנהל התכנון | B18: מינהל התכנון | C18: מינהל התכנון | D18: 54330203 | E18: תכנון מתארי | F18: 4501083900 | G18: =VLOOKUP(טבלה1[[#This Row],[הזמנת רכש]],[1]גיליון1!$F:$G,2,FALSE) -> מתאר מקומית אלעד 32/2008 | H18: 42208 | I18: 42369 | J18: 40328559 | K18: קורין יחיאל - אדריכלים בע"מ | L18: 513245449 | M18: 784441.71 | N18: ILS | O18: 0 | Q18: פטור ממכרז | R18: 98 | S18: תקנה 3ג - מימוש זכות ברירה | T18: לא
A19: מ.האוצר מנהל התכנון | B19: מינהל התכנון | C19: מינהל התכנון | D19: 54330203 | E19: תכנון מתארי | F19: 4501083994 | G19: =VLOOKUP(טבלה1[[#This Row],[הזמנת רכש]],[1]גיליון1!$F:$G,2,FALSE) -> מתאר מקומית נתניה; מכרז 76/2008 | H19: 42208 | I19: 44926 | J19: 40254953 | K19: יער אדריכלים ומתכנני ערים (2001) בע | L19: 513066951 | M19: 549900 | N19: ILS | O19: 0 | Q19: פטור ממכרז | R19: 98 | S19: תקנה 3ג - מימוש זכות ברירה | T19: לא
A20: מ.האוצר מנהל התכנון | B20: מינהל התכנון | C20: מינהל התכנון | D20: 54330210 | E20: ועדות ערר - חברת | F20: 4501084017 | G20: =VLOOKUP(טבלה1[[#This Row],[הזמנת רכש]],[1]גיליון1!$F:$G,2,FALSE) -> חבר ועדת ערר - ירושלים | H20: 42208 | I20: 44561 | J20: 40261757 | K20: וסרטייל אליסיה | M20: 78525.72 | N20: ILS | O20: 10054.71 | P20: ILS | Q20: מינוי חברים בועדות | R20: 98 | T20: לא
A21: מ.האוצר מנהל התכנון | B21: מינהל התכנון | C21: מינהל התכנון | D21: 54330204 | E21: תכנון מתארי- מיעוטים | F21: 4501084134 | G21: =VLOOKUP(טבלה1[[#This Row],[הזמנת רכש]],[1]גיליון1!$F:$G,2,FALSE) -> תכנית מתאר ערערה | H21: 42208 | I21: 44926 | J21: 40395346 | K21: אתוס - אדריכלות תכנון וסביבה בע"מ | L21: 514260769 | M21: 359482.5 | N21: ILS | O21: 159266.25 | P21: ILS | Q21: תקנה 1ב - מכרז פומבי רגיל | R21: 98 | T21: לא
A22: מ.האוצר מנהל התכנון | B22: מינהל התכנון | C22: מינהל התכנון | D22: 54330204 | E22: תכנון מתארי- מיעוטים | F22: 4501084230 | G22: =VLOOKUP(טבלה1[[#This Row],[הזמנת רכש]],[1]גיליון1!$F:$G,2,FALSE) -> מתאר מקומית אשכול 3; מכרז 5/2001 | H22: 42208 | I22: 44926 | J22: 40516456 | K22: נקאש אדיב | L22: 054793260 | M22: 234900.43 | N22: ILS | O22: 178509.31 | P22: ILS | Q22: תקנה 1ב - מכרז פומבי רגיל | R22: 98 | T22: לא
A23: מ.האוצר מנהל התכנון | B23: מינהל התכנון | C23: מינהל התכנון | D23: 54330203 | E23: תכנון מתארי | F23: 4501084243 | G23: =VLOOKUP(טבלה1[[#This Row],[הזמנת רכש]],[1]גיליון1!$F:$G,2,FALSE) -> מתאר מקומית באר שבע; 57/2010 | H23: 42208 | I23: 44926 | J23: 40242817 | K23: אמיר מן עמי שנער, אדריכלים ומתכנני | L23: 511737322 | M23: 942114.42 | N23: ILS | O23: 223943.97 | P23: ILS | Q23: תקנה 1ב - מכרז פומבי רגיל | R23: 98 | T23: לא
A24: מ.האוצר מנהל התכנון | B24: מינהל התכנון | C24: מינהל התכנון | D24: 54330210 | E24: ועדות ערר - חברת | F24: 4501084264 | G24: =VLOOKUP(טבלה1[[#This Row],[הזמנת רכש]],[1]גיליון1!$F:$G,2,FALSE) -> חבר ועדת ערר - מרכז | H24: 42208 | I24: 44926 | J24: 40447940 | K24: כהן דוד | L24: 062090345 | M24: 449598.24 | N24: ILS | O24: 274970.68 | P24: ILS | Q24: תקנה 5(ג)(4) - התקשרות עם מומחה - מינוי לועדה ציבורית/בורר/מ | R24: 98 | T24: לא
A25: מ.האוצר מנהל התכנון | B25: מינהל התכנון | C25: מינהל התכנון | D25: 54330204 | E25: תכנון מתארי- מיעוטים | F25: 4501084310 | G25: =VLOOKUP(טבלה1[[#This Row],[הזמנת רכש]],[1]גיליון1!$F:$G,2,FALSE) -> מתאר מקומית באקה ג'ת; מכרז 23/2013 | H25: 42209 | I25: 44561 | J25: 40323298 | K25: מילול-קורן | L25: 557939279 | M25: 1228500 | N25: ILS | O25: 289542.54 | P25: ILS | Q25: תקנה 1ב - מכרז פומבי רגיל | R25: 98 | T25: לא
A26: מ.האוצר מנהל התכנון | B26: מינהל התכנון | C26: מינהל התכנון | D26: 54330201 | E26: שירותי ייעוץ ומחקר | F26: 4501084319 | G26: =VLOOKUP(טבלה1[[#This Row],[הזמנת רכש]],[1]גיליון1!$F:$G,2,FALSE) -> יועץ-רישוי | H26: 42209 | I26: 44286 | J26: 40509019 | K26: גולדשמיד פני | L26: 013549381 | M26: 217675.05 | N26: ILS | O26: 198862.12 | P26: ILS | Q26: תקנה 5א(ב)(1) - התקשרות עם מתכננים | R26: 98 | T26: לא
A27: מ.האוצר מנהל התכנון | B27: מינהל התכנון | C27: מינהל התכנון | D27: 54330203 | E27: תכנון מתארי | F27: 4501084339 | G27: =VLOOKUP(טבלה1[[#This Row],[הזמנת רכש]],[1]גיליון1!$F:$G,2,FALSE) -> הכנת תכנית מתאר קבר הרשב"י; מכרז 14/2012 | H27: 42209 | I27: 44926 | J27: 40010819 | K27: ערן מבל ארכיטקטורה ובנוי ערים בע"מ | L27: 512261900 | M27: 191880 | N27: ILS | O27: 193888.72 | P27: ILS | Q27: תקנה 1ב - מכרז פומבי רגיל | R27: 98 | T27: לא
A28: מ.האוצר מנהל התכנון | B28: מינהל התכנון | C28: מינהל התכנון | D28: 54330204 | E28: תכנון מתארי- מיעוטים | F28: 4501084349 | G28: =VLOOKUP(טבלה1[[#This Row],[הזמנת רכש]],[1]גיליון1!$F:$G,2,FALSE) -> מתאר מקומית אור יהודה; מכרז 27/2011 | H28: 42209 | I28: 44012 | J28: 40255170 | K28: אלי פירשט ואדם מזור | L28: 557378619 | M28: 1287877.5 | N28: ILS | O28: 202661.01 | P28: ILS | Q28: פטור ממכרז | R28: 98 | S28: תקנה 3ג - מימוש זכות ברירה | T28: לא
A29: מ.האוצר מנהל התכנון | B29: מינהל התכנון | C29: מינהל התכנון | D29: 54330210 | E29: ועדות ערר - חברת | F29: 4501084380 | G29: =VLOOKUP(טבלה1[[#This Row],[הזמנת רכש]],[1]גיליון1!$F:$G,2,FALSE) -> חבר ועדת ערר - ת"א | H29: 42211 | I29: 44926 | J29: 40539681 | K29: ארזי נסים (רימונד) | L29: 041433590 | M29: 351936 | N29: ILS | O29: 179636.93 | P29: ILS | Q29: תקנה 5(ג)(4) - התקשרות עם מומחה - מינוי לועדה ציבורית/בורר/מ | R29: 98 | T29: לא
A30: מ.האוצר מנהל התכנון | B30: מינהל התכנון | C30: מינהל התכנון | D30: 54330201 | E30: שירותי ייעוץ ומחקר | F30: 4501084390 | G30: =VLOOKUP(טבלה1[[#This Row],[הזמנת רכש]],[1]גיליון1!$F:$G,2,FALSE) -> שמאי | H30: 42211 | I30: 44377 | J30: 40984160 | K30: שלפמן זהר זורי | L30: 011364916 | M30: 479897.03 | N30: ILS | O30: 282776.45 | P30: ILS | Q30: תקנה 5א(ב)(1) - התקשרות עם מתכננים | R30: 98 | T30: לא
A31: מ.האוצר מנהל התכנון | B31: מינהל התכנון | C31: מינהל התכנון | D31: 54330203 | E31: תכנון מתארי | F31: 4501084503 | G31: =VLOOKUP(טבלה1[[#This Row],[הזמנת רכש]],[1]גיליון1!$F:$G,2,FALSE) -> יועץ - אדריכל | H31: 42211 | I31: 44926 | J31: 40513681 | K31: סגל גדעון | L31: 013512173 | M31: 480480.39 | N31: ILS | O31: 160160.13 | P31: ILS | Q31: תקנה 5א(ב)(1) - התקשרות עם מתכננים | R31: 98 | T31: לא
A32: מ.האוצר מנהל התכנון | B32: מינהל התכנון | C32: מינהל התכנון | D32: 54330201 | E32: שירותי ייעוץ ומחקר | F32: 4501084531 | G32: =VLOOKUP(טבלה1[[#This Row],[הזמנת רכש]],[1]גיליון1!$F:$G,2,FALSE) -> יועצת חקלאות עבור תמא גבעת עדה | H32: 42211 | I32: 44926 | J32: 41110857 | K32: אמדור לירון | L32: 027193838 | M32: 17352.27 | N32: ILS | O32: 9914.58 | P32: ILS | Q32: פטור ממכרז | R32: 98 | S32: תקנה 3(1) - התקשרות ששוויה אינה עולה על 50,000 ש"ח | T32: לא
A33: מ.האוצר מנהל התכנון | B33: מינהל התכנון | C33: מינהל התכנון | D33: 54330203 | E33: תכנון מתארי | F33: 4501084680 | G33: =VLOOKUP(טבלה1[[#This Row],[הזמנת רכש]],[1]גיליון1!$F:$G,2,FALSE) -> מתאר מקומית גבעתיים; 22/2013 | H33: 42211 | I33: 44926 | J33: 40007131 | K33: נעמה מליס, אדריכלות ובינוי ערים בע" | L33: 512420464 | M33: 1955474.8 | N33: ILS | O33: 576174.36 | P33: ILS | Q33: תקנה 1ב - מכרז פומבי רגיל | R33: 98 | T33: לא
A34: מ.האוצר מנהל התכנון | B34: מינהל התכנון | C34: מינהל התכנון | D34: 54330201 | E34: שירותי ייעוץ ומחקר | F34: 4501084728 | G34: =VLOOKUP(טבלה1[[#This Row],[הזמנת רכש]],[1]גיליון1!$F:$G,2,FALSE) -> יועץ-תשתיות, מכרז 28/2013 | H34: 42211 | I34: 44561 | J34: 40134863 | K34: יונתן קופלוביץ הנדסת מים בע"מ | L34: 513519587 | M34: 476133.84 | N34: ILS | O34: 502066.91 | P34: ILS | Q34: תקנה 1ב - מכרז פומבי רגיל | R34: 98 | T34: לא
A35: מ.האוצר מנהל התכנון | B35: מינהל התכנון | C35: מינהל התכנון | D35: 54330204 | E35: תכנון מתארי- מיעוטים | F35: 4501084754 | G35: =VLOOKUP(טבלה1[[#This Row],[הזמנת רכש]],[1]גיליון1!$F:$G,2,FALSE) -> מתאר מקומית אבו-סנאן; מכרז 22/2013 | H35: 42211 | I35: 45291 | J35: 40010819 | K35: ערן מבל ארכיטקטורה ובנוי ערים בע"מ | L35: 512261900 | M35: 807300 | N35: ILS | O35: 0 | Q35: תקנה 1ב - מכרז פומבי רגיל | R35: 98 | T35: לא
A36: מ.האוצר מנהל התכנון | B36: מינהל התכנון | C36: מינהל התכנון | D36: 54330203 | E36: תכנון מתארי | F36: 4501084803 | G36: =VLOOKUP(טבלה1[[#This Row],[הזמנת רכש]],[1]גיליון1!$F:$G,2,FALSE) -> מתאר מקומית אזור; 22/2013 | H36: 42211 | I36: 44926 | J36: 40007131 | K36: נעמה מליס, אדריכלות ובינוי ערים בע" | L36: 512420464 | M36: 807300 | N36: ILS | O36: 0 | Q36: תקנה 1ב - מכרז פומבי רגיל | R36: 98 | T36: לא
A37: מ.האוצר מנהל התכנון | B37: מינהל התכנון | C37: מינהל התכנון | D37: 54330204 | E37: תכנון מתארי- מיעוטים | F37: 4501084819 | G37: =VLOOKUP(טבלה1[[#This Row],[הזמנת רכש]],[1]גיליון1!$F:$G,2,FALSE) -> מתאר מקומית כפר יאסיף; מכרז 22/2013 | H37: 42211 | I37: 45291 | J37: 40010819 | K37: ערן מבל ארכיטקטורה ובנוי ערים בע"מ | L37: 512261900 | M37: 807300 | N37: ILS | O37: 404816.38 | P37: ILS | Q37: תקנה 1ב - מכרז פומבי רגיל | R37: 98 | T37: לא
A38: מ.האוצר מנהל התכנון | B38: מינהל התכנון | C38: מינהל התכנון | D38: 54330204 | E38: תכנון מתארי- מיעוטים | F38: 4501084855 | G38: =VLOOKUP(טבלה1[[#This Row],[הזמנת רכש]],[1]גיליון1!$F:$G,2,FALSE) -> מתאר מקומית ריחנייה; מכרז 22/2013 | H38: 42211 | I38: 44926 | J38: 40216223 | K38: דני לזר אדריכלים בע"מ | L38: 512567314 | M38: 807300 | N38: ILS | O38: 202004.58 | P38: ILS | Q38: תקנה 1ב - מכרז פומבי רגיל | R38: 98 | T38: לא
A39: מ.האוצר מנהל התכנון | B39: מינהל התכנון | C39: מינהל התכנון | D39: 54330210 | E39: ועדות ערר - חברת | F39: 4501084873 | G39: =VLOOKUP(טבלה1[[#This Row],[הזמנת רכש]],[1]גיליון1!$F:$G,2,FALSE) -> מ"מ יו"ר ועדת ערר - צפון | H39: 42211 | I39: 44439 | J39: 40242412 | K39: דרורי-גרנות חגית | L39: 027818137 | M39: 2417519.5 | N39: ILS | O39: 2430492.5 | P39: ILS | Q39: מינוי חברים בועדות | R39: 98 | T39: לא
A40: מ.האוצר מנהל התכנון | B40: מינהל התכנון | C40: מינהל התכנון | D40: 54330210 | E40: ועדות ערר - חברת | F40: 4501084876 | G40: =VLOOKUP(טבלה1[[#This Row],[הזמנת רכש]],[1]גיליון1!$F:$G,2,FALSE) -> מ"מ יו"ר ועדת ערר- חיפה | H40: 42211 | I40: 44439 | J40: 41065860 | K40: מוסרי טל דקלה | L40: 029715679 | M40: 1004814.7 | N40: ILS | O40: 1013070.2 | P40: ILS | Q40: מינוי חברים בועדות | R40: 98 | T40: לא
A41: מ.האוצר מנהל התכנון | B41: מינהל התכנון | C41: מינהל התכנון | D41: 54330204 | E41: תכנון מתארי- מיעוטים | F41: 4501084881 | G41: =VLOOKUP(טבלה1[[#This Row],[הזמנת רכש]],[1]גיליון1!$F:$G,2,FALSE) -> מתאר מקומית פקיעין; מכרז 22/2013 | H41: 42211 | I41: 45291 | J41: 40007131 | K41: נעמה מליס, אדריכלות ובינוי ערים בע" | L41: 512420464 | M41: 807300 | N41: ILS | O41: 403601.92 | P41: ILS | Q41: תקנה 1ב - מכרז פומבי רגיל | R41: 98 | T41: לא
A42: מ.האוצר מנהל התכנון | B42: מינהל התכנון | C42: מינהל התכנון | D42: 54330204 | E42: תכנון מתארי- מיעוטים | F42: 4501084906 | G42: =VLOOKUP(טבלה1[[#This Row],[הזמנת רכש]],[1]גיליון1!$F:$G,2,FALSE) -> מתאר מקומית ג'וליס; מכרז 22/2013 | H42: 42211 | I42: 44742 | J42: 40353728 | K42: קשת מ.כ. ניהול פרויקטים בע"מ | L42: 514204585 | M42: 807300 | N42: ILS | O42: 0 | Q42: תקנה 1ב - מכרז פומבי רגיל | R42: 98 | T42: לא
A43: מ.האוצר מנהל התכנון | B43: מינהל התכנון | C43: מינהל התכנון | D43: 54330210 | E43: ועדות ערר - חברת | F43: 4501084907 | G43: =VLOOKUP(טבלה1[[#This Row],[הזמנת רכש]],[1]גיליון1!$F:$G,2,FALSE) -> יו"ר ועדת ערר-תל אביב פיצויים | H43: 42211 | I43: 44515 | J43: 40279533 | K43: אייל גילת טובה | L43: 029311107 | M43: 2478770.1 | N43: ILS | O43: 2495618.1 | P43: ILS | Q43: מינוי חברים בועדות | R43: 98 | T43: לא
A44: מ.האוצר מנהל התכנון | B44: מינהל התכנון | C44: מינהל התכנון | D44: 54330201 | E44: שירותי ייעוץ ומחקר | F44: 4501084916 | G44: =VLOOKUP(טבלה1[[#This Row],[הזמנת רכש]],[1]גיליון1!$F:$G,2,FALSE) -> יועץ-אקוסטיקה, מכרז 23/2014 | H44: 42211 | I44: 44561 | J44: 41032723 | K44: קובי אלי | L44: 023012032 | M44: 202771.29 | N44: ILS | O44: 100485.75 | P44: ILS | Q44: תקנה 1ב - מכרז פומבי רגיל | R44: 98 | T44: לא
A45: מ.האוצר מנהל התכנון | B45: מינהל התכנון | C45: מינהל התכנון | D45: 54330201 | E45: שירותי ייעוץ ומחקר | F45: 4501084927 | G45: =VLOOKUP(טבלה1[[#This Row],[הזמנת רכש]],[1]גיליון1!$F:$G,2,FALSE) -> יועץ שמאות | H45: 42211 | I45: 44561 | J45: 40007038 | K45: ז.כ. מחקר וסקרים (1989) בע"מ | L45: 511400731 | M45: 214488.15 | N45: ILS | O45: 195389.52 | P45: ILS | Q45: תקנה 5א(ב)(1) - התקשרות עם מתכננים | R45: 98 | T45: לא
A46: מ.האוצר מנהל התכנון | B46: מינהל התכנון | C46: מינהל התכנון | D46: 54330203 | E46: תכנון מתארי | F46: 4501084929 | G46: =VLOOKUP(טבלה1[[#This Row],[הזמנת רכש]],[1]גיליון1!$F:$G,2,FALSE) -> יועץ-אדריכלות | H46: 42211 | I46: 44742 | J46: 40250516 | K46: קפלן דסמונד סולומון | L46: 013754023 | M46: 411194.15 | N46: ILS | O46: 253618.53 | P46: ILS | Q46: תקנה 5א(ב)(1) - התקשרות עם מתכננים | R46: 98 | T46: לא
A47: מ.האוצר מנהל התכנון | B47: מינהל התכנון | C47: מינהל התכנון | D47: 54330201 | E47: שירותי ייעוץ ומחקר | F47: 4501084932 | G47: =VLOOKUP(טבלה1[[#This Row],[הזמנת רכש]],[1]גיליון1!$F:$G,2,FALSE) -> יועץ-סביבה | H47: 42211 | I47: 44377 | J47: 41107154 | K47: ניר אורית | L47: 036256733 | M47: 127873.75 | N47: ILS | O47: 37464.22 | P47: ILS | Q47: תקנה 5א(ב)(1) - התקשרות עם מתכננים | R47: 98 | T47: לא
A48: מ.האוצר מנהל התכנון | B48: מינהל התכנון | C48: מינהל התכנון | D48: 54330210 | E48: ועדות ערר - חברת | F48: 4501084937 | G48: =VLOOKUP(טבלה1[[#This Row],[הזמנת רכש]],[1]גיליון1!$F:$G,2,FALSE) -> יו"ר ועדת ערר תל אביב ומ"מ כל הועדות | H48: 42211 | I48: 44727 | J48: 41111160 | K48: סירוטה לבנה הלה | L48: 022994222 | M48: 954498.87 | N48: ILS | O48: 833138.28 | P48: ILS | Q48: מינוי חברים בועדות | R48: 98 | T48: לא
A49: מ.האוצר מנהל התכנון | B49: מינהל התכנון | C49: מינהל התכנון | D49: 54330210 | E49: ועדות ערר - חברת | F49: 4501084940 | G49: =VLOOKUP(טבלה1[[#This Row],[הזמנת רכש]],[1]גיליון1!$F:$G,2,FALSE) -> יור ועדת ערר- מרכז ומ"מ צפון, ירושלים, ת"א, חיפה ודרום | H49: 42211 | I49: 44742 | J49: 41111157 | K49: אלפר רונית אילנה | L49: 013236203 | M49: 1026043.2 | N49: ILS | O49: 879465.6 | P49: ILS | Q49: מינוי חברים בועדות | R49: 98 | T49: לא
A50: מ.האוצר מנהל התכנון | B50: מינהל התכנון | C50: מינהל התכנון | D50: 54330201 | E50: שירותי ייעוץ ומחקר | F50: 4501084943 | G50: =VLOOKUP(טבלה1[[#This Row],[הזמנת רכש]],[1]גיליון1!$F:$G,2,FALSE) -> ר"צ תכנון מפורט- מכרז 28/2014 | H50: 42211 | I50: 44742 | J50: 40242505 | K50: לוי אהובה | L50: 050400670 | M50: 179795.07 | N50: ILS | O50: 94076.72 | P50: ILS | Q50: תקנה 1ב - מכרז פומבי רגיל | R50: 98 | T50: לא
A51: מ.האוצר מנהל התכנון | B51: מינהל התכנון | C51: מינהל התכנון | D51: 54330201 | E51: שירותי ייעוץ ומחקר | F51: 4501086465 | G51: =VLOOKUP(טבלה1[[#This Row],[הזמנת רכש]],[1]גיליון1!$F:$G,2,FALSE) -> חברת ניהול או"ש; מכרז 25/2013 | H51: 42214 | I51: 44561 | J51: 40009781 | K51: קו פרויקט יעוץ הנדסי בע"מ | L51: 512473919 | M51: 1573466.4 | N51: ILS | O51: 1569281.7 | P51: ILS | Q51: תקנה 1ב - מכרז פומבי רגיל | R51: 98 | T51: לא
A52: מ.האוצר מנהל התכנון | B52: מינהל התכנון | C52: מינהל התכנון | D52: 54330201 | E52: שירותי ייעוץ ומחקר | F52: 4501086512 | G52: =VLOOKUP(טבלה1[[#This Row],[הזמנת רכש]],[1]גיליון1!$F:$G,2,FALSE) -> יועץ-הנדסה | H52: 42214 | I52: 44561 | J52: 41100905 | K52: קרבלניק שולמית | L52: 016683906 | M52: 450884.07 | N52: ILS | O52: 222955.64 | P52: ILS | Q52: תקנה 5א(ב)(1) - התקשרות עם מתכננים | R52: 80 | T52: לא
A53: מ.האוצר מנהל התכנון | B53: מינהל התכנון | C53: מינהל התכנון | D53: 54330203 | E53: תכנון מתארי | F53: 4501086539 | G53: =VLOOKUP(טבלה1[[#This Row],[הזמנת רכש]],[1]גיליון1!$F:$G,2,FALSE) -> מתאר מקומית זכרון יעקב 22-2013 | H53: 42214 | I53: 44926 | J53: 40251026 | K53: איזן אילן פליקס | L53: 053912499 | M53: 462091.5 | N53: ILS | O53: 231944.38 | P53: ILS | Q53: תקנה 1ב - מכרז פומבי רגיל | R53: 98 | T53: לא
A54: מ.האוצר מנהל התכנון | B54: מינהל התכנון | C54: מינהל התכנון | D54: 54330204 | E54: תכנון מתארי- מיעוטים | F54: 4501086778 | G54: =VLOOKUP(טבלה1[[#This Row],[הזמנת רכש]],[1]גיליון1!$F:$G,2,FALSE) -> מתאר מקומית סכנין 22-2013 | H54: 42215 | I54: 44926 | J54: 40322686 | K54: יאיר אביגדור אדריכלות ועיצוב עירוני | L54: 514084177 | M54: 924183 | N54: ILS | O54: 138612.18 | P54: ILS | Q54: תקנה 1ב - מכרז פומבי רגיל | R54: 98 | T54: לא
A55: מ.האוצר מנהל התכנון | B55: מינהל התכנון | C55: מינהל התכנון | D55: 54330203 | E55: תכנון מתארי | F55: 4501086787 | G55: =VLOOKUP(טבלה1[[#This Row],[הזמנת רכש]],[1]גיליון1!$F:$G,2,FALSE) -> מתאר מקומית יהוד מונסון 22-2013 | H55: 42215 | I55: 44926 | J55: 40322686 | K55: יאיר אביגדור אדריכלות ועיצוב עירוני | L55: 514084177 | M55: 2110217.9 | N55: ILS | O55: 385363.81 | P55: ILS | Q55: תקנה 1ב - מכרז פומבי רגיל | R55: 98 | T55: לא
A56: מ.האוצר מנהל התכנון | B56: מינהל התכנון | C56: מינהל התכנון | D56: 54330203 | E56: תכנון מתארי | F56: 4501086809 | G56: =VLOOKUP(טבלה1[[#This Row],[הזמנת רכש]],[1]גיליון1!$F:$G,2,FALSE) -> מתאר מקומית טירת הכרמל 22-2013 | H56: 42215 | I56: 45291 | J56: 40353728 | K56: קשת מ.כ. ניהול פרויקטים בע"מ | L56: 514204585 | M56: 1216683 | N56: ILS | O56: 0 | Q56: תקנה 1ב - מכרז פומבי רגיל | R56: 98 | T56: לא
A57: מ.האוצר מנהל התכנון | B57: מינהל התכנון | C57: מינהל התכנון | D57: 54330204 | E57: תכנון מתארי- מיעוטים | F57: 4501086845 | G57: =VLOOKUP(טבלה1[[#This Row],[הזמנת רכש]],[1]גיליון1!$F:$G,2,FALSE) -> מתאר מקומית עראבה 22-2013 | H57: 42215 | I57: 45291 | J57: 40242761 | K57: פרחי- צפריר אדריכלים בע"מ | L57: 510702525 | M57: 924183 | N57: ILS | O57: 139582.47 | P57: ILS | Q57: תקנה 1ב - מכרז פומבי רגיל | R57: 98 | T57: לא
A58: מ.האוצר מנהל התכנון | B58: מינהל התכנון | C58: מינהל התכנון | D58: 54330203 | E58: תכנון מתארי | F58: 4501086880 | G58: =VLOOKUP(טבלה1[[#This Row],[הזמנת רכש]],[1]גיליון1!$F:$G,2,FALSE) -> מתאר מקומית עראבה 22-2013 | H58: 42215 | I58: 44926 | J58: 40010819 | K58: ערן מבל ארכיטקטורה ובנוי ערים בע"מ | L58: 512261900 | M58: 1694335.5 | N58: ILS | O58: 0 | Q58: תקנה 1ב - מכרז פומבי רגיל | R58: 98 | T58: לא
A59: מ.האוצר מנהל התכנון | B59: מינהל התכנון | C59: מינהל התכנון | D59: 54330203 | E59: תכנון מתארי | F59: 4501086938 | G59: =VLOOKUP(טבלה1[[#This Row],[הזמנת רכש]],[1]גיליון1!$F:$G,2,FALSE) -> מתאר מקומית פתח תקווה; מכרז 22/2013 | H59: 42215 | I59: 45291 | J59: 40242761 | K59: פרחי- צפריר אדריכלים בע"מ | L59: 510702525 | M59: 1498770 | N59: ILS | O59: 0 | Q59: תקנה 1ב - מכרז פומבי רגיל | R59: 98 | T59: לא
A60: מ.האוצר מנהל התכנון | B60: מינהל התכנון | C60: מינהל התכנון | D60: 54330203 | E60: תכנון מתארי | F60: 4501086950 | G60: =VLOOKUP(טבלה1[[#This Row],[הזמנת רכש]],[1]גיליון1!$F:$G,2,FALSE) -> מתאר מקומית כפר קרע; מכרז 22/2013 | H60: 42215 | I60: 45657 | J60: 40255170 | K60: אלי פירשט ואדם מזור | L60: 557378619 | M60: 924183 | N60: ILS | O60: 0 | Q60: תקנה 1ב - מכרז פומבי רגיל | R60: 98 | T60: לא
A61: מ.האוצר מנהל התכנון | B61: מינהל התכנון | C61: מינהל התכנון | D61: 54330204 | E61: תכנון מתארי- מיעוטים | F61: 4501086958 | G61: =VLOOKUP(טבלה1[[#This Row],[הזמנת רכש]],[1]גיליון1!$F:$G,2,FALSE) -> מתאר מקומית כפר קרע; מכרז 22/2013 | H61: 42215 | I61: 45107 | J61: 40242756 | K61: לרמן אדריכלים ומתכנני ערים בע"מ | L61: 510614621 | M61: 403650 | N61: ILS | O61: 0 | Q61: תקנה 1ב - מכרז פומבי רגיל | R61: 98 | T61: לא
A62: מ.האוצר מנהל התכנון | B62: מינהל התכנון | C62: מינהל התכנון | D62: 54330204 | E62: תכנון מתארי- מיעוטים | F62: 4501087161 | G62: =VLOOKUP(טבלה1[[#This Row],[הזמנת רכש]],[1]גיליון1!$F:$G,2,FALSE) -> מתאר מקומית רהט; מכרז 22/2013 | H62: 42216 | I62: 45291 | J62: 40322686 | K62: יאיר אביגדור אדריכלות ועיצוב עירוני | L62: 514084177 | M62: 1133730 | N62: ILS | O62: 283968.1 | P62: ILS | Q62: תקנה 1ב - מכרז פומבי רגיל | R62: 98 | T62: לא
A63: מ.האוצר מנהל התכנון | B63: מינהל התכנון | C63: מינהל התכנון | D63: 54330203 | E63: תכנון מתארי | F63: 4501087163 | G63: =VLOOKUP(טבלה1[[#This Row],[הזמנת רכש]],[1]גיליון1!$F:$G,2,FALSE) -> מתאר מקומית תל מונד; מכרז 22/2013 | H63: 42216 | I63: 44742 | J63: 40255170 | K63: אלי פירשט ואדם מזור | L63: 557378619 | M63: 2018250 | N63: ILS | O63: 547063.89 | P63: ILS | Q63: תקנה 1ב - מכרז פומבי רגיל | R63: 98 | T63: לא
A64: מ.האוצר מנהל התכנון | B64: מינהל התכנון | C64: מינהל התכנון | D64: 54330203 | E64: תכנון מתארי | F64: 4501087164 | G64: =VLOOKUP(טבלה1[[#This Row],[הזמנת רכש]],[1]גיליון1!$F:$G,2,FALSE) -> מתאר מקומית קריית עקרון 22-2013 | H64: 42216 | I64: 44926 | J64: 40251026 | K64: איזן אילן פליקס | L64: 053912499 | M64: 403650 | N64: ILS | O64: 0 | Q64: תקנה 1ב - מכרז פומבי רגיל | R64: 98 | T64: לא
A65: מ.האוצר מנהל התכנון | B65: מינהל התכנון | C65: מינהל התכנון | D65: 54330207 | E65: מחשוב - פיתוח ותפעול | F65: 4501088789 | G65: =VLOOKUP(טבלה1[[#This Row],[הזמנת רכש]],[1]גיליון1!$F:$G,2,FALSE) -> יועץ-מודד | H65: 42220 | I65: 44561 | J65: 40153188 | K65: חץ הצפון מיפוי והנדסה בע"מ | L65: 513627034 | M65: 129688.41 | N65: ILS | O65: 56052.12 | P65: ILS | Q65: תקנה 5א(ב)(1) - התקשרות עם מתכננים | R65: 98 | T65: לא
A66: מ.האוצר מנהל התכנון | B66: מינהל התכנון | C66: מינהל התכנון | D66: 54330207 | E66: מחשוב - פיתוח ותפעול | F66: 4501116546 | G66: =VLOOKUP(טבלה1[[#This Row],[הזמנת רכש]],[1]גיליון1!$F:$G,2,FALSE) -> שירותי נגמ"פ-מכרז 30/2013 | H66: 42305 | I66: 44561 | J66: 40001605 | K66: טלדור מערכות מחשבים (1986) בע"מ | L66: 520039710 | M66: 139999.86 | N66: ILS | O66: 46946 | P66: ILS | Q66: מכרז פומבי עם הליך תחרותי נוסף ממוכן | R66: 98 | T66: לא
A67: מ.האוצר מנהל התכנון | B67: מינהל התכנון | C67: מינהל התכנון | D67: 54330206 | E67: הדרכה ובקרה לרפורמה | F67: 4501123289 | G67: =VLOOKUP(טבלה1[[#This Row],[הזמנת רכש]],[1]גיליון1!$F:$G,2,FALSE) -> מכרז 75/2012 הדרכה רפורמה | H67: 42318 | I67: 44926 | J67: 40004545 | K67: ג'ון ברייס הדרכה בע"מ | L67: 511449878 | M67: 16338399 | N67: ILS | O67: 13075652 | P67: ILS | Q67: תקנה 1ב - מכרז פומבי רגיל | R67: 536757 | T67: לא
A68: מ.האוצר מנהל התכנון | B68: מינהל התכנון | C68: מינהל התכנון | D68: 54330201 | E68: שירותי ייעוץ ומחקר | F68: 4501131967 | G68: =VLOOKUP(טבלה1[[#This Row],[הזמנת רכש]],[1]גיליון1!$F:$G,2,FALSE) -> יועץ למתן חוות דעת בתחום התנועה | H68: 42334 | I68: 44377 | J68: 40481732 | K68: מלגר- תכנון אורבני, תחבורה, תשתיות | L68: 514437094 | M68: 1155208.6 | N68: ILS | O68: 1048235.5 | P68: ILS | Q68: תקנה 1ב - מכרז פומבי רגיל | R68: 80 | T68: לא
A69: מ.האוצר מנהל התכנון | B69: מינהל התכנון | C69: מינהל התכנון | D69: 54330201 | E69: שירותי ייעוץ ומחקר | F69: 4501135470 | G69: =VLOOKUP(טבלה1[[#This Row],[הזמנת רכש]],[1]גיליון1!$F:$G,2,FALSE) -> חוקר | H69: 42340 | I69: 44561 | J69: 40217403 | K69: חינקס אבשלום | L69: 008268021 | M69: 485426.97 | N69: ILS | O69: 469170 | P69: ILS | Q69: תקנה 5א(ב)(1) - התקשרות עם מתכננים | R69: 98 | T69: לא
A70: מ.האוצר מנהל התכנון | B70: מינהל התכנון | C70: מינהל התכנון | D70: 54330210 | E70: ועדות ערר - חברת | F70: 4501138415 | G70: =VLOOKUP(טבלה1[[#This Row],[הזמנת רכש]],[1]גיליון1!$F:$G,2,FALSE) -> מ"מ יו"ר ועדת ערר- תל אביב | H70: 42345 | I70: 45139 | J70: 41379633 | K70: זלמנוביץ בנימין פנחס | L70: 033614744 | M70: 1680925 | N70: ILS | O70: 879465.6 | P70: ILS | Q70: מינוי חברים בועדות | R70: 98 | T70: לא
A71: מ.האוצר מנהל התכנון | B71: מינהל התכנון | C71: מינהל התכנון | D71: 54330201 | E71: שירותי ייעוץ ומחקר | F71: 4501141793 | G71: =VLOOKUP(טבלה1[[#This Row],[הזמנת רכש]],[1]גיליון1!$F:$G,2,FALSE) -> יועץ - מודד | H71: 42348 | I71: 44561 | J71: 40403947 | K71: כילאני מועתז | L71: 034785311 | M71: 293709.78 | N71: ILS | O71: 243344.22 | P71: ILS | Q71: תקנה 5א(ב)(1) - התקשרות עם מתכננים | R71: 98 | T71: לא
A72: מ.האוצר מנהל התכנון | B72: מינהל התכנון | C72: מינהל התכנון | D72: 54330210 | E72: ועדות ערר - חברת | F72: 4501143224 | G72: =VLOOKUP(טבלה1[[#This Row],[הזמנת רכש]],[1]גיליון1!$F:$G,2,FALSE) -> יו"ר ועדת ערר- תל אביב ומ"מ צפון, ירושלים, מרכז, חיפה והדרום | H72: 42352 | I72: 45134 | J72: 41383973 | K72: עיני ורדון תמר | L72: 029574043 | M72: 1680925 | N72: ILS | O72: 879465.6 | P72: ILS | Q72: מינוי חברים בועדות | R72: 98 | T72: לא
A73: מ.האוצר מנהל התכנון | B73: מינהל התכנון | C73: מינהל התכנון | D73: 54330201 | E73: שירותי ייעוץ ומחקר | F73: 4501143514 | G73: =VLOOKUP(טבלה1[[#This Row],[הזמנת רכש]],[1]גיליון1!$F:$G,2,FALSE) -> שמאי לצורך ייעוץ לותמ"ל | H73: 42352 | I73: 44561 | J73: 41100282 | K73: מוטי זייד בע"מ | L73: 513687277 | M73: 475941.96 | N73: ILS | O73: 448089.41 | P73: ILS | Q73: תקנה 5א(ב)(1) - התקשרות עם מתכננים | R73: 07 | T73: לא
A74: מ.האוצר מנהל התכנון | B74: מינהל התכנון | C74: מינהל התכנון | D74: 54330202 | E74: יועצי ותמ"ל | F74: 4501143514 | G74: =VLOOKUP(טבלה1[[#This Row],[הזמנת רכש]],[1]גיליון1!$F:$G,2,FALSE) -> שמאי לצורך ייעוץ לותמ"ל | H74: 42352 | I74: 44561 | J74: 41100282 | K74: מוטי זייד בע"מ | L74: 513687277 | M74: 550929.6 | N74: ILS | O74: 499203.42 | P74: ILS | Q74: תקנה 5א(ב)(1) - התקשרות עם מתכננים | R74: 07 | T74: לא
A75: מ.האוצר מנהל התכנון | B75: מינהל התכנון | C75: מינהל התכנון | D75: 54330210 | E75: ועדות ערר - חברת | F75: 4501143767 | G75: =VLOOKUP(טבלה1[[#This Row],[הזמנת רכש]],[1]גיליון1!$F:$G,2,FALSE) -> חבר ועדת ערר- מרכז | H75: 42353 | I75: 44742 | J75: 40539183 | K75: רזי יוסף | L75: 005207923 | M75: 125597.16 | N75: ILS | O75: 63898.38 | P75: ILS | Q75: מינוי חברים בועדות | R75: 98 | T75: לא
A76: מ.האוצר מנהל התכנון | B76: מינהל התכנון | C76: מינהל התכנון | D76: 54330203 | E76: תכנון מתארי | F76: 4501143891 | G76: =VLOOKUP(טבלה1[[#This Row],[הזמנת רכש]],[1]גיליון1!$F:$G,2,FALSE) -> חברות מתכננות | H76: 42353 | I76: 45291 | J76: 40322686 | K76: יאיר אביגדור אדריכלות ועיצוב עירוני | L76: 514084177 | M76: 807300 | N76: ILS | O76: 0 | Q76: תקנה 1ב - מכרז פומבי רגיל | R76: 98 | T76: לא
A77: מ.האוצר מנהל התכנון | B77: מינהל התכנון | C77: מינהל התכנון | D77: 54330203 | E77: תכנון מתארי | F77: 4501143905 | G77: =VLOOKUP(טבלה1[[#This Row],[הזמנת רכש]],[1]גיליון1!$F:$G,2,FALSE) -> חברות מתכננות | H77: 42353 | I77: 45291 | J77: 40322686 | K77: יאיר אביגדור אדריכלות ועיצוב עירוני | L77: 514084177 | M77: 403650 | N77: ILS | O77: 0 | Q77: תקנה 1ב - מכרז פומבי רגיל | R77: 98 | T77: לא
A78: מ.האוצר מנהל התכנון | B78: מינהל התכנון | C78: מינהל התכנון | D78: 54330203 | E78: תכנון מתארי | F78: 4501143924 | G78: =VLOOKUP(טבלה1[[#This Row],[הזמנת רכש]],[1]גיליון1!$F:$G,2,FALSE) -> חברות מתכננות | H78: 42353 | I78: 45291 | J78: 40242761 | K78: פרחי- צפריר אדריכלים בע"מ | L78: 510702525 | M78: 807300 | N78: ILS | O78: 122537.91 | P78: ILS | Q78: תקנה 1ב - מכרז פומבי רגיל | R78: 98 | T78: לא
A79: מ.האוצר מנהל התכנון | B79: מינהל התכנון | C79: מינהל התכנון | D79: 54330203 | E79: תכנון מתארי | F79: 4501143989 | G79: =VLOOKUP(טבלה1[[#This Row],[הזמנת רכש]],[1]גיליון1!$F:$G,2,FALSE) -> חברות מתכננות | H79: 42353 | I79: 45291 | J79: 40251026 | K79: איזן אילן פליקס | L79: 053912499 | M79: 1758510 | N79: ILS | O79: 594326.76 | P79: ILS | Q79: פטור ממכרז | R79: 98 | S79: תקנה 3ג - מימוש זכות ברירה | T79: לא
A80: מ.האוצר מנהל התכנון | B80: מינהל התכנון | C80: מינהל התכנון | D80: 54330203 | E80: תכנון מתארי | F80: 4501144007 | G80: =VLOOKUP(טבלה1[[#This Row],[הזמנת רכש]],[1]גיליון1!$F:$G,2,FALSE) -> חברות מתכננות | H80: 42353 | I80: 44926 | J80: 40216223 | K80: דני לזר אדריכלים בע"מ | L80: 512567314 | M80: 807300 | N80: ILS | O80: 410483.79 | P80: ILS | Q80: תקנה 1ב - מכרז פומבי רגיל | R80: 98 | T80: לא
A81: מ.האוצר מנהל התכנון | B81: מינהל התכנון | C81: מינהל התכנון | D81: 54330203 | E81: תכנון מתארי | F81: 4501144676 | G81: =VLOOKUP(טבלה1[[#This Row],[הזמנת רכש]],[1]גיליון1!$F:$G,2,FALSE) -> חברות מתכננות | H81: 42354 | I81: 45291 | J81: 40242761 | K81: פרחי- צפריר אדריכלים בע"מ | L81: 510702525 | M81: 2248155 | N81: ILS | O81: 753849.68 | P81: ILS | Q81: תקנה 1ב - מכרז פומבי רגיל | R81: 98 | T81: לא
A82: מ.האוצר מנהל התכנון | B82: מינהל התכנון | C82: מינהל התכנון | D82: 54330204 | E82: תכנון מתארי- מיעוטים | F82: 4501144789 | G82: =VLOOKUP(טבלה1[[#This Row],[הזמנת רכש]],[1]גיליון1!$F:$G,2,FALSE) -> חברות מתכננות | H82: 42354 | I82: 44742 | J82: 40007131 | K82: נעמה מליס, אדריכלות ובינוי ערים בע" | L82: 512420464 | M82: 807300 | N82: ILS | O82: 0 | Q82: תקנה 1ב - מכרז פומבי רגיל | R82: 98 | T82: לא
A83: מ.האוצר מנהל התכנון | B83: מינהל התכנון | C83: מינהל התכנון | D83: 54330203 | E83: תכנון מתארי | F83: 4501144801 | G83: =VLOOKUP(טבלה1[[#This Row],[הזמנת רכש]],[1]גיליון1!$F:$G,2,FALSE) -> חברות מתכננות | H83: 42354 | I83: 44926 | J83: 40255170 | K83: אלי פירשט ואדם מזור | L83: 557378619 | M83: 462091.5 | N83: ILS | O83: 0 | Q83: תקנה 1ב - מכרז פומבי רגיל | R83: 98 | T83: לא
A84: מ.האוצר מנהל התכנון | B84: מינהל התכנון | C84: מינהל התכנון | D84: 54330204 | E84: תכנון מתארי- מיעוטים | F84: 4501144862 | G84: =VLOOKUP(טבלה1[[#This Row],[הזמנת רכש]],[1]גיליון1!$F:$G,2,FALSE) -> חברות מתכננות | H84: 42354 | I84: 44926 | J84: 40216223 | K84: דני לזר אדריכלים בע"מ | L84: 512567314 | M84: 807300 | N84: ILS | O84: 408904.63 | P84: ILS | Q84: תקנה 1ב - מכרז פומבי רגיל | R84: 98 | T84: לא
A85: מ.האוצר מנהל התכנון | B85: מינהל התכנון | C85: מינהל התכנון | D85: 54330204 | E85: תכנון מתארי- מיעוטים | F85: 4501144878 | G85: =VLOOKUP(טבלה1[[#This Row],[הזמנת רכש]],[1]גיליון1!$F:$G,2,FALSE) -> חברות מתכננות | H85: 42354 | I85: 45291 | J85: 40010819 | K85: ערן מבל ארכיטקטורה ובנוי ערים בע"מ | L85: 512261900 | M85: 807300 | N85: ILS | O85: 0 | Q85: פטור ממכרז | R85: 98 | S85: תקנה 3ג - מימוש זכות ברירה | T85: לא
A86: מ.האוצר מנהל התכנון | B86: מינהל התכנון | C86: מינהל התכנון | D86: 54330201 | E86: שירותי ייעוץ ומחקר | F86: 4501145247 | G86: =VLOOKUP(טבלה1[[#This Row],[הזמנת רכש]],[1]גיליון1!$F:$G,2,FALSE) -> יועצת מים | H86: 42354 | I86: 44561 | J86: 40010484 | K86: ח.ג.מ. מהנדסים יועצים ומתכננים בע"מ | L86: 510856859 | M86: 379136.16 | N86: ILS | O86: 188076.08 | P86: ILS | Q86: תקנה 5א(ב)(1) - התקשרות עם מתכננים | R86: 98 | T86: לא
A87: מ.האוצר מנהל התכנון | B87: מינהל התכנון | C87: מינהל התכנון | D87: 54330204 | E87: תכנון מתארי- מיעוטים | F87: 4501145370 | G87: =VLOOKUP(טבלה1[[#This Row],[הזמנת רכש]],[1]גיליון1!$F:$G,2,FALSE) -> מתחם דרומי בטורעאן | H87: 42354 | I87: 44926 | J87: 40216223 | K87: דני לזר אדריכלים בע"מ | L87: 512567314 | M87: 2355836 | N87: ILS | O87: 1145806.8 | P87: ILS | Q87: תקנה 1ב - מכרז פומבי רגיל | R87: 98 | T87: לא
A88: מ.האוצר מנהל התכנון | B88: מינהל התכנון | C88: מינהל התכנון | D88: 54330202 | E88: יועצי ותמ"ל | F88: 4501145377 | G88: =VLOOKUP(טבלה1[[#This Row],[הזמנת רכש]],[1]גיליון1!$F:$G,2,FALSE) -> יועץ תנועה | H88: 42354 | I88: 44500 | J88: 40458705 | K88: גמליאלי יוסף | L88: 059830596 | M88: 22658.45 | N88: ILS | O88: 12469.28 | P88: ILS | Q88: תקנה 1ב - מכרז פומבי רגיל | R88: 98 | T88: לא
A89: מ.האוצר מנהל התכנון | B89: מינהל התכנון | C89: מינהל התכנון | D89: 54330210 | E89: ועדות ערר - חברת | F89: 4501145379 | G89: =VLOOKUP(טבלה1[[#This Row],[הזמנת רכש]],[1]גיליון1!$F:$G,2,FALSE) -> חבר ועדת ערר | H89: 42354 | I89: 45291 | J89: 41378519 | K89: א.א.י.ה. ניהול בע"מ | L89: 514802719 | M89: 184198.95 | N89: ILS | O89: 36438.57 | P89: ILS | Q89: מינוי חברים בועדות | R89: 98 | T89: לא
A90: מ.האוצר מנהל התכנון | B90: מינהל התכנון | C90: מינהל התכנון | D90: 54330202 | E90: יועצי ותמ"ל | F90: 4501145381 | G90: =VLOOKUP(טבלה1[[#This Row],[הזמנת רכש]],[1]גיליון1!$F:$G,2,FALSE) -> יועץ תחבורה | H90: 42354 | I90: 44742 | J90: 41108266 | K90: מנור אברהם | L90: 001285188 | M90: 809629.32 | N90: ILS | O90: 421430.77 | P90: ILS | Q90: תקנה 1ב - מכרז פומבי רגיל | R90: 98 | T90: לא
A91: מ.האוצר מנהל התכנון | B91: מינהל התכנון | C91: מינהל התכנון | D91: 54330210 | E91: ועדות ערר - חברת | F91: 4501146063 | G91: =VLOOKUP(טבלה1[[#This Row],[הזמנת רכש]],[1]גיליון1!$F:$G,2,FALSE) -> חבר ועדת ערר- תל אביב, מ"מ חבר ועדת ערר - ירושלים | H91: 42355 | I91: 45107 | J91: 41062636 | K91: ארז מרים | L91: 008137101 | M91: 306394.92 | N91: ILS | O91: 141929.19 | P91: ILS | Q91: מינוי חברים בועדות | R91: 98 | T91: לא
A92: מ.האוצר מנהל התכנון | B92: מינהל התכנון | C92: מינהל התכנון | D92: 54330201 | E92: שירותי ייעוץ ומחקר | F92: 4501148418 | G92: =VLOOKUP(טבלה1[[#This Row],[הזמנת רכש]],[1]גיליון1!$F:$G,2,FALSE) -> יועצת נוף | H92: 42360 | I92: 44561 | J92: 40254747 | K92: נאוה כהן - אדריכלות נוף בע"מ | L92: 512255902 | M92: 379136.16 | N92: ILS | O92: 197761.37 | P92: ILS | Q92: תקנה 5א(ב)(1) - התקשרות עם מתכננים | R92: 98 | T92: לא
A93: מ.האוצר מנהל התכנון | B93: מינהל התכנון | C93: מינהל התכנון | D93: 54330210 | E93: ועדות ערר - חברת | F93: 4501180168 | G93: =VLOOKUP(טבלה1[[#This Row],[הזמנת רכש]],[1]גיליון1!$F:$G,2,FALSE) -> חבר ועדת ערר | H93: 42411 | I93: 44926 | J93: 41394380 | K93: ספיר אילן | L93: 006768394 | M93: 193722.75 | N93: ILS | O93: 67417.74 | P93: ILS | Q93: מינוי חברים בועדות | R93: 99 | T93: לא
A94: מ.האוצר מנהל התכנון | B94: מינהל התכנון | C94: מינהל התכנון | D94: 54330201 | E94: שירותי ייעוץ ומחקר | F94: 4501190336 | G94: =VLOOKUP(טבלה1[[#This Row],[הזמנת רכש]],[1]גיליון1!$F:$G,2,FALSE) -> יועץ אקוסטיקה לותמ"ל | H94: 42430 | I94: 44561 | J94: 41031978 | K94: אלפר הנדסה אקוסטית בע"מ | L94: 514908623 | M94: 1029341.2 | N94: ILS | O94: 707571.78 | P94: ILS | Q94: תקנה 5א(ב)(1) - התקשרות עם מתכננים | R94: 80 | T94: לא
A95: מ.האוצר מנהל התכנון | B95: מינהל התכנון | C95: מינהל התכנון | D95: 54330205 | E95: הוצאות תפעול | F95: 4501202117 | G95: =VLOOKUP(טבלה1[[#This Row],[הזמנת רכש]],[1]גיליון1!$F:$G,2,FALSE) -> עבודות אלומיניום ליח' מינהל התכנון - מאגר מאוחד | H95: 42452 | I95: 43190 | J95: 40017179 | K95: בן-אהרן אבישי | L95: 055701445 | M95: 45864 | N95: ILS | O95: 9482.97 | P95: ILS | Q95: מכרז מרכזי ממוכן | R95: עבודות אלומניום ליח' מינהל התכנון | T95: לא
A96: מ.האוצר מנהל התכנון | B96: מינהל התכנון | C96: מינהל התכנון | D96: 54330201 | E96: שירותי ייעוץ ומחקר | F96: 4501208576 | G96: =VLOOKUP(טבלה1[[#This Row],[הזמנת רכש]],[1]גיליון1!$F:$G,2,FALSE) -> יועץ תחבורה | H96: 42465 | I96: 44711 | J96: 40569882 | K96: ארצי הנדסה אזרחי בע"מ | L96: 514564178 | M96: 646113.31 | N96: ILS | O96: 286424.75 | P96: ILS | Q96: תקנה 1ב - מכרז פומבי רגיל | R96: 99 | T96: לא
A97: מ.האוצר מנהל התכנון | B97: מינהל התכנון | C97: מינהל התכנון | D97: 54330204 | E97: תכנון מתארי- מיעוטים | F97: 4501229299 | G97: =VLOOKUP(טבלה1[[#This Row],[הזמנת רכש]],[1]גיליון1!$F:$G,2,FALSE) -> סקר עצים לצורך טיפול בתכנית מתאר ריחניה | H97: 42515 | I97: 44742 | J97: 40010562 | K97: דטהמפ מערכות מידע גאוגרפיות בע"מ | L97: 511271074 | M97: 6435 | N97: ILS | O97: 0 | Q97: פטור ממכרז | S97: תקנה 3(1) - התקשרות ששוויה אינה עולה על 50,000 ש"ח | T97: לא
A98: מ.האוצר מנהל התכנון | B98: מינהל התכנון | C98: מינהל התכנון | D98: 54330204 | E98: תכנון מתארי- מיעוטים | F98: 4501246308 | G98: =VLOOKUP(טבלה1[[#This Row],[הזמנת רכש]],[1]גיליון1!$F:$G,2,FALSE) -> מתאר מקומית עיר כרמל מכרז 42/2008 | H98: 42551 | I98: 44926 | J98: 41181688 | K98: גורדון אדריכלים ומתכנני ערים בע"מ | L98: 515177459 | M98: 1492978.5 | N98: ILS | O98: 228892.95 | P98: ILS | Q98: תקנה 1ב - מכרז פומבי רגיל | R98: 98 | T98: לא
A99: מ.האוצר מנהל התכנון | B99: מינהל התכנון | C99: מינהל התכנון | D99: 54330204 | E99: תכנון מתארי- מיעוטים | F99: 4501246326 | G99: =VLOOKUP(טבלה1[[#This Row],[הזמנת רכש]],[1]גיליון1!$F:$G,2,FALSE) -> תוכנית מפורטת לפורדיס | H99: 42551 | I99: 45291 | J99: 41181688 | K99: גורדון אדריכלים ומתכנני ערים בע"מ | L99: 515177459 | M99: 795834 | N99: ILS | O99: 607710.08 | P99: ILS | Q99: תקנה 1ב - מכרז פומבי רגיל | R99: 98 | T99: לא
A100: מ.האוצר מנהל התכנון | B100: מינהל התכנון | C100: מינהל התכנון | D100: 54330210 | E100: ועדות ערר - חברת | F100: 4501248070 | G100: =VLOOKUP(טבלה1[[#This Row],[הזמנת רכש]],[1]גיליון1!$F:$G,2,FALSE) -> חבר ועדת ערר- מרכז | H100: 42556 | I100: 44742 | J100: 40160337 | K100: סלומון גיל משה | L100: 029552205 | M100: 100301.76 | N100: ILS | O100: 20676.24 | P100: ILS | Q100: מינוי חברים בועדות | R100: 99 | T100: לא
...
