Workbook
Name Format: גיליון1!$A$2:$S$940

Sheet גיליון1
A1: שם חברה | B1: תאור של ארגון רכש | C1: שם אתר | D1: תקנה תקציבית | E1: תיאור תקנה תקציבית | F1: הזמנת רכש | G1: מטרת התקשרות | H1: תאריך יצירת ההזמנה | I1: סיום תקופת תוקף | J1: קוד ספק | K1: שם הספק | L1: מספר ח"פ | M1: ערך ההזמנה כולל מע"מ | N1: מטבע | O1: ביצוע חשבוניות מצטבר כולל מע"מ והצמדות | P1: מטבע חשבונית | Q1: אופן רכישה מקור | R1: מס' פנייה במנו"ף/מנור" | S1: סיבת פטור | T1: הזמנה רגישה
A2: מ.האוצר מנהל התכנון | B2: מינהל התכנון | C2: מינהל התכנון | D2: 54330201 | E2: שירותי ייעוץ ומחקר | F2: 4501082744 | G2: =VLOOKUP(טבלה1[[#This Row],[הזמנת רכש]],[1]גיליון1!$F:$G,2,FALSE) -> שמאי | H2: 42206 | I2: 44561 | J2: 40407115 | K2: דותן דרעי - אורן נס (2006) בע"מ | L2: 513820282 | M2: 853017.48 | N2: ILS | O2: 852335.58 | P2: ILS | Q2: תקנה 5א(ב)(1) - התקשרות עם מתכננים | R2: 99 | T2: לא
A3: מ.האוצר מנהל התכנון | B3: מינהל התכנון | C3: מינהל התכנון | D3: 54330203 | E3: תכנון מתארי | F3: 4501083335 | G3: =VLOOKUP(טבלה1[[#This Row],[הזמנת רכש]],[1]גיליון1!$F:$G,2,FALSE) -> מתאר מקומית נחל איילון; מכרז 42/2001 | H3: 42207 | I3: 44469 | J3: 40011426 | K3: גוגנהיים דוד | L3: 000478396 | M3: 248543.1 | N3: ILS | O3: 0 | Q3: תקנה 1ב - מכרז פומבי רגיל | R3: 98 | T3: לא
A4: מ.האוצר מנהל התכנון | B4: מינהל התכנון | C4: מינהל התכנון | D4: 54330207 | E4: מחשוב - פיתוח ותפעול | F4: 4501083372 | G4: =VLOOKUP(טבלה1[[#This Row],[הזמנת רכש]],[1]גיליון1!$F:$G,2,FALSE) -> יישומי ליבה עבור אגף מערכות מידע | H4: 42220 | I4: 44774 | J4: 40001612 | K4: מלם מערכות בע"מ | L4: 520044041 | M4: 9944386.9 | N4: ILS | O4: 4727037.9 | P4: ILS | Q4: תקנה 1ב - מכרז פומבי רגיל | R4: על פי תקנה 3(4)(ב)(3) | T4: לא
A5: מ.האוצר מנהל התכנון | B5: מינהל התכנון | C5: מינהל התכנון | D5: 54330201 | E5: שירותי ייעוץ ומחקר | F5: 4501083608 | G5: =VLOOKUP(טבלה1[[#This Row],[הזמנת רכש]],[1]גיליון1!$F:$G,2,FALSE) -> שמאי | H5: 42207 | I5: 44561 | J5: 40273657 | K5: אציל לדור גלית | L5: 023646599 | M5: 104386.47 | N5: ILS | O5: 38657.52 | P5: ILS | Q5: תקנה 5א(ב)(1) - התקשרות עם מתכננים | R5: 98 | T5: לא
A6: מ.האוצר מנהל התכנון | B6: מינהל התכנון | C6: מינהל התכנון | D6: 54330210 | E6: ועדות ערר - חברת | F6: 4501083627 | G6: =VLOOKUP(טבלה1[[#This Row],[הזמנת רכש]],[1]גיליון1!$F:$G,2,FALSE) -> חבר ועדת ערר-חיפה | H6: 42207 | I6: 45107 | J6: 40242310 | K6: אפק שמחה | L6: 008037798 | M6: 317392.92 | N6: ILS | O6: 140004.54 | P6: ILS | Q6: מינוי חברים בועדות | R6: 98 | T6: לא
A7: מ.האוצר מנהל התכנון | B7: מינהל התכנון | C7: מינהל התכנון | D7: 54330210 | E7: ועדות ערר - חברת | F7: 4501083630 | G7: =VLOOKUP(טבלה1[[#This Row],[הזמנת רכש]],[1]גיליון1!$F:$G,2,FALSE) -> חבר ועדת ערר - דרום | H7: 42207 | I7: 44926 | J7: 40242879 | K7: רפיק טורס בע"מ | L7: 512664277 | M7: 95940.11 | N7: ILS | O7: 43613.42 | P7: ILS | Q7: מינוי חברים בועדות | R7: 98 | T7: לא
A8: מ.האוצר מנהל התכנון | B8: מינהל התכנון | C8: מינהל התכנון | D8: 54330210 | E8: ועדות ערר - חברת | F8: 4501083633 | G8: =VLOOKUP(טבלה1[[#This Row],[הזמנת רכש]],[1]גיליון1!$F:$G,2,FALSE) -> חבר ועדת ערר - תל אביב | H8: 42207 | I8: 44926 | J8: 40185097 | K8: גופר מיכאל | L8: 047319637 | M8: 374862.38 | N8: ILS | O8: 179294.67 | P8: ILS | Q8: תקנה 5(ג)(4) - התקשרות עם מומחה - מינוי לועדה ציבורית/בורר/מ | R8: 98 | T8: לא
A9: מ.האוצר מנהל התכנון | B9: מינהל התכנון | C9: מינהל התכנון | D9: 54330210 | E9: ועדות ערר - חברת | F9: 4501083636 | G9: =VLOOKUP(טבלה1[[#This Row],[הזמנת רכש]],[1]גיליון1!$F:$G,2,FALSE) -> חבר ועדת ערר - חיפה | H9: 42207 | I9: 44926 | J9: 40242539 | K9: קציר חנה פסיה | L9: 052915519 | M9: 148912.92 | N9: ILS | O9: 73320.59 | P9: ILS | Q9: תקנה 5(ג)(4) - התקשרות עם מומחה - מינוי לועדה ציבורית/בורר/מ | R9: 98 | T9: לא
A10: מ.האוצר מנהל התכנון | B10: מינהל התכנון | C10: מינהל התכנון | D10: 54330210 | E10: ועדות ערר - חברת | F10: 4501083640 | G10: =VLOOKUP(טבלה1[[#This Row],[הזמנת רכש]],[1]גיליון1!$F:$G,2,FALSE) -> חבר ועדת ערר - מרכז | H10: 42207 | I10: 44742 | J10: 40242266 | K10: חכים שמואל | L10: 001329895 | M10: 391968.72 | N10: ILS | O10: 322326.31 | P10: ILS | Q10: תקנה 5(ג)(4) - התקשרות עם מומחה - מינוי לועדה ציבורית/בורר/מ | R10: 98 | T10: לא
A11: מ.האוצר מנהל התכנון | B11: מינהל התכנון | C11: מינהל התכנון | D11: 54330210 | E11: ועדות ערר - חברת | F11: 4501083646 | G11: =VLOOKUP(טבלה1[[#This Row],[הזמנת רכש]],[1]גיליון1!$F:$G,2,FALSE) -> חבר ועדת ערר - צפון | H11: 42207 | I11: 44742 | J11: 40242444 | K11: בראון מנדל דוד | L11: 030427199 | M11: 204188.87 | N11: ILS | O11: 106397.95 | P11: ILS | Q11: מינוי חברים בועדות | R11: 98 | T11: לא
A12: מ.האוצר מנהל התכנון | B12: מינהל התכנון | C12: מינהל התכנון | D12: 54330201 | E12: שירותי ייעוץ ומחקר | F12: 4501083734 | G12: =VLOOKUP(טבלה1[[#This Row],[הזמנת רכש]],[1]גיליון1!$F:$G,2,FALSE) -> יועץ אדריכלות | H12: 42208 | I12: 44469 | J12: 40276653 | K12: אפל נעה | L12: 032416430 | M12: 304521.7 | N12: ILS | O12: 284107.28 | P12: ILS | Q12: תקנה 5א(ב)(1) - התקשרות עם מתכננים | R12: 98 | T12: לא
A13: מ.האוצר מנהל התכנון | B13: מינהל התכנון | C13: מינהל התכנון | D13: 54330210 | E13: ועדות ערר - חברת | F13: 4501083738 | G13: =VLOOKUP(טבלה1[[#This Row],[הזמנת רכש]],[1]גיליון1!$F:$G,2,FALSE) -> חבר ועדת ערר | H13: 42208 | I13: 44834 | J13: 40242303 | K13: דנקנר רפאל | L13: 007689193 | M13: 70277.22 | N13: ILS | O13: 22749.8 | P13: ILS | Q13: תקנה 5(ג)(4) - התקשרות עם מומחה - מינוי לועדה ציבורית/בורר/מ | R13: 98 | T13: לא
A14: מ.האוצר מנהל התכנון | B14: מינהל התכנון | C14: מינהל התכנון | D14: 54330210 | E14: ועדות ערר - חברת | F14: 4501083775 | G14: =VLOOKUP(טבלה1[[#This Row],[הזמנת רכש]],[1]גיליון1!$F:$G,2,FALSE) -> חבר ועדת ערר - מחוז צפון וחיפה | H14: 42208 | I14: 44926 | J14: 40242712 | K14: גרון מאיר | L14: 065568065 | M14: 94378.89 | N14: ILS | O14: 28655.36 | P14: ILS | Q14: מינוי חברים בועדות | R14: 98 | T14: לא
A15: מ.האוצר מנהל התכנון | B15: מינהל התכנון | C15: מינהל התכנון | D15: 54330210 | E15: ועדות ערר - חברת | F15: 4501083814 | G15: =VLOOKUP(טבלה1[[#This Row],[הזמנת רכש]],[1]גיליון1!$F:$G,2,FALSE) -> חבר ועדת ערר - ירושלים | H15: 42208 | I15: 44926 | J15: 40243488 | K15: בלומנטל מנחם | M15: 159910.92 | N15: ILS | O15: 66005.6 | P15: ILS | Q15: תקנה 5(ג)(4) - התקשרות עם מומחה - מינוי לועדה ציבורית/בורר/מ | R15: 98 | T15: לא
A16: מ.האוצר מנהל התכנון | B16: מינהל התכנון | C16: מינהל התכנון | D16: 54330210 | E16: ועדות ערר - חברת | F16: 4501083860 | G16: =VLOOKUP(טבלה1[[#This Row],[הזמנת רכש]],[1]גיליון1!$F:$G,2,FALSE) -> חבר ועדת ערר - דרום וממלא מקום מחוז ת"א,ירושלים ומרכז | H16: 42208 | I16: 45016 | J16: 40169024 | K16: עירון זהר | L16: 055991038 | M16: 227630.52 | N16: ILS | O16: 112003.78 | P16: ILS | Q16: תקנה 5(ג)(4) - התקשרות עם מומחה - מינוי לועדה ציבורית/בורר/מ | R16: 98 | T16: לא
A17: מ.האוצר מנהל התכנון | B17: מינהל התכנון | C17: מינהל התכנון | D17: 54330203 | E17: תכנון מתארי | F17: 4501083877 | G17: =VLOOKUP(טבלה1[[#This Row],[הזמנת רכש]],[1]גיליון1!$F:$G,2,FALSE) -> מתאר מקומית קדימה צורן 37/2008 | H17: 42208 | I17: 44926 | J17: 40329164 | K17: ענת פיק - אדריכלות ובינוי ערים בע"מ | L17: 513918789 | M17: 821478.06 | N17: ILS | O17: 523877.68 | P17: ILS | Q17: תקנה 1ב - מכרז פומבי רגיל | R17: 98 | T17: לא
A18: מ.האוצר מנהל התכנון | B18: מינהל התכנון | C18: מינהל התכנון | D18: 54330203 | E18: תכנון מתארי | F18: 4501083900 | G18: =VLOOKUP(טבלה1[[#This Row],[הזמנת רכש]],[1]גיליון1!$F:$G,2,FALSE) -> מתאר מקומית אלעד 32/2008 | H18: 42208 | I18: 42369 | J18: 40328559 | K18: קורין יחיאל - אדריכלים בע"מ | L18: 513245449 | M18: 784441.71 | N18: ILS | O18: 0 | Q18: פטור ממכרז | R18: 98 | S18: תקנה 3ג - מימוש זכות ברירה | T18: לא
A19: מ.האוצר מנהל התכנון | B19: מינהל התכנון | C19: מינהל התכנון | D19: 54330203 | E19: תכנון מתארי | F19: 4501083994 | G19: =VLOOKUP(טבלה1[[#This Row],[הזמנת רכש]],[1]גיליון1!$F:$G,2,FALSE) -> מתאר מקומית נתניה; מכרז 76/2008 | H19: 42208 | I19: 44926 | J19: 40254953 | K19: יער אדריכלים ומתכנני ערים (2001) בע | L19: 513066951 | M19: 549900 | N19: ILS | O19: 0 | Q19: פטור ממכרז | R19: 98 | S19: תקנה 3ג - מימוש זכות ברירה | T19: לא
A20: מ.האוצר מנהל התכנון | B20: מינהל התכנון | C20: מינהל התכנון | D20: 54330210 | E20: ועדות ערר - חברת | F20: 4501084017 | G20: =VLOOKUP(טבלה1[[#This Row],[הזמנת רכש]],[1]גיליון1!$F:$G,2,FALSE) -> חבר ועדת ערר - ירושלים | H20: 42208 | I20: 44561 | J20: 40261757 | K20: וסרטייל אליסיה | M20: 78525.72 | N20: ILS | O20: 10054.71 | P20: ILS | Q20: מינוי חברים בועדות | R20: 98 | T20: לא
A21: מ.האוצר מנהל התכנון | B21: מינהל התכנון | C21: מינהל התכנון | D21: 54330204 | E21: תכנון מתארי- מיעוטים | F21: 4501084134 | G21: =VLOOKUP(טבלה1[[#This Row],[הזמנת רכש]],[1]גיליון1!$F:$G,2,FALSE) -> תכנית מתאר ערערה | H21: 42208 | I21: 44926 | J21: 40395346 | K21: אתוס - אדריכלות תכנון וסביבה בע"מ | L21: 514260769 | M21: 359482.5 | N21: ILS | O21: 159266.25 | P21: ILS | Q21: תקנה 1ב - מכרז פומבי רגיל | R21: 98 | T21: לא
A22: מ.האוצר מנהל התכנון | B22: מינהל התכנון | C22: מינהל התכנון | D22: 54330204 | E22: תכנון מתארי- מיעוטים | F22: 4501084230 | G22: =VLOOKUP(טבלה1[[#This Row],[הזמנת רכש]],[1]גיליון1!$F:$G,2,FALSE) -> מתאר מקומית אשכול 3; מכרז 5/2001 | H22: 42208 | I22: 44926 | J22: 40516456 | K22: נקאש אדיב | L22: 054793260 | M22: 234900.43 | N22: ILS | O22: 178509.31 | P22: ILS | Q22: תקנה 1ב - מכרז פומבי רגיל | R22: 98 | T22: לא
A23: מ.האוצר מנהל התכנון | B23: מינהל התכנון | C23: מינהל התכנון | D23: 54330203 | E23: תכנון מתארי | F23: 4501084243 | G23: =VLOOKUP(טבלה1[[#This Row],[הזמנת רכש]],[1]גיליון1!$F:$G,2,FALSE) -> מתאר מקומית באר שבע; 57/2010 | H23: 42208 | I23: 44926 | J23: 40242817 | K23: אמיר מן עמי שנער, אדריכלים ומתכנני | L23: 511737322 | M23: 942114.42 | N23: ILS | O23: 223943.97 | P23: ILS | Q23: תקנה 1ב - מכרז פומבי רגיל | R23: 98 | T23: לא
A24: מ.האוצר מנהל התכנון | B24: מינהל התכנון | C24: מינהל התכנון | D24: 54330210 | E24: ועדות ערר - חברת | F24: 4501084264 | G24: =VLOOKUP(טבלה1[[#This Row],[הזמנת רכש]],[1]גיליון1!$F:$G,2,FALSE) -> חבר ועדת ערר - מרכז | H24: 42208 | I24: 44926 | J24: 40447940 | K24: כהן דוד | L24: 062090345 | M24: 449598.24 | N24: ILS | O24: 274970.68 | P24: ILS | Q24: תקנה 5(ג)(4) - התקשרות עם מומחה - מינוי לועדה ציבורית/בורר/מ | R24: 98 | T24: לא
A25: מ.האוצר מנהל התכנון | B25: מינהל התכנון | C25: מינהל התכנון | D25: 54330204 | E25: תכנון מתארי- מיעוטים | F25: 4501084310 | G25: =VLOOKUP(טבלה1[[#This Row],[הזמנת רכש]],[1]גיליון1!$F:$G,2,FALSE) -> מתאר מקומית באקה ג'ת; מכרז 23/2013 | H25: 42209 | I25: 44561 | J25: 40323298 | K25: מילול-קורן | L25: 557939279 | M25: 1228500 | N25: ILS | O25: 289542.54 | P25: ILS | Q25: תקנה 1ב - מכרז פומבי רגיל | R25: 98 | T25: לא
A26: מ.האוצר מנהל התכנון | B26: מינהל התכנון | C26: מינהל התכנון | D26: 54330201 | E26: שירותי ייעוץ ומחקר | F26: 4501084319 | G26: =VLOOKUP(טבלה1[[#This Row],[הזמנת רכש]],[1]גיליון1!$F:$G,2,FALSE) -> יועץ-רישוי | H26: 42209 | I26: 44286 | J26: 40509019 | K26: גולדשמיד פני | L26: 013549381 | M26: 217675.05 | N26: ILS | O26: 198862.12 | P26: ILS | Q26: תקנה 5א(ב)(1) - התקשרות עם מתכננים | R26: 98 | T26: לא
A27: מ.האוצר מנהל התכנון | B27: מינהל התכנון | C27: מינהל התכנון | D27: 54330203 | E27: תכנון מתארי | F27: 4501084339 | G27: =VLOOKUP(טבלה1[[#This Row],[הזמנת רכש]],[1]גיליון1!$F:$G,2,FALSE) -> הכנת תכנית מתאר קבר הרשב"י; מכרז 14/2012 | H27: 42209 | I27: 44926 | J27: 40010819 | K27: ערן מבל ארכיטקטורה ובנוי ערים בע"מ | L27: 512261900 | M27: 191880 | N27: ILS | O27: 193888.72 | P27: ILS | Q27: תקנה 1ב - מכרז פומבי רגיל | R27: 98 | T27: לא
A28: מ.האוצר מנהל התכנון | B28: מינהל התכנון | C28: מינהל התכנון | D28: 54330204 | E28: תכנון מתארי- מיעוטים | F28: 4501084349 | G28: =VLOOKUP(טבלה1[[#This Row],[הזמנת רכש]],[1]גיליון1!$F:$G,2,FALSE) -> מתאר מקומית אור יהודה; מכרז 27/2011 | H28: 42209 | I28: 44012 | J28: 40255170 | K28: אלי פירשט ואדם מזור | L28: 557378619 | M28: 1287877.5 | N28: ILS | O28: 202661.01 | P28: ILS | Q28: פטור ממכרז | R28: 98 | S28: תקנה 3ג - מימוש זכות ברירה | T28: לא
A29: מ.האוצר מנהל התכנון | B29: מינהל התכנון | C29: מינהל התכנון | D29: 54330210 | E29: ועדות ערר - חברת | F29: 4501084380 | G29: =VLOOKUP(טבלה1[[#This Row],[הזמנת רכש]],[1]גיליון1!$F:$G,2,FALSE) -> חבר ועדת ערר - ת"א | H29: 42211 | I29: 44926 | J29: 40539681 | K29: ארזי נסים (רימונד) | L29: 041433590 | M29: 351936 | N29: ILS | O29: 179636.93 | P29: ILS | Q29: תקנה 5(ג)(4) - התקשרות עם מומחה - מינוי לועדה ציבורית/בורר/מ | R29: 98 | T29: לא
A30: מ.האוצר מנהל התכנון | B30: מינהל התכנון | C30: מינהל התכנון | D30: 54330201 | E30: שירותי ייעוץ ומחקר | F30: 4501084390 | G30: =VLOOKUP(טבלה1[[#This Row],[הזמנת רכש]],[1]גיליון1!$F:$G,2,FALSE) -> שמאי | H30: 42211 | I30: 44377 | J30: 40984160 | K30: שלפמן זהר זורי | L30: 011364916 | M30: 479897.03 | N30: ILS | O30: 282776.45 | P30: ILS | Q30: תקנה 5א(ב)(1) - התקשרות עם מתכננים | R30: 98 | T30: לא
A31: מ.האוצר מנהל התכנון | B31: מינהל התכנון | C31: מינהל התכנון | D31: 54330203 | E31: תכנון מתארי | F31: 4501084503 | G31: =VLOOKUP(טבלה1[[#This Row],[הזמנת רכש]],[1]גיליון1!$F:$G,2,FALSE) -> יועץ - אדריכל | H31: 42211 | I31: 44926 | J31: 40513681 | K31: סגל גדעון | L31: 013512173 | M31: 480480.39 | N31: ILS | O31: 160160.13 | P31: ILS | Q31: תקנה 5א(ב)(1) - התקשרות עם מתכננים | R31: 98 | T31: לא
A32: מ.האוצר מנהל התכנון | B32: מינהל התכנון | C32: מינהל התכנון | D32: 54330201 | E32: שירותי ייעוץ ומחקר | F32: 4501084531 | G32: =VLOOKUP(טבלה1[[#This Row],[הזמנת רכש]],[1]גיליון1!$F:$G,2,FALSE) -> יועצת חקלאות עבור תמא גבעת עדה | H32: 42211 | I32: 44926 | J32: 41110857 | K32: אמדור לירון | L32: 027193838 | M32: 17352.27 | N32: ILS | O32: 9914.58 | P32: ILS | Q32: פטור ממכרז | R32: 98 | S32: תקנה 3(1) - התקשרות ששוויה אינה עולה על 50,000 ש"ח | T32: לא
A33: מ.האוצר מנהל התכנון | B33: מינהל התכנון | C33: מינהל התכנון | D33: 54330203 | E33: תכנון מתארי | F33: 4501084680 | G33: =VLOOKUP(טבלה1[[#This Row],[הזמנת רכש]],[1]גיליון1!$F:$G,2,FALSE) -> מתאר מקומית גבעתיים; 22/2013 | H33: 42211 | I33: 44926 | J33: 40007131 | K33: נעמה מליס, אדריכלות ובינוי ערים בע" | L33: 512420464 | M33: 1955474.8 | N33: ILS | O33: 576174.36 | P33: ILS | Q33: תקנה 1ב - מכרז פומבי רגיל | R33: 98 | T33: לא
A34: מ.האוצר מנהל התכנון | B34: מינהל התכנון | C34: מינהל התכנון | D34: 54330201 | E34: שירותי ייעוץ ומחקר | F34: 4501084728 | G34: =VLOOKUP(טבלה1[[#This Row],[הזמנת רכש]],[1]גיליון1!$F:$G,2,FALSE) -> יועץ-תשתיות, מכרז 28/2013 | H34: 42211 | I34: 44561 | J34: 40134863 | K34: יונתן קופלוביץ הנדסת מים בע"מ | L34: 513519587 | M34: 476133.84 | N34: ILS | O34: 502066.91 | P34: ILS | Q34: תקנה 1ב - מכרז פומבי רגיל | R34: 98 | T34: לא
A35: מ.האוצר מנהל התכנון | B35: מינהל התכנון | C35: מינהל התכנון | D35: 54330204 | E35: תכנון מתארי- מיעוטים | F35: 4501084754 | G35: =VLOOKUP(טבלה1[[#This Row],[הזמנת רכש]],[1]גיליון1!$F:$G,2,FALSE) -> מתאר מקומית אבו-סנאן; מכרז 22/2013 | H35: 42211 | I35: 45291 | J35: 40010819 | K35: ערן מבל ארכיטקטורה ובנוי ערים בע"מ | L35: 512261900 | M35: 807300 | N35: ILS | O35: 0 | Q35: תקנה 1ב - מכרז פומבי רגיל | R35: 98 | T35: לא
A36: מ.האוצר מנהל התכנון | B36: מינהל התכנון | C36: מינהל התכנון | D36: 54330203 | E36: תכנון מתארי | F36: 4501084803 | G36: =VLOOKUP(טבלה1[[#This Row],[הזמנת רכש]],[1]גיליון1!$F:$G,2,FALSE) -> מתאר מקומית אזור; 22/2013 | H36: 42211 | I36: 44926 | J36: 40007131 | K36: נעמה מליס, אדריכלות ובינוי ערים בע" | L36: 512420464 | M36: 807300 | N36: ILS | O36: 0 | Q36: תקנה 1ב - מכרז פומבי רגיל | R36: 98 | T36: לא
A37: מ.האוצר מנהל התכנון | B37: מינהל התכנון | C37: מינהל התכנון | D37: 54330204 | E37: תכנון מתארי- מיעוטים | F37: 4501084819 | G37: =VLOOKUP(טבלה1[[#This Row],[הזמנת רכש]],[1]גיליון1!$F:$G,2,FALSE) -> מתאר מקומית כפר יאסיף; מכרז 22/2013 | H37: 42211 | I37: 45291 | J37: 40010819 | K37: ערן מבל ארכיטקטורה ובנוי ערים בע"מ | L37: 512261900 | M37: 807300 | N37: ILS | O37: 404816.38 | P37: ILS | Q37: תקנה 1ב - מכרז פומבי רגיל | R37: 98 | T37: לא
A38: מ.האוצר מנהל התכנון | B38: מינהל התכנון | C38: מינהל התכנון | D38: 54330204 | E38: תכנון מתארי- מיעוטים | F38: 4501084855 | G38: =VLOOKUP(טבלה1[[#This Row],[הזמנת רכש]],[1]גיליון1!$F:$G,2,FALSE) -> מתאר מקומית ריחנייה; מכרז 22/2013 | H38: 42211 | I38: 44926 | J38: 40216223 | K38: דני לזר אדריכלים בע"מ | L38: 512567314 | M38: 807300 | N38: ILS | O38: 202004.58 | P38: ILS | Q38: תקנה 1ב - מכרז פומבי רגיל | R38: 98 | T38: לא
A39: מ.האוצר מנהל התכנון | B39: מינהל התכנון | C39: מינהל התכנון | D39: 54330210 | E39: ועדות ערר - חברת | F39: 4501084873 | G39: =VLOOKUP(טבלה1[[#This Row],[הזמנת רכש]],[1]גיליון1!$F:$G,2,FALSE) -> מ"מ יו"ר ועדת ערר - צפון | H39: 42211 | I39: 44439 | J39: 40242412 | K39: דרורי-גרנות חגית | L39: 027818137 | M39: 2417519.5 | N39: ILS | O39: 2430492.5 | P39: ILS | Q39: מינוי חברים בועדות | R39: 98 | T39: לא
A40: מ.האוצר מנהל התכנון | B40: מינהל התכנון | C40: מינהל התכנון | D40: 54330210 | E40: ועדות ערר - חברת | F40: 4501084876 | G40: =VLOOKUP(טבלה1[[#This Row],[הזמנת רכש]],[1]גיליון1!$F:$G,2,FALSE) -> מ"מ יו"ר ועדת ערר- חיפה | H40: 42211 | I40: 44439 | J40: 41065860 | K40: מוסרי טל דקלה | L40: 029715679 | M40: 1004814.7 | N40: ILS | O40: 1013070.2 | P40: ILS | Q40: מינוי חברים בועדות | R40: 98 | T40: לא
...
