Workbook
Name Companies: '[1]מידע מנהלי'!$M$3:$M$28
Name Maslulim_Info: Var!$A$2:$F$2500
Name Maslulim_Info: #REF!
Name Periods: Var!$T$4:$T$20
Name Quarter: [1]הנחיות!$J$4:$J$7
Name Quarters: Var!$U$5:$U$8
Name Tab_Type: Var!$Y$5:$AA$7
Name TabA: Var!$A$3:$F$329
Name TabB: Var!$G$3:$L$1845
Name TabC: Var!$M$3:$R$332
Name type: Var!$Y$5:$Y$7
Name Year: [1]הנחיות!$I$4:$I$19
Name Years: Var!$T$4:$T$19

Sheet הנחיות
A1: סעיף | B1: מספר הערה | C1: עמודה | D1: הנחיות
A2: הנחיות כלליות לדיווח | B2: 1 | C2: מטרה | D2: דווח על מרכיבי התשואה החודשית אחת לרבעון ודיווח על מרכיבי התשואה המצטברת לרבעון המדווח
B3: 2 | C3: מועד דיווח | D3: עד 30 ימים קלנדריים מתום כל רבעון.
B4: 3 | C4: קובץ הדיווח | D4: לפני כל הגשת דיווח, יש להוריד מהאתר קובץ דיווח מעודכן. לא יתקבל קובץ סרוק או מועתק משנה אחרת, קובץ שנבנה באופן עצמאי או קובץ PDF.
B5: 4 | C5: שם הקובץ | D5: xxxxxxxxx_Tnum_Yieldqyy.xlsx
D6: מציין את מספר הזיהוי של החברה xxxxxxxxx
D7: מציין את סוג הדיווח (b- ביטוח, g- גמל, p- פנסיה)
D8: מציין את מספר המסלול/קרן num
D9: Yield
D10: מציין את מספר הרבעון המדווח (1,2,3,4) - q
D11: yy - מציין את השנה המדווחת
D12: סיומת הקובץ תהיה .xlsx
D13: לדוגמה, שם קובץ של חברת ביטוח הכולל את רשימת הנכסים עבור ביטוח חיים משתתף בגין הרבעון השלישי שנת 2021
D14: 511234567_b111_Yield321.xlsx
A15: הנחיות להזנת נתונים | B15: 5 | C15: אופן הדיווח | D15: באמצעות פורטל אותות
B16: 6 | D16: התרומה לתשואה ושיעור מסך הנכסים ידווחו באחוזים עם לפחות שתי ספרות לאחר הנקודה העשרונית.
B17: 7 | D17: שיעור מסך הנכסים הוא ליום האחרון בחודש או הרבעון לפי העניין.
A19: דיווח לשנת | B19: 2021 | D19: תא לבחירה
A20: שם מסלול | B20: =VLOOKUP($B$24,INDIRECT($D$23),D20,0) -> שם מסלול | D20: 3
A21: שם חברה | B21: =VLOOKUP($B$24,INDIRECT($D$23),D21,0) -> שם חברה מנהלת | D21: 4
A22: ח.פ. | B22: =VLOOKUP($B$24,INDIRECT($D$23),D22,0) -> מספר חפ | D22: 5
A23: סוג | B23: גמל | D23: =VLOOKUP(B23,Tab_Type,2,0) -> TabB
A24: מספר מסלול | B24: 10000
A25: תקופה | B25: 31.03.21
A26: שם הקובץ לשמירה | B26: =CONCATENATE(B22,"_",VLOOKUP(B23,Tab_Type,3,0),B24,"_","Yield",Var!W3,Var!V3,".xlsx") -> מספר חפ_G10000_Yield121.xlsx
A27: מספר גירסה | B27: 1

Sheet פרסום מרכיבי תשואה
B1: פירוט תרומת אפיקי ההשקעה לתשואה הכוללת
B2: מס מסלול: | C2: =הנחיות!B24 -> 10000
B3: שם מסלול: | C3: =הנחיות!B20 -> שם מסלול
B4: שם חברה: | C4: =הנחיות!B21 -> שם חברה מנהלת
B5: שנת דיווח: | C5: =הנחיות!B19 -> 2021 | D5: דיווח ל: | E5: =הנחיות!B25 -> 31.03.21 | Y5: =W5+1 -> 1
B6: אפיקי השקעה: | C6: התרומה לתשואה ינואר | D6: שיעור מסך הנכסים ינואר | E6: התרומה לתשואה פברואר | F6: שיעור מסך הנכסים פברואר | G6: התרומה לתשואה מרץ | H6: שיעור מסך הנכסים מרץ | I6: התרומה לתשואה אפריל | J6: שיעור מסך הנכסים אפריל | K6: התרומה לתשואה מאי | L6: שיעור מסך הנכסים מאי | M6: התרומה לתשואה יוני | N6: שיעור מסך הנכסים יוני | O6: התרומה לתשואה יולי | P6: שיעור מסך הנכסים יולי | Q6: התרומה לתשואה אוגוסט | R6: שיעור מסך הנכסים אוגוסט | S6: התרומה לתשואה ספטמבר | T6: שיעור מסך הנכסים ספטמבר | U6: התרומה לתשואה אוקטובר | V6: שיעור מסך הנכסים אוקטובר | W6: התרומה לתשואה נובמבר | X6: שיעור מסך הנכסים נובמבר | Y6: התרומה לתשואה דצמבר | Z6: שיעור מסך הנכסים דצמבר
B7: מזומנים ושווי מזומנים
B8: אג"ח ממשלתיות סחירות ולא סחירות
B9: תעודות חוב מסחריות סחירות
B10: תעודות חוב מסחריות לא סחירות
B11: אג"ח קונצרניות סחירות
B12: אג"ח קונצרניות לא סחירות
B13: מניות
B14: קרנות סל
B15: קרנות נאמנות
B16: קרנות השקעה
B17: כתבי אופציה
B18: חוזים עתידיים
... B35: תשואה חודשית
B37: נתונים מצטברים | C37: התרומה לתשואה ינואר-מרץ | D37: שיעור מסך הנכסים ינואר-מרץ | E37: התרומה לתשואה ינואר-יוני | F37: שיעור מסך הנכסים ינואר-יוני | G37: התרומה לתשואה ינואר-ספטמבר | H37: שיעור מסך הנכסים ינואר-ספטמבר | I37: התרומה לתשואה ינואר-דצמבר | J37: שיעור מסך הנכסים ינואר-דצמבר
B38: מזומנים ושווי מזומנים
B39: אג"ח ממשלתיות סחירות ולא סחירות
B40: תעודות חוב מסחריות סחירות
B41: תעודות חוב מסחריות לא סחירות
B42: אג"ח קונצרניות סחירות
B43: אג"ח קונצרניות לא סחירות
B44: מניות
B45: קרנות סל
B46: קרנות נאמנות
B47: קרנות השקעה
B48: כתבי אופציה
B49: חוזים עתידיים
... B66: תשואה מצטברת

Sheet Var
A1: 1 | B1: =A1+1 -> 2 | C1: =B1+1 -> 3 | D1: =C1+1 -> 4 | E1: =D1+1 -> 5 | F1: =E1+1 -> 6 | G1: 1 | H1: =G1+1 -> 2 | I1: =H1+1 -> 3 | J1: =I1+1 -> 4 | K1: =J1+1 -> 5 | L1: =K1+1 -> 6 | M1: 1 | N1: =M1+1 -> 2 | O1: =N1+1 -> 3 | P1: =O1+1 -> 4 | Q1: =P1+1 -> 5 | R1: =Q1+1 -> 6
A2: מספר מסלול | B2: סטטוס המסלול | C2: שם קצר | D2: שם חברה מנהלת | E2: מספר חברה מנהלת | F2: תחום | G2: מספר מסלול | H2: סטטוס המסלול | I2: שם קצר | J2: שם חברה מנהלת | K2: מספר חברה מנהלת | L2: תחום | M2: מספר מסלול | N2: סטטוס המסלול | O2: שם קצר | P2: שם חברה מנהלת | Q2: מספר חברה מנהלת | R2: תחום
A3: 9669 | B3: פעיל | C3: ביטוח ישיר מסלול לבני 60 ומעלה | D3: איי. די. איי. חברה לביטוח בע"מ | E3: 513910703 | F3: ביטוח | G3: 753 | H3: לא פעיל | I3: אומגה-תגמולים ופיצויים | J3: אומגה קופות גמל בע"מ | K3: 512584939 | L3: גמל | M3: 475 | N3: לא פעיל | O3: איילון פיסגה כללית עד 50 | P3: איילון פנסיה וגמל בע"מ | Q3: 513741017 | R3: פנסיה | T3: Year | V3: =RIGHT(U4,2) -> 21 | W3: =VLOOKUP(הנחיות!B25,U5:V8,2,0) -> 1
A4: 9668 | B4: פעיל | C4: ביטוח ישיר מסלול לבני 50 עד 60 | D4: איי. די. איי. חברה לביטוח בע"מ | E4: 513910703 | F4: ביטוח | G4: 752 | H4: לא פעיל | I4: אומגה-קרן השתלמות | J4: אומגה קופות גמל בע"מ | K4: 512584939 | L4: גמל | M4: 476 | N4: לא פעיל | O4: איילון פיסגה כללית 50 עד 60 | P4: איילון פנסיה וגמל בע"מ | Q4: 513741017 | R4: פנסיה | T4: 2020 | U4: =הנחיות!B19 -> 2021 | Y4: type
A5: 9667 | B5: פעיל | C5: ביטוח ישיר מסלול לבני 50 ומטה | D5: איי. די. איי. חברה לביטוח בע"מ | E5: 513910703 | F5: ביטוח | G5: 751 | H5: לא פעיל | I5: אומגה-מרכזית לפיצויים | J5: אומגה קופות גמל בע"מ | K5: 512584939 | L5: גמל | M5: 477 | N5: לא פעיל | O5: איילון פיסגה כללית מעל 60 | P5: איילון פנסיה וגמל בע"מ | Q5: 513741017 | R5: פנסיה | T5: =T4+1 -> 2021 | U5: =CONCATENATE($W$5,RIGHT($U$4,2)) -> 31.03.21 | V5: 1 | W5: 31.03. | Y5: ביטוח | Z5: TabA | AA5: B
A6: 1910 | B6: פעיל | C6: ביטוח ישיר מסלול בסיסי למקבלי קצבה | D6: איי. די. איי. חברה לביטוח בע"מ | E6: 513910703 | F6: ביטוח | G6: 608 | H6: לא פעיל | I6: דורות - קרן השתלמות לשכירים ועצמאים | J6: אומגה קופות גמל בע"מ | K6: 512584939 | L6: גמל | M6: 2150 | N6: לא פעיל | O6: איילון פיסגה מנהלים -כללי | P6: איילון פנסיה וגמל בע"מ | Q6: 513741017 | R6: פנסיה | T6: =T5+1 -> 2022 | U6: =CONCATENATE($W$6,RIGHT($U$4,2)) -> 30.06.21 | V6: 2 | W6: 30.06. | Y6: גמל | Z6: TabB | AA6: G
A7: 108 | B7: פעיל | C7: אי.די.אי.-כללי | D7: איי. די. איי. חברה לביטוח בע"מ | E7: 513910703 | F7: ביטוח | G7: 607 | H7: לא פעיל | I7: דורות - קופת פיצויים מרכזית | J7: אומגה קופות גמל בע"מ | K7: 512584939 | L7: גמל | M7: 2194 | N7: לא פעיל | O7: איילון פיסגה מנהלים - פנסיונרים | P7: איילון פנסיה וגמל בע"מ | Q7: 513741017 | R7: פנסיה | T7: =T6+1 -> 2023 | U7: =CONCATENATE($W$7,RIGHT($U$4,2)) -> 30.09.21 | V7: 3 | W7: 30.09. | Y7: פנסיה | Z7: TabC | AA7: P
A8: 12896 | B8: פעיל | C8: איי.די.איי שיקלי טווח קצר | D8: איי. די. איי. חברה לביטוח בע"מ | E8: 513910703 | F8: ביטוח | G8: 606 | H8: לא פעיל | I8: דורות - קופת תגמולים ופיצויים | J8: אומגה קופות גמל בע"מ | K8: 512584939 | L8: גמל | M8: 2152 | N8: לא פעיל | O8: איילון פיסגה מנהלים - אג"ח | P8: איילון פנסיה וגמל בע"מ | Q8: 513741017 | R8: פנסיה | T8: =T7+1 -> 2024 | U8: =CONCATENATE($W$8,RIGHT($U$4,2)) -> 31.12.21 | V8: 4 | W8: 31.12.
A9: 12895 | B9: פעיל | C9: איי.די.איי מסלול מניות | D9: איי. די. איי. חברה לביטוח בע"מ | E9: 513910703 | F9: ביטוח | G9: 9482 | H9: לא פעיל | I9: אי.בי.אי. - קופת גמל מרכזית להשתתפות בפנסיה תקציבית כללי כללי | J9: אי.בי.אי. חברת ניהול קופות גמל וקרנות השתלמות בע"מ | K9: 513789842 | L9: גמל | M9: 2153 | N9: לא פעיל | O9: איילון פיסגה מנהלים - פסגות איילון | P9: איילון פנסיה וגמל בע"מ | Q9: 513741017 | R9: פנסיה | T9: =T8+1 -> 2025 | V9: =V5 -> 1
A10: 98 | B10: פעיל | C10: ביטוח ישיר מסלול אג"ח | D10: איי. די. איי. חברה לביטוח בע"מ | E10: 513910703 | F10: ביטוח | G10: 2101 | H10: לא פעיל | I10: אי.בי.אי השתלמות בניהול אישי - מתכונת מיוחדת | J10: אי.בי.אי. חברת ניהול קופות גמל וקרנות השתלמות בע"מ | K10: 513789842 | L10: גמל | M10: 2154 | N10: לא פעיל | O10: איילון פיסגה מנהלים - הדס איילון | P10: איילון פנסיה וגמל בע"מ | Q10: 513741017 | R10: פנסיה | T10: =T9+1 -> 2026 | V10: =V6 -> 2
A11: 1 | B11: פעיל | C11: ביטוח ישיר מסלול אג"ח ממשלת ישראל | D11: איי. די. איי. חברה לביטוח בע"מ | E11: 513910703 | F11: ביטוח | G11: 1155 | H11: לא פעיל | I11: תמיר פישמן לפיצויים אג"ח | J11: אי.בי.אי. חברת ניהול קופות גמל וקרנות השתלמות בע"מ | K11: 513789842 | L11: גמל | M11: 2151 | N11: לא פעיל | O11: איילון פיסגה מנהלים - פריזמה איילון | P11: איילון פנסיה וגמל בע"מ | Q11: 513741017 | R11: פנסיה | T11: =T10+1 -> 2027 | V11: =V7 -> 3
A12: 2 | B12: לא פעיל | C12: אי.די.אי.-אג"ח ממשלתי 60 | D12: איי. די. איי. חברה לביטוח בע"מ | E12: 513910703 | F12: ביטוח | G12: 1018 | H12: לא פעיל | I12: תמיר פישמן מרכזית לפיצויים כללי | J12: אי.בי.אי. חברת ניהול קופות גמל וקרנות השתלמות בע"מ | K12: 513789842 | L12: גמל | M12: 9672 | N12: לא פעיל | O12: איילון-פיסגה עד 50 | P12: איילון פנסיה וגמל בע"מ | Q12: 513741017 | R12: פנסיה | T12: =T11+1 -> 2028 | V12: =V8 -> 4
A13: 3 | B13: לא פעיל | C13: אי.די.אי.-אג"ח ממשלתי 50 | D13: איי. די. איי. חברה לביטוח בע"מ | E13: 513910703 | F13: ביטוח | G13: 1175 | H13: לא פעיל | I13: תמיר פישמן השתלמות אג"ח מדינה | J13: אי.בי.אי. חברת ניהול קופות גמל וקרנות השתלמות בע"מ | K13: 513789842 | L13: גמל | M13: 9673 | N13: לא פעיל | O13: איילון-פיסגה 50-60 | P13: איילון פנסיה וגמל בע"מ | Q13: 513741017 | R13: פנסיה | T13: =T12+1 -> 2029 | V13: =V9 -> 1
A14: 9562 | B14: פעיל | C14: הראל מסלול לבני 50 ומטה | D14: הראל חברה לביטוח בע"מ | E14: 520004078 | F14: ביטוח | G14: 1017 | H14: לא פעיל | I14: תמיר פישמן השתלמות כללי | J14: אי.בי.אי. חברת ניהול קופות גמל וקרנות השתלמות בע"מ | K14: 513789842 | L14: גמל | M14: 9674 | N14: לא פעיל | O14: איילון-פיסגה 60 ומעלה | P14: איילון פנסיה וגמל בע"מ | Q14: 513741017 | R14: פנסיה | T14: =T13+1 -> 2030 | V14: =V10 -> 2
A15: 9563 | B15: פעיל | C15: הראל מסלול לבני 50 עד 60 | D15: הראל חברה לביטוח בע"מ | E15: 520004078 | F15: ביטוח | G15: 1016 | H15: לא פעיל | I15: תמיר פישמן השתלמות אג"ח | J15: אי.בי.אי. חברת ניהול קופות גמל וקרנות השתלמות בע"מ | K15: 513789842 | L15: גמל | M15: 1969 | N15: לא פעיל | O15: איילון-פיסגה פנסיונרים בסיסי | P15: איילון פנסיה וגמל בע"מ | Q15: 513741017 | R15: פנסיה | T15: =T14+1 -> 2031 | V15: =V11 -> 3
A16: 9566 | B16: פעיל | C16: הראל מסלול אג"ח עד 20% במניות למקבלי קצבה | D16: הראל חברה לביטוח בע"מ | E16: 520004078 | F16: ביטוח | G16: 1015 | H16: לא פעיל | I16: תמיר פישמן השתלמות מניות בישראל ובחו"ל | J16: אי.בי.אי. חברת ניהול קופות גמל וקרנות השתלמות בע"מ | K16: 513789842 | L16: גמל | M16: 2195 | N16: לא פעיל | O16: איילון-פיסגה קרן פנסיה - זכאים קיימים | P16: איילון פנסיה וגמל בע"מ | Q16: 513741017 | R16: פנסיה | T16: =T15+1 -> 2032 | V16: =V12 -> 4
A17: 9565 | B17: פעיל | C17: הראל מסלול בסיסי למקבלי קצבה | D17: הראל חברה לביטוח בע"מ | E17: 520004078 | F17: ביטוח | G17: 1519 | H17: לא פעיל | I17: תמיר פישמן השתלמות מניות חו"ל | J17: אי.בי.אי. חברת ניהול קופות גמל וקרנות השתלמות בע"מ | K17: 513789842 | L17: גמל | M17: 2076 | N17: לא פעיל | O17: איילון-פיסגה - "כהלכה" | P17: איילון פנסיה וגמל בע"מ | Q17: 513741017 | R17: פנסיה | T17: =T16+1 -> 2033 | V17: =V13 -> 1
A18: 9564 | B18: פעיל | C18: הראל מסלול לבני 60 ומעלה | D18: הראל חברה לביטוח בע"מ | E18: 520004078 | F18: ביטוח | G18: 1172 | H18: לא פעיל | I18: תמיר פישמן גמל אג"ח מדינה | J18: אי.בי.אי. חברת ניהול קופות גמל וקרנות השתלמות בע"מ | K18: 513789842 | L18: גמל | M18: 2077 | N18: לא פעיל | O18: איילון-פיסגה - פסגות איילון | P18: איילון פנסיה וגמל בע"מ | Q18: 513741017 | R18: פנסיה | T18: =T17+1 -> 2034 | V18: =V14 -> 2
A19: 198 | B19: פעיל | C19: הראל-מסלול כהלכה | D19: הראל חברה לביטוח בע"מ | E19: 520004078 | F19: ביטוח | G19: 1012 | H19: לא פעיל | I19: תמיר פישמן גמל אג"ח | J19: אי.בי.אי. חברת ניהול קופות גמל וקרנות השתלמות בע"מ | K19: 513789842 | L19: גמל | M19: 2078 | N19: לא פעיל | O19: איילון-פיסגה - הדס איילון | P19: איילון פנסיה וגמל בע"מ | Q19: 513741017 | R19: פנסיה | T19: =T18+1 -> 2035 | V19: =V15 -> 3
A20: 196 | B20: פעיל | C20: הראל-מסלול משתתף ברווחים כללי לא מניות | D20: הראל חברה לביטוח בע"מ | E20: 520004078 | F20: ביטוח | G20: 1011 | H20: לא פעיל | I20: תמיר פישמן גמל מניות בישראל ובחו"ל | J20: אי.בי.אי. חברת ניהול קופות גמל וקרנות השתלמות בע"מ | K20: 513789842 | L20: גמל | M20: 2075 | N20: לא פעיל | O20: איילון-פיסגה - כללי | P20: איילון פנסיה וגמל בע"מ | Q20: 513741017 | R20: פנסיה | T20: =T19+1 -> 2036 | V20: =V16 -> 4
A21: 8591 | B21: פעיל | C21: הראל אג"ח עד 10% מניות | D21: הראל חברה לביטוח בע"מ | E21: 520004078 | F21: ביטוח | G21: 1013 | H21: לא פעיל | I21: תמיר פישמן גמל כללי | J21: אי.בי.אי. חברת ניהול קופות גמל וקרנות השתלמות בע"מ | K21: 513789842 | L21: גמל | M21: 2191 | N21: לא פעיל | O21: אלטשולר שחם פנסיה כללית -כללי | P21: אלטשולר שחם גמל ופנסיה בע"מ | Q21: 513173393 | R21: פנסיה
A22: 89 | B22: פעיל | C22: הראל מסלול אג"ח ללא מניות | D22: הראל חברה לביטוח בע"מ | E22: 520004078 | F22: ביטוח | G22: 1517 | H22: לא פעיל | I22: תמיר פישמן גמל מניות חו"ל | J22: אי.בי.אי. חברת ניהול קופות גמל וקרנות השתלמות בע"מ | K22: 513789842 | L22: גמל | M22: 2190 | N22: לא פעיל | O22: אלטשולר שחם פנסיה מקיפה - כללי | P22: אלטשולר שחם גמל ופנסיה בע"מ | Q22: 513173393 | R22: פנסיה
A23: 178 | B23: פעיל | C23: הראל מסלול אג"ח קונצרני | D23: הראל חברה לביטוח בע"מ | E23: 520004078 | F23: ביטוח | G23: 591 | H23: לא פעיל | I23: אי.בי.אי - נגב קופה מרכזית לפיצויים מסלול אג"ח | J23: אי.בי.אי. חברת ניהול קופות גמל וקרנות השתלמות בע"מ | K23: 513789842 | L23: גמל | M23: 12036 | N23: לא פעיל | O23: אלטשולר שחם פנסיה מקיפה מניות מניות | P23: אלטשולר שחם גמל ופנסיה בע"מ | Q23: 513173393 | R23: פנסיה
A24: 91 | B24: פעיל | C24: הראל מסלול אג"ח עד 10% במניות | D24: הראל חברה לביטוח בע"מ | E24: 520004078 | F24: ביטוח | G24: 348 | H24: לא פעיל | I24: אי.בי.אי עתודה | J24: אי.בי.אי. חברת ניהול קופות גמל וקרנות השתלמות בע"מ | K24: 513789842 | L24: גמל | M24: 8580 | N24: פעיל | O24: אלטשולר שחם פנסיה כללית מסלול בסיסי למקבלי קצבה קיימים | P24: אלטשולר שחם גמל ופנסיה בע"מ | Q24: 513173393 | R24: פנסיה
A25: 92 | B25: פעיל | C25: הראל מסלול מניות | D25: הראל חברה לביטוח בע"מ | E25: 520004078 | F25: ביטוח | G25: 114 | H25: לא פעיל | I25: אי.בי.אי שחר | J25: אי.בי.אי. חברת ניהול קופות גמל וקרנות השתלמות בע"מ | K25: 513789842 | L25: גמל | M25: 12139 | N25: פעיל | O25: אלטשולר שחם פנסיה כללית מסלול בסיסי למקבלי קצבה | P25: אלטשולר שחם גמל ופנסיה בע"מ | Q25: 513173393 | R25: פנסיה
A26: 90 | B26: פעיל | C26: הראל אג"ח עד 20% מניות | D26: הראל חברה לביטוח בע"מ | E26: 520004078 | F26: ביטוח | G26: 9728 | H26: לא פעיל | I26: איילון קופת גמל מרכזית לפנסיה תקציבית כללי כללי | J26: איילון פנסיה וגמל בע"מ | K26: 513741017 | L26: גמל | M26: 13211 | N26: פעיל | O26: אלטשולר שחם פנסיה כללית מניות | P26: אלטשולר שחם גמל ופנסיה בע"מ | Q26: 513173393 | R26: פנסיה
A27: 13402 | B27: פעיל | C27: הראל מסלול מחקה מדד NASDAQ | D27: הראל חברה לביטוח בע"מ | E27: 520004078 | F27: ביטוח | G27: 1160 | H27: לא פעיל | I27: איילון תקציבית | J27: איילון פנסיה וגמל בע"מ | K27: 513741017 | L27: גמל | M27: 9761 | N27: פעיל | O27: אלטשולר שחם פנסיה כללית מסלול לבני 50 ומטה | P27: אלטשולר שחם גמל ופנסיה בע"מ | Q27: 513173393 | R27: פנסיה
A28: 13282 | B28: פעיל | C28: הראל מסלול הייטק | D28: הראל חברה לביטוח בע"מ | E28: 520004078 | F28: ביטוח | G28: 1069 | H28: לא פעיל | I28: איילון לפיצויים מט"ח | J28: איילון פנסיה וגמל בע"מ | K28: 513741017 | L28: גמל | M28: 9762 | N28: פעיל | O28: אלטשולר שחם פנסיה כללית מסלול לבני 50-60 | P28: אלטשולר שחם גמל ופנסיה בע"מ | Q28: 513173393 | R28: פנסיה
A29: 163 | B29: פעיל | C29: הראל מסלול חו"ל | D29: הראל חברה לביטוח בע"מ | E29: 520004078 | F29: ביטוח | G29: 1072 | H29: לא פעיל | I29: איילון לפיצויים כללי | J29: איילון פנסיה וגמל בע"מ | K29: 513741017 | L29: גמל | M29: 9763 | N29: פעיל | O29: אלטשולר שחם פנסיה כללית מסלול לבני 60 ומעלה | P29: אלטשולר שחם גמל ופנסיה בע"מ | Q29: 513173393 | R29: פנסיה
A30: 177 | B30: פעיל | C30: הראל מסלול אג"ח ממשלת ישראל | D30: הראל חברה לביטוח בע"מ | E30: 520004078 | F30: ביטוח | G30: 1071 | H30: לא פעיל | I30: איילון לפיצויים שקלי | J30: איילון פנסיה וגמל בע"מ | K30: 513741017 | L30: גמל | M30: 13212 | N30: פעיל | O30: אלטשולר שחם פנסיה כללית "הלכה" | P30: אלטשולר שחם גמל ופנסיה בע"מ | Q30: 513173393 | R30: פנסיה
A31: 93 | B31: פעיל | C31: הראל מסלול שיקלי טווח קצר | D31: הראל חברה לביטוח בע"מ | E31: 520004078 | F31: ביטוח | G31: 1065 | H31: לא פעיל | I31: איילון גמל שקלי | J31: איילון פנסיה וגמל בע"מ | K31: 513741017 | L31: גמל | M31: 2196 | N31: פעיל | O31: אלטשולר שחם פנסיה מקיפה מסלול בסיסי למקבלי קצבה קיימים | P31: אלטשולר שחם גמל ופנסיה בע"מ | Q31: 513173393 | R31: פנסיה
A32: 88 | B32: פעיל | C32: הראל מסלול כללי | D32: הראל חברה לביטוח בע"מ | E32: 520004078 | F32: ביטוח | G32: 953 | H32: לא פעיל | I32: איילון גמל מצוק | J32: איילון פנסיה וגמל בע"מ | K32: 513741017 | L32: גמל | M32: 9760 | N32: פעיל | O32: אלטשולר שחם פנסיה מקיפה מסלול הלכה | P32: אלטשולר שחם גמל ופנסיה בע"מ | Q32: 513173393 | R32: פנסיה
... A302: 9535 | B302: פעיל | C302: מנורה ביטוח אג"ח עד 25% מניות למקבלי קצבה | D302: מנורה מבטחים ביטוח בע"מ | E302: 520042540 | F302: ביטוח | G302: 1453 | H302: לא פעיל | I302: הגומל מסלול אג"ח ממשלתי ללא מניות | J302: גל -ניהול קופות גמל לעובדי הוראה בע"מ | K302: 512711409 | L302: גמל | M302: 13349 | N302: פעיל | O302: מנורה מבטחים פנסיה חו"ל | P302: מנורה מבטחים פנסיה וגמל בע"מ | Q302: 512245812 | R302: פנסיה
A303: 9536 | B303: פעיל | C303: מנורה ביטוח לבני 50 ומטה | D303: מנורה מבטחים ביטוח בע"מ | E303: 520042540 | F303: ביטוח | G303: 210 | H303: לא פעיל | I303: אמקור | J303: גמול | L303: גמל | M303: 9848 | N303: לא פעיל | O303: פסגות כללית חו"ל | P303: פסגות קופות גמל ופנסיה בע"מ | Q303: 513765347 | R303: פנסיה
A304: 9537 | B304: פעיל | C304: מנורה ביטוח לבני 50-60 | D304: מנורה מבטחים ביטוח בע"מ | E304: 520042540 | F304: ביטוח | G304: 618 | H304: לא פעיל | I304: לבונה - קופה מרכזית לפיצויים | J304: דיסקונט ניהול קופות גמל בע"מ | K304: 512043597 | L304: גמל | M304: 9847 | N304: לא פעיל | O304: פסגות כללית אג"ח עד 20% מניות | P304: פסגות קופות גמל ופנסיה בע"מ | Q304: 513765347 | R304: פנסיה
A305: 40 | B305: פעיל | C305: מנורה ביטוח שקלי | D305: מנורה מבטחים ביטוח בע"מ | E305: 520042540 | F305: ביטוח | G305: 619 | H305: לא פעיל | I305: לבונה - קופה מרכזית לפיצויים | J305: דיסקונט ניהול קופות גמל בע"מ | K305: 512043597 | L305: גמל | M305: 2069 | N305: לא פעיל | O305: פסגות כללית - אפיק הלכתי | P305: פסגות קופות גמל ופנסיה בע"מ | Q305: 513765347 | R305: פנסיה
A306: 43 | B306: פעיל | C306: מנורה ביטוח מט"ח | D306: מנורה מבטחים ביטוח בע"מ | E306: 520042540 | F306: ביטוח | G306: 620 | H306: לא פעיל | I306: לבונה - קופה מרכזית לפיצויים | J306: דיסקונט ניהול קופות גמל בע"מ | K306: 512043597 | L306: גמל | M306: 2073 | N306: לא פעיל | O306: פסגות מקיפה - אפיק אג"ח | P306: פסגות קופות גמל ופנסיה בע"מ | Q306: 513765347 | R306: פנסיה
A307: 44 | B307: פעיל | C307: מנורה ביטוח מניות | D307: מנורה מבטחים ביטוח בע"מ | E307: 520042540 | F307: ביטוח | G307: 621 | H307: לא פעיל | I307: לבונה - קופה מרכזית לפיצויים | J307: דיסקונט ניהול קופות גמל בע"מ | K307: 512043597 | L307: גמל | M307: 2067 | N307: פעיל | O307: מסלול לבני 50 עד 60 | P307: פסגות קופות גמל ופנסיה בע"מ | Q307: 513765347 | R307: פנסיה
A308: 180 | B308: פעיל | C308: מנורה ביטוח אג"ח ממשלת ישראל | D308: מנורה מבטחים ביטוח בע"מ | E308: 520042540 | F308: ביטוח | G308: 622 | H308: לא פעיל | I308: לבונה - קופה מרכזית לפיצויים | J308: דיסקונט ניהול קופות גמל בע"מ | K308: 512043597 | L308: גמל | M308: 2068 | N308: פעיל | O308: פסגות פנסיה כללית מסלול לבני 60 ומעלה | P308: פסגות קופות גמל ופנסיה בע"מ | Q308: 513765347 | R308: פנסיה
A309: 184 | B309: פעיל | C309: מנורה ביטוח מסלול הלכה | D309: מנורה מבטחים ביטוח בע"מ | E309: 520042540 | F309: ביטוח | G309: 623 | H309: לא פעיל | I309: לבונה - קופה מרכזית לפיצויים | J309: דיסקונט ניהול קופות גמל בע"מ | K309: 512043597 | L309: גמל | M309: 2215 | N309: פעיל | O309: פסגות כללית - פנסיונרים | P309: פסגות קופות גמל ופנסיה בע"מ | Q309: 513765347 | R309: פנסיה
A310: 101 | B310: פעיל | C310: מנורה ביטוח מניות בחו"ל | D310: מנורה מבטחים ביטוח בע"מ | E310: 520042540 | F310: ביטוח | G310: 631 | H310: לא פעיל | I310: לבונה - קופה מרכזית לפיצויים | J310: דיסקונט ניהול קופות גמל בע"מ | K310: 512043597 | L310: גמל | M310: 12151 | N310: פעיל | O310: פסגות כללית כללי - למקבלי קצבה לאחר ה-1.1.18 | P310: פסגות קופות גמל ופנסיה בע"מ | Q310: 513765347 | R310: פנסיה
A311: 42 | B311: פעיל | C311: מנורה ביטוח אג"ח צמוד מדד | D311: מנורה מבטחים ביטוח בע"מ | E311: 520042540 | F311: ביטוח | G311: 625 | H311: לא פעיל | I311: לבונה - קופה מרכזית לפיצויים | J311: דיסקונט ניהול קופות גמל בע"מ | K311: 512043597 | L311: גמל | M311: 1709 | N311: פעיל | O311: פסגות כללית מסלול הלכה | P311: פסגות קופות גמל ופנסיה בע"מ | Q311: 513765347 | R311: פנסיה
A312: 9534 | B312: פעיל | C312: מנורה ביטוח בסיסי למקבלי קצבה | D312: מנורה מבטחים ביטוח בע"מ | E312: 520042540 | F312: ביטוח | G312: 626 | H312: לא פעיל | I312: לבונה - קופה מרכזית לפיצויים | J312: דיסקונט ניהול קופות גמל בע"מ | K312: 512043597 | L312: גמל | M312: 1713 | N312: פעיל | O312: פסגות כללית מסלול הלכה למקבלי קצבה | P312: פסגות קופות גמל ופנסיה בע"מ | Q312: 513765347 | R312: פנסיה
A313: 41 | B313: פעיל | C313: מנורה ביטוח שיקלי טווח קצר | D313: מנורה מבטחים ביטוח בע"מ | E313: 520042540 | F313: ביטוח | G313: 627 | H313: לא פעיל | I313: לבונה - קופה מרכזית לפיצויים | J313: דיסקונט ניהול קופות גמל בע"מ | K313: 512043597 | L313: גמל | M313: 2066 | N313: פעיל | O313: פסגות כללית - אפיק מניות | P313: פסגות קופות גמל ופנסיה בע"מ | Q313: 513765347 | R313: פנסיה
A314: 9544 | B314: פעיל | C314: מנורה ביטוח לבני 60 ומעלה | D314: מנורה מבטחים ביטוח בע"מ | E314: 520042540 | F314: ביטוח | G314: 628 | H314: לא פעיל | I314: לבונה - קופה מרכזית לפיצויים | J314: דיסקונט ניהול קופות גמל בע"מ | K314: 512043597 | L314: גמל | M314: 2065 | N314: פעיל | O314: מסלול לבני 50 ומטה | P314: פסגות קופות גמל ופנסיה בע"מ | Q314: 513765347 | R314: פנסיה
A315: 181 | B315: פעיל | C315: מנורה ביטוח אג"ח ממשלת ישראל צמוד מדד | D315: מנורה מבטחים ביטוח בע"מ | E315: 520042540 | F315: ביטוח | G315: 629 | H315: לא פעיל | I315: לבונה - קופנ מרכזית לפיצויים | J315: דיסקונט ניהול קופות גמל בע"מ | K315: 512043597 | L315: גמל | M315: 2214 | N315: פעיל | O315: פסגות פנסיה - פנסיונרים | P315: פסגות קופות גמל ופנסיה בע"מ | Q315: 513765347 | R315: פנסיה
... A317: 18011 | B317: פעיל | C317: מנורה קרן ט' | D317: מנורה מבטחים ביטוח בע"מ | E317: 520042540 | F317: ביטוח | G317: 624 | H317: לא פעיל | I317: לבונה - קופה מרכזית לפיצויים | J317: דיסקונט ניהול קופות גמל בע"מ | K317: 512043597 | L317: גמל | M317: 1693 | N317: פעיל | O317: פסגות לבני 60 ומעלה | P317: פסגות קופות גמל ופנסיה בע"מ | Q317: 513765347 | R317: פנסיה
A318: 100000 | C318: שם מסלול | D318: שם חברה | E318: חפ חברה | F318: ביטוח | G318: 430 | H318: לא פעיל | I318: דפנה | J318: דפנה ניהול קופות גמל בע"מ | K318: 511043218 | L318: גמל | M318: 9850 | N318: פעיל | O318: פסגות מקיפה חו"ל | P318: פסגות קופות גמל ופנסיה בע"מ | Q318: 513765347 | R318: פנסיה
A319: מספר מסלול | C319: שם מסלול | D319: שם חברה | E319: חפ חברה | F319: ביטוח | G319: 1327 | H319: לא פעיל | I319: הדס ארזים לפרישה 2040 | J319: הדס ארזים קופות גמל בע"מ | K319: 514016567 | L319: גמל | M319: 9849 | N319: פעיל | O319: פסגות מקיפה אג"ח עד 20% מניות | P319: פסגות קופות גמל ופנסיה בע"מ | Q319: 513765347 | R319: פנסיה
A320: מספר מסלול | C320: שם מסלול | D320: שם חברה | E320: חפ חברה | F320: ביטוח | G320: 129 | H320: לא פעיל | I320: יבול | J320: הדס ארזים קופות גמל בע"מ | K320: 514016567 | L320: גמל | M320: 2074 | N320: פעיל | O320: פסגות מקיפה - אפיק הלכה | P320: פסגות קופות גמל ופנסיה בע"מ | Q320: 513765347 | R320: פנסיה
A321: מספר מסלול | C321: שם מסלול | D321: שם חברה | E321: חפ חברה | F321: ביטוח | G321: 1385 | H321: פעיל | I321: מינהל - השתלמות - אג"ח | J321: החברה המנהלת של מינהל קרן ההשתלמות לפקידים עובדי המנהל והשירותים בע"מ | K321: 520030990 | L321: גמל | M321: 12149 | N321: פעיל | O321: פסגות מקיפה פנסיונרים בסיסי למקבלי קצבה לאחר ה-1.1.18 | P321: פסגות קופות גמל ופנסיה בע"מ | Q321: 513765347 | R321: פנסיה
A322: מספר מסלול | C322: שם מסלול | D322: שם חברה | E322: חפ חברה | F322: ביטוח | G322: 1262 | H322: פעיל | I322: מינהל - השתלמות - מניות | J322: החברה המנהלת של מינהל קרן ההשתלמות לפקידים עובדי המנהל והשירותים בע"מ | K322: 520030990 | L322: גמל | M322: 12150 | N322: פעיל | O322: פסגות מקיפה הלכתי למקבלי קצבה לאחר ה-1.1.18 | P322: פסגות קופות גמל ופנסיה בע"מ | Q322: 513765347 | R322: פנסיה
A323: מספר מסלול | C323: שם מסלול | D323: שם חברה | E323: חפ חברה | F323: ביטוח | G323: 299 | H323: פעיל | I323: מינהל-השתלמות - כללי | J323: החברה המנהלת של מינהל קרן ההשתלמות לפקידים עובדי המנהל והשירותים בע"מ | K323: 520030990 | L323: גמל | M323: 2072 | N323: פעיל | O323: פסגות מסלול לבני 50 עד 60 | P323: פסגות קופות גמל ופנסיה בע"מ | Q323: 513765347 | R323: פנסיה
A324: מספר מסלול | C324: שם מסלול | D324: שם חברה | E324: חפ חברה | F324: ביטוח | G324: 2253 | H324: לא פעיל | I324: מינהל-השתלמות - אג"ח לטווח קצר | J324: החברה המנהלת של מינהל קרן ההשתלמות לפקידים עובדי המנהל והשירותים בע"מ | K324: 520030990 | L324: גמל | M324: 2071 | N324: פעיל | O324: פסגות מקיפה - אפיק מניות | P324: פסגות קופות גמל ופנסיה בע"מ | Q324: 513765347 | R324: פנסיה
A325: מספר מסלול | C325: שם מסלול | D325: שם חברה | E325: חפ חברה | F325: ביטוח | G325: 296 | H325: לא פעיל | I325: השתלמות עיתונאים | J325: החברה המנהלת של קרן השתלמות לעובדים בדירוג העיתונאים (1977) בע"מ | K325: 520030768 | L325: גמל | M325: 2070 | N325: פעיל | O325: מסלול לבני 50 ומטה | P325: פסגות קופות גמל ופנסיה בע"מ | Q325: 513765347 | R325: פנסיה
A326: מספר מסלול | C326: שם מסלול | D326: שם חברה | E326: חפ חברה | F326: ביטוח | G326: 423 | H326: פעיל | I326: קרן השתלמות עובדי חברת חשמל | J326: החברה המנהלת של קרן השתלמות של עובדי חברת החשמל לישראל בע"מ | K326: 520034968 | L326: גמל | M326: 8117 | N326: לא פעיל | O326: קרן עורכי דין כללי כללי | P326: קרן גמלאות של עורכי דין בישראל בע"מ | Q326: 510755770 | R326: פנסיה
A327: מספר מסלול | C327: שם מסלול | D327: שם חברה | E327: חפ חברה | F327: ביטוח | G327: 13231 | H327: פעיל | I327: רום מסלול הלכה | J327: החברה המנהלת של רום קרן ההשתלמות לעובדי הרשויות המקומיות בע"מ | K327: 520031824 | L327: גמל | M327: 10000 | O327: שם מסלול | P327: שם חברה מנהלת | Q327: מספר חפ | R327: פנסיה
A328: מספר מסלול | C328: שם מסלול | D328: שם חברה | E328: חפ חברה | F328: ביטוח | G328: 408 | H328: פעיל | I328: רום קרן השתלמות לעובדי רשויות מקומיות - קלאסי כללי | J328: החברה המנהלת של רום קרן ההשתלמות לעובדי הרשויות המקומיות בע"מ | K328: 520031824 | L328: גמל | M328: מספר מסלול | O328: שם מסלול | P328: שם חברה מנהלת | Q328: מספר חפ | R328: פנסיה
A329: מספר מסלול | C329: שם מסלול | D329: שם חברה | E329: חפ חברה | F329: ביטוח | G329: 1258 | H329: פעיל | I329: רום ספיר מניות | J329: החברה המנהלת של רום קרן ההשתלמות לעובדי הרשויות המקומיות בע"מ | K329: 520031824 | L329: גמל | M329: מספר מסלול | O329: שם מסלול | P329: שם חברה מנהלת | Q329: מספר חפ | R329: פנסיה
G330: 1257 | H330: פעיל | I330: רום רביד אג"ח ללא מניות | J330: החברה המנהלת של רום קרן ההשתלמות לעובדי הרשויות המקומיות בע"מ | K330: 520031824 | L330: גמל | M330: מספר מסלול | O330: שם מסלול | P330: שם חברה מנהלת | Q330: מספר חפ | R330: פנסיה
G331: 229 | H331: פעיל | I331: קופת התגמולים של עובדי בנק לאומי | J331: החברה לניהול קופות התגמולים והפיצויים של עובדי בנק לאומי בע"מ | K331: 520005497 | L331: גמל | M331: מספר מסלול | O331: שם מסלול | P331: שם חברה מנהלת | Q331: מספר חפ | R331: פנסיה
G332: 225 | H332: לא פעיל | I332: קופת התגמולים של עובדי בנק לאומי למשכנתאות | J332: החברה לניהול קופות התגמולים והפיצויים של עובדי בנק לאומי בע"מ | K332: 520005497 | L332: גמל | M332: מספר מסלול | O332: שם מסלול | P332: שם חברה מנהלת | Q332: מספר חפ | R332: פנסיה
G333: 505 | H333: פעיל | I333: סוכנות-תגמולים | J333: החברה לניהול קופת התגמולים והפנסיה של עובדי הסוכנות היהודית לארץ ישראל בע"מ | K333: 520022518 | L333: גמל
G334: 290 | H334: פעיל | I334: הנדסאים וטכנאים - מסלול כללי | J334: החברה לניהול קרן ההשתלמות להנדסאים וטכנאים בע"מ | K334: 520028556 | L334: גמל
G335: 1384 | H335: פעיל | I335: הנדסאים וטכנאים מסלול אג"ח | J335: החברה לניהול קרן ההשתלמות להנדסאים וטכנאים בע"מ | K335: 520028556 | L335: גמל
G336: 1318 | H336: פעיל | I336: הנדסאים וטכנאים - מסלול מניות | J336: החברה לניהול קרן ההשתלמות להנדסאים וטכנאים בע"מ | K336: 520028556 | L336: גמל
G337: 1404 | H337: פעיל | I337: עובדי המדינה - אג"ח ממשלת ישראל | J337: החברה לניהול קרן ההשתלמות לעובדי המדינה בע"מ | K337: 520032269 | L337: גמל
G338: 9479 | H338: פעיל | I338: עובדי מדינה - מניות | J338: החברה לניהול קרן ההשתלמות לעובדי המדינה בע"מ | K338: 520032269 | L338: גמל
G339: 382 | H339: פעיל | I339: עובדי מדינה - כללי | J339: החברה לניהול קרן ההשתלמות לעובדי המדינה בע"מ | K339: 520032269 | L339: גמל
G340: 11414 | H340: פעיל | I340: עובדי המדינה הלכתי הלכה יהודית | J340: החברה לניהול קרן ההשתלמות לעובדי המדינה בע"מ | K340: 520032269 | L340: גמל
G341: 7635 | H341: פעיל | I341: עובדי מדינה - משולב-אג"ח עד 15 אחוז מניות | J341: החברה לניהול קרן ההשתלמות לעובדי המדינה בע"מ | K341: 520032269 | L341: גמל
G342: 288 | H342: פעיל | I342: קרן השתלמות לאקדמאים במדעי החברה והרוח מסלול כללי | J342: החברה לניהול קרן השתלמות לאקדמאים במדעי החברה והרוח בע"מ | K342: 520027954 | L342: גמל
G343: 1452 | H343: פעיל | I343: קרן השתלמות לאקדמאים במדעי החברה והרוח מסלול מניות | J343: החברה לניהול קרן השתלמות לאקדמאים במדעי החברה והרוח בע"מ | K343: 520027954 | L343: גמל
G344: 1451 | H344: פעיל | I344: קרן השתלמות לאקדמאים במדעי החברה והרוח מסלול אג"ח | J344: החברה לניהול קרן השתלמות לאקדמאים במדעי החברה והרוח בע"מ | K344: 520027954 | L344: גמל
... G675: 8627 | H675: לא פעיל | I675: אקסלנס גמל פאסיבי-מדדי אג"ח | J675: הפניקס אקסלנס פנסיה וגמל בע"מ | K675: 513026484 | L675: גמל
G676: 750 | H676: לא פעיל | I676: הפניקס-קרן השתלמות | J676: הפניקס ניהול קופות גמל בע"מ | L676: גמל
G677: 2248 | H677: לא פעיל | I677: השתלמות שיטת הפניקס אג"ח ממשלתי בריבית קבועה 2-5 ש | J677: הפניקס פנסיה בע"מ | K677: 511751513 | L677: גמל
G678: 2246 | H678: לא פעיל | I678: תגמולים שיטת הפניקס אג"ח ממשלתי בריבית קבועה 2-5 ש | J678: הפניקס פנסיה בע"מ | K678: 511751513 | L678: גמל
G679: 2247 | H679: לא פעיל | I679: תגמולים שיטת הפניקס אג"ח ממשלתי בריבית קבועה 2-5 ש | J679: הפניקס פנסיה בע"מ | K679: 511751513 | L679: גמל
G680: 2131 | H680: לא פעיל | I680: השתלמות שיטת הפניקס סל עוקב ליבור דולר ארה"ב לחודש | J680: הפניקס פנסיה בע"מ | K680: 511751513 | L680: גמל
G681: 2130 | H681: לא פעיל | I681: השתלמות שיטת הפניקס סל עוקב מדד IBoxx $ Liquid | J681: הפניקס פנסיה בע"מ | K681: 511751513 | L681: גמל
G682: 2129 | H682: לא פעיל | I682: השתלמות שיטת הפניקס סל עוקב מדד J.P.Morgan | J682: הפניקס פנסיה בע"מ | K682: 511751513 | L682: גמל
G683: 2128 | H683: לא פעיל | I683: השתלמות שיטת הפניקס סל עוקב מדד Barclays capital | J683: הפניקס פנסיה בע"מ | K683: 511751513 | L683: גמל
G684: 2127 | H684: לא פעיל | I684: השתלמות שיטת הפניקס סל עוקב תל בונד שקלי | J684: הפניקס פנסיה בע"מ | K684: 511751513 | L684: גמל
G685: 2126 | H685: לא פעיל | I685: השתלמות שיטת הפניקס סל עוקב מדד ת"א 25 | J685: הפניקס פנסיה בע"מ | K685: 511751513 | L685: גמל
G686: 2125 | H686: לא פעיל | I686: השתלמות שיטת הפניקס אגח ממשלתי שקלי ריבית קבועה +5 | J686: הפניקס פנסיה בע"מ | K686: 511751513 | L686: גמל
G687: 2124 | H687: לא פעיל | I687: השתלמות שיטת הפניקס סל עוקב מדד ממשלתי צמוד 5-10 | J687: הפניקס פנסיה בע"מ | K687: 511751513 | L687: גמל
G688: 2123 | H688: לא פעיל | I688: תגמולים שיטת הפניקס סל עוקב ליבור דולר ארה"ב לחודש | J688: הפניקס פנסיה בע"מ | K688: 511751513 | L688: גמל
... G986: 526 | H986: פעיל | I986: מבטחים-אחרות | J986: מבטחים מוסד לביטוח סוציאלי של העובדים בע"מ | K986: 520019688 | L986: גמל
G987: 317 | H987: פעיל | I987: מבטחים קרן חופשה כללית | J987: מבטחים קרן חופשה כללית | L987: גמל
G988: 1169 | H988: לא פעיל | I988: מגדלור מרכזית לפיצויים אפיקים | J988: מגדל גמל פלטינום בע"מ | K988: 513456996 | L988: גמל
G989: 1168 | H989: לא פעיל | I989: מגדלור מרכזית לפיצויים נאות | J989: מגדל גמל פלטינום בע"מ | K989: 513456996 | L989: גמל
G990: 1167 | H990: לא פעיל | I990: מגדלור להשתלמות אפיקים | J990: מגדל גמל פלטינום בע"מ | K990: 513456996 | L990: גמל
G991: 1166 | H991: לא פעיל | I991: מגדלור להשתלמות נאות | J991: מגדל גמל פלטינום בע"מ | K991: 513456996 | L991: גמל
G992: 1165 | H992: לא פעיל | I992: מגדלור לתגמולים ולפיצויים אפיקים | J992: מגדל גמל פלטינום בע"מ | K992: 513456996 | L992: גמל
G993: 1164 | H993: לא פעיל | I993: מגדלור לתגמולים ולפיצויים נאות | J993: מגדל גמל פלטינום בע"מ | K993: 513456996 | L993: גמל
G994: 726 | H994: לא פעיל | I994: קה"ל-שקלי קצר | J994: מגדל גמל פלטינום בע"מ | K994: 513456996 | L994: גמל
G995: 680 | H995: לא פעיל | I995: קה"ל - חו"ל | J995: מגדל גמל פלטינום בע"מ | K995: 513456996 | L995: גמל
G996: 201 | H996: לא פעיל | I996: קה"ל-מנייתי | J996: מגדל גמל פלטינום בע"מ | K996: 513456996 | L996: גמל
G997: 200 | H997: לא פעיל | I997: קה"ל-כללי | J997: מגדל גמל פלטינום בע"מ | K997: 513456996 | L997: גמל
...
