Workbook
Name _ftn1: 'B8'!$B$27
Name _ftn3: 'B20'!$I$32
Name _ftn4: 'B20'!$I$33
Name _ftn5: 'B20'!$I$34
Name _ftn6: 'B20'!$I$35
Name _ftn7: 'B20'!$I$36
Name _ftnref1: 'B7'!$B$57
Name _ftnref1: Gen_Int!$C$9
Name _ftnref3: 'B20'!$I$11
Name _ftnref3: 'B22'!$I$11
Name _ftnref4: 'B20'!$I$13
Name _ftnref4: 'B22'!$I$12
Name _ftnref5: 'B20'!$I$19
Name _ftnref6: 'B20'!$I$21
Name _ftnref7: 'B20'!$I$26
Name answer: Gen_Int!$L$5:$L$7
Name answer: '1'!$P$5:$P$6
Name answer1: '[1]19B1'!$P$8:$P$10
Name B_List: 'T16'!$AR$13:$AR$18
Name bb: '[1]14A'!$C$119
Name Category: 'T16'!$AU$13:$AU$15
Name CH_List: 'T16'!$AS$13:$AS$17
Name Change: 'T16'!$AT$13:$AT$14
Name Choice: '[1]15A'!$Z$2:$Z$4
Name CHOICE2: '[1]15A'!$Z$3:$Z$4
Name Claims: '[1]20'!$AD$55
Name ClaimsLTC: '[1]20'!$AD$51
Name company: Information!$M$24
Name company: Information!$M$24
Name company: Information!$M$24
Name company: Information!$M$43
Name company: Information!$M$43
Name company: Information!$M$24
Name company: Information!$J$24
Name companyB: Information!$M$43
Name companyB: Information!$M$43
Name contents: Information!$B$1
Name CurrentDate: '[1]1.1'!$J$25
Name CurrentMon: '[1]1.1'!$J$23
Name date: Information!$M$44
Name date: Information!$M$25
Name Date1: Information!$P$4
Name date2: Information!$R$3
Name Date2: Information!$P$5
Name Date3: Information!$P$6
Name Date4: Information!$P$12
Name DATES: [1]Information!$R$6:$R$21
Name Discuss: 'T16'!$AY$13:$AY$18
Name fund_type: CHECKS!$Y$2:$Y$5
Name Groups: 'T18'!$Q$12:$Q$185
Name Line_Business: '[1]38'!$AG$4:$AG$37
Name line3: Information!$M$21
Name line3: Information!$M$21
Name line3: Information!$M$21
Name line3: Information!$M$35
Name line3: Information!$M$35
Name line3: Information!$M$21
Name line3: Information!$M$21
Name Link: 'T16'!$AP$13:$AP$16
Name Link: #REF!

Sheet Kupot_Updated
A2: תחום | B2: מס מסלול | C2: תאריך הקמה | D2: שם | E2: שם קצר | F2: תפקיד | G2: סוג רישיון | H2: סטטוס | I2: תאריך התחלה | J2: תאריך סיום | K2: מסלול ברירת מחדל | L2: סוג המסלול | M2: סוג התמחות ראשי | N2: סוג התמחות משני | O2: סגור למצטרפים חדשים | P2: סוג תוכניות | Q2: סגור להפקדות חדשות | R2: עדכון בתאריך | S2: מספר מוצר | T2: שם חברה מתפעלת | U2: שם מוצר | V2: מספר חברה | W2: שם חברה
A3: קרנות ותיקות בניהול מיוחד | B3: 212 | D3: קרן הגמלאות של חברי "אגד" בע"מ | S3: 212 | T3: קרנות ותיקות בניהול מיוחד | U3: קרן הגמלאות של חברי "אגד" בע"מ | V3: 520020447 | W3: קרן הגמלאות של חברי אגד בע"מ | Z3: 520020447
A4: קרנות ותיקות מאוזנות | B4: 267 | D4: גילעד גמלאות לעובדים דתיים | S4: 267 | T4: קרנות ותיקות מאוזנות | U4: גילעד גמלאות לעובדים דתיים | V4: 520023094 | W4: גילעד גימלאות לעובדים דתיים בע"מ | Z4: 520023094
A5: קרנות ותיקות מאוזנות | B5: 269 | D5: קרן גמלאות של חברי דן בע"מ | S5: 269 | T5: קרנות ותיקות מאוזנות | U5: קרן גמלאות של חברי דן בע"מ | V5: 520028812 | W5: החברה המנהלת של קרן הגמלאות של חברי "דן" בע"מ | Z5: 520028812
A6: קרנות ותיקות בניהול מיוחד | B6: 274 | D6: קופת הפנסיה לעובדי הדסה בע"מ | S6: 274 | T6: קרנות ותיקות בניהול מיוחד | U6: קופת הפנסיה לעובדי הדסה בע"מ | V6: 520022963 | W6: קופת הפנסיה לעובדי הדסה בע"מ | Z6: 520022963
A7: קרנות ותיקות מאוזנות | B7: 278 | D7: קופה לתגמולים ופנסיה של עובדי הסוכנות היהודית לא"י בע"מ | S7: 278 | T7: קרנות ותיקות מאוזנות | U7: קופה לתגמולים ופנסיה של עובדי הסוכנות היהודית לא"י בע"מ | V7: 520022518 | W7: קופה לתגמולים ופנסיה של עובדי הסוכנות היהודית לא"י בע"מ | Z7: 520022518
A8: קרנות ותיקות בניהול מיוחד | B8: 279 | D8: קרן הגמלאות המרכזית של עובדי ההסתדרות בע"מ | S8: 279 | T8: קרנות ותיקות בניהול מיוחד | U8: קרן הגמלאות המרכזית של עובדי ההסתדרות בע"מ | V8: 520020504 | W8: קרן הגמלאות המרכזית של עובדי ההסתדרות בע"מ | Z8: 520020504
A9: קרנות ותיקות מאוזנות | B9: 283 | D9: קרן פנסיה ה.ע.ל | S9: 283 | T9: קרנות ותיקות מאוזנות | U9: קרן פנסיה ה.ע.ל | V9: 514147867 | W9: פסגות פנסיה (ה.ע.ל.) בע"מ | Z9: 514147867
A10: קרנות ותיקות מאוזנות | B10: 300 | D10: קרן הפנסיה עתודות | S10: 300 | T10: קרנות ותיקות מאוזנות | U10: קרן הפנסיה עתודות | V10: 511789190 | W10: עתודות קרן פנסיה לשכירים ועצמאים בע"מ | Z10: 511789190
A11: קרנות ותיקות בניהול מיוחד | B11: 307 | D11: קרן ביטוח ופנסיה לפועלים חקלאים ובלתי מקצועיים בישראל אג' שיתופית בע"מ | S11: 307 | T11: קרנות ותיקות בניהול מיוחד | U11: קרן ביטוח ופנסיה לפועלים חקלאים ובלתי מקצועיים בישראל אג' שיתופית בע"מ | V11: 570007476 | W11: קרן ביטוח ופנסיה לפועלים חקלאים ובלתי מקצועיים בישראל אגודה שיתופית בע"מ | Z11: 570007476
A12: קרנות ותיקות בניהול מיוחד | B12: 313 | D12: קרן מקפת מרכז לפנסיה ותגמולים אגודה שיתופית בע"מ | S12: 313 | T12: קרנות ותיקות בניהול מיוחד | U12: קרן מקפת מרכז לפנסיה ותגמולים אגודה שיתופית בע"מ | V12: 570009852 | W12: קרן מקפת מרכז לפנסיה ותגמולים אגודה שיתופית בע"מ | Z12: 570009852
A13: קרנות ותיקות בניהול מיוחד | B13: 316 | D13: מבטחים מוסד לביטוח סוציאלי של העובדים בע"מ | S13: 316 | T13: קרנות ותיקות בניהול מיוחד | U13: מבטחים מוסד לביטוח סוציאלי של העובדים בע"מ | V13: 520019688 | W13: מבטחים מוסד לביטוח סוציאלי של העובדים בע"מ | Z13: 520019688
A14: קרנות ותיקות מאוזנות | B14: 325 | D14: מגן - קרן פנסיה מרכזית לקואופרציה ביצרנות תחבורה ושירותים - אגודה שיתופית בע"מ | S14: 325 | T14: קרנות ותיקות מאוזנות | U14: מגן - קרן פנסיה מרכזית לקואופרציה ביצרנות תחבורה ושירותים - אגודה שיתופית בע"מ | V14: 570011445 | W14: מגן קרן פנסיה מרכזית לקואופרציה ביצרנות, תחבורה ושרותים אגודה שיתופית בע"מ | Z14: 570011445
... A20: קרנות ותיקות מאוזנות | B20: 447 | D20: עתידית קופת פנסיה בע"מ | S20: 447 | T20: קרנות ותיקות מאוזנות | U20: עתידית קופת פנסיה בע"מ | V20: 511423048 | W20: לעתיד חברה לניהול קרנות פנסיה בע"מ | Z20: 511423048
A21: קופת גמל מרכזית לקצבה | B21: 1097 | C21: קופת הגמל המרכזית לקצבה של עובדי חברת החשמל לישראל בע"מ | D21: קופת הגמל המרכזית לקצבה של עובדי חברת החשמל לישראל בע"מ | H21: פעיל | S21: 1097 | T21: קופת גמל מרכזית לקצבה | U21: קופת הגמל המרכזית לקצבה של עובדי חברת החשמל לישראל בע"מ | V21: 514383272 | W21: אינפיניטי ניהול קופת גמל מרכזית לקצבה בע"מ | AC21: סטטוס המסלול | AD21: תאריך סגירת מסלול | AE21: תאריך אישור מסלול | AF21: התמחות משנית | AG21: התמחות ראשית | AH21: סוג מסלול | AI21: שם קצר | AJ21: שם ארוך | AK21: מספר מסלול | AL21: שם מוצר | AM21: מספר מוצר | AN21: שם חברה מתפעלת | AP21: שם תאגיד שולט | AQ21: מספר תאגיד שולט | AR21: שם חברה מנהלת | AS21: מספר חברה מנהלת | AT21: תחום
A22: =AT22 -> גמל | B22: =AK22 -> 11979 | C22: 28946 | D22: =AJ22 -> קל גמל קופת גמל לחסכון מדרגות עד 50 | E22: הראל אג"ח עד 25% מניות | F22: מסלול השקעות | G22: רישיון מוצר | H22: =AC22 -> פעיל | I22: =IF(AE22="","",AE22) -> 42848.533 | J22: =IF(AD22="","",AD22) | K22: 0 | L22: מתמחה | M22: אג"ח | N22: אג"ח | O22: 0 | Q22: 0 | S22: =AM22 -> 11939 | T22: =AN22 -> אפ.אמ.אר תפעול | U22: =AL22 -> קל גמל קופת גמל לחסכון | V22: =AQ22 -> 514741552 | W22: =AR22 -> סלייס גמל בע"מ | AC22: פעיל | AE22: 42848.533 | AF22: עד 50 | AG22: מדרגות | AH22: לפי מודל חכ"מ | AI22: קל גמל קופת גמל לחסכון מדרגות עד 50 | AJ22: קל גמל קופת גמל לחסכון מדרגות עד 50 | AK22: 11979 | AL22: קל גמל קופת גמל לחסכון | AM22: 11939 | AN22: אפ.אמ.אר תפעול | AP22: ליבורנה | AQ22: 514741552 | AR22: סלייס גמל בע"מ | AS22: 514767490 | AT22: גמל
A23: =AT23 -> גמל | B23: =AK23 -> 11980 | C23: 28946 | D23: =AJ23 -> קל גמל קופת גמל לחסכון מדרגות 50-60 | E23: הראל אג"ח עד 25% מניות | F23: מסלול השקעות | G23: רישיון מוצר | H23: =AC23 -> פעיל | I23: =IF(AE23="","",AE23) -> 42848.533 | J23: =IF(AD23="","",AD23) | K23: 0 | L23: מתמחה | M23: אג"ח | N23: אג"ח | O23: 0 | Q23: 0 | S23: =AM23 -> 11939 | T23: =AN23 -> אפ.אמ.אר תפעול | U23: =AL23 -> קל גמל קופת גמל לחסכון | V23: =AQ23 -> 514741552 | W23: =AR23 -> סלייס גמל בע"מ | AC23: פעיל | AE23: 42848.533 | AF23: 50-60 | AG23: מדרגות | AH23: לפי מודל חכ"מ | AI23: קל גמל קופת גמל לחסכון מדרגות 50-60 | AJ23: קל גמל קופת גמל לחסכון מדרגות 50-60 | AK23: 11980 | AL23: קל גמל קופת גמל לחסכון | AM23: 11939 | AN23: אפ.אמ.אר תפעול | AP23: ליבורנה | AQ23: 514741552 | AR23: סלייס גמל בע"מ | AS23: 514767490 | AT23: גמל
A24: =AT24 -> גמל | B24: =AK24 -> 11981 | C24: 28946 | D24: =AJ24 -> קל גמל קופת גמל לחסכון מדרגות 60 ומעלה | E24: הראל אג"ח עד 25% מניות | F24: מסלול השקעות | G24: רישיון מוצר | H24: =AC24 -> פעיל | I24: =IF(AE24="","",AE24) -> 42848.533 | J24: =IF(AD24="","",AD24) | K24: 0 | L24: מתמחה | M24: אג"ח | N24: אג"ח | O24: 0 | Q24: 0 | S24: =AM24 -> 11939 | T24: =AN24 -> אפ.אמ.אר תפעול | U24: =AL24 -> קל גמל קופת גמל לחסכון | V24: =AQ24 -> 514741552 | W24: =AR24 -> סלייס גמל בע"מ | AC24: פעיל | AE24: 42848.533 | AF24: 60 ומעלה | AG24: מדרגות | AH24: לפי מודל חכ"מ | AI24: קל גמל קופת גמל לחסכון מדרגות 60 ומעלה | AJ24: קל גמל קופת גמל לחסכון מדרגות 60 ומעלה | AK24: 11981 | AL24: קל גמל קופת גמל לחסכון | AM24: 11939 | AN24: אפ.אמ.אר תפעול | AP24: ליבורנה | AQ24: 514741552 | AR24: סלייס גמל בע"מ | AS24: 514767490 | AT24: גמל
A25: =AT25 -> גמל | B25: =AK25 -> 11942 | C25: 28946 | D25: =AJ25 -> קל גמל קופת גמל לחסכון אג"ח אג"ח | E25: הראל אג"ח עד 25% מניות | F25: מסלול השקעות | G25: רישיון מוצר | H25: =AC25 -> פעיל | I25: =IF(AE25="","",AE25) -> 42848.533 | J25: =IF(AD25="","",AD25) | K25: 0 | L25: מתמחה | M25: אג"ח | N25: אג"ח | O25: 0 | Q25: 0 | S25: =AM25 -> 11939 | T25: =AN25 -> אפ.אמ.אר תפעול | U25: =AL25 -> קל גמל קופת גמל לחסכון | V25: =AQ25 -> 514741552 | W25: =AR25 -> סלייס גמל בע"מ | AC25: פעיל | AE25: 42848.533 | AF25: אג"ח | AG25: אג"ח | AH25: מתמחה | AI25: קל גמל קופת גמל לחסכון אג"ח אג"ח | AJ25: קל גמל קופת גמל לחסכון אג"ח אג"ח | AK25: 11942 | AL25: קל גמל קופת גמל לחסכון | AM25: 11939 | AN25: אפ.אמ.אר תפעול | AP25: ליבורנה | AQ25: 514741552 | AR25: סלייס גמל בע"מ | AS25: 514767490 | AT25: גמל
A26: =AT26 -> גמל | B26: =AK26 -> 11943 | C26: 28946 | D26: =AJ26 -> קל גמל קופת גמל לחסכון מניות מניות | E26: הראל אג"ח עד 25% מניות | F26: מסלול השקעות | G26: רישיון מוצר | H26: =AC26 -> פעיל | I26: =IF(AE26="","",AE26) -> 42848.533 | J26: =IF(AD26="","",AD26) | K26: 0 | L26: מתמחה | M26: אג"ח | N26: אג"ח | O26: 0 | Q26: 0 | S26: =AM26 -> 11939 | T26: =AN26 -> אפ.אמ.אר תפעול | U26: =AL26 -> קל גמל קופת גמל לחסכון | V26: =AQ26 -> 514741552 | W26: =AR26 -> סלייס גמל בע"מ | AC26: פעיל | AE26: 42848.533 | AF26: מניות | AG26: מניות | AH26: מתמחה | AI26: קל גמל קופת גמל לחסכון מניות מניות | AJ26: קל גמל קופת גמל לחסכון מניות מניות | AK26: 11943 | AL26: קל גמל קופת גמל לחסכון | AM26: 11939 | AN26: אפ.אמ.אר תפעול | AP26: ליבורנה | AQ26: 514741552 | AR26: סלייס גמל בע"מ | AS26: 514767490 | AT26: גמל
A27: =AT27 -> גמל | B27: =AK27 -> 11944 | C27: 28946 | D27: =AJ27 -> קל גמל קופת גמל לחסכון חו"ל חו"ל | E27: הראל אג"ח עד 25% מניות | F27: מסלול השקעות | G27: רישיון מוצר | H27: =AC27 -> פעיל | I27: =IF(AE27="","",AE27) -> 42848.533 | J27: =IF(AD27="","",AD27) | K27: 0 | L27: מתמחה | M27: אג"ח | N27: אג"ח | O27: 0 | Q27: 0 | S27: =AM27 -> 11939 | T27: =AN27 -> אפ.אמ.אר תפעול | U27: =AL27 -> קל גמל קופת גמל לחסכון | V27: =AQ27 -> 514741552 | W27: =AR27 -> סלייס גמל בע"מ | AC27: פעיל | AE27: 42848.533 | AF27: חו"ל | AG27: חו"ל | AH27: מתמחה | AI27: קל גמל קופת גמל לחסכון חו"ל חו"ל | AJ27: קל גמל קופת גמל לחסכון חו"ל חו"ל | AK27: 11944 | AL27: קל גמל קופת גמל לחסכון | AM27: 11939 | AN27: אפ.אמ.אר תפעול | AP27: ליבורנה | AQ27: 514741552 | AR27: סלייס גמל בע"מ | AS27: 514767490 | AT27: גמל
A28: =AT28 -> גמל | B28: =AK28 -> 11945 | C28: 28946 | D28: =AJ28 -> קל גמל קופת גמל לחסכון מדד אג"ח | E28: הראל אג"ח עד 25% מניות | F28: מסלול השקעות | G28: רישיון מוצר | H28: =AC28 -> פעיל | I28: =IF(AE28="","",AE28) -> 42848.533 | J28: =IF(AD28="","",AD28) | K28: 0 | L28: מתמחה | M28: אג"ח | N28: אג"ח | O28: 0 | Q28: 0 | S28: =AM28 -> 11939 | T28: =AN28 -> אפ.אמ.אר תפעול | U28: =AL28 -> קל גמל קופת גמל לחסכון | V28: =AQ28 -> 514741552 | W28: =AR28 -> סלייס גמל בע"מ | AC28: פעיל | AE28: 42848.533 | AF28: אג"ח | AG28: מדד | AH28: מתמחה | AI28: קל גמל קופת גמל לחסכון מדד אג"ח | AJ28: קל גמל קופת גמל לחסכון מדד אג"ח | AK28: 11945 | AL28: קל גמל קופת גמל לחסכון | AM28: 11939 | AN28: אפ.אמ.אר תפעול | AP28: ליבורנה | AQ28: 514741552 | AR28: סלייס גמל בע"מ | AS28: 514767490 | AT28: גמל
A29: =AT29 -> גמל | B29: =AK29 -> 11946 | C29: 28946 | D29: =AJ29 -> קל גמל קופת גמל לחסכון מדד מניות | E29: הראל אג"ח עד 25% מניות | F29: מסלול השקעות | G29: רישיון מוצר | H29: =AC29 -> פעיל | I29: =IF(AE29="","",AE29) -> 42848.533 | J29: =IF(AD29="","",AD29) | K29: 0 | L29: מתמחה | M29: אג"ח | N29: אג"ח | O29: 0 | Q29: 0 | S29: =AM29 -> 11939 | T29: =AN29 -> אפ.אמ.אר תפעול | U29: =AL29 -> קל גמל קופת גמל לחסכון | V29: =AQ29 -> 514741552 | W29: =AR29 -> סלייס גמל בע"מ | AC29: פעיל | AE29: 42848.533 | AF29: מניות | AG29: מדד | AH29: מתמחה | AI29: קל גמל קופת גמל לחסכון מדד מניות | AJ29: קל גמל קופת גמל לחסכון מדד מניות | AK29: 11946 | AL29: קל גמל קופת גמל לחסכון | AM29: 11939 | AN29: אפ.אמ.אר תפעול | AP29: ליבורנה | AQ29: 514741552 | AR29: סלייס גמל בע"מ | AS29: 514767490 | AT29: גמל
A30: =AT30 -> גמל | B30: =AK30 -> 11947 | C30: 28946 | D30: =AJ30 -> קל גמל קופת גמל לחסכון מדד מניות ישראל | E30: הראל אג"ח עד 25% מניות | F30: מסלול השקעות | G30: רישיון מוצר | H30: =AC30 -> פעיל | I30: =IF(AE30="","",AE30) -> 42848.533 | J30: =IF(AD30="","",AD30) | K30: 0 | L30: מתמחה | M30: אג"ח | N30: אג"ח | O30: 0 | Q30: 0 | S30: =AM30 -> 11939 | T30: =AN30 -> אפ.אמ.אר תפעול | U30: =AL30 -> קל גמל קופת גמל לחסכון | V30: =AQ30 -> 514741552 | W30: =AR30 -> סלייס גמל בע"מ | AC30: פעיל | AE30: 42848.533 | AF30: מניות ישראל | AG30: מדד | AH30: מתמחה | AI30: קל גמל קופת גמל לחסכון מדד מניות ישראל | AJ30: קל גמל קופת גמל לחסכון מדד מניות ישראל | AK30: 11947 | AL30: קל גמל קופת גמל לחסכון | AM30: 11939 | AN30: אפ.אמ.אר תפעול | AP30: ליבורנה | AQ30: 514741552 | AR30: סלייס גמל בע"מ | AS30: 514767490 | AT30: גמל
A31: =AT31 -> גמל | B31: =AK31 -> 11948 | C31: 28946 | D31: =AJ31 -> קל גמל קופת גמל לחסכון מדד אג"ח ישראל | E31: הראל אג"ח עד 25% מניות | F31: מסלול השקעות | G31: רישיון מוצר | H31: =AC31 -> פעיל | I31: =IF(AE31="","",AE31) -> 42848.533 | J31: =IF(AD31="","",AD31) | K31: 0 | L31: מתמחה | M31: אג"ח | N31: אג"ח | O31: 0 | Q31: 0 | S31: =AM31 -> 11939 | T31: =AN31 -> אפ.אמ.אר תפעול | U31: =AL31 -> קל גמל קופת גמל לחסכון | V31: =AQ31 -> 514741552 | W31: =AR31 -> סלייס גמל בע"מ | AC31: פעיל | AE31: 42848.533 | AF31: אג"ח ישראל | AG31: מדד | AH31: מתמחה | AI31: קל גמל קופת גמל לחסכון מדד אג"ח ישראל | AJ31: קל גמל קופת גמל לחסכון מדד אג"ח ישראל | AK31: 11948 | AL31: קל גמל קופת גמל לחסכון | AM31: 11939 | AN31: אפ.אמ.אר תפעול | AP31: ליבורנה | AQ31: 514741552 | AR31: סלייס גמל בע"מ | AS31: 514767490 | AT31: גמל
A32: =AT32 -> גמל | B32: =AK32 -> 11949 | C32: 28946 | D32: =AJ32 -> קל גמל קופת גמל לחסכון מדד חו"ל | E32: הראל אג"ח עד 25% מניות | F32: מסלול השקעות | G32: רישיון מוצר | H32: =AC32 -> פעיל | I32: =IF(AE32="","",AE32) -> 42848.533 | J32: =IF(AD32="","",AD32) | K32: 0 | L32: מתמחה | M32: אג"ח | N32: אג"ח | O32: 0 | Q32: 0 | S32: =AM32 -> 11939 | T32: =AN32 -> אפ.אמ.אר תפעול | U32: =AL32 -> קל גמל קופת גמל לחסכון | V32: =AQ32 -> 514741552 | W32: =AR32 -> סלייס גמל בע"מ | AC32: פעיל | AE32: 42848.533 | AF32: חו"ל | AG32: מדד | AH32: מתמחה | AI32: קל גמל קופת גמל לחסכון מדד חו"ל | AJ32: קל גמל קופת גמל לחסכון מדד חו"ל | AK32: 11949 | AL32: קל גמל קופת גמל לחסכון | AM32: 11939 | AN32: אפ.אמ.אר תפעול | AP32: ליבורנה | AQ32: 514741552 | AR32: סלייס גמל בע"מ | AS32: 514767490 | AT32: גמל
A33: =AT33 -> גמל | B33: =AK33 -> 11950 | C33: 28946 | D33: =AJ33 -> קל גמל קופת גמל לחסכון אג"ח צמוד מדד בינוני | E33: הראל אג"ח עד 25% מניות | F33: מסלול השקעות | G33: רישיון מוצר | H33: =AC33 -> פעיל | I33: =IF(AE33="","",AE33) -> 42848.533 | J33: =IF(AD33="","",AD33) | K33: 0 | L33: מתמחה | M33: אג"ח | N33: אג"ח | O33: 0 | Q33: 0 | S33: =AM33 -> 11939 | T33: =AN33 -> אפ.אמ.אר תפעול | U33: =AL33 -> קל גמל קופת גמל לחסכון | V33: =AQ33 -> 514741552 | W33: =AR33 -> סלייס גמל בע"מ | AC33: פעיל | AE33: 42848.533 | AF33: צמוד מדד בינוני | AG33: אג"ח | AH33: מתמחה | AI33: קל גמל קופת גמל לחסכון אג"ח צמוד מדד בינוני | AJ33: קל גמל קופת גמל לחסכון אג"ח צמוד מדד בינוני | AK33: 11950 | AL33: קל גמל קופת גמל לחסכון | AM33: 11939 | AN33: אפ.אמ.אר תפעול | AP33: ליבורנה | AQ33: 514741552 | AR33: סלייס גמל בע"מ | AS33: 514767490 | AT33: גמל
... A66: =AT66 -> גמל | B66: =AK66 -> 11345 | C66: 28946 | D66: =AJ66 -> קל גמל חסכון לילד - חוסכים המעדיפים סיכון מוגבר | E66: הראל אג"ח עד 25% מניות | F66: מסלול השקעות | G66: רישיון מוצר | H66: =AC66 -> פעיל | I66: =IF(AE66="","",AE66) -> 42684.732 | J66: =IF(AD66="","",AD66) | K66: 0 | L66: מתמחה | M66: אג"ח | N66: אג"ח | O66: 0 | Q66: 0 | S66: =AM66 -> 11342 | T66: =AN66 -> אפ.אמ.אר תפעול | U66: =AL66 -> קל גמל להשקעה - חסכון לכל ילד | V66: =AQ66 -> 514741552 | W66: =AR66 -> סלייס גמל בע"מ | AC66: פעיל | AE66: 42684.732 | AF66: חוסכים המעדיפים סיכון מוגבר | AG66: אחר | AH66: מתמחה | AI66: קל גמל חסכון לילד - חוסכים המעדיפים סיכון מוגבר | AJ66: קל גמל חסכון לילד - חוסכים המעדיפים סיכון מוגבר | AK66: 11345 | AL66: קל גמל להשקעה - חסכון לכל ילד | AM66: 11342 | AN66: אפ.אמ.אר תפעול | AP66: ליבורנה | AQ66: 514741552 | AR66: סלייס גמל בע"מ | AS66: 514767490 | AT66: גמל
A67: =AT67 -> גמל | B67: =AK67 -> 11346 | C67: 28946 | D67: =AJ67 -> קל גמל להשקעה - חסכון לכל ילד הלכתי הלכה איסלאמית | E67: הראל אג"ח עד 25% מניות | F67: מסלול השקעות | G67: רישיון מוצר | H67: =AC67 -> לא פעיל | I67: =IF(AE67="","",AE67) -> 42684.732 | J67: =IF(AD67="","",AD67) -> 42712.728 | K67: 0 | L67: מתמחה | M67: אג"ח | N67: אג"ח | O67: 0 | Q67: 0 | S67: =AM67 -> 11342 | T67: =AN67 -> אפ.אמ.אר תפעול | U67: =AL67 -> קל גמל להשקעה - חסכון לכל ילד | V67: =AQ67 -> 514741552 | W67: =AR67 -> סלייס גמל בע"מ | AC67: לא פעיל | AD67: 42712.728 | AE67: 42684.732 | AF67: שריעה | AG67: הלכתי | AH67: אידיאולוגי | AI67: קל חיסכון לילד הלכתי הלכה איסלאמית | AJ67: קל גמל להשקעה - חסכון לכל ילד הלכתי הלכה איסלאמית | AK67: 11346 | AL67: קל גמל להשקעה - חסכון לכל ילד | AM67: 11342 | AN67: אפ.אמ.אר תפעול | AP67: ליבורנה | AQ67: 514741552 | AR67: סלייס גמל בע"מ | AS67: 514767490 | AT67: גמל
A68: =AT68 -> גמל | B68: =AK68 -> 11347 | C68: 28946 | D68: =AJ68 -> קל גמל להשקעה - חסכון לכל ילד הלכתי הלכה יהודית | E68: הראל אג"ח עד 25% מניות | F68: מסלול השקעות | G68: רישיון מוצר | H68: =AC68 -> לא פעיל | I68: =IF(AE68="","",AE68) -> 42684.732 | J68: =IF(AD68="","",AD68) -> 42712.728 | K68: 0 | L68: מתמחה | M68: אג"ח | N68: אג"ח | O68: 0 | Q68: 0 | S68: =AM68 -> 11342 | T68: =AN68 -> אפ.אמ.אר תפעול | U68: =AL68 -> קל גמל להשקעה - חסכון לכל ילד | V68: =AQ68 -> 514741552 | W68: =AR68 -> סלייס גמל בע"מ | AC68: לא פעיל | AD68: 42712.728 | AE68: 42684.732 | AF68: הלכה | AG68: הלכתי | AH68: אידיאולוגי | AI68: קל חיסכון לילד הלכתי הלכה יהודית | AJ68: קל גמל להשקעה - חסכון לכל ילד הלכתי הלכה יהודית | AK68: 11347 | AL68: קל גמל להשקעה - חסכון לכל ילד | AM68: 11342 | AN68: אפ.אמ.אר תפעול | AP68: ליבורנה | AQ68: 514741552 | AR68: סלייס גמל בע"מ | AS68: 514767490 | AT68: גמל
A69: =AT69 -> גמל | B69: =AK69 -> 11388 | C69: 28946 | D69: =AJ69 -> מיטב דש קופת גמל להשקעה לחיסכון ארוך טווח לילד הלכתי הלכה יהודית | E69: הראל אג"ח עד 25% מניות | F69: מסלול השקעות | G69: רישיון מוצר | H69: =AC69 -> פעיל | I69: =IF(AE69="","",AE69) -> 42684.572 | J69: =IF(AD69="","",AD69) | K69: 0 | L69: מתמחה | M69: אג"ח | N69: אג"ח | O69: 0 | Q69: 0 | S69: =AM69 -> 11329 | T69: =AN69 -> בנק מזרחי טפחות בע"מ | U69: =AL69 -> מיטב דש קופת גמל להשקעה לחיסכון ארוך טווח לילד | V69: =AQ69 -> 520043795 | W69: =AR69 -> מיטב דש גמל ופנסיה בע"מ | AC69: פעיל | AE69: 42684.572 | AF69: הלכה | AG69: הלכתי | AH69: אידיאולוגי | AI69: מיטב דש חיסכון לילד - הלכה | AJ69: מיטב דש קופת גמל להשקעה לחיסכון ארוך טווח לילד הלכתי הלכה יהודית | AK69: 11388 | AL69: מיטב דש קופת גמל להשקעה לחיסכון ארוך טווח לילד | AM69: 11329 | AN69: בנק מזרחי טפחות בע"מ | AP69: מיטב דש השקעות בע"מ | AQ69: 520043795 | AR69: מיטב דש גמל ופנסיה בע"מ | AS69: 512065202 | AT69: גמל
A70: =AT70 -> גמל | B70: =AK70 -> 11388 | C70: 28946 | D70: =AJ70 -> מיטב דש קופת גמל להשקעה לחיסכון ארוך טווח לילד הלכתי הלכה יהודית | E70: הראל אג"ח עד 25% מניות | F70: מסלול השקעות | G70: רישיון מוצר | H70: =AC70 -> פעיל | I70: =IF(AE70="","",AE70) -> 42684.572 | J70: =IF(AD70="","",AD70) | K70: 0 | L70: מתמחה | M70: אג"ח | N70: אג"ח | O70: 0 | Q70: 0 | S70: =AM70 -> 11329 | T70: =AN70 -> בנק מזרחי טפחות בע"מ | U70: =AL70 -> מיטב דש קופת גמל להשקעה לחיסכון ארוך טווח לילד | V70: =AQ70 -> 520043795 | W70: =AR70 -> מיטב דש גמל ופנסיה בע"מ | AC70: פעיל | AE70: 42684.572 | AF70: הלכה | AG70: הלכתי | AH70: אידיאולוגי | AI70: מיטב דש חיסכון לילד - הלכה | AJ70: מיטב דש קופת גמל להשקעה לחיסכון ארוך טווח לילד הלכתי הלכה יהודית | AK70: 11388 | AL70: מיטב דש קופת גמל להשקעה לחיסכון ארוך טווח לילד | AM70: 11329 | AN70: בנק מזרחי טפחות בע"מ | AP70: מיטב דש השקעות בע"מ | AQ70: 520043795 | AR70: מיטב דש גמל ופנסיה בע"מ | AS70: 512065202 | AT70: גמל
A71: =AT71 -> גמל | B71: =AK71 -> 11387 | C71: 28946 | D71: =AJ71 -> מיטב דש קופת גמל להשקעה לחיסכון ארוך טווח לילד אחר חיסכון לכל ילד - חוסכים המעדיפים סיכון מוגבר | E71: הראל אג"ח עד 25% מניות | F71: מסלול השקעות | G71: רישיון מוצר | H71: =AC71 -> פעיל | I71: =IF(AE71="","",AE71) -> 42684.572 | J71: =IF(AD71="","",AD71) | K71: 0 | L71: מתמחה | M71: אג"ח | N71: אג"ח | O71: 0 | Q71: 0 | S71: =AM71 -> 11329 | T71: =AN71 -> בנק מזרחי טפחות בע"מ | U71: =AL71 -> מיטב דש קופת גמל להשקעה לחיסכון ארוך טווח לילד | V71: =AQ71 -> 520043795 | W71: =AR71 -> מיטב דש גמל ופנסיה בע"מ | AC71: פעיל | AE71: 42684.572 | AF71: חוסכים המעדיפים סיכון מוגבר | AG71: אחר | AH71: מתמחה | AI71: מיטב דש חיסכון לילד - חוסכים המעדיפים סיכון מוגבר | AJ71: מיטב דש קופת גמל להשקעה לחיסכון ארוך טווח לילד אחר חיסכון לכל ילד - חוסכים המעדיפים סיכון מוגבר | AK71: 11387 | AL71: מיטב דש קופת גמל להשקעה לחיסכון ארוך טווח לילד | AM71: 11329 | AN71: בנק מזרחי טפחות בע"מ | AP71: מיטב דש השקעות בע"מ | AQ71: 520043795 | AR71: מיטב דש גמל ופנסיה בע"מ | AS71: 512065202 | AT71: גמל
A72: =AT72 -> גמל | B72: =AK72 -> 11387 | C72: 28946 | D72: =AJ72 -> מיטב דש קופת גמל להשקעה לחיסכון ארוך טווח לילד אחר חיסכון לכל ילד - חוסכים המעדיפים סיכון מוגבר | E72: הראל אג"ח עד 25% מניות | F72: מסלול השקעות | G72: רישיון מוצר | H72: =AC72 -> פעיל | I72: =IF(AE72="","",AE72) -> 42684.572 | J72: =IF(AD72="","",AD72) | K72: 0 | L72: מתמחה | M72: אג"ח | N72: אג"ח | O72: 0 | Q72: 0 | S72: =AM72 -> 11329 | T72: =AN72 -> בנק מזרחי טפחות בע"מ | U72: =AL72 -> מיטב דש קופת גמל להשקעה לחיסכון ארוך טווח לילד | V72: =AQ72 -> 520043795 | W72: =AR72 -> מיטב דש גמל ופנסיה בע"מ | AC72: פעיל | AE72: 42684.572 | AF72: חוסכים המעדיפים סיכון מוגבר | AG72: אחר | AH72: מתמחה | AI72: מיטב דש חיסכון לילד - חוסכים המעדיפים סיכון מוגבר | AJ72: מיטב דש קופת גמל להשקעה לחיסכון ארוך טווח לילד אחר חיסכון לכל ילד - חוסכים המעדיפים סיכון מוגבר | AK72: 11387 | AL72: מיטב דש קופת גמל להשקעה לחיסכון ארוך טווח לילד | AM72: 11329 | AN72: בנק מזרחי טפחות בע"מ | AP72: מיטב דש השקעות בע"מ | AQ72: 520043795 | AR72: מיטב דש גמל ופנסיה בע"מ | AS72: 512065202 | AT72: גמל
A73: =AT73 -> גמל | B73: =AK73 -> 11386 | C73: 28946 | D73: =AJ73 -> מיטב דש קופת גמל להשקעה לחיסכון ארוך טווח לילד אחר חיסכון לכל ילד - חוסכים המעדיפים סיכון בינוני | E73: הראל אג"ח עד 25% מניות | F73: מסלול השקעות | G73: רישיון מוצר | H73: =AC73 -> פעיל | I73: =IF(AE73="","",AE73) -> 42684.572 | J73: =IF(AD73="","",AD73) | K73: 0 | L73: מתמחה | M73: אג"ח | N73: אג"ח | O73: 0 | Q73: 0 | S73: =AM73 -> 11329 | T73: =AN73 -> בנק מזרחי טפחות בע"מ | U73: =AL73 -> מיטב דש קופת גמל להשקעה לחיסכון ארוך טווח לילד | V73: =AQ73 -> 520043795 | W73: =AR73 -> מיטב דש גמל ופנסיה בע"מ | AC73: פעיל | AE73: 42684.572 | AF73: חוסכים המעדיפים סיכון בינוני | AG73: אחר | AH73: מתמחה | AI73: מיטב דש חיסכון לילד - חוסכים המעדיפים סיכון בינוני | AJ73: מיטב דש קופת גמל להשקעה לחיסכון ארוך טווח לילד אחר חיסכון לכל ילד - חוסכים המעדיפים סיכון בינוני | AK73: 11386 | AL73: מיטב דש קופת גמל להשקעה לחיסכון ארוך טווח לילד | AM73: 11329 | AN73: בנק מזרחי טפחות בע"מ | AP73: מיטב דש השקעות בע"מ | AQ73: 520043795 | AR73: מיטב דש גמל ופנסיה בע"מ | AS73: 512065202 | AT73: גמל
A74: =AT74 -> גמל | B74: =AK74 -> 11385 | C74: 28946 | D74: =AJ74 -> מיטב דש קופת גמל להשקעה לחיסכון ארוך טווח לילד אחר חיסכון לכל ילד - חוסכים המעדיפים סיכון מועט | E74: הראל אג"ח עד 25% מניות | F74: מסלול השקעות | G74: רישיון מוצר | H74: =AC74 -> פעיל | I74: =IF(AE74="","",AE74) -> 42684.572 | J74: =IF(AD74="","",AD74) | K74: 0 | L74: מתמחה | M74: אג"ח | N74: אג"ח | O74: 0 | Q74: 0 | S74: =AM74 -> 11329 | T74: =AN74 -> בנק מזרחי טפחות בע"מ | U74: =AL74 -> מיטב דש קופת גמל להשקעה לחיסכון ארוך טווח לילד | V74: =AQ74 -> 520043795 | W74: =AR74 -> מיטב דש גמל ופנסיה בע"מ | AC74: פעיל | AE74: 42684.572 | AF74: חוסכים המעדיפים סיכון מועט | AG74: אחר | AH74: מתמחה | AI74: מיטב דש חיסכון לילד - חוסכים המעדיפים סיכון מועט | AJ74: מיטב דש קופת גמל להשקעה לחיסכון ארוך טווח לילד אחר חיסכון לכל ילד - חוסכים המעדיפים סיכון מועט | AK74: 11385 | AL74: מיטב דש קופת גמל להשקעה לחיסכון ארוך טווח לילד | AM74: 11329 | AN74: בנק מזרחי טפחות בע"מ | AP74: מיטב דש השקעות בע"מ | AQ74: 520043795 | AR74: מיטב דש גמל ופנסיה בע"מ | AS74: 512065202 | AT74: גמל
A75: =AT75 -> גמל | B75: =AK75 -> 11386 | C75: 28946 | D75: =AJ75 -> מיטב דש קופת גמל להשקעה לחיסכון ארוך טווח לילד אחר חיסכון לכל ילד - חוסכים המעדיפים סיכון בינוני | E75: הראל אג"ח עד 25% מניות | F75: מסלול השקעות | G75: רישיון מוצר | H75: =AC75 -> פעיל | I75: =IF(AE75="","",AE75) -> 42684.572 | J75: =IF(AD75="","",AD75) | K75: 0 | L75: מתמחה | M75: אג"ח | N75: אג"ח | O75: 0 | Q75: 0 | S75: =AM75 -> 11329 | T75: =AN75 -> בנק מזרחי טפחות בע"מ | U75: =AL75 -> מיטב דש קופת גמל להשקעה לחיסכון ארוך טווח לילד | V75: =AQ75 -> 520043795 | W75: =AR75 -> מיטב דש גמל ופנסיה בע"מ | AC75: פעיל | AE75: 42684.572 | AF75: חוסכים המעדיפים סיכון בינוני | AG75: אחר | AH75: מתמחה | AI75: מיטב דש חיסכון לילד - חוסכים המעדיפים סיכון בינוני | AJ75: מיטב דש קופת גמל להשקעה לחיסכון ארוך טווח לילד אחר חיסכון לכל ילד - חוסכים המעדיפים סיכון בינוני | AK75: 11386 | AL75: מיטב דש קופת גמל להשקעה לחיסכון ארוך טווח לילד | AM75: 11329 | AN75: בנק מזרחי טפחות בע"מ | AP75: מיטב דש השקעות בע"מ | AQ75: 520043795 | AR75: מיטב דש גמל ופנסיה בע"מ | AS75: 512065202 | AT75: גמל
A76: =AT76 -> גמל | B76: =AK76 -> 11385 | C76: 28946 | D76: =AJ76 -> מיטב דש קופת גמל להשקעה לחיסכון ארוך טווח לילד אחר חיסכון לכל ילד - חוסכים המעדיפים סיכון מועט | E76: הראל אג"ח עד 25% מניות | F76: מסלול השקעות | G76: רישיון מוצר | H76: =AC76 -> פעיל | I76: =IF(AE76="","",AE76) -> 42684.572 | J76: =IF(AD76="","",AD76) | K76: 0 | L76: מתמחה | M76: אג"ח | N76: אג"ח | O76: 0 | Q76: 0 | S76: =AM76 -> 11329 | T76: =AN76 -> בנק מזרחי טפחות בע"מ | U76: =AL76 -> מיטב דש קופת גמל להשקעה לחיסכון ארוך טווח לילד | V76: =AQ76 -> 520043795 | W76: =AR76 -> מיטב דש גמל ופנסיה בע"מ | AC76: פעיל | AE76: 42684.572 | AF76: חוסכים המעדיפים סיכון מועט | AG76: אחר | AH76: מתמחה | AI76: מיטב דש חיסכון לילד - חוסכים המעדיפים סיכון מועט | AJ76: מיטב דש קופת גמל להשקעה לחיסכון ארוך טווח לילד אחר חיסכון לכל ילד - חוסכים המעדיפים סיכון מועט | AK76: 11385 | AL76: מיטב דש קופת גמל להשקעה לחיסכון ארוך טווח לילד | AM76: 11329 | AN76: בנק מזרחי טפחות בע"מ | AP76: מיטב דש השקעות בע"מ | AQ76: 520043795 | AR76: מיטב דש גמל ופנסיה בע"מ | AS76: 512065202 | AT76: גמל
A77: =AT77 -> גמל | B77: =AK77 -> 11328 | C77: 28946 | D77: =AJ77 -> אלטשולר שחם חיסכון לילד הלכה | E77: הראל אג"ח עד 25% מניות | F77: מסלול השקעות | G77: רישיון מוצר | H77: =AC77 -> פעיל | I77: =IF(AE77="","",AE77) -> 42684.519 | J77: =IF(AD77="","",AD77) | K77: 0 | L77: מתמחה | M77: אג"ח | N77: אג"ח | O77: 0 | Q77: 0 | S77: =AM77 -> 11324 | T77: =AN77 -> לאומי | U77: =AL77 -> אלטשולר שחם חיסכון לילד | V77: =AQ77 -> 511446551 | W77: =AR77 -> אלטשולר שחם גמל ופנסיה בע"מ | AC77: פעיל | AE77: 42684.519 | AF77: הלכה | AG77: הלכתי | AH77: אידיאולוגי | AI77: אלטשולר שחם חיסכון לילד - הלכה | AJ77: אלטשולר שחם חיסכון לילד הלכה | AK77: 11328 | AL77: אלטשולר שחם חיסכון לילד | AM77: 11324 | AN77: לאומי | AP77: אלטשולר שחם בע"מ | AQ77: 511446551 | AR77: אלטשולר שחם גמל ופנסיה בע"מ | AS77: 513173393 | AT77: גמל
A78: =AT78 -> גמל | B78: =AK78 -> 11327 | C78: 28946 | D78: =AJ78 -> אלטשולר שחם חיסכון לילד לחוסכים המעדיפים סיכון מוגבר | E78: הראל אג"ח עד 25% מניות | F78: מסלול השקעות | G78: רישיון מוצר | H78: =AC78 -> פעיל | I78: =IF(AE78="","",AE78) -> 42684.519 | J78: =IF(AD78="","",AD78) | K78: 0 | L78: מתמחה | M78: אג"ח | N78: אג"ח | O78: 0 | Q78: 0 | S78: =AM78 -> 11324 | T78: =AN78 -> לאומי | U78: =AL78 -> אלטשולר שחם חיסכון לילד | V78: =AQ78 -> 511446551 | W78: =AR78 -> אלטשולר שחם גמל ופנסיה בע"מ | AC78: פעיל | AE78: 42684.519 | AF78: חוסכים המעדיפים סיכון מוגבר | AG78: אחר | AH78: מתמחה | AI78: אלטשולר שחם חיסכון לילד - חוסכים המעדיפים סיכון מוגבר | AJ78: אלטשולר שחם חיסכון לילד לחוסכים המעדיפים סיכון מוגבר | AK78: 11327 | AL78: אלטשולר שחם חיסכון לילד | AM78: 11324 | AN78: לאומי | AP78: אלטשולר שחם בע"מ | AQ78: 511446551 | AR78: אלטשולר שחם גמל ופנסיה בע"מ | AS78: 513173393 | AT78: גמל
...

Sheet SmBal
B1: =company -> _____חברה מנהלת
B2: =Information!F13 -> דיווח על חשבונות קטנים בקופות גמל | D2: חזרה | H2: דיווח חל מהדוח של 31.12.2016
B3: =Information!$M$21 -> הנתונים באלפי ש"ח | D3: נתונים ל: | E3: ='1'!C4 -> 31.12.2021 | G3: 2016-2-1 חוזה גמל
C4: חשבונות קטנים | H4: סה"כ מצטבר
C5: שעמדו לפדיון ביום 31.12.2015 | D5: שטרם נפדו בסוף התקופה המדווחת | E5: שנפדו בתקופת הדיווח בהמחאה או זיכוי כרטיס אשראי | F5: שנפדו בתקופת הדיווח לא בהמחאה או זיכוי כרטיס אשראי | G5: שנפדו החל מיום 1.1.2016 | H5: השנה לעומת יתרה פתיחה | I5: לעומת יתרה פתיחה
C6: (1) | D6: (2) | E6: (3) | F6: (4) | G6: (5)
A7: 1 | B7: סך יתרות | H7: =IFERROR(SUM(E7:F7)/C7,"") | I7: =IFERROR(G7/C7,"")
A8: 2 | B8: סך יתרות כספי התגמולים | H8: =IFERROR(SUM(E8:F8)/C8,"") | I8: =IFERROR(G8/C8,"")
A9: 3 | B9: מספר חשבונות | H9: =IFERROR(SUM(E9:F9)/C9,"") | I9: =IFERROR(G9/C9,"")
A10: 4 | B10: מספר חשבונות שקיים בהם מרכיב פיצויים | H10: =IFERROR(SUM(E10:F10)/C10,"") | I10: =IFERROR(G10/C10,"")
A11: =IF(AND($C$9>0,$C$12>7000),1,"") | B11: =IF(AND(C7="",D14>0),mess1,"") | T11: mess1
B12: ממוצע לחשבון : | C12: =IF(OR(C7=0,C9=0),"",C7*1000/C9) | D12: =IF(OR(D7=0,D9=0),"",D7*1000/D9) | G12: =IF(OR(G7=0,G9=0),"",G7*1000/G9) | S12: יתרות השבונות הקטנים אמור להיות באלפי ₪ | T12: mess2
B13: לפי חשבונות קטנים | G13: 2,3 and 4 are based initially on the accounts in 1 however the are adjusted (as long as the funds are still with the company) until the report date
B14: קופות גמל אישיות לתגמולים ופיצויים (DIRA) | D14: =Dir1A!F26 -> 0 | S14: אם יש דיווח עבור קופות גמל אישיות לתגמולים ופיצויים חייבים למלא (אם 0 - לרשום 0) | T14: mess1
B16: הדיווח רלוונטי רק לגבי החשבונות קטנים שהיו קיימים ב-31.12.2015 | T16: mess2
B17: טור 5 = סה"כ החשבונות חשבונות קטנים שנסגרו מ -1-1-2016 (כולל הנתונים של תקופת הדוח)
B18: טורים 3 ו-4 רק רלוונטי לסגירת חשבונות קטנים בתקופת הדוח
B19: בשורות של מספר חשבונות (3 ו4) טור 1 פחות טור 5 = טור 2
B20: בשורות של כספיים טור 2 כולל\ לא כולל רווח השקעה מ-1.1.2016 לכן טור 1 פחות טור 5 לא שווה טור 2.

Sheet T101
B1: =company -> _____חברה מנהלת | J1: =Information!$E$1 -> חזרה
B2: טופס 101 - הון עצמי מזערי הנדרש מחברה מנהלת
B3: =Information!$M$21 -> הנתונים באלפי ש"ח
B5: . 1 | C5: הגבוה מבין הסכומים שלהלן:
C6: (א) | D6: הון התחלתי נדרש | K6: =T101_N!D5 -> 0
C8: (ב) | D8: הון מזערי נדרש
C9: (1) | D9: מנכסים מנוהלים:
D10: 0.001 | E10: מהסכום | F10: =IF(T101_N!$D$6<T101_N!$L$6,T101_N!$D$6,T101_N!$L$6) -> 0 | H10: =$F$10*$D$10 -> 0
D11: 0.0005 | E11: מהסכום | F11: =IF(T101_N!$D$6>T101_N!$L$6,(T101_N!$D$6-T101_N!$L$6),0) -> 0 | H11: =$F$11*$D$11 -> 0 | J11: =H11+H10 -> 0
C12: (2) | D12: מהוצאות שנתיות
D13: 0.25 | E13: מהסכום | F13: =T101_N!$D$7 -> 0 | H13: =$F$13*$D$13 -> 0 | J13: =H13 -> 0
K15: =J11+J13 -> 0
B16: . 2 | C16: סה"כ הון עצמי מזערי נדרש בגין החברה | L16: =IF(Information!J25=Information!K22,'T101'!K6,MAX(K6:K15)) -> 0
B18: . 3 | C18: תוספת הון בגין חברות מנהלות נשלטות | L18: =T101_N!$D$8 -> 0
B20: . 4 | C20: תוספת הון בגין דרישות מיוחדות | L20: =T101_N!$D$9 -> 0
B22: . 5 | C22: הקלות בדרישות ההון
C23: (א) | D23: בגין עריכת ביטוח - הנמוך מבין: | F23: =IF(T101_N!E92<T101_N!E93,'T101'!AC23,"")
D24: 0.2 | E24: מסכום ביטוח עודף | F24: =T101_N!$E$94 -> 0 | H24: =$D$24*$F$24 -> 0 | AC24: סכום הביטוח של החברה לא עומד בהוראות הדין
D25: 0.3 | E25: מהון מזערי נדרש | F25: =$L$16+$L$20+L32 -> 0 | H25: =$D$25*$F$25 -> 0 | L25: =-MIN(H24:H25) -> 0
C26: (ב) | D26: הקלות בגין קרן ותיקה וקופת גמל מבטיחה תשואה:
D27: 1. בגין קרן ותיקה
D28: 0.3 | E28: מהון מזערי נדרש | F28: =T101_N!$D$10 -> 0 | K28: =-D28*F28 -> 0
D29: 2. בגין קופת גמל מבטיחה תשואה
D30: 0.3 | E30: מהון נדרש בגין נכסים | F30: =T101_N!D11 -> 0 | K30: =-D30*F30 -> 0
D32: סך הקלה מותרת בגין קרן ותיקה וקופת גמל מבטיחה תשואה | L32: =MAX(-(L16-K6),K28+K30) -> 0
B34: . 6 | C34: סה"כ ההון העצמי המזערי הנדרש | M34: =SUM(L16:L32) -> 0
C37: עודף (גרעון): | J37: הון עצמי
C38: קיים | J38: =T101_N!D12 -> 0
C39: נדרש | J39: =$M$34 -> 0
C40: עודף (גרעון): | J40: =J38-J39 -> 0
B41: 7. | C41: פעולות לאחר תאריך המאזן
B42: 8. | C42: עודף (גרעון) לתאריך פירסום הדוח: | J42: =SUM(J40:J41) -> 0 | U42: =Information!K4 -> 31.12.2021 | V42: =VLOOKUP(U42,Information!M28:N39,2,0) -> 1
U43: Factor | V43: =VALUE(RIGHT(U42,4)) -> 2021
F44: תפקיד: | I44: שם: | U44: 40999 | V44: 0.3
F45: תפקיד: | I45: שם: | U45: 41090 | V45: =V44 -> 0.3
U46: 41182 | V46: =V45 -> 0.3
U47: 41274 | V47: 0.6
U48: 41364 | V48: =V47 -> 0.6
U49: 41455 | V49: =V48 -> 0.6
U50: 41547 | V50: =V49 -> 0.6
...

Sheet T101_N
B1: =company -> _____חברה מנהלת | D1: =Information!$E$1 -> חזרה
B2: טופס 101 - גיליון הקלדת נתונים
B3: =Information!$M$21 -> הנתונים באלפי ש"ח | L3: סוג הקופה
C4: סוג הקופה | E4: =IF(AND(D12>0,C4=L3),mess6,"") | L4: חברה מנהלת רק קופות גמל בניהול אישי | M4: 2500
B5: 1 | C5: הון התחלתי נדרש | D5: =VLOOKUP(C4,L3:M5,2,0) -> 0 | L5: חברה מנהלת רגילה | M5: 10000
B6: =B5+1 -> 2 | C6: נכסים מנוהלים | D6: =D19 -> 0 | E6: נספח 1 | L6: 15000000
B7: =B6+1 -> 3 | C7: הוצאות שנתיות
B8: =B7+1 -> 4 | C8: תוספת הון בגין חברות מנהלות נשלטות | D8: =F72 -> 0 | E8: נספח 2
B9: =B8+1 -> 5 | C9: דרישות הון מיוחדות | D9: =D82 -> 0 | E9: נספח 3
B10: =B9+1 -> 6 | C10: דרישות הון בגין קרנות ותיקות - לצורך חישוב ההקלה | D10: =SUM(D99:E99) -> 0 | E10: נספח 5
B11: =B10+1 -> 7 | C11: דרישות הון עבור קופות גמל מבטיחות תשואה - לצורך חישוב ההקלה | D11: =D110 -> 0 | E11: נספח 6
B12: =B11+1 -> 8 | C12: הון עצמי קיים
C13: הון נדרש ישן :
B14: =B12+1 -> 9 | C14: סוג קופות מנוהלות | D14: =VLOOKUP(C14,K122:M127,3,0) -> 0
B15: =B14+1 -> 10 | C15: הוצאות רכישה נדחות ליום הדוח
B17: נספח 1. נכסים מנוהלים לפי פירוט מסלולים של קופות גמל וקרנות פנסיה
C18: שם מסלול מנוהל | D18: סה"כ הנכסים ליום הדוח
A19: מספר מסלול | B19: 1 | C19: סה"כ | D19: =SUM(D20:D68) -> 0
B20: =B19+1 -> 2 | C20: =IF(A20=0,"",VLOOKUP(A20,List,3,0))
B21: =B20+1 -> 3 | C21: =IF(A21=0,"",VLOOKUP(A21,List,3,0))
B22: =B21+1 -> 4 | C22: =IF(A22=0,"",VLOOKUP(A22,List,3,0))
B23: =B22+1 -> 5 | C23: =IF(A23=0,"",VLOOKUP(A23,List,3,0))
B24: =B23+1 -> 6 | C24: =IF(A24=0,"",VLOOKUP(A24,List,3,0))
B25: =B24+1 -> 7 | C25: =IF(A25=0,"",VLOOKUP(A25,List,3,0))
B26: =B25+1 -> 8 | C26: =IF(A26=0,"",VLOOKUP(A26,List,3,0))
B27: =B26+1 -> 9 | C27: =IF(A27=0,"",VLOOKUP(A27,List,3,0))
B28: =B27+1 -> 10 | C28: =IF(A28=0,"",VLOOKUP(A28,List,3,0))
B29: =B28+1 -> 11 | C29: =IF(A29=0,"",VLOOKUP(A29,List,3,0))
B30: =B29+1 -> 12 | C30: =IF(A30=0,"",VLOOKUP(A30,List,3,0))
B31: =B30+1 -> 13 | C31: =IF(A31=0,"",VLOOKUP(A31,List,3,0))
... B67: =B66+1 -> 49 | C67: =IF(A67=0,"",VLOOKUP(A67,List,3,0))
B68: =B67+1 -> 50 | C68: סה"כ יתר המסלולים
B70: נספח 2. תוספת הון בגין חברות מנהלות נשלטות | F70: חזרה
C71: שם חברה מנהלת | D71: שיעור החזקה באחוזים | E71: הון עצמי נדרש | F71: סה"כ תוספת הון נדרשת
B72: 1 | C72: סה"כ | F72: =SUM(F73:F77) -> 0
B73: =B72+1 -> 2 | F73: =D73*E73 -> 0
B74: =B73+1 -> 3 | F74: =D74*E74 -> 0
B75: =B74+1 -> 4 | F75: =D75*E75 -> 0
B76: =B75+1 -> 5 | F76: =D76*E76 -> 0
B77: =B76+1 -> 6 | F77: =D77*E77 -> 0
...

Sheet 106N
A1: =SUM(F17) -> 0 | B1: ='T101'!B1 -> _____חברה מנהלת | F1: =Information!$E$1 -> חזרה
B2: טופס 106, נספח - חישוב נכסים נזילים
A3: =SUM(F17) -> 0 | B3: =Information!$M$21 -> הנתונים באלפי ש"ח
B4: 1. חישוב הנכסים הנזילים המוחזקים כנגד הון עצמי מזערי נדרש:
C6: (א) | D6: אגרות חוב ממשלתייות סחירות
C7: (ב) | D7: מזומנים
C8: (ג) | D8: פיקדונות אשר מועד פירעונם יחול בתוך 3 חודשים או שניתן לפרעם בתוך 3 חודשים
C9: (ד) | D9: איגרות חוב בלתי סחירות והלוואות בדירוג השקעה שמועד פירעונן יחול בתוך 3 חודשים או שניתן לפרען בתוך 3 חודשים
C10: (ה) | D10: נייר ערך מסחרי שמועד פירעונם יחול בתוך 3 חודשים או שניתן לפרעם בתוך 3 חודשים;
C11: (ו) | D11: יחידות בקרן ותעודות סל שניתנות לפירעון בכל עת
C12: (ז) | D12: מניות הכלולות במדד תל אביב 25;
C13: (ח) | D13: מניות הכלולות במדדי מניות בעלות שווי שוק הגבוה ביותר, הרשומות למסחר בבורסת חוץ או בשוק מוסדר בכל מדינת חוץ מאושרת
C14: (ט) | D14: איגרות חוב סחירות בדירוג השקעה
C15: (י) | D15: אופציית רכש 001
C16: (יא) | D16: עסקת מכר חוזר בניירות ערך שמועד תום התקופה שנקבעה בה יחול בתוך 3 חודשים;
C17: (יב) | D17: סה"כ נכסים נזילים | E17: =SUM(E6:E16) -> 0
B19: 2. חישוב סכום הנכסים הנזילים הנדרש
C20: (א) | D20: סה"כ נכסים נזילים נדרשים - חברה | E20: ='T101'!$J$39 -> 0 | F20: 0.5 | G20: =E20*F20 -> 0
C21: (ב) | D21: ביכוי דרישות הנזילות של חברות מנהלות נשלטות | E21: ='T101'!L18 -> 0 | F21: 0.5 | G21: =E21*F21 -> 0
C22: (ג) | D22: סה"כ נכסים נזילים נדרשים - חברה בניכוי דרישות עבור חברות בנות | G22: =G20-G21 -> 0
B25: 3.עודף (גרעון) של נכסים נזילים 1(יב) - 2 (ג) | G25: =(E17-G22) -> 0
D29: `

Sheet 106
A1: =SUM(J8:L535) -> 0 | B1: =company -> _____חברה מנהלת | L1: =Information!$E$1 -> חזרה
B2: טופס 106, פירוט נכסים לפי סוגי התחייבויות | J2: נתונים ל: | K2: ='1'!C4 -> 31.12.2021
A3: =SUM(J8:L538) -> 0 | B3: =Information!$M$21 -> הנתונים באלפי ש"ח
J6: סה"כ הנכסים ויתרות חובה | K6: הון עצמי מזערי | L6: התחייבויות אחרות ועודף הון
A7: שורה
A8: 8 | B8: 1. | C8: השקעות | J8: =SUM(K8:L8) -> 0 | K8: =SUM(K9,K22,K390,K415,K452,K484,K492) -> 0 | L8: =SUM(L9,L22,L390,L415,L452,L484,L492) -> 0 | M8: 1 | N8: 1
A9: =A8+1 -> 9 | C9: א. | D9: מזומנים ושווי מזומנים | J9: =SUM(K9:L9) -> 0 | K9: =SUM(K10,K18) -> 0 | L9: =SUM(L10,L18) -> 0 | M9: 1 | N9: 1
A10: =A9+1 -> 10 | D10: (1 | E10: בישראל | J10: =SUM(K10:L10) -> 0 | K10: =SUM(K11:K17) -> 0 | L10: =SUM(L11:L17) -> 0 | M10: =IF(J10<>0,1,0) -> 0 | N10: 0
A11: =A10+1 -> 11 | E11: א) | F11: יתרות מזומנים ועו"ש בשקלים חדשים | J11: =SUM(K11:L11) -> 0 | M11: =IF(J11<>0,1,0) -> 0 | N11: 0
A12: =A11+1 -> 12 | E12: ב) | F12: יתרות מזומנים ועו"ש נקובים במט"ח | J12: =SUM(K12:L12) -> 0 | M12: =IF(J12<>0,1,0) -> 0 | N12: 0
A13: =A12+1 -> 13 | E13: ג) | F13: פח"ק/פר"י | J13: =SUM(K13:L13) -> 0 | M13: =IF(J13<>0,1,0) -> 0 | N13: 0
A14: =A13+1 -> 14 | E14: ד) | F14: פק"מ לתקופה של עד שלושה חודשים | J14: =SUM(K14:L14) -> 0 | M14: =IF(J14<>0,1,0) -> 0 | N14: 0
A15: =A14+1 -> 15 | E15: ה) | F15: פיקדון צמוד מדד עד שלושה חודשים | J15: =SUM(K15:L15) -> 0 | M15: =IF(J15<>0,1,0) -> 0 | N15: 0
A16: =A15+1 -> 16 | E16: ו) | F16: פיקדון צמוד מט"ח עד שלושה חודשים (פצ"מ) | J16: =SUM(K16:L16) -> 0 | M16: =IF(J16<>0,1,0) -> 0 | N16: 0
A17: =A16+1 -> 17 | E17: ז) | F17: פיקדונות במט"ח עד שלושה חודשים | J17: =SUM(K17:L17) -> 0 | M17: =IF(J17<>0,1,0) -> 0 | N17: 0
A18: =A17+1 -> 18 | D18: (2 | E18: בחו"ל | J18: =SUM(K18:L18) -> 0 | K18: =SUM(K19:K20) -> 0 | L18: =SUM(L19:L20) -> 0 | M18: =IF(J18<>0,1,0) -> 0 | N18: 0
A19: =A18+1 -> 19 | E19: א) | F19: יתרות מזומנים ועו"ש נקובים במט"ח | J19: =SUM(K19:L19) -> 0 | M19: =IF(J19<>0,1,0) -> 0 | N19: 0
A20: =A19+1 -> 20 | E20: ב) | F20: פיקדונות במט"ח עד שלושה חודשים | J20: =SUM(K20:L20) -> 0 | M20: =IF(J20<>0,1,0) -> 0 | N20: 0
A21: =A20+1 -> 21 | M21: =IF(J21<>0,1,0) -> 0 | N21: 0
A22: =A21+1 -> 22 | C22: ב. | D22: ניירות ערך (למעט בחברות מוחזקות) | J22: =SUM(J23,J94,J153,J187,J195,J207,J215,J232,J42,J173,J278) -> 0 | K22: =SUM(K23,K94,K153,K187,K195,K207,K215,K232,K42,K173,K278) -> 0 | L22: =SUM(L23,L94,L153,L187,L195,L207,L215,L232,L42,L173,L278) -> 0 | M22: 1 | N22: 1
A23: =A22+1 -> 23 | D23: (1 | E23: אגרות חוב ממשלתיות: | J23: =SUM(K23:L23) -> 0 | K23: =SUM(K24,K34) -> 0 | L23: =SUM(L24,L34) -> 0 | M23: 1 | N23: 1
A24: =A23+1 -> 24 | E24: א) | F24: בישראל | J24: =SUM(K24:L24) -> 0 | K24: =SUM(K25,K32:K33) -> 0 | L24: =SUM(L25,L32:L33) -> 0 | M24: =IF(J24<>0,1,0) -> 0 | N24: 0
A25: =A24+1 -> 25 | F25: (1) | G25: סחיר | J25: =SUM(K25:L25) -> 0 | K25: =SUM(K26:K30) -> 0 | L25: =SUM(L26:L30) -> 0 | M25: =IF(J25<>0,1,0) -> 0 | N25: 0
A26: =A25+1 -> 26 | G26: (א) | H26: צמוד מדד | J26: =SUM(K26:L26) -> 0 | M26: =IF(J26<>0,1,0) -> 0 | N26: 0
A27: =A26+1 -> 27 | G27: (ג) | H27: לא צמוד בריבית קבועה | J27: =SUM(K27:L27) -> 0 | M27: =IF(J27<>0,1,0) -> 0 | N27: 0
A28: =A27+1 -> 28 | G28: (ד) | H28: לא צמוד בריבית משתנה | J28: =SUM(K28:L28) -> 0 | M28: =IF(J28<>0,1,0) -> 0 | N28: 0
A29: =A28+1 -> 29 | G29: (ה) | H29: צמוד מט"ח | J29: =SUM(K29:L29) -> 0 | M29: =IF(J29<>0,1,0) -> 0 | N29: 0
A30: =A29+1 -> 30 | G30: (ו) | H30: מק"מ | J30: =SUM(K30:L30) -> 0 | M30: =IF(J30<>0,1,0) -> 0 | N30: 0
A31: =A30+1 -> 31 | F31: (2) | G31: לא סחיר | J31: =SUM(K31:L31) -> 0 | K31: =SUM(K32:K33) -> 0 | L31: =SUM(L32:L33) -> 0 | M31: =IF(J31<>0,1,0) -> 0 | N31: 0
A32: =A31+1 -> 32 | G32: (א) | H32: אג"ח מיועדות - הסכמי "חץ" כולל אג"ח של חברת החשמל | J32: =SUM(K32:L32) -> 0 | M32: =IF(J32<>0,1,0) -> 0 | N32: 0
A33: =A32+1 -> 33 | G33: (ב) | H33: אג"ח לא סחירות אחרות | J33: =SUM(K33:L33) -> 0 | M33: =IF(J33<>0,1,0) -> 0 | N33: 0
A34: =A33+1 -> 34 | E34: ב) | F34: בחו"ל | J34: =SUM(K34:L34) -> 0 | K34: =SUM(K38,K35) -> 0 | L34: =SUM(L38,L35) -> 0 | M34: =IF(J34<>0,1,0) -> 0 | N34: 0
A35: =A34+1 -> 35 | F35: (1) | G35: סחיר | J35: =SUM(K35:L35) -> 0 | K35: =SUM(K36:K37) -> 0 | L35: =SUM(L36:L37) -> 0 | M35: =IF(J35<>0,1,0) -> 0 | N35: 0
A36: =A35+1 -> 36 | G36: (א) | H36: ממשלת ישראל שהונפקו בחו"ל | J36: =SUM(K36:L36) -> 0 | M36: =IF(J36<>0,1,0) -> 0 | N36: 0
A37: =A36+1 -> 37 | G37: (ב) | H37: שהנפיקה ממשלה זרה | J37: =SUM(K37:L37) -> 0 | M37: =IF(J37<>0,1,0) -> 0 | N37: 0
A38: =A37+1 -> 38 | F38: (2) | G38: לא סחיר | J38: =SUM(K38:L38) -> 0 | K38: =SUM(K39:K40) -> 0 | L38: =SUM(L39:L40) -> 0 | M38: =IF(J38<>0,1,0) -> 0 | N38: 0
A39: =A38+1 -> 39 | G39: (א) | H39: ממשלת ישראל שהונפקו בחו"ל | J39: =SUM(K39:L39) -> 0 | M39: =IF(J39<>0,1,0) -> 0 | N39: 0
A40: =A39+1 -> 40 | G40: (ב) | H40: שהנפיקה ממשלה זרה | J40: =SUM(K40:L40) -> 0 | M40: =IF(J40<>0,1,0) -> 0 | N40: 0
A41: =A40+1 -> 41 | M41: =IF(J41<>0,1,0) -> 0 | N41: 0
A42: =A41+1 -> 42 | D42: (2 | E42: תעודות חוב מסחריות: | J42: =SUM(K42:L42) -> 0 | K42: =SUM(K43,K74) -> 0 | L42: =SUM(L43,L74) -> 0 | M42: 1 | N42: 1
...

Sheet 107
B1: =company -> _____חברה מנהלת | D1: =Information!$E$1 -> חזרה
B2: טופס 107, הוצאות ישירות בניהול השקעות
B3: =Information!$M$21 -> הנתונים באלפי ש"ח | C3: חוזר גופים מוסדיים 2015-9-3
C4: דיווח דוחות כספיים ודיווחים נלווים של החברות המנהלות - עדכון
B5: הערות | C5: סה"כ מתחילת השנה | E5: מדווחים רק עם הדיווח השנתי
C6: ='2'!C4 -> שנת 2021
C7: (1)
A8: 0 | B8: 1. סה"כ עמלות קנייה ומכירה | C8: =SUM(C9:C10) -> 0
A9: 0 | B9: א. לצדדים קשורים
A10: 0 | B10: ב. לצדדים שאינם קשורים
A11: 0
A12: 0 | B12: 2. סה"כ עמלות קסטודיאן | C12: =SUM(C13:C14) -> 0
A13: 0 | B13: א. לצדדים קשורים
A14: 0 | B14: ב. לצדדים שאינם קשורים
A15: 0
A16: 0 | B16: 3. סה"כ הוצאות מהשקעות לא סחירות | C16: =SUM(C17:C19) -> 0
A17: 1 | B17: א. בניירות ערך לא סחירים שאינם לצורך מימון פרויקטים לתשתיות
A18: 0 | B18: ב. במימון פרוייקטים לתשתיות
A19: 0 | B19: ג. בזכויות מקרקעין
A20: 0
A21: 1 | B21: 4. סה"כ עמלות ניהול חיצוני | C21: =SUM(C22:C29) -> 0
A22: 0 | B22: א.הנובעים מהשקעה בקרנות השקעה בישראל
A23: 0 | B23: ב. הנובעים מהשקעה בקרנות השקעה בחו"ל
A24: 0 | B24: ג. למנהלי תיקים ישראלים בגין השקעה בחו"ל
A25: 0 | B25: ד. למנהלי תיקים זרים
A26: 0 | B26: ה. בגין השקעה בתעודות סל ישראליות
A27: 0 | B27: ו. בגין השקעה בתעודות סל זרות
A28: 0 | B28: ז. בגין השקעה בקרנות נאמנות ישראליות
A29: 0 | B29: ח. בגין השקעה בקרנות נאמנות זרות
A30: 0
A31: 0 | B31: 5. סה"כ הוצאות אחרות | C31: =SUM(C32:C33) -> 0
A32: 0 | B32: א. ניהול תביעות
A33: 1 | B33: ב. מתן משכנתאות
B35: 6. הוצאות ישירות
A36: 1 | B36: א. סך ההוצאות הישירות, שההוצאה בגינן מוגבלת לשיעור של 0.25% מהנכסים | C36: =SUMIF($A$8:$A$33,$A$36,C8:C33) -> 0
B37: ב. סך הוצאות ישירות | C37: =SUM(C31,C21,C16,C11,C8,C12) -> 0
B39: 7. שיעור הוצאות ישירות
B40: א. שיעור סך ההוצאות הישירות, שההוצאה בגינן מוגבלת לשיעור של 0.25% מהנכסים | C40: =IF(C36=0,0,C36/($C$44+$C$45)) -> 0
B41: ב. שיעור סך הוצאות ישירות מממוצע נכסים (באחוזים) | C41: =IF(C37=0,0,C37/((C44+C45+C47)/2)) -> 0
B43: 8. סך נכסים לסוף תקופה קודמת
...

Sheet הנחיות למילוי הקובץ T18
A3: הגדרות כלליות
A4: מזומנים ופיקדונות | B4: מזומנים, שווה מזומנים ופקדונות
A5: נכסי סיכון | B5: סך הנכסים המנוהלים על ידי הגוף המוסדי, למעט מזומנים ושווי מזומנים, פיקדונות בבנקים בישראל ואיגרות חוב של מדינת ישראל כהגדרתן בתקנות כללי השקעה.
A7: שדה | B7: הנחיות למילוי השדה
A8: שם קבוצה/ תאגיד | B8: יש לבחור את שם התאגיד/ קבוצת התאגידים מתוך הרשימה בעמודה B (ללחוץ על "בחר"). אם השם לא מופיע ברשימה, יש לרשום את השם החדש בעמודה Q. תחת "הכנס שם חדש". לאחר כתיבת השם בעמודה זו, יופע השם ברשימת השמות לבחירה בעמודה B. יש לחזור לעמודה B. ולבחור את השם שהתווסף באופן ידני. דיווח ברמת תאגיד הינו עבור תאגידים שלא נכללו בדיווח תחת קבוצות תאגידים.
A9: שם התאגידים בקבוצה | B9: יש להזין את שמות התאגידים הכלולים בקבוצת התאגידים, בהן השקיע הגוף המוסדי.
A10: מספר תאגיד | B10: יש להזין את מספר התאגיד כפי שמופיע ברשם החברות, בתאגיד הרשום בישראל ולפי המקובל במדינת ההתאגדות, בתאגיד שאינו רשום בישראל; כאשר מדובר בקבוצה- יש למלא את מספר תאגיד של כל תאגיד שכלול בקבוצת התאגידים.
A11: סך החשיפה | B11: יש להציג את סך החשיפה לתאגיד בודד/ לקבוצת התאגידים ולכל תאגיד בודד בקבוצת התאגידים.
A12: מתוך סך החשיפה | B12: סך החשיפה לתאגיד בודד, קבוצת התאגידים ולכל תאגיד שכלול בקבוצת התאגידים יפורט כחשיפה לפי המכשירים הפיננסיים הבאים: מזומנים ופיקדונות, איגרות חוב (סחירות ובלתי סחירות), הלוואות (לרבות הלוואות שמקורן מעסקאות סינדיקציה וקונסורציום), מניות, ואחר. אין לכלול החזקות בתעודות סל, בקרנות סל ובקרנות נאמנות.
A13: שיעור חשיפה מסך הנכסים | B13: יש להציג את שיעור החשיפה לתאגיד בודד/ לקבוצת התאגידים מתוך כלל הנכסים המנוהלים.
A14: שיעור החשיפה מסך נכסי הסיכון | B14: יש להציג את שיעור החשיפה לתאגיד בודד/ לקבוצת התאגידים מתוך נכסי הסיכון.
A15: היקף חובות בעייתיים | B15: יש להציג את היקף החובות הבעייתיים של התאגיד/ תאגידים בקבוצת התאגידים, שהעניק הגוף המוסדי.

Sheet T18
B1: =company -> _____חברה מנהלת
B2: טופס 18 - חשיפה לקבוצות תאגידים - משתתף | E2: חזרה
B3: ליום | C3: =Date1 -> 31.12.2021
B4: =line3 -> הנתונים באלפי ש"ח
B5: סה"כ חשיפות | C5: תיקון פרק 3 לחלק 4 של שער 5 לחוזר המאוחד (דיווח לממונה על שוק ההון) - דיווח אודות חובות בעייתיים | Q5: לפחות אחד השמות של הקבוצה \ תאגיד לא ברשמיה Names | R5: Mess18
B6: סה"כ נכסים מנוהלים
B7: סה"כ נכסי הסיכון
A8: 1 | B8: =IF(P11>0,mESS18,"") -> לפחות אחד השמות של הקבוצה \ תאגיד לא ברשמיה Names
A9: 1 | B9: סה"כ חשיפות לתאגידים גדולים וקבוצות תאגידים | F9: =SUM(F12:F1200)/2 -> 0 | J9: =SUM(J12:J1200)/2 -> 0 | M9: =SUM(M12:M1200)/2 -> 0 | O9: B | R9: 26
C10: שם התאגידים בקבוצה | D10: מספר תאגיד | E10: סך החשיפה | F10: מתוך סך החשיפה: | K10: שיעור חשיפה מסך הנכסים | L10: שיעור החשיפה מסך נכסי הסיכון | M10: היקף חובות בעייתיים | O10: 12 | Q10: Names
A11: 1 | B11: שם קבוצה/ תאגיד | F11: מזומנים ופיקדונות | G11: אג"ח | H11: הלוואות | I11: מניות | J11: אחר | P11: =SUM(P12:P36) -> 25 | Q11: בחר
A12: 1 | E12: =SUM(F12:J12) -> 0 | F12: =SUM(F13:F37) -> 0 | G12: =SUM(G13:G37) -> 0 | H12: =SUM(H13:H37) -> 0 | I12: =SUM(I13:I37) -> 0 | J12: =SUM(J13:J37) -> 0 | K12: =IFERROR(E12/$C$6,"") | L12: =IFERROR(E12/$C$7,"") | M12: =SUM(M13:M37) -> 0 | O12: =INDIRECT(CONCATENATE("B",R12)) -> 0 | P12: =IFERROR(VLOOKUP(O12,Groups,1,0),1) -> 1 | Q12: אדלסברג | R12: 12
A13: =IF(E13<>0,1,0) -> 0 | C13: תאגיד 1 | E13: =SUM(F13:J13) -> 0 | K13: =IFERROR(E13/$C$6,"") | L13: =IFERROR(E13/$C$7,"") | O13: =INDIRECT(CONCATENATE("B",R13)) -> בחר | P13: =IFERROR(VLOOKUP(O13,Groups,1,0),1) -> 1 | Q13: אורמת | R13: 38
A14: =IF(E14<>0,1,0) -> 0 | C14: תאגיד 2 | E14: =SUM(F14:J14) -> 0 | K14: =IFERROR(E14/$C$6,"") | L14: =IFERROR(E14/$C$7,"") | O14: =INDIRECT(CONCATENATE("B",R14)) -> בחר | P14: =IFERROR(VLOOKUP(O14,Groups,1,0),1) -> 1 | Q14: איזנברג שלמה | R14: 64
A15: =IF(E15<>0,1,0) -> 0 | C15: תאגיד 3 | E15: =SUM(F15:J15) -> 0 | K15: =IFERROR(E15/$C$6,"") | L15: =IFERROR(E15/$C$7,"") | O15: =INDIRECT(CONCATENATE("B",R15)) -> בחר | P15: =IFERROR(VLOOKUP(O15,Groups,1,0),1) -> 1 | Q15: איסתא | R15: 90
A16: =IF(E16<>0,1,0) -> 0 | C16: תאגיד 4 | E16: =SUM(F16:J16) -> 0 | K16: =IFERROR(E16/$C$6,"") | L16: =IFERROR(E16/$C$7,"") | O16: =INDIRECT(CONCATENATE("B",R16)) -> בחר | P16: =IFERROR(VLOOKUP(O16,Groups,1,0),1) -> 1 | Q16: אלביט מערכות | R16: 116
A17: =IF(E17<>0,1,0) -> 0 | C17: תאגיד 5 | E17: =SUM(F17:J17) -> 0 | K17: =IFERROR(E17/$C$6,"") | L17: =IFERROR(E17/$C$7,"") | O17: =INDIRECT(CONCATENATE("B",R17)) -> בחר | P17: =IFERROR(VLOOKUP(O17,Groups,1,0),1) -> 1 | Q17: אלוביץ' | R17: 142
A18: =IF(E18<>0,1,0) -> 0 | C18: תאגיד 6 | E18: =SUM(F18:J18) -> 0 | K18: =IFERROR(E18/$C$6,"") | L18: =IFERROR(E18/$C$7,"") | O18: =INDIRECT(CONCATENATE("B",R18)) -> 0 | P18: =IFERROR(VLOOKUP(O18,Groups,1,0),1) -> 1 | Q18: אליהו | R18: 168
A19: =IF(E19<>0,1,0) -> 0 | C19: תאגיד 7 | E19: =SUM(F19:J19) -> 0 | K19: =IFERROR(E19/$C$6,"") | L19: =IFERROR(E19/$C$7,"") | O19: =INDIRECT(CONCATENATE("B",R19)) -> בחר | P19: =IFERROR(VLOOKUP(O19,Groups,1,0),1) -> 1 | Q19: אלייד | R19: 194
A20: =IF(E20<>0,1,0) -> 0 | C20: תאגיד 8 | E20: =SUM(F20:J20) -> 0 | K20: =IFERROR(E20/$C$6,"") | L20: =IFERROR(E20/$C$7,"") | O20: =INDIRECT(CONCATENATE("B",R20)) -> בחר | P20: =IFERROR(VLOOKUP(O20,Groups,1,0),1) -> 1 | Q20: אלעזרא | R20: 220
A21: =IF(E21<>0,1,0) -> 0 | C21: תאגיד 9 | E21: =SUM(F21:J21) -> 0 | K21: =IFERROR(E21/$C$6,"") | L21: =IFERROR(E21/$C$7,"") | O21: =INDIRECT(CONCATENATE("B",R21)) -> בחר | P21: =IFERROR(VLOOKUP(O21,Groups,1,0),1) -> 1 | Q21: אלפא מים השקעות | R21: 246
A22: =IF(E22<>0,1,0) -> 0 | C22: תאגיד 10 | E22: =SUM(F22:J22) -> 0 | K22: =IFERROR(E22/$C$6,"") | L22: =IFERROR(E22/$C$7,"") | O22: =INDIRECT(CONCATENATE("B",R22)) -> בחר | P22: =IFERROR(VLOOKUP(O22,Groups,1,0),1) -> 1 | Q22: אלשטיין | R22: 272
A23: =IF(E23<>0,1,0) -> 0 | C23: תאגיד 11 | E23: =SUM(F23:J23) -> 0 | K23: =IFERROR(E23/$C$6,"") | L23: =IFERROR(E23/$C$7,"") | O23: =INDIRECT(CONCATENATE("B",R23)) -> בחר | P23: =IFERROR(VLOOKUP(O23,Groups,1,0),1) -> 1 | Q23: אנלייט | R23: 298
A24: =IF(E24<>0,1,0) -> 0 | C24: תאגיד 12 | E24: =SUM(F24:J24) -> 0 | K24: =IFERROR(E24/$C$6,"") | L24: =IFERROR(E24/$C$7,"") | O24: =INDIRECT(CONCATENATE("B",R24)) -> בחר | P24: =IFERROR(VLOOKUP(O24,Groups,1,0),1) -> 1 | Q24: אנרגיאן | R24: 324
... A37: =IF(E37<>0,1,0) -> 0 | C37: תאגיד 25 | E37: =SUM(F37:J37) -> 0 | K37: =IFERROR(E37/$C$6,"") | L37: =IFERROR(E37/$C$7,"") | O37: =INDIRECT(CONCATENATE("B",R37)) -> בחר | P37: =IFERROR(VLOOKUP(O37,Groups,1,0),1) -> 1 | Q37: דיין | R37: 662
A38: =A12+1 -> 2 | B38: בחר | E38: =SUM(F38:J38) -> 0 | F38: =SUM(F39:F63) -> 0 | G38: =SUM(G39:G63) -> 0 | H38: =SUM(H39:H63) -> 0 | I38: =SUM(I39:I63) -> 0 | J38: =SUM(J39:J63) -> 0 | K38: =IFERROR(E38/$C$6,"") | L38: =IFERROR(E38/$C$7,"") | M38: =SUM(M39:M63) -> 0 | O38: =INDIRECT(CONCATENATE("B",R38)) -> בחר | P38: =IFERROR(VLOOKUP(O38,Groups,1,0),1) -> 1 | Q38: דיסקונט | R38: 688
A39: =IF(E39<>0,1,0) -> 0 | C39: תאגיד 1 | E39: =SUM(F39:J39) -> 0 | K39: =IFERROR(E39/$C$6,"") | L39: =IFERROR(E39/$C$7,"") | O39: =INDIRECT(CONCATENATE("B",R39)) -> בחר | P39: =IFERROR(VLOOKUP(O39,Groups,1,0),1) -> 1 | Q39: דנון | R39: 714
A40: =IF(E40<>0,1,0) -> 0 | C40: תאגיד 2 | E40: =SUM(F40:J40) -> 0 | K40: =IFERROR(E40/$C$6,"") | L40: =IFERROR(E40/$C$7,"") | O40: =INDIRECT(CONCATENATE("B",R40)) -> בחר | P40: =IFERROR(VLOOKUP(O40,Groups,1,0),1) -> 1 | Q40: דנירקו | R40: 740
A41: =IF(E41<>0,1,0) -> 0 | C41: תאגיד 3 | E41: =SUM(F41:J41) -> 0 | K41: =IFERROR(E41/$C$6,"") | L41: =IFERROR(E41/$C$7,"") | O41: =INDIRECT(CONCATENATE("B",R41)) -> בחר | P41: =IFERROR(VLOOKUP(O41,Groups,1,0),1) -> 1 | Q41: דנקנר | R41: 766
A42: =IF(E42<>0,1,0) -> 0 | C42: תאגיד 4 | E42: =SUM(F42:J42) -> 0 | K42: =IFERROR(E42/$C$6,"") | L42: =IFERROR(E42/$C$7,"") | O42: =INDIRECT(CONCATENATE("B",R42)) -> בחר | P42: =IFERROR(VLOOKUP(O42,Groups,1,0),1) -> 1 | Q42: דסק"ש | R42: 792
A43: =IF(E43<>0,1,0) -> 0 | C43: תאגיד 5 | E43: =SUM(F43:J43) -> 0 | K43: =IFERROR(E43/$C$6,"") | L43: =IFERROR(E43/$C$7,"") | O43: =INDIRECT(CONCATENATE("B",R43)) -> בחר | P43: =IFERROR(VLOOKUP(O43,Groups,1,0),1) -> 1 | Q43: המבורגר | R43: 818
A44: =IF(E44<>0,1,0) -> 0 | C44: תאגיד 6 | E44: =SUM(F44:J44) -> 0 | K44: =IFERROR(E44/$C$6,"") | L44: =IFERROR(E44/$C$7,"") | O44: =INDIRECT(CONCATENATE("B",R44)) -> בחר | P44: =IFERROR(VLOOKUP(O44,Groups,1,0),1) -> 1 | Q44: הפועלים | R44: 844
A45: =IF(E45<>0,1,0) -> 0 | C45: תאגיד 7 | E45: =SUM(F45:J45) -> 0 | K45: =IFERROR(E45/$C$6,"") | L45: =IFERROR(E45/$C$7,"") | O45: =INDIRECT(CONCATENATE("B",R45)) -> בחר | P45: =IFERROR(VLOOKUP(O45,Groups,1,0),1) -> 1 | Q45: וינר | R45: 870
A46: =IF(E46<>0,1,0) -> 0 | C46: תאגיד 8 | E46: =SUM(F46:J46) -> 0 | K46: =IFERROR(E46/$C$6,"") | L46: =IFERROR(E46/$C$7,"") | O46: =INDIRECT(CONCATENATE("B",R46)) -> בחר | P46: =IFERROR(VLOOKUP(O46,Groups,1,0),1) -> 1 | Q46: ויצמן | R46: 896
A47: =IF(E47<>0,1,0) -> 0 | C47: תאגיד 9 | E47: =SUM(F47:J47) -> 0 | K47: =IFERROR(E47/$C$6,"") | L47: =IFERROR(E47/$C$7,"") | O47: =INDIRECT(CONCATENATE("B",R47)) -> בחר | P47: =IFERROR(VLOOKUP(O47,Groups,1,0),1) -> 1 | Q47: ורטהיים, דוד | R47: 922
A48: =IF(E48<>0,1,0) -> 0 | C48: תאגיד 10 | E48: =SUM(F48:J48) -> 0 | K48: =IFERROR(E48/$C$6,"") | L48: =IFERROR(E48/$C$7,"") | O48: =INDIRECT(CONCATENATE("B",R48)) -> בחר | P48: =IFERROR(VLOOKUP(O48,Groups,1,0),1) -> 1 | Q48: ורטהיים, דרורית | R48: 948
A49: =IF(E49<>0,1,0) -> 0 | C49: תאגיד 11 | E49: =SUM(F49:J49) -> 0 | K49: =IFERROR(E49/$C$6,"") | L49: =IFERROR(E49/$C$7,"") | O49: =INDIRECT(CONCATENATE("B",R49)) -> בחר | P49: =IFERROR(VLOOKUP(O49,Groups,1,0),1) -> 1 | Q49: זורולו | R49: 974
A50: =IF(E50<>0,1,0) -> 0 | C50: תאגיד 12 | E50: =SUM(F50:J50) -> 0 | K50: =IFERROR(E50/$C$6,"") | L50: =IFERROR(E50/$C$7,"") | O50: =INDIRECT(CONCATENATE("B",R50)) -> בחר | P50: =IFERROR(VLOOKUP(O50,Groups,1,0),1) -> 1 | Q50: זלקינד | R50: 1000
... A63: =IF(E63<>0,1,0) -> 0 | C63: תאגיד 25 | E63: =SUM(F63:J63) -> 0 | K63: =IFERROR(E63/$C$6,"") | L63: =IFERROR(E63/$C$7,"") | O63: =INDIRECT(CONCATENATE("B",R63)) -> בחר | P63: =IFERROR(VLOOKUP(O63,Groups,1,0),1) -> 1 | Q63: לסר | R63: 1338
A64: =A38+1 -> 3 | B64: בחר | E64: =SUM(E65:E89) -> 0 | F64: =SUM(F65:F89) -> 0 | G64: =SUM(G65:G89) -> 0 | H64: =SUM(H65:H89) -> 0 | I64: =SUM(I65:I89) -> 0 | J64: =SUM(J65:J89) -> 0 | K64: =IFERROR(E64/$C$6,"") | L64: =IFERROR(E64/$C$7,"") | M64: =SUM(M65:M89) -> 0 | O64: =INDIRECT(CONCATENATE("B",R64)) -> בחר | P64: =IFERROR(VLOOKUP(O64,Groups,1,0),1) -> 1 | Q64: מבנה | R64: 1364
...

Sheet T16 הנחיות
A1: הנחיות כלליות
A2: סכומים כספיים ידווחו באלפי ₪
A4: שדה | C4: הנחיות למילוי השדה
B5: סה"כ היקף חוב הקונצרני | C5: סה"כ היקף ההשקעה של הגוף המוסדי בהלוואות (לרבות קונסורציום) ובאג"ח קונצרניות
A6: (1) | B6: ח.פ לווה | C6: יש להזין את מספר התאגיד כפי שמופיע ברשם החברות בתאגיד הרשום בישראל ולפי המקובל במדינת ההתאגדות, בתאגיד שאינו רשום בישראל. כאשר מדובר בלווה שאינו תאגיד - מספר תעודת הזהות של הלווה. במקרה של שותפות- יש להזין את מספר השותפות כפי שמופיע ברשם השותפויות בשותפות הרשומה בישראל, ולפי המקובל במדינה המפקחת עבור שותפות זרה.
A7: (2) | B7: שם הלווה | C7: יש להזין את שם מקבל האשראי.
A8: (3) | B8: שם קבוצת התאגידים | C8: יש להזין את שם קבוצת התאגידים המחזיקה במקבלי האשראי.
A9: (4) | B9: סיווג החוב (חוב בהשגחה מיוחדת, חוב בפיגור, חוב מסופק) | C9: יש לציין את הסיווג שניתן על ידי הגוף המוסדי - חוב בהשגחה מיוחדת, חוב בפיגור, חוב מסופק (עבור חוב בישראל בלבד).
A10: (5) | B10: תאריך סיווג | C10: יש לציין את התאריך שבו החוב סווג כחוב בעייתי. במידה שחל שינוי בסיווג, יש לציין במועד הדיווח את תאריך הסיווג האחרון (עבור חוב בישראל בלבד). התאריך ידווח בפורמט הבא: dd/mm/yyyy
A11: (6) | B11: אופן הטיפול בחוב למועד הדיווח | C11: משתתף- התקיים דיון בועדת השקעות/לא התקיים דיון בועדת השקעות/ התקיים דיון בועדת אשראי/לא התקיים דיון בועדת אשראי. נוסטרו- מחיקות/ הפרשות לחומ"ס/ אין
A12: (7) | B12: האם במהלך הרבעון בוצע שינוי מהותי בחוב שלא הביא לכדי שינוי סיווגו? | C12: כן/לא (עבור חוב בישראל בלבד)
A13: (8) | B13: ענף משק | C13: יש להציג את ענף המשק הרלוונטי כפי שמופיע בבורסה (ככל שמוצג תת ענף יצוין תת הענף). תאגידים שאינם נסחרים יסווגו, ע"י הגופים המוסדיים, בהתאם לרשימה המצורפת להלן. יובהר כי תאגיד המסווג לענף משק שאינו מופיע ברשימה, יסווג כ"אחר". כאשר לא ניתן לסווג ענף משק, יסווג כ"ל.ר" (לא רלוונטי).
A14: (9) | B14: סוג העסקה | C14: הלוואה מותאמת/ סינדיקציה/ קונסורציום/ אג"ח סחיר/ אג"ח לא סחיר
A15: (10) | B15: תאריך מתן האשראי המקורי | C15: יש להזין את תאריך יצירת החוב לראשונה, לרבות הרחבות. בהלוואות יוזן תאריך מתן ההלוואה. באג"ח (סחיר ולא סחיר) יוזן התאריך בו האיגרת נרכשה לראשונה.
A16: (11) | B16: היקף האשראי המקורי | C16: יש להציג את הסכום המקורי של החוב, ואם מדובר בהשקעה לשיעורין אזי הסכום המצטבר. במידה שלא כל החוב שניתן מוגדר כבעייתי, יש לציין בטופס אך ורק את הרכיב שנמצא בעייתי.
A17: (12) | B17: שיעור תשואה לפידיון במועד העמדת האשראי | C17: יש להציג שיעורי תשואה כמספר (ולא, לדוגמא, כ-"פריים+1%") ובאחוזים עם שתי ספרות לאחר הנקודה העשרונית.
... A36: (31) | B36: הסבר בדבר הנסיבות שהובילו לשינוי המהותי במצב החוב, לרבות פירוט שינויים שחלו ממועד הדיווח הקודם | C36: הסבר מילולי
B39: בישראל
B40: · ביוטכנולוגיה
B41: · מכשור רפואי
B42: · השקעות במדעי החיים
B43: · פארמה
B44: · שירותי מידע
B45: · תוכנה ואינטרנט
B46: · אלקטרוניקה ואופטיקה
B47: · ביטחוניות
B48: · ציוד תקשורת
B49: · מוליכים למחצה
B50: · קלינטק
... B102: · Other

Sheet T16
A1: 1 | B1: =SUM(D5:AJ11) -> 0 | C1: =company -> _____חברה מנהלת | K1: חזרה
A2: 1 | C2: טופס 16 דיווח אודות חובות בעייתיים - משתתף | F2: ליום | G2: =Date1 -> 31.12.2021
A3: 1 | C3: הנתונים באלפי ₪
A4: 1 | C4: 16א חובות בעייתיים - ישראל | G4: תיקון פרק 3 לחלק 4 של שער 5 לחוזר המאוחד (דיווח לממונה על שוק ההון) - דיווח אודות חובות בעייתיים
A5: 1 | C5: סה"כ היקף חוב בהשגחה מיוחדת
A6: 1 | C6: סה"כ היקף חוב בפיגור
A7: 1 | C7: סה"כ היקף חוב מסופק | G7: 16ב חובות בעייתיים משתתף - חו"ל
A8: 1 | C8: סה"כ היקף חובות בעייתיים | E8: =SUM(E5:E7) -> 0 | G8: סה"כ היקף חובות בעייתיים
A9: 1 | C9: סה"כ היקף החוב הקונצרני | G9: סה"כ היקף החוב הקונצרני | AC9: ארגון מחדש בתנאי החוב בדרך של שינוי
A10: 1 | C10: 16ג חובות בעייתיים משתתף | S10: =SUBTOTAL(9,S14:S314) -> 0
A11: 1 | C11: ח.פ לווה | D11: שם הלווה | E11: שם קבוצת התאגידים | F11: סיווג חוב בישראל (חוב בהשגחה מיוחדת, חוב בפיגור, חוב מסופק) | G11: תאריך סיווג | H11: אופן הטיפול בחוב בספרי הגוף המוסדי למועד הדיווח | I11: האם במהלך הרבעון בוצע שינוי מהותי בחוב בישראל שלא הביא לכדי שינוי סיווגו? | J11: ענף משק | K11: סוג העסקה | L11: תאריך מתן האשראי המקורי | M11: היקף האשראי המקורי | N11: שיעור תשואה לפידיון במועד העמדת האשראי | O11: שיעור תשואה לפידיון למועד הדיווח | P11: מח"מ מקורי (שנים) | Q11: מח"מ למועד הדיווח (שנים) | R11: הצמדה | S11: יתרת חוב מתואם למועד הדיווח | T11: דירוג פנימי במועד השקעה ראשונית | U11: דירוג חיצוני במועד השקעה ראשונית | V11: דירוג פנימי עדכני למועד הדיווח | W11: דירוג חיצוני עדכני מועד הדיווח | X11: דירוג מקומי/ זר | Y11: סוג בטוחה | Z11: בטוחה בישראל/בחו"ל | AA11: שווי בטוחות למועד הדיווח | AB11: מועד עדכון אחרון לשווי בטוחות | AC11: תנאי הקרן (לרבות מחיקות) | AD11: תנאי ריבית | AE11: אמות מידה פיננסיות | AF11: באופן אחר | AG11: הסבר בדבר הנסיבות שהובילו לשינוי המהותי במצב החוב, לרבות פירוט שינויים שחלו ממועד הדיווח הקודם
A12: 1 | C12: (1) | D12: (2) | E12: (3) | F12: (4) | G12: (5) | H12: (6) | I12: (7) | J12: (8) | K12: (9) | L12: (10) | M12: (11) | N12: (12) | O12: (13) | P12: (14) | Q12: (15) | R12: (16) | S12: (17) | T12: (18) | U12: (19) | V12: (20) | W12: (21) | X12: (22) | Y12: (23) | Z12: (24) | AA12: (25) | AB12: (26) | AC12: (27) | AD12: (28) | AE12: (29) | AF12: (30) | AG12: (31) | AN12: Type_Industry | AO12: Type_Debt | AP12: Indexed | AQ12: Rating | AR12: B_List | AS12: CH_List | AT12: Change | AU12: Category | AV12: Rating_Agency | AW12: Groups | AX12: location | AY12: Discuss
A13: 1 | D13: סה"כ | G13: dd/mm/yyyy | L13: dd/mm/yyyy | M13: =SUM(M14:M501) -> 0 | S13: =SUM(S14:S501) -> 0 | AB13: dd/mm/yyyy | AN13: ביוטכנולוגיה | AO13: הלוואה מותאמת | AP13: צמוד למדד | AQ13: AAA / Aaa | AR13: מזומנים ופקדונות | AS13: מחיקות | AT13: כן | AU13: השגחה מיוחדת | AV13: מידרוג | AW13: ='T18'!Q12 -> אדלסברג | AX13: ישראל | AY13: התקיים דיון בועדת השקעות
