Workbook
Name a: #REF!
Name Aהפ_מדעו: #REF!
Name Aחב_כא: #REF!
Name Aכוננויות: #REF!
Name Aעבצ: #REF!
Name Aקבועות: #REF!
Name Aרכב: #REF!
Name Aשיא_כא: #REF!
Name Aשנ: #REF!
Name b: #REF!
Name e: [1]בדיקה!#REF!
Name א01_47: #REF!
Name א02_32: #REF!
Name א21_33: #REF!
Name א2105: #REF!
Name א22: #REF!
Name א22_33: #REF!
Name א2201: #REF!
Name א2202: #REF!
Name א2203: #REF!
Name א2204: #REF!
Name א2205: #REF!
Name א2206: #REF!
Name א2207: #REF!
Name א2208: #REF!
Name א2211: #REF!
Name א23: #REF!
Name א23_33: #REF!
Name א2301: #REF!
Name א2303: #REF!
Name א2305: #REF!
Name א24: #REF!
Name א24_33: #REF!
Name א2401: '[2]משרד-פיזי'!#REF!
Name א2402: '[2]משרד-פיזי'!#REF!
Name א2403: '[2]משרד-פיזי'!#REF!
Name א2404: '[2]משרד-פיזי'!#REF!
Name א2406: '[3]משרד-פיזי'!#REF!
Name א25: #REF!
Name א25_33: #REF!
Name א2501: #REF!
Name א2502: #REF!
Name א2504: #REF!
Name א2512: #REF!
Name א2514: #REF!
Name א26: #REF!
Name א2601: #REF!
Name א2602: #REF!
Name א2604: #REF!
Name א2605: #REF!
Name א2606: #REF!
Name א27: #REF!
Name א27_33: #REF!
Name א2703: #REF!
Name א2704: #REF!
Name א2705: #REF!
Name א2706: #REF!
Name א2707: #REF!
Name א2708: #REF!
Name א2709: #REF!

Sheet סיכום
A1: תקנה ישנה 17-18 | B1: שם התקנה | C1: 2019 | D1: 2018
A2: 33060280 | B2: סבסוד פרמיות ביטוח נזקי טבע | C2: ='2019'!E108 -> 93489386 | D2: ='2018'!E105 -> 96620515
A3: 33060281 | B3: סבסוד ביטוח הבטחת הכנסה | C3: ='2019'!E112 -> 7622614 | D3: ='2018'!E108 -> 6395878
A4: 33060282 | B4: סבסוד פרמיות אסונות טבע | C4: ='2019'!E120 -> 83276046 | D4: ='2018'!E116 -> 171425988
A5: 33060283 | B5: ענף הבקר והצאן | C5: ='2019'!E128 -> 48826819 | D5: ='2018'!E124 -> 49751972
A6: 33060285 | B6: הדרכה פרטית, קידום מכירות ותמיכות שונות בחקלאות | C6: ='2019'!E151 -> 13907178 | D6: ='2018'!E148 -> 21392057
A7: 33060286 | B7: חוק הגליל | C7: ='2019'!E155 -> 76627696 | D7: ='2018'!E152 -> 1.1445299e+08
A8: 33060288 | B8: פיצויים על פי חוק | C8: ='2019'!E161 -> 11352596 | D8: ='2018'!E158 -> 10203299
A9: 33060291 | B9: שיפוי חקלאים יצואנים | C9: ='2019'!E164 -> 0 | D9: ='2018'!E161 -> 7230375
A10: 33060295 | B10: תמיכות במחקרים שנתיים שונים | C10: ='2019'!E170 -> 688896.39 | D10: ='2018'!E168 -> 1513597.9
A11: 33060296 | B11: תמיכות שנתיות בכפר | C11: ='2019'!E179 -> 1601113.1 | D11: ='2018'!E179 -> 7287145
A12: 33060201 | B12: הסכם המים | C12: ='2019'!E8 -> 59250468 | D12: ='2018'!E7 -> 97785997
A13: 33060202 | B13: קידום מכירות ליצוא | C13: ='2019'!E15 -> 1281289 | D13: ='2018'!E14 -> 1881158
A14: 33060203 | B14: מענקי השקעות | C14: ='2019'!E43 -> 18544013 | D14: ='2018'!E39 -> 42903376
A15: 33060204 | B15: השקעות במיכון חוסך כח אדם | C15: ='2019'!E47 -> 34800 | D15: ='2018'!E44 -> 66000
A16: 33060205 | B16: חיזוק ופיתוח הפריפריה החקלאית | C16: ='2019'!E58 -> 14392778 | D16: ='2018'!E54 -> 15526513
A17: 33060207 | B17: עידוד קליטת עובדים ישראליים | C17: ='2019'!E62 -> 38000 | D17: ='2018'!E58 -> 92000
A18: 33060211 | B18: מענקי פיתוח הכפר | C18: ='2019'!E72 -> 32410062 | D18: ='2018'!E68 -> 28050286
A19: 33060212 | B19: מענקי שימור קרקע | C19: ='2019'!E76 -> 10893001 | D19: ='2018'!E72 -> 10025124
A20: 33060214 | B20: אחזקת מלאי חירום מספוא וחיטה | C20: ='2019'!E82 -> 32494160 | D20: ='2018'!E78 -> 39380709
A21: 33060215 | B21: תמיכה במרכזי מחקר ופיתוח אזוריים | C21: ='2019'!E87 -> 17394050 | D21: ='2018'!E83 -> 16324524
A22: 33060216 | B22: קרן המדען הראשי ומחקרים יישומים בחקלאות | C22: ='2019'!E98 -> 61050159 | D22: ='2018'!E95 -> 54923289
A23: 33060217 | B23: מחקרים בנושא מיכון חוסך כח אדם | C23: ='2019'!E101 -> 929770 | D23: ='2018'!E99 -> 2000000
A24: 33060221 | B24: תכנית רב שנתית למינוף המו"פ היישומי | C24: ='2019'!E104 -> 5725373 | D24: ='2018'!E102 -> 14495513

Sheet 2019
A1: פריט התחייבות | C1: מרכז קרנות | E1: תשלומים (ביצוע בפועל)
A2: 33060201 | B2: הסכם המים | C2: 330000 | D2: משרד החקלאות | E2: 0
C3: 330000637 | D3: פסקי דין (כללי) | E3: 1613991.9
C4: 330016 | D4: היחידה לתכנון ופיתוח | E4: 0
C5: 330080 | D5: מנהלת השקעות | E5: 66050
C6: 330080800 | D6: תמיכות מנהלת השקעות | E6: 57570426
C7: 330086888 | D7: קדמ תוצרת טריה | E7: 0
C8: תוצאה | E8: 59250468
A9: 33060202 | B9: קידום מכירות לייצוא | C9: 330000 | D9: משרד החקלאות | E9: 0
C10: 330086 | D10: סחר חוץ | E10: 0
C11: 330086800 | D11: תמיכות שונות סחר חוץ | E11: 0
C12: 330086888 | D12: קדמ תוצרת טריה | E12: 1281289
C13: 330086889 | D13: קדמ תוצרת מעובדת | E13: 0
C14: 330086890 | D14: תמיכה בהתארגנוות ליצ | E14: 0
C15: תוצאה | E15: 1281289
A16: 33060203 | B16: מענקי השקעות | C16: 330000 | D16: משרד החקלאות | E16: 0
C17: 330016834 | D17: תכ פיתוח ובניה ביוש | E17: 260240
C18: 330080 | D18: מנהלת השקעות | E18: 0
C19: 330080800 | D19: תמיכות מנהלת השקעות | E19: 0
C20: 330080801 | D20: תמיכה ישי דגי בריכות | E20: 0
C21: 330080818 | D21: השקעות ברפתות | E21: 3790509
C22: 330080819 | D22: השקעות במפטמות | E22: 190453
C23: 330080820 | D23: טיפול בפסולות צומח | E23: 2253427
C24: 330080825 | D24: החלטת 59 דרוזים וצר | E24: 654294
C25: 330080839 | D25: תמיכות משבר הייצוא | E25: 2560882
C26: 330080844 | D26: השקעות חקלאות בדואים | E26: 758598
C27: 330080847 | D27: מענקי השקעות 2025 | E27: 679457
C28: 330080848 | D28: בתי איזה 2025 | E28: 1378288
... C42: 330093872 | D42: טיפול בגדמים | E42: 575500
C43: תוצאה | E43: 18544013
A44: 33060204 | B44: השקעות מיכון חוסך כח | C44: 330000 | D44: משרד החקלאות | E44: 0
C45: 330080 | D45: מנהלת השקעות | E45: 0
C46: 330080800 | D46: תמיכות מנהלת השקעות | E46: 34800
C47: תוצאה | E47: 34800
A48: 33060205 | B48: חיזוק ופיתוח הפריפרי | C48: 330000 | D48: משרד החקלאות | E48: 0
C49: 330016817 | D49: רמהג החלטה 1170 | E49: 0
C50: 330016832 | D50: שיקום תשתיות | E50: 6339253
C51: 330016833 | D51: מענקי פיתוח הכפר | E51: 502115
C52: 330080 | D52: מנהלת השקעות | E52: 0
C53: 330080817 | D53: נחלות חדשות ברמה" | E53: 6000067
...

Sheet 2018
A1: פריט התחייבות | C1: מרכז קרנות | E1: תשלומים (ביצוע בפועל)
A2: 33060201 | B2: הסכם המים | C2: 330000 | D2: משרד החקלאות | E2: 0
C3: 330016 | D3: היחידה לתכנון ופיתוח | E3: 0
C4: 330080 | D4: מנהלת השקעות | E4: 0
C5: 330080800 | D5: תמיכות מנהלת השקעות | E5: 97785997
C6: 330086888 | D6: קדמ תוצרת טריה | E6: 0
C7: תוצאה | E7: 97785997
A8: 33060202 | B8: קידום מכירות לייצוא | C8: 330000 | D8: משרד החקלאות | E8: 0
C9: 330086 | D9: סחר חוץ | E9: 0
C10: 330086800 | D10: תמיכות שונות סחר חוץ | E10: 0
C11: 330086888 | D11: קדמ תוצרת טריה | E11: 1881158
C12: 330086889 | D12: קדמ תוצרת מעובדת | E12: 0
C13: 330086890 | D13: תמיכה בהתארגנוות ליצ | E13: 0
C14: תוצאה | E14: 1881158
A15: 33060203 | B15: מענקי השקעות | C15: 330000 | D15: משרד החקלאות | E15: 51588.81
C16: 330016834 | D16: תכ פיתוח ובניה ביוש | E16: 1711607
C17: 330080 | D17: מנהלת השקעות | E17: 228377
C18: 330080800 | D18: תמיכות מנהלת השקעות | E18: 69480
C19: 330080801 | D19: תמיכה ישי דגי בריכות | E19: 0
C20: 330080818 | D20: השקעות ברפתות | E20: 5930628
C21: 330080819 | D21: השקעות במפטמות | E21: 1574298
C22: 330080820 | D22: טיפול בפסולות צומח | E22: 3748338
C23: 330080825 | D23: החלטת 59 דרוזים וצר | E23: 1472870
C24: 330080839 | D24: תמיכות משבר הייצוא | E24: 5920317.9
C25: 330080844 | D25: השקעות חקלאות בדואים | E25: 1261532
C26: 330080847 | D26: מענקי השקעות 2025 | E26: 2475160
C27: 330080848 | D27: בתי איזה 2025 | E27: 356689
... C38: 330093872 | D38: טיפול בגדמים | E38: 688000
C39: תוצאה | E39: 42903376
A40: 33060204 | B40: השקעות מיכון חוסך כח | C40: 330000 | D40: משרד החקלאות | E40: 0
C41: 330015886 | D41: תמיכה בענפי המרעה | E41: 0
C42: 330080 | D42: מנהלת השקעות | E42: 0
C43: 330080800 | D43: תמיכות מנהלת השקעות | E43: 66000
C44: תוצאה | E44: 66000
A45: 33060205 | B45: חיזוק ופיתוח הפריפרי | C45: 330000 | D45: משרד החקלאות | E45: 0
C46: 330016817 | D46: רמהג החלטה 1170 | E46: 0
C47: 330016832 | D47: שיקום תשתיות | E47: 3508337
C48: 330016833 | D48: מענקי פיתוח הכפר | E48: 0
C49: 330080 | D49: מנהלת השקעות | E49: 0
C50: 330080817 | D50: נחלות חדשות ברמה" | E50: 4207741
...
