Workbook
Name a: #REF!
Name Aהפ_מדעו: #REF!
Name Aחב_כא: #REF!
Name Aכוננויות: #REF!
Name Aעבצ: #REF!
Name Aקבועות: #REF!
Name Aרכב: #REF!
Name Aשיא_כא: #REF!
Name Aשנ: #REF!
Name b: #REF!
Name e: [1]בדיקה!#REF!
Name א01_47: #REF!
Name א02_32: #REF!
Name א21_33: #REF!
Name א2105: #REF!
Name א22: #REF!
Name א22_33: #REF!
Name א2201: #REF!
Name א2202: #REF!
Name א2203: #REF!
Name א2204: #REF!
Name א2205: #REF!
Name א2206: #REF!
Name א2207: #REF!
Name א2208: #REF!
Name א2211: #REF!
Name א23: #REF!
Name א23_33: #REF!
Name א2301: #REF!
Name א2303: #REF!
Name א2305: #REF!
Name א24: #REF!
Name א24_33: #REF!
Name א2401: '[2]משרד-פיזי'!#REF!
Name א2402: '[2]משרד-פיזי'!#REF!
Name א2403: '[2]משרד-פיזי'!#REF!
Name א2404: '[2]משרד-פיזי'!#REF!
Name א2406: '[3]משרד-פיזי'!#REF!
Name א25: #REF!
Name א25_33: #REF!
Name א2501: #REF!
Name א2502: #REF!
Name א2504: #REF!
Name א2512: #REF!
Name א2514: #REF!
Name א26: #REF!
Name א2601: #REF!
Name א2602: #REF!
Name א2604: #REF!
Name א2605: #REF!
Name א2606: #REF!
Name א27: #REF!
Name א27_33: #REF!
Name א2703: #REF!
Name א2704: #REF!
Name א2705: #REF!
Name א2706: #REF!
Name א2707: #REF!
Name א2708: #REF!
Name א2709: #REF!

Sheet סיכום
A1: תקנה ישנה 17-18 | B1: שם התקנה | C1: 2019 | D1: 2018
A2: 33060280 | B2: סבסוד פרמיות ביטוח נזקי טבע | C2: ='2019'!E108 -> 93489386 | D2: ='2018'!E105 -> 96620515
A3: 33060281 | B3: סבסוד ביטוח הבטחת הכנסה | C3: ='2019'!E112 -> 7622614 | D3: ='2018'!E108 -> 6395878
A4: 33060282 | B4: סבסוד פרמיות אסונות טבע | C4: ='2019'!E120 -> 83276046 | D4: ='2018'!E116 -> 171425988
A5: 33060283 | B5: ענף הבקר והצאן | C5: ='2019'!E128 -> 48826819 | D5: ='2018'!E124 -> 49751972
A6: 33060285 | B6: הדרכה פרטית, קידום מכירות ותמיכות שונות בחקלאות | C6: ='2019'!E151 -> 13907178 | D6: ='2018'!E148 -> 21392057
A7: 33060286 | B7: חוק הגליל | C7: ='2019'!E155 -> 76627696 | D7: ='2018'!E152 -> 1.1445299e+08
A8: 33060288 | B8: פיצויים על פי חוק | C8: ='2019'!E161 -> 11352596 | D8: ='2018'!E158 -> 10203299
A9: 33060291 | B9: שיפוי חקלאים יצואנים | C9: ='2019'!E164 -> 0 | D9: ='2018'!E161 -> 7230375
A10: 33060295 | B10: תמיכות במחקרים שנתיים שונים | C10: ='2019'!E170 -> 688896.39 | D10: ='2018'!E168 -> 1513597.9
A11: 33060296 | B11: תמיכות שנתיות בכפר | C11: ='2019'!E179 -> 1601113.1 | D11: ='2018'!E179 -> 7287145
A12: 33060201 | B12: הסכם המים | C12: ='2019'!E8 -> 59250468 | D12: ='2018'!E7 -> 97785997
A13: 33060202 | B13: קידום מכירות ליצוא | C13: ='2019'!E15 -> 1281289 | D13: ='2018'!E14 -> 1881158
A14: 33060203 | B14: מענקי השקעות | C14: ='2019'!E43 -> 18544013 | D14: ='2018'!E39 -> 42903376
A15: 33060204 | B15: השקעות במיכון חוסך כח אדם | C15: ='2019'!E47 -> 34800 | D15: ='2018'!E44 -> 66000
A16: 33060205 | B16: חיזוק ופיתוח הפריפריה החקלאית | C16: ='2019'!E58 -> 14392778 | D16: ='2018'!E54 -> 15526513
A17: 33060207 | B17: עידוד קליטת עובדים ישראליים | C17: ='2019'!E62 -> 38000 | D17: ='2018'!E58 -> 92000
A18: 33060211 | B18: מענקי פיתוח הכפר | C18: ='2019'!E72 -> 32410062 | D18: ='2018'!E68 -> 28050286
A19: 33060212 | B19: מענקי שימור קרקע | C19: ='2019'!E76 -> 10893001 | D19: ='2018'!E72 -> 10025124
A20: 33060214 | B20: אחזקת מלאי חירום מספוא וחיטה | C20: ='2019'!E82 -> 32494160 | D20: ='2018'!E78 -> 39380709
A21: 33060215 | B21: תמיכה במרכזי מחקר ופיתוח אזוריים | C21: ='2019'!E87 -> 17394050 | D21: ='2018'!E83 -> 16324524
A22: 33060216 | B22: קרן המדען הראשי ומחקרים יישומים בחקלאות | C22: ='2019'!E98 -> 61050159 | D22: ='2018'!E95 -> 54923289
A23: 33060217 | B23: מחקרים בנושא מיכון חוסך כח אדם | C23: ='2019'!E101 -> 929770 | D23: ='2018'!E99 -> 2000000
A24: 33060221 | B24: תכנית רב שנתית למינוף המו"פ היישומי | C24: ='2019'!E104 -> 5725373 | D24: ='2018'!E102 -> 14495513

Sheet 2019
A1: פריט התחייבות | C1: מרכז קרנות | E1: תשלומים (ביצוע בפועל)
A2: 33060201 | B2: הסכם המים | C2: 330000 | D2: משרד החקלאות | E2: 0
C3: 330000637 | D3: פסקי דין (כללי) | E3: 1613991.9
C4: 330016 | D4: היחידה לתכנון ופיתוח | E4: 0
C5: 330080 | D5: מנהלת השקעות | E5: 66050
C6: 330080800 | D6: תמיכות מנהלת השקעות | E6: 57570426
C7: 330086888 | D7: קדמ תוצרת טריה | E7: 0
C8: תוצאה | E8: 59250468
A9: 33060202 | B9: קידום מכירות לייצוא | C9: 330000 | D9: משרד החקלאות | E9: 0
C10: 330086 | D10: סחר חוץ | E10: 0
C11: 330086800 | D11: תמיכות שונות סחר חוץ | E11: 0
C12: 330086888 | D12: קדמ תוצרת טריה | E12: 1281289
C13: 330086889 | D13: קדמ תוצרת מעובדת | E13: 0
C14: 330086890 | D14: תמיכה בהתארגנוות ליצ | E14: 0
C15: תוצאה | E15: 1281289
A16: 33060203 | B16: מענקי השקעות | C16: 330000 | D16: משרד החקלאות | E16: 0
C17: 330016834 | D17: תכ פיתוח ובניה ביוש | E17: 260240
C18: 330080 | D18: מנהלת השקעות | E18: 0
C19: 330080800 | D19: תמיכות מנהלת השקעות | E19: 0
C20: 330080801 | D20: תמיכה ישי דגי בריכות | E20: 0
C21: 330080818 | D21: השקעות ברפתות | E21: 3790509
C22: 330080819 | D22: השקעות במפטמות | E22: 190453
C23: 330080820 | D23: טיפול בפסולות צומח | E23: 2253427
C24: 330080825 | D24: החלטת 59 דרוזים וצר | E24: 654294
C25: 330080839 | D25: תמיכות משבר הייצוא | E25: 2560882
C26: 330080844 | D26: השקעות חקלאות בדואים | E26: 758598
C27: 330080847 | D27: מענקי השקעות 2025 | E27: 679457
C28: 330080848 | D28: בתי איזה 2025 | E28: 1378288
... C42: 330093872 | D42: טיפול בגדמים | E42: 575500
C43: תוצאה | E43: 18544013
A44: 33060204 | B44: השקעות מיכון חוסך כח | C44: 330000 | D44: משרד החקלאות | E44: 0
C45: 330080 | D45: מנהלת השקעות | E45: 0
C46: 330080800 | D46: תמיכות מנהלת השקעות | E46: 34800
C47: תוצאה | E47: 34800
A48: 33060205 | B48: חיזוק ופיתוח הפריפרי | C48: 330000 | D48: משרד החקלאות | E48: 0
C49: 330016817 | D49: רמהג החלטה 1170 | E49: 0
C50: 330016832 | D50: שיקום תשתיות | E50: 6339253
C51: 330016833 | D51: מענקי פיתוח הכפר | E51: 502115
C52: 330080 | D52: מנהלת השקעות | E52: 0
C53: 330080817 | D53: נחלות חדשות ברמה" | E53: 6000067
C54: 330080892 | D54: מיעוטים | E54: 312253
C55: 330080895 | D55: הכשרות קרקע | E55: 764563
C56: 330080896 | D56: גורמי יצור | E56: 291516
C57: 330091800 | D57: תמיכות שונות מחוז הנ | E57: 183011
C58: תוצאה | E58: 14392778
A59: 33060207 | B59: עידוד קליטת עובדים | C59: 330000 | D59: משרד החקלאות | E59: 0
C60: 330015 | D60: הרשות לתכנון כלכלי | E60: 0
C61: 330015800 | D61: תמיכות שו- גורמי יצו | E61: 38000
C62: תוצאה | E62: 38000
A63: 33060211 | B63: מענקי פיתוח הכפר | C63: 330000 | D63: משרד החקלאות | E63: 5224
C64: 330016 | D64: היחידה לתכנון ופיתוח | E64: 1863628
C65: 330016800 | D65: תמיכות פיתוח הכפר | E65: 3732655
C66: 330016828 | D66: פרוג' חקלאית 2017 | E66: 80870.4
C67: 330016830 | D67: שילוב התיירות | E67: 0
C68: 330016833 | D68: מענקי פיתוח הכפר | E68: 7839687.2
C69: 330016834 | D69: תכ פיתוח ובניה ביוש | E69: 18030847
C70: 330045666 | D70: מקצועיות תכנון מדינ | E70: 857151.01
C71: 330091 | D71: מחוז הנגב | E71: 0
C72: תוצאה | E72: 32410062
A73: 33060212 | B73: מענקי שימור קרקע | C73: 330000 | D73: משרד החקלאות | E73: 0
C74: 330050 | D74: שימור קרקע | E74: 177511.2
C75: 330050800 | D75: תמיכות שונות ש.קרקע | E75: 10715490
C76: תוצאה | E76: 10893001
A77: 33060214 | B77: אחזקת מלאי חירום של | C77: 330000 | D77: משרד החקלאות | E77: 0
C78: 330015800 | D78: תמיכות שו- גורמי יצו | E78: 0
C79: 330015861 | D79: מלאי חירום חיטה | E79: 14502157
C80: 330015862 | D80: מלאי חירום מספוא | E80: 17992002
C81: 330016 | D81: היחידה לתכנון ופיתוח | E81: 0
C82: תוצאה | E82: 32494160
A83: 33060215 | B83: תמיכה במרכזי מחקר | C83: 330000 | D83: משרד החקלאות | E83: 0
C84: 330085880 | D84: תמיכה במרכזי מחקר | E84: 0
C85: 330085881 | D85: מחקר - שונות - מדען | E85: 16694000
C86: 330091666 | D86: מקצועיות מחוז הנגב | E86: 700050
C87: תוצאה | E87: 17394050
A88: 33060216 | B88: קרן המדען הראשי | C88: 330000 | D88: משרד החקלאות | E88: 0
C89: 330020666 | D89: מקצועיות שוט | E89: 0
C90: 330050 | D90: שימור קרקע | E90: 0
C91: 330051 | D91: התחנה לחקר הסחף | E91: 0
C92: 330060 | D92: שה"מ | E92: 16999.99
C93: 330060878 | D93: ניסויי שדה | E93: 1952494.4
C94: 330060881 | D94: מחקר - שונות - שה" | E94: 0
C95: 330085 | D95: מדען ראשי | E95: 503028
C96: 330085877 | D96: קרן המדען הראשי | E96: 53753069
C97: 330085881 | D97: מחקר - שונות - מדען | E97: 4824568
C98: תוצאה | E98: 61050159
A99: 33060217 | B99: מחקרים בנושא מיכון | C99: 330000 | D99: משרד החקלאות | E99: 0
C100: 330085 | D100: מדען ראשי | E100: 929770
C101: תוצאה | E101: 929770
A102: 33060221 | B102: תכנית רב שנתית למינו | C102: 330000 | D102: משרד החקלאות | E102: 0
C103: 330085879 | D103: מינוף המו"פ החקלאי | E103: 5725373
C104: תוצאה | E104: 5725373
A105: 33060280 | B105: סבסוד פרמיית ביטוח | C105: 330000 | D105: משרד החקלאות | E105: 0
C106: 330080810 | D106: ביטוח נזקי טבע | E106: 77096625
C107: 330080811 | D107: ביטוח רב סיכוני | E107: 16392761
C108: תוצאה | E108: 93489386
A109: 33060281 | B109: סבסוד ביטוח הבטחת | C109: 330000 | D109: משרד החקלאות | E109: 0
C110: 330015815 | D110: ביטוח הכנסה | E110: 7622614
C111: 330080811 | D111: ביטוח רב סיכוני | E111: 0
C112: תוצאה | E112: 7622614
A113: 33060282 | B113: סבסוד פרמיית אסונות | C113: 330000 | D113: משרד החקלאות | E113: 0
...

Sheet 2018
A1: פריט התחייבות | C1: מרכז קרנות | E1: תשלומים (ביצוע בפועל)
A2: 33060201 | B2: הסכם המים | C2: 330000 | D2: משרד החקלאות | E2: 0
C3: 330016 | D3: היחידה לתכנון ופיתוח | E3: 0
C4: 330080 | D4: מנהלת השקעות | E4: 0
C5: 330080800 | D5: תמיכות מנהלת השקעות | E5: 97785997
C6: 330086888 | D6: קדמ תוצרת טריה | E6: 0
C7: תוצאה | E7: 97785997
A8: 33060202 | B8: קידום מכירות לייצוא | C8: 330000 | D8: משרד החקלאות | E8: 0
C9: 330086 | D9: סחר חוץ | E9: 0
C10: 330086800 | D10: תמיכות שונות סחר חוץ | E10: 0
C11: 330086888 | D11: קדמ תוצרת טריה | E11: 1881158
C12: 330086889 | D12: קדמ תוצרת מעובדת | E12: 0
C13: 330086890 | D13: תמיכה בהתארגנוות ליצ | E13: 0
C14: תוצאה | E14: 1881158
A15: 33060203 | B15: מענקי השקעות | C15: 330000 | D15: משרד החקלאות | E15: 51588.81
C16: 330016834 | D16: תכ פיתוח ובניה ביוש | E16: 1711607
C17: 330080 | D17: מנהלת השקעות | E17: 228377
C18: 330080800 | D18: תמיכות מנהלת השקעות | E18: 69480
C19: 330080801 | D19: תמיכה ישי דגי בריכות | E19: 0
C20: 330080818 | D20: השקעות ברפתות | E20: 5930628
C21: 330080819 | D21: השקעות במפטמות | E21: 1574298
C22: 330080820 | D22: טיפול בפסולות צומח | E22: 3748338
C23: 330080825 | D23: החלטת 59 דרוזים וצר | E23: 1472870
C24: 330080839 | D24: תמיכות משבר הייצוא | E24: 5920317.9
C25: 330080844 | D25: השקעות חקלאות בדואים | E25: 1261532
C26: 330080847 | D26: מענקי השקעות 2025 | E26: 2475160
C27: 330080848 | D27: בתי איזה 2025 | E27: 356689
... C38: 330093872 | D38: טיפול בגדמים | E38: 688000
C39: תוצאה | E39: 42903376
A40: 33060204 | B40: השקעות מיכון חוסך כח | C40: 330000 | D40: משרד החקלאות | E40: 0
C41: 330015886 | D41: תמיכה בענפי המרעה | E41: 0
C42: 330080 | D42: מנהלת השקעות | E42: 0
C43: 330080800 | D43: תמיכות מנהלת השקעות | E43: 66000
C44: תוצאה | E44: 66000
A45: 33060205 | B45: חיזוק ופיתוח הפריפרי | C45: 330000 | D45: משרד החקלאות | E45: 0
C46: 330016817 | D46: רמהג החלטה 1170 | E46: 0
C47: 330016832 | D47: שיקום תשתיות | E47: 3508337
C48: 330016833 | D48: מענקי פיתוח הכפר | E48: 0
C49: 330080 | D49: מנהלת השקעות | E49: 0
C50: 330080817 | D50: נחלות חדשות ברמה" | E50: 4207741
C51: 330080892 | D51: מיעוטים | E51: 231730
C52: 330080895 | D52: הכשרות קרקע | E52: 6411109
C53: 330080896 | D53: גורמי יצור | E53: 1167596
C54: תוצאה | E54: 15526513
A55: 33060207 | B55: עידוד קליטת עובדים | C55: 330000 | D55: משרד החקלאות | E55: 0
C56: 330015 | D56: הרשות לתכנון כלכלי | E56: 0
C57: 330015800 | D57: תמיכות שו- גורמי יצו | E57: 92000
C58: תוצאה | E58: 92000
A59: 33060211 | B59: מענקי פיתוח הכפר | C59: 330000 | D59: משרד החקלאות | E59: 621736
C60: 330016 | D60: היחידה לתכנון ופיתוח | E60: 1509741
C61: 330016800 | D61: תמיכות פיתוח הכפר | E61: 2800754
C62: 330016828 | D62: פרוג' חקלאית 2017 | E62: 52000
C63: 330016830 | D63: שילוב התיירות | E63: 0
C64: 330016833 | D64: מענקי פיתוח הכפר | E64: 5524729
C65: 330016834 | D65: תכ פיתוח ובניה ביוש | E65: 15462597
C66: 330045666 | D66: מקצועיות תכנון מדינ | E66: 2078729
C67: 330091 | D67: מחוז הנגב | E67: 0
C68: תוצאה | E68: 28050286
A69: 33060212 | B69: מענקי שימור קרקע | C69: 330000 | D69: משרד החקלאות | E69: 0
C70: 330050 | D70: שימור קרקע | E70: 70000
C71: 330050800 | D71: תמיכות שונות ש.קרקע | E71: 9955124
C72: תוצאה | E72: 10025124
A73: 33060214 | B73: אחזקת מלאי חירום של | C73: 330000 | D73: משרד החקלאות | E73: 0
C74: 330015800 | D74: תמיכות שו- גורמי יצו | E74: 0
C75: 330015861 | D75: מלאי חירום חיטה | E75: 16890359
C76: 330015862 | D76: מלאי חירום מספוא | E76: 22490350
C77: 330016 | D77: היחידה לתכנון ופיתוח | E77: 0
C78: תוצאה | E78: 39380709
A79: 33060215 | B79: תמיכה במרכזי מחקר | C79: 330000 | D79: משרד החקלאות | E79: 0
C80: 330015862 | D80: מלאי חירום מספוא | E80: 0
C81: 330085881 | D81: מחקר - שונות - מדען | E81: 15067000
C82: 330091666 | D82: מקצועיות מחוז הנגב | E82: 1257524
C83: תוצאה | E83: 16324524
A84: 33060216 | B84: קרן המדען הראשי | C84: 330000 | D84: משרד החקלאות | E84: 0
C85: 330015862 | D85: מלאי חירום מספוא | E85: 0
C86: 330020666 | D86: מקצועיות שוט | E86: 0
C87: 330050 | D87: שימור קרקע | E87: 0
C88: 330051 | D88: התחנה לחקר הסחף | E88: 0
C89: 330060 | D89: שה"מ | E89: 0
C90: 330060878 | D90: ניסויי שדה | E90: 1875735.6
C91: 330060881 | D91: מחקר - שונות - שה" | E91: 0
C92: 330085 | D92: מדען ראשי | E92: 2816284
C93: 330085877 | D93: קרן המדען הראשי | E93: 42608233
C94: 330085881 | D94: מחקר - שונות - מדען | E94: 7623036.5
C95: תוצאה | E95: 54923289
A96: 33060217 | B96: מחקרים בנושא מיכון | C96: 330000 | D96: משרד החקלאות | E96: 0
C97: 330015862 | D97: מלאי חירום מספוא | E97: 0
C98: 330085 | D98: מדען ראשי | E98: 2000000
C99: תוצאה | E99: 2000000
A100: 33060221 | B100: תכנית רב שנתית למינו | C100: 330000 | D100: משרד החקלאות | E100: 0
C101: 330085879 | D101: מינוף המו"פ החקלאי | E101: 14495513
C102: תוצאה | E102: 14495513
A103: 33060280 | B103: סבסוד פרמיית ביטוח | C103: 330000 | D103: משרד החקלאות | E103: 0
C104: 330080810 | D104: ביטוח נזקי טבע | E104: 96620515
C105: תוצאה | E105: 96620515
A106: 33060281 | B106: סבסוד ביטוח הבטחת | C106: 330000 | D106: משרד החקלאות | E106: 0
C107: 330015815 | D107: ביטוח הכנסה | E107: 6395878
C108: תוצאה | E108: 6395878
A109: 33060282 | B109: סבסוד פרמיית אסונות | C109: 330000 | D109: משרד החקלאות | E109: 0
C110: 330015815 | D110: ביטוח הכנסה | E110: 0
...
