Workbook

Sheet ריכוז עלויות
A1: מועצה אזורית מגידו
A3: ריכוזעלויות - חוק עזר לשצ"פים
A7: במחירי 10/11
A9: מס' | B9: שם ישוב | C9: עלות בש"ח כולל העמסות
A11: 1 | B11: אלייקים | C11: =+'[1]טבלה מס'' 7 - סיכום עלויות'!$C$23 -> 620723.02
A12: 2 | B12: דליה | C12: =+'[2]טבלה מס'' 7 - סיכום עלויות'!$C$23 -> 20303020
A13: 3 | B13: יקנעם המושבה | C13: =+'[3]טבלה מס'' 7 - סיכום עלויות'!$C$23 -> 5198702.6
A14: 4 | B14: מדרך עוז | C14: =+'[4]טבלה מס'' 7 - סיכום עלויות'!$C$23 -> 14539825
A15: 5 | B15: עין העמק | C15: =+'[5]טבלה מס'' 7 - סיכום עלויות'!$C$23 -> 14987864
A16: 6 | B16: עין השופט | C16: =+'[6]טבלה מס'' 7 - סיכום עלויות'!$C$23 -> 5912965.7
A17: 7 | B17: רמות מנשה | C17: =+'[7]טבלה מס'' 7 - סיכום עלויות'!$C$23 -> 9352135
A18: 8 | B18: רמת השופט | C18: =+'[8]טבלה מס'' 7 - סיכום עלויות'!$C$23 -> 16126064
A20: 9 | B20: מבוא כרמל | C20: =+'[9]טבלה מס'' 7 - סיכום עלויות'!$C$23 -> 24952411
A21: סה"כ | C21: =SUM(C11:C20) -> 1.1199371e+08

Sheet ריכוז שטחים
A1: מועצה אזורית מגידו
A3: ריכוז שטחים - חוק עזר לשצ"פים
A7: במחירי 10/11
A9: מס' | B9: שם ישוב | C9: שטח קרקע | D9: שטח בנייה - לאחר מימוש אחוזי בנייה
C10: מ"ר | D10: מ"ר
A11: 1 | B11: אלייקים | C11: =+'[1]טבלה מס'' 8 - חישוב ההיטל'!$D$11 -> 296040 | D11: =+'[1]טבלה מס'' 8 - חישוב ההיטל'!$D$12 -> 90285.03
A12: 2 | B12: דליה | C12: =+'[2]טבלה מס'' 8 - חישוב ההיטל'!$D$11 -> 367410 | D12: =+'[2]טבלה מס'' 8 - חישוב ההיטל'!$D$12 -> 138958.74
A13: 3 | B13: יקנעם המושבה | C13: =+'[3]טבלה מס'' 8 - חישוב ההיטל'!$D$11 -> 292850 | D13: =+'[3]טבלה מס'' 8 - חישוב ההיטל'!$D$12 -> 87465.42
A14: 4 | B14: מדרך עוז | C14: =+'[4]טבלה מס'' 8 - חישוב ההיטל'!$D$11 -> 296350 | D14: =+'[4]טבלה מס'' 8 - חישוב ההיטל'!$D$12 -> 136071.09
A15: 5 | B15: עין העמק | C15: =+'[5]טבלה מס'' 8 - חישוב ההיטל'!$D$11 -> 272609 | D15: =+'[5]טבלה מס'' 8 - חישוב ההיטל'!$D$12 -> 118576.63
A16: 6 | B16: עין השופט | C16: =+'[6]טבלה מס'' 8 - חישוב ההיטל'!$D$11 -> 281880 | D16: =+'[6]טבלה מס'' 8 - חישוב ההיטל'!$D$12 -> 113592.38
A17: 7 | B17: רמות מנשה | C17: =+'[7]טבלה מס'' 8 - חישוב ההיטל'!$D$11 -> 267028 | D17: =+'[7]טבלה מס'' 8 - חישוב ההיטל'!$D$12 -> 147307.95
A18: 8 | B18: רמת השופט | C18: =+'[8]טבלה מס'' 8 - חישוב ההיטל'!$D$11 -> 188830 | D18: =+'[8]טבלה מס'' 8 - חישוב ההיטל'!$D$12 -> 78094.044
A20: 9 | B20: מבוא כרמל | C20: =+'[9]טבלה מס'' 8 - חישוב ההיטל'!$C$11 -> 342600 | D20: =+'[9]טבלה מס'' 8 - חישוב ההיטל'!$C$12 -> 223965

Sheet ריכוז תעריפים
A1: מועצה אזורית מגידו
A3: ריכוז תעריפים - חוק עזר לשצ"פים
A7: במחירי 10/11
A9: מס' | B9: שם ישוב | C9: תעריף
C10: לכל מ"ר בנייה | D10: לכל מ"ר מגרש
A11: 1 | B11: אלייקים | C11: =+'[1]טבלה מס'' 8 - חישוב ההיטל'!$C$20 -> 1.6913029 | D11: =+'[1]טבלה מס'' 8 - חישוב ההיטל'!$C$21 -> 1.6913029
A12: 2 | B12: דליה | C12: =+'[2]טבלה מס'' 8 - חישוב ההיטל'!$C$20 -> 42.205607 | D12: =+'[2]טבלה מס'' 8 - חישוב ההיטל'!$C$21 -> 42.205607
A13: 3 | B13: יקנעם המושבה | C13: =+'[3]טבלה מס'' 8 - חישוב ההיטל'!$C$20 -> 14.388895 | D13: =+'[3]טבלה מס'' 8 - חישוב ההיטל'!$C$21 -> 14.388895
A14: 4 | B14: מדרך עוז | C14: =+'[4]טבלה מס'' 8 - חישוב ההיטל'!$C$20 -> 35.393924 | D14: =+'[4]טבלה מס'' 8 - חישוב ההיטל'!$C$21 -> 35.393924
A15: 5 | B15: עין העמק | C15: =+'[5]טבלה מס'' 8 - חישוב ההיטל'!$C$20 -> 40.330468 | D15: =+'[5]טבלה מס'' 8 - חישוב ההיטל'!$C$21 -> 40.330468
A16: 6 | B16: עין השופט | C16: =+'[6]טבלה מס'' 8 - חישוב ההיטל'!$C$20 -> 15.738582 | D16: =+'[6]טבלה מס'' 8 - חישוב ההיטל'!$C$21 -> 15.738582
A17: 7 | B17: רמות מנשה | C17: =+'[7]טבלה מס'' 8 - חישוב ההיטל'!$C$20 -> 23.759349 | D17: =+'[7]טבלה מס'' 8 - חישוב ההיטל'!$C$21 -> 23.759349
A18: 8 | B18: רמת השופט | C18: =+'[8]טבלה מס'' 8 - חישוב ההיטל'!$C$20 -> 63.594137 | D18: =+'[8]טבלה מס'' 8 - חישוב ההיטל'!$C$21 -> 63.594137
A20: 9 | B20: מבוא כרמל | C20: =+'[9]טבלה מס'' 8 - חישוב ההיטל'!$C$20 -> 7.9415776 | D20: =+'[9]טבלה מס'' 8 - חישוב ההיטל'!$C$21 -> 71.474198

Sheet גיליון2

Sheet גיליון3
