Workbook
Name הצמדה: '[1]עלות מדרכה'!$G$18

Sheet שצ"פים (2)
E1: טבלה מס' 3- ריכוז שצ"פים
J3: אסמכתאות א'-ד'
A5: מספר התב"ע | B5: מס' מגרש | C5: גודל השטח האינטנסיבי במ"ר | D5: אחוז שיפוע | E5: עלות למ"ר לפי נוהל | F5: גודל עד 5,000 מ"ר | G5: גודל מ- 5,000 מ"ר עד 15,000 מ"ר | H5: גודל מ- 15,000 מ"ר | I5: סה"כ עלות לפי נוהל בש"ח | J5: עלות למ"ר עפ"י נוהל
C6: גודל השטח במ"ר
A7: מכ /448 | B7: ה1 | C7: 630 | D7: 0%-6% | E7: 478 | F7: =MIN(5000,C7) -> 630 | G7: =MIN(5000,C7-F7) -> 0 | H7: =C7-G7-F7 -> 0 | I7: =IF(H7>0,2/3*E7*C7,IF(G7>0,F7*E7+0.5*G7*E7,F7*E7)) -> 301140 | J7: =I7/C7 -> 478
B8: ה2 | C8: 2400 | D8: 0%-6% | E8: =E7 -> 478 | F8: =MIN(5000,C8) -> 2400 | G8: =MIN(5000,C8-F8) -> 0 | H8: =C8-G8-F8 -> 0 | I8: =IF(H8>0,2/3*E8*C8,IF(G8>0,F8*E8+0.5*G8*E8,F8*E8)) -> 1147200 | J8: =I8/C8 -> 478
B9: ה3 | C9: 2550 | D9: 0%-6% | E9: =E8 -> 478 | F9: =MIN(5000,C9) -> 2550 | G9: =MIN(5000,C9-F9) -> 0 | H9: =C9-G9-F9 -> 0 | I9: =IF(H9>0,2/3*E9*C9,IF(G9>0,F9*E9+0.5*G9*E9,F9*E9)) -> 1218900 | J9: =I9/C9 -> 478
B10: ה4 | C10: 2100 | D10: 0%-6% | E10: =E9 -> 478 | F10: =MIN(5000,C10) -> 2100 | G10: =MIN(5000,C10-F10) -> 0 | H10: =C10-G10-F10 -> 0 | I10: =IF(H10>0,2/3*E10*C10,IF(G10>0,F10*E10+0.5*G10*E10,F10*E10)) -> 1003800 | J10: =I10/C10 -> 478
B11: ה5 | C11: 900 | D11: 0%-6% | E11: =E10 -> 478 | F11: =MIN(5000,C11) -> 900 | G11: =MIN(5000,C11-F11) -> 0 | H11: =C11-G11-F11 -> 0 | I11: =IF(H11>0,2/3*E11*C11,IF(G11>0,F11*E11+0.5*G11*E11,F11*E11)) -> 430200 | J11: =I11/C11 -> 478
B12: 2019 | C12: 3036 | D12: 0%-6% | E12: =E11 -> 478 | F12: =MIN(5000,C12) -> 3036 | G12: =MIN(5000,C12-F12) -> 0 | H12: =C12-G12-F12 -> 0 | I12: =IF(H12>0,2/3*E12*C12,IF(G12>0,F12*E12+0.5*G12*E12,F12*E12)) -> 1451208 | J12: =I12/C12 -> 478
B13: צמוד לכביש | C13: 2956 | D13: 0%-6% | E13: =E12 -> 478 | F13: =MIN(5000,C13) -> 2956 | G13: =MIN(5000,C13-F13) -> 0 | H13: =C13-G13-F13 -> 0 | I13: =IF(H13>0,2/3*E13*C13,IF(G13>0,F13*E13+0.5*G13*E13,F13*E13)) -> 1412968 | J13: =I13/C13 -> 478
A14: מכ/518 | B14: 301 | C14: 16044 | D14: 0%-6% | E14: =E13 -> 478 | F14: =MIN(5000,C14) -> 5000 | G14: =MIN(5000,C14-F14) -> 5000 | H14: =C14-G14-F14 -> 6044 | I14: =IF(H14>0,2/3*E14*C14,IF(G14>0,F14*E14+0.5*G14*E14,F14*E14)) -> 5112688 | J14: =I14/C14 -> 318.66667
B15: 302 | C15: 3813 | D15: 0%-6% | E15: =E14 -> 478 | F15: =MIN(5000,C15) -> 3813 | G15: =MIN(5000,C15-F15) -> 0 | H15: =C15-G15-F15 -> 0 | I15: =IF(H15>0,2/3*E15*C15,IF(G15>0,F15*E15+0.5*G15*E15,F15*E15)) -> 1822614 | J15: =I15/C15 -> 478
B16: 303 | C16: 6475 | D16: 0%-6% | E16: =E15 -> 478 | F16: =MIN(5000,C16) -> 5000 | G16: =MIN(5000,C16-F16) -> 1475 | H16: =C16-G16-F16 -> 0 | I16: =IF(H16>0,2/3*E16*C16,IF(G16>0,F16*E16+0.5*G16*E16,F16*E16)) -> 2742525 | J16: =I16/C16 -> 423.55598
B17: 304 | C17: 1536 | D17: 0%-6% | E17: =E16 -> 478 | F17: =MIN(5000,C17) -> 1536 | G17: =MIN(5000,C17-F17) -> 0 | H17: =C17-G17-F17 -> 0 | I17: =IF(H17>0,2/3*E17*C17,IF(G17>0,F17*E17+0.5*G17*E17,F17*E17)) -> 734208 | J17: =I17/C17 -> 478
B18: 305 | C18: 393 | D18: 0%-6% | E18: =E17 -> 478 | F18: =MIN(5000,C18) -> 393 | G18: =MIN(5000,C18-F18) -> 0 | H18: =C18-G18-F18 -> 0 | I18: =IF(H18>0,2/3*E18*C18,IF(G18>0,F18*E18+0.5*G18*E18,F18*E18)) -> 187854 | J18: =I18/C18 -> 478
B19: 306 | C19: 1446 | D19: 0%-6% | E19: =E18 -> 478 | F19: =MIN(5000,C19) -> 1446 | G19: =MIN(5000,C19-F19) -> 0 | H19: =C19-G19-F19 -> 0 | I19: =IF(H19>0,2/3*E19*C19,IF(G19>0,F19*E19+0.5*G19*E19,F19*E19)) -> 691188 | J19: =I19/C19 -> 478
B20: 307 | C20: 551 | D20: 0%-6% | E20: =E19 -> 478 | F20: =MIN(5000,C20) -> 551 | G20: =MIN(5000,C20-F20) -> 0 | H20: =C20-G20-F20 -> 0 | I20: =IF(H20>0,2/3*E20*C20,IF(G20>0,F20*E20+0.5*G20*E20,F20*E20)) -> 263378 | J20: =I20/C20 -> 478
B21: 308 | C21: 570 | D21: 0%-6% | E21: =E20 -> 478 | F21: =MIN(5000,C21) -> 570 | G21: =MIN(5000,C21-F21) -> 0 | H21: =C21-G21-F21 -> 0 | I21: =IF(H21>0,2/3*E21*C21,IF(G21>0,F21*E21+0.5*G21*E21,F21*E21)) -> 272460 | J21: =I21/C21 -> 478
B22: 309 | C22: 4558 | D22: 0%-6% | E22: =E21 -> 478 | F22: =MIN(5000,C22) -> 4558 | G22: =MIN(5000,C22-F22) -> 0 | H22: =C22-G22-F22 -> 0 | I22: =IF(H22>0,2/3*E22*C22,IF(G22>0,F22*E22+0.5*G22*E22,F22*E22)) -> 2178724 | J22: =I22/C22 -> 478
B23: 310 | C23: 1133 | D23: 0%-6% | E23: =E22 -> 478 | F23: =MIN(5000,C23) -> 1133 | G23: =MIN(5000,C23-F23) -> 0 | H23: =C23-G23-F23 -> 0 | I23: =IF(H23>0,2/3*E23*C23,IF(G23>0,F23*E23+0.5*G23*E23,F23*E23)) -> 541574 | J23: =I23/C23 -> 478
B24: 311 | C24: 1630 | D24: 0%-6% | E24: =E23 -> 478 | F24: =MIN(5000,C24) -> 1630 | G24: =MIN(5000,C24-F24) -> 0 | H24: =C24-G24-F24 -> 0 | I24: =IF(H24>0,2/3*E24*C24,IF(G24>0,F24*E24+0.5*G24*E24,F24*E24)) -> 779140 | J24: =I24/C24 -> 478
B25: 312 | C25: 21029 | D25: 0%-6% | E25: =E24 -> 478 | F25: =MIN(5000,C25) -> 5000 | G25: =MIN(5000,C25-F25) -> 5000 | H25: =C25-G25-F25 -> 11029 | I25: =IF(H25>0,2/3*E25*C25,IF(G25>0,F25*E25+0.5*G25*E25,F25*E25)) -> 6701241.3 | J25: =I25/C25 -> 318.66667
B26: 313 | C26: 3157 | D26: 0%-6% | E26: =E25 -> 478 | F26: =MIN(5000,C26) -> 3157 | G26: =MIN(5000,C26-F26) -> 0 | H26: =C26-G26-F26 -> 0 | I26: =IF(H26>0,2/3*E26*C26,IF(G26>0,F26*E26+0.5*G26*E26,F26*E26)) -> 1509046 | J26: =I26/C26 -> 478
B27: 316 | C27: 7505 | D27: 0%-6% | E27: =E26 -> 478 | F27: =MIN(5000,C27) -> 5000 | G27: =MIN(5000,C27-F27) -> 2505 | H27: =C27-G27-F27 -> 0 | I27: =IF(H27>0,2/3*E27*C27,IF(G27>0,F27*E27+0.5*G27*E27,F27*E27)) -> 2988695 | J27: =I27/C27 -> 398.22718
A28: מכ / 331 | B28: 5 | C28: 300 | D28: 21%-30% | E28: 440 | F28: =MIN(5000,C28) -> 300 | G28: =MIN(5000,C28-F28) -> 0 | H28: =C28-G28-F28 -> 0 | I28: =IF(H28>0,2/3*E28*C28,IF(G28>0,F28*E28+0.5*G28*E28,F28*E28)) -> 132000 | J28: =I28/C28 -> 440
B29: 6 | C29: 2400 | D29: 21%-30% | E29: =E28 -> 440 | F29: =MIN(5000,C29) -> 2400 | G29: =MIN(5000,C29-F29) -> 0 | H29: =C29-G29-F29 -> 0 | I29: =IF(H29>0,2/3*E29*C29,IF(G29>0,F29*E29+0.5*G29*E29,F29*E29)) -> 1056000 | J29: =I29/C29 -> 440
B30: 14 | C30: 1300 | D30: 21%-30% | E30: =E29 -> 440 | F30: =MIN(5000,C30) -> 1300 | G30: =MIN(5000,C30-F30) -> 0 | H30: =C30-G30-F30 -> 0 | I30: =IF(H30>0,2/3*E30*C30,IF(G30>0,F30*E30+0.5*G30*E30,F30*E30)) -> 572000 | J30: =I30/C30 -> 440
B31: 25 | C31: 1900 | D31: 21%-30% | E31: =E30 -> 440 | F31: =MIN(5000,C31) -> 1900 | G31: =MIN(5000,C31-F31) -> 0 | H31: =C31-G31-F31 -> 0 | I31: =IF(H31>0,2/3*E31*C31,IF(G31>0,F31*E31+0.5*G31*E31,F31*E31)) -> 836000 | J31: =I31/C31 -> 440
B32: 40 | C32: 1200 | D32: 21%-30% | E32: =E31 -> 440 | F32: =MIN(5000,C32) -> 1200 | G32: =MIN(5000,C32-F32) -> 0 | H32: =C32-G32-F32 -> 0 | I32: =IF(H32>0,2/3*E32*C32,IF(G32>0,F32*E32+0.5*G32*E32,F32*E32)) -> 528000 | J32: =I32/C32 -> 440
A33: מכ / 298 | B33: עתיקות | C33: =E113 -> 9157.7666 | D33: 0%-6% | E33: =E7 -> 478 | F33: =MIN(5000,C33) -> 5000 | G33: =MIN(5000,C33-F33) -> 4157.7666 | H33: =C33-G33-F33 -> 0 | I33: =IF(H33>0,2/3*E33*C33,IF(G33>0,F33*E33+0.5*G33*E33,F33*E33)) -> 3383706.2 | J33: =I33/C33 -> 369.49033
B34: מגורים 24 שפותחו כשצ"פ | C34: 2153 | D34: 0%-6% | E34: =E33 -> 478 | F34: =MIN(5000,C34) -> 2153 | G34: =MIN(5000,C34-F34) -> 0 | H34: =C34-G34-F34 -> 0 | I34: =IF(H34>0,2/3*E34*C34,IF(G34>0,F34*E34+0.5*G34*E34,F34*E34)) -> 1029134 | J34: =I34/C34 -> 478
B35: מגורים 25 שפותחו כשצ"פ | C35: 2083 | D35: 0%-6% | E35: =E34 -> 478 | F35: =MIN(5000,C35) -> 2083 | G35: =MIN(5000,C35-F35) -> 0 | H35: =C35-G35-F35 -> 0 | I35: =IF(H35>0,2/3*E35*C35,IF(G35>0,F35*E35+0.5*G35*E35,F35*E35)) -> 995674 | J35: =I35/C35 -> 478
B36: בין המגרשים 42 -43 | C36: 15327 | D36: 0%-6% | E36: =E35 -> 478 | F36: =MIN(5000,C36) -> 5000 | G36: =MIN(5000,C36-F36) -> 5000 | H36: =C36-G36-F36 -> 5327 | I36: =IF(H36>0,2/3*E36*C36,IF(G36>0,F36*E36+0.5*G36*E36,F36*E36)) -> 4884204 | J36: =I36/C36 -> 318.66667
B37: 6+55+62+51 | C37: =E117 -> 4568.8504 | D37: 0%-6% | E37: =E36 -> 478 | F37: =MIN(5000,C37) -> 4568.8504 | G37: =MIN(5000,C37-F37) -> 0 | H37: =C37-G37-F37 -> 0 | I37: =IF(H37>0,2/3*E37*C37,IF(G37>0,F37*E37+0.5*G37*E37,F37*E37)) -> 2183910.5 | J37: =I37/C37 -> 478
B38: 64 | C38: =E118 -> 2111.5498 | D38: 0%-6% | E38: =E37 -> 478 | F38: =MIN(5000,C38) -> 2111.5498 | G38: =MIN(5000,C38-F38) -> 0 | H38: =C38-G38-F38 -> 0 | I38: =IF(H38>0,2/3*E38*C38,IF(G38>0,F38*E38+0.5*G38*E38,F38*E38)) -> 1009320.8 | J38: =I38/C38 -> 478
B39: 26 | C39: =E119 -> 1700.9706 | D39: 0%-6% | E39: =E38 -> 478 | F39: =MIN(5000,C39) -> 1700.9706 | G39: =MIN(5000,C39-F39) -> 0 | H39: =C39-G39-F39 -> 0 | I39: =IF(H39>0,2/3*E39*C39,IF(G39>0,F39*E39+0.5*G39*E39,F39*E39)) -> 813063.97 | J39: =I39/C39 -> 478
B40: 25 | C40: =E120 -> 1312.001 | D40: 0%-6% | E40: 478 | F40: =MIN(5000,C40) -> 1312.001 | G40: =MIN(5000,C40-F40) -> 0 | H40: =C40-G40-F40 -> 0 | I40: =IF(H40>0,2/3*E40*C40,IF(G40>0,F40*E40+0.5*G40*E40,F40*E40)) -> 627136.46 | J40: =I40/C40 -> 478
B41: 23 | C41: =E121 -> 1284.2174 | D41: 0%-6% | E41: =E40 -> 478 | F41: =MIN(5000,C41) -> 1284.2174 | G41: =MIN(5000,C41-F41) -> 0 | H41: =C41-G41-F41 -> 0 | I41: =IF(H41>0,2/3*E41*C41,IF(G41>0,F41*E41+0.5*G41*E41,F41*E41)) -> 613855.92 | J41: =I41/C41 -> 478
B42: 21 | C42: =E122 -> 2671.8514 | D42: 0%-6% | E42: =E41 -> 478 | F42: =MIN(5000,C42) -> 2671.8514 | G42: =MIN(5000,C42-F42) -> 0 | H42: =C42-G42-F42 -> 0 | I42: =IF(H42>0,2/3*E42*C42,IF(G42>0,F42*E42+0.5*G42*E42,F42*E42)) -> 1277144.9 | J42: =I42/C42 -> 478
...

Sheet שטחים 
B1: טבלה מס' 1 -שטחים
B3: מכ 448 שכ דרום ז'בוטינסקי
B5: סיווג | C5: שטח קרקע במ"ר | D5: שטח בנוי עיקרי + שירות במ"ר
B6: מגורים ב' | C6: 9760 | D6: =110%*C6 -> 10736
B7: מגורים ג' | C7: 8200 | D7: =150%*C7 -> 12300
B8: מגורים מיוחד | C8: 8100 | D8: =230%*C8 -> 18630
B9: מגורים מעורב מסחר | C9: 20493 | D9: =7365.67*230%+150%*(C9-7365.67)+2000+1000+800 -> 40432.036
B10: דיור מוגן | C10: 4300 | D10: =155%*C10 -> 6665
B11: סה"כ שטח במ"ר: | C11: =SUM(C6:C10) -> 50853 | D11: =SUM(D6:D10) -> 88763.036
B13: מתחם גלי כרמל - מכ/518
B15: סיווג | C15: שטח קרקע במ"ר | D15: שטח בנוי עיקרי + שירות במ"ר
B16: מגורים א' | C16: 32243 | D16: 21688
B17: מגורים ג' | C17: 75115 | D17: 177625
B18: מגורים מיוחד | C18: 20539 | D18: 94620
B19: מגורים מעורב מסחר | C19: =14714+2340 -> 17054 | D19: =56555+6905 -> 63460
B20: פארק עסקים | C20: 29290 | D20: =C20*150%+C20*230%+C20*220%+C20*340% -> 275326
B21: פארק עסקים - חניה | C21: 7620 | D21: 32240
B22: סה"כ שטח במ"ר: | C22: =SUM(C16:C21) -> 181861 | D22: =SUM(D16:D21) -> 664959
B24: תב"ע מכ / 331
B26: מגרש מס' | C26: אחוז בניה כולל | D26: שטח בנוי עיקרי + שירות במ"ר | E26: שטח קרקע במ"ר
B27: 1 | C27: 1 | D27: =C27*E27 -> 1300 | E27: 1300
B28: 2 | C28: 0.8 | D28: =C28*E28 -> 1200 | E28: 1500
B29: 3 | C29: 0.7 | D29: =C29*E29 -> 1190 | E29: 1700
B30: 4 | C30: 0.8 | D30: =C30*E30 -> 1200 | E30: 1500
B31: 7 | C31: 0.85 | D31: =C31*E31 -> 1190 | E31: 1400
B32: 8 | C32: 0.85 | D32: =C32*E32 -> 1190 | E32: 1400
B33: 9 | C33: 0.85 | D33: =C33*E33 -> 1190 | E33: 1400
B34: 10 | C34: 1 | D34: =C34*E34 -> 1300 | E34: 1300
B35: 11 | C35: 0.85 | D35: =C35*E35 -> 1190 | E35: 1400
B36: 12 | C36: 0.85 | D36: =C36*E36 -> 1190 | E36: 1400
B37: 13 | C37: 1 | D37: =C37*E37 -> 1300 | E37: 1300
B38: 15 | C38: 1.1 | D38: =C38*E38 -> 3300 | E38: 3000
... B55: 53 | C55: 0.85 | D55: =C55*E55 -> 11815 | E55: 13900
B56: סה"כ שטח במ"ר: | D56: =SUM(D27:D55) -> 43120 | E56: =SUM(E27:E55) -> 51700
E58: תב"ע מכ / 298
C60: מס' יח''ד | D60: שטח ליח''ד | E60: אחוז בניה כולל | F60: שטח בנוי עיקרי + שירות במ"ר | G60: שטח קרקע במ"ר
B61: מגורים א' | C61: 14 | D61: 200 | F61: =D61*C61 -> 2800 | G61: 9496
B62: מגורים ג' 1 | C62: =9*18 -> 162 | E62: 0.85 | F62: =E62*G62 -> 19212.55 | G62: 22603
A63: * | B63: מגורים ג' 2 | C63: 48 | E63: 1 | F63: =E63*G63 -> 4604 | G63: 4604
B64: מגורים ג' 3 | C64: =6*24 -> 144 | E64: 1 | F64: =E64*G64 -> 15715 | G64: 15715
...

Sheet ריכוז שטחים
B2: ריכוז שטחים לחיוב
B4: תב"ע | C4: מגורים | E4: מסחר ומשרדים | G4: סה"כ
C5: קרקע | D5: בניה | E5: קרקע | F5: בניה | G5: קרקע | H5: בניה
B6: מכ 448 שכ דרום ז'בוטינסקי | C6: ='[2]שטחים '!C11 -> 50853 | D6: ='[2]שטחים '!D11 -> 88763.036 | G6: =E6+C6 -> 50853 | H6: =F6+D6 -> 88763.036
B7: מתחם גלי כרמל - מכ/518 | C7: ='[2]שטחים '!C16+'[2]שטחים '!C17+'[2]שטחים '!C18+'[2]שטחים '!C19 -> 144951 | D7: ='[2]שטחים '!D16+'[2]שטחים '!D17+'[2]שטחים '!D18+'[2]שטחים '!D19 -> 357393 | E7: ='[2]שטחים '!C20+'[2]שטחים '!C21 -> 36910 | F7: ='[2]שטחים '!D20+'[2]שטחים '!D21 -> 307566 | G7: =C7+E7 -> 181861 | H7: =F7+D7 -> 664959
B8: מכ / 331 | C8: ='[2]שטחים '!E56 -> 51700 | D8: ='[2]שטחים '!D56 -> 43120 | G8: =C8+E8 -> 51700 | H8: =D8+F8 -> 43120
B9: מכ /298 | C9: ='[2]שטחים '!G69-'[2]שטחים '!G68 -> 61423 | D9: ='[2]שטחים '!F69-'[2]שטחים '!F68 -> 53342 | E9: ='[2]שטחים '!G68 -> 1130 | F9: ='[2]שטחים '!F68 -> 678 | G9: =C9+E9 -> 62553 | H9: =D9+F9 -> 54020
B10: החוטרים מכ/582 | C10: ='[2]שטחים '!C75+'[2]שטחים '!C76+'[2]שטחים '!C77+'[2]שטחים '!C78+'[2]שטחים '!C79+'[2]שטחים '!C80 -> 165262.67 | D10: ='[2]שטחים '!D75+'[2]שטחים '!D76+'[2]שטחים '!D77+'[2]שטחים '!D78+'[2]שטחים '!D79+'[2]שטחים '!D80 -> 410033 | E10: ='[2]שטחים '!C81+'[2]שטחים '!C82+'[2]שטחים '!C83+'[2]שטחים '!C84 -> 82422.72 | F10: ='[2]שטחים '!D81+'[2]שטחים '!D82+'[2]שטחים '!D83+'[2]שטחים '!D84 -> 253201.2 | G10: =C10+E10 -> 247685.39 | H10: =D10+F10 -> 663234.2
B11: סה"כ: | C11: =SUM(C6:C10) -> 474189.67 | D11: =SUM(D6:D10) -> 952651.04 | E11: =SUM(E6:E10) -> 120462.72 | F11: =SUM(F6:F10) -> 561445.2 | G11: =SUM(G6:G10) -> 594652.39 | H11: =SUM(H6:H10) -> 1514096.2

Sheet חישוב היטל
A2: חישוב היטל
B3: סה"כ קרקע | C3: סה"כ בנוי
B4: ='ריכוז שטחים'!G11 -> 594652.39 | C4: ='ריכוז שטחים'!H11 -> 1514096.2
B6: העמסת עלויות עקיפות
B8: אחוז | C8: סכום ₪
A9: סה"כ עלות ישירה | C9: ='שצ"פים (2)'!I110 -> 1.0448574e+08
A10: בצ"מ | B10: 0.08 | C10: =C9*B10 -> 8358859.4
A11: ניהול ופיקוח | B11: 0.08 | C11: =C9*B11 -> 8358859.4
A12: סה"כ ביניים | C12: =SUM(C9:C11) -> 1.2120346e+08
A13: מע"מ | B13: 0.17 | C13: =B13*C12 -> 20604589
A14: מימון | B14: 0.03 | C14: =SUM(C12:C13)*B14 -> 4254241.5
A15: סה"כ עלויות | C15: =SUM(C12:C14) -> 1.4606229e+08
B18: חישוב תעריף
B19: שיעורי העמסה | D19: תעריף מוצע
A20: קרקע | B20: 0.2 | C20: =B20*C15 -> 29212458 | D20: =C20/B4 -> 49.125269
A21: בנוי | B21: 0.8 | C21: =C15*B21 -> 1.1684983e+08 | D21: =C21/C4 -> 77.174641
A22: קוב לבנוי | D22: =D21/3.5 -> 22.049897

Sheet השוואה
A1: מגורים | M1: המדדים הרלוונטיים:
B2: תעריף קודם | C2: צמוד למדד | D2: מוצע | E2: פער | M2: אחוז שינוי | O2: מקדם קשר | Q2: 43040 | S2: 40179 | U2: הבסיס
A3: קרקע | B3: 36.97 | C3: =B3*$L$5 -> 39.953479 | D3: ='חישוב היטל'!D20 -> 49.125269 | E3: =D3/C3-1 -> 0.22956173 | M3: 8.07 | O3: 1.126 | Q3: 100.3 | S3: 104.5 | U3: ממוצע 2008=100.0
A4: בנוי | B4: 58.07 | C4: =B4*$L$5 -> 62.756249 | D4: ='חישוב היטל'!D21 -> 77.174641 | E4: =D4/C4-1 -> 0.22975229 | L4: =M3/100 -> 0.0807
A5: נכס אחר | L5: =L4+1 -> 1.0807
B6: תעריף קודם | C6: צמוד למדד | D6: מוצע | E6: פער
A7: קרקע | B7: 36.97 | C7: =B7*$L$5 -> 39.953479 | D7: ='חישוב היטל'!D20 -> 49.125269 | E7: =D7/C7-1 -> 0.22956173
A8: בנוי | B8: 16.59 | C8: =B8*$L$5 -> 17.928813 | D8: ='חישוב היטל'!D22 -> 22.049897 | E8: =D8/C8-1 -> 0.22985819
