Workbook
Name הצמדה: '[1]עלות מדרכה'!$G$18

Sheet שצ"פים (2)
E1: טבלה מס' 3- ריכוז שצ"פים
J3: אסמכתאות א'-ד'
A5: מספר התב"ע | B5: מס' מגרש | C5: גודל השטח האינטנסיבי במ"ר | D5: אחוז שיפוע | E5: עלות למ"ר לפי נוהל | F5: גודל עד 5,000 מ"ר | G5: גודל מ- 5,000 מ"ר עד 15,000 מ"ר | H5: גודל מ- 15,000 מ"ר | I5: סה"כ עלות לפי נוהל בש"ח | J5: עלות למ"ר עפ"י נוהל
C6: גודל השטח במ"ר
A7: מכ /448 | B7: ה1 | C7: 630 | D7: 0%-6% | E7: 478 | F7: =MIN(5000,C7) -> 630 | G7: =MIN(5000,C7-F7) -> 0 | H7: =C7-G7-F7 -> 0 | I7: =IF(H7>0,2/3*E7*C7,IF(G7>0,F7*E7+0.5*G7*E7,F7*E7)) -> 301140 | J7: =I7/C7 -> 478
B8: ה2 | C8: 2400 | D8: 0%-6% | E8: =E7 -> 478 | F8: =MIN(5000,C8) -> 2400 | G8: =MIN(5000,C8-F8) -> 0 | H8: =C8-G8-F8 -> 0 | I8: =IF(H8>0,2/3*E8*C8,IF(G8>0,F8*E8+0.5*G8*E8,F8*E8)) -> 1147200 | J8: =I8/C8 -> 478
B9: ה3 | C9: 2550 | D9: 0%-6% | E9: =E8 -> 478 | F9: =MIN(5000,C9) -> 2550 | G9: =MIN(5000,C9-F9) -> 0 | H9: =C9-G9-F9 -> 0 | I9: =IF(H9>0,2/3*E9*C9,IF(G9>0,F9*E9+0.5*G9*E9,F9*E9)) -> 1218900 | J9: =I9/C9 -> 478
B10: ה4 | C10: 2100 | D10: 0%-6% | E10: =E9 -> 478 | F10: =MIN(5000,C10) -> 2100 | G10: =MIN(5000,C10-F10) -> 0 | H10: =C10-G10-F10 -> 0 | I10: =IF(H10>0,2/3*E10*C10,IF(G10>0,F10*E10+0.5*G10*E10,F10*E10)) -> 1003800 | J10: =I10/C10 -> 478
B11: ה5 | C11: 900 | D11: 0%-6% | E11: =E10 -> 478 | F11: =MIN(5000,C11) -> 900 | G11: =MIN(5000,C11-F11) -> 0 | H11: =C11-G11-F11 -> 0 | I11: =IF(H11>0,2/3*E11*C11,IF(G11>0,F11*E11+0.5*G11*E11,F11*E11)) -> 430200 | J11: =I11/C11 -> 478
B12: 2019 | C12: 3036 | D12: 0%-6% | E12: =E11 -> 478 | F12: =MIN(5000,C12) -> 3036 | G12: =MIN(5000,C12-F12) -> 0 | H12: =C12-G12-F12 -> 0 | I12: =IF(H12>0,2/3*E12*C12,IF(G12>0,F12*E12+0.5*G12*E12,F12*E12)) -> 1451208 | J12: =I12/C12 -> 478
B13: צמוד לכביש | C13: 2956 | D13: 0%-6% | E13: =E12 -> 478 | F13: =MIN(5000,C13) -> 2956 | G13: =MIN(5000,C13-F13) -> 0 | H13: =C13-G13-F13 -> 0 | I13: =IF(H13>0,2/3*E13*C13,IF(G13>0,F13*E13+0.5*G13*E13,F13*E13)) -> 1412968 | J13: =I13/C13 -> 478
A14: מכ/518 | B14: 301 | C14: 16044 | D14: 0%-6% | E14: =E13 -> 478 | F14: =MIN(5000,C14) -> 5000 | G14: =MIN(5000,C14-F14) -> 5000 | H14: =C14-G14-F14 -> 6044 | I14: =IF(H14>0,2/3*E14*C14,IF(G14>0,F14*E14+0.5*G14*E14,F14*E14)) -> 5112688 | J14: =I14/C14 -> 318.66667
B15: 302 | C15: 3813 | D15: 0%-6% | E15: =E14 -> 478 | F15: =MIN(5000,C15) -> 3813 | G15: =MIN(5000,C15-F15) -> 0 | H15: =C15-G15-F15 -> 0 | I15: =IF(H15>0,2/3*E15*C15,IF(G15>0,F15*E15+0.5*G15*E15,F15*E15)) -> 1822614 | J15: =I15/C15 -> 478
B16: 303 | C16: 6475 | D16: 0%-6% | E16: =E15 -> 478 | F16: =MIN(5000,C16) -> 5000 | G16: =MIN(5000,C16-F16) -> 1475 | H16: =C16-G16-F16 -> 0 | I16: =IF(H16>0,2/3*E16*C16,IF(G16>0,F16*E16+0.5*G16*E16,F16*E16)) -> 2742525 | J16: =I16/C16 -> 423.55598
B17: 304 | C17: 1536 | D17: 0%-6% | E17: =E16 -> 478 | F17: =MIN(5000,C17) -> 1536 | G17: =MIN(5000,C17-F17) -> 0 | H17: =C17-G17-F17 -> 0 | I17: =IF(H17>0,2/3*E17*C17,IF(G17>0,F17*E17+0.5*G17*E17,F17*E17)) -> 734208 | J17: =I17/C17 -> 478
B18: 305 | C18: 393 | D18: 0%-6% | E18: =E17 -> 478 | F18: =MIN(5000,C18) -> 393 | G18: =MIN(5000,C18-F18) -> 0 | H18: =C18-G18-F18 -> 0 | I18: =IF(H18>0,2/3*E18*C18,IF(G18>0,F18*E18+0.5*G18*E18,F18*E18)) -> 187854 | J18: =I18/C18 -> 478
B19: 306 | C19: 1446 | D19: 0%-6% | E19: =E18 -> 478 | F19: =MIN(5000,C19) -> 1446 | G19: =MIN(5000,C19-F19) -> 0 | H19: =C19-G19-F19 -> 0 | I19: =IF(H19>0,2/3*E19*C19,IF(G19>0,F19*E19+0.5*G19*E19,F19*E19)) -> 691188 | J19: =I19/C19 -> 478
B20: 307 | C20: 551 | D20: 0%-6% | E20: =E19 -> 478 | F20: =MIN(5000,C20) -> 551 | G20: =MIN(5000,C20-F20) -> 0 | H20: =C20-G20-F20 -> 0 | I20: =IF(H20>0,2/3*E20*C20,IF(G20>0,F20*E20+0.5*G20*E20,F20*E20)) -> 263378 | J20: =I20/C20 -> 478
B21: 308 | C21: 570 | D21: 0%-6% | E21: =E20 -> 478 | F21: =MIN(5000,C21) -> 570 | G21: =MIN(5000,C21-F21) -> 0 | H21: =C21-G21-F21 -> 0 | I21: =IF(H21>0,2/3*E21*C21,IF(G21>0,F21*E21+0.5*G21*E21,F21*E21)) -> 272460 | J21: =I21/C21 -> 478
B22: 309 | C22: 4558 | D22: 0%-6% | E22: =E21 -> 478 | F22: =MIN(5000,C22) -> 4558 | G22: =MIN(5000,C22-F22) -> 0 | H22: =C22-G22-F22 -> 0 | I22: =IF(H22>0,2/3*E22*C22,IF(G22>0,F22*E22+0.5*G22*E22,F22*E22)) -> 2178724 | J22: =I22/C22 -> 478
B23: 310 | C23: 1133 | D23: 0%-6% | E23: =E22 -> 478 | F23: =MIN(5000,C23) -> 1133 | G23: =MIN(5000,C23-F23) -> 0 | H23: =C23-G23-F23 -> 0 | I23: =IF(H23>0,2/3*E23*C23,IF(G23>0,F23*E23+0.5*G23*E23,F23*E23)) -> 541574 | J23: =I23/C23 -> 478
B24: 311 | C24: 1630 | D24: 0%-6% | E24: =E23 -> 478 | F24: =MIN(5000,C24) -> 1630 | G24: =MIN(5000,C24-F24) -> 0 | H24: =C24-G24-F24 -> 0 | I24: =IF(H24>0,2/3*E24*C24,IF(G24>0,F24*E24+0.5*G24*E24,F24*E24)) -> 779140 | J24: =I24/C24 -> 478
B25: 312 | C25: 21029 | D25: 0%-6% | E25: =E24 -> 478 | F25: =MIN(5000,C25) -> 5000 | G25: =MIN(5000,C25-F25) -> 5000 | H25: =C25-G25-F25 -> 11029 | I25: =IF(H25>0,2/3*E25*C25,IF(G25>0,F25*E25+0.5*G25*E25,F25*E25)) -> 6701241.3 | J25: =I25/C25 -> 318.66667
B26: 313 | C26: 3157 | D26: 0%-6% | E26: =E25 -> 478 | F26: =MIN(5000,C26) -> 3157 | G26: =MIN(5000,C26-F26) -> 0 | H26: =C26-G26-F26 -> 0 | I26: =IF(H26>0,2/3*E26*C26,IF(G26>0,F26*E26+0.5*G26*E26,F26*E26)) -> 1509046 | J26: =I26/C26 -> 478
B27: 316 | C27: 7505 | D27: 0%-6% | E27: =E26 -> 478 | F27: =MIN(5000,C27) -> 5000 | G27: =MIN(5000,C27-F27) -> 2505 | H27: =C27-G27-F27 -> 0 | I27: =IF(H27>0,2/3*E27*C27,IF(G27>0,F27*E27+0.5*G27*E27,F27*E27)) -> 2988695 | J27: =I27/C27 -> 398.22718
A28: מכ / 331 | B28: 5 | C28: 300 | D28: 21%-30% | E28: 440 | F28: =MIN(5000,C28) -> 300 | G28: =MIN(5000,C28-F28) -> 0 | H28: =C28-G28-F28 -> 0 | I28: =IF(H28>0,2/3*E28*C28,IF(G28>0,F28*E28+0.5*G28*E28,F28*E28)) -> 132000 | J28: =I28/C28 -> 440
B29: 6 | C29: 2400 | D29: 21%-30% | E29: =E28 -> 440 | F29: =MIN(5000,C29) -> 2400 | G29: =MIN(5000,C29-F29) -> 0 | H29: =C29-G29-F29 -> 0 | I29: =IF(H29>0,2/3*E29*C29,IF(G29>0,F29*E29+0.5*G29*E29,F29*E29)) -> 1056000 | J29: =I29/C29 -> 440
B30: 14 | C30: 1300 | D30: 21%-30% | E30: =E29 -> 440 | F30: =MIN(5000,C30) -> 1300 | G30: =MIN(5000,C30-F30) -> 0 | H30: =C30-G30-F30 -> 0 | I30: =IF(H30>0,2/3*E30*C30,IF(G30>0,F30*E30+0.5*G30*E30,F30*E30)) -> 572000 | J30: =I30/C30 -> 440
B31: 25 | C31: 1900 | D31: 21%-30% | E31: =E30 -> 440 | F31: =MIN(5000,C31) -> 1900 | G31: =MIN(5000,C31-F31) -> 0 | H31: =C31-G31-F31 -> 0 | I31: =IF(H31>0,2/3*E31*C31,IF(G31>0,F31*E31+0.5*G31*E31,F31*E31)) -> 836000 | J31: =I31/C31 -> 440
B32: 40 | C32: 1200 | D32: 21%-30% | E32: =E31 -> 440 | F32: =MIN(5000,C32) -> 1200 | G32: =MIN(5000,C32-F32) -> 0 | H32: =C32-G32-F32 -> 0 | I32: =IF(H32>0,2/3*E32*C32,IF(G32>0,F32*E32+0.5*G32*E32,F32*E32)) -> 528000 | J32: =I32/C32 -> 440
A33: מכ / 298 | B33: עתיקות | C33: =E113 -> 9157.7666 | D33: 0%-6% | E33: =E7 -> 478 | F33: =MIN(5000,C33) -> 5000 | G33: =MIN(5000,C33-F33) -> 4157.7666 | H33: =C33-G33-F33 -> 0 | I33: =IF(H33>0,2/3*E33*C33,IF(G33>0,F33*E33+0.5*G33*E33,F33*E33)) -> 3383706.2 | J33: =I33/C33 -> 369.49033
B34: מגורים 24 שפותחו כשצ"פ | C34: 2153 | D34: 0%-6% | E34: =E33 -> 478 | F34: =MIN(5000,C34) -> 2153 | G34: =MIN(5000,C34-F34) -> 0 | H34: =C34-G34-F34 -> 0 | I34: =IF(H34>0,2/3*E34*C34,IF(G34>0,F34*E34+0.5*G34*E34,F34*E34)) -> 1029134 | J34: =I34/C34 -> 478
B35: מגורים 25 שפותחו כשצ"פ | C35: 2083 | D35: 0%-6% | E35: =E34 -> 478 | F35: =MIN(5000,C35) -> 2083 | G35: =MIN(5000,C35-F35) -> 0 | H35: =C35-G35-F35 -> 0 | I35: =IF(H35>0,2/3*E35*C35,IF(G35>0,F35*E35+0.5*G35*E35,F35*E35)) -> 995674 | J35: =I35/C35 -> 478
B36: בין המגרשים 42 -43 | C36: 15327 | D36: 0%-6% | E36: =E35 -> 478 | F36: =MIN(5000,C36) -> 5000 | G36: =MIN(5000,C36-F36) -> 5000 | H36: =C36-G36-F36 -> 5327 | I36: =IF(H36>0,2/3*E36*C36,IF(G36>0,F36*E36+0.5*G36*E36,F36*E36)) -> 4884204 | J36: =I36/C36 -> 318.66667
B37: 6+55+62+51 | C37: =E117 -> 4568.8504 | D37: 0%-6% | E37: =E36 -> 478 | F37: =MIN(5000,C37) -> 4568.8504 | G37: =MIN(5000,C37-F37) -> 0 | H37: =C37-G37-F37 -> 0 | I37: =IF(H37>0,2/3*E37*C37,IF(G37>0,F37*E37+0.5*G37*E37,F37*E37)) -> 2183910.5 | J37: =I37/C37 -> 478
B38: 64 | C38: =E118 -> 2111.5498 | D38: 0%-6% | E38: =E37 -> 478 | F38: =MIN(5000,C38) -> 2111.5498 | G38: =MIN(5000,C38-F38) -> 0 | H38: =C38-G38-F38 -> 0 | I38: =IF(H38>0,2/3*E38*C38,IF(G38>0,F38*E38+0.5*G38*E38,F38*E38)) -> 1009320.8 | J38: =I38/C38 -> 478
B39: 26 | C39: =E119 -> 1700.9706 | D39: 0%-6% | E39: =E38 -> 478 | F39: =MIN(5000,C39) -> 1700.9706 | G39: =MIN(5000,C39-F39) -> 0 | H39: =C39-G39-F39 -> 0 | I39: =IF(H39>0,2/3*E39*C39,IF(G39>0,F39*E39+0.5*G39*E39,F39*E39)) -> 813063.97 | J39: =I39/C39 -> 478
B40: 25 | C40: =E120 -> 1312.001 | D40: 0%-6% | E40: 478 | F40: =MIN(5000,C40) -> 1312.001 | G40: =MIN(5000,C40-F40) -> 0 | H40: =C40-G40-F40 -> 0 | I40: =IF(H40>0,2/3*E40*C40,IF(G40>0,F40*E40+0.5*G40*E40,F40*E40)) -> 627136.46 | J40: =I40/C40 -> 478
B41: 23 | C41: =E121 -> 1284.2174 | D41: 0%-6% | E41: =E40 -> 478 | F41: =MIN(5000,C41) -> 1284.2174 | G41: =MIN(5000,C41-F41) -> 0 | H41: =C41-G41-F41 -> 0 | I41: =IF(H41>0,2/3*E41*C41,IF(G41>0,F41*E41+0.5*G41*E41,F41*E41)) -> 613855.92 | J41: =I41/C41 -> 478
B42: 21 | C42: =E122 -> 2671.8514 | D42: 0%-6% | E42: =E41 -> 478 | F42: =MIN(5000,C42) -> 2671.8514 | G42: =MIN(5000,C42-F42) -> 0 | H42: =C42-G42-F42 -> 0 | I42: =IF(H42>0,2/3*E42*C42,IF(G42>0,F42*E42+0.5*G42*E42,F42*E42)) -> 1277144.9 | J42: =I42/C42 -> 478
B43: 20 | C43: =E123 -> 679.15343 | D43: 0%-6% | E43: =E42 -> 478 | F43: =MIN(5000,C43) -> 679.15343 | G43: =MIN(5000,C43-F43) -> 0 | H43: =C43-G43-F43 -> 0 | I43: =IF(H43>0,2/3*E43*C43,IF(G43>0,F43*E43+0.5*G43*E43,F43*E43)) -> 324635.34 | J43: =I43/C43 -> 478
B44: 66+16+17 | C44: =E124 -> 5748.1077 | D44: 0%-6% | E44: =E43 -> 478 | F44: =MIN(5000,C44) -> 5000 | G44: =MIN(5000,C44-F44) -> 748.1077 | H44: =C44-G44-F44 -> 0 | I44: =IF(H44>0,2/3*E44*C44,IF(G44>0,F44*E44+0.5*G44*E44,F44*E44)) -> 2568797.7 | J44: =I44/C44 -> 446.8945
B45: 86 | C45: =E125 -> 4500.935 | D45: 0%-6% | E45: =E44 -> 478 | F45: =MIN(5000,C45) -> 4500.935 | G45: =MIN(5000,C45-F45) -> 0 | H45: =C45-G45-F45 -> 0 | I45: =IF(H45>0,2/3*E45*C45,IF(G45>0,F45*E45+0.5*G45*E45,F45*E45)) -> 2151446.9 | J45: =I45/C45 -> 478
B46: 90+63 | C46: =E126 -> 9075.9595 | D46: 0%-6% | E46: =E45 -> 478 | F46: =MIN(5000,C46) -> 5000 | G46: =MIN(5000,C46-F46) -> 4075.9595 | H46: =C46-G46-F46 -> 0 | I46: =IF(H46>0,2/3*E46*C46,IF(G46>0,F46*E46+0.5*G46*E46,F46*E46)) -> 3364154.3 | J46: =I46/C46 -> 370.66652
B47: 88 | C47: =E127 -> 918.40067 | D47: 0%-6% | E47: =E46 -> 478 | F47: =MIN(5000,C47) -> 918.40067 | G47: =MIN(5000,C47-F47) -> 0 | H47: =C47-G47-F47 -> 0 | I47: =IF(H47>0,2/3*E47*C47,IF(G47>0,F47*E47+0.5*G47*E47,F47*E47)) -> 438995.52 | J47: =I47/C47 -> 478
B48: 89 | C48: =E128 -> 1543.5305 | D48: 0%-6% | E48: =E47 -> 478 | F48: =MIN(5000,C48) -> 1543.5305 | G48: =MIN(5000,C48-F48) -> 0 | H48: =C48-G48-F48 -> 0 | I48: =IF(H48>0,2/3*E48*C48,IF(G48>0,F48*E48+0.5*G48*E48,F48*E48)) -> 737807.59 | J48: =I48/C48 -> 478
A49: מכ/582 | B49: 6003 | C49: 471.72845 | D49: 0%-6% | E49: =E48 -> 478 | F49: =MIN(5000,C49) -> 471.72845 | G49: =MIN(5000,C49-F49) -> 0 | H49: =C49-G49-F49 -> 0 | I49: =IF(H49>0,2/3*E49*C49,IF(G49>0,F49*E49+0.5*G49*E49,F49*E49)) -> 225486.2 | J49: =I49/C49 -> 478
B50: 6004 | C50: 438.1459 | D50: 0%-6% | E50: =E49 -> 478 | F50: =MIN(5000,C50) -> 438.1459 | G50: =MIN(5000,C50-F50) -> 0 | H50: =C50-G50-F50 -> 0 | I50: =IF(H50>0,2/3*E50*C50,IF(G50>0,F50*E50+0.5*G50*E50,F50*E50)) -> 209433.74 | J50: =I50/C50 -> 478
B51: 6005 | C51: 436.61515 | D51: 0%-6% | E51: =E50 -> 478 | F51: =MIN(5000,C51) -> 436.61515 | G51: =MIN(5000,C51-F51) -> 0 | H51: =C51-G51-F51 -> 0 | I51: =IF(H51>0,2/3*E51*C51,IF(G51>0,F51*E51+0.5*G51*E51,F51*E51)) -> 208702.04 | J51: =I51/C51 -> 478
B52: 6006 | C52: 897.99904 | D52: 0%-6% | E52: =E51 -> 478 | F52: =MIN(5000,C52) -> 897.99904 | G52: =MIN(5000,C52-F52) -> 0 | H52: =C52-G52-F52 -> 0 | I52: =IF(H52>0,2/3*E52*C52,IF(G52>0,F52*E52+0.5*G52*E52,F52*E52)) -> 429243.54 | J52: =I52/C52 -> 478
B53: 6007 | C53: 1751.8536 | D53: 0%-6% | E53: =E52 -> 478 | F53: =MIN(5000,C53) -> 1751.8536 | G53: =MIN(5000,C53-F53) -> 0 | H53: =C53-G53-F53 -> 0 | I53: =IF(H53>0,2/3*E53*C53,IF(G53>0,F53*E53+0.5*G53*E53,F53*E53)) -> 837386.03 | J53: =I53/C53 -> 478
B54: 6008 | C54: 1271.0343 | D54: 0%-6% | E54: =E53 -> 478 | F54: =MIN(5000,C54) -> 1271.0343 | G54: =MIN(5000,C54-F54) -> 0 | H54: =C54-G54-F54 -> 0 | I54: =IF(H54>0,2/3*E54*C54,IF(G54>0,F54*E54+0.5*G54*E54,F54*E54)) -> 607554.38 | J54: =I54/C54 -> 478
B55: 6009 | C55: 532.5117 | D55: 0%-6% | E55: =E54 -> 478 | F55: =MIN(5000,C55) -> 532.5117 | G55: =MIN(5000,C55-F55) -> 0 | H55: =C55-G55-F55 -> 0 | I55: =IF(H55>0,2/3*E55*C55,IF(G55>0,F55*E55+0.5*G55*E55,F55*E55)) -> 254540.59 | J55: =I55/C55 -> 478
B56: 6010 | C56: 5068.505 | D56: 0%-6% | E56: =E55 -> 478 | F56: =MIN(5000,C56) -> 5000 | G56: =MIN(5000,C56-F56) -> 68.505012 | H56: =C56-G56-F56 -> 0 | I56: =IF(H56>0,2/3*E56*C56,IF(G56>0,F56*E56+0.5*G56*E56,F56*E56)) -> 2406372.7 | J56: =I56/C56 -> 474.76972
B57: 6011 | C57: 672.4328 | D57: 0%-6% | E57: =E56 -> 478 | F57: =MIN(5000,C57) -> 672.4328 | G57: =MIN(5000,C57-F57) -> 0 | H57: =C57-G57-F57 -> 0 | I57: =IF(H57>0,2/3*E57*C57,IF(G57>0,F57*E57+0.5*G57*E57,F57*E57)) -> 321422.88 | J57: =I57/C57 -> 478
B58: 6012 | C58: 1136.8727 | D58: 0%-6% | E58: =E57 -> 478 | F58: =MIN(5000,C58) -> 1136.8727 | G58: =MIN(5000,C58-F58) -> 0 | H58: =C58-G58-F58 -> 0 | I58: =IF(H58>0,2/3*E58*C58,IF(G58>0,F58*E58+0.5*G58*E58,F58*E58)) -> 543425.14 | J58: =I58/C58 -> 478
B59: 6013 | C59: 2303.7051 | D59: 0%-6% | E59: =E58 -> 478 | F59: =MIN(5000,C59) -> 2303.7051 | G59: =MIN(5000,C59-F59) -> 0 | H59: =C59-G59-F59 -> 0 | I59: =IF(H59>0,2/3*E59*C59,IF(G59>0,F59*E59+0.5*G59*E59,F59*E59)) -> 1101171 | J59: =I59/C59 -> 478
B60: 6014 | C60: 1036.3506 | D60: 0%-6% | E60: =E59 -> 478 | F60: =MIN(5000,C60) -> 1036.3506 | G60: =MIN(5000,C60-F60) -> 0 | H60: =C60-G60-F60 -> 0 | I60: =IF(H60>0,2/3*E60*C60,IF(G60>0,F60*E60+0.5*G60*E60,F60*E60)) -> 495375.59 | J60: =I60/C60 -> 478
B61: 6015 | C61: 444.03846 | D61: 0%-6% | E61: =E60 -> 478 | F61: =MIN(5000,C61) -> 444.03846 | G61: =MIN(5000,C61-F61) -> 0 | H61: =C61-G61-F61 -> 0 | I61: =IF(H61>0,2/3*E61*C61,IF(G61>0,F61*E61+0.5*G61*E61,F61*E61)) -> 212250.38 | J61: =I61/C61 -> 478
... B100: 6057 | C100: 151.1995 | D100: 0%-6% | E100: =E99 -> 478 | F100: =MIN(5000,C100) -> 151.1995 | G100: =MIN(5000,C100-F100) -> 0 | H100: =C100-G100-F100 -> 0 | I100: =IF(H100>0,2/3*E100*C100,IF(G100>0,F100*E100+0.5*G100*E100,F100*E100)) -> 72273.361 | J100: =I100/C100 -> 478
B101: 9002A | C101: 1818.0961 | D101: 0%-6% | E101: =E100 -> 478 | F101: =MIN(5000,C101) -> 1818.0961 | G101: =MIN(5000,C101-F101) -> 0 | H101: =C101-G101-F101 -> 0 | I101: =IF(H101>0,2/3*E101*C101,IF(G101>0,F101*E101+0.5*G101*E101,F101*E101)) -> 869049.94 | J101: =I101/C101 -> 478
B102: 7001 | C102: 25421.752 | D102: 0%-6% | E102: =E101 -> 478 | F102: =MIN(5000,C102) -> 5000 | G102: =MIN(5000,C102-F102) -> 5000 | H102: =C102-G102-F102 -> 15421.752 | I102: =IF(H102>0,2/3*E102*C102,IF(G102>0,F102*E102+0.5*G102*E102,F102*E102)) -> 8101065 | J102: =I102/C102 -> 318.66667
B103: 7002 | C103: 20392.237 | D103: 0%-6% | E103: =E102 -> 478 | F103: =MIN(5000,C103) -> 5000 | G103: =MIN(5000,C103-F103) -> 5000 | H103: =C103-G103-F103 -> 10392.237 | I103: =IF(H103>0,2/3*E103*C103,IF(G103>0,F103*E103+0.5*G103*E103,F103*E103)) -> 6498326.1 | J103: =I103/C103 -> 318.66667
B104: 7003 | C104: 5031.2013 | D104: 0%-6% | E104: =E103 -> 478 | F104: =MIN(5000,C104) -> 5000 | G104: =MIN(5000,C104-F104) -> 31.2013 | H104: =C104-G104-F104 -> 0 | I104: =IF(H104>0,2/3*E104*C104,IF(G104>0,F104*E104+0.5*G104*E104,F104*E104)) -> 2397457.1 | J104: =I104/C104 -> 476.51783
B105: 7004 | C105: 1001.1745 | D105: 0%-6% | E105: =E104 -> 478 | F105: =MIN(5000,C105) -> 1001.1745 | G105: =MIN(5000,C105-F105) -> 0 | H105: =C105-G105-F105 -> 0 | I105: =IF(H105>0,2/3*E105*C105,IF(G105>0,F105*E105+0.5*G105*E105,F105*E105)) -> 478561.41 | J105: =I105/C105 -> 478
B106: 7005 | C106: 717.8549 | D106: 0%-6% | E106: =E105 -> 478 | F106: =MIN(5000,C106) -> 717.8549 | G106: =MIN(5000,C106-F106) -> 0 | H106: =C106-G106-F106 -> 0 | I106: =IF(H106>0,2/3*E106*C106,IF(G106>0,F106*E106+0.5*G106*E106,F106*E106)) -> 343134.64 | J106: =I106/C106 -> 478
B107: 7006 | C107: 1418.6406 | D107: 0%-6% | E107: =E106 -> 478 | F107: =MIN(5000,C107) -> 1418.6406 | G107: =MIN(5000,C107-F107) -> 0 | H107: =C107-G107-F107 -> 0 | I107: =IF(H107>0,2/3*E107*C107,IF(G107>0,F107*E107+0.5*G107*E107,F107*E107)) -> 678110.18 | J107: =I107/C107 -> 478
B108: 7007 | C108: 1677.0893 | D108: 0%-6% | E108: =E107 -> 478 | F108: =MIN(5000,C108) -> 1677.0893 | G108: =MIN(5000,C108-F108) -> 0 | H108: =C108-G108-F108 -> 0 | I108: =IF(H108>0,2/3*E108*C108,IF(G108>0,F108*E108+0.5*G108*E108,F108*E108)) -> 801648.69 | J108: =I108/C108 -> 478
B109: סה"כ שצ"פים בתב"עות | C109: =SUM(C7:C108) -> 329874.27 | I109: =SUM(I7:I108) -> 1.3060718e+08
B110: תיחור 20% | I110: =I109*0.8 -> 1.0448574e+08
E112: 64836
C113: 59.33 | D113: =C113/$C$129 -> 0.14124509 | E113: =D113*$E$112 -> 9157.7666 | F113: 1
C114: 12.5 | D114: =C114/$C$129 -> 0.029758362 | E114: =D114*$E$112 -> 1929.4132 | F114: 2
C115: 16.2 | D115: =C115/$C$129 -> 0.038566837 | E115: =D115*$E$112 -> 2500.5195 | F115: 3
C116: 98.04 | D116: =C116/$C$129 -> 0.23340079 | E116: =D116*$E$112 -> 15132.773 | F116: 4
C117: 29.6 | D117: =C117/$C$129 -> 0.070467801 | E117: =D117*$E$112 -> 4568.8504 | F117: 5
C118: 13.68 | D118: =C118/$C$129 -> 0.032567551 | E118: =D118*$E$112 -> 2111.5498 | F118: 6
C119: 11.02 | D119: =C119/$C$129 -> 0.026234972 | E119: =D119*$E$112 -> 1700.9706 | F119: 7
C120: 8.5 | D120: =C120/$C$129 -> 0.020235686 | E120: =D120*$E$112 -> 1312.001 | F120: 8
C121: 8.32 | D121: =C121/$C$129 -> 0.019807166 | E121: =D121*$E$112 -> 1284.2174 | F121: 9
C122: 17.31 | D122: =C122/$C$129 -> 0.04120938 | E122: =D122*$E$112 -> 2671.8514 | F122: 10
C123: 4.4 | D123: =C123/$C$129 -> 0.010474943 | E123: =D123*$E$112 -> 679.15343 | F123: 11
C124: 37.24 | D124: =C124/$C$129 -> 0.088656112 | E124: =D124*$E$112 -> 5748.1077 | F124: 12
... C128: 10 | D128: =C128/$C$129 -> 0.02380669 | E128: =D128*$E$112 -> 1543.5305 | F128: 16
C129: =SUM(C113:C128) -> 420.05 | D129: =C129/$C$129 -> 1 | E129: =SUM(E113:E128) -> 64836

Sheet שטחים 
B1: טבלה מס' 1 -שטחים
B3: מכ 448 שכ דרום ז'בוטינסקי
B5: סיווג | C5: שטח קרקע במ"ר | D5: שטח בנוי עיקרי + שירות במ"ר
B6: מגורים ב' | C6: 9760 | D6: =110%*C6 -> 10736
B7: מגורים ג' | C7: 8200 | D7: =150%*C7 -> 12300
B8: מגורים מיוחד | C8: 8100 | D8: =230%*C8 -> 18630
B9: מגורים מעורב מסחר | C9: 20493 | D9: =7365.67*230%+150%*(C9-7365.67)+2000+1000+800 -> 40432.036
B10: דיור מוגן | C10: 4300 | D10: =155%*C10 -> 6665
B11: סה"כ שטח במ"ר: | C11: =SUM(C6:C10) -> 50853 | D11: =SUM(D6:D10) -> 88763.036
B13: מתחם גלי כרמל - מכ/518
B15: סיווג | C15: שטח קרקע במ"ר | D15: שטח בנוי עיקרי + שירות במ"ר
B16: מגורים א' | C16: 32243 | D16: 21688
B17: מגורים ג' | C17: 75115 | D17: 177625
B18: מגורים מיוחד | C18: 20539 | D18: 94620
B19: מגורים מעורב מסחר | C19: =14714+2340 -> 17054 | D19: =56555+6905 -> 63460
B20: פארק עסקים | C20: 29290 | D20: =C20*150%+C20*230%+C20*220%+C20*340% -> 275326
B21: פארק עסקים - חניה | C21: 7620 | D21: 32240
B22: סה"כ שטח במ"ר: | C22: =SUM(C16:C21) -> 181861 | D22: =SUM(D16:D21) -> 664959
B24: תב"ע מכ / 331
B26: מגרש מס' | C26: אחוז בניה כולל | D26: שטח בנוי עיקרי + שירות במ"ר | E26: שטח קרקע במ"ר
B27: 1 | C27: 1 | D27: =C27*E27 -> 1300 | E27: 1300
B28: 2 | C28: 0.8 | D28: =C28*E28 -> 1200 | E28: 1500
B29: 3 | C29: 0.7 | D29: =C29*E29 -> 1190 | E29: 1700
B30: 4 | C30: 0.8 | D30: =C30*E30 -> 1200 | E30: 1500
B31: 7 | C31: 0.85 | D31: =C31*E31 -> 1190 | E31: 1400
B32: 8 | C32: 0.85 | D32: =C32*E32 -> 1190 | E32: 1400
B33: 9 | C33: 0.85 | D33: =C33*E33 -> 1190 | E33: 1400
B34: 10 | C34: 1 | D34: =C34*E34 -> 1300 | E34: 1300
B35: 11 | C35: 0.85 | D35: =C35*E35 -> 1190 | E35: 1400
B36: 12 | C36: 0.85 | D36: =C36*E36 -> 1190 | E36: 1400
B37: 13 | C37: 1 | D37: =C37*E37 -> 1300 | E37: 1300
B38: 15 | C38: 1.1 | D38: =C38*E38 -> 3300 | E38: 3000
... B55: 53 | C55: 0.85 | D55: =C55*E55 -> 11815 | E55: 13900
B56: סה"כ שטח במ"ר: | D56: =SUM(D27:D55) -> 43120 | E56: =SUM(E27:E55) -> 51700
E58: תב"ע מכ / 298
C60: מס' יח''ד | D60: שטח ליח''ד | E60: אחוז בניה כולל | F60: שטח בנוי עיקרי + שירות במ"ר | G60: שטח קרקע במ"ר
B61: מגורים א' | C61: 14 | D61: 200 | F61: =D61*C61 -> 2800 | G61: 9496
B62: מגורים ג' 1 | C62: =9*18 -> 162 | E62: 0.85 | F62: =E62*G62 -> 19212.55 | G62: 22603
A63: * | B63: מגורים ג' 2 | C63: 48 | E63: 1 | F63: =E63*G63 -> 4604 | G63: 4604
B64: מגורים ג' 3 | C64: =6*24 -> 144 | E64: 1 | F64: =E64*G64 -> 15715 | G64: 15715
B65: מגורים מיוחד | C65: 34 | E65: 1.25 | F65: =E65*G65 -> 3113.75 | G65: 2491
C66: 34 | E66: 1.55 | F66: =E66*G66 -> 3896.7 | G66: 2514
C67: 40 | E67: 1 | F67: =E67*G67 -> 4000 | G67: 4000
B68: שטח מסחרי | E68: 0.6 | F68: =E68*G68 -> 678 | G68: 1130
B69: סה"כ שטח במ"ר: | F69: =SUM(F61:F68) -> 54020 | G69: =SUM(G61:G68) -> 62553
A70: * | B70: המגרשים 24 ו- 25 למגורים נפסלו ע"י רשות עתיקות ויהפכו לפארק.
B72: מכ/582
B74: סיווג | C74: שטח קרקע למ"ר | D74: שטח בנוי במ"ר | E74: אחוזי בנייה
B75: מגורים א' | C75: 8581.15 | D75: =9443-3*497 -> 7952 | E75: =D75/C75 -> 0.92668232
B76: מגורים ב' | C76: 105525.75 | D76: =195750-11810 -> 183940 | E76: =D76/C76 -> 1.7430817
B77: מגורים ב' 1 | C77: 1322.72 | D77: =3*497 -> 1491 | E77: =D77/C77 -> 1.1272227
B78: מגורים ג' | C78: 5864.25 | D78: 11810 | E78: =D78/C78 -> 2.0138978
B79: מגורים ד' 1 | C79: 16093.65 | D79: =13984+13984+12660 -> 40628 | E79: =D79/C79 -> 2.5244739 | F79: =SUM(D75:D80)/SUM(C75:C80) -> 2.4810987
B80: מגוריס ד' 2 | C80: 27875.15 | D80: =204840-D79 -> 164212 | E80: =D80/C80 -> 5.8909818
B81: תעסוקה | C81: 47686.94 | D81: 232669 | E81: =D81/C81 -> 4.8790927
B82: מסחר | C82: 5392.34 | D82: 2960 | E82: =D82/C82 -> 0.54892681
B83: ספורט ונופש | C83: 21084.51 | D83: 1054.2 | E83: =D83/C83 -> 0.049998791
B84: מסחר ותחבורה | C84: 8258.93 | D84: 16518 | E84: =D84/C84 -> 2.000017
B85: סה"כ שטח במ"ר: | C85: =SUM(C75:C84) -> 247685.39 | D85: =SUM(D75:D84) -> 663234.2
B89: ???? | C89: סיווג | D89: קרקע במ"ר | E89: שטח בנוי
C90: חד משפחתי | D90: 17990 | E90: =164%*D90 -> 29503.6
C91: דו משפחתי | D91: 107610 | E91: =164%*D91 -> 176480.4
C92: מסחרי | D92: 4490 | E92: 3220
C93: סה"כ | D93: =SUM(D90:D92) -> 130090 | E93: =SUM(E90:E92) -> 209204

Sheet ריכוז שטחים
B2: ריכוז שטחים לחיוב
B4: תב"ע | C4: מגורים | E4: מסחר ומשרדים | G4: סה"כ
C5: קרקע | D5: בניה | E5: קרקע | F5: בניה | G5: קרקע | H5: בניה
B6: מכ 448 שכ דרום ז'בוטינסקי | C6: ='[2]שטחים '!C11 -> 50853 | D6: ='[2]שטחים '!D11 -> 88763.036 | G6: =E6+C6 -> 50853 | H6: =F6+D6 -> 88763.036
B7: מתחם גלי כרמל - מכ/518 | C7: ='[2]שטחים '!C16+'[2]שטחים '!C17+'[2]שטחים '!C18+'[2]שטחים '!C19 -> 144951 | D7: ='[2]שטחים '!D16+'[2]שטחים '!D17+'[2]שטחים '!D18+'[2]שטחים '!D19 -> 357393 | E7: ='[2]שטחים '!C20+'[2]שטחים '!C21 -> 36910 | F7: ='[2]שטחים '!D20+'[2]שטחים '!D21 -> 307566 | G7: =C7+E7 -> 181861 | H7: =F7+D7 -> 664959
B8: מכ / 331 | C8: ='[2]שטחים '!E56 -> 51700 | D8: ='[2]שטחים '!D56 -> 43120 | G8: =C8+E8 -> 51700 | H8: =D8+F8 -> 43120
B9: מכ /298 | C9: ='[2]שטחים '!G69-'[2]שטחים '!G68 -> 61423 | D9: ='[2]שטחים '!F69-'[2]שטחים '!F68 -> 53342 | E9: ='[2]שטחים '!G68 -> 1130 | F9: ='[2]שטחים '!F68 -> 678 | G9: =C9+E9 -> 62553 | H9: =D9+F9 -> 54020
B10: החוטרים מכ/582 | C10: ='[2]שטחים '!C75+'[2]שטחים '!C76+'[2]שטחים '!C77+'[2]שטחים '!C78+'[2]שטחים '!C79+'[2]שטחים '!C80 -> 165262.67 | D10: ='[2]שטחים '!D75+'[2]שטחים '!D76+'[2]שטחים '!D77+'[2]שטחים '!D78+'[2]שטחים '!D79+'[2]שטחים '!D80 -> 410033 | E10: ='[2]שטחים '!C81+'[2]שטחים '!C82+'[2]שטחים '!C83+'[2]שטחים '!C84 -> 82422.72 | F10: ='[2]שטחים '!D81+'[2]שטחים '!D82+'[2]שטחים '!D83+'[2]שטחים '!D84 -> 253201.2 | G10: =C10+E10 -> 247685.39 | H10: =D10+F10 -> 663234.2
B11: סה"כ: | C11: =SUM(C6:C10) -> 474189.67 | D11: =SUM(D6:D10) -> 952651.04 | E11: =SUM(E6:E10) -> 120462.72 | F11: =SUM(F6:F10) -> 561445.2 | G11: =SUM(G6:G10) -> 594652.39 | H11: =SUM(H6:H10) -> 1514096.2

Sheet חישוב היטל
A2: חישוב היטל
B3: סה"כ קרקע | C3: סה"כ בנוי
B4: ='ריכוז שטחים'!G11 -> 594652.39 | C4: ='ריכוז שטחים'!H11 -> 1514096.2
B6: העמסת עלויות עקיפות
B8: אחוז | C8: סכום ₪
A9: סה"כ עלות ישירה | C9: ='שצ"פים (2)'!I110 -> 1.0448574e+08
A10: בצ"מ | B10: 0.08 | C10: =C9*B10 -> 8358859.4
A11: ניהול ופיקוח | B11: 0.08 | C11: =C9*B11 -> 8358859.4
A12: סה"כ ביניים | C12: =SUM(C9:C11) -> 1.2120346e+08
A13: מע"מ | B13: 0.17 | C13: =B13*C12 -> 20604589
A14: מימון | B14: 0.03 | C14: =SUM(C12:C13)*B14 -> 4254241.5
A15: סה"כ עלויות | C15: =SUM(C12:C14) -> 1.4606229e+08
B18: חישוב תעריף
B19: שיעורי העמסה | D19: תעריף מוצע
A20: קרקע | B20: 0.2 | C20: =B20*C15 -> 29212458 | D20: =C20/B4 -> 49.125269
A21: בנוי | B21: 0.8 | C21: =C15*B21 -> 1.1684983e+08 | D21: =C21/C4 -> 77.174641
A22: קוב לבנוי | D22: =D21/3.5 -> 22.049897

Sheet השוואה
A1: מגורים | M1: המדדים הרלוונטיים:
B2: תעריף קודם | C2: צמוד למדד | D2: מוצע | E2: פער | M2: אחוז שינוי | O2: מקדם קשר | Q2: 43040 | S2: 40179 | U2: הבסיס
A3: קרקע | B3: 36.97 | C3: =B3*$L$5 -> 39.953479 | D3: ='חישוב היטל'!D20 -> 49.125269 | E3: =D3/C3-1 -> 0.22956173 | M3: 8.07 | O3: 1.126 | Q3: 100.3 | S3: 104.5 | U3: ממוצע 2008=100.0
A4: בנוי | B4: 58.07 | C4: =B4*$L$5 -> 62.756249 | D4: ='חישוב היטל'!D21 -> 77.174641 | E4: =D4/C4-1 -> 0.22975229 | L4: =M3/100 -> 0.0807
A5: נכס אחר | L5: =L4+1 -> 1.0807
B6: תעריף קודם | C6: צמוד למדד | D6: מוצע | E6: פער
A7: קרקע | B7: 36.97 | C7: =B7*$L$5 -> 39.953479 | D7: ='חישוב היטל'!D20 -> 49.125269 | E7: =D7/C7-1 -> 0.22956173
A8: בנוי | B8: 16.59 | C8: =B8*$L$5 -> 17.928813 | D8: ='חישוב היטל'!D22 -> 22.049897 | E8: =D8/C8-1 -> 0.22985819
