Workbook

Sheet רבעון 3 - 2016
A1: שם חברה | B1: תאור של ארגון רכש | C1: שם אתר | D1: תקנה תקציבית | E1: תיאור תקנה תקציבית | F1: הזמנת רכש | G1: מטרת התקשרות | H1: תאריך יצירת ההזמנה | I1: סיום תקופת תוקף | J1: קוד ספק | K1: שם הספק | L1: מספר ח"פ | M1: ערך ההזמנה כולל מע"מ | N1: מטבע | O1: ביצוע חשבוניות במטבע מקומי כולל מע"מ והצ | P1: מטבע חשבונית | Q1: אופן רכישה | R1: מס' פנייה במנו"ף/מנור" | S1: סיבת פטור | T1: הזמנה רגישה
A2: פיתוח נגב, גליל וש.פעולה | B2: פיתוח הנגב והגליל וש | C2: פיתוח הנגב והגליל ושתפ"א | D2: 04630201 | E2: תפעול | F2: 4501247069 | G2: רכישת טונרים | H2: 42555 | J2: 0040001244 | K2: דנגוט מחשבים בע"מ | L2: 511398836 | M2: 1736.69 | N2: ILS | O2: 1918.56 | P2: ILS | Q2: תקנה 14ב - מכרז מרכזי | R2: 543274 | T2: לא
A3: פיתוח נגב, גליל וש.פעולה | B3: פיתוח הנגב והגליל וש | C3: פיתוח הנגב והגליל ושתפ"א | D3: 04560110 | E3: הוצאות תפעול | F3: 4501247069 | G3: רכישת טונרים | H3: 42555 | J3: 0040001244 | K3: דנגוט מחשבים בע"מ | L3: 511398836 | M3: 1102.39 | N3: ILS | O3: 1211.85 | P3: ILS | Q3: תקנה 14ב - מכרז מרכזי | R3: 543274 | T3: לא
A4: פיתוח נגב, גליל וש.פעולה | B4: פיתוח הנגב והגליל וש | C4: פיתוח הנגב והגליל ושתפ"א | D4: 04630201 | E4: תפעול | F4: 4501247076 | G4: מתכלים למדפסת 8640 | H4: 42555 | J4: 0040001247 | K4: הראל טכנולוגיות מידע בע"מ | L4: 511401002 | M4: 2043.52 | N4: ILS | O4: 2256.57 | P4: ILS | Q4: תקנה 14ב - מכרז מרכזי | R4: 543274 | T4: לא
A5: פיתוח נגב, גליל וש.פעולה | B5: פיתוח הנגב והגליל וש | C5: פיתוח הנגב והגליל ושתפ"א | D5: 04630201 | E5: תפעול | F5: 4501249406 | G5: הובלת דלפק | H5: 42558 | J5: 0040198130 | K5: אהרון שבתאי הובלות בע"מ | L5: 513802520 | M5: 3276 | N5: ILS | O5: 3276 | P5: ILS | Q5: פטור ממכרז | S5: תקנה 3(1) - התקשרות ששוויה אינה עולה על 50,000 ש"ח | T5: לא
A6: פיתוח נגב, גליל וש.פעולה | B6: פיתוח הנגב והגליל וש | C6: פיתוח הנגב והגליל ושתפ"א | D6: 04630201 | E6: תפעול | F6: 4501250424 | G6: תשלומי ארנונה | H6: 42561 | J6: 0020000201 | K6: עירית תל-אביב-יפו | L6: 500250006 | M6: 19270.33 | N6: ILS | O6: 19270.33 | P6: ILS | Q6: תשלומי חשמל/מים/ארנונה/כבישי אגרה | R6: לא קיים | T6: לא
A7: פיתוח נגב, גליל וש.פעולה | B7: פיתוח הנגב והגליל וש | C7: פיתוח הנגב והגליל ושתפ"א | D7: 04560110 | E7: הוצאות תפעול | F7: 4501250424 | G7: תשלומי ארנונה | H7: 42561 | J7: 0020000201 | K7: עירית תל-אביב-יפו | L7: 500250006 | M7: 65220.81 | N7: ILS | O7: 65220.81 | P7: ILS | Q7: תשלומי חשמל/מים/ארנונה/כבישי אגרה | R7: לא קיים | T7: לא
A8: פיתוח נגב, גליל וש.פעולה | B8: פיתוח הנגב והגליל וש | C8: פיתוח הנגב והגליל ושתפ"א | D8: 04630201 | E8: תפעול | F8: 4501250424 | G8: תשלומי ארנונה | H8: 42561 | J8: 0020000201 | K8: עירית תל-אביב-יפו | L8: 500250006 | M8: 14433.97 | N8: ILS | O8: 0 | Q8: תשלומי חשמל/מים/ארנונה/כבישי אגרה | R8: לא קיים | T8: לא
A9: פיתוח נגב, גליל וש.פעולה | B9: פיתוח הנגב והגליל וש | C9: פיתוח הנגב והגליל ושתפ"א | D9: 04560110 | E9: הוצאות תפעול | F9: 4501250600 | G9: שרותי עיצוב גרפי | H9: 42561 | J9: 0041449118 | K9: פלשקס נועה | L9: 039853312 | M9: 14332.5 | N9: ILS | O9: 0 | Q9: פטור ממכרז | S9: תקנה 3(1) - התקשרות ששוויה אינה עולה על 50,000 ש"ח | T9: לא
A10: פיתוח נגב, גליל וש.פעולה | B10: פיתוח הנגב והגליל וש | C10: פיתוח הנגב והגליל ושתפ"א | D10: 04560110 | E10: הוצאות תפעול | F10: 4501250600 | G10: שרותי עיצוב גרפי | H10: 42561 | J10: 0041449118 | K10: פלשקס נועה | L10: 039853312 | M10: 5265 | N10: ILS | O10: 5265 | P10: ILS | Q10: פטור ממכרז | S10: תקנה 3(1) - התקשרות ששוויה אינה עולה על 50,000 ש"ח | T10: לא
A11: פיתוח נגב, גליל וש.פעולה | B11: פיתוח הנגב והגליל וש | C11: פיתוח הנגב והגליל ושתפ"א | D11: 04560114 | E11: הדרכה ושכר לימוד | F11: 4501250898 | G11: \ארוחת בוקר שתפ"א | H11: 42562 | J11: 0040297945 | K11: פרדס רימונים בע"מ | L11: 512681065 | M11: 783.99 | N11: ILS | O11: 739.9 | P11: ILS | Q11: פטור ממכרז | S11: תקנה 3(1) - התקשרות ששוויה אינה עולה על 50,000 ש"ח | T11: לא
A12: פיתוח נגב, גליל וש.פעולה | B12: פיתוח הנגב והגליל וש | C12: פיתוח הנגב והגליל ושתפ"א | D12: 04560114 | E12: הדרכה ושכר לימוד | F12: 4501250912 | G12: טיול סגווי שתפ"א | H12: 42562 | J12: 0040530214 | K12: זוזו תיירות מוטורית בע"מ | L12: 514591320 | M12: 2319.97 | N12: ILS | O12: 2174.97 | P12: ILS | Q12: פטור ממכרז | S12: תקנה 3(1) - התקשרות ששוויה אינה עולה על 50,000 ש"ח | T12: לא
A13: פיתוח נגב, גליל וש.פעולה | B13: פיתוח הנגב והגליל וש | C13: פיתוח הנגב והגליל ושתפ"א | D13: 04560114 | E13: הדרכה ושכר לימוד | F13: 4501251014 | G13: סיור שתפ"א ירושלים | H13: 42562 | J13: 0040228339 | K13: בון תור בע"מ | L13: 511266306 | M13: 668.52 | N13: ILS | O13: 626.52 | P13: ILS | Q13: תקנה 14ב - מכרז מרכזי | R13: 537423 | T13: לא
A14: פיתוח נגב, גליל וש.פעולה | B14: פיתוח הנגב והגליל וש | C14: פיתוח הנגב והגליל ושתפ"א | D14: 04560110 | E14: הוצאות תפעול | F14: 4501251557 | G14: אירוח | H14: 42563 | J14: 0040266621 | K14: מאץ-מור ניהול מסעדות בע"מ | L14: 513500165 | M14: 959.96 | N14: ILS | O14: 719.97 | P14: ILS | Q14: פטור ממכרז | S14: תקנה 3(1) - התקשרות ששוויה אינה עולה על 50,000 ש"ח | T14: לא
A15: פיתוח נגב, גליל וש.פעולה | B15: פיתוח הנגב והגליל וש | C15: פיתוח הנגב והגליל ושתפ"א | D15: 04630201 | E15: תפעול | F15: 4501251560 | G15: ריהוט למשרד | H15: 42563 | J15: 0040003692 | K15: טופ-ליין יבוא ושיווק רהיטים בע"מ | L15: 511613564 | M15: 33696.66 | N15: ILS | O15: 33696.64 | P15: ILS | Q15: תקנה 14ב - מכרז מרכזי | R15: 559541 | T15: לא
A16: פיתוח נגב, גליל וש.פעולה | B16: פיתוח הנגב והגליל וש | C16: פיתוח הנגב והגליל ושתפ"א | D16: 04560114 | E16: הדרכה ושכר לימוד | F16: 4501251609 | G16: סיור שתפ"א ירושלים | H16: 42563 | J16: 0041403753 | K16: מרכז מורשת לחסידי אומות עולם (ע"ר) | L16: 580562601 | M16: 320 | N16: ILS | O16: 320 | P16: ILS | Q16: פטור ממכרז | S16: תקנה 3(1) - התקשרות ששוויה אינה עולה על 50,000 ש"ח | T16: לא
A17: פיתוח נגב, גליל וש.פעולה | B17: פיתוח הנגב והגליל וש | C17: פיתוח הנגב והגליל ושתפ"א | D17: 04630201 | E17: תפעול | F17: 4501251636 | G17: שירות עבודת חשמל | H17: 42563 | J17: 0040488433 | K17: דרורי מאיר | L17: 034500736 | M17: 1029.6 | N17: ILS | O17: 1029.6 | P17: ILS | Q17: פטור ממכרז | S17: תקנה 3(1) - התקשרות ששוויה אינה עולה על 50,000 ש"ח | T17: לא
A18: פיתוח נגב, גליל וש.פעולה | B18: פיתוח הנגב והגליל וש | C18: פיתוח הנגב והגליל ושתפ"א | D18: 04630201 | E18: תפעול | F18: 4501251809 | G18: שרותי אחזקה ונקיון ירושלים | H18: 42563 | J18: 0040003496 | K18: כלכלית ירושלים בע"מ | L18: 520017070 | M18: 105300 | N18: ILS | O18: 0 | Q18: פטור ממכרז | R18: לא קיים | S18: תקנה 3(29) - ספק יחיד | T18: לא
A19: פיתוח נגב, גליל וש.פעולה | B19: פיתוח הנגב והגליל וש | C19: פיתוח הנגב והגליל ושתפ"א | D19: 04630201 | E19: תפעול | F19: 4501252276 | G19: התאמה של קומה 16 לאגף חדש | H19: 42563 | J19: 0040293097 | K19: א. חביב עבודות בניה ופתוח בע"מ | L19: 513784348 | M19: 47092.5 | N19: ILS | O19: 47092.5 | P19: ILS | Q19: פטור ממכרז | S19: תקנה 3(1) - התקשרות ששוויה אינה עולה על 50,000 ש"ח | T19: לא
A20: פיתוח נגב, גליל וש.פעולה | B20: פיתוח הנגב והגליל וש | C20: פיתוח הנגב והגליל ושתפ"א | D20: 04560114 | E20: הדרכה ושכר לימוד | F20: 4501252560 | G20: אירוח | H20: 42564 | J20: 0040497517 | K20: א.א.ש מסעדנות ויזמות בע"מ | L20: 514526227 | M20: 1600 | N20: ILS | O20: -200 | P20: ILS | Q20: פטור ממכרז | S20: תקנה 3(1) - התקשרות ששוויה אינה עולה על 50,000 ש"ח | T20: לא
A21: פיתוח נגב, גליל וש.פעולה | B21: פיתוח הנגב והגליל וש | C21: פיתוח הנגב והגליל ושתפ"א | D21: 04560113 | E21: פעולות | F21: 4501253339 | G21: ייעוץ | H21: 42565 | I21: 42857 | J21: 0041387979 | K21: ג'י אם אי טראסט | L21: 540255452 | M21: 159931.32 | N21: ILS | O21: 0 | P21: ILS | Q21: תקנה 17ד - מכרז פומבי דו שלבי | R21: 573630 | T21: לא
A22: פיתוח נגב, גליל וש.פעולה | B22: פיתוח הנגב והגליל וש | C22: פיתוח הנגב והגליל ושתפ"א | D22: 04560110 | E22: הוצאות תפעול | F22: 4501255299 | G22: אירוח | H22: 42570 | J22: 0040266621 | K22: מאץ-מור ניהול מסעדות בע"מ | L22: 513500165 | M22: 1869.88 | N22: ILS | O22: 1869.88 | P22: ILS | Q22: פטור ממכרז | S22: תקנה 3(1) - התקשרות ששוויה אינה עולה על 50,000 ש"ח | T22: לא
A23: פיתוח נגב, גליל וש.פעולה | B23: פיתוח הנגב והגליל וש | C23: פיתוח הנגב והגליל ושתפ"א | D23: 04630307 | E23: השתתפות בלשכת הפרסופ | F23: 4501255795 | G23: פרסומים | H23: 42571 | J23: 0010000021 | K23: לשכת הפירסום הממשלתי | L23: 500100268 | M23: 4515 | N23: ILS | O23: 4515 | P23: ILS | Q23: פטור ממכרז | R23: אין | S23: תקנה 3(12) - לשכת הפרסום הממשלתית | T23: לא
A24: פיתוח נגב, גליל וש.פעולה | B24: פיתוח הנגב והגליל וש | C24: פיתוח הנגב והגליל ושתפ"א | D24: 04560110 | E24: הוצאות תפעול | F24: 4501256513 | G24: כיבוד | H24: 42572 | J24: 0041005599 | K24: אליהו אפי | L24: 032242976 | M24: 463.32 | N24: ILS | O24: 0 | Q24: פטור ממכרז | S24: תקנה 3(1) - התקשרות ששוויה אינה עולה על 50,000 ש"ח | T24: לא
A25: פיתוח נגב, גליל וש.פעולה | B25: פיתוח הנגב והגליל וש | C25: פיתוח הנגב והגליל ושתפ"א | D25: 04630307 | E25: השתתפות בלשכת הפרסופ | F25: 4501256526 | G25: פרסומים | H25: 42572 | I25: 43100 | J25: 0010000021 | K25: לשכת הפירסום הממשלתי | L25: 500100268 | M25: 24000 | N25: ILS | O25: 23875 | P25: ILS | Q25: פטור ממכרז | R25: אין | S25: תקנה 3(12) - לשכת הפרסום הממשלתית | T25: לא
A26: פיתוח נגב, גליל וש.פעולה | B26: פיתוח הנגב והגליל וש | C26: פיתוח הנגב והגליל ושתפ"א | D26: 04630201 | E26: תפעול | F26: 4501257250 | G26: ניצג ציבור ועדת בוחנים | H26: 42575 | J26: 0040963338 | K26: בלאו צביה | M26: 524.16 | N26: ILS | O26: 0 | Q26: פטור ממכרז | S26: תקנה 3(1) - התקשרות ששוויה אינה עולה על 50,000 ש"ח | T26: לא
A27: פיתוח נגב, גליל וש.פעולה | B27: פיתוח הנגב והגליל וש | C27: פיתוח הנגב והגליל ושתפ"א | D27: 04630201 | E27: תפעול | F27: 4501257278 | G27: שרותי מיפוי הדפסת מפות | H27: 42575 | J27: 0010000127 | K27: המרכז למיפוי ישראל | L27: 500105697 | M27: 2854 | N27: ILS | O27: 0 | Q27: התקשרות עם גופים ממשלתיים | T27: לא
A28: פיתוח נגב, גליל וש.פעולה | B28: פיתוח הנגב והגליל וש | C28: פיתוח הנגב והגליל ושתפ"א | D28: 04630201 | E28: תפעול | F28: 4501257516 | G28: ציוד טכני | H28: 42575 | J28: 0040464302 | K28: ע.י. טכניק (1991) בע"מ | L28: 511566150 | M28: 916.11 | N28: ILS | O28: 916.11 | P28: ILS | Q28: פטור ממכרז | S28: תקנה 3(1) - התקשרות ששוויה אינה עולה על 50,000 ש"ח | T28: לא
A29: פיתוח נגב, גליל וש.פעולה | B29: פיתוח הנגב והגליל וש | C29: פיתוח הנגב והגליל ושתפ"א | D29: 04630201 | E29: תפעול | F29: 4501257522 | G29: תשלום חשמל כנפי נשרים | H29: 42575 | I29: 42735 | J29: 0010000066 | K29: המשרד לשירותי דת | L29: 500106224 | M29: 60000 | N29: ILS | O29: 27845 | P29: ILS | Q29: התקשרות עם גופים ממשלתיים | T29: לא
A30: פיתוח נגב, גליל וש.פעולה | B30: פיתוח הנגב והגליל וש | C30: פיתוח הנגב והגליל ושתפ"א | D30: 04630201 | E30: תפעול | F30: 4501257527 | G30: שרותי חניה בירושלים | H30: 42575 | I30: 42735 | J30: 0010000066 | K30: המשרד לשירותי דת | L30: 500106224 | M30: 124800 | N30: ILS | O30: 56472 | P30: ILS | Q30: התקשרות עם גופים ממשלתיים | T30: לא
A31: פיתוח נגב, גליל וש.פעולה | B31: פיתוח הנגב והגליל וש | C31: פיתוח הנגב והגליל ושתפ"א | D31: 04630204 | E31: יועצים | F31: 4501257726 | G31: יעוץ | H31: 42576 | I31: 42735 | J31: 0041400764 | K31: איתן דנגוט בע"מ | L31: 515192185 | M31: 79051.19 | N31: ILS | O31: 77555.09 | P31: ILS | Q31: פטור ממכרז | S31: תקנה 3(1) - התקשרות ששוויה אינה עולה על 50,000 ש"ח | T31: לא
A32: פיתוח נגב, גליל וש.פעולה | B32: פיתוח הנגב והגליל וש | C32: פיתוח הנגב והגליל ושתפ"א | D32: 04560110 | E32: הוצאות תפעול | F32: 4501257796 | G32: נסיעות לחו"ל | H32: 42576 | J32: 0041003244 | K32: משרד סוכנות/האוצר נסיעות ממשלתית | L32: 500107321 | M32: 18.72 | N32: ILS | O32: 15.48 | P32: ILS | Q32: פטור ממכרז | S32: תקנה 3(1) - התקשרות ששוויה אינה עולה על 50,000 ש"ח | T32: לא
A33: פיתוח נגב, גליל וש.פעולה | B33: פיתוח הנגב והגליל וש | C33: פיתוח הנגב והגליל ושתפ"א | D33: 04560110 | E33: הוצאות תפעול | F33: 4501257985 | G33: הזמנת כרטיסי עובד | H33: 42576 | J33: 0010000020 | K33: משרד ראש הממשלה | L33: 500100037 | M33: 1930.5 | N33: ILS | O33: 1930.5 | P33: ILS | Q33: התקשרות עם גופים ממשלתיים | T33: לא
A34: פיתוח נגב, גליל וש.פעולה | B34: פיתוח הנגב והגליל וש | C34: פיתוח הנגב והגליל ושתפ"א | D34: 04630201 | E34: תפעול | F34: 4501257985 | G34: הזמנת כרטיסי עובד | H34: 42576 | J34: 0010000020 | K34: משרד ראש הממשלה | L34: 500100037 | M34: 4504.5 | N34: ILS | O34: 4504.5 | P34: ILS | Q34: התקשרות עם גופים ממשלתיים | T34: לא
A35: פיתוח נגב, גליל וש.פעולה | B35: פיתוח הנגב והגליל וש | C35: פיתוח הנגב והגליל ושתפ"א | D35: 04630307 | E35: השתתפות בלשכת הפרסופ | F35: 4501258835 | G35: פרסום קול קורא פניה לקבוצות אכלוס מצפה רמון | H35: 42577 | J35: 0010000021 | K35: לשכת הפירסום הממשלתי | L35: 500100268 | M35: 3265 | N35: ILS | O35: 3265 | P35: ILS | Q35: פטור ממכרז | R35: לא קיים משרד ממשלתי | S35: תקנה 3(12) - לשכת הפרסום הממשלתית | T35: לא
A36: פיתוח נגב, גליל וש.פעולה | B36: פיתוח הנגב והגליל וש | C36: פיתוח הנגב והגליל ושתפ"א | D36: 04630307 | E36: השתתפות בלשכת הפרסופ | F36: 4501258835 | G36: פרסום קול קורא פניה לקבוצות אכלוס מצפה רמון | H36: 42577 | J36: 0010000021 | K36: לשכת הפירסום הממשלתי | L36: 500100268 | M36: 237.5 | N36: ILS | O36: 0 | Q36: פטור ממכרז | R36: לא קיים משרד ממשלתי | S36: תקנה 3(12) - לשכת הפרסום הממשלתית | T36: לא
A37: פיתוח נגב, גליל וש.פעולה | B37: פיתוח הנגב והגליל וש | C37: פיתוח הנגב והגליל ושתפ"א | D37: 04630205 | E37: הדרכה ורווחה | F37: 4501260603 | G37: יום גיבוש אגף מנהל +בטחון | H37: 42582 | J37: 0040228339 | K37: בון תור בע"מ | L37: 511266306 | M37: 673.76 | N37: ILS | O37: 637.02 | P37: ILS | Q37: תקנה 14ב - מכרז מרכזי | R37: 537423 | T37: לא
A38: פיתוח נגב, גליל וש.פעולה | B38: פיתוח הנגב והגליל וש | C38: פיתוח הנגב והגליל ושתפ"א | D38: 04560110 | E38: הוצאות תפעול | F38: 4501261041 | G38: רכישת סורקים שולחניים | H38: 42583 | J38: 0040004286 | K38: אלפא מסופים ומדפסות בע"מ | L38: 510845555 | M38: 7644.78 | N38: ILS | O38: 7644.78 | P38: ILS | Q38: תקנה 14ב - מכרז מרכזי | R38: 528914 | T38: לא
A39: פיתוח נגב, גליל וש.פעולה | B39: פיתוח הנגב והגליל וש | C39: פיתוח הנגב והגליל ושתפ"א | D39: 04630201 | E39: תפעול | F39: 4501261041 | G39: רכישת סורקים שולחניים | H39: 42583 | J39: 0040004286 | K39: אלפא מסופים ומדפסות בע"מ | L39: 510845555 | M39: 7644.78 | N39: ILS | O39: 7644.78 | P39: ILS | Q39: תקנה 14ב - מכרז מרכזי | R39: 528914 | T39: לא
A40: פיתוח נגב, גליל וש.פעולה | B40: פיתוח הנגב והגליל וש | C40: פיתוח הנגב והגליל ושתפ"א | D40: 04630205 | E40: הדרכה ורווחה | F40: 4501261202 | G40: נציג ציבור בוועדת בוחנים | H40: 42583 | J40: 0040997399 | K40: קוגן מרק | M40: 524.16 | N40: ILS | O40: 0 | Q40: פטור ממכרז | S40: תקנה 3(1) - התקשרות ששוויה אינה עולה על 50,000 ש"ח | T40: לא
...

Sheet רבעון 4 - 2016
A1: שם חברה | B1: תאור של ארגון רכש | C1: שם אתר | D1: תקנה תקציבית | E1: תיאור תקנה תקציבית | F1: הזמנת רכש | H1: מטרת התקשרות | I1: תאריך יצירת ההזמנה | J1: סיום תקופת תוקף | K1: קוד ספק | L1: שם הספק | M1: מספר ח"פ | N1: ערך ההזמנה כולל מע"מ | O1: מטבע | P1: ביצוע חשבוניות במטבע מקומי כולל מע"מ והצ | Q1: מטבע חשבונית | R1: אופן רכישה | S1: מס' פנייה במנו"ף/מנור" | T1: סיבת פטור | U1: הזמנה רגישה
A2: פיתוח נגב, גליל וש.פעולה | B2: פיתוח הנגב והגליל וש | C2: פיתוח הנגב והגליל ושתפ"א | D2: 04630204 | E2: יועצים | F2: 4501289949 | G2: =VLOOKUP(F2,[1]גיליון1!$F:$H,3,0) -> ייעוץ | H2: ייעוץ | I2: 42652 | J2: 42886 | K2: 0040010472 | L2: גדיש חברה להנדסה בע"מ | M2: 510812118 | N2: 86931.05 | O2: ILS | P2: 86931.05 | Q2: ILS | R2: פטור ממכרז | S2: 551378 | T2: תקנה 3ג - מימוש זכות ברירה | U2: לא
A3: פיתוח נגב, גליל וש.פעולה | B3: פיתוח הנגב והגליל וש | C3: פיתוח הנגב והגליל ושתפ"א | D3: 04630312 | E3: מוסדות ציבור | F3: 4501289949 | G3: =VLOOKUP(F3,[1]גיליון1!$F:$H,3,0) -> ייעוץ | H3: ייעוץ | I3: 42652 | J3: 42886 | K3: 0040010472 | L3: גדיש חברה להנדסה בע"מ | M3: 510812118 | N3: 481460.8 | O3: ILS | P3: 54301.2 | Q3: ILS | R3: פטור ממכרז | S3: 551378 | T3: תקנה 3ג - מימוש זכות ברירה | U3: לא
A4: פיתוח נגב, גליל וש.פעולה | B4: פיתוח הנגב והגליל וש | C4: פיתוח הנגב והגליל ושתפ"א | D4: 04630312 | E4: מוסדות ציבור | F4: 4501290968 | G4: =VLOOKUP(F4,[1]גיליון1!$F:$H,3,0) -> יועצים | H4: יועצים | I4: 42653 | J4: 42886 | K4: 0040004961 | L4: גאו-דע - ניהול ומידע מקרקעין ונכסים | M4: 512765033 | N4: 1357200 | O4: ILS | P4: 629055.79 | Q4: ILS | R4: תקנה 3ג - מימוש זכות ברירה | S4: 1 | U4: לא
A5: פיתוח נגב, גליל וש.פעולה | B5: פיתוח הנגב והגליל וש | C5: פיתוח הנגב והגליל ושתפ"א | D5: 04560110 | E5: הוצאות תפעול | F5: 4501292657 | G5: =VLOOKUP(F5,[1]גיליון1!$F:$H,3,0) -> טיסה לרומא סגן השר | H5: טיסה לרומא סגן השר | I5: 42668 | K5: 0041003244 | L5: משרד סוכנות/האוצר נסיעות ממשלתית | M5: 500107321 | N5: 23937.08 | O5: ILS | P5: 21497.2 | Q5: ILS | R5: התקשרות עם גופים ממשלתיים | U5: לא
A6: פיתוח נגב, גליל וש.פעולה | B6: פיתוח הנגב והגליל וש | C6: פיתוח הנגב והגליל ושתפ"א | D6: 04630201 | E6: תפעול | F6: 4501294876 | G6: =VLOOKUP(F6,[1]גיליון1!$F:$H,3,0) -> נציג ציבור בועדת בוחנים | H6: נציג ציבור בועדת בוחנים | I6: 42673 | K6: 0040387230 | L6: איתן יובל אהובה | N6: 524.16 | O6: ILS | P6: 524.16 | Q6: ILS | R6: פטור ממכרז | T6: תקנה 3(1) - התקשרות ששוויה אינה עולה על 50,000 ש"ח | U6: לא
A7: פיתוח נגב, גליל וש.פעולה | B7: פיתוח הנגב והגליל וש | C7: פיתוח הנגב והגליל ושתפ"א | D7: 04560110 | E7: הוצאות תפעול | F7: 4501295532 | G7: =VLOOKUP(F7,[1]גיליון1!$F:$H,3,0) -> הלנת עובדים בירושלים | H7: הלנת עובדים בירושלים | I7: 42673 | K7: 0040001418 | L7: מלון קדם ירושלים בע"מ | M7: 512319229 | N7: 9889.96 | O7: ILS | P7: 2150 | Q7: ILS | R7: פטור ממכרז | T7: תקנה 3(1) - התקשרות ששוויה אינה עולה על 50,000 ש"ח | U7: לא
A8: פיתוח נגב, גליל וש.פעולה | B8: פיתוח הנגב והגליל וש | C8: פיתוח הנגב והגליל ושתפ"א | D8: 04630317 | E8: פריפריה חברתית | F8: 4501295761 | G8: =VLOOKUP(F8,[1]גיליון1!$F:$H,3,0) -> מיפוי ישוןבי בני מיעוטים | H8: מיפוי ישוןבי בני מיעוטים | I8: 42674 | K8: 0010000127 | L8: המרכז למיפוי ישראל | M8: 500105697 | N8: 612223 | O8: ILS | P8: 0 | R8: התקשרות עם גופים ממשלתיים | U8: לא
A9: פיתוח נגב, גליל וש.פעולה | B9: פיתוח הנגב והגליל וש | C9: פיתוח הנגב והגליל ושתפ"א | D9: 04560110 | E9: הוצאות תפעול | F9: 4501296097 | G9: =VLOOKUP(F9,[1]גיליון1!$F:$H,3,0) -> רכישת נייר ממוחזר | H9: רכישת נייר ממוחזר | I9: 42674 | K9: 0040001103 | L9: קרביץ (1974) בעמ | M9: 510674039 | N9: 1105.65 | O9: ILS | P9: 1105.65 | Q9: ILS | R9: תקנה 14ב - מכרז מרכזי | S9: 529619 | U9: לא
A10: פיתוח נגב, גליל וש.פעולה | B10: פיתוח הנגב והגליל וש | C10: פיתוח הנגב והגליל ושתפ"א | D10: 04560110 | E10: הוצאות תפעול | F10: 4501296120 | G10: =VLOOKUP(F10,[1]גיליון1!$F:$H,3,0) -> לינה לסגן השר איוב קרא | H10: לינה לסגן השר איוב קרא | I10: 42674 | K10: 0040005198 | L10: עמיתי מלון הרצל י-ם | M10: 557375441 | N10: 9899.88 | O10: ILS | P10: 9899.89 | Q10: ILS | R10: פטור ממכרז | T10: תקנה 3(1) - התקשרות ששוויה אינה עולה על 50,000 ש"ח | U10: לא
A11: פיתוח נגב, גליל וש.פעולה | B11: פיתוח הנגב והגליל וש | C11: פיתוח הנגב והגליל ושתפ"א | D11: 04560110 | E11: הוצאות תפעול | F11: 4501297420 | G11: =VLOOKUP(F11,[1]גיליון1!$F:$H,3,0) -> ארוחת צהריים 06/11/2016 | H11: ארוחת צהריים 06/11/2016 | I11: 42676 | K11: 0040266621 | L11: מאץ-מור ניהול מסעדות בע"מ | M11: 513500165 | N11: 959.96 | O11: ILS | P11: 1209.5 | Q11: ILS | R11: פטור ממכרז | T11: תקנה 3(1) - התקשרות ששוויה אינה עולה על 50,000 ש"ח | U11: לא
A12: פיתוח נגב, גליל וש.פעולה | B12: פיתוח הנגב והגליל וש | C12: פיתוח הנגב והגליל ושתפ"א | D12: 04560110 | E12: הוצאות תפעול | F12: 4501297760 | G12: =VLOOKUP(F12,[1]גיליון1!$F:$H,3,0) -> תחזוקה מערכת אבטחה | H12: תחזוקה מערכת אבטחה | I12: 42675 | J12: 43039 | K12: 0040001165 | L12: בינת יישום מערכות בע"מ | M12: 511012866 | N12: 9360 | O12: ILS | P12: 9360 | Q12: ILS | R12: פטור ממכרז | T12: תקנה 3(1) - התקשרות ששוויה אינה עולה על 50,000 ש"ח | U12: לא
A13: פיתוח נגב, גליל וש.פעולה | B13: פיתוח הנגב והגליל וש | C13: פיתוח הנגב והגליל ושתפ"א | D13: 04630201 | E13: תפעול | F13: 4501297760 | G13: =VLOOKUP(F13,[1]גיליון1!$F:$H,3,0) -> תחזוקה מערכת אבטחה | H13: תחזוקה מערכת אבטחה | I13: 42675 | J13: 43039 | K13: 0040001165 | L13: בינת יישום מערכות בע"מ | M13: 511012866 | N13: 18720 | O13: ILS | P13: 0 | R13: פטור ממכרז | T13: תקנה 3(1) - התקשרות ששוויה אינה עולה על 50,000 ש"ח | U13: לא
A14: פיתוח נגב, גליל וש.פעולה | B14: פיתוח הנגב והגליל וש | C14: פיתוח הנגב והגליל ושתפ"א | D14: 04560110 | E14: הוצאות תפעול | F14: 4501297760 | G14: =VLOOKUP(F14,[1]גיליון1!$F:$H,3,0) -> תחזוקה מערכת אבטחה | H14: תחזוקה מערכת אבטחה | I14: 42675 | J14: 43039 | K14: 0040001165 | L14: בינת יישום מערכות בע"מ | M14: 511012866 | N14: 9360 | O14: ILS | P14: 0 | R14: פטור ממכרז | T14: תקנה 3(1) - התקשרות ששוויה אינה עולה על 50,000 ש"ח | U14: לא
A15: פיתוח נגב, גליל וש.פעולה | B15: פיתוח הנגב והגליל וש | C15: פיתוח הנגב והגליל ושתפ"א | D15: 04560110 | E15: הוצאות תפעול | F15: 4501298451 | G15: =VLOOKUP(F15,[1]גיליון1!$F:$H,3,0) -> השכרת אולם+ כיבוד | H15: השכרת אולם+ כיבוד | I15: 42677 | K15: 0040020070 | L15: ציוני אמריקה - נכסים ובניין בע"מ | M15: 513506816 | N15: 1404 | O15: ILS | P15: 1404 | Q15: ILS | R15: פטור ממכרז | T15: תקנה 3(1) - התקשרות ששוויה אינה עולה על 50,000 ש"ח | U15: לא
A16: פיתוח נגב, גליל וש.פעולה | B16: פיתוח הנגב והגליל וש | C16: פיתוח הנגב והגליל ושתפ"א | D16: 04560110 | E16: הוצאות תפעול | F16: 4501298451 | G16: =VLOOKUP(F16,[1]גיליון1!$F:$H,3,0) -> השכרת אולם+ כיבוד | H16: השכרת אולם+ כיבוד | I16: 42677 | K16: 0040020070 | L16: ציוני אמריקה - נכסים ובניין בע"מ | M16: 513506816 | N16: 842.4 | O16: ILS | P16: 0 | R16: פטור ממכרז | T16: תקנה 3(1) - התקשרות ששוויה אינה עולה על 50,000 ש"ח | U16: לא
A17: פיתוח נגב, גליל וש.פעולה | B17: פיתוח הנגב והגליל וש | C17: פיתוח הנגב והגליל ושתפ"א | D17: 04560110 | E17: הוצאות תפעול | F17: 4501298661 | G17: =VLOOKUP(F17,[1]גיליון1!$F:$H,3,0) -> ארוחת ערב 7.11.2016 | H17: ארוחת ערב 7.11.2016 | I17: 42677 | K17: 0040266621 | L17: מאץ-מור ניהול מסעדות בע"מ | M17: 513500165 | N17: 2039.88 | O17: ILS | P17: 2126.93 | Q17: ILS | R17: פטור ממכרז | T17: תקנה 3(1) - התקשרות ששוויה אינה עולה על 50,000 ש"ח | U17: לא
A18: פיתוח נגב, גליל וש.פעולה | B18: פיתוח הנגב והגליל וש | C18: פיתוח הנגב והגליל ושתפ"א | D18: 04560110 | E18: הוצאות תפעול | F18: 4501298661 | G18: =VLOOKUP(F18,[1]גיליון1!$F:$H,3,0) -> ארוחת ערב 7.11.2016 | H18: ארוחת ערב 7.11.2016 | I18: 42677 | K18: 0040266621 | L18: מאץ-מור ניהול מסעדות בע"מ | M18: 513500165 | N18: 1019.94 | O18: ILS | P18: 0 | R18: פטור ממכרז | T18: תקנה 3(1) - התקשרות ששוויה אינה עולה על 50,000 ש"ח | U18: לא
A19: פיתוח נגב, גליל וש.פעולה | B19: פיתוח הנגב והגליל וש | C19: פיתוח הנגב והגליל ושתפ"א | D19: 04630201 | E19: תפעול | F19: 4501298664 | G19: =VLOOKUP(F19,[1]גיליון1!$F:$H,3,0) -> ייעוץ נגישות לציבור | H19: ייעוץ נגישות לציבור | I19: 42677 | J19: 42929 | K19: 0040532080 | L19: רונקין אליעזר | M19: 024800609 | N19: 15000 | O19: ILS | P19: 10674.85 | Q19: ILS | R19: פטור ממכרז | T19: תקנה 3(1) - התקשרות ששוויה אינה עולה על 50,000 ש"ח | U19: לא
A20: פיתוח נגב, גליל וש.פעולה | B20: פיתוח הנגב והגליל וש | C20: פיתוח הנגב והגליל ושתפ"א | D20: 04560110 | E20: הוצאות תפעול | F20: 4501298664 | G20: =VLOOKUP(F20,[1]גיליון1!$F:$H,3,0) -> ייעוץ נגישות לציבור | H20: ייעוץ נגישות לציבור | I20: 42677 | J20: 42929 | K20: 0040532080 | L20: רונקין אליעזר | M20: 024800609 | N20: 15000 | O20: ILS | P20: 0 | R20: פטור ממכרז | T20: תקנה 3(1) - התקשרות ששוויה אינה עולה על 50,000 ש"ח | U20: לא
A21: פיתוח נגב, גליל וש.פעולה | B21: פיתוח הנגב והגליל וש | C21: פיתוח הנגב והגליל ושתפ"א | D21: 04560110 | E21: הוצאות תפעול | F21: 4501299465 | G21: =VLOOKUP(F21,[1]גיליון1!$F:$H,3,0) -> פירוק והרכבה מערכת כריזה | H21: פירוק והרכבה מערכת כריזה | I21: 42680 | K21: 0040140676 | L21: יוסיפון ויליאם ירון | M21: 059683870 | N21: 1158 | O21: ILS | P21: 0 | R21: פטור ממכרז | T21: תקנה 3(1) - התקשרות ששוויה אינה עולה על 50,000 ש"ח | U21: לא
A22: פיתוח נגב, גליל וש.פעולה | B22: פיתוח הנגב והגליל וש | C22: פיתוח הנגב והגליל ושתפ"א | D22: 04560113 | E22: פעולות | F22: 4501299503 | G22: =VLOOKUP(F22,[1]גיליון1!$F:$H,3,0) -> ליווי שחיינים בים המלח | H22: ליווי שחיינים בים המלח | I22: 42680 | K22: 0040002838 | L22: בני הרצליה | M22: 580093151 | N22: 50000 | O22: ILS | P22: 50000 | Q22: ILS | R22: פטור ממכרז | T22: תקנה 3(1) - התקשרות ששוויה אינה עולה על 50,000 ש"ח | U22: לא
A23: פיתוח נגב, גליל וש.פעולה | B23: פיתוח הנגב והגליל וש | C23: פיתוח הנגב והגליל ושתפ"א | D23: 04560110 | E23: הוצאות תפעול | F23: 4501300505 | G23: =VLOOKUP(F23,[1]גיליון1!$F:$H,3,0) -> פרסום מכרז יועץ מעברים | H23: פרסום מכרז יועץ מעברים | I23: 42682 | K23: 0010000021 | L23: לשכת הפירסום הממשלתי | M23: 500100268 | N23: 6246.25 | O23: ILS | P23: 0 | R23: פטור ממכרז | S23: לפ"ם לא קיים מנו"ף | T23: תקנה 3(12) - לשכת הפרסום הממשלתית | U23: לא
A24: פיתוח נגב, גליל וש.פעולה | B24: פיתוח הנגב והגליל וש | C24: פיתוח הנגב והגליל ושתפ"א | D24: 04560110 | E24: הוצאות תפעול | F24: 4501301508 | G24: =VLOOKUP(F24,[1]גיליון1!$F:$H,3,0) -> מגשי אירוח למשלחת חו"ל | H24: מגשי אירוח למשלחת חו"ל | I24: 42683 | K24: 0041344192 | L24: ע.ש. קפה בר בע"מ | M24: 514787696 | N24: 1689.96 | O24: ILS | P24: 1689.96 | Q24: ILS | R24: פטור ממכרז | T24: תקנה 3(1) - התקשרות ששוויה אינה עולה על 50,000 ש"ח | U24: לא
A25: פיתוח נגב, גליל וש.פעולה | B25: פיתוח הנגב והגליל וש | C25: פיתוח הנגב והגליל ושתפ"א | D25: 04630201 | E25: תפעול | F25: 4501303700 | G25: =VLOOKUP(F25,[1]גיליון1!$F:$H,3,0) -> תשלום לשנת 2017 לנתיב המהיר | H25: תשלום לשנת 2017 לנתיב המהיר | I25: 42687 | J25: 43100 | K25: 0040468850 | L25: הנתיב המהיר בע"מ | M25: 513795088 | N25: 1638 | O25: ILS | P25: 0 | R25: פטור ממכרז | S25: הוראת תכ"ם 11.4.3 | T25: תקנה 3(29) - ספק יחיד | U25: לא
A26: פיתוח נגב, גליל וש.פעולה | B26: פיתוח הנגב והגליל וש | C26: פיתוח הנגב והגליל ושתפ"א | D26: 04560110 | E26: הוצאות תפעול | F26: 4501303700 | G26: =VLOOKUP(F26,[1]גיליון1!$F:$H,3,0) -> תשלום לשנת 2017 לנתיב המהיר | H26: תשלום לשנת 2017 לנתיב המהיר | I26: 42687 | J26: 43100 | K26: 0040468850 | L26: הנתיב המהיר בע"מ | M26: 513795088 | N26: 1638 | O26: ILS | P26: 0 | R26: פטור ממכרז | S26: הוראת תכ"ם 11.4.3 | T26: תקנה 3(29) - ספק יחיד | U26: לא
A27: פיתוח נגב, גליל וש.פעולה | B27: פיתוח הנגב והגליל וש | C27: פיתוח הנגב והגליל ושתפ"א | D27: 04630201 | E27: תפעול | F27: 4501303708 | G27: =VLOOKUP(F27,[1]גיליון1!$F:$H,3,0) -> שרותי מנהרות הכרמל לשנת 2017 | H27: שרותי מנהרות הכרמל לשנת 2017 | I27: 42687 | J27: 43100 | K27: 0040333585 | L27: קבוצת כרמלטון בע"מ | M27: 512542721 | N27: 2808 | O27: ILS | P27: 0 | R27: פטור ממכרז | S27: הוראת תכ"ם 11.4.3 | T27: תקנה 3(29) - ספק יחיד | U27: לא
A28: פיתוח נגב, גליל וש.פעולה | B28: פיתוח הנגב והגליל וש | C28: פיתוח הנגב והגליל ושתפ"א | D28: 04560110 | E28: הוצאות תפעול | F28: 4501303708 | G28: =VLOOKUP(F28,[1]גיליון1!$F:$H,3,0) -> שרותי מנהרות הכרמל לשנת 2017 | H28: שרותי מנהרות הכרמל לשנת 2017 | I28: 42687 | J28: 43100 | K28: 0040333585 | L28: קבוצת כרמלטון בע"מ | M28: 512542721 | N28: 2808 | O28: ILS | P28: 0 | R28: פטור ממכרז | S28: הוראת תכ"ם 11.4.3 | T28: תקנה 3(29) - ספק יחיד | U28: לא
A29: פיתוח נגב, גליל וש.פעולה | B29: פיתוח הנגב והגליל וש | C29: פיתוח הנגב והגליל ושתפ"א | D29: 04630201 | E29: תפעול | F29: 4501303726 | G29: =VLOOKUP(F29,[1]גיליון1!$F:$H,3,0) -> שרותי כביש 6 | H29: שרותי כביש 6 | I29: 42687 | J29: 43100 | K29: 0040003724 | L29: דרך ארץ הייווייז (1997) בע"מ | M29: 512475203 | N29: 11232 | O29: ILS | P29: 0 | R29: פטור ממכרז | S29: הוראת תכ"ם 11.4.3 | T29: תקנה 3(29) - ספק יחיד | U29: לא
A30: פיתוח נגב, גליל וש.פעולה | B30: פיתוח הנגב והגליל וש | C30: פיתוח הנגב והגליל ושתפ"א | D30: 04560110 | E30: הוצאות תפעול | F30: 4501303726 | G30: =VLOOKUP(F30,[1]גיליון1!$F:$H,3,0) -> שרותי כביש 6 | H30: שרותי כביש 6 | I30: 42687 | J30: 43100 | K30: 0040003724 | L30: דרך ארץ הייווייז (1997) בע"מ | M30: 512475203 | N30: 5616 | O30: ILS | P30: 0 | R30: פטור ממכרז | S30: הוראת תכ"ם 11.4.3 | T30: תקנה 3(29) - ספק יחיד | U30: לא
A31: פיתוח נגב, גליל וש.פעולה | B31: פיתוח הנגב והגליל וש | C31: פיתוח הנגב והגליל ושתפ"א | D31: 04630201 | E31: תפעול | F31: 4501303736 | G31: =VLOOKUP(F31,[1]גיליון1!$F:$H,3,0) -> שרותי פלאפון | H31: שרותי פלאפון | I31: 42687 | J31: 43100 | K31: 0040001174 | L31: פלאפון תקשורת בע"מ | M31: 511076572 | N31: 117000 | O31: ILS | P31: 0 | R31: תקנה 14ב - מכרז מרכזי | S31: 513591 | U31: לא
A32: פיתוח נגב, גליל וש.פעולה | B32: פיתוח הנגב והגליל וש | C32: פיתוח הנגב והגליל ושתפ"א | D32: 04560110 | E32: הוצאות תפעול | F32: 4501303736 | G32: =VLOOKUP(F32,[1]גיליון1!$F:$H,3,0) -> שרותי פלאפון | H32: שרותי פלאפון | I32: 42687 | J32: 43100 | K32: 0040001174 | L32: פלאפון תקשורת בע"מ | M32: 511076572 | N32: 46800 | O32: ILS | P32: 0 | R32: תקנה 14ב - מכרז מרכזי | S32: 513591 | U32: לא
A33: פיתוח נגב, גליל וש.פעולה | B33: פיתוח הנגב והגליל וש | C33: פיתוח הנגב והגליל ושתפ"א | D33: 04630201 | E33: תפעול | F33: 4501304841 | G33: =VLOOKUP(F33,[1]גיליון1!$F:$H,3,0) -> שירותי הוט | H33: שירותי הוט | I33: 42688 | K33: 0040011045 | L33: הוט - מערכות תקשורת בע"מ | M33: 520040072 | N33: 2088.45 | O33: ILS | P33: 2088.45 | Q33: ILS | R33: פטור ממכרז | T33: תקנה 3(1) - התקשרות ששוויה אינה עולה על 50,000 ש"ח | U33: לא
A34: פיתוח נגב, גליל וש.פעולה | B34: פיתוח הנגב והגליל וש | C34: פיתוח הנגב והגליל ושתפ"א | D34: 04630201 | E34: תפעול | F34: 4501304859 | G34: =VLOOKUP(F34,[1]גיליון1!$F:$H,3,0) -> ריצת כספת | H34: ריצת כספת | I34: 42688 | K34: 0040274333 | L34: שרבי יוסף | M34: 056532724 | N34: 1755 | O34: ILS | P34: 1755 | Q34: ILS | R34: פטור ממכרז | T34: תקנה 3(1) - התקשרות ששוויה אינה עולה על 50,000 ש"ח | U34: לא
A35: פיתוח נגב, גליל וש.פעולה | B35: פיתוח הנגב והגליל וש | C35: פיתוח הנגב והגליל ושתפ"א | D35: 04560110 | E35: הוצאות תפעול | F35: 4501305239 | G35: =VLOOKUP(F35,[1]גיליון1!$F:$H,3,0) -> נציג ציבור בוועדת בוחנים | H35: נציג ציבור בוועדת בוחנים | I35: 42689 | K35: 0041481390 | L35: קוטישטנו מולי | N35: 524.16 | O35: ILS | P35: 0 | R35: פטור ממכרז | T35: תקנה 3(1) - התקשרות ששוויה אינה עולה על 50,000 ש"ח | U35: לא
A36: פיתוח נגב, גליל וש.פעולה | B36: פיתוח הנגב והגליל וש | C36: פיתוח הנגב והגליל ושתפ"א | D36: 04630312 | E36: מוסדות ציבור | F36: 4501305725 | G36: =VLOOKUP(F36,[1]גיליון1!$F:$H,3,0) -> בדיקת בקשות שהוגשו לנוהל | H36: בדיקת בקשות שהוגשו לנוהל | I36: 42689 | K36: 0041480688 | L36: דורון גלעד מהנדסים ויו | M36: 558257028 | N36: 49967.66 | O36: ILS | P36: 45065.17 | Q36: ILS | R36: פטור ממכרז | T36: תקנה 3(1) - התקשרות ששוויה אינה עולה על 50,000 ש"ח | U36: לא
A37: פיתוח נגב, גליל וש.פעולה | B37: פיתוח הנגב והגליל וש | C37: פיתוח הנגב והגליל ושתפ"א | D37: 04630312 | E37: מוסדות ציבור | F37: 4501305725 | G37: =VLOOKUP(F37,[1]גיליון1!$F:$H,3,0) -> בדיקת בקשות שהוגשו לנוהל | H37: בדיקת בקשות שהוגשו לנוהל | I37: 42689 | K37: 0041480688 | L37: דורון גלעד מהנדסים ויו | M37: 558257028 | N37: 50029.88 | O37: ILS | P37: 0 | R37: פטור ממכרז | T37: תקנה 3(1) - התקשרות ששוויה אינה עולה על 50,000 ש"ח | U37: לא
A38: פיתוח נגב, גליל וש.פעולה | B38: פיתוח הנגב והגליל וש | C38: פיתוח הנגב והגליל ושתפ"א | D38: 04630312 | E38: מוסדות ציבור | F38: 4501305730 | G38: =VLOOKUP(F38,[1]גיליון1!$F:$H,3,0) -> בדיקת בקשות שהוגשו לנוהל | H38: בדיקת בקשות שהוגשו לנוהל | I38: 42689 | K38: 0041480828 | L38: חסון יעל | M38: 034214569 | N38: 99997.38 | O38: ILS | P38: 0 | R38: פטור ממכרז | T38: תקנה 3(1) - התקשרות ששוויה אינה עולה על 50,000 ש"ח | U38: לא
A39: פיתוח נגב, גליל וש.פעולה | B39: פיתוח הנגב והגליל וש | C39: פיתוח הנגב והגליל ושתפ"א | D39: 04630312 | E39: מוסדות ציבור | F39: 4501305733 | G39: =VLOOKUP(F39,[1]גיליון1!$F:$H,3,0) -> בדיקת בקשות שהוגשו לנוהל | H39: בדיקת בקשות שהוגשו לנוהל | I39: 42689 | K39: 0040326784 | L39: גנטוס לואי | M39: 040762759 | N39: 99997.38 | O39: ILS | P39: 0 | R39: פטור ממכרז | T39: תקנה 3(1) - התקשרות ששוויה אינה עולה על 50,000 ש"ח | U39: לא
A40: פיתוח נגב, גליל וש.פעולה | B40: פיתוח הנגב והגליל וש | C40: פיתוח הנגב והגליל ושתפ"א | D40: 04630201 | E40: תפעול | F40: 4501306132 | G40: =VLOOKUP(F40,[1]גיליון1!$F:$H,3,0) -> הדפסה ועיצוב של לוח תכנון אגף צעירים | H40: הדפסה ועיצוב של לוח תכנון אגף צעירים | I40: 42690 | K40: 0040534117 | L40: יחזקאל אברהם | M40: 024245029 | N40: 990 | O40: ILS | P40: 0 | R40: פטור ממכרז | T40: תקנה 3(1) - התקשרות ששוויה אינה עולה על 50,000 ש"ח | U40: לא
...
