Workbook

Sheet רבעון 3 - 2016
A1: שם חברה | B1: תאור של ארגון רכש | C1: שם אתר | D1: תקנה תקציבית | E1: תיאור תקנה תקציבית | F1: הזמנת רכש | G1: מטרת התקשרות | H1: תאריך יצירת ההזמנה | I1: סיום תקופת תוקף | J1: קוד ספק | K1: שם הספק | L1: מספר ח"פ | M1: ערך ההזמנה כולל מע"מ | N1: מטבע | O1: ביצוע חשבוניות במטבע מקומי כולל מע"מ והצ | P1: מטבע חשבונית | Q1: אופן רכישה | R1: מס' פנייה במנו"ף/מנור" | S1: סיבת פטור | T1: הזמנה רגישה
A2: פיתוח נגב, גליל וש.פעולה | B2: פיתוח הנגב והגליל וש | C2: פיתוח הנגב והגליל ושתפ"א | D2: 04630201 | E2: תפעול | F2: 4501247069 | G2: רכישת טונרים | H2: 42555 | J2: 0040001244 | K2: דנגוט מחשבים בע"מ | L2: 511398836 | M2: 1736.69 | N2: ILS | O2: 1918.56 | P2: ILS | Q2: תקנה 14ב - מכרז מרכזי | R2: 543274 | T2: לא
A3: פיתוח נגב, גליל וש.פעולה | B3: פיתוח הנגב והגליל וש | C3: פיתוח הנגב והגליל ושתפ"א | D3: 04560110 | E3: הוצאות תפעול | F3: 4501247069 | G3: רכישת טונרים | H3: 42555 | J3: 0040001244 | K3: דנגוט מחשבים בע"מ | L3: 511398836 | M3: 1102.39 | N3: ILS | O3: 1211.85 | P3: ILS | Q3: תקנה 14ב - מכרז מרכזי | R3: 543274 | T3: לא
A4: פיתוח נגב, גליל וש.פעולה | B4: פיתוח הנגב והגליל וש | C4: פיתוח הנגב והגליל ושתפ"א | D4: 04630201 | E4: תפעול | F4: 4501247076 | G4: מתכלים למדפסת 8640 | H4: 42555 | J4: 0040001247 | K4: הראל טכנולוגיות מידע בע"מ | L4: 511401002 | M4: 2043.52 | N4: ILS | O4: 2256.57 | P4: ILS | Q4: תקנה 14ב - מכרז מרכזי | R4: 543274 | T4: לא
A5: פיתוח נגב, גליל וש.פעולה | B5: פיתוח הנגב והגליל וש | C5: פיתוח הנגב והגליל ושתפ"א | D5: 04630201 | E5: תפעול | F5: 4501249406 | G5: הובלת דלפק | H5: 42558 | J5: 0040198130 | K5: אהרון שבתאי הובלות בע"מ | L5: 513802520 | M5: 3276 | N5: ILS | O5: 3276 | P5: ILS | Q5: פטור ממכרז | S5: תקנה 3(1) - התקשרות ששוויה אינה עולה על 50,000 ש"ח | T5: לא
A6: פיתוח נגב, גליל וש.פעולה | B6: פיתוח הנגב והגליל וש | C6: פיתוח הנגב והגליל ושתפ"א | D6: 04630201 | E6: תפעול | F6: 4501250424 | G6: תשלומי ארנונה | H6: 42561 | J6: 0020000201 | K6: עירית תל-אביב-יפו | L6: 500250006 | M6: 19270.33 | N6: ILS | O6: 19270.33 | P6: ILS | Q6: תשלומי חשמל/מים/ארנונה/כבישי אגרה | R6: לא קיים | T6: לא
A7: פיתוח נגב, גליל וש.פעולה | B7: פיתוח הנגב והגליל וש | C7: פיתוח הנגב והגליל ושתפ"א | D7: 04560110 | E7: הוצאות תפעול | F7: 4501250424 | G7: תשלומי ארנונה | H7: 42561 | J7: 0020000201 | K7: עירית תל-אביב-יפו | L7: 500250006 | M7: 65220.81 | N7: ILS | O7: 65220.81 | P7: ILS | Q7: תשלומי חשמל/מים/ארנונה/כבישי אגרה | R7: לא קיים | T7: לא
A8: פיתוח נגב, גליל וש.פעולה | B8: פיתוח הנגב והגליל וש | C8: פיתוח הנגב והגליל ושתפ"א | D8: 04630201 | E8: תפעול | F8: 4501250424 | G8: תשלומי ארנונה | H8: 42561 | J8: 0020000201 | K8: עירית תל-אביב-יפו | L8: 500250006 | M8: 14433.97 | N8: ILS | O8: 0 | Q8: תשלומי חשמל/מים/ארנונה/כבישי אגרה | R8: לא קיים | T8: לא
A9: פיתוח נגב, גליל וש.פעולה | B9: פיתוח הנגב והגליל וש | C9: פיתוח הנגב והגליל ושתפ"א | D9: 04560110 | E9: הוצאות תפעול | F9: 4501250600 | G9: שרותי עיצוב גרפי | H9: 42561 | J9: 0041449118 | K9: פלשקס נועה | L9: 039853312 | M9: 14332.5 | N9: ILS | O9: 0 | Q9: פטור ממכרז | S9: תקנה 3(1) - התקשרות ששוויה אינה עולה על 50,000 ש"ח | T9: לא
A10: פיתוח נגב, גליל וש.פעולה | B10: פיתוח הנגב והגליל וש | C10: פיתוח הנגב והגליל ושתפ"א | D10: 04560110 | E10: הוצאות תפעול | F10: 4501250600 | G10: שרותי עיצוב גרפי | H10: 42561 | J10: 0041449118 | K10: פלשקס נועה | L10: 039853312 | M10: 5265 | N10: ILS | O10: 5265 | P10: ILS | Q10: פטור ממכרז | S10: תקנה 3(1) - התקשרות ששוויה אינה עולה על 50,000 ש"ח | T10: לא
A11: פיתוח נגב, גליל וש.פעולה | B11: פיתוח הנגב והגליל וש | C11: פיתוח הנגב והגליל ושתפ"א | D11: 04560114 | E11: הדרכה ושכר לימוד | F11: 4501250898 | G11: \ארוחת בוקר שתפ"א | H11: 42562 | J11: 0040297945 | K11: פרדס רימונים בע"מ | L11: 512681065 | M11: 783.99 | N11: ILS | O11: 739.9 | P11: ILS | Q11: פטור ממכרז | S11: תקנה 3(1) - התקשרות ששוויה אינה עולה על 50,000 ש"ח | T11: לא
A12: פיתוח נגב, גליל וש.פעולה | B12: פיתוח הנגב והגליל וש | C12: פיתוח הנגב והגליל ושתפ"א | D12: 04560114 | E12: הדרכה ושכר לימוד | F12: 4501250912 | G12: טיול סגווי שתפ"א | H12: 42562 | J12: 0040530214 | K12: זוזו תיירות מוטורית בע"מ | L12: 514591320 | M12: 2319.97 | N12: ILS | O12: 2174.97 | P12: ILS | Q12: פטור ממכרז | S12: תקנה 3(1) - התקשרות ששוויה אינה עולה על 50,000 ש"ח | T12: לא
A13: פיתוח נגב, גליל וש.פעולה | B13: פיתוח הנגב והגליל וש | C13: פיתוח הנגב והגליל ושתפ"א | D13: 04560114 | E13: הדרכה ושכר לימוד | F13: 4501251014 | G13: סיור שתפ"א ירושלים | H13: 42562 | J13: 0040228339 | K13: בון תור בע"מ | L13: 511266306 | M13: 668.52 | N13: ILS | O13: 626.52 | P13: ILS | Q13: תקנה 14ב - מכרז מרכזי | R13: 537423 | T13: לא
A14: פיתוח נגב, גליל וש.פעולה | B14: פיתוח הנגב והגליל וש | C14: פיתוח הנגב והגליל ושתפ"א | D14: 04560110 | E14: הוצאות תפעול | F14: 4501251557 | G14: אירוח | H14: 42563 | J14: 0040266621 | K14: מאץ-מור ניהול מסעדות בע"מ | L14: 513500165 | M14: 959.96 | N14: ILS | O14: 719.97 | P14: ILS | Q14: פטור ממכרז | S14: תקנה 3(1) - התקשרות ששוויה אינה עולה על 50,000 ש"ח | T14: לא
A15: פיתוח נגב, גליל וש.פעולה | B15: פיתוח הנגב והגליל וש | C15: פיתוח הנגב והגליל ושתפ"א | D15: 04630201 | E15: תפעול | F15: 4501251560 | G15: ריהוט למשרד | H15: 42563 | J15: 0040003692 | K15: טופ-ליין יבוא ושיווק רהיטים בע"מ | L15: 511613564 | M15: 33696.66 | N15: ILS | O15: 33696.64 | P15: ILS | Q15: תקנה 14ב - מכרז מרכזי | R15: 559541 | T15: לא
A16: פיתוח נגב, גליל וש.פעולה | B16: פיתוח הנגב והגליל וש | C16: פיתוח הנגב והגליל ושתפ"א | D16: 04560114 | E16: הדרכה ושכר לימוד | F16: 4501251609 | G16: סיור שתפ"א ירושלים | H16: 42563 | J16: 0041403753 | K16: מרכז מורשת לחסידי אומות עולם (ע"ר) | L16: 580562601 | M16: 320 | N16: ILS | O16: 320 | P16: ILS | Q16: פטור ממכרז | S16: תקנה 3(1) - התקשרות ששוויה אינה עולה על 50,000 ש"ח | T16: לא
A17: פיתוח נגב, גליל וש.פעולה | B17: פיתוח הנגב והגליל וש | C17: פיתוח הנגב והגליל ושתפ"א | D17: 04630201 | E17: תפעול | F17: 4501251636 | G17: שירות עבודת חשמל | H17: 42563 | J17: 0040488433 | K17: דרורי מאיר | L17: 034500736 | M17: 1029.6 | N17: ILS | O17: 1029.6 | P17: ILS | Q17: פטור ממכרז | S17: תקנה 3(1) - התקשרות ששוויה אינה עולה על 50,000 ש"ח | T17: לא
A18: פיתוח נגב, גליל וש.פעולה | B18: פיתוח הנגב והגליל וש | C18: פיתוח הנגב והגליל ושתפ"א | D18: 04630201 | E18: תפעול | F18: 4501251809 | G18: שרותי אחזקה ונקיון ירושלים | H18: 42563 | J18: 0040003496 | K18: כלכלית ירושלים בע"מ | L18: 520017070 | M18: 105300 | N18: ILS | O18: 0 | Q18: פטור ממכרז | R18: לא קיים | S18: תקנה 3(29) - ספק יחיד | T18: לא
A19: פיתוח נגב, גליל וש.פעולה | B19: פיתוח הנגב והגליל וש | C19: פיתוח הנגב והגליל ושתפ"א | D19: 04630201 | E19: תפעול | F19: 4501252276 | G19: התאמה של קומה 16 לאגף חדש | H19: 42563 | J19: 0040293097 | K19: א. חביב עבודות בניה ופתוח בע"מ | L19: 513784348 | M19: 47092.5 | N19: ILS | O19: 47092.5 | P19: ILS | Q19: פטור ממכרז | S19: תקנה 3(1) - התקשרות ששוויה אינה עולה על 50,000 ש"ח | T19: לא
A20: פיתוח נגב, גליל וש.פעולה | B20: פיתוח הנגב והגליל וש | C20: פיתוח הנגב והגליל ושתפ"א | D20: 04560114 | E20: הדרכה ושכר לימוד | F20: 4501252560 | G20: אירוח | H20: 42564 | J20: 0040497517 | K20: א.א.ש מסעדנות ויזמות בע"מ | L20: 514526227 | M20: 1600 | N20: ILS | O20: -200 | P20: ILS | Q20: פטור ממכרז | S20: תקנה 3(1) - התקשרות ששוויה אינה עולה על 50,000 ש"ח | T20: לא
A21: פיתוח נגב, גליל וש.פעולה | B21: פיתוח הנגב והגליל וש | C21: פיתוח הנגב והגליל ושתפ"א | D21: 04560113 | E21: פעולות | F21: 4501253339 | G21: ייעוץ | H21: 42565 | I21: 42857 | J21: 0041387979 | K21: ג'י אם אי טראסט | L21: 540255452 | M21: 159931.32 | N21: ILS | O21: 0 | P21: ILS | Q21: תקנה 17ד - מכרז פומבי דו שלבי | R21: 573630 | T21: לא
A22: פיתוח נגב, גליל וש.פעולה | B22: פיתוח הנגב והגליל וש | C22: פיתוח הנגב והגליל ושתפ"א | D22: 04560110 | E22: הוצאות תפעול | F22: 4501255299 | G22: אירוח | H22: 42570 | J22: 0040266621 | K22: מאץ-מור ניהול מסעדות בע"מ | L22: 513500165 | M22: 1869.88 | N22: ILS | O22: 1869.88 | P22: ILS | Q22: פטור ממכרז | S22: תקנה 3(1) - התקשרות ששוויה אינה עולה על 50,000 ש"ח | T22: לא
A23: פיתוח נגב, גליל וש.פעולה | B23: פיתוח הנגב והגליל וש | C23: פיתוח הנגב והגליל ושתפ"א | D23: 04630307 | E23: השתתפות בלשכת הפרסופ | F23: 4501255795 | G23: פרסומים | H23: 42571 | J23: 0010000021 | K23: לשכת הפירסום הממשלתי | L23: 500100268 | M23: 4515 | N23: ILS | O23: 4515 | P23: ILS | Q23: פטור ממכרז | R23: אין | S23: תקנה 3(12) - לשכת הפרסום הממשלתית | T23: לא
A24: פיתוח נגב, גליל וש.פעולה | B24: פיתוח הנגב והגליל וש | C24: פיתוח הנגב והגליל ושתפ"א | D24: 04560110 | E24: הוצאות תפעול | F24: 4501256513 | G24: כיבוד | H24: 42572 | J24: 0041005599 | K24: אליהו אפי | L24: 032242976 | M24: 463.32 | N24: ILS | O24: 0 | Q24: פטור ממכרז | S24: תקנה 3(1) - התקשרות ששוויה אינה עולה על 50,000 ש"ח | T24: לא
A25: פיתוח נגב, גליל וש.פעולה | B25: פיתוח הנגב והגליל וש | C25: פיתוח הנגב והגליל ושתפ"א | D25: 04630307 | E25: השתתפות בלשכת הפרסופ | F25: 4501256526 | G25: פרסומים | H25: 42572 | I25: 43100 | J25: 0010000021 | K25: לשכת הפירסום הממשלתי | L25: 500100268 | M25: 24000 | N25: ILS | O25: 23875 | P25: ILS | Q25: פטור ממכרז | R25: אין | S25: תקנה 3(12) - לשכת הפרסום הממשלתית | T25: לא
A26: פיתוח נגב, גליל וש.פעולה | B26: פיתוח הנגב והגליל וש | C26: פיתוח הנגב והגליל ושתפ"א | D26: 04630201 | E26: תפעול | F26: 4501257250 | G26: ניצג ציבור ועדת בוחנים | H26: 42575 | J26: 0040963338 | K26: בלאו צביה | M26: 524.16 | N26: ILS | O26: 0 | Q26: פטור ממכרז | S26: תקנה 3(1) - התקשרות ששוויה אינה עולה על 50,000 ש"ח | T26: לא
A27: פיתוח נגב, גליל וש.פעולה | B27: פיתוח הנגב והגליל וש | C27: פיתוח הנגב והגליל ושתפ"א | D27: 04630201 | E27: תפעול | F27: 4501257278 | G27: שרותי מיפוי הדפסת מפות | H27: 42575 | J27: 0010000127 | K27: המרכז למיפוי ישראל | L27: 500105697 | M27: 2854 | N27: ILS | O27: 0 | Q27: התקשרות עם גופים ממשלתיים | T27: לא
A28: פיתוח נגב, גליל וש.פעולה | B28: פיתוח הנגב והגליל וש | C28: פיתוח הנגב והגליל ושתפ"א | D28: 04630201 | E28: תפעול | F28: 4501257516 | G28: ציוד טכני | H28: 42575 | J28: 0040464302 | K28: ע.י. טכניק (1991) בע"מ | L28: 511566150 | M28: 916.11 | N28: ILS | O28: 916.11 | P28: ILS | Q28: פטור ממכרז | S28: תקנה 3(1) - התקשרות ששוויה אינה עולה על 50,000 ש"ח | T28: לא
A29: פיתוח נגב, גליל וש.פעולה | B29: פיתוח הנגב והגליל וש | C29: פיתוח הנגב והגליל ושתפ"א | D29: 04630201 | E29: תפעול | F29: 4501257522 | G29: תשלום חשמל כנפי נשרים | H29: 42575 | I29: 42735 | J29: 0010000066 | K29: המשרד לשירותי דת | L29: 500106224 | M29: 60000 | N29: ILS | O29: 27845 | P29: ILS | Q29: התקשרות עם גופים ממשלתיים | T29: לא
A30: פיתוח נגב, גליל וש.פעולה | B30: פיתוח הנגב והגליל וש | C30: פיתוח הנגב והגליל ושתפ"א | D30: 04630201 | E30: תפעול | F30: 4501257527 | G30: שרותי חניה בירושלים | H30: 42575 | I30: 42735 | J30: 0010000066 | K30: המשרד לשירותי דת | L30: 500106224 | M30: 124800 | N30: ILS | O30: 56472 | P30: ILS | Q30: התקשרות עם גופים ממשלתיים | T30: לא
A31: פיתוח נגב, גליל וש.פעולה | B31: פיתוח הנגב והגליל וש | C31: פיתוח הנגב והגליל ושתפ"א | D31: 04630204 | E31: יועצים | F31: 4501257726 | G31: יעוץ | H31: 42576 | I31: 42735 | J31: 0041400764 | K31: איתן דנגוט בע"מ | L31: 515192185 | M31: 79051.19 | N31: ILS | O31: 77555.09 | P31: ILS | Q31: פטור ממכרז | S31: תקנה 3(1) - התקשרות ששוויה אינה עולה על 50,000 ש"ח | T31: לא
A32: פיתוח נגב, גליל וש.פעולה | B32: פיתוח הנגב והגליל וש | C32: פיתוח הנגב והגליל ושתפ"א | D32: 04560110 | E32: הוצאות תפעול | F32: 4501257796 | G32: נסיעות לחו"ל | H32: 42576 | J32: 0041003244 | K32: משרד סוכנות/האוצר נסיעות ממשלתית | L32: 500107321 | M32: 18.72 | N32: ILS | O32: 15.48 | P32: ILS | Q32: פטור ממכרז | S32: תקנה 3(1) - התקשרות ששוויה אינה עולה על 50,000 ש"ח | T32: לא
A33: פיתוח נגב, גליל וש.פעולה | B33: פיתוח הנגב והגליל וש | C33: פיתוח הנגב והגליל ושתפ"א | D33: 04560110 | E33: הוצאות תפעול | F33: 4501257985 | G33: הזמנת כרטיסי עובד | H33: 42576 | J33: 0010000020 | K33: משרד ראש הממשלה | L33: 500100037 | M33: 1930.5 | N33: ILS | O33: 1930.5 | P33: ILS | Q33: התקשרות עם גופים ממשלתיים | T33: לא
A34: פיתוח נגב, גליל וש.פעולה | B34: פיתוח הנגב והגליל וש | C34: פיתוח הנגב והגליל ושתפ"א | D34: 04630201 | E34: תפעול | F34: 4501257985 | G34: הזמנת כרטיסי עובד | H34: 42576 | J34: 0010000020 | K34: משרד ראש הממשלה | L34: 500100037 | M34: 4504.5 | N34: ILS | O34: 4504.5 | P34: ILS | Q34: התקשרות עם גופים ממשלתיים | T34: לא
A35: פיתוח נגב, גליל וש.פעולה | B35: פיתוח הנגב והגליל וש | C35: פיתוח הנגב והגליל ושתפ"א | D35: 04630307 | E35: השתתפות בלשכת הפרסופ | F35: 4501258835 | G35: פרסום קול קורא פניה לקבוצות אכלוס מצפה רמון | H35: 42577 | J35: 0010000021 | K35: לשכת הפירסום הממשלתי | L35: 500100268 | M35: 3265 | N35: ILS | O35: 3265 | P35: ILS | Q35: פטור ממכרז | R35: לא קיים משרד ממשלתי | S35: תקנה 3(12) - לשכת הפרסום הממשלתית | T35: לא
A36: פיתוח נגב, גליל וש.פעולה | B36: פיתוח הנגב והגליל וש | C36: פיתוח הנגב והגליל ושתפ"א | D36: 04630307 | E36: השתתפות בלשכת הפרסופ | F36: 4501258835 | G36: פרסום קול קורא פניה לקבוצות אכלוס מצפה רמון | H36: 42577 | J36: 0010000021 | K36: לשכת הפירסום הממשלתי | L36: 500100268 | M36: 237.5 | N36: ILS | O36: 0 | Q36: פטור ממכרז | R36: לא קיים משרד ממשלתי | S36: תקנה 3(12) - לשכת הפרסום הממשלתית | T36: לא
A37: פיתוח נגב, גליל וש.פעולה | B37: פיתוח הנגב והגליל וש | C37: פיתוח הנגב והגליל ושתפ"א | D37: 04630205 | E37: הדרכה ורווחה | F37: 4501260603 | G37: יום גיבוש אגף מנהל +בטחון | H37: 42582 | J37: 0040228339 | K37: בון תור בע"מ | L37: 511266306 | M37: 673.76 | N37: ILS | O37: 637.02 | P37: ILS | Q37: תקנה 14ב - מכרז מרכזי | R37: 537423 | T37: לא
A38: פיתוח נגב, גליל וש.פעולה | B38: פיתוח הנגב והגליל וש | C38: פיתוח הנגב והגליל ושתפ"א | D38: 04560110 | E38: הוצאות תפעול | F38: 4501261041 | G38: רכישת סורקים שולחניים | H38: 42583 | J38: 0040004286 | K38: אלפא מסופים ומדפסות בע"מ | L38: 510845555 | M38: 7644.78 | N38: ILS | O38: 7644.78 | P38: ILS | Q38: תקנה 14ב - מכרז מרכזי | R38: 528914 | T38: לא
A39: פיתוח נגב, גליל וש.פעולה | B39: פיתוח הנגב והגליל וש | C39: פיתוח הנגב והגליל ושתפ"א | D39: 04630201 | E39: תפעול | F39: 4501261041 | G39: רכישת סורקים שולחניים | H39: 42583 | J39: 0040004286 | K39: אלפא מסופים ומדפסות בע"מ | L39: 510845555 | M39: 7644.78 | N39: ILS | O39: 7644.78 | P39: ILS | Q39: תקנה 14ב - מכרז מרכזי | R39: 528914 | T39: לא
A40: פיתוח נגב, גליל וש.פעולה | B40: פיתוח הנגב והגליל וש | C40: פיתוח הנגב והגליל ושתפ"א | D40: 04630205 | E40: הדרכה ורווחה | F40: 4501261202 | G40: נציג ציבור בוועדת בוחנים | H40: 42583 | J40: 0040997399 | K40: קוגן מרק | M40: 524.16 | N40: ILS | O40: 0 | Q40: פטור ממכרז | S40: תקנה 3(1) - התקשרות ששוויה אינה עולה על 50,000 ש"ח | T40: לא
A41: פיתוח נגב, גליל וש.פעולה | B41: פיתוח הנגב והגליל וש | C41: פיתוח הנגב והגליל ושתפ"א | D41: 04630307 | E41: השתתפות בלשכת הפרסופ | F41: 4501262214 | G41: פרסום | H41: 42585 | J41: 0010000021 | K41: לשכת הפירסום הממשלתי | L41: 500100268 | M41: 6302.5 | N41: ILS | O41: 4133.75 | P41: ILS | Q41: פטור ממכרז | R41: אין | S41: תקנה 3(12) - לשכת הפרסום הממשלתית | T41: לא
A42: פיתוח נגב, גליל וש.פעולה | B42: פיתוח הנגב והגליל וש | C42: פיתוח הנגב והגליל ושתפ"א | D42: 04630201 | E42: תפעול | F42: 4501262214 | G42: פרסום | H42: 42585 | J42: 0010000021 | K42: לשכת הפירסום הממשלתי | L42: 500100268 | M42: 2625 | N42: ILS | O42: 1968.75 | P42: ILS | Q42: פטור ממכרז | R42: אין | S42: תקנה 3(12) - לשכת הפרסום הממשלתית | T42: לא
A43: פיתוח נגב, גליל וש.פעולה | B43: פיתוח הנגב והגליל וש | C43: פיתוח הנגב והגליל ושתפ"א | D43: 04630307 | E43: השתתפות בלשכת הפרסופ | F43: 4501262448 | G43: פרסום | H43: 42585 | J43: 0010000021 | K43: לשכת הפירסום הממשלתי | L43: 500100268 | M43: 8290 | N43: ILS | O43: 7664 | P43: ILS | Q43: פטור ממכרז | R43: אין | S43: תקנה 3(12) - לשכת הפרסום הממשלתית | T43: לא
A44: פיתוח נגב, גליל וש.פעולה | B44: פיתוח הנגב והגליל וש | C44: פיתוח הנגב והגליל ושתפ"א | D44: 04560110 | E44: הוצאות תפעול | F44: 4501262575 | G44: מגשי אירוח | H44: 42585 | J44: 0041344192 | K44: ע.ש. קפה בר בע"מ | L44: 514787696 | M44: 400 | N44: ILS | O44: 400 | P44: ILS | Q44: פטור ממכרז | S44: תקנה 3(1) - התקשרות ששוויה אינה עולה על 50,000 ש"ח | T44: לא
A45: פיתוח נגב, גליל וש.פעולה | B45: פיתוח הנגב והגליל וש | C45: פיתוח הנגב והגליל ושתפ"א | D45: 04630201 | E45: תפעול | F45: 4501262575 | G45: מגשי אירוח | H45: 42585 | J45: 0041344192 | K45: ע.ש. קפה בר בע"מ | L45: 514787696 | M45: 690 | N45: ILS | O45: 690 | P45: ILS | Q45: פטור ממכרז | S45: תקנה 3(1) - התקשרות ששוויה אינה עולה על 50,000 ש"ח | T45: לא
A46: פיתוח נגב, גליל וש.פעולה | B46: פיתוח הנגב והגליל וש | C46: פיתוח הנגב והגליל ושתפ"א | D46: 04630201 | E46: תפעול | F46: 4501264761 | G46: שירות תיקון שער מגנומטר | H46: 42590 | J46: 0040005156 | K46: אפקון בקרה ואוטומציה בע"מ | L46: 520043340 | M46: 1404 | N46: ILS | O46: 0 | Q46: פטור ממכרז | S46: תקנה 3(1) - התקשרות ששוויה אינה עולה על 50,000 ש"ח | T46: לא
A47: פיתוח נגב, גליל וש.פעולה | B47: פיתוח הנגב והגליל וש | C47: פיתוח הנגב והגליל ושתפ"א | D47: 04630201 | E47: תפעול | F47: 4501264771 | G47: תיקון מכשיר קשר | H47: 42590 | J47: 0040004160 | K47: מוטורולה סולושנס ישראל בע'מ | L47: 510180029 | M47: 1298.7 | N47: ILS | O47: 1298.7 | P47: ILS | Q47: פטור ממכרז | S47: תקנה 3(1) - התקשרות ששוויה אינה עולה על 50,000 ש"ח | T47: לא
A48: פיתוח נגב, גליל וש.פעולה | B48: פיתוח הנגב והגליל וש | C48: פיתוח הנגב והגליל ושתפ"א | D48: 04630201 | E48: תפעול | F48: 4501264981 | G48: הדפסת תלושי שכר | H48: 42591 | I48: 42735 | J48: 0040470571 | K48: מלם שכר בע"מ | L48: 513027102 | M48: 29250 | N48: ILS | O48: 16032.91 | P48: ILS | Q48: פטור ממכרז | R48: לא ידוע | S48: תקנה 3(29) - ספק יחיד | T48: לא
A49: פיתוח נגב, גליל וש.פעולה | B49: פיתוח הנגב והגליל וש | C49: פיתוח הנגב והגליל ושתפ"א | D49: 04560110 | E49: הוצאות תפעול | F49: 4501264981 | G49: הדפסת תלושי שכר | H49: 42591 | I49: 42735 | J49: 0040470571 | K49: מלם שכר בע"מ | L49: 513027102 | M49: 29250 | N49: ILS | O49: 16032.85 | P49: ILS | Q49: פטור ממכרז | R49: לא ידוע | S49: תקנה 3(29) - ספק יחיד | T49: לא
A50: פיתוח נגב, גליל וש.פעולה | B50: פיתוח הנגב והגליל וש | C50: פיתוח הנגב והגליל ושתפ"א | D50: 04630205 | E50: הדרכה ורווחה | F50: 4501265296 | G50: סיור אגף מנהל ובטחון | H50: 42591 | J50: 0040297945 | K50: פרדס רימונים בע"מ | L50: 512681065 | M50: 685.99 | N50: ILS | O50: 588 | P50: ILS | Q50: פטור ממכרז | S50: תקנה 3(1) - התקשרות ששוויה אינה עולה על 50,000 ש"ח | T50: לא
A51: פיתוח נגב, גליל וש.פעולה | B51: פיתוח הנגב והגליל וש | C51: פיתוח הנגב והגליל ושתפ"א | D51: 04630205 | E51: הדרכה ורווחה | F51: 4501265316 | G51: פעילות רווחה של אגף מנהל ובטחון | H51: 42591 | J51: 0040125986 | K51: גרשקוביץ מריה | L51: 323732198 | M51: 960 | N51: ILS | O51: 960 | P51: ILS | Q51: פטור ממכרז | S51: תקנה 3(1) - התקשרות ששוויה אינה עולה על 50,000 ש"ח | T51: לא
A52: פיתוח נגב, גליל וש.פעולה | B52: פיתוח הנגב והגליל וש | C52: פיתוח הנגב והגליל ושתפ"א | D52: 04630205 | E52: הדרכה ורווחה | F52: 4501265322 | G52: פעילות רווחה של אגף מנהל ובטחון | H52: 42591 | J52: 0041453517 | K52: א.פ.י.קפסולה בממילא בע"מ | L52: 515112894 | M52: 300.03 | N52: ILS | O52: 300.03 | P52: ILS | Q52: פטור ממכרז | S52: תקנה 3(1) - התקשרות ששוויה אינה עולה על 50,000 ש"ח | T52: לא
A53: פיתוח נגב, גליל וש.פעולה | B53: פיתוח הנגב והגליל וש | C53: פיתוח הנגב והגליל ושתפ"א | D53: 04630205 | E53: הדרכה ורווחה | F53: 4501265383 | G53: פעילות רווחה של אגף מנהל ובטחון | H53: 42591 | J53: 0040009103 | K53: א.ל.ע.ד. - אל עיר דוד | L53: 580108660 | M53: 2210 | N53: ILS | O53: 2180 | P53: ILS | Q53: פטור ממכרז | S53: תקנה 3(1) - התקשרות ששוויה אינה עולה על 50,000 ש"ח | T53: לא
A54: פיתוח נגב, גליל וש.פעולה | B54: פיתוח הנגב והגליל וש | C54: פיתוח הנגב והגליל ושתפ"א | D54: 04630201 | E54: תפעול | F54: 4501265445 | G54: לינה | H54: 42591 | J54: 0040002899 | K54: מלונות הכשרת הישוב בעמ | L54: 520029034 | M54: 585 | N54: ILS | O54: 585 | P54: ILS | Q54: פטור ממכרז | S54: תקנה 3(1) - התקשרות ששוויה אינה עולה על 50,000 ש"ח | T54: לא
A55: פיתוח נגב, גליל וש.פעולה | B55: פיתוח הנגב והגליל וש | C55: פיתוח הנגב והגליל ושתפ"א | D55: 04560110 | E55: הוצאות תפעול | F55: 4501267569 | G55: לינה | H55: 42596 | J55: 0040002899 | K55: מלונות הכשרת הישוב בעמ | L55: 520029034 | M55: 503.1 | N55: ILS | O55: 503.1 | P55: ILS | Q55: פטור ממכרז | S55: תקנה 3(1) - התקשרות ששוויה אינה עולה על 50,000 ש"ח | T55: לא
A56: פיתוח נגב, גליל וש.פעולה | B56: פיתוח הנגב והגליל וש | C56: פיתוח הנגב והגליל ושתפ"א | D56: 04630201 | E56: תפעול | F56: 4501267569 | G56: לינה | H56: 42596 | J56: 0040002899 | K56: מלונות הכשרת הישוב בעמ | L56: 520029034 | M56: 2012.4 | N56: ILS | O56: 1509.3 | P56: ILS | Q56: פטור ממכרז | S56: תקנה 3(1) - התקשרות ששוויה אינה עולה על 50,000 ש"ח | T56: לא
A57: פיתוח נגב, גליל וש.פעולה | B57: פיתוח הנגב והגליל וש | C57: פיתוח הנגב והגליל ושתפ"א | D57: 04630307 | E57: השתתפות בלשכת הפרסופ | F57: 4501267621 | G57: פרסום | H57: 42596 | J57: 0010000021 | K57: לשכת הפירסום הממשלתי | L57: 500100268 | M57: 6702.5 | N57: ILS | O57: 3352.5 | P57: ILS | Q57: פטור ממכרז | R57: אין | S57: תקנה 3(12) - לשכת הפרסום הממשלתית | T57: לא
A58: פיתוח נגב, גליל וש.פעולה | B58: פיתוח הנגב והגליל וש | C58: פיתוח הנגב והגליל ושתפ"א | D58: 04630201 | E58: תפעול | F58: 4501269064 | G58: שירות הרכבה לחצן פתיחה קומה 16 | H58: 42599 | J58: 0040001165 | K58: בינת יישום מערכות בע"מ | L58: 511012866 | M58: 1170 | N58: ILS | O58: 1170 | P58: ILS | Q58: פטור ממכרז | S58: תקנה 3(1) - התקשרות ששוויה אינה עולה על 50,000 ש"ח | T58: לא
A59: פיתוח נגב, גליל וש.פעולה | B59: פיתוח הנגב והגליל וש | C59: פיתוח הנגב והגליל ושתפ"א | D59: 04630204 | E59: יועצים | F59: 4501269150 | G59: שרותי יעוץ משפטי | H59: 42599 | J59: 0040170684 | K59: הלוי - דוויק בע"מ | L59: 513685990 | M59: 351000 | N59: ILS | O59: 32001.93 | P59: ILS | Q59: תקנה 1ב - מכרז פומבי רגיל | R59: 57058 | T59: לא
A60: פיתוח נגב, גליל וש.פעולה | B60: פיתוח הנגב והגליל וש | C60: פיתוח הנגב והגליל ושתפ"א | D60: 04560113 | E60: פעולות | F60: 4501269150 | G60: שרותי יעוץ משפטי | H60: 42599 | J60: 0040170684 | K60: הלוי - דוויק בע"מ | L60: 513685990 | M60: 117000 | N60: ILS | O60: 6349.59 | P60: ILS | Q60: תקנה 1ב - מכרז פומבי רגיל | R60: 57058 | T60: לא
A61: פיתוח נגב, גליל וש.פעולה | B61: פיתוח הנגב והגליל וש | C61: פיתוח הנגב והגליל ושתפ"א | D61: 04630201 | E61: תפעול | F61: 4501269655 | G61: רכישת ספות | H61: 42600 | J61: 0040003692 | K61: טופ-ליין יבוא ושיווק רהיטים בע"מ | L61: 511613564 | M61: 1284.08 | N61: ILS | O61: 0 | Q61: תקנה 14ב - מכרז מרכזי | R61: 559541 | T61: לא
A62: פיתוח נגב, גליל וש.פעולה | B62: פיתוח הנגב והגליל וש | C62: פיתוח הנגב והגליל ושתפ"א | D62: 04630303 | E62: פעולות לפיתוח הנגב | F62: 4501269862 | G62: תכנון תאורה - פרויקט "מאירים את הגליל" | H62: 42603 | J62: 0040208400 | K62: טופז חברה להנדסת חשמל ותאורה בע"מ | L62: 512749920 | M62: 49999.96 | N62: ILS | O62: 0 | Q62: פטור ממכרז | S62: תקנה 3(1) - התקשרות ששוויה אינה עולה על 50,000 ש"ח | T62: לא
A63: פיתוח נגב, גליל וש.פעולה | B63: פיתוח הנגב והגליל וש | C63: פיתוח הנגב והגליל ושתפ"א | D63: 04630201 | E63: תפעול | F63: 4501269892 | G63: תשתיות תקשורת | H63: 42600 | J63: 0040514141 | K63: מגלקום בע"מ | L63: 510728777 | M63: 4261.78 | N63: ILS | O63: 0 | Q63: תקנה 14ב - מכרז מרכזי | R63: 516787 | T63: לא
A64: פיתוח נגב, גליל וש.פעולה | B64: פיתוח הנגב והגליל וש | C64: פיתוח הנגב והגליל ושתפ"א | D64: 04630206 | E64: מחשוב | F64: 4501270018 | G64: אחריות מחשבים | H64: 42603 | J64: 0040005426 | K64: טלקוד מחשבים בע"מ | L64: 510592728 | M64: 835.87 | N64: ILS | O64: 835.87 | P64: ILS | Q64: תקנה 14ב - מכרז מרכזי | R64: 553417 | T64: לא
A65: פיתוח נגב, גליל וש.פעולה | B65: פיתוח הנגב והגליל וש | C65: פיתוח הנגב והגליל ושתפ"א | D65: 04560111 | E65: הוצאות מחשוב | F65: 4501270018 | G65: אחריות מחשבים | H65: 42603 | J65: 0040005426 | K65: טלקוד מחשבים בע"מ | L65: 510592728 | M65: 835.87 | N65: ILS | O65: 835.87 | P65: ILS | Q65: תקנה 14ב - מכרז מרכזי | R65: 553417 | T65: לא
A66: פיתוח נגב, גליל וש.פעולה | B66: פיתוח הנגב והגליל וש | C66: פיתוח הנגב והגליל ושתפ"א | D66: 04630307 | E66: השתתפות בלשכת הפרסופ | F66: 4501270268 | G66: פרסום | H66: 42603 | J66: 0010000021 | K66: לשכת הפירסום הממשלתי | L66: 500100268 | M66: 2528.13 | N66: ILS | O66: 2528.13 | P66: ILS | Q66: פטור ממכרז | R66: אין | S66: תקנה 3(12) - לשכת הפרסום הממשלתית | T66: לא
A67: פיתוח נגב, גליל וש.פעולה | B67: פיתוח הנגב והגליל וש | C67: פיתוח הנגב והגליל ושתפ"א | D67: 04630307 | E67: השתתפות בלשכת הפרסופ | F67: 4501270268 | G67: פרסום | H67: 42603 | J67: 0010000021 | K67: לשכת הפירסום הממשלתי | L67: 500100268 | M67: 118.75 | N67: ILS | O67: 0 | Q67: פטור ממכרז | R67: אין | S67: תקנה 3(12) - לשכת הפרסום הממשלתית | T67: לא
A68: פיתוח נגב, גליל וש.פעולה | B68: פיתוח הנגב והגליל וש | C68: פיתוח הנגב והגליל ושתפ"א | D68: 04630201 | E68: תפעול | F68: 4501270659 | G68: רכישת מדפסת אישית | H68: 42603 | J68: 0040001244 | K68: דנגוט מחשבים בע"מ | L68: 511398836 | M68: 2819.61 | N68: ILS | O68: 3108.85 | P68: ILS | Q68: תקנה 14ב - מכרז מרכזי | R68: 543274 | T68: לא
A69: פיתוח נגב, גליל וש.פעולה | B69: פיתוח הנגב והגליל וש | C69: פיתוח הנגב והגליל ושתפ"א | D69: 04630201 | E69: תפעול | F69: 4501270660 | G69: מסך לד למצגות | H69: 42603 | J69: 0040015936 | K69: יניר מערכות בע"מ | L69: 511732893 | M69: 1983.73 | N69: ILS | O69: 1983.74 | P69: ILS | Q69: תקנה 14ב - מכרז מרכזי | R69: 581696 | T69: לא
A70: פיתוח נגב, גליל וש.פעולה | B70: פיתוח הנגב והגליל וש | C70: פיתוח הנגב והגליל ושתפ"א | D70: 04560110 | E70: הוצאות תפעול | F70: 4501271612 | G70: מגשי אירוח | H70: 42605 | J70: 0041344192 | K70: ע.ש. קפה בר בע"מ | L70: 514787696 | M70: 610 | N70: ILS | O70: 610 | P70: ILS | Q70: פטור ממכרז | S70: תקנה 3(1) - התקשרות ששוויה אינה עולה על 50,000 ש"ח | T70: לא
A71: פיתוח נגב, גליל וש.פעולה | B71: פיתוח הנגב והגליל וש | C71: פיתוח הנגב והגליל ושתפ"א | D71: 04630205 | E71: הדרכה ורווחה | F71: 4501271726 | G71: כנס ממונים על הרווחה-נציבות שרות המדינה | H71: 42605 | J71: 0010000461 | K71: נציבות שרות המדינה | L71: 500104823 | M71: 1000 | N71: ILS | O71: 1000 | P71: ILS | Q71: התקשרות עם גופים ממשלתיים | T71: לא
A72: פיתוח נגב, גליל וש.פעולה | B72: פיתוח הנגב והגליל וש | C72: פיתוח הנגב והגליל ושתפ"א | D72: 04630201 | E72: תפעול | F72: 4501272297 | G72: ציוד מטבח | H72: 42606 | J72: 0040005141 | K72: הום סנטר (עשה זאת בעצמך) בע"מ | L72: 520038480 | M72: 878.4 | N72: ILS | O72: 496.98 | P72: ILS | Q72: פטור ממכרז | S72: תקנה 3(1) - התקשרות ששוויה אינה עולה על 50,000 ש"ח | T72: לא
A73: פיתוח נגב, גליל וש.פעולה | B73: פיתוח הנגב והגליל וש | C73: פיתוח הנגב והגליל ושתפ"א | D73: 04630201 | E73: תפעול | F73: 4501272297 | G73: ציוד מטבח | H73: 42606 | J73: 0040005141 | K73: הום סנטר (עשה זאת בעצמך) בע"מ | L73: 520038480 | M73: 91.44 | N73: ILS | O73: 0 | Q73: פטור ממכרז | S73: תקנה 3(1) - התקשרות ששוויה אינה עולה על 50,000 ש"ח | T73: לא
A74: פיתוח נגב, גליל וש.פעולה | B74: פיתוח הנגב והגליל וש | C74: פיתוח הנגב והגליל ושתפ"א | D74: 04630205 | E74: הדרכה ורווחה | F74: 4501272325 | G74: שי ראש השנה | H74: 42606 | J74: 0070003769 | K74: ועד עובדים משרד רוה"מ-ירושלים | L74: 22000000 | M74: 5500 | N74: ILS | O74: 5500 | P74: ILS | Q74: התקשרות עם גופים ממשלתיים | T74: לא
A75: פיתוח נגב, גליל וש.פעולה | B75: פיתוח הנגב והגליל וש | C75: פיתוח הנגב והגליל ושתפ"א | D75: 04560114 | E75: הדרכה ושכר לימוד | F75: 4501272325 | G75: שי ראש השנה | H75: 42606 | J75: 0070003769 | K75: ועד עובדים משרד רוה"מ-ירושלים | L75: 22000000 | M75: 1800 | N75: ILS | O75: 1800 | P75: ILS | Q75: התקשרות עם גופים ממשלתיים | T75: לא
A76: פיתוח נגב, גליל וש.פעולה | B76: פיתוח הנגב והגליל וש | C76: פיתוח הנגב והגליל ושתפ"א | D76: 04630303 | E76: פעולות לפיתוח הנגב | F76: 4501272506 | G76: ייעוץ מאירים את הגליל - המשך התקשרות | H76: 42607 | I76: 42781 | J76: 0041405629 | K76: אלפסי נתנאל | L76: 057102147 | M76: 49998.78 | N76: ILS | O76: 13993.2 | P76: ILS | Q76: פטור ממכרז | S76: תקנה 3(1) - התקשרות ששוויה אינה עולה על 50,000 ש"ח | T76: לא
A77: פיתוח נגב, גליל וש.פעולה | B77: פיתוח הנגב והגליל וש | C77: פיתוח הנגב והגליל ושתפ"א | D77: 04560110 | E77: הוצאות תפעול | F77: 4501272754 | G77: נסיעות לחו"ל | H77: 42607 | J77: 0041003244 | K77: משרד סוכנות/האוצר נסיעות ממשלתית | L77: 500107321 | M77: 16965.7 | N77: ILS | O77: 17623.36 | P77: ILS | Q77: פטור ממכרז | R77: אין | S77: תקנה 3(29) - ספק יחיד | T77: לא
A78: פיתוח נגב, גליל וש.פעולה | B78: פיתוח הנגב והגליל וש | C78: פיתוח הנגב והגליל ושתפ"א | D78: 04560110 | E78: הוצאות תפעול | F78: 4501272783 | G78: נסיעות לחו"ל | H78: 42607 | J78: 0050000297 | K78: MINISTRY OF FOREIGN AFFAIRS VIA BAN | L78: 500101076 | M78: 4777.11 | N78: USD | O78: 0 | Q78: פטור ממכרז | R78: אין | S78: תקנה 3(29) - ספק יחיד | T78: לא
A79: פיתוח נגב, גליל וש.פעולה | B79: פיתוח הנגב והגליל וש | C79: פיתוח הנגב והגליל ושתפ"א | D79: 04630307 | E79: השתתפות בלשכת הפרסופ | F79: 4501273116 | G79: מודעה בעניין נוהל סיוע בשדרוג מרכזים מסחריים ושווק | H79: 42610 | J79: 0010000021 | K79: לשכת הפירסום הממשלתי | L79: 500100268 | M79: 4515 | N79: ILS | O79: 4515 | P79: ILS | Q79: פטור ממכרז | R79: אין | S79: תקנה 3(12) - לשכת הפרסום הממשלתית | T79: לא
A80: פיתוח נגב, גליל וש.פעולה | B80: פיתוח הנגב והגליל וש | C80: פיתוח הנגב והגליל ושתפ"א | D80: 04630307 | E80: השתתפות בלשכת הפרסופ | F80: 4501273116 | G80: מודעה בעניין נוהל סיוע בשדרוג מרכזים מסחריים ושווק | H80: 42610 | J80: 0010000021 | K80: לשכת הפירסום הממשלתי | L80: 500100268 | M80: 2712.5 | N80: ILS | O80: 0 | Q80: פטור ממכרז | R80: אין | S80: תקנה 3(12) - לשכת הפרסום הממשלתית | T80: לא
A81: פיתוח נגב, גליל וש.פעולה | B81: פיתוח הנגב והגליל וש | C81: פיתוח הנגב והגליל ושתפ"א | D81: 04630303 | E81: פעולות לפיתוח הנגב | F81: 4501273219 | G81: שירותי יח"צ - פסטיבל "ימי ענף הזית" | H81: 42610 | I81: 42704 | J81: 0041111871 | K81: אזולאי פי.אר אנד מור בע"מ | L81: 514599430 | M81: 22049.82 | N81: ILS | O81: 22049.82 | P81: ILS | Q81: פטור ממכרז | S81: תקנה 3(1) - התקשרות ששוויה אינה עולה על 50,000 ש"ח | T81: לא
A82: פיתוח נגב, גליל וש.פעולה | B82: פיתוח הנגב והגליל וש | C82: פיתוח הנגב והגליל ושתפ"א | D82: 04630201 | E82: תפעול | F82: 4501273679 | G82: רכישת מתקן מים | H82: 42611 | J82: 0040386641 | K82: שטראוס מים בע"מ | L82: 513919779 | M82: 2680.23 | N82: ILS | O82: 0 | Q82: תקנה 14ב - מכרז מרכזי | R82: 535400 | T82: לא
A83: פיתוח נגב, גליל וש.פעולה | B83: פיתוח הנגב והגליל וש | C83: פיתוח הנגב והגליל ושתפ"א | D83: 04630307 | E83: השתתפות בלשכת הפרסופ | F83: 4501273833 | G83: פרסום מודעה תמיכה בארועי תרבות הבהרה | H83: 42611 | J83: 0010000021 | K83: לשכת הפירסום הממשלתי | L83: 500100268 | M83: 3289.69 | N83: ILS | O83: 3289.69 | P83: ILS | Q83: פטור ממכרז | R83: אין | S83: תקנה 3(12) - לשכת הפרסום הממשלתית | T83: לא
A84: פיתוח נגב, גליל וש.פעולה | B84: פיתוח הנגב והגליל וש | C84: פיתוח הנגב והגליל ושתפ"א | D84: 04630307 | E84: השתתפות בלשכת הפרסופ | F84: 4501273833 | G84: פרסום מודעה תמיכה בארועי תרבות הבהרה | H84: 42611 | J84: 0010000021 | K84: לשכת הפירסום הממשלתי | L84: 500100268 | M84: 508.5 | N84: ILS | O84: 0 | Q84: פטור ממכרז | R84: אין | S84: תקנה 3(12) - לשכת הפרסום הממשלתית | T84: לא
A85: פיתוח נגב, גליל וש.פעולה | B85: פיתוח הנגב והגליל וש | C85: פיתוח הנגב והגליל ושתפ"א | D85: 04630201 | E85: תפעול | F85: 4501275658 | G85: שרותי הובלה ואריזה | H85: 42617 | J85: 0040007214 | K85: א.ס. לב הובלה ואחסנה בע"מ | L85: 513028449 | M85: 5265 | N85: ILS | O85: 5265 | P85: ILS | Q85: פטור ממכרז | S85: תקנה 3(1) - התקשרות ששוויה אינה עולה על 50,000 ש"ח | T85: לא
A86: פיתוח נגב, גליל וש.פעולה | B86: פיתוח הנגב והגליל וש | C86: פיתוח הנגב והגליל ושתפ"א | D86: 04560110 | E86: הוצאות תפעול | F86: 4501275731 | G86: לינה | H86: 42617 | J86: 0040001044 | K86: מלון מוריה תל-אביב בע"מ | L86: 510069784 | M86: 749.99 | N86: ILS | O86: 749.99 | P86: ILS | Q86: פטור ממכרז | S86: תקנה 3(1) - התקשרות ששוויה אינה עולה על 50,000 ש"ח | T86: לא
A87: פיתוח נגב, גליל וש.פעולה | B87: פיתוח הנגב והגליל וש | C87: פיתוח הנגב והגליל ושתפ"א | D87: 04560113 | E87: פעולות | F87: 4501277321 | G87: ייעוץ | H87: 42619 | I87: 42735 | J87: 0040517642 | K87: דן תרזה יוזמות בע"מ | L87: 514080209 | M87: 57891.37 | N87: ILS | O87: 55268.28 | P87: ILS | Q87: פטור ממכרז | R87: אין. | S87: תקנה 3(4)(ב)(2) - התקשרות המשך באישור ועדת פטור משרדית | T87: לא
A88: פיתוח נגב, גליל וש.פעולה | B88: פיתוח הנגב והגליל וש | C88: פיתוח הנגב והגליל ושתפ"א | D88: 04630303 | E88: פעולות לפיתוח הנגב | F88: 4501278282 | G88: תכלול פסטיבל ימי ענף הזית בגליל 2016 | H88: 42621 | I88: 42704 | J88: 0040459696 | K88: מעוזים ייזום והפקה בע"מ | L88: 514497338 | M88: 33499.45 | N88: ILS | O88: 0 | Q88: פטור ממכרז | S88: תקנה 3(1) - התקשרות ששוויה אינה עולה על 50,000 ש"ח | T88: לא
A89: פיתוח נגב, גליל וש.פעולה | B89: פיתוח הנגב והגליל וש | C89: פיתוח הנגב והגליל ושתפ"א | D89: 04630316 | E89: פרויקטים ארוכי טווח | F89: 4501278613 | G89: מיפוי ישובים דרוזים וצ'רקסים בגליל | H89: 42621 | J89: 0010000127 | K89: המרכז למיפוי ישראל | L89: 500105697 | M89: 219287.25 | N89: ILS | O89: 0 | Q89: התקשרות עם גופים ממשלתיים | T89: לא
A90: פיתוח נגב, גליל וש.פעולה | B90: פיתוח הנגב והגליל וש | C90: פיתוח הנגב והגליל ושתפ"א | D90: 04630205 | E90: הדרכה ורווחה | F90: 4501280100 | G90: יום גיבוש לשכת | H90: 42625 | J90: 0040324848 | K90: גור דרורה | L90: 024653271 | M90: 1130 | N90: ILS | O90: 1130 | P90: ILS | Q90: פטור ממכרז | S90: תקנה 3(1) - התקשרות ששוויה אינה עולה על 50,000 ש"ח | T90: לא
A91: פיתוח נגב, גליל וש.פעולה | B91: פיתוח הנגב והגליל וש | C91: פיתוח הנגב והגליל ושתפ"א | D91: 04630205 | E91: הדרכה ורווחה | F91: 4501280127 | G91: סיור עובדים | H91: 42625 | J91: 0040003449 | K91: אגודת הכורמים הקואופרטיבית של יקבי | L91: 570000315 | M91: 1000.12 | N91: ILS | O91: 800.09 | P91: ILS | Q91: פטור ממכרז | S91: תקנה 3(1) - התקשרות ששוויה אינה עולה על 50,000 ש"ח | T91: לא
A92: פיתוח נגב, גליל וש.פעולה | B92: פיתוח הנגב והגליל וש | C92: פיתוח הנגב והגליל ושתפ"א | D92: 04630204 | E92: יועצים | F92: 4501280430 | G92: יועץ | H92: 42626 | I92: 42735 | J92: 0041067618 | K92: מצויינות פרוייקטים חברתיים וכלכליים | L92: 512353475 | M92: 28263.22 | N92: ILS | O92: 14826.01 | P92: ILS | Q92: פטור ממכרז | R92: 551131 | S92: תקנה 3(4)(ב)(1) - התקשרות המשך באישור ועדת מכרזים משרדית | T92: לא
A93: פיתוח נגב, גליל וש.פעולה | B93: פיתוח הנגב והגליל וש | C93: פיתוח הנגב והגליל ושתפ"א | D93: 04630205 | E93: הדרכה ורווחה | F93: 4501280490 | G93: סיור עובדים | H93: 42626 | J93: 0040818478 | K93: ג'יפ חיון בע"מ | L93: 512592601 | M93: 2100.03 | N93: ILS | O93: 2100.03 | P93: ILS | Q93: פטור ממכרז | S93: תקנה 3(1) - התקשרות ששוויה אינה עולה על 50,000 ש"ח | T93: לא
A94: פיתוח נגב, גליל וש.פעולה | B94: פיתוח הנגב והגליל וש | C94: פיתוח הנגב והגליל ושתפ"א | D94: 04560110 | E94: הוצאות תפעול | F94: 4501280510 | G94: פרסום | H94: 42626 | I94: 42735 | J94: 0010000021 | K94: לשכת הפירסום הממשלתי | L94: 500100268 | M94: 200000 | N94: ILS | O94: 0 | Q94: פטור ממכרז | R94: אין | S94: תקנה 3(12) - לשכת הפרסום הממשלתית | T94: לא
A95: פיתוח נגב, גליל וש.פעולה | B95: פיתוח הנגב והגליל וש | C95: פיתוח הנגב והגליל ושתפ"א | D95: 04630205 | E95: הדרכה ורווחה | F95: 4501280681 | G95: סיור עובדים | H95: 42626 | J95: 0040326234 | K95: ארבילי נסים | L95: 071552046 | M95: 1600.09 | N95: ILS | O95: 1280.07 | P95: ILS | Q95: פטור ממכרז | S95: תקנה 3(1) - התקשרות ששוויה אינה עולה על 50,000 ש"ח | T95: לא
A96: פיתוח נגב, גליל וש.פעולה | B96: פיתוח הנגב והגליל וש | C96: פיתוח הנגב והגליל ושתפ"א | D96: 04630205 | E96: הדרכה ורווחה | F96: 4501280800 | G96: סיור עובדים | H96: 42626 | J96: 0040149022 | K96: כיף ים - אגודה שיתופית חקלאית בע"מ | L96: 570044685 | M96: 259.97 | N96: ILS | O96: 207.98 | P96: ILS | Q96: פטור ממכרז | S96: תקנה 3(1) - התקשרות ששוויה אינה עולה על 50,000 ש"ח | T96: לא
A97: פיתוח נגב, גליל וש.פעולה | B97: פיתוח הנגב והגליל וש | C97: פיתוח הנגב והגליל ושתפ"א | D97: 04630205 | E97: הדרכה ורווחה | F97: 4501280823 | G97: סיור עובדים | H97: 42626 | J97: 0041459450 | K97: נילי בית יין וקפה בע"מ | L97: 515259778 | M97: 1499.94 | N97: ILS | O97: 1499.94 | P97: ILS | Q97: פטור ממכרז | S97: תקנה 3(1) - התקשרות ששוויה אינה עולה על 50,000 ש"ח | T97: לא
A98: פיתוח נגב, גליל וש.פעולה | B98: פיתוח הנגב והגליל וש | C98: פיתוח הנגב והגליל ושתפ"א | D98: 04560110 | E98: הוצאות תפעול | F98: 4501280875 | G98: פרסום מכרז 04/2016 | H98: 42626 | J98: 0010000021 | K98: לשכת הפירסום הממשלתי | L98: 500100268 | M98: 6665 | N98: ILS | O98: 6646.24 | P98: ILS | Q98: פטור ממכרז | R98: 586341 | S98: תקנה 3(12) - לשכת הפרסום הממשלתית | T98: לא
A99: פיתוח נגב, גליל וש.פעולה | B99: פיתוח הנגב והגליל וש | C99: פיתוח הנגב והגליל ושתפ"א | D99: 04630205 | E99: הדרכה ורווחה | F99: 4501281095 | G99: טקס ראש השנה 2016 | H99: 42627 | J99: 0041344192 | K99: ע.ש. קפה בר בע"מ | L99: 514787696 | M99: 2900 | N99: ILS | O99: 2900 | P99: ILS | Q99: פטור ממכרז | S99: תקנה 3(1) - התקשרות ששוויה אינה עולה על 50,000 ש"ח | T99: לא
A100: פיתוח נגב, גליל וש.פעולה | B100: פיתוח הנגב והגליל וש | C100: פיתוח הנגב והגליל ושתפ"א | D100: 04560110 | E100: הוצאות תפעול | F100: 4501281822 | G100: נסיעה לחו"ל | H100: 42628 | J100: 0041003244 | K100: משרד סוכנות/האוצר נסיעות ממשלתית | L100: 500107321 | M100: 61542 | N100: ILS | O100: 58088.17 | P100: ILS | Q100: פטור ממכרז | R100: אין | S100: תקנה 3(5) - חברה ממשלתית | T100: לא
...

Sheet רבעון 4 - 2016
A1: שם חברה | B1: תאור של ארגון רכש | C1: שם אתר | D1: תקנה תקציבית | E1: תיאור תקנה תקציבית | F1: הזמנת רכש | H1: מטרת התקשרות | I1: תאריך יצירת ההזמנה | J1: סיום תקופת תוקף | K1: קוד ספק | L1: שם הספק | M1: מספר ח"פ | N1: ערך ההזמנה כולל מע"מ | O1: מטבע | P1: ביצוע חשבוניות במטבע מקומי כולל מע"מ והצ | Q1: מטבע חשבונית | R1: אופן רכישה | S1: מס' פנייה במנו"ף/מנור" | T1: סיבת פטור | U1: הזמנה רגישה
A2: פיתוח נגב, גליל וש.פעולה | B2: פיתוח הנגב והגליל וש | C2: פיתוח הנגב והגליל ושתפ"א | D2: 04630204 | E2: יועצים | F2: 4501289949 | G2: =VLOOKUP(F2,[1]גיליון1!$F:$H,3,0) -> ייעוץ | H2: ייעוץ | I2: 42652 | J2: 42886 | K2: 0040010472 | L2: גדיש חברה להנדסה בע"מ | M2: 510812118 | N2: 86931.05 | O2: ILS | P2: 86931.05 | Q2: ILS | R2: פטור ממכרז | S2: 551378 | T2: תקנה 3ג - מימוש זכות ברירה | U2: לא
A3: פיתוח נגב, גליל וש.פעולה | B3: פיתוח הנגב והגליל וש | C3: פיתוח הנגב והגליל ושתפ"א | D3: 04630312 | E3: מוסדות ציבור | F3: 4501289949 | G3: =VLOOKUP(F3,[1]גיליון1!$F:$H,3,0) -> ייעוץ | H3: ייעוץ | I3: 42652 | J3: 42886 | K3: 0040010472 | L3: גדיש חברה להנדסה בע"מ | M3: 510812118 | N3: 481460.8 | O3: ILS | P3: 54301.2 | Q3: ILS | R3: פטור ממכרז | S3: 551378 | T3: תקנה 3ג - מימוש זכות ברירה | U3: לא
A4: פיתוח נגב, גליל וש.פעולה | B4: פיתוח הנגב והגליל וש | C4: פיתוח הנגב והגליל ושתפ"א | D4: 04630312 | E4: מוסדות ציבור | F4: 4501290968 | G4: =VLOOKUP(F4,[1]גיליון1!$F:$H,3,0) -> יועצים | H4: יועצים | I4: 42653 | J4: 42886 | K4: 0040004961 | L4: גאו-דע - ניהול ומידע מקרקעין ונכסים | M4: 512765033 | N4: 1357200 | O4: ILS | P4: 629055.79 | Q4: ILS | R4: תקנה 3ג - מימוש זכות ברירה | S4: 1 | U4: לא
A5: פיתוח נגב, גליל וש.פעולה | B5: פיתוח הנגב והגליל וש | C5: פיתוח הנגב והגליל ושתפ"א | D5: 04560110 | E5: הוצאות תפעול | F5: 4501292657 | G5: =VLOOKUP(F5,[1]גיליון1!$F:$H,3,0) -> טיסה לרומא סגן השר | H5: טיסה לרומא סגן השר | I5: 42668 | K5: 0041003244 | L5: משרד סוכנות/האוצר נסיעות ממשלתית | M5: 500107321 | N5: 23937.08 | O5: ILS | P5: 21497.2 | Q5: ILS | R5: התקשרות עם גופים ממשלתיים | U5: לא
A6: פיתוח נגב, גליל וש.פעולה | B6: פיתוח הנגב והגליל וש | C6: פיתוח הנגב והגליל ושתפ"א | D6: 04630201 | E6: תפעול | F6: 4501294876 | G6: =VLOOKUP(F6,[1]גיליון1!$F:$H,3,0) -> נציג ציבור בועדת בוחנים | H6: נציג ציבור בועדת בוחנים | I6: 42673 | K6: 0040387230 | L6: איתן יובל אהובה | N6: 524.16 | O6: ILS | P6: 524.16 | Q6: ILS | R6: פטור ממכרז | T6: תקנה 3(1) - התקשרות ששוויה אינה עולה על 50,000 ש"ח | U6: לא
A7: פיתוח נגב, גליל וש.פעולה | B7: פיתוח הנגב והגליל וש | C7: פיתוח הנגב והגליל ושתפ"א | D7: 04560110 | E7: הוצאות תפעול | F7: 4501295532 | G7: =VLOOKUP(F7,[1]גיליון1!$F:$H,3,0) -> הלנת עובדים בירושלים | H7: הלנת עובדים בירושלים | I7: 42673 | K7: 0040001418 | L7: מלון קדם ירושלים בע"מ | M7: 512319229 | N7: 9889.96 | O7: ILS | P7: 2150 | Q7: ILS | R7: פטור ממכרז | T7: תקנה 3(1) - התקשרות ששוויה אינה עולה על 50,000 ש"ח | U7: לא
A8: פיתוח נגב, גליל וש.פעולה | B8: פיתוח הנגב והגליל וש | C8: פיתוח הנגב והגליל ושתפ"א | D8: 04630317 | E8: פריפריה חברתית | F8: 4501295761 | G8: =VLOOKUP(F8,[1]גיליון1!$F:$H,3,0) -> מיפוי ישוןבי בני מיעוטים | H8: מיפוי ישוןבי בני מיעוטים | I8: 42674 | K8: 0010000127 | L8: המרכז למיפוי ישראל | M8: 500105697 | N8: 612223 | O8: ILS | P8: 0 | R8: התקשרות עם גופים ממשלתיים | U8: לא
A9: פיתוח נגב, גליל וש.פעולה | B9: פיתוח הנגב והגליל וש | C9: פיתוח הנגב והגליל ושתפ"א | D9: 04560110 | E9: הוצאות תפעול | F9: 4501296097 | G9: =VLOOKUP(F9,[1]גיליון1!$F:$H,3,0) -> רכישת נייר ממוחזר | H9: רכישת נייר ממוחזר | I9: 42674 | K9: 0040001103 | L9: קרביץ (1974) בעמ | M9: 510674039 | N9: 1105.65 | O9: ILS | P9: 1105.65 | Q9: ILS | R9: תקנה 14ב - מכרז מרכזי | S9: 529619 | U9: לא
A10: פיתוח נגב, גליל וש.פעולה | B10: פיתוח הנגב והגליל וש | C10: פיתוח הנגב והגליל ושתפ"א | D10: 04560110 | E10: הוצאות תפעול | F10: 4501296120 | G10: =VLOOKUP(F10,[1]גיליון1!$F:$H,3,0) -> לינה לסגן השר איוב קרא | H10: לינה לסגן השר איוב קרא | I10: 42674 | K10: 0040005198 | L10: עמיתי מלון הרצל י-ם | M10: 557375441 | N10: 9899.88 | O10: ILS | P10: 9899.89 | Q10: ILS | R10: פטור ממכרז | T10: תקנה 3(1) - התקשרות ששוויה אינה עולה על 50,000 ש"ח | U10: לא
A11: פיתוח נגב, גליל וש.פעולה | B11: פיתוח הנגב והגליל וש | C11: פיתוח הנגב והגליל ושתפ"א | D11: 04560110 | E11: הוצאות תפעול | F11: 4501297420 | G11: =VLOOKUP(F11,[1]גיליון1!$F:$H,3,0) -> ארוחת צהריים 06/11/2016 | H11: ארוחת צהריים 06/11/2016 | I11: 42676 | K11: 0040266621 | L11: מאץ-מור ניהול מסעדות בע"מ | M11: 513500165 | N11: 959.96 | O11: ILS | P11: 1209.5 | Q11: ILS | R11: פטור ממכרז | T11: תקנה 3(1) - התקשרות ששוויה אינה עולה על 50,000 ש"ח | U11: לא
A12: פיתוח נגב, גליל וש.פעולה | B12: פיתוח הנגב והגליל וש | C12: פיתוח הנגב והגליל ושתפ"א | D12: 04560110 | E12: הוצאות תפעול | F12: 4501297760 | G12: =VLOOKUP(F12,[1]גיליון1!$F:$H,3,0) -> תחזוקה מערכת אבטחה | H12: תחזוקה מערכת אבטחה | I12: 42675 | J12: 43039 | K12: 0040001165 | L12: בינת יישום מערכות בע"מ | M12: 511012866 | N12: 9360 | O12: ILS | P12: 9360 | Q12: ILS | R12: פטור ממכרז | T12: תקנה 3(1) - התקשרות ששוויה אינה עולה על 50,000 ש"ח | U12: לא
A13: פיתוח נגב, גליל וש.פעולה | B13: פיתוח הנגב והגליל וש | C13: פיתוח הנגב והגליל ושתפ"א | D13: 04630201 | E13: תפעול | F13: 4501297760 | G13: =VLOOKUP(F13,[1]גיליון1!$F:$H,3,0) -> תחזוקה מערכת אבטחה | H13: תחזוקה מערכת אבטחה | I13: 42675 | J13: 43039 | K13: 0040001165 | L13: בינת יישום מערכות בע"מ | M13: 511012866 | N13: 18720 | O13: ILS | P13: 0 | R13: פטור ממכרז | T13: תקנה 3(1) - התקשרות ששוויה אינה עולה על 50,000 ש"ח | U13: לא
A14: פיתוח נגב, גליל וש.פעולה | B14: פיתוח הנגב והגליל וש | C14: פיתוח הנגב והגליל ושתפ"א | D14: 04560110 | E14: הוצאות תפעול | F14: 4501297760 | G14: =VLOOKUP(F14,[1]גיליון1!$F:$H,3,0) -> תחזוקה מערכת אבטחה | H14: תחזוקה מערכת אבטחה | I14: 42675 | J14: 43039 | K14: 0040001165 | L14: בינת יישום מערכות בע"מ | M14: 511012866 | N14: 9360 | O14: ILS | P14: 0 | R14: פטור ממכרז | T14: תקנה 3(1) - התקשרות ששוויה אינה עולה על 50,000 ש"ח | U14: לא
A15: פיתוח נגב, גליל וש.פעולה | B15: פיתוח הנגב והגליל וש | C15: פיתוח הנגב והגליל ושתפ"א | D15: 04560110 | E15: הוצאות תפעול | F15: 4501298451 | G15: =VLOOKUP(F15,[1]גיליון1!$F:$H,3,0) -> השכרת אולם+ כיבוד | H15: השכרת אולם+ כיבוד | I15: 42677 | K15: 0040020070 | L15: ציוני אמריקה - נכסים ובניין בע"מ | M15: 513506816 | N15: 1404 | O15: ILS | P15: 1404 | Q15: ILS | R15: פטור ממכרז | T15: תקנה 3(1) - התקשרות ששוויה אינה עולה על 50,000 ש"ח | U15: לא
A16: פיתוח נגב, גליל וש.פעולה | B16: פיתוח הנגב והגליל וש | C16: פיתוח הנגב והגליל ושתפ"א | D16: 04560110 | E16: הוצאות תפעול | F16: 4501298451 | G16: =VLOOKUP(F16,[1]גיליון1!$F:$H,3,0) -> השכרת אולם+ כיבוד | H16: השכרת אולם+ כיבוד | I16: 42677 | K16: 0040020070 | L16: ציוני אמריקה - נכסים ובניין בע"מ | M16: 513506816 | N16: 842.4 | O16: ILS | P16: 0 | R16: פטור ממכרז | T16: תקנה 3(1) - התקשרות ששוויה אינה עולה על 50,000 ש"ח | U16: לא
A17: פיתוח נגב, גליל וש.פעולה | B17: פיתוח הנגב והגליל וש | C17: פיתוח הנגב והגליל ושתפ"א | D17: 04560110 | E17: הוצאות תפעול | F17: 4501298661 | G17: =VLOOKUP(F17,[1]גיליון1!$F:$H,3,0) -> ארוחת ערב 7.11.2016 | H17: ארוחת ערב 7.11.2016 | I17: 42677 | K17: 0040266621 | L17: מאץ-מור ניהול מסעדות בע"מ | M17: 513500165 | N17: 2039.88 | O17: ILS | P17: 2126.93 | Q17: ILS | R17: פטור ממכרז | T17: תקנה 3(1) - התקשרות ששוויה אינה עולה על 50,000 ש"ח | U17: לא
A18: פיתוח נגב, גליל וש.פעולה | B18: פיתוח הנגב והגליל וש | C18: פיתוח הנגב והגליל ושתפ"א | D18: 04560110 | E18: הוצאות תפעול | F18: 4501298661 | G18: =VLOOKUP(F18,[1]גיליון1!$F:$H,3,0) -> ארוחת ערב 7.11.2016 | H18: ארוחת ערב 7.11.2016 | I18: 42677 | K18: 0040266621 | L18: מאץ-מור ניהול מסעדות בע"מ | M18: 513500165 | N18: 1019.94 | O18: ILS | P18: 0 | R18: פטור ממכרז | T18: תקנה 3(1) - התקשרות ששוויה אינה עולה על 50,000 ש"ח | U18: לא
A19: פיתוח נגב, גליל וש.פעולה | B19: פיתוח הנגב והגליל וש | C19: פיתוח הנגב והגליל ושתפ"א | D19: 04630201 | E19: תפעול | F19: 4501298664 | G19: =VLOOKUP(F19,[1]גיליון1!$F:$H,3,0) -> ייעוץ נגישות לציבור | H19: ייעוץ נגישות לציבור | I19: 42677 | J19: 42929 | K19: 0040532080 | L19: רונקין אליעזר | M19: 024800609 | N19: 15000 | O19: ILS | P19: 10674.85 | Q19: ILS | R19: פטור ממכרז | T19: תקנה 3(1) - התקשרות ששוויה אינה עולה על 50,000 ש"ח | U19: לא
A20: פיתוח נגב, גליל וש.פעולה | B20: פיתוח הנגב והגליל וש | C20: פיתוח הנגב והגליל ושתפ"א | D20: 04560110 | E20: הוצאות תפעול | F20: 4501298664 | G20: =VLOOKUP(F20,[1]גיליון1!$F:$H,3,0) -> ייעוץ נגישות לציבור | H20: ייעוץ נגישות לציבור | I20: 42677 | J20: 42929 | K20: 0040532080 | L20: רונקין אליעזר | M20: 024800609 | N20: 15000 | O20: ILS | P20: 0 | R20: פטור ממכרז | T20: תקנה 3(1) - התקשרות ששוויה אינה עולה על 50,000 ש"ח | U20: לא
A21: פיתוח נגב, גליל וש.פעולה | B21: פיתוח הנגב והגליל וש | C21: פיתוח הנגב והגליל ושתפ"א | D21: 04560110 | E21: הוצאות תפעול | F21: 4501299465 | G21: =VLOOKUP(F21,[1]גיליון1!$F:$H,3,0) -> פירוק והרכבה מערכת כריזה | H21: פירוק והרכבה מערכת כריזה | I21: 42680 | K21: 0040140676 | L21: יוסיפון ויליאם ירון | M21: 059683870 | N21: 1158 | O21: ILS | P21: 0 | R21: פטור ממכרז | T21: תקנה 3(1) - התקשרות ששוויה אינה עולה על 50,000 ש"ח | U21: לא
A22: פיתוח נגב, גליל וש.פעולה | B22: פיתוח הנגב והגליל וש | C22: פיתוח הנגב והגליל ושתפ"א | D22: 04560113 | E22: פעולות | F22: 4501299503 | G22: =VLOOKUP(F22,[1]גיליון1!$F:$H,3,0) -> ליווי שחיינים בים המלח | H22: ליווי שחיינים בים המלח | I22: 42680 | K22: 0040002838 | L22: בני הרצליה | M22: 580093151 | N22: 50000 | O22: ILS | P22: 50000 | Q22: ILS | R22: פטור ממכרז | T22: תקנה 3(1) - התקשרות ששוויה אינה עולה על 50,000 ש"ח | U22: לא
A23: פיתוח נגב, גליל וש.פעולה | B23: פיתוח הנגב והגליל וש | C23: פיתוח הנגב והגליל ושתפ"א | D23: 04560110 | E23: הוצאות תפעול | F23: 4501300505 | G23: =VLOOKUP(F23,[1]גיליון1!$F:$H,3,0) -> פרסום מכרז יועץ מעברים | H23: פרסום מכרז יועץ מעברים | I23: 42682 | K23: 0010000021 | L23: לשכת הפירסום הממשלתי | M23: 500100268 | N23: 6246.25 | O23: ILS | P23: 0 | R23: פטור ממכרז | S23: לפ"ם לא קיים מנו"ף | T23: תקנה 3(12) - לשכת הפרסום הממשלתית | U23: לא
A24: פיתוח נגב, גליל וש.פעולה | B24: פיתוח הנגב והגליל וש | C24: פיתוח הנגב והגליל ושתפ"א | D24: 04560110 | E24: הוצאות תפעול | F24: 4501301508 | G24: =VLOOKUP(F24,[1]גיליון1!$F:$H,3,0) -> מגשי אירוח למשלחת חו"ל | H24: מגשי אירוח למשלחת חו"ל | I24: 42683 | K24: 0041344192 | L24: ע.ש. קפה בר בע"מ | M24: 514787696 | N24: 1689.96 | O24: ILS | P24: 1689.96 | Q24: ILS | R24: פטור ממכרז | T24: תקנה 3(1) - התקשרות ששוויה אינה עולה על 50,000 ש"ח | U24: לא
A25: פיתוח נגב, גליל וש.פעולה | B25: פיתוח הנגב והגליל וש | C25: פיתוח הנגב והגליל ושתפ"א | D25: 04630201 | E25: תפעול | F25: 4501303700 | G25: =VLOOKUP(F25,[1]גיליון1!$F:$H,3,0) -> תשלום לשנת 2017 לנתיב המהיר | H25: תשלום לשנת 2017 לנתיב המהיר | I25: 42687 | J25: 43100 | K25: 0040468850 | L25: הנתיב המהיר בע"מ | M25: 513795088 | N25: 1638 | O25: ILS | P25: 0 | R25: פטור ממכרז | S25: הוראת תכ"ם 11.4.3 | T25: תקנה 3(29) - ספק יחיד | U25: לא
A26: פיתוח נגב, גליל וש.פעולה | B26: פיתוח הנגב והגליל וש | C26: פיתוח הנגב והגליל ושתפ"א | D26: 04560110 | E26: הוצאות תפעול | F26: 4501303700 | G26: =VLOOKUP(F26,[1]גיליון1!$F:$H,3,0) -> תשלום לשנת 2017 לנתיב המהיר | H26: תשלום לשנת 2017 לנתיב המהיר | I26: 42687 | J26: 43100 | K26: 0040468850 | L26: הנתיב המהיר בע"מ | M26: 513795088 | N26: 1638 | O26: ILS | P26: 0 | R26: פטור ממכרז | S26: הוראת תכ"ם 11.4.3 | T26: תקנה 3(29) - ספק יחיד | U26: לא
A27: פיתוח נגב, גליל וש.פעולה | B27: פיתוח הנגב והגליל וש | C27: פיתוח הנגב והגליל ושתפ"א | D27: 04630201 | E27: תפעול | F27: 4501303708 | G27: =VLOOKUP(F27,[1]גיליון1!$F:$H,3,0) -> שרותי מנהרות הכרמל לשנת 2017 | H27: שרותי מנהרות הכרמל לשנת 2017 | I27: 42687 | J27: 43100 | K27: 0040333585 | L27: קבוצת כרמלטון בע"מ | M27: 512542721 | N27: 2808 | O27: ILS | P27: 0 | R27: פטור ממכרז | S27: הוראת תכ"ם 11.4.3 | T27: תקנה 3(29) - ספק יחיד | U27: לא
A28: פיתוח נגב, גליל וש.פעולה | B28: פיתוח הנגב והגליל וש | C28: פיתוח הנגב והגליל ושתפ"א | D28: 04560110 | E28: הוצאות תפעול | F28: 4501303708 | G28: =VLOOKUP(F28,[1]גיליון1!$F:$H,3,0) -> שרותי מנהרות הכרמל לשנת 2017 | H28: שרותי מנהרות הכרמל לשנת 2017 | I28: 42687 | J28: 43100 | K28: 0040333585 | L28: קבוצת כרמלטון בע"מ | M28: 512542721 | N28: 2808 | O28: ILS | P28: 0 | R28: פטור ממכרז | S28: הוראת תכ"ם 11.4.3 | T28: תקנה 3(29) - ספק יחיד | U28: לא
A29: פיתוח נגב, גליל וש.פעולה | B29: פיתוח הנגב והגליל וש | C29: פיתוח הנגב והגליל ושתפ"א | D29: 04630201 | E29: תפעול | F29: 4501303726 | G29: =VLOOKUP(F29,[1]גיליון1!$F:$H,3,0) -> שרותי כביש 6 | H29: שרותי כביש 6 | I29: 42687 | J29: 43100 | K29: 0040003724 | L29: דרך ארץ הייווייז (1997) בע"מ | M29: 512475203 | N29: 11232 | O29: ILS | P29: 0 | R29: פטור ממכרז | S29: הוראת תכ"ם 11.4.3 | T29: תקנה 3(29) - ספק יחיד | U29: לא
A30: פיתוח נגב, גליל וש.פעולה | B30: פיתוח הנגב והגליל וש | C30: פיתוח הנגב והגליל ושתפ"א | D30: 04560110 | E30: הוצאות תפעול | F30: 4501303726 | G30: =VLOOKUP(F30,[1]גיליון1!$F:$H,3,0) -> שרותי כביש 6 | H30: שרותי כביש 6 | I30: 42687 | J30: 43100 | K30: 0040003724 | L30: דרך ארץ הייווייז (1997) בע"מ | M30: 512475203 | N30: 5616 | O30: ILS | P30: 0 | R30: פטור ממכרז | S30: הוראת תכ"ם 11.4.3 | T30: תקנה 3(29) - ספק יחיד | U30: לא
A31: פיתוח נגב, גליל וש.פעולה | B31: פיתוח הנגב והגליל וש | C31: פיתוח הנגב והגליל ושתפ"א | D31: 04630201 | E31: תפעול | F31: 4501303736 | G31: =VLOOKUP(F31,[1]גיליון1!$F:$H,3,0) -> שרותי פלאפון | H31: שרותי פלאפון | I31: 42687 | J31: 43100 | K31: 0040001174 | L31: פלאפון תקשורת בע"מ | M31: 511076572 | N31: 117000 | O31: ILS | P31: 0 | R31: תקנה 14ב - מכרז מרכזי | S31: 513591 | U31: לא
A32: פיתוח נגב, גליל וש.פעולה | B32: פיתוח הנגב והגליל וש | C32: פיתוח הנגב והגליל ושתפ"א | D32: 04560110 | E32: הוצאות תפעול | F32: 4501303736 | G32: =VLOOKUP(F32,[1]גיליון1!$F:$H,3,0) -> שרותי פלאפון | H32: שרותי פלאפון | I32: 42687 | J32: 43100 | K32: 0040001174 | L32: פלאפון תקשורת בע"מ | M32: 511076572 | N32: 46800 | O32: ILS | P32: 0 | R32: תקנה 14ב - מכרז מרכזי | S32: 513591 | U32: לא
A33: פיתוח נגב, גליל וש.פעולה | B33: פיתוח הנגב והגליל וש | C33: פיתוח הנגב והגליל ושתפ"א | D33: 04630201 | E33: תפעול | F33: 4501304841 | G33: =VLOOKUP(F33,[1]גיליון1!$F:$H,3,0) -> שירותי הוט | H33: שירותי הוט | I33: 42688 | K33: 0040011045 | L33: הוט - מערכות תקשורת בע"מ | M33: 520040072 | N33: 2088.45 | O33: ILS | P33: 2088.45 | Q33: ILS | R33: פטור ממכרז | T33: תקנה 3(1) - התקשרות ששוויה אינה עולה על 50,000 ש"ח | U33: לא
A34: פיתוח נגב, גליל וש.פעולה | B34: פיתוח הנגב והגליל וש | C34: פיתוח הנגב והגליל ושתפ"א | D34: 04630201 | E34: תפעול | F34: 4501304859 | G34: =VLOOKUP(F34,[1]גיליון1!$F:$H,3,0) -> ריצת כספת | H34: ריצת כספת | I34: 42688 | K34: 0040274333 | L34: שרבי יוסף | M34: 056532724 | N34: 1755 | O34: ILS | P34: 1755 | Q34: ILS | R34: פטור ממכרז | T34: תקנה 3(1) - התקשרות ששוויה אינה עולה על 50,000 ש"ח | U34: לא
A35: פיתוח נגב, גליל וש.פעולה | B35: פיתוח הנגב והגליל וש | C35: פיתוח הנגב והגליל ושתפ"א | D35: 04560110 | E35: הוצאות תפעול | F35: 4501305239 | G35: =VLOOKUP(F35,[1]גיליון1!$F:$H,3,0) -> נציג ציבור בוועדת בוחנים | H35: נציג ציבור בוועדת בוחנים | I35: 42689 | K35: 0041481390 | L35: קוטישטנו מולי | N35: 524.16 | O35: ILS | P35: 0 | R35: פטור ממכרז | T35: תקנה 3(1) - התקשרות ששוויה אינה עולה על 50,000 ש"ח | U35: לא
A36: פיתוח נגב, גליל וש.פעולה | B36: פיתוח הנגב והגליל וש | C36: פיתוח הנגב והגליל ושתפ"א | D36: 04630312 | E36: מוסדות ציבור | F36: 4501305725 | G36: =VLOOKUP(F36,[1]גיליון1!$F:$H,3,0) -> בדיקת בקשות שהוגשו לנוהל | H36: בדיקת בקשות שהוגשו לנוהל | I36: 42689 | K36: 0041480688 | L36: דורון גלעד מהנדסים ויו | M36: 558257028 | N36: 49967.66 | O36: ILS | P36: 45065.17 | Q36: ILS | R36: פטור ממכרז | T36: תקנה 3(1) - התקשרות ששוויה אינה עולה על 50,000 ש"ח | U36: לא
A37: פיתוח נגב, גליל וש.פעולה | B37: פיתוח הנגב והגליל וש | C37: פיתוח הנגב והגליל ושתפ"א | D37: 04630312 | E37: מוסדות ציבור | F37: 4501305725 | G37: =VLOOKUP(F37,[1]גיליון1!$F:$H,3,0) -> בדיקת בקשות שהוגשו לנוהל | H37: בדיקת בקשות שהוגשו לנוהל | I37: 42689 | K37: 0041480688 | L37: דורון גלעד מהנדסים ויו | M37: 558257028 | N37: 50029.88 | O37: ILS | P37: 0 | R37: פטור ממכרז | T37: תקנה 3(1) - התקשרות ששוויה אינה עולה על 50,000 ש"ח | U37: לא
A38: פיתוח נגב, גליל וש.פעולה | B38: פיתוח הנגב והגליל וש | C38: פיתוח הנגב והגליל ושתפ"א | D38: 04630312 | E38: מוסדות ציבור | F38: 4501305730 | G38: =VLOOKUP(F38,[1]גיליון1!$F:$H,3,0) -> בדיקת בקשות שהוגשו לנוהל | H38: בדיקת בקשות שהוגשו לנוהל | I38: 42689 | K38: 0041480828 | L38: חסון יעל | M38: 034214569 | N38: 99997.38 | O38: ILS | P38: 0 | R38: פטור ממכרז | T38: תקנה 3(1) - התקשרות ששוויה אינה עולה על 50,000 ש"ח | U38: לא
A39: פיתוח נגב, גליל וש.פעולה | B39: פיתוח הנגב והגליל וש | C39: פיתוח הנגב והגליל ושתפ"א | D39: 04630312 | E39: מוסדות ציבור | F39: 4501305733 | G39: =VLOOKUP(F39,[1]גיליון1!$F:$H,3,0) -> בדיקת בקשות שהוגשו לנוהל | H39: בדיקת בקשות שהוגשו לנוהל | I39: 42689 | K39: 0040326784 | L39: גנטוס לואי | M39: 040762759 | N39: 99997.38 | O39: ILS | P39: 0 | R39: פטור ממכרז | T39: תקנה 3(1) - התקשרות ששוויה אינה עולה על 50,000 ש"ח | U39: לא
A40: פיתוח נגב, גליל וש.פעולה | B40: פיתוח הנגב והגליל וש | C40: פיתוח הנגב והגליל ושתפ"א | D40: 04630201 | E40: תפעול | F40: 4501306132 | G40: =VLOOKUP(F40,[1]גיליון1!$F:$H,3,0) -> הדפסה ועיצוב של לוח תכנון אגף צעירים | H40: הדפסה ועיצוב של לוח תכנון אגף צעירים | I40: 42690 | K40: 0040534117 | L40: יחזקאל אברהם | M40: 024245029 | N40: 990 | O40: ILS | P40: 0 | R40: פטור ממכרז | T40: תקנה 3(1) - התקשרות ששוויה אינה עולה על 50,000 ש"ח | U40: לא
A41: פיתוח נגב, גליל וש.פעולה | B41: פיתוח הנגב והגליל וש | C41: פיתוח הנגב והגליל ושתפ"א | D41: 04630204 | E41: יועצים | F41: 4501306950 | G41: =VLOOKUP(F41,[1]גיליון1!$F:$H,3,0) -> שרותי רו"ח | H41: שרותי רו"ח | I41: 42691 | J41: 43039 | K41: 0040005659 | L41: בן דוד שלוי קופ ושות' רואי חשבון (ב | M41: 513464842 | N41: 971487.27 | O41: ILS | P41: 94590.66 | Q41: ILS | R41: תקנה 1ב - מכרז פומבי רגיל | S41: 555108 | U41: לא
A42: פיתוח נגב, גליל וש.פעולה | B42: פיתוח הנגב והגליל וש | C42: פיתוח הנגב והגליל ושתפ"א | D42: 04560110 | E42: הוצאות תפעול | F42: 4501306950 | G42: =VLOOKUP(F42,[1]גיליון1!$F:$H,3,0) -> שרותי רו"ח | H42: שרותי רו"ח | I42: 42691 | J42: 43039 | K42: 0040005659 | L42: בן דוד שלוי קופ ושות' רואי חשבון (ב | M42: 513464842 | N42: 342527.46 | O42: ILS | P42: 0 | R42: תקנה 1ב - מכרז פומבי רגיל | S42: 555108 | U42: לא
A43: פיתוח נגב, גליל וש.פעולה | B43: פיתוח הנגב והגליל וש | C43: פיתוח הנגב והגליל ושתפ"א | D43: 04630204 | E43: יועצים | F43: 4501306950 | G43: =VLOOKUP(F43,[1]גיליון1!$F:$H,3,0) -> שרותי רו"ח | H43: שרותי רו"ח | I43: 42691 | J43: 43039 | K43: 0040005659 | L43: בן דוד שלוי קופ ושות' רואי חשבון (ב | M43: 513464842 | N43: 797503.8 | O43: ILS | P43: 0 | R43: תקנה 1ב - מכרז פומבי רגיל | S43: 555108 | U43: לא
A44: פיתוח נגב, גליל וש.פעולה | B44: פיתוח הנגב והגליל וש | C44: פיתוח הנגב והגליל ושתפ"א | D44: 04630312 | E44: מוסדות ציבור | F44: 4501307265 | G44: =VLOOKUP(F44,[1]גיליון1!$F:$H,3,0) -> בדיקת בקשות שהוגשו לנוהל | H44: בדיקת בקשות שהוגשו לנוהל | I44: 42691 | K44: 0040444705 | L44: קידר אושר | M44: 028835916 | N44: 48847.5 | O44: ILS | P44: 15631.2 | Q44: ILS | R44: פטור ממכרז | T44: תקנה 3(1) - התקשרות ששוויה אינה עולה על 50,000 ש"ח | U44: לא
A45: פיתוח נגב, גליל וש.פעולה | B45: פיתוח הנגב והגליל וש | C45: פיתוח הנגב והגליל ושתפ"א | D45: 04630312 | E45: מוסדות ציבור | F45: 4501307270 | G45: =VLOOKUP(F45,[1]גיליון1!$F:$H,3,0) -> בדיקת בקשות שהוגשו לנוהל | H45: בדיקת בקשות שהוגשו לנוהל | I45: 42691 | K45: 0040537261 | L45: בר-אור פיתוח כלכלי בע"מ | M45: 512095209 | N45: 49993.07 | O45: ILS | P45: 44085.6 | Q45: ILS | R45: פטור ממכרז | T45: תקנה 3(1) - התקשרות ששוויה אינה עולה על 50,000 ש"ח | U45: לא
A46: פיתוח נגב, גליל וש.פעולה | B46: פיתוח הנגב והגליל וש | C46: פיתוח הנגב והגליל ושתפ"א | D46: 04630201 | E46: תפעול | F46: 4501307362 | G46: =VLOOKUP(F46,[1]גיליון1!$F:$H,3,0) -> בדיקת בקשות שהוגשו לנוהל | H46: בדיקת בקשות שהוגשו לנוהל | I46: 42691 | K46: 0040019768 | L46: צוקית בטחון זהב (2000) בע"מ | M46: 513018846 | N46: 2831.4 | O46: ILS | P46: 0 | R46: פטור ממכרז | T46: תקנה 3(1) - התקשרות ששוויה אינה עולה על 50,000 ש"ח | U46: לא
A47: פיתוח נגב, גליל וש.פעולה | B47: פיתוח הנגב והגליל וש | C47: פיתוח הנגב והגליל ושתפ"א | D47: 04630312 | E47: מוסדות ציבור | F47: 4501307577 | G47: =VLOOKUP(F47,[1]גיליון1!$F:$H,3,0) -> בדיקת בקשות שהוגשו לנוהל | H47: בדיקת בקשות שהוגשו לנוהל | I47: 42691 | K47: 0040509019 | L47: גולדשמיד פני | M47: 013549381 | N47: 99994.98 | O47: ILS | P47: 56189.13 | Q47: ILS | R47: פטור ממכרז | T47: תקנה 3(1) - התקשרות ששוויה אינה עולה על 50,000 ש"ח | U47: לא
A48: פיתוח נגב, גליל וש.פעולה | B48: פיתוח הנגב והגליל וש | C48: פיתוח הנגב והגליל ושתפ"א | D48: 04630201 | E48: תפעול | F48: 4501307587 | G48: =VLOOKUP(F48,[1]גיליון1!$F:$H,3,0) -> תחקירים בטחוניים | H48: תחקירים בטחוניים | I48: 42691 | J48: 43039 | K48: 0040316998 | L48: קופלר מאיר | M48: 054071352 | N48: 15000 | O48: ILS | P48: 1287 | Q48: ILS | R48: פטור ממכרז | T48: תקנה 3(1) - התקשרות ששוויה אינה עולה על 50,000 ש"ח | U48: לא
A49: פיתוח נגב, גליל וש.פעולה | B49: פיתוח הנגב והגליל וש | C49: פיתוח הנגב והגליל ושתפ"א | D49: 04560110 | E49: הוצאות תפעול | F49: 4501307589 | G49: =VLOOKUP(F49,[1]גיליון1!$F:$H,3,0) -> תחקירים בטחוניים | H49: תחקירים בטחוניים | I49: 42691 | J49: 43039 | K49: 0040478012 | L49: עטואר אבינועם | M49: 051333292 | N49: 15000 | O49: ILS | P49: 0 | R49: פטור ממכרז | T49: תקנה 3(1) - התקשרות ששוויה אינה עולה על 50,000 ש"ח | U49: לא
A50: פיתוח נגב, גליל וש.פעולה | B50: פיתוח הנגב והגליל וש | C50: פיתוח הנגב והגליל ושתפ"א | D50: 04630201 | E50: תפעול | F50: 4501308261 | G50: =VLOOKUP(F50,[1]גיליון1!$F:$H,3,0) -> הציג ציבור למרכז כח אדם | H50: הציג ציבור למרכז כח אדם | I50: 42694 | K50: 0040242309 | L50: לפיד אפרים | M50: 007969637 | N50: 524.16 | O50: ILS | P50: 524.16 | Q50: ILS | R50: מינוי חברים בועדות | U50: לא
A51: פיתוח נגב, גליל וש.פעולה | B51: פיתוח הנגב והגליל וש | C51: פיתוח הנגב והגליל ושתפ"א | D51: 04630201 | E51: תפעול | F51: 4501308438 | G51: =VLOOKUP(F51,[1]גיליון1!$F:$H,3,0) -> נציג ציבור בוועדה | H51: נציג ציבור בוועדה | I51: 42694 | K51: 0040818805 | L51: אביקסיס גד מימון | M51: 079493045 | N51: 524.16 | O51: ILS | P51: 524.16 | Q51: ILS | R51: מינוי חברים בועדות | U51: לא
A52: פיתוח נגב, גליל וש.פעולה | B52: פיתוח הנגב והגליל וש | C52: פיתוח הנגב והגליל ושתפ"א | D52: 04630312 | E52: מוסדות ציבור | F52: 4501309179 | G52: =VLOOKUP(F52,[1]גיליון1!$F:$H,3,0) -> בדיקת בקשות שהוגשו לנוהל | H52: בדיקת בקשות שהוגשו לנוהל | I52: 42695 | K52: 0041480687 | L52: אופטימום - פתרונות תעשיה וניהול בע" | M52: 514423797 | N52: 100000 | O52: ILS | P52: 0 | R52: פטור ממכרז | T52: תקנה 3(1) - התקשרות ששוויה אינה עולה על 50,000 ש"ח | U52: לא
A53: פיתוח נגב, גליל וש.פעולה | B53: פיתוח הנגב והגליל וש | C53: פיתוח הנגב והגליל ושתפ"א | D53: 04630307 | E53: השתתפות בלשכת הפרסופ | F53: 4501309697 | G53: =VLOOKUP(F53,[1]גיליון1!$F:$H,3,0) -> פרסום מודעה | H53: פרסום מודעה | I53: 42696 | K53: 0010000021 | L53: לשכת הפירסום הממשלתי | M53: 500100268 | N53: 8646.25 | O53: ILS | P53: 0 | R53: פטור ממכרז | S53: 588895 | T53: תקנה 3(12) - לשכת הפרסום הממשלתית | U53: לא
A54: פיתוח נגב, גליל וש.פעולה | B54: פיתוח הנגב והגליל וש | C54: פיתוח הנגב והגליל ושתפ"א | D54: 04630201 | E54: תפעול | F54: 4501309725 | G54: =VLOOKUP(F54,[1]גיליון1!$F:$H,3,0) -> שרותי מיפוי הדפסת מפות | H54: שרותי מיפוי הדפסת מפות | I54: 42696 | K54: 0010000127 | L54: המרכז למיפוי ישראל | M54: 500105697 | N54: 432 | O54: ILS | P54: 0 | R54: התקשרות עם גופים ממשלתיים | U54: לא
A55: פיתוח נגב, גליל וש.פעולה | B55: פיתוח הנגב והגליל וש | C55: פיתוח הנגב והגליל ושתפ"א | D55: 04560110 | E55: הוצאות תפעול | F55: 4501310818 | G55: =VLOOKUP(F55,[1]גיליון1!$F:$H,3,0) -> פרסום מודעה | H55: פרסום מודעה | I55: 42697 | K55: 0010000021 | L55: לשכת הפירסום הממשלתי | M55: 500100268 | N55: 6540 | O55: ILS | P55: 0 | R55: פטור ממכרז | S55: אין | T55: תקנה 3(12) - לשכת הפרסום הממשלתית | U55: לא
A56: פיתוח נגב, גליל וש.פעולה | B56: פיתוח הנגב והגליל וש | C56: פיתוח הנגב והגליל ושתפ"א | D56: 04630303 | E56: פעולות לפיתוח הנגב | F56: 4501311060 | G56: =VLOOKUP(F56,[1]גיליון1!$F:$H,3,0) -> פרויקטור שדרות- החלטת 2017 | H56: פרויקטור שדרות- החלטת 2017 | I56: 42697 | J56: 43016 | K56: 0040182824 | L56: אביב ש.ש. ויעוץ עסקי בע"מ | M56: 511182594 | N56: 249997.88 | O56: ILS | P56: 0 | R56: תקנה 1ב - מכרז פומבי רגיל | S56: 575432 | U56: לא
A57: פיתוח נגב, גליל וש.פעולה | B57: פיתוח הנגב והגליל וש | C57: פיתוח הנגב והגליל ושתפ"א | D57: 04630307 | E57: השתתפות בלשכת הפרסופ | F57: 4501311090 | G57: =VLOOKUP(F57,[1]גיליון1!$F:$H,3,0) -> פרסום מודעה קול קורא | H57: פרסום מודעה קול קורא | I57: 42697 | K57: 0010000021 | L57: לשכת הפירסום הממשלתי | M57: 500100268 | N57: 5477.5 | O57: ILS | P57: 0 | R57: פטור ממכרז | S57: אין | T57: תקנה 3(12) - לשכת הפרסום הממשלתית | U57: לא
A58: פיתוח נגב, גליל וש.פעולה | B58: פיתוח הנגב והגליל וש | C58: פיתוח הנגב והגליל ושתפ"א | D58: 04630201 | E58: תפעול | F58: 4501312400 | G58: =VLOOKUP(F58,[1]גיליון1!$F:$H,3,0) -> שהות השר | H58: שהות השר | I58: 42698 | K58: 0040469141 | L58: גן הקונגרסים - ע.ב ארועים בע"מ | M58: 513145672 | N58: 400 | O58: ILS | P58: 525.99 | Q58: ILS | R58: פטור ממכרז | T58: תקנה 3(1) - התקשרות ששוויה אינה עולה על 50,000 ש"ח | U58: לא
A59: פיתוח נגב, גליל וש.פעולה | B59: פיתוח הנגב והגליל וש | C59: פיתוח הנגב והגליל ושתפ"א | D59: 04630303 | E59: פעולות לפיתוח הנגב | F59: 4501314028 | G59: =VLOOKUP(F59,[1]גיליון1!$F:$H,3,0) -> יועצת | H59: יועצת | I59: 42702 | J59: 43065 | K59: 0040531539 | L59: דשא גלית | M59: 024800245 | N59: 41798.54 | O59: ILS | P59: 1063.96 | Q59: ILS | R59: פטור ממכרז | T59: תקנה 3(1) - התקשרות ששוויה אינה עולה על 50,000 ש"ח | U59: לא
A60: פיתוח נגב, גליל וש.פעולה | B60: פיתוח הנגב והגליל וש | C60: פיתוח הנגב והגליל ושתפ"א | D60: 04630303 | E60: פעולות לפיתוח הנגב | F60: 4501314028 | G60: =VLOOKUP(F60,[1]גיליון1!$F:$H,3,0) -> יועצת | H60: יועצת | I60: 42702 | J60: 43065 | K60: 0040531539 | L60: דשא גלית | M60: 024800245 | N60: 8201.47 | O60: ILS | P60: 0 | R60: פטור ממכרז | T60: תקנה 3(1) - התקשרות ששוויה אינה עולה על 50,000 ש"ח | U60: לא
A61: פיתוח נגב, גליל וש.פעולה | B61: פיתוח הנגב והגליל וש | C61: פיתוח הנגב והגליל ושתפ"א | D61: 04630307 | E61: השתתפות בלשכת הפרסופ | F61: 4501314675 | G61: =VLOOKUP(F61,[1]גיליון1!$F:$H,3,0) -> פרסום מכרז | H61: פרסום מכרז | I61: 42703 | K61: 0010000021 | L61: לשכת הפירסום הממשלתי | M61: 500100268 | N61: 200 | O61: ILS | P61: 0 | R61: פטור ממכרז | S61: אין | T61: תקנה 3(12) - לשכת הפרסום הממשלתית | U61: לא
A62: פיתוח נגב, גליל וש.פעולה | B62: פיתוח הנגב והגליל וש | C62: פיתוח הנגב והגליל ושתפ"א | D62: 04630201 | E62: תפעול | F62: 4501314675 | G62: =VLOOKUP(F62,[1]גיליון1!$F:$H,3,0) -> פרסום מכרז | H62: פרסום מכרז | I62: 42703 | K62: 0010000021 | L62: לשכת הפירסום הממשלתי | M62: 500100268 | N62: 5427.5 | O62: ILS | P62: 0 | R62: פטור ממכרז | S62: אין | T62: תקנה 3(12) - לשכת הפרסום הממשלתית | U62: לא
A63: פיתוח נגב, גליל וש.פעולה | B63: פיתוח הנגב והגליל וש | C63: פיתוח הנגב והגליל ושתפ"א | D63: 04630205 | E63: הדרכה ורווחה | F63: 4501314735 | G63: =VLOOKUP(F63,[1]גיליון1!$F:$H,3,0) -> שי יום הולדת | H63: שי יום הולדת | I63: 42703 | K63: 0040304107 | L63: תפוזנט - פתרונות לשיווק ופירסום בע" | M63: 513915421 | N63: 989.82 | O63: ILS | P63: 989.82 | Q63: ILS | R63: פטור ממכרז | T63: תקנה 3(1) - התקשרות ששוויה אינה עולה על 50,000 ש"ח | U63: לא
A64: פיתוח נגב, גליל וש.פעולה | B64: פיתוח הנגב והגליל וש | C64: פיתוח הנגב והגליל ושתפ"א | D64: 04560114 | E64: הדרכה ושכר לימוד | F64: 4501314735 | G64: =VLOOKUP(F64,[1]גיליון1!$F:$H,3,0) -> שי יום הולדת | H64: שי יום הולדת | I64: 42703 | K64: 0040304107 | L64: תפוזנט - פתרונות לשיווק ופירסום בע" | M64: 513915421 | N64: 769.86 | O64: ILS | P64: 769.86 | Q64: ILS | R64: פטור ממכרז | T64: תקנה 3(1) - התקשרות ששוויה אינה עולה על 50,000 ש"ח | U64: לא
A65: פיתוח נגב, גליל וש.פעולה | B65: פיתוח הנגב והגליל וש | C65: פיתוח הנגב והגליל ושתפ"א | D65: 04630201 | E65: תפעול | F65: 4501314768 | G65: =VLOOKUP(F65,[1]גיליון1!$F:$H,3,0) -> רולאפים מודפסים ליום הכנסת בגליל | H65: רולאפים מודפסים ליום הכנסת בגליל | I65: 42703 | K65: 0040223053 | L65: יוביפרינט (2005) בע"מ | M65: 513652057 | N65: 1872 | O65: ILS | P65: 1872 | Q65: ILS | R65: פטור ממכרז | T65: תקנה 3(1) - התקשרות ששוויה אינה עולה על 50,000 ש"ח | U65: לא
A66: פיתוח נגב, גליל וש.פעולה | B66: פיתוח הנגב והגליל וש | C66: פיתוח הנגב והגליל ושתפ"א | D66: 04560110 | E66: הוצאות תפעול | F66: 4501315830 | G66: =VLOOKUP(F66,[1]גיליון1!$F:$H,3,0) -> פירוק מערכת כריזה | H66: פירוק מערכת כריזה | I66: 42704 | K66: 0040449514 | L66: א.א. יבוא ושיווק בע"מ | M66: 514415397 | N66: 257 | O66: ILS | P66: 0 | R66: פטור ממכרז | T66: תקנה 3(1) - התקשרות ששוויה אינה עולה על 50,000 ש"ח | U66: לא
A67: פיתוח נגב, גליל וש.פעולה | B67: פיתוח הנגב והגליל וש | C67: פיתוח הנגב והגליל ושתפ"א | D67: 04630201 | E67: תפעול | F67: 4501315843 | G67: =VLOOKUP(F67,[1]גיליון1!$F:$H,3,0) -> החלפת צלינדרים | H67: החלפת צלינדרים | I67: 42704 | K67: 0041485137 | L67: כהן שלמה | M67: 022110555 | N67: 3760 | O67: ILS | P67: 3759.99 | Q67: ILS | R67: פטור ממכרז | T67: תקנה 3(1) - התקשרות ששוויה אינה עולה על 50,000 ש"ח | U67: לא
A68: פיתוח נגב, גליל וש.פעולה | B68: פיתוח הנגב והגליל וש | C68: פיתוח הנגב והגליל ושתפ"א | D68: 04630201 | E68: תפעול | F68: 4501317390 | G68: =VLOOKUP(F68,[1]גיליון1!$F:$H,3,0) -> שיקוף דואר | H68: שיקוף דואר | I68: 42708 | J68: 43100 | K68: 0040184020 | L68: חברת דואר ישראל בע"מ | M68: 513467191 | N68: 9899.96 | O68: ILS | P68: 0 | R68: פטור ממכרז | S68: אין מס' | T68: תקנה 3(1) - התקשרות ששוויה אינה עולה על 50,000 ש"ח | U68: לא
A69: פיתוח נגב, גליל וש.פעולה | B69: פיתוח הנגב והגליל וש | C69: פיתוח הנגב והגליל ושתפ"א | D69: 04560110 | E69: הוצאות תפעול | F69: 4501317390 | G69: =VLOOKUP(F69,[1]גיליון1!$F:$H,3,0) -> שיקוף דואר | H69: שיקוף דואר | I69: 42708 | J69: 43100 | K69: 0040184020 | L69: חברת דואר ישראל בע"מ | M69: 513467191 | N69: 9899.96 | O69: ILS | P69: 0 | R69: פטור ממכרז | S69: אין מס' | T69: תקנה 3(1) - התקשרות ששוויה אינה עולה על 50,000 ש"ח | U69: לא
A70: פיתוח נגב, גליל וש.פעולה | B70: פיתוח הנגב והגליל וש | C70: פיתוח הנגב והגליל ושתפ"א | D70: 04630201 | E70: תפעול | F70: 4501318340 | G70: =VLOOKUP(F70,[1]גיליון1!$F:$H,3,0) -> הדפסת תמונה על קנבס | H70: הדפסת תמונה על קנבס | I70: 42709 | K70: 0040534117 | L70: יחזקאל אברהם | M70: 024245029 | N70: 305 | O70: ILS | P70: 305 | Q70: ILS | R70: פטור ממכרז | T70: תקנה 3(1) - התקשרות ששוויה אינה עולה על 50,000 ש"ח | U70: לא
A71: פיתוח נגב, גליל וש.פעולה | B71: פיתוח הנגב והגליל וש | C71: פיתוח הנגב והגליל ושתפ"א | D71: 04630201 | E71: תפעול | F71: 4501318615 | G71: =VLOOKUP(F71,[1]גיליון1!$F:$H,3,0) -> כיבוד לאירוע למנכ"לית | H71: כיבוד לאירוע למנכ"לית | I71: 42709 | K71: 0041344192 | L71: ע.ש. קפה בר בע"מ | M71: 514787696 | N71: 2199.94 | O71: ILS | P71: 2199.94 | Q71: ILS | R71: פטור ממכרז | T71: תקנה 3(1) - התקשרות ששוויה אינה עולה על 50,000 ש"ח | U71: לא
A72: פיתוח נגב, גליל וש.פעולה | B72: פיתוח הנגב והגליל וש | C72: פיתוח הנגב והגליל ושתפ"א | D72: 04560110 | E72: הוצאות תפעול | F72: 4501319042 | G72: =VLOOKUP(F72,[1]גיליון1!$F:$H,3,0) -> לינה | H72: לינה | I72: 42710 | K72: 0040005198 | L72: עמיתי מלון הרצל י-ם | M72: 557375441 | N72: 2200.04 | O72: ILS | P72: 2200.04 | Q72: ILS | R72: פטור ממכרז | T72: תקנה 3(1) - התקשרות ששוויה אינה עולה על 50,000 ש"ח | U72: לא
A73: פיתוח נגב, גליל וש.פעולה | B73: פיתוח הנגב והגליל וש | C73: פיתוח הנגב והגליל ושתפ"א | D73: 04560113 | E73: פעולות | F73: 4501319153 | G73: =VLOOKUP(F73,[1]גיליון1!$F:$H,3,0) -> ייעוץ פרוייקטים בינלאומיים | H73: ייעוץ פרוייקטים בינלאומיים | I73: 42710 | J73: 42856 | K73: 0041387979 | L73: ג'י אם אי טראסט | M73: 540255452 | N73: 38360.01 | O73: ILS | P73: 20865.97 | Q73: ILS | R73: תקנה 17ד - מכרז פומבי דו שלבי | S73: 573630 | U73: לא
A74: פיתוח נגב, גליל וש.פעולה | B74: פיתוח הנגב והגליל וש | C74: פיתוח הנגב והגליל ושתפ"א | D74: 04560113 | E74: פעולות | F74: 4501319153 | G74: =VLOOKUP(F74,[1]גיליון1!$F:$H,3,0) -> ייעוץ פרוייקטים בינלאומיים | H74: ייעוץ פרוייקטים בינלאומיים | I74: 42710 | J74: 42856 | K74: 0041387979 | L74: ג'י אם אי טראסט | M74: 540255452 | N74: 121570.74 | O74: ILS | P74: 0 | R74: תקנה 17ד - מכרז פומבי דו שלבי | S74: 573630 | U74: לא
A75: פיתוח נגב, גליל וש.פעולה | B75: פיתוח הנגב והגליל וש | C75: פיתוח הנגב והגליל ושתפ"א | D75: 04630201 | E75: תפעול | F75: 4501319383 | G75: =VLOOKUP(F75,[1]גיליון1!$F:$H,3,0) -> לינה | H75: לינה | I75: 42710 | K75: 0040015631 | L75: חברה לפתוח טבריה בעמ | M75: 520013913 | N75: 2644.2 | O75: ILS | P75: 2644.2 | Q75: ILS | R75: פטור ממכרז | T75: תקנה 3(1) - התקשרות ששוויה אינה עולה על 50,000 ש"ח | U75: לא
A76: פיתוח נגב, גליל וש.פעולה | B76: פיתוח הנגב והגליל וש | C76: פיתוח הנגב והגליל ושתפ"א | D76: 04560110 | E76: הוצאות תפעול | F76: 4501319569 | G76: =VLOOKUP(F76,[1]גיליון1!$F:$H,3,0) -> אבטחה | H76: אבטחה | I76: 42710 | K76: 0010000020 | L76: משרד ראש הממשלה | M76: 500100037 | N76: 9201.67 | O76: ILS | P76: 0 | R76: התקשרות עם גופים ממשלתיים | U76: לא
A77: פיתוח נגב, גליל וש.פעולה | B77: פיתוח הנגב והגליל וש | C77: פיתוח הנגב והגליל ושתפ"א | D77: 04630307 | E77: השתתפות בלשכת הפרסופ | F77: 4501320554 | G77: =VLOOKUP(F77,[1]גיליון1!$F:$H,3,0) -> מועדה לפרסום | H77: מועדה לפרסום | I77: 42711 | K77: 0010000021 | L77: לשכת הפירסום הממשלתי | M77: 500100268 | N77: 6027.51 | O77: ILS | P77: 0 | R77: פטור ממכרז | S77: אין | T77: תקנה 3(12) - לשכת הפרסום הממשלתית | U77: לא
A78: פיתוח נגב, גליל וש.פעולה | B78: פיתוח הנגב והגליל וש | C78: פיתוח הנגב והגליל ושתפ"א | D78: 04630201 | E78: תפעול | F78: 4501321750 | G78: =VLOOKUP(F78,[1]גיליון1!$F:$H,3,0) -> לינה מנכלית | H78: לינה מנכלית | I78: 42712 | K78: 0040001044 | L78: מלון מוריה תל-אביב בע"מ | M78: 510069784 | N78: 2249.98 | O78: ILS | P78: 0 | R78: פטור ממכרז | T78: תקנה 3(1) - התקשרות ששוויה אינה עולה על 50,000 ש"ח | U78: לא
A79: פיתוח נגב, גליל וש.פעולה | B79: פיתוח הנגב והגליל וש | C79: פיתוח הנגב והגליל ושתפ"א | D79: 04560110 | E79: הוצאות תפעול | F79: 4501321871 | G79: =VLOOKUP(F79,[1]גיליון1!$F:$H,3,0) -> נייר צילום | H79: נייר צילום | I79: 42713 | K79: 0040001103 | L79: קרביץ (1974) בעמ | M79: 510674039 | N79: 1105.65 | O79: ILS | P79: 1105.65 | Q79: ILS | R79: תקנה 14ב - מכרז מרכזי | S79: 566033 | U79: לא
A80: פיתוח נגב, גליל וש.פעולה | B80: פיתוח הנגב והגליל וש | C80: פיתוח הנגב והגליל ושתפ"א | D80: 04560110 | E80: הוצאות תפעול | F80: 4501322119 | G80: =VLOOKUP(F80,[1]גיליון1!$F:$H,3,0) -> ציוד | H80: ציוד | I80: 42715 | K80: 0040464302 | L80: ע.י. טכניק (1991) בע"מ | M80: 511566150 | N80: 1965.55 | O80: ILS | P80: 1965.55 | Q80: ILS | R80: פטור ממכרז | T80: תקנה 3(1) - התקשרות ששוויה אינה עולה על 50,000 ש"ח | U80: לא
A81: פיתוח נגב, גליל וש.פעולה | B81: פיתוח הנגב והגליל וש | C81: פיתוח הנגב והגליל ושתפ"א | D81: 04560110 | E81: הוצאות תפעול | F81: 4501322119 | G81: =VLOOKUP(F81,[1]גיליון1!$F:$H,3,0) -> ציוד | H81: ציוד | I81: 42715 | K81: 0040464302 | L81: ע.י. טכניק (1991) בע"מ | M81: 511566150 | N81: 150.93 | O81: ILS | P81: 0 | R81: פטור ממכרז | T81: תקנה 3(1) - התקשרות ששוויה אינה עולה על 50,000 ש"ח | U81: לא
A82: פיתוח נגב, גליל וש.פעולה | B82: פיתוח הנגב והגליל וש | C82: פיתוח הנגב והגליל ושתפ"א | D82: 04630205 | E82: הדרכה ורווחה | F82: 4501322815 | G82: =VLOOKUP(F82,[1]גיליון1!$F:$H,3,0) -> שי לעוןבדים לחנוכה 2016 | H82: שי לעוןבדים לחנוכה 2016 | I82: 42715 | K82: 0040574206 | L82: אס.קיי אול פור יו בע"מ | M82: 514709153 | N82: 6239.75 | O82: ILS | P82: 0 | R82: פטור ממכרז | T82: תקנה 3(1) - התקשרות ששוויה אינה עולה על 50,000 ש"ח | U82: לא
A83: פיתוח נגב, גליל וש.פעולה | B83: פיתוח הנגב והגליל וש | C83: פיתוח הנגב והגליל ושתפ"א | D83: 04560114 | E83: הדרכה ושכר לימוד | F83: 4501322815 | G83: =VLOOKUP(F83,[1]גיליון1!$F:$H,3,0) -> שי לעוןבדים לחנוכה 2016 | H83: שי לעוןבדים לחנוכה 2016 | I83: 42715 | K83: 0040574206 | L83: אס.קיי אול פור יו בע"מ | M83: 514709153 | N83: 2639.89 | O83: ILS | P83: 0 | R83: פטור ממכרז | T83: תקנה 3(1) - התקשרות ששוויה אינה עולה על 50,000 ש"ח | U83: לא
A84: פיתוח נגב, גליל וש.פעולה | B84: פיתוח הנגב והגליל וש | C84: פיתוח הנגב והגליל ושתפ"א | D84: 04630205 | E84: הדרכה ורווחה | F84: 4501323438 | G84: =VLOOKUP(F84,[1]גיליון1!$F:$H,3,0) -> שי לעוןבדים לחנוכה 2016 | H84: שי לעוןבדים לחנוכה 2016 | I84: 42716 | K84: 0041449736 | L84: אדנס פיתוח עסקי בע"מ | M84: 515282812 | N84: 1079.96 | O84: ILS | P84: 0 | R84: פטור ממכרז | T84: תקנה 3(1) - התקשרות ששוויה אינה עולה על 50,000 ש"ח | U84: לא
A85: פיתוח נגב, גליל וש.פעולה | B85: פיתוח הנגב והגליל וש | C85: פיתוח הנגב והגליל ושתפ"א | D85: 04560110 | E85: הוצאות תפעול | F85: 4501325219 | G85: =VLOOKUP(F85,[1]גיליון1!$F:$H,3,0) -> רכישת שעון נוכחות | H85: רכישת שעון נוכחות | I85: 42718 | K85: 0040004521 | L85: סינאל מלל פייוויי בע"מ | M85: 511416612 | N85: 991.52 | O85: ILS | P85: 0 | R85: תקנה 14ב - מכרז מרכזי | S85: 553419 | U85: לא
A86: פיתוח נגב, גליל וש.פעולה | B86: פיתוח הנגב והגליל וש | C86: פיתוח הנגב והגליל ושתפ"א | D86: 04560110 | E86: הוצאות תפעול | F86: 4501325235 | G86: =VLOOKUP(F86,[1]גיליון1!$F:$H,3,0) -> רכישת מדפסות ומתכלים | H86: רכישת מדפסות ומתכלים | I86: 42718 | K86: 0040001244 | L86: דנגוט מחשבים בע"מ | M86: 511398836 | N86: 8955.76 | O86: ILS | P86: 0 | R86: תקנה 14ב - מכרז מרכזי | S86: 543274 | U86: לא
A87: פיתוח נגב, גליל וש.פעולה | B87: פיתוח הנגב והגליל וש | C87: פיתוח הנגב והגליל ושתפ"א | D87: 04630201 | E87: תפעול | F87: 4501325235 | G87: =VLOOKUP(F87,[1]גיליון1!$F:$H,3,0) -> רכישת מדפסות ומתכלים | H87: רכישת מדפסות ומתכלים | I87: 42718 | K87: 0040001244 | L87: דנגוט מחשבים בע"מ | M87: 511398836 | N87: 5060.61 | O87: ILS | P87: 0 | R87: תקנה 14ב - מכרז מרכזי | S87: 543274 | U87: לא
A88: פיתוח נגב, גליל וש.פעולה | B88: פיתוח הנגב והגליל וש | C88: פיתוח הנגב והגליל ושתפ"א | D88: 04630201 | E88: תפעול | F88: 4501325293 | G88: =VLOOKUP(F88,[1]גיליון1!$F:$H,3,0) -> שרות למתקן מים | H88: שרות למתקן מים | I88: 42718 | K88: 0040386641 | L88: שטראוס מים בע"מ | M88: 513919779 | N88: 1590.03 | O88: ILS | P88: 1590.03 | Q88: ILS | R88: פטור ממכרז | T88: תקנה 3(1) - התקשרות ששוויה אינה עולה על 50,000 ש"ח | U88: לא
A89: פיתוח נגב, גליל וש.פעולה | B89: פיתוח הנגב והגליל וש | C89: פיתוח הנגב והגליל ושתפ"א | D89: 04630201 | E89: תפעול | F89: 4501325687 | G89: =VLOOKUP(F89,[1]גיליון1!$F:$H,3,0) -> מנויים לעיתון | H89: מנויים לעיתון | I89: 42718 | J89: 43100 | K89: 0040011446 | L89: ידיעות מינויים | M89: 540181054 | N89: 10824.84 | O89: ILS | P89: 0 | R89: פטור ממכרז | T89: תקנה 3(1) - התקשרות ששוויה אינה עולה על 50,000 ש"ח | U89: לא
A90: פיתוח נגב, גליל וש.פעולה | B90: פיתוח הנגב והגליל וש | C90: פיתוח הנגב והגליל ושתפ"א | D90: 04560110 | E90: הוצאות תפעול | F90: 4501325687 | G90: =VLOOKUP(F90,[1]גיליון1!$F:$H,3,0) -> מנויים לעיתון | H90: מנויים לעיתון | I90: 42718 | J90: 43100 | K90: 0040011446 | L90: ידיעות מינויים | M90: 540181054 | N90: 9420.84 | O90: ILS | P90: 0 | R90: פטור ממכרז | T90: תקנה 3(1) - התקשרות ששוויה אינה עולה על 50,000 ש"ח | U90: לא
A91: פיתוח נגב, גליל וש.פעולה | B91: פיתוח הנגב והגליל וש | C91: פיתוח הנגב והגליל ושתפ"א | D91: 04560111 | E91: הוצאות מחשוב | F91: 4501326183 | G91: =VLOOKUP(F91,[1]גיליון1!$F:$H,3,0) -> רכישת מסכים | H91: רכישת מסכים | I91: 42719 | K91: 0041097839 | L91: גטר גרופ בע"מ | M91: 520042326 | N91: 13649.22 | O91: ILS | P91: 0 | R91: תקנה 14ב - מכרז מרכזי | S91: 541738 | U91: לא
A92: פיתוח נגב, גליל וש.פעולה | B92: פיתוח הנגב והגליל וש | C92: פיתוח הנגב והגליל ושתפ"א | D92: 04560110 | E92: הוצאות תפעול | F92: 4501326553 | G92: =VLOOKUP(F92,[1]גיליון1!$F:$H,3,0) -> רכישת כסאות | H92: רכישת כסאות | I92: 42719 | K92: 0040003692 | L92: טופ-ליין יבוא ושיווק רהיטים בע"מ | M92: 511613564 | N92: 13394.47 | O92: ILS | P92: 0 | R92: תקנה 14ב - מכרז מרכזי | S92: 559541 | U92: לא
A93: פיתוח נגב, גליל וש.פעולה | B93: פיתוח הנגב והגליל וש | C93: פיתוח הנגב והגליל ושתפ"א | D93: 04560113 | E93: פעולות | F93: 4501327182 | G93: =VLOOKUP(F93,[1]גיליון1!$F:$H,3,0) -> סקר היתכנות למעבר גבול בדרום ים המלח | H93: סקר היתכנות למעבר גבול בדרום ים המלח | I93: 42722 | K93: 0040243062 | L93: פיטלסון שילה יעקובסון-אדריכלים | M93: 540166352 | N93: 34398 | O93: ILS | P93: 0 | R93: פטור ממכרז | T93: תקנה 3(1) - התקשרות ששוויה אינה עולה על 50,000 ש"ח | U93: לא
A94: פיתוח נגב, גליל וש.פעולה | B94: פיתוח הנגב והגליל וש | C94: פיתוח הנגב והגליל ושתפ"א | D94: 04630201 | E94: תפעול | F94: 4501328498 | G94: =VLOOKUP(F94,[1]גיליון1!$F:$H,3,0) -> לינות עובדים | H94: לינות עובדים | I94: 42723 | K94: 0040211851 | L94: כפיר קבלנות בנין בע"מ | M94: 510733298 | N94: 506.61 | O94: ILS | P94: 506.61 | Q94: ILS | R94: פטור ממכרז | T94: תקנה 3(1) - התקשרות ששוויה אינה עולה על 50,000 ש"ח | U94: לא
A95: פיתוח נגב, גליל וש.פעולה | B95: פיתוח הנגב והגליל וש | C95: פיתוח הנגב והגליל ושתפ"א | D95: 04560110 | E95: הוצאות תפעול | F95: 4501328562 | G95: =VLOOKUP(F95,[1]גיליון1!$F:$H,3,0) -> לינות לעובדים | H95: לינות לעובדים | I95: 42723 | K95: 0040001506 | L95: מלונות צרפת ירושלים בע"מ | M95: 512831215 | N95: 3109.86 | O95: ILS | P95: 3038.86 | Q95: ILS | R95: פטור ממכרז | T95: תקנה 3(1) - התקשרות ששוויה אינה עולה על 50,000 ש"ח | U95: לא
A96: פיתוח נגב, גליל וש.פעולה | B96: פיתוח הנגב והגליל וש | C96: פיתוח הנגב והגליל ושתפ"א | D96: 04630201 | E96: תפעול | F96: 4501328641 | G96: =VLOOKUP(F96,[1]גיליון1!$F:$H,3,0) -> לינת עובד | H96: לינת עובד | I96: 42723 | K96: 0040220888 | L96: מלונות פתאל בע"מ | M96: 510678816 | N96: 518.31 | O96: ILS | P96: 0 | R96: פטור ממכרז | T96: תקנה 3(1) - התקשרות ששוויה אינה עולה על 50,000 ש"ח | U96: לא
A97: פיתוח נגב, גליל וש.פעולה | B97: פיתוח הנגב והגליל וש | C97: פיתוח הנגב והגליל ושתפ"א | D97: 04630307 | E97: השתתפות בלשכת הפרסופ | F97: 4501328842 | G97: =VLOOKUP(F97,[1]גיליון1!$F:$H,3,0) -> אירועי חנוכה | H97: אירועי חנוכה | I97: 42723 | K97: 0010000021 | L97: לשכת הפירסום הממשלתי | M97: 500100268 | N97: 250000 | O97: ILS | P97: 0 | R97: פטור ממכרז | S97: אין מס' שיהיה יעודכן בהזמנה | T97: תקנה 3(12) - לשכת הפרסום הממשלתית | U97: לא
A98: פיתוח נגב, גליל וש.פעולה | B98: פיתוח הנגב והגליל וש | C98: פיתוח הנגב והגליל ושתפ"א | D98: 04630303 | E98: פעולות לפיתוח הנגב | F98: 4501328921 | G98: =VLOOKUP(F98,[1]גיליון1!$F:$H,3,0) -> החזר חוב קודם | H98: החזר חוב קודם | I98: 42723 | K98: 0010000020 | L98: משרד ראש הממשלה | M98: 500100037 | N98: 2499999 | O98: ILS | P98: 2499999 | Q98: ILS | R98: התקשרות עם גופים ממשלתיים | U98: לא
A99: פיתוח נגב, גליל וש.פעולה | B99: פיתוח הנגב והגליל וש | C99: פיתוח הנגב והגליל ושתפ"א | D99: 04560113 | E99: פעולות | F99: 4501328921 | G99: =VLOOKUP(F99,[1]גיליון1!$F:$H,3,0) -> החזר חוב קודם | H99: החזר חוב קודם | I99: 42723 | K99: 0010000020 | L99: משרד ראש הממשלה | M99: 500100037 | N99: 1593679 | O99: ILS | P99: 1593679 | Q99: ILS | R99: התקשרות עם גופים ממשלתיים | U99: לא
A100: פיתוח נגב, גליל וש.פעולה | B100: פיתוח הנגב והגליל וש | C100: פיתוח הנגב והגליל ושתפ"א | D100: 04560110 | E100: הוצאות תפעול | F100: 4501329275 | G100: =VLOOKUP(F100,[1]גיליון1!$F:$H,3,0) -> ציוד משרדי | H100: ציוד משרדי | I100: 42724 | K100: 0040001337 | L100: גרפיטי - שיווק ציוד משרדי ונייר בע" | M100: 511846156 | N100: 8907.84 | O100: ILS | P100: 0 | R100: תקנה 14ב - מכרז מרכזי | S100: 529619 | U100: לא
...
