Workbook

Sheet עלותה של הפעילות הנתמכת
A1: מס' בקשה | B1: מס' הגוף במרכבה | C1: מספר מזהה | D1: שם הגוף | E1: מהות הבקשה | H1: סעיף 6 למבחנים - הפעילות הנתמכת ועלותה | P1: הערות | Q1: נימוקים 2023
F2: תמיכה 2022 | G2: סכום מבוקש 2023 | H2: 6 (א) (1) עלות שכרו של הרב | I2: 6 (א) (2) עלות שכר נורמטיבי עפ"י הנחיות הממונה על השכר באוצר | J2: גודל הקהילה | K2: מספר המשתתפים בקהילה | L2: שכר נורמטיבי מותאם לגודל הקהילה | M2: הנמוך מבינהם | N2: סכום מומלץ 2023 לפני הגבלה לסכום מבוקש | O2: סכום תמיכה סופי מומלץ
A3: =מרכבה!B2 -> 1001670527 | B3: =מרכבה!J2 -> 40828015 | C3: =מרכבה!I2 -> 580505253 | D3: קהילת ניגון הלב (ע"ר) | E3: שכר רבנים בקהילות לא אורתודוכסיות | F3: 121452 | G3: 121452 | H3: 17330 | I3: 10121 | J3: 1 | K3: 277 | L3: =J3*I3 -> 10121 | M3: =MIN(L3,H3) -> 10121 | N3: =M3*12 -> 121452 | O3: =MIN(N3,G3) -> 121452 | P3: משרה מלאה - 182 שעות בחודש | Q3: מאושר סיוע במימון שכר רב הקהילה, בהתאם למבחני התמיכה.
A4: =מרכבה!B3 -> 1001670943 | B4: =מרכבה!J3 -> 40000648 | C4: =מרכבה!I3 -> 580282853 | D4: התנועה הרפורמית - יהדות מתקדמת בישר | E4: תמיכה ברב רפורמי בקהילה איזורית איילות | F4: 121452 | G4: 192000 | H4: 16000 | I4: 10121 | J4: 1 | K4: 275 | L4: =J4*I4 -> 10121 | M4: =MIN(L4,H4) -> 10121 | N4: =M4*12 -> 121452 | O4: =MIN(N4,G4) -> 121452 | P4: משרה מלאה - 182 שעות בחודש | Q4: מאושר סיוע במימון שכר רב הקהילה, בהתאם למבחני התמיכה.
A5: =מרכבה!B4 -> 1001671531 | B5: =מרכבה!J4 -> 41092872 | C5: =מרכבה!I4 -> 580517241 | D5: המכון הבינלאומי ליהדות חילונית הומנ | E5: רב בקהילת עין גדי | F5: 60720 | G5: 72000 | H5: 5060 | I5: 10121 | J5: 0.5 | K5: 66 | L5: =J5*I5 -> 5060.5 | M5: =MIN(L5,H5) -> 5060 | N5: =M5*12 -> 60720 | O5: =MIN(N5,G5) -> 60720 | P5: 50% משרה - 91 שעות בחודש | Q5: מאושר סיוע במימון שכר רב הקהילה, בהתאם למבחני התמיכה.
A6: =מרכבה!B5 -> 1001671532 | B6: =מרכבה!J5 -> 41092872 | C6: =מרכבה!I5 -> 580517241 | D6: המכון הבינלאומי ליהדות חילונית הומנ | E6: קהילת עין דור- רב קהילה | F6: 60720 | G6: 72000 | H6: 5060 | I6: 10121 | J6: 0.5 | K6: 60 | L6: =J6*I6 -> 5060.5 | M6: =MIN(L6,H6) -> 5060 | N6: =M6*12 -> 60720 | O6: =MIN(N6,G6) -> 60720 | P6: 50% משרה - 91 שעות בחודש | Q6: מאושר סיוע במימון שכר רב הקהילה, בהתאם למבחני התמיכה.
A7: =מרכבה!B6 -> 1001671533 | B7: =מרכבה!J6 -> 41092872 | C7: =מרכבה!I6 -> 580517241 | D7: המכון הבינלאומי ליהדות חילונית הומנ | E7: קהילת כפר גליקסון- רב קהילה | F7: 60720 | G7: 72000 | H7: 5060 | I7: 10121 | J7: 0.5 | K7: 55 | L7: =J7*I7 -> 5060.5 | M7: =MIN(L7,H7) -> 5060 | N7: =M7*12 -> 60720 | O7: =MIN(N7,G7) -> 60720 | P7: 50% משרה - 91 שעות בחודש | Q7: מאושר סיוע במימון שכר רב הקהילה, בהתאם למבחני התמיכה.
A8: =מרכבה!B7 -> 1001671534 | B8: =מרכבה!J7 -> 41092872 | C8: =מרכבה!I7 -> 580517241 | D8: המכון הבינלאומי ליהדות חילונית הומנ | E8: קהילת אלון הגליל- רב קהילה | F8: 60720 | G8: 72000 | H8: 5060 | I8: 10121 | J8: 0.5 | K8: 140 | L8: =J8*I8 -> 5060.5 | M8: =MIN(L8,H8) -> 5060 | N8: =M8*12 -> 60720 | O8: =MIN(N8,G8) -> 60720 | P8: 50% משרה - 91 שעות בחודש | Q8: מאושר סיוע במימון שכר רב הקהילה, בהתאם למבחני התמיכה.
A9: =מרכבה!B8 -> 1001674283 | B9: =מרכבה!J8 -> 40000491 | C9: =מרכבה!I8 -> 580132454 | D9: התנועה המסורתית he masorti movement | E9: תמיכה ברבני קהילות מועצה אזורית חבל אילו | F9: 121452 | G9: 153360 | H9: 13533 | I9: 10121 | J9: 1 | K9: 261 | L9: =J9*I9 -> 10121 | M9: =MIN(L9,H9) -> 10121 | N9: =M9*12 -> 121452 | O9: =MIN(N9,G9) -> 121452 | P9: משרה מלאה - 182 שעות בחודש | Q9: מאושר סיוע במימון שכר רב הקהילה, בהתאם למבחני התמיכה.
A10: =מרכבה!B9 -> 1001674936 | B10: =מרכבה!J9 -> 40000648 | C10: =מרכבה!I9 -> 580282853 | D10: התנועה הרפורמית - יהדות מתקדמת בישר | E10: בקשת תמיכה לרבה בשער הנגב 2023 | F10: 121452 | G10: 228000 | H10: 19000 | I10: 10121 | J10: 1 | K10: 338 | L10: =J10*I10 -> 10121 | M10: =MIN(L10,H10) -> 10121 | N10: =M10*12 -> 121452 | O10: =MIN(N10,G10) -> 121452 | P10: משרה מלאה - 182 שעות בחודש | Q10: מאושר סיוע במימון שכר רב הקהילה, בהתאם למבחני התמיכה.
A11: =מרכבה!B10 -> 1001674971 | B11: =מרכבה!J10 -> 40000648 | C11: =מרכבה!I10 -> 580282853 | D11: התנועה הרפורמית - יהדות מתקדמת בישר | E11: בקשת תמיכה לרבת מ. א. גליל עליון 2023 | F11: 60726 | G11: 96000 | H11: 8000 | I11: 10121 | J11: 0.5 | K11: 53 | L11: =J11*I11 -> 5060.5 | M11: =MIN(L11,H11) -> 5060.5 | N11: =M11*12 -> 60726 | O11: =MIN(N11,G11) -> 60726 | P11: 50% משרה - 91 שעות בחודש | Q11: מאושר סיוע במימון שכר רב הקהילה, בהתאם למבחני התמיכה.
A12: =מרכבה!B11 -> 1001674972 | B12: =מרכבה!J11 -> 40000648 | C12: =מרכבה!I11 -> 580282853 | D12: התנועה הרפורמית - יהדות מתקדמת בישר | E12: בקשה תמיכה רב במ.א. גלבוע 2023 | F12: 121452 | G12: 189600 | H12: 15800 | I12: 10121 | J12: 1 | K12: 294 | L12: =J12*I12 -> 10121 | M12: =MIN(L12,H12) -> 10121 | N12: =M12*12 -> 121452 | O12: =MIN(N12,G12) -> 121452 | P12: משרה מלאה - 182 שעות בחודש | Q12: מאושר סיוע במימון שכר רב הקהילה, בהתאם למבחני התמיכה.
A13: =מרכבה!B12 -> 1001674977 | B13: =מרכבה!J12 -> 40000648 | C13: =מרכבה!I12 -> 580282853 | D13: התנועה הרפורמית - יהדות מתקדמת בישר | E13: בקשת תמיכה לרב מ.א. גולן ועמק הירדן 2023 | F13: 121452 | G13: 182400 | H13: 15200 | I13: 10121 | J13: 1 | K13: 252 | L13: =J13*I13 -> 10121 | M13: =MIN(L13,H13) -> 10121 | N13: =M13*12 -> 121452 | O13: =MIN(N13,G13) -> 121452 | P13: משרה מלאה - 182 שעות בחודש | Q13: מאושר סיוע במימון שכר רב הקהילה, בהתאם למבחני התמיכה.
A14: =מרכבה!B13 -> 1001674978 | B14: =מרכבה!J13 -> 40000648 | C14: =מרכבה!I13 -> 580282853 | D14: התנועה הרפורמית - יהדות מתקדמת בישר | E14: בקשת תמיכהלרבה מ. א. חבל מודיעין 2023 | F14: 60726 | G14: 114000 | H14: 9500 | I14: 10121 | J14: 0.5 | K14: 51 | L14: =J14*I14 -> 5060.5 | M14: =MIN(L14,H14) -> 5060.5 | N14: =M14*12 -> 60726 | O14: =MIN(N14,G14) -> 60726 | P14: 50% משרה - 91 שעות בחודש | Q14: מאושר סיוע במימון שכר רב הקהילה, בהתאם למבחני התמיכה.
... A18: =מרכבה!B17 -> 1001675051 | B18: =מרכבה!J17 -> 40000648 | C18: =מרכבה!I17 -> 580282853 | D18: התנועה הרפורמית - יהדות מתקדמת בישר | E18: בקשת תמיכה לרבה מ.א. מטה אשר 2023 | F18: 121452 | G18: 180000 | H18: 15000 | I18: 10121 | J18: 1 | K18: 298 | L18: =J18*I18 -> 10121 | M18: =MIN(L18,H18) -> 10121 | N18: =M18*12 -> 121452 | O18: =MIN(N18,G18) -> 121452 | P18: משרה מלאה - 182 שעות בחודש | Q18: מאושר סיוע במימון שכר רב הקהילה, בהתאם למבחני התמיכה.
A19: =מרכבה!B18 -> 1001675054 | B19: =מרכבה!J18 -> 40000648 | C19: =מרכבה!I18 -> 580282853 | D19: התנועה הרפורמית - יהדות מתקדמת בישר | E19: בקשה לתמיכה ברבה מ.א. מטה יהודה 2023 | F19: 60726 | G19: 79800 | H19: 6650 | I19: 10121 | J19: 0.5 | K19: 230 | L19: =J19*I19 -> 5060.5 | M19: =MIN(L19,H19) -> 5060.5 | N19: =M19*12 -> 60726 | O19: 25302 | P19: 50% משרה - 91 שעות בחודש | Q19: מאושר סיוע במימון שכר רב הקהילה, בהתאם למבחני התמיכה. במהלך חודש יולי העמותה עדכנה בשינוי הגדרה של המועצה איזורית למועצה מיקומית ולכן בוצע עדכון לאישור התמיכה עד חודש מאי בלבד.
A20: =מרכבה!B19 -> 1001675057 | B20: =מרכבה!J19 -> 40000648 | C20: =מרכבה!I19 -> 580282853 | D20: התנועה הרפורמית - יהדות מתקדמת בישר | E20: בקשה לתמיכה שכר רב מ. א. משגב 2023 | F20: 121452 | G20: 192000 | H20: 16000 | I20: 10121 | J20: 1 | K20: 280 | L20: =J20*I20 -> 10121 | M20: =MIN(L20,H20) -> 10121 | N20: =M20*12 -> 121452 | O20: =MIN(N20,G20) -> 121452 | P20: משרה מלאה - 182 שעות בחודש | Q20: מאושר סיוע במימון שכר רב הקהילה, בהתאם למבחני התמיכה.
A21: =מרכבה!B20 -> 1001675175 | B21: =מרכבה!J20 -> 40827670 | C21: =מרכבה!I20 -> 580344182 | D21: קהילת ברכת שלום בקבוץ גזר (ע"ר) | E21: תמיכה בשכר עבודה רבנים | F21: 121440 | G21: 121440 | H21: 24166 | I21: 10121 | J21: 1 | K21: 319 | L21: =J21*I21 -> 10121 | M21: =MIN(L21,H21) -> 10121 | N21: =M21*12 -> 121452 | O21: =MIN(N21,G21) -> 121440 | P21: משרה מלאה - 182 שעות בחודש | Q21: מאושר סיוע במימון שכר רב הקהילה, בהתאם למבחני התמיכה.
A22: סה"כ | F22: =SUM(F3:F21) -> 1821744 | G22: =SUM(G3:G21) -> 2633652 | N22: =SUM(N3:N21) -> 1821756 | O22: =SUM(O3:O21) -> 1786320
D27: סה"כ תקנים | E27: 15
D28: משרה מלאה | E28: 11
D29: חצי משרה | E29: 8
D30: סה"כ בקשות | E30: 19

Sheet עמידה בתנאי סף
A1: מס' בקשה | B1: מס' הגוף במרכבה | C1: מספר מזהה | D1: שם הגוף | E1: מהות הבקשה | F1: סעיף 4 למבחנים - תנאי סף כלליים לתמיכה
F2: פעילות רוחנית ותרבותית של שנתיים לפחות 4 (1) | G2: פעילות רוחנית ותרבותית קבועה 4 (2) | H2: מועסק רב קהילה העונה על התנאים בסעיף 5 4 (3) | I2: המוסד מנהל רשימה של חברי הקהילה 4 (4) | J2: המוסד מפעיל בית כנסת 4 (5) | K2: המוסד מפעיל פעילות בהיקף של 250 ש"שנתיות לפחות 4 (6) | L2: הפעילות אינה מתוקצבת ממקור ממשלתי אחר 4 (7) | M2: המוסד עומד בדרישות הנוהל 4 (8) | N2: מטרות המוסד עולים בקנה אחד עם מטרות התמיכה 4 (9) | O2: המוסד פועל ביעילות ובתקורה מינימלית 4 (10)
A3: =מרכבה!B2 -> 1001670527 | B3: =מרכבה!J2 -> 40828015 | C3: =מרכבה!I2 -> 580505253 | D3: קהילת ניגון הלב (ע"ר) | E3: שכר רבנים בקהילות לא אורתודוכסיות | F3: V | G3: V | H3: V | I3: 277 | J3: V | K3: V | L3: V | M3: V | N3: V | O3: V
A4: =מרכבה!B3 -> 1001670943 | B4: =מרכבה!J3 -> 40000648 | C4: =מרכבה!I3 -> 580282853 | D4: התנועה הרפורמית - יהדות מתקדמת בישר | E4: תמיכה ברב רפורמי בקהילה איזורית איילות | F4: V | G4: V | H4: V | I4: 275 | J4: V | K4: V | L4: V | M4: V | N4: V | O4: V
A5: =מרכבה!B4 -> 1001671531 | B5: =מרכבה!J4 -> 41092872 | C5: =מרכבה!I4 -> 580517241 | D5: המכון הבינלאומי ליהדות חילונית הומנ | E5: רב בקהילת עין גדי | F5: V | G5: V | H5: V | I5: 66 | J5: V | K5: V | L5: V | M5: V | N5: V | O5: V
A6: =מרכבה!B5 -> 1001671532 | B6: =מרכבה!J5 -> 41092872 | C6: =מרכבה!I5 -> 580517241 | D6: המכון הבינלאומי ליהדות חילונית הומנ | E6: קהילת עין דור- רב קהילה | F6: V | G6: V | H6: V | I6: 60 | J6: V | K6: V | L6: V | M6: V | N6: V | O6: V
A7: =מרכבה!B6 -> 1001671533 | B7: =מרכבה!J6 -> 41092872 | C7: =מרכבה!I6 -> 580517241 | D7: המכון הבינלאומי ליהדות חילונית הומנ | E7: קהילת כפר גליקסון- רב קהילה | F7: V | G7: V | H7: V | I7: 55 | J7: V | K7: V | L7: V | M7: V | N7: V | O7: V
A8: =מרכבה!B7 -> 1001671534 | B8: =מרכבה!J7 -> 41092872 | C8: =מרכבה!I7 -> 580517241 | D8: המכון הבינלאומי ליהדות חילונית הומנ | E8: קהילת אלון הגליל- רב קהילה | F8: V | G8: V | H8: V | I8: 140 | J8: V | K8: V | L8: V | M8: V | N8: V | O8: V
A9: =מרכבה!B8 -> 1001674283 | B9: =מרכבה!J8 -> 40000491 | C9: =מרכבה!I8 -> 580132454 | D9: התנועה המסורתית he masorti movement | E9: תמיכה ברבני קהילות מועצה אזורית חבל אילו | F9: V | G9: V | H9: V | I9: 261 | J9: V | K9: V | L9: V | M9: V | N9: V | O9: V
A10: =מרכבה!B9 -> 1001674936 | B10: =מרכבה!J9 -> 40000648 | C10: =מרכבה!I9 -> 580282853 | D10: התנועה הרפורמית - יהדות מתקדמת בישר | E10: בקשת תמיכה לרבה בשער הנגב 2023 | F10: V | G10: V | H10: V | I10: 338 | J10: V | K10: V | L10: V | M10: V | N10: V | O10: V
A11: =מרכבה!B10 -> 1001674971 | B11: =מרכבה!J10 -> 40000648 | C11: =מרכבה!I10 -> 580282853 | D11: התנועה הרפורמית - יהדות מתקדמת בישר | E11: בקשת תמיכה לרבת מ. א. גליל עליון 2023 | F11: V | G11: V | H11: V | I11: 53 | J11: V | K11: V | L11: V | M11: V | N11: V | O11: V
A12: =מרכבה!B11 -> 1001674972 | B12: =מרכבה!J11 -> 40000648 | C12: =מרכבה!I11 -> 580282853 | D12: התנועה הרפורמית - יהדות מתקדמת בישר | E12: בקשה תמיכה רב במ.א. גלבוע 2023 | F12: V | G12: V | H12: V | I12: 294 | J12: V | K12: V | L12: V | M12: V | N12: V | O12: V
A13: =מרכבה!B12 -> 1001674977 | B13: =מרכבה!J12 -> 40000648 | C13: =מרכבה!I12 -> 580282853 | D13: התנועה הרפורמית - יהדות מתקדמת בישר | E13: בקשת תמיכה לרב מ.א. גולן ועמק הירדן 2023 | F13: V | G13: V | H13: V | I13: 252 | J13: V | K13: V | L13: V | M13: V | N13: V | O13: V
A14: =מרכבה!B13 -> 1001674978 | B14: =מרכבה!J13 -> 40000648 | C14: =מרכבה!I13 -> 580282853 | D14: התנועה הרפורמית - יהדות מתקדמת בישר | E14: בקשת תמיכהלרבה מ. א. חבל מודיעין 2023 | F14: V | G14: V | H14: V | I14: 51 | J14: V | K14: V | L14: V | M14: V | N14: V | O14: V
... A21: =מרכבה!B20 -> 1001675175 | B21: =מרכבה!J20 -> 40827670 | C21: =מרכבה!I20 -> 580344182 | D21: קהילת ברכת שלום בקבוץ גזר (ע"ר) | E21: תמיכה בשכר עבודה רבנים | F21: V | G21: V | H21: V | I21: 319 | J21: V | K21: V | L21: V | M21: V | N21: V | O21: V

Sheet תנאי סף למימון רב הקהילה
A1: מס' בקשה | B1: מס' הגוף במרכבה | C1: מספר מזהה | D1: שם הגוף | E1: מהות הבקשה | F1: סעיף 5 למבחנים - תנאי סף למימון רב קהילה
F2: רב קהילה נבחר ע"י וועדת בחירה 5 (1) | G2: נחתם הסכם העסקה בין הרב לקהילה 5 (2) | H2: הסכם ההעסקה קובע חובותיו של רב הקהילה 5 (3) | I2: בהסכם על הרב לנכוח 40 שבתות בשנה לפחות 5 (4) | J2: הסכם ההעסקה מקנה לרב זכויות סוציאליות 5 (5) | K2: הסכם ההעסקה קובע חובות הדיווח של הרב 5 (6)
A3: =מרכבה!B2 -> 1001670527 | B3: =מרכבה!J2 -> 40828015 | C3: =מרכבה!I2 -> 580505253 | D3: קהילת ניגון הלב (ע"ר) | E3: שכר רבנים בקהילות לא אורתודוכסיות | F3: V | G3: V | H3: משרה מלאה - 182 שעות בחודש | I3: V | J3: V | K3: V
A4: =מרכבה!B3 -> 1001670943 | B4: =מרכבה!J3 -> 40000648 | C4: =מרכבה!I3 -> 580282853 | D4: התנועה הרפורמית - יהדות מתקדמת בישר | E4: תמיכה ברב רפורמי בקהילה איזורית איילות | F4: V | G4: V | H4: משרה מלאה - 182 שעות בחודש | I4: V | J4: V | K4: V
A5: =מרכבה!B4 -> 1001671531 | B5: =מרכבה!J4 -> 41092872 | C5: =מרכבה!I4 -> 580517241 | D5: המכון הבינלאומי ליהדות חילונית הומנ | E5: רב בקהילת עין גדי | F5: V | G5: V | H5: 50% משרה - 91 שעות בחודש | I5: V | J5: V | K5: V
A6: =מרכבה!B5 -> 1001671532 | B6: =מרכבה!J5 -> 41092872 | C6: =מרכבה!I5 -> 580517241 | D6: המכון הבינלאומי ליהדות חילונית הומנ | E6: קהילת עין דור- רב קהילה | F6: V | G6: V | H6: 50% משרה - 91 שעות בחודש | I6: V | J6: V | K6: V
A7: =מרכבה!B6 -> 1001671533 | B7: =מרכבה!J6 -> 41092872 | C7: =מרכבה!I6 -> 580517241 | D7: המכון הבינלאומי ליהדות חילונית הומנ | E7: קהילת כפר גליקסון- רב קהילה | F7: V | G7: V | H7: 50% משרה - 91 שעות בחודש | I7: V | J7: V | K7: V
A8: =מרכבה!B7 -> 1001671534 | B8: =מרכבה!J7 -> 41092872 | C8: =מרכבה!I7 -> 580517241 | D8: המכון הבינלאומי ליהדות חילונית הומנ | E8: קהילת אלון הגליל- רב קהילה | F8: V | G8: V | H8: 50% משרה - 91 שעות בחודש | I8: V | J8: V | K8: V
A9: =מרכבה!B8 -> 1001674283 | B9: =מרכבה!J8 -> 40000491 | C9: =מרכבה!I8 -> 580132454 | D9: התנועה המסורתית he masorti movement | E9: תמיכה ברבני קהילות מועצה אזורית חבל אילו | F9: V | G9: V | H9: משרה מלאה - 182 שעות בחודש | I9: V | J9: V | K9: V
A10: =מרכבה!B9 -> 1001674936 | B10: =מרכבה!J9 -> 40000648 | C10: =מרכבה!I9 -> 580282853 | D10: התנועה הרפורמית - יהדות מתקדמת בישר | E10: בקשת תמיכה לרבה בשער הנגב 2023 | F10: V | G10: V | H10: משרה מלאה - 182 שעות בחודש | I10: V | J10: V | K10: V
A11: =מרכבה!B10 -> 1001674971 | B11: =מרכבה!J10 -> 40000648 | C11: =מרכבה!I10 -> 580282853 | D11: התנועה הרפורמית - יהדות מתקדמת בישר | E11: בקשת תמיכה לרבת מ. א. גליל עליון 2023 | F11: V | G11: V | H11: 50% משרה - 91 שעות בחודש | I11: V | J11: V | K11: V
A12: =מרכבה!B11 -> 1001674972 | B12: =מרכבה!J11 -> 40000648 | C12: =מרכבה!I11 -> 580282853 | D12: התנועה הרפורמית - יהדות מתקדמת בישר | E12: בקשה תמיכה רב במ.א. גלבוע 2023 | F12: V | G12: V | H12: משרה מלאה - 182 שעות בחודש | I12: V | J12: V | K12: V
A13: =מרכבה!B12 -> 1001674977 | B13: =מרכבה!J12 -> 40000648 | C13: =מרכבה!I12 -> 580282853 | D13: התנועה הרפורמית - יהדות מתקדמת בישר | E13: בקשת תמיכה לרב מ.א. גולן ועמק הירדן 2023 | F13: V | G13: V | H13: משרה מלאה - 182 שעות בחודש | I13: V | J13: V | K13: V
A14: =מרכבה!B13 -> 1001674978 | B14: =מרכבה!J13 -> 40000648 | C14: =מרכבה!I13 -> 580282853 | D14: התנועה הרפורמית - יהדות מתקדמת בישר | E14: בקשת תמיכהלרבה מ. א. חבל מודיעין 2023 | F14: V | G14: V | H14: 50% משרה - 91 שעות בחודש | I14: V | J14: V | K14: V
... A21: =מרכבה!B20 -> 1001675175 | B21: =מרכבה!J20 -> 40827670 | C21: =מרכבה!I20 -> 580344182 | D21: קהילת ברכת שלום בקבוץ גזר (ע"ר) | E21: תמיכה בשכר עבודה רבנים | F21: V | G21: V | H21: משרה מלאה - 182 שעות בחודש | I21: V | J21: V | K21: V

Sheet מרכבה
A1: קוד חברה | B1: מספר בקשה | C1: תיאור בקשה קצר | D1: סוג בקשה | E1: תיאור סוג בקשה | F1: 3א מיוחד | G1: סטאטוס | H1: מצב בקשה נוכחי | I1: מזהה מגיש הבקשה | J1: מס' מגיש (ספק) | K1: שם מגיש הבקשה
A2: 5210 | B2: 1001670527 | C2: שכר רבנים בקהילות לא אורתודוכסיות | D2: SR | E2: בקשת תמיכה 3 א' | G2: טיוט | H2: לא מוקפא | I2: 580505253 | J2: 40828015 | K2: קהילת ניגון הלב (ע"ר)
A3: 5210 | B3: 1001670943 | C3: תמיכה ברב רפורמי בקהילה איזורית איילות | D3: SR | E3: בקשת תמיכה 3 א' | G3: טיוט | H3: לא מוקפא | I3: 580282853 | J3: 40000648 | K3: התנועה הרפורמית - יהדות מתקדמת בישר
A4: 5210 | B4: 1001671531 | C4: רב בקהילת עין גדי | D4: SR | E4: בקשת תמיכה 3 א' | G4: טיוט | H4: לא מוקפא | I4: 580517241 | J4: 41092872 | K4: המכון הבינלאומי ליהדות חילונית הומנ
A5: 5210 | B5: 1001671532 | C5: קהילת עין דור- רב קהילה | D5: SR | E5: בקשת תמיכה 3 א' | G5: טיוט | H5: לא מוקפא | I5: 580517241 | J5: 41092872 | K5: המכון הבינלאומי ליהדות חילונית הומנ
A6: 5210 | B6: 1001671533 | C6: קהילת כפר גליקסון- רב קהילה | D6: SR | E6: בקשת תמיכה 3 א' | G6: טיוט | H6: לא מוקפא | I6: 580517241 | J6: 41092872 | K6: המכון הבינלאומי ליהדות חילונית הומנ
A7: 5210 | B7: 1001671534 | C7: קהילת אלון הגליל- רב קהילה | D7: SR | E7: בקשת תמיכה 3 א' | G7: טיוט | H7: לא מוקפא | I7: 580517241 | J7: 41092872 | K7: המכון הבינלאומי ליהדות חילונית הומנ
A8: 5210 | B8: 1001674283 | C8: תמיכה ברבני קהילות מועצה אזורית חבל אילו | D8: SR | E8: בקשת תמיכה 3 א' | G8: טיוט | H8: לא מוקפא | I8: 580132454 | J8: 40000491 | K8: התנועה המסורתית he masorti movement
A9: 5210 | B9: 1001674936 | C9: בקשת תמיכה לרבה בשער הנגב 2023 | D9: SR | E9: בקשת תמיכה 3 א' | G9: טיוט | H9: לא מוקפא | I9: 580282853 | J9: 40000648 | K9: התנועה הרפורמית - יהדות מתקדמת בישר
A10: 5210 | B10: 1001674971 | C10: בקשת תמיכה לרבת מ. א. גליל עליון 2023 | D10: SR | E10: בקשת תמיכה 3 א' | G10: טיוט | H10: לא מוקפא | I10: 580282853 | J10: 40000648 | K10: התנועה הרפורמית - יהדות מתקדמת בישר
A11: 5210 | B11: 1001674972 | C11: בקשה תמיכה רב במ.א. גלבוע 2023 | D11: SR | E11: בקשת תמיכה 3 א' | G11: טיוט | H11: לא מוקפא | I11: 580282853 | J11: 40000648 | K11: התנועה הרפורמית - יהדות מתקדמת בישר
A12: 5210 | B12: 1001674977 | C12: בקשת תמיכה לרב מ.א. גולן ועמק הירדן 2023 | D12: SR | E12: בקשת תמיכה 3 א' | G12: טיוט | H12: לא מוקפא | I12: 580282853 | J12: 40000648 | K12: התנועה הרפורמית - יהדות מתקדמת בישר
A13: 5210 | B13: 1001674978 | C13: בקשת תמיכהלרבה מ. א. חבל מודיעין 2023 | D13: SR | E13: בקשת תמיכה 3 א' | G13: טיוט | H13: לא מוקפא | I13: 580282853 | J13: 40000648 | K13: התנועה הרפורמית - יהדות מתקדמת בישר
... A17: 5210 | B17: 1001675051 | C17: בקשת תמיכה לרבה מ.א. מטה אשר 2023 | D17: SR | E17: בקשת תמיכה 3 א' | G17: טיוט | H17: לא מוקפא | I17: 580282853 | J17: 40000648 | K17: התנועה הרפורמית - יהדות מתקדמת בישר
A18: 5210 | B18: 1001675054 | C18: בקשה לתמיכה ברבה מ.א. מטה יהודה 2023 | D18: SR | E18: בקשת תמיכה 3 א' | G18: טיוט | H18: לא מוקפא | I18: 580282853 | J18: 40000648 | K18: התנועה הרפורמית - יהדות מתקדמת בישר
A19: 5210 | B19: 1001675057 | C19: בקשה לתמיכה שכר רב מ. א. משגב 2023 | D19: SR | E19: בקשת תמיכה 3 א' | G19: טיוט | H19: לא מוקפא | I19: 580282853 | J19: 40000648 | K19: התנועה הרפורמית - יהדות מתקדמת בישר
A20: 5210 | B20: 1001675175 | C20: תמיכה בשכר עבודה רבנים | D20: SR | E20: בקשת תמיכה 3 א' | G20: טיוט | H20: לא מוקפא | I20: 580344182 | J20: 40827670 | K20: קהילת ברכת שלום בקבוץ גזר (ע"ר)
