Workbook
Name a: #REF!
Name aa: #REF!
Name b: #REF!
Name DDDD: #REF!
Name ee: #REF!
Name ngf: #REF!

Sheet ProtectSettings
B1: 0.96339053
B2: 45865.416
A6: AllowFilterCheckBox
A7: AllowFormattingCheckBox
A8: AllowColumnFormattingCheckBox | B8: TRUE
A9: AllowRowFormattingCheckBox | B9: TRUE

Sheet גיליון עזר
A1: a | B1: b | C1: c | D1: d | E1: e | F1: f | G1: g | H1: h | I1: i | J1: j | K1: k | L1: l | M1: m | N1: n | O1: o | P1: p | Q1: q | R1: r | S1: s | T1: t | U1: u | V1: v | W1: w | X1: x | Y1: y | Z1: z
B3: הזנות ראשויות
B6: כן | C6: לא
B9: נא הזן הכנסות
D19: 1111

Sheet הדרכה למשתמש
B2: הדרכה למשתמש
B4: תאריך בניית המודל
B5: תאריך עדכון מודל
B7: הערה חשובה: בעת עריכת המודל - חל איסור מוחלט לבצע גזירה והדבקה או העברה של תא ממקום למקום על ידי גרירה.
B9: הוראת שעה/מעבר:
B11: הדרכה להזנת נתונים
B12: צבע התא | C12: מטרת התא | D12: דגש
B13: צהוב | C13: הזנת נתונים | D13: נדרש להזין מידע בהתאם להנחיות מבחן התמיכה, אי הזנה של תא יכולה להביא לידי שגיאה בתוצאות במודל. למעט גיליון "ניוד מופעים לפרפירה" בו אי הזנת נתון במספר הרצות משמעו 0 הרצות.
B14: חום | C14: הצגת מידע | D14: תא שאיננו מיועד להזנה. תא זה מציג מידע עפ"י נוסחה קבועה ואין לשנות אותה.
B15: אדום | C15: התראת שגיאה | D15: קיימת שגיאה בהזנת נתונים באחד מהתאים המיועדים להזנה, נדרש להזין את הנתונים הנדרשים לפני קביעת גובה תמיכה סופי.
B17: את רשימת המוסדות יש להזין בגיליונות השמאליים של הקובץ עם השם "גיליון הזנה" הממוספרים מ-1 עד 60. נדרש להזין את שם המוסד במקום שם הגיליון. במידה והוחלט לא להשתמש בגיליון לאחר כתיבת השם, נדרש לשנות חזרה את שם הגיליון לשם המצוין בתא M3 של כל גיליון. *כל מוסד חייב שיסומן עבורו אם הפעילות שלו תואמת את פעילות התקנה.
B33: ניהול גרסאות
B34: מספר גרסה | C34: תאריך עדכון גרסה | D34: תאריך גרסה של מבחן תמיכה | E34: התאמות נוספות של מבחן תמיכה
B35: 1

Sheet פרמטרים
B2: מרכזי עדות
B3: שנת תקציב | C3: 2025
B4: גובה תמיכה | C4: 15000000
B5: גובה תמיכה בשנה קודמת | C5: 12209942
B6: תחילת תקופת ההערכה | C6: =INDEX('הוראת שעה'!$B$5:$B$18,MATCH($C$3,'הוראת שעה'!$A$5:$A$18,0)) -> 44835
B7: סיום תקופת הערכה | C7: =INDEX('הוראת שעה'!$C$5:$C$18,MATCH($C$3,'הוראת שעה'!$A$5:$A$18,0)) -> 45199
D8: מדד בסיס | G8: 132.77863
D9: מדד חדש | G9: 143.13206
B10: משקולות
B11: פרמטר | C11: משקל | D11: 2016
B12: ארועים | C12: 0.55 | D12: 0.55
B13: תערוכות | C13: 0.08 | D13: 0.08
B14: אתר אינטרנט | C14: 0.1 | D14: 0.1
B15: הוצאה לאור של עלונים | C15: 0.06 | D15: 0.06
B16: הוצאה לאור של ספרי עיון | C16: 0.11 | D16: 0.11
B17: הכנסות עצמיות | C17: 0.05 | D17: 0.05
B18: תיעוד ושימור | C18: 0.05 | D18: 0.05
B20: תנאי סף
B21: פרמטר | C21: משקל | D21: תנאי רלוונטי רק למוסדות שהתקציב השנתי ששימש לפעילות בכל תחומי מורשת נמוך מ:
B22: אחוז ההוצאות ששימשו לפעילות של מרכזי עדות ישראל מתוך סך ההוצאות הכספיות המוכחות | C22: 0.6 | D22: =200000*G9/G8 -> 215595.02
B23: ='ריכוז נתונים כללים'!H15 -> סך הכנסות (תקציב שנתי) בתחום מרכזי עדות ישראל (₪) | C23: =100000*G9/G8 -> 107797.51
B24: מספר האירועים שהמוסד מקיים עולה על: | C24: 1 | E24: ='גיליון עזר'!B6 -> כן | F24: ='גיליון עזר'!C6 -> לא
B25: שנות פעילות של המוסד | C25: 2
B27: ארועים
B28: פרמטר | C28: ניקוד
B29: כינוס | C29: 1
B30: הרצאה | C30: 1.5
B31: יום עיון | C31: 3.5
B32: הפקה מורכבת | C32: 4
B33: הפקה מורכבת מקורית | C33: 5
B34: ארוע רב משתתפים | C34: 6
B35: מקדם הכפלה עבור יום עיון או הרצאה שנערכו על ידי מרצה בעל תואר שלישי בתחום בו ניתנה הפעילות | C35: 1.1
B36: ניקוד עבור הפקה שהיא קופרודוקציה: | C36: 0.5
B38: תערוכות | D38: ניקוד מקסימלי
B39: ניקוד עבור תערוכה קבועה | C39: 2 | D39: אין הגבלה
B40: ניקוד עבור תערוכה מתחלפת | C40: 1 | D40: 3
B41: מספר הפריטים המוצגים בתערוכה המזכים בנקודה: | C41: 10
B42: מספר נקודות מקסימאלי לפריטים | C42: 18
B43: מספר נקודות מקסימאלי לחודשים | C43: 3
B44: תערוכה גדולה מוגדרת כאשר:
...

Sheet הוראת שעה
D3: לא נתמך ב-2017
B4: תחילת שנת ההערכה | C4: סוף שנת ההערכה | D4: תחילת שנת ההערכה | E4: סוף שנת ההערכה
A5: 2017 | B5: =DATE(A5-2,10,1) -> 42278 | C5: =DATE(A5-1,9,30) -> 42643 | D5: =DATE($A5-2,1,1) -> 42005 | E5: =DATE($A5-2,12,31) -> 42369
A6: 2018 | B6: =DATE(2015,10,1) -> 42278 | C6: =DATE(2016,9,30) -> 42643 | D6: =DATE($A6-2,1,1) -> 42370 | E6: =DATE($A6-2,12,31) -> 42735
A7: 2019 | B7: =DATE(2016,10,1) -> 42644 | C7: =DATE(2017,12,31) -> 43100 | D7: =DATE($A7-2,1,1) -> 42736 | E7: =DATE($A7-2,12,31) -> 43100
A8: 2020 | B8: =DATE(A8-2,1,1) -> 43101 | C8: =DATE(A8-2,12,31) -> 43465 | D8: =DATE($A8-2,1,1) -> 43101 | E8: =DATE($A8-2,12,31) -> 43465
A9: 2021 | B9: =DATE(A9-3,1,1) -> 43101 | C9: =DATE(A9-3,12,31) -> 43465 | D9: =DATE($A9-3,1,1) -> 43101 | E9: =DATE($A9-3,12,31) -> 43465
A10: 2022 | B10: =DATE(A10-3,1,1) -> 43466 | C10: =DATE(A10-3,12,31) -> 43830 | D10: =DATE($A10-3,1,1) -> 43466 | E10: =DATE($A10-3,12,31) -> 43830
A11: 2023 | B11: =DATE(A11-3,1,1) -> 43831 | C11: =DATE(A11-3,12,31) -> 44196 | D11: =DATE($A11-3,1,1) -> 43831 | E11: =DATE($A11-3,12,31) -> 44196
A12: 2024 | B12: =DATE(A12-3,1,1) -> 44197 | C12: =DATE(A12-3,12,31) -> 44561 | D12: =DATE($A12-3,1,1) -> 44197 | E12: =DATE($A12-3,12,31) -> 44561
A13: 2025 | B13: 44835 | C13: 45199 | D13: =DATE($A13-3,1,1) -> 44562 | E13: =DATE($A13-3,12,31) -> 44926
A14: 2026 | B14: =DATE(A14-3,1,1) -> 44927 | C14: =DATE(A14-3,12,31) -> 45291 | D14: =DATE($A14-3,1,1) -> 44927 | E14: =DATE($A14-3,12,31) -> 45291
A15: 2027 | B15: =DATE(A15-3,1,1) -> 45292 | C15: =DATE(A15-3,12,31) -> 45657 | D15: =DATE($A15-3,1,1) -> 45292 | E15: =DATE($A15-3,12,31) -> 45657
A16: 2028 | B16: =DATE(A16-3,1,1) -> 45658 | C16: =DATE(A16-3,12,31) -> 46022 | D16: =DATE($A16-3,1,1) -> 45658 | E16: =DATE($A16-3,12,31) -> 46022
A17: 2029 | B17: =DATE(A17-3,1,1) -> 46023 | C17: =DATE(A17-3,12,31) -> 46387 | D17: =DATE($A17-3,1,1) -> 46023 | E17: =DATE($A17-3,12,31) -> 46387
A18: 2030 | B18: =DATE(A18-3,1,1) -> 46388 | C18: =DATE(A18-3,12,31) -> 46752 | D18: =DATE($A18-3,1,1) -> 46388 | E18: =DATE($A18-3,12,31) -> 46752

Sheet ריכוז נתונים
AP14: הזנה שגויה
C15: מספר סידורי | D15: שם המוסד | E15: ארועים | O15: תערוכות | P15: אתר אינטרנט | R15: עלונים | X15: ספרי עיון | Y15: הכנסות עצמיות | AA15: =פרמטרים!B101 -> תיעוד ושימור החומר הארכיונאי | AI15: איכות אתר האינטרנט | AP15: =E15 -> ארועים | BC15: =R15 -> עלונים | BI15: =X15 -> ספרי עיון
E16: מספר כינוסים | F16: מספר הרצאות | G16: מתוכם מספר הרצאות שנערכו על ידי מישהו בעל תואר שלישי בתחום בו ניתנה הפעילות: | H16: מספר ימי עיון | I16: מתוכם מספר ימי עיון שנערכו על ידי מישהו בעל תואר שלישי בתחום בו ניתנה הפעילות: | J16: מספר הפקות מורכבות | K16: מתוכם הפקות מורכבות שהם קופרודוקציה | L16: מספר הפקות מורכבות מקוריות | M16: מתוכם הפקות מורכבות מקוריות שהם קופרודוקציה | N16: ארוע רב משתתפים | O16: ניקוד על תערוכות | P16: מספר דפים סטטיים | Q16: איכות האתר | R16: תדירות הוצאת העלון | S16: מספר עמודי התוכן | T16: היקף מוכח של תפוצה | U16: האם יש גרסה אינטרנטית | V16: האם מופץ ל-500 איש לפחות? | W16: ='מרכז מורשת בבל'!M21 -> המוסד הגיש בקשה לקבלת תמיכה במוסדות ציבור- כתבי עת | X16: ניקוד ספרי עיון | Y16: ='מרכז מורשת בבל'!I17 -> ההכנסות העצמיות של המוסד בשנת ההערכה (₪) | Z16: ='מרכז מורשת בבל'!I18 -> סך ההכנסות של המוסד בשנת ההערכה (₪) | AA16: =פרמטרים!B102 -> היקף החומר הארכיוני בתחום המורשת אשר ברשותו הועלה לאתר האינטרנט של המוסד: | AC16: {=TRANSPOSE(פרמטרים!B29:B32)} -> כינוס | AD16: הרצאה | AE16: יום עיון | AF16: הפקה מורכבת | AG16: כן | AH16: לא | AI16: {=TRANSPOSE(פרמטרים!B59:B61)} -> נאותה | AJ16: טובה | AK16: טובה מאוד | AL16: {=TRANSPOSE(פרמטרים!B80:B83)} -> אחד בשנה | AM16: שניים בשנה | AN16: שלוש בשנה | AO16: מעל 4 בשנה | AP16: =E16 -> מספר כינוסים | AQ16: =F16 -> מספר הרצאות | AR16: =G16 -> מתוכם מספר הרצאות שנערכו על ידי מישהו בעל תואר שלישי בתחום בו ניתנה הפעילות: | AS16: =H16 -> מספר ימי עיון | AT16: =I16 -> מתוכם מספר ימי עיון שנערכו על ידי מישהו בעל תואר שלישי בתחום בו ניתנה הפעילות: | AU16: =J16 -> מספר הפקות מורכבות | AV16: =K16 -> מתוכם הפקות מורכבות שהם קופרודוקציה | AW16: =L16 -> מספר הפקות מורכבות מקוריות | ... BL16: =AA16 -> היקף החומר הארכיוני בתחום המורשת אשר ברשותו הועלה לאתר האינטרנט של המוסד:
A17: =IF(AND(LEFT(B17,11)<>"גיליון הזנה",INDIRECT("'"&$B17&"'!"&'גיליון עזר'!$I$1&ROW('מרכז מורשת בבל'!$I$3))=""),"חסרה הזנה","") | B17: ='מרכז מורשת בבל'!D3 -> מרכז מורשת בבל | C17: 1 | D17: =IF(OR(LEFT(B17,11)="גיליון הזנה",INDIRECT("'"&$B17&"'!"&'גיליון עזר'!$I$1&ROW('מרכז מורשת בבל'!$I$3))=0),"",B17) -> מרכז מורשת בבל | E17: {=IF($D17="","",TRANSPOSE(INDIRECT("'"&$D17&"'!"&'גיליון עזר'!$D$1&ROW('מרכז מורשת בבל'!$D$16)):INDIRECT("'"&$D17&"'!"&'גיליון עזר'!$D$1&ROW('מרכז מורשת בבל'!$D$25))))} -> 11 | F17: 258 | G17: 9 | H17: 1 | I17: 1 | J17: 7 | K17: 0 | L17: 7 | M17: 0 | N17: 0 | O17: =IF($D17="","",INDIRECT("'"&$D17&"'!"&'גיליון עזר'!$F$1&ROW('מרכז מורשת בבל'!$B$78))) -> 62 | P17: {=IF($D17="","",TRANSPOSE(INDIRECT("'"&$D17&"'!"&'גיליון עזר'!$G$1&ROW('מרכז מורשת בבל'!$D$16)):INDIRECT("'"&$D17&"'!"&'גיליון עזר'!$G$1&ROW('מרכז מורשת בבל'!$D$17))))} -> 850 | Q17: טובה מאוד | R17: {=IF($D17="","",TRANSPOSE(INDIRECT("'"&$D17&"'!"&'גיליון עזר'!$N$1&ROW('מרכז מורשת בבל'!$D$16)):INDIRECT("'"&$D17&"'!"&'גיליון עזר'!$N$1&ROW('מרכז מורשת בבל'!$D$20))))} -> 0 | S17: 0 | T17: 0 | U17: 0 | V17: 0 | W17: =IF($D17="","",INDIRECT("'"&$D17&"'!"&'גיליון עזר'!$N$1&ROW('מרכז מורשת בבל'!$J$21))) -> 0 | X17: =IF($D17="","",INDIRECT("'"&$D17&"'!"&'גיליון עזר'!$L$1&ROW('מרכז מורשת בבל'!$J$78))) -> 1 | Y17: {=IF($D17="","",TRANSPOSE(INDIRECT("'"&$D17&"'!"&'גיליון עזר'!$J$1&ROW('מרכז מורשת בבל'!$D$17)):INDIRECT("'"&$D17&"'!"&'גיליון עזר'!$J$1&ROW('מרכז מורשת בבל'!$D$18))))} -> 2907338 | Z17: 3953224 | AA17: =IF($D17="","",IF(INDIRECT("'"&$D17&"'!"&'גיליון עזר'!$J$1&ROW('מרכז מורשת בבל'!$D$21))="","",INDIRECT("'"&$D17&"'!"&'גיליון עזר'!$J$1&ROW('מרכז מורשת בבל'!$D$21)))) | AC17: =IF($D17="","",AC$16) -> כינוס | AD17: =IF($D17="","",AD$16) -> הרצאה | AE17: =IF($D17="","",AE$16) -> יום עיון | AF17: =IF($D17="","",AF$16) -> הפקה מורכבת | AG17: =IF($D17="","",AG$16) -> כן | AH17: =IF($D17="","",AH$16) -> לא | AI17: =IF($D17="","",AI$16) -> נאותה | AJ17: =IF($D17="","",AJ$16) -> טובה | ... AO17: =IF($D17="","",AO$16) -> מעל 4 בשנה | AP17: =IF($D17="","",IF(ISERR(E17/3),$AP$14,E17)) -> 11 | AQ17: =IF($D17="","",IF(ISERR(F17/3),$AP$14,F17)) -> 258 | AR17: =IF($D17="","",IF(ISERR(G17/3),$AP$14,G17)) -> 9 | AS17: =IF($D17="","",IF(ISERR(H17/3),$AP$14,H17)) -> 1 | AT17: =IF($D17="","",IF(ISERR(I17/3),$AP$14,I17)) -> 1 | AU17: =IF($D17="","",IF(ISERR(J17/3),$AP$14,J17)) -> 7 | AV17: =IF($D17="","",IF(ISERR(K17/3),$AP$14,K17)) -> 0 | AW17: =IF($D17="","",IF(ISERR(L17/3),$AP$14,L17)) -> 7 | ... BA17: =IF($D17="","",IF(ISERR(P17/3),$AP$14,P17)) -> 850 | BB17: =IF(Q17="","",Q17) -> טובה מאוד | BC17: =IF(R17="","",R17) -> 0 | BD17: =IF($D17="","",IF(ISERR(S17/3),$AP$14,S17)) -> 0 | BE17: =IF($D17="","",IF(ISERR(T17/3),$AP$14,T17)) -> 0 | BF17: =IF($D17="","",IF(U17="","",U17)) -> 0 | BG17: =IF($D17="","",IF(V17="","",V17)) -> 0 | BH17: =IF($D17="","",IF(W17="","",W17)) -> 0 | BI17: =IF($D17="","",IF(ISERR(X17/3),$AP$14,X17)) -> 1 | BJ17: =IF($D17="","",IF(ISERR(Y17/3),$AP$14,Y17)) -> 2907338 | BK17: =IF($D17="","",IF(ISERR(Z17/3),$AP$14,Z17)) -> 3953224 | BL17: =IF($D17="","",IF(AA17="","",AA17))
A18: =IF(AND(LEFT(B18,11)<>"גיליון הזנה",INDIRECT("'"&$B18&"'!"&'גיליון עזר'!$I$1&ROW('מרכז מורשת בבל'!$I$3))=""),"חסרה הזנה","") | B18: ='מורשת יהודי צפון אפריקה'!$D$3 -> מורשת יהודי צפון אפריקה | C18: 2 | D18: =IF(OR(LEFT(B18,11)="גיליון הזנה",INDIRECT("'"&$B18&"'!"&'גיליון עזר'!$I$1&ROW('מרכז מורשת בבל'!$I$3))=0),"",B18) -> מורשת יהודי צפון אפריקה | E18: {=IF($D18="","",TRANSPOSE(INDIRECT("'"&$D18&"'!"&'גיליון עזר'!$D$1&ROW('מרכז מורשת בבל'!$D$16)):INDIRECT("'"&$D18&"'!"&'גיליון עזר'!$D$1&ROW('מרכז מורשת בבל'!$D$25))))} -> 0 | F18: 3 | G18: 1 | H18: 11 | I18: 6 | J18: 2 | K18: 0 | L18: 2 | M18: 0 | N18: 2 | O18: =IF($D18="","",INDIRECT("'"&$D18&"'!"&'גיליון עזר'!$F$1&ROW('מרכז מורשת בבל'!$B$78))) -> 300 | P18: {=IF($D18="","",TRANSPOSE(INDIRECT("'"&$D18&"'!"&'גיליון עזר'!$G$1&ROW('מרכז מורשת בבל'!$D$16)):INDIRECT("'"&$D18&"'!"&'גיליון עזר'!$G$1&ROW('מרכז מורשת בבל'!$D$17))))} -> 30 | Q18: טובה | R18: {=IF($D18="","",TRANSPOSE(INDIRECT("'"&$D18&"'!"&'גיליון עזר'!$N$1&ROW('מרכז מורשת בבל'!$D$16)):INDIRECT("'"&$D18&"'!"&'גיליון עזר'!$N$1&ROW('מרכז מורשת בבל'!$D$20))))} -> 0 | S18: 0 | T18: 0 | U18: 0 | V18: 0 | W18: =IF($D18="","",INDIRECT("'"&$D18&"'!"&'גיליון עזר'!$N$1&ROW('מרכז מורשת בבל'!$J$21))) -> 0 | X18: =IF($D18="","",INDIRECT("'"&$D18&"'!"&'גיליון עזר'!$L$1&ROW('מרכז מורשת בבל'!$J$78))) -> 0 | Y18: {=IF($D18="","",TRANSPOSE(INDIRECT("'"&$D18&"'!"&'גיליון עזר'!$J$1&ROW('מרכז מורשת בבל'!$D$17)):INDIRECT("'"&$D18&"'!"&'גיליון עזר'!$J$1&ROW('מרכז מורשת בבל'!$D$18))))} -> 290570 | Z18: 610299 | AA18: =IF($D18="","",IF(INDIRECT("'"&$D18&"'!"&'גיליון עזר'!$J$1&ROW('מרכז מורשת בבל'!$D$21))="","",INDIRECT("'"&$D18&"'!"&'גיליון עזר'!$J$1&ROW('מרכז מורשת בבל'!$D$21)))) -> מעל 20% | AC18: =IF($D18="","",AC$16) -> כינוס | AD18: =IF($D18="","",AD$16) -> הרצאה | AE18: =IF($D18="","",AE$16) -> יום עיון | AF18: =IF($D18="","",AF$16) -> הפקה מורכבת | AG18: =IF($D18="","",AG$16) -> כן | AH18: =IF($D18="","",AH$16) -> לא | AI18: =IF($D18="","",AI$16) -> נאותה | AJ18: =IF($D18="","",AJ$16) -> טובה | ... AO18: =IF($D18="","",AO$16) -> מעל 4 בשנה | AP18: =IF($D18="","",IF(ISERR(E18/3),$AP$14,E18)) -> 0 | AQ18: =IF($D18="","",IF(ISERR(F18/3),$AP$14,F18)) -> 3 | AR18: =IF($D18="","",IF(ISERR(G18/3),$AP$14,G18)) -> 1 | AS18: =IF($D18="","",IF(ISERR(H18/3),$AP$14,H18)) -> 11 | AT18: =IF($D18="","",IF(ISERR(I18/3),$AP$14,I18)) -> 6 | AU18: =IF($D18="","",IF(ISERR(J18/3),$AP$14,J18)) -> 2 | AV18: =IF($D18="","",IF(ISERR(K18/3),$AP$14,K18)) -> 0 | AW18: =IF($D18="","",IF(ISERR(L18/3),$AP$14,L18)) -> 2 | ... BA18: =IF($D18="","",IF(ISERR(P18/3),$AP$14,P18)) -> 30 | BB18: =IF(Q18="","",Q18) -> טובה | BC18: =IF(R18="","",R18) -> 0 | BD18: =IF($D18="","",IF(ISERR(S18/3),$AP$14,S18)) -> 0 | BE18: =IF($D18="","",IF(ISERR(T18/3),$AP$14,T18)) -> 0 | BF18: =IF($D18="","",IF(U18="","",U18)) -> 0 | BG18: =IF($D18="","",IF(V18="","",V18)) -> 0 | BH18: =IF($D18="","",IF(W18="","",W18)) -> 0 | BI18: =IF($D18="","",IF(ISERR(X18/3),$AP$14,X18)) -> 0 | BJ18: =IF($D18="","",IF(ISERR(Y18/3),$AP$14,Y18)) -> 290570 | BK18: =IF($D18="","",IF(ISERR(Z18/3),$AP$14,Z18)) -> 610299 | BL18: =IF($D18="","",IF(AA18="","",AA18)) -> מעל 20%
A19: =IF(AND(LEFT(B19,11)<>"גיליון הזנה",INDIRECT("'"&$B19&"'!"&'גיליון עזר'!$I$1&ROW('מרכז מורשת בבל'!$I$3))=""),"חסרה הזנה","") | B19: ='מורשת יהדות קוצין'!$D$3 -> מורשת יהדות קוצין | C19: 3 | D19: =IF(OR(LEFT(B19,11)="גיליון הזנה",INDIRECT("'"&$B19&"'!"&'גיליון עזר'!$I$1&ROW('מרכז מורשת בבל'!$I$3))=0),"",B19) -> מורשת יהדות קוצין | E19: {=IF($D19="","",TRANSPOSE(INDIRECT("'"&$D19&"'!"&'גיליון עזר'!$D$1&ROW('מרכז מורשת בבל'!$D$16)):INDIRECT("'"&$D19&"'!"&'גיליון עזר'!$D$1&ROW('מרכז מורשת בבל'!$D$25))))} -> 21 | F19: 3 | G19: 1 | H19: 1 | I19: 1 | J19: 3 | K19: 0 | L19: 3 | M19: 0 | N19: 6 | O19: =IF($D19="","",INDIRECT("'"&$D19&"'!"&'גיליון עזר'!$F$1&ROW('מרכז מורשת בבל'!$B$78))) -> 970 | P19: {=IF($D19="","",TRANSPOSE(INDIRECT("'"&$D19&"'!"&'גיליון עזר'!$G$1&ROW('מרכז מורשת בבל'!$D$16)):INDIRECT("'"&$D19&"'!"&'גיליון עזר'!$G$1&ROW('מרכז מורשת בבל'!$D$17))))} -> 109 | Q19: טובה מאוד | R19: {=IF($D19="","",TRANSPOSE(INDIRECT("'"&$D19&"'!"&'גיליון עזר'!$N$1&ROW('מרכז מורשת בבל'!$D$16)):INDIRECT("'"&$D19&"'!"&'גיליון עזר'!$N$1&ROW('מרכז מורשת בבל'!$D$20))))} -> אחד בשנה | S19: 34 | T19: 700 | U19: כן | V19: כן | W19: =IF($D19="","",INDIRECT("'"&$D19&"'!"&'גיליון עזר'!$N$1&ROW('מרכז מורשת בבל'!$J$21))) -> לא | X19: =IF($D19="","",INDIRECT("'"&$D19&"'!"&'גיליון עזר'!$L$1&ROW('מרכז מורשת בבל'!$J$78))) -> 1 | Y19: {=IF($D19="","",TRANSPOSE(INDIRECT("'"&$D19&"'!"&'גיליון עזר'!$J$1&ROW('מרכז מורשת בבל'!$D$17)):INDIRECT("'"&$D19&"'!"&'גיליון עזר'!$J$1&ROW('מרכז מורשת בבל'!$D$18))))} -> 311889 | Z19: 580402 | AA19: =IF($D19="","",IF(INDIRECT("'"&$D19&"'!"&'גיליון עזר'!$J$1&ROW('מרכז מורשת בבל'!$D$21))="","",INDIRECT("'"&$D19&"'!"&'גיליון עזר'!$J$1&ROW('מרכז מורשת בבל'!$D$21)))) -> מעל 50% | AC19: =IF($D19="","",AC$16) -> כינוס | AD19: =IF($D19="","",AD$16) -> הרצאה | AE19: =IF($D19="","",AE$16) -> יום עיון | AF19: =IF($D19="","",AF$16) -> הפקה מורכבת | AG19: =IF($D19="","",AG$16) -> כן | AH19: =IF($D19="","",AH$16) -> לא | AI19: =IF($D19="","",AI$16) -> נאותה | AJ19: =IF($D19="","",AJ$16) -> טובה | ... AO19: =IF($D19="","",AO$16) -> מעל 4 בשנה | AP19: =IF($D19="","",IF(ISERR(E19/3),$AP$14,E19)) -> 21 | AQ19: =IF($D19="","",IF(ISERR(F19/3),$AP$14,F19)) -> 3 | AR19: =IF($D19="","",IF(ISERR(G19/3),$AP$14,G19)) -> 1 | AS19: =IF($D19="","",IF(ISERR(H19/3),$AP$14,H19)) -> 1 | AT19: =IF($D19="","",IF(ISERR(I19/3),$AP$14,I19)) -> 1 | AU19: =IF($D19="","",IF(ISERR(J19/3),$AP$14,J19)) -> 3 | AV19: =IF($D19="","",IF(ISERR(K19/3),$AP$14,K19)) -> 0 | AW19: =IF($D19="","",IF(ISERR(L19/3),$AP$14,L19)) -> 3 | ... BA19: =IF($D19="","",IF(ISERR(P19/3),$AP$14,P19)) -> 109 | BB19: =IF(Q19="","",Q19) -> טובה מאוד | BC19: =IF(R19="","",R19) -> אחד בשנה | BD19: =IF($D19="","",IF(ISERR(S19/3),$AP$14,S19)) -> 34 | BE19: =IF($D19="","",IF(ISERR(T19/3),$AP$14,T19)) -> 700 | BF19: =IF($D19="","",IF(U19="","",U19)) -> כן | BG19: =IF($D19="","",IF(V19="","",V19)) -> כן | BH19: =IF($D19="","",IF(W19="","",W19)) -> לא | BI19: =IF($D19="","",IF(ISERR(X19/3),$AP$14,X19)) -> 1 | BJ19: =IF($D19="","",IF(ISERR(Y19/3),$AP$14,Y19)) -> 311889 | BK19: =IF($D19="","",IF(ISERR(Z19/3),$AP$14,Z19)) -> 580402 | BL19: =IF($D19="","",IF(AA19="","",AA19)) -> מעל 50%
A20: =IF(AND(LEFT(B20,11)<>"גיליון הזנה",INDIRECT("'"&$B20&"'!"&'גיליון עזר'!$I$1&ROW('מרכז מורשת בבל'!$I$3))=""),"חסרה הזנה","") | B20: ='הפדרציה העולמית של יהדות תוניס'!$D$3 -> הפדרציה העולמית של יהדות תוניס | C20: 4 | D20: =IF(OR(LEFT(B20,11)="גיליון הזנה",INDIRECT("'"&$B20&"'!"&'גיליון עזר'!$I$1&ROW('מרכז מורשת בבל'!$I$3))=0),"",B20) -> הפדרציה העולמית של יהדות תוניס | E20: {=IF($D20="","",TRANSPOSE(INDIRECT("'"&$D20&"'!"&'גיליון עזר'!$D$1&ROW('מרכז מורשת בבל'!$D$16)):INDIRECT("'"&$D20&"'!"&'גיליון עזר'!$D$1&ROW('מרכז מורשת בבל'!$D$25))))} -> 0 | F20: 0 | G20: 0 | H20: 0 | I20: 0 | J20: 0 | K20: 0 | L20: 0 | M20: 0 | N20: 0 | O20: =IF($D20="","",INDIRECT("'"&$D20&"'!"&'גיליון עזר'!$F$1&ROW('מרכז מורשת בבל'!$B$78))) -> 0 | P20: {=IF($D20="","",TRANSPOSE(INDIRECT("'"&$D20&"'!"&'גיליון עזר'!$G$1&ROW('מרכז מורשת בבל'!$D$16)):INDIRECT("'"&$D20&"'!"&'גיליון עזר'!$G$1&ROW('מרכז מורשת בבל'!$D$17))))} -> 0 | Q20: 0 | R20: {=IF($D20="","",TRANSPOSE(INDIRECT("'"&$D20&"'!"&'גיליון עזר'!$N$1&ROW('מרכז מורשת בבל'!$D$16)):INDIRECT("'"&$D20&"'!"&'גיליון עזר'!$N$1&ROW('מרכז מורשת בבל'!$D$20))))} -> 0 | S20: 0 | T20: 0 | U20: 0 | V20: 0 | W20: =IF($D20="","",INDIRECT("'"&$D20&"'!"&'גיליון עזר'!$N$1&ROW('מרכז מורשת בבל'!$J$21))) -> 0 | X20: =IF($D20="","",INDIRECT("'"&$D20&"'!"&'גיליון עזר'!$L$1&ROW('מרכז מורשת בבל'!$J$78))) -> 0 | Y20: {=IF($D20="","",TRANSPOSE(INDIRECT("'"&$D20&"'!"&'גיליון עזר'!$J$1&ROW('מרכז מורשת בבל'!$D$17)):INDIRECT("'"&$D20&"'!"&'גיליון עזר'!$J$1&ROW('מרכז מורשת בבל'!$D$18))))} -> 0 | Z20: 0 | AA20: =IF($D20="","",IF(INDIRECT("'"&$D20&"'!"&'גיליון עזר'!$J$1&ROW('מרכז מורשת בבל'!$D$21))="","",INDIRECT("'"&$D20&"'!"&'גיליון עזר'!$J$1&ROW('מרכז מורשת בבל'!$D$21)))) | AC20: =IF($D20="","",AC$16) -> כינוס | AD20: =IF($D20="","",AD$16) -> הרצאה | AE20: =IF($D20="","",AE$16) -> יום עיון | AF20: =IF($D20="","",AF$16) -> הפקה מורכבת | AG20: =IF($D20="","",AG$16) -> כן | AH20: =IF($D20="","",AH$16) -> לא | AI20: =IF($D20="","",AI$16) -> נאותה | AJ20: =IF($D20="","",AJ$16) -> טובה | ... AO20: =IF($D20="","",AO$16) -> מעל 4 בשנה | AP20: =IF($D20="","",IF(ISERR(E20/3),$AP$14,E20)) -> 0 | AQ20: =IF($D20="","",IF(ISERR(F20/3),$AP$14,F20)) -> 0 | AR20: =IF($D20="","",IF(ISERR(G20/3),$AP$14,G20)) -> 0 | AS20: =IF($D20="","",IF(ISERR(H20/3),$AP$14,H20)) -> 0 | AT20: =IF($D20="","",IF(ISERR(I20/3),$AP$14,I20)) -> 0 | AU20: =IF($D20="","",IF(ISERR(J20/3),$AP$14,J20)) -> 0 | AV20: =IF($D20="","",IF(ISERR(K20/3),$AP$14,K20)) -> 0 | AW20: =IF($D20="","",IF(ISERR(L20/3),$AP$14,L20)) -> 0 | ... BA20: =IF($D20="","",IF(ISERR(P20/3),$AP$14,P20)) -> 0 | BB20: =IF(Q20="","",Q20) -> 0 | BC20: =IF(R20="","",R20) -> 0 | BD20: =IF($D20="","",IF(ISERR(S20/3),$AP$14,S20)) -> 0 | BE20: =IF($D20="","",IF(ISERR(T20/3),$AP$14,T20)) -> 0 | BF20: =IF($D20="","",IF(U20="","",U20)) -> 0 | BG20: =IF($D20="","",IF(V20="","",V20)) -> 0 | BH20: =IF($D20="","",IF(W20="","",W20)) -> 0 | BI20: =IF($D20="","",IF(ISERR(X20/3),$AP$14,X20)) -> 0 | BJ20: =IF($D20="","",IF(ISERR(Y20/3),$AP$14,Y20)) -> 0 | BK20: =IF($D20="","",IF(ISERR(Z20/3),$AP$14,Z20)) -> 0 | BL20: =IF($D20="","",IF(AA20="","",AA20))
A21: =IF(AND(LEFT(B21,11)<>"גיליון הזנה",INDIRECT("'"&$B21&"'!"&'גיליון עזר'!$I$1&ROW('מרכז מורשת בבל'!$I$3))=""),"חסרה הזנה","") | B21: ='התאחדות עולי מצרים'!$D$3 -> התאחדות עולי מצרים | C21: 5 | D21: =IF(OR(LEFT(B21,11)="גיליון הזנה",INDIRECT("'"&$B21&"'!"&'גיליון עזר'!$I$1&ROW('מרכז מורשת בבל'!$I$3))=0),"",B21) -> התאחדות עולי מצרים | E21: {=IF($D21="","",TRANSPOSE(INDIRECT("'"&$D21&"'!"&'גיליון עזר'!$D$1&ROW('מרכז מורשת בבל'!$D$16)):INDIRECT("'"&$D21&"'!"&'גיליון עזר'!$D$1&ROW('מרכז מורשת בבל'!$D$25))))} -> 0 | F21: 9 | G21: 2 | H21: 3 | I21: 2 | J21: 6 | K21: 2 | L21: 6 | M21: 2 | N21: 0 | O21: =IF($D21="","",INDIRECT("'"&$D21&"'!"&'גיליון עזר'!$F$1&ROW('מרכז מורשת בבל'!$B$78))) -> 2 | P21: {=IF($D21="","",TRANSPOSE(INDIRECT("'"&$D21&"'!"&'גיליון עזר'!$G$1&ROW('מרכז מורשת בבל'!$D$16)):INDIRECT("'"&$D21&"'!"&'גיליון עזר'!$G$1&ROW('מרכז מורשת בבל'!$D$17))))} -> 579 | Q21: טובה מאוד | R21: {=IF($D21="","",TRANSPOSE(INDIRECT("'"&$D21&"'!"&'גיליון עזר'!$N$1&ROW('מרכז מורשת בבל'!$D$16)):INDIRECT("'"&$D21&"'!"&'גיליון עזר'!$N$1&ROW('מרכז מורשת בבל'!$D$20))))} -> 0 | S21: 0 | T21: 0 | U21: 0 | V21: 0 | W21: =IF($D21="","",INDIRECT("'"&$D21&"'!"&'גיליון עזר'!$N$1&ROW('מרכז מורשת בבל'!$J$21))) -> 0 | X21: =IF($D21="","",INDIRECT("'"&$D21&"'!"&'גיליון עזר'!$L$1&ROW('מרכז מורשת בבל'!$J$78))) -> 1 | Y21: {=IF($D21="","",TRANSPOSE(INDIRECT("'"&$D21&"'!"&'גיליון עזר'!$J$1&ROW('מרכז מורשת בבל'!$D$17)):INDIRECT("'"&$D21&"'!"&'גיליון עזר'!$J$1&ROW('מרכז מורשת בבל'!$D$18))))} -> 118163 | Z21: 328163 | AA21: =IF($D21="","",IF(INDIRECT("'"&$D21&"'!"&'גיליון עזר'!$J$1&ROW('מרכז מורשת בבל'!$D$21))="","",INDIRECT("'"&$D21&"'!"&'גיליון עזר'!$J$1&ROW('מרכז מורשת בבל'!$D$21)))) -> מעל 50% | AC21: =IF($D21="","",AC$16) -> כינוס | AD21: =IF($D21="","",AD$16) -> הרצאה | AE21: =IF($D21="","",AE$16) -> יום עיון | AF21: =IF($D21="","",AF$16) -> הפקה מורכבת | AG21: =IF($D21="","",AG$16) -> כן | AH21: =IF($D21="","",AH$16) -> לא | AI21: =IF($D21="","",AI$16) -> נאותה | AJ21: =IF($D21="","",AJ$16) -> טובה | ... AO21: =IF($D21="","",AO$16) -> מעל 4 בשנה | AP21: =IF($D21="","",IF(ISERR(E21/3),$AP$14,E21)) -> 0 | AQ21: =IF($D21="","",IF(ISERR(F21/3),$AP$14,F21)) -> 9 | AR21: =IF($D21="","",IF(ISERR(G21/3),$AP$14,G21)) -> 2 | AS21: =IF($D21="","",IF(ISERR(H21/3),$AP$14,H21)) -> 3 | AT21: =IF($D21="","",IF(ISERR(I21/3),$AP$14,I21)) -> 2 | AU21: =IF($D21="","",IF(ISERR(J21/3),$AP$14,J21)) -> 6 | AV21: =IF($D21="","",IF(ISERR(K21/3),$AP$14,K21)) -> 2 | AW21: =IF($D21="","",IF(ISERR(L21/3),$AP$14,L21)) -> 6 | ... BA21: =IF($D21="","",IF(ISERR(P21/3),$AP$14,P21)) -> 579 | BB21: =IF(Q21="","",Q21) -> טובה מאוד | BC21: =IF(R21="","",R21) -> 0 | BD21: =IF($D21="","",IF(ISERR(S21/3),$AP$14,S21)) -> 0 | BE21: =IF($D21="","",IF(ISERR(T21/3),$AP$14,T21)) -> 0 | BF21: =IF($D21="","",IF(U21="","",U21)) -> 0 | BG21: =IF($D21="","",IF(V21="","",V21)) -> 0 | BH21: =IF($D21="","",IF(W21="","",W21)) -> 0 | BI21: =IF($D21="","",IF(ISERR(X21/3),$AP$14,X21)) -> 1 | BJ21: =IF($D21="","",IF(ISERR(Y21/3),$AP$14,Y21)) -> 118163 | BK21: =IF($D21="","",IF(ISERR(Z21/3),$AP$14,Z21)) -> 328163 | BL21: =IF($D21="","",IF(AA21="","",AA21)) -> מעל 50%
A22: =IF(AND(LEFT(B22,11)<>"גיליון הזנה",INDIRECT("'"&$B22&"'!"&'גיליון עזר'!$I$1&ROW('מרכז מורשת בבל'!$I$3))=""),"חסרה הזנה","") | B22: ='יהודים יוצאי לוב'!$D$3 -> יהודים יוצאי לוב | C22: 6 | D22: =IF(OR(LEFT(B22,11)="גיליון הזנה",INDIRECT("'"&$B22&"'!"&'גיליון עזר'!$I$1&ROW('מרכז מורשת בבל'!$I$3))=0),"",B22) -> יהודים יוצאי לוב | E22: {=IF($D22="","",TRANSPOSE(INDIRECT("'"&$D22&"'!"&'גיליון עזר'!$D$1&ROW('מרכז מורשת בבל'!$D$16)):INDIRECT("'"&$D22&"'!"&'גיליון עזר'!$D$1&ROW('מרכז מורשת בבל'!$D$25))))} -> 11 | F22: 2 | G22: 2 | H22: 0 | I22: 0 | J22: 1 | K22: 0 | L22: 1 | M22: 0 | N22: 2 | O22: =IF($D22="","",INDIRECT("'"&$D22&"'!"&'גיליון עזר'!$F$1&ROW('מרכז מורשת בבל'!$B$78))) -> 0 | P22: {=IF($D22="","",TRANSPOSE(INDIRECT("'"&$D22&"'!"&'גיליון עזר'!$G$1&ROW('מרכז מורשת בבל'!$D$16)):INDIRECT("'"&$D22&"'!"&'גיליון עזר'!$G$1&ROW('מרכז מורשת בבל'!$D$17))))} -> 20 | Q22: טובה מאוד | R22: {=IF($D22="","",TRANSPOSE(INDIRECT("'"&$D22&"'!"&'גיליון עזר'!$N$1&ROW('מרכז מורשת בבל'!$D$16)):INDIRECT("'"&$D22&"'!"&'גיליון עזר'!$N$1&ROW('מרכז מורשת בבל'!$D$20))))} -> מעל 4 בשנה | S22: 46 | T22: 5000 | U22: כן | V22: כן | W22: =IF($D22="","",INDIRECT("'"&$D22&"'!"&'גיליון עזר'!$N$1&ROW('מרכז מורשת בבל'!$J$21))) -> לא | X22: =IF($D22="","",INDIRECT("'"&$D22&"'!"&'גיליון עזר'!$L$1&ROW('מרכז מורשת בבל'!$J$78))) -> 0 | Y22: {=IF($D22="","",TRANSPOSE(INDIRECT("'"&$D22&"'!"&'גיליון עזר'!$J$1&ROW('מרכז מורשת בבל'!$D$17)):INDIRECT("'"&$D22&"'!"&'גיליון עזר'!$J$1&ROW('מרכז מורשת בבל'!$D$18))))} -> 1053857 | Z22: 1913966 | AA22: =IF($D22="","",IF(INDIRECT("'"&$D22&"'!"&'גיליון עזר'!$J$1&ROW('מרכז מורשת בבל'!$D$21))="","",INDIRECT("'"&$D22&"'!"&'גיליון עזר'!$J$1&ROW('מרכז מורשת בבל'!$D$21)))) | AC22: =IF($D22="","",AC$16) -> כינוס | AD22: =IF($D22="","",AD$16) -> הרצאה | AE22: =IF($D22="","",AE$16) -> יום עיון | AF22: =IF($D22="","",AF$16) -> הפקה מורכבת | AG22: =IF($D22="","",AG$16) -> כן | AH22: =IF($D22="","",AH$16) -> לא | AI22: =IF($D22="","",AI$16) -> נאותה | AJ22: =IF($D22="","",AJ$16) -> טובה | ... AO22: =IF($D22="","",AO$16) -> מעל 4 בשנה | AP22: =IF($D22="","",IF(ISERR(E22/3),$AP$14,E22)) -> 11 | AQ22: =IF($D22="","",IF(ISERR(F22/3),$AP$14,F22)) -> 2 | AR22: =IF($D22="","",IF(ISERR(G22/3),$AP$14,G22)) -> 2 | AS22: =IF($D22="","",IF(ISERR(H22/3),$AP$14,H22)) -> 0 | AT22: =IF($D22="","",IF(ISERR(I22/3),$AP$14,I22)) -> 0 | AU22: =IF($D22="","",IF(ISERR(J22/3),$AP$14,J22)) -> 1 | AV22: =IF($D22="","",IF(ISERR(K22/3),$AP$14,K22)) -> 0 | AW22: =IF($D22="","",IF(ISERR(L22/3),$AP$14,L22)) -> 1 | ... BA22: =IF($D22="","",IF(ISERR(P22/3),$AP$14,P22)) -> 20 | BB22: =IF(Q22="","",Q22) -> טובה מאוד | BC22: =IF(R22="","",R22) -> מעל 4 בשנה | BD22: =IF($D22="","",IF(ISERR(S22/3),$AP$14,S22)) -> 46 | BE22: =IF($D22="","",IF(ISERR(T22/3),$AP$14,T22)) -> 5000 | BF22: =IF($D22="","",IF(U22="","",U22)) -> כן | BG22: =IF($D22="","",IF(V22="","",V22)) -> כן | BH22: =IF($D22="","",IF(W22="","",W22)) -> לא | BI22: =IF($D22="","",IF(ISERR(X22/3),$AP$14,X22)) -> 0 | BJ22: =IF($D22="","",IF(ISERR(Y22/3),$AP$14,Y22)) -> 1053857 | BK22: =IF($D22="","",IF(ISERR(Z22/3),$AP$14,Z22)) -> 1913966 | BL22: =IF($D22="","",IF(AA22="","",AA22))
A23: =IF(AND(LEFT(B23,11)<>"גיליון הזנה",INDIRECT("'"&$B23&"'!"&'גיליון עזר'!$I$1&ROW('מרכז מורשת בבל'!$I$3))=""),"חסרה הזנה","") | B23: ='הפדרציה העולמית של יהדות מרוקו'!$D$3 -> הפדרציה העולמית של יהדות מרוקו | C23: 7 | D23: =IF(OR(LEFT(B23,11)="גיליון הזנה",INDIRECT("'"&$B23&"'!"&'גיליון עזר'!$I$1&ROW('מרכז מורשת בבל'!$I$3))=0),"",B23) -> הפדרציה העולמית של יהדות מרוקו | E23: {=IF($D23="","",TRANSPOSE(INDIRECT("'"&$D23&"'!"&'גיליון עזר'!$D$1&ROW('מרכז מורשת בבל'!$D$16)):INDIRECT("'"&$D23&"'!"&'גיליון עזר'!$D$1&ROW('מרכז מורשת בבל'!$D$25))))} -> 5 | F23: 9 | G23: 3 | H23: 1 | I23: 0 | J23: 0 | K23: 0 | L23: 0 | M23: 0 | N23: 1 | O23: =IF($D23="","",INDIRECT("'"&$D23&"'!"&'גיליון עזר'!$F$1&ROW('מרכז מורשת בבל'!$B$78))) -> 0 | P23: {=IF($D23="","",TRANSPOSE(INDIRECT("'"&$D23&"'!"&'גיליון עזר'!$G$1&ROW('מרכז מורשת בבל'!$D$16)):INDIRECT("'"&$D23&"'!"&'גיליון עזר'!$G$1&ROW('מרכז מורשת בבל'!$D$17))))} -> 15 | Q23: נאותה | R23: {=IF($D23="","",TRANSPOSE(INDIRECT("'"&$D23&"'!"&'גיליון עזר'!$N$1&ROW('מרכז מורשת בבל'!$D$16)):INDIRECT("'"&$D23&"'!"&'גיליון עזר'!$N$1&ROW('מרכז מורשת בבל'!$D$20))))} -> שלוש בשנה | S23: 70 | T23: 150 | U23: כן | V23: כן | W23: =IF($D23="","",INDIRECT("'"&$D23&"'!"&'גיליון עזר'!$N$1&ROW('מרכז מורשת בבל'!$J$21))) -> לא | X23: =IF($D23="","",INDIRECT("'"&$D23&"'!"&'גיליון עזר'!$L$1&ROW('מרכז מורשת בבל'!$J$78))) -> 0 | Y23: {=IF($D23="","",TRANSPOSE(INDIRECT("'"&$D23&"'!"&'גיליון עזר'!$J$1&ROW('מרכז מורשת בבל'!$D$17)):INDIRECT("'"&$D23&"'!"&'גיליון עזר'!$J$1&ROW('מרכז מורשת בבל'!$D$18))))} -> 338238 | Z23: 794993 | AA23: =IF($D23="","",IF(INDIRECT("'"&$D23&"'!"&'גיליון עזר'!$J$1&ROW('מרכז מורשת בבל'!$D$21))="","",INDIRECT("'"&$D23&"'!"&'גיליון עזר'!$J$1&ROW('מרכז מורשת בבל'!$D$21)))) | AC23: =IF($D23="","",AC$16) -> כינוס | AD23: =IF($D23="","",AD$16) -> הרצאה | AE23: =IF($D23="","",AE$16) -> יום עיון | AF23: =IF($D23="","",AF$16) -> הפקה מורכבת | AG23: =IF($D23="","",AG$16) -> כן | AH23: =IF($D23="","",AH$16) -> לא | AI23: =IF($D23="","",AI$16) -> נאותה | AJ23: =IF($D23="","",AJ$16) -> טובה | ... AO23: =IF($D23="","",AO$16) -> מעל 4 בשנה | AP23: =IF($D23="","",IF(ISERR(E23/3),$AP$14,E23)) -> 5 | AQ23: =IF($D23="","",IF(ISERR(F23/3),$AP$14,F23)) -> 9 | AR23: =IF($D23="","",IF(ISERR(G23/3),$AP$14,G23)) -> 3 | AS23: =IF($D23="","",IF(ISERR(H23/3),$AP$14,H23)) -> 1 | AT23: =IF($D23="","",IF(ISERR(I23/3),$AP$14,I23)) -> 0 | AU23: =IF($D23="","",IF(ISERR(J23/3),$AP$14,J23)) -> 0 | AV23: =IF($D23="","",IF(ISERR(K23/3),$AP$14,K23)) -> 0 | AW23: =IF($D23="","",IF(ISERR(L23/3),$AP$14,L23)) -> 0 | ... BA23: =IF($D23="","",IF(ISERR(P23/3),$AP$14,P23)) -> 15 | BB23: =IF(Q23="","",Q23) -> נאותה | BC23: =IF(R23="","",R23) -> שלוש בשנה | BD23: =IF($D23="","",IF(ISERR(S23/3),$AP$14,S23)) -> 70 | BE23: =IF($D23="","",IF(ISERR(T23/3),$AP$14,T23)) -> 150 | BF23: =IF($D23="","",IF(U23="","",U23)) -> כן | BG23: =IF($D23="","",IF(V23="","",V23)) -> כן | BH23: =IF($D23="","",IF(W23="","",W23)) -> לא | BI23: =IF($D23="","",IF(ISERR(X23/3),$AP$14,X23)) -> 0 | BJ23: =IF($D23="","",IF(ISERR(Y23/3),$AP$14,Y23)) -> 338238 | BK23: =IF($D23="","",IF(ISERR(Z23/3),$AP$14,Z23)) -> 794993 | BL23: =IF($D23="","",IF(AA23="","",AA23))
A24: =IF(AND(LEFT(B24,11)<>"גיליון הזנה",INDIRECT("'"&$B24&"'!"&'גיליון עזר'!$I$1&ROW('מרכז מורשת בבל'!$I$3))=""),"חסרה הזנה","") | B24: ='אורות הגליל'!$D$3 -> אורות הגליל | C24: 8 | D24: =IF(OR(LEFT(B24,11)="גיליון הזנה",INDIRECT("'"&$B24&"'!"&'גיליון עזר'!$I$1&ROW('מרכז מורשת בבל'!$I$3))=0),"",B24) -> אורות הגליל | E24: {=IF($D24="","",TRANSPOSE(INDIRECT("'"&$D24&"'!"&'גיליון עזר'!$D$1&ROW('מרכז מורשת בבל'!$D$16)):INDIRECT("'"&$D24&"'!"&'גיליון עזר'!$D$1&ROW('מרכז מורשת בבל'!$D$25))))} -> 28 | F24: 3 | G24: 0 | H24: 5 | I24: 0 | J24: 16 | K24: 0 | L24: 9 | M24: 0 | N24: 6 | O24: =IF($D24="","",INDIRECT("'"&$D24&"'!"&'גיליון עזר'!$F$1&ROW('מרכז מורשת בבל'!$B$78))) -> 210 | P24: {=IF($D24="","",TRANSPOSE(INDIRECT("'"&$D24&"'!"&'גיליון עזר'!$G$1&ROW('מרכז מורשת בבל'!$D$16)):INDIRECT("'"&$D24&"'!"&'גיליון עזר'!$G$1&ROW('מרכז מורשת בבל'!$D$17))))} -> 400 | Q24: נאותה | R24: {=IF($D24="","",TRANSPOSE(INDIRECT("'"&$D24&"'!"&'גיליון עזר'!$N$1&ROW('מרכז מורשת בבל'!$D$16)):INDIRECT("'"&$D24&"'!"&'גיליון עזר'!$N$1&ROW('מרכז מורשת בבל'!$D$20))))} -> 0 | S24: 0 | T24: 0 | U24: 0 | V24: 0 | W24: =IF($D24="","",INDIRECT("'"&$D24&"'!"&'גיליון עזר'!$N$1&ROW('מרכז מורשת בבל'!$J$21))) -> 0 | X24: =IF($D24="","",INDIRECT("'"&$D24&"'!"&'גיליון עזר'!$L$1&ROW('מרכז מורשת בבל'!$J$78))) -> 0 | Y24: {=IF($D24="","",TRANSPOSE(INDIRECT("'"&$D24&"'!"&'גיליון עזר'!$J$1&ROW('מרכז מורשת בבל'!$D$17)):INDIRECT("'"&$D24&"'!"&'גיליון עזר'!$J$1&ROW('מרכז מורשת בבל'!$D$18))))} -> 227310 | Z24: 538632 | AA24: =IF($D24="","",IF(INDIRECT("'"&$D24&"'!"&'גיליון עזר'!$J$1&ROW('מרכז מורשת בבל'!$D$21))="","",INDIRECT("'"&$D24&"'!"&'גיליון עזר'!$J$1&ROW('מרכז מורשת בבל'!$D$21)))) -> מעל 50% | AC24: =IF($D24="","",AC$16) -> כינוס | AD24: =IF($D24="","",AD$16) -> הרצאה | AE24: =IF($D24="","",AE$16) -> יום עיון | AF24: =IF($D24="","",AF$16) -> הפקה מורכבת | AG24: =IF($D24="","",AG$16) -> כן | AH24: =IF($D24="","",AH$16) -> לא | AI24: =IF($D24="","",AI$16) -> נאותה | AJ24: =IF($D24="","",AJ$16) -> טובה | ... AO24: =IF($D24="","",AO$16) -> מעל 4 בשנה | AP24: =IF($D24="","",IF(ISERR(E24/3),$AP$14,E24)) -> 28 | AQ24: =IF($D24="","",IF(ISERR(F24/3),$AP$14,F24)) -> 3 | AR24: =IF($D24="","",IF(ISERR(G24/3),$AP$14,G24)) -> 0 | AS24: =IF($D24="","",IF(ISERR(H24/3),$AP$14,H24)) -> 5 | AT24: =IF($D24="","",IF(ISERR(I24/3),$AP$14,I24)) -> 0 | AU24: =IF($D24="","",IF(ISERR(J24/3),$AP$14,J24)) -> 16 | AV24: =IF($D24="","",IF(ISERR(K24/3),$AP$14,K24)) -> 0 | AW24: =IF($D24="","",IF(ISERR(L24/3),$AP$14,L24)) -> 9 | ... BA24: =IF($D24="","",IF(ISERR(P24/3),$AP$14,P24)) -> 400 | BB24: =IF(Q24="","",Q24) -> נאותה | BC24: =IF(R24="","",R24) -> 0 | BD24: =IF($D24="","",IF(ISERR(S24/3),$AP$14,S24)) -> 0 | BE24: =IF($D24="","",IF(ISERR(T24/3),$AP$14,T24)) -> 0 | BF24: =IF($D24="","",IF(U24="","",U24)) -> 0 | BG24: =IF($D24="","",IF(V24="","",V24)) -> 0 | BH24: =IF($D24="","",IF(W24="","",W24)) -> 0 | BI24: =IF($D24="","",IF(ISERR(X24/3),$AP$14,X24)) -> 0 | BJ24: =IF($D24="","",IF(ISERR(Y24/3),$AP$14,Y24)) -> 227310 | BK24: =IF($D24="","",IF(ISERR(Z24/3),$AP$14,Z24)) -> 538632 | BL24: =IF($D24="","",IF(AA24="","",AA24)) -> מעל 50%
A25: =IF(AND(LEFT(B25,11)<>"גיליון הזנה",INDIRECT("'"&$B25&"'!"&'גיליון עזר'!$I$1&ROW('מרכז מורשת בבל'!$I$3))=""),"חסרה הזנה","") | B25: =אלמז!$D$3 -> אלמז | C25: 9 | D25: =IF(OR(LEFT(B25,11)="גיליון הזנה",INDIRECT("'"&$B25&"'!"&'גיליון עזר'!$I$1&ROW('מרכז מורשת בבל'!$I$3))=0),"",B25) -> אלמז | E25: {=IF($D25="","",TRANSPOSE(INDIRECT("'"&$D25&"'!"&'גיליון עזר'!$D$1&ROW('מרכז מורשת בבל'!$D$16)):INDIRECT("'"&$D25&"'!"&'גיליון עזר'!$D$1&ROW('מרכז מורשת בבל'!$D$25))))} -> 3 | F25: 10 | G25: 0 | H25: 2 | I25: 1 | J25: 4 | K25: 1 | L25: 4 | M25: 1 | N25: 2 | O25: =IF($D25="","",INDIRECT("'"&$D25&"'!"&'גיליון עזר'!$F$1&ROW('מרכז מורשת בבל'!$B$78))) -> 150 | P25: {=IF($D25="","",TRANSPOSE(INDIRECT("'"&$D25&"'!"&'גיליון עזר'!$G$1&ROW('מרכז מורשת בבל'!$D$16)):INDIRECT("'"&$D25&"'!"&'גיליון עזר'!$G$1&ROW('מרכז מורשת בבל'!$D$17))))} -> 10 | Q25: 0 | R25: {=IF($D25="","",TRANSPOSE(INDIRECT("'"&$D25&"'!"&'גיליון עזר'!$N$1&ROW('מרכז מורשת בבל'!$D$16)):INDIRECT("'"&$D25&"'!"&'גיליון עזר'!$N$1&ROW('מרכז מורשת בבל'!$D$20))))} -> שניים בשנה | S25: 16 | T25: 200 | U25: לא | V25: לא | W25: =IF($D25="","",INDIRECT("'"&$D25&"'!"&'גיליון עזר'!$N$1&ROW('מרכז מורשת בבל'!$J$21))) -> לא | X25: =IF($D25="","",INDIRECT("'"&$D25&"'!"&'גיליון עזר'!$L$1&ROW('מרכז מורשת בבל'!$J$78))) -> 0 | Y25: {=IF($D25="","",TRANSPOSE(INDIRECT("'"&$D25&"'!"&'גיליון עזר'!$J$1&ROW('מרכז מורשת בבל'!$D$17)):INDIRECT("'"&$D25&"'!"&'גיליון עזר'!$J$1&ROW('מרכז מורשת בבל'!$D$18))))} -> 95748 | Z25: 296291 | AA25: =IF($D25="","",IF(INDIRECT("'"&$D25&"'!"&'גיליון עזר'!$J$1&ROW('מרכז מורשת בבל'!$D$21))="","",INDIRECT("'"&$D25&"'!"&'גיליון עזר'!$J$1&ROW('מרכז מורשת בבל'!$D$21)))) | AC25: =IF($D25="","",AC$16) -> כינוס | AD25: =IF($D25="","",AD$16) -> הרצאה | AE25: =IF($D25="","",AE$16) -> יום עיון | AF25: =IF($D25="","",AF$16) -> הפקה מורכבת | AG25: =IF($D25="","",AG$16) -> כן | AH25: =IF($D25="","",AH$16) -> לא | AI25: =IF($D25="","",AI$16) -> נאותה | AJ25: =IF($D25="","",AJ$16) -> טובה | ... AO25: =IF($D25="","",AO$16) -> מעל 4 בשנה | AP25: =IF($D25="","",IF(ISERR(E25/3),$AP$14,E25)) -> 3 | AQ25: =IF($D25="","",IF(ISERR(F25/3),$AP$14,F25)) -> 10 | AR25: =IF($D25="","",IF(ISERR(G25/3),$AP$14,G25)) -> 0 | AS25: =IF($D25="","",IF(ISERR(H25/3),$AP$14,H25)) -> 2 | AT25: =IF($D25="","",IF(ISERR(I25/3),$AP$14,I25)) -> 1 | AU25: =IF($D25="","",IF(ISERR(J25/3),$AP$14,J25)) -> 4 | AV25: =IF($D25="","",IF(ISERR(K25/3),$AP$14,K25)) -> 1 | AW25: =IF($D25="","",IF(ISERR(L25/3),$AP$14,L25)) -> 4 | ... BA25: =IF($D25="","",IF(ISERR(P25/3),$AP$14,P25)) -> 10 | BB25: =IF(Q25="","",Q25) -> 0 | BC25: =IF(R25="","",R25) -> שניים בשנה | BD25: =IF($D25="","",IF(ISERR(S25/3),$AP$14,S25)) -> 16 | BE25: =IF($D25="","",IF(ISERR(T25/3),$AP$14,T25)) -> 200 | BF25: =IF($D25="","",IF(U25="","",U25)) -> לא | BG25: =IF($D25="","",IF(V25="","",V25)) -> לא | BH25: =IF($D25="","",IF(W25="","",W25)) -> לא | BI25: =IF($D25="","",IF(ISERR(X25/3),$AP$14,X25)) -> 0 | BJ25: =IF($D25="","",IF(ISERR(Y25/3),$AP$14,Y25)) -> 95748 | BK25: =IF($D25="","",IF(ISERR(Z25/3),$AP$14,Z25)) -> 296291 | BL25: =IF($D25="","",IF(AA25="","",AA25))
A26: =IF(AND(LEFT(B26,11)<>"גיליון הזנה",INDIRECT("'"&$B26&"'!"&'גיליון עזר'!$I$1&ROW('מרכז מורשת בבל'!$I$3))=""),"חסרה הזנה","") | B26: ='קונגרס יהודי בוכרה'!$D$3 -> קונגרס יהודי בוכרה | C26: 10 | D26: =IF(OR(LEFT(B26,11)="גיליון הזנה",INDIRECT("'"&$B26&"'!"&'גיליון עזר'!$I$1&ROW('מרכז מורשת בבל'!$I$3))=0),"",B26) -> קונגרס יהודי בוכרה | E26: {=IF($D26="","",TRANSPOSE(INDIRECT("'"&$D26&"'!"&'גיליון עזר'!$D$1&ROW('מרכז מורשת בבל'!$D$16)):INDIRECT("'"&$D26&"'!"&'גיליון עזר'!$D$1&ROW('מרכז מורשת בבל'!$D$25))))} -> 0 | F26: 159 | G26: 0 | H26: 0 | I26: 0 | J26: 30 | K26: 0 | L26: 30 | M26: 0 | N26: 74 | O26: =IF($D26="","",INDIRECT("'"&$D26&"'!"&'גיליון עזר'!$F$1&ROW('מרכז מורשת בבל'!$B$78))) -> 0 | P26: {=IF($D26="","",TRANSPOSE(INDIRECT("'"&$D26&"'!"&'גיליון עזר'!$G$1&ROW('מרכז מורשת בבל'!$D$16)):INDIRECT("'"&$D26&"'!"&'גיליון עזר'!$G$1&ROW('מרכז מורשת בבל'!$D$17))))} -> 18 | Q26: נאותה | R26: {=IF($D26="","",TRANSPOSE(INDIRECT("'"&$D26&"'!"&'גיליון עזר'!$N$1&ROW('מרכז מורשת בבל'!$D$16)):INDIRECT("'"&$D26&"'!"&'גיליון עזר'!$N$1&ROW('מרכז מורשת בבל'!$D$20))))} -> מעל 4 בשנה | S26: 40 | T26: 12000 | U26: כן | V26: כן | W26: =IF($D26="","",INDIRECT("'"&$D26&"'!"&'גיליון עזר'!$N$1&ROW('מרכז מורשת בבל'!$J$21))) -> לא | X26: =IF($D26="","",INDIRECT("'"&$D26&"'!"&'גיליון עזר'!$L$1&ROW('מרכז מורשת בבל'!$J$78))) -> 0 | Y26: {=IF($D26="","",TRANSPOSE(INDIRECT("'"&$D26&"'!"&'גיליון עזר'!$J$1&ROW('מרכז מורשת בבל'!$D$17)):INDIRECT("'"&$D26&"'!"&'גיליון עזר'!$J$1&ROW('מרכז מורשת בבל'!$D$18))))} -> 2231514 | Z26: 3331514 | AA26: =IF($D26="","",IF(INDIRECT("'"&$D26&"'!"&'גיליון עזר'!$J$1&ROW('מרכז מורשת בבל'!$D$21))="","",INDIRECT("'"&$D26&"'!"&'גיליון עזר'!$J$1&ROW('מרכז מורשת בבל'!$D$21)))) -> מעל 20% | AC26: =IF($D26="","",AC$16) -> כינוס | AD26: =IF($D26="","",AD$16) -> הרצאה | AE26: =IF($D26="","",AE$16) -> יום עיון | AF26: =IF($D26="","",AF$16) -> הפקה מורכבת | AG26: =IF($D26="","",AG$16) -> כן | AH26: =IF($D26="","",AH$16) -> לא | AI26: =IF($D26="","",AI$16) -> נאותה | AJ26: =IF($D26="","",AJ$16) -> טובה | ... AO26: =IF($D26="","",AO$16) -> מעל 4 בשנה | AP26: =IF($D26="","",IF(ISERR(E26/3),$AP$14,E26)) -> 0 | AQ26: =IF($D26="","",IF(ISERR(F26/3),$AP$14,F26)) -> 159 | AR26: =IF($D26="","",IF(ISERR(G26/3),$AP$14,G26)) -> 0 | AS26: =IF($D26="","",IF(ISERR(H26/3),$AP$14,H26)) -> 0 | AT26: =IF($D26="","",IF(ISERR(I26/3),$AP$14,I26)) -> 0 | AU26: =IF($D26="","",IF(ISERR(J26/3),$AP$14,J26)) -> 30 | AV26: =IF($D26="","",IF(ISERR(K26/3),$AP$14,K26)) -> 0 | AW26: =IF($D26="","",IF(ISERR(L26/3),$AP$14,L26)) -> 30 | ... BA26: =IF($D26="","",IF(ISERR(P26/3),$AP$14,P26)) -> 18 | BB26: =IF(Q26="","",Q26) -> נאותה | BC26: =IF(R26="","",R26) -> מעל 4 בשנה | BD26: =IF($D26="","",IF(ISERR(S26/3),$AP$14,S26)) -> 40 | BE26: =IF($D26="","",IF(ISERR(T26/3),$AP$14,T26)) -> 12000 | BF26: =IF($D26="","",IF(U26="","",U26)) -> כן | BG26: =IF($D26="","",IF(V26="","",V26)) -> כן | BH26: =IF($D26="","",IF(W26="","",W26)) -> לא | BI26: =IF($D26="","",IF(ISERR(X26/3),$AP$14,X26)) -> 0 | BJ26: =IF($D26="","",IF(ISERR(Y26/3),$AP$14,Y26)) -> 2231514 | BK26: =IF($D26="","",IF(ISERR(Z26/3),$AP$14,Z26)) -> 3331514 | BL26: =IF($D26="","",IF(AA26="","",AA26)) -> מעל 20%
A27: =IF(AND(LEFT(B27,11)<>"גיליון הזנה",INDIRECT("'"&$B27&"'!"&'גיליון עזר'!$I$1&ROW('מרכז מורשת בבל'!$I$3))=""),"חסרה הזנה","") | B27: ='יהדות שאלוניקי יוון'!$D$3 -> יהדות שאלוניקי יוון | C27: 11 | D27: =IF(OR(LEFT(B27,11)="גיליון הזנה",INDIRECT("'"&$B27&"'!"&'גיליון עזר'!$I$1&ROW('מרכז מורשת בבל'!$I$3))=0),"",B27) -> יהדות שאלוניקי יוון | E27: {=IF($D27="","",TRANSPOSE(INDIRECT("'"&$D27&"'!"&'גיליון עזר'!$D$1&ROW('מרכז מורשת בבל'!$D$16)):INDIRECT("'"&$D27&"'!"&'גיליון עזר'!$D$1&ROW('מרכז מורשת בבל'!$D$25))))} -> 69 | F27: 1 | G27: 1 | H27: 1 | I27: 0 | J27: 1 | K27: 0 | L27: 1 | M27: 0 | N27: 6 | O27: =IF($D27="","",INDIRECT("'"&$D27&"'!"&'גיליון עזר'!$F$1&ROW('מרכז מורשת בבל'!$B$78))) -> 300 | P27: {=IF($D27="","",TRANSPOSE(INDIRECT("'"&$D27&"'!"&'גיליון עזר'!$G$1&ROW('מרכז מורשת בבל'!$D$16)):INDIRECT("'"&$D27&"'!"&'גיליון עזר'!$G$1&ROW('מרכז מורשת בבל'!$D$17))))} -> 21 | Q27: טובה מאוד | R27: {=IF($D27="","",TRANSPOSE(INDIRECT("'"&$D27&"'!"&'גיליון עזר'!$N$1&ROW('מרכז מורשת בבל'!$D$16)):INDIRECT("'"&$D27&"'!"&'גיליון עזר'!$N$1&ROW('מרכז מורשת בבל'!$D$20))))} -> 0 | S27: 0 | T27: 0 | U27: 0 | V27: 0 | W27: =IF($D27="","",INDIRECT("'"&$D27&"'!"&'גיליון עזר'!$N$1&ROW('מרכז מורשת בבל'!$J$21))) -> 0 | X27: =IF($D27="","",INDIRECT("'"&$D27&"'!"&'גיליון עזר'!$L$1&ROW('מרכז מורשת בבל'!$J$78))) -> 0 | Y27: {=IF($D27="","",TRANSPOSE(INDIRECT("'"&$D27&"'!"&'גיליון עזר'!$J$1&ROW('מרכז מורשת בבל'!$D$17)):INDIRECT("'"&$D27&"'!"&'גיליון עזר'!$J$1&ROW('מרכז מורשת בבל'!$D$18))))} -> 710115 | Z27: 1114167 | AA27: =IF($D27="","",IF(INDIRECT("'"&$D27&"'!"&'גיליון עזר'!$J$1&ROW('מרכז מורשת בבל'!$D$21))="","",INDIRECT("'"&$D27&"'!"&'גיליון עזר'!$J$1&ROW('מרכז מורשת בבל'!$D$21)))) | AC27: =IF($D27="","",AC$16) -> כינוס | AD27: =IF($D27="","",AD$16) -> הרצאה | AE27: =IF($D27="","",AE$16) -> יום עיון | AF27: =IF($D27="","",AF$16) -> הפקה מורכבת | AG27: =IF($D27="","",AG$16) -> כן | AH27: =IF($D27="","",AH$16) -> לא | AI27: =IF($D27="","",AI$16) -> נאותה | AJ27: =IF($D27="","",AJ$16) -> טובה | ... AO27: =IF($D27="","",AO$16) -> מעל 4 בשנה | AP27: =IF($D27="","",IF(ISERR(E27/3),$AP$14,E27)) -> 69 | AQ27: =IF($D27="","",IF(ISERR(F27/3),$AP$14,F27)) -> 1 | AR27: =IF($D27="","",IF(ISERR(G27/3),$AP$14,G27)) -> 1 | AS27: =IF($D27="","",IF(ISERR(H27/3),$AP$14,H27)) -> 1 | AT27: =IF($D27="","",IF(ISERR(I27/3),$AP$14,I27)) -> 0 | AU27: =IF($D27="","",IF(ISERR(J27/3),$AP$14,J27)) -> 1 | AV27: =IF($D27="","",IF(ISERR(K27/3),$AP$14,K27)) -> 0 | AW27: =IF($D27="","",IF(ISERR(L27/3),$AP$14,L27)) -> 1 | ... BA27: =IF($D27="","",IF(ISERR(P27/3),$AP$14,P27)) -> 21 | BB27: =IF(Q27="","",Q27) -> טובה מאוד | BC27: =IF(R27="","",R27) -> 0 | BD27: =IF($D27="","",IF(ISERR(S27/3),$AP$14,S27)) -> 0 | BE27: =IF($D27="","",IF(ISERR(T27/3),$AP$14,T27)) -> 0 | BF27: =IF($D27="","",IF(U27="","",U27)) -> 0 | BG27: =IF($D27="","",IF(V27="","",V27)) -> 0 | BH27: =IF($D27="","",IF(W27="","",W27)) -> 0 | BI27: =IF($D27="","",IF(ISERR(X27/3),$AP$14,X27)) -> 0 | BJ27: =IF($D27="","",IF(ISERR(Y27/3),$AP$14,Y27)) -> 710115 | BK27: =IF($D27="","",IF(ISERR(Z27/3),$AP$14,Z27)) -> 1114167 | BL27: =IF($D27="","",IF(AA27="","",AA27))
A28: =IF(AND(LEFT(B28,11)<>"גיליון הזנה",INDIRECT("'"&$B28&"'!"&'גיליון עזר'!$I$1&ROW('מרכז מורשת בבל'!$I$3))=""),"חסרה הזנה","") | B28: ='גיליון הזנה 12'!$D$3 -> גיליון הזנה 12 | C28: 12 | D28: =IF(OR(LEFT(B28,11)="גיליון הזנה",INDIRECT("'"&$B28&"'!"&'גיליון עזר'!$I$1&ROW('מרכז מורשת בבל'!$I$3))=0),"",B28) | E28: {=IF($D28="","",TRANSPOSE(INDIRECT("'"&$D28&"'!"&'גיליון עזר'!$D$1&ROW('מרכז מורשת בבל'!$D$16)):INDIRECT("'"&$D28&"'!"&'גיליון עזר'!$D$1&ROW('מרכז מורשת בבל'!$D$25))))} | O28: =IF($D28="","",INDIRECT("'"&$D28&"'!"&'גיליון עזר'!$F$1&ROW('מרכז מורשת בבל'!$B$78))) | P28: {=IF($D28="","",TRANSPOSE(INDIRECT("'"&$D28&"'!"&'גיליון עזר'!$G$1&ROW('מרכז מורשת בבל'!$D$16)):INDIRECT("'"&$D28&"'!"&'גיליון עזר'!$G$1&ROW('מרכז מורשת בבל'!$D$17))))} | R28: {=IF($D28="","",TRANSPOSE(INDIRECT("'"&$D28&"'!"&'גיליון עזר'!$N$1&ROW('מרכז מורשת בבל'!$D$16)):INDIRECT("'"&$D28&"'!"&'גיליון עזר'!$N$1&ROW('מרכז מורשת בבל'!$D$20))))} | W28: =IF($D28="","",INDIRECT("'"&$D28&"'!"&'גיליון עזר'!$N$1&ROW('מרכז מורשת בבל'!$J$21))) | X28: =IF($D28="","",INDIRECT("'"&$D28&"'!"&'גיליון עזר'!$L$1&ROW('מרכז מורשת בבל'!$J$78))) | Y28: {=IF($D28="","",TRANSPOSE(INDIRECT("'"&$D28&"'!"&'גיליון עזר'!$J$1&ROW('מרכז מורשת בבל'!$D$17)):INDIRECT("'"&$D28&"'!"&'גיליון עזר'!$J$1&ROW('מרכז מורשת בבל'!$D$18))))} | AA28: =IF($D28="","",IF(INDIRECT("'"&$D28&"'!"&'גיליון עזר'!$J$1&ROW('מרכז מורשת בבל'!$D$21))="","",INDIRECT("'"&$D28&"'!"&'גיליון עזר'!$J$1&ROW('מרכז מורשת בבל'!$D$21)))) | AC28: =IF($D28="","",AC$16) | AD28: =IF($D28="","",AD$16) | AE28: =IF($D28="","",AE$16) | AF28: =IF($D28="","",AF$16) | AG28: =IF($D28="","",AG$16) | AH28: =IF($D28="","",AH$16) | AI28: =IF($D28="","",AI$16) | AJ28: =IF($D28="","",AJ$16) | ... AO28: =IF($D28="","",AO$16) | AP28: =IF($D28="","",IF(ISERR(E28/3),$AP$14,E28)) | AQ28: =IF($D28="","",IF(ISERR(F28/3),$AP$14,F28)) | AR28: =IF($D28="","",IF(ISERR(G28/3),$AP$14,G28)) | AS28: =IF($D28="","",IF(ISERR(H28/3),$AP$14,H28)) | AT28: =IF($D28="","",IF(ISERR(I28/3),$AP$14,I28)) | AU28: =IF($D28="","",IF(ISERR(J28/3),$AP$14,J28)) | AV28: =IF($D28="","",IF(ISERR(K28/3),$AP$14,K28)) | AW28: =IF($D28="","",IF(ISERR(L28/3),$AP$14,L28)) | ... BA28: =IF($D28="","",IF(ISERR(P28/3),$AP$14,P28)) | BB28: =IF(Q28="","",Q28) | BC28: =IF(R28="","",R28) | BD28: =IF($D28="","",IF(ISERR(S28/3),$AP$14,S28)) | BE28: =IF($D28="","",IF(ISERR(T28/3),$AP$14,T28)) | BF28: =IF($D28="","",IF(U28="","",U28)) | BG28: =IF($D28="","",IF(V28="","",V28)) | BH28: =IF($D28="","",IF(W28="","",W28)) | BI28: =IF($D28="","",IF(ISERR(X28/3),$AP$14,X28)) | BJ28: =IF($D28="","",IF(ISERR(Y28/3),$AP$14,Y28)) | BK28: =IF($D28="","",IF(ISERR(Z28/3),$AP$14,Z28)) | BL28: =IF($D28="","",IF(AA28="","",AA28))
A29: =IF(AND(LEFT(B29,11)<>"גיליון הזנה",INDIRECT("'"&$B29&"'!"&'גיליון עזר'!$I$1&ROW('מרכז מורשת בבל'!$I$3))=""),"חסרה הזנה","") | B29: ='גיליון הזנה 13'!$D$3 -> גיליון הזנה 13 | C29: 13 | D29: =IF(OR(LEFT(B29,11)="גיליון הזנה",INDIRECT("'"&$B29&"'!"&'גיליון עזר'!$I$1&ROW('מרכז מורשת בבל'!$I$3))=0),"",B29) | E29: {=IF($D29="","",TRANSPOSE(INDIRECT("'"&$D29&"'!"&'גיליון עזר'!$D$1&ROW('מרכז מורשת בבל'!$D$16)):INDIRECT("'"&$D29&"'!"&'גיליון עזר'!$D$1&ROW('מרכז מורשת בבל'!$D$25))))} | O29: =IF($D29="","",INDIRECT("'"&$D29&"'!"&'גיליון עזר'!$F$1&ROW('מרכז מורשת בבל'!$B$78))) | P29: {=IF($D29="","",TRANSPOSE(INDIRECT("'"&$D29&"'!"&'גיליון עזר'!$G$1&ROW('מרכז מורשת בבל'!$D$16)):INDIRECT("'"&$D29&"'!"&'גיליון עזר'!$G$1&ROW('מרכז מורשת בבל'!$D$17))))} | R29: {=IF($D29="","",TRANSPOSE(INDIRECT("'"&$D29&"'!"&'גיליון עזר'!$N$1&ROW('מרכז מורשת בבל'!$D$16)):INDIRECT("'"&$D29&"'!"&'גיליון עזר'!$N$1&ROW('מרכז מורשת בבל'!$D$20))))} | W29: =IF($D29="","",INDIRECT("'"&$D29&"'!"&'גיליון עזר'!$N$1&ROW('מרכז מורשת בבל'!$J$21))) | X29: =IF($D29="","",INDIRECT("'"&$D29&"'!"&'גיליון עזר'!$L$1&ROW('מרכז מורשת בבל'!$J$78))) | Y29: {=IF($D29="","",TRANSPOSE(INDIRECT("'"&$D29&"'!"&'גיליון עזר'!$J$1&ROW('מרכז מורשת בבל'!$D$17)):INDIRECT("'"&$D29&"'!"&'גיליון עזר'!$J$1&ROW('מרכז מורשת בבל'!$D$18))))} | AA29: =IF($D29="","",IF(INDIRECT("'"&$D29&"'!"&'גיליון עזר'!$J$1&ROW('מרכז מורשת בבל'!$D$21))="","",INDIRECT("'"&$D29&"'!"&'גיליון עזר'!$J$1&ROW('מרכז מורשת בבל'!$D$21)))) | AC29: =IF($D29="","",AC$16) | AD29: =IF($D29="","",AD$16) | AE29: =IF($D29="","",AE$16) | AF29: =IF($D29="","",AF$16) | AG29: =IF($D29="","",AG$16) | AH29: =IF($D29="","",AH$16) | AI29: =IF($D29="","",AI$16) | AJ29: =IF($D29="","",AJ$16) | ... AO29: =IF($D29="","",AO$16) | AP29: =IF($D29="","",IF(ISERR(E29/3),$AP$14,E29)) | AQ29: =IF($D29="","",IF(ISERR(F29/3),$AP$14,F29)) | AR29: =IF($D29="","",IF(ISERR(G29/3),$AP$14,G29)) | AS29: =IF($D29="","",IF(ISERR(H29/3),$AP$14,H29)) | AT29: =IF($D29="","",IF(ISERR(I29/3),$AP$14,I29)) | AU29: =IF($D29="","",IF(ISERR(J29/3),$AP$14,J29)) | AV29: =IF($D29="","",IF(ISERR(K29/3),$AP$14,K29)) | AW29: =IF($D29="","",IF(ISERR(L29/3),$AP$14,L29)) | ... BA29: =IF($D29="","",IF(ISERR(P29/3),$AP$14,P29)) | BB29: =IF(Q29="","",Q29) | BC29: =IF(R29="","",R29) | BD29: =IF($D29="","",IF(ISERR(S29/3),$AP$14,S29)) | BE29: =IF($D29="","",IF(ISERR(T29/3),$AP$14,T29)) | BF29: =IF($D29="","",IF(U29="","",U29)) | BG29: =IF($D29="","",IF(V29="","",V29)) | BH29: =IF($D29="","",IF(W29="","",W29)) | BI29: =IF($D29="","",IF(ISERR(X29/3),$AP$14,X29)) | BJ29: =IF($D29="","",IF(ISERR(Y29/3),$AP$14,Y29)) | BK29: =IF($D29="","",IF(ISERR(Z29/3),$AP$14,Z29)) | BL29: =IF($D29="","",IF(AA29="","",AA29))
A30: =IF(AND(LEFT(B30,11)<>"גיליון הזנה",INDIRECT("'"&$B30&"'!"&'גיליון עזר'!$I$1&ROW('מרכז מורשת בבל'!$I$3))=""),"חסרה הזנה","") | B30: ='גיליון הזנה 14'!$D$3 -> גיליון הזנה 14 | C30: 14 | D30: =IF(OR(LEFT(B30,11)="גיליון הזנה",INDIRECT("'"&$B30&"'!"&'גיליון עזר'!$I$1&ROW('מרכז מורשת בבל'!$I$3))=0),"",B30) | E30: {=IF($D30="","",TRANSPOSE(INDIRECT("'"&$D30&"'!"&'גיליון עזר'!$D$1&ROW('מרכז מורשת בבל'!$D$16)):INDIRECT("'"&$D30&"'!"&'גיליון עזר'!$D$1&ROW('מרכז מורשת בבל'!$D$25))))} | O30: =IF($D30="","",INDIRECT("'"&$D30&"'!"&'גיליון עזר'!$F$1&ROW('מרכז מורשת בבל'!$B$78))) | P30: {=IF($D30="","",TRANSPOSE(INDIRECT("'"&$D30&"'!"&'גיליון עזר'!$G$1&ROW('מרכז מורשת בבל'!$D$16)):INDIRECT("'"&$D30&"'!"&'גיליון עזר'!$G$1&ROW('מרכז מורשת בבל'!$D$17))))} | R30: {=IF($D30="","",TRANSPOSE(INDIRECT("'"&$D30&"'!"&'גיליון עזר'!$N$1&ROW('מרכז מורשת בבל'!$D$16)):INDIRECT("'"&$D30&"'!"&'גיליון עזר'!$N$1&ROW('מרכז מורשת בבל'!$D$20))))} | W30: =IF($D30="","",INDIRECT("'"&$D30&"'!"&'גיליון עזר'!$N$1&ROW('מרכז מורשת בבל'!$J$21))) | X30: =IF($D30="","",INDIRECT("'"&$D30&"'!"&'גיליון עזר'!$L$1&ROW('מרכז מורשת בבל'!$J$78))) | Y30: {=IF($D30="","",TRANSPOSE(INDIRECT("'"&$D30&"'!"&'גיליון עזר'!$J$1&ROW('מרכז מורשת בבל'!$D$17)):INDIRECT("'"&$D30&"'!"&'גיליון עזר'!$J$1&ROW('מרכז מורשת בבל'!$D$18))))} | AA30: =IF($D30="","",IF(INDIRECT("'"&$D30&"'!"&'גיליון עזר'!$J$1&ROW('מרכז מורשת בבל'!$D$21))="","",INDIRECT("'"&$D30&"'!"&'גיליון עזר'!$J$1&ROW('מרכז מורשת בבל'!$D$21)))) | AC30: =IF($D30="","",AC$16) | AD30: =IF($D30="","",AD$16) | AE30: =IF($D30="","",AE$16) | AF30: =IF($D30="","",AF$16) | AG30: =IF($D30="","",AG$16) | AH30: =IF($D30="","",AH$16) | AI30: =IF($D30="","",AI$16) | AJ30: =IF($D30="","",AJ$16) | ... AO30: =IF($D30="","",AO$16) | AP30: =IF($D30="","",IF(ISERR(E30/3),$AP$14,E30)) | AQ30: =IF($D30="","",IF(ISERR(F30/3),$AP$14,F30)) | AR30: =IF($D30="","",IF(ISERR(G30/3),$AP$14,G30)) | AS30: =IF($D30="","",IF(ISERR(H30/3),$AP$14,H30)) | AT30: =IF($D30="","",IF(ISERR(I30/3),$AP$14,I30)) | AU30: =IF($D30="","",IF(ISERR(J30/3),$AP$14,J30)) | AV30: =IF($D30="","",IF(ISERR(K30/3),$AP$14,K30)) | AW30: =IF($D30="","",IF(ISERR(L30/3),$AP$14,L30)) | ... BA30: =IF($D30="","",IF(ISERR(P30/3),$AP$14,P30)) | BB30: =IF(Q30="","",Q30) | BC30: =IF(R30="","",R30) | BD30: =IF($D30="","",IF(ISERR(S30/3),$AP$14,S30)) | BE30: =IF($D30="","",IF(ISERR(T30/3),$AP$14,T30)) | BF30: =IF($D30="","",IF(U30="","",U30)) | BG30: =IF($D30="","",IF(V30="","",V30)) | BH30: =IF($D30="","",IF(W30="","",W30)) | BI30: =IF($D30="","",IF(ISERR(X30/3),$AP$14,X30)) | BJ30: =IF($D30="","",IF(ISERR(Y30/3),$AP$14,Y30)) | BK30: =IF($D30="","",IF(ISERR(Z30/3),$AP$14,Z30)) | BL30: =IF($D30="","",IF(AA30="","",AA30))
A31: =IF(AND(LEFT(B31,11)<>"גיליון הזנה",INDIRECT("'"&$B31&"'!"&'גיליון עזר'!$I$1&ROW('מרכז מורשת בבל'!$I$3))=""),"חסרה הזנה","") | B31: ='החברה לטיפוח חברה תרבות תיעוד '!$D$3 -> החברה לטיפוח חברה תרבות תיעוד | C31: 15 | D31: =IF(OR(LEFT(B31,11)="גיליון הזנה",INDIRECT("'"&$B31&"'!"&'גיליון עזר'!$I$1&ROW('מרכז מורשת בבל'!$I$3))=0),"",B31) -> החברה לטיפוח חברה תרבות תיעוד | E31: {=IF($D31="","",TRANSPOSE(INDIRECT("'"&$D31&"'!"&'גיליון עזר'!$D$1&ROW('מרכז מורשת בבל'!$D$16)):INDIRECT("'"&$D31&"'!"&'גיליון עזר'!$D$1&ROW('מרכז מורשת בבל'!$D$25))))} -> 60 | F31: 136 | G31: 63 | H31: 23 | I31: 20 | J31: 168 | K31: 0 | L31: 65 | M31: 0 | N31: 6 | O31: =IF($D31="","",INDIRECT("'"&$D31&"'!"&'גיליון עזר'!$F$1&ROW('מרכז מורשת בבל'!$B$78))) -> 0 | P31: {=IF($D31="","",TRANSPOSE(INDIRECT("'"&$D31&"'!"&'גיליון עזר'!$G$1&ROW('מרכז מורשת בבל'!$D$16)):INDIRECT("'"&$D31&"'!"&'גיליון עזר'!$G$1&ROW('מרכז מורשת בבל'!$D$17))))} -> 20100 | Q31: טובה מאוד | R31: {=IF($D31="","",TRANSPOSE(INDIRECT("'"&$D31&"'!"&'גיליון עזר'!$N$1&ROW('מרכז מורשת בבל'!$D$16)):INDIRECT("'"&$D31&"'!"&'גיליון עזר'!$N$1&ROW('מרכז מורשת בבל'!$D$20))))} -> מעל 4 בשנה | S31: 16 | T31: 1000 | U31: כן | V31: כן | W31: =IF($D31="","",INDIRECT("'"&$D31&"'!"&'גיליון עזר'!$N$1&ROW('מרכז מורשת בבל'!$J$21))) -> לא | X31: =IF($D31="","",INDIRECT("'"&$D31&"'!"&'גיליון עזר'!$L$1&ROW('מרכז מורשת בבל'!$J$78))) -> 9 | Y31: {=IF($D31="","",TRANSPOSE(INDIRECT("'"&$D31&"'!"&'גיליון עזר'!$J$1&ROW('מרכז מורשת בבל'!$D$17)):INDIRECT("'"&$D31&"'!"&'גיליון עזר'!$J$1&ROW('מרכז מורשת בבל'!$D$18))))} -> 3002870 | Z31: 5103322 | AA31: =IF($D31="","",IF(INDIRECT("'"&$D31&"'!"&'גיליון עזר'!$J$1&ROW('מרכז מורשת בבל'!$D$21))="","",INDIRECT("'"&$D31&"'!"&'גיליון עזר'!$J$1&ROW('מרכז מורשת בבל'!$D$21)))) -> מעל 50% | AC31: =IF($D31="","",AC$16) -> כינוס | AD31: =IF($D31="","",AD$16) -> הרצאה | AE31: =IF($D31="","",AE$16) -> יום עיון | AF31: =IF($D31="","",AF$16) -> הפקה מורכבת | AG31: =IF($D31="","",AG$16) -> כן | AH31: =IF($D31="","",AH$16) -> לא | AI31: =IF($D31="","",AI$16) -> נאותה | AJ31: =IF($D31="","",AJ$16) -> טובה | ... AO31: =IF($D31="","",AO$16) -> מעל 4 בשנה | AP31: =IF($D31="","",IF(ISERR(E31/3),$AP$14,E31)) -> 60 | AQ31: =IF($D31="","",IF(ISERR(F31/3),$AP$14,F31)) -> 136 | AR31: =IF($D31="","",IF(ISERR(G31/3),$AP$14,G31)) -> 63 | AS31: =IF($D31="","",IF(ISERR(H31/3),$AP$14,H31)) -> 23 | AT31: =IF($D31="","",IF(ISERR(I31/3),$AP$14,I31)) -> 20 | AU31: =IF($D31="","",IF(ISERR(J31/3),$AP$14,J31)) -> 168 | AV31: =IF($D31="","",IF(ISERR(K31/3),$AP$14,K31)) -> 0 | AW31: =IF($D31="","",IF(ISERR(L31/3),$AP$14,L31)) -> 65 | ... BA31: =IF($D31="","",IF(ISERR(P31/3),$AP$14,P31)) -> 20100 | BB31: =IF(Q31="","",Q31) -> טובה מאוד | BC31: =IF(R31="","",R31) -> מעל 4 בשנה | BD31: =IF($D31="","",IF(ISERR(S31/3),$AP$14,S31)) -> 16 | BE31: =IF($D31="","",IF(ISERR(T31/3),$AP$14,T31)) -> 1000 | BF31: =IF($D31="","",IF(U31="","",U31)) -> כן | BG31: =IF($D31="","",IF(V31="","",V31)) -> כן | BH31: =IF($D31="","",IF(W31="","",W31)) -> לא | BI31: =IF($D31="","",IF(ISERR(X31/3),$AP$14,X31)) -> 9 | BJ31: =IF($D31="","",IF(ISERR(Y31/3),$AP$14,Y31)) -> 3002870 | BK31: =IF($D31="","",IF(ISERR(Z31/3),$AP$14,Z31)) -> 5103322 | BL31: =IF($D31="","",IF(AA31="","",AA31)) -> מעל 50%
A32: =IF(AND(LEFT(B32,11)<>"גיליון הזנה",INDIRECT("'"&$B32&"'!"&'גיליון עזר'!$I$1&ROW('מרכז מורשת בבל'!$I$3))=""),"חסרה הזנה","") | B32: ='עמותת אור שלום'!$D$3 -> עמותת אור שלום | C32: 16 | D32: =IF(OR(LEFT(B32,11)="גיליון הזנה",INDIRECT("'"&$B32&"'!"&'גיליון עזר'!$I$1&ROW('מרכז מורשת בבל'!$I$3))=0),"",B32) -> עמותת אור שלום | E32: {=IF($D32="","",TRANSPOSE(INDIRECT("'"&$D32&"'!"&'גיליון עזר'!$D$1&ROW('מרכז מורשת בבל'!$D$16)):INDIRECT("'"&$D32&"'!"&'גיליון עזר'!$D$1&ROW('מרכז מורשת בבל'!$D$25))))} -> 0 | F32: 2 | G32: 0 | H32: 0 | I32: 0 | J32: 9 | K32: 0 | L32: 9 | M32: 0 | N32: 1 | O32: =IF($D32="","",INDIRECT("'"&$D32&"'!"&'גיליון עזר'!$F$1&ROW('מרכז מורשת בבל'!$B$78))) -> 610 | P32: {=IF($D32="","",TRANSPOSE(INDIRECT("'"&$D32&"'!"&'גיליון עזר'!$G$1&ROW('מרכז מורשת בבל'!$D$16)):INDIRECT("'"&$D32&"'!"&'גיליון עזר'!$G$1&ROW('מרכז מורשת בבל'!$D$17))))} -> 500 | Q32: נאותה | R32: {=IF($D32="","",TRANSPOSE(INDIRECT("'"&$D32&"'!"&'גיליון עזר'!$N$1&ROW('מרכז מורשת בבל'!$D$16)):INDIRECT("'"&$D32&"'!"&'גיליון עזר'!$N$1&ROW('מרכז מורשת בבל'!$D$20))))} -> מעל 4 בשנה | S32: 60 | T32: 2500 | U32: כן | V32: כן | W32: =IF($D32="","",INDIRECT("'"&$D32&"'!"&'גיליון עזר'!$N$1&ROW('מרכז מורשת בבל'!$J$21))) -> לא | X32: =IF($D32="","",INDIRECT("'"&$D32&"'!"&'גיליון עזר'!$L$1&ROW('מרכז מורשת בבל'!$J$78))) -> 1 | Y32: {=IF($D32="","",TRANSPOSE(INDIRECT("'"&$D32&"'!"&'גיליון עזר'!$J$1&ROW('מרכז מורשת בבל'!$D$17)):INDIRECT("'"&$D32&"'!"&'גיליון עזר'!$J$1&ROW('מרכז מורשת בבל'!$D$18))))} -> 258650 | Z32: 849541 | AA32: =IF($D32="","",IF(INDIRECT("'"&$D32&"'!"&'גיליון עזר'!$J$1&ROW('מרכז מורשת בבל'!$D$21))="","",INDIRECT("'"&$D32&"'!"&'גיליון עזר'!$J$1&ROW('מרכז מורשת בבל'!$D$21)))) -> מעל 50% | AC32: =IF($D32="","",AC$16) -> כינוס | AD32: =IF($D32="","",AD$16) -> הרצאה | AE32: =IF($D32="","",AE$16) -> יום עיון | AF32: =IF($D32="","",AF$16) -> הפקה מורכבת | AG32: =IF($D32="","",AG$16) -> כן | AH32: =IF($D32="","",AH$16) -> לא | AI32: =IF($D32="","",AI$16) -> נאותה | AJ32: =IF($D32="","",AJ$16) -> טובה | ... AO32: =IF($D32="","",AO$16) -> מעל 4 בשנה | AP32: =IF($D32="","",IF(ISERR(E32/3),$AP$14,E32)) -> 0 | AQ32: =IF($D32="","",IF(ISERR(F32/3),$AP$14,F32)) -> 2 | AR32: =IF($D32="","",IF(ISERR(G32/3),$AP$14,G32)) -> 0 | AS32: =IF($D32="","",IF(ISERR(H32/3),$AP$14,H32)) -> 0 | AT32: =IF($D32="","",IF(ISERR(I32/3),$AP$14,I32)) -> 0 | AU32: =IF($D32="","",IF(ISERR(J32/3),$AP$14,J32)) -> 9 | AV32: =IF($D32="","",IF(ISERR(K32/3),$AP$14,K32)) -> 0 | AW32: =IF($D32="","",IF(ISERR(L32/3),$AP$14,L32)) -> 9 | ... BA32: =IF($D32="","",IF(ISERR(P32/3),$AP$14,P32)) -> 500 | BB32: =IF(Q32="","",Q32) -> נאותה | BC32: =IF(R32="","",R32) -> מעל 4 בשנה | BD32: =IF($D32="","",IF(ISERR(S32/3),$AP$14,S32)) -> 60 | BE32: =IF($D32="","",IF(ISERR(T32/3),$AP$14,T32)) -> 2500 | BF32: =IF($D32="","",IF(U32="","",U32)) -> כן | BG32: =IF($D32="","",IF(V32="","",V32)) -> כן | BH32: =IF($D32="","",IF(W32="","",W32)) -> לא | BI32: =IF($D32="","",IF(ISERR(X32/3),$AP$14,X32)) -> 1 | BJ32: =IF($D32="","",IF(ISERR(Y32/3),$AP$14,Y32)) -> 258650 | BK32: =IF($D32="","",IF(ISERR(Z32/3),$AP$14,Z32)) -> 849541 | BL32: =IF($D32="","",IF(AA32="","",AA32)) -> מעל 50%
A33: =IF(AND(LEFT(B33,11)<>"גיליון הזנה",INDIRECT("'"&$B33&"'!"&'גיליון עזר'!$I$1&ROW('מרכז מורשת בבל'!$I$3))=""),"חסרה הזנה","") | B33: ='גיליון הזנה 17'!$D$3 -> גיליון הזנה 17 | C33: 17 | D33: =IF(OR(LEFT(B33,11)="גיליון הזנה",INDIRECT("'"&$B33&"'!"&'גיליון עזר'!$I$1&ROW('מרכז מורשת בבל'!$I$3))=0),"",B33) | E33: {=IF($D33="","",TRANSPOSE(INDIRECT("'"&$D33&"'!"&'גיליון עזר'!$D$1&ROW('מרכז מורשת בבל'!$D$16)):INDIRECT("'"&$D33&"'!"&'גיליון עזר'!$D$1&ROW('מרכז מורשת בבל'!$D$25))))} | O33: =IF($D33="","",INDIRECT("'"&$D33&"'!"&'גיליון עזר'!$F$1&ROW('מרכז מורשת בבל'!$B$78))) | P33: {=IF($D33="","",TRANSPOSE(INDIRECT("'"&$D33&"'!"&'גיליון עזר'!$G$1&ROW('מרכז מורשת בבל'!$D$16)):INDIRECT("'"&$D33&"'!"&'גיליון עזר'!$G$1&ROW('מרכז מורשת בבל'!$D$17))))} | R33: {=IF($D33="","",TRANSPOSE(INDIRECT("'"&$D33&"'!"&'גיליון עזר'!$N$1&ROW('מרכז מורשת בבל'!$D$16)):INDIRECT("'"&$D33&"'!"&'גיליון עזר'!$N$1&ROW('מרכז מורשת בבל'!$D$20))))} | W33: =IF($D33="","",INDIRECT("'"&$D33&"'!"&'גיליון עזר'!$N$1&ROW('מרכז מורשת בבל'!$J$21))) | X33: =IF($D33="","",INDIRECT("'"&$D33&"'!"&'גיליון עזר'!$L$1&ROW('מרכז מורשת בבל'!$J$78))) | Y33: {=IF($D33="","",TRANSPOSE(INDIRECT("'"&$D33&"'!"&'גיליון עזר'!$J$1&ROW('מרכז מורשת בבל'!$D$17)):INDIRECT("'"&$D33&"'!"&'גיליון עזר'!$J$1&ROW('מרכז מורשת בבל'!$D$18))))} | AA33: =IF($D33="","",IF(INDIRECT("'"&$D33&"'!"&'גיליון עזר'!$J$1&ROW('מרכז מורשת בבל'!$D$21))="","",INDIRECT("'"&$D33&"'!"&'גיליון עזר'!$J$1&ROW('מרכז מורשת בבל'!$D$21)))) | AC33: =IF($D33="","",AC$16) | AD33: =IF($D33="","",AD$16) | AE33: =IF($D33="","",AE$16) | AF33: =IF($D33="","",AF$16) | AG33: =IF($D33="","",AG$16) | AH33: =IF($D33="","",AH$16) | AI33: =IF($D33="","",AI$16) | AJ33: =IF($D33="","",AJ$16) | ... AO33: =IF($D33="","",AO$16) | AP33: =IF($D33="","",IF(ISERR(E33/3),$AP$14,E33)) | AQ33: =IF($D33="","",IF(ISERR(F33/3),$AP$14,F33)) | AR33: =IF($D33="","",IF(ISERR(G33/3),$AP$14,G33)) | AS33: =IF($D33="","",IF(ISERR(H33/3),$AP$14,H33)) | AT33: =IF($D33="","",IF(ISERR(I33/3),$AP$14,I33)) | AU33: =IF($D33="","",IF(ISERR(J33/3),$AP$14,J33)) | AV33: =IF($D33="","",IF(ISERR(K33/3),$AP$14,K33)) | AW33: =IF($D33="","",IF(ISERR(L33/3),$AP$14,L33)) | ... BA33: =IF($D33="","",IF(ISERR(P33/3),$AP$14,P33)) | BB33: =IF(Q33="","",Q33) | BC33: =IF(R33="","",R33) | BD33: =IF($D33="","",IF(ISERR(S33/3),$AP$14,S33)) | BE33: =IF($D33="","",IF(ISERR(T33/3),$AP$14,T33)) | BF33: =IF($D33="","",IF(U33="","",U33)) | BG33: =IF($D33="","",IF(V33="","",V33)) | BH33: =IF($D33="","",IF(W33="","",W33)) | BI33: =IF($D33="","",IF(ISERR(X33/3),$AP$14,X33)) | BJ33: =IF($D33="","",IF(ISERR(Y33/3),$AP$14,Y33)) | BK33: =IF($D33="","",IF(ISERR(Z33/3),$AP$14,Z33)) | BL33: =IF($D33="","",IF(AA33="","",AA33))
