Workbook
Name a: #REF!
Name aa: #REF!
Name b: #REF!
Name DDDD: #REF!
Name ee: #REF!
Name ngf: #REF!

Sheet ProtectSettings
B1: 0.96339053
B2: 45865.416
A6: AllowFilterCheckBox
A7: AllowFormattingCheckBox
A8: AllowColumnFormattingCheckBox | B8: TRUE
A9: AllowRowFormattingCheckBox | B9: TRUE

Sheet גיליון עזר
A1: a | B1: b | C1: c | D1: d | E1: e | F1: f | G1: g | H1: h | I1: i | J1: j | K1: k | L1: l | M1: m | N1: n | O1: o | P1: p | Q1: q | R1: r | S1: s | T1: t | U1: u | V1: v | W1: w | X1: x | Y1: y | Z1: z
B3: הזנות ראשויות
B6: כן | C6: לא
B9: נא הזן הכנסות
D19: 1111

Sheet הדרכה למשתמש
B2: הדרכה למשתמש
B4: תאריך בניית המודל
B5: תאריך עדכון מודל
B7: הערה חשובה: בעת עריכת המודל - חל איסור מוחלט לבצע גזירה והדבקה או העברה של תא ממקום למקום על ידי גרירה.
B9: הוראת שעה/מעבר:
B11: הדרכה להזנת נתונים
B12: צבע התא | C12: מטרת התא | D12: דגש
B13: צהוב | C13: הזנת נתונים | D13: נדרש להזין מידע בהתאם להנחיות מבחן התמיכה, אי הזנה של תא יכולה להביא לידי שגיאה בתוצאות במודל. למעט גיליון "ניוד מופעים לפרפירה" בו אי הזנת נתון במספר הרצות משמעו 0 הרצות.
B14: חום | C14: הצגת מידע | D14: תא שאיננו מיועד להזנה. תא זה מציג מידע עפ"י נוסחה קבועה ואין לשנות אותה.
B15: אדום | C15: התראת שגיאה | D15: קיימת שגיאה בהזנת נתונים באחד מהתאים המיועדים להזנה, נדרש להזין את הנתונים הנדרשים לפני קביעת גובה תמיכה סופי.
B17: את רשימת המוסדות יש להזין בגיליונות השמאליים של הקובץ עם השם "גיליון הזנה" הממוספרים מ-1 עד 60. נדרש להזין את שם המוסד במקום שם הגיליון. במידה והוחלט לא להשתמש בגיליון לאחר כתיבת השם, נדרש לשנות חזרה את שם הגיליון לשם המצוין בתא M3 של כל גיליון. *כל מוסד חייב שיסומן עבורו אם הפעילות שלו תואמת את פעילות התקנה.
B33: ניהול גרסאות
B34: מספר גרסה | C34: תאריך עדכון גרסה | D34: תאריך גרסה של מבחן תמיכה | E34: התאמות נוספות של מבחן תמיכה
B35: 1

Sheet פרמטרים
B2: מרכזי עדות
B3: שנת תקציב | C3: 2025
B4: גובה תמיכה | C4: 15000000
B5: גובה תמיכה בשנה קודמת | C5: 12209942
B6: תחילת תקופת ההערכה | C6: =INDEX('הוראת שעה'!$B$5:$B$18,MATCH($C$3,'הוראת שעה'!$A$5:$A$18,0)) -> 44835
B7: סיום תקופת הערכה | C7: =INDEX('הוראת שעה'!$C$5:$C$18,MATCH($C$3,'הוראת שעה'!$A$5:$A$18,0)) -> 45199
D8: מדד בסיס | G8: 132.77863
D9: מדד חדש | G9: 143.13206
B10: משקולות
B11: פרמטר | C11: משקל | D11: 2016
B12: ארועים | C12: 0.55 | D12: 0.55
B13: תערוכות | C13: 0.08 | D13: 0.08
B14: אתר אינטרנט | C14: 0.1 | D14: 0.1
B15: הוצאה לאור של עלונים | C15: 0.06 | D15: 0.06
B16: הוצאה לאור של ספרי עיון | C16: 0.11 | D16: 0.11
B17: הכנסות עצמיות | C17: 0.05 | D17: 0.05
B18: תיעוד ושימור | C18: 0.05 | D18: 0.05
B20: תנאי סף
B21: פרמטר | C21: משקל | D21: תנאי רלוונטי רק למוסדות שהתקציב השנתי ששימש לפעילות בכל תחומי מורשת נמוך מ:
B22: אחוז ההוצאות ששימשו לפעילות של מרכזי עדות ישראל מתוך סך ההוצאות הכספיות המוכחות | C22: 0.6 | D22: =200000*G9/G8 -> 215595.02
B23: ='ריכוז נתונים כללים'!H15 -> סך הכנסות (תקציב שנתי) בתחום מרכזי עדות ישראל (₪) | C23: =100000*G9/G8 -> 107797.51
B24: מספר האירועים שהמוסד מקיים עולה על: | C24: 1 | E24: ='גיליון עזר'!B6 -> כן | F24: ='גיליון עזר'!C6 -> לא
B25: שנות פעילות של המוסד | C25: 2
B27: ארועים
B28: פרמטר | C28: ניקוד
B29: כינוס | C29: 1
B30: הרצאה | C30: 1.5
B31: יום עיון | C31: 3.5
B32: הפקה מורכבת | C32: 4
B33: הפקה מורכבת מקורית | C33: 5
B34: ארוע רב משתתפים | C34: 6
B35: מקדם הכפלה עבור יום עיון או הרצאה שנערכו על ידי מרצה בעל תואר שלישי בתחום בו ניתנה הפעילות | C35: 1.1
B36: ניקוד עבור הפקה שהיא קופרודוקציה: | C36: 0.5
B38: תערוכות | D38: ניקוד מקסימלי
B39: ניקוד עבור תערוכה קבועה | C39: 2 | D39: אין הגבלה
B40: ניקוד עבור תערוכה מתחלפת | C40: 1 | D40: 3
B41: מספר הפריטים המוצגים בתערוכה המזכים בנקודה: | C41: 10
B42: מספר נקודות מקסימאלי לפריטים | C42: 18
B43: מספר נקודות מקסימאלי לחודשים | C43: 3
B44: תערוכה גדולה מוגדרת כאשר:
B45: גודל מרכז הפעילות (במ"ר) | C45: 180
B46: מספר פריטים | C46: 180
B47: משך זמן (בחודשים) | C47: 3
B48: מקדם ניקוד לתערוכה גדולה: | C48: 1.1
B49: ניקוד מקסימאלי לגוף עבור סעיף זה: | C49: 0.05 | D49: 5% ב- 2016
B51: אתר אינטרנט
B52: מספר דפים סטטים באתר, גדול מ- | C52: ניקוד
B53: 1 | C53: 3
B54: 20 | C54: 4
B55: 50 | C55: 5
B56: ניקוד מקסימאלי לגוף עבור סעיף זה: | C56: 0.05 | D56: 5% ב- 2016
B58: איכות האתר | C58: מקדם הכפלה לאיכות האתר
B59: נאותה | C59: 1
B60: טובה | C60: 1.1
B61: טובה מאוד | C61: 1.2
B64: נגישות לבעלי מוגבלויות
B65: מוסד שמרכז הפעילות נגיש לאנשים עם מוגבלויות, יזכה במספר נקודות: | C65: 2
B68: העסקת בעלי מוגבליות
B69: המוסד יזכה בנקודה, עבור כל שכיר שהוא אדם בעל מוגבלות (כמשמעו בחוק), ובלבד שסך המשרות הנ"ל לא יפחת מ- | C69: 2
B72: עלונים
B73: פרמטר | C73: משקל
B74: תדירות הופעת העלון | C74: 0.3
B75: מספר עמודי תוכן | C75: 0.3
B76: היקף מוכח של תפוצת העלון | C76: 0.4
B79: תדירות הוצאת העלון | C79: ניקוד
B80: אחד בשנה | C80: 4
B81: שניים בשנה | C81: 8
B82: שלוש בשנה | C82: 12
B83: מעל 4 בשנה | C83: 16
B86: מספר העמודים בעלון מעל: | C86: ניקוד
B87: 12 | C87: 5
B88: 30 | C88: 10
B89: 60 | C89: 15
B91: מוסד שהוציא לאור גרסה מקוונת של עלון, יוכפל הניקוד שלו במקדם: | C91: 1.1
B93: ניקוד מקסימאלי עבור היקף מוכח של תפוצת העלון | C93: 60
B96: ספרי עיון
B97: מספר העמודים בספר העיון גדול מ: | C97: ניקוד
B98: 150 | C98: 1
B99: 300 | C99: 2
B101: תיעוד ושימור החומר הארכיונאי
B102: היקף החומר הארכיוני בתחום המורשת אשר ברשותו הועלה לאתר האינטרנט של המוסד: | C102: ניקוד
B103: מעל 20% | C103: 1
B104: מעל 50% | C104: 2
B107: עמידה בתוכנית העבודה
B108: סטייה מתוכנית העבודה בשיעור של עד: | C108: ניקוד
B109: 0.15 | C109: 1
B110: 0.1 | C110: 2
B111: 0.05 | C111: 3
B114: גרעון תקציבי א'
B115: מוסד שהגרעון שלו בשנה הקודמת היה קטן מ: | C115: 0
B116: ובנוסף, הגרעון המצטבר שלו יורד מ: | C116: 0.2
B117: ובנוסף התמיכה של המשרד בשנה קודמת עולה על: | C117: 500000
B118: ניקודו היחסי יוגדל בשיעור של: | C118: 0.03
B121: גרעון תקציבי ב'
B122: מוסד שהגרעון שלו בשנה הקודמת היה גדול מ: | C122: 0.15
B123: או, הגרעון המצטבר שלו עולה על: | C123: 0.25
B124: לא זכאי לתמיכה כל עוד לא הציג תוכנית הבראה
B127: הוראת מעבר
B128: לא יפחת שיעור התמיכה במוסד בשנת | C128: ביחס לשנת קודמת | D128: 2016
B129: =C3 -> 2025 | C129: 0 | D129: 0

Sheet הוראת שעה
D3: לא נתמך ב-2017
B4: תחילת שנת ההערכה | C4: סוף שנת ההערכה | D4: תחילת שנת ההערכה | E4: סוף שנת ההערכה
A5: 2017 | B5: =DATE(A5-2,10,1) -> 42278 | C5: =DATE(A5-1,9,30) -> 42643 | D5: =DATE($A5-2,1,1) -> 42005 | E5: =DATE($A5-2,12,31) -> 42369
A6: 2018 | B6: =DATE(2015,10,1) -> 42278 | C6: =DATE(2016,9,30) -> 42643 | D6: =DATE($A6-2,1,1) -> 42370 | E6: =DATE($A6-2,12,31) -> 42735
A7: 2019 | B7: =DATE(2016,10,1) -> 42644 | C7: =DATE(2017,12,31) -> 43100 | D7: =DATE($A7-2,1,1) -> 42736 | E7: =DATE($A7-2,12,31) -> 43100
A8: 2020 | B8: =DATE(A8-2,1,1) -> 43101 | C8: =DATE(A8-2,12,31) -> 43465 | D8: =DATE($A8-2,1,1) -> 43101 | E8: =DATE($A8-2,12,31) -> 43465
A9: 2021 | B9: =DATE(A9-3,1,1) -> 43101 | C9: =DATE(A9-3,12,31) -> 43465 | D9: =DATE($A9-3,1,1) -> 43101 | E9: =DATE($A9-3,12,31) -> 43465
A10: 2022 | B10: =DATE(A10-3,1,1) -> 43466 | C10: =DATE(A10-3,12,31) -> 43830 | D10: =DATE($A10-3,1,1) -> 43466 | E10: =DATE($A10-3,12,31) -> 43830
A11: 2023 | B11: =DATE(A11-3,1,1) -> 43831 | C11: =DATE(A11-3,12,31) -> 44196 | D11: =DATE($A11-3,1,1) -> 43831 | E11: =DATE($A11-3,12,31) -> 44196
A12: 2024 | B12: =DATE(A12-3,1,1) -> 44197 | C12: =DATE(A12-3,12,31) -> 44561 | D12: =DATE($A12-3,1,1) -> 44197 | E12: =DATE($A12-3,12,31) -> 44561
A13: 2025 | B13: 44835 | C13: 45199 | D13: =DATE($A13-3,1,1) -> 44562 | E13: =DATE($A13-3,12,31) -> 44926
A14: 2026 | B14: =DATE(A14-3,1,1) -> 44927 | C14: =DATE(A14-3,12,31) -> 45291 | D14: =DATE($A14-3,1,1) -> 44927 | E14: =DATE($A14-3,12,31) -> 45291
A15: 2027 | B15: =DATE(A15-3,1,1) -> 45292 | C15: =DATE(A15-3,12,31) -> 45657 | D15: =DATE($A15-3,1,1) -> 45292 | E15: =DATE($A15-3,12,31) -> 45657
A16: 2028 | B16: =DATE(A16-3,1,1) -> 45658 | C16: =DATE(A16-3,12,31) -> 46022 | D16: =DATE($A16-3,1,1) -> 45658 | E16: =DATE($A16-3,12,31) -> 46022
A17: 2029 | B17: =DATE(A17-3,1,1) -> 46023 | C17: =DATE(A17-3,12,31) -> 46387 | D17: =DATE($A17-3,1,1) -> 46023 | E17: =DATE($A17-3,12,31) -> 46387
A18: 2030 | B18: =DATE(A18-3,1,1) -> 46388 | C18: =DATE(A18-3,12,31) -> 46752 | D18: =DATE($A18-3,1,1) -> 46388 | E18: =DATE($A18-3,12,31) -> 46752

Sheet ריכוז נתונים
AP14: הזנה שגויה
C15: מספר סידורי | D15: שם המוסד | E15: ארועים | O15: תערוכות | P15: אתר אינטרנט | R15: עלונים | X15: ספרי עיון | Y15: הכנסות עצמיות | AA15: =פרמטרים!B101 -> תיעוד ושימור החומר הארכיונאי | AI15: איכות אתר האינטרנט | AP15: =E15 -> ארועים | BC15: =R15 -> עלונים | BI15: =X15 -> ספרי עיון
E16: מספר כינוסים | F16: מספר הרצאות | G16: מתוכם מספר הרצאות שנערכו על ידי מישהו בעל תואר שלישי בתחום בו ניתנה הפעילות: | H16: מספר ימי עיון | I16: מתוכם מספר ימי עיון שנערכו על ידי מישהו בעל תואר שלישי בתחום בו ניתנה הפעילות: | J16: מספר הפקות מורכבות | K16: מתוכם הפקות מורכבות שהם קופרודוקציה | L16: מספר הפקות מורכבות מקוריות | M16: מתוכם הפקות מורכבות מקוריות שהם קופרודוקציה | N16: ארוע רב משתתפים | O16: ניקוד על תערוכות | P16: מספר דפים סטטיים | Q16: איכות האתר | R16: תדירות הוצאת העלון | S16: מספר עמודי התוכן | T16: היקף מוכח של תפוצה | U16: האם יש גרסה אינטרנטית | V16: האם מופץ ל-500 איש לפחות? | W16: ='מרכז מורשת בבל'!M21 -> המוסד הגיש בקשה לקבלת תמיכה במוסדות ציבור- כתבי עת | X16: ניקוד ספרי עיון | Y16: ='מרכז מורשת בבל'!I17 -> ההכנסות העצמיות של המוסד בשנת ההערכה (₪) | Z16: ='מרכז מורשת בבל'!I18 -> סך ההכנסות של המוסד בשנת ההערכה (₪) | AA16: =פרמטרים!B102 -> היקף החומר הארכיוני בתחום המורשת אשר ברשותו הועלה לאתר האינטרנט של המוסד: | AC16: {=TRANSPOSE(פרמטרים!B29:B32)} -> כינוס | AD16: הרצאה | AE16: יום עיון | AF16: הפקה מורכבת | AG16: כן | AH16: לא | AI16: {=TRANSPOSE(פרמטרים!B59:B61)} -> נאותה | AJ16: טובה | AK16: טובה מאוד | AL16: {=TRANSPOSE(פרמטרים!B80:B83)} -> אחד בשנה | AM16: שניים בשנה | AN16: שלוש בשנה | AO16: מעל 4 בשנה | AP16: =E16 -> מספר כינוסים | AQ16: =F16 -> מספר הרצאות | AR16: =G16 -> מתוכם מספר הרצאות שנערכו על ידי מישהו בעל תואר שלישי בתחום בו ניתנה הפעילות: | AS16: =H16 -> מספר ימי עיון | AT16: =I16 -> מתוכם מספר ימי עיון שנערכו על ידי מישהו בעל תואר שלישי בתחום בו ניתנה הפעילות: | AU16: =J16 -> מספר הפקות מורכבות | AV16: =K16 -> מתוכם הפקות מורכבות שהם קופרודוקציה | AW16: =L16 -> מספר הפקות מורכבות מקוריות | ... BL16: =AA16 -> היקף החומר הארכיוני בתחום המורשת אשר ברשותו הועלה לאתר האינטרנט של המוסד:
A17: =IF(AND(LEFT(B17,11)<>"גיליון הזנה",INDIRECT("'"&$B17&"'!"&'גיליון עזר'!$I$1&ROW('מרכז מורשת בבל'!$I$3))=""),"חסרה הזנה","") | B17: ='מרכז מורשת בבל'!D3 -> מרכז מורשת בבל | C17: 1 | D17: =IF(OR(LEFT(B17,11)="גיליון הזנה",INDIRECT("'"&$B17&"'!"&'גיליון עזר'!$I$1&ROW('מרכז מורשת בבל'!$I$3))=0),"",B17) -> מרכז מורשת בבל | E17: {=IF($D17="","",TRANSPOSE(INDIRECT("'"&$D17&"'!"&'גיליון עזר'!$D$1&ROW('מרכז מורשת בבל'!$D$16)):INDIRECT("'"&$D17&"'!"&'גיליון עזר'!$D$1&ROW('מרכז מורשת בבל'!$D$25))))} -> 11 | F17: 258 | G17: 9 | H17: 1 | I17: 1 | J17: 7 | K17: 0 | L17: 7 | M17: 0 | N17: 0 | O17: =IF($D17="","",INDIRECT("'"&$D17&"'!"&'גיליון עזר'!$F$1&ROW('מרכז מורשת בבל'!$B$78))) -> 62 | P17: {=IF($D17="","",TRANSPOSE(INDIRECT("'"&$D17&"'!"&'גיליון עזר'!$G$1&ROW('מרכז מורשת בבל'!$D$16)):INDIRECT("'"&$D17&"'!"&'גיליון עזר'!$G$1&ROW('מרכז מורשת בבל'!$D$17))))} -> 850 | Q17: טובה מאוד | R17: {=IF($D17="","",TRANSPOSE(INDIRECT("'"&$D17&"'!"&'גיליון עזר'!$N$1&ROW('מרכז מורשת בבל'!$D$16)):INDIRECT("'"&$D17&"'!"&'גיליון עזר'!$N$1&ROW('מרכז מורשת בבל'!$D$20))))} -> 0 | S17: 0 | T17: 0 | U17: 0 | V17: 0 | W17: =IF($D17="","",INDIRECT("'"&$D17&"'!"&'גיליון עזר'!$N$1&ROW('מרכז מורשת בבל'!$J$21))) -> 0 | X17: =IF($D17="","",INDIRECT("'"&$D17&"'!"&'גיליון עזר'!$L$1&ROW('מרכז מורשת בבל'!$J$78))) -> 1 | Y17: {=IF($D17="","",TRANSPOSE(INDIRECT("'"&$D17&"'!"&'גיליון עזר'!$J$1&ROW('מרכז מורשת בבל'!$D$17)):INDIRECT("'"&$D17&"'!"&'גיליון עזר'!$J$1&ROW('מרכז מורשת בבל'!$D$18))))} -> 2907338 | Z17: 3953224 | AA17: =IF($D17="","",IF(INDIRECT("'"&$D17&"'!"&'גיליון עזר'!$J$1&ROW('מרכז מורשת בבל'!$D$21))="","",INDIRECT("'"&$D17&"'!"&'גיליון עזר'!$J$1&ROW('מרכז מורשת בבל'!$D$21)))) | AC17: =IF($D17="","",AC$16) -> כינוס | AD17: =IF($D17="","",AD$16) -> הרצאה | AE17: =IF($D17="","",AE$16) -> יום עיון | AF17: =IF($D17="","",AF$16) -> הפקה מורכבת | AG17: =IF($D17="","",AG$16) -> כן | AH17: =IF($D17="","",AH$16) -> לא | AI17: =IF($D17="","",AI$16) -> נאותה | AJ17: =IF($D17="","",AJ$16) -> טובה | ... AO17: =IF($D17="","",AO$16) -> מעל 4 בשנה | AP17: =IF($D17="","",IF(ISERR(E17/3),$AP$14,E17)) -> 11 | AQ17: =IF($D17="","",IF(ISERR(F17/3),$AP$14,F17)) -> 258 | AR17: =IF($D17="","",IF(ISERR(G17/3),$AP$14,G17)) -> 9 | AS17: =IF($D17="","",IF(ISERR(H17/3),$AP$14,H17)) -> 1 | AT17: =IF($D17="","",IF(ISERR(I17/3),$AP$14,I17)) -> 1 | AU17: =IF($D17="","",IF(ISERR(J17/3),$AP$14,J17)) -> 7 | AV17: =IF($D17="","",IF(ISERR(K17/3),$AP$14,K17)) -> 0 | AW17: =IF($D17="","",IF(ISERR(L17/3),$AP$14,L17)) -> 7 | ... BA17: =IF($D17="","",IF(ISERR(P17/3),$AP$14,P17)) -> 850 | BB17: =IF(Q17="","",Q17) -> טובה מאוד | BC17: =IF(R17="","",R17) -> 0 | BD17: =IF($D17="","",IF(ISERR(S17/3),$AP$14,S17)) -> 0 | BE17: =IF($D17="","",IF(ISERR(T17/3),$AP$14,T17)) -> 0 | BF17: =IF($D17="","",IF(U17="","",U17)) -> 0 | BG17: =IF($D17="","",IF(V17="","",V17)) -> 0 | BH17: =IF($D17="","",IF(W17="","",W17)) -> 0 | BI17: =IF($D17="","",IF(ISERR(X17/3),$AP$14,X17)) -> 1 | BJ17: =IF($D17="","",IF(ISERR(Y17/3),$AP$14,Y17)) -> 2907338 | BK17: =IF($D17="","",IF(ISERR(Z17/3),$AP$14,Z17)) -> 3953224 | BL17: =IF($D17="","",IF(AA17="","",AA17))
A18: =IF(AND(LEFT(B18,11)<>"גיליון הזנה",INDIRECT("'"&$B18&"'!"&'גיליון עזר'!$I$1&ROW('מרכז מורשת בבל'!$I$3))=""),"חסרה הזנה","") | B18: ='מורשת יהודי צפון אפריקה'!$D$3 -> מורשת יהודי צפון אפריקה | C18: 2 | D18: =IF(OR(LEFT(B18,11)="גיליון הזנה",INDIRECT("'"&$B18&"'!"&'גיליון עזר'!$I$1&ROW('מרכז מורשת בבל'!$I$3))=0),"",B18) -> מורשת יהודי צפון אפריקה | E18: {=IF($D18="","",TRANSPOSE(INDIRECT("'"&$D18&"'!"&'גיליון עזר'!$D$1&ROW('מרכז מורשת בבל'!$D$16)):INDIRECT("'"&$D18&"'!"&'גיליון עזר'!$D$1&ROW('מרכז מורשת בבל'!$D$25))))} -> 0 | F18: 3 | G18: 1 | H18: 11 | I18: 6 | J18: 2 | K18: 0 | L18: 2 | M18: 0 | N18: 2 | O18: =IF($D18="","",INDIRECT("'"&$D18&"'!"&'גיליון עזר'!$F$1&ROW('מרכז מורשת בבל'!$B$78))) -> 300 | P18: {=IF($D18="","",TRANSPOSE(INDIRECT("'"&$D18&"'!"&'גיליון עזר'!$G$1&ROW('מרכז מורשת בבל'!$D$16)):INDIRECT("'"&$D18&"'!"&'גיליון עזר'!$G$1&ROW('מרכז מורשת בבל'!$D$17))))} -> 30 | Q18: טובה | R18: {=IF($D18="","",TRANSPOSE(INDIRECT("'"&$D18&"'!"&'גיליון עזר'!$N$1&ROW('מרכז מורשת בבל'!$D$16)):INDIRECT("'"&$D18&"'!"&'גיליון עזר'!$N$1&ROW('מרכז מורשת בבל'!$D$20))))} -> 0 | S18: 0 | T18: 0 | U18: 0 | V18: 0 | W18: =IF($D18="","",INDIRECT("'"&$D18&"'!"&'גיליון עזר'!$N$1&ROW('מרכז מורשת בבל'!$J$21))) -> 0 | X18: =IF($D18="","",INDIRECT("'"&$D18&"'!"&'גיליון עזר'!$L$1&ROW('מרכז מורשת בבל'!$J$78))) -> 0 | Y18: {=IF($D18="","",TRANSPOSE(INDIRECT("'"&$D18&"'!"&'גיליון עזר'!$J$1&ROW('מרכז מורשת בבל'!$D$17)):INDIRECT("'"&$D18&"'!"&'גיליון עזר'!$J$1&ROW('מרכז מורשת בבל'!$D$18))))} -> 290570 | Z18: 610299 | AA18: =IF($D18="","",IF(INDIRECT("'"&$D18&"'!"&'גיליון עזר'!$J$1&ROW('מרכז מורשת בבל'!$D$21))="","",INDIRECT("'"&$D18&"'!"&'גיליון עזר'!$J$1&ROW('מרכז מורשת בבל'!$D$21)))) -> מעל 20% | AC18: =IF($D18="","",AC$16) -> כינוס | AD18: =IF($D18="","",AD$16) -> הרצאה | AE18: =IF($D18="","",AE$16) -> יום עיון | AF18: =IF($D18="","",AF$16) -> הפקה מורכבת | AG18: =IF($D18="","",AG$16) -> כן | AH18: =IF($D18="","",AH$16) -> לא | AI18: =IF($D18="","",AI$16) -> נאותה | AJ18: =IF($D18="","",AJ$16) -> טובה | ... AO18: =IF($D18="","",AO$16) -> מעל 4 בשנה | AP18: =IF($D18="","",IF(ISERR(E18/3),$AP$14,E18)) -> 0 | AQ18: =IF($D18="","",IF(ISERR(F18/3),$AP$14,F18)) -> 3 | AR18: =IF($D18="","",IF(ISERR(G18/3),$AP$14,G18)) -> 1 | AS18: =IF($D18="","",IF(ISERR(H18/3),$AP$14,H18)) -> 11 | AT18: =IF($D18="","",IF(ISERR(I18/3),$AP$14,I18)) -> 6 | AU18: =IF($D18="","",IF(ISERR(J18/3),$AP$14,J18)) -> 2 | AV18: =IF($D18="","",IF(ISERR(K18/3),$AP$14,K18)) -> 0 | AW18: =IF($D18="","",IF(ISERR(L18/3),$AP$14,L18)) -> 2 | ... BA18: =IF($D18="","",IF(ISERR(P18/3),$AP$14,P18)) -> 30 | BB18: =IF(Q18="","",Q18) -> טובה | BC18: =IF(R18="","",R18) -> 0 | BD18: =IF($D18="","",IF(ISERR(S18/3),$AP$14,S18)) -> 0 | BE18: =IF($D18="","",IF(ISERR(T18/3),$AP$14,T18)) -> 0 | BF18: =IF($D18="","",IF(U18="","",U18)) -> 0 | BG18: =IF($D18="","",IF(V18="","",V18)) -> 0 | BH18: =IF($D18="","",IF(W18="","",W18)) -> 0 | BI18: =IF($D18="","",IF(ISERR(X18/3),$AP$14,X18)) -> 0 | BJ18: =IF($D18="","",IF(ISERR(Y18/3),$AP$14,Y18)) -> 290570 | BK18: =IF($D18="","",IF(ISERR(Z18/3),$AP$14,Z18)) -> 610299 | BL18: =IF($D18="","",IF(AA18="","",AA18)) -> מעל 20%
A19: =IF(AND(LEFT(B19,11)<>"גיליון הזנה",INDIRECT("'"&$B19&"'!"&'גיליון עזר'!$I$1&ROW('מרכז מורשת בבל'!$I$3))=""),"חסרה הזנה","") | B19: ='מורשת יהדות קוצין'!$D$3 -> מורשת יהדות קוצין | C19: 3 | D19: =IF(OR(LEFT(B19,11)="גיליון הזנה",INDIRECT("'"&$B19&"'!"&'גיליון עזר'!$I$1&ROW('מרכז מורשת בבל'!$I$3))=0),"",B19) -> מורשת יהדות קוצין | E19: {=IF($D19="","",TRANSPOSE(INDIRECT("'"&$D19&"'!"&'גיליון עזר'!$D$1&ROW('מרכז מורשת בבל'!$D$16)):INDIRECT("'"&$D19&"'!"&'גיליון עזר'!$D$1&ROW('מרכז מורשת בבל'!$D$25))))} -> 21 | F19: 3 | G19: 1 | H19: 1 | I19: 1 | J19: 3 | K19: 0 | L19: 3 | M19: 0 | N19: 6 | O19: =IF($D19="","",INDIRECT("'"&$D19&"'!"&'גיליון עזר'!$F$1&ROW('מרכז מורשת בבל'!$B$78))) -> 970 | P19: {=IF($D19="","",TRANSPOSE(INDIRECT("'"&$D19&"'!"&'גיליון עזר'!$G$1&ROW('מרכז מורשת בבל'!$D$16)):INDIRECT("'"&$D19&"'!"&'גיליון עזר'!$G$1&ROW('מרכז מורשת בבל'!$D$17))))} -> 109 | Q19: טובה מאוד | R19: {=IF($D19="","",TRANSPOSE(INDIRECT("'"&$D19&"'!"&'גיליון עזר'!$N$1&ROW('מרכז מורשת בבל'!$D$16)):INDIRECT("'"&$D19&"'!"&'גיליון עזר'!$N$1&ROW('מרכז מורשת בבל'!$D$20))))} -> אחד בשנה | S19: 34 | T19: 700 | U19: כן | V19: כן | W19: =IF($D19="","",INDIRECT("'"&$D19&"'!"&'גיליון עזר'!$N$1&ROW('מרכז מורשת בבל'!$J$21))) -> לא | X19: =IF($D19="","",INDIRECT("'"&$D19&"'!"&'גיליון עזר'!$L$1&ROW('מרכז מורשת בבל'!$J$78))) -> 1 | Y19: {=IF($D19="","",TRANSPOSE(INDIRECT("'"&$D19&"'!"&'גיליון עזר'!$J$1&ROW('מרכז מורשת בבל'!$D$17)):INDIRECT("'"&$D19&"'!"&'גיליון עזר'!$J$1&ROW('מרכז מורשת בבל'!$D$18))))} -> 311889 | Z19: 580402 | AA19: =IF($D19="","",IF(INDIRECT("'"&$D19&"'!"&'גיליון עזר'!$J$1&ROW('מרכז מורשת בבל'!$D$21))="","",INDIRECT("'"&$D19&"'!"&'גיליון עזר'!$J$1&ROW('מרכז מורשת בבל'!$D$21)))) -> מעל 50% | AC19: =IF($D19="","",AC$16) -> כינוס | AD19: =IF($D19="","",AD$16) -> הרצאה | AE19: =IF($D19="","",AE$16) -> יום עיון | AF19: =IF($D19="","",AF$16) -> הפקה מורכבת | AG19: =IF($D19="","",AG$16) -> כן | AH19: =IF($D19="","",AH$16) -> לא | AI19: =IF($D19="","",AI$16) -> נאותה | AJ19: =IF($D19="","",AJ$16) -> טובה | ... AO19: =IF($D19="","",AO$16) -> מעל 4 בשנה | AP19: =IF($D19="","",IF(ISERR(E19/3),$AP$14,E19)) -> 21 | AQ19: =IF($D19="","",IF(ISERR(F19/3),$AP$14,F19)) -> 3 | AR19: =IF($D19="","",IF(ISERR(G19/3),$AP$14,G19)) -> 1 | AS19: =IF($D19="","",IF(ISERR(H19/3),$AP$14,H19)) -> 1 | AT19: =IF($D19="","",IF(ISERR(I19/3),$AP$14,I19)) -> 1 | AU19: =IF($D19="","",IF(ISERR(J19/3),$AP$14,J19)) -> 3 | AV19: =IF($D19="","",IF(ISERR(K19/3),$AP$14,K19)) -> 0 | AW19: =IF($D19="","",IF(ISERR(L19/3),$AP$14,L19)) -> 3 | ... BA19: =IF($D19="","",IF(ISERR(P19/3),$AP$14,P19)) -> 109 | BB19: =IF(Q19="","",Q19) -> טובה מאוד | BC19: =IF(R19="","",R19) -> אחד בשנה | BD19: =IF($D19="","",IF(ISERR(S19/3),$AP$14,S19)) -> 34 | BE19: =IF($D19="","",IF(ISERR(T19/3),$AP$14,T19)) -> 700 | BF19: =IF($D19="","",IF(U19="","",U19)) -> כן | BG19: =IF($D19="","",IF(V19="","",V19)) -> כן | BH19: =IF($D19="","",IF(W19="","",W19)) -> לא | BI19: =IF($D19="","",IF(ISERR(X19/3),$AP$14,X19)) -> 1 | BJ19: =IF($D19="","",IF(ISERR(Y19/3),$AP$14,Y19)) -> 311889 | BK19: =IF($D19="","",IF(ISERR(Z19/3),$AP$14,Z19)) -> 580402 | BL19: =IF($D19="","",IF(AA19="","",AA19)) -> מעל 50%
A20: =IF(AND(LEFT(B20,11)<>"גיליון הזנה",INDIRECT("'"&$B20&"'!"&'גיליון עזר'!$I$1&ROW('מרכז מורשת בבל'!$I$3))=""),"חסרה הזנה","") | B20: ='הפדרציה העולמית של יהדות תוניס'!$D$3 -> הפדרציה העולמית של יהדות תוניס | C20: 4 | D20: =IF(OR(LEFT(B20,11)="גיליון הזנה",INDIRECT("'"&$B20&"'!"&'גיליון עזר'!$I$1&ROW('מרכז מורשת בבל'!$I$3))=0),"",B20) -> הפדרציה העולמית של יהדות תוניס | E20: {=IF($D20="","",TRANSPOSE(INDIRECT("'"&$D20&"'!"&'גיליון עזר'!$D$1&ROW('מרכז מורשת בבל'!$D$16)):INDIRECT("'"&$D20&"'!"&'גיליון עזר'!$D$1&ROW('מרכז מורשת בבל'!$D$25))))} -> 0 | F20: 0 | G20: 0 | H20: 0 | I20: 0 | J20: 0 | K20: 0 | L20: 0 | M20: 0 | N20: 0 | O20: =IF($D20="","",INDIRECT("'"&$D20&"'!"&'גיליון עזר'!$F$1&ROW('מרכז מורשת בבל'!$B$78))) -> 0 | P20: {=IF($D20="","",TRANSPOSE(INDIRECT("'"&$D20&"'!"&'גיליון עזר'!$G$1&ROW('מרכז מורשת בבל'!$D$16)):INDIRECT("'"&$D20&"'!"&'גיליון עזר'!$G$1&ROW('מרכז מורשת בבל'!$D$17))))} -> 0 | Q20: 0 | R20: {=IF($D20="","",TRANSPOSE(INDIRECT("'"&$D20&"'!"&'גיליון עזר'!$N$1&ROW('מרכז מורשת בבל'!$D$16)):INDIRECT("'"&$D20&"'!"&'גיליון עזר'!$N$1&ROW('מרכז מורשת בבל'!$D$20))))} -> 0 | S20: 0 | T20: 0 | U20: 0 | V20: 0 | W20: =IF($D20="","",INDIRECT("'"&$D20&"'!"&'גיליון עזר'!$N$1&ROW('מרכז מורשת בבל'!$J$21))) -> 0 | X20: =IF($D20="","",INDIRECT("'"&$D20&"'!"&'גיליון עזר'!$L$1&ROW('מרכז מורשת בבל'!$J$78))) -> 0 | Y20: {=IF($D20="","",TRANSPOSE(INDIRECT("'"&$D20&"'!"&'גיליון עזר'!$J$1&ROW('מרכז מורשת בבל'!$D$17)):INDIRECT("'"&$D20&"'!"&'גיליון עזר'!$J$1&ROW('מרכז מורשת בבל'!$D$18))))} -> 0 | Z20: 0 | AA20: =IF($D20="","",IF(INDIRECT("'"&$D20&"'!"&'גיליון עזר'!$J$1&ROW('מרכז מורשת בבל'!$D$21))="","",INDIRECT("'"&$D20&"'!"&'גיליון עזר'!$J$1&ROW('מרכז מורשת בבל'!$D$21)))) | AC20: =IF($D20="","",AC$16) -> כינוס | AD20: =IF($D20="","",AD$16) -> הרצאה | AE20: =IF($D20="","",AE$16) -> יום עיון | AF20: =IF($D20="","",AF$16) -> הפקה מורכבת | AG20: =IF($D20="","",AG$16) -> כן | AH20: =IF($D20="","",AH$16) -> לא | AI20: =IF($D20="","",AI$16) -> נאותה | AJ20: =IF($D20="","",AJ$16) -> טובה | ... AO20: =IF($D20="","",AO$16) -> מעל 4 בשנה | AP20: =IF($D20="","",IF(ISERR(E20/3),$AP$14,E20)) -> 0 | AQ20: =IF($D20="","",IF(ISERR(F20/3),$AP$14,F20)) -> 0 | AR20: =IF($D20="","",IF(ISERR(G20/3),$AP$14,G20)) -> 0 | AS20: =IF($D20="","",IF(ISERR(H20/3),$AP$14,H20)) -> 0 | AT20: =IF($D20="","",IF(ISERR(I20/3),$AP$14,I20)) -> 0 | AU20: =IF($D20="","",IF(ISERR(J20/3),$AP$14,J20)) -> 0 | AV20: =IF($D20="","",IF(ISERR(K20/3),$AP$14,K20)) -> 0 | AW20: =IF($D20="","",IF(ISERR(L20/3),$AP$14,L20)) -> 0 | ... BA20: =IF($D20="","",IF(ISERR(P20/3),$AP$14,P20)) -> 0 | BB20: =IF(Q20="","",Q20) -> 0 | BC20: =IF(R20="","",R20) -> 0 | BD20: =IF($D20="","",IF(ISERR(S20/3),$AP$14,S20)) -> 0 | BE20: =IF($D20="","",IF(ISERR(T20/3),$AP$14,T20)) -> 0 | BF20: =IF($D20="","",IF(U20="","",U20)) -> 0 | BG20: =IF($D20="","",IF(V20="","",V20)) -> 0 | BH20: =IF($D20="","",IF(W20="","",W20)) -> 0 | BI20: =IF($D20="","",IF(ISERR(X20/3),$AP$14,X20)) -> 0 | BJ20: =IF($D20="","",IF(ISERR(Y20/3),$AP$14,Y20)) -> 0 | BK20: =IF($D20="","",IF(ISERR(Z20/3),$AP$14,Z20)) -> 0 | BL20: =IF($D20="","",IF(AA20="","",AA20))
A21: =IF(AND(LEFT(B21,11)<>"גיליון הזנה",INDIRECT("'"&$B21&"'!"&'גיליון עזר'!$I$1&ROW('מרכז מורשת בבל'!$I$3))=""),"חסרה הזנה","") | B21: ='התאחדות עולי מצרים'!$D$3 -> התאחדות עולי מצרים | C21: 5 | D21: =IF(OR(LEFT(B21,11)="גיליון הזנה",INDIRECT("'"&$B21&"'!"&'גיליון עזר'!$I$1&ROW('מרכז מורשת בבל'!$I$3))=0),"",B21) -> התאחדות עולי מצרים | E21: {=IF($D21="","",TRANSPOSE(INDIRECT("'"&$D21&"'!"&'גיליון עזר'!$D$1&ROW('מרכז מורשת בבל'!$D$16)):INDIRECT("'"&$D21&"'!"&'גיליון עזר'!$D$1&ROW('מרכז מורשת בבל'!$D$25))))} -> 0 | F21: 9 | G21: 2 | H21: 3 | I21: 2 | J21: 6 | K21: 2 | L21: 6 | M21: 2 | N21: 0 | O21: =IF($D21="","",INDIRECT("'"&$D21&"'!"&'גיליון עזר'!$F$1&ROW('מרכז מורשת בבל'!$B$78))) -> 2 | P21: {=IF($D21="","",TRANSPOSE(INDIRECT("'"&$D21&"'!"&'גיליון עזר'!$G$1&ROW('מרכז מורשת בבל'!$D$16)):INDIRECT("'"&$D21&"'!"&'גיליון עזר'!$G$1&ROW('מרכז מורשת בבל'!$D$17))))} -> 579 | Q21: טובה מאוד | R21: {=IF($D21="","",TRANSPOSE(INDIRECT("'"&$D21&"'!"&'גיליון עזר'!$N$1&ROW('מרכז מורשת בבל'!$D$16)):INDIRECT("'"&$D21&"'!"&'גיליון עזר'!$N$1&ROW('מרכז מורשת בבל'!$D$20))))} -> 0 | S21: 0 | T21: 0 | U21: 0 | V21: 0 | W21: =IF($D21="","",INDIRECT("'"&$D21&"'!"&'גיליון עזר'!$N$1&ROW('מרכז מורשת בבל'!$J$21))) -> 0 | X21: =IF($D21="","",INDIRECT("'"&$D21&"'!"&'גיליון עזר'!$L$1&ROW('מרכז מורשת בבל'!$J$78))) -> 1 | Y21: {=IF($D21="","",TRANSPOSE(INDIRECT("'"&$D21&"'!"&'גיליון עזר'!$J$1&ROW('מרכז מורשת בבל'!$D$17)):INDIRECT("'"&$D21&"'!"&'גיליון עזר'!$J$1&ROW('מרכז מורשת בבל'!$D$18))))} -> 118163 | Z21: 328163 | AA21: =IF($D21="","",IF(INDIRECT("'"&$D21&"'!"&'גיליון עזר'!$J$1&ROW('מרכז מורשת בבל'!$D$21))="","",INDIRECT("'"&$D21&"'!"&'גיליון עזר'!$J$1&ROW('מרכז מורשת בבל'!$D$21)))) -> מעל 50% | AC21: =IF($D21="","",AC$16) -> כינוס | AD21: =IF($D21="","",AD$16) -> הרצאה | AE21: =IF($D21="","",AE$16) -> יום עיון | AF21: =IF($D21="","",AF$16) -> הפקה מורכבת | AG21: =IF($D21="","",AG$16) -> כן | AH21: =IF($D21="","",AH$16) -> לא | AI21: =IF($D21="","",AI$16) -> נאותה | AJ21: =IF($D21="","",AJ$16) -> טובה | ... AO21: =IF($D21="","",AO$16) -> מעל 4 בשנה | AP21: =IF($D21="","",IF(ISERR(E21/3),$AP$14,E21)) -> 0 | AQ21: =IF($D21="","",IF(ISERR(F21/3),$AP$14,F21)) -> 9 | AR21: =IF($D21="","",IF(ISERR(G21/3),$AP$14,G21)) -> 2 | AS21: =IF($D21="","",IF(ISERR(H21/3),$AP$14,H21)) -> 3 | AT21: =IF($D21="","",IF(ISERR(I21/3),$AP$14,I21)) -> 2 | AU21: =IF($D21="","",IF(ISERR(J21/3),$AP$14,J21)) -> 6 | AV21: =IF($D21="","",IF(ISERR(K21/3),$AP$14,K21)) -> 2 | AW21: =IF($D21="","",IF(ISERR(L21/3),$AP$14,L21)) -> 6 | ... BA21: =IF($D21="","",IF(ISERR(P21/3),$AP$14,P21)) -> 579 | BB21: =IF(Q21="","",Q21) -> טובה מאוד | BC21: =IF(R21="","",R21) -> 0 | BD21: =IF($D21="","",IF(ISERR(S21/3),$AP$14,S21)) -> 0 | BE21: =IF($D21="","",IF(ISERR(T21/3),$AP$14,T21)) -> 0 | BF21: =IF($D21="","",IF(U21="","",U21)) -> 0 | BG21: =IF($D21="","",IF(V21="","",V21)) -> 0 | BH21: =IF($D21="","",IF(W21="","",W21)) -> 0 | BI21: =IF($D21="","",IF(ISERR(X21/3),$AP$14,X21)) -> 1 | BJ21: =IF($D21="","",IF(ISERR(Y21/3),$AP$14,Y21)) -> 118163 | BK21: =IF($D21="","",IF(ISERR(Z21/3),$AP$14,Z21)) -> 328163 | BL21: =IF($D21="","",IF(AA21="","",AA21)) -> מעל 50%
A22: =IF(AND(LEFT(B22,11)<>"גיליון הזנה",INDIRECT("'"&$B22&"'!"&'גיליון עזר'!$I$1&ROW('מרכז מורשת בבל'!$I$3))=""),"חסרה הזנה","") | B22: ='יהודים יוצאי לוב'!$D$3 -> יהודים יוצאי לוב | C22: 6 | D22: =IF(OR(LEFT(B22,11)="גיליון הזנה",INDIRECT("'"&$B22&"'!"&'גיליון עזר'!$I$1&ROW('מרכז מורשת בבל'!$I$3))=0),"",B22) -> יהודים יוצאי לוב | E22: {=IF($D22="","",TRANSPOSE(INDIRECT("'"&$D22&"'!"&'גיליון עזר'!$D$1&ROW('מרכז מורשת בבל'!$D$16)):INDIRECT("'"&$D22&"'!"&'גיליון עזר'!$D$1&ROW('מרכז מורשת בבל'!$D$25))))} -> 11 | F22: 2 | G22: 2 | H22: 0 | I22: 0 | J22: 1 | K22: 0 | L22: 1 | M22: 0 | N22: 2 | O22: =IF($D22="","",INDIRECT("'"&$D22&"'!"&'גיליון עזר'!$F$1&ROW('מרכז מורשת בבל'!$B$78))) -> 0 | P22: {=IF($D22="","",TRANSPOSE(INDIRECT("'"&$D22&"'!"&'גיליון עזר'!$G$1&ROW('מרכז מורשת בבל'!$D$16)):INDIRECT("'"&$D22&"'!"&'גיליון עזר'!$G$1&ROW('מרכז מורשת בבל'!$D$17))))} -> 20 | Q22: טובה מאוד | R22: {=IF($D22="","",TRANSPOSE(INDIRECT("'"&$D22&"'!"&'גיליון עזר'!$N$1&ROW('מרכז מורשת בבל'!$D$16)):INDIRECT("'"&$D22&"'!"&'גיליון עזר'!$N$1&ROW('מרכז מורשת בבל'!$D$20))))} -> מעל 4 בשנה | S22: 46 | T22: 5000 | U22: כן | V22: כן | W22: =IF($D22="","",INDIRECT("'"&$D22&"'!"&'גיליון עזר'!$N$1&ROW('מרכז מורשת בבל'!$J$21))) -> לא | X22: =IF($D22="","",INDIRECT("'"&$D22&"'!"&'גיליון עזר'!$L$1&ROW('מרכז מורשת בבל'!$J$78))) -> 0 | Y22: {=IF($D22="","",TRANSPOSE(INDIRECT("'"&$D22&"'!"&'גיליון עזר'!$J$1&ROW('מרכז מורשת בבל'!$D$17)):INDIRECT("'"&$D22&"'!"&'גיליון עזר'!$J$1&ROW('מרכז מורשת בבל'!$D$18))))} -> 1053857 | Z22: 1913966 | AA22: =IF($D22="","",IF(INDIRECT("'"&$D22&"'!"&'גיליון עזר'!$J$1&ROW('מרכז מורשת בבל'!$D$21))="","",INDIRECT("'"&$D22&"'!"&'גיליון עזר'!$J$1&ROW('מרכז מורשת בבל'!$D$21)))) | AC22: =IF($D22="","",AC$16) -> כינוס | AD22: =IF($D22="","",AD$16) -> הרצאה | AE22: =IF($D22="","",AE$16) -> יום עיון | AF22: =IF($D22="","",AF$16) -> הפקה מורכבת | AG22: =IF($D22="","",AG$16) -> כן | AH22: =IF($D22="","",AH$16) -> לא | AI22: =IF($D22="","",AI$16) -> נאותה | AJ22: =IF($D22="","",AJ$16) -> טובה | ... AO22: =IF($D22="","",AO$16) -> מעל 4 בשנה | AP22: =IF($D22="","",IF(ISERR(E22/3),$AP$14,E22)) -> 11 | AQ22: =IF($D22="","",IF(ISERR(F22/3),$AP$14,F22)) -> 2 | AR22: =IF($D22="","",IF(ISERR(G22/3),$AP$14,G22)) -> 2 | AS22: =IF($D22="","",IF(ISERR(H22/3),$AP$14,H22)) -> 0 | AT22: =IF($D22="","",IF(ISERR(I22/3),$AP$14,I22)) -> 0 | AU22: =IF($D22="","",IF(ISERR(J22/3),$AP$14,J22)) -> 1 | AV22: =IF($D22="","",IF(ISERR(K22/3),$AP$14,K22)) -> 0 | AW22: =IF($D22="","",IF(ISERR(L22/3),$AP$14,L22)) -> 1 | ... BA22: =IF($D22="","",IF(ISERR(P22/3),$AP$14,P22)) -> 20 | BB22: =IF(Q22="","",Q22) -> טובה מאוד | BC22: =IF(R22="","",R22) -> מעל 4 בשנה | BD22: =IF($D22="","",IF(ISERR(S22/3),$AP$14,S22)) -> 46 | BE22: =IF($D22="","",IF(ISERR(T22/3),$AP$14,T22)) -> 5000 | BF22: =IF($D22="","",IF(U22="","",U22)) -> כן | BG22: =IF($D22="","",IF(V22="","",V22)) -> כן | BH22: =IF($D22="","",IF(W22="","",W22)) -> לא | BI22: =IF($D22="","",IF(ISERR(X22/3),$AP$14,X22)) -> 0 | BJ22: =IF($D22="","",IF(ISERR(Y22/3),$AP$14,Y22)) -> 1053857 | BK22: =IF($D22="","",IF(ISERR(Z22/3),$AP$14,Z22)) -> 1913966 | BL22: =IF($D22="","",IF(AA22="","",AA22))
A23: =IF(AND(LEFT(B23,11)<>"גיליון הזנה",INDIRECT("'"&$B23&"'!"&'גיליון עזר'!$I$1&ROW('מרכז מורשת בבל'!$I$3))=""),"חסרה הזנה","") | B23: ='הפדרציה העולמית של יהדות מרוקו'!$D$3 -> הפדרציה העולמית של יהדות מרוקו | C23: 7 | D23: =IF(OR(LEFT(B23,11)="גיליון הזנה",INDIRECT("'"&$B23&"'!"&'גיליון עזר'!$I$1&ROW('מרכז מורשת בבל'!$I$3))=0),"",B23) -> הפדרציה העולמית של יהדות מרוקו | E23: {=IF($D23="","",TRANSPOSE(INDIRECT("'"&$D23&"'!"&'גיליון עזר'!$D$1&ROW('מרכז מורשת בבל'!$D$16)):INDIRECT("'"&$D23&"'!"&'גיליון עזר'!$D$1&ROW('מרכז מורשת בבל'!$D$25))))} -> 5 | F23: 9 | G23: 3 | H23: 1 | I23: 0 | J23: 0 | K23: 0 | L23: 0 | M23: 0 | N23: 1 | O23: =IF($D23="","",INDIRECT("'"&$D23&"'!"&'גיליון עזר'!$F$1&ROW('מרכז מורשת בבל'!$B$78))) -> 0 | P23: {=IF($D23="","",TRANSPOSE(INDIRECT("'"&$D23&"'!"&'גיליון עזר'!$G$1&ROW('מרכז מורשת בבל'!$D$16)):INDIRECT("'"&$D23&"'!"&'גיליון עזר'!$G$1&ROW('מרכז מורשת בבל'!$D$17))))} -> 15 | Q23: נאותה | R23: {=IF($D23="","",TRANSPOSE(INDIRECT("'"&$D23&"'!"&'גיליון עזר'!$N$1&ROW('מרכז מורשת בבל'!$D$16)):INDIRECT("'"&$D23&"'!"&'גיליון עזר'!$N$1&ROW('מרכז מורשת בבל'!$D$20))))} -> שלוש בשנה | S23: 70 | T23: 150 | U23: כן | V23: כן | W23: =IF($D23="","",INDIRECT("'"&$D23&"'!"&'גיליון עזר'!$N$1&ROW('מרכז מורשת בבל'!$J$21))) -> לא | X23: =IF($D23="","",INDIRECT("'"&$D23&"'!"&'גיליון עזר'!$L$1&ROW('מרכז מורשת בבל'!$J$78))) -> 0 | Y23: {=IF($D23="","",TRANSPOSE(INDIRECT("'"&$D23&"'!"&'גיליון עזר'!$J$1&ROW('מרכז מורשת בבל'!$D$17)):INDIRECT("'"&$D23&"'!"&'גיליון עזר'!$J$1&ROW('מרכז מורשת בבל'!$D$18))))} -> 338238 | Z23: 794993 | AA23: =IF($D23="","",IF(INDIRECT("'"&$D23&"'!"&'גיליון עזר'!$J$1&ROW('מרכז מורשת בבל'!$D$21))="","",INDIRECT("'"&$D23&"'!"&'גיליון עזר'!$J$1&ROW('מרכז מורשת בבל'!$D$21)))) | AC23: =IF($D23="","",AC$16) -> כינוס | AD23: =IF($D23="","",AD$16) -> הרצאה | AE23: =IF($D23="","",AE$16) -> יום עיון | AF23: =IF($D23="","",AF$16) -> הפקה מורכבת | AG23: =IF($D23="","",AG$16) -> כן | AH23: =IF($D23="","",AH$16) -> לא | AI23: =IF($D23="","",AI$16) -> נאותה | AJ23: =IF($D23="","",AJ$16) -> טובה | ... AO23: =IF($D23="","",AO$16) -> מעל 4 בשנה | AP23: =IF($D23="","",IF(ISERR(E23/3),$AP$14,E23)) -> 5 | AQ23: =IF($D23="","",IF(ISERR(F23/3),$AP$14,F23)) -> 9 | AR23: =IF($D23="","",IF(ISERR(G23/3),$AP$14,G23)) -> 3 | AS23: =IF($D23="","",IF(ISERR(H23/3),$AP$14,H23)) -> 1 | AT23: =IF($D23="","",IF(ISERR(I23/3),$AP$14,I23)) -> 0 | AU23: =IF($D23="","",IF(ISERR(J23/3),$AP$14,J23)) -> 0 | AV23: =IF($D23="","",IF(ISERR(K23/3),$AP$14,K23)) -> 0 | AW23: =IF($D23="","",IF(ISERR(L23/3),$AP$14,L23)) -> 0 | ... BA23: =IF($D23="","",IF(ISERR(P23/3),$AP$14,P23)) -> 15 | BB23: =IF(Q23="","",Q23) -> נאותה | BC23: =IF(R23="","",R23) -> שלוש בשנה | BD23: =IF($D23="","",IF(ISERR(S23/3),$AP$14,S23)) -> 70 | BE23: =IF($D23="","",IF(ISERR(T23/3),$AP$14,T23)) -> 150 | BF23: =IF($D23="","",IF(U23="","",U23)) -> כן | BG23: =IF($D23="","",IF(V23="","",V23)) -> כן | BH23: =IF($D23="","",IF(W23="","",W23)) -> לא | BI23: =IF($D23="","",IF(ISERR(X23/3),$AP$14,X23)) -> 0 | BJ23: =IF($D23="","",IF(ISERR(Y23/3),$AP$14,Y23)) -> 338238 | BK23: =IF($D23="","",IF(ISERR(Z23/3),$AP$14,Z23)) -> 794993 | BL23: =IF($D23="","",IF(AA23="","",AA23))
A24: =IF(AND(LEFT(B24,11)<>"גיליון הזנה",INDIRECT("'"&$B24&"'!"&'גיליון עזר'!$I$1&ROW('מרכז מורשת בבל'!$I$3))=""),"חסרה הזנה","") | B24: ='אורות הגליל'!$D$3 -> אורות הגליל | C24: 8 | D24: =IF(OR(LEFT(B24,11)="גיליון הזנה",INDIRECT("'"&$B24&"'!"&'גיליון עזר'!$I$1&ROW('מרכז מורשת בבל'!$I$3))=0),"",B24) -> אורות הגליל | E24: {=IF($D24="","",TRANSPOSE(INDIRECT("'"&$D24&"'!"&'גיליון עזר'!$D$1&ROW('מרכז מורשת בבל'!$D$16)):INDIRECT("'"&$D24&"'!"&'גיליון עזר'!$D$1&ROW('מרכז מורשת בבל'!$D$25))))} -> 28 | F24: 3 | G24: 0 | H24: 5 | I24: 0 | J24: 16 | K24: 0 | L24: 9 | M24: 0 | N24: 6 | O24: =IF($D24="","",INDIRECT("'"&$D24&"'!"&'גיליון עזר'!$F$1&ROW('מרכז מורשת בבל'!$B$78))) -> 210 | P24: {=IF($D24="","",TRANSPOSE(INDIRECT("'"&$D24&"'!"&'גיליון עזר'!$G$1&ROW('מרכז מורשת בבל'!$D$16)):INDIRECT("'"&$D24&"'!"&'גיליון עזר'!$G$1&ROW('מרכז מורשת בבל'!$D$17))))} -> 400 | Q24: נאותה | R24: {=IF($D24="","",TRANSPOSE(INDIRECT("'"&$D24&"'!"&'גיליון עזר'!$N$1&ROW('מרכז מורשת בבל'!$D$16)):INDIRECT("'"&$D24&"'!"&'גיליון עזר'!$N$1&ROW('מרכז מורשת בבל'!$D$20))))} -> 0 | S24: 0 | T24: 0 | U24: 0 | V24: 0 | W24: =IF($D24="","",INDIRECT("'"&$D24&"'!"&'גיליון עזר'!$N$1&ROW('מרכז מורשת בבל'!$J$21))) -> 0 | X24: =IF($D24="","",INDIRECT("'"&$D24&"'!"&'גיליון עזר'!$L$1&ROW('מרכז מורשת בבל'!$J$78))) -> 0 | Y24: {=IF($D24="","",TRANSPOSE(INDIRECT("'"&$D24&"'!"&'גיליון עזר'!$J$1&ROW('מרכז מורשת בבל'!$D$17)):INDIRECT("'"&$D24&"'!"&'גיליון עזר'!$J$1&ROW('מרכז מורשת בבל'!$D$18))))} -> 227310 | Z24: 538632 | AA24: =IF($D24="","",IF(INDIRECT("'"&$D24&"'!"&'גיליון עזר'!$J$1&ROW('מרכז מורשת בבל'!$D$21))="","",INDIRECT("'"&$D24&"'!"&'גיליון עזר'!$J$1&ROW('מרכז מורשת בבל'!$D$21)))) -> מעל 50% | AC24: =IF($D24="","",AC$16) -> כינוס | AD24: =IF($D24="","",AD$16) -> הרצאה | AE24: =IF($D24="","",AE$16) -> יום עיון | AF24: =IF($D24="","",AF$16) -> הפקה מורכבת | AG24: =IF($D24="","",AG$16) -> כן | AH24: =IF($D24="","",AH$16) -> לא | AI24: =IF($D24="","",AI$16) -> נאותה | AJ24: =IF($D24="","",AJ$16) -> טובה | ... AO24: =IF($D24="","",AO$16) -> מעל 4 בשנה | AP24: =IF($D24="","",IF(ISERR(E24/3),$AP$14,E24)) -> 28 | AQ24: =IF($D24="","",IF(ISERR(F24/3),$AP$14,F24)) -> 3 | AR24: =IF($D24="","",IF(ISERR(G24/3),$AP$14,G24)) -> 0 | AS24: =IF($D24="","",IF(ISERR(H24/3),$AP$14,H24)) -> 5 | AT24: =IF($D24="","",IF(ISERR(I24/3),$AP$14,I24)) -> 0 | AU24: =IF($D24="","",IF(ISERR(J24/3),$AP$14,J24)) -> 16 | AV24: =IF($D24="","",IF(ISERR(K24/3),$AP$14,K24)) -> 0 | AW24: =IF($D24="","",IF(ISERR(L24/3),$AP$14,L24)) -> 9 | ... BA24: =IF($D24="","",IF(ISERR(P24/3),$AP$14,P24)) -> 400 | BB24: =IF(Q24="","",Q24) -> נאותה | BC24: =IF(R24="","",R24) -> 0 | BD24: =IF($D24="","",IF(ISERR(S24/3),$AP$14,S24)) -> 0 | BE24: =IF($D24="","",IF(ISERR(T24/3),$AP$14,T24)) -> 0 | BF24: =IF($D24="","",IF(U24="","",U24)) -> 0 | BG24: =IF($D24="","",IF(V24="","",V24)) -> 0 | BH24: =IF($D24="","",IF(W24="","",W24)) -> 0 | BI24: =IF($D24="","",IF(ISERR(X24/3),$AP$14,X24)) -> 0 | BJ24: =IF($D24="","",IF(ISERR(Y24/3),$AP$14,Y24)) -> 227310 | BK24: =IF($D24="","",IF(ISERR(Z24/3),$AP$14,Z24)) -> 538632 | BL24: =IF($D24="","",IF(AA24="","",AA24)) -> מעל 50%
A25: =IF(AND(LEFT(B25,11)<>"גיליון הזנה",INDIRECT("'"&$B25&"'!"&'גיליון עזר'!$I$1&ROW('מרכז מורשת בבל'!$I$3))=""),"חסרה הזנה","") | B25: =אלמז!$D$3 -> אלמז | C25: 9 | D25: =IF(OR(LEFT(B25,11)="גיליון הזנה",INDIRECT("'"&$B25&"'!"&'גיליון עזר'!$I$1&ROW('מרכז מורשת בבל'!$I$3))=0),"",B25) -> אלמז | E25: {=IF($D25="","",TRANSPOSE(INDIRECT("'"&$D25&"'!"&'גיליון עזר'!$D$1&ROW('מרכז מורשת בבל'!$D$16)):INDIRECT("'"&$D25&"'!"&'גיליון עזר'!$D$1&ROW('מרכז מורשת בבל'!$D$25))))} -> 3 | F25: 10 | G25: 0 | H25: 2 | I25: 1 | J25: 4 | K25: 1 | L25: 4 | M25: 1 | N25: 2 | O25: =IF($D25="","",INDIRECT("'"&$D25&"'!"&'גיליון עזר'!$F$1&ROW('מרכז מורשת בבל'!$B$78))) -> 150 | P25: {=IF($D25="","",TRANSPOSE(INDIRECT("'"&$D25&"'!"&'גיליון עזר'!$G$1&ROW('מרכז מורשת בבל'!$D$16)):INDIRECT("'"&$D25&"'!"&'גיליון עזר'!$G$1&ROW('מרכז מורשת בבל'!$D$17))))} -> 10 | Q25: 0 | R25: {=IF($D25="","",TRANSPOSE(INDIRECT("'"&$D25&"'!"&'גיליון עזר'!$N$1&ROW('מרכז מורשת בבל'!$D$16)):INDIRECT("'"&$D25&"'!"&'גיליון עזר'!$N$1&ROW('מרכז מורשת בבל'!$D$20))))} -> שניים בשנה | S25: 16 | T25: 200 | U25: לא | V25: לא | W25: =IF($D25="","",INDIRECT("'"&$D25&"'!"&'גיליון עזר'!$N$1&ROW('מרכז מורשת בבל'!$J$21))) -> לא | X25: =IF($D25="","",INDIRECT("'"&$D25&"'!"&'גיליון עזר'!$L$1&ROW('מרכז מורשת בבל'!$J$78))) -> 0 | Y25: {=IF($D25="","",TRANSPOSE(INDIRECT("'"&$D25&"'!"&'גיליון עזר'!$J$1&ROW('מרכז מורשת בבל'!$D$17)):INDIRECT("'"&$D25&"'!"&'גיליון עזר'!$J$1&ROW('מרכז מורשת בבל'!$D$18))))} -> 95748 | Z25: 296291 | AA25: =IF($D25="","",IF(INDIRECT("'"&$D25&"'!"&'גיליון עזר'!$J$1&ROW('מרכז מורשת בבל'!$D$21))="","",INDIRECT("'"&$D25&"'!"&'גיליון עזר'!$J$1&ROW('מרכז מורשת בבל'!$D$21)))) | AC25: =IF($D25="","",AC$16) -> כינוס | AD25: =IF($D25="","",AD$16) -> הרצאה | AE25: =IF($D25="","",AE$16) -> יום עיון | AF25: =IF($D25="","",AF$16) -> הפקה מורכבת | AG25: =IF($D25="","",AG$16) -> כן | AH25: =IF($D25="","",AH$16) -> לא | AI25: =IF($D25="","",AI$16) -> נאותה | AJ25: =IF($D25="","",AJ$16) -> טובה | ... AO25: =IF($D25="","",AO$16) -> מעל 4 בשנה | AP25: =IF($D25="","",IF(ISERR(E25/3),$AP$14,E25)) -> 3 | AQ25: =IF($D25="","",IF(ISERR(F25/3),$AP$14,F25)) -> 10 | AR25: =IF($D25="","",IF(ISERR(G25/3),$AP$14,G25)) -> 0 | AS25: =IF($D25="","",IF(ISERR(H25/3),$AP$14,H25)) -> 2 | AT25: =IF($D25="","",IF(ISERR(I25/3),$AP$14,I25)) -> 1 | AU25: =IF($D25="","",IF(ISERR(J25/3),$AP$14,J25)) -> 4 | AV25: =IF($D25="","",IF(ISERR(K25/3),$AP$14,K25)) -> 1 | AW25: =IF($D25="","",IF(ISERR(L25/3),$AP$14,L25)) -> 4 | ... BA25: =IF($D25="","",IF(ISERR(P25/3),$AP$14,P25)) -> 10 | BB25: =IF(Q25="","",Q25) -> 0 | BC25: =IF(R25="","",R25) -> שניים בשנה | BD25: =IF($D25="","",IF(ISERR(S25/3),$AP$14,S25)) -> 16 | BE25: =IF($D25="","",IF(ISERR(T25/3),$AP$14,T25)) -> 200 | BF25: =IF($D25="","",IF(U25="","",U25)) -> לא | BG25: =IF($D25="","",IF(V25="","",V25)) -> לא | BH25: =IF($D25="","",IF(W25="","",W25)) -> לא | BI25: =IF($D25="","",IF(ISERR(X25/3),$AP$14,X25)) -> 0 | BJ25: =IF($D25="","",IF(ISERR(Y25/3),$AP$14,Y25)) -> 95748 | BK25: =IF($D25="","",IF(ISERR(Z25/3),$AP$14,Z25)) -> 296291 | BL25: =IF($D25="","",IF(AA25="","",AA25))
A26: =IF(AND(LEFT(B26,11)<>"גיליון הזנה",INDIRECT("'"&$B26&"'!"&'גיליון עזר'!$I$1&ROW('מרכז מורשת בבל'!$I$3))=""),"חסרה הזנה","") | B26: ='קונגרס יהודי בוכרה'!$D$3 -> קונגרס יהודי בוכרה | C26: 10 | D26: =IF(OR(LEFT(B26,11)="גיליון הזנה",INDIRECT("'"&$B26&"'!"&'גיליון עזר'!$I$1&ROW('מרכז מורשת בבל'!$I$3))=0),"",B26) -> קונגרס יהודי בוכרה | E26: {=IF($D26="","",TRANSPOSE(INDIRECT("'"&$D26&"'!"&'גיליון עזר'!$D$1&ROW('מרכז מורשת בבל'!$D$16)):INDIRECT("'"&$D26&"'!"&'גיליון עזר'!$D$1&ROW('מרכז מורשת בבל'!$D$25))))} -> 0 | F26: 159 | G26: 0 | H26: 0 | I26: 0 | J26: 30 | K26: 0 | L26: 30 | M26: 0 | N26: 74 | O26: =IF($D26="","",INDIRECT("'"&$D26&"'!"&'גיליון עזר'!$F$1&ROW('מרכז מורשת בבל'!$B$78))) -> 0 | P26: {=IF($D26="","",TRANSPOSE(INDIRECT("'"&$D26&"'!"&'גיליון עזר'!$G$1&ROW('מרכז מורשת בבל'!$D$16)):INDIRECT("'"&$D26&"'!"&'גיליון עזר'!$G$1&ROW('מרכז מורשת בבל'!$D$17))))} -> 18 | Q26: נאותה | R26: {=IF($D26="","",TRANSPOSE(INDIRECT("'"&$D26&"'!"&'גיליון עזר'!$N$1&ROW('מרכז מורשת בבל'!$D$16)):INDIRECT("'"&$D26&"'!"&'גיליון עזר'!$N$1&ROW('מרכז מורשת בבל'!$D$20))))} -> מעל 4 בשנה | S26: 40 | T26: 12000 | U26: כן | V26: כן | W26: =IF($D26="","",INDIRECT("'"&$D26&"'!"&'גיליון עזר'!$N$1&ROW('מרכז מורשת בבל'!$J$21))) -> לא | X26: =IF($D26="","",INDIRECT("'"&$D26&"'!"&'גיליון עזר'!$L$1&ROW('מרכז מורשת בבל'!$J$78))) -> 0 | Y26: {=IF($D26="","",TRANSPOSE(INDIRECT("'"&$D26&"'!"&'גיליון עזר'!$J$1&ROW('מרכז מורשת בבל'!$D$17)):INDIRECT("'"&$D26&"'!"&'גיליון עזר'!$J$1&ROW('מרכז מורשת בבל'!$D$18))))} -> 2231514 | Z26: 3331514 | AA26: =IF($D26="","",IF(INDIRECT("'"&$D26&"'!"&'גיליון עזר'!$J$1&ROW('מרכז מורשת בבל'!$D$21))="","",INDIRECT("'"&$D26&"'!"&'גיליון עזר'!$J$1&ROW('מרכז מורשת בבל'!$D$21)))) -> מעל 20% | AC26: =IF($D26="","",AC$16) -> כינוס | AD26: =IF($D26="","",AD$16) -> הרצאה | AE26: =IF($D26="","",AE$16) -> יום עיון | AF26: =IF($D26="","",AF$16) -> הפקה מורכבת | AG26: =IF($D26="","",AG$16) -> כן | AH26: =IF($D26="","",AH$16) -> לא | AI26: =IF($D26="","",AI$16) -> נאותה | AJ26: =IF($D26="","",AJ$16) -> טובה | ... AO26: =IF($D26="","",AO$16) -> מעל 4 בשנה | AP26: =IF($D26="","",IF(ISERR(E26/3),$AP$14,E26)) -> 0 | AQ26: =IF($D26="","",IF(ISERR(F26/3),$AP$14,F26)) -> 159 | AR26: =IF($D26="","",IF(ISERR(G26/3),$AP$14,G26)) -> 0 | AS26: =IF($D26="","",IF(ISERR(H26/3),$AP$14,H26)) -> 0 | AT26: =IF($D26="","",IF(ISERR(I26/3),$AP$14,I26)) -> 0 | AU26: =IF($D26="","",IF(ISERR(J26/3),$AP$14,J26)) -> 30 | AV26: =IF($D26="","",IF(ISERR(K26/3),$AP$14,K26)) -> 0 | AW26: =IF($D26="","",IF(ISERR(L26/3),$AP$14,L26)) -> 30 | ... BA26: =IF($D26="","",IF(ISERR(P26/3),$AP$14,P26)) -> 18 | BB26: =IF(Q26="","",Q26) -> נאותה | BC26: =IF(R26="","",R26) -> מעל 4 בשנה | BD26: =IF($D26="","",IF(ISERR(S26/3),$AP$14,S26)) -> 40 | BE26: =IF($D26="","",IF(ISERR(T26/3),$AP$14,T26)) -> 12000 | BF26: =IF($D26="","",IF(U26="","",U26)) -> כן | BG26: =IF($D26="","",IF(V26="","",V26)) -> כן | BH26: =IF($D26="","",IF(W26="","",W26)) -> לא | BI26: =IF($D26="","",IF(ISERR(X26/3),$AP$14,X26)) -> 0 | BJ26: =IF($D26="","",IF(ISERR(Y26/3),$AP$14,Y26)) -> 2231514 | BK26: =IF($D26="","",IF(ISERR(Z26/3),$AP$14,Z26)) -> 3331514 | BL26: =IF($D26="","",IF(AA26="","",AA26)) -> מעל 20%
A27: =IF(AND(LEFT(B27,11)<>"גיליון הזנה",INDIRECT("'"&$B27&"'!"&'גיליון עזר'!$I$1&ROW('מרכז מורשת בבל'!$I$3))=""),"חסרה הזנה","") | B27: ='יהדות שאלוניקי יוון'!$D$3 -> יהדות שאלוניקי יוון | C27: 11 | D27: =IF(OR(LEFT(B27,11)="גיליון הזנה",INDIRECT("'"&$B27&"'!"&'גיליון עזר'!$I$1&ROW('מרכז מורשת בבל'!$I$3))=0),"",B27) -> יהדות שאלוניקי יוון | E27: {=IF($D27="","",TRANSPOSE(INDIRECT("'"&$D27&"'!"&'גיליון עזר'!$D$1&ROW('מרכז מורשת בבל'!$D$16)):INDIRECT("'"&$D27&"'!"&'גיליון עזר'!$D$1&ROW('מרכז מורשת בבל'!$D$25))))} -> 69 | F27: 1 | G27: 1 | H27: 1 | I27: 0 | J27: 1 | K27: 0 | L27: 1 | M27: 0 | N27: 6 | O27: =IF($D27="","",INDIRECT("'"&$D27&"'!"&'גיליון עזר'!$F$1&ROW('מרכז מורשת בבל'!$B$78))) -> 300 | P27: {=IF($D27="","",TRANSPOSE(INDIRECT("'"&$D27&"'!"&'גיליון עזר'!$G$1&ROW('מרכז מורשת בבל'!$D$16)):INDIRECT("'"&$D27&"'!"&'גיליון עזר'!$G$1&ROW('מרכז מורשת בבל'!$D$17))))} -> 21 | Q27: טובה מאוד | R27: {=IF($D27="","",TRANSPOSE(INDIRECT("'"&$D27&"'!"&'גיליון עזר'!$N$1&ROW('מרכז מורשת בבל'!$D$16)):INDIRECT("'"&$D27&"'!"&'גיליון עזר'!$N$1&ROW('מרכז מורשת בבל'!$D$20))))} -> 0 | S27: 0 | T27: 0 | U27: 0 | V27: 0 | W27: =IF($D27="","",INDIRECT("'"&$D27&"'!"&'גיליון עזר'!$N$1&ROW('מרכז מורשת בבל'!$J$21))) -> 0 | X27: =IF($D27="","",INDIRECT("'"&$D27&"'!"&'גיליון עזר'!$L$1&ROW('מרכז מורשת בבל'!$J$78))) -> 0 | Y27: {=IF($D27="","",TRANSPOSE(INDIRECT("'"&$D27&"'!"&'גיליון עזר'!$J$1&ROW('מרכז מורשת בבל'!$D$17)):INDIRECT("'"&$D27&"'!"&'גיליון עזר'!$J$1&ROW('מרכז מורשת בבל'!$D$18))))} -> 710115 | Z27: 1114167 | AA27: =IF($D27="","",IF(INDIRECT("'"&$D27&"'!"&'גיליון עזר'!$J$1&ROW('מרכז מורשת בבל'!$D$21))="","",INDIRECT("'"&$D27&"'!"&'גיליון עזר'!$J$1&ROW('מרכז מורשת בבל'!$D$21)))) | AC27: =IF($D27="","",AC$16) -> כינוס | AD27: =IF($D27="","",AD$16) -> הרצאה | AE27: =IF($D27="","",AE$16) -> יום עיון | AF27: =IF($D27="","",AF$16) -> הפקה מורכבת | AG27: =IF($D27="","",AG$16) -> כן | AH27: =IF($D27="","",AH$16) -> לא | AI27: =IF($D27="","",AI$16) -> נאותה | AJ27: =IF($D27="","",AJ$16) -> טובה | ... AO27: =IF($D27="","",AO$16) -> מעל 4 בשנה | AP27: =IF($D27="","",IF(ISERR(E27/3),$AP$14,E27)) -> 69 | AQ27: =IF($D27="","",IF(ISERR(F27/3),$AP$14,F27)) -> 1 | AR27: =IF($D27="","",IF(ISERR(G27/3),$AP$14,G27)) -> 1 | AS27: =IF($D27="","",IF(ISERR(H27/3),$AP$14,H27)) -> 1 | AT27: =IF($D27="","",IF(ISERR(I27/3),$AP$14,I27)) -> 0 | AU27: =IF($D27="","",IF(ISERR(J27/3),$AP$14,J27)) -> 1 | AV27: =IF($D27="","",IF(ISERR(K27/3),$AP$14,K27)) -> 0 | AW27: =IF($D27="","",IF(ISERR(L27/3),$AP$14,L27)) -> 1 | ... BA27: =IF($D27="","",IF(ISERR(P27/3),$AP$14,P27)) -> 21 | BB27: =IF(Q27="","",Q27) -> טובה מאוד | BC27: =IF(R27="","",R27) -> 0 | BD27: =IF($D27="","",IF(ISERR(S27/3),$AP$14,S27)) -> 0 | BE27: =IF($D27="","",IF(ISERR(T27/3),$AP$14,T27)) -> 0 | BF27: =IF($D27="","",IF(U27="","",U27)) -> 0 | BG27: =IF($D27="","",IF(V27="","",V27)) -> 0 | BH27: =IF($D27="","",IF(W27="","",W27)) -> 0 | BI27: =IF($D27="","",IF(ISERR(X27/3),$AP$14,X27)) -> 0 | BJ27: =IF($D27="","",IF(ISERR(Y27/3),$AP$14,Y27)) -> 710115 | BK27: =IF($D27="","",IF(ISERR(Z27/3),$AP$14,Z27)) -> 1114167 | BL27: =IF($D27="","",IF(AA27="","",AA27))
A28: =IF(AND(LEFT(B28,11)<>"גיליון הזנה",INDIRECT("'"&$B28&"'!"&'גיליון עזר'!$I$1&ROW('מרכז מורשת בבל'!$I$3))=""),"חסרה הזנה","") | B28: ='גיליון הזנה 12'!$D$3 -> גיליון הזנה 12 | C28: 12 | D28: =IF(OR(LEFT(B28,11)="גיליון הזנה",INDIRECT("'"&$B28&"'!"&'גיליון עזר'!$I$1&ROW('מרכז מורשת בבל'!$I$3))=0),"",B28) | E28: {=IF($D28="","",TRANSPOSE(INDIRECT("'"&$D28&"'!"&'גיליון עזר'!$D$1&ROW('מרכז מורשת בבל'!$D$16)):INDIRECT("'"&$D28&"'!"&'גיליון עזר'!$D$1&ROW('מרכז מורשת בבל'!$D$25))))} | O28: =IF($D28="","",INDIRECT("'"&$D28&"'!"&'גיליון עזר'!$F$1&ROW('מרכז מורשת בבל'!$B$78))) | P28: {=IF($D28="","",TRANSPOSE(INDIRECT("'"&$D28&"'!"&'גיליון עזר'!$G$1&ROW('מרכז מורשת בבל'!$D$16)):INDIRECT("'"&$D28&"'!"&'גיליון עזר'!$G$1&ROW('מרכז מורשת בבל'!$D$17))))} | R28: {=IF($D28="","",TRANSPOSE(INDIRECT("'"&$D28&"'!"&'גיליון עזר'!$N$1&ROW('מרכז מורשת בבל'!$D$16)):INDIRECT("'"&$D28&"'!"&'גיליון עזר'!$N$1&ROW('מרכז מורשת בבל'!$D$20))))} | W28: =IF($D28="","",INDIRECT("'"&$D28&"'!"&'גיליון עזר'!$N$1&ROW('מרכז מורשת בבל'!$J$21))) | X28: =IF($D28="","",INDIRECT("'"&$D28&"'!"&'גיליון עזר'!$L$1&ROW('מרכז מורשת בבל'!$J$78))) | Y28: {=IF($D28="","",TRANSPOSE(INDIRECT("'"&$D28&"'!"&'גיליון עזר'!$J$1&ROW('מרכז מורשת בבל'!$D$17)):INDIRECT("'"&$D28&"'!"&'גיליון עזר'!$J$1&ROW('מרכז מורשת בבל'!$D$18))))} | AA28: =IF($D28="","",IF(INDIRECT("'"&$D28&"'!"&'גיליון עזר'!$J$1&ROW('מרכז מורשת בבל'!$D$21))="","",INDIRECT("'"&$D28&"'!"&'גיליון עזר'!$J$1&ROW('מרכז מורשת בבל'!$D$21)))) | AC28: =IF($D28="","",AC$16) | AD28: =IF($D28="","",AD$16) | AE28: =IF($D28="","",AE$16) | AF28: =IF($D28="","",AF$16) | AG28: =IF($D28="","",AG$16) | AH28: =IF($D28="","",AH$16) | AI28: =IF($D28="","",AI$16) | AJ28: =IF($D28="","",AJ$16) | ... AO28: =IF($D28="","",AO$16) | AP28: =IF($D28="","",IF(ISERR(E28/3),$AP$14,E28)) | AQ28: =IF($D28="","",IF(ISERR(F28/3),$AP$14,F28)) | AR28: =IF($D28="","",IF(ISERR(G28/3),$AP$14,G28)) | AS28: =IF($D28="","",IF(ISERR(H28/3),$AP$14,H28)) | AT28: =IF($D28="","",IF(ISERR(I28/3),$AP$14,I28)) | AU28: =IF($D28="","",IF(ISERR(J28/3),$AP$14,J28)) | AV28: =IF($D28="","",IF(ISERR(K28/3),$AP$14,K28)) | AW28: =IF($D28="","",IF(ISERR(L28/3),$AP$14,L28)) | ... BA28: =IF($D28="","",IF(ISERR(P28/3),$AP$14,P28)) | BB28: =IF(Q28="","",Q28) | BC28: =IF(R28="","",R28) | BD28: =IF($D28="","",IF(ISERR(S28/3),$AP$14,S28)) | BE28: =IF($D28="","",IF(ISERR(T28/3),$AP$14,T28)) | BF28: =IF($D28="","",IF(U28="","",U28)) | BG28: =IF($D28="","",IF(V28="","",V28)) | BH28: =IF($D28="","",IF(W28="","",W28)) | BI28: =IF($D28="","",IF(ISERR(X28/3),$AP$14,X28)) | BJ28: =IF($D28="","",IF(ISERR(Y28/3),$AP$14,Y28)) | BK28: =IF($D28="","",IF(ISERR(Z28/3),$AP$14,Z28)) | BL28: =IF($D28="","",IF(AA28="","",AA28))
A29: =IF(AND(LEFT(B29,11)<>"גיליון הזנה",INDIRECT("'"&$B29&"'!"&'גיליון עזר'!$I$1&ROW('מרכז מורשת בבל'!$I$3))=""),"חסרה הזנה","") | B29: ='גיליון הזנה 13'!$D$3 -> גיליון הזנה 13 | C29: 13 | D29: =IF(OR(LEFT(B29,11)="גיליון הזנה",INDIRECT("'"&$B29&"'!"&'גיליון עזר'!$I$1&ROW('מרכז מורשת בבל'!$I$3))=0),"",B29) | E29: {=IF($D29="","",TRANSPOSE(INDIRECT("'"&$D29&"'!"&'גיליון עזר'!$D$1&ROW('מרכז מורשת בבל'!$D$16)):INDIRECT("'"&$D29&"'!"&'גיליון עזר'!$D$1&ROW('מרכז מורשת בבל'!$D$25))))} | O29: =IF($D29="","",INDIRECT("'"&$D29&"'!"&'גיליון עזר'!$F$1&ROW('מרכז מורשת בבל'!$B$78))) | P29: {=IF($D29="","",TRANSPOSE(INDIRECT("'"&$D29&"'!"&'גיליון עזר'!$G$1&ROW('מרכז מורשת בבל'!$D$16)):INDIRECT("'"&$D29&"'!"&'גיליון עזר'!$G$1&ROW('מרכז מורשת בבל'!$D$17))))} | R29: {=IF($D29="","",TRANSPOSE(INDIRECT("'"&$D29&"'!"&'גיליון עזר'!$N$1&ROW('מרכז מורשת בבל'!$D$16)):INDIRECT("'"&$D29&"'!"&'גיליון עזר'!$N$1&ROW('מרכז מורשת בבל'!$D$20))))} | W29: =IF($D29="","",INDIRECT("'"&$D29&"'!"&'גיליון עזר'!$N$1&ROW('מרכז מורשת בבל'!$J$21))) | X29: =IF($D29="","",INDIRECT("'"&$D29&"'!"&'גיליון עזר'!$L$1&ROW('מרכז מורשת בבל'!$J$78))) | Y29: {=IF($D29="","",TRANSPOSE(INDIRECT("'"&$D29&"'!"&'גיליון עזר'!$J$1&ROW('מרכז מורשת בבל'!$D$17)):INDIRECT("'"&$D29&"'!"&'גיליון עזר'!$J$1&ROW('מרכז מורשת בבל'!$D$18))))} | AA29: =IF($D29="","",IF(INDIRECT("'"&$D29&"'!"&'גיליון עזר'!$J$1&ROW('מרכז מורשת בבל'!$D$21))="","",INDIRECT("'"&$D29&"'!"&'גיליון עזר'!$J$1&ROW('מרכז מורשת בבל'!$D$21)))) | AC29: =IF($D29="","",AC$16) | AD29: =IF($D29="","",AD$16) | AE29: =IF($D29="","",AE$16) | AF29: =IF($D29="","",AF$16) | AG29: =IF($D29="","",AG$16) | AH29: =IF($D29="","",AH$16) | AI29: =IF($D29="","",AI$16) | AJ29: =IF($D29="","",AJ$16) | ... AO29: =IF($D29="","",AO$16) | AP29: =IF($D29="","",IF(ISERR(E29/3),$AP$14,E29)) | AQ29: =IF($D29="","",IF(ISERR(F29/3),$AP$14,F29)) | AR29: =IF($D29="","",IF(ISERR(G29/3),$AP$14,G29)) | AS29: =IF($D29="","",IF(ISERR(H29/3),$AP$14,H29)) | AT29: =IF($D29="","",IF(ISERR(I29/3),$AP$14,I29)) | AU29: =IF($D29="","",IF(ISERR(J29/3),$AP$14,J29)) | AV29: =IF($D29="","",IF(ISERR(K29/3),$AP$14,K29)) | AW29: =IF($D29="","",IF(ISERR(L29/3),$AP$14,L29)) | ... BA29: =IF($D29="","",IF(ISERR(P29/3),$AP$14,P29)) | BB29: =IF(Q29="","",Q29) | BC29: =IF(R29="","",R29) | BD29: =IF($D29="","",IF(ISERR(S29/3),$AP$14,S29)) | BE29: =IF($D29="","",IF(ISERR(T29/3),$AP$14,T29)) | BF29: =IF($D29="","",IF(U29="","",U29)) | BG29: =IF($D29="","",IF(V29="","",V29)) | BH29: =IF($D29="","",IF(W29="","",W29)) | BI29: =IF($D29="","",IF(ISERR(X29/3),$AP$14,X29)) | BJ29: =IF($D29="","",IF(ISERR(Y29/3),$AP$14,Y29)) | BK29: =IF($D29="","",IF(ISERR(Z29/3),$AP$14,Z29)) | BL29: =IF($D29="","",IF(AA29="","",AA29))
A30: =IF(AND(LEFT(B30,11)<>"גיליון הזנה",INDIRECT("'"&$B30&"'!"&'גיליון עזר'!$I$1&ROW('מרכז מורשת בבל'!$I$3))=""),"חסרה הזנה","") | B30: ='גיליון הזנה 14'!$D$3 -> גיליון הזנה 14 | C30: 14 | D30: =IF(OR(LEFT(B30,11)="גיליון הזנה",INDIRECT("'"&$B30&"'!"&'גיליון עזר'!$I$1&ROW('מרכז מורשת בבל'!$I$3))=0),"",B30) | E30: {=IF($D30="","",TRANSPOSE(INDIRECT("'"&$D30&"'!"&'גיליון עזר'!$D$1&ROW('מרכז מורשת בבל'!$D$16)):INDIRECT("'"&$D30&"'!"&'גיליון עזר'!$D$1&ROW('מרכז מורשת בבל'!$D$25))))} | O30: =IF($D30="","",INDIRECT("'"&$D30&"'!"&'גיליון עזר'!$F$1&ROW('מרכז מורשת בבל'!$B$78))) | P30: {=IF($D30="","",TRANSPOSE(INDIRECT("'"&$D30&"'!"&'גיליון עזר'!$G$1&ROW('מרכז מורשת בבל'!$D$16)):INDIRECT("'"&$D30&"'!"&'גיליון עזר'!$G$1&ROW('מרכז מורשת בבל'!$D$17))))} | R30: {=IF($D30="","",TRANSPOSE(INDIRECT("'"&$D30&"'!"&'גיליון עזר'!$N$1&ROW('מרכז מורשת בבל'!$D$16)):INDIRECT("'"&$D30&"'!"&'גיליון עזר'!$N$1&ROW('מרכז מורשת בבל'!$D$20))))} | W30: =IF($D30="","",INDIRECT("'"&$D30&"'!"&'גיליון עזר'!$N$1&ROW('מרכז מורשת בבל'!$J$21))) | X30: =IF($D30="","",INDIRECT("'"&$D30&"'!"&'גיליון עזר'!$L$1&ROW('מרכז מורשת בבל'!$J$78))) | Y30: {=IF($D30="","",TRANSPOSE(INDIRECT("'"&$D30&"'!"&'גיליון עזר'!$J$1&ROW('מרכז מורשת בבל'!$D$17)):INDIRECT("'"&$D30&"'!"&'גיליון עזר'!$J$1&ROW('מרכז מורשת בבל'!$D$18))))} | AA30: =IF($D30="","",IF(INDIRECT("'"&$D30&"'!"&'גיליון עזר'!$J$1&ROW('מרכז מורשת בבל'!$D$21))="","",INDIRECT("'"&$D30&"'!"&'גיליון עזר'!$J$1&ROW('מרכז מורשת בבל'!$D$21)))) | AC30: =IF($D30="","",AC$16) | AD30: =IF($D30="","",AD$16) | AE30: =IF($D30="","",AE$16) | AF30: =IF($D30="","",AF$16) | AG30: =IF($D30="","",AG$16) | AH30: =IF($D30="","",AH$16) | AI30: =IF($D30="","",AI$16) | AJ30: =IF($D30="","",AJ$16) | ... AO30: =IF($D30="","",AO$16) | AP30: =IF($D30="","",IF(ISERR(E30/3),$AP$14,E30)) | AQ30: =IF($D30="","",IF(ISERR(F30/3),$AP$14,F30)) | AR30: =IF($D30="","",IF(ISERR(G30/3),$AP$14,G30)) | AS30: =IF($D30="","",IF(ISERR(H30/3),$AP$14,H30)) | AT30: =IF($D30="","",IF(ISERR(I30/3),$AP$14,I30)) | AU30: =IF($D30="","",IF(ISERR(J30/3),$AP$14,J30)) | AV30: =IF($D30="","",IF(ISERR(K30/3),$AP$14,K30)) | AW30: =IF($D30="","",IF(ISERR(L30/3),$AP$14,L30)) | ... BA30: =IF($D30="","",IF(ISERR(P30/3),$AP$14,P30)) | BB30: =IF(Q30="","",Q30) | BC30: =IF(R30="","",R30) | BD30: =IF($D30="","",IF(ISERR(S30/3),$AP$14,S30)) | BE30: =IF($D30="","",IF(ISERR(T30/3),$AP$14,T30)) | BF30: =IF($D30="","",IF(U30="","",U30)) | BG30: =IF($D30="","",IF(V30="","",V30)) | BH30: =IF($D30="","",IF(W30="","",W30)) | BI30: =IF($D30="","",IF(ISERR(X30/3),$AP$14,X30)) | BJ30: =IF($D30="","",IF(ISERR(Y30/3),$AP$14,Y30)) | BK30: =IF($D30="","",IF(ISERR(Z30/3),$AP$14,Z30)) | BL30: =IF($D30="","",IF(AA30="","",AA30))
A31: =IF(AND(LEFT(B31,11)<>"גיליון הזנה",INDIRECT("'"&$B31&"'!"&'גיליון עזר'!$I$1&ROW('מרכז מורשת בבל'!$I$3))=""),"חסרה הזנה","") | B31: ='החברה לטיפוח חברה תרבות תיעוד '!$D$3 -> החברה לטיפוח חברה תרבות תיעוד | C31: 15 | D31: =IF(OR(LEFT(B31,11)="גיליון הזנה",INDIRECT("'"&$B31&"'!"&'גיליון עזר'!$I$1&ROW('מרכז מורשת בבל'!$I$3))=0),"",B31) -> החברה לטיפוח חברה תרבות תיעוד | E31: {=IF($D31="","",TRANSPOSE(INDIRECT("'"&$D31&"'!"&'גיליון עזר'!$D$1&ROW('מרכז מורשת בבל'!$D$16)):INDIRECT("'"&$D31&"'!"&'גיליון עזר'!$D$1&ROW('מרכז מורשת בבל'!$D$25))))} -> 60 | F31: 136 | G31: 63 | H31: 23 | I31: 20 | J31: 168 | K31: 0 | L31: 65 | M31: 0 | N31: 6 | O31: =IF($D31="","",INDIRECT("'"&$D31&"'!"&'גיליון עזר'!$F$1&ROW('מרכז מורשת בבל'!$B$78))) -> 0 | P31: {=IF($D31="","",TRANSPOSE(INDIRECT("'"&$D31&"'!"&'גיליון עזר'!$G$1&ROW('מרכז מורשת בבל'!$D$16)):INDIRECT("'"&$D31&"'!"&'גיליון עזר'!$G$1&ROW('מרכז מורשת בבל'!$D$17))))} -> 20100 | Q31: טובה מאוד | R31: {=IF($D31="","",TRANSPOSE(INDIRECT("'"&$D31&"'!"&'גיליון עזר'!$N$1&ROW('מרכז מורשת בבל'!$D$16)):INDIRECT("'"&$D31&"'!"&'גיליון עזר'!$N$1&ROW('מרכז מורשת בבל'!$D$20))))} -> מעל 4 בשנה | S31: 16 | T31: 1000 | U31: כן | V31: כן | W31: =IF($D31="","",INDIRECT("'"&$D31&"'!"&'גיליון עזר'!$N$1&ROW('מרכז מורשת בבל'!$J$21))) -> לא | X31: =IF($D31="","",INDIRECT("'"&$D31&"'!"&'גיליון עזר'!$L$1&ROW('מרכז מורשת בבל'!$J$78))) -> 9 | Y31: {=IF($D31="","",TRANSPOSE(INDIRECT("'"&$D31&"'!"&'גיליון עזר'!$J$1&ROW('מרכז מורשת בבל'!$D$17)):INDIRECT("'"&$D31&"'!"&'גיליון עזר'!$J$1&ROW('מרכז מורשת בבל'!$D$18))))} -> 3002870 | Z31: 5103322 | AA31: =IF($D31="","",IF(INDIRECT("'"&$D31&"'!"&'גיליון עזר'!$J$1&ROW('מרכז מורשת בבל'!$D$21))="","",INDIRECT("'"&$D31&"'!"&'גיליון עזר'!$J$1&ROW('מרכז מורשת בבל'!$D$21)))) -> מעל 50% | AC31: =IF($D31="","",AC$16) -> כינוס | AD31: =IF($D31="","",AD$16) -> הרצאה | AE31: =IF($D31="","",AE$16) -> יום עיון | AF31: =IF($D31="","",AF$16) -> הפקה מורכבת | AG31: =IF($D31="","",AG$16) -> כן | AH31: =IF($D31="","",AH$16) -> לא | AI31: =IF($D31="","",AI$16) -> נאותה | AJ31: =IF($D31="","",AJ$16) -> טובה | ... AO31: =IF($D31="","",AO$16) -> מעל 4 בשנה | AP31: =IF($D31="","",IF(ISERR(E31/3),$AP$14,E31)) -> 60 | AQ31: =IF($D31="","",IF(ISERR(F31/3),$AP$14,F31)) -> 136 | AR31: =IF($D31="","",IF(ISERR(G31/3),$AP$14,G31)) -> 63 | AS31: =IF($D31="","",IF(ISERR(H31/3),$AP$14,H31)) -> 23 | AT31: =IF($D31="","",IF(ISERR(I31/3),$AP$14,I31)) -> 20 | AU31: =IF($D31="","",IF(ISERR(J31/3),$AP$14,J31)) -> 168 | AV31: =IF($D31="","",IF(ISERR(K31/3),$AP$14,K31)) -> 0 | AW31: =IF($D31="","",IF(ISERR(L31/3),$AP$14,L31)) -> 65 | ... BA31: =IF($D31="","",IF(ISERR(P31/3),$AP$14,P31)) -> 20100 | BB31: =IF(Q31="","",Q31) -> טובה מאוד | BC31: =IF(R31="","",R31) -> מעל 4 בשנה | BD31: =IF($D31="","",IF(ISERR(S31/3),$AP$14,S31)) -> 16 | BE31: =IF($D31="","",IF(ISERR(T31/3),$AP$14,T31)) -> 1000 | BF31: =IF($D31="","",IF(U31="","",U31)) -> כן | BG31: =IF($D31="","",IF(V31="","",V31)) -> כן | BH31: =IF($D31="","",IF(W31="","",W31)) -> לא | BI31: =IF($D31="","",IF(ISERR(X31/3),$AP$14,X31)) -> 9 | BJ31: =IF($D31="","",IF(ISERR(Y31/3),$AP$14,Y31)) -> 3002870 | BK31: =IF($D31="","",IF(ISERR(Z31/3),$AP$14,Z31)) -> 5103322 | BL31: =IF($D31="","",IF(AA31="","",AA31)) -> מעל 50%
A32: =IF(AND(LEFT(B32,11)<>"גיליון הזנה",INDIRECT("'"&$B32&"'!"&'גיליון עזר'!$I$1&ROW('מרכז מורשת בבל'!$I$3))=""),"חסרה הזנה","") | B32: ='עמותת אור שלום'!$D$3 -> עמותת אור שלום | C32: 16 | D32: =IF(OR(LEFT(B32,11)="גיליון הזנה",INDIRECT("'"&$B32&"'!"&'גיליון עזר'!$I$1&ROW('מרכז מורשת בבל'!$I$3))=0),"",B32) -> עמותת אור שלום | E32: {=IF($D32="","",TRANSPOSE(INDIRECT("'"&$D32&"'!"&'גיליון עזר'!$D$1&ROW('מרכז מורשת בבל'!$D$16)):INDIRECT("'"&$D32&"'!"&'גיליון עזר'!$D$1&ROW('מרכז מורשת בבל'!$D$25))))} -> 0 | F32: 2 | G32: 0 | H32: 0 | I32: 0 | J32: 9 | K32: 0 | L32: 9 | M32: 0 | N32: 1 | O32: =IF($D32="","",INDIRECT("'"&$D32&"'!"&'גיליון עזר'!$F$1&ROW('מרכז מורשת בבל'!$B$78))) -> 610 | P32: {=IF($D32="","",TRANSPOSE(INDIRECT("'"&$D32&"'!"&'גיליון עזר'!$G$1&ROW('מרכז מורשת בבל'!$D$16)):INDIRECT("'"&$D32&"'!"&'גיליון עזר'!$G$1&ROW('מרכז מורשת בבל'!$D$17))))} -> 500 | Q32: נאותה | R32: {=IF($D32="","",TRANSPOSE(INDIRECT("'"&$D32&"'!"&'גיליון עזר'!$N$1&ROW('מרכז מורשת בבל'!$D$16)):INDIRECT("'"&$D32&"'!"&'גיליון עזר'!$N$1&ROW('מרכז מורשת בבל'!$D$20))))} -> מעל 4 בשנה | S32: 60 | T32: 2500 | U32: כן | V32: כן | W32: =IF($D32="","",INDIRECT("'"&$D32&"'!"&'גיליון עזר'!$N$1&ROW('מרכז מורשת בבל'!$J$21))) -> לא | X32: =IF($D32="","",INDIRECT("'"&$D32&"'!"&'גיליון עזר'!$L$1&ROW('מרכז מורשת בבל'!$J$78))) -> 1 | Y32: {=IF($D32="","",TRANSPOSE(INDIRECT("'"&$D32&"'!"&'גיליון עזר'!$J$1&ROW('מרכז מורשת בבל'!$D$17)):INDIRECT("'"&$D32&"'!"&'גיליון עזר'!$J$1&ROW('מרכז מורשת בבל'!$D$18))))} -> 258650 | Z32: 849541 | AA32: =IF($D32="","",IF(INDIRECT("'"&$D32&"'!"&'גיליון עזר'!$J$1&ROW('מרכז מורשת בבל'!$D$21))="","",INDIRECT("'"&$D32&"'!"&'גיליון עזר'!$J$1&ROW('מרכז מורשת בבל'!$D$21)))) -> מעל 50% | AC32: =IF($D32="","",AC$16) -> כינוס | AD32: =IF($D32="","",AD$16) -> הרצאה | AE32: =IF($D32="","",AE$16) -> יום עיון | AF32: =IF($D32="","",AF$16) -> הפקה מורכבת | AG32: =IF($D32="","",AG$16) -> כן | AH32: =IF($D32="","",AH$16) -> לא | AI32: =IF($D32="","",AI$16) -> נאותה | AJ32: =IF($D32="","",AJ$16) -> טובה | ... AO32: =IF($D32="","",AO$16) -> מעל 4 בשנה | AP32: =IF($D32="","",IF(ISERR(E32/3),$AP$14,E32)) -> 0 | AQ32: =IF($D32="","",IF(ISERR(F32/3),$AP$14,F32)) -> 2 | AR32: =IF($D32="","",IF(ISERR(G32/3),$AP$14,G32)) -> 0 | AS32: =IF($D32="","",IF(ISERR(H32/3),$AP$14,H32)) -> 0 | AT32: =IF($D32="","",IF(ISERR(I32/3),$AP$14,I32)) -> 0 | AU32: =IF($D32="","",IF(ISERR(J32/3),$AP$14,J32)) -> 9 | AV32: =IF($D32="","",IF(ISERR(K32/3),$AP$14,K32)) -> 0 | AW32: =IF($D32="","",IF(ISERR(L32/3),$AP$14,L32)) -> 9 | ... BA32: =IF($D32="","",IF(ISERR(P32/3),$AP$14,P32)) -> 500 | BB32: =IF(Q32="","",Q32) -> נאותה | BC32: =IF(R32="","",R32) -> מעל 4 בשנה | BD32: =IF($D32="","",IF(ISERR(S32/3),$AP$14,S32)) -> 60 | BE32: =IF($D32="","",IF(ISERR(T32/3),$AP$14,T32)) -> 2500 | BF32: =IF($D32="","",IF(U32="","",U32)) -> כן | BG32: =IF($D32="","",IF(V32="","",V32)) -> כן | BH32: =IF($D32="","",IF(W32="","",W32)) -> לא | BI32: =IF($D32="","",IF(ISERR(X32/3),$AP$14,X32)) -> 1 | BJ32: =IF($D32="","",IF(ISERR(Y32/3),$AP$14,Y32)) -> 258650 | BK32: =IF($D32="","",IF(ISERR(Z32/3),$AP$14,Z32)) -> 849541 | BL32: =IF($D32="","",IF(AA32="","",AA32)) -> מעל 50%
A33: =IF(AND(LEFT(B33,11)<>"גיליון הזנה",INDIRECT("'"&$B33&"'!"&'גיליון עזר'!$I$1&ROW('מרכז מורשת בבל'!$I$3))=""),"חסרה הזנה","") | B33: ='גיליון הזנה 17'!$D$3 -> גיליון הזנה 17 | C33: 17 | D33: =IF(OR(LEFT(B33,11)="גיליון הזנה",INDIRECT("'"&$B33&"'!"&'גיליון עזר'!$I$1&ROW('מרכז מורשת בבל'!$I$3))=0),"",B33) | E33: {=IF($D33="","",TRANSPOSE(INDIRECT("'"&$D33&"'!"&'גיליון עזר'!$D$1&ROW('מרכז מורשת בבל'!$D$16)):INDIRECT("'"&$D33&"'!"&'גיליון עזר'!$D$1&ROW('מרכז מורשת בבל'!$D$25))))} | O33: =IF($D33="","",INDIRECT("'"&$D33&"'!"&'גיליון עזר'!$F$1&ROW('מרכז מורשת בבל'!$B$78))) | P33: {=IF($D33="","",TRANSPOSE(INDIRECT("'"&$D33&"'!"&'גיליון עזר'!$G$1&ROW('מרכז מורשת בבל'!$D$16)):INDIRECT("'"&$D33&"'!"&'גיליון עזר'!$G$1&ROW('מרכז מורשת בבל'!$D$17))))} | R33: {=IF($D33="","",TRANSPOSE(INDIRECT("'"&$D33&"'!"&'גיליון עזר'!$N$1&ROW('מרכז מורשת בבל'!$D$16)):INDIRECT("'"&$D33&"'!"&'גיליון עזר'!$N$1&ROW('מרכז מורשת בבל'!$D$20))))} | W33: =IF($D33="","",INDIRECT("'"&$D33&"'!"&'גיליון עזר'!$N$1&ROW('מרכז מורשת בבל'!$J$21))) | X33: =IF($D33="","",INDIRECT("'"&$D33&"'!"&'גיליון עזר'!$L$1&ROW('מרכז מורשת בבל'!$J$78))) | Y33: {=IF($D33="","",TRANSPOSE(INDIRECT("'"&$D33&"'!"&'גיליון עזר'!$J$1&ROW('מרכז מורשת בבל'!$D$17)):INDIRECT("'"&$D33&"'!"&'גיליון עזר'!$J$1&ROW('מרכז מורשת בבל'!$D$18))))} | AA33: =IF($D33="","",IF(INDIRECT("'"&$D33&"'!"&'גיליון עזר'!$J$1&ROW('מרכז מורשת בבל'!$D$21))="","",INDIRECT("'"&$D33&"'!"&'גיליון עזר'!$J$1&ROW('מרכז מורשת בבל'!$D$21)))) | AC33: =IF($D33="","",AC$16) | AD33: =IF($D33="","",AD$16) | AE33: =IF($D33="","",AE$16) | AF33: =IF($D33="","",AF$16) | AG33: =IF($D33="","",AG$16) | AH33: =IF($D33="","",AH$16) | AI33: =IF($D33="","",AI$16) | AJ33: =IF($D33="","",AJ$16) | ... AO33: =IF($D33="","",AO$16) | AP33: =IF($D33="","",IF(ISERR(E33/3),$AP$14,E33)) | AQ33: =IF($D33="","",IF(ISERR(F33/3),$AP$14,F33)) | AR33: =IF($D33="","",IF(ISERR(G33/3),$AP$14,G33)) | AS33: =IF($D33="","",IF(ISERR(H33/3),$AP$14,H33)) | AT33: =IF($D33="","",IF(ISERR(I33/3),$AP$14,I33)) | AU33: =IF($D33="","",IF(ISERR(J33/3),$AP$14,J33)) | AV33: =IF($D33="","",IF(ISERR(K33/3),$AP$14,K33)) | AW33: =IF($D33="","",IF(ISERR(L33/3),$AP$14,L33)) | ... BA33: =IF($D33="","",IF(ISERR(P33/3),$AP$14,P33)) | BB33: =IF(Q33="","",Q33) | BC33: =IF(R33="","",R33) | BD33: =IF($D33="","",IF(ISERR(S33/3),$AP$14,S33)) | BE33: =IF($D33="","",IF(ISERR(T33/3),$AP$14,T33)) | BF33: =IF($D33="","",IF(U33="","",U33)) | BG33: =IF($D33="","",IF(V33="","",V33)) | BH33: =IF($D33="","",IF(W33="","",W33)) | BI33: =IF($D33="","",IF(ISERR(X33/3),$AP$14,X33)) | BJ33: =IF($D33="","",IF(ISERR(Y33/3),$AP$14,Y33)) | BK33: =IF($D33="","",IF(ISERR(Z33/3),$AP$14,Z33)) | BL33: =IF($D33="","",IF(AA33="","",AA33))
A34: =IF(AND(LEFT(B34,11)<>"גיליון הזנה",INDIRECT("'"&$B34&"'!"&'גיליון עזר'!$I$1&ROW('מרכז מורשת בבל'!$I$3))=""),"חסרה הזנה","") | B34: ='ישיבת קרלין סטולין'!$D$3 -> ישיבת קרלין סטולין | C34: 18 | D34: =IF(OR(LEFT(B34,11)="גיליון הזנה",INDIRECT("'"&$B34&"'!"&'גיליון עזר'!$I$1&ROW('מרכז מורשת בבל'!$I$3))=0),"",B34) -> ישיבת קרלין סטולין | E34: {=IF($D34="","",TRANSPOSE(INDIRECT("'"&$D34&"'!"&'גיליון עזר'!$D$1&ROW('מרכז מורשת בבל'!$D$16)):INDIRECT("'"&$D34&"'!"&'גיליון עזר'!$D$1&ROW('מרכז מורשת בבל'!$D$25))))} -> 0 | F34: 128 | G34: 0 | H34: 0 | I34: 0 | J34: 0 | K34: 0 | L34: 0 | M34: 0 | N34: 8 | O34: =IF($D34="","",INDIRECT("'"&$D34&"'!"&'גיליון עזר'!$F$1&ROW('מרכז מורשת בבל'!$B$78))) -> 0 | P34: {=IF($D34="","",TRANSPOSE(INDIRECT("'"&$D34&"'!"&'גיליון עזר'!$G$1&ROW('מרכז מורשת בבל'!$D$16)):INDIRECT("'"&$D34&"'!"&'גיליון עזר'!$G$1&ROW('מרכז מורשת בבל'!$D$17))))} -> 0 | Q34: 0 | R34: {=IF($D34="","",TRANSPOSE(INDIRECT("'"&$D34&"'!"&'גיליון עזר'!$N$1&ROW('מרכז מורשת בבל'!$D$16)):INDIRECT("'"&$D34&"'!"&'גיליון עזר'!$N$1&ROW('מרכז מורשת בבל'!$D$20))))} -> 0 | S34: 0 | T34: 0 | U34: 0 | V34: 0 | W34: =IF($D34="","",INDIRECT("'"&$D34&"'!"&'גיליון עזר'!$N$1&ROW('מרכז מורשת בבל'!$J$21))) -> 0 | X34: =IF($D34="","",INDIRECT("'"&$D34&"'!"&'גיליון עזר'!$L$1&ROW('מרכז מורשת בבל'!$J$78))) -> 0 | Y34: {=IF($D34="","",TRANSPOSE(INDIRECT("'"&$D34&"'!"&'גיליון עזר'!$J$1&ROW('מרכז מורשת בבל'!$D$17)):INDIRECT("'"&$D34&"'!"&'גיליון עזר'!$J$1&ROW('מרכז מורשת בבל'!$D$18))))} -> 508401 | Z34: 1041932 | AA34: =IF($D34="","",IF(INDIRECT("'"&$D34&"'!"&'גיליון עזר'!$J$1&ROW('מרכז מורשת בבל'!$D$21))="","",INDIRECT("'"&$D34&"'!"&'גיליון עזר'!$J$1&ROW('מרכז מורשת בבל'!$D$21)))) | AC34: =IF($D34="","",AC$16) -> כינוס | AD34: =IF($D34="","",AD$16) -> הרצאה | AE34: =IF($D34="","",AE$16) -> יום עיון | AF34: =IF($D34="","",AF$16) -> הפקה מורכבת | AG34: =IF($D34="","",AG$16) -> כן | AH34: =IF($D34="","",AH$16) -> לא | AI34: =IF($D34="","",AI$16) -> נאותה | AJ34: =IF($D34="","",AJ$16) -> טובה | ... AO34: =IF($D34="","",AO$16) -> מעל 4 בשנה | AP34: =IF($D34="","",IF(ISERR(E34/3),$AP$14,E34)) -> 0 | AQ34: =IF($D34="","",IF(ISERR(F34/3),$AP$14,F34)) -> 128 | AR34: =IF($D34="","",IF(ISERR(G34/3),$AP$14,G34)) -> 0 | AS34: =IF($D34="","",IF(ISERR(H34/3),$AP$14,H34)) -> 0 | AT34: =IF($D34="","",IF(ISERR(I34/3),$AP$14,I34)) -> 0 | AU34: =IF($D34="","",IF(ISERR(J34/3),$AP$14,J34)) -> 0 | AV34: =IF($D34="","",IF(ISERR(K34/3),$AP$14,K34)) -> 0 | AW34: =IF($D34="","",IF(ISERR(L34/3),$AP$14,L34)) -> 0 | ... BA34: =IF($D34="","",IF(ISERR(P34/3),$AP$14,P34)) -> 0 | BB34: =IF(Q34="","",Q34) -> 0 | BC34: =IF(R34="","",R34) -> 0 | BD34: =IF($D34="","",IF(ISERR(S34/3),$AP$14,S34)) -> 0 | BE34: =IF($D34="","",IF(ISERR(T34/3),$AP$14,T34)) -> 0 | BF34: =IF($D34="","",IF(U34="","",U34)) -> 0 | BG34: =IF($D34="","",IF(V34="","",V34)) -> 0 | BH34: =IF($D34="","",IF(W34="","",W34)) -> 0 | BI34: =IF($D34="","",IF(ISERR(X34/3),$AP$14,X34)) -> 0 | BJ34: =IF($D34="","",IF(ISERR(Y34/3),$AP$14,Y34)) -> 508401 | BK34: =IF($D34="","",IF(ISERR(Z34/3),$AP$14,Z34)) -> 1041932 | BL34: =IF($D34="","",IF(AA34="","",AA34))
A35: =IF(AND(LEFT(B35,11)<>"גיליון הזנה",INDIRECT("'"&$B35&"'!"&'גיליון עזר'!$I$1&ROW('מרכז מורשת בבל'!$I$3))=""),"חסרה הזנה","") | B35: ='גיליון הזנה 19'!$D$3 -> גיליון הזנה 19 | C35: 19 | D35: =IF(OR(LEFT(B35,11)="גיליון הזנה",INDIRECT("'"&$B35&"'!"&'גיליון עזר'!$I$1&ROW('מרכז מורשת בבל'!$I$3))=0),"",B35) | E35: {=IF($D35="","",TRANSPOSE(INDIRECT("'"&$D35&"'!"&'גיליון עזר'!$D$1&ROW('מרכז מורשת בבל'!$D$16)):INDIRECT("'"&$D35&"'!"&'גיליון עזר'!$D$1&ROW('מרכז מורשת בבל'!$D$25))))} | O35: =IF($D35="","",INDIRECT("'"&$D35&"'!"&'גיליון עזר'!$F$1&ROW('מרכז מורשת בבל'!$B$78))) | P35: {=IF($D35="","",TRANSPOSE(INDIRECT("'"&$D35&"'!"&'גיליון עזר'!$G$1&ROW('מרכז מורשת בבל'!$D$16)):INDIRECT("'"&$D35&"'!"&'גיליון עזר'!$G$1&ROW('מרכז מורשת בבל'!$D$17))))} | R35: {=IF($D35="","",TRANSPOSE(INDIRECT("'"&$D35&"'!"&'גיליון עזר'!$N$1&ROW('מרכז מורשת בבל'!$D$16)):INDIRECT("'"&$D35&"'!"&'גיליון עזר'!$N$1&ROW('מרכז מורשת בבל'!$D$20))))} | W35: =IF($D35="","",INDIRECT("'"&$D35&"'!"&'גיליון עזר'!$N$1&ROW('מרכז מורשת בבל'!$J$21))) | X35: =IF($D35="","",INDIRECT("'"&$D35&"'!"&'גיליון עזר'!$L$1&ROW('מרכז מורשת בבל'!$J$78))) | Y35: {=IF($D35="","",TRANSPOSE(INDIRECT("'"&$D35&"'!"&'גיליון עזר'!$J$1&ROW('מרכז מורשת בבל'!$D$17)):INDIRECT("'"&$D35&"'!"&'גיליון עזר'!$J$1&ROW('מרכז מורשת בבל'!$D$18))))} | AA35: =IF($D35="","",IF(INDIRECT("'"&$D35&"'!"&'גיליון עזר'!$J$1&ROW('מרכז מורשת בבל'!$D$21))="","",INDIRECT("'"&$D35&"'!"&'גיליון עזר'!$J$1&ROW('מרכז מורשת בבל'!$D$21)))) | AC35: =IF($D35="","",AC$16) | AD35: =IF($D35="","",AD$16) | AE35: =IF($D35="","",AE$16) | AF35: =IF($D35="","",AF$16) | AG35: =IF($D35="","",AG$16) | AH35: =IF($D35="","",AH$16) | AI35: =IF($D35="","",AI$16) | AJ35: =IF($D35="","",AJ$16) | ... AO35: =IF($D35="","",AO$16) | AP35: =IF($D35="","",IF(ISERR(E35/3),$AP$14,E35)) | AQ35: =IF($D35="","",IF(ISERR(F35/3),$AP$14,F35)) | AR35: =IF($D35="","",IF(ISERR(G35/3),$AP$14,G35)) | AS35: =IF($D35="","",IF(ISERR(H35/3),$AP$14,H35)) | AT35: =IF($D35="","",IF(ISERR(I35/3),$AP$14,I35)) | AU35: =IF($D35="","",IF(ISERR(J35/3),$AP$14,J35)) | AV35: =IF($D35="","",IF(ISERR(K35/3),$AP$14,K35)) | AW35: =IF($D35="","",IF(ISERR(L35/3),$AP$14,L35)) | ... BA35: =IF($D35="","",IF(ISERR(P35/3),$AP$14,P35)) | BB35: =IF(Q35="","",Q35) | BC35: =IF(R35="","",R35) | BD35: =IF($D35="","",IF(ISERR(S35/3),$AP$14,S35)) | BE35: =IF($D35="","",IF(ISERR(T35/3),$AP$14,T35)) | BF35: =IF($D35="","",IF(U35="","",U35)) | BG35: =IF($D35="","",IF(V35="","",V35)) | BH35: =IF($D35="","",IF(W35="","",W35)) | BI35: =IF($D35="","",IF(ISERR(X35/3),$AP$14,X35)) | BJ35: =IF($D35="","",IF(ISERR(Y35/3),$AP$14,Y35)) | BK35: =IF($D35="","",IF(ISERR(Z35/3),$AP$14,Z35)) | BL35: =IF($D35="","",IF(AA35="","",AA35))
A36: =IF(AND(LEFT(B36,11)<>"גיליון הזנה",INDIRECT("'"&$B36&"'!"&'גיליון עזר'!$I$1&ROW('מרכז מורשת בבל'!$I$3))=""),"חסרה הזנה","") | B36: ='גיליון הזנה 20'!$D$3 -> גיליון הזנה 20 | C36: 20 | D36: =IF(OR(LEFT(B36,11)="גיליון הזנה",INDIRECT("'"&$B36&"'!"&'גיליון עזר'!$I$1&ROW('מרכז מורשת בבל'!$I$3))=0),"",B36) | E36: {=IF($D36="","",TRANSPOSE(INDIRECT("'"&$D36&"'!"&'גיליון עזר'!$D$1&ROW('מרכז מורשת בבל'!$D$16)):INDIRECT("'"&$D36&"'!"&'גיליון עזר'!$D$1&ROW('מרכז מורשת בבל'!$D$25))))} | O36: =IF($D36="","",INDIRECT("'"&$D36&"'!"&'גיליון עזר'!$F$1&ROW('מרכז מורשת בבל'!$B$78))) | P36: {=IF($D36="","",TRANSPOSE(INDIRECT("'"&$D36&"'!"&'גיליון עזר'!$G$1&ROW('מרכז מורשת בבל'!$D$16)):INDIRECT("'"&$D36&"'!"&'גיליון עזר'!$G$1&ROW('מרכז מורשת בבל'!$D$17))))} | R36: {=IF($D36="","",TRANSPOSE(INDIRECT("'"&$D36&"'!"&'גיליון עזר'!$N$1&ROW('מרכז מורשת בבל'!$D$16)):INDIRECT("'"&$D36&"'!"&'גיליון עזר'!$N$1&ROW('מרכז מורשת בבל'!$D$20))))} | W36: =IF($D36="","",INDIRECT("'"&$D36&"'!"&'גיליון עזר'!$N$1&ROW('מרכז מורשת בבל'!$J$21))) | X36: =IF($D36="","",INDIRECT("'"&$D36&"'!"&'גיליון עזר'!$L$1&ROW('מרכז מורשת בבל'!$J$78))) | Y36: {=IF($D36="","",TRANSPOSE(INDIRECT("'"&$D36&"'!"&'גיליון עזר'!$J$1&ROW('מרכז מורשת בבל'!$D$17)):INDIRECT("'"&$D36&"'!"&'גיליון עזר'!$J$1&ROW('מרכז מורשת בבל'!$D$18))))} | AA36: =IF($D36="","",IF(INDIRECT("'"&$D36&"'!"&'גיליון עזר'!$J$1&ROW('מרכז מורשת בבל'!$D$21))="","",INDIRECT("'"&$D36&"'!"&'גיליון עזר'!$J$1&ROW('מרכז מורשת בבל'!$D$21)))) | AC36: =IF($D36="","",AC$16) | AD36: =IF($D36="","",AD$16) | AE36: =IF($D36="","",AE$16) | AF36: =IF($D36="","",AF$16) | AG36: =IF($D36="","",AG$16) | AH36: =IF($D36="","",AH$16) | AI36: =IF($D36="","",AI$16) | AJ36: =IF($D36="","",AJ$16) | ... AO36: =IF($D36="","",AO$16) | AP36: =IF($D36="","",IF(ISERR(E36/3),$AP$14,E36)) | AQ36: =IF($D36="","",IF(ISERR(F36/3),$AP$14,F36)) | AR36: =IF($D36="","",IF(ISERR(G36/3),$AP$14,G36)) | AS36: =IF($D36="","",IF(ISERR(H36/3),$AP$14,H36)) | AT36: =IF($D36="","",IF(ISERR(I36/3),$AP$14,I36)) | AU36: =IF($D36="","",IF(ISERR(J36/3),$AP$14,J36)) | AV36: =IF($D36="","",IF(ISERR(K36/3),$AP$14,K36)) | AW36: =IF($D36="","",IF(ISERR(L36/3),$AP$14,L36)) | ... BA36: =IF($D36="","",IF(ISERR(P36/3),$AP$14,P36)) | BB36: =IF(Q36="","",Q36) | BC36: =IF(R36="","",R36) | BD36: =IF($D36="","",IF(ISERR(S36/3),$AP$14,S36)) | BE36: =IF($D36="","",IF(ISERR(T36/3),$AP$14,T36)) | BF36: =IF($D36="","",IF(U36="","",U36)) | BG36: =IF($D36="","",IF(V36="","",V36)) | BH36: =IF($D36="","",IF(W36="","",W36)) | BI36: =IF($D36="","",IF(ISERR(X36/3),$AP$14,X36)) | BJ36: =IF($D36="","",IF(ISERR(Y36/3),$AP$14,Y36)) | BK36: =IF($D36="","",IF(ISERR(Z36/3),$AP$14,Z36)) | BL36: =IF($D36="","",IF(AA36="","",AA36))
A37: =IF(AND(LEFT(B37,11)<>"גיליון הזנה",INDIRECT("'"&$B37&"'!"&'גיליון עזר'!$I$1&ROW('מרכז מורשת בבל'!$I$3))=""),"חסרה הזנה","") | B37: ='ברית יוצאי מרוקו'!$D$3 -> ברית יוצאי מרוקו | C37: 21 | D37: =IF(OR(LEFT(B37,11)="גיליון הזנה",INDIRECT("'"&$B37&"'!"&'גיליון עזר'!$I$1&ROW('מרכז מורשת בבל'!$I$3))=0),"",B37) -> ברית יוצאי מרוקו | E37: {=IF($D37="","",TRANSPOSE(INDIRECT("'"&$D37&"'!"&'גיליון עזר'!$D$1&ROW('מרכז מורשת בבל'!$D$16)):INDIRECT("'"&$D37&"'!"&'גיליון עזר'!$D$1&ROW('מרכז מורשת בבל'!$D$25))))} -> 1 | F37: 0 | G37: 0 | H37: 2 | I37: 1 | J37: 4 | K37: 0 | L37: 2 | M37: 0 | N37: 6 | O37: =IF($D37="","",INDIRECT("'"&$D37&"'!"&'גיליון עזר'!$F$1&ROW('מרכז מורשת בבל'!$B$78))) -> 150 | P37: {=IF($D37="","",TRANSPOSE(INDIRECT("'"&$D37&"'!"&'גיליון עזר'!$G$1&ROW('מרכז מורשת בבל'!$D$16)):INDIRECT("'"&$D37&"'!"&'גיליון עזר'!$G$1&ROW('מרכז מורשת בבל'!$D$17))))} -> 20 | Q37: 0 | R37: {=IF($D37="","",TRANSPOSE(INDIRECT("'"&$D37&"'!"&'גיליון עזר'!$N$1&ROW('מרכז מורשת בבל'!$D$16)):INDIRECT("'"&$D37&"'!"&'גיליון עזר'!$N$1&ROW('מרכז מורשת בבל'!$D$20))))} -> 0 | S37: 0 | T37: 0 | U37: 0 | V37: 0 | W37: =IF($D37="","",INDIRECT("'"&$D37&"'!"&'גיליון עזר'!$N$1&ROW('מרכז מורשת בבל'!$J$21))) -> 0 | X37: =IF($D37="","",INDIRECT("'"&$D37&"'!"&'גיליון עזר'!$L$1&ROW('מרכז מורשת בבל'!$J$78))) -> 0 | Y37: {=IF($D37="","",TRANSPOSE(INDIRECT("'"&$D37&"'!"&'גיליון עזר'!$J$1&ROW('מרכז מורשת בבל'!$D$17)):INDIRECT("'"&$D37&"'!"&'גיליון עזר'!$J$1&ROW('מרכז מורשת בבל'!$D$18))))} -> 1304803 | Z37: 1517219 | AA37: =IF($D37="","",IF(INDIRECT("'"&$D37&"'!"&'גיליון עזר'!$J$1&ROW('מרכז מורשת בבל'!$D$21))="","",INDIRECT("'"&$D37&"'!"&'גיליון עזר'!$J$1&ROW('מרכז מורשת בבל'!$D$21)))) | AC37: =IF($D37="","",AC$16) -> כינוס | AD37: =IF($D37="","",AD$16) -> הרצאה | AE37: =IF($D37="","",AE$16) -> יום עיון | AF37: =IF($D37="","",AF$16) -> הפקה מורכבת | AG37: =IF($D37="","",AG$16) -> כן | AH37: =IF($D37="","",AH$16) -> לא | AI37: =IF($D37="","",AI$16) -> נאותה | AJ37: =IF($D37="","",AJ$16) -> טובה | ... AO37: =IF($D37="","",AO$16) -> מעל 4 בשנה | AP37: =IF($D37="","",IF(ISERR(E37/3),$AP$14,E37)) -> 1 | AQ37: =IF($D37="","",IF(ISERR(F37/3),$AP$14,F37)) -> 0 | AR37: =IF($D37="","",IF(ISERR(G37/3),$AP$14,G37)) -> 0 | AS37: =IF($D37="","",IF(ISERR(H37/3),$AP$14,H37)) -> 2 | AT37: =IF($D37="","",IF(ISERR(I37/3),$AP$14,I37)) -> 1 | AU37: =IF($D37="","",IF(ISERR(J37/3),$AP$14,J37)) -> 4 | AV37: =IF($D37="","",IF(ISERR(K37/3),$AP$14,K37)) -> 0 | AW37: =IF($D37="","",IF(ISERR(L37/3),$AP$14,L37)) -> 2 | ... BA37: =IF($D37="","",IF(ISERR(P37/3),$AP$14,P37)) -> 20 | BB37: =IF(Q37="","",Q37) -> 0 | BC37: =IF(R37="","",R37) -> 0 | BD37: =IF($D37="","",IF(ISERR(S37/3),$AP$14,S37)) -> 0 | BE37: =IF($D37="","",IF(ISERR(T37/3),$AP$14,T37)) -> 0 | BF37: =IF($D37="","",IF(U37="","",U37)) -> 0 | BG37: =IF($D37="","",IF(V37="","",V37)) -> 0 | BH37: =IF($D37="","",IF(W37="","",W37)) -> 0 | BI37: =IF($D37="","",IF(ISERR(X37/3),$AP$14,X37)) -> 0 | BJ37: =IF($D37="","",IF(ISERR(Y37/3),$AP$14,Y37)) -> 1304803 | BK37: =IF($D37="","",IF(ISERR(Z37/3),$AP$14,Z37)) -> 1517219 | BL37: =IF($D37="","",IF(AA37="","",AA37))
A38: =IF(AND(LEFT(B38,11)<>"גיליון הזנה",INDIRECT("'"&$B38&"'!"&'גיליון עזר'!$I$1&ROW('מרכז מורשת בבל'!$I$3))=""),"חסרה הזנה","") | B38: ='הקם - בית הקונפדרציה'!$D$3 -> הקם - בית הקונפדרציה | C38: 22 | D38: =IF(OR(LEFT(B38,11)="גיליון הזנה",INDIRECT("'"&$B38&"'!"&'גיליון עזר'!$I$1&ROW('מרכז מורשת בבל'!$I$3))=0),"",B38) -> הקם - בית הקונפדרציה | E38: {=IF($D38="","",TRANSPOSE(INDIRECT("'"&$D38&"'!"&'גיליון עזר'!$D$1&ROW('מרכז מורשת בבל'!$D$16)):INDIRECT("'"&$D38&"'!"&'גיליון עזר'!$D$1&ROW('מרכז מורשת בבל'!$D$25))))} -> 0 | F38: 0 | G38: 0 | H38: 0 | I38: 0 | J38: 30 | K38: 0 | L38: 29 | M38: 0 | N38: 3 | O38: =IF($D38="","",INDIRECT("'"&$D38&"'!"&'גיליון עזר'!$F$1&ROW('מרכז מורשת בבל'!$B$78))) -> 0 | P38: {=IF($D38="","",TRANSPOSE(INDIRECT("'"&$D38&"'!"&'גיליון עזר'!$G$1&ROW('מרכז מורשת בבל'!$D$16)):INDIRECT("'"&$D38&"'!"&'גיליון עזר'!$G$1&ROW('מרכז מורשת בבל'!$D$17))))} -> 140 | Q38: 0 | R38: {=IF($D38="","",TRANSPOSE(INDIRECT("'"&$D38&"'!"&'גיליון עזר'!$N$1&ROW('מרכז מורשת בבל'!$D$16)):INDIRECT("'"&$D38&"'!"&'גיליון עזר'!$N$1&ROW('מרכז מורשת בבל'!$D$20))))} -> 0 | S38: 0 | T38: 0 | U38: 0 | V38: 0 | W38: =IF($D38="","",INDIRECT("'"&$D38&"'!"&'גיליון עזר'!$N$1&ROW('מרכז מורשת בבל'!$J$21))) -> 0 | X38: =IF($D38="","",INDIRECT("'"&$D38&"'!"&'גיליון עזר'!$L$1&ROW('מרכז מורשת בבל'!$J$78))) -> 0 | Y38: {=IF($D38="","",TRANSPOSE(INDIRECT("'"&$D38&"'!"&'גיליון עזר'!$J$1&ROW('מרכז מורשת בבל'!$D$17)):INDIRECT("'"&$D38&"'!"&'גיליון עזר'!$J$1&ROW('מרכז מורשת בבל'!$D$18))))} -> 413936 | Z38: 1429932 | AA38: =IF($D38="","",IF(INDIRECT("'"&$D38&"'!"&'גיליון עזר'!$J$1&ROW('מרכז מורשת בבל'!$D$21))="","",INDIRECT("'"&$D38&"'!"&'גיליון עזר'!$J$1&ROW('מרכז מורשת בבל'!$D$21)))) -> מעל 50% | AC38: =IF($D38="","",AC$16) -> כינוס | AD38: =IF($D38="","",AD$16) -> הרצאה | AE38: =IF($D38="","",AE$16) -> יום עיון | AF38: =IF($D38="","",AF$16) -> הפקה מורכבת | AG38: =IF($D38="","",AG$16) -> כן | AH38: =IF($D38="","",AH$16) -> לא | AI38: =IF($D38="","",AI$16) -> נאותה | AJ38: =IF($D38="","",AJ$16) -> טובה | ... AO38: =IF($D38="","",AO$16) -> מעל 4 בשנה | AP38: =IF($D38="","",IF(ISERR(E38/3),$AP$14,E38)) -> 0 | AQ38: =IF($D38="","",IF(ISERR(F38/3),$AP$14,F38)) -> 0 | AR38: =IF($D38="","",IF(ISERR(G38/3),$AP$14,G38)) -> 0 | AS38: =IF($D38="","",IF(ISERR(H38/3),$AP$14,H38)) -> 0 | AT38: =IF($D38="","",IF(ISERR(I38/3),$AP$14,I38)) -> 0 | AU38: =IF($D38="","",IF(ISERR(J38/3),$AP$14,J38)) -> 30 | AV38: =IF($D38="","",IF(ISERR(K38/3),$AP$14,K38)) -> 0 | AW38: =IF($D38="","",IF(ISERR(L38/3),$AP$14,L38)) -> 29 | ... BA38: =IF($D38="","",IF(ISERR(P38/3),$AP$14,P38)) -> 140 | BB38: =IF(Q38="","",Q38) -> 0 | BC38: =IF(R38="","",R38) -> 0 | BD38: =IF($D38="","",IF(ISERR(S38/3),$AP$14,S38)) -> 0 | BE38: =IF($D38="","",IF(ISERR(T38/3),$AP$14,T38)) -> 0 | BF38: =IF($D38="","",IF(U38="","",U38)) -> 0 | BG38: =IF($D38="","",IF(V38="","",V38)) -> 0 | BH38: =IF($D38="","",IF(W38="","",W38)) -> 0 | BI38: =IF($D38="","",IF(ISERR(X38/3),$AP$14,X38)) -> 0 | BJ38: =IF($D38="","",IF(ISERR(Y38/3),$AP$14,Y38)) -> 413936 | BK38: =IF($D38="","",IF(ISERR(Z38/3),$AP$14,Z38)) -> 1429932 | BL38: =IF($D38="","",IF(AA38="","",AA38)) -> מעל 50%
A39: =IF(AND(LEFT(B39,11)<>"גיליון הזנה",INDIRECT("'"&$B39&"'!"&'גיליון עזר'!$I$1&ROW('מרכז מורשת בבל'!$I$3))=""),"חסרה הזנה","") | B39: ='מוסיקה מזרח מערב'!$D$3 -> מוסיקה מזרח מערב | C39: 23 | D39: =IF(OR(LEFT(B39,11)="גיליון הזנה",INDIRECT("'"&$B39&"'!"&'גיליון עזר'!$I$1&ROW('מרכז מורשת בבל'!$I$3))=0),"",B39) -> מוסיקה מזרח מערב | E39: {=IF($D39="","",TRANSPOSE(INDIRECT("'"&$D39&"'!"&'גיליון עזר'!$D$1&ROW('מרכז מורשת בבל'!$D$16)):INDIRECT("'"&$D39&"'!"&'גיליון עזר'!$D$1&ROW('מרכז מורשת בבל'!$D$25))))} -> 0 | F39: 0 | G39: 0 | H39: 0 | I39: 0 | J39: 75 | K39: 0 | L39: 68 | M39: 0 | N39: 6 | O39: =IF($D39="","",INDIRECT("'"&$D39&"'!"&'גיליון עזר'!$F$1&ROW('מרכז מורשת בבל'!$B$78))) -> 102 | P39: {=IF($D39="","",TRANSPOSE(INDIRECT("'"&$D39&"'!"&'גיליון עזר'!$G$1&ROW('מרכז מורשת בבל'!$D$16)):INDIRECT("'"&$D39&"'!"&'גיליון עזר'!$G$1&ROW('מרכז מורשת בבל'!$D$17))))} -> 61 | Q39: טובה מאוד | R39: {=IF($D39="","",TRANSPOSE(INDIRECT("'"&$D39&"'!"&'גיליון עזר'!$N$1&ROW('מרכז מורשת בבל'!$D$16)):INDIRECT("'"&$D39&"'!"&'גיליון עזר'!$N$1&ROW('מרכז מורשת בבל'!$D$20))))} -> 0 | S39: 0 | T39: 0 | U39: 0 | V39: 0 | W39: =IF($D39="","",INDIRECT("'"&$D39&"'!"&'גיליון עזר'!$N$1&ROW('מרכז מורשת בבל'!$J$21))) -> 0 | X39: =IF($D39="","",INDIRECT("'"&$D39&"'!"&'גיליון עזר'!$L$1&ROW('מרכז מורשת בבל'!$J$78))) -> 0 | Y39: {=IF($D39="","",TRANSPOSE(INDIRECT("'"&$D39&"'!"&'גיליון עזר'!$J$1&ROW('מרכז מורשת בבל'!$D$17)):INDIRECT("'"&$D39&"'!"&'גיליון עזר'!$J$1&ROW('מרכז מורשת בבל'!$D$18))))} -> 130448 | Z39: 1216380 | AA39: =IF($D39="","",IF(INDIRECT("'"&$D39&"'!"&'גיליון עזר'!$J$1&ROW('מרכז מורשת בבל'!$D$21))="","",INDIRECT("'"&$D39&"'!"&'גיליון עזר'!$J$1&ROW('מרכז מורשת בבל'!$D$21)))) -> מעל 50% | AC39: =IF($D39="","",AC$16) -> כינוס | AD39: =IF($D39="","",AD$16) -> הרצאה | AE39: =IF($D39="","",AE$16) -> יום עיון | AF39: =IF($D39="","",AF$16) -> הפקה מורכבת | AG39: =IF($D39="","",AG$16) -> כן | AH39: =IF($D39="","",AH$16) -> לא | AI39: =IF($D39="","",AI$16) -> נאותה | AJ39: =IF($D39="","",AJ$16) -> טובה | ... AO39: =IF($D39="","",AO$16) -> מעל 4 בשנה | AP39: =IF($D39="","",IF(ISERR(E39/3),$AP$14,E39)) -> 0 | AQ39: =IF($D39="","",IF(ISERR(F39/3),$AP$14,F39)) -> 0 | AR39: =IF($D39="","",IF(ISERR(G39/3),$AP$14,G39)) -> 0 | AS39: =IF($D39="","",IF(ISERR(H39/3),$AP$14,H39)) -> 0 | AT39: =IF($D39="","",IF(ISERR(I39/3),$AP$14,I39)) -> 0 | AU39: =IF($D39="","",IF(ISERR(J39/3),$AP$14,J39)) -> 75 | AV39: =IF($D39="","",IF(ISERR(K39/3),$AP$14,K39)) -> 0 | AW39: =IF($D39="","",IF(ISERR(L39/3),$AP$14,L39)) -> 68 | ... BA39: =IF($D39="","",IF(ISERR(P39/3),$AP$14,P39)) -> 61 | BB39: =IF(Q39="","",Q39) -> טובה מאוד | BC39: =IF(R39="","",R39) -> 0 | BD39: =IF($D39="","",IF(ISERR(S39/3),$AP$14,S39)) -> 0 | BE39: =IF($D39="","",IF(ISERR(T39/3),$AP$14,T39)) -> 0 | BF39: =IF($D39="","",IF(U39="","",U39)) -> 0 | BG39: =IF($D39="","",IF(V39="","",V39)) -> 0 | BH39: =IF($D39="","",IF(W39="","",W39)) -> 0 | BI39: =IF($D39="","",IF(ISERR(X39/3),$AP$14,X39)) -> 0 | BJ39: =IF($D39="","",IF(ISERR(Y39/3),$AP$14,Y39)) -> 130448 | BK39: =IF($D39="","",IF(ISERR(Z39/3),$AP$14,Z39)) -> 1216380 | BL39: =IF($D39="","",IF(AA39="","",AA39)) -> מעל 50%
A40: =IF(AND(LEFT(B40,11)<>"גיליון הזנה",INDIRECT("'"&$B40&"'!"&'גיליון עזר'!$I$1&ROW('מרכז מורשת בבל'!$I$3))=""),"חסרה הזנה","") | B40: ='אעלה בתמר'!$D$3 -> אעלה בתמר | C40: 24 | D40: =IF(OR(LEFT(B40,11)="גיליון הזנה",INDIRECT("'"&$B40&"'!"&'גיליון עזר'!$I$1&ROW('מרכז מורשת בבל'!$I$3))=0),"",B40) -> אעלה בתמר | E40: {=IF($D40="","",TRANSPOSE(INDIRECT("'"&$D40&"'!"&'גיליון עזר'!$D$1&ROW('מרכז מורשת בבל'!$D$16)):INDIRECT("'"&$D40&"'!"&'גיליון עזר'!$D$1&ROW('מרכז מורשת בבל'!$D$25))))} -> 15 | F40: 35 | G40: 6 | H40: 32 | I40: 24 | J40: 141 | K40: 6 | L40: 140 | M40: 6 | N40: 1 | O40: =IF($D40="","",INDIRECT("'"&$D40&"'!"&'גיליון עזר'!$F$1&ROW('מרכז מורשת בבל'!$B$78))) -> 0 | P40: {=IF($D40="","",TRANSPOSE(INDIRECT("'"&$D40&"'!"&'גיליון עזר'!$G$1&ROW('מרכז מורשת בבל'!$D$16)):INDIRECT("'"&$D40&"'!"&'גיליון עזר'!$G$1&ROW('מרכז מורשת בבל'!$D$17))))} -> 350 | Q40: טובה מאוד | R40: {=IF($D40="","",TRANSPOSE(INDIRECT("'"&$D40&"'!"&'גיליון עזר'!$N$1&ROW('מרכז מורשת בבל'!$D$16)):INDIRECT("'"&$D40&"'!"&'גיליון עזר'!$N$1&ROW('מרכז מורשת בבל'!$D$20))))} -> מעל 4 בשנה | S40: 36 | T40: 70 | U40: כן | V40: כן | W40: =IF($D40="","",INDIRECT("'"&$D40&"'!"&'גיליון עזר'!$N$1&ROW('מרכז מורשת בבל'!$J$21))) -> לא | X40: =IF($D40="","",INDIRECT("'"&$D40&"'!"&'גיליון עזר'!$L$1&ROW('מרכז מורשת בבל'!$J$78))) -> 5 | Y40: {=IF($D40="","",TRANSPOSE(INDIRECT("'"&$D40&"'!"&'גיליון עזר'!$J$1&ROW('מרכז מורשת בבל'!$D$17)):INDIRECT("'"&$D40&"'!"&'גיליון עזר'!$J$1&ROW('מרכז מורשת בבל'!$D$18))))} -> 1443660 | Z40: 3074858 | AA40: =IF($D40="","",IF(INDIRECT("'"&$D40&"'!"&'גיליון עזר'!$J$1&ROW('מרכז מורשת בבל'!$D$21))="","",INDIRECT("'"&$D40&"'!"&'גיליון עזר'!$J$1&ROW('מרכז מורשת בבל'!$D$21)))) -> מעל 20% | AC40: =IF($D40="","",AC$16) -> כינוס | AD40: =IF($D40="","",AD$16) -> הרצאה | AE40: =IF($D40="","",AE$16) -> יום עיון | AF40: =IF($D40="","",AF$16) -> הפקה מורכבת | AG40: =IF($D40="","",AG$16) -> כן | AH40: =IF($D40="","",AH$16) -> לא | AI40: =IF($D40="","",AI$16) -> נאותה | AJ40: =IF($D40="","",AJ$16) -> טובה | ... AO40: =IF($D40="","",AO$16) -> מעל 4 בשנה | AP40: =IF($D40="","",IF(ISERR(E40/3),$AP$14,E40)) -> 15 | AQ40: =IF($D40="","",IF(ISERR(F40/3),$AP$14,F40)) -> 35 | AR40: =IF($D40="","",IF(ISERR(G40/3),$AP$14,G40)) -> 6 | AS40: =IF($D40="","",IF(ISERR(H40/3),$AP$14,H40)) -> 32 | AT40: =IF($D40="","",IF(ISERR(I40/3),$AP$14,I40)) -> 24 | AU40: =IF($D40="","",IF(ISERR(J40/3),$AP$14,J40)) -> 141 | AV40: =IF($D40="","",IF(ISERR(K40/3),$AP$14,K40)) -> 6 | AW40: =IF($D40="","",IF(ISERR(L40/3),$AP$14,L40)) -> 140 | ... BA40: =IF($D40="","",IF(ISERR(P40/3),$AP$14,P40)) -> 350 | BB40: =IF(Q40="","",Q40) -> טובה מאוד | BC40: =IF(R40="","",R40) -> מעל 4 בשנה | BD40: =IF($D40="","",IF(ISERR(S40/3),$AP$14,S40)) -> 36 | BE40: =IF($D40="","",IF(ISERR(T40/3),$AP$14,T40)) -> 70 | BF40: =IF($D40="","",IF(U40="","",U40)) -> כן | BG40: =IF($D40="","",IF(V40="","",V40)) -> כן | BH40: =IF($D40="","",IF(W40="","",W40)) -> לא | BI40: =IF($D40="","",IF(ISERR(X40/3),$AP$14,X40)) -> 5 | BJ40: =IF($D40="","",IF(ISERR(Y40/3),$AP$14,Y40)) -> 1443660 | BK40: =IF($D40="","",IF(ISERR(Z40/3),$AP$14,Z40)) -> 3074858 | BL40: =IF($D40="","",IF(AA40="","",AA40)) -> מעל 20%
A41: =IF(AND(LEFT(B41,11)<>"גיליון הזנה",INDIRECT("'"&$B41&"'!"&'גיליון עזר'!$I$1&ROW('מרכז מורשת בבל'!$I$3))=""),"חסרה הזנה","") | B41: ='גיליון הזנה 25'!$D$3 -> גיליון הזנה 25 | C41: 25 | D41: =IF(OR(LEFT(B41,11)="גיליון הזנה",INDIRECT("'"&$B41&"'!"&'גיליון עזר'!$I$1&ROW('מרכז מורשת בבל'!$I$3))=0),"",B41) | E41: {=IF($D41="","",TRANSPOSE(INDIRECT("'"&$D41&"'!"&'גיליון עזר'!$D$1&ROW('מרכז מורשת בבל'!$D$16)):INDIRECT("'"&$D41&"'!"&'גיליון עזר'!$D$1&ROW('מרכז מורשת בבל'!$D$25))))} | O41: =IF($D41="","",INDIRECT("'"&$D41&"'!"&'גיליון עזר'!$F$1&ROW('מרכז מורשת בבל'!$B$78))) | P41: {=IF($D41="","",TRANSPOSE(INDIRECT("'"&$D41&"'!"&'גיליון עזר'!$G$1&ROW('מרכז מורשת בבל'!$D$16)):INDIRECT("'"&$D41&"'!"&'גיליון עזר'!$G$1&ROW('מרכז מורשת בבל'!$D$17))))} | R41: {=IF($D41="","",TRANSPOSE(INDIRECT("'"&$D41&"'!"&'גיליון עזר'!$N$1&ROW('מרכז מורשת בבל'!$D$16)):INDIRECT("'"&$D41&"'!"&'גיליון עזר'!$N$1&ROW('מרכז מורשת בבל'!$D$20))))} | W41: =IF($D41="","",INDIRECT("'"&$D41&"'!"&'גיליון עזר'!$N$1&ROW('מרכז מורשת בבל'!$J$21))) | X41: =IF($D41="","",INDIRECT("'"&$D41&"'!"&'גיליון עזר'!$L$1&ROW('מרכז מורשת בבל'!$J$78))) | Y41: {=IF($D41="","",TRANSPOSE(INDIRECT("'"&$D41&"'!"&'גיליון עזר'!$J$1&ROW('מרכז מורשת בבל'!$D$17)):INDIRECT("'"&$D41&"'!"&'גיליון עזר'!$J$1&ROW('מרכז מורשת בבל'!$D$18))))} | AA41: =IF($D41="","",IF(INDIRECT("'"&$D41&"'!"&'גיליון עזר'!$J$1&ROW('מרכז מורשת בבל'!$D$21))="","",INDIRECT("'"&$D41&"'!"&'גיליון עזר'!$J$1&ROW('מרכז מורשת בבל'!$D$21)))) | AC41: =IF($D41="","",AC$16) | AD41: =IF($D41="","",AD$16) | AE41: =IF($D41="","",AE$16) | AF41: =IF($D41="","",AF$16) | AG41: =IF($D41="","",AG$16) | AH41: =IF($D41="","",AH$16) | AI41: =IF($D41="","",AI$16) | AJ41: =IF($D41="","",AJ$16) | ... AO41: =IF($D41="","",AO$16) | AP41: =IF($D41="","",IF(ISERR(E41/3),$AP$14,E41)) | AQ41: =IF($D41="","",IF(ISERR(F41/3),$AP$14,F41)) | AR41: =IF($D41="","",IF(ISERR(G41/3),$AP$14,G41)) | AS41: =IF($D41="","",IF(ISERR(H41/3),$AP$14,H41)) | AT41: =IF($D41="","",IF(ISERR(I41/3),$AP$14,I41)) | AU41: =IF($D41="","",IF(ISERR(J41/3),$AP$14,J41)) | AV41: =IF($D41="","",IF(ISERR(K41/3),$AP$14,K41)) | AW41: =IF($D41="","",IF(ISERR(L41/3),$AP$14,L41)) | ... BA41: =IF($D41="","",IF(ISERR(P41/3),$AP$14,P41)) | BB41: =IF(Q41="","",Q41) | BC41: =IF(R41="","",R41) | BD41: =IF($D41="","",IF(ISERR(S41/3),$AP$14,S41)) | BE41: =IF($D41="","",IF(ISERR(T41/3),$AP$14,T41)) | BF41: =IF($D41="","",IF(U41="","",U41)) | BG41: =IF($D41="","",IF(V41="","",V41)) | BH41: =IF($D41="","",IF(W41="","",W41)) | BI41: =IF($D41="","",IF(ISERR(X41/3),$AP$14,X41)) | BJ41: =IF($D41="","",IF(ISERR(Y41/3),$AP$14,Y41)) | BK41: =IF($D41="","",IF(ISERR(Z41/3),$AP$14,Z41)) | BL41: =IF($D41="","",IF(AA41="","",AA41))
A42: =IF(AND(LEFT(B42,11)<>"גיליון הזנה",INDIRECT("'"&$B42&"'!"&'גיליון עזר'!$I$1&ROW('מרכז מורשת בבל'!$I$3))=""),"חסרה הזנה","") | B42: ='גיליון הזנה 26'!$D$3 -> גיליון הזנה 26 | C42: 26 | D42: =IF(OR(LEFT(B42,11)="גיליון הזנה",INDIRECT("'"&$B42&"'!"&'גיליון עזר'!$I$1&ROW('מרכז מורשת בבל'!$I$3))=0),"",B42) | E42: {=IF($D42="","",TRANSPOSE(INDIRECT("'"&$D42&"'!"&'גיליון עזר'!$D$1&ROW('מרכז מורשת בבל'!$D$16)):INDIRECT("'"&$D42&"'!"&'גיליון עזר'!$D$1&ROW('מרכז מורשת בבל'!$D$25))))} | O42: =IF($D42="","",INDIRECT("'"&$D42&"'!"&'גיליון עזר'!$F$1&ROW('מרכז מורשת בבל'!$B$78))) | P42: {=IF($D42="","",TRANSPOSE(INDIRECT("'"&$D42&"'!"&'גיליון עזר'!$G$1&ROW('מרכז מורשת בבל'!$D$16)):INDIRECT("'"&$D42&"'!"&'גיליון עזר'!$G$1&ROW('מרכז מורשת בבל'!$D$17))))} | R42: {=IF($D42="","",TRANSPOSE(INDIRECT("'"&$D42&"'!"&'גיליון עזר'!$N$1&ROW('מרכז מורשת בבל'!$D$16)):INDIRECT("'"&$D42&"'!"&'גיליון עזר'!$N$1&ROW('מרכז מורשת בבל'!$D$20))))} | W42: =IF($D42="","",INDIRECT("'"&$D42&"'!"&'גיליון עזר'!$N$1&ROW('מרכז מורשת בבל'!$J$21))) | X42: =IF($D42="","",INDIRECT("'"&$D42&"'!"&'גיליון עזר'!$L$1&ROW('מרכז מורשת בבל'!$J$78))) | Y42: {=IF($D42="","",TRANSPOSE(INDIRECT("'"&$D42&"'!"&'גיליון עזר'!$J$1&ROW('מרכז מורשת בבל'!$D$17)):INDIRECT("'"&$D42&"'!"&'גיליון עזר'!$J$1&ROW('מרכז מורשת בבל'!$D$18))))} | AA42: =IF($D42="","",IF(INDIRECT("'"&$D42&"'!"&'גיליון עזר'!$J$1&ROW('מרכז מורשת בבל'!$D$21))="","",INDIRECT("'"&$D42&"'!"&'גיליון עזר'!$J$1&ROW('מרכז מורשת בבל'!$D$21)))) | AC42: =IF($D42="","",AC$16) | AD42: =IF($D42="","",AD$16) | AE42: =IF($D42="","",AE$16) | AF42: =IF($D42="","",AF$16) | AG42: =IF($D42="","",AG$16) | AH42: =IF($D42="","",AH$16) | AI42: =IF($D42="","",AI$16) | AJ42: =IF($D42="","",AJ$16) | ... AO42: =IF($D42="","",AO$16) | AP42: =IF($D42="","",IF(ISERR(E42/3),$AP$14,E42)) | AQ42: =IF($D42="","",IF(ISERR(F42/3),$AP$14,F42)) | AR42: =IF($D42="","",IF(ISERR(G42/3),$AP$14,G42)) | AS42: =IF($D42="","",IF(ISERR(H42/3),$AP$14,H42)) | AT42: =IF($D42="","",IF(ISERR(I42/3),$AP$14,I42)) | AU42: =IF($D42="","",IF(ISERR(J42/3),$AP$14,J42)) | AV42: =IF($D42="","",IF(ISERR(K42/3),$AP$14,K42)) | AW42: =IF($D42="","",IF(ISERR(L42/3),$AP$14,L42)) | ... BA42: =IF($D42="","",IF(ISERR(P42/3),$AP$14,P42)) | BB42: =IF(Q42="","",Q42) | BC42: =IF(R42="","",R42) | BD42: =IF($D42="","",IF(ISERR(S42/3),$AP$14,S42)) | BE42: =IF($D42="","",IF(ISERR(T42/3),$AP$14,T42)) | BF42: =IF($D42="","",IF(U42="","",U42)) | BG42: =IF($D42="","",IF(V42="","",V42)) | BH42: =IF($D42="","",IF(W42="","",W42)) | BI42: =IF($D42="","",IF(ISERR(X42/3),$AP$14,X42)) | BJ42: =IF($D42="","",IF(ISERR(Y42/3),$AP$14,Y42)) | BK42: =IF($D42="","",IF(ISERR(Z42/3),$AP$14,Z42)) | BL42: =IF($D42="","",IF(AA42="","",AA42))
A43: =IF(AND(LEFT(B43,11)<>"גיליון הזנה",INDIRECT("'"&$B43&"'!"&'גיליון עזר'!$I$1&ROW('מרכז מורשת בבל'!$I$3))=""),"חסרה הזנה","") | B43: ='מכון הברמן'!$D$3 -> מכון הברמן | C43: 27 | D43: =IF(OR(LEFT(B43,11)="גיליון הזנה",INDIRECT("'"&$B43&"'!"&'גיליון עזר'!$I$1&ROW('מרכז מורשת בבל'!$I$3))=0),"",B43) -> מכון הברמן | E43: {=IF($D43="","",TRANSPOSE(INDIRECT("'"&$D43&"'!"&'גיליון עזר'!$D$1&ROW('מרכז מורשת בבל'!$D$16)):INDIRECT("'"&$D43&"'!"&'גיליון עזר'!$D$1&ROW('מרכז מורשת בבל'!$D$25))))} -> 2 | F43: 27 | G43: 12 | H43: 13 | I43: 7 | J43: 5 | K43: 0 | L43: 5 | M43: 0 | N43: 3 | O43: =IF($D43="","",INDIRECT("'"&$D43&"'!"&'גיליון עזר'!$F$1&ROW('מרכז מורשת בבל'!$B$78))) -> 1879 | P43: {=IF($D43="","",TRANSPOSE(INDIRECT("'"&$D43&"'!"&'גיליון עזר'!$G$1&ROW('מרכז מורשת בבל'!$D$16)):INDIRECT("'"&$D43&"'!"&'גיליון עזר'!$G$1&ROW('מרכז מורשת בבל'!$D$17))))} -> 80 | Q43: 0 | R43: {=IF($D43="","",TRANSPOSE(INDIRECT("'"&$D43&"'!"&'גיליון עזר'!$N$1&ROW('מרכז מורשת בבל'!$D$16)):INDIRECT("'"&$D43&"'!"&'גיליון עזר'!$N$1&ROW('מרכז מורשת בבל'!$D$20))))} -> שניים בשנה | S43: 125 | T43: 500 | U43: כן | V43: לא | W43: =IF($D43="","",INDIRECT("'"&$D43&"'!"&'גיליון עזר'!$N$1&ROW('מרכז מורשת בבל'!$J$21))) -> לא | X43: =IF($D43="","",INDIRECT("'"&$D43&"'!"&'גיליון עזר'!$L$1&ROW('מרכז מורשת בבל'!$J$78))) -> 0 | Y43: {=IF($D43="","",TRANSPOSE(INDIRECT("'"&$D43&"'!"&'גיליון עזר'!$J$1&ROW('מרכז מורשת בבל'!$D$17)):INDIRECT("'"&$D43&"'!"&'גיליון עזר'!$J$1&ROW('מרכז מורשת בבל'!$D$18))))} -> 118648 | Z43: 502396 | AA43: =IF($D43="","",IF(INDIRECT("'"&$D43&"'!"&'גיליון עזר'!$J$1&ROW('מרכז מורשת בבל'!$D$21))="","",INDIRECT("'"&$D43&"'!"&'גיליון עזר'!$J$1&ROW('מרכז מורשת בבל'!$D$21)))) -> מעל 20% | AC43: =IF($D43="","",AC$16) -> כינוס | AD43: =IF($D43="","",AD$16) -> הרצאה | AE43: =IF($D43="","",AE$16) -> יום עיון | AF43: =IF($D43="","",AF$16) -> הפקה מורכבת | AG43: =IF($D43="","",AG$16) -> כן | AH43: =IF($D43="","",AH$16) -> לא | AI43: =IF($D43="","",AI$16) -> נאותה | AJ43: =IF($D43="","",AJ$16) -> טובה | ... AO43: =IF($D43="","",AO$16) -> מעל 4 בשנה | AP43: =IF($D43="","",IF(ISERR(E43/3),$AP$14,E43)) -> 2 | AQ43: =IF($D43="","",IF(ISERR(F43/3),$AP$14,F43)) -> 27 | AR43: =IF($D43="","",IF(ISERR(G43/3),$AP$14,G43)) -> 12 | AS43: =IF($D43="","",IF(ISERR(H43/3),$AP$14,H43)) -> 13 | AT43: =IF($D43="","",IF(ISERR(I43/3),$AP$14,I43)) -> 7 | AU43: =IF($D43="","",IF(ISERR(J43/3),$AP$14,J43)) -> 5 | AV43: =IF($D43="","",IF(ISERR(K43/3),$AP$14,K43)) -> 0 | AW43: =IF($D43="","",IF(ISERR(L43/3),$AP$14,L43)) -> 5 | ... BA43: =IF($D43="","",IF(ISERR(P43/3),$AP$14,P43)) -> 80 | BB43: =IF(Q43="","",Q43) -> 0 | BC43: =IF(R43="","",R43) -> שניים בשנה | BD43: =IF($D43="","",IF(ISERR(S43/3),$AP$14,S43)) -> 125 | BE43: =IF($D43="","",IF(ISERR(T43/3),$AP$14,T43)) -> 500 | BF43: =IF($D43="","",IF(U43="","",U43)) -> כן | BG43: =IF($D43="","",IF(V43="","",V43)) -> לא | BH43: =IF($D43="","",IF(W43="","",W43)) -> לא | BI43: =IF($D43="","",IF(ISERR(X43/3),$AP$14,X43)) -> 0 | BJ43: =IF($D43="","",IF(ISERR(Y43/3),$AP$14,Y43)) -> 118648 | BK43: =IF($D43="","",IF(ISERR(Z43/3),$AP$14,Z43)) -> 502396 | BL43: =IF($D43="","",IF(AA43="","",AA43)) -> מעל 20%
A44: =IF(AND(LEFT(B44,11)<>"גיליון הזנה",INDIRECT("'"&$B44&"'!"&'גיליון עזר'!$I$1&ROW('מרכז מורשת בבל'!$I$3))=""),"חסרה הזנה","") | B44: ='גיליון הזנה 28'!$D$3 -> גיליון הזנה 28 | C44: 28 | D44: =IF(OR(LEFT(B44,11)="גיליון הזנה",INDIRECT("'"&$B44&"'!"&'גיליון עזר'!$I$1&ROW('מרכז מורשת בבל'!$I$3))=0),"",B44) | E44: {=IF($D44="","",TRANSPOSE(INDIRECT("'"&$D44&"'!"&'גיליון עזר'!$D$1&ROW('מרכז מורשת בבל'!$D$16)):INDIRECT("'"&$D44&"'!"&'גיליון עזר'!$D$1&ROW('מרכז מורשת בבל'!$D$25))))} | O44: =IF($D44="","",INDIRECT("'"&$D44&"'!"&'גיליון עזר'!$F$1&ROW('מרכז מורשת בבל'!$B$78))) | P44: {=IF($D44="","",TRANSPOSE(INDIRECT("'"&$D44&"'!"&'גיליון עזר'!$G$1&ROW('מרכז מורשת בבל'!$D$16)):INDIRECT("'"&$D44&"'!"&'גיליון עזר'!$G$1&ROW('מרכז מורשת בבל'!$D$17))))} | R44: {=IF($D44="","",TRANSPOSE(INDIRECT("'"&$D44&"'!"&'גיליון עזר'!$N$1&ROW('מרכז מורשת בבל'!$D$16)):INDIRECT("'"&$D44&"'!"&'גיליון עזר'!$N$1&ROW('מרכז מורשת בבל'!$D$20))))} | W44: =IF($D44="","",INDIRECT("'"&$D44&"'!"&'גיליון עזר'!$N$1&ROW('מרכז מורשת בבל'!$J$21))) | X44: =IF($D44="","",INDIRECT("'"&$D44&"'!"&'גיליון עזר'!$L$1&ROW('מרכז מורשת בבל'!$J$78))) | Y44: {=IF($D44="","",TRANSPOSE(INDIRECT("'"&$D44&"'!"&'גיליון עזר'!$J$1&ROW('מרכז מורשת בבל'!$D$17)):INDIRECT("'"&$D44&"'!"&'גיליון עזר'!$J$1&ROW('מרכז מורשת בבל'!$D$18))))} | AA44: =IF($D44="","",IF(INDIRECT("'"&$D44&"'!"&'גיליון עזר'!$J$1&ROW('מרכז מורשת בבל'!$D$21))="","",INDIRECT("'"&$D44&"'!"&'גיליון עזר'!$J$1&ROW('מרכז מורשת בבל'!$D$21)))) | AC44: =IF($D44="","",AC$16) | AD44: =IF($D44="","",AD$16) | AE44: =IF($D44="","",AE$16) | AF44: =IF($D44="","",AF$16) | AG44: =IF($D44="","",AG$16) | AH44: =IF($D44="","",AH$16) | AI44: =IF($D44="","",AI$16) | AJ44: =IF($D44="","",AJ$16) | ... AO44: =IF($D44="","",AO$16) | AP44: =IF($D44="","",IF(ISERR(E44/3),$AP$14,E44)) | AQ44: =IF($D44="","",IF(ISERR(F44/3),$AP$14,F44)) | AR44: =IF($D44="","",IF(ISERR(G44/3),$AP$14,G44)) | AS44: =IF($D44="","",IF(ISERR(H44/3),$AP$14,H44)) | AT44: =IF($D44="","",IF(ISERR(I44/3),$AP$14,I44)) | AU44: =IF($D44="","",IF(ISERR(J44/3),$AP$14,J44)) | AV44: =IF($D44="","",IF(ISERR(K44/3),$AP$14,K44)) | AW44: =IF($D44="","",IF(ISERR(L44/3),$AP$14,L44)) | ... BA44: =IF($D44="","",IF(ISERR(P44/3),$AP$14,P44)) | BB44: =IF(Q44="","",Q44) | BC44: =IF(R44="","",R44) | BD44: =IF($D44="","",IF(ISERR(S44/3),$AP$14,S44)) | BE44: =IF($D44="","",IF(ISERR(T44/3),$AP$14,T44)) | BF44: =IF($D44="","",IF(U44="","",U44)) | BG44: =IF($D44="","",IF(V44="","",V44)) | BH44: =IF($D44="","",IF(W44="","",W44)) | BI44: =IF($D44="","",IF(ISERR(X44/3),$AP$14,X44)) | BJ44: =IF($D44="","",IF(ISERR(Y44/3),$AP$14,Y44)) | BK44: =IF($D44="","",IF(ISERR(Z44/3),$AP$14,Z44)) | BL44: =IF($D44="","",IF(AA44="","",AA44))
A45: =IF(AND(LEFT(B45,11)<>"גיליון הזנה",INDIRECT("'"&$B45&"'!"&'גיליון עזר'!$I$1&ROW('מרכז מורשת בבל'!$I$3))=""),"חסרה הזנה","") | B45: ='גיליון הזנה 29'!$D$3 -> גיליון הזנה 29 | C45: 29 | D45: =IF(OR(LEFT(B45,11)="גיליון הזנה",INDIRECT("'"&$B45&"'!"&'גיליון עזר'!$I$1&ROW('מרכז מורשת בבל'!$I$3))=0),"",B45) | E45: {=IF($D45="","",TRANSPOSE(INDIRECT("'"&$D45&"'!"&'גיליון עזר'!$D$1&ROW('מרכז מורשת בבל'!$D$16)):INDIRECT("'"&$D45&"'!"&'גיליון עזר'!$D$1&ROW('מרכז מורשת בבל'!$D$25))))} | O45: =IF($D45="","",INDIRECT("'"&$D45&"'!"&'גיליון עזר'!$F$1&ROW('מרכז מורשת בבל'!$B$78))) | P45: {=IF($D45="","",TRANSPOSE(INDIRECT("'"&$D45&"'!"&'גיליון עזר'!$G$1&ROW('מרכז מורשת בבל'!$D$16)):INDIRECT("'"&$D45&"'!"&'גיליון עזר'!$G$1&ROW('מרכז מורשת בבל'!$D$17))))} | R45: {=IF($D45="","",TRANSPOSE(INDIRECT("'"&$D45&"'!"&'גיליון עזר'!$N$1&ROW('מרכז מורשת בבל'!$D$16)):INDIRECT("'"&$D45&"'!"&'גיליון עזר'!$N$1&ROW('מרכז מורשת בבל'!$D$20))))} | W45: =IF($D45="","",INDIRECT("'"&$D45&"'!"&'גיליון עזר'!$N$1&ROW('מרכז מורשת בבל'!$J$21))) | X45: =IF($D45="","",INDIRECT("'"&$D45&"'!"&'גיליון עזר'!$L$1&ROW('מרכז מורשת בבל'!$J$78))) | Y45: {=IF($D45="","",TRANSPOSE(INDIRECT("'"&$D45&"'!"&'גיליון עזר'!$J$1&ROW('מרכז מורשת בבל'!$D$17)):INDIRECT("'"&$D45&"'!"&'גיליון עזר'!$J$1&ROW('מרכז מורשת בבל'!$D$18))))} | AA45: =IF($D45="","",IF(INDIRECT("'"&$D45&"'!"&'גיליון עזר'!$J$1&ROW('מרכז מורשת בבל'!$D$21))="","",INDIRECT("'"&$D45&"'!"&'גיליון עזר'!$J$1&ROW('מרכז מורשת בבל'!$D$21)))) | AC45: =IF($D45="","",AC$16) | AD45: =IF($D45="","",AD$16) | AE45: =IF($D45="","",AE$16) | AF45: =IF($D45="","",AF$16) | AG45: =IF($D45="","",AG$16) | AH45: =IF($D45="","",AH$16) | AI45: =IF($D45="","",AI$16) | AJ45: =IF($D45="","",AJ$16) | ... AO45: =IF($D45="","",AO$16) | AP45: =IF($D45="","",IF(ISERR(E45/3),$AP$14,E45)) | AQ45: =IF($D45="","",IF(ISERR(F45/3),$AP$14,F45)) | AR45: =IF($D45="","",IF(ISERR(G45/3),$AP$14,G45)) | AS45: =IF($D45="","",IF(ISERR(H45/3),$AP$14,H45)) | AT45: =IF($D45="","",IF(ISERR(I45/3),$AP$14,I45)) | AU45: =IF($D45="","",IF(ISERR(J45/3),$AP$14,J45)) | AV45: =IF($D45="","",IF(ISERR(K45/3),$AP$14,K45)) | AW45: =IF($D45="","",IF(ISERR(L45/3),$AP$14,L45)) | ... BA45: =IF($D45="","",IF(ISERR(P45/3),$AP$14,P45)) | BB45: =IF(Q45="","",Q45) | BC45: =IF(R45="","",R45) | BD45: =IF($D45="","",IF(ISERR(S45/3),$AP$14,S45)) | BE45: =IF($D45="","",IF(ISERR(T45/3),$AP$14,T45)) | BF45: =IF($D45="","",IF(U45="","",U45)) | BG45: =IF($D45="","",IF(V45="","",V45)) | BH45: =IF($D45="","",IF(W45="","",W45)) | BI45: =IF($D45="","",IF(ISERR(X45/3),$AP$14,X45)) | BJ45: =IF($D45="","",IF(ISERR(Y45/3),$AP$14,Y45)) | BK45: =IF($D45="","",IF(ISERR(Z45/3),$AP$14,Z45)) | BL45: =IF($D45="","",IF(AA45="","",AA45))
A46: =IF(AND(LEFT(B46,11)<>"גיליון הזנה",INDIRECT("'"&$B46&"'!"&'גיליון עזר'!$I$1&ROW('מרכז מורשת בבל'!$I$3))=""),"חסרה הזנה","") | B46: ='גיליון הזנה 30'!$D$3 -> גיליון הזנה 30 | C46: 30 | D46: =IF(OR(LEFT(B46,11)="גיליון הזנה",INDIRECT("'"&$B46&"'!"&'גיליון עזר'!$I$1&ROW('מרכז מורשת בבל'!$I$3))=0),"",B46) | E46: {=IF($D46="","",TRANSPOSE(INDIRECT("'"&$D46&"'!"&'גיליון עזר'!$D$1&ROW('מרכז מורשת בבל'!$D$16)):INDIRECT("'"&$D46&"'!"&'גיליון עזר'!$D$1&ROW('מרכז מורשת בבל'!$D$25))))} | O46: =IF($D46="","",INDIRECT("'"&$D46&"'!"&'גיליון עזר'!$F$1&ROW('מרכז מורשת בבל'!$B$78))) | P46: {=IF($D46="","",TRANSPOSE(INDIRECT("'"&$D46&"'!"&'גיליון עזר'!$G$1&ROW('מרכז מורשת בבל'!$D$16)):INDIRECT("'"&$D46&"'!"&'גיליון עזר'!$G$1&ROW('מרכז מורשת בבל'!$D$17))))} | R46: {=IF($D46="","",TRANSPOSE(INDIRECT("'"&$D46&"'!"&'גיליון עזר'!$N$1&ROW('מרכז מורשת בבל'!$D$16)):INDIRECT("'"&$D46&"'!"&'גיליון עזר'!$N$1&ROW('מרכז מורשת בבל'!$D$20))))} | W46: =IF($D46="","",INDIRECT("'"&$D46&"'!"&'גיליון עזר'!$N$1&ROW('מרכז מורשת בבל'!$J$21))) | X46: =IF($D46="","",INDIRECT("'"&$D46&"'!"&'גיליון עזר'!$L$1&ROW('מרכז מורשת בבל'!$J$78))) | Y46: {=IF($D46="","",TRANSPOSE(INDIRECT("'"&$D46&"'!"&'גיליון עזר'!$J$1&ROW('מרכז מורשת בבל'!$D$17)):INDIRECT("'"&$D46&"'!"&'גיליון עזר'!$J$1&ROW('מרכז מורשת בבל'!$D$18))))} | AA46: =IF($D46="","",IF(INDIRECT("'"&$D46&"'!"&'גיליון עזר'!$J$1&ROW('מרכז מורשת בבל'!$D$21))="","",INDIRECT("'"&$D46&"'!"&'גיליון עזר'!$J$1&ROW('מרכז מורשת בבל'!$D$21)))) | AC46: =IF($D46="","",AC$16) | AD46: =IF($D46="","",AD$16) | AE46: =IF($D46="","",AE$16) | AF46: =IF($D46="","",AF$16) | AG46: =IF($D46="","",AG$16) | AH46: =IF($D46="","",AH$16) | AI46: =IF($D46="","",AI$16) | AJ46: =IF($D46="","",AJ$16) | ... AO46: =IF($D46="","",AO$16) | AP46: =IF($D46="","",IF(ISERR(E46/3),$AP$14,E46)) | AQ46: =IF($D46="","",IF(ISERR(F46/3),$AP$14,F46)) | AR46: =IF($D46="","",IF(ISERR(G46/3),$AP$14,G46)) | AS46: =IF($D46="","",IF(ISERR(H46/3),$AP$14,H46)) | AT46: =IF($D46="","",IF(ISERR(I46/3),$AP$14,I46)) | AU46: =IF($D46="","",IF(ISERR(J46/3),$AP$14,J46)) | AV46: =IF($D46="","",IF(ISERR(K46/3),$AP$14,K46)) | AW46: =IF($D46="","",IF(ISERR(L46/3),$AP$14,L46)) | ... BA46: =IF($D46="","",IF(ISERR(P46/3),$AP$14,P46)) | BB46: =IF(Q46="","",Q46) | BC46: =IF(R46="","",R46) | BD46: =IF($D46="","",IF(ISERR(S46/3),$AP$14,S46)) | BE46: =IF($D46="","",IF(ISERR(T46/3),$AP$14,T46)) | BF46: =IF($D46="","",IF(U46="","",U46)) | BG46: =IF($D46="","",IF(V46="","",V46)) | BH46: =IF($D46="","",IF(W46="","",W46)) | BI46: =IF($D46="","",IF(ISERR(X46/3),$AP$14,X46)) | BJ46: =IF($D46="","",IF(ISERR(Y46/3),$AP$14,Y46)) | BK46: =IF($D46="","",IF(ISERR(Z46/3),$AP$14,Z46)) | BL46: =IF($D46="","",IF(AA46="","",AA46))
A47: =IF(AND(LEFT(B47,11)<>"גיליון הזנה",INDIRECT("'"&$B47&"'!"&'גיליון עזר'!$I$1&ROW('מרכז מורשת בבל'!$I$3))=""),"חסרה הזנה","") | B47: =כולנא!$D$3 -> כולנא | C47: 31 | D47: =IF(OR(LEFT(B47,11)="גיליון הזנה",INDIRECT("'"&$B47&"'!"&'גיליון עזר'!$I$1&ROW('מרכז מורשת בבל'!$I$3))=0),"",B47) -> כולנא | E47: {=IF($D47="","",TRANSPOSE(INDIRECT("'"&$D47&"'!"&'גיליון עזר'!$D$1&ROW('מרכז מורשת בבל'!$D$16)):INDIRECT("'"&$D47&"'!"&'גיליון עזר'!$D$1&ROW('מרכז מורשת בבל'!$D$25))))} -> 36 | F47: 20 | G47: 6 | H47: 43 | I47: 15 | J47: 15 | K47: 2 | L47: 15 | M47: 2 | N47: 7 | O47: =IF($D47="","",INDIRECT("'"&$D47&"'!"&'גיליון עזר'!$F$1&ROW('מרכז מורשת בבל'!$B$78))) -> 300 | P47: {=IF($D47="","",TRANSPOSE(INDIRECT("'"&$D47&"'!"&'גיליון עזר'!$G$1&ROW('מרכז מורשת בבל'!$D$16)):INDIRECT("'"&$D47&"'!"&'גיליון עזר'!$G$1&ROW('מרכז מורשת בבל'!$D$17))))} -> 14 | Q47: נאותה | R47: {=IF($D47="","",TRANSPOSE(INDIRECT("'"&$D47&"'!"&'גיליון עזר'!$N$1&ROW('מרכז מורשת בבל'!$D$16)):INDIRECT("'"&$D47&"'!"&'גיליון עזר'!$N$1&ROW('מרכז מורשת בבל'!$D$20))))} -> אחד בשנה | S47: 80 | T47: 150 | U47: לא | V47: לא | W47: =IF($D47="","",INDIRECT("'"&$D47&"'!"&'גיליון עזר'!$N$1&ROW('מרכז מורשת בבל'!$J$21))) -> לא | X47: =IF($D47="","",INDIRECT("'"&$D47&"'!"&'גיליון עזר'!$L$1&ROW('מרכז מורשת בבל'!$J$78))) -> 0 | Y47: {=IF($D47="","",TRANSPOSE(INDIRECT("'"&$D47&"'!"&'גיליון עזר'!$J$1&ROW('מרכז מורשת בבל'!$D$17)):INDIRECT("'"&$D47&"'!"&'גיליון עזר'!$J$1&ROW('מרכז מורשת בבל'!$D$18))))} -> 120000 | Z47: 1750000 | AA47: =IF($D47="","",IF(INDIRECT("'"&$D47&"'!"&'גיליון עזר'!$J$1&ROW('מרכז מורשת בבל'!$D$21))="","",INDIRECT("'"&$D47&"'!"&'גיליון עזר'!$J$1&ROW('מרכז מורשת בבל'!$D$21)))) | AC47: =IF($D47="","",AC$16) -> כינוס | AD47: =IF($D47="","",AD$16) -> הרצאה | AE47: =IF($D47="","",AE$16) -> יום עיון | AF47: =IF($D47="","",AF$16) -> הפקה מורכבת | AG47: =IF($D47="","",AG$16) -> כן | AH47: =IF($D47="","",AH$16) -> לא | AI47: =IF($D47="","",AI$16) -> נאותה | AJ47: =IF($D47="","",AJ$16) -> טובה | ... AO47: =IF($D47="","",AO$16) -> מעל 4 בשנה | AP47: =IF($D47="","",IF(ISERR(E47/3),$AP$14,E47)) -> 36 | AQ47: =IF($D47="","",IF(ISERR(F47/3),$AP$14,F47)) -> 20 | AR47: =IF($D47="","",IF(ISERR(G47/3),$AP$14,G47)) -> 6 | AS47: =IF($D47="","",IF(ISERR(H47/3),$AP$14,H47)) -> 43 | AT47: =IF($D47="","",IF(ISERR(I47/3),$AP$14,I47)) -> 15 | AU47: =IF($D47="","",IF(ISERR(J47/3),$AP$14,J47)) -> 15 | AV47: =IF($D47="","",IF(ISERR(K47/3),$AP$14,K47)) -> 2 | AW47: =IF($D47="","",IF(ISERR(L47/3),$AP$14,L47)) -> 15 | ... BA47: =IF($D47="","",IF(ISERR(P47/3),$AP$14,P47)) -> 14 | BB47: =IF(Q47="","",Q47) -> נאותה | BC47: =IF(R47="","",R47) -> אחד בשנה | BD47: =IF($D47="","",IF(ISERR(S47/3),$AP$14,S47)) -> 80 | BE47: =IF($D47="","",IF(ISERR(T47/3),$AP$14,T47)) -> 150 | BF47: =IF($D47="","",IF(U47="","",U47)) -> לא | BG47: =IF($D47="","",IF(V47="","",V47)) -> לא | BH47: =IF($D47="","",IF(W47="","",W47)) -> לא | BI47: =IF($D47="","",IF(ISERR(X47/3),$AP$14,X47)) -> 0 | BJ47: =IF($D47="","",IF(ISERR(Y47/3),$AP$14,Y47)) -> 120000 | BK47: =IF($D47="","",IF(ISERR(Z47/3),$AP$14,Z47)) -> 1750000 | BL47: =IF($D47="","",IF(AA47="","",AA47))
A48: =IF(AND(LEFT(B48,11)<>"גיליון הזנה",INDIRECT("'"&$B48&"'!"&'גיליון עזר'!$I$1&ROW('מרכז מורשת בבל'!$I$3))=""),"חסרה הזנה","") | B48: ='גיליון הזנה 32'!$D$3 -> גיליון הזנה 32 | C48: 32 | D48: =IF(OR(LEFT(B48,11)="גיליון הזנה",INDIRECT("'"&$B48&"'!"&'גיליון עזר'!$I$1&ROW('מרכז מורשת בבל'!$I$3))=0),"",B48) | E48: {=IF($D48="","",TRANSPOSE(INDIRECT("'"&$D48&"'!"&'גיליון עזר'!$D$1&ROW('מרכז מורשת בבל'!$D$16)):INDIRECT("'"&$D48&"'!"&'גיליון עזר'!$D$1&ROW('מרכז מורשת בבל'!$D$25))))} | O48: =IF($D48="","",INDIRECT("'"&$D48&"'!"&'גיליון עזר'!$F$1&ROW('מרכז מורשת בבל'!$B$78))) | P48: {=IF($D48="","",TRANSPOSE(INDIRECT("'"&$D48&"'!"&'גיליון עזר'!$G$1&ROW('מרכז מורשת בבל'!$D$16)):INDIRECT("'"&$D48&"'!"&'גיליון עזר'!$G$1&ROW('מרכז מורשת בבל'!$D$17))))} | R48: {=IF($D48="","",TRANSPOSE(INDIRECT("'"&$D48&"'!"&'גיליון עזר'!$N$1&ROW('מרכז מורשת בבל'!$D$16)):INDIRECT("'"&$D48&"'!"&'גיליון עזר'!$N$1&ROW('מרכז מורשת בבל'!$D$20))))} | W48: =IF($D48="","",INDIRECT("'"&$D48&"'!"&'גיליון עזר'!$N$1&ROW('מרכז מורשת בבל'!$J$21))) | X48: =IF($D48="","",INDIRECT("'"&$D48&"'!"&'גיליון עזר'!$L$1&ROW('מרכז מורשת בבל'!$J$78))) | Y48: {=IF($D48="","",TRANSPOSE(INDIRECT("'"&$D48&"'!"&'גיליון עזר'!$J$1&ROW('מרכז מורשת בבל'!$D$17)):INDIRECT("'"&$D48&"'!"&'גיליון עזר'!$J$1&ROW('מרכז מורשת בבל'!$D$18))))} | AA48: =IF($D48="","",IF(INDIRECT("'"&$D48&"'!"&'גיליון עזר'!$J$1&ROW('מרכז מורשת בבל'!$D$21))="","",INDIRECT("'"&$D48&"'!"&'גיליון עזר'!$J$1&ROW('מרכז מורשת בבל'!$D$21)))) | AC48: =IF($D48="","",AC$16) | AD48: =IF($D48="","",AD$16) | AE48: =IF($D48="","",AE$16) | AF48: =IF($D48="","",AF$16) | AG48: =IF($D48="","",AG$16) | AH48: =IF($D48="","",AH$16) | AI48: =IF($D48="","",AI$16) | AJ48: =IF($D48="","",AJ$16) | ... AO48: =IF($D48="","",AO$16) | AP48: =IF($D48="","",IF(ISERR(E48/3),$AP$14,E48)) | AQ48: =IF($D48="","",IF(ISERR(F48/3),$AP$14,F48)) | AR48: =IF($D48="","",IF(ISERR(G48/3),$AP$14,G48)) | AS48: =IF($D48="","",IF(ISERR(H48/3),$AP$14,H48)) | AT48: =IF($D48="","",IF(ISERR(I48/3),$AP$14,I48)) | AU48: =IF($D48="","",IF(ISERR(J48/3),$AP$14,J48)) | AV48: =IF($D48="","",IF(ISERR(K48/3),$AP$14,K48)) | AW48: =IF($D48="","",IF(ISERR(L48/3),$AP$14,L48)) | ... BA48: =IF($D48="","",IF(ISERR(P48/3),$AP$14,P48)) | BB48: =IF(Q48="","",Q48) | BC48: =IF(R48="","",R48) | BD48: =IF($D48="","",IF(ISERR(S48/3),$AP$14,S48)) | BE48: =IF($D48="","",IF(ISERR(T48/3),$AP$14,T48)) | BF48: =IF($D48="","",IF(U48="","",U48)) | BG48: =IF($D48="","",IF(V48="","",V48)) | BH48: =IF($D48="","",IF(W48="","",W48)) | BI48: =IF($D48="","",IF(ISERR(X48/3),$AP$14,X48)) | BJ48: =IF($D48="","",IF(ISERR(Y48/3),$AP$14,Y48)) | BK48: =IF($D48="","",IF(ISERR(Z48/3),$AP$14,Z48)) | BL48: =IF($D48="","",IF(AA48="","",AA48))
A49: =IF(AND(LEFT(B49,11)<>"גיליון הזנה",INDIRECT("'"&$B49&"'!"&'גיליון עזר'!$I$1&ROW('מרכז מורשת בבל'!$I$3))=""),"חסרה הזנה","") | B49: ='גיליון הזנה 33'!$D$3 -> גיליון הזנה 33 | C49: 33 | D49: =IF(OR(LEFT(B49,11)="גיליון הזנה",INDIRECT("'"&$B49&"'!"&'גיליון עזר'!$I$1&ROW('מרכז מורשת בבל'!$I$3))=0),"",B49) | E49: {=IF($D49="","",TRANSPOSE(INDIRECT("'"&$D49&"'!"&'גיליון עזר'!$D$1&ROW('מרכז מורשת בבל'!$D$16)):INDIRECT("'"&$D49&"'!"&'גיליון עזר'!$D$1&ROW('מרכז מורשת בבל'!$D$25))))} | O49: =IF($D49="","",INDIRECT("'"&$D49&"'!"&'גיליון עזר'!$F$1&ROW('מרכז מורשת בבל'!$B$78))) | P49: {=IF($D49="","",TRANSPOSE(INDIRECT("'"&$D49&"'!"&'גיליון עזר'!$G$1&ROW('מרכז מורשת בבל'!$D$16)):INDIRECT("'"&$D49&"'!"&'גיליון עזר'!$G$1&ROW('מרכז מורשת בבל'!$D$17))))} | R49: {=IF($D49="","",TRANSPOSE(INDIRECT("'"&$D49&"'!"&'גיליון עזר'!$N$1&ROW('מרכז מורשת בבל'!$D$16)):INDIRECT("'"&$D49&"'!"&'גיליון עזר'!$N$1&ROW('מרכז מורשת בבל'!$D$20))))} | W49: =IF($D49="","",INDIRECT("'"&$D49&"'!"&'גיליון עזר'!$N$1&ROW('מרכז מורשת בבל'!$J$21))) | X49: =IF($D49="","",INDIRECT("'"&$D49&"'!"&'גיליון עזר'!$L$1&ROW('מרכז מורשת בבל'!$J$78))) | Y49: {=IF($D49="","",TRANSPOSE(INDIRECT("'"&$D49&"'!"&'גיליון עזר'!$J$1&ROW('מרכז מורשת בבל'!$D$17)):INDIRECT("'"&$D49&"'!"&'גיליון עזר'!$J$1&ROW('מרכז מורשת בבל'!$D$18))))} | AA49: =IF($D49="","",IF(INDIRECT("'"&$D49&"'!"&'גיליון עזר'!$J$1&ROW('מרכז מורשת בבל'!$D$21))="","",INDIRECT("'"&$D49&"'!"&'גיליון עזר'!$J$1&ROW('מרכז מורשת בבל'!$D$21)))) | AC49: =IF($D49="","",AC$16) | AD49: =IF($D49="","",AD$16) | AE49: =IF($D49="","",AE$16) | AF49: =IF($D49="","",AF$16) | AG49: =IF($D49="","",AG$16) | AH49: =IF($D49="","",AH$16) | AI49: =IF($D49="","",AI$16) | AJ49: =IF($D49="","",AJ$16) | ... AO49: =IF($D49="","",AO$16) | AP49: =IF($D49="","",IF(ISERR(E49/3),$AP$14,E49)) | AQ49: =IF($D49="","",IF(ISERR(F49/3),$AP$14,F49)) | AR49: =IF($D49="","",IF(ISERR(G49/3),$AP$14,G49)) | AS49: =IF($D49="","",IF(ISERR(H49/3),$AP$14,H49)) | AT49: =IF($D49="","",IF(ISERR(I49/3),$AP$14,I49)) | AU49: =IF($D49="","",IF(ISERR(J49/3),$AP$14,J49)) | AV49: =IF($D49="","",IF(ISERR(K49/3),$AP$14,K49)) | AW49: =IF($D49="","",IF(ISERR(L49/3),$AP$14,L49)) | ... BA49: =IF($D49="","",IF(ISERR(P49/3),$AP$14,P49)) | BB49: =IF(Q49="","",Q49) | BC49: =IF(R49="","",R49) | BD49: =IF($D49="","",IF(ISERR(S49/3),$AP$14,S49)) | BE49: =IF($D49="","",IF(ISERR(T49/3),$AP$14,T49)) | BF49: =IF($D49="","",IF(U49="","",U49)) | BG49: =IF($D49="","",IF(V49="","",V49)) | BH49: =IF($D49="","",IF(W49="","",W49)) | BI49: =IF($D49="","",IF(ISERR(X49/3),$AP$14,X49)) | BJ49: =IF($D49="","",IF(ISERR(Y49/3),$AP$14,Y49)) | BK49: =IF($D49="","",IF(ISERR(Z49/3),$AP$14,Z49)) | BL49: =IF($D49="","",IF(AA49="","",AA49))
A50: =IF(AND(LEFT(B50,11)<>"גיליון הזנה",INDIRECT("'"&$B50&"'!"&'גיליון עזר'!$I$1&ROW('מרכז מורשת בבל'!$I$3))=""),"חסרה הזנה","") | B50: ='גיליון הזנה 34'!$D$3 -> גיליון הזנה 34 | C50: 34 | D50: =IF(OR(LEFT(B50,11)="גיליון הזנה",INDIRECT("'"&$B50&"'!"&'גיליון עזר'!$I$1&ROW('מרכז מורשת בבל'!$I$3))=0),"",B50) | E50: {=IF($D50="","",TRANSPOSE(INDIRECT("'"&$D50&"'!"&'גיליון עזר'!$D$1&ROW('מרכז מורשת בבל'!$D$16)):INDIRECT("'"&$D50&"'!"&'גיליון עזר'!$D$1&ROW('מרכז מורשת בבל'!$D$25))))} | O50: =IF($D50="","",INDIRECT("'"&$D50&"'!"&'גיליון עזר'!$F$1&ROW('מרכז מורשת בבל'!$B$78))) | P50: {=IF($D50="","",TRANSPOSE(INDIRECT("'"&$D50&"'!"&'גיליון עזר'!$G$1&ROW('מרכז מורשת בבל'!$D$16)):INDIRECT("'"&$D50&"'!"&'גיליון עזר'!$G$1&ROW('מרכז מורשת בבל'!$D$17))))} | R50: {=IF($D50="","",TRANSPOSE(INDIRECT("'"&$D50&"'!"&'גיליון עזר'!$N$1&ROW('מרכז מורשת בבל'!$D$16)):INDIRECT("'"&$D50&"'!"&'גיליון עזר'!$N$1&ROW('מרכז מורשת בבל'!$D$20))))} | W50: =IF($D50="","",INDIRECT("'"&$D50&"'!"&'גיליון עזר'!$N$1&ROW('מרכז מורשת בבל'!$J$21))) | X50: =IF($D50="","",INDIRECT("'"&$D50&"'!"&'גיליון עזר'!$L$1&ROW('מרכז מורשת בבל'!$J$78))) | Y50: {=IF($D50="","",TRANSPOSE(INDIRECT("'"&$D50&"'!"&'גיליון עזר'!$J$1&ROW('מרכז מורשת בבל'!$D$17)):INDIRECT("'"&$D50&"'!"&'גיליון עזר'!$J$1&ROW('מרכז מורשת בבל'!$D$18))))} | AA50: =IF($D50="","",IF(INDIRECT("'"&$D50&"'!"&'גיליון עזר'!$J$1&ROW('מרכז מורשת בבל'!$D$21))="","",INDIRECT("'"&$D50&"'!"&'גיליון עזר'!$J$1&ROW('מרכז מורשת בבל'!$D$21)))) | AC50: =IF($D50="","",AC$16) | AD50: =IF($D50="","",AD$16) | AE50: =IF($D50="","",AE$16) | AF50: =IF($D50="","",AF$16) | AG50: =IF($D50="","",AG$16) | AH50: =IF($D50="","",AH$16) | AI50: =IF($D50="","",AI$16) | AJ50: =IF($D50="","",AJ$16) | ... AO50: =IF($D50="","",AO$16) | AP50: =IF($D50="","",IF(ISERR(E50/3),$AP$14,E50)) | AQ50: =IF($D50="","",IF(ISERR(F50/3),$AP$14,F50)) | AR50: =IF($D50="","",IF(ISERR(G50/3),$AP$14,G50)) | AS50: =IF($D50="","",IF(ISERR(H50/3),$AP$14,H50)) | AT50: =IF($D50="","",IF(ISERR(I50/3),$AP$14,I50)) | AU50: =IF($D50="","",IF(ISERR(J50/3),$AP$14,J50)) | AV50: =IF($D50="","",IF(ISERR(K50/3),$AP$14,K50)) | AW50: =IF($D50="","",IF(ISERR(L50/3),$AP$14,L50)) | ... BA50: =IF($D50="","",IF(ISERR(P50/3),$AP$14,P50)) | BB50: =IF(Q50="","",Q50) | BC50: =IF(R50="","",R50) | BD50: =IF($D50="","",IF(ISERR(S50/3),$AP$14,S50)) | BE50: =IF($D50="","",IF(ISERR(T50/3),$AP$14,T50)) | BF50: =IF($D50="","",IF(U50="","",U50)) | BG50: =IF($D50="","",IF(V50="","",V50)) | BH50: =IF($D50="","",IF(W50="","",W50)) | BI50: =IF($D50="","",IF(ISERR(X50/3),$AP$14,X50)) | BJ50: =IF($D50="","",IF(ISERR(Y50/3),$AP$14,Y50)) | BK50: =IF($D50="","",IF(ISERR(Z50/3),$AP$14,Z50)) | BL50: =IF($D50="","",IF(AA50="","",AA50))
A51: =IF(AND(LEFT(B51,11)<>"גיליון הזנה",INDIRECT("'"&$B51&"'!"&'גיליון עזר'!$I$1&ROW('מרכז מורשת בבל'!$I$3))=""),"חסרה הזנה","") | B51: ='גיליון הזנה 35'!$D$3 -> גיליון הזנה 35 | C51: 35 | D51: =IF(OR(LEFT(B51,11)="גיליון הזנה",INDIRECT("'"&$B51&"'!"&'גיליון עזר'!$I$1&ROW('מרכז מורשת בבל'!$I$3))=0),"",B51) | E51: {=IF($D51="","",TRANSPOSE(INDIRECT("'"&$D51&"'!"&'גיליון עזר'!$D$1&ROW('מרכז מורשת בבל'!$D$16)):INDIRECT("'"&$D51&"'!"&'גיליון עזר'!$D$1&ROW('מרכז מורשת בבל'!$D$25))))} | O51: =IF($D51="","",INDIRECT("'"&$D51&"'!"&'גיליון עזר'!$F$1&ROW('מרכז מורשת בבל'!$B$78))) | P51: {=IF($D51="","",TRANSPOSE(INDIRECT("'"&$D51&"'!"&'גיליון עזר'!$G$1&ROW('מרכז מורשת בבל'!$D$16)):INDIRECT("'"&$D51&"'!"&'גיליון עזר'!$G$1&ROW('מרכז מורשת בבל'!$D$17))))} | R51: {=IF($D51="","",TRANSPOSE(INDIRECT("'"&$D51&"'!"&'גיליון עזר'!$N$1&ROW('מרכז מורשת בבל'!$D$16)):INDIRECT("'"&$D51&"'!"&'גיליון עזר'!$N$1&ROW('מרכז מורשת בבל'!$D$20))))} | W51: =IF($D51="","",INDIRECT("'"&$D51&"'!"&'גיליון עזר'!$N$1&ROW('מרכז מורשת בבל'!$J$21))) | X51: =IF($D51="","",INDIRECT("'"&$D51&"'!"&'גיליון עזר'!$L$1&ROW('מרכז מורשת בבל'!$J$78))) | Y51: {=IF($D51="","",TRANSPOSE(INDIRECT("'"&$D51&"'!"&'גיליון עזר'!$J$1&ROW('מרכז מורשת בבל'!$D$17)):INDIRECT("'"&$D51&"'!"&'גיליון עזר'!$J$1&ROW('מרכז מורשת בבל'!$D$18))))} | AA51: =IF($D51="","",IF(INDIRECT("'"&$D51&"'!"&'גיליון עזר'!$J$1&ROW('מרכז מורשת בבל'!$D$21))="","",INDIRECT("'"&$D51&"'!"&'גיליון עזר'!$J$1&ROW('מרכז מורשת בבל'!$D$21)))) | AC51: =IF($D51="","",AC$16) | AD51: =IF($D51="","",AD$16) | AE51: =IF($D51="","",AE$16) | AF51: =IF($D51="","",AF$16) | AG51: =IF($D51="","",AG$16) | AH51: =IF($D51="","",AH$16) | AI51: =IF($D51="","",AI$16) | AJ51: =IF($D51="","",AJ$16) | ... AO51: =IF($D51="","",AO$16) | AP51: =IF($D51="","",IF(ISERR(E51/3),$AP$14,E51)) | AQ51: =IF($D51="","",IF(ISERR(F51/3),$AP$14,F51)) | AR51: =IF($D51="","",IF(ISERR(G51/3),$AP$14,G51)) | AS51: =IF($D51="","",IF(ISERR(H51/3),$AP$14,H51)) | AT51: =IF($D51="","",IF(ISERR(I51/3),$AP$14,I51)) | AU51: =IF($D51="","",IF(ISERR(J51/3),$AP$14,J51)) | AV51: =IF($D51="","",IF(ISERR(K51/3),$AP$14,K51)) | AW51: =IF($D51="","",IF(ISERR(L51/3),$AP$14,L51)) | ... BA51: =IF($D51="","",IF(ISERR(P51/3),$AP$14,P51)) | BB51: =IF(Q51="","",Q51) | BC51: =IF(R51="","",R51) | BD51: =IF($D51="","",IF(ISERR(S51/3),$AP$14,S51)) | BE51: =IF($D51="","",IF(ISERR(T51/3),$AP$14,T51)) | BF51: =IF($D51="","",IF(U51="","",U51)) | BG51: =IF($D51="","",IF(V51="","",V51)) | BH51: =IF($D51="","",IF(W51="","",W51)) | BI51: =IF($D51="","",IF(ISERR(X51/3),$AP$14,X51)) | BJ51: =IF($D51="","",IF(ISERR(Y51/3),$AP$14,Y51)) | BK51: =IF($D51="","",IF(ISERR(Z51/3),$AP$14,Z51)) | BL51: =IF($D51="","",IF(AA51="","",AA51))
A52: =IF(AND(LEFT(B52,11)<>"גיליון הזנה",INDIRECT("'"&$B52&"'!"&'גיליון עזר'!$I$1&ROW('מרכז מורשת בבל'!$I$3))=""),"חסרה הזנה","") | B52: ='גיליון הזנה 36'!$D$3 -> גיליון הזנה 36 | C52: 36 | D52: =IF(OR(LEFT(B52,11)="גיליון הזנה",INDIRECT("'"&$B52&"'!"&'גיליון עזר'!$I$1&ROW('מרכז מורשת בבל'!$I$3))=0),"",B52) | E52: {=IF($D52="","",TRANSPOSE(INDIRECT("'"&$D52&"'!"&'גיליון עזר'!$D$1&ROW('מרכז מורשת בבל'!$D$16)):INDIRECT("'"&$D52&"'!"&'גיליון עזר'!$D$1&ROW('מרכז מורשת בבל'!$D$25))))} | O52: =IF($D52="","",INDIRECT("'"&$D52&"'!"&'גיליון עזר'!$F$1&ROW('מרכז מורשת בבל'!$B$78))) | P52: {=IF($D52="","",TRANSPOSE(INDIRECT("'"&$D52&"'!"&'גיליון עזר'!$G$1&ROW('מרכז מורשת בבל'!$D$16)):INDIRECT("'"&$D52&"'!"&'גיליון עזר'!$G$1&ROW('מרכז מורשת בבל'!$D$17))))} | R52: {=IF($D52="","",TRANSPOSE(INDIRECT("'"&$D52&"'!"&'גיליון עזר'!$N$1&ROW('מרכז מורשת בבל'!$D$16)):INDIRECT("'"&$D52&"'!"&'גיליון עזר'!$N$1&ROW('מרכז מורשת בבל'!$D$20))))} | W52: =IF($D52="","",INDIRECT("'"&$D52&"'!"&'גיליון עזר'!$N$1&ROW('מרכז מורשת בבל'!$J$21))) | X52: =IF($D52="","",INDIRECT("'"&$D52&"'!"&'גיליון עזר'!$L$1&ROW('מרכז מורשת בבל'!$J$78))) | Y52: {=IF($D52="","",TRANSPOSE(INDIRECT("'"&$D52&"'!"&'גיליון עזר'!$J$1&ROW('מרכז מורשת בבל'!$D$17)):INDIRECT("'"&$D52&"'!"&'גיליון עזר'!$J$1&ROW('מרכז מורשת בבל'!$D$18))))} | AA52: =IF($D52="","",IF(INDIRECT("'"&$D52&"'!"&'גיליון עזר'!$J$1&ROW('מרכז מורשת בבל'!$D$21))="","",INDIRECT("'"&$D52&"'!"&'גיליון עזר'!$J$1&ROW('מרכז מורשת בבל'!$D$21)))) | AC52: =IF($D52="","",AC$16) | AD52: =IF($D52="","",AD$16) | AE52: =IF($D52="","",AE$16) | AF52: =IF($D52="","",AF$16) | AG52: =IF($D52="","",AG$16) | AH52: =IF($D52="","",AH$16) | AI52: =IF($D52="","",AI$16) | AJ52: =IF($D52="","",AJ$16) | ... AO52: =IF($D52="","",AO$16) | AP52: =IF($D52="","",IF(ISERR(E52/3),$AP$14,E52)) | AQ52: =IF($D52="","",IF(ISERR(F52/3),$AP$14,F52)) | AR52: =IF($D52="","",IF(ISERR(G52/3),$AP$14,G52)) | AS52: =IF($D52="","",IF(ISERR(H52/3),$AP$14,H52)) | AT52: =IF($D52="","",IF(ISERR(I52/3),$AP$14,I52)) | AU52: =IF($D52="","",IF(ISERR(J52/3),$AP$14,J52)) | AV52: =IF($D52="","",IF(ISERR(K52/3),$AP$14,K52)) | AW52: =IF($D52="","",IF(ISERR(L52/3),$AP$14,L52)) | ... BA52: =IF($D52="","",IF(ISERR(P52/3),$AP$14,P52)) | BB52: =IF(Q52="","",Q52) | BC52: =IF(R52="","",R52) | BD52: =IF($D52="","",IF(ISERR(S52/3),$AP$14,S52)) | BE52: =IF($D52="","",IF(ISERR(T52/3),$AP$14,T52)) | BF52: =IF($D52="","",IF(U52="","",U52)) | BG52: =IF($D52="","",IF(V52="","",V52)) | BH52: =IF($D52="","",IF(W52="","",W52)) | BI52: =IF($D52="","",IF(ISERR(X52/3),$AP$14,X52)) | BJ52: =IF($D52="","",IF(ISERR(Y52/3),$AP$14,Y52)) | BK52: =IF($D52="","",IF(ISERR(Z52/3),$AP$14,Z52)) | BL52: =IF($D52="","",IF(AA52="","",AA52))
A53: =IF(AND(LEFT(B53,11)<>"גיליון הזנה",INDIRECT("'"&$B53&"'!"&'גיליון עזר'!$I$1&ROW('מרכז מורשת בבל'!$I$3))=""),"חסרה הזנה","") | B53: ='גיליון הזנה 37'!$D$3 -> גיליון הזנה 37 | C53: 37 | D53: =IF(OR(LEFT(B53,11)="גיליון הזנה",INDIRECT("'"&$B53&"'!"&'גיליון עזר'!$I$1&ROW('מרכז מורשת בבל'!$I$3))=0),"",B53) | E53: {=IF($D53="","",TRANSPOSE(INDIRECT("'"&$D53&"'!"&'גיליון עזר'!$D$1&ROW('מרכז מורשת בבל'!$D$16)):INDIRECT("'"&$D53&"'!"&'גיליון עזר'!$D$1&ROW('מרכז מורשת בבל'!$D$25))))} | O53: =IF($D53="","",INDIRECT("'"&$D53&"'!"&'גיליון עזר'!$F$1&ROW('מרכז מורשת בבל'!$B$78))) | P53: {=IF($D53="","",TRANSPOSE(INDIRECT("'"&$D53&"'!"&'גיליון עזר'!$G$1&ROW('מרכז מורשת בבל'!$D$16)):INDIRECT("'"&$D53&"'!"&'גיליון עזר'!$G$1&ROW('מרכז מורשת בבל'!$D$17))))} | R53: {=IF($D53="","",TRANSPOSE(INDIRECT("'"&$D53&"'!"&'גיליון עזר'!$N$1&ROW('מרכז מורשת בבל'!$D$16)):INDIRECT("'"&$D53&"'!"&'גיליון עזר'!$N$1&ROW('מרכז מורשת בבל'!$D$20))))} | W53: =IF($D53="","",INDIRECT("'"&$D53&"'!"&'גיליון עזר'!$N$1&ROW('מרכז מורשת בבל'!$J$21))) | X53: =IF($D53="","",INDIRECT("'"&$D53&"'!"&'גיליון עזר'!$L$1&ROW('מרכז מורשת בבל'!$J$78))) | Y53: {=IF($D53="","",TRANSPOSE(INDIRECT("'"&$D53&"'!"&'גיליון עזר'!$J$1&ROW('מרכז מורשת בבל'!$D$17)):INDIRECT("'"&$D53&"'!"&'גיליון עזר'!$J$1&ROW('מרכז מורשת בבל'!$D$18))))} | AA53: =IF($D53="","",IF(INDIRECT("'"&$D53&"'!"&'גיליון עזר'!$J$1&ROW('מרכז מורשת בבל'!$D$21))="","",INDIRECT("'"&$D53&"'!"&'גיליון עזר'!$J$1&ROW('מרכז מורשת בבל'!$D$21)))) | AC53: =IF($D53="","",AC$16) | AD53: =IF($D53="","",AD$16) | AE53: =IF($D53="","",AE$16) | AF53: =IF($D53="","",AF$16) | AG53: =IF($D53="","",AG$16) | AH53: =IF($D53="","",AH$16) | AI53: =IF($D53="","",AI$16) | AJ53: =IF($D53="","",AJ$16) | ... AO53: =IF($D53="","",AO$16) | AP53: =IF($D53="","",IF(ISERR(E53/3),$AP$14,E53)) | AQ53: =IF($D53="","",IF(ISERR(F53/3),$AP$14,F53)) | AR53: =IF($D53="","",IF(ISERR(G53/3),$AP$14,G53)) | AS53: =IF($D53="","",IF(ISERR(H53/3),$AP$14,H53)) | AT53: =IF($D53="","",IF(ISERR(I53/3),$AP$14,I53)) | AU53: =IF($D53="","",IF(ISERR(J53/3),$AP$14,J53)) | AV53: =IF($D53="","",IF(ISERR(K53/3),$AP$14,K53)) | AW53: =IF($D53="","",IF(ISERR(L53/3),$AP$14,L53)) | ... BA53: =IF($D53="","",IF(ISERR(P53/3),$AP$14,P53)) | BB53: =IF(Q53="","",Q53) | BC53: =IF(R53="","",R53) | BD53: =IF($D53="","",IF(ISERR(S53/3),$AP$14,S53)) | BE53: =IF($D53="","",IF(ISERR(T53/3),$AP$14,T53)) | BF53: =IF($D53="","",IF(U53="","",U53)) | BG53: =IF($D53="","",IF(V53="","",V53)) | BH53: =IF($D53="","",IF(W53="","",W53)) | BI53: =IF($D53="","",IF(ISERR(X53/3),$AP$14,X53)) | BJ53: =IF($D53="","",IF(ISERR(Y53/3),$AP$14,Y53)) | BK53: =IF($D53="","",IF(ISERR(Z53/3),$AP$14,Z53)) | BL53: =IF($D53="","",IF(AA53="","",AA53))
A54: =IF(AND(LEFT(B54,11)<>"גיליון הזנה",INDIRECT("'"&$B54&"'!"&'גיליון עזר'!$I$1&ROW('מרכז מורשת בבל'!$I$3))=""),"חסרה הזנה","") | B54: ='גיליון הזנה 38'!$D$3 -> גיליון הזנה 38 | C54: 38 | D54: =IF(OR(LEFT(B54,11)="גיליון הזנה",INDIRECT("'"&$B54&"'!"&'גיליון עזר'!$I$1&ROW('מרכז מורשת בבל'!$I$3))=0),"",B54) | E54: {=IF($D54="","",TRANSPOSE(INDIRECT("'"&$D54&"'!"&'גיליון עזר'!$D$1&ROW('מרכז מורשת בבל'!$D$16)):INDIRECT("'"&$D54&"'!"&'גיליון עזר'!$D$1&ROW('מרכז מורשת בבל'!$D$25))))} | O54: =IF($D54="","",INDIRECT("'"&$D54&"'!"&'גיליון עזר'!$F$1&ROW('מרכז מורשת בבל'!$B$78))) | P54: {=IF($D54="","",TRANSPOSE(INDIRECT("'"&$D54&"'!"&'גיליון עזר'!$G$1&ROW('מרכז מורשת בבל'!$D$16)):INDIRECT("'"&$D54&"'!"&'גיליון עזר'!$G$1&ROW('מרכז מורשת בבל'!$D$17))))} | R54: {=IF($D54="","",TRANSPOSE(INDIRECT("'"&$D54&"'!"&'גיליון עזר'!$N$1&ROW('מרכז מורשת בבל'!$D$16)):INDIRECT("'"&$D54&"'!"&'גיליון עזר'!$N$1&ROW('מרכז מורשת בבל'!$D$20))))} | W54: =IF($D54="","",INDIRECT("'"&$D54&"'!"&'גיליון עזר'!$N$1&ROW('מרכז מורשת בבל'!$J$21))) | X54: =IF($D54="","",INDIRECT("'"&$D54&"'!"&'גיליון עזר'!$L$1&ROW('מרכז מורשת בבל'!$J$78))) | Y54: {=IF($D54="","",TRANSPOSE(INDIRECT("'"&$D54&"'!"&'גיליון עזר'!$J$1&ROW('מרכז מורשת בבל'!$D$17)):INDIRECT("'"&$D54&"'!"&'גיליון עזר'!$J$1&ROW('מרכז מורשת בבל'!$D$18))))} | AA54: =IF($D54="","",IF(INDIRECT("'"&$D54&"'!"&'גיליון עזר'!$J$1&ROW('מרכז מורשת בבל'!$D$21))="","",INDIRECT("'"&$D54&"'!"&'גיליון עזר'!$J$1&ROW('מרכז מורשת בבל'!$D$21)))) | AC54: =IF($D54="","",AC$16) | AD54: =IF($D54="","",AD$16) | AE54: =IF($D54="","",AE$16) | AF54: =IF($D54="","",AF$16) | AG54: =IF($D54="","",AG$16) | AH54: =IF($D54="","",AH$16) | AI54: =IF($D54="","",AI$16) | AJ54: =IF($D54="","",AJ$16) | ... AO54: =IF($D54="","",AO$16) | AP54: =IF($D54="","",IF(ISERR(E54/3),$AP$14,E54)) | AQ54: =IF($D54="","",IF(ISERR(F54/3),$AP$14,F54)) | AR54: =IF($D54="","",IF(ISERR(G54/3),$AP$14,G54)) | AS54: =IF($D54="","",IF(ISERR(H54/3),$AP$14,H54)) | AT54: =IF($D54="","",IF(ISERR(I54/3),$AP$14,I54)) | AU54: =IF($D54="","",IF(ISERR(J54/3),$AP$14,J54)) | AV54: =IF($D54="","",IF(ISERR(K54/3),$AP$14,K54)) | AW54: =IF($D54="","",IF(ISERR(L54/3),$AP$14,L54)) | ... BA54: =IF($D54="","",IF(ISERR(P54/3),$AP$14,P54)) | BB54: =IF(Q54="","",Q54) | BC54: =IF(R54="","",R54) | BD54: =IF($D54="","",IF(ISERR(S54/3),$AP$14,S54)) | BE54: =IF($D54="","",IF(ISERR(T54/3),$AP$14,T54)) | BF54: =IF($D54="","",IF(U54="","",U54)) | BG54: =IF($D54="","",IF(V54="","",V54)) | BH54: =IF($D54="","",IF(W54="","",W54)) | BI54: =IF($D54="","",IF(ISERR(X54/3),$AP$14,X54)) | BJ54: =IF($D54="","",IF(ISERR(Y54/3),$AP$14,Y54)) | BK54: =IF($D54="","",IF(ISERR(Z54/3),$AP$14,Z54)) | BL54: =IF($D54="","",IF(AA54="","",AA54))
A55: =IF(AND(LEFT(B55,11)<>"גיליון הזנה",INDIRECT("'"&$B55&"'!"&'גיליון עזר'!$I$1&ROW('מרכז מורשת בבל'!$I$3))=""),"חסרה הזנה","") | B55: ='גיליון הזנה 39'!$D$3 -> גיליון הזנה 39 | C55: 39 | D55: =IF(OR(LEFT(B55,11)="גיליון הזנה",INDIRECT("'"&$B55&"'!"&'גיליון עזר'!$I$1&ROW('מרכז מורשת בבל'!$I$3))=0),"",B55) | E55: {=IF($D55="","",TRANSPOSE(INDIRECT("'"&$D55&"'!"&'גיליון עזר'!$D$1&ROW('מרכז מורשת בבל'!$D$16)):INDIRECT("'"&$D55&"'!"&'גיליון עזר'!$D$1&ROW('מרכז מורשת בבל'!$D$25))))} | O55: =IF($D55="","",INDIRECT("'"&$D55&"'!"&'גיליון עזר'!$F$1&ROW('מרכז מורשת בבל'!$B$78))) | P55: {=IF($D55="","",TRANSPOSE(INDIRECT("'"&$D55&"'!"&'גיליון עזר'!$G$1&ROW('מרכז מורשת בבל'!$D$16)):INDIRECT("'"&$D55&"'!"&'גיליון עזר'!$G$1&ROW('מרכז מורשת בבל'!$D$17))))} | R55: {=IF($D55="","",TRANSPOSE(INDIRECT("'"&$D55&"'!"&'גיליון עזר'!$N$1&ROW('מרכז מורשת בבל'!$D$16)):INDIRECT("'"&$D55&"'!"&'גיליון עזר'!$N$1&ROW('מרכז מורשת בבל'!$D$20))))} | W55: =IF($D55="","",INDIRECT("'"&$D55&"'!"&'גיליון עזר'!$N$1&ROW('מרכז מורשת בבל'!$J$21))) | X55: =IF($D55="","",INDIRECT("'"&$D55&"'!"&'גיליון עזר'!$L$1&ROW('מרכז מורשת בבל'!$J$78))) | Y55: {=IF($D55="","",TRANSPOSE(INDIRECT("'"&$D55&"'!"&'גיליון עזר'!$J$1&ROW('מרכז מורשת בבל'!$D$17)):INDIRECT("'"&$D55&"'!"&'גיליון עזר'!$J$1&ROW('מרכז מורשת בבל'!$D$18))))} | AA55: =IF($D55="","",IF(INDIRECT("'"&$D55&"'!"&'גיליון עזר'!$J$1&ROW('מרכז מורשת בבל'!$D$21))="","",INDIRECT("'"&$D55&"'!"&'גיליון עזר'!$J$1&ROW('מרכז מורשת בבל'!$D$21)))) | AC55: =IF($D55="","",AC$16) | AD55: =IF($D55="","",AD$16) | AE55: =IF($D55="","",AE$16) | AF55: =IF($D55="","",AF$16) | AG55: =IF($D55="","",AG$16) | AH55: =IF($D55="","",AH$16) | AI55: =IF($D55="","",AI$16) | AJ55: =IF($D55="","",AJ$16) | ... AO55: =IF($D55="","",AO$16) | AP55: =IF($D55="","",IF(ISERR(E55/3),$AP$14,E55)) | AQ55: =IF($D55="","",IF(ISERR(F55/3),$AP$14,F55)) | AR55: =IF($D55="","",IF(ISERR(G55/3),$AP$14,G55)) | AS55: =IF($D55="","",IF(ISERR(H55/3),$AP$14,H55)) | AT55: =IF($D55="","",IF(ISERR(I55/3),$AP$14,I55)) | AU55: =IF($D55="","",IF(ISERR(J55/3),$AP$14,J55)) | AV55: =IF($D55="","",IF(ISERR(K55/3),$AP$14,K55)) | AW55: =IF($D55="","",IF(ISERR(L55/3),$AP$14,L55)) | ... BA55: =IF($D55="","",IF(ISERR(P55/3),$AP$14,P55)) | BB55: =IF(Q55="","",Q55) | BC55: =IF(R55="","",R55) | BD55: =IF($D55="","",IF(ISERR(S55/3),$AP$14,S55)) | BE55: =IF($D55="","",IF(ISERR(T55/3),$AP$14,T55)) | BF55: =IF($D55="","",IF(U55="","",U55)) | BG55: =IF($D55="","",IF(V55="","",V55)) | BH55: =IF($D55="","",IF(W55="","",W55)) | BI55: =IF($D55="","",IF(ISERR(X55/3),$AP$14,X55)) | BJ55: =IF($D55="","",IF(ISERR(Y55/3),$AP$14,Y55)) | BK55: =IF($D55="","",IF(ISERR(Z55/3),$AP$14,Z55)) | BL55: =IF($D55="","",IF(AA55="","",AA55))
A56: =IF(AND(LEFT(B56,11)<>"גיליון הזנה",INDIRECT("'"&$B56&"'!"&'גיליון עזר'!$I$1&ROW('מרכז מורשת בבל'!$I$3))=""),"חסרה הזנה","") | B56: ='גיליון הזנה 40'!$D$3 -> גיליון הזנה 40 | C56: 40 | D56: =IF(OR(LEFT(B56,11)="גיליון הזנה",INDIRECT("'"&$B56&"'!"&'גיליון עזר'!$I$1&ROW('מרכז מורשת בבל'!$I$3))=0),"",B56) | E56: {=IF($D56="","",TRANSPOSE(INDIRECT("'"&$D56&"'!"&'גיליון עזר'!$D$1&ROW('מרכז מורשת בבל'!$D$16)):INDIRECT("'"&$D56&"'!"&'גיליון עזר'!$D$1&ROW('מרכז מורשת בבל'!$D$25))))} | O56: =IF($D56="","",INDIRECT("'"&$D56&"'!"&'גיליון עזר'!$F$1&ROW('מרכז מורשת בבל'!$B$78))) | P56: {=IF($D56="","",TRANSPOSE(INDIRECT("'"&$D56&"'!"&'גיליון עזר'!$G$1&ROW('מרכז מורשת בבל'!$D$16)):INDIRECT("'"&$D56&"'!"&'גיליון עזר'!$G$1&ROW('מרכז מורשת בבל'!$D$17))))} | R56: {=IF($D56="","",TRANSPOSE(INDIRECT("'"&$D56&"'!"&'גיליון עזר'!$N$1&ROW('מרכז מורשת בבל'!$D$16)):INDIRECT("'"&$D56&"'!"&'גיליון עזר'!$N$1&ROW('מרכז מורשת בבל'!$D$20))))} | W56: =IF($D56="","",INDIRECT("'"&$D56&"'!"&'גיליון עזר'!$N$1&ROW('מרכז מורשת בבל'!$J$21))) | X56: =IF($D56="","",INDIRECT("'"&$D56&"'!"&'גיליון עזר'!$L$1&ROW('מרכז מורשת בבל'!$J$78))) | Y56: {=IF($D56="","",TRANSPOSE(INDIRECT("'"&$D56&"'!"&'גיליון עזר'!$J$1&ROW('מרכז מורשת בבל'!$D$17)):INDIRECT("'"&$D56&"'!"&'גיליון עזר'!$J$1&ROW('מרכז מורשת בבל'!$D$18))))} | AA56: =IF($D56="","",IF(INDIRECT("'"&$D56&"'!"&'גיליון עזר'!$J$1&ROW('מרכז מורשת בבל'!$D$21))="","",INDIRECT("'"&$D56&"'!"&'גיליון עזר'!$J$1&ROW('מרכז מורשת בבל'!$D$21)))) | AC56: =IF($D56="","",AC$16) | AD56: =IF($D56="","",AD$16) | AE56: =IF($D56="","",AE$16) | AF56: =IF($D56="","",AF$16) | AG56: =IF($D56="","",AG$16) | AH56: =IF($D56="","",AH$16) | AI56: =IF($D56="","",AI$16) | AJ56: =IF($D56="","",AJ$16) | ... AO56: =IF($D56="","",AO$16) | AP56: =IF($D56="","",IF(ISERR(E56/3),$AP$14,E56)) | AQ56: =IF($D56="","",IF(ISERR(F56/3),$AP$14,F56)) | AR56: =IF($D56="","",IF(ISERR(G56/3),$AP$14,G56)) | AS56: =IF($D56="","",IF(ISERR(H56/3),$AP$14,H56)) | AT56: =IF($D56="","",IF(ISERR(I56/3),$AP$14,I56)) | AU56: =IF($D56="","",IF(ISERR(J56/3),$AP$14,J56)) | AV56: =IF($D56="","",IF(ISERR(K56/3),$AP$14,K56)) | AW56: =IF($D56="","",IF(ISERR(L56/3),$AP$14,L56)) | ... BA56: =IF($D56="","",IF(ISERR(P56/3),$AP$14,P56)) | BB56: =IF(Q56="","",Q56) | BC56: =IF(R56="","",R56) | BD56: =IF($D56="","",IF(ISERR(S56/3),$AP$14,S56)) | BE56: =IF($D56="","",IF(ISERR(T56/3),$AP$14,T56)) | BF56: =IF($D56="","",IF(U56="","",U56)) | BG56: =IF($D56="","",IF(V56="","",V56)) | BH56: =IF($D56="","",IF(W56="","",W56)) | BI56: =IF($D56="","",IF(ISERR(X56/3),$AP$14,X56)) | BJ56: =IF($D56="","",IF(ISERR(Y56/3),$AP$14,Y56)) | BK56: =IF($D56="","",IF(ISERR(Z56/3),$AP$14,Z56)) | BL56: =IF($D56="","",IF(AA56="","",AA56))
A57: =IF(AND(LEFT(B57,11)<>"גיליון הזנה",INDIRECT("'"&$B57&"'!"&'גיליון עזר'!$I$1&ROW('מרכז מורשת בבל'!$I$3))=""),"חסרה הזנה","") | B57: ='גיליון הזנה 41'!$D$3 -> גיליון הזנה 41 | C57: 41 | D57: =IF(OR(LEFT(B57,11)="גיליון הזנה",INDIRECT("'"&$B57&"'!"&'גיליון עזר'!$I$1&ROW('מרכז מורשת בבל'!$I$3))=0),"",B57) | E57: {=IF($D57="","",TRANSPOSE(INDIRECT("'"&$D57&"'!"&'גיליון עזר'!$D$1&ROW('מרכז מורשת בבל'!$D$16)):INDIRECT("'"&$D57&"'!"&'גיליון עזר'!$D$1&ROW('מרכז מורשת בבל'!$D$25))))} | O57: =IF($D57="","",INDIRECT("'"&$D57&"'!"&'גיליון עזר'!$F$1&ROW('מרכז מורשת בבל'!$B$78))) | P57: {=IF($D57="","",TRANSPOSE(INDIRECT("'"&$D57&"'!"&'גיליון עזר'!$G$1&ROW('מרכז מורשת בבל'!$D$16)):INDIRECT("'"&$D57&"'!"&'גיליון עזר'!$G$1&ROW('מרכז מורשת בבל'!$D$17))))} | R57: {=IF($D57="","",TRANSPOSE(INDIRECT("'"&$D57&"'!"&'גיליון עזר'!$N$1&ROW('מרכז מורשת בבל'!$D$16)):INDIRECT("'"&$D57&"'!"&'גיליון עזר'!$N$1&ROW('מרכז מורשת בבל'!$D$20))))} | W57: =IF($D57="","",INDIRECT("'"&$D57&"'!"&'גיליון עזר'!$N$1&ROW('מרכז מורשת בבל'!$J$21))) | X57: =IF($D57="","",INDIRECT("'"&$D57&"'!"&'גיליון עזר'!$L$1&ROW('מרכז מורשת בבל'!$J$78))) | Y57: {=IF($D57="","",TRANSPOSE(INDIRECT("'"&$D57&"'!"&'גיליון עזר'!$J$1&ROW('מרכז מורשת בבל'!$D$17)):INDIRECT("'"&$D57&"'!"&'גיליון עזר'!$J$1&ROW('מרכז מורשת בבל'!$D$18))))} | AA57: =IF($D57="","",IF(INDIRECT("'"&$D57&"'!"&'גיליון עזר'!$J$1&ROW('מרכז מורשת בבל'!$D$21))="","",INDIRECT("'"&$D57&"'!"&'גיליון עזר'!$J$1&ROW('מרכז מורשת בבל'!$D$21)))) | AC57: =IF($D57="","",AC$16) | AD57: =IF($D57="","",AD$16) | AE57: =IF($D57="","",AE$16) | AF57: =IF($D57="","",AF$16) | AG57: =IF($D57="","",AG$16) | AH57: =IF($D57="","",AH$16) | AI57: =IF($D57="","",AI$16) | AJ57: =IF($D57="","",AJ$16) | ... AO57: =IF($D57="","",AO$16) | AP57: =IF($D57="","",IF(ISERR(E57/3),$AP$14,E57)) | AQ57: =IF($D57="","",IF(ISERR(F57/3),$AP$14,F57)) | AR57: =IF($D57="","",IF(ISERR(G57/3),$AP$14,G57)) | AS57: =IF($D57="","",IF(ISERR(H57/3),$AP$14,H57)) | AT57: =IF($D57="","",IF(ISERR(I57/3),$AP$14,I57)) | AU57: =IF($D57="","",IF(ISERR(J57/3),$AP$14,J57)) | AV57: =IF($D57="","",IF(ISERR(K57/3),$AP$14,K57)) | AW57: =IF($D57="","",IF(ISERR(L57/3),$AP$14,L57)) | ... BA57: =IF($D57="","",IF(ISERR(P57/3),$AP$14,P57)) | BB57: =IF(Q57="","",Q57) | BC57: =IF(R57="","",R57) | BD57: =IF($D57="","",IF(ISERR(S57/3),$AP$14,S57)) | BE57: =IF($D57="","",IF(ISERR(T57/3),$AP$14,T57)) | BF57: =IF($D57="","",IF(U57="","",U57)) | BG57: =IF($D57="","",IF(V57="","",V57)) | BH57: =IF($D57="","",IF(W57="","",W57)) | BI57: =IF($D57="","",IF(ISERR(X57/3),$AP$14,X57)) | BJ57: =IF($D57="","",IF(ISERR(Y57/3),$AP$14,Y57)) | BK57: =IF($D57="","",IF(ISERR(Z57/3),$AP$14,Z57)) | BL57: =IF($D57="","",IF(AA57="","",AA57))
A58: =IF(AND(LEFT(B58,11)<>"גיליון הזנה",INDIRECT("'"&$B58&"'!"&'גיליון עזר'!$I$1&ROW('מרכז מורשת בבל'!$I$3))=""),"חסרה הזנה","") | B58: ='גיליון הזנה 42'!$D$3 -> גיליון הזנה 42 | C58: 42 | D58: =IF(OR(LEFT(B58,11)="גיליון הזנה",INDIRECT("'"&$B58&"'!"&'גיליון עזר'!$I$1&ROW('מרכז מורשת בבל'!$I$3))=0),"",B58) | E58: {=IF($D58="","",TRANSPOSE(INDIRECT("'"&$D58&"'!"&'גיליון עזר'!$D$1&ROW('מרכז מורשת בבל'!$D$16)):INDIRECT("'"&$D58&"'!"&'גיליון עזר'!$D$1&ROW('מרכז מורשת בבל'!$D$25))))} | O58: =IF($D58="","",INDIRECT("'"&$D58&"'!"&'גיליון עזר'!$F$1&ROW('מרכז מורשת בבל'!$B$78))) | P58: {=IF($D58="","",TRANSPOSE(INDIRECT("'"&$D58&"'!"&'גיליון עזר'!$G$1&ROW('מרכז מורשת בבל'!$D$16)):INDIRECT("'"&$D58&"'!"&'גיליון עזר'!$G$1&ROW('מרכז מורשת בבל'!$D$17))))} | R58: {=IF($D58="","",TRANSPOSE(INDIRECT("'"&$D58&"'!"&'גיליון עזר'!$N$1&ROW('מרכז מורשת בבל'!$D$16)):INDIRECT("'"&$D58&"'!"&'גיליון עזר'!$N$1&ROW('מרכז מורשת בבל'!$D$20))))} | W58: =IF($D58="","",INDIRECT("'"&$D58&"'!"&'גיליון עזר'!$N$1&ROW('מרכז מורשת בבל'!$J$21))) | X58: =IF($D58="","",INDIRECT("'"&$D58&"'!"&'גיליון עזר'!$L$1&ROW('מרכז מורשת בבל'!$J$78))) | Y58: {=IF($D58="","",TRANSPOSE(INDIRECT("'"&$D58&"'!"&'גיליון עזר'!$J$1&ROW('מרכז מורשת בבל'!$D$17)):INDIRECT("'"&$D58&"'!"&'גיליון עזר'!$J$1&ROW('מרכז מורשת בבל'!$D$18))))} | AA58: =IF($D58="","",IF(INDIRECT("'"&$D58&"'!"&'גיליון עזר'!$J$1&ROW('מרכז מורשת בבל'!$D$21))="","",INDIRECT("'"&$D58&"'!"&'גיליון עזר'!$J$1&ROW('מרכז מורשת בבל'!$D$21)))) | AC58: =IF($D58="","",AC$16) | AD58: =IF($D58="","",AD$16) | AE58: =IF($D58="","",AE$16) | AF58: =IF($D58="","",AF$16) | AG58: =IF($D58="","",AG$16) | AH58: =IF($D58="","",AH$16) | AI58: =IF($D58="","",AI$16) | AJ58: =IF($D58="","",AJ$16) | ... AO58: =IF($D58="","",AO$16) | AP58: =IF($D58="","",IF(ISERR(E58/3),$AP$14,E58)) | AQ58: =IF($D58="","",IF(ISERR(F58/3),$AP$14,F58)) | AR58: =IF($D58="","",IF(ISERR(G58/3),$AP$14,G58)) | AS58: =IF($D58="","",IF(ISERR(H58/3),$AP$14,H58)) | AT58: =IF($D58="","",IF(ISERR(I58/3),$AP$14,I58)) | AU58: =IF($D58="","",IF(ISERR(J58/3),$AP$14,J58)) | AV58: =IF($D58="","",IF(ISERR(K58/3),$AP$14,K58)) | AW58: =IF($D58="","",IF(ISERR(L58/3),$AP$14,L58)) | ... BA58: =IF($D58="","",IF(ISERR(P58/3),$AP$14,P58)) | BB58: =IF(Q58="","",Q58) | BC58: =IF(R58="","",R58) | BD58: =IF($D58="","",IF(ISERR(S58/3),$AP$14,S58)) | BE58: =IF($D58="","",IF(ISERR(T58/3),$AP$14,T58)) | BF58: =IF($D58="","",IF(U58="","",U58)) | BG58: =IF($D58="","",IF(V58="","",V58)) | BH58: =IF($D58="","",IF(W58="","",W58)) | BI58: =IF($D58="","",IF(ISERR(X58/3),$AP$14,X58)) | BJ58: =IF($D58="","",IF(ISERR(Y58/3),$AP$14,Y58)) | BK58: =IF($D58="","",IF(ISERR(Z58/3),$AP$14,Z58)) | BL58: =IF($D58="","",IF(AA58="","",AA58))
A59: =IF(AND(LEFT(B59,11)<>"גיליון הזנה",INDIRECT("'"&$B59&"'!"&'גיליון עזר'!$I$1&ROW('מרכז מורשת בבל'!$I$3))=""),"חסרה הזנה","") | B59: ='גיליון הזנה 44'!$D$3 -> גיליון הזנה 44 | C59: 43 | D59: =IF(OR(LEFT(B59,11)="גיליון הזנה",INDIRECT("'"&$B59&"'!"&'גיליון עזר'!$I$1&ROW('מרכז מורשת בבל'!$I$3))=0),"",B59) | E59: {=IF($D59="","",TRANSPOSE(INDIRECT("'"&$D59&"'!"&'גיליון עזר'!$D$1&ROW('מרכז מורשת בבל'!$D$16)):INDIRECT("'"&$D59&"'!"&'גיליון עזר'!$D$1&ROW('מרכז מורשת בבל'!$D$25))))} | O59: =IF($D59="","",INDIRECT("'"&$D59&"'!"&'גיליון עזר'!$F$1&ROW('מרכז מורשת בבל'!$B$78))) | P59: {=IF($D59="","",TRANSPOSE(INDIRECT("'"&$D59&"'!"&'גיליון עזר'!$G$1&ROW('מרכז מורשת בבל'!$D$16)):INDIRECT("'"&$D59&"'!"&'גיליון עזר'!$G$1&ROW('מרכז מורשת בבל'!$D$17))))} | R59: {=IF($D59="","",TRANSPOSE(INDIRECT("'"&$D59&"'!"&'גיליון עזר'!$N$1&ROW('מרכז מורשת בבל'!$D$16)):INDIRECT("'"&$D59&"'!"&'גיליון עזר'!$N$1&ROW('מרכז מורשת בבל'!$D$20))))} | W59: =IF($D59="","",INDIRECT("'"&$D59&"'!"&'גיליון עזר'!$N$1&ROW('מרכז מורשת בבל'!$J$21))) | X59: =IF($D59="","",INDIRECT("'"&$D59&"'!"&'גיליון עזר'!$L$1&ROW('מרכז מורשת בבל'!$J$78))) | Y59: {=IF($D59="","",TRANSPOSE(INDIRECT("'"&$D59&"'!"&'גיליון עזר'!$J$1&ROW('מרכז מורשת בבל'!$D$17)):INDIRECT("'"&$D59&"'!"&'גיליון עזר'!$J$1&ROW('מרכז מורשת בבל'!$D$18))))} | AA59: =IF($D59="","",IF(INDIRECT("'"&$D59&"'!"&'גיליון עזר'!$J$1&ROW('מרכז מורשת בבל'!$D$21))="","",INDIRECT("'"&$D59&"'!"&'גיליון עזר'!$J$1&ROW('מרכז מורשת בבל'!$D$21)))) | AC59: =IF($D59="","",AC$16) | AD59: =IF($D59="","",AD$16) | AE59: =IF($D59="","",AE$16) | AF59: =IF($D59="","",AF$16) | AG59: =IF($D59="","",AG$16) | AH59: =IF($D59="","",AH$16) | AI59: =IF($D59="","",AI$16) | AJ59: =IF($D59="","",AJ$16) | ... AO59: =IF($D59="","",AO$16) | AP59: =IF($D59="","",IF(ISERR(E59/3),$AP$14,E59)) | AQ59: =IF($D59="","",IF(ISERR(F59/3),$AP$14,F59)) | AR59: =IF($D59="","",IF(ISERR(G59/3),$AP$14,G59)) | AS59: =IF($D59="","",IF(ISERR(H59/3),$AP$14,H59)) | AT59: =IF($D59="","",IF(ISERR(I59/3),$AP$14,I59)) | AU59: =IF($D59="","",IF(ISERR(J59/3),$AP$14,J59)) | AV59: =IF($D59="","",IF(ISERR(K59/3),$AP$14,K59)) | AW59: =IF($D59="","",IF(ISERR(L59/3),$AP$14,L59)) | ... BA59: =IF($D59="","",IF(ISERR(P59/3),$AP$14,P59)) | BB59: =IF(Q59="","",Q59) | BC59: =IF(R59="","",R59) | BD59: =IF($D59="","",IF(ISERR(S59/3),$AP$14,S59)) | BE59: =IF($D59="","",IF(ISERR(T59/3),$AP$14,T59)) | BF59: =IF($D59="","",IF(U59="","",U59)) | BG59: =IF($D59="","",IF(V59="","",V59)) | BH59: =IF($D59="","",IF(W59="","",W59)) | BI59: =IF($D59="","",IF(ISERR(X59/3),$AP$14,X59)) | BJ59: =IF($D59="","",IF(ISERR(Y59/3),$AP$14,Y59)) | BK59: =IF($D59="","",IF(ISERR(Z59/3),$AP$14,Z59)) | BL59: =IF($D59="","",IF(AA59="","",AA59))
A60: =IF(AND(LEFT(B60,11)<>"גיליון הזנה",INDIRECT("'"&$B60&"'!"&'גיליון עזר'!$I$1&ROW('מרכז מורשת בבל'!$I$3))=""),"חסרה הזנה","") | B60: ='גיליון הזנה 55'!$D$3 -> גיליון הזנה 55 | C60: 44 | D60: =IF(OR(LEFT(B60,11)="גיליון הזנה",INDIRECT("'"&$B60&"'!"&'גיליון עזר'!$I$1&ROW('מרכז מורשת בבל'!$I$3))=0),"",B60) | E60: {=IF($D60="","",TRANSPOSE(INDIRECT("'"&$D60&"'!"&'גיליון עזר'!$D$1&ROW('מרכז מורשת בבל'!$D$16)):INDIRECT("'"&$D60&"'!"&'גיליון עזר'!$D$1&ROW('מרכז מורשת בבל'!$D$25))))} | O60: =IF($D60="","",INDIRECT("'"&$D60&"'!"&'גיליון עזר'!$F$1&ROW('מרכז מורשת בבל'!$B$78))) | P60: {=IF($D60="","",TRANSPOSE(INDIRECT("'"&$D60&"'!"&'גיליון עזר'!$G$1&ROW('מרכז מורשת בבל'!$D$16)):INDIRECT("'"&$D60&"'!"&'גיליון עזר'!$G$1&ROW('מרכז מורשת בבל'!$D$17))))} | R60: {=IF($D60="","",TRANSPOSE(INDIRECT("'"&$D60&"'!"&'גיליון עזר'!$N$1&ROW('מרכז מורשת בבל'!$D$16)):INDIRECT("'"&$D60&"'!"&'גיליון עזר'!$N$1&ROW('מרכז מורשת בבל'!$D$20))))} | W60: =IF($D60="","",INDIRECT("'"&$D60&"'!"&'גיליון עזר'!$N$1&ROW('מרכז מורשת בבל'!$J$21))) | X60: =IF($D60="","",INDIRECT("'"&$D60&"'!"&'גיליון עזר'!$L$1&ROW('מרכז מורשת בבל'!$J$78))) | Y60: {=IF($D60="","",TRANSPOSE(INDIRECT("'"&$D60&"'!"&'גיליון עזר'!$J$1&ROW('מרכז מורשת בבל'!$D$17)):INDIRECT("'"&$D60&"'!"&'גיליון עזר'!$J$1&ROW('מרכז מורשת בבל'!$D$18))))} | AA60: =IF($D60="","",IF(INDIRECT("'"&$D60&"'!"&'גיליון עזר'!$J$1&ROW('מרכז מורשת בבל'!$D$21))="","",INDIRECT("'"&$D60&"'!"&'גיליון עזר'!$J$1&ROW('מרכז מורשת בבל'!$D$21)))) | AC60: =IF($D60="","",AC$16) | AD60: =IF($D60="","",AD$16) | AE60: =IF($D60="","",AE$16) | AF60: =IF($D60="","",AF$16) | AG60: =IF($D60="","",AG$16) | AH60: =IF($D60="","",AH$16) | AI60: =IF($D60="","",AI$16) | AJ60: =IF($D60="","",AJ$16) | ... AO60: =IF($D60="","",AO$16) | AP60: =IF($D60="","",IF(ISERR(E60/3),$AP$14,E60)) | AQ60: =IF($D60="","",IF(ISERR(F60/3),$AP$14,F60)) | AR60: =IF($D60="","",IF(ISERR(G60/3),$AP$14,G60)) | AS60: =IF($D60="","",IF(ISERR(H60/3),$AP$14,H60)) | AT60: =IF($D60="","",IF(ISERR(I60/3),$AP$14,I60)) | AU60: =IF($D60="","",IF(ISERR(J60/3),$AP$14,J60)) | AV60: =IF($D60="","",IF(ISERR(K60/3),$AP$14,K60)) | AW60: =IF($D60="","",IF(ISERR(L60/3),$AP$14,L60)) | ... BA60: =IF($D60="","",IF(ISERR(P60/3),$AP$14,P60)) | BB60: =IF(Q60="","",Q60) | BC60: =IF(R60="","",R60) | BD60: =IF($D60="","",IF(ISERR(S60/3),$AP$14,S60)) | BE60: =IF($D60="","",IF(ISERR(T60/3),$AP$14,T60)) | BF60: =IF($D60="","",IF(U60="","",U60)) | BG60: =IF($D60="","",IF(V60="","",V60)) | BH60: =IF($D60="","",IF(W60="","",W60)) | BI60: =IF($D60="","",IF(ISERR(X60/3),$AP$14,X60)) | BJ60: =IF($D60="","",IF(ISERR(Y60/3),$AP$14,Y60)) | BK60: =IF($D60="","",IF(ISERR(Z60/3),$AP$14,Z60)) | BL60: =IF($D60="","",IF(AA60="","",AA60))
A61: =IF(AND(LEFT(B61,11)<>"גיליון הזנה",INDIRECT("'"&$B61&"'!"&'גיליון עזר'!$I$1&ROW('מרכז מורשת בבל'!$I$3))=""),"חסרה הזנה","") | B61: ='גיליון הזנה 45'!$D$3 -> גיליון הזנה 45 | C61: 45 | D61: =IF(OR(LEFT(B61,11)="גיליון הזנה",INDIRECT("'"&$B61&"'!"&'גיליון עזר'!$I$1&ROW('מרכז מורשת בבל'!$I$3))=0),"",B61) | E61: {=IF($D61="","",TRANSPOSE(INDIRECT("'"&$D61&"'!"&'גיליון עזר'!$D$1&ROW('מרכז מורשת בבל'!$D$16)):INDIRECT("'"&$D61&"'!"&'גיליון עזר'!$D$1&ROW('מרכז מורשת בבל'!$D$25))))} | O61: =IF($D61="","",INDIRECT("'"&$D61&"'!"&'גיליון עזר'!$F$1&ROW('מרכז מורשת בבל'!$B$78))) | P61: {=IF($D61="","",TRANSPOSE(INDIRECT("'"&$D61&"'!"&'גיליון עזר'!$G$1&ROW('מרכז מורשת בבל'!$D$16)):INDIRECT("'"&$D61&"'!"&'גיליון עזר'!$G$1&ROW('מרכז מורשת בבל'!$D$17))))} | R61: {=IF($D61="","",TRANSPOSE(INDIRECT("'"&$D61&"'!"&'גיליון עזר'!$N$1&ROW('מרכז מורשת בבל'!$D$16)):INDIRECT("'"&$D61&"'!"&'גיליון עזר'!$N$1&ROW('מרכז מורשת בבל'!$D$20))))} | W61: =IF($D61="","",INDIRECT("'"&$D61&"'!"&'גיליון עזר'!$N$1&ROW('מרכז מורשת בבל'!$J$21))) | X61: =IF($D61="","",INDIRECT("'"&$D61&"'!"&'גיליון עזר'!$L$1&ROW('מרכז מורשת בבל'!$J$78))) | Y61: {=IF($D61="","",TRANSPOSE(INDIRECT("'"&$D61&"'!"&'גיליון עזר'!$J$1&ROW('מרכז מורשת בבל'!$D$17)):INDIRECT("'"&$D61&"'!"&'גיליון עזר'!$J$1&ROW('מרכז מורשת בבל'!$D$18))))} | AA61: =IF($D61="","",IF(INDIRECT("'"&$D61&"'!"&'גיליון עזר'!$J$1&ROW('מרכז מורשת בבל'!$D$21))="","",INDIRECT("'"&$D61&"'!"&'גיליון עזר'!$J$1&ROW('מרכז מורשת בבל'!$D$21)))) | AC61: =IF($D61="","",AC$16) | AD61: =IF($D61="","",AD$16) | AE61: =IF($D61="","",AE$16) | AF61: =IF($D61="","",AF$16) | AG61: =IF($D61="","",AG$16) | AH61: =IF($D61="","",AH$16) | AI61: =IF($D61="","",AI$16) | AJ61: =IF($D61="","",AJ$16) | ... AO61: =IF($D61="","",AO$16) | AP61: =IF($D61="","",IF(ISERR(E61/3),$AP$14,E61)) | AQ61: =IF($D61="","",IF(ISERR(F61/3),$AP$14,F61)) | AR61: =IF($D61="","",IF(ISERR(G61/3),$AP$14,G61)) | AS61: =IF($D61="","",IF(ISERR(H61/3),$AP$14,H61)) | AT61: =IF($D61="","",IF(ISERR(I61/3),$AP$14,I61)) | AU61: =IF($D61="","",IF(ISERR(J61/3),$AP$14,J61)) | AV61: =IF($D61="","",IF(ISERR(K61/3),$AP$14,K61)) | AW61: =IF($D61="","",IF(ISERR(L61/3),$AP$14,L61)) | ... BA61: =IF($D61="","",IF(ISERR(P61/3),$AP$14,P61)) | BB61: =IF(Q61="","",Q61) | BC61: =IF(R61="","",R61) | BD61: =IF($D61="","",IF(ISERR(S61/3),$AP$14,S61)) | BE61: =IF($D61="","",IF(ISERR(T61/3),$AP$14,T61)) | BF61: =IF($D61="","",IF(U61="","",U61)) | BG61: =IF($D61="","",IF(V61="","",V61)) | BH61: =IF($D61="","",IF(W61="","",W61)) | BI61: =IF($D61="","",IF(ISERR(X61/3),$AP$14,X61)) | BJ61: =IF($D61="","",IF(ISERR(Y61/3),$AP$14,Y61)) | BK61: =IF($D61="","",IF(ISERR(Z61/3),$AP$14,Z61)) | BL61: =IF($D61="","",IF(AA61="","",AA61))
A62: =IF(AND(LEFT(B62,11)<>"גיליון הזנה",INDIRECT("'"&$B62&"'!"&'גיליון עזר'!$I$1&ROW('מרכז מורשת בבל'!$I$3))=""),"חסרה הזנה","") | B62: ='ענבל מרכז אתני'!$D$3 -> ענבל מרכז אתני | C62: 46 | D62: =IF(OR(LEFT(B62,11)="גיליון הזנה",INDIRECT("'"&$B62&"'!"&'גיליון עזר'!$I$1&ROW('מרכז מורשת בבל'!$I$3))=0),"",B62) -> ענבל מרכז אתני | E62: {=IF($D62="","",TRANSPOSE(INDIRECT("'"&$D62&"'!"&'גיליון עזר'!$D$1&ROW('מרכז מורשת בבל'!$D$16)):INDIRECT("'"&$D62&"'!"&'גיליון עזר'!$D$1&ROW('מרכז מורשת בבל'!$D$25))))} -> 0 | F62: 0 | G62: 0 | H62: 3 | I62: 2 | J62: 30 | K62: 7 | L62: 29 | M62: 7 | N62: 0 | O62: =IF($D62="","",INDIRECT("'"&$D62&"'!"&'גיליון עזר'!$F$1&ROW('מרכז מורשת בבל'!$B$78))) -> 130 | P62: {=IF($D62="","",TRANSPOSE(INDIRECT("'"&$D62&"'!"&'גיליון עזר'!$G$1&ROW('מרכז מורשת בבל'!$D$16)):INDIRECT("'"&$D62&"'!"&'גיליון עזר'!$G$1&ROW('מרכז מורשת בבל'!$D$17))))} -> 32 | Q62: 0 | R62: {=IF($D62="","",TRANSPOSE(INDIRECT("'"&$D62&"'!"&'גיליון עזר'!$N$1&ROW('מרכז מורשת בבל'!$D$16)):INDIRECT("'"&$D62&"'!"&'גיליון עזר'!$N$1&ROW('מרכז מורשת בבל'!$D$20))))} -> 0 | S62: 0 | T62: 0 | U62: 0 | V62: 0 | W62: =IF($D62="","",INDIRECT("'"&$D62&"'!"&'גיליון עזר'!$N$1&ROW('מרכז מורשת בבל'!$J$21))) -> 0 | X62: =IF($D62="","",INDIRECT("'"&$D62&"'!"&'גיליון עזר'!$L$1&ROW('מרכז מורשת בבל'!$J$78))) -> 0 | Y62: {=IF($D62="","",TRANSPOSE(INDIRECT("'"&$D62&"'!"&'גיליון עזר'!$J$1&ROW('מרכז מורשת בבל'!$D$17)):INDIRECT("'"&$D62&"'!"&'גיליון עזר'!$J$1&ROW('מרכז מורשת בבל'!$D$18))))} -> 898664 | Z62: 2003570 | AA62: =IF($D62="","",IF(INDIRECT("'"&$D62&"'!"&'גיליון עזר'!$J$1&ROW('מרכז מורשת בבל'!$D$21))="","",INDIRECT("'"&$D62&"'!"&'גיליון עזר'!$J$1&ROW('מרכז מורשת בבל'!$D$21)))) | AC62: =IF($D62="","",AC$16) -> כינוס | AD62: =IF($D62="","",AD$16) -> הרצאה | AE62: =IF($D62="","",AE$16) -> יום עיון | AF62: =IF($D62="","",AF$16) -> הפקה מורכבת | AG62: =IF($D62="","",AG$16) -> כן | AH62: =IF($D62="","",AH$16) -> לא | AI62: =IF($D62="","",AI$16) -> נאותה | AJ62: =IF($D62="","",AJ$16) -> טובה | ... AO62: =IF($D62="","",AO$16) -> מעל 4 בשנה | AP62: =IF($D62="","",IF(ISERR(E62/3),$AP$14,E62)) -> 0 | AQ62: =IF($D62="","",IF(ISERR(F62/3),$AP$14,F62)) -> 0 | AR62: =IF($D62="","",IF(ISERR(G62/3),$AP$14,G62)) -> 0 | AS62: =IF($D62="","",IF(ISERR(H62/3),$AP$14,H62)) -> 3 | AT62: =IF($D62="","",IF(ISERR(I62/3),$AP$14,I62)) -> 2 | AU62: =IF($D62="","",IF(ISERR(J62/3),$AP$14,J62)) -> 30 | AV62: =IF($D62="","",IF(ISERR(K62/3),$AP$14,K62)) -> 7 | AW62: =IF($D62="","",IF(ISERR(L62/3),$AP$14,L62)) -> 29 | ... BA62: =IF($D62="","",IF(ISERR(P62/3),$AP$14,P62)) -> 32 | BB62: =IF(Q62="","",Q62) -> 0 | BC62: =IF(R62="","",R62) -> 0 | BD62: =IF($D62="","",IF(ISERR(S62/3),$AP$14,S62)) -> 0 | BE62: =IF($D62="","",IF(ISERR(T62/3),$AP$14,T62)) -> 0 | BF62: =IF($D62="","",IF(U62="","",U62)) -> 0 | BG62: =IF($D62="","",IF(V62="","",V62)) -> 0 | BH62: =IF($D62="","",IF(W62="","",W62)) -> 0 | BI62: =IF($D62="","",IF(ISERR(X62/3),$AP$14,X62)) -> 0 | BJ62: =IF($D62="","",IF(ISERR(Y62/3),$AP$14,Y62)) -> 898664 | BK62: =IF($D62="","",IF(ISERR(Z62/3),$AP$14,Z62)) -> 2003570 | BL62: =IF($D62="","",IF(AA62="","",AA62))
A63: =IF(AND(LEFT(B63,11)<>"גיליון הזנה",INDIRECT("'"&$B63&"'!"&'גיליון עזר'!$I$1&ROW('מרכז מורשת בבל'!$I$3))=""),"חסרה הזנה","") | B63: ='א.ב. חדשות השומרונים'!$D$3 -> א.ב. חדשות השומרונים | C63: 47 | D63: =IF(OR(LEFT(B63,11)="גיליון הזנה",INDIRECT("'"&$B63&"'!"&'גיליון עזר'!$I$1&ROW('מרכז מורשת בבל'!$I$3))=0),"",B63) -> א.ב. חדשות השומרונים | E63: {=IF($D63="","",TRANSPOSE(INDIRECT("'"&$D63&"'!"&'גיליון עזר'!$D$1&ROW('מרכז מורשת בבל'!$D$16)):INDIRECT("'"&$D63&"'!"&'גיליון עזר'!$D$1&ROW('מרכז מורשת בבל'!$D$25))))} -> 2 | F63: 5 | G63: 0 | H63: 0 | I63: 0 | J63: 0 | K63: 0 | L63: 0 | M63: 0 | N63: 1 | O63: =IF($D63="","",INDIRECT("'"&$D63&"'!"&'גיליון עזר'!$F$1&ROW('מרכז מורשת בבל'!$B$78))) -> 0 | P63: {=IF($D63="","",TRANSPOSE(INDIRECT("'"&$D63&"'!"&'גיליון עזר'!$G$1&ROW('מרכז מורשת בבל'!$D$16)):INDIRECT("'"&$D63&"'!"&'גיליון עזר'!$G$1&ROW('מרכז מורשת בבל'!$D$17))))} -> 300 | Q63: נאותה | R63: {=IF($D63="","",TRANSPOSE(INDIRECT("'"&$D63&"'!"&'גיליון עזר'!$N$1&ROW('מרכז מורשת בבל'!$D$16)):INDIRECT("'"&$D63&"'!"&'גיליון עזר'!$N$1&ROW('מרכז מורשת בבל'!$D$20))))} -> מעל 4 בשנה | S63: 84 | T63: 300 | U63: לא | V63: לא | W63: =IF($D63="","",INDIRECT("'"&$D63&"'!"&'גיליון עזר'!$N$1&ROW('מרכז מורשת בבל'!$J$21))) -> לא | X63: =IF($D63="","",INDIRECT("'"&$D63&"'!"&'גיליון עזר'!$L$1&ROW('מרכז מורשת בבל'!$J$78))) -> 1 | Y63: {=IF($D63="","",TRANSPOSE(INDIRECT("'"&$D63&"'!"&'גיליון עזר'!$J$1&ROW('מרכז מורשת בבל'!$D$17)):INDIRECT("'"&$D63&"'!"&'גיליון עזר'!$J$1&ROW('מרכז מורשת בבל'!$D$18))))} -> 61698 | Z63: 259498 | AA63: =IF($D63="","",IF(INDIRECT("'"&$D63&"'!"&'גיליון עזר'!$J$1&ROW('מרכז מורשת בבל'!$D$21))="","",INDIRECT("'"&$D63&"'!"&'גיליון עזר'!$J$1&ROW('מרכז מורשת בבל'!$D$21)))) -> מעל 20% | AC63: =IF($D63="","",AC$16) -> כינוס | AD63: =IF($D63="","",AD$16) -> הרצאה | AE63: =IF($D63="","",AE$16) -> יום עיון | AF63: =IF($D63="","",AF$16) -> הפקה מורכבת | AG63: =IF($D63="","",AG$16) -> כן | AH63: =IF($D63="","",AH$16) -> לא | AI63: =IF($D63="","",AI$16) -> נאותה | AJ63: =IF($D63="","",AJ$16) -> טובה | ... AO63: =IF($D63="","",AO$16) -> מעל 4 בשנה | AP63: =IF($D63="","",IF(ISERR(E63/3),$AP$14,E63)) -> 2 | AQ63: =IF($D63="","",IF(ISERR(F63/3),$AP$14,F63)) -> 5 | AR63: =IF($D63="","",IF(ISERR(G63/3),$AP$14,G63)) -> 0 | AS63: =IF($D63="","",IF(ISERR(H63/3),$AP$14,H63)) -> 0 | AT63: =IF($D63="","",IF(ISERR(I63/3),$AP$14,I63)) -> 0 | AU63: =IF($D63="","",IF(ISERR(J63/3),$AP$14,J63)) -> 0 | AV63: =IF($D63="","",IF(ISERR(K63/3),$AP$14,K63)) -> 0 | AW63: =IF($D63="","",IF(ISERR(L63/3),$AP$14,L63)) -> 0 | ... BA63: =IF($D63="","",IF(ISERR(P63/3),$AP$14,P63)) -> 300 | BB63: =IF(Q63="","",Q63) -> נאותה | BC63: =IF(R63="","",R63) -> מעל 4 בשנה | BD63: =IF($D63="","",IF(ISERR(S63/3),$AP$14,S63)) -> 84 | BE63: =IF($D63="","",IF(ISERR(T63/3),$AP$14,T63)) -> 300 | BF63: =IF($D63="","",IF(U63="","",U63)) -> לא | BG63: =IF($D63="","",IF(V63="","",V63)) -> לא | BH63: =IF($D63="","",IF(W63="","",W63)) -> לא | BI63: =IF($D63="","",IF(ISERR(X63/3),$AP$14,X63)) -> 1 | BJ63: =IF($D63="","",IF(ISERR(Y63/3),$AP$14,Y63)) -> 61698 | BK63: =IF($D63="","",IF(ISERR(Z63/3),$AP$14,Z63)) -> 259498 | BL63: =IF($D63="","",IF(AA63="","",AA63)) -> מעל 20%
A64: =IF(AND(LEFT(B64,11)<>"גיליון הזנה",INDIRECT("'"&$B64&"'!"&'גיליון עזר'!$I$1&ROW('מרכז מורשת בבל'!$I$3))=""),"חסרה הזנה","") | B64: ='גיליון הזנה 48'!$D$3 -> גיליון הזנה 48 | C64: 48 | D64: =IF(OR(LEFT(B64,11)="גיליון הזנה",INDIRECT("'"&$B64&"'!"&'גיליון עזר'!$I$1&ROW('מרכז מורשת בבל'!$I$3))=0),"",B64) | E64: {=IF($D64="","",TRANSPOSE(INDIRECT("'"&$D64&"'!"&'גיליון עזר'!$D$1&ROW('מרכז מורשת בבל'!$D$16)):INDIRECT("'"&$D64&"'!"&'גיליון עזר'!$D$1&ROW('מרכז מורשת בבל'!$D$25))))} | O64: =IF($D64="","",INDIRECT("'"&$D64&"'!"&'גיליון עזר'!$F$1&ROW('מרכז מורשת בבל'!$B$78))) | P64: {=IF($D64="","",TRANSPOSE(INDIRECT("'"&$D64&"'!"&'גיליון עזר'!$G$1&ROW('מרכז מורשת בבל'!$D$16)):INDIRECT("'"&$D64&"'!"&'גיליון עזר'!$G$1&ROW('מרכז מורשת בבל'!$D$17))))} | R64: {=IF($D64="","",TRANSPOSE(INDIRECT("'"&$D64&"'!"&'גיליון עזר'!$N$1&ROW('מרכז מורשת בבל'!$D$16)):INDIRECT("'"&$D64&"'!"&'גיליון עזר'!$N$1&ROW('מרכז מורשת בבל'!$D$20))))} | W64: =IF($D64="","",INDIRECT("'"&$D64&"'!"&'גיליון עזר'!$N$1&ROW('מרכז מורשת בבל'!$J$21))) | X64: =IF($D64="","",INDIRECT("'"&$D64&"'!"&'גיליון עזר'!$L$1&ROW('מרכז מורשת בבל'!$J$78))) | Y64: {=IF($D64="","",TRANSPOSE(INDIRECT("'"&$D64&"'!"&'גיליון עזר'!$J$1&ROW('מרכז מורשת בבל'!$D$17)):INDIRECT("'"&$D64&"'!"&'גיליון עזר'!$J$1&ROW('מרכז מורשת בבל'!$D$18))))} | AA64: =IF($D64="","",IF(INDIRECT("'"&$D64&"'!"&'גיליון עזר'!$J$1&ROW('מרכז מורשת בבל'!$D$21))="","",INDIRECT("'"&$D64&"'!"&'גיליון עזר'!$J$1&ROW('מרכז מורשת בבל'!$D$21)))) | AC64: =IF($D64="","",AC$16) | AD64: =IF($D64="","",AD$16) | AE64: =IF($D64="","",AE$16) | AF64: =IF($D64="","",AF$16) | AG64: =IF($D64="","",AG$16) | AH64: =IF($D64="","",AH$16) | AI64: =IF($D64="","",AI$16) | AJ64: =IF($D64="","",AJ$16) | ... AO64: =IF($D64="","",AO$16) | AP64: =IF($D64="","",IF(ISERR(E64/3),$AP$14,E64)) | AQ64: =IF($D64="","",IF(ISERR(F64/3),$AP$14,F64)) | AR64: =IF($D64="","",IF(ISERR(G64/3),$AP$14,G64)) | AS64: =IF($D64="","",IF(ISERR(H64/3),$AP$14,H64)) | AT64: =IF($D64="","",IF(ISERR(I64/3),$AP$14,I64)) | AU64: =IF($D64="","",IF(ISERR(J64/3),$AP$14,J64)) | AV64: =IF($D64="","",IF(ISERR(K64/3),$AP$14,K64)) | AW64: =IF($D64="","",IF(ISERR(L64/3),$AP$14,L64)) | ... BA64: =IF($D64="","",IF(ISERR(P64/3),$AP$14,P64)) | BB64: =IF(Q64="","",Q64) | BC64: =IF(R64="","",R64) | BD64: =IF($D64="","",IF(ISERR(S64/3),$AP$14,S64)) | BE64: =IF($D64="","",IF(ISERR(T64/3),$AP$14,T64)) | BF64: =IF($D64="","",IF(U64="","",U64)) | BG64: =IF($D64="","",IF(V64="","",V64)) | BH64: =IF($D64="","",IF(W64="","",W64)) | BI64: =IF($D64="","",IF(ISERR(X64/3),$AP$14,X64)) | BJ64: =IF($D64="","",IF(ISERR(Y64/3),$AP$14,Y64)) | BK64: =IF($D64="","",IF(ISERR(Z64/3),$AP$14,Z64)) | BL64: =IF($D64="","",IF(AA64="","",AA64))
A65: =IF(AND(LEFT(B65,11)<>"גיליון הזנה",INDIRECT("'"&$B65&"'!"&'גיליון עזר'!$I$1&ROW('מרכז מורשת בבל'!$I$3))=""),"חסרה הזנה","") | B65: ='גיליון הזנה 49'!$D$3 -> גיליון הזנה 49 | C65: 49 | D65: =IF(OR(LEFT(B65,11)="גיליון הזנה",INDIRECT("'"&$B65&"'!"&'גיליון עזר'!$I$1&ROW('מרכז מורשת בבל'!$I$3))=0),"",B65) | E65: {=IF($D65="","",TRANSPOSE(INDIRECT("'"&$D65&"'!"&'גיליון עזר'!$D$1&ROW('מרכז מורשת בבל'!$D$16)):INDIRECT("'"&$D65&"'!"&'גיליון עזר'!$D$1&ROW('מרכז מורשת בבל'!$D$25))))} | O65: =IF($D65="","",INDIRECT("'"&$D65&"'!"&'גיליון עזר'!$F$1&ROW('מרכז מורשת בבל'!$B$78))) | P65: {=IF($D65="","",TRANSPOSE(INDIRECT("'"&$D65&"'!"&'גיליון עזר'!$G$1&ROW('מרכז מורשת בבל'!$D$16)):INDIRECT("'"&$D65&"'!"&'גיליון עזר'!$G$1&ROW('מרכז מורשת בבל'!$D$17))))} | R65: {=IF($D65="","",TRANSPOSE(INDIRECT("'"&$D65&"'!"&'גיליון עזר'!$N$1&ROW('מרכז מורשת בבל'!$D$16)):INDIRECT("'"&$D65&"'!"&'גיליון עזר'!$N$1&ROW('מרכז מורשת בבל'!$D$20))))} | W65: =IF($D65="","",INDIRECT("'"&$D65&"'!"&'גיליון עזר'!$N$1&ROW('מרכז מורשת בבל'!$J$21))) | X65: =IF($D65="","",INDIRECT("'"&$D65&"'!"&'גיליון עזר'!$L$1&ROW('מרכז מורשת בבל'!$J$78))) | Y65: {=IF($D65="","",TRANSPOSE(INDIRECT("'"&$D65&"'!"&'גיליון עזר'!$J$1&ROW('מרכז מורשת בבל'!$D$17)):INDIRECT("'"&$D65&"'!"&'גיליון עזר'!$J$1&ROW('מרכז מורשת בבל'!$D$18))))} | AA65: =IF($D65="","",IF(INDIRECT("'"&$D65&"'!"&'גיליון עזר'!$J$1&ROW('מרכז מורשת בבל'!$D$21))="","",INDIRECT("'"&$D65&"'!"&'גיליון עזר'!$J$1&ROW('מרכז מורשת בבל'!$D$21)))) | AC65: =IF($D65="","",AC$16) | AD65: =IF($D65="","",AD$16) | AE65: =IF($D65="","",AE$16) | AF65: =IF($D65="","",AF$16) | AG65: =IF($D65="","",AG$16) | AH65: =IF($D65="","",AH$16) | AI65: =IF($D65="","",AI$16) | AJ65: =IF($D65="","",AJ$16) | ... AO65: =IF($D65="","",AO$16) | AP65: =IF($D65="","",IF(ISERR(E65/3),$AP$14,E65)) | AQ65: =IF($D65="","",IF(ISERR(F65/3),$AP$14,F65)) | AR65: =IF($D65="","",IF(ISERR(G65/3),$AP$14,G65)) | AS65: =IF($D65="","",IF(ISERR(H65/3),$AP$14,H65)) | AT65: =IF($D65="","",IF(ISERR(I65/3),$AP$14,I65)) | AU65: =IF($D65="","",IF(ISERR(J65/3),$AP$14,J65)) | AV65: =IF($D65="","",IF(ISERR(K65/3),$AP$14,K65)) | AW65: =IF($D65="","",IF(ISERR(L65/3),$AP$14,L65)) | ... BA65: =IF($D65="","",IF(ISERR(P65/3),$AP$14,P65)) | BB65: =IF(Q65="","",Q65) | BC65: =IF(R65="","",R65) | BD65: =IF($D65="","",IF(ISERR(S65/3),$AP$14,S65)) | BE65: =IF($D65="","",IF(ISERR(T65/3),$AP$14,T65)) | BF65: =IF($D65="","",IF(U65="","",U65)) | BG65: =IF($D65="","",IF(V65="","",V65)) | BH65: =IF($D65="","",IF(W65="","",W65)) | BI65: =IF($D65="","",IF(ISERR(X65/3),$AP$14,X65)) | BJ65: =IF($D65="","",IF(ISERR(Y65/3),$AP$14,Y65)) | BK65: =IF($D65="","",IF(ISERR(Z65/3),$AP$14,Z65)) | BL65: =IF($D65="","",IF(AA65="","",AA65))
A66: =IF(AND(LEFT(B66,11)<>"גיליון הזנה",INDIRECT("'"&$B66&"'!"&'גיליון עזר'!$I$1&ROW('מרכז מורשת בבל'!$I$3))=""),"חסרה הזנה","") | B66: ='גיליון הזנה 52'!$D$3 -> גיליון הזנה 52 | C66: 50 | D66: =IF(OR(LEFT(B66,11)="גיליון הזנה",INDIRECT("'"&$B66&"'!"&'גיליון עזר'!$I$1&ROW('מרכז מורשת בבל'!$I$3))=0),"",B66) | E66: {=IF($D66="","",TRANSPOSE(INDIRECT("'"&$D66&"'!"&'גיליון עזר'!$D$1&ROW('מרכז מורשת בבל'!$D$16)):INDIRECT("'"&$D66&"'!"&'גיליון עזר'!$D$1&ROW('מרכז מורשת בבל'!$D$25))))} | O66: =IF($D66="","",INDIRECT("'"&$D66&"'!"&'גיליון עזר'!$F$1&ROW('מרכז מורשת בבל'!$B$78))) | P66: {=IF($D66="","",TRANSPOSE(INDIRECT("'"&$D66&"'!"&'גיליון עזר'!$G$1&ROW('מרכז מורשת בבל'!$D$16)):INDIRECT("'"&$D66&"'!"&'גיליון עזר'!$G$1&ROW('מרכז מורשת בבל'!$D$17))))} | R66: {=IF($D66="","",TRANSPOSE(INDIRECT("'"&$D66&"'!"&'גיליון עזר'!$N$1&ROW('מרכז מורשת בבל'!$D$16)):INDIRECT("'"&$D66&"'!"&'גיליון עזר'!$N$1&ROW('מרכז מורשת בבל'!$D$20))))} | W66: =IF($D66="","",INDIRECT("'"&$D66&"'!"&'גיליון עזר'!$N$1&ROW('מרכז מורשת בבל'!$J$21))) | X66: =IF($D66="","",INDIRECT("'"&$D66&"'!"&'גיליון עזר'!$L$1&ROW('מרכז מורשת בבל'!$J$78))) | Y66: {=IF($D66="","",TRANSPOSE(INDIRECT("'"&$D66&"'!"&'גיליון עזר'!$J$1&ROW('מרכז מורשת בבל'!$D$17)):INDIRECT("'"&$D66&"'!"&'גיליון עזר'!$J$1&ROW('מרכז מורשת בבל'!$D$18))))} | AA66: =IF($D66="","",IF(INDIRECT("'"&$D66&"'!"&'גיליון עזר'!$J$1&ROW('מרכז מורשת בבל'!$D$21))="","",INDIRECT("'"&$D66&"'!"&'גיליון עזר'!$J$1&ROW('מרכז מורשת בבל'!$D$21)))) | AC66: =IF($D66="","",AC$16) | AD66: =IF($D66="","",AD$16) | AE66: =IF($D66="","",AE$16) | AF66: =IF($D66="","",AF$16) | AG66: =IF($D66="","",AG$16) | AH66: =IF($D66="","",AH$16) | AI66: =IF($D66="","",AI$16) | AJ66: =IF($D66="","",AJ$16) | ... AO66: =IF($D66="","",AO$16) | AP66: =IF($D66="","",IF(ISERR(E66/3),$AP$14,E66)) | AQ66: =IF($D66="","",IF(ISERR(F66/3),$AP$14,F66)) | AR66: =IF($D66="","",IF(ISERR(G66/3),$AP$14,G66)) | AS66: =IF($D66="","",IF(ISERR(H66/3),$AP$14,H66)) | AT66: =IF($D66="","",IF(ISERR(I66/3),$AP$14,I66)) | AU66: =IF($D66="","",IF(ISERR(J66/3),$AP$14,J66)) | AV66: =IF($D66="","",IF(ISERR(K66/3),$AP$14,K66)) | AW66: =IF($D66="","",IF(ISERR(L66/3),$AP$14,L66)) | ... BA66: =IF($D66="","",IF(ISERR(P66/3),$AP$14,P66)) | BB66: =IF(Q66="","",Q66) | BC66: =IF(R66="","",R66) | BD66: =IF($D66="","",IF(ISERR(S66/3),$AP$14,S66)) | BE66: =IF($D66="","",IF(ISERR(T66/3),$AP$14,T66)) | BF66: =IF($D66="","",IF(U66="","",U66)) | BG66: =IF($D66="","",IF(V66="","",V66)) | BH66: =IF($D66="","",IF(W66="","",W66)) | BI66: =IF($D66="","",IF(ISERR(X66/3),$AP$14,X66)) | BJ66: =IF($D66="","",IF(ISERR(Y66/3),$AP$14,Y66)) | BK66: =IF($D66="","",IF(ISERR(Z66/3),$AP$14,Z66)) | BL66: =IF($D66="","",IF(AA66="","",AA66))
A67: =IF(AND(LEFT(B67,11)<>"גיליון הזנה",INDIRECT("'"&$B67&"'!"&'גיליון עזר'!$I$1&ROW('מרכז מורשת בבל'!$I$3))=""),"חסרה הזנה","") | B67: ='גיליון הזנה 51'!$D$3 -> גיליון הזנה 51 | C67: 51 | D67: =IF(OR(LEFT(B67,11)="גיליון הזנה",INDIRECT("'"&$B67&"'!"&'גיליון עזר'!$I$1&ROW('מרכז מורשת בבל'!$I$3))=0),"",B67) | E67: {=IF($D67="","",TRANSPOSE(INDIRECT("'"&$D67&"'!"&'גיליון עזר'!$D$1&ROW('מרכז מורשת בבל'!$D$16)):INDIRECT("'"&$D67&"'!"&'גיליון עזר'!$D$1&ROW('מרכז מורשת בבל'!$D$25))))} | O67: =IF($D67="","",INDIRECT("'"&$D67&"'!"&'גיליון עזר'!$F$1&ROW('מרכז מורשת בבל'!$B$78))) | P67: {=IF($D67="","",TRANSPOSE(INDIRECT("'"&$D67&"'!"&'גיליון עזר'!$G$1&ROW('מרכז מורשת בבל'!$D$16)):INDIRECT("'"&$D67&"'!"&'גיליון עזר'!$G$1&ROW('מרכז מורשת בבל'!$D$17))))} | R67: {=IF($D67="","",TRANSPOSE(INDIRECT("'"&$D67&"'!"&'גיליון עזר'!$N$1&ROW('מרכז מורשת בבל'!$D$16)):INDIRECT("'"&$D67&"'!"&'גיליון עזר'!$N$1&ROW('מרכז מורשת בבל'!$D$20))))} | W67: =IF($D67="","",INDIRECT("'"&$D67&"'!"&'גיליון עזר'!$N$1&ROW('מרכז מורשת בבל'!$J$21))) | X67: =IF($D67="","",INDIRECT("'"&$D67&"'!"&'גיליון עזר'!$L$1&ROW('מרכז מורשת בבל'!$J$78))) | Y67: {=IF($D67="","",TRANSPOSE(INDIRECT("'"&$D67&"'!"&'גיליון עזר'!$J$1&ROW('מרכז מורשת בבל'!$D$17)):INDIRECT("'"&$D67&"'!"&'גיליון עזר'!$J$1&ROW('מרכז מורשת בבל'!$D$18))))} | AA67: =IF($D67="","",IF(INDIRECT("'"&$D67&"'!"&'גיליון עזר'!$J$1&ROW('מרכז מורשת בבל'!$D$21))="","",INDIRECT("'"&$D67&"'!"&'גיליון עזר'!$J$1&ROW('מרכז מורשת בבל'!$D$21)))) | AC67: =IF($D67="","",AC$16) | AD67: =IF($D67="","",AD$16) | AE67: =IF($D67="","",AE$16) | AF67: =IF($D67="","",AF$16) | AG67: =IF($D67="","",AG$16) | AH67: =IF($D67="","",AH$16) | AI67: =IF($D67="","",AI$16) | AJ67: =IF($D67="","",AJ$16) | ... AO67: =IF($D67="","",AO$16) | AP67: =IF($D67="","",IF(ISERR(E67/3),$AP$14,E67)) | AQ67: =IF($D67="","",IF(ISERR(F67/3),$AP$14,F67)) | AR67: =IF($D67="","",IF(ISERR(G67/3),$AP$14,G67)) | AS67: =IF($D67="","",IF(ISERR(H67/3),$AP$14,H67)) | AT67: =IF($D67="","",IF(ISERR(I67/3),$AP$14,I67)) | AU67: =IF($D67="","",IF(ISERR(J67/3),$AP$14,J67)) | AV67: =IF($D67="","",IF(ISERR(K67/3),$AP$14,K67)) | AW67: =IF($D67="","",IF(ISERR(L67/3),$AP$14,L67)) | ... BA67: =IF($D67="","",IF(ISERR(P67/3),$AP$14,P67)) | BB67: =IF(Q67="","",Q67) | BC67: =IF(R67="","",R67) | BD67: =IF($D67="","",IF(ISERR(S67/3),$AP$14,S67)) | BE67: =IF($D67="","",IF(ISERR(T67/3),$AP$14,T67)) | BF67: =IF($D67="","",IF(U67="","",U67)) | BG67: =IF($D67="","",IF(V67="","",V67)) | BH67: =IF($D67="","",IF(W67="","",W67)) | BI67: =IF($D67="","",IF(ISERR(X67/3),$AP$14,X67)) | BJ67: =IF($D67="","",IF(ISERR(Y67/3),$AP$14,Y67)) | BK67: =IF($D67="","",IF(ISERR(Z67/3),$AP$14,Z67)) | BL67: =IF($D67="","",IF(AA67="","",AA67))
A68: =IF(AND(LEFT(B68,11)<>"גיליון הזנה",INDIRECT("'"&$B68&"'!"&'גיליון עזר'!$I$1&ROW('מרכז מורשת בבל'!$I$3))=""),"חסרה הזנה","") | B68: ='עמותת הנני'!$D$3 -> עמותת הנני | C68: 52 | D68: =IF(OR(LEFT(B68,11)="גיליון הזנה",INDIRECT("'"&$B68&"'!"&'גיליון עזר'!$I$1&ROW('מרכז מורשת בבל'!$I$3))=0),"",B68) -> עמותת הנני | E68: {=IF($D68="","",TRANSPOSE(INDIRECT("'"&$D68&"'!"&'גיליון עזר'!$D$1&ROW('מרכז מורשת בבל'!$D$16)):INDIRECT("'"&$D68&"'!"&'גיליון עזר'!$D$1&ROW('מרכז מורשת בבל'!$D$25))))} -> 0 | F68: 21 | G68: 0 | H68: 113 | I68: 0 | J68: 0 | K68: 0 | L68: 0 | M68: 0 | N68: 12 | O68: =IF($D68="","",INDIRECT("'"&$D68&"'!"&'גיליון עזר'!$F$1&ROW('מרכז מורשת בבל'!$B$78))) -> 0 | P68: {=IF($D68="","",TRANSPOSE(INDIRECT("'"&$D68&"'!"&'גיליון עזר'!$G$1&ROW('מרכז מורשת בבל'!$D$16)):INDIRECT("'"&$D68&"'!"&'גיליון עזר'!$G$1&ROW('מרכז מורשת בבל'!$D$17))))} -> 7 | Q68: 0 | R68: {=IF($D68="","",TRANSPOSE(INDIRECT("'"&$D68&"'!"&'גיליון עזר'!$N$1&ROW('מרכז מורשת בבל'!$D$16)):INDIRECT("'"&$D68&"'!"&'גיליון עזר'!$N$1&ROW('מרכז מורשת בבל'!$D$20))))} -> 0 | S68: 0 | T68: 0 | U68: 0 | V68: 0 | W68: =IF($D68="","",INDIRECT("'"&$D68&"'!"&'גיליון עזר'!$N$1&ROW('מרכז מורשת בבל'!$J$21))) -> 0 | X68: =IF($D68="","",INDIRECT("'"&$D68&"'!"&'גיליון עזר'!$L$1&ROW('מרכז מורשת בבל'!$J$78))) -> 0 | Y68: {=IF($D68="","",TRANSPOSE(INDIRECT("'"&$D68&"'!"&'גיליון עזר'!$J$1&ROW('מרכז מורשת בבל'!$D$17)):INDIRECT("'"&$D68&"'!"&'גיליון עזר'!$J$1&ROW('מרכז מורשת בבל'!$D$18))))} -> 104493 | Z68: 713227 | AA68: =IF($D68="","",IF(INDIRECT("'"&$D68&"'!"&'גיליון עזר'!$J$1&ROW('מרכז מורשת בבל'!$D$21))="","",INDIRECT("'"&$D68&"'!"&'גיליון עזר'!$J$1&ROW('מרכז מורשת בבל'!$D$21)))) | AC68: =IF($D68="","",AC$16) -> כינוס | AD68: =IF($D68="","",AD$16) -> הרצאה | AE68: =IF($D68="","",AE$16) -> יום עיון | AF68: =IF($D68="","",AF$16) -> הפקה מורכבת | AG68: =IF($D68="","",AG$16) -> כן | AH68: =IF($D68="","",AH$16) -> לא | AI68: =IF($D68="","",AI$16) -> נאותה | AJ68: =IF($D68="","",AJ$16) -> טובה | ... AO68: =IF($D68="","",AO$16) -> מעל 4 בשנה | AP68: =IF($D68="","",IF(ISERR(E68/3),$AP$14,E68)) -> 0 | AQ68: =IF($D68="","",IF(ISERR(F68/3),$AP$14,F68)) -> 21 | AR68: =IF($D68="","",IF(ISERR(G68/3),$AP$14,G68)) -> 0 | AS68: =IF($D68="","",IF(ISERR(H68/3),$AP$14,H68)) -> 113 | AT68: =IF($D68="","",IF(ISERR(I68/3),$AP$14,I68)) -> 0 | AU68: =IF($D68="","",IF(ISERR(J68/3),$AP$14,J68)) -> 0 | AV68: =IF($D68="","",IF(ISERR(K68/3),$AP$14,K68)) -> 0 | AW68: =IF($D68="","",IF(ISERR(L68/3),$AP$14,L68)) -> 0 | ... BA68: =IF($D68="","",IF(ISERR(P68/3),$AP$14,P68)) -> 7 | BB68: =IF(Q68="","",Q68) -> 0 | BC68: =IF(R68="","",R68) -> 0 | BD68: =IF($D68="","",IF(ISERR(S68/3),$AP$14,S68)) -> 0 | BE68: =IF($D68="","",IF(ISERR(T68/3),$AP$14,T68)) -> 0 | BF68: =IF($D68="","",IF(U68="","",U68)) -> 0 | BG68: =IF($D68="","",IF(V68="","",V68)) -> 0 | BH68: =IF($D68="","",IF(W68="","",W68)) -> 0 | BI68: =IF($D68="","",IF(ISERR(X68/3),$AP$14,X68)) -> 0 | BJ68: =IF($D68="","",IF(ISERR(Y68/3),$AP$14,Y68)) -> 104493 | BK68: =IF($D68="","",IF(ISERR(Z68/3),$AP$14,Z68)) -> 713227 | BL68: =IF($D68="","",IF(AA68="","",AA68))
A69: =IF(AND(LEFT(B69,11)<>"גיליון הזנה",INDIRECT("'"&$B69&"'!"&'גיליון עזר'!$I$1&ROW('מרכז מורשת בבל'!$I$3))=""),"חסרה הזנה","") | B69: ='גיליון הזנה 53'!$D$3 -> גיליון הזנה 53 | C69: 53 | D69: =IF(OR(LEFT(B69,11)="גיליון הזנה",INDIRECT("'"&$B69&"'!"&'גיליון עזר'!$I$1&ROW('מרכז מורשת בבל'!$I$3))=0),"",B69) | E69: {=IF($D69="","",TRANSPOSE(INDIRECT("'"&$D69&"'!"&'גיליון עזר'!$D$1&ROW('מרכז מורשת בבל'!$D$16)):INDIRECT("'"&$D69&"'!"&'גיליון עזר'!$D$1&ROW('מרכז מורשת בבל'!$D$25))))} | O69: =IF($D69="","",INDIRECT("'"&$D69&"'!"&'גיליון עזר'!$F$1&ROW('מרכז מורשת בבל'!$B$78))) | P69: {=IF($D69="","",TRANSPOSE(INDIRECT("'"&$D69&"'!"&'גיליון עזר'!$G$1&ROW('מרכז מורשת בבל'!$D$16)):INDIRECT("'"&$D69&"'!"&'גיליון עזר'!$G$1&ROW('מרכז מורשת בבל'!$D$17))))} | R69: {=IF($D69="","",TRANSPOSE(INDIRECT("'"&$D69&"'!"&'גיליון עזר'!$N$1&ROW('מרכז מורשת בבל'!$D$16)):INDIRECT("'"&$D69&"'!"&'גיליון עזר'!$N$1&ROW('מרכז מורשת בבל'!$D$20))))} | W69: =IF($D69="","",INDIRECT("'"&$D69&"'!"&'גיליון עזר'!$N$1&ROW('מרכז מורשת בבל'!$J$21))) | X69: =IF($D69="","",INDIRECT("'"&$D69&"'!"&'גיליון עזר'!$L$1&ROW('מרכז מורשת בבל'!$J$78))) | Y69: {=IF($D69="","",TRANSPOSE(INDIRECT("'"&$D69&"'!"&'גיליון עזר'!$J$1&ROW('מרכז מורשת בבל'!$D$17)):INDIRECT("'"&$D69&"'!"&'גיליון עזר'!$J$1&ROW('מרכז מורשת בבל'!$D$18))))} | AA69: =IF($D69="","",IF(INDIRECT("'"&$D69&"'!"&'גיליון עזר'!$J$1&ROW('מרכז מורשת בבל'!$D$21))="","",INDIRECT("'"&$D69&"'!"&'גיליון עזר'!$J$1&ROW('מרכז מורשת בבל'!$D$21)))) | AC69: =IF($D69="","",AC$16) | AD69: =IF($D69="","",AD$16) | AE69: =IF($D69="","",AE$16) | AF69: =IF($D69="","",AF$16) | AG69: =IF($D69="","",AG$16) | AH69: =IF($D69="","",AH$16) | AI69: =IF($D69="","",AI$16) | AJ69: =IF($D69="","",AJ$16) | ... AO69: =IF($D69="","",AO$16) | AP69: =IF($D69="","",IF(ISERR(E69/3),$AP$14,E69)) | AQ69: =IF($D69="","",IF(ISERR(F69/3),$AP$14,F69)) | AR69: =IF($D69="","",IF(ISERR(G69/3),$AP$14,G69)) | AS69: =IF($D69="","",IF(ISERR(H69/3),$AP$14,H69)) | AT69: =IF($D69="","",IF(ISERR(I69/3),$AP$14,I69)) | AU69: =IF($D69="","",IF(ISERR(J69/3),$AP$14,J69)) | AV69: =IF($D69="","",IF(ISERR(K69/3),$AP$14,K69)) | AW69: =IF($D69="","",IF(ISERR(L69/3),$AP$14,L69)) | ... BA69: =IF($D69="","",IF(ISERR(P69/3),$AP$14,P69)) | BB69: =IF(Q69="","",Q69) | BC69: =IF(R69="","",R69) | BD69: =IF($D69="","",IF(ISERR(S69/3),$AP$14,S69)) | BE69: =IF($D69="","",IF(ISERR(T69/3),$AP$14,T69)) | BF69: =IF($D69="","",IF(U69="","",U69)) | BG69: =IF($D69="","",IF(V69="","",V69)) | BH69: =IF($D69="","",IF(W69="","",W69)) | BI69: =IF($D69="","",IF(ISERR(X69/3),$AP$14,X69)) | BJ69: =IF($D69="","",IF(ISERR(Y69/3),$AP$14,Y69)) | BK69: =IF($D69="","",IF(ISERR(Z69/3),$AP$14,Z69)) | BL69: =IF($D69="","",IF(AA69="","",AA69))
A70: =IF(AND(LEFT(B70,11)<>"גיליון הזנה",INDIRECT("'"&$B70&"'!"&'גיליון עזר'!$I$1&ROW('מרכז מורשת בבל'!$I$3))=""),"חסרה הזנה","") | B70: ='גיליון הזנה 54'!$D$3 -> גיליון הזנה 54 | C70: 54 | D70: =IF(OR(LEFT(B70,11)="גיליון הזנה",INDIRECT("'"&$B70&"'!"&'גיליון עזר'!$I$1&ROW('מרכז מורשת בבל'!$I$3))=0),"",B70) | E70: {=IF($D70="","",TRANSPOSE(INDIRECT("'"&$D70&"'!"&'גיליון עזר'!$D$1&ROW('מרכז מורשת בבל'!$D$16)):INDIRECT("'"&$D70&"'!"&'גיליון עזר'!$D$1&ROW('מרכז מורשת בבל'!$D$25))))} | O70: =IF($D70="","",INDIRECT("'"&$D70&"'!"&'גיליון עזר'!$F$1&ROW('מרכז מורשת בבל'!$B$78))) | P70: {=IF($D70="","",TRANSPOSE(INDIRECT("'"&$D70&"'!"&'גיליון עזר'!$G$1&ROW('מרכז מורשת בבל'!$D$16)):INDIRECT("'"&$D70&"'!"&'גיליון עזר'!$G$1&ROW('מרכז מורשת בבל'!$D$17))))} | R70: {=IF($D70="","",TRANSPOSE(INDIRECT("'"&$D70&"'!"&'גיליון עזר'!$N$1&ROW('מרכז מורשת בבל'!$D$16)):INDIRECT("'"&$D70&"'!"&'גיליון עזר'!$N$1&ROW('מרכז מורשת בבל'!$D$20))))} | W70: =IF($D70="","",INDIRECT("'"&$D70&"'!"&'גיליון עזר'!$N$1&ROW('מרכז מורשת בבל'!$J$21))) | X70: =IF($D70="","",INDIRECT("'"&$D70&"'!"&'גיליון עזר'!$L$1&ROW('מרכז מורשת בבל'!$J$78))) | Y70: {=IF($D70="","",TRANSPOSE(INDIRECT("'"&$D70&"'!"&'גיליון עזר'!$J$1&ROW('מרכז מורשת בבל'!$D$17)):INDIRECT("'"&$D70&"'!"&'גיליון עזר'!$J$1&ROW('מרכז מורשת בבל'!$D$18))))} | AA70: =IF($D70="","",IF(INDIRECT("'"&$D70&"'!"&'גיליון עזר'!$J$1&ROW('מרכז מורשת בבל'!$D$21))="","",INDIRECT("'"&$D70&"'!"&'גיליון עזר'!$J$1&ROW('מרכז מורשת בבל'!$D$21)))) | AC70: =IF($D70="","",AC$16) | AD70: =IF($D70="","",AD$16) | AE70: =IF($D70="","",AE$16) | AF70: =IF($D70="","",AF$16) | AG70: =IF($D70="","",AG$16) | AH70: =IF($D70="","",AH$16) | AI70: =IF($D70="","",AI$16) | AJ70: =IF($D70="","",AJ$16) | ... AO70: =IF($D70="","",AO$16) | AP70: =IF($D70="","",IF(ISERR(E70/3),$AP$14,E70)) | AQ70: =IF($D70="","",IF(ISERR(F70/3),$AP$14,F70)) | AR70: =IF($D70="","",IF(ISERR(G70/3),$AP$14,G70)) | AS70: =IF($D70="","",IF(ISERR(H70/3),$AP$14,H70)) | AT70: =IF($D70="","",IF(ISERR(I70/3),$AP$14,I70)) | AU70: =IF($D70="","",IF(ISERR(J70/3),$AP$14,J70)) | AV70: =IF($D70="","",IF(ISERR(K70/3),$AP$14,K70)) | AW70: =IF($D70="","",IF(ISERR(L70/3),$AP$14,L70)) | ... BA70: =IF($D70="","",IF(ISERR(P70/3),$AP$14,P70)) | BB70: =IF(Q70="","",Q70) | BC70: =IF(R70="","",R70) | BD70: =IF($D70="","",IF(ISERR(S70/3),$AP$14,S70)) | BE70: =IF($D70="","",IF(ISERR(T70/3),$AP$14,T70)) | BF70: =IF($D70="","",IF(U70="","",U70)) | BG70: =IF($D70="","",IF(V70="","",V70)) | BH70: =IF($D70="","",IF(W70="","",W70)) | BI70: =IF($D70="","",IF(ISERR(X70/3),$AP$14,X70)) | BJ70: =IF($D70="","",IF(ISERR(Y70/3),$AP$14,Y70)) | BK70: =IF($D70="","",IF(ISERR(Z70/3),$AP$14,Z70)) | BL70: =IF($D70="","",IF(AA70="","",AA70))
A71: =IF(AND(LEFT(B71,11)<>"גיליון הזנה",INDIRECT("'"&$B71&"'!"&'גיליון עזר'!$I$1&ROW('מרכז מורשת בבל'!$I$3))=""),"חסרה הזנה","") | B71: ='גיליון הזנה 43'!$D$3 -> גיליון הזנה 43 | C71: 55 | D71: =IF(OR(LEFT(B71,11)="גיליון הזנה",INDIRECT("'"&$B71&"'!"&'גיליון עזר'!$I$1&ROW('מרכז מורשת בבל'!$I$3))=0),"",B71) | E71: {=IF($D71="","",TRANSPOSE(INDIRECT("'"&$D71&"'!"&'גיליון עזר'!$D$1&ROW('מרכז מורשת בבל'!$D$16)):INDIRECT("'"&$D71&"'!"&'גיליון עזר'!$D$1&ROW('מרכז מורשת בבל'!$D$25))))} | O71: =IF($D71="","",INDIRECT("'"&$D71&"'!"&'גיליון עזר'!$F$1&ROW('מרכז מורשת בבל'!$B$78))) | P71: {=IF($D71="","",TRANSPOSE(INDIRECT("'"&$D71&"'!"&'גיליון עזר'!$G$1&ROW('מרכז מורשת בבל'!$D$16)):INDIRECT("'"&$D71&"'!"&'גיליון עזר'!$G$1&ROW('מרכז מורשת בבל'!$D$17))))} | R71: {=IF($D71="","",TRANSPOSE(INDIRECT("'"&$D71&"'!"&'גיליון עזר'!$N$1&ROW('מרכז מורשת בבל'!$D$16)):INDIRECT("'"&$D71&"'!"&'גיליון עזר'!$N$1&ROW('מרכז מורשת בבל'!$D$20))))} | W71: =IF($D71="","",INDIRECT("'"&$D71&"'!"&'גיליון עזר'!$N$1&ROW('מרכז מורשת בבל'!$J$21))) | X71: =IF($D71="","",INDIRECT("'"&$D71&"'!"&'גיליון עזר'!$L$1&ROW('מרכז מורשת בבל'!$J$78))) | Y71: {=IF($D71="","",TRANSPOSE(INDIRECT("'"&$D71&"'!"&'גיליון עזר'!$J$1&ROW('מרכז מורשת בבל'!$D$17)):INDIRECT("'"&$D71&"'!"&'גיליון עזר'!$J$1&ROW('מרכז מורשת בבל'!$D$18))))} | AA71: =IF($D71="","",IF(INDIRECT("'"&$D71&"'!"&'גיליון עזר'!$J$1&ROW('מרכז מורשת בבל'!$D$21))="","",INDIRECT("'"&$D71&"'!"&'גיליון עזר'!$J$1&ROW('מרכז מורשת בבל'!$D$21)))) | AC71: =IF($D71="","",AC$16) | AD71: =IF($D71="","",AD$16) | AE71: =IF($D71="","",AE$16) | AF71: =IF($D71="","",AF$16) | AG71: =IF($D71="","",AG$16) | AH71: =IF($D71="","",AH$16) | AI71: =IF($D71="","",AI$16) | AJ71: =IF($D71="","",AJ$16) | ... AO71: =IF($D71="","",AO$16) | AP71: =IF($D71="","",IF(ISERR(E71/3),$AP$14,E71)) | AQ71: =IF($D71="","",IF(ISERR(F71/3),$AP$14,F71)) | AR71: =IF($D71="","",IF(ISERR(G71/3),$AP$14,G71)) | AS71: =IF($D71="","",IF(ISERR(H71/3),$AP$14,H71)) | AT71: =IF($D71="","",IF(ISERR(I71/3),$AP$14,I71)) | AU71: =IF($D71="","",IF(ISERR(J71/3),$AP$14,J71)) | AV71: =IF($D71="","",IF(ISERR(K71/3),$AP$14,K71)) | AW71: =IF($D71="","",IF(ISERR(L71/3),$AP$14,L71)) | ... BA71: =IF($D71="","",IF(ISERR(P71/3),$AP$14,P71)) | BB71: =IF(Q71="","",Q71) | BC71: =IF(R71="","",R71) | BD71: =IF($D71="","",IF(ISERR(S71/3),$AP$14,S71)) | BE71: =IF($D71="","",IF(ISERR(T71/3),$AP$14,T71)) | BF71: =IF($D71="","",IF(U71="","",U71)) | BG71: =IF($D71="","",IF(V71="","",V71)) | BH71: =IF($D71="","",IF(W71="","",W71)) | BI71: =IF($D71="","",IF(ISERR(X71/3),$AP$14,X71)) | BJ71: =IF($D71="","",IF(ISERR(Y71/3),$AP$14,Y71)) | BK71: =IF($D71="","",IF(ISERR(Z71/3),$AP$14,Z71)) | BL71: =IF($D71="","",IF(AA71="","",AA71))
A72: =IF(AND(LEFT(B72,11)<>"גיליון הזנה",INDIRECT("'"&$B72&"'!"&'גיליון עזר'!$I$1&ROW('מרכז מורשת בבל'!$I$3))=""),"חסרה הזנה","") | B72: ='גיליון הזנה 56'!$D$3 -> גיליון הזנה 56 | C72: 56 | D72: =IF(OR(LEFT(B72,11)="גיליון הזנה",INDIRECT("'"&$B72&"'!"&'גיליון עזר'!$I$1&ROW('מרכז מורשת בבל'!$I$3))=0),"",B72) | E72: {=IF($D72="","",TRANSPOSE(INDIRECT("'"&$D72&"'!"&'גיליון עזר'!$D$1&ROW('מרכז מורשת בבל'!$D$16)):INDIRECT("'"&$D72&"'!"&'גיליון עזר'!$D$1&ROW('מרכז מורשת בבל'!$D$25))))} | O72: =IF($D72="","",INDIRECT("'"&$D72&"'!"&'גיליון עזר'!$F$1&ROW('מרכז מורשת בבל'!$B$78))) | P72: {=IF($D72="","",TRANSPOSE(INDIRECT("'"&$D72&"'!"&'גיליון עזר'!$G$1&ROW('מרכז מורשת בבל'!$D$16)):INDIRECT("'"&$D72&"'!"&'גיליון עזר'!$G$1&ROW('מרכז מורשת בבל'!$D$17))))} | R72: {=IF($D72="","",TRANSPOSE(INDIRECT("'"&$D72&"'!"&'גיליון עזר'!$N$1&ROW('מרכז מורשת בבל'!$D$16)):INDIRECT("'"&$D72&"'!"&'גיליון עזר'!$N$1&ROW('מרכז מורשת בבל'!$D$20))))} | W72: =IF($D72="","",INDIRECT("'"&$D72&"'!"&'גיליון עזר'!$N$1&ROW('מרכז מורשת בבל'!$J$21))) | X72: =IF($D72="","",INDIRECT("'"&$D72&"'!"&'גיליון עזר'!$L$1&ROW('מרכז מורשת בבל'!$J$78))) | Y72: {=IF($D72="","",TRANSPOSE(INDIRECT("'"&$D72&"'!"&'גיליון עזר'!$J$1&ROW('מרכז מורשת בבל'!$D$17)):INDIRECT("'"&$D72&"'!"&'גיליון עזר'!$J$1&ROW('מרכז מורשת בבל'!$D$18))))} | AA72: =IF($D72="","",IF(INDIRECT("'"&$D72&"'!"&'גיליון עזר'!$J$1&ROW('מרכז מורשת בבל'!$D$21))="","",INDIRECT("'"&$D72&"'!"&'גיליון עזר'!$J$1&ROW('מרכז מורשת בבל'!$D$21)))) | AC72: =IF($D72="","",AC$16) | AD72: =IF($D72="","",AD$16) | AE72: =IF($D72="","",AE$16) | AF72: =IF($D72="","",AF$16) | AG72: =IF($D72="","",AG$16) | AH72: =IF($D72="","",AH$16) | AI72: =IF($D72="","",AI$16) | AJ72: =IF($D72="","",AJ$16) | ... AO72: =IF($D72="","",AO$16) | AP72: =IF($D72="","",IF(ISERR(E72/3),$AP$14,E72)) | AQ72: =IF($D72="","",IF(ISERR(F72/3),$AP$14,F72)) | AR72: =IF($D72="","",IF(ISERR(G72/3),$AP$14,G72)) | AS72: =IF($D72="","",IF(ISERR(H72/3),$AP$14,H72)) | AT72: =IF($D72="","",IF(ISERR(I72/3),$AP$14,I72)) | AU72: =IF($D72="","",IF(ISERR(J72/3),$AP$14,J72)) | AV72: =IF($D72="","",IF(ISERR(K72/3),$AP$14,K72)) | AW72: =IF($D72="","",IF(ISERR(L72/3),$AP$14,L72)) | ... BA72: =IF($D72="","",IF(ISERR(P72/3),$AP$14,P72)) | BB72: =IF(Q72="","",Q72) | BC72: =IF(R72="","",R72) | BD72: =IF($D72="","",IF(ISERR(S72/3),$AP$14,S72)) | BE72: =IF($D72="","",IF(ISERR(T72/3),$AP$14,T72)) | BF72: =IF($D72="","",IF(U72="","",U72)) | BG72: =IF($D72="","",IF(V72="","",V72)) | BH72: =IF($D72="","",IF(W72="","",W72)) | BI72: =IF($D72="","",IF(ISERR(X72/3),$AP$14,X72)) | BJ72: =IF($D72="","",IF(ISERR(Y72/3),$AP$14,Y72)) | BK72: =IF($D72="","",IF(ISERR(Z72/3),$AP$14,Z72)) | BL72: =IF($D72="","",IF(AA72="","",AA72))
A73: =IF(AND(LEFT(B73,11)<>"גיליון הזנה",INDIRECT("'"&$B73&"'!"&'גיליון עזר'!$I$1&ROW('מרכז מורשת בבל'!$I$3))=""),"חסרה הזנה","") | B73: ='גיליון הזנה 57'!$D$3 -> גיליון הזנה 57 | C73: 57 | D73: =IF(OR(LEFT(B73,11)="גיליון הזנה",INDIRECT("'"&$B73&"'!"&'גיליון עזר'!$I$1&ROW('מרכז מורשת בבל'!$I$3))=0),"",B73) | E73: {=IF($D73="","",TRANSPOSE(INDIRECT("'"&$D73&"'!"&'גיליון עזר'!$D$1&ROW('מרכז מורשת בבל'!$D$16)):INDIRECT("'"&$D73&"'!"&'גיליון עזר'!$D$1&ROW('מרכז מורשת בבל'!$D$25))))} | O73: =IF($D73="","",INDIRECT("'"&$D73&"'!"&'גיליון עזר'!$F$1&ROW('מרכז מורשת בבל'!$B$78))) | P73: {=IF($D73="","",TRANSPOSE(INDIRECT("'"&$D73&"'!"&'גיליון עזר'!$G$1&ROW('מרכז מורשת בבל'!$D$16)):INDIRECT("'"&$D73&"'!"&'גיליון עזר'!$G$1&ROW('מרכז מורשת בבל'!$D$17))))} | R73: {=IF($D73="","",TRANSPOSE(INDIRECT("'"&$D73&"'!"&'גיליון עזר'!$N$1&ROW('מרכז מורשת בבל'!$D$16)):INDIRECT("'"&$D73&"'!"&'גיליון עזר'!$N$1&ROW('מרכז מורשת בבל'!$D$20))))} | W73: =IF($D73="","",INDIRECT("'"&$D73&"'!"&'גיליון עזר'!$N$1&ROW('מרכז מורשת בבל'!$J$21))) | X73: =IF($D73="","",INDIRECT("'"&$D73&"'!"&'גיליון עזר'!$L$1&ROW('מרכז מורשת בבל'!$J$78))) | Y73: {=IF($D73="","",TRANSPOSE(INDIRECT("'"&$D73&"'!"&'גיליון עזר'!$J$1&ROW('מרכז מורשת בבל'!$D$17)):INDIRECT("'"&$D73&"'!"&'גיליון עזר'!$J$1&ROW('מרכז מורשת בבל'!$D$18))))} | AA73: =IF($D73="","",IF(INDIRECT("'"&$D73&"'!"&'גיליון עזר'!$J$1&ROW('מרכז מורשת בבל'!$D$21))="","",INDIRECT("'"&$D73&"'!"&'גיליון עזר'!$J$1&ROW('מרכז מורשת בבל'!$D$21)))) | AC73: =IF($D73="","",AC$16) | AD73: =IF($D73="","",AD$16) | AE73: =IF($D73="","",AE$16) | AF73: =IF($D73="","",AF$16) | AG73: =IF($D73="","",AG$16) | AH73: =IF($D73="","",AH$16) | AI73: =IF($D73="","",AI$16) | AJ73: =IF($D73="","",AJ$16) | ... AO73: =IF($D73="","",AO$16) | AP73: =IF($D73="","",IF(ISERR(E73/3),$AP$14,E73)) | AQ73: =IF($D73="","",IF(ISERR(F73/3),$AP$14,F73)) | AR73: =IF($D73="","",IF(ISERR(G73/3),$AP$14,G73)) | AS73: =IF($D73="","",IF(ISERR(H73/3),$AP$14,H73)) | AT73: =IF($D73="","",IF(ISERR(I73/3),$AP$14,I73)) | AU73: =IF($D73="","",IF(ISERR(J73/3),$AP$14,J73)) | AV73: =IF($D73="","",IF(ISERR(K73/3),$AP$14,K73)) | AW73: =IF($D73="","",IF(ISERR(L73/3),$AP$14,L73)) | ... BA73: =IF($D73="","",IF(ISERR(P73/3),$AP$14,P73)) | BB73: =IF(Q73="","",Q73) | BC73: =IF(R73="","",R73) | BD73: =IF($D73="","",IF(ISERR(S73/3),$AP$14,S73)) | BE73: =IF($D73="","",IF(ISERR(T73/3),$AP$14,T73)) | BF73: =IF($D73="","",IF(U73="","",U73)) | BG73: =IF($D73="","",IF(V73="","",V73)) | BH73: =IF($D73="","",IF(W73="","",W73)) | BI73: =IF($D73="","",IF(ISERR(X73/3),$AP$14,X73)) | BJ73: =IF($D73="","",IF(ISERR(Y73/3),$AP$14,Y73)) | BK73: =IF($D73="","",IF(ISERR(Z73/3),$AP$14,Z73)) | BL73: =IF($D73="","",IF(AA73="","",AA73))
A74: =IF(AND(LEFT(B74,11)<>"גיליון הזנה",INDIRECT("'"&$B74&"'!"&'גיליון עזר'!$I$1&ROW('מרכז מורשת בבל'!$I$3))=""),"חסרה הזנה","") | B74: ='גיליון הזנה 58'!$D$3 -> גיליון הזנה 58 | C74: 58 | D74: =IF(OR(LEFT(B74,11)="גיליון הזנה",INDIRECT("'"&$B74&"'!"&'גיליון עזר'!$I$1&ROW('מרכז מורשת בבל'!$I$3))=0),"",B74) | E74: {=IF($D74="","",TRANSPOSE(INDIRECT("'"&$D74&"'!"&'גיליון עזר'!$D$1&ROW('מרכז מורשת בבל'!$D$16)):INDIRECT("'"&$D74&"'!"&'גיליון עזר'!$D$1&ROW('מרכז מורשת בבל'!$D$25))))} | O74: =IF($D74="","",INDIRECT("'"&$D74&"'!"&'גיליון עזר'!$F$1&ROW('מרכז מורשת בבל'!$B$78))) | P74: {=IF($D74="","",TRANSPOSE(INDIRECT("'"&$D74&"'!"&'גיליון עזר'!$G$1&ROW('מרכז מורשת בבל'!$D$16)):INDIRECT("'"&$D74&"'!"&'גיליון עזר'!$G$1&ROW('מרכז מורשת בבל'!$D$17))))} | R74: {=IF($D74="","",TRANSPOSE(INDIRECT("'"&$D74&"'!"&'גיליון עזר'!$N$1&ROW('מרכז מורשת בבל'!$D$16)):INDIRECT("'"&$D74&"'!"&'גיליון עזר'!$N$1&ROW('מרכז מורשת בבל'!$D$20))))} | W74: =IF($D74="","",INDIRECT("'"&$D74&"'!"&'גיליון עזר'!$N$1&ROW('מרכז מורשת בבל'!$J$21))) | X74: =IF($D74="","",INDIRECT("'"&$D74&"'!"&'גיליון עזר'!$L$1&ROW('מרכז מורשת בבל'!$J$78))) | Y74: {=IF($D74="","",TRANSPOSE(INDIRECT("'"&$D74&"'!"&'גיליון עזר'!$J$1&ROW('מרכז מורשת בבל'!$D$17)):INDIRECT("'"&$D74&"'!"&'גיליון עזר'!$J$1&ROW('מרכז מורשת בבל'!$D$18))))} | AA74: =IF($D74="","",IF(INDIRECT("'"&$D74&"'!"&'גיליון עזר'!$J$1&ROW('מרכז מורשת בבל'!$D$21))="","",INDIRECT("'"&$D74&"'!"&'גיליון עזר'!$J$1&ROW('מרכז מורשת בבל'!$D$21)))) | AC74: =IF($D74="","",AC$16) | AD74: =IF($D74="","",AD$16) | AE74: =IF($D74="","",AE$16) | AF74: =IF($D74="","",AF$16) | AG74: =IF($D74="","",AG$16) | AH74: =IF($D74="","",AH$16) | AI74: =IF($D74="","",AI$16) | AJ74: =IF($D74="","",AJ$16) | ... AO74: =IF($D74="","",AO$16) | AP74: =IF($D74="","",IF(ISERR(E74/3),$AP$14,E74)) | AQ74: =IF($D74="","",IF(ISERR(F74/3),$AP$14,F74)) | AR74: =IF($D74="","",IF(ISERR(G74/3),$AP$14,G74)) | AS74: =IF($D74="","",IF(ISERR(H74/3),$AP$14,H74)) | AT74: =IF($D74="","",IF(ISERR(I74/3),$AP$14,I74)) | AU74: =IF($D74="","",IF(ISERR(J74/3),$AP$14,J74)) | AV74: =IF($D74="","",IF(ISERR(K74/3),$AP$14,K74)) | AW74: =IF($D74="","",IF(ISERR(L74/3),$AP$14,L74)) | ... BA74: =IF($D74="","",IF(ISERR(P74/3),$AP$14,P74)) | BB74: =IF(Q74="","",Q74) | BC74: =IF(R74="","",R74) | BD74: =IF($D74="","",IF(ISERR(S74/3),$AP$14,S74)) | BE74: =IF($D74="","",IF(ISERR(T74/3),$AP$14,T74)) | BF74: =IF($D74="","",IF(U74="","",U74)) | BG74: =IF($D74="","",IF(V74="","",V74)) | BH74: =IF($D74="","",IF(W74="","",W74)) | BI74: =IF($D74="","",IF(ISERR(X74/3),$AP$14,X74)) | BJ74: =IF($D74="","",IF(ISERR(Y74/3),$AP$14,Y74)) | BK74: =IF($D74="","",IF(ISERR(Z74/3),$AP$14,Z74)) | BL74: =IF($D74="","",IF(AA74="","",AA74))
A75: =IF(AND(LEFT(B75,11)<>"גיליון הזנה",INDIRECT("'"&$B75&"'!"&'גיליון עזר'!$I$1&ROW('מרכז מורשת בבל'!$I$3))=""),"חסרה הזנה","") | B75: ='גיליון הזנה 59'!$D$3 -> גיליון הזנה 59 | C75: 59 | D75: =IF(OR(LEFT(B75,11)="גיליון הזנה",INDIRECT("'"&$B75&"'!"&'גיליון עזר'!$I$1&ROW('מרכז מורשת בבל'!$I$3))=0),"",B75) | E75: {=IF($D75="","",TRANSPOSE(INDIRECT("'"&$D75&"'!"&'גיליון עזר'!$D$1&ROW('מרכז מורשת בבל'!$D$16)):INDIRECT("'"&$D75&"'!"&'גיליון עזר'!$D$1&ROW('מרכז מורשת בבל'!$D$25))))} | O75: =IF($D75="","",INDIRECT("'"&$D75&"'!"&'גיליון עזר'!$F$1&ROW('מרכז מורשת בבל'!$B$78))) | P75: {=IF($D75="","",TRANSPOSE(INDIRECT("'"&$D75&"'!"&'גיליון עזר'!$G$1&ROW('מרכז מורשת בבל'!$D$16)):INDIRECT("'"&$D75&"'!"&'גיליון עזר'!$G$1&ROW('מרכז מורשת בבל'!$D$17))))} | R75: {=IF($D75="","",TRANSPOSE(INDIRECT("'"&$D75&"'!"&'גיליון עזר'!$N$1&ROW('מרכז מורשת בבל'!$D$16)):INDIRECT("'"&$D75&"'!"&'גיליון עזר'!$N$1&ROW('מרכז מורשת בבל'!$D$20))))} | W75: =IF($D75="","",INDIRECT("'"&$D75&"'!"&'גיליון עזר'!$N$1&ROW('מרכז מורשת בבל'!$J$21))) | X75: =IF($D75="","",INDIRECT("'"&$D75&"'!"&'גיליון עזר'!$L$1&ROW('מרכז מורשת בבל'!$J$78))) | Y75: {=IF($D75="","",TRANSPOSE(INDIRECT("'"&$D75&"'!"&'גיליון עזר'!$J$1&ROW('מרכז מורשת בבל'!$D$17)):INDIRECT("'"&$D75&"'!"&'גיליון עזר'!$J$1&ROW('מרכז מורשת בבל'!$D$18))))} | AA75: =IF($D75="","",IF(INDIRECT("'"&$D75&"'!"&'גיליון עזר'!$J$1&ROW('מרכז מורשת בבל'!$D$21))="","",INDIRECT("'"&$D75&"'!"&'גיליון עזר'!$J$1&ROW('מרכז מורשת בבל'!$D$21)))) | AC75: =IF($D75="","",AC$16) | AD75: =IF($D75="","",AD$16) | AE75: =IF($D75="","",AE$16) | AF75: =IF($D75="","",AF$16) | AG75: =IF($D75="","",AG$16) | AH75: =IF($D75="","",AH$16) | AI75: =IF($D75="","",AI$16) | AJ75: =IF($D75="","",AJ$16) | ... AO75: =IF($D75="","",AO$16) | AP75: =IF($D75="","",IF(ISERR(E75/3),$AP$14,E75)) | AQ75: =IF($D75="","",IF(ISERR(F75/3),$AP$14,F75)) | AR75: =IF($D75="","",IF(ISERR(G75/3),$AP$14,G75)) | AS75: =IF($D75="","",IF(ISERR(H75/3),$AP$14,H75)) | AT75: =IF($D75="","",IF(ISERR(I75/3),$AP$14,I75)) | AU75: =IF($D75="","",IF(ISERR(J75/3),$AP$14,J75)) | AV75: =IF($D75="","",IF(ISERR(K75/3),$AP$14,K75)) | AW75: =IF($D75="","",IF(ISERR(L75/3),$AP$14,L75)) | ... BA75: =IF($D75="","",IF(ISERR(P75/3),$AP$14,P75)) | BB75: =IF(Q75="","",Q75) | BC75: =IF(R75="","",R75) | BD75: =IF($D75="","",IF(ISERR(S75/3),$AP$14,S75)) | BE75: =IF($D75="","",IF(ISERR(T75/3),$AP$14,T75)) | BF75: =IF($D75="","",IF(U75="","",U75)) | BG75: =IF($D75="","",IF(V75="","",V75)) | BH75: =IF($D75="","",IF(W75="","",W75)) | BI75: =IF($D75="","",IF(ISERR(X75/3),$AP$14,X75)) | BJ75: =IF($D75="","",IF(ISERR(Y75/3),$AP$14,Y75)) | BK75: =IF($D75="","",IF(ISERR(Z75/3),$AP$14,Z75)) | BL75: =IF($D75="","",IF(AA75="","",AA75))
A76: =IF(AND(LEFT(B76,11)<>"גיליון הזנה",INDIRECT("'"&$B76&"'!"&'גיליון עזר'!$I$1&ROW('מרכז מורשת בבל'!$I$3))=""),"חסרה הזנה","") | B76: ='שרשרת הדורות'!$D$3 -> שרשרת הדורות | C76: 60 | D76: =IF(OR(LEFT(B76,11)="גיליון הזנה",INDIRECT("'"&$B76&"'!"&'גיליון עזר'!$I$1&ROW('מרכז מורשת בבל'!$I$3))=0),"",B76) -> שרשרת הדורות | E76: {=IF($D76="","",TRANSPOSE(INDIRECT("'"&$D76&"'!"&'גיליון עזר'!$D$1&ROW('מרכז מורשת בבל'!$D$16)):INDIRECT("'"&$D76&"'!"&'גיליון עזר'!$D$1&ROW('מרכז מורשת בבל'!$D$25))))} -> 3 | F76: 4 | G76: 1 | H76: 1 | I76: 0 | J76: 12 | K76: 0 | L76: 11 | M76: 0 | N76: 5 | O76: =IF($D76="","",INDIRECT("'"&$D76&"'!"&'גיליון עזר'!$F$1&ROW('מרכז מורשת בבל'!$B$78))) -> 0 | P76: {=IF($D76="","",TRANSPOSE(INDIRECT("'"&$D76&"'!"&'גיליון עזר'!$G$1&ROW('מרכז מורשת בבל'!$D$16)):INDIRECT("'"&$D76&"'!"&'גיליון עזר'!$G$1&ROW('מרכז מורשת בבל'!$D$17))))} -> 9 | Q76: 0 | R76: {=IF($D76="","",TRANSPOSE(INDIRECT("'"&$D76&"'!"&'גיליון עזר'!$N$1&ROW('מרכז מורשת בבל'!$D$16)):INDIRECT("'"&$D76&"'!"&'גיליון עזר'!$N$1&ROW('מרכז מורשת בבל'!$D$20))))} -> 0 | S76: 0 | T76: 0 | U76: 0 | V76: 0 | W76: =IF($D76="","",INDIRECT("'"&$D76&"'!"&'גיליון עזר'!$N$1&ROW('מרכז מורשת בבל'!$J$21))) -> 0 | X76: =IF($D76="","",INDIRECT("'"&$D76&"'!"&'גיליון עזר'!$L$1&ROW('מרכז מורשת בבל'!$J$78))) -> 0 | Y76: {=IF($D76="","",TRANSPOSE(INDIRECT("'"&$D76&"'!"&'גיליון עזר'!$J$1&ROW('מרכז מורשת בבל'!$D$17)):INDIRECT("'"&$D76&"'!"&'גיליון עזר'!$J$1&ROW('מרכז מורשת בבל'!$D$18))))} -> 372269 | Z76: 501310 | AA76: =IF($D76="","",IF(INDIRECT("'"&$D76&"'!"&'גיליון עזר'!$J$1&ROW('מרכז מורשת בבל'!$D$21))="","",INDIRECT("'"&$D76&"'!"&'גיליון עזר'!$J$1&ROW('מרכז מורשת בבל'!$D$21)))) | AC76: =IF($D76="","",AC$16) -> כינוס | AD76: =IF($D76="","",AD$16) -> הרצאה | AE76: =IF($D76="","",AE$16) -> יום עיון | AF76: =IF($D76="","",AF$16) -> הפקה מורכבת | AG76: =IF($D76="","",AG$16) -> כן | AH76: =IF($D76="","",AH$16) -> לא | AI76: =IF($D76="","",AI$16) -> נאותה | AJ76: =IF($D76="","",AJ$16) -> טובה | ... AO76: =IF($D76="","",AO$16) -> מעל 4 בשנה | AP76: =IF($D76="","",IF(ISERR(E76/3),$AP$14,E76)) -> 3 | AQ76: =IF($D76="","",IF(ISERR(F76/3),$AP$14,F76)) -> 4 | AR76: =IF($D76="","",IF(ISERR(G76/3),$AP$14,G76)) -> 1 | AS76: =IF($D76="","",IF(ISERR(H76/3),$AP$14,H76)) -> 1 | AT76: =IF($D76="","",IF(ISERR(I76/3),$AP$14,I76)) -> 0 | AU76: =IF($D76="","",IF(ISERR(J76/3),$AP$14,J76)) -> 12 | AV76: =IF($D76="","",IF(ISERR(K76/3),$AP$14,K76)) -> 0 | AW76: =IF($D76="","",IF(ISERR(L76/3),$AP$14,L76)) -> 11 | ... BA76: =IF($D76="","",IF(ISERR(P76/3),$AP$14,P76)) -> 9 | BB76: =IF(Q76="","",Q76) -> 0 | BC76: =IF(R76="","",R76) -> 0 | BD76: =IF($D76="","",IF(ISERR(S76/3),$AP$14,S76)) -> 0 | BE76: =IF($D76="","",IF(ISERR(T76/3),$AP$14,T76)) -> 0 | BF76: =IF($D76="","",IF(U76="","",U76)) -> 0 | BG76: =IF($D76="","",IF(V76="","",V76)) -> 0 | BH76: =IF($D76="","",IF(W76="","",W76)) -> 0 | BI76: =IF($D76="","",IF(ISERR(X76/3),$AP$14,X76)) -> 0 | BJ76: =IF($D76="","",IF(ISERR(Y76/3),$AP$14,Y76)) -> 372269 | BK76: =IF($D76="","",IF(ISERR(Z76/3),$AP$14,Z76)) -> 501310 | BL76: =IF($D76="","",IF(AA76="","",AA76))
A77: =IF(AND(LEFT(B77,11)<>"גיליון הזנה",INDIRECT("'"&$B77&"'!"&'גיליון עזר'!$I$1&ROW('מרכז מורשת בבל'!$I$3))=""),"חסרה הזנה","") | B77: =חיבה!$D$3 -> חיבה | C77: 61 | D77: =IF(OR(LEFT(B77,11)="גיליון הזנה",INDIRECT("'"&$B77&"'!"&'גיליון עזר'!$I$1&ROW('מרכז מורשת בבל'!$I$3))=0),"",B77) -> חיבה | E77: {=IF($D77="","",TRANSPOSE(INDIRECT("'"&$D77&"'!"&'גיליון עזר'!$D$1&ROW('מרכז מורשת בבל'!$D$16)):INDIRECT("'"&$D77&"'!"&'גיליון עזר'!$D$1&ROW('מרכז מורשת בבל'!$D$25))))} -> 16 | F77: 22 | G77: 7 | H77: 0 | I77: 0 | J77: 16 | K77: 0 | L77: 13 | M77: 0 | N77: 0 | O77: =IF($D77="","",INDIRECT("'"&$D77&"'!"&'גיליון עזר'!$F$1&ROW('מרכז מורשת בבל'!$B$78))) -> 0 | P77: {=IF($D77="","",TRANSPOSE(INDIRECT("'"&$D77&"'!"&'גיליון עזר'!$G$1&ROW('מרכז מורשת בבל'!$D$16)):INDIRECT("'"&$D77&"'!"&'גיליון עזר'!$G$1&ROW('מרכז מורשת בבל'!$D$17))))} -> 180 | Q77: טובה | R77: {=IF($D77="","",TRANSPOSE(INDIRECT("'"&$D77&"'!"&'גיליון עזר'!$N$1&ROW('מרכז מורשת בבל'!$D$16)):INDIRECT("'"&$D77&"'!"&'גיליון עזר'!$N$1&ROW('מרכז מורשת בבל'!$D$20))))} -> 0 | S77: 0 | T77: 0 | U77: 0 | V77: 0 | W77: =IF($D77="","",INDIRECT("'"&$D77&"'!"&'גיליון עזר'!$N$1&ROW('מרכז מורשת בבל'!$J$21))) -> 0 | X77: =IF($D77="","",INDIRECT("'"&$D77&"'!"&'גיליון עזר'!$L$1&ROW('מרכז מורשת בבל'!$J$78))) -> 0 | Y77: {=IF($D77="","",TRANSPOSE(INDIRECT("'"&$D77&"'!"&'גיליון עזר'!$J$1&ROW('מרכז מורשת בבל'!$D$17)):INDIRECT("'"&$D77&"'!"&'גיליון עזר'!$J$1&ROW('מרכז מורשת בבל'!$D$18))))} -> 668471 | Z77: 1018248 | AA77: =IF($D77="","",IF(INDIRECT("'"&$D77&"'!"&'גיליון עזר'!$J$1&ROW('מרכז מורשת בבל'!$D$21))="","",INDIRECT("'"&$D77&"'!"&'גיליון עזר'!$J$1&ROW('מרכז מורשת בבל'!$D$21)))) | AC77: =IF($D77="","",AC$16) -> כינוס | AD77: =IF($D77="","",AD$16) -> הרצאה | AE77: =IF($D77="","",AE$16) -> יום עיון | AF77: =IF($D77="","",AF$16) -> הפקה מורכבת | AG77: =IF($D77="","",AG$16) -> כן | AH77: =IF($D77="","",AH$16) -> לא | AI77: =IF($D77="","",AI$16) -> נאותה | AJ77: =IF($D77="","",AJ$16) -> טובה | ... AO77: =IF($D77="","",AO$16) -> מעל 4 בשנה | AP77: =IF($D77="","",IF(ISERR(E77/3),$AP$14,E77)) -> 16 | AQ77: =IF($D77="","",IF(ISERR(F77/3),$AP$14,F77)) -> 22 | AR77: =IF($D77="","",IF(ISERR(G77/3),$AP$14,G77)) -> 7 | AS77: =IF($D77="","",IF(ISERR(H77/3),$AP$14,H77)) -> 0 | AT77: =IF($D77="","",IF(ISERR(I77/3),$AP$14,I77)) -> 0 | AU77: =IF($D77="","",IF(ISERR(J77/3),$AP$14,J77)) -> 16 | AV77: =IF($D77="","",IF(ISERR(K77/3),$AP$14,K77)) -> 0 | AW77: =IF($D77="","",IF(ISERR(L77/3),$AP$14,L77)) -> 13 | ... BA77: =IF($D77="","",IF(ISERR(P77/3),$AP$14,P77)) -> 180 | BB77: =IF(Q77="","",Q77) -> טובה | BC77: =IF(R77="","",R77) -> 0 | BD77: =IF($D77="","",IF(ISERR(S77/3),$AP$14,S77)) -> 0 | BE77: =IF($D77="","",IF(ISERR(T77/3),$AP$14,T77)) -> 0 | BF77: =IF($D77="","",IF(U77="","",U77)) -> 0 | BG77: =IF($D77="","",IF(V77="","",V77)) -> 0 | BH77: =IF($D77="","",IF(W77="","",W77)) -> 0 | BI77: =IF($D77="","",IF(ISERR(X77/3),$AP$14,X77)) -> 0 | BJ77: =IF($D77="","",IF(ISERR(Y77/3),$AP$14,Y77)) -> 668471 | BK77: =IF($D77="","",IF(ISERR(Z77/3),$AP$14,Z77)) -> 1018248 | BL77: =IF($D77="","",IF(AA77="","",AA77))
A78: =IF(AND(LEFT(B78,11)<>"גיליון הזנה",INDIRECT("'"&$B78&"'!"&'גיליון עזר'!$I$1&ROW('מרכז מורשת בבל'!$I$3))=""),"חסרה הזנה","") | B78: ='גיליון הזנה 62'!$D$3 -> גיליון הזנה 62 | C78: 62 | D78: =IF(OR(LEFT(B78,11)="גיליון הזנה",INDIRECT("'"&$B78&"'!"&'גיליון עזר'!$I$1&ROW('מרכז מורשת בבל'!$I$3))=0),"",B78) | E78: {=IF($D78="","",TRANSPOSE(INDIRECT("'"&$D78&"'!"&'גיליון עזר'!$D$1&ROW('מרכז מורשת בבל'!$D$16)):INDIRECT("'"&$D78&"'!"&'גיליון עזר'!$D$1&ROW('מרכז מורשת בבל'!$D$25))))} | F78: {=IF($D78="","",TRANSPOSE(INDIRECT("'"&$D78&"'!"&'גיליון עזר'!$D$1&ROW('מרכז מורשת בבל'!$D$16)):INDIRECT("'"&$D78&"'!"&'גיליון עזר'!$D$1&ROW('מרכז מורשת בבל'!$D$25))))} | O78: =IF($D78="","",INDIRECT("'"&$D78&"'!"&'גיליון עזר'!$F$1&ROW('מרכז מורשת בבל'!$B$78))) | P78: {=IF($D78="","",TRANSPOSE(INDIRECT("'"&$D78&"'!"&'גיליון עזר'!$G$1&ROW('מרכז מורשת בבל'!$D$16)):INDIRECT("'"&$D78&"'!"&'גיליון עזר'!$G$1&ROW('מרכז מורשת בבל'!$D$17))))} | R78: {=IF($D78="","",TRANSPOSE(INDIRECT("'"&$D78&"'!"&'גיליון עזר'!$N$1&ROW('מרכז מורשת בבל'!$D$16)):INDIRECT("'"&$D78&"'!"&'גיליון עזר'!$N$1&ROW('מרכז מורשת בבל'!$D$20))))} | W78: =IF($D78="","",INDIRECT("'"&$D78&"'!"&'גיליון עזר'!$N$1&ROW('מרכז מורשת בבל'!$J$21))) | X78: =IF($D78="","",INDIRECT("'"&$D78&"'!"&'גיליון עזר'!$L$1&ROW('מרכז מורשת בבל'!$J$78))) | Y78: {=IF($D78="","",TRANSPOSE(INDIRECT("'"&$D78&"'!"&'גיליון עזר'!$J$1&ROW('מרכז מורשת בבל'!$D$17)):INDIRECT("'"&$D78&"'!"&'גיליון עזר'!$J$1&ROW('מרכז מורשת בבל'!$D$18))))} | AA78: =IF($D78="","",IF(INDIRECT("'"&$D78&"'!"&'גיליון עזר'!$J$1&ROW('מרכז מורשת בבל'!$D$21))="","",INDIRECT("'"&$D78&"'!"&'גיליון עזר'!$J$1&ROW('מרכז מורשת בבל'!$D$21)))) | AC78: =IF($D78="","",AC$16) | AD78: =IF($D78="","",AD$16) | AE78: =IF($D78="","",AE$16) | AF78: =IF($D78="","",AF$16) | AG78: =IF($D78="","",AG$16) | AH78: =IF($D78="","",AH$16) | AI78: =IF($D78="","",AI$16) | AJ78: =IF($D78="","",AJ$16) | ... AO78: =IF($D78="","",AO$16) | AP78: =IF($D78="","",IF(ISERR(E78/3),$AP$14,E78)) | AQ78: =IF($D78="","",IF(ISERR(F78/3),$AP$14,F78)) | AR78: =IF($D78="","",IF(ISERR(G78/3),$AP$14,G78)) | AS78: =IF($D78="","",IF(ISERR(H78/3),$AP$14,H78)) | AT78: =IF($D78="","",IF(ISERR(I78/3),$AP$14,I78)) | AU78: =IF($D78="","",IF(ISERR(J78/3),$AP$14,J78)) | AV78: =IF($D78="","",IF(ISERR(K78/3),$AP$14,K78)) | AW78: =IF($D78="","",IF(ISERR(L78/3),$AP$14,L78)) | ... BA78: =IF($D78="","",IF(ISERR(P78/3),$AP$14,P78)) | BB78: =IF(Q78="","",Q78) | BC78: =IF(R78="","",R78) | BD78: =IF($D78="","",IF(ISERR(S78/3),$AP$14,S78)) | BE78: =IF($D78="","",IF(ISERR(T78/3),$AP$14,T78)) | BF78: =IF($D78="","",IF(U78="","",U78)) | BG78: =IF($D78="","",IF(V78="","",V78)) | BH78: =IF($D78="","",IF(W78="","",W78)) | BI78: =IF($D78="","",IF(ISERR(X78/3),$AP$14,X78)) | BJ78: =IF($D78="","",IF(ISERR(Y78/3),$AP$14,Y78)) | BK78: =IF($D78="","",IF(ISERR(Z78/3),$AP$14,Z78)) | BL78: =IF($D78="","",IF(AA78="","",AA78))

Sheet ריכוז נתונים כללים
C14: ='ריכוז נתונים'!C15 -> מספר סידורי | D14: ='ריכוז נתונים'!D15 -> שם המוסד | E14: תנאי סף | L14: נתונים כללים
E15: =AE15 -> אחוז ההוצאות ששימשו לפעילות של מרכזי עדות ישראל מתוך סך ההוצאות הכספיות המוכחות | F15: ='מורשת יהודי צפון אפריקה'!C10 -> סך הכנסות המוסד (תקציב שנתי) (₪) | G15: ='מרכז מורשת בבל'!E10 -> סך הכנסות (תקציב שנתי) בכל תחומי המורשת (₪) | H15: ='מרכז מורשת בבל'!F10 -> סך הכנסות (תקציב שנתי) בתחום מרכזי עדות ישראל (₪) | I15: =AG15 -> מספר האירועים שהמוסד מקיים עולה על: | J15: =AH15 -> שנות פעילות של המוסד | K15: ='מרכז מורשת בבל'!K10 -> הפעילות שבעדה מבוקשת התמיכה אינה מתוקצבת בדרך אחרת מתקציב המדינה (לא= מקבל תקציב בדרך אחרת) | L15: עובר תנאי סף | M15: ="שיעור תמיכה יחסי בשנה קודמת "&פרמטרים!C3-1 -> שיעור תמיכה יחסי בשנה קודמת 2024 | N15: ="שיעור תמיכה יחסי בשנה קודמת "&פרמטרים!D4-1 -> שיעור תמיכה יחסי בשנה קודמת -1 | O15: ="סכום תמיכה בשנה קודמת "&פרמטרים!C3-1 -> סכום תמיכה בשנה קודמת 2024 | P15: חריגות שכר | T15: שעור גרעון שנתי מהכנסות (%) | V15: שעור גרעון מצטבר מהכנסות (%) | W15: מעבר תנאי סף: המוסד לא הגיש את כלל המסמכים הדרושים (=לא) אישור מיוחד לעמידה בתנאי סף (=כן) הערה חשובה: יש להזין אישור מיוחד רק במידת הצורך, שכן נתון זה מגביל את סכום המקסימאלי לו זכאי המוסד | X15: עובר תנאי סף | Y15: =X15 -> עובר תנאי סף | AB15: הזנה שגויה | AE15: {=TRANSPOSE(פרמטרים!B22:C25)} -> אחוז ההוצאות ששימשו לפעילות של מרכזי עדות ישראל מתוך סך ההוצאות הכספיות המוכחות | AF15: סך הכנסות (תקציב שנתי) בתחום מרכזי עדות ישראל (₪) | AG15: מספר האירועים שהמוסד מקיים עולה על: | AH15: שנות פעילות של המוסד | AI15: =K15 -> הפעילות שבעדה מבוקשת התמיכה אינה מתוקצבת בדרך אחרת מתקציב המדינה (לא= מקבל תקציב בדרך אחרת) | AJ15: חריגות שכר
P16: תמיכה ציבורית עולה על 25% מהתקציב או גדולה מ-1 מש"ח | R16: חריגת שכר | Y16: כן | Z16: לא | AA16: עובר תנאי? | AB16: שיעור תמיכה יחסי בשנה קודמת | AC16: כן | AD16: לא | AE16: 0.6 | AF16: 107797.51 | AG16: 1 | AH16: 2 | AI16: כן | AJ16: חריגות שכר | AK16: חריגות שכר | AL16: =T15 -> שעור גרעון שנתי מהכנסות (%) | AM16: =V15 -> שעור גרעון מצטבר מהכנסות (%) | AN16: ='גיליון עזר'!B6 -> כן | AO16: ='גיליון עזר'!C6 -> לא
A17: =IF(AND(LEFT(B17,11)<>"גיליון הזנה",INDIRECT("'"&$B17&"'!"&'גיליון עזר'!$I$1&ROW('מרכז מורשת בבל'!$I$3))=""),"חסרה הזנה","") | B17: ='מרכז מורשת בבל'!D3 -> מרכז מורשת בבל | C17: ='ריכוז נתונים'!C17 -> 1 | D17: =IF(OR(LEFT(B17,11)="גיליון הזנה",INDIRECT("'"&$B17&"'!"&'גיליון עזר'!$I$1&ROW('מרכז מורשת בבל'!$I$3))=0),"",B17) -> מרכז מורשת בבל | E17: =IF($D17="","",IFERROR(INDIRECT("'"&$D17&"'!"&'גיליון עזר'!$H$1&ROW('מרכז מורשת בבל'!$C$11))/INDIRECT("'"&$D17&"'!"&'גיליון עזר'!$G$1&ROW('מרכז מורשת בבל'!$C$11)),0)) -> 1 | F17: =IF($D17="","",INDIRECT("'"&$D17&"'!"&'גיליון עזר'!$C$1&ROW('מרכז מורשת בבל'!$C$11))) -> 3953224 | G17: =IF($D17="","",INDIRECT("'"&$D17&"'!"&'גיליון עזר'!$E$1&ROW('מרכז מורשת בבל'!$C$11))) -> 3953224 | H17: =IF($D17="","",INDIRECT("'"&$D17&"'!"&'גיליון עזר'!$F$1&ROW('מרכז מורשת בבל'!$C$11))) -> 3953224 | I17: =IF($D17="","",'ריכוז נתונים'!AP17+'ריכוז נתונים'!AQ17+'ריכוז נתונים'!AS17+'ריכוז נתונים'!AU17+'ריכוז נתונים'!AW17+'ריכוז נתונים'!AY17) -> 284 | J17: =IF($D17="","",IF(INDIRECT("'"&$D17&"'!"&'גיליון עזר'!$I$1&ROW('מרכז מורשת בבל'!$C$11))="",0,פרמטרים!$C$3-INDIRECT("'"&$D17&"'!"&'גיליון עזר'!$I$1&ROW('מרכז מורשת בבל'!$C$11)))) -> 42 | K17: =IF($D17="","",IF(INDIRECT("'"&$D17&"'!"&'גיליון עזר'!$K$1&ROW('מרכז מורשת בבל'!$C$11))="","",INDIRECT("'"&$D17&"'!"&'גיליון עזר'!$K$1&ROW('מרכז מורשת בבל'!$C$11)))) -> כן | L17: =IF($D17="","",AA17) -> כן | M17: =IF($D17="","",IFERROR(O17/פרמטרים!$C$5,"")) -> 0.053772056 | N17: =IF($D17="","",IF(INDIRECT("'"&$D17&"'!"&'גיליון עזר'!$E$1&ROW('מרכז מורשת בבל'!$H$8))="","",INDIRECT("'"&$D17&"'!"&'גיליון עזר'!$E$1&ROW('מרכז מורשת בבל'!$H$8)))) -> 0.053772056 | O17: ='סיכום לועדה- הזנת נתונים'!N31 -> 656553.68 | P17: =IF($D17="","",INDIRECT("'"&$D17&"'!"&'גיליון עזר'!$G$1&ROW('מרכז מורשת בבל'!$J$8))) -> לא | Q17: =IF($D17="","",INDIRECT("'"&$D17&"'!"&'גיליון עזר'!H1&ROW('מרכז מורשת בבל'!K8))) -> 0 | R17: =IF($D17="","",INDIRECT("'"&$D17&"'!"&'גיליון עזר'!$I$1&ROW('מרכז מורשת בבל'!$L$8))) -> 0 | S17: =IF($D17="","",INDIRECT("'"&$D17&"'!"&'גיליון עזר'!J1&ROW('מרכז מורשת בבל'!M8))) -> 0 | T17: =IF($D17="","",IFERROR(INDIRECT("'"&$D17&"'!"&'גיליון עזר'!$K$1&ROW('מרכז מורשת בבל'!$N$8))/F17,"")) -> 0.037844301 | V17: =IF($D17="","",IFERROR(INDIRECT("'"&$D17&"'!"&'גיליון עזר'!$M$1&ROW('מרכז מורשת בבל'!$P$8))/F17,"")) -> 0.45608926 | X17: =IF($D17="","",IF(AND(AA17="כן",'תנאי סף'!AX11=1),"כן","לא")) -> כן | Y17: =IF($D17="","",Y$16) -> כן | Z17: =IF($D17="","",Z$16) -> לא | AA17: =IF(W17<>"",W17,IF(SUM(AE17:AI17)=COUNTA(AE$15:AI$15),$Y$16,$Z$16)) -> כן | AB17: =IF($D17="","",IF(M17>=0,M17,$AB$15)) -> 0.053772056 | AC17: =IF($D17="","",AC$16) -> כן | AD17: =IF($D17="","",AD$16) -> לא | AE17: =IF($D17="","",IF(G17>פרמטרים!$D$22,1,IF(E17>=AE$16,1,0))) -> 1 | AF17: =IF($D17="","",IF(H17>=AF$16,1,0)) -> 1 | AG17: =IF($D17="","",IF(I17>=AG$16,1,0)) -> 1 | AH17: =IF($D17="","",IF(J17>=AH$16,1,0)) -> 1 | AI17: =IF($D17="","",IF(K17=AI$16,1,0)) -> 1 | AJ17: =IF($D17="","",IF(R17="",$AB$15,IF(ISERR(R17/3),$AB$15,R17))) -> 0 | AK17: =IFERROR(IF(AJ17=$AB$15,AJ17,IF(P17=$AD$16,0,1)*AJ17),"") -> 0 | AL17: =IF(OR(T17="",$D17=""),"",IF(ISNUMBER(T17),T17,$AB$15)) -> 0.037844301 | AM17: =IF(OR(V17="",$D17=""),"",IF(ISNUMBER(V17),V17,$AB$15)) -> 0.45608926 | AN17: =IF(D17="","",AN$16) -> כן | AO17: =IF(X17="","",AO$16) -> לא
A18: =IF(AND(LEFT(B18,11)<>"גיליון הזנה",INDIRECT("'"&$B18&"'!"&'גיליון עזר'!$I$1&ROW('מרכז מורשת בבל'!$I$3))=""),"חסרה הזנה","") | B18: ='מורשת יהודי צפון אפריקה'!$D$3 -> מורשת יהודי צפון אפריקה | C18: ='ריכוז נתונים'!C18 -> 2 | D18: =IF(OR(LEFT(B18,11)="גיליון הזנה",INDIRECT("'"&$B18&"'!"&'גיליון עזר'!$I$1&ROW('מרכז מורשת בבל'!$I$3))=0),"",B18) -> מורשת יהודי צפון אפריקה | E18: =IF($D18="","",IFERROR(INDIRECT("'"&$D18&"'!"&'גיליון עזר'!$H$1&ROW('מרכז מורשת בבל'!$C$11))/INDIRECT("'"&$D18&"'!"&'גיליון עזר'!$G$1&ROW('מרכז מורשת בבל'!$C$11)),0)) -> 0.99122379 | F18: =IF($D18="","",INDIRECT("'"&$D18&"'!"&'גיליון עזר'!$C$1&ROW('מרכז מורשת בבל'!$C$11))) -> 610299 | G18: =IF($D18="","",INDIRECT("'"&$D18&"'!"&'גיליון עזר'!$E$1&ROW('מרכז מורשת בבל'!$C$11))) -> 610299 | H18: =IF($D18="","",INDIRECT("'"&$D18&"'!"&'גיליון עזר'!$F$1&ROW('מרכז מורשת בבל'!$C$11))) -> 610299 | I18: =IF($D18="","",'ריכוז נתונים'!AP18+'ריכוז נתונים'!AQ18+'ריכוז נתונים'!AS18+'ריכוז נתונים'!AU18+'ריכוז נתונים'!AW18+'ריכוז נתונים'!AY18) -> 20 | J18: =IF($D18="","",IF(INDIRECT("'"&$D18&"'!"&'גיליון עזר'!$I$1&ROW('מרכז מורשת בבל'!$C$11))="",0,פרמטרים!$C$3-INDIRECT("'"&$D18&"'!"&'גיליון עזר'!$I$1&ROW('מרכז מורשת בבל'!$C$11)))) -> 36 | K18: =IF($D18="","",IF(INDIRECT("'"&$D18&"'!"&'גיליון עזר'!$K$1&ROW('מרכז מורשת בבל'!$C$11))="","",INDIRECT("'"&$D18&"'!"&'גיליון עזר'!$K$1&ROW('מרכז מורשת בבל'!$C$11)))) -> כן | L18: =IF($D18="","",AA18) -> כן | M18: =IF($D18="","",IFERROR(O18/פרמטרים!$C$5,"")) -> 0.019850075 | O18: ='סיכום לועדה- הזנת נתונים'!N32 -> 242368.27 | P18: =IF($D18="","",INDIRECT("'"&$D18&"'!"&'גיליון עזר'!$G$1&ROW('מרכז מורשת בבל'!$J$8))) -> לא | R18: =IF($D18="","",INDIRECT("'"&$D18&"'!"&'גיליון עזר'!$I$1&ROW('מרכז מורשת בבל'!$L$8))) -> 0 | T18: =IF($D18="","",IFERROR(INDIRECT("'"&$D18&"'!"&'גיליון עזר'!$K$1&ROW('מרכז מורשת בבל'!$N$8))/F18,"")) -> 0.13732941 | V18: =IF($D18="","",IFERROR(INDIRECT("'"&$D18&"'!"&'גיליון עזר'!$M$1&ROW('מרכז מורשת בבל'!$P$8))/F18,"")) -> 0.19297754 | X18: =IF($D18="","",IF(AND(AA18="כן",'תנאי סף'!AX12=1),"כן","לא")) -> כן | Y18: =IF($D18="","",Y$16) -> כן | Z18: =IF($D18="","",Z$16) -> לא | AA18: =IF(W18<>"",W18,IF(SUM(AE18:AI18)=COUNTA(AE$15:AI$15),$Y$16,$Z$16)) -> כן | AB18: =IF($D18="","",IF(M18>=0,M18,$AB$15)) -> 0.019850075 | AC18: =IF($D18="","",AC$16) -> כן | AD18: =IF($D18="","",AD$16) -> לא | AE18: =IF($D18="","",IF(G18>פרמטרים!$D$22,1,IF(E18>=AE$16,1,0))) -> 1 | AF18: =IF($D18="","",IF(H18>=AF$16,1,0)) -> 1 | AG18: =IF($D18="","",IF(I18>=AG$16,1,0)) -> 1 | AH18: =IF($D18="","",IF(J18>=AH$16,1,0)) -> 1 | AI18: =IF($D18="","",IF(K18=AI$16,1,0)) -> 1 | AJ18: =IF($D18="","",IF(R18="",$AB$15,IF(ISERR(R18/3),$AB$15,R18))) -> 0 | AK18: =IFERROR(IF(AJ18=$AB$15,AJ18,IF(P18=$AD$16,0,1)*AJ18),"") -> 0 | AL18: =IF(OR(T18="",$D18=""),"",IF(ISNUMBER(T18),T18,$AB$15)) -> 0.13732941 | AM18: =IF(OR(V18="",$D18=""),"",IF(ISNUMBER(V18),V18,$AB$15)) -> 0.19297754 | AN18: =IF(D18="","",AN$16) -> כן | AO18: =IF(X18="","",AO$16) -> לא
A19: =IF(AND(LEFT(B19,11)<>"גיליון הזנה",INDIRECT("'"&$B19&"'!"&'גיליון עזר'!$I$1&ROW('מרכז מורשת בבל'!$I$3))=""),"חסרה הזנה","") | B19: ='מורשת יהדות קוצין'!$D$3 -> מורשת יהדות קוצין | C19: ='ריכוז נתונים'!C19 -> 3 | D19: =IF(OR(LEFT(B19,11)="גיליון הזנה",INDIRECT("'"&$B19&"'!"&'גיליון עזר'!$I$1&ROW('מרכז מורשת בבל'!$I$3))=0),"",B19) -> מורשת יהדות קוצין | E19: =IF($D19="","",IFERROR(INDIRECT("'"&$D19&"'!"&'גיליון עזר'!$H$1&ROW('מרכז מורשת בבל'!$C$11))/INDIRECT("'"&$D19&"'!"&'גיליון עזר'!$G$1&ROW('מרכז מורשת בבל'!$C$11)),0)) -> 1 | F19: =IF($D19="","",INDIRECT("'"&$D19&"'!"&'גיליון עזר'!$C$1&ROW('מרכז מורשת בבל'!$C$11))) -> 580402 | G19: =IF($D19="","",INDIRECT("'"&$D19&"'!"&'גיליון עזר'!$E$1&ROW('מרכז מורשת בבל'!$C$11))) -> 580402 | H19: =IF($D19="","",INDIRECT("'"&$D19&"'!"&'גיליון עזר'!$F$1&ROW('מרכז מורשת בבל'!$C$11))) -> 580402 | I19: =IF($D19="","",'ריכוז נתונים'!AP19+'ריכוז נתונים'!AQ19+'ריכוז נתונים'!AS19+'ריכוז נתונים'!AU19+'ריכוז נתונים'!AW19+'ריכוז נתונים'!AY19) -> 37 | J19: =IF($D19="","",IF(INDIRECT("'"&$D19&"'!"&'גיליון עזר'!$I$1&ROW('מרכז מורשת בבל'!$C$11))="",0,פרמטרים!$C$3-INDIRECT("'"&$D19&"'!"&'גיליון עזר'!$I$1&ROW('מרכז מורשת בבל'!$C$11)))) -> 32 | K19: =IF($D19="","",IF(INDIRECT("'"&$D19&"'!"&'גיליון עזר'!$K$1&ROW('מרכז מורשת בבל'!$C$11))="","",INDIRECT("'"&$D19&"'!"&'גיליון עזר'!$K$1&ROW('מרכז מורשת בבל'!$C$11)))) -> כן | L19: =IF($D19="","",AA19) -> כן | M19: =IF($D19="","",IFERROR(O19/פרמטרים!$C$5,"")) -> 0.03171538 | O19: ='סיכום לועדה- הזנת נתונים'!N33 -> 387242.95 | P19: =IF($D19="","",INDIRECT("'"&$D19&"'!"&'גיליון עזר'!$G$1&ROW('מרכז מורשת בבל'!$J$8))) -> לא | R19: =IF($D19="","",INDIRECT("'"&$D19&"'!"&'גיליון עזר'!$I$1&ROW('מרכז מורשת בבל'!$L$8))) -> 0 | T19: =IF($D19="","",IFERROR(INDIRECT("'"&$D19&"'!"&'גיליון עזר'!$K$1&ROW('מרכז מורשת בבל'!$N$8))/F19,"")) -> 0.51276874 | V19: =IF($D19="","",IFERROR(INDIRECT("'"&$D19&"'!"&'גיליון עזר'!$M$1&ROW('מרכז מורשת בבל'!$P$8))/F19,"")) -> 2.1389141 | X19: =IF($D19="","",IF(AND(AA19="כן",'תנאי סף'!AX13=1),"כן","לא")) -> כן | Y19: =IF($D19="","",Y$16) -> כן | Z19: =IF($D19="","",Z$16) -> לא | AA19: =IF(W19<>"",W19,IF(SUM(AE19:AI19)=COUNTA(AE$15:AI$15),$Y$16,$Z$16)) -> כן | AB19: =IF($D19="","",IF(M19>=0,M19,$AB$15)) -> 0.03171538 | AC19: =IF($D19="","",AC$16) -> כן | AD19: =IF($D19="","",AD$16) -> לא | AE19: =IF($D19="","",IF(G19>פרמטרים!$D$22,1,IF(E19>=AE$16,1,0))) -> 1 | AF19: =IF($D19="","",IF(H19>=AF$16,1,0)) -> 1 | AG19: =IF($D19="","",IF(I19>=AG$16,1,0)) -> 1 | AH19: =IF($D19="","",IF(J19>=AH$16,1,0)) -> 1 | AI19: =IF($D19="","",IF(K19=AI$16,1,0)) -> 1 | AJ19: =IF($D19="","",IF(R19="",$AB$15,IF(ISERR(R19/3),$AB$15,R19))) -> 0 | AK19: =IFERROR(IF(AJ19=$AB$15,AJ19,IF(P19=$AD$16,0,1)*AJ19),"") -> 0 | AL19: =IF(OR(T19="",$D19=""),"",IF(ISNUMBER(T19),T19,$AB$15)) -> 0.51276874 | AM19: =IF(OR(V19="",$D19=""),"",IF(ISNUMBER(V19),V19,$AB$15)) -> 2.1389141 | AN19: =IF(D19="","",AN$16) -> כן | AO19: =IF(X19="","",AO$16) -> לא
