Workbook

Sheet ProtectSettings
B1: 0.49666995
B2: 45501.431
A6: AllowFilterCheckBox
A7: AllowFormattingCheckBox
A8: AllowColumnFormattingCheckBox | B8: TRUE
A9: AllowRowFormattingCheckBox | B9: TRUE
B21: 1 | C21: ProtectSettings
B22: 2 | C22: הדרכה למשתמש
B23: 3 | C23: פרמטרים לקריטריונים
B24: 4 | C24: הוראת שעה
B25: 5 | C25: תנאי סף
B26: 6 | C26: עדיפות לפריפריה
B27: 7 | C27: מספר המשתתפים
B28: 8 | C28: ייחודיות ומורכבות
B29: 9 | C29: מספר הרצות
B30: 10 | C30: הערכה כללית ותרומה לקהילה
B31: 11 | C31: תקציב הפעילות
B32: 12 | C32: התחשיב הבסיסי
... B41: 21 | C41: סיכום לועדה - תוצאות

Sheet הדרכה למשתמש
B2: הדרכה למשתמש
B4: תאריך בניית המודל | C4: 42917
B5: תאריך עדכון מודל | C5: 42795
B7: המודל מותאם באופן אוטומטי להוראות מעבר של 2017 ו-2018
B9: הוראת שעה/מעבר:
B11: הדרכה להזנת נתונים
B12: צבע התא | C12: מטרת התא | D12: דגש
B13: צהוב | C13: הזנת נתונים | D13: נדרש להזין מידע בהתאם להנחיות מבחן התמיכה, אי הזנה של תא יכולה להביא לידי שגיאה בתוצאות במודל. למעט גיליון "ניוד מופעים לפרפירה" בו אי הזנת נתון במספר הרצות משמעו 0 הרצות.
B14: חום | C14: הצגת מידע | D14: תא שאיננו מיועד להזנה. תא זה מציג מידע עפ"י נוסחה קבועה ואין לשנות אותה.
B15: אדום | C15: התראת שגיאה | D15: קיימת שגיאה בהזנת נתונים באחד מהתאים המיועדים להזנה, נדרש להזין את הנתונים הנדרשים לפני קביעת גובה תמיכה סופי.
B17: את רשימת המוסדות יש להזין בגיליון תנאי הסף
B33: ניהול גרסאות
B34: מספר גרסה | C34: תאריך עדכון גרסה | D34: תאריך גרסה של מבחן תמיכה | E34: התאמות נוספות של מבחן תמיכה
B35: 1 | C35: 42932 | E35: בניית מודל

Sheet פרמטרים לקריטריונים
B2: מודל שיתופי פעולה של גופי תרבות עם יוצרים מקומיים
B4: שנת תקציב | C4: 2025
B5: תקציב התמיכה | C5: 2100000
B9: הגדרות
B10: הגדרת שנה | C10: תאריך התחלה | D10: תאריך סיום
B11: שנת התמיכה/תקציב | C11: =DATE($C$4,1,1) -> 45658 | D11: =DATE($C$4,12,31) -> 46022
B12: שנת ההערכה | C12: =DATE($C$4,1,1) -> 45658 | D12: =DATE($C$4,12,31) -> 46022
B13: שנת התקציב המבוקר | C13: =DATE($C$4-3,1,1) -> 44562 | D13: =DATE($C$4-3,12,31) -> 44926
B25: מקדם מוסד
B26: סעיף | C26: מקדם לניקוד
B27: מוסד שרוב האמנים המשתתפים בפעילות הנתמכה הינם בעלי מוגבלות | C27: 1.4
B30: משקולות קריטריונים
B31: סעיף | C31: משקל | D31: החלת מקדם
B32: עדיפות לפריפריה | C32: 0.25 | D32: 1
B33: מספר המשתתפים | C33: 0.27 | D33: 1
B34: ייחודיות ומורכבות | C34: 0.1 | D34: 1
B35: מספר הרצות | C35: 0.28 | D35: 1
B36: הערכה כללית ותרומה לקהילה | C36: 0.1 | D36: 1
B58: סה"כ | C58: =SUM(C32:C57) -> 1
B60: ="פרמטרים לחישוב ניקוד משתנה "&$B$32 -> פרמטרים לחישוב ניקוד משתנה עדיפות לפריפריה
B61: סיווג למ"ס של היישוב בו נמצא המוסד | C61: ניקוד
B62: 1 | C62: 10
B63: 2 | C63: 8
B64: 3 | C64: 6
B65: 4 | C65: 4
B66: 5 | C66: 3
B67: 6 ומעלה | C67: 0
C68: 0
B71: אשכול | C71: ניקוד
B72: 1 | C72: 10
B73: 2 | C73: 8
B74: 3 | C74: 6
B75: 4 | C75: 4
B76: 5R | C76: 4 | D76: באר שבע
B77: 5 ומעלה | C77: 0
B78: אשכול | C78: מקדם
B79: 6 | C79: 1
B80: 7 | C80: 1
B81: 8 | C81: 0.5
B82: סעיף | C82: ניקוד
...

Sheet הוראת שעה
A4: האם חלה הוראת השעה בשנה הספציפית
A5: שנה | C5: גובה הגנה
A6: 2016
A7: =A6+1 -> 2017 | C7: #N/A
A8: =A7+1 -> 2018 | C8: 0.9
A9: =A8+1 -> 2019 | C9: 0.85
A10: =A9+1 -> 2020 | C10: 0
A11: =A10+1 -> 2021 | C11: 0
A12: =A11+1 -> 2022 | C12: 0.85
A13: =A12+1 -> 2023 | C13: 0.75
A14: =A13+1 -> 2024 | C14: 0
A15: =A14+1 -> 2025 | C15: 0
A16: =A15+1 -> 2026 | C16: 0
A17: =A16+1 -> 2027 | C17: 0
A18: =A17+1 -> 2028 | C18: 0
A19: =A18+1 -> 2029 | C19: 0
A20: =A19+1 -> 2030 | C20: 0
C22: משפיע על הגנה בגיליון פרמטרים לעיקרון חישוב התמיכה

Sheet תנאי סף
B1: =MID(CELL("filename",AO2),FIND("]",CELL("filename",AO2),1)+1,99) -> תנאי סף | AN1: בדוק נתוני הזנה | AP1: סוגי בקרות | AQ1: 0/1 | AR1: מספר | AS1: מספר שלם | AT1: מספר שאינו שלילי | AU1: מספר שלם שאינו שלילי | AV1: מספר חיובי | AW1: מספר שלם חיובי | AX1: טקסט | AY1: טקסט מרשימה סגורה
AK2: ='פרמטרים לקריטריונים'!$B$4 -> שנת תקציב | AL2: ='פרמטרים לקריטריונים'!$C$4 -> 2025 | AQ2: =IF(ISNA(MATCH(H31,$AN$30:$AO$30,0)),0,1) -> 0 | AR2: =IF(IFERROR(H31*1,"bad")="bad",0,1) -> 1 | AS2: =IF(IFERROR(IF(H31=TRUNC(H31),1,"bad"),"bad")="bad",0,1) -> 1 | AT2: =IF(AND(IF(IFERROR(H31*1,"bad")="bad",0,1)=1,H31>=0),1,0) -> 1 | AU2: =IF(AND(IF(IFERROR(IF(H31=TRUNC(H31),1,"bad"),"bad")="bad",0,1)=1,H31>=0),1,0) -> 1 | AV2: =IF(AND(IF(IFERROR(H31*1,"bad")="bad",0,1)=1,H31>0),1,0) -> 1 | AW2: =IF(AND(IF(IFERROR(IF(H31=TRUNC(H31),1,"bad"),"bad")="bad",0,1)=1,H31>0),1,0) -> 1 | AX2: 1 | AY2: =IF(IFERROR(HLOOKUP(H31,$BX$30:$CH$30,1,0),"bad")="bad",0,1) -> 0
AK3: ='פרמטרים לקריטריונים'!$B$5 -> תקציב התמיכה | AL3: ='פרמטרים לקריטריונים'!$C$5 -> 2100000 | AO3: =IF(H$30="",1,IF(H31="",0,IF(H$30=$AQ$1,11,IF(H$30=$AR$1,12,IF(H$30=$AEY1,13,IF(H$30=$AT$1,14,IF(H$30=$AU$1,15,IF(H$30=$AV$1,16,IF(H$30=$AW$1,17,IF(H$30=$AX$1,18,IF(H$30=$AY$1,19,0))))))))))) -> 15 | AP3: מספר בקרה | AQ3: 1 | AR3: 2 | AS3: 3 | AT3: 4 | AU3: 5 | AV3: 6 | AW3: 7 | AX3: 8 | AY3: 9
F4: רלוונטי למבחן עמידה בתנאי סף? 1=רלוונטי. 0= לא רלוונטי אבל נדרשת בקרה על הזנת נתונים. 99= לא רלוונטי ולא נדרשת בקרה על הזנת נתונים | G4: 1 | H4: 0 | I4: 0 | J4: 1 | K4: 1 | L4: 1 | M4: 1 | N4: 1 | O4: 1 | P4: 1 | Q4: 1 | R4: 1 | S4: 1 | T4: 1 | U4: 1 | V4: 1 | W4: 1 | X4: 1 | Y4: 1 | Z4: 0 | AA4: 1 | AB4: 1 | AC4: 1 | AD4: 1 | AE4: 1 | AF4: 1 | AJ4: 99 | AP4: רשימה סגורה | AQ4: 1 | AR4: 2 | AS4: 3 | AT4: 4 | AU4: 5 | AV4: 6 | AW4: 7 | AX4: 8 | AY4: 9 | AZ4: 10
H5: =H29 -> תקציב הפרויקט כפי שהוגש על ידי הגוף | K5: =K29 -> כל האמנים בני 15 ומעלה | L5: =L29 -> הפעילות אינה במסגרת קונסרבטוריון נתמך/מתוקצב | M5: =M29 -> הפעילות השוטפת נשוא הבקשה נעשית ברובה בפריפריה או לפחות 50% מהמשתתפים בפעילות השוטפת ממגזר ייחודי | N5: =N29 -> פעילות המוסד הינה ברמה אמנותית נאותה | O5: =O29 -> לרשות מקומית: ברשות פועלת מחלקה לתרבות ואמנות בראשה מנהל בחצי משרה לפחות | R5: =R29 -> המוסד הינו גוף או איגוד מקצועי בעל ניסיון של 3 שנים לפחות בתחום התרבות והאמנות | S5: =S29 -> המוסד קיבל תמיכה ממינהל התרבות בשנת ההערכה בתחומים נבחרים כאמור במבחן, סעיף 11(1) | T5: =T29 -> הרשות המקומית בשטחה מתקיימת הפעילות שותפה לפעילות באמצעות גורם מקצועי מטעמה | U5: =U29 -> המוסד מגיש הבקשה לתמיכה בשנת התמיכה צירף לבקשתו תכנית עבודה מפורטת בנוגע לפרויקט הכוללת בין השאר את יעדי הפרויקט, אבני דרך להתקדמות והצעת תקציב לפרויקט | V5: =V29 -> הפעילות כוללת הפקה והתקיימו 3 הרצות של אותה הפקה לפחות | W5: =W29 -> מספר אמנים ויוצרים המשתתפים בפעילות, לרבות בהפקה, מקרב הפריפריה: | X5: =X29 -> בפעילות משתתפים, מטעם מוסד התרבות המקצועי המלווה את הפעילות, 5 אמנים ויוצרים מקצועיים לפחות, שהם בעלי ניסיון ומוניטין בתחום הפעילות נשוא בקשת התמיכה | Y5: =Y29 -> המוסד לא קיבל תמיכה בעבור פעילות זו ביישוב זה במשך יותר משנתיים רצופות | ... AB5: =AB29 -> מטרות המוסד כמפורט במסמכי היסוד שלו ואופן פעולתו עולים בקנה אחד עם מטרות התמיכה המפורטות במבחנים | AI5: =AI29 -> 0 | AJ5: =AJ29 -> מעבר תנאי סף-אישור מיוחד
F6: ערך למעבר תנאי סף | G6: 1 | J6: 1 | K6: 1 | L6: 1 | M6: 1 | N6: 1 | O6: 1 | P6: 1 | Q6: 1 | R6: 1 | S6: 1 | T6: 1 | U6: 1 | V6: 1 | W6: 12 | X6: 1 | Y6: 1 | AA6: 1 | AB6: 1 | AC6: 1 | AD6: 1 | AE6: 1 | AF6: 1
G7: סעיף 8 | H7: סעיף 11 (4) | I7: סעיף 11 (4) | J7: סעיף 11 (4) | K7: סעיף 9 (1) | L7: סעיף 9 (2) | M7: סעיף 9 (3) | N7: סעיף 9 (4) | O7: סעיף 9 (11) (א) | P7: סעיף 9 (11) (ב) | Q7: סעיף 9 (12) | R7: סעיף 11 (1) | S7: סעיף 11 (1) | T7: סעיף 11 (2) | U7: סעיף 11 (3) | V7: סעיף 11 (5) | W7: סעיף 11 (6) | X7: סעיף 11 (7) | Y7: סעיף 11 (8) | Z7: סעיף 7 (ו) | AA7: סעיף 9 (5) | AB7: סעיף 9 (6) | AC7: סעיף 9 (7) | AD7: סעיף 9 (8) | AE7: סעיף 9 (9) | AF7: סעיף 9 (10)
B24: סה"כ | H24: =SUM(H30:H130) -> 2595800 | K24: =SUM(K30:K130) -> 6 | L24: =SUM(L30:L130) -> 6 | M24: =SUM(M30:M130) -> 6 | N24: =SUM(N30:N130) -> 6 | O24: =SUM(O30:O130) -> 6 | P24: =SUM(P30:P130) -> 6 | R24: =SUM(R30:R130) -> 6 | S24: =SUM(S30:S130) -> 6 | T24: =SUM(T30:T130) -> 6 | U24: =SUM(U30:U130) -> 6 | V24: =SUM(V30:V130) -> 6 | W24: =SUM(W30:W130) -> 157 | X24: =SUM(X30:X130) -> 6 | Y24: =SUM(Y30:Y130) -> 6 | ... AB24: =SUM(AB30:AB130) -> 6 | AI24: =SUM(AI30:AI130) -> 0 | AJ24: =SUM(AJ30:AJ130) -> 0 | AK24: =SUM(AK30:AK130) -> 6
B25: בדיקת תא שורה 30 | H25: =IF(H30="",1,IF(IFERROR(HLOOKUP(H30,$AP$1:$BR$2,1,0),0)=0,0,1)) -> 1 | K25: =IF(K30="",1,IF(IFERROR(HLOOKUP(K30,$AM$1:$BL$2,1,0),0)=0,0,1)) -> 1 | L25: =IF(L30="",1,IF(IFERROR(HLOOKUP(L30,$AM$1:$BL$2,1,0),0)=0,0,1)) -> 1 | M25: =IF(M30="",1,IF(IFERROR(HLOOKUP(M30,$AM$1:$BL$2,1,0),0)=0,0,1)) -> 1 | N25: =IF(N30="",1,IF(IFERROR(HLOOKUP(N30,$AM$1:$BL$2,1,0),0)=0,0,1)) -> 1 | O25: =IF(O30="",1,IF(IFERROR(HLOOKUP(O30,$AM$1:$BL$2,1,0),0)=0,0,1)) -> 1 | P25: =IF(P30="",1,IF(IFERROR(HLOOKUP(P30,$AL$1:$BK$2,1,0),0)=0,0,1)) -> 1 | R25: =IF(R30="",1,IF(IFERROR(HLOOKUP(R30,$AP$1:$BR$2,1,0),0)=0,0,1)) -> 1 | S25: =IF(S30="",1,IF(IFERROR(HLOOKUP(S30,$AP$1:$BR$2,1,0),0)=0,0,1)) -> 1 | T25: =IF(T30="",1,IF(IFERROR(HLOOKUP(T30,$AP$1:$BR$2,1,0),0)=0,0,1)) -> 1 | U25: =IF(U30="",1,IF(IFERROR(HLOOKUP(U30,$AP$1:$BR$2,1,0),0)=0,0,1)) -> 1 | V25: =IF(V30="",1,IF(IFERROR(HLOOKUP(V30,$AP$1:$BR$2,1,0),0)=0,0,1)) -> 1 | W25: =IF(W30="",1,IF(IFERROR(HLOOKUP(W30,$AP$1:$BR$2,1,0),0)=0,0,1)) -> 1 | X25: =IF(X30="",1,IF(IFERROR(HLOOKUP(X30,$AP$1:$BR$2,1,0),0)=0,0,1)) -> 1 | Y25: =IF(Y30="",1,IF(IFERROR(HLOOKUP(Y30,$AP$1:$BR$2,1,0),0)=0,0,1)) -> 1 | ... AB25: =IF(AB30="",1,IF(IFERROR(HLOOKUP(AB30,$AP$1:$BR$2,1,0),0)=0,0,1)) -> 1 | AI25: =IF(AI30="",1,IF(IFERROR(HLOOKUP(AI30,$AP$1:$BR$2,1,0),0)=0,0,1)) -> 1 | AJ25: =IF(AJ30="",1,IF(IFERROR(HLOOKUP(AJ30,$AP$1:$BR$2,1,0),0)=0,0,1)) -> 1 | AK25: =IF(AK30="",1,IF(IFERROR(HLOOKUP(AK30,$AP$1:$BR$2,1,0),0)=0,0,1)) -> 1
B26: ספירת לא ריקים | F26: =$A$29-COUNTBLANK(F31:F130) -> 6 | H26: =$A$29-COUNTBLANK(H31:H130) -> 6 | K26: =$A$29-COUNTBLANK(K31:K130) -> 6 | L26: =$A$29-COUNTBLANK(L31:L130) -> 6 | M26: =$A$29-COUNTBLANK(M31:M130) -> 6 | N26: =$A$29-COUNTBLANK(N31:N130) -> 6 | O26: =$A$29-COUNTBLANK(O31:O130) -> 6 | P26: =$A$29-COUNTBLANK(P31:P130) -> 6 | R26: =$A$29-COUNTBLANK(R31:R130) -> 6 | S26: =$A$29-COUNTBLANK(S31:S130) -> 6 | T26: =$A$29-COUNTBLANK(T31:T130) -> 6 | U26: =$A$29-COUNTBLANK(U31:U130) -> 6 | V26: =$A$29-COUNTBLANK(V31:V130) -> 6 | W26: =$A$29-COUNTBLANK(W31:W130) -> 6 | X26: =$A$29-COUNTBLANK(X31:X130) -> 6 | Y26: =$A$29-COUNTBLANK(Y31:Y130) -> 6 | ... AB26: =$A$29-COUNTBLANK(AB31:AB130) -> 6 | AI26: =$A$29-COUNTBLANK(AI31:AI130) -> 0 | AJ26: =$A$29-COUNTBLANK(AJ31:AJ130) -> 0 | AK26: =$A$29-COUNTBLANK(AK31:AK130) -> 6
B27: ממוצע | H27: =AVERAGE(H31:H130) -> 432633.33 | K27: =AVERAGE(K31:K130) -> 1 | L27: =AVERAGE(L31:L130) -> 1 | M27: =AVERAGE(M31:M130) -> 1 | N27: =AVERAGE(N31:N130) -> 1 | O27: =AVERAGE(O31:O130) -> 1 | P27: =AVERAGE(P31:P130) -> 1 | R27: =AVERAGE(R31:R130) -> 1 | S27: =AVERAGE(S31:S130) -> 1 | T27: =AVERAGE(T31:T130) -> 1 | U27: =AVERAGE(U31:U130) -> 1 | V27: =AVERAGE(V31:V130) -> 1 | W27: =AVERAGE(W31:W130) -> 26.166667 | X27: =AVERAGE(X31:X130) -> 1 | Y27: =AVERAGE(Y31:Y130) -> 1 | ... AB27: =AVERAGE(AB31:AB130) -> 1 | AI27: =AVERAGE(AI31:AI130) -> #DIV/0! | AJ27: =AVERAGE(AJ31:AJ130) -> #DIV/0! | AK27: =AVERAGE(AK31:AK130) -> 1 | AL27: =AVERAGE(AL31:AL130) -> #DIV/0!
AM28: =IF(SUM(AM31:AM130)=COUNT(AM31:AM130),1,0) -> 0
A29: 100 | B29: מס"ד | C29: מספר מוסד | D29: מספר בקשה | E29: שם הבקשה | F29: שם המוסד | G29: המוסד עומד בתנאי סף כלליים | H29: תקציב הפרויקט כפי שהוגש על ידי הגוף | I29: התקציב המאושר ע"י המדור | J29: המדור בחן את פרטי התקציב של הפרויקט שצורפו לבקשת התמיכה, וקבע את העלות המאושרת לכל פרויקט | K29: כל האמנים בני 15 ומעלה | L29: הפעילות אינה במסגרת קונסרבטוריון נתמך/מתוקצב | M29: הפעילות השוטפת נשוא הבקשה נעשית ברובה בפריפריה או לפחות 50% מהמשתתפים בפעילות השוטפת ממגזר ייחודי | N29: פעילות המוסד הינה ברמה אמנותית נאותה | O29: לרשות מקומית: ברשות פועלת מחלקה לתרבות ואמנות בראשה מנהל בחצי משרה לפחות | P29: הרשות תחתום על כתב התחייבות לפי הוראות התכ"ם 6.2 בדבר תמיכה בגופים אחרים | Q29: במוסד בו מועסקים עובדים ביחסי עבודה, המוסד קבע תקנון למניעת הטרדה מינית ועומד בדרישות תקנה 8 לתקנות חובות מעסיק. המוסד צירף לבקשתו את התקנון ופרטים על ההתאמות בתקנון, פרסומו למסירתו. (במוסד בו אין מתכונת יחסי עבודה - יש לסמן 1 עבור תנאי זה) | R29: המוסד הינו גוף או איגוד מקצועי בעל ניסיון של 3 שנים לפחות בתחום התרבות והאמנות | S29: המוסד קיבל תמיכה ממינהל התרבות בשנת ההערכה בתחומים נבחרים כאמור במבחן, סעיף 11(1) | T29: הרשות המקומית בשטחה מתקיימת הפעילות שותפה לפעילות באמצעות גורם מקצועי מטעמה | U29: המוסד מגיש הבקשה לתמיכה בשנת התמיכה צירף לבקשתו תכנית עבודה מפורטת בנוגע לפרויקט הכוללת בין השאר את יעדי הפרויקט, אבני דרך להתקדמות והצעת תקציב לפרויקט | V29: הפעילות כוללת הפקה והתקיימו 3 הרצות של אותה הפקה לפחות | W29: מספר אמנים ויוצרים המשתתפים בפעילות, לרבות בהפקה, מקרב הפריפריה: | X29: בפעילות משתתפים, מטעם מוסד התרבות המקצועי המלווה את הפעילות, 5 אמנים ויוצרים מקצועיים לפחות, שהם בעלי ניסיון ומוניטין בתחום הפעילות נשוא בקשת התמיכה | Y29: המוסד לא קיבל תמיכה בעבור פעילות זו ביישוב זה במשך יותר משנתיים רצופות | Z29: לא נדרש למעבר תנאי סף: רוב האמנים המשתתפים בפעילות הנתמכת הינם בעלי מוגבלות | AA29: המוסד עומד בדרישות הנוהל, ובכלל זה יעמיד עצמו לביקורת המשרד בהתאם לדינים החלים עליו, להוראות הנוהל ולהחלטות הממשלה | AB29: מטרות המוסד כמפורט במסמכי היסוד שלו ואופן פעולתו עולים בקנה אחד עם מטרות התמיכה המפורטות במבחנים | AC29: המוסד משתמש בכספי התמיכה רק למטרות שלשמן ניתנו | AD29: המוסד מציין בפרסומיו כי הפעילות הנתמכת מבוצעת בתמיכת המשרד | AE29: המוסד מקיים את הוראות החוק הרלבנטיות לפעילותו, מקפיד על כללי ניהול תקין ושומר על שקיפות מלאה באורחות התנהלותו באופן ההולם את מטרותיו הציבוריות | AF29: המוסד פועל ביעילות ובתקורה מינימאלית, שמאפשרת את פעילותו התקינה והראויה, לרבות בהתאם לנוהל ובהתאם להוראות החשב הכללי במשרד האוצר לעניין הוצאות הנהלה וכלליות | AJ29: מעבר תנאי סף-אישור מיוחד | AK29: מעבר תנאי סף | AL29: הערות | AM29: בקרה ראשית | AP29: ="בקרת "&H29 -> בקרת תקציב הפרויקט כפי שהוגש על ידי הגוף | AQ29: ="בקרת "&I29 -> בקרת התקציב המאושר ע"י המדור | AR29: ="בקרת "&J29 -> בקרת המדור בחן את פרטי התקציב של הפרויקט שצורפו לבקשת התמיכה, וקבע את העלות המאושרת לכל פרויקט | AS29: ="בקרת "&K29 -> בקרת כל האמנים בני 15 ומעלה | AT29: ="בקרת "&L29 -> בקרת הפעילות אינה במסגרת קונסרבטוריון נתמך/מתוקצב | AU29: ="בקרת "&M29 -> בקרת הפעילות השוטפת נשוא הבקשה נעשית ברובה בפריפריה או לפחות 50% מהמשתתפים בפעילות השוטפת ממגזר ייחודי | AV29: ="בקרת "&N29 -> בקרת פעילות המוסד הינה ברמה אמנותית נאותה | AW29: ="בקרת "&O29 -> בקרת לרשות מקומית: ברשות פועלת מחלקה לתרבות ואמנות בראשה מנהל בחצי משרה לפחות | ... BS29: ="בקרת "&AK29 -> בקרת מעבר תנאי סף | BX29: רשימה סגורה
G30: 0/1 | H30: מספר שלם שאינו שלילי | I30: מספר שלם שאינו שלילי | K30: 0/1 | L30: 0/1 | M30: 0/1 | N30: 0/1 | O30: 0/1 | P30: 0/1 | Q30: 0/1 | R30: 0/1 | S30: 0/1 | T30: 0/1 | U30: 0/1 | V30: 0/1 | W30: מספר שלם שאינו שלילי | X30: 0/1 | Y30: 0/1 | Z30: 0/1 | AA30: 0/1 | AB30: 0/1 | AC30: 0/1 | AD30: 0/1 | AE30: 0/1 | AF30: 0/1 | AJ30: 0/1 | AL30: טקסט | AN30: 0 | AO30: 1 | AP30: =H30 -> מספר שלם שאינו שלילי | AQ30: =I30 -> מספר שלם שאינו שלילי | AR30: =J30 -> 0 | AS30: =K30 -> 0/1 | AT30: =L30 -> 0/1 | AU30: =M30 -> 0/1 | AV30: =N30 -> 0/1 | AW30: =O30 -> 0/1 | ... BS30: =AK30 -> 0 | BX30: =AQ4 -> 1 | BY30: =AR4 -> 2 | BZ30: =AS4 -> 3 | CA30: =AT4 -> 4 | CB30: =AU4 -> 5 | CC30: =AV4 -> 6 | CD30: =AW4 -> 7 | CE30: =AX4 -> 8 | ... CG30: =AZ4 -> 10
B31: =IF(F31="","",ROW()-30) -> 1 | C31: 580450898 | D31: 1001843832 | E31: תזמורת הרחוב בקהילה - תחום ב' שתפ | F31: בר-קיימא לתרבות, אמנות, מוסיקה ושלום | G31: 1 | H31: 400000 | I31: 170000 | J31: =IF($F31="","",IF(AND(I31>0,I31<=H31),1,$AN$1)) -> 1 | K31: 1 | L31: 1 | M31: 1 | N31: 1 | O31: 1 | P31: 1 | Q31: 1 | R31: 1 | S31: 1 | T31: 1 | U31: 1 | V31: 1 | W31: 36 | X31: 1 | Y31: 1 | Z31: 0 | AA31: 1 | AB31: 1 | AC31: 1 | AD31: 1 | AE31: 1 | AF31: 1 | AK31: =IF($F31="","",IF(AJ31=1,1,IF(AM31<>1,$AN$1,IF(SUMPRODUCT(--(H31:AI31>=$H$6:$AI$6)*($H$6:$AI$6<>""))=COUNTIF($H$4:$AI$4,1),1,0)))) -> 1 | AL31: הגישו בשנת 2022-2023 את פעילות זו שהתקיימה בירושלים, עברו בשנת 2024 לבאר-שבע, ועכשיו חזרו לקיים את הפעילות בירושלים. | AM31: =IF(SUM(AP31:BS31)=COUNT(AP31:BS31),1,0) -> 1 | AN31: =IF($F31="","",AN$30) -> 0 | AO31: =IF($F31="","",AO$30) -> 1 | AP31: =IF(H$30="",1,IF(H$4=99,1,IF(H31="",0,IF(H$30=$AQ$1,IF(ISNA(MATCH(H31,$AN$30:$AO$30,0)),0,1),IF(H$30=$AR$1,IF(IFERROR(H31*1,"bad")="bad",0,1),IF(H$30=$AS$1,IF(IFERROR(IF(H31=TRUNC(H31),1,"bad"),"bad")="bad",0,1),IF(H$30=$AT$1,IF(AND(IF(IFERROR(H31*1,"bad")="bad",0,1)=1,H31>=0),1,0),IF(H$30=$AU$1,IF(AND(IF(IFERROR(IF(H31=TRUNC(H31),1,"bad"),"bad")="bad",0,1)=1,H31>=0),1,0),IF(H$30=$AV$1,IF(AND(IF(IFERROR(H31*1,"bad")="bad",0,1)=1,H31>0),1,0),IF(H$30=$AW$1,IF(AND(IF(IFERROR(IF(H31=TRUNC(H31),1,"bad"),"bad")="bad",0,1)=1,H31>0),1,0),IF(H$30=$AX$1,1,IF(H$30=$AY$1,IF(IFERROR(HLOOKUP(H31,$AQ$4:$AZ$4,1,0),"bad")="bad",0,1),0)))))))))))) -> 1 | AQ31: =IF(I$30="",1,IF(I$4=99,1,IF(I31="",0,IF(I$30=$AQ$1,IF(ISNA(MATCH(I31,$AN$30:$AO$30,0)),0,1),IF(I$30=$AR$1,IF(IFERROR(I31*1,"bad")="bad",0,1),IF(I$30=$AS$1,IF(IFERROR(IF(I31=TRUNC(I31),1,"bad"),"bad")="bad",0,1),IF(I$30=$AT$1,IF(AND(IF(IFERROR(I31*1,"bad")="bad",0,1)=1,I31>=0),1,0),IF(I$30=$AU$1,IF(AND(IF(IFERROR(IF(I31=TRUNC(I31),1,"bad"),"bad")="bad",0,1)=1,I31>=0),1,0),IF(I$30=$AV$1,IF(AND(IF(IFERROR(I31*1,"bad")="bad",0,1)=1,I31>0),1,0),IF(I$30=$AW$1,IF(AND(IF(IFERROR(IF(I31=TRUNC(I31),1,"bad"),"bad")="bad",0,1)=1,I31>0),1,0),IF(I$30=$AX$1,1,IF(I$30=$AY$1,IF(IFERROR(HLOOKUP(I31,$AQ$4:$AZ$4,1,0),"bad")="bad",0,1),0)))))))))))) -> 1 | AS31: =IF(K$30="",1,IF(K$4=99,1,IF(K31="",0,IF(K$30=$AQ$1,IF(ISNA(MATCH(K31,$AN$30:$AO$30,0)),0,1),IF(K$30=$AR$1,IF(IFERROR(K31*1,"bad")="bad",0,1),IF(K$30=$AS$1,IF(IFERROR(IF(K31=TRUNC(K31),1,"bad"),"bad")="bad",0,1),IF(K$30=$AT$1,IF(AND(IF(IFERROR(K31*1,"bad")="bad",0,1)=1,K31>=0),1,0),IF(K$30=$AU$1,IF(AND(IF(IFERROR(IF(K31=TRUNC(K31),1,"bad"),"bad")="bad",0,1)=1,K31>=0),1,0),IF(K$30=$AV$1,IF(AND(IF(IFERROR(K31*1,"bad")="bad",0,1)=1,K31>0),1,0),IF(K$30=$AW$1,IF(AND(IF(IFERROR(IF(K31=TRUNC(K31),1,"bad"),"bad")="bad",0,1)=1,K31>0),1,0),IF(K$30=$AX$1,1,IF(K$30=$AY$1,IF(IFERROR(HLOOKUP(K31,$AQ$4:$AZ$4,1,0),"bad")="bad",0,1),0)))))))))))) -> 1 | AT31: =IF(L$30="",1,IF(L$4=99,1,IF(L31="",0,IF(L$30=$AQ$1,IF(ISNA(MATCH(L31,$AN$30:$AO$30,0)),0,1),IF(L$30=$AR$1,IF(IFERROR(L31*1,"bad")="bad",0,1),IF(L$30=$AS$1,IF(IFERROR(IF(L31=TRUNC(L31),1,"bad"),"bad")="bad",0,1),IF(L$30=$AT$1,IF(AND(IF(IFERROR(L31*1,"bad")="bad",0,1)=1,L31>=0),1,0),IF(L$30=$AU$1,IF(AND(IF(IFERROR(IF(L31=TRUNC(L31),1,"bad"),"bad")="bad",0,1)=1,L31>=0),1,0),IF(L$30=$AV$1,IF(AND(IF(IFERROR(L31*1,"bad")="bad",0,1)=1,L31>0),1,0),IF(L$30=$AW$1,IF(AND(IF(IFERROR(IF(L31=TRUNC(L31),1,"bad"),"bad")="bad",0,1)=1,L31>0),1,0),IF(L$30=$AX$1,1,IF(L$30=$AY$1,IF(IFERROR(HLOOKUP(L31,$AQ$4:$AZ$4,1,0),"bad")="bad",0,1),0)))))))))))) -> 1 | AU31: =IF(M$30="",1,IF(M$4=99,1,IF(M31="",0,IF(M$30=$AQ$1,IF(ISNA(MATCH(M31,$AN$30:$AO$30,0)),0,1),IF(M$30=$AR$1,IF(IFERROR(M31*1,"bad")="bad",0,1),IF(M$30=$AS$1,IF(IFERROR(IF(M31=TRUNC(M31),1,"bad"),"bad")="bad",0,1),IF(M$30=$AT$1,IF(AND(IF(IFERROR(M31*1,"bad")="bad",0,1)=1,M31>=0),1,0),IF(M$30=$AU$1,IF(AND(IF(IFERROR(IF(M31=TRUNC(M31),1,"bad"),"bad")="bad",0,1)=1,M31>=0),1,0),IF(M$30=$AV$1,IF(AND(IF(IFERROR(M31*1,"bad")="bad",0,1)=1,M31>0),1,0),IF(M$30=$AW$1,IF(AND(IF(IFERROR(IF(M31=TRUNC(M31),1,"bad"),"bad")="bad",0,1)=1,M31>0),1,0),IF(M$30=$AX$1,1,IF(M$30=$AY$1,IF(IFERROR(HLOOKUP(M31,$AQ$4:$AZ$4,1,0),"bad")="bad",0,1),0)))))))))))) -> 1 | AV31: =IF(N$30="",1,IF(N$4=99,1,IF(N31="",0,IF(N$30=$AQ$1,IF(ISNA(MATCH(N31,$AN$30:$AO$30,0)),0,1),IF(N$30=$AR$1,IF(IFERROR(N31*1,"bad")="bad",0,1),IF(N$30=$AS$1,IF(IFERROR(IF(N31=TRUNC(N31),1,"bad"),"bad")="bad",0,1),IF(N$30=$AT$1,IF(AND(IF(IFERROR(N31*1,"bad")="bad",0,1)=1,N31>=0),1,0),IF(N$30=$AU$1,IF(AND(IF(IFERROR(IF(N31=TRUNC(N31),1,"bad"),"bad")="bad",0,1)=1,N31>=0),1,0),IF(N$30=$AV$1,IF(AND(IF(IFERROR(N31*1,"bad")="bad",0,1)=1,N31>0),1,0),IF(N$30=$AW$1,IF(AND(IF(IFERROR(IF(N31=TRUNC(N31),1,"bad"),"bad")="bad",0,1)=1,N31>0),1,0),IF(N$30=$AX$1,1,IF(N$30=$AY$1,IF(IFERROR(HLOOKUP(N31,$AQ$4:$AZ$4,1,0),"bad")="bad",0,1),0)))))))))))) -> 1 | AW31: =IF(O$30="",1,IF(O$4=99,1,IF(O31="",0,IF(O$30=$AQ$1,IF(ISNA(MATCH(O31,$AN$30:$AO$30,0)),0,1),IF(O$30=$AR$1,IF(IFERROR(O31*1,"bad")="bad",0,1),IF(O$30=$AS$1,IF(IFERROR(IF(O31=TRUNC(O31),1,"bad"),"bad")="bad",0,1),IF(O$30=$AT$1,IF(AND(IF(IFERROR(O31*1,"bad")="bad",0,1)=1,O31>=0),1,0),IF(O$30=$AU$1,IF(AND(IF(IFERROR(IF(O31=TRUNC(O31),1,"bad"),"bad")="bad",0,1)=1,O31>=0),1,0),IF(O$30=$AV$1,IF(AND(IF(IFERROR(O31*1,"bad")="bad",0,1)=1,O31>0),1,0),IF(O$30=$AW$1,IF(AND(IF(IFERROR(IF(O31=TRUNC(O31),1,"bad"),"bad")="bad",0,1)=1,O31>0),1,0),IF(O$30=$AX$1,1,IF(O$30=$AY$1,IF(IFERROR(HLOOKUP(O31,$AQ$4:$AZ$4,1,0),"bad")="bad",0,1),0)))))))))))) -> 1 | AX31: =IF(P$30="",1,IF(P$4=99,1,IF(P31="",0,IF(P$30=$AQ$1,IF(ISNA(MATCH(P31,$AN$30:$AO$30,0)),0,1),IF(P$30=$AR$1,IF(IFERROR(P31*1,"bad")="bad",0,1),IF(P$30=$AS$1,IF(IFERROR(IF(P31=TRUNC(P31),1,"bad"),"bad")="bad",0,1),IF(P$30=$AT$1,IF(AND(IF(IFERROR(P31*1,"bad")="bad",0,1)=1,P31>=0),1,0),IF(P$30=$AU$1,IF(AND(IF(IFERROR(IF(P31=TRUNC(P31),1,"bad"),"bad")="bad",0,1)=1,P31>=0),1,0),IF(P$30=$AV$1,IF(AND(IF(IFERROR(P31*1,"bad")="bad",0,1)=1,P31>0),1,0),IF(P$30=$AW$1,IF(AND(IF(IFERROR(IF(P31=TRUNC(P31),1,"bad"),"bad")="bad",0,1)=1,P31>0),1,0),IF(P$30=$AX$1,1,IF(P$30=$AY$1,IF(IFERROR(HLOOKUP(P31,$AQ$4:$AZ$4,1,0),"bad")="bad",0,1),0)))))))))))) -> 1 | AY31: =IF(Q$30="",1,IF(Q$4=99,1,IF(Q31="",0,IF(Q$30=$AQ$1,IF(ISNA(MATCH(Q31,$AN$30:$AO$30,0)),0,1),IF(Q$30=$AR$1,IF(IFERROR(Q31*1,"bad")="bad",0,1),IF(Q$30=$AS$1,IF(IFERROR(IF(Q31=TRUNC(Q31),1,"bad"),"bad")="bad",0,1),IF(Q$30=$AT$1,IF(AND(IF(IFERROR(Q31*1,"bad")="bad",0,1)=1,Q31>=0),1,0),IF(Q$30=$AU$1,IF(AND(IF(IFERROR(IF(Q31=TRUNC(Q31),1,"bad"),"bad")="bad",0,1)=1,Q31>=0),1,0),IF(Q$30=$AV$1,IF(AND(IF(IFERROR(Q31*1,"bad")="bad",0,1)=1,Q31>0),1,0),IF(Q$30=$AW$1,IF(AND(IF(IFERROR(IF(Q31=TRUNC(Q31),1,"bad"),"bad")="bad",0,1)=1,Q31>0),1,0),IF(Q$30=$AX$1,1,IF(Q$30=$AY$1,IF(IFERROR(HLOOKUP(Q31,$AQ$4:$AZ$4,1,0),"bad")="bad",0,1),0)))))))))))) -> 1 | AZ31: =IF(R$30="",1,IF(R$4=99,1,IF(R31="",0,IF(R$30=$AQ$1,IF(ISNA(MATCH(R31,$AN$30:$AO$30,0)),0,1),IF(R$30=$AR$1,IF(IFERROR(R31*1,"bad")="bad",0,1),IF(R$30=$AS$1,IF(IFERROR(IF(R31=TRUNC(R31),1,"bad"),"bad")="bad",0,1),IF(R$30=$AT$1,IF(AND(IF(IFERROR(R31*1,"bad")="bad",0,1)=1,R31>=0),1,0),IF(R$30=$AU$1,IF(AND(IF(IFERROR(IF(R31=TRUNC(R31),1,"bad"),"bad")="bad",0,1)=1,R31>=0),1,0),IF(R$30=$AV$1,IF(AND(IF(IFERROR(R31*1,"bad")="bad",0,1)=1,R31>0),1,0),IF(R$30=$AW$1,IF(AND(IF(IFERROR(IF(R31=TRUNC(R31),1,"bad"),"bad")="bad",0,1)=1,R31>0),1,0),IF(R$30=$AX$1,1,IF(R$30=$AY$1,IF(IFERROR(HLOOKUP(R31,$AQ$4:$AZ$4,1,0),"bad")="bad",0,1),0)))))))))))) -> 1 | ... BR31: =IF(AJ$30="",1,IF(AJ$4=99,1,IF(AJ31="",0,IF(AJ$30=$AQ$1,IF(ISNA(MATCH(AJ31,$AN$30:$AO$30,0)),0,1),IF(AJ$30=$AR$1,IF(IFERROR(AJ31*1,"bad")="bad",0,1),IF(AJ$30=$AS$1,IF(IFERROR(IF(AJ31=TRUNC(AJ31),1,"bad"),"bad")="bad",0,1),IF(AJ$30=$AT$1,IF(AND(IF(IFERROR(AJ31*1,"bad")="bad",0,1)=1,AJ31>=0),1,0),IF(AJ$30=$AU$1,IF(AND(IF(IFERROR(IF(AJ31=TRUNC(AJ31),1,"bad"),"bad")="bad",0,1)=1,AJ31>=0),1,0),IF(AJ$30=$AV$1,IF(AND(IF(IFERROR(AJ31*1,"bad")="bad",0,1)=1,AJ31>0),1,0),IF(AJ$30=$AW$1,IF(AND(IF(IFERROR(IF(AJ31=TRUNC(AJ31),1,"bad"),"bad")="bad",0,1)=1,AJ31>0),1,0),IF(AJ$30=$AX$1,1,IF(AJ$30=$AY$1,IF(IFERROR(HLOOKUP(AJ31,$AQ$4:$AZ$4,1,0),"bad")="bad",0,1),0)))))))))))) -> 1 | BS31: =IF(AK$30="",1,IF(AK31="",0,IF(AK$30=$AQ$1,IF(ISNA(MATCH(AK31,$AN$30:$AO$30,0)),0,1),IF(AK$30=$AR$1,IF(IFERROR(AK31*1,"bad")="bad",0,1),IF(AK$30=$AS$1,IF(IFERROR(IF(AK31=TRUNC(AK31),1,"bad"),"bad")="bad",0,1),IF(AK$30=$AT$1,IF(AND(IF(IFERROR(AK31*1,"bad")="bad",0,1)=1,AK31>=0),1,0),IF(AK$30=$AU$1,IF(AND(IF(IFERROR(IF(AK31=TRUNC(AK31),1,"bad"),"bad")="bad",0,1)=1,AK31>=0),1,0),IF(AK$30=$AV$1,IF(AND(IF(IFERROR(AK31*1,"bad")="bad",0,1)=1,AK31>0),1,0),IF(AK$30=$AW$1,IF(AND(IF(IFERROR(IF(AK31=TRUNC(AK31),1,"bad"),"bad")="bad",0,1)=1,AK31>0),1,0),IF(AK$30=$AX$1,1,IF(AK$30=$AY$1,IF(IFERROR(HLOOKUP(AK31,$AQ$4:$AZ$4,1,0),"bad")="bad",0,1),0))))))))))) -> 1 | BX31: =IF($F31="","",BX$30) -> 1 | BY31: =IF($F31="","",BY$30) -> 2 | BZ31: =IF($F31="","",BZ$30) -> 3 | CA31: =IF($F31="","",CA$30) -> 4 | CB31: =IF($F31="","",CB$30) -> 5 | CC31: =IF($F31="","",CC$30) -> 6 | CD31: =IF($F31="","",CD$30) -> 7 | CE31: =IF($F31="","",CE$30) -> 8 | ... CG31: =IF($F31="","",CG$30) -> 10
B32: =IF(F32="","",ROW()-30) -> 2 | C32: 580423283 | D32: 1001829897 | E32: תיאטרון קהילתי | F32: המרכז הרב תחומי לקידום אמנויות (ע"ר | G32: 1 | H32: 340000 | I32: 150000 | J32: =IF($F32="","",IF(AND(I32>0,I32<=H32),1,$AN$1)) -> 1 | K32: 1 | L32: 1 | M32: 1 | N32: 1 | O32: 1 | P32: 1 | Q32: 1 | R32: 1 | S32: 1 | T32: 1 | U32: 1 | V32: 1 | W32: 14 | X32: 1 | Y32: 1 | Z32: 0 | AA32: 1 | AB32: 1 | AC32: 1 | AD32: 1 | AE32: 1 | AF32: 1 | AK32: =IF($F32="","",IF(AJ32=1,1,IF(AM32<>1,$AN$1,IF(SUMPRODUCT(--(H32:AI32>=$H$6:$AI$6)*($H$6:$AI$6<>""))=COUNTIF($H$4:$AI$4,1),1,0)))) -> 1 | AM32: =IF(SUM(AP32:BS32)=COUNT(AP32:BS32),1,0) -> 1 | AN32: =IF($F32="","",AN$30) -> 0 | AO32: =IF($F32="","",AO$30) -> 1 | AP32: =IF(H$30="",1,IF(H$4=99,1,IF(H32="",0,IF(H$30=$AQ$1,IF(ISNA(MATCH(H32,$AN$30:$AO$30,0)),0,1),IF(H$30=$AR$1,IF(IFERROR(H32*1,"bad")="bad",0,1),IF(H$30=$AS$1,IF(IFERROR(IF(H32=TRUNC(H32),1,"bad"),"bad")="bad",0,1),IF(H$30=$AT$1,IF(AND(IF(IFERROR(H32*1,"bad")="bad",0,1)=1,H32>=0),1,0),IF(H$30=$AU$1,IF(AND(IF(IFERROR(IF(H32=TRUNC(H32),1,"bad"),"bad")="bad",0,1)=1,H32>=0),1,0),IF(H$30=$AV$1,IF(AND(IF(IFERROR(H32*1,"bad")="bad",0,1)=1,H32>0),1,0),IF(H$30=$AW$1,IF(AND(IF(IFERROR(IF(H32=TRUNC(H32),1,"bad"),"bad")="bad",0,1)=1,H32>0),1,0),IF(H$30=$AX$1,1,IF(H$30=$AY$1,IF(IFERROR(HLOOKUP(H32,$AQ$4:$AZ$4,1,0),"bad")="bad",0,1),0)))))))))))) -> 1 | AQ32: =IF(I$30="",1,IF(I$4=99,1,IF(I32="",0,IF(I$30=$AQ$1,IF(ISNA(MATCH(I32,$AN$30:$AO$30,0)),0,1),IF(I$30=$AR$1,IF(IFERROR(I32*1,"bad")="bad",0,1),IF(I$30=$AS$1,IF(IFERROR(IF(I32=TRUNC(I32),1,"bad"),"bad")="bad",0,1),IF(I$30=$AT$1,IF(AND(IF(IFERROR(I32*1,"bad")="bad",0,1)=1,I32>=0),1,0),IF(I$30=$AU$1,IF(AND(IF(IFERROR(IF(I32=TRUNC(I32),1,"bad"),"bad")="bad",0,1)=1,I32>=0),1,0),IF(I$30=$AV$1,IF(AND(IF(IFERROR(I32*1,"bad")="bad",0,1)=1,I32>0),1,0),IF(I$30=$AW$1,IF(AND(IF(IFERROR(IF(I32=TRUNC(I32),1,"bad"),"bad")="bad",0,1)=1,I32>0),1,0),IF(I$30=$AX$1,1,IF(I$30=$AY$1,IF(IFERROR(HLOOKUP(I32,$AQ$4:$AZ$4,1,0),"bad")="bad",0,1),0)))))))))))) -> 1 | AS32: =IF(K$30="",1,IF(K$4=99,1,IF(K32="",0,IF(K$30=$AQ$1,IF(ISNA(MATCH(K32,$AN$30:$AO$30,0)),0,1),IF(K$30=$AR$1,IF(IFERROR(K32*1,"bad")="bad",0,1),IF(K$30=$AS$1,IF(IFERROR(IF(K32=TRUNC(K32),1,"bad"),"bad")="bad",0,1),IF(K$30=$AT$1,IF(AND(IF(IFERROR(K32*1,"bad")="bad",0,1)=1,K32>=0),1,0),IF(K$30=$AU$1,IF(AND(IF(IFERROR(IF(K32=TRUNC(K32),1,"bad"),"bad")="bad",0,1)=1,K32>=0),1,0),IF(K$30=$AV$1,IF(AND(IF(IFERROR(K32*1,"bad")="bad",0,1)=1,K32>0),1,0),IF(K$30=$AW$1,IF(AND(IF(IFERROR(IF(K32=TRUNC(K32),1,"bad"),"bad")="bad",0,1)=1,K32>0),1,0),IF(K$30=$AX$1,1,IF(K$30=$AY$1,IF(IFERROR(HLOOKUP(K32,$AQ$4:$AZ$4,1,0),"bad")="bad",0,1),0)))))))))))) -> 1 | AT32: =IF(L$30="",1,IF(L$4=99,1,IF(L32="",0,IF(L$30=$AQ$1,IF(ISNA(MATCH(L32,$AN$30:$AO$30,0)),0,1),IF(L$30=$AR$1,IF(IFERROR(L32*1,"bad")="bad",0,1),IF(L$30=$AS$1,IF(IFERROR(IF(L32=TRUNC(L32),1,"bad"),"bad")="bad",0,1),IF(L$30=$AT$1,IF(AND(IF(IFERROR(L32*1,"bad")="bad",0,1)=1,L32>=0),1,0),IF(L$30=$AU$1,IF(AND(IF(IFERROR(IF(L32=TRUNC(L32),1,"bad"),"bad")="bad",0,1)=1,L32>=0),1,0),IF(L$30=$AV$1,IF(AND(IF(IFERROR(L32*1,"bad")="bad",0,1)=1,L32>0),1,0),IF(L$30=$AW$1,IF(AND(IF(IFERROR(IF(L32=TRUNC(L32),1,"bad"),"bad")="bad",0,1)=1,L32>0),1,0),IF(L$30=$AX$1,1,IF(L$30=$AY$1,IF(IFERROR(HLOOKUP(L32,$AQ$4:$AZ$4,1,0),"bad")="bad",0,1),0)))))))))))) -> 1 | AU32: =IF(M$30="",1,IF(M$4=99,1,IF(M32="",0,IF(M$30=$AQ$1,IF(ISNA(MATCH(M32,$AN$30:$AO$30,0)),0,1),IF(M$30=$AR$1,IF(IFERROR(M32*1,"bad")="bad",0,1),IF(M$30=$AS$1,IF(IFERROR(IF(M32=TRUNC(M32),1,"bad"),"bad")="bad",0,1),IF(M$30=$AT$1,IF(AND(IF(IFERROR(M32*1,"bad")="bad",0,1)=1,M32>=0),1,0),IF(M$30=$AU$1,IF(AND(IF(IFERROR(IF(M32=TRUNC(M32),1,"bad"),"bad")="bad",0,1)=1,M32>=0),1,0),IF(M$30=$AV$1,IF(AND(IF(IFERROR(M32*1,"bad")="bad",0,1)=1,M32>0),1,0),IF(M$30=$AW$1,IF(AND(IF(IFERROR(IF(M32=TRUNC(M32),1,"bad"),"bad")="bad",0,1)=1,M32>0),1,0),IF(M$30=$AX$1,1,IF(M$30=$AY$1,IF(IFERROR(HLOOKUP(M32,$AQ$4:$AZ$4,1,0),"bad")="bad",0,1),0)))))))))))) -> 1 | AV32: =IF(N$30="",1,IF(N$4=99,1,IF(N32="",0,IF(N$30=$AQ$1,IF(ISNA(MATCH(N32,$AN$30:$AO$30,0)),0,1),IF(N$30=$AR$1,IF(IFERROR(N32*1,"bad")="bad",0,1),IF(N$30=$AS$1,IF(IFERROR(IF(N32=TRUNC(N32),1,"bad"),"bad")="bad",0,1),IF(N$30=$AT$1,IF(AND(IF(IFERROR(N32*1,"bad")="bad",0,1)=1,N32>=0),1,0),IF(N$30=$AU$1,IF(AND(IF(IFERROR(IF(N32=TRUNC(N32),1,"bad"),"bad")="bad",0,1)=1,N32>=0),1,0),IF(N$30=$AV$1,IF(AND(IF(IFERROR(N32*1,"bad")="bad",0,1)=1,N32>0),1,0),IF(N$30=$AW$1,IF(AND(IF(IFERROR(IF(N32=TRUNC(N32),1,"bad"),"bad")="bad",0,1)=1,N32>0),1,0),IF(N$30=$AX$1,1,IF(N$30=$AY$1,IF(IFERROR(HLOOKUP(N32,$AQ$4:$AZ$4,1,0),"bad")="bad",0,1),0)))))))))))) -> 1 | AW32: =IF(O$30="",1,IF(O$4=99,1,IF(O32="",0,IF(O$30=$AQ$1,IF(ISNA(MATCH(O32,$AN$30:$AO$30,0)),0,1),IF(O$30=$AR$1,IF(IFERROR(O32*1,"bad")="bad",0,1),IF(O$30=$AS$1,IF(IFERROR(IF(O32=TRUNC(O32),1,"bad"),"bad")="bad",0,1),IF(O$30=$AT$1,IF(AND(IF(IFERROR(O32*1,"bad")="bad",0,1)=1,O32>=0),1,0),IF(O$30=$AU$1,IF(AND(IF(IFERROR(IF(O32=TRUNC(O32),1,"bad"),"bad")="bad",0,1)=1,O32>=0),1,0),IF(O$30=$AV$1,IF(AND(IF(IFERROR(O32*1,"bad")="bad",0,1)=1,O32>0),1,0),IF(O$30=$AW$1,IF(AND(IF(IFERROR(IF(O32=TRUNC(O32),1,"bad"),"bad")="bad",0,1)=1,O32>0),1,0),IF(O$30=$AX$1,1,IF(O$30=$AY$1,IF(IFERROR(HLOOKUP(O32,$AQ$4:$AZ$4,1,0),"bad")="bad",0,1),0)))))))))))) -> 1 | AX32: =IF(P$30="",1,IF(P$4=99,1,IF(P32="",0,IF(P$30=$AQ$1,IF(ISNA(MATCH(P32,$AN$30:$AO$30,0)),0,1),IF(P$30=$AR$1,IF(IFERROR(P32*1,"bad")="bad",0,1),IF(P$30=$AS$1,IF(IFERROR(IF(P32=TRUNC(P32),1,"bad"),"bad")="bad",0,1),IF(P$30=$AT$1,IF(AND(IF(IFERROR(P32*1,"bad")="bad",0,1)=1,P32>=0),1,0),IF(P$30=$AU$1,IF(AND(IF(IFERROR(IF(P32=TRUNC(P32),1,"bad"),"bad")="bad",0,1)=1,P32>=0),1,0),IF(P$30=$AV$1,IF(AND(IF(IFERROR(P32*1,"bad")="bad",0,1)=1,P32>0),1,0),IF(P$30=$AW$1,IF(AND(IF(IFERROR(IF(P32=TRUNC(P32),1,"bad"),"bad")="bad",0,1)=1,P32>0),1,0),IF(P$30=$AX$1,1,IF(P$30=$AY$1,IF(IFERROR(HLOOKUP(P32,$AQ$4:$AZ$4,1,0),"bad")="bad",0,1),0)))))))))))) -> 1 | AY32: =IF(Q$30="",1,IF(Q$4=99,1,IF(Q32="",0,IF(Q$30=$AQ$1,IF(ISNA(MATCH(Q32,$AN$30:$AO$30,0)),0,1),IF(Q$30=$AR$1,IF(IFERROR(Q32*1,"bad")="bad",0,1),IF(Q$30=$AS$1,IF(IFERROR(IF(Q32=TRUNC(Q32),1,"bad"),"bad")="bad",0,1),IF(Q$30=$AT$1,IF(AND(IF(IFERROR(Q32*1,"bad")="bad",0,1)=1,Q32>=0),1,0),IF(Q$30=$AU$1,IF(AND(IF(IFERROR(IF(Q32=TRUNC(Q32),1,"bad"),"bad")="bad",0,1)=1,Q32>=0),1,0),IF(Q$30=$AV$1,IF(AND(IF(IFERROR(Q32*1,"bad")="bad",0,1)=1,Q32>0),1,0),IF(Q$30=$AW$1,IF(AND(IF(IFERROR(IF(Q32=TRUNC(Q32),1,"bad"),"bad")="bad",0,1)=1,Q32>0),1,0),IF(Q$30=$AX$1,1,IF(Q$30=$AY$1,IF(IFERROR(HLOOKUP(Q32,$AQ$4:$AZ$4,1,0),"bad")="bad",0,1),0)))))))))))) -> 1 | AZ32: =IF(R$30="",1,IF(R$4=99,1,IF(R32="",0,IF(R$30=$AQ$1,IF(ISNA(MATCH(R32,$AN$30:$AO$30,0)),0,1),IF(R$30=$AR$1,IF(IFERROR(R32*1,"bad")="bad",0,1),IF(R$30=$AS$1,IF(IFERROR(IF(R32=TRUNC(R32),1,"bad"),"bad")="bad",0,1),IF(R$30=$AT$1,IF(AND(IF(IFERROR(R32*1,"bad")="bad",0,1)=1,R32>=0),1,0),IF(R$30=$AU$1,IF(AND(IF(IFERROR(IF(R32=TRUNC(R32),1,"bad"),"bad")="bad",0,1)=1,R32>=0),1,0),IF(R$30=$AV$1,IF(AND(IF(IFERROR(R32*1,"bad")="bad",0,1)=1,R32>0),1,0),IF(R$30=$AW$1,IF(AND(IF(IFERROR(IF(R32=TRUNC(R32),1,"bad"),"bad")="bad",0,1)=1,R32>0),1,0),IF(R$30=$AX$1,1,IF(R$30=$AY$1,IF(IFERROR(HLOOKUP(R32,$AQ$4:$AZ$4,1,0),"bad")="bad",0,1),0)))))))))))) -> 1 | ... BR32: =IF(AJ$30="",1,IF(AJ$4=99,1,IF(AJ32="",0,IF(AJ$30=$AQ$1,IF(ISNA(MATCH(AJ32,$AN$30:$AO$30,0)),0,1),IF(AJ$30=$AR$1,IF(IFERROR(AJ32*1,"bad")="bad",0,1),IF(AJ$30=$AS$1,IF(IFERROR(IF(AJ32=TRUNC(AJ32),1,"bad"),"bad")="bad",0,1),IF(AJ$30=$AT$1,IF(AND(IF(IFERROR(AJ32*1,"bad")="bad",0,1)=1,AJ32>=0),1,0),IF(AJ$30=$AU$1,IF(AND(IF(IFERROR(IF(AJ32=TRUNC(AJ32),1,"bad"),"bad")="bad",0,1)=1,AJ32>=0),1,0),IF(AJ$30=$AV$1,IF(AND(IF(IFERROR(AJ32*1,"bad")="bad",0,1)=1,AJ32>0),1,0),IF(AJ$30=$AW$1,IF(AND(IF(IFERROR(IF(AJ32=TRUNC(AJ32),1,"bad"),"bad")="bad",0,1)=1,AJ32>0),1,0),IF(AJ$30=$AX$1,1,IF(AJ$30=$AY$1,IF(IFERROR(HLOOKUP(AJ32,$AQ$4:$AZ$4,1,0),"bad")="bad",0,1),0)))))))))))) -> 1 | BS32: =IF(AK$30="",1,IF(AK32="",0,IF(AK$30=$AQ$1,IF(ISNA(MATCH(AK32,$AN$30:$AO$30,0)),0,1),IF(AK$30=$AR$1,IF(IFERROR(AK32*1,"bad")="bad",0,1),IF(AK$30=$AS$1,IF(IFERROR(IF(AK32=TRUNC(AK32),1,"bad"),"bad")="bad",0,1),IF(AK$30=$AT$1,IF(AND(IF(IFERROR(AK32*1,"bad")="bad",0,1)=1,AK32>=0),1,0),IF(AK$30=$AU$1,IF(AND(IF(IFERROR(IF(AK32=TRUNC(AK32),1,"bad"),"bad")="bad",0,1)=1,AK32>=0),1,0),IF(AK$30=$AV$1,IF(AND(IF(IFERROR(AK32*1,"bad")="bad",0,1)=1,AK32>0),1,0),IF(AK$30=$AW$1,IF(AND(IF(IFERROR(IF(AK32=TRUNC(AK32),1,"bad"),"bad")="bad",0,1)=1,AK32>0),1,0),IF(AK$30=$AX$1,1,IF(AK$30=$AY$1,IF(IFERROR(HLOOKUP(AK32,$AQ$4:$AZ$4,1,0),"bad")="bad",0,1),0))))))))))) -> 1 | BX32: =IF($F32="","",BX$30) -> 1 | BY32: =IF($F32="","",BY$30) -> 2 | BZ32: =IF($F32="","",BZ$30) -> 3 | CA32: =IF($F32="","",CA$30) -> 4 | CB32: =IF($F32="","",CB$30) -> 5 | CC32: =IF($F32="","",CC$30) -> 6 | CD32: =IF($F32="","",CD$30) -> 7 | CE32: =IF($F32="","",CE$30) -> 8 | ... CG32: =IF($F32="","",CG$30) -> 10
B33: =IF(F33="","",ROW()-30) -> 3 | C33: 580503613 | D33: 1001842875 | E33: שיתוף פעולה מרכז מחול עמק הירדן 2025 | F33: להקת המחול הקיבוצית (ע"ר) | G33: 1 | H33: 200000 | I33: 150000 | J33: =IF($F33="","",IF(AND(I33>0,I33<=H33),1,$AN$1)) -> 1 | K33: 1 | L33: 1 | M33: 1 | N33: 1 | O33: 1 | P33: 1 | Q33: 1 | R33: 1 | S33: 1 | T33: 1 | U33: 1 | V33: 1 | W33: 33 | X33: 1 | Y33: 1 | Z33: 0 | AA33: 1 | AB33: 1 | AC33: 1 | AD33: 1 | AE33: 1 | AF33: 1 | AK33: =IF($F33="","",IF(AJ33=1,1,IF(AM33<>1,$AN$1,IF(SUMPRODUCT(--(H33:AI33>=$H$6:$AI$6)*($H$6:$AI$6<>""))=COUNTIF($H$4:$AI$4,1),1,0)))) -> 1 | AM33: =IF(SUM(AP33:BS33)=COUNT(AP33:BS33),1,0) -> 1 | AN33: =IF($F33="","",AN$30) -> 0 | AO33: =IF($F33="","",AO$30) -> 1 | AP33: =IF(H$30="",1,IF(H$4=99,1,IF(H33="",0,IF(H$30=$AQ$1,IF(ISNA(MATCH(H33,$AN$30:$AO$30,0)),0,1),IF(H$30=$AR$1,IF(IFERROR(H33*1,"bad")="bad",0,1),IF(H$30=$AS$1,IF(IFERROR(IF(H33=TRUNC(H33),1,"bad"),"bad")="bad",0,1),IF(H$30=$AT$1,IF(AND(IF(IFERROR(H33*1,"bad")="bad",0,1)=1,H33>=0),1,0),IF(H$30=$AU$1,IF(AND(IF(IFERROR(IF(H33=TRUNC(H33),1,"bad"),"bad")="bad",0,1)=1,H33>=0),1,0),IF(H$30=$AV$1,IF(AND(IF(IFERROR(H33*1,"bad")="bad",0,1)=1,H33>0),1,0),IF(H$30=$AW$1,IF(AND(IF(IFERROR(IF(H33=TRUNC(H33),1,"bad"),"bad")="bad",0,1)=1,H33>0),1,0),IF(H$30=$AX$1,1,IF(H$30=$AY$1,IF(IFERROR(HLOOKUP(H33,$AQ$4:$AZ$4,1,0),"bad")="bad",0,1),0)))))))))))) -> 1 | AQ33: =IF(I$30="",1,IF(I$4=99,1,IF(I33="",0,IF(I$30=$AQ$1,IF(ISNA(MATCH(I33,$AN$30:$AO$30,0)),0,1),IF(I$30=$AR$1,IF(IFERROR(I33*1,"bad")="bad",0,1),IF(I$30=$AS$1,IF(IFERROR(IF(I33=TRUNC(I33),1,"bad"),"bad")="bad",0,1),IF(I$30=$AT$1,IF(AND(IF(IFERROR(I33*1,"bad")="bad",0,1)=1,I33>=0),1,0),IF(I$30=$AU$1,IF(AND(IF(IFERROR(IF(I33=TRUNC(I33),1,"bad"),"bad")="bad",0,1)=1,I33>=0),1,0),IF(I$30=$AV$1,IF(AND(IF(IFERROR(I33*1,"bad")="bad",0,1)=1,I33>0),1,0),IF(I$30=$AW$1,IF(AND(IF(IFERROR(IF(I33=TRUNC(I33),1,"bad"),"bad")="bad",0,1)=1,I33>0),1,0),IF(I$30=$AX$1,1,IF(I$30=$AY$1,IF(IFERROR(HLOOKUP(I33,$AQ$4:$AZ$4,1,0),"bad")="bad",0,1),0)))))))))))) -> 1 | AS33: =IF(K$30="",1,IF(K$4=99,1,IF(K33="",0,IF(K$30=$AQ$1,IF(ISNA(MATCH(K33,$AN$30:$AO$30,0)),0,1),IF(K$30=$AR$1,IF(IFERROR(K33*1,"bad")="bad",0,1),IF(K$30=$AS$1,IF(IFERROR(IF(K33=TRUNC(K33),1,"bad"),"bad")="bad",0,1),IF(K$30=$AT$1,IF(AND(IF(IFERROR(K33*1,"bad")="bad",0,1)=1,K33>=0),1,0),IF(K$30=$AU$1,IF(AND(IF(IFERROR(IF(K33=TRUNC(K33),1,"bad"),"bad")="bad",0,1)=1,K33>=0),1,0),IF(K$30=$AV$1,IF(AND(IF(IFERROR(K33*1,"bad")="bad",0,1)=1,K33>0),1,0),IF(K$30=$AW$1,IF(AND(IF(IFERROR(IF(K33=TRUNC(K33),1,"bad"),"bad")="bad",0,1)=1,K33>0),1,0),IF(K$30=$AX$1,1,IF(K$30=$AY$1,IF(IFERROR(HLOOKUP(K33,$AQ$4:$AZ$4,1,0),"bad")="bad",0,1),0)))))))))))) -> 1 | AT33: =IF(L$30="",1,IF(L$4=99,1,IF(L33="",0,IF(L$30=$AQ$1,IF(ISNA(MATCH(L33,$AN$30:$AO$30,0)),0,1),IF(L$30=$AR$1,IF(IFERROR(L33*1,"bad")="bad",0,1),IF(L$30=$AS$1,IF(IFERROR(IF(L33=TRUNC(L33),1,"bad"),"bad")="bad",0,1),IF(L$30=$AT$1,IF(AND(IF(IFERROR(L33*1,"bad")="bad",0,1)=1,L33>=0),1,0),IF(L$30=$AU$1,IF(AND(IF(IFERROR(IF(L33=TRUNC(L33),1,"bad"),"bad")="bad",0,1)=1,L33>=0),1,0),IF(L$30=$AV$1,IF(AND(IF(IFERROR(L33*1,"bad")="bad",0,1)=1,L33>0),1,0),IF(L$30=$AW$1,IF(AND(IF(IFERROR(IF(L33=TRUNC(L33),1,"bad"),"bad")="bad",0,1)=1,L33>0),1,0),IF(L$30=$AX$1,1,IF(L$30=$AY$1,IF(IFERROR(HLOOKUP(L33,$AQ$4:$AZ$4,1,0),"bad")="bad",0,1),0)))))))))))) -> 1 | AU33: =IF(M$30="",1,IF(M$4=99,1,IF(M33="",0,IF(M$30=$AQ$1,IF(ISNA(MATCH(M33,$AN$30:$AO$30,0)),0,1),IF(M$30=$AR$1,IF(IFERROR(M33*1,"bad")="bad",0,1),IF(M$30=$AS$1,IF(IFERROR(IF(M33=TRUNC(M33),1,"bad"),"bad")="bad",0,1),IF(M$30=$AT$1,IF(AND(IF(IFERROR(M33*1,"bad")="bad",0,1)=1,M33>=0),1,0),IF(M$30=$AU$1,IF(AND(IF(IFERROR(IF(M33=TRUNC(M33),1,"bad"),"bad")="bad",0,1)=1,M33>=0),1,0),IF(M$30=$AV$1,IF(AND(IF(IFERROR(M33*1,"bad")="bad",0,1)=1,M33>0),1,0),IF(M$30=$AW$1,IF(AND(IF(IFERROR(IF(M33=TRUNC(M33),1,"bad"),"bad")="bad",0,1)=1,M33>0),1,0),IF(M$30=$AX$1,1,IF(M$30=$AY$1,IF(IFERROR(HLOOKUP(M33,$AQ$4:$AZ$4,1,0),"bad")="bad",0,1),0)))))))))))) -> 1 | AV33: =IF(N$30="",1,IF(N$4=99,1,IF(N33="",0,IF(N$30=$AQ$1,IF(ISNA(MATCH(N33,$AN$30:$AO$30,0)),0,1),IF(N$30=$AR$1,IF(IFERROR(N33*1,"bad")="bad",0,1),IF(N$30=$AS$1,IF(IFERROR(IF(N33=TRUNC(N33),1,"bad"),"bad")="bad",0,1),IF(N$30=$AT$1,IF(AND(IF(IFERROR(N33*1,"bad")="bad",0,1)=1,N33>=0),1,0),IF(N$30=$AU$1,IF(AND(IF(IFERROR(IF(N33=TRUNC(N33),1,"bad"),"bad")="bad",0,1)=1,N33>=0),1,0),IF(N$30=$AV$1,IF(AND(IF(IFERROR(N33*1,"bad")="bad",0,1)=1,N33>0),1,0),IF(N$30=$AW$1,IF(AND(IF(IFERROR(IF(N33=TRUNC(N33),1,"bad"),"bad")="bad",0,1)=1,N33>0),1,0),IF(N$30=$AX$1,1,IF(N$30=$AY$1,IF(IFERROR(HLOOKUP(N33,$AQ$4:$AZ$4,1,0),"bad")="bad",0,1),0)))))))))))) -> 1 | AW33: =IF(O$30="",1,IF(O$4=99,1,IF(O33="",0,IF(O$30=$AQ$1,IF(ISNA(MATCH(O33,$AN$30:$AO$30,0)),0,1),IF(O$30=$AR$1,IF(IFERROR(O33*1,"bad")="bad",0,1),IF(O$30=$AS$1,IF(IFERROR(IF(O33=TRUNC(O33),1,"bad"),"bad")="bad",0,1),IF(O$30=$AT$1,IF(AND(IF(IFERROR(O33*1,"bad")="bad",0,1)=1,O33>=0),1,0),IF(O$30=$AU$1,IF(AND(IF(IFERROR(IF(O33=TRUNC(O33),1,"bad"),"bad")="bad",0,1)=1,O33>=0),1,0),IF(O$30=$AV$1,IF(AND(IF(IFERROR(O33*1,"bad")="bad",0,1)=1,O33>0),1,0),IF(O$30=$AW$1,IF(AND(IF(IFERROR(IF(O33=TRUNC(O33),1,"bad"),"bad")="bad",0,1)=1,O33>0),1,0),IF(O$30=$AX$1,1,IF(O$30=$AY$1,IF(IFERROR(HLOOKUP(O33,$AQ$4:$AZ$4,1,0),"bad")="bad",0,1),0)))))))))))) -> 1 | AX33: =IF(P$30="",1,IF(P$4=99,1,IF(P33="",0,IF(P$30=$AQ$1,IF(ISNA(MATCH(P33,$AN$30:$AO$30,0)),0,1),IF(P$30=$AR$1,IF(IFERROR(P33*1,"bad")="bad",0,1),IF(P$30=$AS$1,IF(IFERROR(IF(P33=TRUNC(P33),1,"bad"),"bad")="bad",0,1),IF(P$30=$AT$1,IF(AND(IF(IFERROR(P33*1,"bad")="bad",0,1)=1,P33>=0),1,0),IF(P$30=$AU$1,IF(AND(IF(IFERROR(IF(P33=TRUNC(P33),1,"bad"),"bad")="bad",0,1)=1,P33>=0),1,0),IF(P$30=$AV$1,IF(AND(IF(IFERROR(P33*1,"bad")="bad",0,1)=1,P33>0),1,0),IF(P$30=$AW$1,IF(AND(IF(IFERROR(IF(P33=TRUNC(P33),1,"bad"),"bad")="bad",0,1)=1,P33>0),1,0),IF(P$30=$AX$1,1,IF(P$30=$AY$1,IF(IFERROR(HLOOKUP(P33,$AQ$4:$AZ$4,1,0),"bad")="bad",0,1),0)))))))))))) -> 1 | AY33: =IF(Q$30="",1,IF(Q$4=99,1,IF(Q33="",0,IF(Q$30=$AQ$1,IF(ISNA(MATCH(Q33,$AN$30:$AO$30,0)),0,1),IF(Q$30=$AR$1,IF(IFERROR(Q33*1,"bad")="bad",0,1),IF(Q$30=$AS$1,IF(IFERROR(IF(Q33=TRUNC(Q33),1,"bad"),"bad")="bad",0,1),IF(Q$30=$AT$1,IF(AND(IF(IFERROR(Q33*1,"bad")="bad",0,1)=1,Q33>=0),1,0),IF(Q$30=$AU$1,IF(AND(IF(IFERROR(IF(Q33=TRUNC(Q33),1,"bad"),"bad")="bad",0,1)=1,Q33>=0),1,0),IF(Q$30=$AV$1,IF(AND(IF(IFERROR(Q33*1,"bad")="bad",0,1)=1,Q33>0),1,0),IF(Q$30=$AW$1,IF(AND(IF(IFERROR(IF(Q33=TRUNC(Q33),1,"bad"),"bad")="bad",0,1)=1,Q33>0),1,0),IF(Q$30=$AX$1,1,IF(Q$30=$AY$1,IF(IFERROR(HLOOKUP(Q33,$AQ$4:$AZ$4,1,0),"bad")="bad",0,1),0)))))))))))) -> 1 | AZ33: =IF(R$30="",1,IF(R$4=99,1,IF(R33="",0,IF(R$30=$AQ$1,IF(ISNA(MATCH(R33,$AN$30:$AO$30,0)),0,1),IF(R$30=$AR$1,IF(IFERROR(R33*1,"bad")="bad",0,1),IF(R$30=$AS$1,IF(IFERROR(IF(R33=TRUNC(R33),1,"bad"),"bad")="bad",0,1),IF(R$30=$AT$1,IF(AND(IF(IFERROR(R33*1,"bad")="bad",0,1)=1,R33>=0),1,0),IF(R$30=$AU$1,IF(AND(IF(IFERROR(IF(R33=TRUNC(R33),1,"bad"),"bad")="bad",0,1)=1,R33>=0),1,0),IF(R$30=$AV$1,IF(AND(IF(IFERROR(R33*1,"bad")="bad",0,1)=1,R33>0),1,0),IF(R$30=$AW$1,IF(AND(IF(IFERROR(IF(R33=TRUNC(R33),1,"bad"),"bad")="bad",0,1)=1,R33>0),1,0),IF(R$30=$AX$1,1,IF(R$30=$AY$1,IF(IFERROR(HLOOKUP(R33,$AQ$4:$AZ$4,1,0),"bad")="bad",0,1),0)))))))))))) -> 1 | ... BR33: =IF(AJ$30="",1,IF(AJ$4=99,1,IF(AJ33="",0,IF(AJ$30=$AQ$1,IF(ISNA(MATCH(AJ33,$AN$30:$AO$30,0)),0,1),IF(AJ$30=$AR$1,IF(IFERROR(AJ33*1,"bad")="bad",0,1),IF(AJ$30=$AS$1,IF(IFERROR(IF(AJ33=TRUNC(AJ33),1,"bad"),"bad")="bad",0,1),IF(AJ$30=$AT$1,IF(AND(IF(IFERROR(AJ33*1,"bad")="bad",0,1)=1,AJ33>=0),1,0),IF(AJ$30=$AU$1,IF(AND(IF(IFERROR(IF(AJ33=TRUNC(AJ33),1,"bad"),"bad")="bad",0,1)=1,AJ33>=0),1,0),IF(AJ$30=$AV$1,IF(AND(IF(IFERROR(AJ33*1,"bad")="bad",0,1)=1,AJ33>0),1,0),IF(AJ$30=$AW$1,IF(AND(IF(IFERROR(IF(AJ33=TRUNC(AJ33),1,"bad"),"bad")="bad",0,1)=1,AJ33>0),1,0),IF(AJ$30=$AX$1,1,IF(AJ$30=$AY$1,IF(IFERROR(HLOOKUP(AJ33,$AQ$4:$AZ$4,1,0),"bad")="bad",0,1),0)))))))))))) -> 1 | BS33: =IF(AK$30="",1,IF(AK33="",0,IF(AK$30=$AQ$1,IF(ISNA(MATCH(AK33,$AN$30:$AO$30,0)),0,1),IF(AK$30=$AR$1,IF(IFERROR(AK33*1,"bad")="bad",0,1),IF(AK$30=$AS$1,IF(IFERROR(IF(AK33=TRUNC(AK33),1,"bad"),"bad")="bad",0,1),IF(AK$30=$AT$1,IF(AND(IF(IFERROR(AK33*1,"bad")="bad",0,1)=1,AK33>=0),1,0),IF(AK$30=$AU$1,IF(AND(IF(IFERROR(IF(AK33=TRUNC(AK33),1,"bad"),"bad")="bad",0,1)=1,AK33>=0),1,0),IF(AK$30=$AV$1,IF(AND(IF(IFERROR(AK33*1,"bad")="bad",0,1)=1,AK33>0),1,0),IF(AK$30=$AW$1,IF(AND(IF(IFERROR(IF(AK33=TRUNC(AK33),1,"bad"),"bad")="bad",0,1)=1,AK33>0),1,0),IF(AK$30=$AX$1,1,IF(AK$30=$AY$1,IF(IFERROR(HLOOKUP(AK33,$AQ$4:$AZ$4,1,0),"bad")="bad",0,1),0))))))))))) -> 1 | BX33: =IF($F33="","",BX$30) -> 1 | BY33: =IF($F33="","",BY$30) -> 2 | BZ33: =IF($F33="","",BZ$30) -> 3 | CA33: =IF($F33="","",CA$30) -> 4 | CB33: =IF($F33="","",CB$30) -> 5 | CC33: =IF($F33="","",CC$30) -> 6 | CD33: =IF($F33="","",CD$30) -> 7 | CE33: =IF($F33="","",CE$30) -> 8 | ... CG33: =IF($F33="","",CG$30) -> 10
B34: =IF(F34="","",ROW()-30) -> 4 | C34: 580371045 | D34: 1001843020 | E34: שיתופי פעולה | F34: תאטרון "פסיק" ירושלים (ע"ר) | G34: 1 | H34: 890000 | I34: 150000 | J34: =IF($F34="","",IF(AND(I34>0,I34<=H34),1,$AN$1)) -> 1 | K34: 1 | L34: 1 | M34: 1 | N34: 1 | O34: 1 | P34: 1 | Q34: 1 | R34: 1 | S34: 1 | T34: 1 | U34: 1 | V34: 1 | W34: 45 | X34: 1 | Y34: 1 | Z34: 0 | AA34: 1 | AB34: 1 | AC34: 1 | AD34: 1 | AE34: 1 | AF34: 1 | AK34: =IF($F34="","",IF(AJ34=1,1,IF(AM34<>1,$AN$1,IF(SUMPRODUCT(--(H34:AI34>=$H$6:$AI$6)*($H$6:$AI$6<>""))=COUNTIF($H$4:$AI$4,1),1,0)))) -> 1 | AM34: =IF(SUM(AP34:BS34)=COUNT(AP34:BS34),1,0) -> 1 | AN34: =IF($F34="","",AN$30) -> 0 | AO34: =IF($F34="","",AO$30) -> 1 | AP34: =IF(H$30="",1,IF(H$4=99,1,IF(H34="",0,IF(H$30=$AQ$1,IF(ISNA(MATCH(H34,$AN$30:$AO$30,0)),0,1),IF(H$30=$AR$1,IF(IFERROR(H34*1,"bad")="bad",0,1),IF(H$30=$AS$1,IF(IFERROR(IF(H34=TRUNC(H34),1,"bad"),"bad")="bad",0,1),IF(H$30=$AT$1,IF(AND(IF(IFERROR(H34*1,"bad")="bad",0,1)=1,H34>=0),1,0),IF(H$30=$AU$1,IF(AND(IF(IFERROR(IF(H34=TRUNC(H34),1,"bad"),"bad")="bad",0,1)=1,H34>=0),1,0),IF(H$30=$AV$1,IF(AND(IF(IFERROR(H34*1,"bad")="bad",0,1)=1,H34>0),1,0),IF(H$30=$AW$1,IF(AND(IF(IFERROR(IF(H34=TRUNC(H34),1,"bad"),"bad")="bad",0,1)=1,H34>0),1,0),IF(H$30=$AX$1,1,IF(H$30=$AY$1,IF(IFERROR(HLOOKUP(H34,$AQ$4:$AZ$4,1,0),"bad")="bad",0,1),0)))))))))))) -> 1 | AQ34: =IF(I$30="",1,IF(I$4=99,1,IF(I34="",0,IF(I$30=$AQ$1,IF(ISNA(MATCH(I34,$AN$30:$AO$30,0)),0,1),IF(I$30=$AR$1,IF(IFERROR(I34*1,"bad")="bad",0,1),IF(I$30=$AS$1,IF(IFERROR(IF(I34=TRUNC(I34),1,"bad"),"bad")="bad",0,1),IF(I$30=$AT$1,IF(AND(IF(IFERROR(I34*1,"bad")="bad",0,1)=1,I34>=0),1,0),IF(I$30=$AU$1,IF(AND(IF(IFERROR(IF(I34=TRUNC(I34),1,"bad"),"bad")="bad",0,1)=1,I34>=0),1,0),IF(I$30=$AV$1,IF(AND(IF(IFERROR(I34*1,"bad")="bad",0,1)=1,I34>0),1,0),IF(I$30=$AW$1,IF(AND(IF(IFERROR(IF(I34=TRUNC(I34),1,"bad"),"bad")="bad",0,1)=1,I34>0),1,0),IF(I$30=$AX$1,1,IF(I$30=$AY$1,IF(IFERROR(HLOOKUP(I34,$AQ$4:$AZ$4,1,0),"bad")="bad",0,1),0)))))))))))) -> 1 | AS34: =IF(K$30="",1,IF(K$4=99,1,IF(K34="",0,IF(K$30=$AQ$1,IF(ISNA(MATCH(K34,$AN$30:$AO$30,0)),0,1),IF(K$30=$AR$1,IF(IFERROR(K34*1,"bad")="bad",0,1),IF(K$30=$AS$1,IF(IFERROR(IF(K34=TRUNC(K34),1,"bad"),"bad")="bad",0,1),IF(K$30=$AT$1,IF(AND(IF(IFERROR(K34*1,"bad")="bad",0,1)=1,K34>=0),1,0),IF(K$30=$AU$1,IF(AND(IF(IFERROR(IF(K34=TRUNC(K34),1,"bad"),"bad")="bad",0,1)=1,K34>=0),1,0),IF(K$30=$AV$1,IF(AND(IF(IFERROR(K34*1,"bad")="bad",0,1)=1,K34>0),1,0),IF(K$30=$AW$1,IF(AND(IF(IFERROR(IF(K34=TRUNC(K34),1,"bad"),"bad")="bad",0,1)=1,K34>0),1,0),IF(K$30=$AX$1,1,IF(K$30=$AY$1,IF(IFERROR(HLOOKUP(K34,$AQ$4:$AZ$4,1,0),"bad")="bad",0,1),0)))))))))))) -> 1 | AT34: =IF(L$30="",1,IF(L$4=99,1,IF(L34="",0,IF(L$30=$AQ$1,IF(ISNA(MATCH(L34,$AN$30:$AO$30,0)),0,1),IF(L$30=$AR$1,IF(IFERROR(L34*1,"bad")="bad",0,1),IF(L$30=$AS$1,IF(IFERROR(IF(L34=TRUNC(L34),1,"bad"),"bad")="bad",0,1),IF(L$30=$AT$1,IF(AND(IF(IFERROR(L34*1,"bad")="bad",0,1)=1,L34>=0),1,0),IF(L$30=$AU$1,IF(AND(IF(IFERROR(IF(L34=TRUNC(L34),1,"bad"),"bad")="bad",0,1)=1,L34>=0),1,0),IF(L$30=$AV$1,IF(AND(IF(IFERROR(L34*1,"bad")="bad",0,1)=1,L34>0),1,0),IF(L$30=$AW$1,IF(AND(IF(IFERROR(IF(L34=TRUNC(L34),1,"bad"),"bad")="bad",0,1)=1,L34>0),1,0),IF(L$30=$AX$1,1,IF(L$30=$AY$1,IF(IFERROR(HLOOKUP(L34,$AQ$4:$AZ$4,1,0),"bad")="bad",0,1),0)))))))))))) -> 1 | AU34: =IF(M$30="",1,IF(M$4=99,1,IF(M34="",0,IF(M$30=$AQ$1,IF(ISNA(MATCH(M34,$AN$30:$AO$30,0)),0,1),IF(M$30=$AR$1,IF(IFERROR(M34*1,"bad")="bad",0,1),IF(M$30=$AS$1,IF(IFERROR(IF(M34=TRUNC(M34),1,"bad"),"bad")="bad",0,1),IF(M$30=$AT$1,IF(AND(IF(IFERROR(M34*1,"bad")="bad",0,1)=1,M34>=0),1,0),IF(M$30=$AU$1,IF(AND(IF(IFERROR(IF(M34=TRUNC(M34),1,"bad"),"bad")="bad",0,1)=1,M34>=0),1,0),IF(M$30=$AV$1,IF(AND(IF(IFERROR(M34*1,"bad")="bad",0,1)=1,M34>0),1,0),IF(M$30=$AW$1,IF(AND(IF(IFERROR(IF(M34=TRUNC(M34),1,"bad"),"bad")="bad",0,1)=1,M34>0),1,0),IF(M$30=$AX$1,1,IF(M$30=$AY$1,IF(IFERROR(HLOOKUP(M34,$AQ$4:$AZ$4,1,0),"bad")="bad",0,1),0)))))))))))) -> 1 | AV34: =IF(N$30="",1,IF(N$4=99,1,IF(N34="",0,IF(N$30=$AQ$1,IF(ISNA(MATCH(N34,$AN$30:$AO$30,0)),0,1),IF(N$30=$AR$1,IF(IFERROR(N34*1,"bad")="bad",0,1),IF(N$30=$AS$1,IF(IFERROR(IF(N34=TRUNC(N34),1,"bad"),"bad")="bad",0,1),IF(N$30=$AT$1,IF(AND(IF(IFERROR(N34*1,"bad")="bad",0,1)=1,N34>=0),1,0),IF(N$30=$AU$1,IF(AND(IF(IFERROR(IF(N34=TRUNC(N34),1,"bad"),"bad")="bad",0,1)=1,N34>=0),1,0),IF(N$30=$AV$1,IF(AND(IF(IFERROR(N34*1,"bad")="bad",0,1)=1,N34>0),1,0),IF(N$30=$AW$1,IF(AND(IF(IFERROR(IF(N34=TRUNC(N34),1,"bad"),"bad")="bad",0,1)=1,N34>0),1,0),IF(N$30=$AX$1,1,IF(N$30=$AY$1,IF(IFERROR(HLOOKUP(N34,$AQ$4:$AZ$4,1,0),"bad")="bad",0,1),0)))))))))))) -> 1 | AW34: =IF(O$30="",1,IF(O$4=99,1,IF(O34="",0,IF(O$30=$AQ$1,IF(ISNA(MATCH(O34,$AN$30:$AO$30,0)),0,1),IF(O$30=$AR$1,IF(IFERROR(O34*1,"bad")="bad",0,1),IF(O$30=$AS$1,IF(IFERROR(IF(O34=TRUNC(O34),1,"bad"),"bad")="bad",0,1),IF(O$30=$AT$1,IF(AND(IF(IFERROR(O34*1,"bad")="bad",0,1)=1,O34>=0),1,0),IF(O$30=$AU$1,IF(AND(IF(IFERROR(IF(O34=TRUNC(O34),1,"bad"),"bad")="bad",0,1)=1,O34>=0),1,0),IF(O$30=$AV$1,IF(AND(IF(IFERROR(O34*1,"bad")="bad",0,1)=1,O34>0),1,0),IF(O$30=$AW$1,IF(AND(IF(IFERROR(IF(O34=TRUNC(O34),1,"bad"),"bad")="bad",0,1)=1,O34>0),1,0),IF(O$30=$AX$1,1,IF(O$30=$AY$1,IF(IFERROR(HLOOKUP(O34,$AQ$4:$AZ$4,1,0),"bad")="bad",0,1),0)))))))))))) -> 1 | AX34: =IF(P$30="",1,IF(P$4=99,1,IF(P34="",0,IF(P$30=$AQ$1,IF(ISNA(MATCH(P34,$AN$30:$AO$30,0)),0,1),IF(P$30=$AR$1,IF(IFERROR(P34*1,"bad")="bad",0,1),IF(P$30=$AS$1,IF(IFERROR(IF(P34=TRUNC(P34),1,"bad"),"bad")="bad",0,1),IF(P$30=$AT$1,IF(AND(IF(IFERROR(P34*1,"bad")="bad",0,1)=1,P34>=0),1,0),IF(P$30=$AU$1,IF(AND(IF(IFERROR(IF(P34=TRUNC(P34),1,"bad"),"bad")="bad",0,1)=1,P34>=0),1,0),IF(P$30=$AV$1,IF(AND(IF(IFERROR(P34*1,"bad")="bad",0,1)=1,P34>0),1,0),IF(P$30=$AW$1,IF(AND(IF(IFERROR(IF(P34=TRUNC(P34),1,"bad"),"bad")="bad",0,1)=1,P34>0),1,0),IF(P$30=$AX$1,1,IF(P$30=$AY$1,IF(IFERROR(HLOOKUP(P34,$AQ$4:$AZ$4,1,0),"bad")="bad",0,1),0)))))))))))) -> 1 | AY34: =IF(Q$30="",1,IF(Q$4=99,1,IF(Q34="",0,IF(Q$30=$AQ$1,IF(ISNA(MATCH(Q34,$AN$30:$AO$30,0)),0,1),IF(Q$30=$AR$1,IF(IFERROR(Q34*1,"bad")="bad",0,1),IF(Q$30=$AS$1,IF(IFERROR(IF(Q34=TRUNC(Q34),1,"bad"),"bad")="bad",0,1),IF(Q$30=$AT$1,IF(AND(IF(IFERROR(Q34*1,"bad")="bad",0,1)=1,Q34>=0),1,0),IF(Q$30=$AU$1,IF(AND(IF(IFERROR(IF(Q34=TRUNC(Q34),1,"bad"),"bad")="bad",0,1)=1,Q34>=0),1,0),IF(Q$30=$AV$1,IF(AND(IF(IFERROR(Q34*1,"bad")="bad",0,1)=1,Q34>0),1,0),IF(Q$30=$AW$1,IF(AND(IF(IFERROR(IF(Q34=TRUNC(Q34),1,"bad"),"bad")="bad",0,1)=1,Q34>0),1,0),IF(Q$30=$AX$1,1,IF(Q$30=$AY$1,IF(IFERROR(HLOOKUP(Q34,$AQ$4:$AZ$4,1,0),"bad")="bad",0,1),0)))))))))))) -> 1 | AZ34: =IF(R$30="",1,IF(R$4=99,1,IF(R34="",0,IF(R$30=$AQ$1,IF(ISNA(MATCH(R34,$AN$30:$AO$30,0)),0,1),IF(R$30=$AR$1,IF(IFERROR(R34*1,"bad")="bad",0,1),IF(R$30=$AS$1,IF(IFERROR(IF(R34=TRUNC(R34),1,"bad"),"bad")="bad",0,1),IF(R$30=$AT$1,IF(AND(IF(IFERROR(R34*1,"bad")="bad",0,1)=1,R34>=0),1,0),IF(R$30=$AU$1,IF(AND(IF(IFERROR(IF(R34=TRUNC(R34),1,"bad"),"bad")="bad",0,1)=1,R34>=0),1,0),IF(R$30=$AV$1,IF(AND(IF(IFERROR(R34*1,"bad")="bad",0,1)=1,R34>0),1,0),IF(R$30=$AW$1,IF(AND(IF(IFERROR(IF(R34=TRUNC(R34),1,"bad"),"bad")="bad",0,1)=1,R34>0),1,0),IF(R$30=$AX$1,1,IF(R$30=$AY$1,IF(IFERROR(HLOOKUP(R34,$AQ$4:$AZ$4,1,0),"bad")="bad",0,1),0)))))))))))) -> 1 | ... BR34: =IF(AJ$30="",1,IF(AJ$4=99,1,IF(AJ34="",0,IF(AJ$30=$AQ$1,IF(ISNA(MATCH(AJ34,$AN$30:$AO$30,0)),0,1),IF(AJ$30=$AR$1,IF(IFERROR(AJ34*1,"bad")="bad",0,1),IF(AJ$30=$AS$1,IF(IFERROR(IF(AJ34=TRUNC(AJ34),1,"bad"),"bad")="bad",0,1),IF(AJ$30=$AT$1,IF(AND(IF(IFERROR(AJ34*1,"bad")="bad",0,1)=1,AJ34>=0),1,0),IF(AJ$30=$AU$1,IF(AND(IF(IFERROR(IF(AJ34=TRUNC(AJ34),1,"bad"),"bad")="bad",0,1)=1,AJ34>=0),1,0),IF(AJ$30=$AV$1,IF(AND(IF(IFERROR(AJ34*1,"bad")="bad",0,1)=1,AJ34>0),1,0),IF(AJ$30=$AW$1,IF(AND(IF(IFERROR(IF(AJ34=TRUNC(AJ34),1,"bad"),"bad")="bad",0,1)=1,AJ34>0),1,0),IF(AJ$30=$AX$1,1,IF(AJ$30=$AY$1,IF(IFERROR(HLOOKUP(AJ34,$AQ$4:$AZ$4,1,0),"bad")="bad",0,1),0)))))))))))) -> 1 | BS34: =IF(AK$30="",1,IF(AK34="",0,IF(AK$30=$AQ$1,IF(ISNA(MATCH(AK34,$AN$30:$AO$30,0)),0,1),IF(AK$30=$AR$1,IF(IFERROR(AK34*1,"bad")="bad",0,1),IF(AK$30=$AS$1,IF(IFERROR(IF(AK34=TRUNC(AK34),1,"bad"),"bad")="bad",0,1),IF(AK$30=$AT$1,IF(AND(IF(IFERROR(AK34*1,"bad")="bad",0,1)=1,AK34>=0),1,0),IF(AK$30=$AU$1,IF(AND(IF(IFERROR(IF(AK34=TRUNC(AK34),1,"bad"),"bad")="bad",0,1)=1,AK34>=0),1,0),IF(AK$30=$AV$1,IF(AND(IF(IFERROR(AK34*1,"bad")="bad",0,1)=1,AK34>0),1,0),IF(AK$30=$AW$1,IF(AND(IF(IFERROR(IF(AK34=TRUNC(AK34),1,"bad"),"bad")="bad",0,1)=1,AK34>0),1,0),IF(AK$30=$AX$1,1,IF(AK$30=$AY$1,IF(IFERROR(HLOOKUP(AK34,$AQ$4:$AZ$4,1,0),"bad")="bad",0,1),0))))))))))) -> 1 | BX34: =IF($F34="","",BX$30) -> 1 | BY34: =IF($F34="","",BY$30) -> 2 | BZ34: =IF($F34="","",BZ$30) -> 3 | CA34: =IF($F34="","",CA$30) -> 4 | CB34: =IF($F34="","",CB$30) -> 5 | CC34: =IF($F34="","",CC$30) -> 6 | CD34: =IF($F34="","",CD$30) -> 7 | CE34: =IF($F34="","",CE$30) -> 8 | ... CG34: =IF($F34="","",CG$30) -> 10
B35: =IF(F35="","",ROW()-30) | J35: =IF($F35="","",IF(AND(I35>0,I35<=H35),1,$AN$1)) | AK35: =IF($F35="","",IF(AJ35=1,1,IF(AM35<>1,$AN$1,IF(SUMPRODUCT(--(H35:AI35>=$H$6:$AI$6)*($H$6:$AI$6<>""))=COUNTIF($H$4:$AI$4,1),1,0)))) | AM35: =IF(SUM(AP35:BS35)=COUNT(AP35:BS35),1,0) -> 0 | AN35: =IF($F35="","",AN$30) | AO35: =IF($F35="","",AO$30) | AP35: =IF(H$30="",1,IF(H$4=99,1,IF(H35="",0,IF(H$30=$AQ$1,IF(ISNA(MATCH(H35,$AN$30:$AO$30,0)),0,1),IF(H$30=$AR$1,IF(IFERROR(H35*1,"bad")="bad",0,1),IF(H$30=$AS$1,IF(IFERROR(IF(H35=TRUNC(H35),1,"bad"),"bad")="bad",0,1),IF(H$30=$AT$1,IF(AND(IF(IFERROR(H35*1,"bad")="bad",0,1)=1,H35>=0),1,0),IF(H$30=$AU$1,IF(AND(IF(IFERROR(IF(H35=TRUNC(H35),1,"bad"),"bad")="bad",0,1)=1,H35>=0),1,0),IF(H$30=$AV$1,IF(AND(IF(IFERROR(H35*1,"bad")="bad",0,1)=1,H35>0),1,0),IF(H$30=$AW$1,IF(AND(IF(IFERROR(IF(H35=TRUNC(H35),1,"bad"),"bad")="bad",0,1)=1,H35>0),1,0),IF(H$30=$AX$1,1,IF(H$30=$AY$1,IF(IFERROR(HLOOKUP(H35,$AQ$4:$AZ$4,1,0),"bad")="bad",0,1),0)))))))))))) -> 0 | AQ35: =IF(I$30="",1,IF(I$4=99,1,IF(I35="",0,IF(I$30=$AQ$1,IF(ISNA(MATCH(I35,$AN$30:$AO$30,0)),0,1),IF(I$30=$AR$1,IF(IFERROR(I35*1,"bad")="bad",0,1),IF(I$30=$AS$1,IF(IFERROR(IF(I35=TRUNC(I35),1,"bad"),"bad")="bad",0,1),IF(I$30=$AT$1,IF(AND(IF(IFERROR(I35*1,"bad")="bad",0,1)=1,I35>=0),1,0),IF(I$30=$AU$1,IF(AND(IF(IFERROR(IF(I35=TRUNC(I35),1,"bad"),"bad")="bad",0,1)=1,I35>=0),1,0),IF(I$30=$AV$1,IF(AND(IF(IFERROR(I35*1,"bad")="bad",0,1)=1,I35>0),1,0),IF(I$30=$AW$1,IF(AND(IF(IFERROR(IF(I35=TRUNC(I35),1,"bad"),"bad")="bad",0,1)=1,I35>0),1,0),IF(I$30=$AX$1,1,IF(I$30=$AY$1,IF(IFERROR(HLOOKUP(I35,$AQ$4:$AZ$4,1,0),"bad")="bad",0,1),0)))))))))))) -> 0 | AS35: =IF(K$30="",1,IF(K$4=99,1,IF(K35="",0,IF(K$30=$AQ$1,IF(ISNA(MATCH(K35,$AN$30:$AO$30,0)),0,1),IF(K$30=$AR$1,IF(IFERROR(K35*1,"bad")="bad",0,1),IF(K$30=$AS$1,IF(IFERROR(IF(K35=TRUNC(K35),1,"bad"),"bad")="bad",0,1),IF(K$30=$AT$1,IF(AND(IF(IFERROR(K35*1,"bad")="bad",0,1)=1,K35>=0),1,0),IF(K$30=$AU$1,IF(AND(IF(IFERROR(IF(K35=TRUNC(K35),1,"bad"),"bad")="bad",0,1)=1,K35>=0),1,0),IF(K$30=$AV$1,IF(AND(IF(IFERROR(K35*1,"bad")="bad",0,1)=1,K35>0),1,0),IF(K$30=$AW$1,IF(AND(IF(IFERROR(IF(K35=TRUNC(K35),1,"bad"),"bad")="bad",0,1)=1,K35>0),1,0),IF(K$30=$AX$1,1,IF(K$30=$AY$1,IF(IFERROR(HLOOKUP(K35,$AQ$4:$AZ$4,1,0),"bad")="bad",0,1),0)))))))))))) -> 0 | AT35: =IF(L$30="",1,IF(L$4=99,1,IF(L35="",0,IF(L$30=$AQ$1,IF(ISNA(MATCH(L35,$AN$30:$AO$30,0)),0,1),IF(L$30=$AR$1,IF(IFERROR(L35*1,"bad")="bad",0,1),IF(L$30=$AS$1,IF(IFERROR(IF(L35=TRUNC(L35),1,"bad"),"bad")="bad",0,1),IF(L$30=$AT$1,IF(AND(IF(IFERROR(L35*1,"bad")="bad",0,1)=1,L35>=0),1,0),IF(L$30=$AU$1,IF(AND(IF(IFERROR(IF(L35=TRUNC(L35),1,"bad"),"bad")="bad",0,1)=1,L35>=0),1,0),IF(L$30=$AV$1,IF(AND(IF(IFERROR(L35*1,"bad")="bad",0,1)=1,L35>0),1,0),IF(L$30=$AW$1,IF(AND(IF(IFERROR(IF(L35=TRUNC(L35),1,"bad"),"bad")="bad",0,1)=1,L35>0),1,0),IF(L$30=$AX$1,1,IF(L$30=$AY$1,IF(IFERROR(HLOOKUP(L35,$AQ$4:$AZ$4,1,0),"bad")="bad",0,1),0)))))))))))) -> 0 | AU35: =IF(M$30="",1,IF(M$4=99,1,IF(M35="",0,IF(M$30=$AQ$1,IF(ISNA(MATCH(M35,$AN$30:$AO$30,0)),0,1),IF(M$30=$AR$1,IF(IFERROR(M35*1,"bad")="bad",0,1),IF(M$30=$AS$1,IF(IFERROR(IF(M35=TRUNC(M35),1,"bad"),"bad")="bad",0,1),IF(M$30=$AT$1,IF(AND(IF(IFERROR(M35*1,"bad")="bad",0,1)=1,M35>=0),1,0),IF(M$30=$AU$1,IF(AND(IF(IFERROR(IF(M35=TRUNC(M35),1,"bad"),"bad")="bad",0,1)=1,M35>=0),1,0),IF(M$30=$AV$1,IF(AND(IF(IFERROR(M35*1,"bad")="bad",0,1)=1,M35>0),1,0),IF(M$30=$AW$1,IF(AND(IF(IFERROR(IF(M35=TRUNC(M35),1,"bad"),"bad")="bad",0,1)=1,M35>0),1,0),IF(M$30=$AX$1,1,IF(M$30=$AY$1,IF(IFERROR(HLOOKUP(M35,$AQ$4:$AZ$4,1,0),"bad")="bad",0,1),0)))))))))))) -> 0 | AV35: =IF(N$30="",1,IF(N$4=99,1,IF(N35="",0,IF(N$30=$AQ$1,IF(ISNA(MATCH(N35,$AN$30:$AO$30,0)),0,1),IF(N$30=$AR$1,IF(IFERROR(N35*1,"bad")="bad",0,1),IF(N$30=$AS$1,IF(IFERROR(IF(N35=TRUNC(N35),1,"bad"),"bad")="bad",0,1),IF(N$30=$AT$1,IF(AND(IF(IFERROR(N35*1,"bad")="bad",0,1)=1,N35>=0),1,0),IF(N$30=$AU$1,IF(AND(IF(IFERROR(IF(N35=TRUNC(N35),1,"bad"),"bad")="bad",0,1)=1,N35>=0),1,0),IF(N$30=$AV$1,IF(AND(IF(IFERROR(N35*1,"bad")="bad",0,1)=1,N35>0),1,0),IF(N$30=$AW$1,IF(AND(IF(IFERROR(IF(N35=TRUNC(N35),1,"bad"),"bad")="bad",0,1)=1,N35>0),1,0),IF(N$30=$AX$1,1,IF(N$30=$AY$1,IF(IFERROR(HLOOKUP(N35,$AQ$4:$AZ$4,1,0),"bad")="bad",0,1),0)))))))))))) -> 0 | AW35: =IF(O$30="",1,IF(O$4=99,1,IF(O35="",0,IF(O$30=$AQ$1,IF(ISNA(MATCH(O35,$AN$30:$AO$30,0)),0,1),IF(O$30=$AR$1,IF(IFERROR(O35*1,"bad")="bad",0,1),IF(O$30=$AS$1,IF(IFERROR(IF(O35=TRUNC(O35),1,"bad"),"bad")="bad",0,1),IF(O$30=$AT$1,IF(AND(IF(IFERROR(O35*1,"bad")="bad",0,1)=1,O35>=0),1,0),IF(O$30=$AU$1,IF(AND(IF(IFERROR(IF(O35=TRUNC(O35),1,"bad"),"bad")="bad",0,1)=1,O35>=0),1,0),IF(O$30=$AV$1,IF(AND(IF(IFERROR(O35*1,"bad")="bad",0,1)=1,O35>0),1,0),IF(O$30=$AW$1,IF(AND(IF(IFERROR(IF(O35=TRUNC(O35),1,"bad"),"bad")="bad",0,1)=1,O35>0),1,0),IF(O$30=$AX$1,1,IF(O$30=$AY$1,IF(IFERROR(HLOOKUP(O35,$AQ$4:$AZ$4,1,0),"bad")="bad",0,1),0)))))))))))) -> 0 | AX35: =IF(P$30="",1,IF(P$4=99,1,IF(P35="",0,IF(P$30=$AQ$1,IF(ISNA(MATCH(P35,$AN$30:$AO$30,0)),0,1),IF(P$30=$AR$1,IF(IFERROR(P35*1,"bad")="bad",0,1),IF(P$30=$AS$1,IF(IFERROR(IF(P35=TRUNC(P35),1,"bad"),"bad")="bad",0,1),IF(P$30=$AT$1,IF(AND(IF(IFERROR(P35*1,"bad")="bad",0,1)=1,P35>=0),1,0),IF(P$30=$AU$1,IF(AND(IF(IFERROR(IF(P35=TRUNC(P35),1,"bad"),"bad")="bad",0,1)=1,P35>=0),1,0),IF(P$30=$AV$1,IF(AND(IF(IFERROR(P35*1,"bad")="bad",0,1)=1,P35>0),1,0),IF(P$30=$AW$1,IF(AND(IF(IFERROR(IF(P35=TRUNC(P35),1,"bad"),"bad")="bad",0,1)=1,P35>0),1,0),IF(P$30=$AX$1,1,IF(P$30=$AY$1,IF(IFERROR(HLOOKUP(P35,$AQ$4:$AZ$4,1,0),"bad")="bad",0,1),0)))))))))))) -> 0 | AY35: =IF(Q$30="",1,IF(Q$4=99,1,IF(Q35="",0,IF(Q$30=$AQ$1,IF(ISNA(MATCH(Q35,$AN$30:$AO$30,0)),0,1),IF(Q$30=$AR$1,IF(IFERROR(Q35*1,"bad")="bad",0,1),IF(Q$30=$AS$1,IF(IFERROR(IF(Q35=TRUNC(Q35),1,"bad"),"bad")="bad",0,1),IF(Q$30=$AT$1,IF(AND(IF(IFERROR(Q35*1,"bad")="bad",0,1)=1,Q35>=0),1,0),IF(Q$30=$AU$1,IF(AND(IF(IFERROR(IF(Q35=TRUNC(Q35),1,"bad"),"bad")="bad",0,1)=1,Q35>=0),1,0),IF(Q$30=$AV$1,IF(AND(IF(IFERROR(Q35*1,"bad")="bad",0,1)=1,Q35>0),1,0),IF(Q$30=$AW$1,IF(AND(IF(IFERROR(IF(Q35=TRUNC(Q35),1,"bad"),"bad")="bad",0,1)=1,Q35>0),1,0),IF(Q$30=$AX$1,1,IF(Q$30=$AY$1,IF(IFERROR(HLOOKUP(Q35,$AQ$4:$AZ$4,1,0),"bad")="bad",0,1),0)))))))))))) -> 0 | AZ35: =IF(R$30="",1,IF(R$4=99,1,IF(R35="",0,IF(R$30=$AQ$1,IF(ISNA(MATCH(R35,$AN$30:$AO$30,0)),0,1),IF(R$30=$AR$1,IF(IFERROR(R35*1,"bad")="bad",0,1),IF(R$30=$AS$1,IF(IFERROR(IF(R35=TRUNC(R35),1,"bad"),"bad")="bad",0,1),IF(R$30=$AT$1,IF(AND(IF(IFERROR(R35*1,"bad")="bad",0,1)=1,R35>=0),1,0),IF(R$30=$AU$1,IF(AND(IF(IFERROR(IF(R35=TRUNC(R35),1,"bad"),"bad")="bad",0,1)=1,R35>=0),1,0),IF(R$30=$AV$1,IF(AND(IF(IFERROR(R35*1,"bad")="bad",0,1)=1,R35>0),1,0),IF(R$30=$AW$1,IF(AND(IF(IFERROR(IF(R35=TRUNC(R35),1,"bad"),"bad")="bad",0,1)=1,R35>0),1,0),IF(R$30=$AX$1,1,IF(R$30=$AY$1,IF(IFERROR(HLOOKUP(R35,$AQ$4:$AZ$4,1,0),"bad")="bad",0,1),0)))))))))))) -> 0 | ... BR35: =IF(AJ$30="",1,IF(AJ$4=99,1,IF(AJ35="",0,IF(AJ$30=$AQ$1,IF(ISNA(MATCH(AJ35,$AN$30:$AO$30,0)),0,1),IF(AJ$30=$AR$1,IF(IFERROR(AJ35*1,"bad")="bad",0,1),IF(AJ$30=$AS$1,IF(IFERROR(IF(AJ35=TRUNC(AJ35),1,"bad"),"bad")="bad",0,1),IF(AJ$30=$AT$1,IF(AND(IF(IFERROR(AJ35*1,"bad")="bad",0,1)=1,AJ35>=0),1,0),IF(AJ$30=$AU$1,IF(AND(IF(IFERROR(IF(AJ35=TRUNC(AJ35),1,"bad"),"bad")="bad",0,1)=1,AJ35>=0),1,0),IF(AJ$30=$AV$1,IF(AND(IF(IFERROR(AJ35*1,"bad")="bad",0,1)=1,AJ35>0),1,0),IF(AJ$30=$AW$1,IF(AND(IF(IFERROR(IF(AJ35=TRUNC(AJ35),1,"bad"),"bad")="bad",0,1)=1,AJ35>0),1,0),IF(AJ$30=$AX$1,1,IF(AJ$30=$AY$1,IF(IFERROR(HLOOKUP(AJ35,$AQ$4:$AZ$4,1,0),"bad")="bad",0,1),0)))))))))))) -> 1 | BS35: =IF(AK$30="",1,IF(AK35="",0,IF(AK$30=$AQ$1,IF(ISNA(MATCH(AK35,$AN$30:$AO$30,0)),0,1),IF(AK$30=$AR$1,IF(IFERROR(AK35*1,"bad")="bad",0,1),IF(AK$30=$AS$1,IF(IFERROR(IF(AK35=TRUNC(AK35),1,"bad"),"bad")="bad",0,1),IF(AK$30=$AT$1,IF(AND(IF(IFERROR(AK35*1,"bad")="bad",0,1)=1,AK35>=0),1,0),IF(AK$30=$AU$1,IF(AND(IF(IFERROR(IF(AK35=TRUNC(AK35),1,"bad"),"bad")="bad",0,1)=1,AK35>=0),1,0),IF(AK$30=$AV$1,IF(AND(IF(IFERROR(AK35*1,"bad")="bad",0,1)=1,AK35>0),1,0),IF(AK$30=$AW$1,IF(AND(IF(IFERROR(IF(AK35=TRUNC(AK35),1,"bad"),"bad")="bad",0,1)=1,AK35>0),1,0),IF(AK$30=$AX$1,1,IF(AK$30=$AY$1,IF(IFERROR(HLOOKUP(AK35,$AQ$4:$AZ$4,1,0),"bad")="bad",0,1),0))))))))))) -> 1 | BX35: =IF($F35="","",BX$30) | BY35: =IF($F35="","",BY$30) | BZ35: =IF($F35="","",BZ$30) | CA35: =IF($F35="","",CA$30) | CB35: =IF($F35="","",CB$30) | CC35: =IF($F35="","",CC$30) | CD35: =IF($F35="","",CD$30) | CE35: =IF($F35="","",CE$30) | ... CG35: =IF($F35="","",CG$30)
