Workbook

Sheet ProtectSettings
B1: 0.49666995
B2: 45501.431
A6: AllowFilterCheckBox
A7: AllowFormattingCheckBox
A8: AllowColumnFormattingCheckBox | B8: TRUE
A9: AllowRowFormattingCheckBox | B9: TRUE
B21: 1 | C21: ProtectSettings
B22: 2 | C22: הדרכה למשתמש
B23: 3 | C23: פרמטרים לקריטריונים
B24: 4 | C24: הוראת שעה
B25: 5 | C25: תנאי סף
B26: 6 | C26: עדיפות לפריפריה
B27: 7 | C27: מספר המשתתפים
B28: 8 | C28: ייחודיות ומורכבות
B29: 9 | C29: מספר הרצות
B30: 10 | C30: הערכה כללית ותרומה לקהילה
B31: 11 | C31: תקציב הפעילות
B32: 12 | C32: התחשיב הבסיסי
... B41: 21 | C41: סיכום לועדה - תוצאות

Sheet הדרכה למשתמש
B2: הדרכה למשתמש
B4: תאריך בניית המודל | C4: 42917
B5: תאריך עדכון מודל | C5: 42795
B7: המודל מותאם באופן אוטומטי להוראות מעבר של 2017 ו-2018
B9: הוראת שעה/מעבר:
B11: הדרכה להזנת נתונים
B12: צבע התא | C12: מטרת התא | D12: דגש
B13: צהוב | C13: הזנת נתונים | D13: נדרש להזין מידע בהתאם להנחיות מבחן התמיכה, אי הזנה של תא יכולה להביא לידי שגיאה בתוצאות במודל. למעט גיליון "ניוד מופעים לפרפירה" בו אי הזנת נתון במספר הרצות משמעו 0 הרצות.
B14: חום | C14: הצגת מידע | D14: תא שאיננו מיועד להזנה. תא זה מציג מידע עפ"י נוסחה קבועה ואין לשנות אותה.
B15: אדום | C15: התראת שגיאה | D15: קיימת שגיאה בהזנת נתונים באחד מהתאים המיועדים להזנה, נדרש להזין את הנתונים הנדרשים לפני קביעת גובה תמיכה סופי.
B17: את רשימת המוסדות יש להזין בגיליון תנאי הסף
B33: ניהול גרסאות
B34: מספר גרסה | C34: תאריך עדכון גרסה | D34: תאריך גרסה של מבחן תמיכה | E34: התאמות נוספות של מבחן תמיכה
B35: 1 | C35: 42932 | E35: בניית מודל

Sheet פרמטרים לקריטריונים
B2: מודל שיתופי פעולה של גופי תרבות עם יוצרים מקומיים
B4: שנת תקציב | C4: 2025
B5: תקציב התמיכה | C5: 2100000
B9: הגדרות
B10: הגדרת שנה | C10: תאריך התחלה | D10: תאריך סיום
B11: שנת התמיכה/תקציב | C11: =DATE($C$4,1,1) -> 45658 | D11: =DATE($C$4,12,31) -> 46022
B12: שנת ההערכה | C12: =DATE($C$4,1,1) -> 45658 | D12: =DATE($C$4,12,31) -> 46022
B13: שנת התקציב המבוקר | C13: =DATE($C$4-3,1,1) -> 44562 | D13: =DATE($C$4-3,12,31) -> 44926
B25: מקדם מוסד
B26: סעיף | C26: מקדם לניקוד
B27: מוסד שרוב האמנים המשתתפים בפעילות הנתמכה הינם בעלי מוגבלות | C27: 1.4
B30: משקולות קריטריונים
B31: סעיף | C31: משקל | D31: החלת מקדם
B32: עדיפות לפריפריה | C32: 0.25 | D32: 1
B33: מספר המשתתפים | C33: 0.27 | D33: 1
B34: ייחודיות ומורכבות | C34: 0.1 | D34: 1
B35: מספר הרצות | C35: 0.28 | D35: 1
B36: הערכה כללית ותרומה לקהילה | C36: 0.1 | D36: 1
B58: סה"כ | C58: =SUM(C32:C57) -> 1
B60: ="פרמטרים לחישוב ניקוד משתנה "&$B$32 -> פרמטרים לחישוב ניקוד משתנה עדיפות לפריפריה
B61: סיווג למ"ס של היישוב בו נמצא המוסד | C61: ניקוד
B62: 1 | C62: 10
B63: 2 | C63: 8
B64: 3 | C64: 6
B65: 4 | C65: 4
B66: 5 | C66: 3
B67: 6 ומעלה | C67: 0
C68: 0
B71: אשכול | C71: ניקוד
B72: 1 | C72: 10
B73: 2 | C73: 8
B74: 3 | C74: 6
B75: 4 | C75: 4
B76: 5R | C76: 4 | D76: באר שבע
B77: 5 ומעלה | C77: 0
B78: אשכול | C78: מקדם
B79: 6 | C79: 1
B80: 7 | C80: 1
B81: 8 | C81: 0.5
B82: סעיף | C82: ניקוד
B83: מוסד ש-75% לפחות מהמשתתפים בפעילותו השוטפת הם מקרב מגזר ייחודי | C83: 5
B85: סעיף | C85: מקדם
B86: מוסד נמצא באזור עדיפות לאומית | C86: 1.2
B88: סעיף | C88: ניקוד
B98: ="פרמטרים לחישוב ניקוד משתנה "&$B$33 -> פרמטרים לחישוב ניקוד משתנה מספר המשתתפים
B99: סעיף | C99: ניקוד
B100: ניקוד מקסימלי | C100: 10
B101: מספר משתתפים מזערי | C101: 12
B128: ="פרמטרים לחישוב ניקוד משתנה "&$B$34 -> פרמטרים לחישוב ניקוד משתנה ייחודיות ומורכבות
B129: רמת ייחודיות ומורכבות הפעילות | C129: ניקוד
B130: מידה מועטה | C130: 1
B131: מידה בינונית | C131: 2
B132: מידה מרובה | C132: 3
B158: ="פרמטרים לחישוב ניקוד משתנה "&$B$35 -> פרמטרים לחישוב ניקוד משתנה מספר הרצות
B159: סעיף | C159: ניקוד
B160: ניקוד מקסימלי | C160: 10
B188: ="פרמטרים לחישוב ניקוד משתנה "&$B$36 -> פרמטרים לחישוב ניקוד משתנה הערכה כללית ותרומה לקהילה
B189: איכות לפי המלצת המדור | C189: ניקוד
B190: איכות מצוינת | C190: 5
B191: איכות טובה מאוד | C191: 3
B192: איכות טובה | C192: 2
B193: איכות בינונית | C193: 1

Sheet הוראת שעה
A4: האם חלה הוראת השעה בשנה הספציפית
A5: שנה | C5: גובה הגנה
A6: 2016
A7: =A6+1 -> 2017 | C7: #N/A
A8: =A7+1 -> 2018 | C8: 0.9
A9: =A8+1 -> 2019 | C9: 0.85
A10: =A9+1 -> 2020 | C10: 0
A11: =A10+1 -> 2021 | C11: 0
A12: =A11+1 -> 2022 | C12: 0.85
A13: =A12+1 -> 2023 | C13: 0.75
A14: =A13+1 -> 2024 | C14: 0
A15: =A14+1 -> 2025 | C15: 0
A16: =A15+1 -> 2026 | C16: 0
A17: =A16+1 -> 2027 | C17: 0
A18: =A17+1 -> 2028 | C18: 0
A19: =A18+1 -> 2029 | C19: 0
A20: =A19+1 -> 2030 | C20: 0
C22: משפיע על הגנה בגיליון פרמטרים לעיקרון חישוב התמיכה

Sheet תנאי סף
B1: =MID(CELL("filename",AO2),FIND("]",CELL("filename",AO2),1)+1,99) -> תנאי סף | AN1: בדוק נתוני הזנה | AP1: סוגי בקרות | AQ1: 0/1 | AR1: מספר | AS1: מספר שלם | AT1: מספר שאינו שלילי | AU1: מספר שלם שאינו שלילי | AV1: מספר חיובי | AW1: מספר שלם חיובי | AX1: טקסט | AY1: טקסט מרשימה סגורה
AK2: ='פרמטרים לקריטריונים'!$B$4 -> שנת תקציב | AL2: ='פרמטרים לקריטריונים'!$C$4 -> 2025 | AQ2: =IF(ISNA(MATCH(H31,$AN$30:$AO$30,0)),0,1) -> 0 | AR2: =IF(IFERROR(H31*1,"bad")="bad",0,1) -> 1 | AS2: =IF(IFERROR(IF(H31=TRUNC(H31),1,"bad"),"bad")="bad",0,1) -> 1 | AT2: =IF(AND(IF(IFERROR(H31*1,"bad")="bad",0,1)=1,H31>=0),1,0) -> 1 | AU2: =IF(AND(IF(IFERROR(IF(H31=TRUNC(H31),1,"bad"),"bad")="bad",0,1)=1,H31>=0),1,0) -> 1 | AV2: =IF(AND(IF(IFERROR(H31*1,"bad")="bad",0,1)=1,H31>0),1,0) -> 1 | AW2: =IF(AND(IF(IFERROR(IF(H31=TRUNC(H31),1,"bad"),"bad")="bad",0,1)=1,H31>0),1,0) -> 1 | AX2: 1 | AY2: =IF(IFERROR(HLOOKUP(H31,$BX$30:$CH$30,1,0),"bad")="bad",0,1) -> 0
AK3: ='פרמטרים לקריטריונים'!$B$5 -> תקציב התמיכה | AL3: ='פרמטרים לקריטריונים'!$C$5 -> 2100000 | AO3: =IF(H$30="",1,IF(H31="",0,IF(H$30=$AQ$1,11,IF(H$30=$AR$1,12,IF(H$30=$AEY1,13,IF(H$30=$AT$1,14,IF(H$30=$AU$1,15,IF(H$30=$AV$1,16,IF(H$30=$AW$1,17,IF(H$30=$AX$1,18,IF(H$30=$AY$1,19,0))))))))))) -> 15 | AP3: מספר בקרה | AQ3: 1 | AR3: 2 | AS3: 3 | AT3: 4 | AU3: 5 | AV3: 6 | AW3: 7 | AX3: 8 | AY3: 9
F4: רלוונטי למבחן עמידה בתנאי סף? 1=רלוונטי. 0= לא רלוונטי אבל נדרשת בקרה על הזנת נתונים. 99= לא רלוונטי ולא נדרשת בקרה על הזנת נתונים | G4: 1 | H4: 0 | I4: 0 | J4: 1 | K4: 1 | L4: 1 | M4: 1 | N4: 1 | O4: 1 | P4: 1 | Q4: 1 | R4: 1 | S4: 1 | T4: 1 | U4: 1 | V4: 1 | W4: 1 | X4: 1 | Y4: 1 | Z4: 0 | AA4: 1 | AB4: 1 | AC4: 1 | AD4: 1 | AE4: 1 | AF4: 1 | AJ4: 99 | AP4: רשימה סגורה | AQ4: 1 | AR4: 2 | AS4: 3 | AT4: 4 | AU4: 5 | AV4: 6 | AW4: 7 | AX4: 8 | AY4: 9 | AZ4: 10
H5: =H29 -> תקציב הפרויקט כפי שהוגש על ידי הגוף | K5: =K29 -> כל האמנים בני 15 ומעלה | L5: =L29 -> הפעילות אינה במסגרת קונסרבטוריון נתמך/מתוקצב | M5: =M29 -> הפעילות השוטפת נשוא הבקשה נעשית ברובה בפריפריה או לפחות 50% מהמשתתפים בפעילות השוטפת ממגזר ייחודי | N5: =N29 -> פעילות המוסד הינה ברמה אמנותית נאותה | O5: =O29 -> לרשות מקומית: ברשות פועלת מחלקה לתרבות ואמנות בראשה מנהל בחצי משרה לפחות | R5: =R29 -> המוסד הינו גוף או איגוד מקצועי בעל ניסיון של 3 שנים לפחות בתחום התרבות והאמנות | S5: =S29 -> המוסד קיבל תמיכה ממינהל התרבות בשנת ההערכה בתחומים נבחרים כאמור במבחן, סעיף 11(1) | T5: =T29 -> הרשות המקומית בשטחה מתקיימת הפעילות שותפה לפעילות באמצעות גורם מקצועי מטעמה | U5: =U29 -> המוסד מגיש הבקשה לתמיכה בשנת התמיכה צירף לבקשתו תכנית עבודה מפורטת בנוגע לפרויקט הכוללת בין השאר את יעדי הפרויקט, אבני דרך להתקדמות והצעת תקציב לפרויקט | V5: =V29 -> הפעילות כוללת הפקה והתקיימו 3 הרצות של אותה הפקה לפחות | W5: =W29 -> מספר אמנים ויוצרים המשתתפים בפעילות, לרבות בהפקה, מקרב הפריפריה: | X5: =X29 -> בפעילות משתתפים, מטעם מוסד התרבות המקצועי המלווה את הפעילות, 5 אמנים ויוצרים מקצועיים לפחות, שהם בעלי ניסיון ומוניטין בתחום הפעילות נשוא בקשת התמיכה | Y5: =Y29 -> המוסד לא קיבל תמיכה בעבור פעילות זו ביישוב זה במשך יותר משנתיים רצופות | ... AB5: =AB29 -> מטרות המוסד כמפורט במסמכי היסוד שלו ואופן פעולתו עולים בקנה אחד עם מטרות התמיכה המפורטות במבחנים | AI5: =AI29 -> 0 | AJ5: =AJ29 -> מעבר תנאי סף-אישור מיוחד
F6: ערך למעבר תנאי סף | G6: 1 | J6: 1 | K6: 1 | L6: 1 | M6: 1 | N6: 1 | O6: 1 | P6: 1 | Q6: 1 | R6: 1 | S6: 1 | T6: 1 | U6: 1 | V6: 1 | W6: 12 | X6: 1 | Y6: 1 | AA6: 1 | AB6: 1 | AC6: 1 | AD6: 1 | AE6: 1 | AF6: 1
G7: סעיף 8 | H7: סעיף 11 (4) | I7: סעיף 11 (4) | J7: סעיף 11 (4) | K7: סעיף 9 (1) | L7: סעיף 9 (2) | M7: סעיף 9 (3) | N7: סעיף 9 (4) | O7: סעיף 9 (11) (א) | P7: סעיף 9 (11) (ב) | Q7: סעיף 9 (12) | R7: סעיף 11 (1) | S7: סעיף 11 (1) | T7: סעיף 11 (2) | U7: סעיף 11 (3) | V7: סעיף 11 (5) | W7: סעיף 11 (6) | X7: סעיף 11 (7) | Y7: סעיף 11 (8) | Z7: סעיף 7 (ו) | AA7: סעיף 9 (5) | AB7: סעיף 9 (6) | AC7: סעיף 9 (7) | AD7: סעיף 9 (8) | AE7: סעיף 9 (9) | AF7: סעיף 9 (10)
B24: סה"כ | H24: =SUM(H30:H130) -> 2595800 | K24: =SUM(K30:K130) -> 6 | L24: =SUM(L30:L130) -> 6 | M24: =SUM(M30:M130) -> 6 | N24: =SUM(N30:N130) -> 6 | O24: =SUM(O30:O130) -> 6 | P24: =SUM(P30:P130) -> 6 | R24: =SUM(R30:R130) -> 6 | S24: =SUM(S30:S130) -> 6 | T24: =SUM(T30:T130) -> 6 | U24: =SUM(U30:U130) -> 6 | V24: =SUM(V30:V130) -> 6 | W24: =SUM(W30:W130) -> 157 | X24: =SUM(X30:X130) -> 6 | Y24: =SUM(Y30:Y130) -> 6 | ... AB24: =SUM(AB30:AB130) -> 6 | AI24: =SUM(AI30:AI130) -> 0 | AJ24: =SUM(AJ30:AJ130) -> 0 | AK24: =SUM(AK30:AK130) -> 6
B25: בדיקת תא שורה 30 | H25: =IF(H30="",1,IF(IFERROR(HLOOKUP(H30,$AP$1:$BR$2,1,0),0)=0,0,1)) -> 1 | K25: =IF(K30="",1,IF(IFERROR(HLOOKUP(K30,$AM$1:$BL$2,1,0),0)=0,0,1)) -> 1 | L25: =IF(L30="",1,IF(IFERROR(HLOOKUP(L30,$AM$1:$BL$2,1,0),0)=0,0,1)) -> 1 | M25: =IF(M30="",1,IF(IFERROR(HLOOKUP(M30,$AM$1:$BL$2,1,0),0)=0,0,1)) -> 1 | N25: =IF(N30="",1,IF(IFERROR(HLOOKUP(N30,$AM$1:$BL$2,1,0),0)=0,0,1)) -> 1 | O25: =IF(O30="",1,IF(IFERROR(HLOOKUP(O30,$AM$1:$BL$2,1,0),0)=0,0,1)) -> 1 | P25: =IF(P30="",1,IF(IFERROR(HLOOKUP(P30,$AL$1:$BK$2,1,0),0)=0,0,1)) -> 1 | R25: =IF(R30="",1,IF(IFERROR(HLOOKUP(R30,$AP$1:$BR$2,1,0),0)=0,0,1)) -> 1 | S25: =IF(S30="",1,IF(IFERROR(HLOOKUP(S30,$AP$1:$BR$2,1,0),0)=0,0,1)) -> 1 | T25: =IF(T30="",1,IF(IFERROR(HLOOKUP(T30,$AP$1:$BR$2,1,0),0)=0,0,1)) -> 1 | U25: =IF(U30="",1,IF(IFERROR(HLOOKUP(U30,$AP$1:$BR$2,1,0),0)=0,0,1)) -> 1 | V25: =IF(V30="",1,IF(IFERROR(HLOOKUP(V30,$AP$1:$BR$2,1,0),0)=0,0,1)) -> 1 | W25: =IF(W30="",1,IF(IFERROR(HLOOKUP(W30,$AP$1:$BR$2,1,0),0)=0,0,1)) -> 1 | X25: =IF(X30="",1,IF(IFERROR(HLOOKUP(X30,$AP$1:$BR$2,1,0),0)=0,0,1)) -> 1 | Y25: =IF(Y30="",1,IF(IFERROR(HLOOKUP(Y30,$AP$1:$BR$2,1,0),0)=0,0,1)) -> 1 | ... AB25: =IF(AB30="",1,IF(IFERROR(HLOOKUP(AB30,$AP$1:$BR$2,1,0),0)=0,0,1)) -> 1 | AI25: =IF(AI30="",1,IF(IFERROR(HLOOKUP(AI30,$AP$1:$BR$2,1,0),0)=0,0,1)) -> 1 | AJ25: =IF(AJ30="",1,IF(IFERROR(HLOOKUP(AJ30,$AP$1:$BR$2,1,0),0)=0,0,1)) -> 1 | AK25: =IF(AK30="",1,IF(IFERROR(HLOOKUP(AK30,$AP$1:$BR$2,1,0),0)=0,0,1)) -> 1
B26: ספירת לא ריקים | F26: =$A$29-COUNTBLANK(F31:F130) -> 6 | H26: =$A$29-COUNTBLANK(H31:H130) -> 6 | K26: =$A$29-COUNTBLANK(K31:K130) -> 6 | L26: =$A$29-COUNTBLANK(L31:L130) -> 6 | M26: =$A$29-COUNTBLANK(M31:M130) -> 6 | N26: =$A$29-COUNTBLANK(N31:N130) -> 6 | O26: =$A$29-COUNTBLANK(O31:O130) -> 6 | P26: =$A$29-COUNTBLANK(P31:P130) -> 6 | R26: =$A$29-COUNTBLANK(R31:R130) -> 6 | S26: =$A$29-COUNTBLANK(S31:S130) -> 6 | T26: =$A$29-COUNTBLANK(T31:T130) -> 6 | U26: =$A$29-COUNTBLANK(U31:U130) -> 6 | V26: =$A$29-COUNTBLANK(V31:V130) -> 6 | W26: =$A$29-COUNTBLANK(W31:W130) -> 6 | X26: =$A$29-COUNTBLANK(X31:X130) -> 6 | Y26: =$A$29-COUNTBLANK(Y31:Y130) -> 6 | ... AB26: =$A$29-COUNTBLANK(AB31:AB130) -> 6 | AI26: =$A$29-COUNTBLANK(AI31:AI130) -> 0 | AJ26: =$A$29-COUNTBLANK(AJ31:AJ130) -> 0 | AK26: =$A$29-COUNTBLANK(AK31:AK130) -> 6
B27: ממוצע | H27: =AVERAGE(H31:H130) -> 432633.33 | K27: =AVERAGE(K31:K130) -> 1 | L27: =AVERAGE(L31:L130) -> 1 | M27: =AVERAGE(M31:M130) -> 1 | N27: =AVERAGE(N31:N130) -> 1 | O27: =AVERAGE(O31:O130) -> 1 | P27: =AVERAGE(P31:P130) -> 1 | R27: =AVERAGE(R31:R130) -> 1 | S27: =AVERAGE(S31:S130) -> 1 | T27: =AVERAGE(T31:T130) -> 1 | U27: =AVERAGE(U31:U130) -> 1 | V27: =AVERAGE(V31:V130) -> 1 | W27: =AVERAGE(W31:W130) -> 26.166667 | X27: =AVERAGE(X31:X130) -> 1 | Y27: =AVERAGE(Y31:Y130) -> 1 | ... AB27: =AVERAGE(AB31:AB130) -> 1 | AI27: =AVERAGE(AI31:AI130) -> #DIV/0! | AJ27: =AVERAGE(AJ31:AJ130) -> #DIV/0! | AK27: =AVERAGE(AK31:AK130) -> 1 | AL27: =AVERAGE(AL31:AL130) -> #DIV/0!
AM28: =IF(SUM(AM31:AM130)=COUNT(AM31:AM130),1,0) -> 0
A29: 100 | B29: מס"ד | C29: מספר מוסד | D29: מספר בקשה | E29: שם הבקשה | F29: שם המוסד | G29: המוסד עומד בתנאי סף כלליים | H29: תקציב הפרויקט כפי שהוגש על ידי הגוף | I29: התקציב המאושר ע"י המדור | J29: המדור בחן את פרטי התקציב של הפרויקט שצורפו לבקשת התמיכה, וקבע את העלות המאושרת לכל פרויקט | K29: כל האמנים בני 15 ומעלה | L29: הפעילות אינה במסגרת קונסרבטוריון נתמך/מתוקצב | M29: הפעילות השוטפת נשוא הבקשה נעשית ברובה בפריפריה או לפחות 50% מהמשתתפים בפעילות השוטפת ממגזר ייחודי | N29: פעילות המוסד הינה ברמה אמנותית נאותה | O29: לרשות מקומית: ברשות פועלת מחלקה לתרבות ואמנות בראשה מנהל בחצי משרה לפחות | P29: הרשות תחתום על כתב התחייבות לפי הוראות התכ"ם 6.2 בדבר תמיכה בגופים אחרים | Q29: במוסד בו מועסקים עובדים ביחסי עבודה, המוסד קבע תקנון למניעת הטרדה מינית ועומד בדרישות תקנה 8 לתקנות חובות מעסיק. המוסד צירף לבקשתו את התקנון ופרטים על ההתאמות בתקנון, פרסומו למסירתו. (במוסד בו אין מתכונת יחסי עבודה - יש לסמן 1 עבור תנאי זה) | R29: המוסד הינו גוף או איגוד מקצועי בעל ניסיון של 3 שנים לפחות בתחום התרבות והאמנות | S29: המוסד קיבל תמיכה ממינהל התרבות בשנת ההערכה בתחומים נבחרים כאמור במבחן, סעיף 11(1) | T29: הרשות המקומית בשטחה מתקיימת הפעילות שותפה לפעילות באמצעות גורם מקצועי מטעמה | U29: המוסד מגיש הבקשה לתמיכה בשנת התמיכה צירף לבקשתו תכנית עבודה מפורטת בנוגע לפרויקט הכוללת בין השאר את יעדי הפרויקט, אבני דרך להתקדמות והצעת תקציב לפרויקט | V29: הפעילות כוללת הפקה והתקיימו 3 הרצות של אותה הפקה לפחות | W29: מספר אמנים ויוצרים המשתתפים בפעילות, לרבות בהפקה, מקרב הפריפריה: | X29: בפעילות משתתפים, מטעם מוסד התרבות המקצועי המלווה את הפעילות, 5 אמנים ויוצרים מקצועיים לפחות, שהם בעלי ניסיון ומוניטין בתחום הפעילות נשוא בקשת התמיכה | Y29: המוסד לא קיבל תמיכה בעבור פעילות זו ביישוב זה במשך יותר משנתיים רצופות | Z29: לא נדרש למעבר תנאי סף: רוב האמנים המשתתפים בפעילות הנתמכת הינם בעלי מוגבלות | AA29: המוסד עומד בדרישות הנוהל, ובכלל זה יעמיד עצמו לביקורת המשרד בהתאם לדינים החלים עליו, להוראות הנוהל ולהחלטות הממשלה | AB29: מטרות המוסד כמפורט במסמכי היסוד שלו ואופן פעולתו עולים בקנה אחד עם מטרות התמיכה המפורטות במבחנים | AC29: המוסד משתמש בכספי התמיכה רק למטרות שלשמן ניתנו | AD29: המוסד מציין בפרסומיו כי הפעילות הנתמכת מבוצעת בתמיכת המשרד | AE29: המוסד מקיים את הוראות החוק הרלבנטיות לפעילותו, מקפיד על כללי ניהול תקין ושומר על שקיפות מלאה באורחות התנהלותו באופן ההולם את מטרותיו הציבוריות | AF29: המוסד פועל ביעילות ובתקורה מינימאלית, שמאפשרת את פעילותו התקינה והראויה, לרבות בהתאם לנוהל ובהתאם להוראות החשב הכללי במשרד האוצר לעניין הוצאות הנהלה וכלליות | AJ29: מעבר תנאי סף-אישור מיוחד | AK29: מעבר תנאי סף | AL29: הערות | AM29: בקרה ראשית | AP29: ="בקרת "&H29 -> בקרת תקציב הפרויקט כפי שהוגש על ידי הגוף | AQ29: ="בקרת "&I29 -> בקרת התקציב המאושר ע"י המדור | AR29: ="בקרת "&J29 -> בקרת המדור בחן את פרטי התקציב של הפרויקט שצורפו לבקשת התמיכה, וקבע את העלות המאושרת לכל פרויקט | AS29: ="בקרת "&K29 -> בקרת כל האמנים בני 15 ומעלה | AT29: ="בקרת "&L29 -> בקרת הפעילות אינה במסגרת קונסרבטוריון נתמך/מתוקצב | AU29: ="בקרת "&M29 -> בקרת הפעילות השוטפת נשוא הבקשה נעשית ברובה בפריפריה או לפחות 50% מהמשתתפים בפעילות השוטפת ממגזר ייחודי | AV29: ="בקרת "&N29 -> בקרת פעילות המוסד הינה ברמה אמנותית נאותה | AW29: ="בקרת "&O29 -> בקרת לרשות מקומית: ברשות פועלת מחלקה לתרבות ואמנות בראשה מנהל בחצי משרה לפחות | ... BS29: ="בקרת "&AK29 -> בקרת מעבר תנאי סף | BX29: רשימה סגורה
G30: 0/1 | H30: מספר שלם שאינו שלילי | I30: מספר שלם שאינו שלילי | K30: 0/1 | L30: 0/1 | M30: 0/1 | N30: 0/1 | O30: 0/1 | P30: 0/1 | Q30: 0/1 | R30: 0/1 | S30: 0/1 | T30: 0/1 | U30: 0/1 | V30: 0/1 | W30: מספר שלם שאינו שלילי | X30: 0/1 | Y30: 0/1 | Z30: 0/1 | AA30: 0/1 | AB30: 0/1 | AC30: 0/1 | AD30: 0/1 | AE30: 0/1 | AF30: 0/1 | AJ30: 0/1 | AL30: טקסט | AN30: 0 | AO30: 1 | AP30: =H30 -> מספר שלם שאינו שלילי | AQ30: =I30 -> מספר שלם שאינו שלילי | AR30: =J30 -> 0 | AS30: =K30 -> 0/1 | AT30: =L30 -> 0/1 | AU30: =M30 -> 0/1 | AV30: =N30 -> 0/1 | AW30: =O30 -> 0/1 | ... BS30: =AK30 -> 0 | BX30: =AQ4 -> 1 | BY30: =AR4 -> 2 | BZ30: =AS4 -> 3 | CA30: =AT4 -> 4 | CB30: =AU4 -> 5 | CC30: =AV4 -> 6 | CD30: =AW4 -> 7 | CE30: =AX4 -> 8 | ... CG30: =AZ4 -> 10
B31: =IF(F31="","",ROW()-30) -> 1 | C31: 580450898 | D31: 1001843832 | E31: תזמורת הרחוב בקהילה - תחום ב' שתפ | F31: בר-קיימא לתרבות, אמנות, מוסיקה ושלום | G31: 1 | H31: 400000 | I31: 170000 | J31: =IF($F31="","",IF(AND(I31>0,I31<=H31),1,$AN$1)) -> 1 | K31: 1 | L31: 1 | M31: 1 | N31: 1 | O31: 1 | P31: 1 | Q31: 1 | R31: 1 | S31: 1 | T31: 1 | U31: 1 | V31: 1 | W31: 36 | X31: 1 | Y31: 1 | Z31: 0 | AA31: 1 | AB31: 1 | AC31: 1 | AD31: 1 | AE31: 1 | AF31: 1 | AK31: =IF($F31="","",IF(AJ31=1,1,IF(AM31<>1,$AN$1,IF(SUMPRODUCT(--(H31:AI31>=$H$6:$AI$6)*($H$6:$AI$6<>""))=COUNTIF($H$4:$AI$4,1),1,0)))) -> 1 | AL31: הגישו בשנת 2022-2023 את פעילות זו שהתקיימה בירושלים, עברו בשנת 2024 לבאר-שבע, ועכשיו חזרו לקיים את הפעילות בירושלים. | AM31: =IF(SUM(AP31:BS31)=COUNT(AP31:BS31),1,0) -> 1 | AN31: =IF($F31="","",AN$30) -> 0 | AO31: =IF($F31="","",AO$30) -> 1 | AP31: =IF(H$30="",1,IF(H$4=99,1,IF(H31="",0,IF(H$30=$AQ$1,IF(ISNA(MATCH(H31,$AN$30:$AO$30,0)),0,1),IF(H$30=$AR$1,IF(IFERROR(H31*1,"bad")="bad",0,1),IF(H$30=$AS$1,IF(IFERROR(IF(H31=TRUNC(H31),1,"bad"),"bad")="bad",0,1),IF(H$30=$AT$1,IF(AND(IF(IFERROR(H31*1,"bad")="bad",0,1)=1,H31>=0),1,0),IF(H$30=$AU$1,IF(AND(IF(IFERROR(IF(H31=TRUNC(H31),1,"bad"),"bad")="bad",0,1)=1,H31>=0),1,0),IF(H$30=$AV$1,IF(AND(IF(IFERROR(H31*1,"bad")="bad",0,1)=1,H31>0),1,0),IF(H$30=$AW$1,IF(AND(IF(IFERROR(IF(H31=TRUNC(H31),1,"bad"),"bad")="bad",0,1)=1,H31>0),1,0),IF(H$30=$AX$1,1,IF(H$30=$AY$1,IF(IFERROR(HLOOKUP(H31,$AQ$4:$AZ$4,1,0),"bad")="bad",0,1),0)))))))))))) -> 1 | AQ31: =IF(I$30="",1,IF(I$4=99,1,IF(I31="",0,IF(I$30=$AQ$1,IF(ISNA(MATCH(I31,$AN$30:$AO$30,0)),0,1),IF(I$30=$AR$1,IF(IFERROR(I31*1,"bad")="bad",0,1),IF(I$30=$AS$1,IF(IFERROR(IF(I31=TRUNC(I31),1,"bad"),"bad")="bad",0,1),IF(I$30=$AT$1,IF(AND(IF(IFERROR(I31*1,"bad")="bad",0,1)=1,I31>=0),1,0),IF(I$30=$AU$1,IF(AND(IF(IFERROR(IF(I31=TRUNC(I31),1,"bad"),"bad")="bad",0,1)=1,I31>=0),1,0),IF(I$30=$AV$1,IF(AND(IF(IFERROR(I31*1,"bad")="bad",0,1)=1,I31>0),1,0),IF(I$30=$AW$1,IF(AND(IF(IFERROR(IF(I31=TRUNC(I31),1,"bad"),"bad")="bad",0,1)=1,I31>0),1,0),IF(I$30=$AX$1,1,IF(I$30=$AY$1,IF(IFERROR(HLOOKUP(I31,$AQ$4:$AZ$4,1,0),"bad")="bad",0,1),0)))))))))))) -> 1 | AS31: =IF(K$30="",1,IF(K$4=99,1,IF(K31="",0,IF(K$30=$AQ$1,IF(ISNA(MATCH(K31,$AN$30:$AO$30,0)),0,1),IF(K$30=$AR$1,IF(IFERROR(K31*1,"bad")="bad",0,1),IF(K$30=$AS$1,IF(IFERROR(IF(K31=TRUNC(K31),1,"bad"),"bad")="bad",0,1),IF(K$30=$AT$1,IF(AND(IF(IFERROR(K31*1,"bad")="bad",0,1)=1,K31>=0),1,0),IF(K$30=$AU$1,IF(AND(IF(IFERROR(IF(K31=TRUNC(K31),1,"bad"),"bad")="bad",0,1)=1,K31>=0),1,0),IF(K$30=$AV$1,IF(AND(IF(IFERROR(K31*1,"bad")="bad",0,1)=1,K31>0),1,0),IF(K$30=$AW$1,IF(AND(IF(IFERROR(IF(K31=TRUNC(K31),1,"bad"),"bad")="bad",0,1)=1,K31>0),1,0),IF(K$30=$AX$1,1,IF(K$30=$AY$1,IF(IFERROR(HLOOKUP(K31,$AQ$4:$AZ$4,1,0),"bad")="bad",0,1),0)))))))))))) -> 1 | AT31: =IF(L$30="",1,IF(L$4=99,1,IF(L31="",0,IF(L$30=$AQ$1,IF(ISNA(MATCH(L31,$AN$30:$AO$30,0)),0,1),IF(L$30=$AR$1,IF(IFERROR(L31*1,"bad")="bad",0,1),IF(L$30=$AS$1,IF(IFERROR(IF(L31=TRUNC(L31),1,"bad"),"bad")="bad",0,1),IF(L$30=$AT$1,IF(AND(IF(IFERROR(L31*1,"bad")="bad",0,1)=1,L31>=0),1,0),IF(L$30=$AU$1,IF(AND(IF(IFERROR(IF(L31=TRUNC(L31),1,"bad"),"bad")="bad",0,1)=1,L31>=0),1,0),IF(L$30=$AV$1,IF(AND(IF(IFERROR(L31*1,"bad")="bad",0,1)=1,L31>0),1,0),IF(L$30=$AW$1,IF(AND(IF(IFERROR(IF(L31=TRUNC(L31),1,"bad"),"bad")="bad",0,1)=1,L31>0),1,0),IF(L$30=$AX$1,1,IF(L$30=$AY$1,IF(IFERROR(HLOOKUP(L31,$AQ$4:$AZ$4,1,0),"bad")="bad",0,1),0)))))))))))) -> 1 | AU31: =IF(M$30="",1,IF(M$4=99,1,IF(M31="",0,IF(M$30=$AQ$1,IF(ISNA(MATCH(M31,$AN$30:$AO$30,0)),0,1),IF(M$30=$AR$1,IF(IFERROR(M31*1,"bad")="bad",0,1),IF(M$30=$AS$1,IF(IFERROR(IF(M31=TRUNC(M31),1,"bad"),"bad")="bad",0,1),IF(M$30=$AT$1,IF(AND(IF(IFERROR(M31*1,"bad")="bad",0,1)=1,M31>=0),1,0),IF(M$30=$AU$1,IF(AND(IF(IFERROR(IF(M31=TRUNC(M31),1,"bad"),"bad")="bad",0,1)=1,M31>=0),1,0),IF(M$30=$AV$1,IF(AND(IF(IFERROR(M31*1,"bad")="bad",0,1)=1,M31>0),1,0),IF(M$30=$AW$1,IF(AND(IF(IFERROR(IF(M31=TRUNC(M31),1,"bad"),"bad")="bad",0,1)=1,M31>0),1,0),IF(M$30=$AX$1,1,IF(M$30=$AY$1,IF(IFERROR(HLOOKUP(M31,$AQ$4:$AZ$4,1,0),"bad")="bad",0,1),0)))))))))))) -> 1 | AV31: =IF(N$30="",1,IF(N$4=99,1,IF(N31="",0,IF(N$30=$AQ$1,IF(ISNA(MATCH(N31,$AN$30:$AO$30,0)),0,1),IF(N$30=$AR$1,IF(IFERROR(N31*1,"bad")="bad",0,1),IF(N$30=$AS$1,IF(IFERROR(IF(N31=TRUNC(N31),1,"bad"),"bad")="bad",0,1),IF(N$30=$AT$1,IF(AND(IF(IFERROR(N31*1,"bad")="bad",0,1)=1,N31>=0),1,0),IF(N$30=$AU$1,IF(AND(IF(IFERROR(IF(N31=TRUNC(N31),1,"bad"),"bad")="bad",0,1)=1,N31>=0),1,0),IF(N$30=$AV$1,IF(AND(IF(IFERROR(N31*1,"bad")="bad",0,1)=1,N31>0),1,0),IF(N$30=$AW$1,IF(AND(IF(IFERROR(IF(N31=TRUNC(N31),1,"bad"),"bad")="bad",0,1)=1,N31>0),1,0),IF(N$30=$AX$1,1,IF(N$30=$AY$1,IF(IFERROR(HLOOKUP(N31,$AQ$4:$AZ$4,1,0),"bad")="bad",0,1),0)))))))))))) -> 1 | AW31: =IF(O$30="",1,IF(O$4=99,1,IF(O31="",0,IF(O$30=$AQ$1,IF(ISNA(MATCH(O31,$AN$30:$AO$30,0)),0,1),IF(O$30=$AR$1,IF(IFERROR(O31*1,"bad")="bad",0,1),IF(O$30=$AS$1,IF(IFERROR(IF(O31=TRUNC(O31),1,"bad"),"bad")="bad",0,1),IF(O$30=$AT$1,IF(AND(IF(IFERROR(O31*1,"bad")="bad",0,1)=1,O31>=0),1,0),IF(O$30=$AU$1,IF(AND(IF(IFERROR(IF(O31=TRUNC(O31),1,"bad"),"bad")="bad",0,1)=1,O31>=0),1,0),IF(O$30=$AV$1,IF(AND(IF(IFERROR(O31*1,"bad")="bad",0,1)=1,O31>0),1,0),IF(O$30=$AW$1,IF(AND(IF(IFERROR(IF(O31=TRUNC(O31),1,"bad"),"bad")="bad",0,1)=1,O31>0),1,0),IF(O$30=$AX$1,1,IF(O$30=$AY$1,IF(IFERROR(HLOOKUP(O31,$AQ$4:$AZ$4,1,0),"bad")="bad",0,1),0)))))))))))) -> 1 | AX31: =IF(P$30="",1,IF(P$4=99,1,IF(P31="",0,IF(P$30=$AQ$1,IF(ISNA(MATCH(P31,$AN$30:$AO$30,0)),0,1),IF(P$30=$AR$1,IF(IFERROR(P31*1,"bad")="bad",0,1),IF(P$30=$AS$1,IF(IFERROR(IF(P31=TRUNC(P31),1,"bad"),"bad")="bad",0,1),IF(P$30=$AT$1,IF(AND(IF(IFERROR(P31*1,"bad")="bad",0,1)=1,P31>=0),1,0),IF(P$30=$AU$1,IF(AND(IF(IFERROR(IF(P31=TRUNC(P31),1,"bad"),"bad")="bad",0,1)=1,P31>=0),1,0),IF(P$30=$AV$1,IF(AND(IF(IFERROR(P31*1,"bad")="bad",0,1)=1,P31>0),1,0),IF(P$30=$AW$1,IF(AND(IF(IFERROR(IF(P31=TRUNC(P31),1,"bad"),"bad")="bad",0,1)=1,P31>0),1,0),IF(P$30=$AX$1,1,IF(P$30=$AY$1,IF(IFERROR(HLOOKUP(P31,$AQ$4:$AZ$4,1,0),"bad")="bad",0,1),0)))))))))))) -> 1 | AY31: =IF(Q$30="",1,IF(Q$4=99,1,IF(Q31="",0,IF(Q$30=$AQ$1,IF(ISNA(MATCH(Q31,$AN$30:$AO$30,0)),0,1),IF(Q$30=$AR$1,IF(IFERROR(Q31*1,"bad")="bad",0,1),IF(Q$30=$AS$1,IF(IFERROR(IF(Q31=TRUNC(Q31),1,"bad"),"bad")="bad",0,1),IF(Q$30=$AT$1,IF(AND(IF(IFERROR(Q31*1,"bad")="bad",0,1)=1,Q31>=0),1,0),IF(Q$30=$AU$1,IF(AND(IF(IFERROR(IF(Q31=TRUNC(Q31),1,"bad"),"bad")="bad",0,1)=1,Q31>=0),1,0),IF(Q$30=$AV$1,IF(AND(IF(IFERROR(Q31*1,"bad")="bad",0,1)=1,Q31>0),1,0),IF(Q$30=$AW$1,IF(AND(IF(IFERROR(IF(Q31=TRUNC(Q31),1,"bad"),"bad")="bad",0,1)=1,Q31>0),1,0),IF(Q$30=$AX$1,1,IF(Q$30=$AY$1,IF(IFERROR(HLOOKUP(Q31,$AQ$4:$AZ$4,1,0),"bad")="bad",0,1),0)))))))))))) -> 1 | AZ31: =IF(R$30="",1,IF(R$4=99,1,IF(R31="",0,IF(R$30=$AQ$1,IF(ISNA(MATCH(R31,$AN$30:$AO$30,0)),0,1),IF(R$30=$AR$1,IF(IFERROR(R31*1,"bad")="bad",0,1),IF(R$30=$AS$1,IF(IFERROR(IF(R31=TRUNC(R31),1,"bad"),"bad")="bad",0,1),IF(R$30=$AT$1,IF(AND(IF(IFERROR(R31*1,"bad")="bad",0,1)=1,R31>=0),1,0),IF(R$30=$AU$1,IF(AND(IF(IFERROR(IF(R31=TRUNC(R31),1,"bad"),"bad")="bad",0,1)=1,R31>=0),1,0),IF(R$30=$AV$1,IF(AND(IF(IFERROR(R31*1,"bad")="bad",0,1)=1,R31>0),1,0),IF(R$30=$AW$1,IF(AND(IF(IFERROR(IF(R31=TRUNC(R31),1,"bad"),"bad")="bad",0,1)=1,R31>0),1,0),IF(R$30=$AX$1,1,IF(R$30=$AY$1,IF(IFERROR(HLOOKUP(R31,$AQ$4:$AZ$4,1,0),"bad")="bad",0,1),0)))))))))))) -> 1 | ... BR31: =IF(AJ$30="",1,IF(AJ$4=99,1,IF(AJ31="",0,IF(AJ$30=$AQ$1,IF(ISNA(MATCH(AJ31,$AN$30:$AO$30,0)),0,1),IF(AJ$30=$AR$1,IF(IFERROR(AJ31*1,"bad")="bad",0,1),IF(AJ$30=$AS$1,IF(IFERROR(IF(AJ31=TRUNC(AJ31),1,"bad"),"bad")="bad",0,1),IF(AJ$30=$AT$1,IF(AND(IF(IFERROR(AJ31*1,"bad")="bad",0,1)=1,AJ31>=0),1,0),IF(AJ$30=$AU$1,IF(AND(IF(IFERROR(IF(AJ31=TRUNC(AJ31),1,"bad"),"bad")="bad",0,1)=1,AJ31>=0),1,0),IF(AJ$30=$AV$1,IF(AND(IF(IFERROR(AJ31*1,"bad")="bad",0,1)=1,AJ31>0),1,0),IF(AJ$30=$AW$1,IF(AND(IF(IFERROR(IF(AJ31=TRUNC(AJ31),1,"bad"),"bad")="bad",0,1)=1,AJ31>0),1,0),IF(AJ$30=$AX$1,1,IF(AJ$30=$AY$1,IF(IFERROR(HLOOKUP(AJ31,$AQ$4:$AZ$4,1,0),"bad")="bad",0,1),0)))))))))))) -> 1 | BS31: =IF(AK$30="",1,IF(AK31="",0,IF(AK$30=$AQ$1,IF(ISNA(MATCH(AK31,$AN$30:$AO$30,0)),0,1),IF(AK$30=$AR$1,IF(IFERROR(AK31*1,"bad")="bad",0,1),IF(AK$30=$AS$1,IF(IFERROR(IF(AK31=TRUNC(AK31),1,"bad"),"bad")="bad",0,1),IF(AK$30=$AT$1,IF(AND(IF(IFERROR(AK31*1,"bad")="bad",0,1)=1,AK31>=0),1,0),IF(AK$30=$AU$1,IF(AND(IF(IFERROR(IF(AK31=TRUNC(AK31),1,"bad"),"bad")="bad",0,1)=1,AK31>=0),1,0),IF(AK$30=$AV$1,IF(AND(IF(IFERROR(AK31*1,"bad")="bad",0,1)=1,AK31>0),1,0),IF(AK$30=$AW$1,IF(AND(IF(IFERROR(IF(AK31=TRUNC(AK31),1,"bad"),"bad")="bad",0,1)=1,AK31>0),1,0),IF(AK$30=$AX$1,1,IF(AK$30=$AY$1,IF(IFERROR(HLOOKUP(AK31,$AQ$4:$AZ$4,1,0),"bad")="bad",0,1),0))))))))))) -> 1 | BX31: =IF($F31="","",BX$30) -> 1 | BY31: =IF($F31="","",BY$30) -> 2 | BZ31: =IF($F31="","",BZ$30) -> 3 | CA31: =IF($F31="","",CA$30) -> 4 | CB31: =IF($F31="","",CB$30) -> 5 | CC31: =IF($F31="","",CC$30) -> 6 | CD31: =IF($F31="","",CD$30) -> 7 | CE31: =IF($F31="","",CE$30) -> 8 | ... CG31: =IF($F31="","",CG$30) -> 10
B32: =IF(F32="","",ROW()-30) -> 2 | C32: 580423283 | D32: 1001829897 | E32: תיאטרון קהילתי | F32: המרכז הרב תחומי לקידום אמנויות (ע"ר | G32: 1 | H32: 340000 | I32: 150000 | J32: =IF($F32="","",IF(AND(I32>0,I32<=H32),1,$AN$1)) -> 1 | K32: 1 | L32: 1 | M32: 1 | N32: 1 | O32: 1 | P32: 1 | Q32: 1 | R32: 1 | S32: 1 | T32: 1 | U32: 1 | V32: 1 | W32: 14 | X32: 1 | Y32: 1 | Z32: 0 | AA32: 1 | AB32: 1 | AC32: 1 | AD32: 1 | AE32: 1 | AF32: 1 | AK32: =IF($F32="","",IF(AJ32=1,1,IF(AM32<>1,$AN$1,IF(SUMPRODUCT(--(H32:AI32>=$H$6:$AI$6)*($H$6:$AI$6<>""))=COUNTIF($H$4:$AI$4,1),1,0)))) -> 1 | AM32: =IF(SUM(AP32:BS32)=COUNT(AP32:BS32),1,0) -> 1 | AN32: =IF($F32="","",AN$30) -> 0 | AO32: =IF($F32="","",AO$30) -> 1 | AP32: =IF(H$30="",1,IF(H$4=99,1,IF(H32="",0,IF(H$30=$AQ$1,IF(ISNA(MATCH(H32,$AN$30:$AO$30,0)),0,1),IF(H$30=$AR$1,IF(IFERROR(H32*1,"bad")="bad",0,1),IF(H$30=$AS$1,IF(IFERROR(IF(H32=TRUNC(H32),1,"bad"),"bad")="bad",0,1),IF(H$30=$AT$1,IF(AND(IF(IFERROR(H32*1,"bad")="bad",0,1)=1,H32>=0),1,0),IF(H$30=$AU$1,IF(AND(IF(IFERROR(IF(H32=TRUNC(H32),1,"bad"),"bad")="bad",0,1)=1,H32>=0),1,0),IF(H$30=$AV$1,IF(AND(IF(IFERROR(H32*1,"bad")="bad",0,1)=1,H32>0),1,0),IF(H$30=$AW$1,IF(AND(IF(IFERROR(IF(H32=TRUNC(H32),1,"bad"),"bad")="bad",0,1)=1,H32>0),1,0),IF(H$30=$AX$1,1,IF(H$30=$AY$1,IF(IFERROR(HLOOKUP(H32,$AQ$4:$AZ$4,1,0),"bad")="bad",0,1),0)))))))))))) -> 1 | AQ32: =IF(I$30="",1,IF(I$4=99,1,IF(I32="",0,IF(I$30=$AQ$1,IF(ISNA(MATCH(I32,$AN$30:$AO$30,0)),0,1),IF(I$30=$AR$1,IF(IFERROR(I32*1,"bad")="bad",0,1),IF(I$30=$AS$1,IF(IFERROR(IF(I32=TRUNC(I32),1,"bad"),"bad")="bad",0,1),IF(I$30=$AT$1,IF(AND(IF(IFERROR(I32*1,"bad")="bad",0,1)=1,I32>=0),1,0),IF(I$30=$AU$1,IF(AND(IF(IFERROR(IF(I32=TRUNC(I32),1,"bad"),"bad")="bad",0,1)=1,I32>=0),1,0),IF(I$30=$AV$1,IF(AND(IF(IFERROR(I32*1,"bad")="bad",0,1)=1,I32>0),1,0),IF(I$30=$AW$1,IF(AND(IF(IFERROR(IF(I32=TRUNC(I32),1,"bad"),"bad")="bad",0,1)=1,I32>0),1,0),IF(I$30=$AX$1,1,IF(I$30=$AY$1,IF(IFERROR(HLOOKUP(I32,$AQ$4:$AZ$4,1,0),"bad")="bad",0,1),0)))))))))))) -> 1 | AS32: =IF(K$30="",1,IF(K$4=99,1,IF(K32="",0,IF(K$30=$AQ$1,IF(ISNA(MATCH(K32,$AN$30:$AO$30,0)),0,1),IF(K$30=$AR$1,IF(IFERROR(K32*1,"bad")="bad",0,1),IF(K$30=$AS$1,IF(IFERROR(IF(K32=TRUNC(K32),1,"bad"),"bad")="bad",0,1),IF(K$30=$AT$1,IF(AND(IF(IFERROR(K32*1,"bad")="bad",0,1)=1,K32>=0),1,0),IF(K$30=$AU$1,IF(AND(IF(IFERROR(IF(K32=TRUNC(K32),1,"bad"),"bad")="bad",0,1)=1,K32>=0),1,0),IF(K$30=$AV$1,IF(AND(IF(IFERROR(K32*1,"bad")="bad",0,1)=1,K32>0),1,0),IF(K$30=$AW$1,IF(AND(IF(IFERROR(IF(K32=TRUNC(K32),1,"bad"),"bad")="bad",0,1)=1,K32>0),1,0),IF(K$30=$AX$1,1,IF(K$30=$AY$1,IF(IFERROR(HLOOKUP(K32,$AQ$4:$AZ$4,1,0),"bad")="bad",0,1),0)))))))))))) -> 1 | AT32: =IF(L$30="",1,IF(L$4=99,1,IF(L32="",0,IF(L$30=$AQ$1,IF(ISNA(MATCH(L32,$AN$30:$AO$30,0)),0,1),IF(L$30=$AR$1,IF(IFERROR(L32*1,"bad")="bad",0,1),IF(L$30=$AS$1,IF(IFERROR(IF(L32=TRUNC(L32),1,"bad"),"bad")="bad",0,1),IF(L$30=$AT$1,IF(AND(IF(IFERROR(L32*1,"bad")="bad",0,1)=1,L32>=0),1,0),IF(L$30=$AU$1,IF(AND(IF(IFERROR(IF(L32=TRUNC(L32),1,"bad"),"bad")="bad",0,1)=1,L32>=0),1,0),IF(L$30=$AV$1,IF(AND(IF(IFERROR(L32*1,"bad")="bad",0,1)=1,L32>0),1,0),IF(L$30=$AW$1,IF(AND(IF(IFERROR(IF(L32=TRUNC(L32),1,"bad"),"bad")="bad",0,1)=1,L32>0),1,0),IF(L$30=$AX$1,1,IF(L$30=$AY$1,IF(IFERROR(HLOOKUP(L32,$AQ$4:$AZ$4,1,0),"bad")="bad",0,1),0)))))))))))) -> 1 | AU32: =IF(M$30="",1,IF(M$4=99,1,IF(M32="",0,IF(M$30=$AQ$1,IF(ISNA(MATCH(M32,$AN$30:$AO$30,0)),0,1),IF(M$30=$AR$1,IF(IFERROR(M32*1,"bad")="bad",0,1),IF(M$30=$AS$1,IF(IFERROR(IF(M32=TRUNC(M32),1,"bad"),"bad")="bad",0,1),IF(M$30=$AT$1,IF(AND(IF(IFERROR(M32*1,"bad")="bad",0,1)=1,M32>=0),1,0),IF(M$30=$AU$1,IF(AND(IF(IFERROR(IF(M32=TRUNC(M32),1,"bad"),"bad")="bad",0,1)=1,M32>=0),1,0),IF(M$30=$AV$1,IF(AND(IF(IFERROR(M32*1,"bad")="bad",0,1)=1,M32>0),1,0),IF(M$30=$AW$1,IF(AND(IF(IFERROR(IF(M32=TRUNC(M32),1,"bad"),"bad")="bad",0,1)=1,M32>0),1,0),IF(M$30=$AX$1,1,IF(M$30=$AY$1,IF(IFERROR(HLOOKUP(M32,$AQ$4:$AZ$4,1,0),"bad")="bad",0,1),0)))))))))))) -> 1 | AV32: =IF(N$30="",1,IF(N$4=99,1,IF(N32="",0,IF(N$30=$AQ$1,IF(ISNA(MATCH(N32,$AN$30:$AO$30,0)),0,1),IF(N$30=$AR$1,IF(IFERROR(N32*1,"bad")="bad",0,1),IF(N$30=$AS$1,IF(IFERROR(IF(N32=TRUNC(N32),1,"bad"),"bad")="bad",0,1),IF(N$30=$AT$1,IF(AND(IF(IFERROR(N32*1,"bad")="bad",0,1)=1,N32>=0),1,0),IF(N$30=$AU$1,IF(AND(IF(IFERROR(IF(N32=TRUNC(N32),1,"bad"),"bad")="bad",0,1)=1,N32>=0),1,0),IF(N$30=$AV$1,IF(AND(IF(IFERROR(N32*1,"bad")="bad",0,1)=1,N32>0),1,0),IF(N$30=$AW$1,IF(AND(IF(IFERROR(IF(N32=TRUNC(N32),1,"bad"),"bad")="bad",0,1)=1,N32>0),1,0),IF(N$30=$AX$1,1,IF(N$30=$AY$1,IF(IFERROR(HLOOKUP(N32,$AQ$4:$AZ$4,1,0),"bad")="bad",0,1),0)))))))))))) -> 1 | AW32: =IF(O$30="",1,IF(O$4=99,1,IF(O32="",0,IF(O$30=$AQ$1,IF(ISNA(MATCH(O32,$AN$30:$AO$30,0)),0,1),IF(O$30=$AR$1,IF(IFERROR(O32*1,"bad")="bad",0,1),IF(O$30=$AS$1,IF(IFERROR(IF(O32=TRUNC(O32),1,"bad"),"bad")="bad",0,1),IF(O$30=$AT$1,IF(AND(IF(IFERROR(O32*1,"bad")="bad",0,1)=1,O32>=0),1,0),IF(O$30=$AU$1,IF(AND(IF(IFERROR(IF(O32=TRUNC(O32),1,"bad"),"bad")="bad",0,1)=1,O32>=0),1,0),IF(O$30=$AV$1,IF(AND(IF(IFERROR(O32*1,"bad")="bad",0,1)=1,O32>0),1,0),IF(O$30=$AW$1,IF(AND(IF(IFERROR(IF(O32=TRUNC(O32),1,"bad"),"bad")="bad",0,1)=1,O32>0),1,0),IF(O$30=$AX$1,1,IF(O$30=$AY$1,IF(IFERROR(HLOOKUP(O32,$AQ$4:$AZ$4,1,0),"bad")="bad",0,1),0)))))))))))) -> 1 | AX32: =IF(P$30="",1,IF(P$4=99,1,IF(P32="",0,IF(P$30=$AQ$1,IF(ISNA(MATCH(P32,$AN$30:$AO$30,0)),0,1),IF(P$30=$AR$1,IF(IFERROR(P32*1,"bad")="bad",0,1),IF(P$30=$AS$1,IF(IFERROR(IF(P32=TRUNC(P32),1,"bad"),"bad")="bad",0,1),IF(P$30=$AT$1,IF(AND(IF(IFERROR(P32*1,"bad")="bad",0,1)=1,P32>=0),1,0),IF(P$30=$AU$1,IF(AND(IF(IFERROR(IF(P32=TRUNC(P32),1,"bad"),"bad")="bad",0,1)=1,P32>=0),1,0),IF(P$30=$AV$1,IF(AND(IF(IFERROR(P32*1,"bad")="bad",0,1)=1,P32>0),1,0),IF(P$30=$AW$1,IF(AND(IF(IFERROR(IF(P32=TRUNC(P32),1,"bad"),"bad")="bad",0,1)=1,P32>0),1,0),IF(P$30=$AX$1,1,IF(P$30=$AY$1,IF(IFERROR(HLOOKUP(P32,$AQ$4:$AZ$4,1,0),"bad")="bad",0,1),0)))))))))))) -> 1 | AY32: =IF(Q$30="",1,IF(Q$4=99,1,IF(Q32="",0,IF(Q$30=$AQ$1,IF(ISNA(MATCH(Q32,$AN$30:$AO$30,0)),0,1),IF(Q$30=$AR$1,IF(IFERROR(Q32*1,"bad")="bad",0,1),IF(Q$30=$AS$1,IF(IFERROR(IF(Q32=TRUNC(Q32),1,"bad"),"bad")="bad",0,1),IF(Q$30=$AT$1,IF(AND(IF(IFERROR(Q32*1,"bad")="bad",0,1)=1,Q32>=0),1,0),IF(Q$30=$AU$1,IF(AND(IF(IFERROR(IF(Q32=TRUNC(Q32),1,"bad"),"bad")="bad",0,1)=1,Q32>=0),1,0),IF(Q$30=$AV$1,IF(AND(IF(IFERROR(Q32*1,"bad")="bad",0,1)=1,Q32>0),1,0),IF(Q$30=$AW$1,IF(AND(IF(IFERROR(IF(Q32=TRUNC(Q32),1,"bad"),"bad")="bad",0,1)=1,Q32>0),1,0),IF(Q$30=$AX$1,1,IF(Q$30=$AY$1,IF(IFERROR(HLOOKUP(Q32,$AQ$4:$AZ$4,1,0),"bad")="bad",0,1),0)))))))))))) -> 1 | AZ32: =IF(R$30="",1,IF(R$4=99,1,IF(R32="",0,IF(R$30=$AQ$1,IF(ISNA(MATCH(R32,$AN$30:$AO$30,0)),0,1),IF(R$30=$AR$1,IF(IFERROR(R32*1,"bad")="bad",0,1),IF(R$30=$AS$1,IF(IFERROR(IF(R32=TRUNC(R32),1,"bad"),"bad")="bad",0,1),IF(R$30=$AT$1,IF(AND(IF(IFERROR(R32*1,"bad")="bad",0,1)=1,R32>=0),1,0),IF(R$30=$AU$1,IF(AND(IF(IFERROR(IF(R32=TRUNC(R32),1,"bad"),"bad")="bad",0,1)=1,R32>=0),1,0),IF(R$30=$AV$1,IF(AND(IF(IFERROR(R32*1,"bad")="bad",0,1)=1,R32>0),1,0),IF(R$30=$AW$1,IF(AND(IF(IFERROR(IF(R32=TRUNC(R32),1,"bad"),"bad")="bad",0,1)=1,R32>0),1,0),IF(R$30=$AX$1,1,IF(R$30=$AY$1,IF(IFERROR(HLOOKUP(R32,$AQ$4:$AZ$4,1,0),"bad")="bad",0,1),0)))))))))))) -> 1 | ... BR32: =IF(AJ$30="",1,IF(AJ$4=99,1,IF(AJ32="",0,IF(AJ$30=$AQ$1,IF(ISNA(MATCH(AJ32,$AN$30:$AO$30,0)),0,1),IF(AJ$30=$AR$1,IF(IFERROR(AJ32*1,"bad")="bad",0,1),IF(AJ$30=$AS$1,IF(IFERROR(IF(AJ32=TRUNC(AJ32),1,"bad"),"bad")="bad",0,1),IF(AJ$30=$AT$1,IF(AND(IF(IFERROR(AJ32*1,"bad")="bad",0,1)=1,AJ32>=0),1,0),IF(AJ$30=$AU$1,IF(AND(IF(IFERROR(IF(AJ32=TRUNC(AJ32),1,"bad"),"bad")="bad",0,1)=1,AJ32>=0),1,0),IF(AJ$30=$AV$1,IF(AND(IF(IFERROR(AJ32*1,"bad")="bad",0,1)=1,AJ32>0),1,0),IF(AJ$30=$AW$1,IF(AND(IF(IFERROR(IF(AJ32=TRUNC(AJ32),1,"bad"),"bad")="bad",0,1)=1,AJ32>0),1,0),IF(AJ$30=$AX$1,1,IF(AJ$30=$AY$1,IF(IFERROR(HLOOKUP(AJ32,$AQ$4:$AZ$4,1,0),"bad")="bad",0,1),0)))))))))))) -> 1 | BS32: =IF(AK$30="",1,IF(AK32="",0,IF(AK$30=$AQ$1,IF(ISNA(MATCH(AK32,$AN$30:$AO$30,0)),0,1),IF(AK$30=$AR$1,IF(IFERROR(AK32*1,"bad")="bad",0,1),IF(AK$30=$AS$1,IF(IFERROR(IF(AK32=TRUNC(AK32),1,"bad"),"bad")="bad",0,1),IF(AK$30=$AT$1,IF(AND(IF(IFERROR(AK32*1,"bad")="bad",0,1)=1,AK32>=0),1,0),IF(AK$30=$AU$1,IF(AND(IF(IFERROR(IF(AK32=TRUNC(AK32),1,"bad"),"bad")="bad",0,1)=1,AK32>=0),1,0),IF(AK$30=$AV$1,IF(AND(IF(IFERROR(AK32*1,"bad")="bad",0,1)=1,AK32>0),1,0),IF(AK$30=$AW$1,IF(AND(IF(IFERROR(IF(AK32=TRUNC(AK32),1,"bad"),"bad")="bad",0,1)=1,AK32>0),1,0),IF(AK$30=$AX$1,1,IF(AK$30=$AY$1,IF(IFERROR(HLOOKUP(AK32,$AQ$4:$AZ$4,1,0),"bad")="bad",0,1),0))))))))))) -> 1 | BX32: =IF($F32="","",BX$30) -> 1 | BY32: =IF($F32="","",BY$30) -> 2 | BZ32: =IF($F32="","",BZ$30) -> 3 | CA32: =IF($F32="","",CA$30) -> 4 | CB32: =IF($F32="","",CB$30) -> 5 | CC32: =IF($F32="","",CC$30) -> 6 | CD32: =IF($F32="","",CD$30) -> 7 | CE32: =IF($F32="","",CE$30) -> 8 | ... CG32: =IF($F32="","",CG$30) -> 10
B33: =IF(F33="","",ROW()-30) -> 3 | C33: 580503613 | D33: 1001842875 | E33: שיתוף פעולה מרכז מחול עמק הירדן 2025 | F33: להקת המחול הקיבוצית (ע"ר) | G33: 1 | H33: 200000 | I33: 150000 | J33: =IF($F33="","",IF(AND(I33>0,I33<=H33),1,$AN$1)) -> 1 | K33: 1 | L33: 1 | M33: 1 | N33: 1 | O33: 1 | P33: 1 | Q33: 1 | R33: 1 | S33: 1 | T33: 1 | U33: 1 | V33: 1 | W33: 33 | X33: 1 | Y33: 1 | Z33: 0 | AA33: 1 | AB33: 1 | AC33: 1 | AD33: 1 | AE33: 1 | AF33: 1 | AK33: =IF($F33="","",IF(AJ33=1,1,IF(AM33<>1,$AN$1,IF(SUMPRODUCT(--(H33:AI33>=$H$6:$AI$6)*($H$6:$AI$6<>""))=COUNTIF($H$4:$AI$4,1),1,0)))) -> 1 | AM33: =IF(SUM(AP33:BS33)=COUNT(AP33:BS33),1,0) -> 1 | AN33: =IF($F33="","",AN$30) -> 0 | AO33: =IF($F33="","",AO$30) -> 1 | AP33: =IF(H$30="",1,IF(H$4=99,1,IF(H33="",0,IF(H$30=$AQ$1,IF(ISNA(MATCH(H33,$AN$30:$AO$30,0)),0,1),IF(H$30=$AR$1,IF(IFERROR(H33*1,"bad")="bad",0,1),IF(H$30=$AS$1,IF(IFERROR(IF(H33=TRUNC(H33),1,"bad"),"bad")="bad",0,1),IF(H$30=$AT$1,IF(AND(IF(IFERROR(H33*1,"bad")="bad",0,1)=1,H33>=0),1,0),IF(H$30=$AU$1,IF(AND(IF(IFERROR(IF(H33=TRUNC(H33),1,"bad"),"bad")="bad",0,1)=1,H33>=0),1,0),IF(H$30=$AV$1,IF(AND(IF(IFERROR(H33*1,"bad")="bad",0,1)=1,H33>0),1,0),IF(H$30=$AW$1,IF(AND(IF(IFERROR(IF(H33=TRUNC(H33),1,"bad"),"bad")="bad",0,1)=1,H33>0),1,0),IF(H$30=$AX$1,1,IF(H$30=$AY$1,IF(IFERROR(HLOOKUP(H33,$AQ$4:$AZ$4,1,0),"bad")="bad",0,1),0)))))))))))) -> 1 | AQ33: =IF(I$30="",1,IF(I$4=99,1,IF(I33="",0,IF(I$30=$AQ$1,IF(ISNA(MATCH(I33,$AN$30:$AO$30,0)),0,1),IF(I$30=$AR$1,IF(IFERROR(I33*1,"bad")="bad",0,1),IF(I$30=$AS$1,IF(IFERROR(IF(I33=TRUNC(I33),1,"bad"),"bad")="bad",0,1),IF(I$30=$AT$1,IF(AND(IF(IFERROR(I33*1,"bad")="bad",0,1)=1,I33>=0),1,0),IF(I$30=$AU$1,IF(AND(IF(IFERROR(IF(I33=TRUNC(I33),1,"bad"),"bad")="bad",0,1)=1,I33>=0),1,0),IF(I$30=$AV$1,IF(AND(IF(IFERROR(I33*1,"bad")="bad",0,1)=1,I33>0),1,0),IF(I$30=$AW$1,IF(AND(IF(IFERROR(IF(I33=TRUNC(I33),1,"bad"),"bad")="bad",0,1)=1,I33>0),1,0),IF(I$30=$AX$1,1,IF(I$30=$AY$1,IF(IFERROR(HLOOKUP(I33,$AQ$4:$AZ$4,1,0),"bad")="bad",0,1),0)))))))))))) -> 1 | AS33: =IF(K$30="",1,IF(K$4=99,1,IF(K33="",0,IF(K$30=$AQ$1,IF(ISNA(MATCH(K33,$AN$30:$AO$30,0)),0,1),IF(K$30=$AR$1,IF(IFERROR(K33*1,"bad")="bad",0,1),IF(K$30=$AS$1,IF(IFERROR(IF(K33=TRUNC(K33),1,"bad"),"bad")="bad",0,1),IF(K$30=$AT$1,IF(AND(IF(IFERROR(K33*1,"bad")="bad",0,1)=1,K33>=0),1,0),IF(K$30=$AU$1,IF(AND(IF(IFERROR(IF(K33=TRUNC(K33),1,"bad"),"bad")="bad",0,1)=1,K33>=0),1,0),IF(K$30=$AV$1,IF(AND(IF(IFERROR(K33*1,"bad")="bad",0,1)=1,K33>0),1,0),IF(K$30=$AW$1,IF(AND(IF(IFERROR(IF(K33=TRUNC(K33),1,"bad"),"bad")="bad",0,1)=1,K33>0),1,0),IF(K$30=$AX$1,1,IF(K$30=$AY$1,IF(IFERROR(HLOOKUP(K33,$AQ$4:$AZ$4,1,0),"bad")="bad",0,1),0)))))))))))) -> 1 | AT33: =IF(L$30="",1,IF(L$4=99,1,IF(L33="",0,IF(L$30=$AQ$1,IF(ISNA(MATCH(L33,$AN$30:$AO$30,0)),0,1),IF(L$30=$AR$1,IF(IFERROR(L33*1,"bad")="bad",0,1),IF(L$30=$AS$1,IF(IFERROR(IF(L33=TRUNC(L33),1,"bad"),"bad")="bad",0,1),IF(L$30=$AT$1,IF(AND(IF(IFERROR(L33*1,"bad")="bad",0,1)=1,L33>=0),1,0),IF(L$30=$AU$1,IF(AND(IF(IFERROR(IF(L33=TRUNC(L33),1,"bad"),"bad")="bad",0,1)=1,L33>=0),1,0),IF(L$30=$AV$1,IF(AND(IF(IFERROR(L33*1,"bad")="bad",0,1)=1,L33>0),1,0),IF(L$30=$AW$1,IF(AND(IF(IFERROR(IF(L33=TRUNC(L33),1,"bad"),"bad")="bad",0,1)=1,L33>0),1,0),IF(L$30=$AX$1,1,IF(L$30=$AY$1,IF(IFERROR(HLOOKUP(L33,$AQ$4:$AZ$4,1,0),"bad")="bad",0,1),0)))))))))))) -> 1 | AU33: =IF(M$30="",1,IF(M$4=99,1,IF(M33="",0,IF(M$30=$AQ$1,IF(ISNA(MATCH(M33,$AN$30:$AO$30,0)),0,1),IF(M$30=$AR$1,IF(IFERROR(M33*1,"bad")="bad",0,1),IF(M$30=$AS$1,IF(IFERROR(IF(M33=TRUNC(M33),1,"bad"),"bad")="bad",0,1),IF(M$30=$AT$1,IF(AND(IF(IFERROR(M33*1,"bad")="bad",0,1)=1,M33>=0),1,0),IF(M$30=$AU$1,IF(AND(IF(IFERROR(IF(M33=TRUNC(M33),1,"bad"),"bad")="bad",0,1)=1,M33>=0),1,0),IF(M$30=$AV$1,IF(AND(IF(IFERROR(M33*1,"bad")="bad",0,1)=1,M33>0),1,0),IF(M$30=$AW$1,IF(AND(IF(IFERROR(IF(M33=TRUNC(M33),1,"bad"),"bad")="bad",0,1)=1,M33>0),1,0),IF(M$30=$AX$1,1,IF(M$30=$AY$1,IF(IFERROR(HLOOKUP(M33,$AQ$4:$AZ$4,1,0),"bad")="bad",0,1),0)))))))))))) -> 1 | AV33: =IF(N$30="",1,IF(N$4=99,1,IF(N33="",0,IF(N$30=$AQ$1,IF(ISNA(MATCH(N33,$AN$30:$AO$30,0)),0,1),IF(N$30=$AR$1,IF(IFERROR(N33*1,"bad")="bad",0,1),IF(N$30=$AS$1,IF(IFERROR(IF(N33=TRUNC(N33),1,"bad"),"bad")="bad",0,1),IF(N$30=$AT$1,IF(AND(IF(IFERROR(N33*1,"bad")="bad",0,1)=1,N33>=0),1,0),IF(N$30=$AU$1,IF(AND(IF(IFERROR(IF(N33=TRUNC(N33),1,"bad"),"bad")="bad",0,1)=1,N33>=0),1,0),IF(N$30=$AV$1,IF(AND(IF(IFERROR(N33*1,"bad")="bad",0,1)=1,N33>0),1,0),IF(N$30=$AW$1,IF(AND(IF(IFERROR(IF(N33=TRUNC(N33),1,"bad"),"bad")="bad",0,1)=1,N33>0),1,0),IF(N$30=$AX$1,1,IF(N$30=$AY$1,IF(IFERROR(HLOOKUP(N33,$AQ$4:$AZ$4,1,0),"bad")="bad",0,1),0)))))))))))) -> 1 | AW33: =IF(O$30="",1,IF(O$4=99,1,IF(O33="",0,IF(O$30=$AQ$1,IF(ISNA(MATCH(O33,$AN$30:$AO$30,0)),0,1),IF(O$30=$AR$1,IF(IFERROR(O33*1,"bad")="bad",0,1),IF(O$30=$AS$1,IF(IFERROR(IF(O33=TRUNC(O33),1,"bad"),"bad")="bad",0,1),IF(O$30=$AT$1,IF(AND(IF(IFERROR(O33*1,"bad")="bad",0,1)=1,O33>=0),1,0),IF(O$30=$AU$1,IF(AND(IF(IFERROR(IF(O33=TRUNC(O33),1,"bad"),"bad")="bad",0,1)=1,O33>=0),1,0),IF(O$30=$AV$1,IF(AND(IF(IFERROR(O33*1,"bad")="bad",0,1)=1,O33>0),1,0),IF(O$30=$AW$1,IF(AND(IF(IFERROR(IF(O33=TRUNC(O33),1,"bad"),"bad")="bad",0,1)=1,O33>0),1,0),IF(O$30=$AX$1,1,IF(O$30=$AY$1,IF(IFERROR(HLOOKUP(O33,$AQ$4:$AZ$4,1,0),"bad")="bad",0,1),0)))))))))))) -> 1 | AX33: =IF(P$30="",1,IF(P$4=99,1,IF(P33="",0,IF(P$30=$AQ$1,IF(ISNA(MATCH(P33,$AN$30:$AO$30,0)),0,1),IF(P$30=$AR$1,IF(IFERROR(P33*1,"bad")="bad",0,1),IF(P$30=$AS$1,IF(IFERROR(IF(P33=TRUNC(P33),1,"bad"),"bad")="bad",0,1),IF(P$30=$AT$1,IF(AND(IF(IFERROR(P33*1,"bad")="bad",0,1)=1,P33>=0),1,0),IF(P$30=$AU$1,IF(AND(IF(IFERROR(IF(P33=TRUNC(P33),1,"bad"),"bad")="bad",0,1)=1,P33>=0),1,0),IF(P$30=$AV$1,IF(AND(IF(IFERROR(P33*1,"bad")="bad",0,1)=1,P33>0),1,0),IF(P$30=$AW$1,IF(AND(IF(IFERROR(IF(P33=TRUNC(P33),1,"bad"),"bad")="bad",0,1)=1,P33>0),1,0),IF(P$30=$AX$1,1,IF(P$30=$AY$1,IF(IFERROR(HLOOKUP(P33,$AQ$4:$AZ$4,1,0),"bad")="bad",0,1),0)))))))))))) -> 1 | AY33: =IF(Q$30="",1,IF(Q$4=99,1,IF(Q33="",0,IF(Q$30=$AQ$1,IF(ISNA(MATCH(Q33,$AN$30:$AO$30,0)),0,1),IF(Q$30=$AR$1,IF(IFERROR(Q33*1,"bad")="bad",0,1),IF(Q$30=$AS$1,IF(IFERROR(IF(Q33=TRUNC(Q33),1,"bad"),"bad")="bad",0,1),IF(Q$30=$AT$1,IF(AND(IF(IFERROR(Q33*1,"bad")="bad",0,1)=1,Q33>=0),1,0),IF(Q$30=$AU$1,IF(AND(IF(IFERROR(IF(Q33=TRUNC(Q33),1,"bad"),"bad")="bad",0,1)=1,Q33>=0),1,0),IF(Q$30=$AV$1,IF(AND(IF(IFERROR(Q33*1,"bad")="bad",0,1)=1,Q33>0),1,0),IF(Q$30=$AW$1,IF(AND(IF(IFERROR(IF(Q33=TRUNC(Q33),1,"bad"),"bad")="bad",0,1)=1,Q33>0),1,0),IF(Q$30=$AX$1,1,IF(Q$30=$AY$1,IF(IFERROR(HLOOKUP(Q33,$AQ$4:$AZ$4,1,0),"bad")="bad",0,1),0)))))))))))) -> 1 | AZ33: =IF(R$30="",1,IF(R$4=99,1,IF(R33="",0,IF(R$30=$AQ$1,IF(ISNA(MATCH(R33,$AN$30:$AO$30,0)),0,1),IF(R$30=$AR$1,IF(IFERROR(R33*1,"bad")="bad",0,1),IF(R$30=$AS$1,IF(IFERROR(IF(R33=TRUNC(R33),1,"bad"),"bad")="bad",0,1),IF(R$30=$AT$1,IF(AND(IF(IFERROR(R33*1,"bad")="bad",0,1)=1,R33>=0),1,0),IF(R$30=$AU$1,IF(AND(IF(IFERROR(IF(R33=TRUNC(R33),1,"bad"),"bad")="bad",0,1)=1,R33>=0),1,0),IF(R$30=$AV$1,IF(AND(IF(IFERROR(R33*1,"bad")="bad",0,1)=1,R33>0),1,0),IF(R$30=$AW$1,IF(AND(IF(IFERROR(IF(R33=TRUNC(R33),1,"bad"),"bad")="bad",0,1)=1,R33>0),1,0),IF(R$30=$AX$1,1,IF(R$30=$AY$1,IF(IFERROR(HLOOKUP(R33,$AQ$4:$AZ$4,1,0),"bad")="bad",0,1),0)))))))))))) -> 1 | ... BR33: =IF(AJ$30="",1,IF(AJ$4=99,1,IF(AJ33="",0,IF(AJ$30=$AQ$1,IF(ISNA(MATCH(AJ33,$AN$30:$AO$30,0)),0,1),IF(AJ$30=$AR$1,IF(IFERROR(AJ33*1,"bad")="bad",0,1),IF(AJ$30=$AS$1,IF(IFERROR(IF(AJ33=TRUNC(AJ33),1,"bad"),"bad")="bad",0,1),IF(AJ$30=$AT$1,IF(AND(IF(IFERROR(AJ33*1,"bad")="bad",0,1)=1,AJ33>=0),1,0),IF(AJ$30=$AU$1,IF(AND(IF(IFERROR(IF(AJ33=TRUNC(AJ33),1,"bad"),"bad")="bad",0,1)=1,AJ33>=0),1,0),IF(AJ$30=$AV$1,IF(AND(IF(IFERROR(AJ33*1,"bad")="bad",0,1)=1,AJ33>0),1,0),IF(AJ$30=$AW$1,IF(AND(IF(IFERROR(IF(AJ33=TRUNC(AJ33),1,"bad"),"bad")="bad",0,1)=1,AJ33>0),1,0),IF(AJ$30=$AX$1,1,IF(AJ$30=$AY$1,IF(IFERROR(HLOOKUP(AJ33,$AQ$4:$AZ$4,1,0),"bad")="bad",0,1),0)))))))))))) -> 1 | BS33: =IF(AK$30="",1,IF(AK33="",0,IF(AK$30=$AQ$1,IF(ISNA(MATCH(AK33,$AN$30:$AO$30,0)),0,1),IF(AK$30=$AR$1,IF(IFERROR(AK33*1,"bad")="bad",0,1),IF(AK$30=$AS$1,IF(IFERROR(IF(AK33=TRUNC(AK33),1,"bad"),"bad")="bad",0,1),IF(AK$30=$AT$1,IF(AND(IF(IFERROR(AK33*1,"bad")="bad",0,1)=1,AK33>=0),1,0),IF(AK$30=$AU$1,IF(AND(IF(IFERROR(IF(AK33=TRUNC(AK33),1,"bad"),"bad")="bad",0,1)=1,AK33>=0),1,0),IF(AK$30=$AV$1,IF(AND(IF(IFERROR(AK33*1,"bad")="bad",0,1)=1,AK33>0),1,0),IF(AK$30=$AW$1,IF(AND(IF(IFERROR(IF(AK33=TRUNC(AK33),1,"bad"),"bad")="bad",0,1)=1,AK33>0),1,0),IF(AK$30=$AX$1,1,IF(AK$30=$AY$1,IF(IFERROR(HLOOKUP(AK33,$AQ$4:$AZ$4,1,0),"bad")="bad",0,1),0))))))))))) -> 1 | BX33: =IF($F33="","",BX$30) -> 1 | BY33: =IF($F33="","",BY$30) -> 2 | BZ33: =IF($F33="","",BZ$30) -> 3 | CA33: =IF($F33="","",CA$30) -> 4 | CB33: =IF($F33="","",CB$30) -> 5 | CC33: =IF($F33="","",CC$30) -> 6 | CD33: =IF($F33="","",CD$30) -> 7 | CE33: =IF($F33="","",CE$30) -> 8 | ... CG33: =IF($F33="","",CG$30) -> 10
B34: =IF(F34="","",ROW()-30) -> 4 | C34: 580371045 | D34: 1001843020 | E34: שיתופי פעולה | F34: תאטרון "פסיק" ירושלים (ע"ר) | G34: 1 | H34: 890000 | I34: 150000 | J34: =IF($F34="","",IF(AND(I34>0,I34<=H34),1,$AN$1)) -> 1 | K34: 1 | L34: 1 | M34: 1 | N34: 1 | O34: 1 | P34: 1 | Q34: 1 | R34: 1 | S34: 1 | T34: 1 | U34: 1 | V34: 1 | W34: 45 | X34: 1 | Y34: 1 | Z34: 0 | AA34: 1 | AB34: 1 | AC34: 1 | AD34: 1 | AE34: 1 | AF34: 1 | AK34: =IF($F34="","",IF(AJ34=1,1,IF(AM34<>1,$AN$1,IF(SUMPRODUCT(--(H34:AI34>=$H$6:$AI$6)*($H$6:$AI$6<>""))=COUNTIF($H$4:$AI$4,1),1,0)))) -> 1 | AM34: =IF(SUM(AP34:BS34)=COUNT(AP34:BS34),1,0) -> 1 | AN34: =IF($F34="","",AN$30) -> 0 | AO34: =IF($F34="","",AO$30) -> 1 | AP34: =IF(H$30="",1,IF(H$4=99,1,IF(H34="",0,IF(H$30=$AQ$1,IF(ISNA(MATCH(H34,$AN$30:$AO$30,0)),0,1),IF(H$30=$AR$1,IF(IFERROR(H34*1,"bad")="bad",0,1),IF(H$30=$AS$1,IF(IFERROR(IF(H34=TRUNC(H34),1,"bad"),"bad")="bad",0,1),IF(H$30=$AT$1,IF(AND(IF(IFERROR(H34*1,"bad")="bad",0,1)=1,H34>=0),1,0),IF(H$30=$AU$1,IF(AND(IF(IFERROR(IF(H34=TRUNC(H34),1,"bad"),"bad")="bad",0,1)=1,H34>=0),1,0),IF(H$30=$AV$1,IF(AND(IF(IFERROR(H34*1,"bad")="bad",0,1)=1,H34>0),1,0),IF(H$30=$AW$1,IF(AND(IF(IFERROR(IF(H34=TRUNC(H34),1,"bad"),"bad")="bad",0,1)=1,H34>0),1,0),IF(H$30=$AX$1,1,IF(H$30=$AY$1,IF(IFERROR(HLOOKUP(H34,$AQ$4:$AZ$4,1,0),"bad")="bad",0,1),0)))))))))))) -> 1 | AQ34: =IF(I$30="",1,IF(I$4=99,1,IF(I34="",0,IF(I$30=$AQ$1,IF(ISNA(MATCH(I34,$AN$30:$AO$30,0)),0,1),IF(I$30=$AR$1,IF(IFERROR(I34*1,"bad")="bad",0,1),IF(I$30=$AS$1,IF(IFERROR(IF(I34=TRUNC(I34),1,"bad"),"bad")="bad",0,1),IF(I$30=$AT$1,IF(AND(IF(IFERROR(I34*1,"bad")="bad",0,1)=1,I34>=0),1,0),IF(I$30=$AU$1,IF(AND(IF(IFERROR(IF(I34=TRUNC(I34),1,"bad"),"bad")="bad",0,1)=1,I34>=0),1,0),IF(I$30=$AV$1,IF(AND(IF(IFERROR(I34*1,"bad")="bad",0,1)=1,I34>0),1,0),IF(I$30=$AW$1,IF(AND(IF(IFERROR(IF(I34=TRUNC(I34),1,"bad"),"bad")="bad",0,1)=1,I34>0),1,0),IF(I$30=$AX$1,1,IF(I$30=$AY$1,IF(IFERROR(HLOOKUP(I34,$AQ$4:$AZ$4,1,0),"bad")="bad",0,1),0)))))))))))) -> 1 | AS34: =IF(K$30="",1,IF(K$4=99,1,IF(K34="",0,IF(K$30=$AQ$1,IF(ISNA(MATCH(K34,$AN$30:$AO$30,0)),0,1),IF(K$30=$AR$1,IF(IFERROR(K34*1,"bad")="bad",0,1),IF(K$30=$AS$1,IF(IFERROR(IF(K34=TRUNC(K34),1,"bad"),"bad")="bad",0,1),IF(K$30=$AT$1,IF(AND(IF(IFERROR(K34*1,"bad")="bad",0,1)=1,K34>=0),1,0),IF(K$30=$AU$1,IF(AND(IF(IFERROR(IF(K34=TRUNC(K34),1,"bad"),"bad")="bad",0,1)=1,K34>=0),1,0),IF(K$30=$AV$1,IF(AND(IF(IFERROR(K34*1,"bad")="bad",0,1)=1,K34>0),1,0),IF(K$30=$AW$1,IF(AND(IF(IFERROR(IF(K34=TRUNC(K34),1,"bad"),"bad")="bad",0,1)=1,K34>0),1,0),IF(K$30=$AX$1,1,IF(K$30=$AY$1,IF(IFERROR(HLOOKUP(K34,$AQ$4:$AZ$4,1,0),"bad")="bad",0,1),0)))))))))))) -> 1 | AT34: =IF(L$30="",1,IF(L$4=99,1,IF(L34="",0,IF(L$30=$AQ$1,IF(ISNA(MATCH(L34,$AN$30:$AO$30,0)),0,1),IF(L$30=$AR$1,IF(IFERROR(L34*1,"bad")="bad",0,1),IF(L$30=$AS$1,IF(IFERROR(IF(L34=TRUNC(L34),1,"bad"),"bad")="bad",0,1),IF(L$30=$AT$1,IF(AND(IF(IFERROR(L34*1,"bad")="bad",0,1)=1,L34>=0),1,0),IF(L$30=$AU$1,IF(AND(IF(IFERROR(IF(L34=TRUNC(L34),1,"bad"),"bad")="bad",0,1)=1,L34>=0),1,0),IF(L$30=$AV$1,IF(AND(IF(IFERROR(L34*1,"bad")="bad",0,1)=1,L34>0),1,0),IF(L$30=$AW$1,IF(AND(IF(IFERROR(IF(L34=TRUNC(L34),1,"bad"),"bad")="bad",0,1)=1,L34>0),1,0),IF(L$30=$AX$1,1,IF(L$30=$AY$1,IF(IFERROR(HLOOKUP(L34,$AQ$4:$AZ$4,1,0),"bad")="bad",0,1),0)))))))))))) -> 1 | AU34: =IF(M$30="",1,IF(M$4=99,1,IF(M34="",0,IF(M$30=$AQ$1,IF(ISNA(MATCH(M34,$AN$30:$AO$30,0)),0,1),IF(M$30=$AR$1,IF(IFERROR(M34*1,"bad")="bad",0,1),IF(M$30=$AS$1,IF(IFERROR(IF(M34=TRUNC(M34),1,"bad"),"bad")="bad",0,1),IF(M$30=$AT$1,IF(AND(IF(IFERROR(M34*1,"bad")="bad",0,1)=1,M34>=0),1,0),IF(M$30=$AU$1,IF(AND(IF(IFERROR(IF(M34=TRUNC(M34),1,"bad"),"bad")="bad",0,1)=1,M34>=0),1,0),IF(M$30=$AV$1,IF(AND(IF(IFERROR(M34*1,"bad")="bad",0,1)=1,M34>0),1,0),IF(M$30=$AW$1,IF(AND(IF(IFERROR(IF(M34=TRUNC(M34),1,"bad"),"bad")="bad",0,1)=1,M34>0),1,0),IF(M$30=$AX$1,1,IF(M$30=$AY$1,IF(IFERROR(HLOOKUP(M34,$AQ$4:$AZ$4,1,0),"bad")="bad",0,1),0)))))))))))) -> 1 | AV34: =IF(N$30="",1,IF(N$4=99,1,IF(N34="",0,IF(N$30=$AQ$1,IF(ISNA(MATCH(N34,$AN$30:$AO$30,0)),0,1),IF(N$30=$AR$1,IF(IFERROR(N34*1,"bad")="bad",0,1),IF(N$30=$AS$1,IF(IFERROR(IF(N34=TRUNC(N34),1,"bad"),"bad")="bad",0,1),IF(N$30=$AT$1,IF(AND(IF(IFERROR(N34*1,"bad")="bad",0,1)=1,N34>=0),1,0),IF(N$30=$AU$1,IF(AND(IF(IFERROR(IF(N34=TRUNC(N34),1,"bad"),"bad")="bad",0,1)=1,N34>=0),1,0),IF(N$30=$AV$1,IF(AND(IF(IFERROR(N34*1,"bad")="bad",0,1)=1,N34>0),1,0),IF(N$30=$AW$1,IF(AND(IF(IFERROR(IF(N34=TRUNC(N34),1,"bad"),"bad")="bad",0,1)=1,N34>0),1,0),IF(N$30=$AX$1,1,IF(N$30=$AY$1,IF(IFERROR(HLOOKUP(N34,$AQ$4:$AZ$4,1,0),"bad")="bad",0,1),0)))))))))))) -> 1 | AW34: =IF(O$30="",1,IF(O$4=99,1,IF(O34="",0,IF(O$30=$AQ$1,IF(ISNA(MATCH(O34,$AN$30:$AO$30,0)),0,1),IF(O$30=$AR$1,IF(IFERROR(O34*1,"bad")="bad",0,1),IF(O$30=$AS$1,IF(IFERROR(IF(O34=TRUNC(O34),1,"bad"),"bad")="bad",0,1),IF(O$30=$AT$1,IF(AND(IF(IFERROR(O34*1,"bad")="bad",0,1)=1,O34>=0),1,0),IF(O$30=$AU$1,IF(AND(IF(IFERROR(IF(O34=TRUNC(O34),1,"bad"),"bad")="bad",0,1)=1,O34>=0),1,0),IF(O$30=$AV$1,IF(AND(IF(IFERROR(O34*1,"bad")="bad",0,1)=1,O34>0),1,0),IF(O$30=$AW$1,IF(AND(IF(IFERROR(IF(O34=TRUNC(O34),1,"bad"),"bad")="bad",0,1)=1,O34>0),1,0),IF(O$30=$AX$1,1,IF(O$30=$AY$1,IF(IFERROR(HLOOKUP(O34,$AQ$4:$AZ$4,1,0),"bad")="bad",0,1),0)))))))))))) -> 1 | AX34: =IF(P$30="",1,IF(P$4=99,1,IF(P34="",0,IF(P$30=$AQ$1,IF(ISNA(MATCH(P34,$AN$30:$AO$30,0)),0,1),IF(P$30=$AR$1,IF(IFERROR(P34*1,"bad")="bad",0,1),IF(P$30=$AS$1,IF(IFERROR(IF(P34=TRUNC(P34),1,"bad"),"bad")="bad",0,1),IF(P$30=$AT$1,IF(AND(IF(IFERROR(P34*1,"bad")="bad",0,1)=1,P34>=0),1,0),IF(P$30=$AU$1,IF(AND(IF(IFERROR(IF(P34=TRUNC(P34),1,"bad"),"bad")="bad",0,1)=1,P34>=0),1,0),IF(P$30=$AV$1,IF(AND(IF(IFERROR(P34*1,"bad")="bad",0,1)=1,P34>0),1,0),IF(P$30=$AW$1,IF(AND(IF(IFERROR(IF(P34=TRUNC(P34),1,"bad"),"bad")="bad",0,1)=1,P34>0),1,0),IF(P$30=$AX$1,1,IF(P$30=$AY$1,IF(IFERROR(HLOOKUP(P34,$AQ$4:$AZ$4,1,0),"bad")="bad",0,1),0)))))))))))) -> 1 | AY34: =IF(Q$30="",1,IF(Q$4=99,1,IF(Q34="",0,IF(Q$30=$AQ$1,IF(ISNA(MATCH(Q34,$AN$30:$AO$30,0)),0,1),IF(Q$30=$AR$1,IF(IFERROR(Q34*1,"bad")="bad",0,1),IF(Q$30=$AS$1,IF(IFERROR(IF(Q34=TRUNC(Q34),1,"bad"),"bad")="bad",0,1),IF(Q$30=$AT$1,IF(AND(IF(IFERROR(Q34*1,"bad")="bad",0,1)=1,Q34>=0),1,0),IF(Q$30=$AU$1,IF(AND(IF(IFERROR(IF(Q34=TRUNC(Q34),1,"bad"),"bad")="bad",0,1)=1,Q34>=0),1,0),IF(Q$30=$AV$1,IF(AND(IF(IFERROR(Q34*1,"bad")="bad",0,1)=1,Q34>0),1,0),IF(Q$30=$AW$1,IF(AND(IF(IFERROR(IF(Q34=TRUNC(Q34),1,"bad"),"bad")="bad",0,1)=1,Q34>0),1,0),IF(Q$30=$AX$1,1,IF(Q$30=$AY$1,IF(IFERROR(HLOOKUP(Q34,$AQ$4:$AZ$4,1,0),"bad")="bad",0,1),0)))))))))))) -> 1 | AZ34: =IF(R$30="",1,IF(R$4=99,1,IF(R34="",0,IF(R$30=$AQ$1,IF(ISNA(MATCH(R34,$AN$30:$AO$30,0)),0,1),IF(R$30=$AR$1,IF(IFERROR(R34*1,"bad")="bad",0,1),IF(R$30=$AS$1,IF(IFERROR(IF(R34=TRUNC(R34),1,"bad"),"bad")="bad",0,1),IF(R$30=$AT$1,IF(AND(IF(IFERROR(R34*1,"bad")="bad",0,1)=1,R34>=0),1,0),IF(R$30=$AU$1,IF(AND(IF(IFERROR(IF(R34=TRUNC(R34),1,"bad"),"bad")="bad",0,1)=1,R34>=0),1,0),IF(R$30=$AV$1,IF(AND(IF(IFERROR(R34*1,"bad")="bad",0,1)=1,R34>0),1,0),IF(R$30=$AW$1,IF(AND(IF(IFERROR(IF(R34=TRUNC(R34),1,"bad"),"bad")="bad",0,1)=1,R34>0),1,0),IF(R$30=$AX$1,1,IF(R$30=$AY$1,IF(IFERROR(HLOOKUP(R34,$AQ$4:$AZ$4,1,0),"bad")="bad",0,1),0)))))))))))) -> 1 | ... BR34: =IF(AJ$30="",1,IF(AJ$4=99,1,IF(AJ34="",0,IF(AJ$30=$AQ$1,IF(ISNA(MATCH(AJ34,$AN$30:$AO$30,0)),0,1),IF(AJ$30=$AR$1,IF(IFERROR(AJ34*1,"bad")="bad",0,1),IF(AJ$30=$AS$1,IF(IFERROR(IF(AJ34=TRUNC(AJ34),1,"bad"),"bad")="bad",0,1),IF(AJ$30=$AT$1,IF(AND(IF(IFERROR(AJ34*1,"bad")="bad",0,1)=1,AJ34>=0),1,0),IF(AJ$30=$AU$1,IF(AND(IF(IFERROR(IF(AJ34=TRUNC(AJ34),1,"bad"),"bad")="bad",0,1)=1,AJ34>=0),1,0),IF(AJ$30=$AV$1,IF(AND(IF(IFERROR(AJ34*1,"bad")="bad",0,1)=1,AJ34>0),1,0),IF(AJ$30=$AW$1,IF(AND(IF(IFERROR(IF(AJ34=TRUNC(AJ34),1,"bad"),"bad")="bad",0,1)=1,AJ34>0),1,0),IF(AJ$30=$AX$1,1,IF(AJ$30=$AY$1,IF(IFERROR(HLOOKUP(AJ34,$AQ$4:$AZ$4,1,0),"bad")="bad",0,1),0)))))))))))) -> 1 | BS34: =IF(AK$30="",1,IF(AK34="",0,IF(AK$30=$AQ$1,IF(ISNA(MATCH(AK34,$AN$30:$AO$30,0)),0,1),IF(AK$30=$AR$1,IF(IFERROR(AK34*1,"bad")="bad",0,1),IF(AK$30=$AS$1,IF(IFERROR(IF(AK34=TRUNC(AK34),1,"bad"),"bad")="bad",0,1),IF(AK$30=$AT$1,IF(AND(IF(IFERROR(AK34*1,"bad")="bad",0,1)=1,AK34>=0),1,0),IF(AK$30=$AU$1,IF(AND(IF(IFERROR(IF(AK34=TRUNC(AK34),1,"bad"),"bad")="bad",0,1)=1,AK34>=0),1,0),IF(AK$30=$AV$1,IF(AND(IF(IFERROR(AK34*1,"bad")="bad",0,1)=1,AK34>0),1,0),IF(AK$30=$AW$1,IF(AND(IF(IFERROR(IF(AK34=TRUNC(AK34),1,"bad"),"bad")="bad",0,1)=1,AK34>0),1,0),IF(AK$30=$AX$1,1,IF(AK$30=$AY$1,IF(IFERROR(HLOOKUP(AK34,$AQ$4:$AZ$4,1,0),"bad")="bad",0,1),0))))))))))) -> 1 | BX34: =IF($F34="","",BX$30) -> 1 | BY34: =IF($F34="","",BY$30) -> 2 | BZ34: =IF($F34="","",BZ$30) -> 3 | CA34: =IF($F34="","",CA$30) -> 4 | CB34: =IF($F34="","",CB$30) -> 5 | CC34: =IF($F34="","",CC$30) -> 6 | CD34: =IF($F34="","",CD$30) -> 7 | CE34: =IF($F34="","",CE$30) -> 8 | ... CG34: =IF($F34="","",CG$30) -> 10
B35: =IF(F35="","",ROW()-30) | J35: =IF($F35="","",IF(AND(I35>0,I35<=H35),1,$AN$1)) | AK35: =IF($F35="","",IF(AJ35=1,1,IF(AM35<>1,$AN$1,IF(SUMPRODUCT(--(H35:AI35>=$H$6:$AI$6)*($H$6:$AI$6<>""))=COUNTIF($H$4:$AI$4,1),1,0)))) | AM35: =IF(SUM(AP35:BS35)=COUNT(AP35:BS35),1,0) -> 0 | AN35: =IF($F35="","",AN$30) | AO35: =IF($F35="","",AO$30) | AP35: =IF(H$30="",1,IF(H$4=99,1,IF(H35="",0,IF(H$30=$AQ$1,IF(ISNA(MATCH(H35,$AN$30:$AO$30,0)),0,1),IF(H$30=$AR$1,IF(IFERROR(H35*1,"bad")="bad",0,1),IF(H$30=$AS$1,IF(IFERROR(IF(H35=TRUNC(H35),1,"bad"),"bad")="bad",0,1),IF(H$30=$AT$1,IF(AND(IF(IFERROR(H35*1,"bad")="bad",0,1)=1,H35>=0),1,0),IF(H$30=$AU$1,IF(AND(IF(IFERROR(IF(H35=TRUNC(H35),1,"bad"),"bad")="bad",0,1)=1,H35>=0),1,0),IF(H$30=$AV$1,IF(AND(IF(IFERROR(H35*1,"bad")="bad",0,1)=1,H35>0),1,0),IF(H$30=$AW$1,IF(AND(IF(IFERROR(IF(H35=TRUNC(H35),1,"bad"),"bad")="bad",0,1)=1,H35>0),1,0),IF(H$30=$AX$1,1,IF(H$30=$AY$1,IF(IFERROR(HLOOKUP(H35,$AQ$4:$AZ$4,1,0),"bad")="bad",0,1),0)))))))))))) -> 0 | AQ35: =IF(I$30="",1,IF(I$4=99,1,IF(I35="",0,IF(I$30=$AQ$1,IF(ISNA(MATCH(I35,$AN$30:$AO$30,0)),0,1),IF(I$30=$AR$1,IF(IFERROR(I35*1,"bad")="bad",0,1),IF(I$30=$AS$1,IF(IFERROR(IF(I35=TRUNC(I35),1,"bad"),"bad")="bad",0,1),IF(I$30=$AT$1,IF(AND(IF(IFERROR(I35*1,"bad")="bad",0,1)=1,I35>=0),1,0),IF(I$30=$AU$1,IF(AND(IF(IFERROR(IF(I35=TRUNC(I35),1,"bad"),"bad")="bad",0,1)=1,I35>=0),1,0),IF(I$30=$AV$1,IF(AND(IF(IFERROR(I35*1,"bad")="bad",0,1)=1,I35>0),1,0),IF(I$30=$AW$1,IF(AND(IF(IFERROR(IF(I35=TRUNC(I35),1,"bad"),"bad")="bad",0,1)=1,I35>0),1,0),IF(I$30=$AX$1,1,IF(I$30=$AY$1,IF(IFERROR(HLOOKUP(I35,$AQ$4:$AZ$4,1,0),"bad")="bad",0,1),0)))))))))))) -> 0 | AS35: =IF(K$30="",1,IF(K$4=99,1,IF(K35="",0,IF(K$30=$AQ$1,IF(ISNA(MATCH(K35,$AN$30:$AO$30,0)),0,1),IF(K$30=$AR$1,IF(IFERROR(K35*1,"bad")="bad",0,1),IF(K$30=$AS$1,IF(IFERROR(IF(K35=TRUNC(K35),1,"bad"),"bad")="bad",0,1),IF(K$30=$AT$1,IF(AND(IF(IFERROR(K35*1,"bad")="bad",0,1)=1,K35>=0),1,0),IF(K$30=$AU$1,IF(AND(IF(IFERROR(IF(K35=TRUNC(K35),1,"bad"),"bad")="bad",0,1)=1,K35>=0),1,0),IF(K$30=$AV$1,IF(AND(IF(IFERROR(K35*1,"bad")="bad",0,1)=1,K35>0),1,0),IF(K$30=$AW$1,IF(AND(IF(IFERROR(IF(K35=TRUNC(K35),1,"bad"),"bad")="bad",0,1)=1,K35>0),1,0),IF(K$30=$AX$1,1,IF(K$30=$AY$1,IF(IFERROR(HLOOKUP(K35,$AQ$4:$AZ$4,1,0),"bad")="bad",0,1),0)))))))))))) -> 0 | AT35: =IF(L$30="",1,IF(L$4=99,1,IF(L35="",0,IF(L$30=$AQ$1,IF(ISNA(MATCH(L35,$AN$30:$AO$30,0)),0,1),IF(L$30=$AR$1,IF(IFERROR(L35*1,"bad")="bad",0,1),IF(L$30=$AS$1,IF(IFERROR(IF(L35=TRUNC(L35),1,"bad"),"bad")="bad",0,1),IF(L$30=$AT$1,IF(AND(IF(IFERROR(L35*1,"bad")="bad",0,1)=1,L35>=0),1,0),IF(L$30=$AU$1,IF(AND(IF(IFERROR(IF(L35=TRUNC(L35),1,"bad"),"bad")="bad",0,1)=1,L35>=0),1,0),IF(L$30=$AV$1,IF(AND(IF(IFERROR(L35*1,"bad")="bad",0,1)=1,L35>0),1,0),IF(L$30=$AW$1,IF(AND(IF(IFERROR(IF(L35=TRUNC(L35),1,"bad"),"bad")="bad",0,1)=1,L35>0),1,0),IF(L$30=$AX$1,1,IF(L$30=$AY$1,IF(IFERROR(HLOOKUP(L35,$AQ$4:$AZ$4,1,0),"bad")="bad",0,1),0)))))))))))) -> 0 | AU35: =IF(M$30="",1,IF(M$4=99,1,IF(M35="",0,IF(M$30=$AQ$1,IF(ISNA(MATCH(M35,$AN$30:$AO$30,0)),0,1),IF(M$30=$AR$1,IF(IFERROR(M35*1,"bad")="bad",0,1),IF(M$30=$AS$1,IF(IFERROR(IF(M35=TRUNC(M35),1,"bad"),"bad")="bad",0,1),IF(M$30=$AT$1,IF(AND(IF(IFERROR(M35*1,"bad")="bad",0,1)=1,M35>=0),1,0),IF(M$30=$AU$1,IF(AND(IF(IFERROR(IF(M35=TRUNC(M35),1,"bad"),"bad")="bad",0,1)=1,M35>=0),1,0),IF(M$30=$AV$1,IF(AND(IF(IFERROR(M35*1,"bad")="bad",0,1)=1,M35>0),1,0),IF(M$30=$AW$1,IF(AND(IF(IFERROR(IF(M35=TRUNC(M35),1,"bad"),"bad")="bad",0,1)=1,M35>0),1,0),IF(M$30=$AX$1,1,IF(M$30=$AY$1,IF(IFERROR(HLOOKUP(M35,$AQ$4:$AZ$4,1,0),"bad")="bad",0,1),0)))))))))))) -> 0 | AV35: =IF(N$30="",1,IF(N$4=99,1,IF(N35="",0,IF(N$30=$AQ$1,IF(ISNA(MATCH(N35,$AN$30:$AO$30,0)),0,1),IF(N$30=$AR$1,IF(IFERROR(N35*1,"bad")="bad",0,1),IF(N$30=$AS$1,IF(IFERROR(IF(N35=TRUNC(N35),1,"bad"),"bad")="bad",0,1),IF(N$30=$AT$1,IF(AND(IF(IFERROR(N35*1,"bad")="bad",0,1)=1,N35>=0),1,0),IF(N$30=$AU$1,IF(AND(IF(IFERROR(IF(N35=TRUNC(N35),1,"bad"),"bad")="bad",0,1)=1,N35>=0),1,0),IF(N$30=$AV$1,IF(AND(IF(IFERROR(N35*1,"bad")="bad",0,1)=1,N35>0),1,0),IF(N$30=$AW$1,IF(AND(IF(IFERROR(IF(N35=TRUNC(N35),1,"bad"),"bad")="bad",0,1)=1,N35>0),1,0),IF(N$30=$AX$1,1,IF(N$30=$AY$1,IF(IFERROR(HLOOKUP(N35,$AQ$4:$AZ$4,1,0),"bad")="bad",0,1),0)))))))))))) -> 0 | AW35: =IF(O$30="",1,IF(O$4=99,1,IF(O35="",0,IF(O$30=$AQ$1,IF(ISNA(MATCH(O35,$AN$30:$AO$30,0)),0,1),IF(O$30=$AR$1,IF(IFERROR(O35*1,"bad")="bad",0,1),IF(O$30=$AS$1,IF(IFERROR(IF(O35=TRUNC(O35),1,"bad"),"bad")="bad",0,1),IF(O$30=$AT$1,IF(AND(IF(IFERROR(O35*1,"bad")="bad",0,1)=1,O35>=0),1,0),IF(O$30=$AU$1,IF(AND(IF(IFERROR(IF(O35=TRUNC(O35),1,"bad"),"bad")="bad",0,1)=1,O35>=0),1,0),IF(O$30=$AV$1,IF(AND(IF(IFERROR(O35*1,"bad")="bad",0,1)=1,O35>0),1,0),IF(O$30=$AW$1,IF(AND(IF(IFERROR(IF(O35=TRUNC(O35),1,"bad"),"bad")="bad",0,1)=1,O35>0),1,0),IF(O$30=$AX$1,1,IF(O$30=$AY$1,IF(IFERROR(HLOOKUP(O35,$AQ$4:$AZ$4,1,0),"bad")="bad",0,1),0)))))))))))) -> 0 | AX35: =IF(P$30="",1,IF(P$4=99,1,IF(P35="",0,IF(P$30=$AQ$1,IF(ISNA(MATCH(P35,$AN$30:$AO$30,0)),0,1),IF(P$30=$AR$1,IF(IFERROR(P35*1,"bad")="bad",0,1),IF(P$30=$AS$1,IF(IFERROR(IF(P35=TRUNC(P35),1,"bad"),"bad")="bad",0,1),IF(P$30=$AT$1,IF(AND(IF(IFERROR(P35*1,"bad")="bad",0,1)=1,P35>=0),1,0),IF(P$30=$AU$1,IF(AND(IF(IFERROR(IF(P35=TRUNC(P35),1,"bad"),"bad")="bad",0,1)=1,P35>=0),1,0),IF(P$30=$AV$1,IF(AND(IF(IFERROR(P35*1,"bad")="bad",0,1)=1,P35>0),1,0),IF(P$30=$AW$1,IF(AND(IF(IFERROR(IF(P35=TRUNC(P35),1,"bad"),"bad")="bad",0,1)=1,P35>0),1,0),IF(P$30=$AX$1,1,IF(P$30=$AY$1,IF(IFERROR(HLOOKUP(P35,$AQ$4:$AZ$4,1,0),"bad")="bad",0,1),0)))))))))))) -> 0 | AY35: =IF(Q$30="",1,IF(Q$4=99,1,IF(Q35="",0,IF(Q$30=$AQ$1,IF(ISNA(MATCH(Q35,$AN$30:$AO$30,0)),0,1),IF(Q$30=$AR$1,IF(IFERROR(Q35*1,"bad")="bad",0,1),IF(Q$30=$AS$1,IF(IFERROR(IF(Q35=TRUNC(Q35),1,"bad"),"bad")="bad",0,1),IF(Q$30=$AT$1,IF(AND(IF(IFERROR(Q35*1,"bad")="bad",0,1)=1,Q35>=0),1,0),IF(Q$30=$AU$1,IF(AND(IF(IFERROR(IF(Q35=TRUNC(Q35),1,"bad"),"bad")="bad",0,1)=1,Q35>=0),1,0),IF(Q$30=$AV$1,IF(AND(IF(IFERROR(Q35*1,"bad")="bad",0,1)=1,Q35>0),1,0),IF(Q$30=$AW$1,IF(AND(IF(IFERROR(IF(Q35=TRUNC(Q35),1,"bad"),"bad")="bad",0,1)=1,Q35>0),1,0),IF(Q$30=$AX$1,1,IF(Q$30=$AY$1,IF(IFERROR(HLOOKUP(Q35,$AQ$4:$AZ$4,1,0),"bad")="bad",0,1),0)))))))))))) -> 0 | AZ35: =IF(R$30="",1,IF(R$4=99,1,IF(R35="",0,IF(R$30=$AQ$1,IF(ISNA(MATCH(R35,$AN$30:$AO$30,0)),0,1),IF(R$30=$AR$1,IF(IFERROR(R35*1,"bad")="bad",0,1),IF(R$30=$AS$1,IF(IFERROR(IF(R35=TRUNC(R35),1,"bad"),"bad")="bad",0,1),IF(R$30=$AT$1,IF(AND(IF(IFERROR(R35*1,"bad")="bad",0,1)=1,R35>=0),1,0),IF(R$30=$AU$1,IF(AND(IF(IFERROR(IF(R35=TRUNC(R35),1,"bad"),"bad")="bad",0,1)=1,R35>=0),1,0),IF(R$30=$AV$1,IF(AND(IF(IFERROR(R35*1,"bad")="bad",0,1)=1,R35>0),1,0),IF(R$30=$AW$1,IF(AND(IF(IFERROR(IF(R35=TRUNC(R35),1,"bad"),"bad")="bad",0,1)=1,R35>0),1,0),IF(R$30=$AX$1,1,IF(R$30=$AY$1,IF(IFERROR(HLOOKUP(R35,$AQ$4:$AZ$4,1,0),"bad")="bad",0,1),0)))))))))))) -> 0 | ... BR35: =IF(AJ$30="",1,IF(AJ$4=99,1,IF(AJ35="",0,IF(AJ$30=$AQ$1,IF(ISNA(MATCH(AJ35,$AN$30:$AO$30,0)),0,1),IF(AJ$30=$AR$1,IF(IFERROR(AJ35*1,"bad")="bad",0,1),IF(AJ$30=$AS$1,IF(IFERROR(IF(AJ35=TRUNC(AJ35),1,"bad"),"bad")="bad",0,1),IF(AJ$30=$AT$1,IF(AND(IF(IFERROR(AJ35*1,"bad")="bad",0,1)=1,AJ35>=0),1,0),IF(AJ$30=$AU$1,IF(AND(IF(IFERROR(IF(AJ35=TRUNC(AJ35),1,"bad"),"bad")="bad",0,1)=1,AJ35>=0),1,0),IF(AJ$30=$AV$1,IF(AND(IF(IFERROR(AJ35*1,"bad")="bad",0,1)=1,AJ35>0),1,0),IF(AJ$30=$AW$1,IF(AND(IF(IFERROR(IF(AJ35=TRUNC(AJ35),1,"bad"),"bad")="bad",0,1)=1,AJ35>0),1,0),IF(AJ$30=$AX$1,1,IF(AJ$30=$AY$1,IF(IFERROR(HLOOKUP(AJ35,$AQ$4:$AZ$4,1,0),"bad")="bad",0,1),0)))))))))))) -> 1 | BS35: =IF(AK$30="",1,IF(AK35="",0,IF(AK$30=$AQ$1,IF(ISNA(MATCH(AK35,$AN$30:$AO$30,0)),0,1),IF(AK$30=$AR$1,IF(IFERROR(AK35*1,"bad")="bad",0,1),IF(AK$30=$AS$1,IF(IFERROR(IF(AK35=TRUNC(AK35),1,"bad"),"bad")="bad",0,1),IF(AK$30=$AT$1,IF(AND(IF(IFERROR(AK35*1,"bad")="bad",0,1)=1,AK35>=0),1,0),IF(AK$30=$AU$1,IF(AND(IF(IFERROR(IF(AK35=TRUNC(AK35),1,"bad"),"bad")="bad",0,1)=1,AK35>=0),1,0),IF(AK$30=$AV$1,IF(AND(IF(IFERROR(AK35*1,"bad")="bad",0,1)=1,AK35>0),1,0),IF(AK$30=$AW$1,IF(AND(IF(IFERROR(IF(AK35=TRUNC(AK35),1,"bad"),"bad")="bad",0,1)=1,AK35>0),1,0),IF(AK$30=$AX$1,1,IF(AK$30=$AY$1,IF(IFERROR(HLOOKUP(AK35,$AQ$4:$AZ$4,1,0),"bad")="bad",0,1),0))))))))))) -> 1 | BX35: =IF($F35="","",BX$30) | BY35: =IF($F35="","",BY$30) | BZ35: =IF($F35="","",BZ$30) | CA35: =IF($F35="","",CA$30) | CB35: =IF($F35="","",CB$30) | CC35: =IF($F35="","",CC$30) | CD35: =IF($F35="","",CD$30) | CE35: =IF($F35="","",CE$30) | ... CG35: =IF($F35="","",CG$30)
B36: =IF(F36="","",ROW()-30) -> 6 | C36: 580356210 | D36: 1001837695 | E36: חוצה ישראל מוקד 1 קריית מוצקין | F36: שח"ם, ארגון השחקנים והשחקניות בישרא | G36: 1 | H36: 382900 | I36: 100000 | J36: =IF($F36="","",IF(AND(I36>0,I36<=H36),1,$AN$1)) -> 1 | K36: 1 | L36: 1 | M36: 1 | N36: 1 | O36: 1 | P36: 1 | Q36: 1 | R36: 1 | S36: 1 | T36: 1 | U36: 1 | V36: 1 | W36: 16 | X36: 1 | Y36: 1 | Z36: 1 | AA36: 1 | AB36: 1 | AC36: 1 | AD36: 1 | AE36: 1 | AF36: 1 | AK36: =IF($F36="","",IF(AJ36=1,1,IF(AM36<>1,$AN$1,IF(SUMPRODUCT(--(H36:AI36>=$H$6:$AI$6)*($H$6:$AI$6<>""))=COUNTIF($H$4:$AI$4,1),1,0)))) -> 1 | AM36: =IF(SUM(AP36:BS36)=COUNT(AP36:BS36),1,0) -> 1 | AN36: =IF($F36="","",AN$30) -> 0 | AO36: =IF($F36="","",AO$30) -> 1 | AP36: =IF(H$30="",1,IF(H$4=99,1,IF(H36="",0,IF(H$30=$AQ$1,IF(ISNA(MATCH(H36,$AN$30:$AO$30,0)),0,1),IF(H$30=$AR$1,IF(IFERROR(H36*1,"bad")="bad",0,1),IF(H$30=$AS$1,IF(IFERROR(IF(H36=TRUNC(H36),1,"bad"),"bad")="bad",0,1),IF(H$30=$AT$1,IF(AND(IF(IFERROR(H36*1,"bad")="bad",0,1)=1,H36>=0),1,0),IF(H$30=$AU$1,IF(AND(IF(IFERROR(IF(H36=TRUNC(H36),1,"bad"),"bad")="bad",0,1)=1,H36>=0),1,0),IF(H$30=$AV$1,IF(AND(IF(IFERROR(H36*1,"bad")="bad",0,1)=1,H36>0),1,0),IF(H$30=$AW$1,IF(AND(IF(IFERROR(IF(H36=TRUNC(H36),1,"bad"),"bad")="bad",0,1)=1,H36>0),1,0),IF(H$30=$AX$1,1,IF(H$30=$AY$1,IF(IFERROR(HLOOKUP(H36,$AQ$4:$AZ$4,1,0),"bad")="bad",0,1),0)))))))))))) -> 1 | AQ36: =IF(I$30="",1,IF(I$4=99,1,IF(I36="",0,IF(I$30=$AQ$1,IF(ISNA(MATCH(I36,$AN$30:$AO$30,0)),0,1),IF(I$30=$AR$1,IF(IFERROR(I36*1,"bad")="bad",0,1),IF(I$30=$AS$1,IF(IFERROR(IF(I36=TRUNC(I36),1,"bad"),"bad")="bad",0,1),IF(I$30=$AT$1,IF(AND(IF(IFERROR(I36*1,"bad")="bad",0,1)=1,I36>=0),1,0),IF(I$30=$AU$1,IF(AND(IF(IFERROR(IF(I36=TRUNC(I36),1,"bad"),"bad")="bad",0,1)=1,I36>=0),1,0),IF(I$30=$AV$1,IF(AND(IF(IFERROR(I36*1,"bad")="bad",0,1)=1,I36>0),1,0),IF(I$30=$AW$1,IF(AND(IF(IFERROR(IF(I36=TRUNC(I36),1,"bad"),"bad")="bad",0,1)=1,I36>0),1,0),IF(I$30=$AX$1,1,IF(I$30=$AY$1,IF(IFERROR(HLOOKUP(I36,$AQ$4:$AZ$4,1,0),"bad")="bad",0,1),0)))))))))))) -> 1 | AS36: =IF(K$30="",1,IF(K$4=99,1,IF(K36="",0,IF(K$30=$AQ$1,IF(ISNA(MATCH(K36,$AN$30:$AO$30,0)),0,1),IF(K$30=$AR$1,IF(IFERROR(K36*1,"bad")="bad",0,1),IF(K$30=$AS$1,IF(IFERROR(IF(K36=TRUNC(K36),1,"bad"),"bad")="bad",0,1),IF(K$30=$AT$1,IF(AND(IF(IFERROR(K36*1,"bad")="bad",0,1)=1,K36>=0),1,0),IF(K$30=$AU$1,IF(AND(IF(IFERROR(IF(K36=TRUNC(K36),1,"bad"),"bad")="bad",0,1)=1,K36>=0),1,0),IF(K$30=$AV$1,IF(AND(IF(IFERROR(K36*1,"bad")="bad",0,1)=1,K36>0),1,0),IF(K$30=$AW$1,IF(AND(IF(IFERROR(IF(K36=TRUNC(K36),1,"bad"),"bad")="bad",0,1)=1,K36>0),1,0),IF(K$30=$AX$1,1,IF(K$30=$AY$1,IF(IFERROR(HLOOKUP(K36,$AQ$4:$AZ$4,1,0),"bad")="bad",0,1),0)))))))))))) -> 1 | AT36: =IF(L$30="",1,IF(L$4=99,1,IF(L36="",0,IF(L$30=$AQ$1,IF(ISNA(MATCH(L36,$AN$30:$AO$30,0)),0,1),IF(L$30=$AR$1,IF(IFERROR(L36*1,"bad")="bad",0,1),IF(L$30=$AS$1,IF(IFERROR(IF(L36=TRUNC(L36),1,"bad"),"bad")="bad",0,1),IF(L$30=$AT$1,IF(AND(IF(IFERROR(L36*1,"bad")="bad",0,1)=1,L36>=0),1,0),IF(L$30=$AU$1,IF(AND(IF(IFERROR(IF(L36=TRUNC(L36),1,"bad"),"bad")="bad",0,1)=1,L36>=0),1,0),IF(L$30=$AV$1,IF(AND(IF(IFERROR(L36*1,"bad")="bad",0,1)=1,L36>0),1,0),IF(L$30=$AW$1,IF(AND(IF(IFERROR(IF(L36=TRUNC(L36),1,"bad"),"bad")="bad",0,1)=1,L36>0),1,0),IF(L$30=$AX$1,1,IF(L$30=$AY$1,IF(IFERROR(HLOOKUP(L36,$AQ$4:$AZ$4,1,0),"bad")="bad",0,1),0)))))))))))) -> 1 | AU36: =IF(M$30="",1,IF(M$4=99,1,IF(M36="",0,IF(M$30=$AQ$1,IF(ISNA(MATCH(M36,$AN$30:$AO$30,0)),0,1),IF(M$30=$AR$1,IF(IFERROR(M36*1,"bad")="bad",0,1),IF(M$30=$AS$1,IF(IFERROR(IF(M36=TRUNC(M36),1,"bad"),"bad")="bad",0,1),IF(M$30=$AT$1,IF(AND(IF(IFERROR(M36*1,"bad")="bad",0,1)=1,M36>=0),1,0),IF(M$30=$AU$1,IF(AND(IF(IFERROR(IF(M36=TRUNC(M36),1,"bad"),"bad")="bad",0,1)=1,M36>=0),1,0),IF(M$30=$AV$1,IF(AND(IF(IFERROR(M36*1,"bad")="bad",0,1)=1,M36>0),1,0),IF(M$30=$AW$1,IF(AND(IF(IFERROR(IF(M36=TRUNC(M36),1,"bad"),"bad")="bad",0,1)=1,M36>0),1,0),IF(M$30=$AX$1,1,IF(M$30=$AY$1,IF(IFERROR(HLOOKUP(M36,$AQ$4:$AZ$4,1,0),"bad")="bad",0,1),0)))))))))))) -> 1 | AV36: =IF(N$30="",1,IF(N$4=99,1,IF(N36="",0,IF(N$30=$AQ$1,IF(ISNA(MATCH(N36,$AN$30:$AO$30,0)),0,1),IF(N$30=$AR$1,IF(IFERROR(N36*1,"bad")="bad",0,1),IF(N$30=$AS$1,IF(IFERROR(IF(N36=TRUNC(N36),1,"bad"),"bad")="bad",0,1),IF(N$30=$AT$1,IF(AND(IF(IFERROR(N36*1,"bad")="bad",0,1)=1,N36>=0),1,0),IF(N$30=$AU$1,IF(AND(IF(IFERROR(IF(N36=TRUNC(N36),1,"bad"),"bad")="bad",0,1)=1,N36>=0),1,0),IF(N$30=$AV$1,IF(AND(IF(IFERROR(N36*1,"bad")="bad",0,1)=1,N36>0),1,0),IF(N$30=$AW$1,IF(AND(IF(IFERROR(IF(N36=TRUNC(N36),1,"bad"),"bad")="bad",0,1)=1,N36>0),1,0),IF(N$30=$AX$1,1,IF(N$30=$AY$1,IF(IFERROR(HLOOKUP(N36,$AQ$4:$AZ$4,1,0),"bad")="bad",0,1),0)))))))))))) -> 1 | AW36: =IF(O$30="",1,IF(O$4=99,1,IF(O36="",0,IF(O$30=$AQ$1,IF(ISNA(MATCH(O36,$AN$30:$AO$30,0)),0,1),IF(O$30=$AR$1,IF(IFERROR(O36*1,"bad")="bad",0,1),IF(O$30=$AS$1,IF(IFERROR(IF(O36=TRUNC(O36),1,"bad"),"bad")="bad",0,1),IF(O$30=$AT$1,IF(AND(IF(IFERROR(O36*1,"bad")="bad",0,1)=1,O36>=0),1,0),IF(O$30=$AU$1,IF(AND(IF(IFERROR(IF(O36=TRUNC(O36),1,"bad"),"bad")="bad",0,1)=1,O36>=0),1,0),IF(O$30=$AV$1,IF(AND(IF(IFERROR(O36*1,"bad")="bad",0,1)=1,O36>0),1,0),IF(O$30=$AW$1,IF(AND(IF(IFERROR(IF(O36=TRUNC(O36),1,"bad"),"bad")="bad",0,1)=1,O36>0),1,0),IF(O$30=$AX$1,1,IF(O$30=$AY$1,IF(IFERROR(HLOOKUP(O36,$AQ$4:$AZ$4,1,0),"bad")="bad",0,1),0)))))))))))) -> 1 | AX36: =IF(P$30="",1,IF(P$4=99,1,IF(P36="",0,IF(P$30=$AQ$1,IF(ISNA(MATCH(P36,$AN$30:$AO$30,0)),0,1),IF(P$30=$AR$1,IF(IFERROR(P36*1,"bad")="bad",0,1),IF(P$30=$AS$1,IF(IFERROR(IF(P36=TRUNC(P36),1,"bad"),"bad")="bad",0,1),IF(P$30=$AT$1,IF(AND(IF(IFERROR(P36*1,"bad")="bad",0,1)=1,P36>=0),1,0),IF(P$30=$AU$1,IF(AND(IF(IFERROR(IF(P36=TRUNC(P36),1,"bad"),"bad")="bad",0,1)=1,P36>=0),1,0),IF(P$30=$AV$1,IF(AND(IF(IFERROR(P36*1,"bad")="bad",0,1)=1,P36>0),1,0),IF(P$30=$AW$1,IF(AND(IF(IFERROR(IF(P36=TRUNC(P36),1,"bad"),"bad")="bad",0,1)=1,P36>0),1,0),IF(P$30=$AX$1,1,IF(P$30=$AY$1,IF(IFERROR(HLOOKUP(P36,$AQ$4:$AZ$4,1,0),"bad")="bad",0,1),0)))))))))))) -> 1 | AY36: =IF(Q$30="",1,IF(Q$4=99,1,IF(Q36="",0,IF(Q$30=$AQ$1,IF(ISNA(MATCH(Q36,$AN$30:$AO$30,0)),0,1),IF(Q$30=$AR$1,IF(IFERROR(Q36*1,"bad")="bad",0,1),IF(Q$30=$AS$1,IF(IFERROR(IF(Q36=TRUNC(Q36),1,"bad"),"bad")="bad",0,1),IF(Q$30=$AT$1,IF(AND(IF(IFERROR(Q36*1,"bad")="bad",0,1)=1,Q36>=0),1,0),IF(Q$30=$AU$1,IF(AND(IF(IFERROR(IF(Q36=TRUNC(Q36),1,"bad"),"bad")="bad",0,1)=1,Q36>=0),1,0),IF(Q$30=$AV$1,IF(AND(IF(IFERROR(Q36*1,"bad")="bad",0,1)=1,Q36>0),1,0),IF(Q$30=$AW$1,IF(AND(IF(IFERROR(IF(Q36=TRUNC(Q36),1,"bad"),"bad")="bad",0,1)=1,Q36>0),1,0),IF(Q$30=$AX$1,1,IF(Q$30=$AY$1,IF(IFERROR(HLOOKUP(Q36,$AQ$4:$AZ$4,1,0),"bad")="bad",0,1),0)))))))))))) -> 1 | AZ36: =IF(R$30="",1,IF(R$4=99,1,IF(R36="",0,IF(R$30=$AQ$1,IF(ISNA(MATCH(R36,$AN$30:$AO$30,0)),0,1),IF(R$30=$AR$1,IF(IFERROR(R36*1,"bad")="bad",0,1),IF(R$30=$AS$1,IF(IFERROR(IF(R36=TRUNC(R36),1,"bad"),"bad")="bad",0,1),IF(R$30=$AT$1,IF(AND(IF(IFERROR(R36*1,"bad")="bad",0,1)=1,R36>=0),1,0),IF(R$30=$AU$1,IF(AND(IF(IFERROR(IF(R36=TRUNC(R36),1,"bad"),"bad")="bad",0,1)=1,R36>=0),1,0),IF(R$30=$AV$1,IF(AND(IF(IFERROR(R36*1,"bad")="bad",0,1)=1,R36>0),1,0),IF(R$30=$AW$1,IF(AND(IF(IFERROR(IF(R36=TRUNC(R36),1,"bad"),"bad")="bad",0,1)=1,R36>0),1,0),IF(R$30=$AX$1,1,IF(R$30=$AY$1,IF(IFERROR(HLOOKUP(R36,$AQ$4:$AZ$4,1,0),"bad")="bad",0,1),0)))))))))))) -> 1 | ... BR36: =IF(AJ$30="",1,IF(AJ$4=99,1,IF(AJ36="",0,IF(AJ$30=$AQ$1,IF(ISNA(MATCH(AJ36,$AN$30:$AO$30,0)),0,1),IF(AJ$30=$AR$1,IF(IFERROR(AJ36*1,"bad")="bad",0,1),IF(AJ$30=$AS$1,IF(IFERROR(IF(AJ36=TRUNC(AJ36),1,"bad"),"bad")="bad",0,1),IF(AJ$30=$AT$1,IF(AND(IF(IFERROR(AJ36*1,"bad")="bad",0,1)=1,AJ36>=0),1,0),IF(AJ$30=$AU$1,IF(AND(IF(IFERROR(IF(AJ36=TRUNC(AJ36),1,"bad"),"bad")="bad",0,1)=1,AJ36>=0),1,0),IF(AJ$30=$AV$1,IF(AND(IF(IFERROR(AJ36*1,"bad")="bad",0,1)=1,AJ36>0),1,0),IF(AJ$30=$AW$1,IF(AND(IF(IFERROR(IF(AJ36=TRUNC(AJ36),1,"bad"),"bad")="bad",0,1)=1,AJ36>0),1,0),IF(AJ$30=$AX$1,1,IF(AJ$30=$AY$1,IF(IFERROR(HLOOKUP(AJ36,$AQ$4:$AZ$4,1,0),"bad")="bad",0,1),0)))))))))))) -> 1 | BS36: =IF(AK$30="",1,IF(AK36="",0,IF(AK$30=$AQ$1,IF(ISNA(MATCH(AK36,$AN$30:$AO$30,0)),0,1),IF(AK$30=$AR$1,IF(IFERROR(AK36*1,"bad")="bad",0,1),IF(AK$30=$AS$1,IF(IFERROR(IF(AK36=TRUNC(AK36),1,"bad"),"bad")="bad",0,1),IF(AK$30=$AT$1,IF(AND(IF(IFERROR(AK36*1,"bad")="bad",0,1)=1,AK36>=0),1,0),IF(AK$30=$AU$1,IF(AND(IF(IFERROR(IF(AK36=TRUNC(AK36),1,"bad"),"bad")="bad",0,1)=1,AK36>=0),1,0),IF(AK$30=$AV$1,IF(AND(IF(IFERROR(AK36*1,"bad")="bad",0,1)=1,AK36>0),1,0),IF(AK$30=$AW$1,IF(AND(IF(IFERROR(IF(AK36=TRUNC(AK36),1,"bad"),"bad")="bad",0,1)=1,AK36>0),1,0),IF(AK$30=$AX$1,1,IF(AK$30=$AY$1,IF(IFERROR(HLOOKUP(AK36,$AQ$4:$AZ$4,1,0),"bad")="bad",0,1),0))))))))))) -> 1 | BX36: =IF($F36="","",BX$30) -> 1 | BY36: =IF($F36="","",BY$30) -> 2 | BZ36: =IF($F36="","",BZ$30) -> 3 | CA36: =IF($F36="","",CA$30) -> 4 | CB36: =IF($F36="","",CB$30) -> 5 | CC36: =IF($F36="","",CC$30) -> 6 | CD36: =IF($F36="","",CD$30) -> 7 | CE36: =IF($F36="","",CE$30) -> 8 | ... CG36: =IF($F36="","",CG$30) -> 10
B37: =IF(F37="","",ROW()-30) -> 7 | C37: 580356210 | D37: 1001844164 | E37: חוצה ישראל מוקד 2 שער הנגב | F37: שח"ם, ארגון השחקנים והשחקניות בישרא | G37: 1 | H37: 382900 | I37: 100000 | J37: =IF($F37="","",IF(AND(I37>0,I37<=H37),1,$AN$1)) -> 1 | K37: 1 | L37: 1 | M37: 1 | N37: 1 | O37: 1 | P37: 1 | Q37: 1 | R37: 1 | S37: 1 | T37: 1 | U37: 1 | V37: 1 | W37: 13 | X37: 1 | Y37: 1 | Z37: 0 | AA37: 1 | AB37: 1 | AC37: 1 | AD37: 1 | AE37: 1 | AF37: 1 | AK37: =IF($F37="","",IF(AJ37=1,1,IF(AM37<>1,$AN$1,IF(SUMPRODUCT(--(H37:AI37>=$H$6:$AI$6)*($H$6:$AI$6<>""))=COUNTIF($H$4:$AI$4,1),1,0)))) -> 1 | AM37: =IF(SUM(AP37:BS37)=COUNT(AP37:BS37),1,0) -> 1 | AN37: =IF($F37="","",AN$30) -> 0 | AO37: =IF($F37="","",AO$30) -> 1 | AP37: =IF(H$30="",1,IF(H$4=99,1,IF(H37="",0,IF(H$30=$AQ$1,IF(ISNA(MATCH(H37,$AN$30:$AO$30,0)),0,1),IF(H$30=$AR$1,IF(IFERROR(H37*1,"bad")="bad",0,1),IF(H$30=$AS$1,IF(IFERROR(IF(H37=TRUNC(H37),1,"bad"),"bad")="bad",0,1),IF(H$30=$AT$1,IF(AND(IF(IFERROR(H37*1,"bad")="bad",0,1)=1,H37>=0),1,0),IF(H$30=$AU$1,IF(AND(IF(IFERROR(IF(H37=TRUNC(H37),1,"bad"),"bad")="bad",0,1)=1,H37>=0),1,0),IF(H$30=$AV$1,IF(AND(IF(IFERROR(H37*1,"bad")="bad",0,1)=1,H37>0),1,0),IF(H$30=$AW$1,IF(AND(IF(IFERROR(IF(H37=TRUNC(H37),1,"bad"),"bad")="bad",0,1)=1,H37>0),1,0),IF(H$30=$AX$1,1,IF(H$30=$AY$1,IF(IFERROR(HLOOKUP(H37,$AQ$4:$AZ$4,1,0),"bad")="bad",0,1),0)))))))))))) -> 1 | AQ37: =IF(I$30="",1,IF(I$4=99,1,IF(I37="",0,IF(I$30=$AQ$1,IF(ISNA(MATCH(I37,$AN$30:$AO$30,0)),0,1),IF(I$30=$AR$1,IF(IFERROR(I37*1,"bad")="bad",0,1),IF(I$30=$AS$1,IF(IFERROR(IF(I37=TRUNC(I37),1,"bad"),"bad")="bad",0,1),IF(I$30=$AT$1,IF(AND(IF(IFERROR(I37*1,"bad")="bad",0,1)=1,I37>=0),1,0),IF(I$30=$AU$1,IF(AND(IF(IFERROR(IF(I37=TRUNC(I37),1,"bad"),"bad")="bad",0,1)=1,I37>=0),1,0),IF(I$30=$AV$1,IF(AND(IF(IFERROR(I37*1,"bad")="bad",0,1)=1,I37>0),1,0),IF(I$30=$AW$1,IF(AND(IF(IFERROR(IF(I37=TRUNC(I37),1,"bad"),"bad")="bad",0,1)=1,I37>0),1,0),IF(I$30=$AX$1,1,IF(I$30=$AY$1,IF(IFERROR(HLOOKUP(I37,$AQ$4:$AZ$4,1,0),"bad")="bad",0,1),0)))))))))))) -> 1 | AS37: =IF(K$30="",1,IF(K$4=99,1,IF(K37="",0,IF(K$30=$AQ$1,IF(ISNA(MATCH(K37,$AN$30:$AO$30,0)),0,1),IF(K$30=$AR$1,IF(IFERROR(K37*1,"bad")="bad",0,1),IF(K$30=$AS$1,IF(IFERROR(IF(K37=TRUNC(K37),1,"bad"),"bad")="bad",0,1),IF(K$30=$AT$1,IF(AND(IF(IFERROR(K37*1,"bad")="bad",0,1)=1,K37>=0),1,0),IF(K$30=$AU$1,IF(AND(IF(IFERROR(IF(K37=TRUNC(K37),1,"bad"),"bad")="bad",0,1)=1,K37>=0),1,0),IF(K$30=$AV$1,IF(AND(IF(IFERROR(K37*1,"bad")="bad",0,1)=1,K37>0),1,0),IF(K$30=$AW$1,IF(AND(IF(IFERROR(IF(K37=TRUNC(K37),1,"bad"),"bad")="bad",0,1)=1,K37>0),1,0),IF(K$30=$AX$1,1,IF(K$30=$AY$1,IF(IFERROR(HLOOKUP(K37,$AQ$4:$AZ$4,1,0),"bad")="bad",0,1),0)))))))))))) -> 1 | AT37: =IF(L$30="",1,IF(L$4=99,1,IF(L37="",0,IF(L$30=$AQ$1,IF(ISNA(MATCH(L37,$AN$30:$AO$30,0)),0,1),IF(L$30=$AR$1,IF(IFERROR(L37*1,"bad")="bad",0,1),IF(L$30=$AS$1,IF(IFERROR(IF(L37=TRUNC(L37),1,"bad"),"bad")="bad",0,1),IF(L$30=$AT$1,IF(AND(IF(IFERROR(L37*1,"bad")="bad",0,1)=1,L37>=0),1,0),IF(L$30=$AU$1,IF(AND(IF(IFERROR(IF(L37=TRUNC(L37),1,"bad"),"bad")="bad",0,1)=1,L37>=0),1,0),IF(L$30=$AV$1,IF(AND(IF(IFERROR(L37*1,"bad")="bad",0,1)=1,L37>0),1,0),IF(L$30=$AW$1,IF(AND(IF(IFERROR(IF(L37=TRUNC(L37),1,"bad"),"bad")="bad",0,1)=1,L37>0),1,0),IF(L$30=$AX$1,1,IF(L$30=$AY$1,IF(IFERROR(HLOOKUP(L37,$AQ$4:$AZ$4,1,0),"bad")="bad",0,1),0)))))))))))) -> 1 | AU37: =IF(M$30="",1,IF(M$4=99,1,IF(M37="",0,IF(M$30=$AQ$1,IF(ISNA(MATCH(M37,$AN$30:$AO$30,0)),0,1),IF(M$30=$AR$1,IF(IFERROR(M37*1,"bad")="bad",0,1),IF(M$30=$AS$1,IF(IFERROR(IF(M37=TRUNC(M37),1,"bad"),"bad")="bad",0,1),IF(M$30=$AT$1,IF(AND(IF(IFERROR(M37*1,"bad")="bad",0,1)=1,M37>=0),1,0),IF(M$30=$AU$1,IF(AND(IF(IFERROR(IF(M37=TRUNC(M37),1,"bad"),"bad")="bad",0,1)=1,M37>=0),1,0),IF(M$30=$AV$1,IF(AND(IF(IFERROR(M37*1,"bad")="bad",0,1)=1,M37>0),1,0),IF(M$30=$AW$1,IF(AND(IF(IFERROR(IF(M37=TRUNC(M37),1,"bad"),"bad")="bad",0,1)=1,M37>0),1,0),IF(M$30=$AX$1,1,IF(M$30=$AY$1,IF(IFERROR(HLOOKUP(M37,$AQ$4:$AZ$4,1,0),"bad")="bad",0,1),0)))))))))))) -> 1 | AV37: =IF(N$30="",1,IF(N$4=99,1,IF(N37="",0,IF(N$30=$AQ$1,IF(ISNA(MATCH(N37,$AN$30:$AO$30,0)),0,1),IF(N$30=$AR$1,IF(IFERROR(N37*1,"bad")="bad",0,1),IF(N$30=$AS$1,IF(IFERROR(IF(N37=TRUNC(N37),1,"bad"),"bad")="bad",0,1),IF(N$30=$AT$1,IF(AND(IF(IFERROR(N37*1,"bad")="bad",0,1)=1,N37>=0),1,0),IF(N$30=$AU$1,IF(AND(IF(IFERROR(IF(N37=TRUNC(N37),1,"bad"),"bad")="bad",0,1)=1,N37>=0),1,0),IF(N$30=$AV$1,IF(AND(IF(IFERROR(N37*1,"bad")="bad",0,1)=1,N37>0),1,0),IF(N$30=$AW$1,IF(AND(IF(IFERROR(IF(N37=TRUNC(N37),1,"bad"),"bad")="bad",0,1)=1,N37>0),1,0),IF(N$30=$AX$1,1,IF(N$30=$AY$1,IF(IFERROR(HLOOKUP(N37,$AQ$4:$AZ$4,1,0),"bad")="bad",0,1),0)))))))))))) -> 1 | AW37: =IF(O$30="",1,IF(O$4=99,1,IF(O37="",0,IF(O$30=$AQ$1,IF(ISNA(MATCH(O37,$AN$30:$AO$30,0)),0,1),IF(O$30=$AR$1,IF(IFERROR(O37*1,"bad")="bad",0,1),IF(O$30=$AS$1,IF(IFERROR(IF(O37=TRUNC(O37),1,"bad"),"bad")="bad",0,1),IF(O$30=$AT$1,IF(AND(IF(IFERROR(O37*1,"bad")="bad",0,1)=1,O37>=0),1,0),IF(O$30=$AU$1,IF(AND(IF(IFERROR(IF(O37=TRUNC(O37),1,"bad"),"bad")="bad",0,1)=1,O37>=0),1,0),IF(O$30=$AV$1,IF(AND(IF(IFERROR(O37*1,"bad")="bad",0,1)=1,O37>0),1,0),IF(O$30=$AW$1,IF(AND(IF(IFERROR(IF(O37=TRUNC(O37),1,"bad"),"bad")="bad",0,1)=1,O37>0),1,0),IF(O$30=$AX$1,1,IF(O$30=$AY$1,IF(IFERROR(HLOOKUP(O37,$AQ$4:$AZ$4,1,0),"bad")="bad",0,1),0)))))))))))) -> 1 | AX37: =IF(P$30="",1,IF(P$4=99,1,IF(P37="",0,IF(P$30=$AQ$1,IF(ISNA(MATCH(P37,$AN$30:$AO$30,0)),0,1),IF(P$30=$AR$1,IF(IFERROR(P37*1,"bad")="bad",0,1),IF(P$30=$AS$1,IF(IFERROR(IF(P37=TRUNC(P37),1,"bad"),"bad")="bad",0,1),IF(P$30=$AT$1,IF(AND(IF(IFERROR(P37*1,"bad")="bad",0,1)=1,P37>=0),1,0),IF(P$30=$AU$1,IF(AND(IF(IFERROR(IF(P37=TRUNC(P37),1,"bad"),"bad")="bad",0,1)=1,P37>=0),1,0),IF(P$30=$AV$1,IF(AND(IF(IFERROR(P37*1,"bad")="bad",0,1)=1,P37>0),1,0),IF(P$30=$AW$1,IF(AND(IF(IFERROR(IF(P37=TRUNC(P37),1,"bad"),"bad")="bad",0,1)=1,P37>0),1,0),IF(P$30=$AX$1,1,IF(P$30=$AY$1,IF(IFERROR(HLOOKUP(P37,$AQ$4:$AZ$4,1,0),"bad")="bad",0,1),0)))))))))))) -> 1 | AY37: =IF(Q$30="",1,IF(Q$4=99,1,IF(Q37="",0,IF(Q$30=$AQ$1,IF(ISNA(MATCH(Q37,$AN$30:$AO$30,0)),0,1),IF(Q$30=$AR$1,IF(IFERROR(Q37*1,"bad")="bad",0,1),IF(Q$30=$AS$1,IF(IFERROR(IF(Q37=TRUNC(Q37),1,"bad"),"bad")="bad",0,1),IF(Q$30=$AT$1,IF(AND(IF(IFERROR(Q37*1,"bad")="bad",0,1)=1,Q37>=0),1,0),IF(Q$30=$AU$1,IF(AND(IF(IFERROR(IF(Q37=TRUNC(Q37),1,"bad"),"bad")="bad",0,1)=1,Q37>=0),1,0),IF(Q$30=$AV$1,IF(AND(IF(IFERROR(Q37*1,"bad")="bad",0,1)=1,Q37>0),1,0),IF(Q$30=$AW$1,IF(AND(IF(IFERROR(IF(Q37=TRUNC(Q37),1,"bad"),"bad")="bad",0,1)=1,Q37>0),1,0),IF(Q$30=$AX$1,1,IF(Q$30=$AY$1,IF(IFERROR(HLOOKUP(Q37,$AQ$4:$AZ$4,1,0),"bad")="bad",0,1),0)))))))))))) -> 1 | AZ37: =IF(R$30="",1,IF(R$4=99,1,IF(R37="",0,IF(R$30=$AQ$1,IF(ISNA(MATCH(R37,$AN$30:$AO$30,0)),0,1),IF(R$30=$AR$1,IF(IFERROR(R37*1,"bad")="bad",0,1),IF(R$30=$AS$1,IF(IFERROR(IF(R37=TRUNC(R37),1,"bad"),"bad")="bad",0,1),IF(R$30=$AT$1,IF(AND(IF(IFERROR(R37*1,"bad")="bad",0,1)=1,R37>=0),1,0),IF(R$30=$AU$1,IF(AND(IF(IFERROR(IF(R37=TRUNC(R37),1,"bad"),"bad")="bad",0,1)=1,R37>=0),1,0),IF(R$30=$AV$1,IF(AND(IF(IFERROR(R37*1,"bad")="bad",0,1)=1,R37>0),1,0),IF(R$30=$AW$1,IF(AND(IF(IFERROR(IF(R37=TRUNC(R37),1,"bad"),"bad")="bad",0,1)=1,R37>0),1,0),IF(R$30=$AX$1,1,IF(R$30=$AY$1,IF(IFERROR(HLOOKUP(R37,$AQ$4:$AZ$4,1,0),"bad")="bad",0,1),0)))))))))))) -> 1 | ... BR37: =IF(AJ$30="",1,IF(AJ$4=99,1,IF(AJ37="",0,IF(AJ$30=$AQ$1,IF(ISNA(MATCH(AJ37,$AN$30:$AO$30,0)),0,1),IF(AJ$30=$AR$1,IF(IFERROR(AJ37*1,"bad")="bad",0,1),IF(AJ$30=$AS$1,IF(IFERROR(IF(AJ37=TRUNC(AJ37),1,"bad"),"bad")="bad",0,1),IF(AJ$30=$AT$1,IF(AND(IF(IFERROR(AJ37*1,"bad")="bad",0,1)=1,AJ37>=0),1,0),IF(AJ$30=$AU$1,IF(AND(IF(IFERROR(IF(AJ37=TRUNC(AJ37),1,"bad"),"bad")="bad",0,1)=1,AJ37>=0),1,0),IF(AJ$30=$AV$1,IF(AND(IF(IFERROR(AJ37*1,"bad")="bad",0,1)=1,AJ37>0),1,0),IF(AJ$30=$AW$1,IF(AND(IF(IFERROR(IF(AJ37=TRUNC(AJ37),1,"bad"),"bad")="bad",0,1)=1,AJ37>0),1,0),IF(AJ$30=$AX$1,1,IF(AJ$30=$AY$1,IF(IFERROR(HLOOKUP(AJ37,$AQ$4:$AZ$4,1,0),"bad")="bad",0,1),0)))))))))))) -> 1 | BS37: =IF(AK$30="",1,IF(AK37="",0,IF(AK$30=$AQ$1,IF(ISNA(MATCH(AK37,$AN$30:$AO$30,0)),0,1),IF(AK$30=$AR$1,IF(IFERROR(AK37*1,"bad")="bad",0,1),IF(AK$30=$AS$1,IF(IFERROR(IF(AK37=TRUNC(AK37),1,"bad"),"bad")="bad",0,1),IF(AK$30=$AT$1,IF(AND(IF(IFERROR(AK37*1,"bad")="bad",0,1)=1,AK37>=0),1,0),IF(AK$30=$AU$1,IF(AND(IF(IFERROR(IF(AK37=TRUNC(AK37),1,"bad"),"bad")="bad",0,1)=1,AK37>=0),1,0),IF(AK$30=$AV$1,IF(AND(IF(IFERROR(AK37*1,"bad")="bad",0,1)=1,AK37>0),1,0),IF(AK$30=$AW$1,IF(AND(IF(IFERROR(IF(AK37=TRUNC(AK37),1,"bad"),"bad")="bad",0,1)=1,AK37>0),1,0),IF(AK$30=$AX$1,1,IF(AK$30=$AY$1,IF(IFERROR(HLOOKUP(AK37,$AQ$4:$AZ$4,1,0),"bad")="bad",0,1),0))))))))))) -> 1 | BX37: =IF($F37="","",BX$30) -> 1 | BY37: =IF($F37="","",BY$30) -> 2 | BZ37: =IF($F37="","",BZ$30) -> 3 | CA37: =IF($F37="","",CA$30) -> 4 | CB37: =IF($F37="","",CB$30) -> 5 | CC37: =IF($F37="","",CC$30) -> 6 | CD37: =IF($F37="","",CD$30) -> 7 | CE37: =IF($F37="","",CE$30) -> 8 | ... CG37: =IF($F37="","",CG$30) -> 10
B38: =IF(F38="","",ROW()-30) | J38: =IF($F38="","",IF(AND(I38>0,I38<=H38),1,$AN$1)) | AK38: =IF($F38="","",IF(AJ38=1,1,IF(AM38<>1,$AN$1,IF(SUMPRODUCT(--(H38:AI38>=$H$6:$AI$6)*($H$6:$AI$6<>""))=COUNTIF($H$4:$AI$4,1),1,0)))) | AM38: =IF(SUM(AP38:BS38)=COUNT(AP38:BS38),1,0) -> 0 | AN38: =IF($F38="","",AN$30) | AO38: =IF($F38="","",AO$30) | AP38: =IF(H$30="",1,IF(H$4=99,1,IF(H38="",0,IF(H$30=$AQ$1,IF(ISNA(MATCH(H38,$AN$30:$AO$30,0)),0,1),IF(H$30=$AR$1,IF(IFERROR(H38*1,"bad")="bad",0,1),IF(H$30=$AS$1,IF(IFERROR(IF(H38=TRUNC(H38),1,"bad"),"bad")="bad",0,1),IF(H$30=$AT$1,IF(AND(IF(IFERROR(H38*1,"bad")="bad",0,1)=1,H38>=0),1,0),IF(H$30=$AU$1,IF(AND(IF(IFERROR(IF(H38=TRUNC(H38),1,"bad"),"bad")="bad",0,1)=1,H38>=0),1,0),IF(H$30=$AV$1,IF(AND(IF(IFERROR(H38*1,"bad")="bad",0,1)=1,H38>0),1,0),IF(H$30=$AW$1,IF(AND(IF(IFERROR(IF(H38=TRUNC(H38),1,"bad"),"bad")="bad",0,1)=1,H38>0),1,0),IF(H$30=$AX$1,1,IF(H$30=$AY$1,IF(IFERROR(HLOOKUP(H38,$AQ$4:$AZ$4,1,0),"bad")="bad",0,1),0)))))))))))) -> 0 | AQ38: =IF(I$30="",1,IF(I$4=99,1,IF(I38="",0,IF(I$30=$AQ$1,IF(ISNA(MATCH(I38,$AN$30:$AO$30,0)),0,1),IF(I$30=$AR$1,IF(IFERROR(I38*1,"bad")="bad",0,1),IF(I$30=$AS$1,IF(IFERROR(IF(I38=TRUNC(I38),1,"bad"),"bad")="bad",0,1),IF(I$30=$AT$1,IF(AND(IF(IFERROR(I38*1,"bad")="bad",0,1)=1,I38>=0),1,0),IF(I$30=$AU$1,IF(AND(IF(IFERROR(IF(I38=TRUNC(I38),1,"bad"),"bad")="bad",0,1)=1,I38>=0),1,0),IF(I$30=$AV$1,IF(AND(IF(IFERROR(I38*1,"bad")="bad",0,1)=1,I38>0),1,0),IF(I$30=$AW$1,IF(AND(IF(IFERROR(IF(I38=TRUNC(I38),1,"bad"),"bad")="bad",0,1)=1,I38>0),1,0),IF(I$30=$AX$1,1,IF(I$30=$AY$1,IF(IFERROR(HLOOKUP(I38,$AQ$4:$AZ$4,1,0),"bad")="bad",0,1),0)))))))))))) -> 0 | AS38: =IF(K$30="",1,IF(K$4=99,1,IF(K38="",0,IF(K$30=$AQ$1,IF(ISNA(MATCH(K38,$AN$30:$AO$30,0)),0,1),IF(K$30=$AR$1,IF(IFERROR(K38*1,"bad")="bad",0,1),IF(K$30=$AS$1,IF(IFERROR(IF(K38=TRUNC(K38),1,"bad"),"bad")="bad",0,1),IF(K$30=$AT$1,IF(AND(IF(IFERROR(K38*1,"bad")="bad",0,1)=1,K38>=0),1,0),IF(K$30=$AU$1,IF(AND(IF(IFERROR(IF(K38=TRUNC(K38),1,"bad"),"bad")="bad",0,1)=1,K38>=0),1,0),IF(K$30=$AV$1,IF(AND(IF(IFERROR(K38*1,"bad")="bad",0,1)=1,K38>0),1,0),IF(K$30=$AW$1,IF(AND(IF(IFERROR(IF(K38=TRUNC(K38),1,"bad"),"bad")="bad",0,1)=1,K38>0),1,0),IF(K$30=$AX$1,1,IF(K$30=$AY$1,IF(IFERROR(HLOOKUP(K38,$AQ$4:$AZ$4,1,0),"bad")="bad",0,1),0)))))))))))) -> 0 | AT38: =IF(L$30="",1,IF(L$4=99,1,IF(L38="",0,IF(L$30=$AQ$1,IF(ISNA(MATCH(L38,$AN$30:$AO$30,0)),0,1),IF(L$30=$AR$1,IF(IFERROR(L38*1,"bad")="bad",0,1),IF(L$30=$AS$1,IF(IFERROR(IF(L38=TRUNC(L38),1,"bad"),"bad")="bad",0,1),IF(L$30=$AT$1,IF(AND(IF(IFERROR(L38*1,"bad")="bad",0,1)=1,L38>=0),1,0),IF(L$30=$AU$1,IF(AND(IF(IFERROR(IF(L38=TRUNC(L38),1,"bad"),"bad")="bad",0,1)=1,L38>=0),1,0),IF(L$30=$AV$1,IF(AND(IF(IFERROR(L38*1,"bad")="bad",0,1)=1,L38>0),1,0),IF(L$30=$AW$1,IF(AND(IF(IFERROR(IF(L38=TRUNC(L38),1,"bad"),"bad")="bad",0,1)=1,L38>0),1,0),IF(L$30=$AX$1,1,IF(L$30=$AY$1,IF(IFERROR(HLOOKUP(L38,$AQ$4:$AZ$4,1,0),"bad")="bad",0,1),0)))))))))))) -> 0 | AU38: =IF(M$30="",1,IF(M$4=99,1,IF(M38="",0,IF(M$30=$AQ$1,IF(ISNA(MATCH(M38,$AN$30:$AO$30,0)),0,1),IF(M$30=$AR$1,IF(IFERROR(M38*1,"bad")="bad",0,1),IF(M$30=$AS$1,IF(IFERROR(IF(M38=TRUNC(M38),1,"bad"),"bad")="bad",0,1),IF(M$30=$AT$1,IF(AND(IF(IFERROR(M38*1,"bad")="bad",0,1)=1,M38>=0),1,0),IF(M$30=$AU$1,IF(AND(IF(IFERROR(IF(M38=TRUNC(M38),1,"bad"),"bad")="bad",0,1)=1,M38>=0),1,0),IF(M$30=$AV$1,IF(AND(IF(IFERROR(M38*1,"bad")="bad",0,1)=1,M38>0),1,0),IF(M$30=$AW$1,IF(AND(IF(IFERROR(IF(M38=TRUNC(M38),1,"bad"),"bad")="bad",0,1)=1,M38>0),1,0),IF(M$30=$AX$1,1,IF(M$30=$AY$1,IF(IFERROR(HLOOKUP(M38,$AQ$4:$AZ$4,1,0),"bad")="bad",0,1),0)))))))))))) -> 0 | AV38: =IF(N$30="",1,IF(N$4=99,1,IF(N38="",0,IF(N$30=$AQ$1,IF(ISNA(MATCH(N38,$AN$30:$AO$30,0)),0,1),IF(N$30=$AR$1,IF(IFERROR(N38*1,"bad")="bad",0,1),IF(N$30=$AS$1,IF(IFERROR(IF(N38=TRUNC(N38),1,"bad"),"bad")="bad",0,1),IF(N$30=$AT$1,IF(AND(IF(IFERROR(N38*1,"bad")="bad",0,1)=1,N38>=0),1,0),IF(N$30=$AU$1,IF(AND(IF(IFERROR(IF(N38=TRUNC(N38),1,"bad"),"bad")="bad",0,1)=1,N38>=0),1,0),IF(N$30=$AV$1,IF(AND(IF(IFERROR(N38*1,"bad")="bad",0,1)=1,N38>0),1,0),IF(N$30=$AW$1,IF(AND(IF(IFERROR(IF(N38=TRUNC(N38),1,"bad"),"bad")="bad",0,1)=1,N38>0),1,0),IF(N$30=$AX$1,1,IF(N$30=$AY$1,IF(IFERROR(HLOOKUP(N38,$AQ$4:$AZ$4,1,0),"bad")="bad",0,1),0)))))))))))) -> 0 | AW38: =IF(O$30="",1,IF(O$4=99,1,IF(O38="",0,IF(O$30=$AQ$1,IF(ISNA(MATCH(O38,$AN$30:$AO$30,0)),0,1),IF(O$30=$AR$1,IF(IFERROR(O38*1,"bad")="bad",0,1),IF(O$30=$AS$1,IF(IFERROR(IF(O38=TRUNC(O38),1,"bad"),"bad")="bad",0,1),IF(O$30=$AT$1,IF(AND(IF(IFERROR(O38*1,"bad")="bad",0,1)=1,O38>=0),1,0),IF(O$30=$AU$1,IF(AND(IF(IFERROR(IF(O38=TRUNC(O38),1,"bad"),"bad")="bad",0,1)=1,O38>=0),1,0),IF(O$30=$AV$1,IF(AND(IF(IFERROR(O38*1,"bad")="bad",0,1)=1,O38>0),1,0),IF(O$30=$AW$1,IF(AND(IF(IFERROR(IF(O38=TRUNC(O38),1,"bad"),"bad")="bad",0,1)=1,O38>0),1,0),IF(O$30=$AX$1,1,IF(O$30=$AY$1,IF(IFERROR(HLOOKUP(O38,$AQ$4:$AZ$4,1,0),"bad")="bad",0,1),0)))))))))))) -> 0 | AX38: =IF(P$30="",1,IF(P$4=99,1,IF(P38="",0,IF(P$30=$AQ$1,IF(ISNA(MATCH(P38,$AN$30:$AO$30,0)),0,1),IF(P$30=$AR$1,IF(IFERROR(P38*1,"bad")="bad",0,1),IF(P$30=$AS$1,IF(IFERROR(IF(P38=TRUNC(P38),1,"bad"),"bad")="bad",0,1),IF(P$30=$AT$1,IF(AND(IF(IFERROR(P38*1,"bad")="bad",0,1)=1,P38>=0),1,0),IF(P$30=$AU$1,IF(AND(IF(IFERROR(IF(P38=TRUNC(P38),1,"bad"),"bad")="bad",0,1)=1,P38>=0),1,0),IF(P$30=$AV$1,IF(AND(IF(IFERROR(P38*1,"bad")="bad",0,1)=1,P38>0),1,0),IF(P$30=$AW$1,IF(AND(IF(IFERROR(IF(P38=TRUNC(P38),1,"bad"),"bad")="bad",0,1)=1,P38>0),1,0),IF(P$30=$AX$1,1,IF(P$30=$AY$1,IF(IFERROR(HLOOKUP(P38,$AQ$4:$AZ$4,1,0),"bad")="bad",0,1),0)))))))))))) -> 0 | AY38: =IF(Q$30="",1,IF(Q$4=99,1,IF(Q38="",0,IF(Q$30=$AQ$1,IF(ISNA(MATCH(Q38,$AN$30:$AO$30,0)),0,1),IF(Q$30=$AR$1,IF(IFERROR(Q38*1,"bad")="bad",0,1),IF(Q$30=$AS$1,IF(IFERROR(IF(Q38=TRUNC(Q38),1,"bad"),"bad")="bad",0,1),IF(Q$30=$AT$1,IF(AND(IF(IFERROR(Q38*1,"bad")="bad",0,1)=1,Q38>=0),1,0),IF(Q$30=$AU$1,IF(AND(IF(IFERROR(IF(Q38=TRUNC(Q38),1,"bad"),"bad")="bad",0,1)=1,Q38>=0),1,0),IF(Q$30=$AV$1,IF(AND(IF(IFERROR(Q38*1,"bad")="bad",0,1)=1,Q38>0),1,0),IF(Q$30=$AW$1,IF(AND(IF(IFERROR(IF(Q38=TRUNC(Q38),1,"bad"),"bad")="bad",0,1)=1,Q38>0),1,0),IF(Q$30=$AX$1,1,IF(Q$30=$AY$1,IF(IFERROR(HLOOKUP(Q38,$AQ$4:$AZ$4,1,0),"bad")="bad",0,1),0)))))))))))) -> 0 | AZ38: =IF(R$30="",1,IF(R$4=99,1,IF(R38="",0,IF(R$30=$AQ$1,IF(ISNA(MATCH(R38,$AN$30:$AO$30,0)),0,1),IF(R$30=$AR$1,IF(IFERROR(R38*1,"bad")="bad",0,1),IF(R$30=$AS$1,IF(IFERROR(IF(R38=TRUNC(R38),1,"bad"),"bad")="bad",0,1),IF(R$30=$AT$1,IF(AND(IF(IFERROR(R38*1,"bad")="bad",0,1)=1,R38>=0),1,0),IF(R$30=$AU$1,IF(AND(IF(IFERROR(IF(R38=TRUNC(R38),1,"bad"),"bad")="bad",0,1)=1,R38>=0),1,0),IF(R$30=$AV$1,IF(AND(IF(IFERROR(R38*1,"bad")="bad",0,1)=1,R38>0),1,0),IF(R$30=$AW$1,IF(AND(IF(IFERROR(IF(R38=TRUNC(R38),1,"bad"),"bad")="bad",0,1)=1,R38>0),1,0),IF(R$30=$AX$1,1,IF(R$30=$AY$1,IF(IFERROR(HLOOKUP(R38,$AQ$4:$AZ$4,1,0),"bad")="bad",0,1),0)))))))))))) -> 0 | ... BR38: =IF(AJ$30="",1,IF(AJ$4=99,1,IF(AJ38="",0,IF(AJ$30=$AQ$1,IF(ISNA(MATCH(AJ38,$AN$30:$AO$30,0)),0,1),IF(AJ$30=$AR$1,IF(IFERROR(AJ38*1,"bad")="bad",0,1),IF(AJ$30=$AS$1,IF(IFERROR(IF(AJ38=TRUNC(AJ38),1,"bad"),"bad")="bad",0,1),IF(AJ$30=$AT$1,IF(AND(IF(IFERROR(AJ38*1,"bad")="bad",0,1)=1,AJ38>=0),1,0),IF(AJ$30=$AU$1,IF(AND(IF(IFERROR(IF(AJ38=TRUNC(AJ38),1,"bad"),"bad")="bad",0,1)=1,AJ38>=0),1,0),IF(AJ$30=$AV$1,IF(AND(IF(IFERROR(AJ38*1,"bad")="bad",0,1)=1,AJ38>0),1,0),IF(AJ$30=$AW$1,IF(AND(IF(IFERROR(IF(AJ38=TRUNC(AJ38),1,"bad"),"bad")="bad",0,1)=1,AJ38>0),1,0),IF(AJ$30=$AX$1,1,IF(AJ$30=$AY$1,IF(IFERROR(HLOOKUP(AJ38,$AQ$4:$AZ$4,1,0),"bad")="bad",0,1),0)))))))))))) -> 1 | BS38: =IF(AK$30="",1,IF(AK38="",0,IF(AK$30=$AQ$1,IF(ISNA(MATCH(AK38,$AN$30:$AO$30,0)),0,1),IF(AK$30=$AR$1,IF(IFERROR(AK38*1,"bad")="bad",0,1),IF(AK$30=$AS$1,IF(IFERROR(IF(AK38=TRUNC(AK38),1,"bad"),"bad")="bad",0,1),IF(AK$30=$AT$1,IF(AND(IF(IFERROR(AK38*1,"bad")="bad",0,1)=1,AK38>=0),1,0),IF(AK$30=$AU$1,IF(AND(IF(IFERROR(IF(AK38=TRUNC(AK38),1,"bad"),"bad")="bad",0,1)=1,AK38>=0),1,0),IF(AK$30=$AV$1,IF(AND(IF(IFERROR(AK38*1,"bad")="bad",0,1)=1,AK38>0),1,0),IF(AK$30=$AW$1,IF(AND(IF(IFERROR(IF(AK38=TRUNC(AK38),1,"bad"),"bad")="bad",0,1)=1,AK38>0),1,0),IF(AK$30=$AX$1,1,IF(AK$30=$AY$1,IF(IFERROR(HLOOKUP(AK38,$AQ$4:$AZ$4,1,0),"bad")="bad",0,1),0))))))))))) -> 1 | BX38: =IF($F38="","",BX$30) | BY38: =IF($F38="","",BY$30) | BZ38: =IF($F38="","",BZ$30) | CA38: =IF($F38="","",CA$30) | CB38: =IF($F38="","",CB$30) | CC38: =IF($F38="","",CC$30) | CD38: =IF($F38="","",CD$30) | CE38: =IF($F38="","",CE$30) | ... CG38: =IF($F38="","",CG$30)
B39: =IF(F39="","",ROW()-30) | J39: =IF($F39="","",IF(AND(I39>0,I39<=H39),1,$AN$1)) | AK39: =IF($F39="","",IF(AJ39=1,1,IF(AM39<>1,$AN$1,IF(SUMPRODUCT(--(H39:AI39>=$H$6:$AI$6)*($H$6:$AI$6<>""))=COUNTIF($H$4:$AI$4,1),1,0)))) | AM39: =IF(SUM(AP39:BS39)=COUNT(AP39:BS39),1,0) -> 0 | AN39: =IF($F39="","",AN$30) | AO39: =IF($F39="","",AO$30) | AP39: =IF(H$30="",1,IF(H$4=99,1,IF(H39="",0,IF(H$30=$AQ$1,IF(ISNA(MATCH(H39,$AN$30:$AO$30,0)),0,1),IF(H$30=$AR$1,IF(IFERROR(H39*1,"bad")="bad",0,1),IF(H$30=$AS$1,IF(IFERROR(IF(H39=TRUNC(H39),1,"bad"),"bad")="bad",0,1),IF(H$30=$AT$1,IF(AND(IF(IFERROR(H39*1,"bad")="bad",0,1)=1,H39>=0),1,0),IF(H$30=$AU$1,IF(AND(IF(IFERROR(IF(H39=TRUNC(H39),1,"bad"),"bad")="bad",0,1)=1,H39>=0),1,0),IF(H$30=$AV$1,IF(AND(IF(IFERROR(H39*1,"bad")="bad",0,1)=1,H39>0),1,0),IF(H$30=$AW$1,IF(AND(IF(IFERROR(IF(H39=TRUNC(H39),1,"bad"),"bad")="bad",0,1)=1,H39>0),1,0),IF(H$30=$AX$1,1,IF(H$30=$AY$1,IF(IFERROR(HLOOKUP(H39,$AQ$4:$AZ$4,1,0),"bad")="bad",0,1),0)))))))))))) -> 0 | AQ39: =IF(I$30="",1,IF(I$4=99,1,IF(I39="",0,IF(I$30=$AQ$1,IF(ISNA(MATCH(I39,$AN$30:$AO$30,0)),0,1),IF(I$30=$AR$1,IF(IFERROR(I39*1,"bad")="bad",0,1),IF(I$30=$AS$1,IF(IFERROR(IF(I39=TRUNC(I39),1,"bad"),"bad")="bad",0,1),IF(I$30=$AT$1,IF(AND(IF(IFERROR(I39*1,"bad")="bad",0,1)=1,I39>=0),1,0),IF(I$30=$AU$1,IF(AND(IF(IFERROR(IF(I39=TRUNC(I39),1,"bad"),"bad")="bad",0,1)=1,I39>=0),1,0),IF(I$30=$AV$1,IF(AND(IF(IFERROR(I39*1,"bad")="bad",0,1)=1,I39>0),1,0),IF(I$30=$AW$1,IF(AND(IF(IFERROR(IF(I39=TRUNC(I39),1,"bad"),"bad")="bad",0,1)=1,I39>0),1,0),IF(I$30=$AX$1,1,IF(I$30=$AY$1,IF(IFERROR(HLOOKUP(I39,$AQ$4:$AZ$4,1,0),"bad")="bad",0,1),0)))))))))))) -> 0 | AS39: =IF(K$30="",1,IF(K$4=99,1,IF(K39="",0,IF(K$30=$AQ$1,IF(ISNA(MATCH(K39,$AN$30:$AO$30,0)),0,1),IF(K$30=$AR$1,IF(IFERROR(K39*1,"bad")="bad",0,1),IF(K$30=$AS$1,IF(IFERROR(IF(K39=TRUNC(K39),1,"bad"),"bad")="bad",0,1),IF(K$30=$AT$1,IF(AND(IF(IFERROR(K39*1,"bad")="bad",0,1)=1,K39>=0),1,0),IF(K$30=$AU$1,IF(AND(IF(IFERROR(IF(K39=TRUNC(K39),1,"bad"),"bad")="bad",0,1)=1,K39>=0),1,0),IF(K$30=$AV$1,IF(AND(IF(IFERROR(K39*1,"bad")="bad",0,1)=1,K39>0),1,0),IF(K$30=$AW$1,IF(AND(IF(IFERROR(IF(K39=TRUNC(K39),1,"bad"),"bad")="bad",0,1)=1,K39>0),1,0),IF(K$30=$AX$1,1,IF(K$30=$AY$1,IF(IFERROR(HLOOKUP(K39,$AQ$4:$AZ$4,1,0),"bad")="bad",0,1),0)))))))))))) -> 0 | AT39: =IF(L$30="",1,IF(L$4=99,1,IF(L39="",0,IF(L$30=$AQ$1,IF(ISNA(MATCH(L39,$AN$30:$AO$30,0)),0,1),IF(L$30=$AR$1,IF(IFERROR(L39*1,"bad")="bad",0,1),IF(L$30=$AS$1,IF(IFERROR(IF(L39=TRUNC(L39),1,"bad"),"bad")="bad",0,1),IF(L$30=$AT$1,IF(AND(IF(IFERROR(L39*1,"bad")="bad",0,1)=1,L39>=0),1,0),IF(L$30=$AU$1,IF(AND(IF(IFERROR(IF(L39=TRUNC(L39),1,"bad"),"bad")="bad",0,1)=1,L39>=0),1,0),IF(L$30=$AV$1,IF(AND(IF(IFERROR(L39*1,"bad")="bad",0,1)=1,L39>0),1,0),IF(L$30=$AW$1,IF(AND(IF(IFERROR(IF(L39=TRUNC(L39),1,"bad"),"bad")="bad",0,1)=1,L39>0),1,0),IF(L$30=$AX$1,1,IF(L$30=$AY$1,IF(IFERROR(HLOOKUP(L39,$AQ$4:$AZ$4,1,0),"bad")="bad",0,1),0)))))))))))) -> 0 | AU39: =IF(M$30="",1,IF(M$4=99,1,IF(M39="",0,IF(M$30=$AQ$1,IF(ISNA(MATCH(M39,$AN$30:$AO$30,0)),0,1),IF(M$30=$AR$1,IF(IFERROR(M39*1,"bad")="bad",0,1),IF(M$30=$AS$1,IF(IFERROR(IF(M39=TRUNC(M39),1,"bad"),"bad")="bad",0,1),IF(M$30=$AT$1,IF(AND(IF(IFERROR(M39*1,"bad")="bad",0,1)=1,M39>=0),1,0),IF(M$30=$AU$1,IF(AND(IF(IFERROR(IF(M39=TRUNC(M39),1,"bad"),"bad")="bad",0,1)=1,M39>=0),1,0),IF(M$30=$AV$1,IF(AND(IF(IFERROR(M39*1,"bad")="bad",0,1)=1,M39>0),1,0),IF(M$30=$AW$1,IF(AND(IF(IFERROR(IF(M39=TRUNC(M39),1,"bad"),"bad")="bad",0,1)=1,M39>0),1,0),IF(M$30=$AX$1,1,IF(M$30=$AY$1,IF(IFERROR(HLOOKUP(M39,$AQ$4:$AZ$4,1,0),"bad")="bad",0,1),0)))))))))))) -> 0 | AV39: =IF(N$30="",1,IF(N$4=99,1,IF(N39="",0,IF(N$30=$AQ$1,IF(ISNA(MATCH(N39,$AN$30:$AO$30,0)),0,1),IF(N$30=$AR$1,IF(IFERROR(N39*1,"bad")="bad",0,1),IF(N$30=$AS$1,IF(IFERROR(IF(N39=TRUNC(N39),1,"bad"),"bad")="bad",0,1),IF(N$30=$AT$1,IF(AND(IF(IFERROR(N39*1,"bad")="bad",0,1)=1,N39>=0),1,0),IF(N$30=$AU$1,IF(AND(IF(IFERROR(IF(N39=TRUNC(N39),1,"bad"),"bad")="bad",0,1)=1,N39>=0),1,0),IF(N$30=$AV$1,IF(AND(IF(IFERROR(N39*1,"bad")="bad",0,1)=1,N39>0),1,0),IF(N$30=$AW$1,IF(AND(IF(IFERROR(IF(N39=TRUNC(N39),1,"bad"),"bad")="bad",0,1)=1,N39>0),1,0),IF(N$30=$AX$1,1,IF(N$30=$AY$1,IF(IFERROR(HLOOKUP(N39,$AQ$4:$AZ$4,1,0),"bad")="bad",0,1),0)))))))))))) -> 0 | AW39: =IF(O$30="",1,IF(O$4=99,1,IF(O39="",0,IF(O$30=$AQ$1,IF(ISNA(MATCH(O39,$AN$30:$AO$30,0)),0,1),IF(O$30=$AR$1,IF(IFERROR(O39*1,"bad")="bad",0,1),IF(O$30=$AS$1,IF(IFERROR(IF(O39=TRUNC(O39),1,"bad"),"bad")="bad",0,1),IF(O$30=$AT$1,IF(AND(IF(IFERROR(O39*1,"bad")="bad",0,1)=1,O39>=0),1,0),IF(O$30=$AU$1,IF(AND(IF(IFERROR(IF(O39=TRUNC(O39),1,"bad"),"bad")="bad",0,1)=1,O39>=0),1,0),IF(O$30=$AV$1,IF(AND(IF(IFERROR(O39*1,"bad")="bad",0,1)=1,O39>0),1,0),IF(O$30=$AW$1,IF(AND(IF(IFERROR(IF(O39=TRUNC(O39),1,"bad"),"bad")="bad",0,1)=1,O39>0),1,0),IF(O$30=$AX$1,1,IF(O$30=$AY$1,IF(IFERROR(HLOOKUP(O39,$AQ$4:$AZ$4,1,0),"bad")="bad",0,1),0)))))))))))) -> 0 | AX39: =IF(P$30="",1,IF(P$4=99,1,IF(P39="",0,IF(P$30=$AQ$1,IF(ISNA(MATCH(P39,$AN$30:$AO$30,0)),0,1),IF(P$30=$AR$1,IF(IFERROR(P39*1,"bad")="bad",0,1),IF(P$30=$AS$1,IF(IFERROR(IF(P39=TRUNC(P39),1,"bad"),"bad")="bad",0,1),IF(P$30=$AT$1,IF(AND(IF(IFERROR(P39*1,"bad")="bad",0,1)=1,P39>=0),1,0),IF(P$30=$AU$1,IF(AND(IF(IFERROR(IF(P39=TRUNC(P39),1,"bad"),"bad")="bad",0,1)=1,P39>=0),1,0),IF(P$30=$AV$1,IF(AND(IF(IFERROR(P39*1,"bad")="bad",0,1)=1,P39>0),1,0),IF(P$30=$AW$1,IF(AND(IF(IFERROR(IF(P39=TRUNC(P39),1,"bad"),"bad")="bad",0,1)=1,P39>0),1,0),IF(P$30=$AX$1,1,IF(P$30=$AY$1,IF(IFERROR(HLOOKUP(P39,$AQ$4:$AZ$4,1,0),"bad")="bad",0,1),0)))))))))))) -> 0 | AY39: =IF(Q$30="",1,IF(Q$4=99,1,IF(Q39="",0,IF(Q$30=$AQ$1,IF(ISNA(MATCH(Q39,$AN$30:$AO$30,0)),0,1),IF(Q$30=$AR$1,IF(IFERROR(Q39*1,"bad")="bad",0,1),IF(Q$30=$AS$1,IF(IFERROR(IF(Q39=TRUNC(Q39),1,"bad"),"bad")="bad",0,1),IF(Q$30=$AT$1,IF(AND(IF(IFERROR(Q39*1,"bad")="bad",0,1)=1,Q39>=0),1,0),IF(Q$30=$AU$1,IF(AND(IF(IFERROR(IF(Q39=TRUNC(Q39),1,"bad"),"bad")="bad",0,1)=1,Q39>=0),1,0),IF(Q$30=$AV$1,IF(AND(IF(IFERROR(Q39*1,"bad")="bad",0,1)=1,Q39>0),1,0),IF(Q$30=$AW$1,IF(AND(IF(IFERROR(IF(Q39=TRUNC(Q39),1,"bad"),"bad")="bad",0,1)=1,Q39>0),1,0),IF(Q$30=$AX$1,1,IF(Q$30=$AY$1,IF(IFERROR(HLOOKUP(Q39,$AQ$4:$AZ$4,1,0),"bad")="bad",0,1),0)))))))))))) -> 0 | AZ39: =IF(R$30="",1,IF(R$4=99,1,IF(R39="",0,IF(R$30=$AQ$1,IF(ISNA(MATCH(R39,$AN$30:$AO$30,0)),0,1),IF(R$30=$AR$1,IF(IFERROR(R39*1,"bad")="bad",0,1),IF(R$30=$AS$1,IF(IFERROR(IF(R39=TRUNC(R39),1,"bad"),"bad")="bad",0,1),IF(R$30=$AT$1,IF(AND(IF(IFERROR(R39*1,"bad")="bad",0,1)=1,R39>=0),1,0),IF(R$30=$AU$1,IF(AND(IF(IFERROR(IF(R39=TRUNC(R39),1,"bad"),"bad")="bad",0,1)=1,R39>=0),1,0),IF(R$30=$AV$1,IF(AND(IF(IFERROR(R39*1,"bad")="bad",0,1)=1,R39>0),1,0),IF(R$30=$AW$1,IF(AND(IF(IFERROR(IF(R39=TRUNC(R39),1,"bad"),"bad")="bad",0,1)=1,R39>0),1,0),IF(R$30=$AX$1,1,IF(R$30=$AY$1,IF(IFERROR(HLOOKUP(R39,$AQ$4:$AZ$4,1,0),"bad")="bad",0,1),0)))))))))))) -> 0 | ... BR39: =IF(AJ$30="",1,IF(AJ$4=99,1,IF(AJ39="",0,IF(AJ$30=$AQ$1,IF(ISNA(MATCH(AJ39,$AN$30:$AO$30,0)),0,1),IF(AJ$30=$AR$1,IF(IFERROR(AJ39*1,"bad")="bad",0,1),IF(AJ$30=$AS$1,IF(IFERROR(IF(AJ39=TRUNC(AJ39),1,"bad"),"bad")="bad",0,1),IF(AJ$30=$AT$1,IF(AND(IF(IFERROR(AJ39*1,"bad")="bad",0,1)=1,AJ39>=0),1,0),IF(AJ$30=$AU$1,IF(AND(IF(IFERROR(IF(AJ39=TRUNC(AJ39),1,"bad"),"bad")="bad",0,1)=1,AJ39>=0),1,0),IF(AJ$30=$AV$1,IF(AND(IF(IFERROR(AJ39*1,"bad")="bad",0,1)=1,AJ39>0),1,0),IF(AJ$30=$AW$1,IF(AND(IF(IFERROR(IF(AJ39=TRUNC(AJ39),1,"bad"),"bad")="bad",0,1)=1,AJ39>0),1,0),IF(AJ$30=$AX$1,1,IF(AJ$30=$AY$1,IF(IFERROR(HLOOKUP(AJ39,$AQ$4:$AZ$4,1,0),"bad")="bad",0,1),0)))))))))))) -> 1 | BS39: =IF(AK$30="",1,IF(AK39="",0,IF(AK$30=$AQ$1,IF(ISNA(MATCH(AK39,$AN$30:$AO$30,0)),0,1),IF(AK$30=$AR$1,IF(IFERROR(AK39*1,"bad")="bad",0,1),IF(AK$30=$AS$1,IF(IFERROR(IF(AK39=TRUNC(AK39),1,"bad"),"bad")="bad",0,1),IF(AK$30=$AT$1,IF(AND(IF(IFERROR(AK39*1,"bad")="bad",0,1)=1,AK39>=0),1,0),IF(AK$30=$AU$1,IF(AND(IF(IFERROR(IF(AK39=TRUNC(AK39),1,"bad"),"bad")="bad",0,1)=1,AK39>=0),1,0),IF(AK$30=$AV$1,IF(AND(IF(IFERROR(AK39*1,"bad")="bad",0,1)=1,AK39>0),1,0),IF(AK$30=$AW$1,IF(AND(IF(IFERROR(IF(AK39=TRUNC(AK39),1,"bad"),"bad")="bad",0,1)=1,AK39>0),1,0),IF(AK$30=$AX$1,1,IF(AK$30=$AY$1,IF(IFERROR(HLOOKUP(AK39,$AQ$4:$AZ$4,1,0),"bad")="bad",0,1),0))))))))))) -> 1 | BX39: =IF($F39="","",BX$30) | BY39: =IF($F39="","",BY$30) | BZ39: =IF($F39="","",BZ$30) | CA39: =IF($F39="","",CA$30) | CB39: =IF($F39="","",CB$30) | CC39: =IF($F39="","",CC$30) | CD39: =IF($F39="","",CD$30) | CE39: =IF($F39="","",CE$30) | ... CG39: =IF($F39="","",CG$30)
B40: =IF(F40="","",ROW()-30) | J40: =IF($F40="","",IF(AND(I40>0,I40<=H40),1,$AN$1)) | AK40: =IF($F40="","",IF(AJ40=1,1,IF(AM40<>1,$AN$1,IF(SUMPRODUCT(--(H40:AI40>=$H$6:$AI$6)*($H$6:$AI$6<>""))=COUNTIF($H$4:$AI$4,1),1,0)))) | AM40: =IF(SUM(AP40:BS40)=COUNT(AP40:BS40),1,0) -> 0 | AN40: =IF($F40="","",AN$30) | AO40: =IF($F40="","",AO$30) | AP40: =IF(H$30="",1,IF(H$4=99,1,IF(H40="",0,IF(H$30=$AQ$1,IF(ISNA(MATCH(H40,$AN$30:$AO$30,0)),0,1),IF(H$30=$AR$1,IF(IFERROR(H40*1,"bad")="bad",0,1),IF(H$30=$AS$1,IF(IFERROR(IF(H40=TRUNC(H40),1,"bad"),"bad")="bad",0,1),IF(H$30=$AT$1,IF(AND(IF(IFERROR(H40*1,"bad")="bad",0,1)=1,H40>=0),1,0),IF(H$30=$AU$1,IF(AND(IF(IFERROR(IF(H40=TRUNC(H40),1,"bad"),"bad")="bad",0,1)=1,H40>=0),1,0),IF(H$30=$AV$1,IF(AND(IF(IFERROR(H40*1,"bad")="bad",0,1)=1,H40>0),1,0),IF(H$30=$AW$1,IF(AND(IF(IFERROR(IF(H40=TRUNC(H40),1,"bad"),"bad")="bad",0,1)=1,H40>0),1,0),IF(H$30=$AX$1,1,IF(H$30=$AY$1,IF(IFERROR(HLOOKUP(H40,$AQ$4:$AZ$4,1,0),"bad")="bad",0,1),0)))))))))))) -> 0 | AQ40: =IF(I$30="",1,IF(I$4=99,1,IF(I40="",0,IF(I$30=$AQ$1,IF(ISNA(MATCH(I40,$AN$30:$AO$30,0)),0,1),IF(I$30=$AR$1,IF(IFERROR(I40*1,"bad")="bad",0,1),IF(I$30=$AS$1,IF(IFERROR(IF(I40=TRUNC(I40),1,"bad"),"bad")="bad",0,1),IF(I$30=$AT$1,IF(AND(IF(IFERROR(I40*1,"bad")="bad",0,1)=1,I40>=0),1,0),IF(I$30=$AU$1,IF(AND(IF(IFERROR(IF(I40=TRUNC(I40),1,"bad"),"bad")="bad",0,1)=1,I40>=0),1,0),IF(I$30=$AV$1,IF(AND(IF(IFERROR(I40*1,"bad")="bad",0,1)=1,I40>0),1,0),IF(I$30=$AW$1,IF(AND(IF(IFERROR(IF(I40=TRUNC(I40),1,"bad"),"bad")="bad",0,1)=1,I40>0),1,0),IF(I$30=$AX$1,1,IF(I$30=$AY$1,IF(IFERROR(HLOOKUP(I40,$AQ$4:$AZ$4,1,0),"bad")="bad",0,1),0)))))))))))) -> 0 | AS40: =IF(K$30="",1,IF(K$4=99,1,IF(K40="",0,IF(K$30=$AQ$1,IF(ISNA(MATCH(K40,$AN$30:$AO$30,0)),0,1),IF(K$30=$AR$1,IF(IFERROR(K40*1,"bad")="bad",0,1),IF(K$30=$AS$1,IF(IFERROR(IF(K40=TRUNC(K40),1,"bad"),"bad")="bad",0,1),IF(K$30=$AT$1,IF(AND(IF(IFERROR(K40*1,"bad")="bad",0,1)=1,K40>=0),1,0),IF(K$30=$AU$1,IF(AND(IF(IFERROR(IF(K40=TRUNC(K40),1,"bad"),"bad")="bad",0,1)=1,K40>=0),1,0),IF(K$30=$AV$1,IF(AND(IF(IFERROR(K40*1,"bad")="bad",0,1)=1,K40>0),1,0),IF(K$30=$AW$1,IF(AND(IF(IFERROR(IF(K40=TRUNC(K40),1,"bad"),"bad")="bad",0,1)=1,K40>0),1,0),IF(K$30=$AX$1,1,IF(K$30=$AY$1,IF(IFERROR(HLOOKUP(K40,$AQ$4:$AZ$4,1,0),"bad")="bad",0,1),0)))))))))))) -> 0 | AT40: =IF(L$30="",1,IF(L$4=99,1,IF(L40="",0,IF(L$30=$AQ$1,IF(ISNA(MATCH(L40,$AN$30:$AO$30,0)),0,1),IF(L$30=$AR$1,IF(IFERROR(L40*1,"bad")="bad",0,1),IF(L$30=$AS$1,IF(IFERROR(IF(L40=TRUNC(L40),1,"bad"),"bad")="bad",0,1),IF(L$30=$AT$1,IF(AND(IF(IFERROR(L40*1,"bad")="bad",0,1)=1,L40>=0),1,0),IF(L$30=$AU$1,IF(AND(IF(IFERROR(IF(L40=TRUNC(L40),1,"bad"),"bad")="bad",0,1)=1,L40>=0),1,0),IF(L$30=$AV$1,IF(AND(IF(IFERROR(L40*1,"bad")="bad",0,1)=1,L40>0),1,0),IF(L$30=$AW$1,IF(AND(IF(IFERROR(IF(L40=TRUNC(L40),1,"bad"),"bad")="bad",0,1)=1,L40>0),1,0),IF(L$30=$AX$1,1,IF(L$30=$AY$1,IF(IFERROR(HLOOKUP(L40,$AQ$4:$AZ$4,1,0),"bad")="bad",0,1),0)))))))))))) -> 0 | AU40: =IF(M$30="",1,IF(M$4=99,1,IF(M40="",0,IF(M$30=$AQ$1,IF(ISNA(MATCH(M40,$AN$30:$AO$30,0)),0,1),IF(M$30=$AR$1,IF(IFERROR(M40*1,"bad")="bad",0,1),IF(M$30=$AS$1,IF(IFERROR(IF(M40=TRUNC(M40),1,"bad"),"bad")="bad",0,1),IF(M$30=$AT$1,IF(AND(IF(IFERROR(M40*1,"bad")="bad",0,1)=1,M40>=0),1,0),IF(M$30=$AU$1,IF(AND(IF(IFERROR(IF(M40=TRUNC(M40),1,"bad"),"bad")="bad",0,1)=1,M40>=0),1,0),IF(M$30=$AV$1,IF(AND(IF(IFERROR(M40*1,"bad")="bad",0,1)=1,M40>0),1,0),IF(M$30=$AW$1,IF(AND(IF(IFERROR(IF(M40=TRUNC(M40),1,"bad"),"bad")="bad",0,1)=1,M40>0),1,0),IF(M$30=$AX$1,1,IF(M$30=$AY$1,IF(IFERROR(HLOOKUP(M40,$AQ$4:$AZ$4,1,0),"bad")="bad",0,1),0)))))))))))) -> 0 | AV40: =IF(N$30="",1,IF(N$4=99,1,IF(N40="",0,IF(N$30=$AQ$1,IF(ISNA(MATCH(N40,$AN$30:$AO$30,0)),0,1),IF(N$30=$AR$1,IF(IFERROR(N40*1,"bad")="bad",0,1),IF(N$30=$AS$1,IF(IFERROR(IF(N40=TRUNC(N40),1,"bad"),"bad")="bad",0,1),IF(N$30=$AT$1,IF(AND(IF(IFERROR(N40*1,"bad")="bad",0,1)=1,N40>=0),1,0),IF(N$30=$AU$1,IF(AND(IF(IFERROR(IF(N40=TRUNC(N40),1,"bad"),"bad")="bad",0,1)=1,N40>=0),1,0),IF(N$30=$AV$1,IF(AND(IF(IFERROR(N40*1,"bad")="bad",0,1)=1,N40>0),1,0),IF(N$30=$AW$1,IF(AND(IF(IFERROR(IF(N40=TRUNC(N40),1,"bad"),"bad")="bad",0,1)=1,N40>0),1,0),IF(N$30=$AX$1,1,IF(N$30=$AY$1,IF(IFERROR(HLOOKUP(N40,$AQ$4:$AZ$4,1,0),"bad")="bad",0,1),0)))))))))))) -> 0 | AW40: =IF(O$30="",1,IF(O$4=99,1,IF(O40="",0,IF(O$30=$AQ$1,IF(ISNA(MATCH(O40,$AN$30:$AO$30,0)),0,1),IF(O$30=$AR$1,IF(IFERROR(O40*1,"bad")="bad",0,1),IF(O$30=$AS$1,IF(IFERROR(IF(O40=TRUNC(O40),1,"bad"),"bad")="bad",0,1),IF(O$30=$AT$1,IF(AND(IF(IFERROR(O40*1,"bad")="bad",0,1)=1,O40>=0),1,0),IF(O$30=$AU$1,IF(AND(IF(IFERROR(IF(O40=TRUNC(O40),1,"bad"),"bad")="bad",0,1)=1,O40>=0),1,0),IF(O$30=$AV$1,IF(AND(IF(IFERROR(O40*1,"bad")="bad",0,1)=1,O40>0),1,0),IF(O$30=$AW$1,IF(AND(IF(IFERROR(IF(O40=TRUNC(O40),1,"bad"),"bad")="bad",0,1)=1,O40>0),1,0),IF(O$30=$AX$1,1,IF(O$30=$AY$1,IF(IFERROR(HLOOKUP(O40,$AQ$4:$AZ$4,1,0),"bad")="bad",0,1),0)))))))))))) -> 0 | AX40: =IF(P$30="",1,IF(P$4=99,1,IF(P40="",0,IF(P$30=$AQ$1,IF(ISNA(MATCH(P40,$AN$30:$AO$30,0)),0,1),IF(P$30=$AR$1,IF(IFERROR(P40*1,"bad")="bad",0,1),IF(P$30=$AS$1,IF(IFERROR(IF(P40=TRUNC(P40),1,"bad"),"bad")="bad",0,1),IF(P$30=$AT$1,IF(AND(IF(IFERROR(P40*1,"bad")="bad",0,1)=1,P40>=0),1,0),IF(P$30=$AU$1,IF(AND(IF(IFERROR(IF(P40=TRUNC(P40),1,"bad"),"bad")="bad",0,1)=1,P40>=0),1,0),IF(P$30=$AV$1,IF(AND(IF(IFERROR(P40*1,"bad")="bad",0,1)=1,P40>0),1,0),IF(P$30=$AW$1,IF(AND(IF(IFERROR(IF(P40=TRUNC(P40),1,"bad"),"bad")="bad",0,1)=1,P40>0),1,0),IF(P$30=$AX$1,1,IF(P$30=$AY$1,IF(IFERROR(HLOOKUP(P40,$AQ$4:$AZ$4,1,0),"bad")="bad",0,1),0)))))))))))) -> 0 | AY40: =IF(Q$30="",1,IF(Q$4=99,1,IF(Q40="",0,IF(Q$30=$AQ$1,IF(ISNA(MATCH(Q40,$AN$30:$AO$30,0)),0,1),IF(Q$30=$AR$1,IF(IFERROR(Q40*1,"bad")="bad",0,1),IF(Q$30=$AS$1,IF(IFERROR(IF(Q40=TRUNC(Q40),1,"bad"),"bad")="bad",0,1),IF(Q$30=$AT$1,IF(AND(IF(IFERROR(Q40*1,"bad")="bad",0,1)=1,Q40>=0),1,0),IF(Q$30=$AU$1,IF(AND(IF(IFERROR(IF(Q40=TRUNC(Q40),1,"bad"),"bad")="bad",0,1)=1,Q40>=0),1,0),IF(Q$30=$AV$1,IF(AND(IF(IFERROR(Q40*1,"bad")="bad",0,1)=1,Q40>0),1,0),IF(Q$30=$AW$1,IF(AND(IF(IFERROR(IF(Q40=TRUNC(Q40),1,"bad"),"bad")="bad",0,1)=1,Q40>0),1,0),IF(Q$30=$AX$1,1,IF(Q$30=$AY$1,IF(IFERROR(HLOOKUP(Q40,$AQ$4:$AZ$4,1,0),"bad")="bad",0,1),0)))))))))))) -> 0 | AZ40: =IF(R$30="",1,IF(R$4=99,1,IF(R40="",0,IF(R$30=$AQ$1,IF(ISNA(MATCH(R40,$AN$30:$AO$30,0)),0,1),IF(R$30=$AR$1,IF(IFERROR(R40*1,"bad")="bad",0,1),IF(R$30=$AS$1,IF(IFERROR(IF(R40=TRUNC(R40),1,"bad"),"bad")="bad",0,1),IF(R$30=$AT$1,IF(AND(IF(IFERROR(R40*1,"bad")="bad",0,1)=1,R40>=0),1,0),IF(R$30=$AU$1,IF(AND(IF(IFERROR(IF(R40=TRUNC(R40),1,"bad"),"bad")="bad",0,1)=1,R40>=0),1,0),IF(R$30=$AV$1,IF(AND(IF(IFERROR(R40*1,"bad")="bad",0,1)=1,R40>0),1,0),IF(R$30=$AW$1,IF(AND(IF(IFERROR(IF(R40=TRUNC(R40),1,"bad"),"bad")="bad",0,1)=1,R40>0),1,0),IF(R$30=$AX$1,1,IF(R$30=$AY$1,IF(IFERROR(HLOOKUP(R40,$AQ$4:$AZ$4,1,0),"bad")="bad",0,1),0)))))))))))) -> 0 | ... BR40: =IF(AJ$30="",1,IF(AJ$4=99,1,IF(AJ40="",0,IF(AJ$30=$AQ$1,IF(ISNA(MATCH(AJ40,$AN$30:$AO$30,0)),0,1),IF(AJ$30=$AR$1,IF(IFERROR(AJ40*1,"bad")="bad",0,1),IF(AJ$30=$AS$1,IF(IFERROR(IF(AJ40=TRUNC(AJ40),1,"bad"),"bad")="bad",0,1),IF(AJ$30=$AT$1,IF(AND(IF(IFERROR(AJ40*1,"bad")="bad",0,1)=1,AJ40>=0),1,0),IF(AJ$30=$AU$1,IF(AND(IF(IFERROR(IF(AJ40=TRUNC(AJ40),1,"bad"),"bad")="bad",0,1)=1,AJ40>=0),1,0),IF(AJ$30=$AV$1,IF(AND(IF(IFERROR(AJ40*1,"bad")="bad",0,1)=1,AJ40>0),1,0),IF(AJ$30=$AW$1,IF(AND(IF(IFERROR(IF(AJ40=TRUNC(AJ40),1,"bad"),"bad")="bad",0,1)=1,AJ40>0),1,0),IF(AJ$30=$AX$1,1,IF(AJ$30=$AY$1,IF(IFERROR(HLOOKUP(AJ40,$AQ$4:$AZ$4,1,0),"bad")="bad",0,1),0)))))))))))) -> 1 | BS40: =IF(AK$30="",1,IF(AK40="",0,IF(AK$30=$AQ$1,IF(ISNA(MATCH(AK40,$AN$30:$AO$30,0)),0,1),IF(AK$30=$AR$1,IF(IFERROR(AK40*1,"bad")="bad",0,1),IF(AK$30=$AS$1,IF(IFERROR(IF(AK40=TRUNC(AK40),1,"bad"),"bad")="bad",0,1),IF(AK$30=$AT$1,IF(AND(IF(IFERROR(AK40*1,"bad")="bad",0,1)=1,AK40>=0),1,0),IF(AK$30=$AU$1,IF(AND(IF(IFERROR(IF(AK40=TRUNC(AK40),1,"bad"),"bad")="bad",0,1)=1,AK40>=0),1,0),IF(AK$30=$AV$1,IF(AND(IF(IFERROR(AK40*1,"bad")="bad",0,1)=1,AK40>0),1,0),IF(AK$30=$AW$1,IF(AND(IF(IFERROR(IF(AK40=TRUNC(AK40),1,"bad"),"bad")="bad",0,1)=1,AK40>0),1,0),IF(AK$30=$AX$1,1,IF(AK$30=$AY$1,IF(IFERROR(HLOOKUP(AK40,$AQ$4:$AZ$4,1,0),"bad")="bad",0,1),0))))))))))) -> 1 | BX40: =IF($F40="","",BX$30) | BY40: =IF($F40="","",BY$30) | BZ40: =IF($F40="","",BZ$30) | CA40: =IF($F40="","",CA$30) | CB40: =IF($F40="","",CB$30) | CC40: =IF($F40="","",CC$30) | CD40: =IF($F40="","",CD$30) | CE40: =IF($F40="","",CE$30) | ... CG40: =IF($F40="","",CG$30)
A41: =ROW()-30 -> 11 | B41: =IF(F41="","",ROW()-30) | J41: =IF($F41="","",IF(AND(I41>0,I41<=H41),1,$AN$1)) | AK41: =IF($F41="","",IF(AJ41=1,1,IF(AM41<>1,$AN$1,IF(SUMPRODUCT(--(H41:AI41>=$H$6:$AI$6)*($H$6:$AI$6<>""))=COUNTIF($H$4:$AI$4,1),1,0)))) | AM41: =IF(SUM(AP41:BS41)=COUNT(AP41:BS41),1,0) -> 0 | AN41: =IF($F41="","",AN$30) | AO41: =IF($F41="","",AO$30) | AP41: =IF(H$30="",1,IF(H$4=99,1,IF(H41="",0,IF(H$30=$AQ$1,IF(ISNA(MATCH(H41,$AN$30:$AO$30,0)),0,1),IF(H$30=$AR$1,IF(IFERROR(H41*1,"bad")="bad",0,1),IF(H$30=$AS$1,IF(IFERROR(IF(H41=TRUNC(H41),1,"bad"),"bad")="bad",0,1),IF(H$30=$AT$1,IF(AND(IF(IFERROR(H41*1,"bad")="bad",0,1)=1,H41>=0),1,0),IF(H$30=$AU$1,IF(AND(IF(IFERROR(IF(H41=TRUNC(H41),1,"bad"),"bad")="bad",0,1)=1,H41>=0),1,0),IF(H$30=$AV$1,IF(AND(IF(IFERROR(H41*1,"bad")="bad",0,1)=1,H41>0),1,0),IF(H$30=$AW$1,IF(AND(IF(IFERROR(IF(H41=TRUNC(H41),1,"bad"),"bad")="bad",0,1)=1,H41>0),1,0),IF(H$30=$AX$1,1,IF(H$30=$AY$1,IF(IFERROR(HLOOKUP(H41,$AQ$4:$AZ$4,1,0),"bad")="bad",0,1),0)))))))))))) -> 0 | AQ41: =IF(I$30="",1,IF(I$4=99,1,IF(I41="",0,IF(I$30=$AQ$1,IF(ISNA(MATCH(I41,$AN$30:$AO$30,0)),0,1),IF(I$30=$AR$1,IF(IFERROR(I41*1,"bad")="bad",0,1),IF(I$30=$AS$1,IF(IFERROR(IF(I41=TRUNC(I41),1,"bad"),"bad")="bad",0,1),IF(I$30=$AT$1,IF(AND(IF(IFERROR(I41*1,"bad")="bad",0,1)=1,I41>=0),1,0),IF(I$30=$AU$1,IF(AND(IF(IFERROR(IF(I41=TRUNC(I41),1,"bad"),"bad")="bad",0,1)=1,I41>=0),1,0),IF(I$30=$AV$1,IF(AND(IF(IFERROR(I41*1,"bad")="bad",0,1)=1,I41>0),1,0),IF(I$30=$AW$1,IF(AND(IF(IFERROR(IF(I41=TRUNC(I41),1,"bad"),"bad")="bad",0,1)=1,I41>0),1,0),IF(I$30=$AX$1,1,IF(I$30=$AY$1,IF(IFERROR(HLOOKUP(I41,$AQ$4:$AZ$4,1,0),"bad")="bad",0,1),0)))))))))))) -> 0 | AS41: =IF(K$30="",1,IF(K$4=99,1,IF(K41="",0,IF(K$30=$AQ$1,IF(ISNA(MATCH(K41,$AN$30:$AO$30,0)),0,1),IF(K$30=$AR$1,IF(IFERROR(K41*1,"bad")="bad",0,1),IF(K$30=$AS$1,IF(IFERROR(IF(K41=TRUNC(K41),1,"bad"),"bad")="bad",0,1),IF(K$30=$AT$1,IF(AND(IF(IFERROR(K41*1,"bad")="bad",0,1)=1,K41>=0),1,0),IF(K$30=$AU$1,IF(AND(IF(IFERROR(IF(K41=TRUNC(K41),1,"bad"),"bad")="bad",0,1)=1,K41>=0),1,0),IF(K$30=$AV$1,IF(AND(IF(IFERROR(K41*1,"bad")="bad",0,1)=1,K41>0),1,0),IF(K$30=$AW$1,IF(AND(IF(IFERROR(IF(K41=TRUNC(K41),1,"bad"),"bad")="bad",0,1)=1,K41>0),1,0),IF(K$30=$AX$1,1,IF(K$30=$AY$1,IF(IFERROR(HLOOKUP(K41,$AQ$4:$AZ$4,1,0),"bad")="bad",0,1),0)))))))))))) -> 0 | AT41: =IF(L$30="",1,IF(L$4=99,1,IF(L41="",0,IF(L$30=$AQ$1,IF(ISNA(MATCH(L41,$AN$30:$AO$30,0)),0,1),IF(L$30=$AR$1,IF(IFERROR(L41*1,"bad")="bad",0,1),IF(L$30=$AS$1,IF(IFERROR(IF(L41=TRUNC(L41),1,"bad"),"bad")="bad",0,1),IF(L$30=$AT$1,IF(AND(IF(IFERROR(L41*1,"bad")="bad",0,1)=1,L41>=0),1,0),IF(L$30=$AU$1,IF(AND(IF(IFERROR(IF(L41=TRUNC(L41),1,"bad"),"bad")="bad",0,1)=1,L41>=0),1,0),IF(L$30=$AV$1,IF(AND(IF(IFERROR(L41*1,"bad")="bad",0,1)=1,L41>0),1,0),IF(L$30=$AW$1,IF(AND(IF(IFERROR(IF(L41=TRUNC(L41),1,"bad"),"bad")="bad",0,1)=1,L41>0),1,0),IF(L$30=$AX$1,1,IF(L$30=$AY$1,IF(IFERROR(HLOOKUP(L41,$AQ$4:$AZ$4,1,0),"bad")="bad",0,1),0)))))))))))) -> 0 | AU41: =IF(M$30="",1,IF(M$4=99,1,IF(M41="",0,IF(M$30=$AQ$1,IF(ISNA(MATCH(M41,$AN$30:$AO$30,0)),0,1),IF(M$30=$AR$1,IF(IFERROR(M41*1,"bad")="bad",0,1),IF(M$30=$AS$1,IF(IFERROR(IF(M41=TRUNC(M41),1,"bad"),"bad")="bad",0,1),IF(M$30=$AT$1,IF(AND(IF(IFERROR(M41*1,"bad")="bad",0,1)=1,M41>=0),1,0),IF(M$30=$AU$1,IF(AND(IF(IFERROR(IF(M41=TRUNC(M41),1,"bad"),"bad")="bad",0,1)=1,M41>=0),1,0),IF(M$30=$AV$1,IF(AND(IF(IFERROR(M41*1,"bad")="bad",0,1)=1,M41>0),1,0),IF(M$30=$AW$1,IF(AND(IF(IFERROR(IF(M41=TRUNC(M41),1,"bad"),"bad")="bad",0,1)=1,M41>0),1,0),IF(M$30=$AX$1,1,IF(M$30=$AY$1,IF(IFERROR(HLOOKUP(M41,$AQ$4:$AZ$4,1,0),"bad")="bad",0,1),0)))))))))))) -> 0 | AV41: =IF(N$30="",1,IF(N$4=99,1,IF(N41="",0,IF(N$30=$AQ$1,IF(ISNA(MATCH(N41,$AN$30:$AO$30,0)),0,1),IF(N$30=$AR$1,IF(IFERROR(N41*1,"bad")="bad",0,1),IF(N$30=$AS$1,IF(IFERROR(IF(N41=TRUNC(N41),1,"bad"),"bad")="bad",0,1),IF(N$30=$AT$1,IF(AND(IF(IFERROR(N41*1,"bad")="bad",0,1)=1,N41>=0),1,0),IF(N$30=$AU$1,IF(AND(IF(IFERROR(IF(N41=TRUNC(N41),1,"bad"),"bad")="bad",0,1)=1,N41>=0),1,0),IF(N$30=$AV$1,IF(AND(IF(IFERROR(N41*1,"bad")="bad",0,1)=1,N41>0),1,0),IF(N$30=$AW$1,IF(AND(IF(IFERROR(IF(N41=TRUNC(N41),1,"bad"),"bad")="bad",0,1)=1,N41>0),1,0),IF(N$30=$AX$1,1,IF(N$30=$AY$1,IF(IFERROR(HLOOKUP(N41,$AQ$4:$AZ$4,1,0),"bad")="bad",0,1),0)))))))))))) -> 0 | AW41: =IF(O$30="",1,IF(O$4=99,1,IF(O41="",0,IF(O$30=$AQ$1,IF(ISNA(MATCH(O41,$AN$30:$AO$30,0)),0,1),IF(O$30=$AR$1,IF(IFERROR(O41*1,"bad")="bad",0,1),IF(O$30=$AS$1,IF(IFERROR(IF(O41=TRUNC(O41),1,"bad"),"bad")="bad",0,1),IF(O$30=$AT$1,IF(AND(IF(IFERROR(O41*1,"bad")="bad",0,1)=1,O41>=0),1,0),IF(O$30=$AU$1,IF(AND(IF(IFERROR(IF(O41=TRUNC(O41),1,"bad"),"bad")="bad",0,1)=1,O41>=0),1,0),IF(O$30=$AV$1,IF(AND(IF(IFERROR(O41*1,"bad")="bad",0,1)=1,O41>0),1,0),IF(O$30=$AW$1,IF(AND(IF(IFERROR(IF(O41=TRUNC(O41),1,"bad"),"bad")="bad",0,1)=1,O41>0),1,0),IF(O$30=$AX$1,1,IF(O$30=$AY$1,IF(IFERROR(HLOOKUP(O41,$AQ$4:$AZ$4,1,0),"bad")="bad",0,1),0)))))))))))) -> 0 | AX41: =IF(P$30="",1,IF(P$4=99,1,IF(P41="",0,IF(P$30=$AQ$1,IF(ISNA(MATCH(P41,$AN$30:$AO$30,0)),0,1),IF(P$30=$AR$1,IF(IFERROR(P41*1,"bad")="bad",0,1),IF(P$30=$AS$1,IF(IFERROR(IF(P41=TRUNC(P41),1,"bad"),"bad")="bad",0,1),IF(P$30=$AT$1,IF(AND(IF(IFERROR(P41*1,"bad")="bad",0,1)=1,P41>=0),1,0),IF(P$30=$AU$1,IF(AND(IF(IFERROR(IF(P41=TRUNC(P41),1,"bad"),"bad")="bad",0,1)=1,P41>=0),1,0),IF(P$30=$AV$1,IF(AND(IF(IFERROR(P41*1,"bad")="bad",0,1)=1,P41>0),1,0),IF(P$30=$AW$1,IF(AND(IF(IFERROR(IF(P41=TRUNC(P41),1,"bad"),"bad")="bad",0,1)=1,P41>0),1,0),IF(P$30=$AX$1,1,IF(P$30=$AY$1,IF(IFERROR(HLOOKUP(P41,$AQ$4:$AZ$4,1,0),"bad")="bad",0,1),0)))))))))))) -> 0 | AY41: =IF(Q$30="",1,IF(Q$4=99,1,IF(Q41="",0,IF(Q$30=$AQ$1,IF(ISNA(MATCH(Q41,$AN$30:$AO$30,0)),0,1),IF(Q$30=$AR$1,IF(IFERROR(Q41*1,"bad")="bad",0,1),IF(Q$30=$AS$1,IF(IFERROR(IF(Q41=TRUNC(Q41),1,"bad"),"bad")="bad",0,1),IF(Q$30=$AT$1,IF(AND(IF(IFERROR(Q41*1,"bad")="bad",0,1)=1,Q41>=0),1,0),IF(Q$30=$AU$1,IF(AND(IF(IFERROR(IF(Q41=TRUNC(Q41),1,"bad"),"bad")="bad",0,1)=1,Q41>=0),1,0),IF(Q$30=$AV$1,IF(AND(IF(IFERROR(Q41*1,"bad")="bad",0,1)=1,Q41>0),1,0),IF(Q$30=$AW$1,IF(AND(IF(IFERROR(IF(Q41=TRUNC(Q41),1,"bad"),"bad")="bad",0,1)=1,Q41>0),1,0),IF(Q$30=$AX$1,1,IF(Q$30=$AY$1,IF(IFERROR(HLOOKUP(Q41,$AQ$4:$AZ$4,1,0),"bad")="bad",0,1),0)))))))))))) -> 0 | AZ41: =IF(R$30="",1,IF(R$4=99,1,IF(R41="",0,IF(R$30=$AQ$1,IF(ISNA(MATCH(R41,$AN$30:$AO$30,0)),0,1),IF(R$30=$AR$1,IF(IFERROR(R41*1,"bad")="bad",0,1),IF(R$30=$AS$1,IF(IFERROR(IF(R41=TRUNC(R41),1,"bad"),"bad")="bad",0,1),IF(R$30=$AT$1,IF(AND(IF(IFERROR(R41*1,"bad")="bad",0,1)=1,R41>=0),1,0),IF(R$30=$AU$1,IF(AND(IF(IFERROR(IF(R41=TRUNC(R41),1,"bad"),"bad")="bad",0,1)=1,R41>=0),1,0),IF(R$30=$AV$1,IF(AND(IF(IFERROR(R41*1,"bad")="bad",0,1)=1,R41>0),1,0),IF(R$30=$AW$1,IF(AND(IF(IFERROR(IF(R41=TRUNC(R41),1,"bad"),"bad")="bad",0,1)=1,R41>0),1,0),IF(R$30=$AX$1,1,IF(R$30=$AY$1,IF(IFERROR(HLOOKUP(R41,$AQ$4:$AZ$4,1,0),"bad")="bad",0,1),0)))))))))))) -> 0 | ... BR41: =IF(AJ$30="",1,IF(AJ$4=99,1,IF(AJ41="",0,IF(AJ$30=$AQ$1,IF(ISNA(MATCH(AJ41,$AN$30:$AO$30,0)),0,1),IF(AJ$30=$AR$1,IF(IFERROR(AJ41*1,"bad")="bad",0,1),IF(AJ$30=$AS$1,IF(IFERROR(IF(AJ41=TRUNC(AJ41),1,"bad"),"bad")="bad",0,1),IF(AJ$30=$AT$1,IF(AND(IF(IFERROR(AJ41*1,"bad")="bad",0,1)=1,AJ41>=0),1,0),IF(AJ$30=$AU$1,IF(AND(IF(IFERROR(IF(AJ41=TRUNC(AJ41),1,"bad"),"bad")="bad",0,1)=1,AJ41>=0),1,0),IF(AJ$30=$AV$1,IF(AND(IF(IFERROR(AJ41*1,"bad")="bad",0,1)=1,AJ41>0),1,0),IF(AJ$30=$AW$1,IF(AND(IF(IFERROR(IF(AJ41=TRUNC(AJ41),1,"bad"),"bad")="bad",0,1)=1,AJ41>0),1,0),IF(AJ$30=$AX$1,1,IF(AJ$30=$AY$1,IF(IFERROR(HLOOKUP(AJ41,$AQ$4:$AZ$4,1,0),"bad")="bad",0,1),0)))))))))))) -> 1 | BS41: =IF(AK$30="",1,IF(AK41="",0,IF(AK$30=$AQ$1,IF(ISNA(MATCH(AK41,$AN$30:$AO$30,0)),0,1),IF(AK$30=$AR$1,IF(IFERROR(AK41*1,"bad")="bad",0,1),IF(AK$30=$AS$1,IF(IFERROR(IF(AK41=TRUNC(AK41),1,"bad"),"bad")="bad",0,1),IF(AK$30=$AT$1,IF(AND(IF(IFERROR(AK41*1,"bad")="bad",0,1)=1,AK41>=0),1,0),IF(AK$30=$AU$1,IF(AND(IF(IFERROR(IF(AK41=TRUNC(AK41),1,"bad"),"bad")="bad",0,1)=1,AK41>=0),1,0),IF(AK$30=$AV$1,IF(AND(IF(IFERROR(AK41*1,"bad")="bad",0,1)=1,AK41>0),1,0),IF(AK$30=$AW$1,IF(AND(IF(IFERROR(IF(AK41=TRUNC(AK41),1,"bad"),"bad")="bad",0,1)=1,AK41>0),1,0),IF(AK$30=$AX$1,1,IF(AK$30=$AY$1,IF(IFERROR(HLOOKUP(AK41,$AQ$4:$AZ$4,1,0),"bad")="bad",0,1),0))))))))))) -> 1 | BX41: =IF($F41="","",BX$30) | BY41: =IF($F41="","",BY$30) | BZ41: =IF($F41="","",BZ$30) | CA41: =IF($F41="","",CA$30) | CB41: =IF($F41="","",CB$30) | CC41: =IF($F41="","",CC$30) | CD41: =IF($F41="","",CD$30) | CE41: =IF($F41="","",CE$30) | ... CG41: =IF($F41="","",CG$30)
B42: =IF(F42="","",ROW()-30) | J42: =IF($F42="","",IF(AND(I42>0,I42<=H42),1,$AN$1)) | AK42: =IF($F42="","",IF(AJ42=1,1,IF(AM42<>1,$AN$1,IF(SUMPRODUCT(--(H42:AI42>=$H$6:$AI$6)*($H$6:$AI$6<>""))=COUNTIF($H$4:$AI$4,1),1,0)))) | AM42: =IF(SUM(AP42:BS42)=COUNT(AP42:BS42),1,0) -> 0 | AN42: =IF($F42="","",AN$30) | AO42: =IF($F42="","",AO$30) | AP42: =IF(H$30="",1,IF(H$4=99,1,IF(H42="",0,IF(H$30=$AQ$1,IF(ISNA(MATCH(H42,$AN$30:$AO$30,0)),0,1),IF(H$30=$AR$1,IF(IFERROR(H42*1,"bad")="bad",0,1),IF(H$30=$AS$1,IF(IFERROR(IF(H42=TRUNC(H42),1,"bad"),"bad")="bad",0,1),IF(H$30=$AT$1,IF(AND(IF(IFERROR(H42*1,"bad")="bad",0,1)=1,H42>=0),1,0),IF(H$30=$AU$1,IF(AND(IF(IFERROR(IF(H42=TRUNC(H42),1,"bad"),"bad")="bad",0,1)=1,H42>=0),1,0),IF(H$30=$AV$1,IF(AND(IF(IFERROR(H42*1,"bad")="bad",0,1)=1,H42>0),1,0),IF(H$30=$AW$1,IF(AND(IF(IFERROR(IF(H42=TRUNC(H42),1,"bad"),"bad")="bad",0,1)=1,H42>0),1,0),IF(H$30=$AX$1,1,IF(H$30=$AY$1,IF(IFERROR(HLOOKUP(H42,$AQ$4:$AZ$4,1,0),"bad")="bad",0,1),0)))))))))))) -> 0 | AQ42: =IF(I$30="",1,IF(I$4=99,1,IF(I42="",0,IF(I$30=$AQ$1,IF(ISNA(MATCH(I42,$AN$30:$AO$30,0)),0,1),IF(I$30=$AR$1,IF(IFERROR(I42*1,"bad")="bad",0,1),IF(I$30=$AS$1,IF(IFERROR(IF(I42=TRUNC(I42),1,"bad"),"bad")="bad",0,1),IF(I$30=$AT$1,IF(AND(IF(IFERROR(I42*1,"bad")="bad",0,1)=1,I42>=0),1,0),IF(I$30=$AU$1,IF(AND(IF(IFERROR(IF(I42=TRUNC(I42),1,"bad"),"bad")="bad",0,1)=1,I42>=0),1,0),IF(I$30=$AV$1,IF(AND(IF(IFERROR(I42*1,"bad")="bad",0,1)=1,I42>0),1,0),IF(I$30=$AW$1,IF(AND(IF(IFERROR(IF(I42=TRUNC(I42),1,"bad"),"bad")="bad",0,1)=1,I42>0),1,0),IF(I$30=$AX$1,1,IF(I$30=$AY$1,IF(IFERROR(HLOOKUP(I42,$AQ$4:$AZ$4,1,0),"bad")="bad",0,1),0)))))))))))) -> 0 | AS42: =IF(K$30="",1,IF(K$4=99,1,IF(K42="",0,IF(K$30=$AQ$1,IF(ISNA(MATCH(K42,$AN$30:$AO$30,0)),0,1),IF(K$30=$AR$1,IF(IFERROR(K42*1,"bad")="bad",0,1),IF(K$30=$AS$1,IF(IFERROR(IF(K42=TRUNC(K42),1,"bad"),"bad")="bad",0,1),IF(K$30=$AT$1,IF(AND(IF(IFERROR(K42*1,"bad")="bad",0,1)=1,K42>=0),1,0),IF(K$30=$AU$1,IF(AND(IF(IFERROR(IF(K42=TRUNC(K42),1,"bad"),"bad")="bad",0,1)=1,K42>=0),1,0),IF(K$30=$AV$1,IF(AND(IF(IFERROR(K42*1,"bad")="bad",0,1)=1,K42>0),1,0),IF(K$30=$AW$1,IF(AND(IF(IFERROR(IF(K42=TRUNC(K42),1,"bad"),"bad")="bad",0,1)=1,K42>0),1,0),IF(K$30=$AX$1,1,IF(K$30=$AY$1,IF(IFERROR(HLOOKUP(K42,$AQ$4:$AZ$4,1,0),"bad")="bad",0,1),0)))))))))))) -> 0 | AT42: =IF(L$30="",1,IF(L$4=99,1,IF(L42="",0,IF(L$30=$AQ$1,IF(ISNA(MATCH(L42,$AN$30:$AO$30,0)),0,1),IF(L$30=$AR$1,IF(IFERROR(L42*1,"bad")="bad",0,1),IF(L$30=$AS$1,IF(IFERROR(IF(L42=TRUNC(L42),1,"bad"),"bad")="bad",0,1),IF(L$30=$AT$1,IF(AND(IF(IFERROR(L42*1,"bad")="bad",0,1)=1,L42>=0),1,0),IF(L$30=$AU$1,IF(AND(IF(IFERROR(IF(L42=TRUNC(L42),1,"bad"),"bad")="bad",0,1)=1,L42>=0),1,0),IF(L$30=$AV$1,IF(AND(IF(IFERROR(L42*1,"bad")="bad",0,1)=1,L42>0),1,0),IF(L$30=$AW$1,IF(AND(IF(IFERROR(IF(L42=TRUNC(L42),1,"bad"),"bad")="bad",0,1)=1,L42>0),1,0),IF(L$30=$AX$1,1,IF(L$30=$AY$1,IF(IFERROR(HLOOKUP(L42,$AQ$4:$AZ$4,1,0),"bad")="bad",0,1),0)))))))))))) -> 0 | AU42: =IF(M$30="",1,IF(M$4=99,1,IF(M42="",0,IF(M$30=$AQ$1,IF(ISNA(MATCH(M42,$AN$30:$AO$30,0)),0,1),IF(M$30=$AR$1,IF(IFERROR(M42*1,"bad")="bad",0,1),IF(M$30=$AS$1,IF(IFERROR(IF(M42=TRUNC(M42),1,"bad"),"bad")="bad",0,1),IF(M$30=$AT$1,IF(AND(IF(IFERROR(M42*1,"bad")="bad",0,1)=1,M42>=0),1,0),IF(M$30=$AU$1,IF(AND(IF(IFERROR(IF(M42=TRUNC(M42),1,"bad"),"bad")="bad",0,1)=1,M42>=0),1,0),IF(M$30=$AV$1,IF(AND(IF(IFERROR(M42*1,"bad")="bad",0,1)=1,M42>0),1,0),IF(M$30=$AW$1,IF(AND(IF(IFERROR(IF(M42=TRUNC(M42),1,"bad"),"bad")="bad",0,1)=1,M42>0),1,0),IF(M$30=$AX$1,1,IF(M$30=$AY$1,IF(IFERROR(HLOOKUP(M42,$AQ$4:$AZ$4,1,0),"bad")="bad",0,1),0)))))))))))) -> 0 | AV42: =IF(N$30="",1,IF(N$4=99,1,IF(N42="",0,IF(N$30=$AQ$1,IF(ISNA(MATCH(N42,$AN$30:$AO$30,0)),0,1),IF(N$30=$AR$1,IF(IFERROR(N42*1,"bad")="bad",0,1),IF(N$30=$AS$1,IF(IFERROR(IF(N42=TRUNC(N42),1,"bad"),"bad")="bad",0,1),IF(N$30=$AT$1,IF(AND(IF(IFERROR(N42*1,"bad")="bad",0,1)=1,N42>=0),1,0),IF(N$30=$AU$1,IF(AND(IF(IFERROR(IF(N42=TRUNC(N42),1,"bad"),"bad")="bad",0,1)=1,N42>=0),1,0),IF(N$30=$AV$1,IF(AND(IF(IFERROR(N42*1,"bad")="bad",0,1)=1,N42>0),1,0),IF(N$30=$AW$1,IF(AND(IF(IFERROR(IF(N42=TRUNC(N42),1,"bad"),"bad")="bad",0,1)=1,N42>0),1,0),IF(N$30=$AX$1,1,IF(N$30=$AY$1,IF(IFERROR(HLOOKUP(N42,$AQ$4:$AZ$4,1,0),"bad")="bad",0,1),0)))))))))))) -> 0 | AW42: =IF(O$30="",1,IF(O$4=99,1,IF(O42="",0,IF(O$30=$AQ$1,IF(ISNA(MATCH(O42,$AN$30:$AO$30,0)),0,1),IF(O$30=$AR$1,IF(IFERROR(O42*1,"bad")="bad",0,1),IF(O$30=$AS$1,IF(IFERROR(IF(O42=TRUNC(O42),1,"bad"),"bad")="bad",0,1),IF(O$30=$AT$1,IF(AND(IF(IFERROR(O42*1,"bad")="bad",0,1)=1,O42>=0),1,0),IF(O$30=$AU$1,IF(AND(IF(IFERROR(IF(O42=TRUNC(O42),1,"bad"),"bad")="bad",0,1)=1,O42>=0),1,0),IF(O$30=$AV$1,IF(AND(IF(IFERROR(O42*1,"bad")="bad",0,1)=1,O42>0),1,0),IF(O$30=$AW$1,IF(AND(IF(IFERROR(IF(O42=TRUNC(O42),1,"bad"),"bad")="bad",0,1)=1,O42>0),1,0),IF(O$30=$AX$1,1,IF(O$30=$AY$1,IF(IFERROR(HLOOKUP(O42,$AQ$4:$AZ$4,1,0),"bad")="bad",0,1),0)))))))))))) -> 0 | AX42: =IF(P$30="",1,IF(P$4=99,1,IF(P42="",0,IF(P$30=$AQ$1,IF(ISNA(MATCH(P42,$AN$30:$AO$30,0)),0,1),IF(P$30=$AR$1,IF(IFERROR(P42*1,"bad")="bad",0,1),IF(P$30=$AS$1,IF(IFERROR(IF(P42=TRUNC(P42),1,"bad"),"bad")="bad",0,1),IF(P$30=$AT$1,IF(AND(IF(IFERROR(P42*1,"bad")="bad",0,1)=1,P42>=0),1,0),IF(P$30=$AU$1,IF(AND(IF(IFERROR(IF(P42=TRUNC(P42),1,"bad"),"bad")="bad",0,1)=1,P42>=0),1,0),IF(P$30=$AV$1,IF(AND(IF(IFERROR(P42*1,"bad")="bad",0,1)=1,P42>0),1,0),IF(P$30=$AW$1,IF(AND(IF(IFERROR(IF(P42=TRUNC(P42),1,"bad"),"bad")="bad",0,1)=1,P42>0),1,0),IF(P$30=$AX$1,1,IF(P$30=$AY$1,IF(IFERROR(HLOOKUP(P42,$AQ$4:$AZ$4,1,0),"bad")="bad",0,1),0)))))))))))) -> 0 | AY42: =IF(Q$30="",1,IF(Q$4=99,1,IF(Q42="",0,IF(Q$30=$AQ$1,IF(ISNA(MATCH(Q42,$AN$30:$AO$30,0)),0,1),IF(Q$30=$AR$1,IF(IFERROR(Q42*1,"bad")="bad",0,1),IF(Q$30=$AS$1,IF(IFERROR(IF(Q42=TRUNC(Q42),1,"bad"),"bad")="bad",0,1),IF(Q$30=$AT$1,IF(AND(IF(IFERROR(Q42*1,"bad")="bad",0,1)=1,Q42>=0),1,0),IF(Q$30=$AU$1,IF(AND(IF(IFERROR(IF(Q42=TRUNC(Q42),1,"bad"),"bad")="bad",0,1)=1,Q42>=0),1,0),IF(Q$30=$AV$1,IF(AND(IF(IFERROR(Q42*1,"bad")="bad",0,1)=1,Q42>0),1,0),IF(Q$30=$AW$1,IF(AND(IF(IFERROR(IF(Q42=TRUNC(Q42),1,"bad"),"bad")="bad",0,1)=1,Q42>0),1,0),IF(Q$30=$AX$1,1,IF(Q$30=$AY$1,IF(IFERROR(HLOOKUP(Q42,$AQ$4:$AZ$4,1,0),"bad")="bad",0,1),0)))))))))))) -> 0 | AZ42: =IF(R$30="",1,IF(R$4=99,1,IF(R42="",0,IF(R$30=$AQ$1,IF(ISNA(MATCH(R42,$AN$30:$AO$30,0)),0,1),IF(R$30=$AR$1,IF(IFERROR(R42*1,"bad")="bad",0,1),IF(R$30=$AS$1,IF(IFERROR(IF(R42=TRUNC(R42),1,"bad"),"bad")="bad",0,1),IF(R$30=$AT$1,IF(AND(IF(IFERROR(R42*1,"bad")="bad",0,1)=1,R42>=0),1,0),IF(R$30=$AU$1,IF(AND(IF(IFERROR(IF(R42=TRUNC(R42),1,"bad"),"bad")="bad",0,1)=1,R42>=0),1,0),IF(R$30=$AV$1,IF(AND(IF(IFERROR(R42*1,"bad")="bad",0,1)=1,R42>0),1,0),IF(R$30=$AW$1,IF(AND(IF(IFERROR(IF(R42=TRUNC(R42),1,"bad"),"bad")="bad",0,1)=1,R42>0),1,0),IF(R$30=$AX$1,1,IF(R$30=$AY$1,IF(IFERROR(HLOOKUP(R42,$AQ$4:$AZ$4,1,0),"bad")="bad",0,1),0)))))))))))) -> 0 | ... BR42: =IF(AJ$30="",1,IF(AJ$4=99,1,IF(AJ42="",0,IF(AJ$30=$AQ$1,IF(ISNA(MATCH(AJ42,$AN$30:$AO$30,0)),0,1),IF(AJ$30=$AR$1,IF(IFERROR(AJ42*1,"bad")="bad",0,1),IF(AJ$30=$AS$1,IF(IFERROR(IF(AJ42=TRUNC(AJ42),1,"bad"),"bad")="bad",0,1),IF(AJ$30=$AT$1,IF(AND(IF(IFERROR(AJ42*1,"bad")="bad",0,1)=1,AJ42>=0),1,0),IF(AJ$30=$AU$1,IF(AND(IF(IFERROR(IF(AJ42=TRUNC(AJ42),1,"bad"),"bad")="bad",0,1)=1,AJ42>=0),1,0),IF(AJ$30=$AV$1,IF(AND(IF(IFERROR(AJ42*1,"bad")="bad",0,1)=1,AJ42>0),1,0),IF(AJ$30=$AW$1,IF(AND(IF(IFERROR(IF(AJ42=TRUNC(AJ42),1,"bad"),"bad")="bad",0,1)=1,AJ42>0),1,0),IF(AJ$30=$AX$1,1,IF(AJ$30=$AY$1,IF(IFERROR(HLOOKUP(AJ42,$AQ$4:$AZ$4,1,0),"bad")="bad",0,1),0)))))))))))) -> 1 | BS42: =IF(AK$30="",1,IF(AK42="",0,IF(AK$30=$AQ$1,IF(ISNA(MATCH(AK42,$AN$30:$AO$30,0)),0,1),IF(AK$30=$AR$1,IF(IFERROR(AK42*1,"bad")="bad",0,1),IF(AK$30=$AS$1,IF(IFERROR(IF(AK42=TRUNC(AK42),1,"bad"),"bad")="bad",0,1),IF(AK$30=$AT$1,IF(AND(IF(IFERROR(AK42*1,"bad")="bad",0,1)=1,AK42>=0),1,0),IF(AK$30=$AU$1,IF(AND(IF(IFERROR(IF(AK42=TRUNC(AK42),1,"bad"),"bad")="bad",0,1)=1,AK42>=0),1,0),IF(AK$30=$AV$1,IF(AND(IF(IFERROR(AK42*1,"bad")="bad",0,1)=1,AK42>0),1,0),IF(AK$30=$AW$1,IF(AND(IF(IFERROR(IF(AK42=TRUNC(AK42),1,"bad"),"bad")="bad",0,1)=1,AK42>0),1,0),IF(AK$30=$AX$1,1,IF(AK$30=$AY$1,IF(IFERROR(HLOOKUP(AK42,$AQ$4:$AZ$4,1,0),"bad")="bad",0,1),0))))))))))) -> 1 | BX42: =IF($F42="","",BX$30) | BY42: =IF($F42="","",BY$30) | BZ42: =IF($F42="","",BZ$30) | CA42: =IF($F42="","",CA$30) | CB42: =IF($F42="","",CB$30) | CC42: =IF($F42="","",CC$30) | CD42: =IF($F42="","",CD$30) | CE42: =IF($F42="","",CE$30) | ... CG42: =IF($F42="","",CG$30)
B43: =IF(F43="","",ROW()-30) | J43: =IF($F43="","",IF(AND(I43>0,I43<=H43),1,$AN$1)) | AK43: =IF($F43="","",IF(AJ43=1,1,IF(AM43<>1,$AN$1,IF(SUMPRODUCT(--(H43:AI43>=$H$6:$AI$6)*($H$6:$AI$6<>""))=COUNTIF($H$4:$AI$4,1),1,0)))) | AM43: =IF(SUM(AP43:BS43)=COUNT(AP43:BS43),1,0) -> 0 | AN43: =IF($F43="","",AN$30) | AO43: =IF($F43="","",AO$30) | AP43: =IF(H$30="",1,IF(H$4=99,1,IF(H43="",0,IF(H$30=$AQ$1,IF(ISNA(MATCH(H43,$AN$30:$AO$30,0)),0,1),IF(H$30=$AR$1,IF(IFERROR(H43*1,"bad")="bad",0,1),IF(H$30=$AS$1,IF(IFERROR(IF(H43=TRUNC(H43),1,"bad"),"bad")="bad",0,1),IF(H$30=$AT$1,IF(AND(IF(IFERROR(H43*1,"bad")="bad",0,1)=1,H43>=0),1,0),IF(H$30=$AU$1,IF(AND(IF(IFERROR(IF(H43=TRUNC(H43),1,"bad"),"bad")="bad",0,1)=1,H43>=0),1,0),IF(H$30=$AV$1,IF(AND(IF(IFERROR(H43*1,"bad")="bad",0,1)=1,H43>0),1,0),IF(H$30=$AW$1,IF(AND(IF(IFERROR(IF(H43=TRUNC(H43),1,"bad"),"bad")="bad",0,1)=1,H43>0),1,0),IF(H$30=$AX$1,1,IF(H$30=$AY$1,IF(IFERROR(HLOOKUP(H43,$AQ$4:$AZ$4,1,0),"bad")="bad",0,1),0)))))))))))) -> 0 | AQ43: =IF(I$30="",1,IF(I$4=99,1,IF(I43="",0,IF(I$30=$AQ$1,IF(ISNA(MATCH(I43,$AN$30:$AO$30,0)),0,1),IF(I$30=$AR$1,IF(IFERROR(I43*1,"bad")="bad",0,1),IF(I$30=$AS$1,IF(IFERROR(IF(I43=TRUNC(I43),1,"bad"),"bad")="bad",0,1),IF(I$30=$AT$1,IF(AND(IF(IFERROR(I43*1,"bad")="bad",0,1)=1,I43>=0),1,0),IF(I$30=$AU$1,IF(AND(IF(IFERROR(IF(I43=TRUNC(I43),1,"bad"),"bad")="bad",0,1)=1,I43>=0),1,0),IF(I$30=$AV$1,IF(AND(IF(IFERROR(I43*1,"bad")="bad",0,1)=1,I43>0),1,0),IF(I$30=$AW$1,IF(AND(IF(IFERROR(IF(I43=TRUNC(I43),1,"bad"),"bad")="bad",0,1)=1,I43>0),1,0),IF(I$30=$AX$1,1,IF(I$30=$AY$1,IF(IFERROR(HLOOKUP(I43,$AQ$4:$AZ$4,1,0),"bad")="bad",0,1),0)))))))))))) -> 0 | AS43: =IF(K$30="",1,IF(K$4=99,1,IF(K43="",0,IF(K$30=$AQ$1,IF(ISNA(MATCH(K43,$AN$30:$AO$30,0)),0,1),IF(K$30=$AR$1,IF(IFERROR(K43*1,"bad")="bad",0,1),IF(K$30=$AS$1,IF(IFERROR(IF(K43=TRUNC(K43),1,"bad"),"bad")="bad",0,1),IF(K$30=$AT$1,IF(AND(IF(IFERROR(K43*1,"bad")="bad",0,1)=1,K43>=0),1,0),IF(K$30=$AU$1,IF(AND(IF(IFERROR(IF(K43=TRUNC(K43),1,"bad"),"bad")="bad",0,1)=1,K43>=0),1,0),IF(K$30=$AV$1,IF(AND(IF(IFERROR(K43*1,"bad")="bad",0,1)=1,K43>0),1,0),IF(K$30=$AW$1,IF(AND(IF(IFERROR(IF(K43=TRUNC(K43),1,"bad"),"bad")="bad",0,1)=1,K43>0),1,0),IF(K$30=$AX$1,1,IF(K$30=$AY$1,IF(IFERROR(HLOOKUP(K43,$AQ$4:$AZ$4,1,0),"bad")="bad",0,1),0)))))))))))) -> 0 | AT43: =IF(L$30="",1,IF(L$4=99,1,IF(L43="",0,IF(L$30=$AQ$1,IF(ISNA(MATCH(L43,$AN$30:$AO$30,0)),0,1),IF(L$30=$AR$1,IF(IFERROR(L43*1,"bad")="bad",0,1),IF(L$30=$AS$1,IF(IFERROR(IF(L43=TRUNC(L43),1,"bad"),"bad")="bad",0,1),IF(L$30=$AT$1,IF(AND(IF(IFERROR(L43*1,"bad")="bad",0,1)=1,L43>=0),1,0),IF(L$30=$AU$1,IF(AND(IF(IFERROR(IF(L43=TRUNC(L43),1,"bad"),"bad")="bad",0,1)=1,L43>=0),1,0),IF(L$30=$AV$1,IF(AND(IF(IFERROR(L43*1,"bad")="bad",0,1)=1,L43>0),1,0),IF(L$30=$AW$1,IF(AND(IF(IFERROR(IF(L43=TRUNC(L43),1,"bad"),"bad")="bad",0,1)=1,L43>0),1,0),IF(L$30=$AX$1,1,IF(L$30=$AY$1,IF(IFERROR(HLOOKUP(L43,$AQ$4:$AZ$4,1,0),"bad")="bad",0,1),0)))))))))))) -> 0 | AU43: =IF(M$30="",1,IF(M$4=99,1,IF(M43="",0,IF(M$30=$AQ$1,IF(ISNA(MATCH(M43,$AN$30:$AO$30,0)),0,1),IF(M$30=$AR$1,IF(IFERROR(M43*1,"bad")="bad",0,1),IF(M$30=$AS$1,IF(IFERROR(IF(M43=TRUNC(M43),1,"bad"),"bad")="bad",0,1),IF(M$30=$AT$1,IF(AND(IF(IFERROR(M43*1,"bad")="bad",0,1)=1,M43>=0),1,0),IF(M$30=$AU$1,IF(AND(IF(IFERROR(IF(M43=TRUNC(M43),1,"bad"),"bad")="bad",0,1)=1,M43>=0),1,0),IF(M$30=$AV$1,IF(AND(IF(IFERROR(M43*1,"bad")="bad",0,1)=1,M43>0),1,0),IF(M$30=$AW$1,IF(AND(IF(IFERROR(IF(M43=TRUNC(M43),1,"bad"),"bad")="bad",0,1)=1,M43>0),1,0),IF(M$30=$AX$1,1,IF(M$30=$AY$1,IF(IFERROR(HLOOKUP(M43,$AQ$4:$AZ$4,1,0),"bad")="bad",0,1),0)))))))))))) -> 0 | AV43: =IF(N$30="",1,IF(N$4=99,1,IF(N43="",0,IF(N$30=$AQ$1,IF(ISNA(MATCH(N43,$AN$30:$AO$30,0)),0,1),IF(N$30=$AR$1,IF(IFERROR(N43*1,"bad")="bad",0,1),IF(N$30=$AS$1,IF(IFERROR(IF(N43=TRUNC(N43),1,"bad"),"bad")="bad",0,1),IF(N$30=$AT$1,IF(AND(IF(IFERROR(N43*1,"bad")="bad",0,1)=1,N43>=0),1,0),IF(N$30=$AU$1,IF(AND(IF(IFERROR(IF(N43=TRUNC(N43),1,"bad"),"bad")="bad",0,1)=1,N43>=0),1,0),IF(N$30=$AV$1,IF(AND(IF(IFERROR(N43*1,"bad")="bad",0,1)=1,N43>0),1,0),IF(N$30=$AW$1,IF(AND(IF(IFERROR(IF(N43=TRUNC(N43),1,"bad"),"bad")="bad",0,1)=1,N43>0),1,0),IF(N$30=$AX$1,1,IF(N$30=$AY$1,IF(IFERROR(HLOOKUP(N43,$AQ$4:$AZ$4,1,0),"bad")="bad",0,1),0)))))))))))) -> 0 | AW43: =IF(O$30="",1,IF(O$4=99,1,IF(O43="",0,IF(O$30=$AQ$1,IF(ISNA(MATCH(O43,$AN$30:$AO$30,0)),0,1),IF(O$30=$AR$1,IF(IFERROR(O43*1,"bad")="bad",0,1),IF(O$30=$AS$1,IF(IFERROR(IF(O43=TRUNC(O43),1,"bad"),"bad")="bad",0,1),IF(O$30=$AT$1,IF(AND(IF(IFERROR(O43*1,"bad")="bad",0,1)=1,O43>=0),1,0),IF(O$30=$AU$1,IF(AND(IF(IFERROR(IF(O43=TRUNC(O43),1,"bad"),"bad")="bad",0,1)=1,O43>=0),1,0),IF(O$30=$AV$1,IF(AND(IF(IFERROR(O43*1,"bad")="bad",0,1)=1,O43>0),1,0),IF(O$30=$AW$1,IF(AND(IF(IFERROR(IF(O43=TRUNC(O43),1,"bad"),"bad")="bad",0,1)=1,O43>0),1,0),IF(O$30=$AX$1,1,IF(O$30=$AY$1,IF(IFERROR(HLOOKUP(O43,$AQ$4:$AZ$4,1,0),"bad")="bad",0,1),0)))))))))))) -> 0 | AX43: =IF(P$30="",1,IF(P$4=99,1,IF(P43="",0,IF(P$30=$AQ$1,IF(ISNA(MATCH(P43,$AN$30:$AO$30,0)),0,1),IF(P$30=$AR$1,IF(IFERROR(P43*1,"bad")="bad",0,1),IF(P$30=$AS$1,IF(IFERROR(IF(P43=TRUNC(P43),1,"bad"),"bad")="bad",0,1),IF(P$30=$AT$1,IF(AND(IF(IFERROR(P43*1,"bad")="bad",0,1)=1,P43>=0),1,0),IF(P$30=$AU$1,IF(AND(IF(IFERROR(IF(P43=TRUNC(P43),1,"bad"),"bad")="bad",0,1)=1,P43>=0),1,0),IF(P$30=$AV$1,IF(AND(IF(IFERROR(P43*1,"bad")="bad",0,1)=1,P43>0),1,0),IF(P$30=$AW$1,IF(AND(IF(IFERROR(IF(P43=TRUNC(P43),1,"bad"),"bad")="bad",0,1)=1,P43>0),1,0),IF(P$30=$AX$1,1,IF(P$30=$AY$1,IF(IFERROR(HLOOKUP(P43,$AQ$4:$AZ$4,1,0),"bad")="bad",0,1),0)))))))))))) -> 0 | AY43: =IF(Q$30="",1,IF(Q$4=99,1,IF(Q43="",0,IF(Q$30=$AQ$1,IF(ISNA(MATCH(Q43,$AN$30:$AO$30,0)),0,1),IF(Q$30=$AR$1,IF(IFERROR(Q43*1,"bad")="bad",0,1),IF(Q$30=$AS$1,IF(IFERROR(IF(Q43=TRUNC(Q43),1,"bad"),"bad")="bad",0,1),IF(Q$30=$AT$1,IF(AND(IF(IFERROR(Q43*1,"bad")="bad",0,1)=1,Q43>=0),1,0),IF(Q$30=$AU$1,IF(AND(IF(IFERROR(IF(Q43=TRUNC(Q43),1,"bad"),"bad")="bad",0,1)=1,Q43>=0),1,0),IF(Q$30=$AV$1,IF(AND(IF(IFERROR(Q43*1,"bad")="bad",0,1)=1,Q43>0),1,0),IF(Q$30=$AW$1,IF(AND(IF(IFERROR(IF(Q43=TRUNC(Q43),1,"bad"),"bad")="bad",0,1)=1,Q43>0),1,0),IF(Q$30=$AX$1,1,IF(Q$30=$AY$1,IF(IFERROR(HLOOKUP(Q43,$AQ$4:$AZ$4,1,0),"bad")="bad",0,1),0)))))))))))) -> 0 | AZ43: =IF(R$30="",1,IF(R$4=99,1,IF(R43="",0,IF(R$30=$AQ$1,IF(ISNA(MATCH(R43,$AN$30:$AO$30,0)),0,1),IF(R$30=$AR$1,IF(IFERROR(R43*1,"bad")="bad",0,1),IF(R$30=$AS$1,IF(IFERROR(IF(R43=TRUNC(R43),1,"bad"),"bad")="bad",0,1),IF(R$30=$AT$1,IF(AND(IF(IFERROR(R43*1,"bad")="bad",0,1)=1,R43>=0),1,0),IF(R$30=$AU$1,IF(AND(IF(IFERROR(IF(R43=TRUNC(R43),1,"bad"),"bad")="bad",0,1)=1,R43>=0),1,0),IF(R$30=$AV$1,IF(AND(IF(IFERROR(R43*1,"bad")="bad",0,1)=1,R43>0),1,0),IF(R$30=$AW$1,IF(AND(IF(IFERROR(IF(R43=TRUNC(R43),1,"bad"),"bad")="bad",0,1)=1,R43>0),1,0),IF(R$30=$AX$1,1,IF(R$30=$AY$1,IF(IFERROR(HLOOKUP(R43,$AQ$4:$AZ$4,1,0),"bad")="bad",0,1),0)))))))))))) -> 0 | ... BR43: =IF(AJ$30="",1,IF(AJ$4=99,1,IF(AJ43="",0,IF(AJ$30=$AQ$1,IF(ISNA(MATCH(AJ43,$AN$30:$AO$30,0)),0,1),IF(AJ$30=$AR$1,IF(IFERROR(AJ43*1,"bad")="bad",0,1),IF(AJ$30=$AS$1,IF(IFERROR(IF(AJ43=TRUNC(AJ43),1,"bad"),"bad")="bad",0,1),IF(AJ$30=$AT$1,IF(AND(IF(IFERROR(AJ43*1,"bad")="bad",0,1)=1,AJ43>=0),1,0),IF(AJ$30=$AU$1,IF(AND(IF(IFERROR(IF(AJ43=TRUNC(AJ43),1,"bad"),"bad")="bad",0,1)=1,AJ43>=0),1,0),IF(AJ$30=$AV$1,IF(AND(IF(IFERROR(AJ43*1,"bad")="bad",0,1)=1,AJ43>0),1,0),IF(AJ$30=$AW$1,IF(AND(IF(IFERROR(IF(AJ43=TRUNC(AJ43),1,"bad"),"bad")="bad",0,1)=1,AJ43>0),1,0),IF(AJ$30=$AX$1,1,IF(AJ$30=$AY$1,IF(IFERROR(HLOOKUP(AJ43,$AQ$4:$AZ$4,1,0),"bad")="bad",0,1),0)))))))))))) -> 1 | BS43: =IF(AK$30="",1,IF(AK43="",0,IF(AK$30=$AQ$1,IF(ISNA(MATCH(AK43,$AN$30:$AO$30,0)),0,1),IF(AK$30=$AR$1,IF(IFERROR(AK43*1,"bad")="bad",0,1),IF(AK$30=$AS$1,IF(IFERROR(IF(AK43=TRUNC(AK43),1,"bad"),"bad")="bad",0,1),IF(AK$30=$AT$1,IF(AND(IF(IFERROR(AK43*1,"bad")="bad",0,1)=1,AK43>=0),1,0),IF(AK$30=$AU$1,IF(AND(IF(IFERROR(IF(AK43=TRUNC(AK43),1,"bad"),"bad")="bad",0,1)=1,AK43>=0),1,0),IF(AK$30=$AV$1,IF(AND(IF(IFERROR(AK43*1,"bad")="bad",0,1)=1,AK43>0),1,0),IF(AK$30=$AW$1,IF(AND(IF(IFERROR(IF(AK43=TRUNC(AK43),1,"bad"),"bad")="bad",0,1)=1,AK43>0),1,0),IF(AK$30=$AX$1,1,IF(AK$30=$AY$1,IF(IFERROR(HLOOKUP(AK43,$AQ$4:$AZ$4,1,0),"bad")="bad",0,1),0))))))))))) -> 1 | BX43: =IF($F43="","",BX$30) | BY43: =IF($F43="","",BY$30) | BZ43: =IF($F43="","",BZ$30) | CA43: =IF($F43="","",CA$30) | CB43: =IF($F43="","",CB$30) | CC43: =IF($F43="","",CC$30) | CD43: =IF($F43="","",CD$30) | CE43: =IF($F43="","",CE$30) | ... CG43: =IF($F43="","",CG$30)
B44: =IF(F44="","",ROW()-30) | J44: =IF($F44="","",IF(AND(I44>0,I44<=H44),1,$AN$1)) | AK44: =IF($F44="","",IF(AJ44=1,1,IF(AM44<>1,$AN$1,IF(SUMPRODUCT(--(H44:AI44>=$H$6:$AI$6)*($H$6:$AI$6<>""))=COUNTIF($H$4:$AI$4,1),1,0)))) | AM44: =IF(SUM(AP44:BS44)=COUNT(AP44:BS44),1,0) -> 0 | AN44: =IF($F44="","",AN$30) | AO44: =IF($F44="","",AO$30) | AP44: =IF(H$30="",1,IF(H$4=99,1,IF(H44="",0,IF(H$30=$AQ$1,IF(ISNA(MATCH(H44,$AN$30:$AO$30,0)),0,1),IF(H$30=$AR$1,IF(IFERROR(H44*1,"bad")="bad",0,1),IF(H$30=$AS$1,IF(IFERROR(IF(H44=TRUNC(H44),1,"bad"),"bad")="bad",0,1),IF(H$30=$AT$1,IF(AND(IF(IFERROR(H44*1,"bad")="bad",0,1)=1,H44>=0),1,0),IF(H$30=$AU$1,IF(AND(IF(IFERROR(IF(H44=TRUNC(H44),1,"bad"),"bad")="bad",0,1)=1,H44>=0),1,0),IF(H$30=$AV$1,IF(AND(IF(IFERROR(H44*1,"bad")="bad",0,1)=1,H44>0),1,0),IF(H$30=$AW$1,IF(AND(IF(IFERROR(IF(H44=TRUNC(H44),1,"bad"),"bad")="bad",0,1)=1,H44>0),1,0),IF(H$30=$AX$1,1,IF(H$30=$AY$1,IF(IFERROR(HLOOKUP(H44,$AQ$4:$AZ$4,1,0),"bad")="bad",0,1),0)))))))))))) -> 0 | AQ44: =IF(I$30="",1,IF(I$4=99,1,IF(I44="",0,IF(I$30=$AQ$1,IF(ISNA(MATCH(I44,$AN$30:$AO$30,0)),0,1),IF(I$30=$AR$1,IF(IFERROR(I44*1,"bad")="bad",0,1),IF(I$30=$AS$1,IF(IFERROR(IF(I44=TRUNC(I44),1,"bad"),"bad")="bad",0,1),IF(I$30=$AT$1,IF(AND(IF(IFERROR(I44*1,"bad")="bad",0,1)=1,I44>=0),1,0),IF(I$30=$AU$1,IF(AND(IF(IFERROR(IF(I44=TRUNC(I44),1,"bad"),"bad")="bad",0,1)=1,I44>=0),1,0),IF(I$30=$AV$1,IF(AND(IF(IFERROR(I44*1,"bad")="bad",0,1)=1,I44>0),1,0),IF(I$30=$AW$1,IF(AND(IF(IFERROR(IF(I44=TRUNC(I44),1,"bad"),"bad")="bad",0,1)=1,I44>0),1,0),IF(I$30=$AX$1,1,IF(I$30=$AY$1,IF(IFERROR(HLOOKUP(I44,$AQ$4:$AZ$4,1,0),"bad")="bad",0,1),0)))))))))))) -> 0 | AS44: =IF(K$30="",1,IF(K$4=99,1,IF(K44="",0,IF(K$30=$AQ$1,IF(ISNA(MATCH(K44,$AN$30:$AO$30,0)),0,1),IF(K$30=$AR$1,IF(IFERROR(K44*1,"bad")="bad",0,1),IF(K$30=$AS$1,IF(IFERROR(IF(K44=TRUNC(K44),1,"bad"),"bad")="bad",0,1),IF(K$30=$AT$1,IF(AND(IF(IFERROR(K44*1,"bad")="bad",0,1)=1,K44>=0),1,0),IF(K$30=$AU$1,IF(AND(IF(IFERROR(IF(K44=TRUNC(K44),1,"bad"),"bad")="bad",0,1)=1,K44>=0),1,0),IF(K$30=$AV$1,IF(AND(IF(IFERROR(K44*1,"bad")="bad",0,1)=1,K44>0),1,0),IF(K$30=$AW$1,IF(AND(IF(IFERROR(IF(K44=TRUNC(K44),1,"bad"),"bad")="bad",0,1)=1,K44>0),1,0),IF(K$30=$AX$1,1,IF(K$30=$AY$1,IF(IFERROR(HLOOKUP(K44,$AQ$4:$AZ$4,1,0),"bad")="bad",0,1),0)))))))))))) -> 0 | AT44: =IF(L$30="",1,IF(L$4=99,1,IF(L44="",0,IF(L$30=$AQ$1,IF(ISNA(MATCH(L44,$AN$30:$AO$30,0)),0,1),IF(L$30=$AR$1,IF(IFERROR(L44*1,"bad")="bad",0,1),IF(L$30=$AS$1,IF(IFERROR(IF(L44=TRUNC(L44),1,"bad"),"bad")="bad",0,1),IF(L$30=$AT$1,IF(AND(IF(IFERROR(L44*1,"bad")="bad",0,1)=1,L44>=0),1,0),IF(L$30=$AU$1,IF(AND(IF(IFERROR(IF(L44=TRUNC(L44),1,"bad"),"bad")="bad",0,1)=1,L44>=0),1,0),IF(L$30=$AV$1,IF(AND(IF(IFERROR(L44*1,"bad")="bad",0,1)=1,L44>0),1,0),IF(L$30=$AW$1,IF(AND(IF(IFERROR(IF(L44=TRUNC(L44),1,"bad"),"bad")="bad",0,1)=1,L44>0),1,0),IF(L$30=$AX$1,1,IF(L$30=$AY$1,IF(IFERROR(HLOOKUP(L44,$AQ$4:$AZ$4,1,0),"bad")="bad",0,1),0)))))))))))) -> 0 | AU44: =IF(M$30="",1,IF(M$4=99,1,IF(M44="",0,IF(M$30=$AQ$1,IF(ISNA(MATCH(M44,$AN$30:$AO$30,0)),0,1),IF(M$30=$AR$1,IF(IFERROR(M44*1,"bad")="bad",0,1),IF(M$30=$AS$1,IF(IFERROR(IF(M44=TRUNC(M44),1,"bad"),"bad")="bad",0,1),IF(M$30=$AT$1,IF(AND(IF(IFERROR(M44*1,"bad")="bad",0,1)=1,M44>=0),1,0),IF(M$30=$AU$1,IF(AND(IF(IFERROR(IF(M44=TRUNC(M44),1,"bad"),"bad")="bad",0,1)=1,M44>=0),1,0),IF(M$30=$AV$1,IF(AND(IF(IFERROR(M44*1,"bad")="bad",0,1)=1,M44>0),1,0),IF(M$30=$AW$1,IF(AND(IF(IFERROR(IF(M44=TRUNC(M44),1,"bad"),"bad")="bad",0,1)=1,M44>0),1,0),IF(M$30=$AX$1,1,IF(M$30=$AY$1,IF(IFERROR(HLOOKUP(M44,$AQ$4:$AZ$4,1,0),"bad")="bad",0,1),0)))))))))))) -> 0 | AV44: =IF(N$30="",1,IF(N$4=99,1,IF(N44="",0,IF(N$30=$AQ$1,IF(ISNA(MATCH(N44,$AN$30:$AO$30,0)),0,1),IF(N$30=$AR$1,IF(IFERROR(N44*1,"bad")="bad",0,1),IF(N$30=$AS$1,IF(IFERROR(IF(N44=TRUNC(N44),1,"bad"),"bad")="bad",0,1),IF(N$30=$AT$1,IF(AND(IF(IFERROR(N44*1,"bad")="bad",0,1)=1,N44>=0),1,0),IF(N$30=$AU$1,IF(AND(IF(IFERROR(IF(N44=TRUNC(N44),1,"bad"),"bad")="bad",0,1)=1,N44>=0),1,0),IF(N$30=$AV$1,IF(AND(IF(IFERROR(N44*1,"bad")="bad",0,1)=1,N44>0),1,0),IF(N$30=$AW$1,IF(AND(IF(IFERROR(IF(N44=TRUNC(N44),1,"bad"),"bad")="bad",0,1)=1,N44>0),1,0),IF(N$30=$AX$1,1,IF(N$30=$AY$1,IF(IFERROR(HLOOKUP(N44,$AQ$4:$AZ$4,1,0),"bad")="bad",0,1),0)))))))))))) -> 0 | AW44: =IF(O$30="",1,IF(O$4=99,1,IF(O44="",0,IF(O$30=$AQ$1,IF(ISNA(MATCH(O44,$AN$30:$AO$30,0)),0,1),IF(O$30=$AR$1,IF(IFERROR(O44*1,"bad")="bad",0,1),IF(O$30=$AS$1,IF(IFERROR(IF(O44=TRUNC(O44),1,"bad"),"bad")="bad",0,1),IF(O$30=$AT$1,IF(AND(IF(IFERROR(O44*1,"bad")="bad",0,1)=1,O44>=0),1,0),IF(O$30=$AU$1,IF(AND(IF(IFERROR(IF(O44=TRUNC(O44),1,"bad"),"bad")="bad",0,1)=1,O44>=0),1,0),IF(O$30=$AV$1,IF(AND(IF(IFERROR(O44*1,"bad")="bad",0,1)=1,O44>0),1,0),IF(O$30=$AW$1,IF(AND(IF(IFERROR(IF(O44=TRUNC(O44),1,"bad"),"bad")="bad",0,1)=1,O44>0),1,0),IF(O$30=$AX$1,1,IF(O$30=$AY$1,IF(IFERROR(HLOOKUP(O44,$AQ$4:$AZ$4,1,0),"bad")="bad",0,1),0)))))))))))) -> 0 | AX44: =IF(P$30="",1,IF(P$4=99,1,IF(P44="",0,IF(P$30=$AQ$1,IF(ISNA(MATCH(P44,$AN$30:$AO$30,0)),0,1),IF(P$30=$AR$1,IF(IFERROR(P44*1,"bad")="bad",0,1),IF(P$30=$AS$1,IF(IFERROR(IF(P44=TRUNC(P44),1,"bad"),"bad")="bad",0,1),IF(P$30=$AT$1,IF(AND(IF(IFERROR(P44*1,"bad")="bad",0,1)=1,P44>=0),1,0),IF(P$30=$AU$1,IF(AND(IF(IFERROR(IF(P44=TRUNC(P44),1,"bad"),"bad")="bad",0,1)=1,P44>=0),1,0),IF(P$30=$AV$1,IF(AND(IF(IFERROR(P44*1,"bad")="bad",0,1)=1,P44>0),1,0),IF(P$30=$AW$1,IF(AND(IF(IFERROR(IF(P44=TRUNC(P44),1,"bad"),"bad")="bad",0,1)=1,P44>0),1,0),IF(P$30=$AX$1,1,IF(P$30=$AY$1,IF(IFERROR(HLOOKUP(P44,$AQ$4:$AZ$4,1,0),"bad")="bad",0,1),0)))))))))))) -> 0 | AY44: =IF(Q$30="",1,IF(Q$4=99,1,IF(Q44="",0,IF(Q$30=$AQ$1,IF(ISNA(MATCH(Q44,$AN$30:$AO$30,0)),0,1),IF(Q$30=$AR$1,IF(IFERROR(Q44*1,"bad")="bad",0,1),IF(Q$30=$AS$1,IF(IFERROR(IF(Q44=TRUNC(Q44),1,"bad"),"bad")="bad",0,1),IF(Q$30=$AT$1,IF(AND(IF(IFERROR(Q44*1,"bad")="bad",0,1)=1,Q44>=0),1,0),IF(Q$30=$AU$1,IF(AND(IF(IFERROR(IF(Q44=TRUNC(Q44),1,"bad"),"bad")="bad",0,1)=1,Q44>=0),1,0),IF(Q$30=$AV$1,IF(AND(IF(IFERROR(Q44*1,"bad")="bad",0,1)=1,Q44>0),1,0),IF(Q$30=$AW$1,IF(AND(IF(IFERROR(IF(Q44=TRUNC(Q44),1,"bad"),"bad")="bad",0,1)=1,Q44>0),1,0),IF(Q$30=$AX$1,1,IF(Q$30=$AY$1,IF(IFERROR(HLOOKUP(Q44,$AQ$4:$AZ$4,1,0),"bad")="bad",0,1),0)))))))))))) -> 0 | AZ44: =IF(R$30="",1,IF(R$4=99,1,IF(R44="",0,IF(R$30=$AQ$1,IF(ISNA(MATCH(R44,$AN$30:$AO$30,0)),0,1),IF(R$30=$AR$1,IF(IFERROR(R44*1,"bad")="bad",0,1),IF(R$30=$AS$1,IF(IFERROR(IF(R44=TRUNC(R44),1,"bad"),"bad")="bad",0,1),IF(R$30=$AT$1,IF(AND(IF(IFERROR(R44*1,"bad")="bad",0,1)=1,R44>=0),1,0),IF(R$30=$AU$1,IF(AND(IF(IFERROR(IF(R44=TRUNC(R44),1,"bad"),"bad")="bad",0,1)=1,R44>=0),1,0),IF(R$30=$AV$1,IF(AND(IF(IFERROR(R44*1,"bad")="bad",0,1)=1,R44>0),1,0),IF(R$30=$AW$1,IF(AND(IF(IFERROR(IF(R44=TRUNC(R44),1,"bad"),"bad")="bad",0,1)=1,R44>0),1,0),IF(R$30=$AX$1,1,IF(R$30=$AY$1,IF(IFERROR(HLOOKUP(R44,$AQ$4:$AZ$4,1,0),"bad")="bad",0,1),0)))))))))))) -> 0 | ... BR44: =IF(AJ$30="",1,IF(AJ$4=99,1,IF(AJ44="",0,IF(AJ$30=$AQ$1,IF(ISNA(MATCH(AJ44,$AN$30:$AO$30,0)),0,1),IF(AJ$30=$AR$1,IF(IFERROR(AJ44*1,"bad")="bad",0,1),IF(AJ$30=$AS$1,IF(IFERROR(IF(AJ44=TRUNC(AJ44),1,"bad"),"bad")="bad",0,1),IF(AJ$30=$AT$1,IF(AND(IF(IFERROR(AJ44*1,"bad")="bad",0,1)=1,AJ44>=0),1,0),IF(AJ$30=$AU$1,IF(AND(IF(IFERROR(IF(AJ44=TRUNC(AJ44),1,"bad"),"bad")="bad",0,1)=1,AJ44>=0),1,0),IF(AJ$30=$AV$1,IF(AND(IF(IFERROR(AJ44*1,"bad")="bad",0,1)=1,AJ44>0),1,0),IF(AJ$30=$AW$1,IF(AND(IF(IFERROR(IF(AJ44=TRUNC(AJ44),1,"bad"),"bad")="bad",0,1)=1,AJ44>0),1,0),IF(AJ$30=$AX$1,1,IF(AJ$30=$AY$1,IF(IFERROR(HLOOKUP(AJ44,$AQ$4:$AZ$4,1,0),"bad")="bad",0,1),0)))))))))))) -> 1 | BS44: =IF(AK$30="",1,IF(AK44="",0,IF(AK$30=$AQ$1,IF(ISNA(MATCH(AK44,$AN$30:$AO$30,0)),0,1),IF(AK$30=$AR$1,IF(IFERROR(AK44*1,"bad")="bad",0,1),IF(AK$30=$AS$1,IF(IFERROR(IF(AK44=TRUNC(AK44),1,"bad"),"bad")="bad",0,1),IF(AK$30=$AT$1,IF(AND(IF(IFERROR(AK44*1,"bad")="bad",0,1)=1,AK44>=0),1,0),IF(AK$30=$AU$1,IF(AND(IF(IFERROR(IF(AK44=TRUNC(AK44),1,"bad"),"bad")="bad",0,1)=1,AK44>=0),1,0),IF(AK$30=$AV$1,IF(AND(IF(IFERROR(AK44*1,"bad")="bad",0,1)=1,AK44>0),1,0),IF(AK$30=$AW$1,IF(AND(IF(IFERROR(IF(AK44=TRUNC(AK44),1,"bad"),"bad")="bad",0,1)=1,AK44>0),1,0),IF(AK$30=$AX$1,1,IF(AK$30=$AY$1,IF(IFERROR(HLOOKUP(AK44,$AQ$4:$AZ$4,1,0),"bad")="bad",0,1),0))))))))))) -> 1 | BX44: =IF($F44="","",BX$30) | BY44: =IF($F44="","",BY$30) | BZ44: =IF($F44="","",BZ$30) | CA44: =IF($F44="","",CA$30) | CB44: =IF($F44="","",CB$30) | CC44: =IF($F44="","",CC$30) | CD44: =IF($F44="","",CD$30) | CE44: =IF($F44="","",CE$30) | ... CG44: =IF($F44="","",CG$30)
B45: =IF(F45="","",ROW()-30) | J45: =IF($F45="","",IF(AND(I45>0,I45<=H45),1,$AN$1)) | AK45: =IF($F45="","",IF(AJ45=1,1,IF(AM45<>1,$AN$1,IF(SUMPRODUCT(--(H45:AI45>=$H$6:$AI$6)*($H$6:$AI$6<>""))=COUNTIF($H$4:$AI$4,1),1,0)))) | AM45: =IF(SUM(AP45:BS45)=COUNT(AP45:BS45),1,0) -> 0 | AN45: =IF($F45="","",AN$30) | AO45: =IF($F45="","",AO$30) | AP45: =IF(H$30="",1,IF(H$4=99,1,IF(H45="",0,IF(H$30=$AQ$1,IF(ISNA(MATCH(H45,$AN$30:$AO$30,0)),0,1),IF(H$30=$AR$1,IF(IFERROR(H45*1,"bad")="bad",0,1),IF(H$30=$AS$1,IF(IFERROR(IF(H45=TRUNC(H45),1,"bad"),"bad")="bad",0,1),IF(H$30=$AT$1,IF(AND(IF(IFERROR(H45*1,"bad")="bad",0,1)=1,H45>=0),1,0),IF(H$30=$AU$1,IF(AND(IF(IFERROR(IF(H45=TRUNC(H45),1,"bad"),"bad")="bad",0,1)=1,H45>=0),1,0),IF(H$30=$AV$1,IF(AND(IF(IFERROR(H45*1,"bad")="bad",0,1)=1,H45>0),1,0),IF(H$30=$AW$1,IF(AND(IF(IFERROR(IF(H45=TRUNC(H45),1,"bad"),"bad")="bad",0,1)=1,H45>0),1,0),IF(H$30=$AX$1,1,IF(H$30=$AY$1,IF(IFERROR(HLOOKUP(H45,$AQ$4:$AZ$4,1,0),"bad")="bad",0,1),0)))))))))))) -> 0 | AQ45: =IF(I$30="",1,IF(I$4=99,1,IF(I45="",0,IF(I$30=$AQ$1,IF(ISNA(MATCH(I45,$AN$30:$AO$30,0)),0,1),IF(I$30=$AR$1,IF(IFERROR(I45*1,"bad")="bad",0,1),IF(I$30=$AS$1,IF(IFERROR(IF(I45=TRUNC(I45),1,"bad"),"bad")="bad",0,1),IF(I$30=$AT$1,IF(AND(IF(IFERROR(I45*1,"bad")="bad",0,1)=1,I45>=0),1,0),IF(I$30=$AU$1,IF(AND(IF(IFERROR(IF(I45=TRUNC(I45),1,"bad"),"bad")="bad",0,1)=1,I45>=0),1,0),IF(I$30=$AV$1,IF(AND(IF(IFERROR(I45*1,"bad")="bad",0,1)=1,I45>0),1,0),IF(I$30=$AW$1,IF(AND(IF(IFERROR(IF(I45=TRUNC(I45),1,"bad"),"bad")="bad",0,1)=1,I45>0),1,0),IF(I$30=$AX$1,1,IF(I$30=$AY$1,IF(IFERROR(HLOOKUP(I45,$AQ$4:$AZ$4,1,0),"bad")="bad",0,1),0)))))))))))) -> 0 | AS45: =IF(K$30="",1,IF(K$4=99,1,IF(K45="",0,IF(K$30=$AQ$1,IF(ISNA(MATCH(K45,$AN$30:$AO$30,0)),0,1),IF(K$30=$AR$1,IF(IFERROR(K45*1,"bad")="bad",0,1),IF(K$30=$AS$1,IF(IFERROR(IF(K45=TRUNC(K45),1,"bad"),"bad")="bad",0,1),IF(K$30=$AT$1,IF(AND(IF(IFERROR(K45*1,"bad")="bad",0,1)=1,K45>=0),1,0),IF(K$30=$AU$1,IF(AND(IF(IFERROR(IF(K45=TRUNC(K45),1,"bad"),"bad")="bad",0,1)=1,K45>=0),1,0),IF(K$30=$AV$1,IF(AND(IF(IFERROR(K45*1,"bad")="bad",0,1)=1,K45>0),1,0),IF(K$30=$AW$1,IF(AND(IF(IFERROR(IF(K45=TRUNC(K45),1,"bad"),"bad")="bad",0,1)=1,K45>0),1,0),IF(K$30=$AX$1,1,IF(K$30=$AY$1,IF(IFERROR(HLOOKUP(K45,$AQ$4:$AZ$4,1,0),"bad")="bad",0,1),0)))))))))))) -> 0 | AT45: =IF(L$30="",1,IF(L$4=99,1,IF(L45="",0,IF(L$30=$AQ$1,IF(ISNA(MATCH(L45,$AN$30:$AO$30,0)),0,1),IF(L$30=$AR$1,IF(IFERROR(L45*1,"bad")="bad",0,1),IF(L$30=$AS$1,IF(IFERROR(IF(L45=TRUNC(L45),1,"bad"),"bad")="bad",0,1),IF(L$30=$AT$1,IF(AND(IF(IFERROR(L45*1,"bad")="bad",0,1)=1,L45>=0),1,0),IF(L$30=$AU$1,IF(AND(IF(IFERROR(IF(L45=TRUNC(L45),1,"bad"),"bad")="bad",0,1)=1,L45>=0),1,0),IF(L$30=$AV$1,IF(AND(IF(IFERROR(L45*1,"bad")="bad",0,1)=1,L45>0),1,0),IF(L$30=$AW$1,IF(AND(IF(IFERROR(IF(L45=TRUNC(L45),1,"bad"),"bad")="bad",0,1)=1,L45>0),1,0),IF(L$30=$AX$1,1,IF(L$30=$AY$1,IF(IFERROR(HLOOKUP(L45,$AQ$4:$AZ$4,1,0),"bad")="bad",0,1),0)))))))))))) -> 0 | AU45: =IF(M$30="",1,IF(M$4=99,1,IF(M45="",0,IF(M$30=$AQ$1,IF(ISNA(MATCH(M45,$AN$30:$AO$30,0)),0,1),IF(M$30=$AR$1,IF(IFERROR(M45*1,"bad")="bad",0,1),IF(M$30=$AS$1,IF(IFERROR(IF(M45=TRUNC(M45),1,"bad"),"bad")="bad",0,1),IF(M$30=$AT$1,IF(AND(IF(IFERROR(M45*1,"bad")="bad",0,1)=1,M45>=0),1,0),IF(M$30=$AU$1,IF(AND(IF(IFERROR(IF(M45=TRUNC(M45),1,"bad"),"bad")="bad",0,1)=1,M45>=0),1,0),IF(M$30=$AV$1,IF(AND(IF(IFERROR(M45*1,"bad")="bad",0,1)=1,M45>0),1,0),IF(M$30=$AW$1,IF(AND(IF(IFERROR(IF(M45=TRUNC(M45),1,"bad"),"bad")="bad",0,1)=1,M45>0),1,0),IF(M$30=$AX$1,1,IF(M$30=$AY$1,IF(IFERROR(HLOOKUP(M45,$AQ$4:$AZ$4,1,0),"bad")="bad",0,1),0)))))))))))) -> 0 | AV45: =IF(N$30="",1,IF(N$4=99,1,IF(N45="",0,IF(N$30=$AQ$1,IF(ISNA(MATCH(N45,$AN$30:$AO$30,0)),0,1),IF(N$30=$AR$1,IF(IFERROR(N45*1,"bad")="bad",0,1),IF(N$30=$AS$1,IF(IFERROR(IF(N45=TRUNC(N45),1,"bad"),"bad")="bad",0,1),IF(N$30=$AT$1,IF(AND(IF(IFERROR(N45*1,"bad")="bad",0,1)=1,N45>=0),1,0),IF(N$30=$AU$1,IF(AND(IF(IFERROR(IF(N45=TRUNC(N45),1,"bad"),"bad")="bad",0,1)=1,N45>=0),1,0),IF(N$30=$AV$1,IF(AND(IF(IFERROR(N45*1,"bad")="bad",0,1)=1,N45>0),1,0),IF(N$30=$AW$1,IF(AND(IF(IFERROR(IF(N45=TRUNC(N45),1,"bad"),"bad")="bad",0,1)=1,N45>0),1,0),IF(N$30=$AX$1,1,IF(N$30=$AY$1,IF(IFERROR(HLOOKUP(N45,$AQ$4:$AZ$4,1,0),"bad")="bad",0,1),0)))))))))))) -> 0 | AW45: =IF(O$30="",1,IF(O$4=99,1,IF(O45="",0,IF(O$30=$AQ$1,IF(ISNA(MATCH(O45,$AN$30:$AO$30,0)),0,1),IF(O$30=$AR$1,IF(IFERROR(O45*1,"bad")="bad",0,1),IF(O$30=$AS$1,IF(IFERROR(IF(O45=TRUNC(O45),1,"bad"),"bad")="bad",0,1),IF(O$30=$AT$1,IF(AND(IF(IFERROR(O45*1,"bad")="bad",0,1)=1,O45>=0),1,0),IF(O$30=$AU$1,IF(AND(IF(IFERROR(IF(O45=TRUNC(O45),1,"bad"),"bad")="bad",0,1)=1,O45>=0),1,0),IF(O$30=$AV$1,IF(AND(IF(IFERROR(O45*1,"bad")="bad",0,1)=1,O45>0),1,0),IF(O$30=$AW$1,IF(AND(IF(IFERROR(IF(O45=TRUNC(O45),1,"bad"),"bad")="bad",0,1)=1,O45>0),1,0),IF(O$30=$AX$1,1,IF(O$30=$AY$1,IF(IFERROR(HLOOKUP(O45,$AQ$4:$AZ$4,1,0),"bad")="bad",0,1),0)))))))))))) -> 0 | AX45: =IF(P$30="",1,IF(P$4=99,1,IF(P45="",0,IF(P$30=$AQ$1,IF(ISNA(MATCH(P45,$AN$30:$AO$30,0)),0,1),IF(P$30=$AR$1,IF(IFERROR(P45*1,"bad")="bad",0,1),IF(P$30=$AS$1,IF(IFERROR(IF(P45=TRUNC(P45),1,"bad"),"bad")="bad",0,1),IF(P$30=$AT$1,IF(AND(IF(IFERROR(P45*1,"bad")="bad",0,1)=1,P45>=0),1,0),IF(P$30=$AU$1,IF(AND(IF(IFERROR(IF(P45=TRUNC(P45),1,"bad"),"bad")="bad",0,1)=1,P45>=0),1,0),IF(P$30=$AV$1,IF(AND(IF(IFERROR(P45*1,"bad")="bad",0,1)=1,P45>0),1,0),IF(P$30=$AW$1,IF(AND(IF(IFERROR(IF(P45=TRUNC(P45),1,"bad"),"bad")="bad",0,1)=1,P45>0),1,0),IF(P$30=$AX$1,1,IF(P$30=$AY$1,IF(IFERROR(HLOOKUP(P45,$AQ$4:$AZ$4,1,0),"bad")="bad",0,1),0)))))))))))) -> 0 | AY45: =IF(Q$30="",1,IF(Q$4=99,1,IF(Q45="",0,IF(Q$30=$AQ$1,IF(ISNA(MATCH(Q45,$AN$30:$AO$30,0)),0,1),IF(Q$30=$AR$1,IF(IFERROR(Q45*1,"bad")="bad",0,1),IF(Q$30=$AS$1,IF(IFERROR(IF(Q45=TRUNC(Q45),1,"bad"),"bad")="bad",0,1),IF(Q$30=$AT$1,IF(AND(IF(IFERROR(Q45*1,"bad")="bad",0,1)=1,Q45>=0),1,0),IF(Q$30=$AU$1,IF(AND(IF(IFERROR(IF(Q45=TRUNC(Q45),1,"bad"),"bad")="bad",0,1)=1,Q45>=0),1,0),IF(Q$30=$AV$1,IF(AND(IF(IFERROR(Q45*1,"bad")="bad",0,1)=1,Q45>0),1,0),IF(Q$30=$AW$1,IF(AND(IF(IFERROR(IF(Q45=TRUNC(Q45),1,"bad"),"bad")="bad",0,1)=1,Q45>0),1,0),IF(Q$30=$AX$1,1,IF(Q$30=$AY$1,IF(IFERROR(HLOOKUP(Q45,$AQ$4:$AZ$4,1,0),"bad")="bad",0,1),0)))))))))))) -> 0 | AZ45: =IF(R$30="",1,IF(R$4=99,1,IF(R45="",0,IF(R$30=$AQ$1,IF(ISNA(MATCH(R45,$AN$30:$AO$30,0)),0,1),IF(R$30=$AR$1,IF(IFERROR(R45*1,"bad")="bad",0,1),IF(R$30=$AS$1,IF(IFERROR(IF(R45=TRUNC(R45),1,"bad"),"bad")="bad",0,1),IF(R$30=$AT$1,IF(AND(IF(IFERROR(R45*1,"bad")="bad",0,1)=1,R45>=0),1,0),IF(R$30=$AU$1,IF(AND(IF(IFERROR(IF(R45=TRUNC(R45),1,"bad"),"bad")="bad",0,1)=1,R45>=0),1,0),IF(R$30=$AV$1,IF(AND(IF(IFERROR(R45*1,"bad")="bad",0,1)=1,R45>0),1,0),IF(R$30=$AW$1,IF(AND(IF(IFERROR(IF(R45=TRUNC(R45),1,"bad"),"bad")="bad",0,1)=1,R45>0),1,0),IF(R$30=$AX$1,1,IF(R$30=$AY$1,IF(IFERROR(HLOOKUP(R45,$AQ$4:$AZ$4,1,0),"bad")="bad",0,1),0)))))))))))) -> 0 | ... BR45: =IF(AJ$30="",1,IF(AJ$4=99,1,IF(AJ45="",0,IF(AJ$30=$AQ$1,IF(ISNA(MATCH(AJ45,$AN$30:$AO$30,0)),0,1),IF(AJ$30=$AR$1,IF(IFERROR(AJ45*1,"bad")="bad",0,1),IF(AJ$30=$AS$1,IF(IFERROR(IF(AJ45=TRUNC(AJ45),1,"bad"),"bad")="bad",0,1),IF(AJ$30=$AT$1,IF(AND(IF(IFERROR(AJ45*1,"bad")="bad",0,1)=1,AJ45>=0),1,0),IF(AJ$30=$AU$1,IF(AND(IF(IFERROR(IF(AJ45=TRUNC(AJ45),1,"bad"),"bad")="bad",0,1)=1,AJ45>=0),1,0),IF(AJ$30=$AV$1,IF(AND(IF(IFERROR(AJ45*1,"bad")="bad",0,1)=1,AJ45>0),1,0),IF(AJ$30=$AW$1,IF(AND(IF(IFERROR(IF(AJ45=TRUNC(AJ45),1,"bad"),"bad")="bad",0,1)=1,AJ45>0),1,0),IF(AJ$30=$AX$1,1,IF(AJ$30=$AY$1,IF(IFERROR(HLOOKUP(AJ45,$AQ$4:$AZ$4,1,0),"bad")="bad",0,1),0)))))))))))) -> 1 | BS45: =IF(AK$30="",1,IF(AK45="",0,IF(AK$30=$AQ$1,IF(ISNA(MATCH(AK45,$AN$30:$AO$30,0)),0,1),IF(AK$30=$AR$1,IF(IFERROR(AK45*1,"bad")="bad",0,1),IF(AK$30=$AS$1,IF(IFERROR(IF(AK45=TRUNC(AK45),1,"bad"),"bad")="bad",0,1),IF(AK$30=$AT$1,IF(AND(IF(IFERROR(AK45*1,"bad")="bad",0,1)=1,AK45>=0),1,0),IF(AK$30=$AU$1,IF(AND(IF(IFERROR(IF(AK45=TRUNC(AK45),1,"bad"),"bad")="bad",0,1)=1,AK45>=0),1,0),IF(AK$30=$AV$1,IF(AND(IF(IFERROR(AK45*1,"bad")="bad",0,1)=1,AK45>0),1,0),IF(AK$30=$AW$1,IF(AND(IF(IFERROR(IF(AK45=TRUNC(AK45),1,"bad"),"bad")="bad",0,1)=1,AK45>0),1,0),IF(AK$30=$AX$1,1,IF(AK$30=$AY$1,IF(IFERROR(HLOOKUP(AK45,$AQ$4:$AZ$4,1,0),"bad")="bad",0,1),0))))))))))) -> 1 | BX45: =IF($F45="","",BX$30) | BY45: =IF($F45="","",BY$30) | BZ45: =IF($F45="","",BZ$30) | CA45: =IF($F45="","",CA$30) | CB45: =IF($F45="","",CB$30) | CC45: =IF($F45="","",CC$30) | CD45: =IF($F45="","",CD$30) | CE45: =IF($F45="","",CE$30) | ... CG45: =IF($F45="","",CG$30)
B46: =IF(F46="","",ROW()-30) | J46: =IF($F46="","",IF(AND(I46>0,I46<=H46),1,$AN$1)) | AK46: =IF($F46="","",IF(AJ46=1,1,IF(AM46<>1,$AN$1,IF(SUMPRODUCT(--(H46:AI46>=$H$6:$AI$6)*($H$6:$AI$6<>""))=COUNTIF($H$4:$AI$4,1),1,0)))) | AM46: =IF(SUM(AP46:BS46)=COUNT(AP46:BS46),1,0) -> 0 | AN46: =IF($F46="","",AN$30) | AO46: =IF($F46="","",AO$30) | AP46: =IF(H$30="",1,IF(H$4=99,1,IF(H46="",0,IF(H$30=$AQ$1,IF(ISNA(MATCH(H46,$AN$30:$AO$30,0)),0,1),IF(H$30=$AR$1,IF(IFERROR(H46*1,"bad")="bad",0,1),IF(H$30=$AS$1,IF(IFERROR(IF(H46=TRUNC(H46),1,"bad"),"bad")="bad",0,1),IF(H$30=$AT$1,IF(AND(IF(IFERROR(H46*1,"bad")="bad",0,1)=1,H46>=0),1,0),IF(H$30=$AU$1,IF(AND(IF(IFERROR(IF(H46=TRUNC(H46),1,"bad"),"bad")="bad",0,1)=1,H46>=0),1,0),IF(H$30=$AV$1,IF(AND(IF(IFERROR(H46*1,"bad")="bad",0,1)=1,H46>0),1,0),IF(H$30=$AW$1,IF(AND(IF(IFERROR(IF(H46=TRUNC(H46),1,"bad"),"bad")="bad",0,1)=1,H46>0),1,0),IF(H$30=$AX$1,1,IF(H$30=$AY$1,IF(IFERROR(HLOOKUP(H46,$AQ$4:$AZ$4,1,0),"bad")="bad",0,1),0)))))))))))) -> 0 | AQ46: =IF(I$30="",1,IF(I$4=99,1,IF(I46="",0,IF(I$30=$AQ$1,IF(ISNA(MATCH(I46,$AN$30:$AO$30,0)),0,1),IF(I$30=$AR$1,IF(IFERROR(I46*1,"bad")="bad",0,1),IF(I$30=$AS$1,IF(IFERROR(IF(I46=TRUNC(I46),1,"bad"),"bad")="bad",0,1),IF(I$30=$AT$1,IF(AND(IF(IFERROR(I46*1,"bad")="bad",0,1)=1,I46>=0),1,0),IF(I$30=$AU$1,IF(AND(IF(IFERROR(IF(I46=TRUNC(I46),1,"bad"),"bad")="bad",0,1)=1,I46>=0),1,0),IF(I$30=$AV$1,IF(AND(IF(IFERROR(I46*1,"bad")="bad",0,1)=1,I46>0),1,0),IF(I$30=$AW$1,IF(AND(IF(IFERROR(IF(I46=TRUNC(I46),1,"bad"),"bad")="bad",0,1)=1,I46>0),1,0),IF(I$30=$AX$1,1,IF(I$30=$AY$1,IF(IFERROR(HLOOKUP(I46,$AQ$4:$AZ$4,1,0),"bad")="bad",0,1),0)))))))))))) -> 0 | AS46: =IF(K$30="",1,IF(K$4=99,1,IF(K46="",0,IF(K$30=$AQ$1,IF(ISNA(MATCH(K46,$AN$30:$AO$30,0)),0,1),IF(K$30=$AR$1,IF(IFERROR(K46*1,"bad")="bad",0,1),IF(K$30=$AS$1,IF(IFERROR(IF(K46=TRUNC(K46),1,"bad"),"bad")="bad",0,1),IF(K$30=$AT$1,IF(AND(IF(IFERROR(K46*1,"bad")="bad",0,1)=1,K46>=0),1,0),IF(K$30=$AU$1,IF(AND(IF(IFERROR(IF(K46=TRUNC(K46),1,"bad"),"bad")="bad",0,1)=1,K46>=0),1,0),IF(K$30=$AV$1,IF(AND(IF(IFERROR(K46*1,"bad")="bad",0,1)=1,K46>0),1,0),IF(K$30=$AW$1,IF(AND(IF(IFERROR(IF(K46=TRUNC(K46),1,"bad"),"bad")="bad",0,1)=1,K46>0),1,0),IF(K$30=$AX$1,1,IF(K$30=$AY$1,IF(IFERROR(HLOOKUP(K46,$AQ$4:$AZ$4,1,0),"bad")="bad",0,1),0)))))))))))) -> 0 | AT46: =IF(L$30="",1,IF(L$4=99,1,IF(L46="",0,IF(L$30=$AQ$1,IF(ISNA(MATCH(L46,$AN$30:$AO$30,0)),0,1),IF(L$30=$AR$1,IF(IFERROR(L46*1,"bad")="bad",0,1),IF(L$30=$AS$1,IF(IFERROR(IF(L46=TRUNC(L46),1,"bad"),"bad")="bad",0,1),IF(L$30=$AT$1,IF(AND(IF(IFERROR(L46*1,"bad")="bad",0,1)=1,L46>=0),1,0),IF(L$30=$AU$1,IF(AND(IF(IFERROR(IF(L46=TRUNC(L46),1,"bad"),"bad")="bad",0,1)=1,L46>=0),1,0),IF(L$30=$AV$1,IF(AND(IF(IFERROR(L46*1,"bad")="bad",0,1)=1,L46>0),1,0),IF(L$30=$AW$1,IF(AND(IF(IFERROR(IF(L46=TRUNC(L46),1,"bad"),"bad")="bad",0,1)=1,L46>0),1,0),IF(L$30=$AX$1,1,IF(L$30=$AY$1,IF(IFERROR(HLOOKUP(L46,$AQ$4:$AZ$4,1,0),"bad")="bad",0,1),0)))))))))))) -> 0 | AU46: =IF(M$30="",1,IF(M$4=99,1,IF(M46="",0,IF(M$30=$AQ$1,IF(ISNA(MATCH(M46,$AN$30:$AO$30,0)),0,1),IF(M$30=$AR$1,IF(IFERROR(M46*1,"bad")="bad",0,1),IF(M$30=$AS$1,IF(IFERROR(IF(M46=TRUNC(M46),1,"bad"),"bad")="bad",0,1),IF(M$30=$AT$1,IF(AND(IF(IFERROR(M46*1,"bad")="bad",0,1)=1,M46>=0),1,0),IF(M$30=$AU$1,IF(AND(IF(IFERROR(IF(M46=TRUNC(M46),1,"bad"),"bad")="bad",0,1)=1,M46>=0),1,0),IF(M$30=$AV$1,IF(AND(IF(IFERROR(M46*1,"bad")="bad",0,1)=1,M46>0),1,0),IF(M$30=$AW$1,IF(AND(IF(IFERROR(IF(M46=TRUNC(M46),1,"bad"),"bad")="bad",0,1)=1,M46>0),1,0),IF(M$30=$AX$1,1,IF(M$30=$AY$1,IF(IFERROR(HLOOKUP(M46,$AQ$4:$AZ$4,1,0),"bad")="bad",0,1),0)))))))))))) -> 0 | AV46: =IF(N$30="",1,IF(N$4=99,1,IF(N46="",0,IF(N$30=$AQ$1,IF(ISNA(MATCH(N46,$AN$30:$AO$30,0)),0,1),IF(N$30=$AR$1,IF(IFERROR(N46*1,"bad")="bad",0,1),IF(N$30=$AS$1,IF(IFERROR(IF(N46=TRUNC(N46),1,"bad"),"bad")="bad",0,1),IF(N$30=$AT$1,IF(AND(IF(IFERROR(N46*1,"bad")="bad",0,1)=1,N46>=0),1,0),IF(N$30=$AU$1,IF(AND(IF(IFERROR(IF(N46=TRUNC(N46),1,"bad"),"bad")="bad",0,1)=1,N46>=0),1,0),IF(N$30=$AV$1,IF(AND(IF(IFERROR(N46*1,"bad")="bad",0,1)=1,N46>0),1,0),IF(N$30=$AW$1,IF(AND(IF(IFERROR(IF(N46=TRUNC(N46),1,"bad"),"bad")="bad",0,1)=1,N46>0),1,0),IF(N$30=$AX$1,1,IF(N$30=$AY$1,IF(IFERROR(HLOOKUP(N46,$AQ$4:$AZ$4,1,0),"bad")="bad",0,1),0)))))))))))) -> 0 | AW46: =IF(O$30="",1,IF(O$4=99,1,IF(O46="",0,IF(O$30=$AQ$1,IF(ISNA(MATCH(O46,$AN$30:$AO$30,0)),0,1),IF(O$30=$AR$1,IF(IFERROR(O46*1,"bad")="bad",0,1),IF(O$30=$AS$1,IF(IFERROR(IF(O46=TRUNC(O46),1,"bad"),"bad")="bad",0,1),IF(O$30=$AT$1,IF(AND(IF(IFERROR(O46*1,"bad")="bad",0,1)=1,O46>=0),1,0),IF(O$30=$AU$1,IF(AND(IF(IFERROR(IF(O46=TRUNC(O46),1,"bad"),"bad")="bad",0,1)=1,O46>=0),1,0),IF(O$30=$AV$1,IF(AND(IF(IFERROR(O46*1,"bad")="bad",0,1)=1,O46>0),1,0),IF(O$30=$AW$1,IF(AND(IF(IFERROR(IF(O46=TRUNC(O46),1,"bad"),"bad")="bad",0,1)=1,O46>0),1,0),IF(O$30=$AX$1,1,IF(O$30=$AY$1,IF(IFERROR(HLOOKUP(O46,$AQ$4:$AZ$4,1,0),"bad")="bad",0,1),0)))))))))))) -> 0 | AX46: =IF(P$30="",1,IF(P$4=99,1,IF(P46="",0,IF(P$30=$AQ$1,IF(ISNA(MATCH(P46,$AN$30:$AO$30,0)),0,1),IF(P$30=$AR$1,IF(IFERROR(P46*1,"bad")="bad",0,1),IF(P$30=$AS$1,IF(IFERROR(IF(P46=TRUNC(P46),1,"bad"),"bad")="bad",0,1),IF(P$30=$AT$1,IF(AND(IF(IFERROR(P46*1,"bad")="bad",0,1)=1,P46>=0),1,0),IF(P$30=$AU$1,IF(AND(IF(IFERROR(IF(P46=TRUNC(P46),1,"bad"),"bad")="bad",0,1)=1,P46>=0),1,0),IF(P$30=$AV$1,IF(AND(IF(IFERROR(P46*1,"bad")="bad",0,1)=1,P46>0),1,0),IF(P$30=$AW$1,IF(AND(IF(IFERROR(IF(P46=TRUNC(P46),1,"bad"),"bad")="bad",0,1)=1,P46>0),1,0),IF(P$30=$AX$1,1,IF(P$30=$AY$1,IF(IFERROR(HLOOKUP(P46,$AQ$4:$AZ$4,1,0),"bad")="bad",0,1),0)))))))))))) -> 0 | AY46: =IF(Q$30="",1,IF(Q$4=99,1,IF(Q46="",0,IF(Q$30=$AQ$1,IF(ISNA(MATCH(Q46,$AN$30:$AO$30,0)),0,1),IF(Q$30=$AR$1,IF(IFERROR(Q46*1,"bad")="bad",0,1),IF(Q$30=$AS$1,IF(IFERROR(IF(Q46=TRUNC(Q46),1,"bad"),"bad")="bad",0,1),IF(Q$30=$AT$1,IF(AND(IF(IFERROR(Q46*1,"bad")="bad",0,1)=1,Q46>=0),1,0),IF(Q$30=$AU$1,IF(AND(IF(IFERROR(IF(Q46=TRUNC(Q46),1,"bad"),"bad")="bad",0,1)=1,Q46>=0),1,0),IF(Q$30=$AV$1,IF(AND(IF(IFERROR(Q46*1,"bad")="bad",0,1)=1,Q46>0),1,0),IF(Q$30=$AW$1,IF(AND(IF(IFERROR(IF(Q46=TRUNC(Q46),1,"bad"),"bad")="bad",0,1)=1,Q46>0),1,0),IF(Q$30=$AX$1,1,IF(Q$30=$AY$1,IF(IFERROR(HLOOKUP(Q46,$AQ$4:$AZ$4,1,0),"bad")="bad",0,1),0)))))))))))) -> 0 | AZ46: =IF(R$30="",1,IF(R$4=99,1,IF(R46="",0,IF(R$30=$AQ$1,IF(ISNA(MATCH(R46,$AN$30:$AO$30,0)),0,1),IF(R$30=$AR$1,IF(IFERROR(R46*1,"bad")="bad",0,1),IF(R$30=$AS$1,IF(IFERROR(IF(R46=TRUNC(R46),1,"bad"),"bad")="bad",0,1),IF(R$30=$AT$1,IF(AND(IF(IFERROR(R46*1,"bad")="bad",0,1)=1,R46>=0),1,0),IF(R$30=$AU$1,IF(AND(IF(IFERROR(IF(R46=TRUNC(R46),1,"bad"),"bad")="bad",0,1)=1,R46>=0),1,0),IF(R$30=$AV$1,IF(AND(IF(IFERROR(R46*1,"bad")="bad",0,1)=1,R46>0),1,0),IF(R$30=$AW$1,IF(AND(IF(IFERROR(IF(R46=TRUNC(R46),1,"bad"),"bad")="bad",0,1)=1,R46>0),1,0),IF(R$30=$AX$1,1,IF(R$30=$AY$1,IF(IFERROR(HLOOKUP(R46,$AQ$4:$AZ$4,1,0),"bad")="bad",0,1),0)))))))))))) -> 0 | ... BR46: =IF(AJ$30="",1,IF(AJ$4=99,1,IF(AJ46="",0,IF(AJ$30=$AQ$1,IF(ISNA(MATCH(AJ46,$AN$30:$AO$30,0)),0,1),IF(AJ$30=$AR$1,IF(IFERROR(AJ46*1,"bad")="bad",0,1),IF(AJ$30=$AS$1,IF(IFERROR(IF(AJ46=TRUNC(AJ46),1,"bad"),"bad")="bad",0,1),IF(AJ$30=$AT$1,IF(AND(IF(IFERROR(AJ46*1,"bad")="bad",0,1)=1,AJ46>=0),1,0),IF(AJ$30=$AU$1,IF(AND(IF(IFERROR(IF(AJ46=TRUNC(AJ46),1,"bad"),"bad")="bad",0,1)=1,AJ46>=0),1,0),IF(AJ$30=$AV$1,IF(AND(IF(IFERROR(AJ46*1,"bad")="bad",0,1)=1,AJ46>0),1,0),IF(AJ$30=$AW$1,IF(AND(IF(IFERROR(IF(AJ46=TRUNC(AJ46),1,"bad"),"bad")="bad",0,1)=1,AJ46>0),1,0),IF(AJ$30=$AX$1,1,IF(AJ$30=$AY$1,IF(IFERROR(HLOOKUP(AJ46,$AQ$4:$AZ$4,1,0),"bad")="bad",0,1),0)))))))))))) -> 1 | BS46: =IF(AK$30="",1,IF(AK46="",0,IF(AK$30=$AQ$1,IF(ISNA(MATCH(AK46,$AN$30:$AO$30,0)),0,1),IF(AK$30=$AR$1,IF(IFERROR(AK46*1,"bad")="bad",0,1),IF(AK$30=$AS$1,IF(IFERROR(IF(AK46=TRUNC(AK46),1,"bad"),"bad")="bad",0,1),IF(AK$30=$AT$1,IF(AND(IF(IFERROR(AK46*1,"bad")="bad",0,1)=1,AK46>=0),1,0),IF(AK$30=$AU$1,IF(AND(IF(IFERROR(IF(AK46=TRUNC(AK46),1,"bad"),"bad")="bad",0,1)=1,AK46>=0),1,0),IF(AK$30=$AV$1,IF(AND(IF(IFERROR(AK46*1,"bad")="bad",0,1)=1,AK46>0),1,0),IF(AK$30=$AW$1,IF(AND(IF(IFERROR(IF(AK46=TRUNC(AK46),1,"bad"),"bad")="bad",0,1)=1,AK46>0),1,0),IF(AK$30=$AX$1,1,IF(AK$30=$AY$1,IF(IFERROR(HLOOKUP(AK46,$AQ$4:$AZ$4,1,0),"bad")="bad",0,1),0))))))))))) -> 1 | BX46: =IF($F46="","",BX$30) | BY46: =IF($F46="","",BY$30) | BZ46: =IF($F46="","",BZ$30) | CA46: =IF($F46="","",CA$30) | CB46: =IF($F46="","",CB$30) | CC46: =IF($F46="","",CC$30) | CD46: =IF($F46="","",CD$30) | CE46: =IF($F46="","",CE$30) | ... CG46: =IF($F46="","",CG$30)
B47: =IF(F47="","",ROW()-30) | J47: =IF($F47="","",IF(AND(I47>0,I47<=H47),1,$AN$1)) | AK47: =IF($F47="","",IF(AJ47=1,1,IF(AM47<>1,$AN$1,IF(SUMPRODUCT(--(H47:AI47>=$H$6:$AI$6)*($H$6:$AI$6<>""))=COUNTIF($H$4:$AI$4,1),1,0)))) | AM47: =IF(SUM(AP47:BS47)=COUNT(AP47:BS47),1,0) -> 0 | AN47: =IF($F47="","",AN$30) | AO47: =IF($F47="","",AO$30) | AP47: =IF(H$30="",1,IF(H$4=99,1,IF(H47="",0,IF(H$30=$AQ$1,IF(ISNA(MATCH(H47,$AN$30:$AO$30,0)),0,1),IF(H$30=$AR$1,IF(IFERROR(H47*1,"bad")="bad",0,1),IF(H$30=$AS$1,IF(IFERROR(IF(H47=TRUNC(H47),1,"bad"),"bad")="bad",0,1),IF(H$30=$AT$1,IF(AND(IF(IFERROR(H47*1,"bad")="bad",0,1)=1,H47>=0),1,0),IF(H$30=$AU$1,IF(AND(IF(IFERROR(IF(H47=TRUNC(H47),1,"bad"),"bad")="bad",0,1)=1,H47>=0),1,0),IF(H$30=$AV$1,IF(AND(IF(IFERROR(H47*1,"bad")="bad",0,1)=1,H47>0),1,0),IF(H$30=$AW$1,IF(AND(IF(IFERROR(IF(H47=TRUNC(H47),1,"bad"),"bad")="bad",0,1)=1,H47>0),1,0),IF(H$30=$AX$1,1,IF(H$30=$AY$1,IF(IFERROR(HLOOKUP(H47,$AQ$4:$AZ$4,1,0),"bad")="bad",0,1),0)))))))))))) -> 0 | AQ47: =IF(I$30="",1,IF(I$4=99,1,IF(I47="",0,IF(I$30=$AQ$1,IF(ISNA(MATCH(I47,$AN$30:$AO$30,0)),0,1),IF(I$30=$AR$1,IF(IFERROR(I47*1,"bad")="bad",0,1),IF(I$30=$AS$1,IF(IFERROR(IF(I47=TRUNC(I47),1,"bad"),"bad")="bad",0,1),IF(I$30=$AT$1,IF(AND(IF(IFERROR(I47*1,"bad")="bad",0,1)=1,I47>=0),1,0),IF(I$30=$AU$1,IF(AND(IF(IFERROR(IF(I47=TRUNC(I47),1,"bad"),"bad")="bad",0,1)=1,I47>=0),1,0),IF(I$30=$AV$1,IF(AND(IF(IFERROR(I47*1,"bad")="bad",0,1)=1,I47>0),1,0),IF(I$30=$AW$1,IF(AND(IF(IFERROR(IF(I47=TRUNC(I47),1,"bad"),"bad")="bad",0,1)=1,I47>0),1,0),IF(I$30=$AX$1,1,IF(I$30=$AY$1,IF(IFERROR(HLOOKUP(I47,$AQ$4:$AZ$4,1,0),"bad")="bad",0,1),0)))))))))))) -> 0 | AS47: =IF(K$30="",1,IF(K$4=99,1,IF(K47="",0,IF(K$30=$AQ$1,IF(ISNA(MATCH(K47,$AN$30:$AO$30,0)),0,1),IF(K$30=$AR$1,IF(IFERROR(K47*1,"bad")="bad",0,1),IF(K$30=$AS$1,IF(IFERROR(IF(K47=TRUNC(K47),1,"bad"),"bad")="bad",0,1),IF(K$30=$AT$1,IF(AND(IF(IFERROR(K47*1,"bad")="bad",0,1)=1,K47>=0),1,0),IF(K$30=$AU$1,IF(AND(IF(IFERROR(IF(K47=TRUNC(K47),1,"bad"),"bad")="bad",0,1)=1,K47>=0),1,0),IF(K$30=$AV$1,IF(AND(IF(IFERROR(K47*1,"bad")="bad",0,1)=1,K47>0),1,0),IF(K$30=$AW$1,IF(AND(IF(IFERROR(IF(K47=TRUNC(K47),1,"bad"),"bad")="bad",0,1)=1,K47>0),1,0),IF(K$30=$AX$1,1,IF(K$30=$AY$1,IF(IFERROR(HLOOKUP(K47,$AQ$4:$AZ$4,1,0),"bad")="bad",0,1),0)))))))))))) -> 0 | AT47: =IF(L$30="",1,IF(L$4=99,1,IF(L47="",0,IF(L$30=$AQ$1,IF(ISNA(MATCH(L47,$AN$30:$AO$30,0)),0,1),IF(L$30=$AR$1,IF(IFERROR(L47*1,"bad")="bad",0,1),IF(L$30=$AS$1,IF(IFERROR(IF(L47=TRUNC(L47),1,"bad"),"bad")="bad",0,1),IF(L$30=$AT$1,IF(AND(IF(IFERROR(L47*1,"bad")="bad",0,1)=1,L47>=0),1,0),IF(L$30=$AU$1,IF(AND(IF(IFERROR(IF(L47=TRUNC(L47),1,"bad"),"bad")="bad",0,1)=1,L47>=0),1,0),IF(L$30=$AV$1,IF(AND(IF(IFERROR(L47*1,"bad")="bad",0,1)=1,L47>0),1,0),IF(L$30=$AW$1,IF(AND(IF(IFERROR(IF(L47=TRUNC(L47),1,"bad"),"bad")="bad",0,1)=1,L47>0),1,0),IF(L$30=$AX$1,1,IF(L$30=$AY$1,IF(IFERROR(HLOOKUP(L47,$AQ$4:$AZ$4,1,0),"bad")="bad",0,1),0)))))))))))) -> 0 | AU47: =IF(M$30="",1,IF(M$4=99,1,IF(M47="",0,IF(M$30=$AQ$1,IF(ISNA(MATCH(M47,$AN$30:$AO$30,0)),0,1),IF(M$30=$AR$1,IF(IFERROR(M47*1,"bad")="bad",0,1),IF(M$30=$AS$1,IF(IFERROR(IF(M47=TRUNC(M47),1,"bad"),"bad")="bad",0,1),IF(M$30=$AT$1,IF(AND(IF(IFERROR(M47*1,"bad")="bad",0,1)=1,M47>=0),1,0),IF(M$30=$AU$1,IF(AND(IF(IFERROR(IF(M47=TRUNC(M47),1,"bad"),"bad")="bad",0,1)=1,M47>=0),1,0),IF(M$30=$AV$1,IF(AND(IF(IFERROR(M47*1,"bad")="bad",0,1)=1,M47>0),1,0),IF(M$30=$AW$1,IF(AND(IF(IFERROR(IF(M47=TRUNC(M47),1,"bad"),"bad")="bad",0,1)=1,M47>0),1,0),IF(M$30=$AX$1,1,IF(M$30=$AY$1,IF(IFERROR(HLOOKUP(M47,$AQ$4:$AZ$4,1,0),"bad")="bad",0,1),0)))))))))))) -> 0 | AV47: =IF(N$30="",1,IF(N$4=99,1,IF(N47="",0,IF(N$30=$AQ$1,IF(ISNA(MATCH(N47,$AN$30:$AO$30,0)),0,1),IF(N$30=$AR$1,IF(IFERROR(N47*1,"bad")="bad",0,1),IF(N$30=$AS$1,IF(IFERROR(IF(N47=TRUNC(N47),1,"bad"),"bad")="bad",0,1),IF(N$30=$AT$1,IF(AND(IF(IFERROR(N47*1,"bad")="bad",0,1)=1,N47>=0),1,0),IF(N$30=$AU$1,IF(AND(IF(IFERROR(IF(N47=TRUNC(N47),1,"bad"),"bad")="bad",0,1)=1,N47>=0),1,0),IF(N$30=$AV$1,IF(AND(IF(IFERROR(N47*1,"bad")="bad",0,1)=1,N47>0),1,0),IF(N$30=$AW$1,IF(AND(IF(IFERROR(IF(N47=TRUNC(N47),1,"bad"),"bad")="bad",0,1)=1,N47>0),1,0),IF(N$30=$AX$1,1,IF(N$30=$AY$1,IF(IFERROR(HLOOKUP(N47,$AQ$4:$AZ$4,1,0),"bad")="bad",0,1),0)))))))))))) -> 0 | AW47: =IF(O$30="",1,IF(O$4=99,1,IF(O47="",0,IF(O$30=$AQ$1,IF(ISNA(MATCH(O47,$AN$30:$AO$30,0)),0,1),IF(O$30=$AR$1,IF(IFERROR(O47*1,"bad")="bad",0,1),IF(O$30=$AS$1,IF(IFERROR(IF(O47=TRUNC(O47),1,"bad"),"bad")="bad",0,1),IF(O$30=$AT$1,IF(AND(IF(IFERROR(O47*1,"bad")="bad",0,1)=1,O47>=0),1,0),IF(O$30=$AU$1,IF(AND(IF(IFERROR(IF(O47=TRUNC(O47),1,"bad"),"bad")="bad",0,1)=1,O47>=0),1,0),IF(O$30=$AV$1,IF(AND(IF(IFERROR(O47*1,"bad")="bad",0,1)=1,O47>0),1,0),IF(O$30=$AW$1,IF(AND(IF(IFERROR(IF(O47=TRUNC(O47),1,"bad"),"bad")="bad",0,1)=1,O47>0),1,0),IF(O$30=$AX$1,1,IF(O$30=$AY$1,IF(IFERROR(HLOOKUP(O47,$AQ$4:$AZ$4,1,0),"bad")="bad",0,1),0)))))))))))) -> 0 | AX47: =IF(P$30="",1,IF(P$4=99,1,IF(P47="",0,IF(P$30=$AQ$1,IF(ISNA(MATCH(P47,$AN$30:$AO$30,0)),0,1),IF(P$30=$AR$1,IF(IFERROR(P47*1,"bad")="bad",0,1),IF(P$30=$AS$1,IF(IFERROR(IF(P47=TRUNC(P47),1,"bad"),"bad")="bad",0,1),IF(P$30=$AT$1,IF(AND(IF(IFERROR(P47*1,"bad")="bad",0,1)=1,P47>=0),1,0),IF(P$30=$AU$1,IF(AND(IF(IFERROR(IF(P47=TRUNC(P47),1,"bad"),"bad")="bad",0,1)=1,P47>=0),1,0),IF(P$30=$AV$1,IF(AND(IF(IFERROR(P47*1,"bad")="bad",0,1)=1,P47>0),1,0),IF(P$30=$AW$1,IF(AND(IF(IFERROR(IF(P47=TRUNC(P47),1,"bad"),"bad")="bad",0,1)=1,P47>0),1,0),IF(P$30=$AX$1,1,IF(P$30=$AY$1,IF(IFERROR(HLOOKUP(P47,$AQ$4:$AZ$4,1,0),"bad")="bad",0,1),0)))))))))))) -> 0 | AY47: =IF(Q$30="",1,IF(Q$4=99,1,IF(Q47="",0,IF(Q$30=$AQ$1,IF(ISNA(MATCH(Q47,$AN$30:$AO$30,0)),0,1),IF(Q$30=$AR$1,IF(IFERROR(Q47*1,"bad")="bad",0,1),IF(Q$30=$AS$1,IF(IFERROR(IF(Q47=TRUNC(Q47),1,"bad"),"bad")="bad",0,1),IF(Q$30=$AT$1,IF(AND(IF(IFERROR(Q47*1,"bad")="bad",0,1)=1,Q47>=0),1,0),IF(Q$30=$AU$1,IF(AND(IF(IFERROR(IF(Q47=TRUNC(Q47),1,"bad"),"bad")="bad",0,1)=1,Q47>=0),1,0),IF(Q$30=$AV$1,IF(AND(IF(IFERROR(Q47*1,"bad")="bad",0,1)=1,Q47>0),1,0),IF(Q$30=$AW$1,IF(AND(IF(IFERROR(IF(Q47=TRUNC(Q47),1,"bad"),"bad")="bad",0,1)=1,Q47>0),1,0),IF(Q$30=$AX$1,1,IF(Q$30=$AY$1,IF(IFERROR(HLOOKUP(Q47,$AQ$4:$AZ$4,1,0),"bad")="bad",0,1),0)))))))))))) -> 0 | AZ47: =IF(R$30="",1,IF(R$4=99,1,IF(R47="",0,IF(R$30=$AQ$1,IF(ISNA(MATCH(R47,$AN$30:$AO$30,0)),0,1),IF(R$30=$AR$1,IF(IFERROR(R47*1,"bad")="bad",0,1),IF(R$30=$AS$1,IF(IFERROR(IF(R47=TRUNC(R47),1,"bad"),"bad")="bad",0,1),IF(R$30=$AT$1,IF(AND(IF(IFERROR(R47*1,"bad")="bad",0,1)=1,R47>=0),1,0),IF(R$30=$AU$1,IF(AND(IF(IFERROR(IF(R47=TRUNC(R47),1,"bad"),"bad")="bad",0,1)=1,R47>=0),1,0),IF(R$30=$AV$1,IF(AND(IF(IFERROR(R47*1,"bad")="bad",0,1)=1,R47>0),1,0),IF(R$30=$AW$1,IF(AND(IF(IFERROR(IF(R47=TRUNC(R47),1,"bad"),"bad")="bad",0,1)=1,R47>0),1,0),IF(R$30=$AX$1,1,IF(R$30=$AY$1,IF(IFERROR(HLOOKUP(R47,$AQ$4:$AZ$4,1,0),"bad")="bad",0,1),0)))))))))))) -> 0 | ... BR47: =IF(AJ$30="",1,IF(AJ$4=99,1,IF(AJ47="",0,IF(AJ$30=$AQ$1,IF(ISNA(MATCH(AJ47,$AN$30:$AO$30,0)),0,1),IF(AJ$30=$AR$1,IF(IFERROR(AJ47*1,"bad")="bad",0,1),IF(AJ$30=$AS$1,IF(IFERROR(IF(AJ47=TRUNC(AJ47),1,"bad"),"bad")="bad",0,1),IF(AJ$30=$AT$1,IF(AND(IF(IFERROR(AJ47*1,"bad")="bad",0,1)=1,AJ47>=0),1,0),IF(AJ$30=$AU$1,IF(AND(IF(IFERROR(IF(AJ47=TRUNC(AJ47),1,"bad"),"bad")="bad",0,1)=1,AJ47>=0),1,0),IF(AJ$30=$AV$1,IF(AND(IF(IFERROR(AJ47*1,"bad")="bad",0,1)=1,AJ47>0),1,0),IF(AJ$30=$AW$1,IF(AND(IF(IFERROR(IF(AJ47=TRUNC(AJ47),1,"bad"),"bad")="bad",0,1)=1,AJ47>0),1,0),IF(AJ$30=$AX$1,1,IF(AJ$30=$AY$1,IF(IFERROR(HLOOKUP(AJ47,$AQ$4:$AZ$4,1,0),"bad")="bad",0,1),0)))))))))))) -> 1 | BS47: =IF(AK$30="",1,IF(AK47="",0,IF(AK$30=$AQ$1,IF(ISNA(MATCH(AK47,$AN$30:$AO$30,0)),0,1),IF(AK$30=$AR$1,IF(IFERROR(AK47*1,"bad")="bad",0,1),IF(AK$30=$AS$1,IF(IFERROR(IF(AK47=TRUNC(AK47),1,"bad"),"bad")="bad",0,1),IF(AK$30=$AT$1,IF(AND(IF(IFERROR(AK47*1,"bad")="bad",0,1)=1,AK47>=0),1,0),IF(AK$30=$AU$1,IF(AND(IF(IFERROR(IF(AK47=TRUNC(AK47),1,"bad"),"bad")="bad",0,1)=1,AK47>=0),1,0),IF(AK$30=$AV$1,IF(AND(IF(IFERROR(AK47*1,"bad")="bad",0,1)=1,AK47>0),1,0),IF(AK$30=$AW$1,IF(AND(IF(IFERROR(IF(AK47=TRUNC(AK47),1,"bad"),"bad")="bad",0,1)=1,AK47>0),1,0),IF(AK$30=$AX$1,1,IF(AK$30=$AY$1,IF(IFERROR(HLOOKUP(AK47,$AQ$4:$AZ$4,1,0),"bad")="bad",0,1),0))))))))))) -> 1 | BX47: =IF($F47="","",BX$30) | BY47: =IF($F47="","",BY$30) | BZ47: =IF($F47="","",BZ$30) | CA47: =IF($F47="","",CA$30) | CB47: =IF($F47="","",CB$30) | CC47: =IF($F47="","",CC$30) | CD47: =IF($F47="","",CD$30) | CE47: =IF($F47="","",CE$30) | ... CG47: =IF($F47="","",CG$30)
B48: =IF(F48="","",ROW()-30) | J48: =IF($F48="","",IF(AND(I48>0,I48<=H48),1,$AN$1)) | AK48: =IF($F48="","",IF(AJ48=1,1,IF(AM48<>1,$AN$1,IF(SUMPRODUCT(--(H48:AI48>=$H$6:$AI$6)*($H$6:$AI$6<>""))=COUNTIF($H$4:$AI$4,1),1,0)))) | AM48: =IF(SUM(AP48:BS48)=COUNT(AP48:BS48),1,0) -> 0 | AN48: =IF($F48="","",AN$30) | AO48: =IF($F48="","",AO$30) | AP48: =IF(H$30="",1,IF(H$4=99,1,IF(H48="",0,IF(H$30=$AQ$1,IF(ISNA(MATCH(H48,$AN$30:$AO$30,0)),0,1),IF(H$30=$AR$1,IF(IFERROR(H48*1,"bad")="bad",0,1),IF(H$30=$AS$1,IF(IFERROR(IF(H48=TRUNC(H48),1,"bad"),"bad")="bad",0,1),IF(H$30=$AT$1,IF(AND(IF(IFERROR(H48*1,"bad")="bad",0,1)=1,H48>=0),1,0),IF(H$30=$AU$1,IF(AND(IF(IFERROR(IF(H48=TRUNC(H48),1,"bad"),"bad")="bad",0,1)=1,H48>=0),1,0),IF(H$30=$AV$1,IF(AND(IF(IFERROR(H48*1,"bad")="bad",0,1)=1,H48>0),1,0),IF(H$30=$AW$1,IF(AND(IF(IFERROR(IF(H48=TRUNC(H48),1,"bad"),"bad")="bad",0,1)=1,H48>0),1,0),IF(H$30=$AX$1,1,IF(H$30=$AY$1,IF(IFERROR(HLOOKUP(H48,$AQ$4:$AZ$4,1,0),"bad")="bad",0,1),0)))))))))))) -> 0 | AQ48: =IF(I$30="",1,IF(I$4=99,1,IF(I48="",0,IF(I$30=$AQ$1,IF(ISNA(MATCH(I48,$AN$30:$AO$30,0)),0,1),IF(I$30=$AR$1,IF(IFERROR(I48*1,"bad")="bad",0,1),IF(I$30=$AS$1,IF(IFERROR(IF(I48=TRUNC(I48),1,"bad"),"bad")="bad",0,1),IF(I$30=$AT$1,IF(AND(IF(IFERROR(I48*1,"bad")="bad",0,1)=1,I48>=0),1,0),IF(I$30=$AU$1,IF(AND(IF(IFERROR(IF(I48=TRUNC(I48),1,"bad"),"bad")="bad",0,1)=1,I48>=0),1,0),IF(I$30=$AV$1,IF(AND(IF(IFERROR(I48*1,"bad")="bad",0,1)=1,I48>0),1,0),IF(I$30=$AW$1,IF(AND(IF(IFERROR(IF(I48=TRUNC(I48),1,"bad"),"bad")="bad",0,1)=1,I48>0),1,0),IF(I$30=$AX$1,1,IF(I$30=$AY$1,IF(IFERROR(HLOOKUP(I48,$AQ$4:$AZ$4,1,0),"bad")="bad",0,1),0)))))))))))) -> 0 | AS48: =IF(K$30="",1,IF(K$4=99,1,IF(K48="",0,IF(K$30=$AQ$1,IF(ISNA(MATCH(K48,$AN$30:$AO$30,0)),0,1),IF(K$30=$AR$1,IF(IFERROR(K48*1,"bad")="bad",0,1),IF(K$30=$AS$1,IF(IFERROR(IF(K48=TRUNC(K48),1,"bad"),"bad")="bad",0,1),IF(K$30=$AT$1,IF(AND(IF(IFERROR(K48*1,"bad")="bad",0,1)=1,K48>=0),1,0),IF(K$30=$AU$1,IF(AND(IF(IFERROR(IF(K48=TRUNC(K48),1,"bad"),"bad")="bad",0,1)=1,K48>=0),1,0),IF(K$30=$AV$1,IF(AND(IF(IFERROR(K48*1,"bad")="bad",0,1)=1,K48>0),1,0),IF(K$30=$AW$1,IF(AND(IF(IFERROR(IF(K48=TRUNC(K48),1,"bad"),"bad")="bad",0,1)=1,K48>0),1,0),IF(K$30=$AX$1,1,IF(K$30=$AY$1,IF(IFERROR(HLOOKUP(K48,$AQ$4:$AZ$4,1,0),"bad")="bad",0,1),0)))))))))))) -> 0 | AT48: =IF(L$30="",1,IF(L$4=99,1,IF(L48="",0,IF(L$30=$AQ$1,IF(ISNA(MATCH(L48,$AN$30:$AO$30,0)),0,1),IF(L$30=$AR$1,IF(IFERROR(L48*1,"bad")="bad",0,1),IF(L$30=$AS$1,IF(IFERROR(IF(L48=TRUNC(L48),1,"bad"),"bad")="bad",0,1),IF(L$30=$AT$1,IF(AND(IF(IFERROR(L48*1,"bad")="bad",0,1)=1,L48>=0),1,0),IF(L$30=$AU$1,IF(AND(IF(IFERROR(IF(L48=TRUNC(L48),1,"bad"),"bad")="bad",0,1)=1,L48>=0),1,0),IF(L$30=$AV$1,IF(AND(IF(IFERROR(L48*1,"bad")="bad",0,1)=1,L48>0),1,0),IF(L$30=$AW$1,IF(AND(IF(IFERROR(IF(L48=TRUNC(L48),1,"bad"),"bad")="bad",0,1)=1,L48>0),1,0),IF(L$30=$AX$1,1,IF(L$30=$AY$1,IF(IFERROR(HLOOKUP(L48,$AQ$4:$AZ$4,1,0),"bad")="bad",0,1),0)))))))))))) -> 0 | AU48: =IF(M$30="",1,IF(M$4=99,1,IF(M48="",0,IF(M$30=$AQ$1,IF(ISNA(MATCH(M48,$AN$30:$AO$30,0)),0,1),IF(M$30=$AR$1,IF(IFERROR(M48*1,"bad")="bad",0,1),IF(M$30=$AS$1,IF(IFERROR(IF(M48=TRUNC(M48),1,"bad"),"bad")="bad",0,1),IF(M$30=$AT$1,IF(AND(IF(IFERROR(M48*1,"bad")="bad",0,1)=1,M48>=0),1,0),IF(M$30=$AU$1,IF(AND(IF(IFERROR(IF(M48=TRUNC(M48),1,"bad"),"bad")="bad",0,1)=1,M48>=0),1,0),IF(M$30=$AV$1,IF(AND(IF(IFERROR(M48*1,"bad")="bad",0,1)=1,M48>0),1,0),IF(M$30=$AW$1,IF(AND(IF(IFERROR(IF(M48=TRUNC(M48),1,"bad"),"bad")="bad",0,1)=1,M48>0),1,0),IF(M$30=$AX$1,1,IF(M$30=$AY$1,IF(IFERROR(HLOOKUP(M48,$AQ$4:$AZ$4,1,0),"bad")="bad",0,1),0)))))))))))) -> 0 | AV48: =IF(N$30="",1,IF(N$4=99,1,IF(N48="",0,IF(N$30=$AQ$1,IF(ISNA(MATCH(N48,$AN$30:$AO$30,0)),0,1),IF(N$30=$AR$1,IF(IFERROR(N48*1,"bad")="bad",0,1),IF(N$30=$AS$1,IF(IFERROR(IF(N48=TRUNC(N48),1,"bad"),"bad")="bad",0,1),IF(N$30=$AT$1,IF(AND(IF(IFERROR(N48*1,"bad")="bad",0,1)=1,N48>=0),1,0),IF(N$30=$AU$1,IF(AND(IF(IFERROR(IF(N48=TRUNC(N48),1,"bad"),"bad")="bad",0,1)=1,N48>=0),1,0),IF(N$30=$AV$1,IF(AND(IF(IFERROR(N48*1,"bad")="bad",0,1)=1,N48>0),1,0),IF(N$30=$AW$1,IF(AND(IF(IFERROR(IF(N48=TRUNC(N48),1,"bad"),"bad")="bad",0,1)=1,N48>0),1,0),IF(N$30=$AX$1,1,IF(N$30=$AY$1,IF(IFERROR(HLOOKUP(N48,$AQ$4:$AZ$4,1,0),"bad")="bad",0,1),0)))))))))))) -> 0 | AW48: =IF(O$30="",1,IF(O$4=99,1,IF(O48="",0,IF(O$30=$AQ$1,IF(ISNA(MATCH(O48,$AN$30:$AO$30,0)),0,1),IF(O$30=$AR$1,IF(IFERROR(O48*1,"bad")="bad",0,1),IF(O$30=$AS$1,IF(IFERROR(IF(O48=TRUNC(O48),1,"bad"),"bad")="bad",0,1),IF(O$30=$AT$1,IF(AND(IF(IFERROR(O48*1,"bad")="bad",0,1)=1,O48>=0),1,0),IF(O$30=$AU$1,IF(AND(IF(IFERROR(IF(O48=TRUNC(O48),1,"bad"),"bad")="bad",0,1)=1,O48>=0),1,0),IF(O$30=$AV$1,IF(AND(IF(IFERROR(O48*1,"bad")="bad",0,1)=1,O48>0),1,0),IF(O$30=$AW$1,IF(AND(IF(IFERROR(IF(O48=TRUNC(O48),1,"bad"),"bad")="bad",0,1)=1,O48>0),1,0),IF(O$30=$AX$1,1,IF(O$30=$AY$1,IF(IFERROR(HLOOKUP(O48,$AQ$4:$AZ$4,1,0),"bad")="bad",0,1),0)))))))))))) -> 0 | AX48: =IF(P$30="",1,IF(P$4=99,1,IF(P48="",0,IF(P$30=$AQ$1,IF(ISNA(MATCH(P48,$AN$30:$AO$30,0)),0,1),IF(P$30=$AR$1,IF(IFERROR(P48*1,"bad")="bad",0,1),IF(P$30=$AS$1,IF(IFERROR(IF(P48=TRUNC(P48),1,"bad"),"bad")="bad",0,1),IF(P$30=$AT$1,IF(AND(IF(IFERROR(P48*1,"bad")="bad",0,1)=1,P48>=0),1,0),IF(P$30=$AU$1,IF(AND(IF(IFERROR(IF(P48=TRUNC(P48),1,"bad"),"bad")="bad",0,1)=1,P48>=0),1,0),IF(P$30=$AV$1,IF(AND(IF(IFERROR(P48*1,"bad")="bad",0,1)=1,P48>0),1,0),IF(P$30=$AW$1,IF(AND(IF(IFERROR(IF(P48=TRUNC(P48),1,"bad"),"bad")="bad",0,1)=1,P48>0),1,0),IF(P$30=$AX$1,1,IF(P$30=$AY$1,IF(IFERROR(HLOOKUP(P48,$AQ$4:$AZ$4,1,0),"bad")="bad",0,1),0)))))))))))) -> 0 | AY48: =IF(Q$30="",1,IF(Q$4=99,1,IF(Q48="",0,IF(Q$30=$AQ$1,IF(ISNA(MATCH(Q48,$AN$30:$AO$30,0)),0,1),IF(Q$30=$AR$1,IF(IFERROR(Q48*1,"bad")="bad",0,1),IF(Q$30=$AS$1,IF(IFERROR(IF(Q48=TRUNC(Q48),1,"bad"),"bad")="bad",0,1),IF(Q$30=$AT$1,IF(AND(IF(IFERROR(Q48*1,"bad")="bad",0,1)=1,Q48>=0),1,0),IF(Q$30=$AU$1,IF(AND(IF(IFERROR(IF(Q48=TRUNC(Q48),1,"bad"),"bad")="bad",0,1)=1,Q48>=0),1,0),IF(Q$30=$AV$1,IF(AND(IF(IFERROR(Q48*1,"bad")="bad",0,1)=1,Q48>0),1,0),IF(Q$30=$AW$1,IF(AND(IF(IFERROR(IF(Q48=TRUNC(Q48),1,"bad"),"bad")="bad",0,1)=1,Q48>0),1,0),IF(Q$30=$AX$1,1,IF(Q$30=$AY$1,IF(IFERROR(HLOOKUP(Q48,$AQ$4:$AZ$4,1,0),"bad")="bad",0,1),0)))))))))))) -> 0 | AZ48: =IF(R$30="",1,IF(R$4=99,1,IF(R48="",0,IF(R$30=$AQ$1,IF(ISNA(MATCH(R48,$AN$30:$AO$30,0)),0,1),IF(R$30=$AR$1,IF(IFERROR(R48*1,"bad")="bad",0,1),IF(R$30=$AS$1,IF(IFERROR(IF(R48=TRUNC(R48),1,"bad"),"bad")="bad",0,1),IF(R$30=$AT$1,IF(AND(IF(IFERROR(R48*1,"bad")="bad",0,1)=1,R48>=0),1,0),IF(R$30=$AU$1,IF(AND(IF(IFERROR(IF(R48=TRUNC(R48),1,"bad"),"bad")="bad",0,1)=1,R48>=0),1,0),IF(R$30=$AV$1,IF(AND(IF(IFERROR(R48*1,"bad")="bad",0,1)=1,R48>0),1,0),IF(R$30=$AW$1,IF(AND(IF(IFERROR(IF(R48=TRUNC(R48),1,"bad"),"bad")="bad",0,1)=1,R48>0),1,0),IF(R$30=$AX$1,1,IF(R$30=$AY$1,IF(IFERROR(HLOOKUP(R48,$AQ$4:$AZ$4,1,0),"bad")="bad",0,1),0)))))))))))) -> 0 | ... BR48: =IF(AJ$30="",1,IF(AJ$4=99,1,IF(AJ48="",0,IF(AJ$30=$AQ$1,IF(ISNA(MATCH(AJ48,$AN$30:$AO$30,0)),0,1),IF(AJ$30=$AR$1,IF(IFERROR(AJ48*1,"bad")="bad",0,1),IF(AJ$30=$AS$1,IF(IFERROR(IF(AJ48=TRUNC(AJ48),1,"bad"),"bad")="bad",0,1),IF(AJ$30=$AT$1,IF(AND(IF(IFERROR(AJ48*1,"bad")="bad",0,1)=1,AJ48>=0),1,0),IF(AJ$30=$AU$1,IF(AND(IF(IFERROR(IF(AJ48=TRUNC(AJ48),1,"bad"),"bad")="bad",0,1)=1,AJ48>=0),1,0),IF(AJ$30=$AV$1,IF(AND(IF(IFERROR(AJ48*1,"bad")="bad",0,1)=1,AJ48>0),1,0),IF(AJ$30=$AW$1,IF(AND(IF(IFERROR(IF(AJ48=TRUNC(AJ48),1,"bad"),"bad")="bad",0,1)=1,AJ48>0),1,0),IF(AJ$30=$AX$1,1,IF(AJ$30=$AY$1,IF(IFERROR(HLOOKUP(AJ48,$AQ$4:$AZ$4,1,0),"bad")="bad",0,1),0)))))))))))) -> 1 | BS48: =IF(AK$30="",1,IF(AK48="",0,IF(AK$30=$AQ$1,IF(ISNA(MATCH(AK48,$AN$30:$AO$30,0)),0,1),IF(AK$30=$AR$1,IF(IFERROR(AK48*1,"bad")="bad",0,1),IF(AK$30=$AS$1,IF(IFERROR(IF(AK48=TRUNC(AK48),1,"bad"),"bad")="bad",0,1),IF(AK$30=$AT$1,IF(AND(IF(IFERROR(AK48*1,"bad")="bad",0,1)=1,AK48>=0),1,0),IF(AK$30=$AU$1,IF(AND(IF(IFERROR(IF(AK48=TRUNC(AK48),1,"bad"),"bad")="bad",0,1)=1,AK48>=0),1,0),IF(AK$30=$AV$1,IF(AND(IF(IFERROR(AK48*1,"bad")="bad",0,1)=1,AK48>0),1,0),IF(AK$30=$AW$1,IF(AND(IF(IFERROR(IF(AK48=TRUNC(AK48),1,"bad"),"bad")="bad",0,1)=1,AK48>0),1,0),IF(AK$30=$AX$1,1,IF(AK$30=$AY$1,IF(IFERROR(HLOOKUP(AK48,$AQ$4:$AZ$4,1,0),"bad")="bad",0,1),0))))))))))) -> 1 | BX48: =IF($F48="","",BX$30) | BY48: =IF($F48="","",BY$30) | BZ48: =IF($F48="","",BZ$30) | CA48: =IF($F48="","",CA$30) | CB48: =IF($F48="","",CB$30) | CC48: =IF($F48="","",CC$30) | CD48: =IF($F48="","",CD$30) | CE48: =IF($F48="","",CE$30) | ... CG48: =IF($F48="","",CG$30)
B49: =IF(F49="","",ROW()-30) | J49: =IF($F49="","",IF(AND(I49>0,I49<=H49),1,$AN$1)) | AK49: =IF($F49="","",IF(AJ49=1,1,IF(AM49<>1,$AN$1,IF(SUMPRODUCT(--(H49:AI49>=$H$6:$AI$6)*($H$6:$AI$6<>""))=COUNTIF($H$4:$AI$4,1),1,0)))) | AM49: =IF(SUM(AP49:BS49)=COUNT(AP49:BS49),1,0) -> 0 | AN49: =IF($F49="","",AN$30) | AO49: =IF($F49="","",AO$30) | AP49: =IF(H$30="",1,IF(H$4=99,1,IF(H49="",0,IF(H$30=$AQ$1,IF(ISNA(MATCH(H49,$AN$30:$AO$30,0)),0,1),IF(H$30=$AR$1,IF(IFERROR(H49*1,"bad")="bad",0,1),IF(H$30=$AS$1,IF(IFERROR(IF(H49=TRUNC(H49),1,"bad"),"bad")="bad",0,1),IF(H$30=$AT$1,IF(AND(IF(IFERROR(H49*1,"bad")="bad",0,1)=1,H49>=0),1,0),IF(H$30=$AU$1,IF(AND(IF(IFERROR(IF(H49=TRUNC(H49),1,"bad"),"bad")="bad",0,1)=1,H49>=0),1,0),IF(H$30=$AV$1,IF(AND(IF(IFERROR(H49*1,"bad")="bad",0,1)=1,H49>0),1,0),IF(H$30=$AW$1,IF(AND(IF(IFERROR(IF(H49=TRUNC(H49),1,"bad"),"bad")="bad",0,1)=1,H49>0),1,0),IF(H$30=$AX$1,1,IF(H$30=$AY$1,IF(IFERROR(HLOOKUP(H49,$AQ$4:$AZ$4,1,0),"bad")="bad",0,1),0)))))))))))) -> 0 | AQ49: =IF(I$30="",1,IF(I$4=99,1,IF(I49="",0,IF(I$30=$AQ$1,IF(ISNA(MATCH(I49,$AN$30:$AO$30,0)),0,1),IF(I$30=$AR$1,IF(IFERROR(I49*1,"bad")="bad",0,1),IF(I$30=$AS$1,IF(IFERROR(IF(I49=TRUNC(I49),1,"bad"),"bad")="bad",0,1),IF(I$30=$AT$1,IF(AND(IF(IFERROR(I49*1,"bad")="bad",0,1)=1,I49>=0),1,0),IF(I$30=$AU$1,IF(AND(IF(IFERROR(IF(I49=TRUNC(I49),1,"bad"),"bad")="bad",0,1)=1,I49>=0),1,0),IF(I$30=$AV$1,IF(AND(IF(IFERROR(I49*1,"bad")="bad",0,1)=1,I49>0),1,0),IF(I$30=$AW$1,IF(AND(IF(IFERROR(IF(I49=TRUNC(I49),1,"bad"),"bad")="bad",0,1)=1,I49>0),1,0),IF(I$30=$AX$1,1,IF(I$30=$AY$1,IF(IFERROR(HLOOKUP(I49,$AQ$4:$AZ$4,1,0),"bad")="bad",0,1),0)))))))))))) -> 0 | AS49: =IF(K$30="",1,IF(K$4=99,1,IF(K49="",0,IF(K$30=$AQ$1,IF(ISNA(MATCH(K49,$AN$30:$AO$30,0)),0,1),IF(K$30=$AR$1,IF(IFERROR(K49*1,"bad")="bad",0,1),IF(K$30=$AS$1,IF(IFERROR(IF(K49=TRUNC(K49),1,"bad"),"bad")="bad",0,1),IF(K$30=$AT$1,IF(AND(IF(IFERROR(K49*1,"bad")="bad",0,1)=1,K49>=0),1,0),IF(K$30=$AU$1,IF(AND(IF(IFERROR(IF(K49=TRUNC(K49),1,"bad"),"bad")="bad",0,1)=1,K49>=0),1,0),IF(K$30=$AV$1,IF(AND(IF(IFERROR(K49*1,"bad")="bad",0,1)=1,K49>0),1,0),IF(K$30=$AW$1,IF(AND(IF(IFERROR(IF(K49=TRUNC(K49),1,"bad"),"bad")="bad",0,1)=1,K49>0),1,0),IF(K$30=$AX$1,1,IF(K$30=$AY$1,IF(IFERROR(HLOOKUP(K49,$AQ$4:$AZ$4,1,0),"bad")="bad",0,1),0)))))))))))) -> 0 | AT49: =IF(L$30="",1,IF(L$4=99,1,IF(L49="",0,IF(L$30=$AQ$1,IF(ISNA(MATCH(L49,$AN$30:$AO$30,0)),0,1),IF(L$30=$AR$1,IF(IFERROR(L49*1,"bad")="bad",0,1),IF(L$30=$AS$1,IF(IFERROR(IF(L49=TRUNC(L49),1,"bad"),"bad")="bad",0,1),IF(L$30=$AT$1,IF(AND(IF(IFERROR(L49*1,"bad")="bad",0,1)=1,L49>=0),1,0),IF(L$30=$AU$1,IF(AND(IF(IFERROR(IF(L49=TRUNC(L49),1,"bad"),"bad")="bad",0,1)=1,L49>=0),1,0),IF(L$30=$AV$1,IF(AND(IF(IFERROR(L49*1,"bad")="bad",0,1)=1,L49>0),1,0),IF(L$30=$AW$1,IF(AND(IF(IFERROR(IF(L49=TRUNC(L49),1,"bad"),"bad")="bad",0,1)=1,L49>0),1,0),IF(L$30=$AX$1,1,IF(L$30=$AY$1,IF(IFERROR(HLOOKUP(L49,$AQ$4:$AZ$4,1,0),"bad")="bad",0,1),0)))))))))))) -> 0 | AU49: =IF(M$30="",1,IF(M$4=99,1,IF(M49="",0,IF(M$30=$AQ$1,IF(ISNA(MATCH(M49,$AN$30:$AO$30,0)),0,1),IF(M$30=$AR$1,IF(IFERROR(M49*1,"bad")="bad",0,1),IF(M$30=$AS$1,IF(IFERROR(IF(M49=TRUNC(M49),1,"bad"),"bad")="bad",0,1),IF(M$30=$AT$1,IF(AND(IF(IFERROR(M49*1,"bad")="bad",0,1)=1,M49>=0),1,0),IF(M$30=$AU$1,IF(AND(IF(IFERROR(IF(M49=TRUNC(M49),1,"bad"),"bad")="bad",0,1)=1,M49>=0),1,0),IF(M$30=$AV$1,IF(AND(IF(IFERROR(M49*1,"bad")="bad",0,1)=1,M49>0),1,0),IF(M$30=$AW$1,IF(AND(IF(IFERROR(IF(M49=TRUNC(M49),1,"bad"),"bad")="bad",0,1)=1,M49>0),1,0),IF(M$30=$AX$1,1,IF(M$30=$AY$1,IF(IFERROR(HLOOKUP(M49,$AQ$4:$AZ$4,1,0),"bad")="bad",0,1),0)))))))))))) -> 0 | AV49: =IF(N$30="",1,IF(N$4=99,1,IF(N49="",0,IF(N$30=$AQ$1,IF(ISNA(MATCH(N49,$AN$30:$AO$30,0)),0,1),IF(N$30=$AR$1,IF(IFERROR(N49*1,"bad")="bad",0,1),IF(N$30=$AS$1,IF(IFERROR(IF(N49=TRUNC(N49),1,"bad"),"bad")="bad",0,1),IF(N$30=$AT$1,IF(AND(IF(IFERROR(N49*1,"bad")="bad",0,1)=1,N49>=0),1,0),IF(N$30=$AU$1,IF(AND(IF(IFERROR(IF(N49=TRUNC(N49),1,"bad"),"bad")="bad",0,1)=1,N49>=0),1,0),IF(N$30=$AV$1,IF(AND(IF(IFERROR(N49*1,"bad")="bad",0,1)=1,N49>0),1,0),IF(N$30=$AW$1,IF(AND(IF(IFERROR(IF(N49=TRUNC(N49),1,"bad"),"bad")="bad",0,1)=1,N49>0),1,0),IF(N$30=$AX$1,1,IF(N$30=$AY$1,IF(IFERROR(HLOOKUP(N49,$AQ$4:$AZ$4,1,0),"bad")="bad",0,1),0)))))))))))) -> 0 | AW49: =IF(O$30="",1,IF(O$4=99,1,IF(O49="",0,IF(O$30=$AQ$1,IF(ISNA(MATCH(O49,$AN$30:$AO$30,0)),0,1),IF(O$30=$AR$1,IF(IFERROR(O49*1,"bad")="bad",0,1),IF(O$30=$AS$1,IF(IFERROR(IF(O49=TRUNC(O49),1,"bad"),"bad")="bad",0,1),IF(O$30=$AT$1,IF(AND(IF(IFERROR(O49*1,"bad")="bad",0,1)=1,O49>=0),1,0),IF(O$30=$AU$1,IF(AND(IF(IFERROR(IF(O49=TRUNC(O49),1,"bad"),"bad")="bad",0,1)=1,O49>=0),1,0),IF(O$30=$AV$1,IF(AND(IF(IFERROR(O49*1,"bad")="bad",0,1)=1,O49>0),1,0),IF(O$30=$AW$1,IF(AND(IF(IFERROR(IF(O49=TRUNC(O49),1,"bad"),"bad")="bad",0,1)=1,O49>0),1,0),IF(O$30=$AX$1,1,IF(O$30=$AY$1,IF(IFERROR(HLOOKUP(O49,$AQ$4:$AZ$4,1,0),"bad")="bad",0,1),0)))))))))))) -> 0 | AX49: =IF(P$30="",1,IF(P$4=99,1,IF(P49="",0,IF(P$30=$AQ$1,IF(ISNA(MATCH(P49,$AN$30:$AO$30,0)),0,1),IF(P$30=$AR$1,IF(IFERROR(P49*1,"bad")="bad",0,1),IF(P$30=$AS$1,IF(IFERROR(IF(P49=TRUNC(P49),1,"bad"),"bad")="bad",0,1),IF(P$30=$AT$1,IF(AND(IF(IFERROR(P49*1,"bad")="bad",0,1)=1,P49>=0),1,0),IF(P$30=$AU$1,IF(AND(IF(IFERROR(IF(P49=TRUNC(P49),1,"bad"),"bad")="bad",0,1)=1,P49>=0),1,0),IF(P$30=$AV$1,IF(AND(IF(IFERROR(P49*1,"bad")="bad",0,1)=1,P49>0),1,0),IF(P$30=$AW$1,IF(AND(IF(IFERROR(IF(P49=TRUNC(P49),1,"bad"),"bad")="bad",0,1)=1,P49>0),1,0),IF(P$30=$AX$1,1,IF(P$30=$AY$1,IF(IFERROR(HLOOKUP(P49,$AQ$4:$AZ$4,1,0),"bad")="bad",0,1),0)))))))))))) -> 0 | AY49: =IF(Q$30="",1,IF(Q$4=99,1,IF(Q49="",0,IF(Q$30=$AQ$1,IF(ISNA(MATCH(Q49,$AN$30:$AO$30,0)),0,1),IF(Q$30=$AR$1,IF(IFERROR(Q49*1,"bad")="bad",0,1),IF(Q$30=$AS$1,IF(IFERROR(IF(Q49=TRUNC(Q49),1,"bad"),"bad")="bad",0,1),IF(Q$30=$AT$1,IF(AND(IF(IFERROR(Q49*1,"bad")="bad",0,1)=1,Q49>=0),1,0),IF(Q$30=$AU$1,IF(AND(IF(IFERROR(IF(Q49=TRUNC(Q49),1,"bad"),"bad")="bad",0,1)=1,Q49>=0),1,0),IF(Q$30=$AV$1,IF(AND(IF(IFERROR(Q49*1,"bad")="bad",0,1)=1,Q49>0),1,0),IF(Q$30=$AW$1,IF(AND(IF(IFERROR(IF(Q49=TRUNC(Q49),1,"bad"),"bad")="bad",0,1)=1,Q49>0),1,0),IF(Q$30=$AX$1,1,IF(Q$30=$AY$1,IF(IFERROR(HLOOKUP(Q49,$AQ$4:$AZ$4,1,0),"bad")="bad",0,1),0)))))))))))) -> 0 | AZ49: =IF(R$30="",1,IF(R$4=99,1,IF(R49="",0,IF(R$30=$AQ$1,IF(ISNA(MATCH(R49,$AN$30:$AO$30,0)),0,1),IF(R$30=$AR$1,IF(IFERROR(R49*1,"bad")="bad",0,1),IF(R$30=$AS$1,IF(IFERROR(IF(R49=TRUNC(R49),1,"bad"),"bad")="bad",0,1),IF(R$30=$AT$1,IF(AND(IF(IFERROR(R49*1,"bad")="bad",0,1)=1,R49>=0),1,0),IF(R$30=$AU$1,IF(AND(IF(IFERROR(IF(R49=TRUNC(R49),1,"bad"),"bad")="bad",0,1)=1,R49>=0),1,0),IF(R$30=$AV$1,IF(AND(IF(IFERROR(R49*1,"bad")="bad",0,1)=1,R49>0),1,0),IF(R$30=$AW$1,IF(AND(IF(IFERROR(IF(R49=TRUNC(R49),1,"bad"),"bad")="bad",0,1)=1,R49>0),1,0),IF(R$30=$AX$1,1,IF(R$30=$AY$1,IF(IFERROR(HLOOKUP(R49,$AQ$4:$AZ$4,1,0),"bad")="bad",0,1),0)))))))))))) -> 0 | ... BR49: =IF(AJ$30="",1,IF(AJ$4=99,1,IF(AJ49="",0,IF(AJ$30=$AQ$1,IF(ISNA(MATCH(AJ49,$AN$30:$AO$30,0)),0,1),IF(AJ$30=$AR$1,IF(IFERROR(AJ49*1,"bad")="bad",0,1),IF(AJ$30=$AS$1,IF(IFERROR(IF(AJ49=TRUNC(AJ49),1,"bad"),"bad")="bad",0,1),IF(AJ$30=$AT$1,IF(AND(IF(IFERROR(AJ49*1,"bad")="bad",0,1)=1,AJ49>=0),1,0),IF(AJ$30=$AU$1,IF(AND(IF(IFERROR(IF(AJ49=TRUNC(AJ49),1,"bad"),"bad")="bad",0,1)=1,AJ49>=0),1,0),IF(AJ$30=$AV$1,IF(AND(IF(IFERROR(AJ49*1,"bad")="bad",0,1)=1,AJ49>0),1,0),IF(AJ$30=$AW$1,IF(AND(IF(IFERROR(IF(AJ49=TRUNC(AJ49),1,"bad"),"bad")="bad",0,1)=1,AJ49>0),1,0),IF(AJ$30=$AX$1,1,IF(AJ$30=$AY$1,IF(IFERROR(HLOOKUP(AJ49,$AQ$4:$AZ$4,1,0),"bad")="bad",0,1),0)))))))))))) -> 1 | BS49: =IF(AK$30="",1,IF(AK49="",0,IF(AK$30=$AQ$1,IF(ISNA(MATCH(AK49,$AN$30:$AO$30,0)),0,1),IF(AK$30=$AR$1,IF(IFERROR(AK49*1,"bad")="bad",0,1),IF(AK$30=$AS$1,IF(IFERROR(IF(AK49=TRUNC(AK49),1,"bad"),"bad")="bad",0,1),IF(AK$30=$AT$1,IF(AND(IF(IFERROR(AK49*1,"bad")="bad",0,1)=1,AK49>=0),1,0),IF(AK$30=$AU$1,IF(AND(IF(IFERROR(IF(AK49=TRUNC(AK49),1,"bad"),"bad")="bad",0,1)=1,AK49>=0),1,0),IF(AK$30=$AV$1,IF(AND(IF(IFERROR(AK49*1,"bad")="bad",0,1)=1,AK49>0),1,0),IF(AK$30=$AW$1,IF(AND(IF(IFERROR(IF(AK49=TRUNC(AK49),1,"bad"),"bad")="bad",0,1)=1,AK49>0),1,0),IF(AK$30=$AX$1,1,IF(AK$30=$AY$1,IF(IFERROR(HLOOKUP(AK49,$AQ$4:$AZ$4,1,0),"bad")="bad",0,1),0))))))))))) -> 1 | BX49: =IF($F49="","",BX$30) | BY49: =IF($F49="","",BY$30) | BZ49: =IF($F49="","",BZ$30) | CA49: =IF($F49="","",CA$30) | CB49: =IF($F49="","",CB$30) | CC49: =IF($F49="","",CC$30) | CD49: =IF($F49="","",CD$30) | CE49: =IF($F49="","",CE$30) | ... CG49: =IF($F49="","",CG$30)
B50: =IF(F50="","",ROW()-30) | J50: =IF($F50="","",IF(AND(I50>0,I50<=H50),1,$AN$1)) | AK50: =IF($F50="","",IF(AJ50=1,1,IF(AM50<>1,$AN$1,IF(SUMPRODUCT(--(H50:AI50>=$H$6:$AI$6)*($H$6:$AI$6<>""))=COUNTIF($H$4:$AI$4,1),1,0)))) | AM50: =IF(SUM(AP50:BS50)=COUNT(AP50:BS50),1,0) -> 0 | AN50: =IF($F50="","",AN$30) | AO50: =IF($F50="","",AO$30) | AP50: =IF(H$30="",1,IF(H$4=99,1,IF(H50="",0,IF(H$30=$AQ$1,IF(ISNA(MATCH(H50,$AN$30:$AO$30,0)),0,1),IF(H$30=$AR$1,IF(IFERROR(H50*1,"bad")="bad",0,1),IF(H$30=$AS$1,IF(IFERROR(IF(H50=TRUNC(H50),1,"bad"),"bad")="bad",0,1),IF(H$30=$AT$1,IF(AND(IF(IFERROR(H50*1,"bad")="bad",0,1)=1,H50>=0),1,0),IF(H$30=$AU$1,IF(AND(IF(IFERROR(IF(H50=TRUNC(H50),1,"bad"),"bad")="bad",0,1)=1,H50>=0),1,0),IF(H$30=$AV$1,IF(AND(IF(IFERROR(H50*1,"bad")="bad",0,1)=1,H50>0),1,0),IF(H$30=$AW$1,IF(AND(IF(IFERROR(IF(H50=TRUNC(H50),1,"bad"),"bad")="bad",0,1)=1,H50>0),1,0),IF(H$30=$AX$1,1,IF(H$30=$AY$1,IF(IFERROR(HLOOKUP(H50,$AQ$4:$AZ$4,1,0),"bad")="bad",0,1),0)))))))))))) -> 0 | AQ50: =IF(I$30="",1,IF(I$4=99,1,IF(I50="",0,IF(I$30=$AQ$1,IF(ISNA(MATCH(I50,$AN$30:$AO$30,0)),0,1),IF(I$30=$AR$1,IF(IFERROR(I50*1,"bad")="bad",0,1),IF(I$30=$AS$1,IF(IFERROR(IF(I50=TRUNC(I50),1,"bad"),"bad")="bad",0,1),IF(I$30=$AT$1,IF(AND(IF(IFERROR(I50*1,"bad")="bad",0,1)=1,I50>=0),1,0),IF(I$30=$AU$1,IF(AND(IF(IFERROR(IF(I50=TRUNC(I50),1,"bad"),"bad")="bad",0,1)=1,I50>=0),1,0),IF(I$30=$AV$1,IF(AND(IF(IFERROR(I50*1,"bad")="bad",0,1)=1,I50>0),1,0),IF(I$30=$AW$1,IF(AND(IF(IFERROR(IF(I50=TRUNC(I50),1,"bad"),"bad")="bad",0,1)=1,I50>0),1,0),IF(I$30=$AX$1,1,IF(I$30=$AY$1,IF(IFERROR(HLOOKUP(I50,$AQ$4:$AZ$4,1,0),"bad")="bad",0,1),0)))))))))))) -> 0 | AS50: =IF(K$30="",1,IF(K$4=99,1,IF(K50="",0,IF(K$30=$AQ$1,IF(ISNA(MATCH(K50,$AN$30:$AO$30,0)),0,1),IF(K$30=$AR$1,IF(IFERROR(K50*1,"bad")="bad",0,1),IF(K$30=$AS$1,IF(IFERROR(IF(K50=TRUNC(K50),1,"bad"),"bad")="bad",0,1),IF(K$30=$AT$1,IF(AND(IF(IFERROR(K50*1,"bad")="bad",0,1)=1,K50>=0),1,0),IF(K$30=$AU$1,IF(AND(IF(IFERROR(IF(K50=TRUNC(K50),1,"bad"),"bad")="bad",0,1)=1,K50>=0),1,0),IF(K$30=$AV$1,IF(AND(IF(IFERROR(K50*1,"bad")="bad",0,1)=1,K50>0),1,0),IF(K$30=$AW$1,IF(AND(IF(IFERROR(IF(K50=TRUNC(K50),1,"bad"),"bad")="bad",0,1)=1,K50>0),1,0),IF(K$30=$AX$1,1,IF(K$30=$AY$1,IF(IFERROR(HLOOKUP(K50,$AQ$4:$AZ$4,1,0),"bad")="bad",0,1),0)))))))))))) -> 0 | AT50: =IF(L$30="",1,IF(L$4=99,1,IF(L50="",0,IF(L$30=$AQ$1,IF(ISNA(MATCH(L50,$AN$30:$AO$30,0)),0,1),IF(L$30=$AR$1,IF(IFERROR(L50*1,"bad")="bad",0,1),IF(L$30=$AS$1,IF(IFERROR(IF(L50=TRUNC(L50),1,"bad"),"bad")="bad",0,1),IF(L$30=$AT$1,IF(AND(IF(IFERROR(L50*1,"bad")="bad",0,1)=1,L50>=0),1,0),IF(L$30=$AU$1,IF(AND(IF(IFERROR(IF(L50=TRUNC(L50),1,"bad"),"bad")="bad",0,1)=1,L50>=0),1,0),IF(L$30=$AV$1,IF(AND(IF(IFERROR(L50*1,"bad")="bad",0,1)=1,L50>0),1,0),IF(L$30=$AW$1,IF(AND(IF(IFERROR(IF(L50=TRUNC(L50),1,"bad"),"bad")="bad",0,1)=1,L50>0),1,0),IF(L$30=$AX$1,1,IF(L$30=$AY$1,IF(IFERROR(HLOOKUP(L50,$AQ$4:$AZ$4,1,0),"bad")="bad",0,1),0)))))))))))) -> 0 | AU50: =IF(M$30="",1,IF(M$4=99,1,IF(M50="",0,IF(M$30=$AQ$1,IF(ISNA(MATCH(M50,$AN$30:$AO$30,0)),0,1),IF(M$30=$AR$1,IF(IFERROR(M50*1,"bad")="bad",0,1),IF(M$30=$AS$1,IF(IFERROR(IF(M50=TRUNC(M50),1,"bad"),"bad")="bad",0,1),IF(M$30=$AT$1,IF(AND(IF(IFERROR(M50*1,"bad")="bad",0,1)=1,M50>=0),1,0),IF(M$30=$AU$1,IF(AND(IF(IFERROR(IF(M50=TRUNC(M50),1,"bad"),"bad")="bad",0,1)=1,M50>=0),1,0),IF(M$30=$AV$1,IF(AND(IF(IFERROR(M50*1,"bad")="bad",0,1)=1,M50>0),1,0),IF(M$30=$AW$1,IF(AND(IF(IFERROR(IF(M50=TRUNC(M50),1,"bad"),"bad")="bad",0,1)=1,M50>0),1,0),IF(M$30=$AX$1,1,IF(M$30=$AY$1,IF(IFERROR(HLOOKUP(M50,$AQ$4:$AZ$4,1,0),"bad")="bad",0,1),0)))))))))))) -> 0 | AV50: =IF(N$30="",1,IF(N$4=99,1,IF(N50="",0,IF(N$30=$AQ$1,IF(ISNA(MATCH(N50,$AN$30:$AO$30,0)),0,1),IF(N$30=$AR$1,IF(IFERROR(N50*1,"bad")="bad",0,1),IF(N$30=$AS$1,IF(IFERROR(IF(N50=TRUNC(N50),1,"bad"),"bad")="bad",0,1),IF(N$30=$AT$1,IF(AND(IF(IFERROR(N50*1,"bad")="bad",0,1)=1,N50>=0),1,0),IF(N$30=$AU$1,IF(AND(IF(IFERROR(IF(N50=TRUNC(N50),1,"bad"),"bad")="bad",0,1)=1,N50>=0),1,0),IF(N$30=$AV$1,IF(AND(IF(IFERROR(N50*1,"bad")="bad",0,1)=1,N50>0),1,0),IF(N$30=$AW$1,IF(AND(IF(IFERROR(IF(N50=TRUNC(N50),1,"bad"),"bad")="bad",0,1)=1,N50>0),1,0),IF(N$30=$AX$1,1,IF(N$30=$AY$1,IF(IFERROR(HLOOKUP(N50,$AQ$4:$AZ$4,1,0),"bad")="bad",0,1),0)))))))))))) -> 0 | AW50: =IF(O$30="",1,IF(O$4=99,1,IF(O50="",0,IF(O$30=$AQ$1,IF(ISNA(MATCH(O50,$AN$30:$AO$30,0)),0,1),IF(O$30=$AR$1,IF(IFERROR(O50*1,"bad")="bad",0,1),IF(O$30=$AS$1,IF(IFERROR(IF(O50=TRUNC(O50),1,"bad"),"bad")="bad",0,1),IF(O$30=$AT$1,IF(AND(IF(IFERROR(O50*1,"bad")="bad",0,1)=1,O50>=0),1,0),IF(O$30=$AU$1,IF(AND(IF(IFERROR(IF(O50=TRUNC(O50),1,"bad"),"bad")="bad",0,1)=1,O50>=0),1,0),IF(O$30=$AV$1,IF(AND(IF(IFERROR(O50*1,"bad")="bad",0,1)=1,O50>0),1,0),IF(O$30=$AW$1,IF(AND(IF(IFERROR(IF(O50=TRUNC(O50),1,"bad"),"bad")="bad",0,1)=1,O50>0),1,0),IF(O$30=$AX$1,1,IF(O$30=$AY$1,IF(IFERROR(HLOOKUP(O50,$AQ$4:$AZ$4,1,0),"bad")="bad",0,1),0)))))))))))) -> 0 | AX50: =IF(P$30="",1,IF(P$4=99,1,IF(P50="",0,IF(P$30=$AQ$1,IF(ISNA(MATCH(P50,$AN$30:$AO$30,0)),0,1),IF(P$30=$AR$1,IF(IFERROR(P50*1,"bad")="bad",0,1),IF(P$30=$AS$1,IF(IFERROR(IF(P50=TRUNC(P50),1,"bad"),"bad")="bad",0,1),IF(P$30=$AT$1,IF(AND(IF(IFERROR(P50*1,"bad")="bad",0,1)=1,P50>=0),1,0),IF(P$30=$AU$1,IF(AND(IF(IFERROR(IF(P50=TRUNC(P50),1,"bad"),"bad")="bad",0,1)=1,P50>=0),1,0),IF(P$30=$AV$1,IF(AND(IF(IFERROR(P50*1,"bad")="bad",0,1)=1,P50>0),1,0),IF(P$30=$AW$1,IF(AND(IF(IFERROR(IF(P50=TRUNC(P50),1,"bad"),"bad")="bad",0,1)=1,P50>0),1,0),IF(P$30=$AX$1,1,IF(P$30=$AY$1,IF(IFERROR(HLOOKUP(P50,$AQ$4:$AZ$4,1,0),"bad")="bad",0,1),0)))))))))))) -> 0 | AY50: =IF(Q$30="",1,IF(Q$4=99,1,IF(Q50="",0,IF(Q$30=$AQ$1,IF(ISNA(MATCH(Q50,$AN$30:$AO$30,0)),0,1),IF(Q$30=$AR$1,IF(IFERROR(Q50*1,"bad")="bad",0,1),IF(Q$30=$AS$1,IF(IFERROR(IF(Q50=TRUNC(Q50),1,"bad"),"bad")="bad",0,1),IF(Q$30=$AT$1,IF(AND(IF(IFERROR(Q50*1,"bad")="bad",0,1)=1,Q50>=0),1,0),IF(Q$30=$AU$1,IF(AND(IF(IFERROR(IF(Q50=TRUNC(Q50),1,"bad"),"bad")="bad",0,1)=1,Q50>=0),1,0),IF(Q$30=$AV$1,IF(AND(IF(IFERROR(Q50*1,"bad")="bad",0,1)=1,Q50>0),1,0),IF(Q$30=$AW$1,IF(AND(IF(IFERROR(IF(Q50=TRUNC(Q50),1,"bad"),"bad")="bad",0,1)=1,Q50>0),1,0),IF(Q$30=$AX$1,1,IF(Q$30=$AY$1,IF(IFERROR(HLOOKUP(Q50,$AQ$4:$AZ$4,1,0),"bad")="bad",0,1),0)))))))))))) -> 0 | AZ50: =IF(R$30="",1,IF(R$4=99,1,IF(R50="",0,IF(R$30=$AQ$1,IF(ISNA(MATCH(R50,$AN$30:$AO$30,0)),0,1),IF(R$30=$AR$1,IF(IFERROR(R50*1,"bad")="bad",0,1),IF(R$30=$AS$1,IF(IFERROR(IF(R50=TRUNC(R50),1,"bad"),"bad")="bad",0,1),IF(R$30=$AT$1,IF(AND(IF(IFERROR(R50*1,"bad")="bad",0,1)=1,R50>=0),1,0),IF(R$30=$AU$1,IF(AND(IF(IFERROR(IF(R50=TRUNC(R50),1,"bad"),"bad")="bad",0,1)=1,R50>=0),1,0),IF(R$30=$AV$1,IF(AND(IF(IFERROR(R50*1,"bad")="bad",0,1)=1,R50>0),1,0),IF(R$30=$AW$1,IF(AND(IF(IFERROR(IF(R50=TRUNC(R50),1,"bad"),"bad")="bad",0,1)=1,R50>0),1,0),IF(R$30=$AX$1,1,IF(R$30=$AY$1,IF(IFERROR(HLOOKUP(R50,$AQ$4:$AZ$4,1,0),"bad")="bad",0,1),0)))))))))))) -> 0 | ... BR50: =IF(AJ$30="",1,IF(AJ$4=99,1,IF(AJ50="",0,IF(AJ$30=$AQ$1,IF(ISNA(MATCH(AJ50,$AN$30:$AO$30,0)),0,1),IF(AJ$30=$AR$1,IF(IFERROR(AJ50*1,"bad")="bad",0,1),IF(AJ$30=$AS$1,IF(IFERROR(IF(AJ50=TRUNC(AJ50),1,"bad"),"bad")="bad",0,1),IF(AJ$30=$AT$1,IF(AND(IF(IFERROR(AJ50*1,"bad")="bad",0,1)=1,AJ50>=0),1,0),IF(AJ$30=$AU$1,IF(AND(IF(IFERROR(IF(AJ50=TRUNC(AJ50),1,"bad"),"bad")="bad",0,1)=1,AJ50>=0),1,0),IF(AJ$30=$AV$1,IF(AND(IF(IFERROR(AJ50*1,"bad")="bad",0,1)=1,AJ50>0),1,0),IF(AJ$30=$AW$1,IF(AND(IF(IFERROR(IF(AJ50=TRUNC(AJ50),1,"bad"),"bad")="bad",0,1)=1,AJ50>0),1,0),IF(AJ$30=$AX$1,1,IF(AJ$30=$AY$1,IF(IFERROR(HLOOKUP(AJ50,$AQ$4:$AZ$4,1,0),"bad")="bad",0,1),0)))))))))))) -> 1 | BS50: =IF(AK$30="",1,IF(AK50="",0,IF(AK$30=$AQ$1,IF(ISNA(MATCH(AK50,$AN$30:$AO$30,0)),0,1),IF(AK$30=$AR$1,IF(IFERROR(AK50*1,"bad")="bad",0,1),IF(AK$30=$AS$1,IF(IFERROR(IF(AK50=TRUNC(AK50),1,"bad"),"bad")="bad",0,1),IF(AK$30=$AT$1,IF(AND(IF(IFERROR(AK50*1,"bad")="bad",0,1)=1,AK50>=0),1,0),IF(AK$30=$AU$1,IF(AND(IF(IFERROR(IF(AK50=TRUNC(AK50),1,"bad"),"bad")="bad",0,1)=1,AK50>=0),1,0),IF(AK$30=$AV$1,IF(AND(IF(IFERROR(AK50*1,"bad")="bad",0,1)=1,AK50>0),1,0),IF(AK$30=$AW$1,IF(AND(IF(IFERROR(IF(AK50=TRUNC(AK50),1,"bad"),"bad")="bad",0,1)=1,AK50>0),1,0),IF(AK$30=$AX$1,1,IF(AK$30=$AY$1,IF(IFERROR(HLOOKUP(AK50,$AQ$4:$AZ$4,1,0),"bad")="bad",0,1),0))))))))))) -> 1 | BX50: =IF($F50="","",BX$30) | BY50: =IF($F50="","",BY$30) | BZ50: =IF($F50="","",BZ$30) | CA50: =IF($F50="","",CA$30) | CB50: =IF($F50="","",CB$30) | CC50: =IF($F50="","",CC$30) | CD50: =IF($F50="","",CD$30) | CE50: =IF($F50="","",CE$30) | ... CG50: =IF($F50="","",CG$30)
B51: =IF(F51="","",ROW()-30) | J51: =IF($F51="","",IF(AND(I51>0,I51<=H51),1,$AN$1)) | AK51: =IF($F51="","",IF(AJ51=1,1,IF(AM51<>1,$AN$1,IF(SUMPRODUCT(--(H51:AI51>=$H$6:$AI$6)*($H$6:$AI$6<>""))=COUNTIF($H$4:$AI$4,1),1,0)))) | AM51: =IF(SUM(AP51:BS51)=COUNT(AP51:BS51),1,0) -> 0 | AN51: =IF($F51="","",AN$30) | AO51: =IF($F51="","",AO$30) | AP51: =IF(H$30="",1,IF(H$4=99,1,IF(H51="",0,IF(H$30=$AQ$1,IF(ISNA(MATCH(H51,$AN$30:$AO$30,0)),0,1),IF(H$30=$AR$1,IF(IFERROR(H51*1,"bad")="bad",0,1),IF(H$30=$AS$1,IF(IFERROR(IF(H51=TRUNC(H51),1,"bad"),"bad")="bad",0,1),IF(H$30=$AT$1,IF(AND(IF(IFERROR(H51*1,"bad")="bad",0,1)=1,H51>=0),1,0),IF(H$30=$AU$1,IF(AND(IF(IFERROR(IF(H51=TRUNC(H51),1,"bad"),"bad")="bad",0,1)=1,H51>=0),1,0),IF(H$30=$AV$1,IF(AND(IF(IFERROR(H51*1,"bad")="bad",0,1)=1,H51>0),1,0),IF(H$30=$AW$1,IF(AND(IF(IFERROR(IF(H51=TRUNC(H51),1,"bad"),"bad")="bad",0,1)=1,H51>0),1,0),IF(H$30=$AX$1,1,IF(H$30=$AY$1,IF(IFERROR(HLOOKUP(H51,$AQ$4:$AZ$4,1,0),"bad")="bad",0,1),0)))))))))))) -> 0 | AQ51: =IF(I$30="",1,IF(I$4=99,1,IF(I51="",0,IF(I$30=$AQ$1,IF(ISNA(MATCH(I51,$AN$30:$AO$30,0)),0,1),IF(I$30=$AR$1,IF(IFERROR(I51*1,"bad")="bad",0,1),IF(I$30=$AS$1,IF(IFERROR(IF(I51=TRUNC(I51),1,"bad"),"bad")="bad",0,1),IF(I$30=$AT$1,IF(AND(IF(IFERROR(I51*1,"bad")="bad",0,1)=1,I51>=0),1,0),IF(I$30=$AU$1,IF(AND(IF(IFERROR(IF(I51=TRUNC(I51),1,"bad"),"bad")="bad",0,1)=1,I51>=0),1,0),IF(I$30=$AV$1,IF(AND(IF(IFERROR(I51*1,"bad")="bad",0,1)=1,I51>0),1,0),IF(I$30=$AW$1,IF(AND(IF(IFERROR(IF(I51=TRUNC(I51),1,"bad"),"bad")="bad",0,1)=1,I51>0),1,0),IF(I$30=$AX$1,1,IF(I$30=$AY$1,IF(IFERROR(HLOOKUP(I51,$AQ$4:$AZ$4,1,0),"bad")="bad",0,1),0)))))))))))) -> 0 | AS51: =IF(K$30="",1,IF(K$4=99,1,IF(K51="",0,IF(K$30=$AQ$1,IF(ISNA(MATCH(K51,$AN$30:$AO$30,0)),0,1),IF(K$30=$AR$1,IF(IFERROR(K51*1,"bad")="bad",0,1),IF(K$30=$AS$1,IF(IFERROR(IF(K51=TRUNC(K51),1,"bad"),"bad")="bad",0,1),IF(K$30=$AT$1,IF(AND(IF(IFERROR(K51*1,"bad")="bad",0,1)=1,K51>=0),1,0),IF(K$30=$AU$1,IF(AND(IF(IFERROR(IF(K51=TRUNC(K51),1,"bad"),"bad")="bad",0,1)=1,K51>=0),1,0),IF(K$30=$AV$1,IF(AND(IF(IFERROR(K51*1,"bad")="bad",0,1)=1,K51>0),1,0),IF(K$30=$AW$1,IF(AND(IF(IFERROR(IF(K51=TRUNC(K51),1,"bad"),"bad")="bad",0,1)=1,K51>0),1,0),IF(K$30=$AX$1,1,IF(K$30=$AY$1,IF(IFERROR(HLOOKUP(K51,$AQ$4:$AZ$4,1,0),"bad")="bad",0,1),0)))))))))))) -> 0 | AT51: =IF(L$30="",1,IF(L$4=99,1,IF(L51="",0,IF(L$30=$AQ$1,IF(ISNA(MATCH(L51,$AN$30:$AO$30,0)),0,1),IF(L$30=$AR$1,IF(IFERROR(L51*1,"bad")="bad",0,1),IF(L$30=$AS$1,IF(IFERROR(IF(L51=TRUNC(L51),1,"bad"),"bad")="bad",0,1),IF(L$30=$AT$1,IF(AND(IF(IFERROR(L51*1,"bad")="bad",0,1)=1,L51>=0),1,0),IF(L$30=$AU$1,IF(AND(IF(IFERROR(IF(L51=TRUNC(L51),1,"bad"),"bad")="bad",0,1)=1,L51>=0),1,0),IF(L$30=$AV$1,IF(AND(IF(IFERROR(L51*1,"bad")="bad",0,1)=1,L51>0),1,0),IF(L$30=$AW$1,IF(AND(IF(IFERROR(IF(L51=TRUNC(L51),1,"bad"),"bad")="bad",0,1)=1,L51>0),1,0),IF(L$30=$AX$1,1,IF(L$30=$AY$1,IF(IFERROR(HLOOKUP(L51,$AQ$4:$AZ$4,1,0),"bad")="bad",0,1),0)))))))))))) -> 0 | AU51: =IF(M$30="",1,IF(M$4=99,1,IF(M51="",0,IF(M$30=$AQ$1,IF(ISNA(MATCH(M51,$AN$30:$AO$30,0)),0,1),IF(M$30=$AR$1,IF(IFERROR(M51*1,"bad")="bad",0,1),IF(M$30=$AS$1,IF(IFERROR(IF(M51=TRUNC(M51),1,"bad"),"bad")="bad",0,1),IF(M$30=$AT$1,IF(AND(IF(IFERROR(M51*1,"bad")="bad",0,1)=1,M51>=0),1,0),IF(M$30=$AU$1,IF(AND(IF(IFERROR(IF(M51=TRUNC(M51),1,"bad"),"bad")="bad",0,1)=1,M51>=0),1,0),IF(M$30=$AV$1,IF(AND(IF(IFERROR(M51*1,"bad")="bad",0,1)=1,M51>0),1,0),IF(M$30=$AW$1,IF(AND(IF(IFERROR(IF(M51=TRUNC(M51),1,"bad"),"bad")="bad",0,1)=1,M51>0),1,0),IF(M$30=$AX$1,1,IF(M$30=$AY$1,IF(IFERROR(HLOOKUP(M51,$AQ$4:$AZ$4,1,0),"bad")="bad",0,1),0)))))))))))) -> 0 | AV51: =IF(N$30="",1,IF(N$4=99,1,IF(N51="",0,IF(N$30=$AQ$1,IF(ISNA(MATCH(N51,$AN$30:$AO$30,0)),0,1),IF(N$30=$AR$1,IF(IFERROR(N51*1,"bad")="bad",0,1),IF(N$30=$AS$1,IF(IFERROR(IF(N51=TRUNC(N51),1,"bad"),"bad")="bad",0,1),IF(N$30=$AT$1,IF(AND(IF(IFERROR(N51*1,"bad")="bad",0,1)=1,N51>=0),1,0),IF(N$30=$AU$1,IF(AND(IF(IFERROR(IF(N51=TRUNC(N51),1,"bad"),"bad")="bad",0,1)=1,N51>=0),1,0),IF(N$30=$AV$1,IF(AND(IF(IFERROR(N51*1,"bad")="bad",0,1)=1,N51>0),1,0),IF(N$30=$AW$1,IF(AND(IF(IFERROR(IF(N51=TRUNC(N51),1,"bad"),"bad")="bad",0,1)=1,N51>0),1,0),IF(N$30=$AX$1,1,IF(N$30=$AY$1,IF(IFERROR(HLOOKUP(N51,$AQ$4:$AZ$4,1,0),"bad")="bad",0,1),0)))))))))))) -> 0 | AW51: =IF(O$30="",1,IF(O$4=99,1,IF(O51="",0,IF(O$30=$AQ$1,IF(ISNA(MATCH(O51,$AN$30:$AO$30,0)),0,1),IF(O$30=$AR$1,IF(IFERROR(O51*1,"bad")="bad",0,1),IF(O$30=$AS$1,IF(IFERROR(IF(O51=TRUNC(O51),1,"bad"),"bad")="bad",0,1),IF(O$30=$AT$1,IF(AND(IF(IFERROR(O51*1,"bad")="bad",0,1)=1,O51>=0),1,0),IF(O$30=$AU$1,IF(AND(IF(IFERROR(IF(O51=TRUNC(O51),1,"bad"),"bad")="bad",0,1)=1,O51>=0),1,0),IF(O$30=$AV$1,IF(AND(IF(IFERROR(O51*1,"bad")="bad",0,1)=1,O51>0),1,0),IF(O$30=$AW$1,IF(AND(IF(IFERROR(IF(O51=TRUNC(O51),1,"bad"),"bad")="bad",0,1)=1,O51>0),1,0),IF(O$30=$AX$1,1,IF(O$30=$AY$1,IF(IFERROR(HLOOKUP(O51,$AQ$4:$AZ$4,1,0),"bad")="bad",0,1),0)))))))))))) -> 0 | AX51: =IF(P$30="",1,IF(P$4=99,1,IF(P51="",0,IF(P$30=$AQ$1,IF(ISNA(MATCH(P51,$AN$30:$AO$30,0)),0,1),IF(P$30=$AR$1,IF(IFERROR(P51*1,"bad")="bad",0,1),IF(P$30=$AS$1,IF(IFERROR(IF(P51=TRUNC(P51),1,"bad"),"bad")="bad",0,1),IF(P$30=$AT$1,IF(AND(IF(IFERROR(P51*1,"bad")="bad",0,1)=1,P51>=0),1,0),IF(P$30=$AU$1,IF(AND(IF(IFERROR(IF(P51=TRUNC(P51),1,"bad"),"bad")="bad",0,1)=1,P51>=0),1,0),IF(P$30=$AV$1,IF(AND(IF(IFERROR(P51*1,"bad")="bad",0,1)=1,P51>0),1,0),IF(P$30=$AW$1,IF(AND(IF(IFERROR(IF(P51=TRUNC(P51),1,"bad"),"bad")="bad",0,1)=1,P51>0),1,0),IF(P$30=$AX$1,1,IF(P$30=$AY$1,IF(IFERROR(HLOOKUP(P51,$AQ$4:$AZ$4,1,0),"bad")="bad",0,1),0)))))))))))) -> 0 | AY51: =IF(Q$30="",1,IF(Q$4=99,1,IF(Q51="",0,IF(Q$30=$AQ$1,IF(ISNA(MATCH(Q51,$AN$30:$AO$30,0)),0,1),IF(Q$30=$AR$1,IF(IFERROR(Q51*1,"bad")="bad",0,1),IF(Q$30=$AS$1,IF(IFERROR(IF(Q51=TRUNC(Q51),1,"bad"),"bad")="bad",0,1),IF(Q$30=$AT$1,IF(AND(IF(IFERROR(Q51*1,"bad")="bad",0,1)=1,Q51>=0),1,0),IF(Q$30=$AU$1,IF(AND(IF(IFERROR(IF(Q51=TRUNC(Q51),1,"bad"),"bad")="bad",0,1)=1,Q51>=0),1,0),IF(Q$30=$AV$1,IF(AND(IF(IFERROR(Q51*1,"bad")="bad",0,1)=1,Q51>0),1,0),IF(Q$30=$AW$1,IF(AND(IF(IFERROR(IF(Q51=TRUNC(Q51),1,"bad"),"bad")="bad",0,1)=1,Q51>0),1,0),IF(Q$30=$AX$1,1,IF(Q$30=$AY$1,IF(IFERROR(HLOOKUP(Q51,$AQ$4:$AZ$4,1,0),"bad")="bad",0,1),0)))))))))))) -> 0 | AZ51: =IF(R$30="",1,IF(R$4=99,1,IF(R51="",0,IF(R$30=$AQ$1,IF(ISNA(MATCH(R51,$AN$30:$AO$30,0)),0,1),IF(R$30=$AR$1,IF(IFERROR(R51*1,"bad")="bad",0,1),IF(R$30=$AS$1,IF(IFERROR(IF(R51=TRUNC(R51),1,"bad"),"bad")="bad",0,1),IF(R$30=$AT$1,IF(AND(IF(IFERROR(R51*1,"bad")="bad",0,1)=1,R51>=0),1,0),IF(R$30=$AU$1,IF(AND(IF(IFERROR(IF(R51=TRUNC(R51),1,"bad"),"bad")="bad",0,1)=1,R51>=0),1,0),IF(R$30=$AV$1,IF(AND(IF(IFERROR(R51*1,"bad")="bad",0,1)=1,R51>0),1,0),IF(R$30=$AW$1,IF(AND(IF(IFERROR(IF(R51=TRUNC(R51),1,"bad"),"bad")="bad",0,1)=1,R51>0),1,0),IF(R$30=$AX$1,1,IF(R$30=$AY$1,IF(IFERROR(HLOOKUP(R51,$AQ$4:$AZ$4,1,0),"bad")="bad",0,1),0)))))))))))) -> 0 | ... BR51: =IF(AJ$30="",1,IF(AJ$4=99,1,IF(AJ51="",0,IF(AJ$30=$AQ$1,IF(ISNA(MATCH(AJ51,$AN$30:$AO$30,0)),0,1),IF(AJ$30=$AR$1,IF(IFERROR(AJ51*1,"bad")="bad",0,1),IF(AJ$30=$AS$1,IF(IFERROR(IF(AJ51=TRUNC(AJ51),1,"bad"),"bad")="bad",0,1),IF(AJ$30=$AT$1,IF(AND(IF(IFERROR(AJ51*1,"bad")="bad",0,1)=1,AJ51>=0),1,0),IF(AJ$30=$AU$1,IF(AND(IF(IFERROR(IF(AJ51=TRUNC(AJ51),1,"bad"),"bad")="bad",0,1)=1,AJ51>=0),1,0),IF(AJ$30=$AV$1,IF(AND(IF(IFERROR(AJ51*1,"bad")="bad",0,1)=1,AJ51>0),1,0),IF(AJ$30=$AW$1,IF(AND(IF(IFERROR(IF(AJ51=TRUNC(AJ51),1,"bad"),"bad")="bad",0,1)=1,AJ51>0),1,0),IF(AJ$30=$AX$1,1,IF(AJ$30=$AY$1,IF(IFERROR(HLOOKUP(AJ51,$AQ$4:$AZ$4,1,0),"bad")="bad",0,1),0)))))))))))) -> 1 | BS51: =IF(AK$30="",1,IF(AK51="",0,IF(AK$30=$AQ$1,IF(ISNA(MATCH(AK51,$AN$30:$AO$30,0)),0,1),IF(AK$30=$AR$1,IF(IFERROR(AK51*1,"bad")="bad",0,1),IF(AK$30=$AS$1,IF(IFERROR(IF(AK51=TRUNC(AK51),1,"bad"),"bad")="bad",0,1),IF(AK$30=$AT$1,IF(AND(IF(IFERROR(AK51*1,"bad")="bad",0,1)=1,AK51>=0),1,0),IF(AK$30=$AU$1,IF(AND(IF(IFERROR(IF(AK51=TRUNC(AK51),1,"bad"),"bad")="bad",0,1)=1,AK51>=0),1,0),IF(AK$30=$AV$1,IF(AND(IF(IFERROR(AK51*1,"bad")="bad",0,1)=1,AK51>0),1,0),IF(AK$30=$AW$1,IF(AND(IF(IFERROR(IF(AK51=TRUNC(AK51),1,"bad"),"bad")="bad",0,1)=1,AK51>0),1,0),IF(AK$30=$AX$1,1,IF(AK$30=$AY$1,IF(IFERROR(HLOOKUP(AK51,$AQ$4:$AZ$4,1,0),"bad")="bad",0,1),0))))))))))) -> 1 | BX51: =IF($F51="","",BX$30) | BY51: =IF($F51="","",BY$30) | BZ51: =IF($F51="","",BZ$30) | CA51: =IF($F51="","",CA$30) | CB51: =IF($F51="","",CB$30) | CC51: =IF($F51="","",CC$30) | CD51: =IF($F51="","",CD$30) | CE51: =IF($F51="","",CE$30) | ... CG51: =IF($F51="","",CG$30)
