Workbook

Sheet ProtectSettings
B1: 0.046352565
B2: 45595.351
A6: AllowFilterCheckBox | B6: TRUE
A7: AllowFormattingCheckBox | B7: TRUE
A8: AllowColumnFormattingCheckBox | B8: TRUE
A9: AllowRowFormattingCheckBox | B9: TRUE
B21: 1 | C21: ProtectSettings
B22: 2 | C22: הדרכה למשתמש
B23: 3 | C23: פרמטרים לקריטריונים
B24: 4 | C24: הוראת שעה
B25: 5 | C25: תנאי סף
B26: 6 | C26: עדיפות לפריפריה
B27: 7 | C27: מספר המשתתפים
B28: 8 | C28: מספר מופעים
B29: 9 | C29: הערכה כללית ותרומה לקהילה
B30: 10 | C30: תקציב הפעילות
B31: 11 | C31: התחשיב הבסיסי
B32: 12 | C32: פרמטרים לעקרונות חישוב התמיכה
... B41: 21 | C41: סיכום לועדה - תוצאות

Sheet הדרכה למשתמש
B2: הדרכה למשתמש
B4: תאריך בניית המודל | C4: 42917
B5: תאריך עדכון מודל | C5: 44243
B7: המודל מותאם באופן אוטומטי להוראות מעבר של 2017 ו-2018
B9: הוראת שעה/מעבר:
B11: הדרכה להזנת נתונים
B12: צבע התא | C12: מטרת התא | D12: דגש
B13: צהוב | C13: הזנת נתונים | D13: נדרש להזין מידע בהתאם להנחיות מבחן התמיכה, אי הזנה של תא יכולה להביא לידי שגיאה בתוצאות במודל. למעט גיליון "ניוד מופעים לפרפירה" בו אי הזנת נתון במספר הרצות משמעו 0 הרצות.
B14: חום | C14: הצגת מידע | D14: תא שאיננו מיועד להזנה. תא זה מציג מידע עפ"י נוסחה קבועה ואין לשנות אותה.
B15: אדום | C15: התראת שגיאה | D15: קיימת שגיאה בהזנת נתונים באחד מהתאים המיועדים להזנה, נדרש להזין את הנתונים הנדרשים לפני קביעת גובה תמיכה סופי.
B17: את רשימת המוסדות יש להזין בגיליון תנאי הסף
B33: ניהול גרסאות
B34: מספר גרסה | C34: תאריך עדכון גרסה | D34: תאריך גרסה של מבחן תמיכה | E34: התאמות נוספות של מבחן תמיכה
B35: 1 | C35: 42932 | E35: בניית מודל

Sheet פרמטרים לקריטריונים
B2: מודל תחרויות וכנסים בהיקף ארצי - תרבות בקהילה
B4: שנת תקציב | C4: 2025
B5: תקציב התמיכה | C5: 700000
B9: הגדרות
B10: הגדרת שנה | C10: תאריך התחלה | D10: תאריך סיום
B11: שנת התמיכה/תקציב | C11: =DATE($C$4,1,1) -> 45658 | D11: =DATE($C$4,12,31) -> 46022
B12: שנת ההערכה | C12: =DATE($C$4-3,10,1) -> 44835 | D12: =DATE($C$4-2,9,30) -> 45199
B13: שנת התקציב המבוקר | C13: =DATE($C$4-3,1,1) -> 44562 | D13: =DATE($C$4-3,12,31) -> 44926
B30: משקולות קריטריונים
B31: סעיף | C31: משקל
B32: עדיפות לפריפריה | C32: 0.25
B33: מספר המשתתפים | C33: 0.2
B35: מספר המופעים | C35: 0.15
B36: הערכה כללית ותרומה לקהילה | C36: 0.2
B37: מחזור הפעילות | C37: 0.2
B58: סה"כ | C58: =SUM(C32:C57) -> 1
B60: ="פרמטרים לחישוב ניקוד משתנה "&$B$32 -> פרמטרים לחישוב ניקוד משתנה עדיפות לפריפריה
B61: סיווג למ"ס של היישוב בו נמצא המוסד | C61: ניקוד
B62: 1 | C62: 10
B63: 2 | C63: 8
B64: 3 | C64: 6
B65: 4 | C65: 4
B66: 5 | C66: 3
B67: 6 ומעלה | C67: 0
C68: 0
B71: אשכול | C71: ניקוד
B72: 1 | C72: 10
B73: 2 | C73: 8
B74: 3 | C74: 6
B75: 4 | C75: 4
B76: 5R | C76: 4 | D76: באר שבע
B77: סעיף | C77: מקדם
B78: 6 | C78: 1
B79: 7 | C79: 1
B80: 8 | C80: 0.5
B81: סעיף | C81: ניקוד
B82: מוסד ש-75% לפחות מהמשתתפים בפעילותו השוטפת הם מקרב מגזר ייחודי | C82: 5
B91: ="פרמטרים לחישוב ניקוד משתנה "&$B$33 -> פרמטרים לחישוב ניקוד משתנה מספר המשתתפים
B92: סעיף | C92: ניקוד
B93: ניקוד מקסימלי | C93: 10
B94: מספר משתתפים מזערי | C94: 80
B121: ="פרמטרים לחישוב ניקוד משתנה "&$B$34 -> פרמטרים לחישוב ניקוד משתנה
B151: ="פרמטרים לחישוב ניקוד משתנה "&$B$35 -> פרמטרים לחישוב ניקוד משתנה מספר המופעים
B152: סעיף | C152: ניקוד
B153: ניקוד מקסימלי | C153: 10
B181: ="פרמטרים לחישוב ניקוד משתנה "&$B$36 -> פרמטרים לחישוב ניקוד משתנה הערכה כללית ותרומה לקהילה
B182: איכות לפי המלצת המדור | C182: ניקוד
B183: איכות מצוינת | C183: 5
B184: איכות טובה מאוד | C184: 3
B185: איכות טובה | C185: 2
B186: איכות בינונית | C186: 1
B210: ="פרמטרים לחישוב ניקוד משתנה "&$B$37 -> פרמטרים לחישוב ניקוד משתנה מחזור הפעילות
B211: סעיף | C211: סכום | D211: ניקוד
B212: יתקבל ניקוד עבור מכפלת הסכום הבא שהוא מעל התקציב המינימלי: | C212: 10000 | D212: 1
B213: תקציב מינימלי | C213: ='תנאי סף'!W6 -> 100000

Sheet הוראת שעה
A4: האם חלה הוראת השעה בשנה הספציפית
A5: שנה | C5: גובה הגנה
A6: 2016
A7: =A6+1 -> 2017 | C7: #N/A
A8: =A7+1 -> 2018 | C8: 0.9
A9: =A8+1 -> 2019 | C9: 0.85
A10: =A9+1 -> 2020 | C10: 0
A11: =A10+1 -> 2021 | C11: 0
A12: =A11+1 -> 2022 | C12: 0.85
A13: =A12+1 -> 2023 | C13: 0.75
A14: =A13+1 -> 2024 | C14: 0
A15: =A14+1 -> 2025 | C15: 0
A16: =A15+1 -> 2026 | C16: 0
A17: =A16+1 -> 2027 | C17: 0
A18: =A17+1 -> 2028 | C18: 0
A19: =A18+1 -> 2029 | C19: 0
A20: =A19+1 -> 2030 | C20: 0
C22: משפיע על הגנה בגיליון פרמטרים לעיקרון חישוב התמיכה

Sheet תנאי סף
B1: =MID(CELL("filename",AJ2),FIND("]",CELL("filename",AJ2),1)+1,99) -> תנאי סף | AI1: בדוק נתוני הזנה | AK1: סוגי בקרות | AL1: 0/1 | AM1: מספר | AN1: מספר שלם | AO1: מספר שאינו שלילי | AQ1: מספר שלם שאינו שלילי | AR1: מספר חיובי | AS1: מספר שלם חיובי | AT1: טקסט | AU1: טקסט מרשימה סגורה
AF2: ='פרמטרים לקריטריונים'!$B$4 -> שנת תקציב | AG2: ='פרמטרים לקריטריונים'!$C$4 -> 2025 | AL2: =IF(ISNA(MATCH(#REF!,$AI$30:$AJ$30,0)),0,1) -> 1 | AM2: =IF(IFERROR(#REF!*1,"bad")="bad",0,1) -> 0 | AN2: =IF(IFERROR(IF(#REF!=TRUNC(#REF!),1,"bad"),"bad")="bad",0,1) -> 0 | AO2: =IF(AND(IF(IFERROR(#REF!*1,"bad")="bad",0,1)=1,#REF!>=0),1,0) -> #REF! | AQ2: =IF(AND(IF(IFERROR(IF(#REF!=TRUNC(#REF!),1,"bad"),"bad")="bad",0,1)=1,#REF!>=0),1,0) -> #REF! | AR2: =IF(AND(IF(IFERROR(#REF!*1,"bad")="bad",0,1)=1,#REF!>0),1,0) -> #REF! | AS2: =IF(AND(IF(IFERROR(IF(#REF!=TRUNC(#REF!),1,"bad"),"bad")="bad",0,1)=1,#REF!>0),1,0) -> #REF! | AT2: 1 | AU2: =IF(IFERROR(HLOOKUP(#REF!,$BM$30:$BW$30,1,0),"bad")="bad",0,1) -> 0
AF3: ='פרמטרים לקריטריונים'!$B$5 -> תקציב התמיכה | AG3: ='פרמטרים לקריטריונים'!$C$5 -> 700000 | AJ3: =IF(#REF!="",1,IF(#REF!="",0,IF(#REF!=$AL$1,11,IF(#REF!=$AM$1,12,IF(#REF!=$AER1,13,IF(#REF!=$AO$1,14,IF(#REF!=$AQ$1,15,IF(#REF!=$AR$1,16,IF(#REF!=$AS$1,17,IF(#REF!=$AT$1,18,IF(#REF!=$AU$1,19,0))))))))))) -> #REF! | AK3: מספר בקרה | AL3: 1 | AM3: 2 | AN3: 3 | AO3: 4 | AQ3: 5 | AR3: 6 | AS3: 7 | AT3: 8 | AU3: 9
F4: רלוונטי למבחן עמידה בתנאי סף? 1=רלוונטי. 0= לא רלוונטי אבל נדרשת בקרה על הזנת נתונים. 99= לא רלוונטי ולא נדרשת בקה על הזנת נתונים | G4: 1 | H4: 1 | I4: 1 | J4: 1 | K4: 1 | L4: 0 | M4: 99 | N4: 99 | O4: 1 | P4: 1 | Q4: 1 | R4: 1 | S4: 99 | T4: 1 | U4: 1 | V4: 1 | W4: 1 | X4: 1 | Y4: 1 | Z4: 1 | AA4: 1 | AB4: 1 | AD4: 1 | AE4: 99 | AK4: רשימה סגורה | AL4: 1 | AM4: 2 | AN4: 3 | AO4: 4 | AQ4: 5 | AR4: 6 | AS4: 7 | AT4: 8 | AU4: 9 | AV4: 10
G5: =G29 -> המוסד עומד בתנאי סף כלליים | H5: =H29 -> כל האמנים בני 15 ומעלה | I5: =I29 -> הפעילות אינה במסגרת קונסרבטוריון נתמך/מתוקצב | J5: =J29 -> הפעילות השוטפת נשוא הבקשה נעשית ברובה בפריפריה או לפחות 50% מהמשתתפים בפעילות השוטפת ממגזר ייחודי | K5: =K29 -> פעילות המוסד הינה ברמה אמנותית נאותה | L5: =L29 -> מגיש הבקשה הינו רשות מקומית | M5: =M29 -> לרשות מקומית: ברשות פועלת מחלקה לתרבות ואמנות בראשה מנהל בחצי משרה לפחות | N5: =N29 -> לרשות מקומית: הרשות תחתום על כתב התחייבות לפי הוראות התכ"ם 6.2 בדבר תמיכה בגופים אחרים | P5: =P29 -> המוסד מקיים פעילות תרבות מיוחדת בתחום המחול, המוסיקה או התיאטרון השונה באופייה מהפעילות של תחום אמנויות הבמה | Q5: =Q29 -> הפעילות בעדה מבוקשת התמיכה מיועדת, על פי אופייה וטיבה, להיות בהיקף כלל ארצי | R5: =R29 -> 50% מהמשתתפים בפעילות לפחות הם מקרב הפריפריה או שהתחרות או הכנס מושא הבקשה לתמיכה מתקיימים בפריפריה | S5: =S29 -> 0 | T5: =T29 -> הפעילות כוללת הפקה של מופע שמשכו 30 דקות לפחות המוצג או מושמע בפני קהל | U5: =U29 -> לפעילות וותק של שנתיים לפחות, נכון למועד הגשת הבקשה לתמיכה | V5: =V29 -> מספר המשתתפים בפעילות, לרבות במופע, הנוטלים חלק בפעילות | W5: =W29 -> מחזור הפעילות בשנת 2022 | ... Z5: =Z29 -> המוסד משתמש בכספי התמיכה רק למטרות שלשמן ניתנו | AE5: =AE29 -> מעבר תנאי סף-אישור מיוחד
F6: ערך למעבר תנאי סף | G6: 1 | H6: 1 | I6: 1 | J6: 1 | K6: 1 | O6: 1 | P6: 1 | Q6: 1 | R6: 1 | T6: 1 | U6: 1 | V6: ='פרמטרים לקריטריונים'!C94 -> 80 | W6: 100000 | X6: 1 | Y6: 1 | Z6: 1 | AA6: 1 | AB6: 1 | AD6: 1
G7: סעיף 8 | H7: סעיף 9 (1) | I7: סעיף 9 (2) | J7: סעיף 9 (3) | K7: סעיף 9 (4) | L7: סעיף 9 (11) | M7: סעיף 9 (11) (א) | N7: סעיף 9 (11) (ב) | P7: סעיף 12 (1) | Q7: סעיף 12 (2) | R7: סעיף 12 (3) | T7: סעיף 12 (4) | U7: סעיף 12 (5) | V7: סעיף 12 (6) | W7: סעיף 12 (7) | X7: סעיף 9 (5) | Y7: סעיף 9 (6) | Z7: סעיף 9 (7) | AA7: סעיף 9 (8) | AB7: סעיף 9 (9) | AD7: סעיף 9 (10)
B24: סה"כ | H24: =SUM(H30:H130) -> 4 | I24: =SUM(I30:I130) -> 4 | J24: =SUM(J30:J130) -> 4 | K24: =SUM(K30:K130) -> 4 | M24: =SUM(M30:M130) -> 0 | N24: =SUM(N30:N130) -> 0 | P24: =SUM(P30:P130) -> 4 | Q24: =SUM(Q30:Q130) -> 4 | R24: =SUM(R30:R130) -> 4 | S24: =SUM(S30:S130) -> 0 | T24: =SUM(T30:T130) -> 4 | U24: =SUM(U30:U130) -> 4 | V24: =SUM(V30:V130) -> 2815 | W24: =SUM(W30:W130) -> 2719940 | ... Z24: =SUM(Z30:Z130) -> 4 | AE24: =SUM(AE30:AE130) -> 0 | AF24: =SUM(AF30:AF130) -> 4
B25: בדיקת תא שורה 30 | H25: =IF(H30="",1,IF(IFERROR(HLOOKUP(H30,$AK$1:$BK$2,1,0),0)=0,0,1)) -> 1 | I25: =IF(I30="",1,IF(IFERROR(HLOOKUP(I30,$AK$1:$BK$2,1,0),0)=0,0,1)) -> 1 | J25: =IF(J30="",1,IF(IFERROR(HLOOKUP(J30,$AK$1:$BK$2,1,0),0)=0,0,1)) -> 1 | K25: =IF(K30="",1,IF(IFERROR(HLOOKUP(K30,$AK$1:$BK$2,1,0),0)=0,0,1)) -> 1 | M25: =IF(M30="",1,IF(IFERROR(HLOOKUP(M30,$AK$1:$BK$2,1,0),0)=0,0,1)) -> 1 | N25: =IF(N30="",1,IF(IFERROR(HLOOKUP(N30,$AK$1:$BK$2,1,0),0)=0,0,1)) -> 1 | P25: =IF(P30="",1,IF(IFERROR(HLOOKUP(P30,$AK$1:$BK$2,1,0),0)=0,0,1)) -> 1 | Q25: =IF(Q30="",1,IF(IFERROR(HLOOKUP(Q30,$AK$1:$BK$2,1,0),0)=0,0,1)) -> 1 | R25: =IF(R30="",1,IF(IFERROR(HLOOKUP(R30,$AK$1:$BK$2,1,0),0)=0,0,1)) -> 1 | S25: =IF(S30="",1,IF(IFERROR(HLOOKUP(S30,$AK$1:$BK$2,1,0),0)=0,0,1)) -> 1 | T25: =IF(T30="",1,IF(IFERROR(HLOOKUP(T30,$AK$1:$BK$2,1,0),0)=0,0,1)) -> 1 | U25: =IF(U30="",1,IF(IFERROR(HLOOKUP(U30,$AK$1:$BK$2,1,0),0)=0,0,1)) -> 1 | V25: =IF(V30="",1,IF(IFERROR(HLOOKUP(V30,$AK$1:$BK$2,1,0),0)=0,0,1)) -> 1 | W25: =IF(W30="",1,IF(IFERROR(HLOOKUP(W30,$AK$1:$BK$2,1,0),0)=0,0,1)) -> 1 | ... Z25: =IF(Z30="",1,IF(IFERROR(HLOOKUP(Z30,$AK$1:$BK$2,1,0),0)=0,0,1)) -> 1 | AE25: =IF(AE30="",1,IF(IFERROR(HLOOKUP(AE30,$AK$1:$BK$2,1,0),0)=0,0,1)) -> 1 | AF25: =IF(AF30="",1,IF(IFERROR(HLOOKUP(AF30,$AK$1:$BK$2,1,0),0)=0,0,1)) -> 1
B26: ספירת לא ריקים | F26: =$A$29-COUNTBLANK(F31:F130) -> 4 | H26: =$A$29-COUNTBLANK(H31:H130) -> 4 | I26: =$A$29-COUNTBLANK(I31:I130) -> 4 | J26: =$A$29-COUNTBLANK(J31:J130) -> 4 | K26: =$A$29-COUNTBLANK(K31:K130) -> 4 | M26: =$A$29-COUNTBLANK(M31:M130) -> 4 | N26: =$A$29-COUNTBLANK(N31:N130) -> 4 | P26: =$A$29-COUNTBLANK(P31:P130) -> 4 | Q26: =$A$29-COUNTBLANK(Q31:Q130) -> 4 | R26: =$A$29-COUNTBLANK(R31:R130) -> 4 | S26: =$A$29-COUNTBLANK(S31:S130) -> 0 | T26: =$A$29-COUNTBLANK(T31:T130) -> 4 | U26: =$A$29-COUNTBLANK(U31:U130) -> 4 | V26: =$A$29-COUNTBLANK(V31:V130) -> 4 | W26: =$A$29-COUNTBLANK(W31:W130) -> 4 | ... Z26: =$A$29-COUNTBLANK(Z31:Z130) -> 4 | AE26: =$A$29-COUNTBLANK(AE31:AE130) -> 0 | AF26: =$A$29-COUNTBLANK(AF31:AF130) -> 4
B27: ממוצע | H27: =AVERAGE(H31:H130) -> 1 | I27: =AVERAGE(I31:I130) -> 1 | J27: =AVERAGE(J31:J130) -> 1 | K27: =AVERAGE(K31:K130) -> 1 | M27: =AVERAGE(M31:M130) -> 0 | N27: =AVERAGE(N31:N130) -> 0 | P27: =AVERAGE(P31:P130) -> 1 | Q27: =AVERAGE(Q31:Q130) -> 1 | R27: =AVERAGE(R31:R130) -> 1 | S27: =AVERAGE(S31:S130) -> #DIV/0! | T27: =AVERAGE(T31:T130) -> 1 | U27: =AVERAGE(U31:U130) -> 1 | V27: =AVERAGE(V31:V130) -> 703.75 | W27: =AVERAGE(W31:W130) -> 679985 | ... Z27: =AVERAGE(Z31:Z130) -> 1 | AE27: =AVERAGE(AE31:AE130) -> #DIV/0! | AF27: =AVERAGE(AF31:AF130) -> 1 | AG27: =AVERAGE(AG31:AG130) -> #DIV/0!
AH28: =IF(SUM(AH31:AH130)=COUNT(AH31:AH130),1,0) -> 0
A29: 100 | B29: מס"ד | C29: מספר מוסד | D29: מספר בקשה | E29: שם הבקשה | F29: שם המוסד | G29: המוסד עומד בתנאי סף כלליים | H29: כל האמנים בני 15 ומעלה | I29: הפעילות אינה במסגרת קונסרבטוריון נתמך/מתוקצב | J29: הפעילות השוטפת נשוא הבקשה נעשית ברובה בפריפריה או לפחות 50% מהמשתתפים בפעילות השוטפת ממגזר ייחודי | K29: פעילות המוסד הינה ברמה אמנותית נאותה | L29: מגיש הבקשה הינו רשות מקומית | M29: לרשות מקומית: ברשות פועלת מחלקה לתרבות ואמנות בראשה מנהל בחצי משרה לפחות | N29: לרשות מקומית: הרשות תחתום על כתב התחייבות לפי הוראות התכ"ם 6.2 בדבר תמיכה בגופים אחרים | O29: עומד בתנאי רשות המגישה בקשה לתמיכה או שמגיש הבקשה אינו רשות | P29: המוסד מקיים פעילות תרבות מיוחדת בתחום המחול, המוסיקה או התיאטרון השונה באופייה מהפעילות של תחום אמנויות הבמה | Q29: הפעילות בעדה מבוקשת התמיכה מיועדת, על פי אופייה וטיבה, להיות בהיקף כלל ארצי | R29: 50% מהמשתתפים בפעילות לפחות הם מקרב הפריפריה או שהתחרות או הכנס מושא הבקשה לתמיכה מתקיימים בפריפריה | T29: הפעילות כוללת הפקה של מופע שמשכו 30 דקות לפחות המוצג או מושמע בפני קהל | U29: לפעילות וותק של שנתיים לפחות, נכון למועד הגשת הבקשה לתמיכה | V29: מספר המשתתפים בפעילות, לרבות במופע, הנוטלים חלק בפעילות | W29: ="מחזור הפעילות בשנת "&YEAR('פרמטרים לקריטריונים'!C13) -> מחזור הפעילות בשנת 2022 | X29: המוסד עומד בדרישות הנוהל, ובכלל זה יעמיד עצמו לביקורת המשרד בהתאם לדינים החלים עליו, להוראות הנוהל ולהחלטות הממשלה | Y29: מטרות המוסד כמפורט במסמכי היסוד שלו ואופן פעולתו עולים בקנה אחד עם מטרות התמיכה המפורטות במבחנים | Z29: המוסד משתמש בכספי התמיכה רק למטרות שלשמן ניתנו | AA29: המוסד מציין בפרסומיו כי הפעילות הנתמכת מבוצעת בתמיכת המשרד | AB29: המוסד מקיים את הוראות החוק הרלבנטיות לפעילותו, מקפיד על כללי ניהול תקין ושומר על שקיפות מלאה באורחות התנהלותו באופן ההולם את מטרותיו הציבוריות | AC29: המוסד פועל ביעילות ובתקורה מינימאלית, שמאפשרת את פעילותו התקינה והראויה, לרבות בהתאם לנוהל ובהתאם להוראות החשב הכללי במשרד האוצר לעניין הוצאות הנהלה וכלליות | AD29: במוסד בו מועסקים עובדים ביחסי עבודה, המוסד קבע תקנון למניעת הטרדה מינית ועומד בדרישות תקנה 8 לתקנות חובות מעסיק. המוסד צירף לבקשתו את התקנון ופרטים על ההתאמות בתקנון, פרסומו למסירתו. (במוסד בו אין מתכונת יחסי עבודה - יש לסמן 1 עבור תנאי זה) | AE29: מעבר תנאי סף-אישור מיוחד | AF29: מעבר תנאי סף | AG29: הערות | AH29: בקרה ראשית | AK29: ="בקרת "&G29 -> בקרת המוסד עומד בתנאי סף כלליים | AL29: ="בקרת "&H29 -> בקרת כל האמנים בני 15 ומעלה | AM29: ="בקרת "&I29 -> בקרת הפעילות אינה במסגרת קונסרבטוריון נתמך/מתוקצב | AN29: ="בקרת "&J29 -> בקרת הפעילות השוטפת נשוא הבקשה נעשית ברובה בפריפריה או לפחות 50% מהמשתתפים בפעילות השוטפת ממגזר ייחודי | AO29: ="בקרת "&K29 -> בקרת פעילות המוסד הינה ברמה אמנותית נאותה | AP29: ="בקרת "&L29 -> בקרת מגיש הבקשה הינו רשות מקומית | AQ29: ="בקרת "&M29 -> בקרת לרשות מקומית: ברשות פועלת מחלקה לתרבות ואמנות בראשה מנהל בחצי משרה לפחות | AR29: ="בקרת "&N29 -> בקרת לרשות מקומית: הרשות תחתום על כתב התחייבות לפי הוראות התכ"ם 6.2 בדבר תמיכה בגופים אחרים | AS29: ="בקרת "&P29 -> בקרת המוסד מקיים פעילות תרבות מיוחדת בתחום המחול, המוסיקה או התיאטרון השונה באופייה מהפעילות של תחום אמנויות הבמה | AT29: ="בקרת "&Q29 -> בקרת הפעילות בעדה מבוקשת התמיכה מיועדת, על פי אופייה וטיבה, להיות בהיקף כלל ארצי | AU29: ="בקרת "&R29 -> בקרת 50% מהמשתתפים בפעילות לפחות הם מקרב הפריפריה או שהתחרות או הכנס מושא הבקשה לתמיכה מתקיימים בפריפריה | AV29: ="בקרת "&S29 -> בקרת | AW29: ="בקרת "&T29 -> בקרת הפעילות כוללת הפקה של מופע שמשכו 30 דקות לפחות המוצג או מושמע בפני קהל | AX29: ="בקרת "&U29 -> בקרת לפעילות וותק של שנתיים לפחות, נכון למועד הגשת הבקשה לתמיכה | AY29: ="בקרת "&V29 -> בקרת מספר המשתתפים בפעילות, לרבות במופע, הנוטלים חלק בפעילות | AZ29: ="בקרת "&W29 -> בקרת מחזור הפעילות בשנת 2022 | ... BJ29: ="בקרת "&AG29 -> בקרת הערות | BM29: רשימה סגורה
G30: 0/1 | H30: 0/1 | I30: 0/1 | J30: 0/1 | K30: 0/1 | L30: 0/1 | M30: 0/1 | N30: 0/1 | P30: 0/1 | Q30: 0/1 | R30: 0/1 | T30: 0/1 | U30: 0/1 | V30: מספר שלם שאינו שלילי | W30: מספר שלם שאינו שלילי | X30: 0/1 | Y30: 0/1 | Z30: 0/1 | AA30: 0/1 | AB30: 0/1 | AC30: 0/1 | AD30: 0/1 | AE30: 0/1 | AG30: טקסט | AI30: 0 | AJ30: 1 | AK30: =G30 -> 0/1 | AL30: =H30 -> 0/1 | AM30: =I30 -> 0/1 | AN30: =J30 -> 0/1 | AO30: =K30 -> 0/1 | AP30: =L30 -> 0/1 | AQ30: =M30 -> 0/1 | AR30: =N30 -> 0/1 | AS30: =P30 -> 0/1 | AT30: =Q30 -> 0/1 | AU30: =R30 -> 0/1 | AV30: =S30 -> 0 | AW30: =T30 -> 0/1 | AX30: =U30 -> 0/1 | AY30: =V30 -> מספר שלם שאינו שלילי | AZ30: =W30 -> מספר שלם שאינו שלילי | ... BK30: =AH30 -> 0 | BM30: =AL4 -> 1 | BN30: =AM4 -> 2 | BO30: =AN4 -> 3 | BP30: =AO4 -> 4 | BQ30: =AQ4 -> 5 | BR30: =AR4 -> 6 | BS30: =AS4 -> 7 | BT30: =AT4 -> 8 | BU30: =AU4 -> 9 | BV30: =AV4 -> 10
B31: =IF(F31="","",ROW()-30) -> 1 | C31: 580538015 | D31: 1001829429 | E31: בקשת תמיכה 2025 פרויקט התחרות אהבי | F31: אהב"י - העמותה לקידום אמנות העם ביש | G31: 1 | H31: 1 | I31: 1 | J31: 1 | K31: 1 | L31: 0 | M31: 0 | N31: 0 | O31: =IF(D31="","",IF(L31="",$AI$1,IF(OR(SUM(L31:N31)=3,L31=0),1,0))) -> 1 | P31: 1 | Q31: 1 | R31: 1 | T31: 1 | U31: 1 | V31: 261 | W31: 199400 | X31: 1 | Y31: 1 | Z31: 1 | AA31: 1 | AB31: 1 | AC31: 1 | AD31: 1 | AF31: {=IF($D31="","",IF(AE31=1,1,IF(AH31<>1,$AI$1,IF(SUMPRODUCT(--(G31:AD31>=$G$6:$AD$6)*($G$6:$AD$6<>"")*($G$4:$AD$4=1))=COUNTIF($G$4:$AD$4,1),1,0))))} -> 1 | AH31: =IF(SUM(AK31:BI31)=COUNT(AK31:BI31),1,0) -> 1 | AI31: =IF($F31="","",AI$30) -> 0 | AJ31: =IF($F31="","",AJ$30) -> 1 | AK31: =IF(G$30="",1,IF(G$4=99,1,IF(G31="",0,IF(G$30=$AL$1,IF(ISNA(MATCH(G31,$AI$30:$AJ$30,0)),0,1),IF(G$30=$AM$1,IF(IFERROR(G31*1,"bad")="bad",0,1),IF(G$30=$AN$1,IF(IFERROR(IF(G31=TRUNC(G31),1,"bad"),"bad")="bad",0,1),IF(G$30=$AO$1,IF(AND(IF(IFERROR(G31*1,"bad")="bad",0,1)=1,G31>=0),1,0),IF(G$30=$AQ$1,IF(AND(IF(IFERROR(IF(G31=TRUNC(G31),1,"bad"),"bad")="bad",0,1)=1,G31>=0),1,0),IF(G$30=$AR$1,IF(AND(IF(IFERROR(G31*1,"bad")="bad",0,1)=1,G31>0),1,0),IF(G$30=$AS$1,IF(AND(IF(IFERROR(IF(G31=TRUNC(G31),1,"bad"),"bad")="bad",0,1)=1,G31>0),1,0),IF(G$30=$AT$1,1,IF(G$30=$AU$1,IF(IFERROR(HLOOKUP(G31,$AL$4:$AV$4,1,0),"bad")="bad",0,1),0)))))))))))) -> 1 | AL31: =IF(H$30="",1,IF(H$4=99,1,IF(H31="",0,IF(H$30=$AL$1,IF(ISNA(MATCH(H31,$AI$30:$AJ$30,0)),0,1),IF(H$30=$AM$1,IF(IFERROR(H31*1,"bad")="bad",0,1),IF(H$30=$AN$1,IF(IFERROR(IF(H31=TRUNC(H31),1,"bad"),"bad")="bad",0,1),IF(H$30=$AO$1,IF(AND(IF(IFERROR(H31*1,"bad")="bad",0,1)=1,H31>=0),1,0),IF(H$30=$AQ$1,IF(AND(IF(IFERROR(IF(H31=TRUNC(H31),1,"bad"),"bad")="bad",0,1)=1,H31>=0),1,0),IF(H$30=$AR$1,IF(AND(IF(IFERROR(H31*1,"bad")="bad",0,1)=1,H31>0),1,0),IF(H$30=$AS$1,IF(AND(IF(IFERROR(IF(H31=TRUNC(H31),1,"bad"),"bad")="bad",0,1)=1,H31>0),1,0),IF(H$30=$AT$1,1,IF(H$30=$AU$1,IF(IFERROR(HLOOKUP(H31,$AL$4:$AV$4,1,0),"bad")="bad",0,1),0)))))))))))) -> 1 | AM31: =IF(I$30="",1,IF(I$4=99,1,IF(I31="",0,IF(I$30=$AL$1,IF(ISNA(MATCH(I31,$AI$30:$AJ$30,0)),0,1),IF(I$30=$AM$1,IF(IFERROR(I31*1,"bad")="bad",0,1),IF(I$30=$AN$1,IF(IFERROR(IF(I31=TRUNC(I31),1,"bad"),"bad")="bad",0,1),IF(I$30=$AO$1,IF(AND(IF(IFERROR(I31*1,"bad")="bad",0,1)=1,I31>=0),1,0),IF(I$30=$AQ$1,IF(AND(IF(IFERROR(IF(I31=TRUNC(I31),1,"bad"),"bad")="bad",0,1)=1,I31>=0),1,0),IF(I$30=$AR$1,IF(AND(IF(IFERROR(I31*1,"bad")="bad",0,1)=1,I31>0),1,0),IF(I$30=$AS$1,IF(AND(IF(IFERROR(IF(I31=TRUNC(I31),1,"bad"),"bad")="bad",0,1)=1,I31>0),1,0),IF(I$30=$AT$1,1,IF(I$30=$AU$1,IF(IFERROR(HLOOKUP(I31,$AL$4:$AV$4,1,0),"bad")="bad",0,1),0)))))))))))) -> 1 | AN31: =IF(J$30="",1,IF(J$4=99,1,IF(J31="",0,IF(J$30=$AL$1,IF(ISNA(MATCH(J31,$AI$30:$AJ$30,0)),0,1),IF(J$30=$AM$1,IF(IFERROR(J31*1,"bad")="bad",0,1),IF(J$30=$AN$1,IF(IFERROR(IF(J31=TRUNC(J31),1,"bad"),"bad")="bad",0,1),IF(J$30=$AO$1,IF(AND(IF(IFERROR(J31*1,"bad")="bad",0,1)=1,J31>=0),1,0),IF(J$30=$AQ$1,IF(AND(IF(IFERROR(IF(J31=TRUNC(J31),1,"bad"),"bad")="bad",0,1)=1,J31>=0),1,0),IF(J$30=$AR$1,IF(AND(IF(IFERROR(J31*1,"bad")="bad",0,1)=1,J31>0),1,0),IF(J$30=$AS$1,IF(AND(IF(IFERROR(IF(J31=TRUNC(J31),1,"bad"),"bad")="bad",0,1)=1,J31>0),1,0),IF(J$30=$AT$1,1,IF(J$30=$AU$1,IF(IFERROR(HLOOKUP(J31,$AL$4:$AV$4,1,0),"bad")="bad",0,1),0)))))))))))) -> 1 | AO31: =IF(K$30="",1,IF(K$4=99,1,IF(K31="",0,IF(K$30=$AL$1,IF(ISNA(MATCH(K31,$AI$30:$AJ$30,0)),0,1),IF(K$30=$AM$1,IF(IFERROR(K31*1,"bad")="bad",0,1),IF(K$30=$AN$1,IF(IFERROR(IF(K31=TRUNC(K31),1,"bad"),"bad")="bad",0,1),IF(K$30=$AO$1,IF(AND(IF(IFERROR(K31*1,"bad")="bad",0,1)=1,K31>=0),1,0),IF(K$30=$AQ$1,IF(AND(IF(IFERROR(IF(K31=TRUNC(K31),1,"bad"),"bad")="bad",0,1)=1,K31>=0),1,0),IF(K$30=$AR$1,IF(AND(IF(IFERROR(K31*1,"bad")="bad",0,1)=1,K31>0),1,0),IF(K$30=$AS$1,IF(AND(IF(IFERROR(IF(K31=TRUNC(K31),1,"bad"),"bad")="bad",0,1)=1,K31>0),1,0),IF(K$30=$AT$1,1,IF(K$30=$AU$1,IF(IFERROR(HLOOKUP(K31,$AL$4:$AV$4,1,0),"bad")="bad",0,1),0)))))))))))) -> 1 | AP31: =IF(L$30="",1,IF(L$4=99,1,IF(L31="",0,IF(L$30=$AL$1,IF(ISNA(MATCH(L31,$AI$30:$AJ$30,0)),0,1),IF(L$30=$AM$1,IF(IFERROR(L31*1,"bad")="bad",0,1),IF(L$30=$AN$1,IF(IFERROR(IF(L31=TRUNC(L31),1,"bad"),"bad")="bad",0,1),IF(L$30=$AO$1,IF(AND(IF(IFERROR(L31*1,"bad")="bad",0,1)=1,L31>=0),1,0),IF(L$30=$AQ$1,IF(AND(IF(IFERROR(IF(L31=TRUNC(L31),1,"bad"),"bad")="bad",0,1)=1,L31>=0),1,0),IF(L$30=$AR$1,IF(AND(IF(IFERROR(L31*1,"bad")="bad",0,1)=1,L31>0),1,0),IF(L$30=$AS$1,IF(AND(IF(IFERROR(IF(L31=TRUNC(L31),1,"bad"),"bad")="bad",0,1)=1,L31>0),1,0),IF(L$30=$AT$1,1,IF(L$30=$AU$1,IF(IFERROR(HLOOKUP(L31,$AL$4:$AV$4,1,0),"bad")="bad",0,1),0)))))))))))) -> 1 | AQ31: =IF(M$30="",1,IF(M$4=99,1,IF(M31="",0,IF(M$30=$AL$1,IF(ISNA(MATCH(M31,$AI$30:$AJ$30,0)),0,1),IF(M$30=$AM$1,IF(IFERROR(M31*1,"bad")="bad",0,1),IF(M$30=$AN$1,IF(IFERROR(IF(M31=TRUNC(M31),1,"bad"),"bad")="bad",0,1),IF(M$30=$AO$1,IF(AND(IF(IFERROR(M31*1,"bad")="bad",0,1)=1,M31>=0),1,0),IF(M$30=$AQ$1,IF(AND(IF(IFERROR(IF(M31=TRUNC(M31),1,"bad"),"bad")="bad",0,1)=1,M31>=0),1,0),IF(M$30=$AR$1,IF(AND(IF(IFERROR(M31*1,"bad")="bad",0,1)=1,M31>0),1,0),IF(M$30=$AS$1,IF(AND(IF(IFERROR(IF(M31=TRUNC(M31),1,"bad"),"bad")="bad",0,1)=1,M31>0),1,0),IF(M$30=$AT$1,1,IF(M$30=$AU$1,IF(IFERROR(HLOOKUP(M31,$AL$4:$AV$4,1,0),"bad")="bad",0,1),0)))))))))))) -> 1 | AR31: =IF(N$30="",1,IF(N$4=99,1,IF(N31="",0,IF(N$30=$AL$1,IF(ISNA(MATCH(N31,$AI$30:$AJ$30,0)),0,1),IF(N$30=$AM$1,IF(IFERROR(N31*1,"bad")="bad",0,1),IF(N$30=$AN$1,IF(IFERROR(IF(N31=TRUNC(N31),1,"bad"),"bad")="bad",0,1),IF(N$30=$AO$1,IF(AND(IF(IFERROR(N31*1,"bad")="bad",0,1)=1,N31>=0),1,0),IF(N$30=$AQ$1,IF(AND(IF(IFERROR(IF(N31=TRUNC(N31),1,"bad"),"bad")="bad",0,1)=1,N31>=0),1,0),IF(N$30=$AR$1,IF(AND(IF(IFERROR(N31*1,"bad")="bad",0,1)=1,N31>0),1,0),IF(N$30=$AS$1,IF(AND(IF(IFERROR(IF(N31=TRUNC(N31),1,"bad"),"bad")="bad",0,1)=1,N31>0),1,0),IF(N$30=$AT$1,1,IF(N$30=$AU$1,IF(IFERROR(HLOOKUP(N31,$AL$4:$AV$4,1,0),"bad")="bad",0,1),0)))))))))))) -> 1 | AS31: =IF(P$30="",1,IF(P$4=99,1,IF(P31="",0,IF(P$30=$AL$1,IF(ISNA(MATCH(P31,$AI$30:$AJ$30,0)),0,1),IF(P$30=$AM$1,IF(IFERROR(P31*1,"bad")="bad",0,1),IF(P$30=$AN$1,IF(IFERROR(IF(P31=TRUNC(P31),1,"bad"),"bad")="bad",0,1),IF(P$30=$AO$1,IF(AND(IF(IFERROR(P31*1,"bad")="bad",0,1)=1,P31>=0),1,0),IF(P$30=$AQ$1,IF(AND(IF(IFERROR(IF(P31=TRUNC(P31),1,"bad"),"bad")="bad",0,1)=1,P31>=0),1,0),IF(P$30=$AR$1,IF(AND(IF(IFERROR(P31*1,"bad")="bad",0,1)=1,P31>0),1,0),IF(P$30=$AS$1,IF(AND(IF(IFERROR(IF(P31=TRUNC(P31),1,"bad"),"bad")="bad",0,1)=1,P31>0),1,0),IF(P$30=$AT$1,1,IF(P$30=$AU$1,IF(IFERROR(HLOOKUP(P31,$AL$4:$AV$4,1,0),"bad")="bad",0,1),0)))))))))))) -> 1 | AT31: =IF(Q$30="",1,IF(Q$4=99,1,IF(Q31="",0,IF(Q$30=$AL$1,IF(ISNA(MATCH(Q31,$AI$30:$AJ$30,0)),0,1),IF(Q$30=$AM$1,IF(IFERROR(Q31*1,"bad")="bad",0,1),IF(Q$30=$AN$1,IF(IFERROR(IF(Q31=TRUNC(Q31),1,"bad"),"bad")="bad",0,1),IF(Q$30=$AO$1,IF(AND(IF(IFERROR(Q31*1,"bad")="bad",0,1)=1,Q31>=0),1,0),IF(Q$30=$AQ$1,IF(AND(IF(IFERROR(IF(Q31=TRUNC(Q31),1,"bad"),"bad")="bad",0,1)=1,Q31>=0),1,0),IF(Q$30=$AR$1,IF(AND(IF(IFERROR(Q31*1,"bad")="bad",0,1)=1,Q31>0),1,0),IF(Q$30=$AS$1,IF(AND(IF(IFERROR(IF(Q31=TRUNC(Q31),1,"bad"),"bad")="bad",0,1)=1,Q31>0),1,0),IF(Q$30=$AT$1,1,IF(Q$30=$AU$1,IF(IFERROR(HLOOKUP(Q31,$AL$4:$AV$4,1,0),"bad")="bad",0,1),0)))))))))))) -> 1 | AU31: =IF(R$30="",1,IF(R$4=99,1,IF(R31="",0,IF(R$30=$AL$1,IF(ISNA(MATCH(R31,$AI$30:$AJ$30,0)),0,1),IF(R$30=$AM$1,IF(IFERROR(R31*1,"bad")="bad",0,1),IF(R$30=$AN$1,IF(IFERROR(IF(R31=TRUNC(R31),1,"bad"),"bad")="bad",0,1),IF(R$30=$AO$1,IF(AND(IF(IFERROR(R31*1,"bad")="bad",0,1)=1,R31>=0),1,0),IF(R$30=$AQ$1,IF(AND(IF(IFERROR(IF(R31=TRUNC(R31),1,"bad"),"bad")="bad",0,1)=1,R31>=0),1,0),IF(R$30=$AR$1,IF(AND(IF(IFERROR(R31*1,"bad")="bad",0,1)=1,R31>0),1,0),IF(R$30=$AS$1,IF(AND(IF(IFERROR(IF(R31=TRUNC(R31),1,"bad"),"bad")="bad",0,1)=1,R31>0),1,0),IF(R$30=$AT$1,1,IF(R$30=$AU$1,IF(IFERROR(HLOOKUP(R31,$AL$4:$AV$4,1,0),"bad")="bad",0,1),0)))))))))))) -> 1 | AV31: =IF(S$30="",1,IF(S$4=99,1,IF(S31="",0,IF(S$30=$AL$1,IF(ISNA(MATCH(S31,$AI$30:$AJ$30,0)),0,1),IF(S$30=$AM$1,IF(IFERROR(S31*1,"bad")="bad",0,1),IF(S$30=$AN$1,IF(IFERROR(IF(S31=TRUNC(S31),1,"bad"),"bad")="bad",0,1),IF(S$30=$AO$1,IF(AND(IF(IFERROR(S31*1,"bad")="bad",0,1)=1,S31>=0),1,0),IF(S$30=$AQ$1,IF(AND(IF(IFERROR(IF(S31=TRUNC(S31),1,"bad"),"bad")="bad",0,1)=1,S31>=0),1,0),IF(S$30=$AR$1,IF(AND(IF(IFERROR(S31*1,"bad")="bad",0,1)=1,S31>0),1,0),IF(S$30=$AS$1,IF(AND(IF(IFERROR(IF(S31=TRUNC(S31),1,"bad"),"bad")="bad",0,1)=1,S31>0),1,0),IF(S$30=$AT$1,1,IF(S$30=$AU$1,IF(IFERROR(HLOOKUP(S31,$AL$4:$AV$4,1,0),"bad")="bad",0,1),0)))))))))))) -> 1 | AW31: =IF(T$30="",1,IF(T$4=99,1,IF(T31="",0,IF(T$30=$AL$1,IF(ISNA(MATCH(T31,$AI$30:$AJ$30,0)),0,1),IF(T$30=$AM$1,IF(IFERROR(T31*1,"bad")="bad",0,1),IF(T$30=$AN$1,IF(IFERROR(IF(T31=TRUNC(T31),1,"bad"),"bad")="bad",0,1),IF(T$30=$AO$1,IF(AND(IF(IFERROR(T31*1,"bad")="bad",0,1)=1,T31>=0),1,0),IF(T$30=$AQ$1,IF(AND(IF(IFERROR(IF(T31=TRUNC(T31),1,"bad"),"bad")="bad",0,1)=1,T31>=0),1,0),IF(T$30=$AR$1,IF(AND(IF(IFERROR(T31*1,"bad")="bad",0,1)=1,T31>0),1,0),IF(T$30=$AS$1,IF(AND(IF(IFERROR(IF(T31=TRUNC(T31),1,"bad"),"bad")="bad",0,1)=1,T31>0),1,0),IF(T$30=$AT$1,1,IF(T$30=$AU$1,IF(IFERROR(HLOOKUP(T31,$AL$4:$AV$4,1,0),"bad")="bad",0,1),0)))))))))))) -> 1 | AX31: =IF(U$30="",1,IF(U$4=99,1,IF(U31="",0,IF(U$30=$AL$1,IF(ISNA(MATCH(U31,$AI$30:$AJ$30,0)),0,1),IF(U$30=$AM$1,IF(IFERROR(U31*1,"bad")="bad",0,1),IF(U$30=$AN$1,IF(IFERROR(IF(U31=TRUNC(U31),1,"bad"),"bad")="bad",0,1),IF(U$30=$AO$1,IF(AND(IF(IFERROR(U31*1,"bad")="bad",0,1)=1,U31>=0),1,0),IF(U$30=$AQ$1,IF(AND(IF(IFERROR(IF(U31=TRUNC(U31),1,"bad"),"bad")="bad",0,1)=1,U31>=0),1,0),IF(U$30=$AR$1,IF(AND(IF(IFERROR(U31*1,"bad")="bad",0,1)=1,U31>0),1,0),IF(U$30=$AS$1,IF(AND(IF(IFERROR(IF(U31=TRUNC(U31),1,"bad"),"bad")="bad",0,1)=1,U31>0),1,0),IF(U$30=$AT$1,1,IF(U$30=$AU$1,IF(IFERROR(HLOOKUP(U31,$AL$4:$AV$4,1,0),"bad")="bad",0,1),0)))))))))))) -> 1 | AY31: =IF(V$30="",1,IF(V$4=99,1,IF(V31="",0,IF(V$30=$AL$1,IF(ISNA(MATCH(V31,$AI$30:$AJ$30,0)),0,1),IF(V$30=$AM$1,IF(IFERROR(V31*1,"bad")="bad",0,1),IF(V$30=$AN$1,IF(IFERROR(IF(V31=TRUNC(V31),1,"bad"),"bad")="bad",0,1),IF(V$30=$AO$1,IF(AND(IF(IFERROR(V31*1,"bad")="bad",0,1)=1,V31>=0),1,0),IF(V$30=$AQ$1,IF(AND(IF(IFERROR(IF(V31=TRUNC(V31),1,"bad"),"bad")="bad",0,1)=1,V31>=0),1,0),IF(V$30=$AR$1,IF(AND(IF(IFERROR(V31*1,"bad")="bad",0,1)=1,V31>0),1,0),IF(V$30=$AS$1,IF(AND(IF(IFERROR(IF(V31=TRUNC(V31),1,"bad"),"bad")="bad",0,1)=1,V31>0),1,0),IF(V$30=$AT$1,1,IF(V$30=$AU$1,IF(IFERROR(HLOOKUP(V31,$AL$4:$AV$4,1,0),"bad")="bad",0,1),0)))))))))))) -> 1 | AZ31: =IF(W$30="",1,IF(W$4=99,1,IF(W31="",0,IF(W$30=$AL$1,IF(ISNA(MATCH(W31,$AI$30:$AJ$30,0)),0,1),IF(W$30=$AM$1,IF(IFERROR(W31*1,"bad")="bad",0,1),IF(W$30=$AN$1,IF(IFERROR(IF(W31=TRUNC(W31),1,"bad"),"bad")="bad",0,1),IF(W$30=$AO$1,IF(AND(IF(IFERROR(W31*1,"bad")="bad",0,1)=1,W31>=0),1,0),IF(W$30=$AQ$1,IF(AND(IF(IFERROR(IF(W31=TRUNC(W31),1,"bad"),"bad")="bad",0,1)=1,W31>=0),1,0),IF(W$30=$AR$1,IF(AND(IF(IFERROR(W31*1,"bad")="bad",0,1)=1,W31>0),1,0),IF(W$30=$AS$1,IF(AND(IF(IFERROR(IF(W31=TRUNC(W31),1,"bad"),"bad")="bad",0,1)=1,W31>0),1,0),IF(W$30=$AT$1,1,IF(W$30=$AU$1,IF(IFERROR(HLOOKUP(W31,$AL$4:$AV$4,1,0),"bad")="bad",0,1),0)))))))))))) -> 1 | ... BJ31: =IF(AG$30="",1,IF(AG$4=99,1,IF(AG31="",0,IF(AG$30=$AL$1,IF(ISNA(MATCH(AG31,$AI$30:$AJ$30,0)),0,1),IF(AG$30=$AM$1,IF(IFERROR(AG31*1,"bad")="bad",0,1),IF(AG$30=$AN$1,IF(IFERROR(IF(AG31=TRUNC(AG31),1,"bad"),"bad")="bad",0,1),IF(AG$30=$AO$1,IF(AND(IF(IFERROR(AG31*1,"bad")="bad",0,1)=1,AG31>=0),1,0),IF(AG$30=$AQ$1,IF(AND(IF(IFERROR(IF(AG31=TRUNC(AG31),1,"bad"),"bad")="bad",0,1)=1,AG31>=0),1,0),IF(AG$30=$AR$1,IF(AND(IF(IFERROR(AG31*1,"bad")="bad",0,1)=1,AG31>0),1,0),IF(AG$30=$AS$1,IF(AND(IF(IFERROR(IF(AG31=TRUNC(AG31),1,"bad"),"bad")="bad",0,1)=1,AG31>0),1,0),IF(AG$30=$AT$1,1,IF(AG$30=$AU$1,IF(IFERROR(HLOOKUP(AG31,$AL$4:$AV$4,1,0),"bad")="bad",0,1),0)))))))))))) -> 0 | BM31: =IF($F31="","",BM$30) -> 1 | BN31: =IF($F31="","",BN$30) -> 2 | BO31: =IF($F31="","",BO$30) -> 3 | BP31: =IF($F31="","",BP$30) -> 4 | BQ31: =IF($F31="","",BQ$30) -> 5 | BR31: =IF($F31="","",BR$30) -> 6 | BS31: =IF($F31="","",BS$30) -> 7 | BT31: =IF($F31="","",BT$30) -> 8 | ... BV31: =IF($F31="","",BV$30) -> 10
B32: =IF(F32="","",ROW()-30) -> 2 | C32: 510662190 | D32: 1001844093 | E32: כנס חבורות זמר | F32: מרכז קהילתי בטירת כרמל עש פרסט בע"מ | G32: 1 | H32: 1 | I32: 1 | J32: 1 | K32: 1 | L32: 0 | M32: 0 | N32: 0 | O32: =IF(D32="","",IF(L32="",$AI$1,IF(OR(SUM(L32:N32)=3,L32=0),1,0))) -> 1 | P32: 1 | Q32: 1 | R32: 1 | T32: 1 | U32: 1 | V32: 221 | W32: 231103 | X32: 1 | Y32: 1 | Z32: 1 | AA32: 1 | AB32: 1 | AC32: 1 | AD32: 1 | AF32: {=IF($D32="","",IF(AE32=1,1,IF(AH32<>1,$AI$1,IF(SUMPRODUCT(--(G32:AD32>=$G$6:$AD$6)*($G$6:$AD$6<>"")*($G$4:$AD$4=1))=COUNTIF($G$4:$AD$4,1),1,0))))} -> 1 | AH32: =IF(SUM(AK32:BI32)=COUNT(AK32:BI32),1,0) -> 1 | AI32: =IF($F32="","",AI$30) -> 0 | AJ32: =IF($F32="","",AJ$30) -> 1 | AK32: =IF(G$30="",1,IF(G$4=99,1,IF(G32="",0,IF(G$30=$AL$1,IF(ISNA(MATCH(G32,$AI$30:$AJ$30,0)),0,1),IF(G$30=$AM$1,IF(IFERROR(G32*1,"bad")="bad",0,1),IF(G$30=$AN$1,IF(IFERROR(IF(G32=TRUNC(G32),1,"bad"),"bad")="bad",0,1),IF(G$30=$AO$1,IF(AND(IF(IFERROR(G32*1,"bad")="bad",0,1)=1,G32>=0),1,0),IF(G$30=$AQ$1,IF(AND(IF(IFERROR(IF(G32=TRUNC(G32),1,"bad"),"bad")="bad",0,1)=1,G32>=0),1,0),IF(G$30=$AR$1,IF(AND(IF(IFERROR(G32*1,"bad")="bad",0,1)=1,G32>0),1,0),IF(G$30=$AS$1,IF(AND(IF(IFERROR(IF(G32=TRUNC(G32),1,"bad"),"bad")="bad",0,1)=1,G32>0),1,0),IF(G$30=$AT$1,1,IF(G$30=$AU$1,IF(IFERROR(HLOOKUP(G32,$AL$4:$AV$4,1,0),"bad")="bad",0,1),0)))))))))))) -> 1 | AL32: =IF(H$30="",1,IF(H$4=99,1,IF(H32="",0,IF(H$30=$AL$1,IF(ISNA(MATCH(H32,$AI$30:$AJ$30,0)),0,1),IF(H$30=$AM$1,IF(IFERROR(H32*1,"bad")="bad",0,1),IF(H$30=$AN$1,IF(IFERROR(IF(H32=TRUNC(H32),1,"bad"),"bad")="bad",0,1),IF(H$30=$AO$1,IF(AND(IF(IFERROR(H32*1,"bad")="bad",0,1)=1,H32>=0),1,0),IF(H$30=$AQ$1,IF(AND(IF(IFERROR(IF(H32=TRUNC(H32),1,"bad"),"bad")="bad",0,1)=1,H32>=0),1,0),IF(H$30=$AR$1,IF(AND(IF(IFERROR(H32*1,"bad")="bad",0,1)=1,H32>0),1,0),IF(H$30=$AS$1,IF(AND(IF(IFERROR(IF(H32=TRUNC(H32),1,"bad"),"bad")="bad",0,1)=1,H32>0),1,0),IF(H$30=$AT$1,1,IF(H$30=$AU$1,IF(IFERROR(HLOOKUP(H32,$AL$4:$AV$4,1,0),"bad")="bad",0,1),0)))))))))))) -> 1 | AM32: =IF(I$30="",1,IF(I$4=99,1,IF(I32="",0,IF(I$30=$AL$1,IF(ISNA(MATCH(I32,$AI$30:$AJ$30,0)),0,1),IF(I$30=$AM$1,IF(IFERROR(I32*1,"bad")="bad",0,1),IF(I$30=$AN$1,IF(IFERROR(IF(I32=TRUNC(I32),1,"bad"),"bad")="bad",0,1),IF(I$30=$AO$1,IF(AND(IF(IFERROR(I32*1,"bad")="bad",0,1)=1,I32>=0),1,0),IF(I$30=$AQ$1,IF(AND(IF(IFERROR(IF(I32=TRUNC(I32),1,"bad"),"bad")="bad",0,1)=1,I32>=0),1,0),IF(I$30=$AR$1,IF(AND(IF(IFERROR(I32*1,"bad")="bad",0,1)=1,I32>0),1,0),IF(I$30=$AS$1,IF(AND(IF(IFERROR(IF(I32=TRUNC(I32),1,"bad"),"bad")="bad",0,1)=1,I32>0),1,0),IF(I$30=$AT$1,1,IF(I$30=$AU$1,IF(IFERROR(HLOOKUP(I32,$AL$4:$AV$4,1,0),"bad")="bad",0,1),0)))))))))))) -> 1 | AN32: =IF(J$30="",1,IF(J$4=99,1,IF(J32="",0,IF(J$30=$AL$1,IF(ISNA(MATCH(J32,$AI$30:$AJ$30,0)),0,1),IF(J$30=$AM$1,IF(IFERROR(J32*1,"bad")="bad",0,1),IF(J$30=$AN$1,IF(IFERROR(IF(J32=TRUNC(J32),1,"bad"),"bad")="bad",0,1),IF(J$30=$AO$1,IF(AND(IF(IFERROR(J32*1,"bad")="bad",0,1)=1,J32>=0),1,0),IF(J$30=$AQ$1,IF(AND(IF(IFERROR(IF(J32=TRUNC(J32),1,"bad"),"bad")="bad",0,1)=1,J32>=0),1,0),IF(J$30=$AR$1,IF(AND(IF(IFERROR(J32*1,"bad")="bad",0,1)=1,J32>0),1,0),IF(J$30=$AS$1,IF(AND(IF(IFERROR(IF(J32=TRUNC(J32),1,"bad"),"bad")="bad",0,1)=1,J32>0),1,0),IF(J$30=$AT$1,1,IF(J$30=$AU$1,IF(IFERROR(HLOOKUP(J32,$AL$4:$AV$4,1,0),"bad")="bad",0,1),0)))))))))))) -> 1 | AO32: =IF(K$30="",1,IF(K$4=99,1,IF(K32="",0,IF(K$30=$AL$1,IF(ISNA(MATCH(K32,$AI$30:$AJ$30,0)),0,1),IF(K$30=$AM$1,IF(IFERROR(K32*1,"bad")="bad",0,1),IF(K$30=$AN$1,IF(IFERROR(IF(K32=TRUNC(K32),1,"bad"),"bad")="bad",0,1),IF(K$30=$AO$1,IF(AND(IF(IFERROR(K32*1,"bad")="bad",0,1)=1,K32>=0),1,0),IF(K$30=$AQ$1,IF(AND(IF(IFERROR(IF(K32=TRUNC(K32),1,"bad"),"bad")="bad",0,1)=1,K32>=0),1,0),IF(K$30=$AR$1,IF(AND(IF(IFERROR(K32*1,"bad")="bad",0,1)=1,K32>0),1,0),IF(K$30=$AS$1,IF(AND(IF(IFERROR(IF(K32=TRUNC(K32),1,"bad"),"bad")="bad",0,1)=1,K32>0),1,0),IF(K$30=$AT$1,1,IF(K$30=$AU$1,IF(IFERROR(HLOOKUP(K32,$AL$4:$AV$4,1,0),"bad")="bad",0,1),0)))))))))))) -> 1 | AP32: =IF(L$30="",1,IF(L$4=99,1,IF(L32="",0,IF(L$30=$AL$1,IF(ISNA(MATCH(L32,$AI$30:$AJ$30,0)),0,1),IF(L$30=$AM$1,IF(IFERROR(L32*1,"bad")="bad",0,1),IF(L$30=$AN$1,IF(IFERROR(IF(L32=TRUNC(L32),1,"bad"),"bad")="bad",0,1),IF(L$30=$AO$1,IF(AND(IF(IFERROR(L32*1,"bad")="bad",0,1)=1,L32>=0),1,0),IF(L$30=$AQ$1,IF(AND(IF(IFERROR(IF(L32=TRUNC(L32),1,"bad"),"bad")="bad",0,1)=1,L32>=0),1,0),IF(L$30=$AR$1,IF(AND(IF(IFERROR(L32*1,"bad")="bad",0,1)=1,L32>0),1,0),IF(L$30=$AS$1,IF(AND(IF(IFERROR(IF(L32=TRUNC(L32),1,"bad"),"bad")="bad",0,1)=1,L32>0),1,0),IF(L$30=$AT$1,1,IF(L$30=$AU$1,IF(IFERROR(HLOOKUP(L32,$AL$4:$AV$4,1,0),"bad")="bad",0,1),0)))))))))))) -> 1 | AQ32: =IF(M$30="",1,IF(M$4=99,1,IF(M32="",0,IF(M$30=$AL$1,IF(ISNA(MATCH(M32,$AI$30:$AJ$30,0)),0,1),IF(M$30=$AM$1,IF(IFERROR(M32*1,"bad")="bad",0,1),IF(M$30=$AN$1,IF(IFERROR(IF(M32=TRUNC(M32),1,"bad"),"bad")="bad",0,1),IF(M$30=$AO$1,IF(AND(IF(IFERROR(M32*1,"bad")="bad",0,1)=1,M32>=0),1,0),IF(M$30=$AQ$1,IF(AND(IF(IFERROR(IF(M32=TRUNC(M32),1,"bad"),"bad")="bad",0,1)=1,M32>=0),1,0),IF(M$30=$AR$1,IF(AND(IF(IFERROR(M32*1,"bad")="bad",0,1)=1,M32>0),1,0),IF(M$30=$AS$1,IF(AND(IF(IFERROR(IF(M32=TRUNC(M32),1,"bad"),"bad")="bad",0,1)=1,M32>0),1,0),IF(M$30=$AT$1,1,IF(M$30=$AU$1,IF(IFERROR(HLOOKUP(M32,$AL$4:$AV$4,1,0),"bad")="bad",0,1),0)))))))))))) -> 1 | AR32: =IF(N$30="",1,IF(N$4=99,1,IF(N32="",0,IF(N$30=$AL$1,IF(ISNA(MATCH(N32,$AI$30:$AJ$30,0)),0,1),IF(N$30=$AM$1,IF(IFERROR(N32*1,"bad")="bad",0,1),IF(N$30=$AN$1,IF(IFERROR(IF(N32=TRUNC(N32),1,"bad"),"bad")="bad",0,1),IF(N$30=$AO$1,IF(AND(IF(IFERROR(N32*1,"bad")="bad",0,1)=1,N32>=0),1,0),IF(N$30=$AQ$1,IF(AND(IF(IFERROR(IF(N32=TRUNC(N32),1,"bad"),"bad")="bad",0,1)=1,N32>=0),1,0),IF(N$30=$AR$1,IF(AND(IF(IFERROR(N32*1,"bad")="bad",0,1)=1,N32>0),1,0),IF(N$30=$AS$1,IF(AND(IF(IFERROR(IF(N32=TRUNC(N32),1,"bad"),"bad")="bad",0,1)=1,N32>0),1,0),IF(N$30=$AT$1,1,IF(N$30=$AU$1,IF(IFERROR(HLOOKUP(N32,$AL$4:$AV$4,1,0),"bad")="bad",0,1),0)))))))))))) -> 1 | AS32: =IF(P$30="",1,IF(P$4=99,1,IF(P32="",0,IF(P$30=$AL$1,IF(ISNA(MATCH(P32,$AI$30:$AJ$30,0)),0,1),IF(P$30=$AM$1,IF(IFERROR(P32*1,"bad")="bad",0,1),IF(P$30=$AN$1,IF(IFERROR(IF(P32=TRUNC(P32),1,"bad"),"bad")="bad",0,1),IF(P$30=$AO$1,IF(AND(IF(IFERROR(P32*1,"bad")="bad",0,1)=1,P32>=0),1,0),IF(P$30=$AQ$1,IF(AND(IF(IFERROR(IF(P32=TRUNC(P32),1,"bad"),"bad")="bad",0,1)=1,P32>=0),1,0),IF(P$30=$AR$1,IF(AND(IF(IFERROR(P32*1,"bad")="bad",0,1)=1,P32>0),1,0),IF(P$30=$AS$1,IF(AND(IF(IFERROR(IF(P32=TRUNC(P32),1,"bad"),"bad")="bad",0,1)=1,P32>0),1,0),IF(P$30=$AT$1,1,IF(P$30=$AU$1,IF(IFERROR(HLOOKUP(P32,$AL$4:$AV$4,1,0),"bad")="bad",0,1),0)))))))))))) -> 1 | AT32: =IF(Q$30="",1,IF(Q$4=99,1,IF(Q32="",0,IF(Q$30=$AL$1,IF(ISNA(MATCH(Q32,$AI$30:$AJ$30,0)),0,1),IF(Q$30=$AM$1,IF(IFERROR(Q32*1,"bad")="bad",0,1),IF(Q$30=$AN$1,IF(IFERROR(IF(Q32=TRUNC(Q32),1,"bad"),"bad")="bad",0,1),IF(Q$30=$AO$1,IF(AND(IF(IFERROR(Q32*1,"bad")="bad",0,1)=1,Q32>=0),1,0),IF(Q$30=$AQ$1,IF(AND(IF(IFERROR(IF(Q32=TRUNC(Q32),1,"bad"),"bad")="bad",0,1)=1,Q32>=0),1,0),IF(Q$30=$AR$1,IF(AND(IF(IFERROR(Q32*1,"bad")="bad",0,1)=1,Q32>0),1,0),IF(Q$30=$AS$1,IF(AND(IF(IFERROR(IF(Q32=TRUNC(Q32),1,"bad"),"bad")="bad",0,1)=1,Q32>0),1,0),IF(Q$30=$AT$1,1,IF(Q$30=$AU$1,IF(IFERROR(HLOOKUP(Q32,$AL$4:$AV$4,1,0),"bad")="bad",0,1),0)))))))))))) -> 1 | AU32: =IF(R$30="",1,IF(R$4=99,1,IF(R32="",0,IF(R$30=$AL$1,IF(ISNA(MATCH(R32,$AI$30:$AJ$30,0)),0,1),IF(R$30=$AM$1,IF(IFERROR(R32*1,"bad")="bad",0,1),IF(R$30=$AN$1,IF(IFERROR(IF(R32=TRUNC(R32),1,"bad"),"bad")="bad",0,1),IF(R$30=$AO$1,IF(AND(IF(IFERROR(R32*1,"bad")="bad",0,1)=1,R32>=0),1,0),IF(R$30=$AQ$1,IF(AND(IF(IFERROR(IF(R32=TRUNC(R32),1,"bad"),"bad")="bad",0,1)=1,R32>=0),1,0),IF(R$30=$AR$1,IF(AND(IF(IFERROR(R32*1,"bad")="bad",0,1)=1,R32>0),1,0),IF(R$30=$AS$1,IF(AND(IF(IFERROR(IF(R32=TRUNC(R32),1,"bad"),"bad")="bad",0,1)=1,R32>0),1,0),IF(R$30=$AT$1,1,IF(R$30=$AU$1,IF(IFERROR(HLOOKUP(R32,$AL$4:$AV$4,1,0),"bad")="bad",0,1),0)))))))))))) -> 1 | AV32: =IF(S$30="",1,IF(S$4=99,1,IF(S32="",0,IF(S$30=$AL$1,IF(ISNA(MATCH(S32,$AI$30:$AJ$30,0)),0,1),IF(S$30=$AM$1,IF(IFERROR(S32*1,"bad")="bad",0,1),IF(S$30=$AN$1,IF(IFERROR(IF(S32=TRUNC(S32),1,"bad"),"bad")="bad",0,1),IF(S$30=$AO$1,IF(AND(IF(IFERROR(S32*1,"bad")="bad",0,1)=1,S32>=0),1,0),IF(S$30=$AQ$1,IF(AND(IF(IFERROR(IF(S32=TRUNC(S32),1,"bad"),"bad")="bad",0,1)=1,S32>=0),1,0),IF(S$30=$AR$1,IF(AND(IF(IFERROR(S32*1,"bad")="bad",0,1)=1,S32>0),1,0),IF(S$30=$AS$1,IF(AND(IF(IFERROR(IF(S32=TRUNC(S32),1,"bad"),"bad")="bad",0,1)=1,S32>0),1,0),IF(S$30=$AT$1,1,IF(S$30=$AU$1,IF(IFERROR(HLOOKUP(S32,$AL$4:$AV$4,1,0),"bad")="bad",0,1),0)))))))))))) -> 1 | AW32: =IF(T$30="",1,IF(T$4=99,1,IF(T32="",0,IF(T$30=$AL$1,IF(ISNA(MATCH(T32,$AI$30:$AJ$30,0)),0,1),IF(T$30=$AM$1,IF(IFERROR(T32*1,"bad")="bad",0,1),IF(T$30=$AN$1,IF(IFERROR(IF(T32=TRUNC(T32),1,"bad"),"bad")="bad",0,1),IF(T$30=$AO$1,IF(AND(IF(IFERROR(T32*1,"bad")="bad",0,1)=1,T32>=0),1,0),IF(T$30=$AQ$1,IF(AND(IF(IFERROR(IF(T32=TRUNC(T32),1,"bad"),"bad")="bad",0,1)=1,T32>=0),1,0),IF(T$30=$AR$1,IF(AND(IF(IFERROR(T32*1,"bad")="bad",0,1)=1,T32>0),1,0),IF(T$30=$AS$1,IF(AND(IF(IFERROR(IF(T32=TRUNC(T32),1,"bad"),"bad")="bad",0,1)=1,T32>0),1,0),IF(T$30=$AT$1,1,IF(T$30=$AU$1,IF(IFERROR(HLOOKUP(T32,$AL$4:$AV$4,1,0),"bad")="bad",0,1),0)))))))))))) -> 1 | AX32: =IF(U$30="",1,IF(U$4=99,1,IF(U32="",0,IF(U$30=$AL$1,IF(ISNA(MATCH(U32,$AI$30:$AJ$30,0)),0,1),IF(U$30=$AM$1,IF(IFERROR(U32*1,"bad")="bad",0,1),IF(U$30=$AN$1,IF(IFERROR(IF(U32=TRUNC(U32),1,"bad"),"bad")="bad",0,1),IF(U$30=$AO$1,IF(AND(IF(IFERROR(U32*1,"bad")="bad",0,1)=1,U32>=0),1,0),IF(U$30=$AQ$1,IF(AND(IF(IFERROR(IF(U32=TRUNC(U32),1,"bad"),"bad")="bad",0,1)=1,U32>=0),1,0),IF(U$30=$AR$1,IF(AND(IF(IFERROR(U32*1,"bad")="bad",0,1)=1,U32>0),1,0),IF(U$30=$AS$1,IF(AND(IF(IFERROR(IF(U32=TRUNC(U32),1,"bad"),"bad")="bad",0,1)=1,U32>0),1,0),IF(U$30=$AT$1,1,IF(U$30=$AU$1,IF(IFERROR(HLOOKUP(U32,$AL$4:$AV$4,1,0),"bad")="bad",0,1),0)))))))))))) -> 1 | AY32: =IF(V$30="",1,IF(V$4=99,1,IF(V32="",0,IF(V$30=$AL$1,IF(ISNA(MATCH(V32,$AI$30:$AJ$30,0)),0,1),IF(V$30=$AM$1,IF(IFERROR(V32*1,"bad")="bad",0,1),IF(V$30=$AN$1,IF(IFERROR(IF(V32=TRUNC(V32),1,"bad"),"bad")="bad",0,1),IF(V$30=$AO$1,IF(AND(IF(IFERROR(V32*1,"bad")="bad",0,1)=1,V32>=0),1,0),IF(V$30=$AQ$1,IF(AND(IF(IFERROR(IF(V32=TRUNC(V32),1,"bad"),"bad")="bad",0,1)=1,V32>=0),1,0),IF(V$30=$AR$1,IF(AND(IF(IFERROR(V32*1,"bad")="bad",0,1)=1,V32>0),1,0),IF(V$30=$AS$1,IF(AND(IF(IFERROR(IF(V32=TRUNC(V32),1,"bad"),"bad")="bad",0,1)=1,V32>0),1,0),IF(V$30=$AT$1,1,IF(V$30=$AU$1,IF(IFERROR(HLOOKUP(V32,$AL$4:$AV$4,1,0),"bad")="bad",0,1),0)))))))))))) -> 1 | AZ32: =IF(W$30="",1,IF(W$4=99,1,IF(W32="",0,IF(W$30=$AL$1,IF(ISNA(MATCH(W32,$AI$30:$AJ$30,0)),0,1),IF(W$30=$AM$1,IF(IFERROR(W32*1,"bad")="bad",0,1),IF(W$30=$AN$1,IF(IFERROR(IF(W32=TRUNC(W32),1,"bad"),"bad")="bad",0,1),IF(W$30=$AO$1,IF(AND(IF(IFERROR(W32*1,"bad")="bad",0,1)=1,W32>=0),1,0),IF(W$30=$AQ$1,IF(AND(IF(IFERROR(IF(W32=TRUNC(W32),1,"bad"),"bad")="bad",0,1)=1,W32>=0),1,0),IF(W$30=$AR$1,IF(AND(IF(IFERROR(W32*1,"bad")="bad",0,1)=1,W32>0),1,0),IF(W$30=$AS$1,IF(AND(IF(IFERROR(IF(W32=TRUNC(W32),1,"bad"),"bad")="bad",0,1)=1,W32>0),1,0),IF(W$30=$AT$1,1,IF(W$30=$AU$1,IF(IFERROR(HLOOKUP(W32,$AL$4:$AV$4,1,0),"bad")="bad",0,1),0)))))))))))) -> 1 | ... BJ32: =IF(AG$30="",1,IF(AG$4=99,1,IF(AG32="",0,IF(AG$30=$AL$1,IF(ISNA(MATCH(AG32,$AI$30:$AJ$30,0)),0,1),IF(AG$30=$AM$1,IF(IFERROR(AG32*1,"bad")="bad",0,1),IF(AG$30=$AN$1,IF(IFERROR(IF(AG32=TRUNC(AG32),1,"bad"),"bad")="bad",0,1),IF(AG$30=$AO$1,IF(AND(IF(IFERROR(AG32*1,"bad")="bad",0,1)=1,AG32>=0),1,0),IF(AG$30=$AQ$1,IF(AND(IF(IFERROR(IF(AG32=TRUNC(AG32),1,"bad"),"bad")="bad",0,1)=1,AG32>=0),1,0),IF(AG$30=$AR$1,IF(AND(IF(IFERROR(AG32*1,"bad")="bad",0,1)=1,AG32>0),1,0),IF(AG$30=$AS$1,IF(AND(IF(IFERROR(IF(AG32=TRUNC(AG32),1,"bad"),"bad")="bad",0,1)=1,AG32>0),1,0),IF(AG$30=$AT$1,1,IF(AG$30=$AU$1,IF(IFERROR(HLOOKUP(AG32,$AL$4:$AV$4,1,0),"bad")="bad",0,1),0)))))))))))) -> 0 | BM32: =IF($F32="","",BM$30) -> 1 | BN32: =IF($F32="","",BN$30) -> 2 | BO32: =IF($F32="","",BO$30) -> 3 | BP32: =IF($F32="","",BP$30) -> 4 | BQ32: =IF($F32="","",BQ$30) -> 5 | BR32: =IF($F32="","",BR$30) -> 6 | BS32: =IF($F32="","",BS$30) -> 7 | BT32: =IF($F32="","",BT$30) -> 8 | ... BV32: =IF($F32="","",BV$30) -> 10
B33: =IF(F33="","",ROW()-30) -> 3 | C33: 580350841 | D33: 1001844060 | E33: תמיכה בפעילויות עמותת מיל"ה ברחבי הארץ | F33: מרכז ישראלי למקהלות ולחבורות זמר (ע | G33: 1 | H33: 1 | I33: 1 | J33: 1 | K33: 1 | L33: 0 | M33: 0 | N33: 0 | O33: =IF(D33="","",IF(L33="",$AI$1,IF(OR(SUM(L33:N33)=3,L33=0),1,0))) -> 1 | P33: 1 | Q33: 1 | R33: 1 | T33: 1 | U33: 1 | V33: 2128 | W33: 1774230 | X33: 1 | Y33: 1 | Z33: 1 | AA33: 1 | AB33: 1 | AC33: 1 | AD33: 1 | AF33: {=IF($D33="","",IF(AE33=1,1,IF(AH33<>1,$AI$1,IF(SUMPRODUCT(--(G33:AD33>=$G$6:$AD$6)*($G$6:$AD$6<>"")*($G$4:$AD$4=1))=COUNTIF($G$4:$AD$4,1),1,0))))} -> 1 | AH33: =IF(SUM(AK33:BI33)=COUNT(AK33:BI33),1,0) -> 1 | AI33: =IF($F33="","",AI$30) -> 0 | AJ33: =IF($F33="","",AJ$30) -> 1 | AK33: =IF(G$30="",1,IF(G$4=99,1,IF(G33="",0,IF(G$30=$AL$1,IF(ISNA(MATCH(G33,$AI$30:$AJ$30,0)),0,1),IF(G$30=$AM$1,IF(IFERROR(G33*1,"bad")="bad",0,1),IF(G$30=$AN$1,IF(IFERROR(IF(G33=TRUNC(G33),1,"bad"),"bad")="bad",0,1),IF(G$30=$AO$1,IF(AND(IF(IFERROR(G33*1,"bad")="bad",0,1)=1,G33>=0),1,0),IF(G$30=$AQ$1,IF(AND(IF(IFERROR(IF(G33=TRUNC(G33),1,"bad"),"bad")="bad",0,1)=1,G33>=0),1,0),IF(G$30=$AR$1,IF(AND(IF(IFERROR(G33*1,"bad")="bad",0,1)=1,G33>0),1,0),IF(G$30=$AS$1,IF(AND(IF(IFERROR(IF(G33=TRUNC(G33),1,"bad"),"bad")="bad",0,1)=1,G33>0),1,0),IF(G$30=$AT$1,1,IF(G$30=$AU$1,IF(IFERROR(HLOOKUP(G33,$AL$4:$AV$4,1,0),"bad")="bad",0,1),0)))))))))))) -> 1 | AL33: =IF(H$30="",1,IF(H$4=99,1,IF(H33="",0,IF(H$30=$AL$1,IF(ISNA(MATCH(H33,$AI$30:$AJ$30,0)),0,1),IF(H$30=$AM$1,IF(IFERROR(H33*1,"bad")="bad",0,1),IF(H$30=$AN$1,IF(IFERROR(IF(H33=TRUNC(H33),1,"bad"),"bad")="bad",0,1),IF(H$30=$AO$1,IF(AND(IF(IFERROR(H33*1,"bad")="bad",0,1)=1,H33>=0),1,0),IF(H$30=$AQ$1,IF(AND(IF(IFERROR(IF(H33=TRUNC(H33),1,"bad"),"bad")="bad",0,1)=1,H33>=0),1,0),IF(H$30=$AR$1,IF(AND(IF(IFERROR(H33*1,"bad")="bad",0,1)=1,H33>0),1,0),IF(H$30=$AS$1,IF(AND(IF(IFERROR(IF(H33=TRUNC(H33),1,"bad"),"bad")="bad",0,1)=1,H33>0),1,0),IF(H$30=$AT$1,1,IF(H$30=$AU$1,IF(IFERROR(HLOOKUP(H33,$AL$4:$AV$4,1,0),"bad")="bad",0,1),0)))))))))))) -> 1 | AM33: =IF(I$30="",1,IF(I$4=99,1,IF(I33="",0,IF(I$30=$AL$1,IF(ISNA(MATCH(I33,$AI$30:$AJ$30,0)),0,1),IF(I$30=$AM$1,IF(IFERROR(I33*1,"bad")="bad",0,1),IF(I$30=$AN$1,IF(IFERROR(IF(I33=TRUNC(I33),1,"bad"),"bad")="bad",0,1),IF(I$30=$AO$1,IF(AND(IF(IFERROR(I33*1,"bad")="bad",0,1)=1,I33>=0),1,0),IF(I$30=$AQ$1,IF(AND(IF(IFERROR(IF(I33=TRUNC(I33),1,"bad"),"bad")="bad",0,1)=1,I33>=0),1,0),IF(I$30=$AR$1,IF(AND(IF(IFERROR(I33*1,"bad")="bad",0,1)=1,I33>0),1,0),IF(I$30=$AS$1,IF(AND(IF(IFERROR(IF(I33=TRUNC(I33),1,"bad"),"bad")="bad",0,1)=1,I33>0),1,0),IF(I$30=$AT$1,1,IF(I$30=$AU$1,IF(IFERROR(HLOOKUP(I33,$AL$4:$AV$4,1,0),"bad")="bad",0,1),0)))))))))))) -> 1 | AN33: =IF(J$30="",1,IF(J$4=99,1,IF(J33="",0,IF(J$30=$AL$1,IF(ISNA(MATCH(J33,$AI$30:$AJ$30,0)),0,1),IF(J$30=$AM$1,IF(IFERROR(J33*1,"bad")="bad",0,1),IF(J$30=$AN$1,IF(IFERROR(IF(J33=TRUNC(J33),1,"bad"),"bad")="bad",0,1),IF(J$30=$AO$1,IF(AND(IF(IFERROR(J33*1,"bad")="bad",0,1)=1,J33>=0),1,0),IF(J$30=$AQ$1,IF(AND(IF(IFERROR(IF(J33=TRUNC(J33),1,"bad"),"bad")="bad",0,1)=1,J33>=0),1,0),IF(J$30=$AR$1,IF(AND(IF(IFERROR(J33*1,"bad")="bad",0,1)=1,J33>0),1,0),IF(J$30=$AS$1,IF(AND(IF(IFERROR(IF(J33=TRUNC(J33),1,"bad"),"bad")="bad",0,1)=1,J33>0),1,0),IF(J$30=$AT$1,1,IF(J$30=$AU$1,IF(IFERROR(HLOOKUP(J33,$AL$4:$AV$4,1,0),"bad")="bad",0,1),0)))))))))))) -> 1 | AO33: =IF(K$30="",1,IF(K$4=99,1,IF(K33="",0,IF(K$30=$AL$1,IF(ISNA(MATCH(K33,$AI$30:$AJ$30,0)),0,1),IF(K$30=$AM$1,IF(IFERROR(K33*1,"bad")="bad",0,1),IF(K$30=$AN$1,IF(IFERROR(IF(K33=TRUNC(K33),1,"bad"),"bad")="bad",0,1),IF(K$30=$AO$1,IF(AND(IF(IFERROR(K33*1,"bad")="bad",0,1)=1,K33>=0),1,0),IF(K$30=$AQ$1,IF(AND(IF(IFERROR(IF(K33=TRUNC(K33),1,"bad"),"bad")="bad",0,1)=1,K33>=0),1,0),IF(K$30=$AR$1,IF(AND(IF(IFERROR(K33*1,"bad")="bad",0,1)=1,K33>0),1,0),IF(K$30=$AS$1,IF(AND(IF(IFERROR(IF(K33=TRUNC(K33),1,"bad"),"bad")="bad",0,1)=1,K33>0),1,0),IF(K$30=$AT$1,1,IF(K$30=$AU$1,IF(IFERROR(HLOOKUP(K33,$AL$4:$AV$4,1,0),"bad")="bad",0,1),0)))))))))))) -> 1 | AP33: =IF(L$30="",1,IF(L$4=99,1,IF(L33="",0,IF(L$30=$AL$1,IF(ISNA(MATCH(L33,$AI$30:$AJ$30,0)),0,1),IF(L$30=$AM$1,IF(IFERROR(L33*1,"bad")="bad",0,1),IF(L$30=$AN$1,IF(IFERROR(IF(L33=TRUNC(L33),1,"bad"),"bad")="bad",0,1),IF(L$30=$AO$1,IF(AND(IF(IFERROR(L33*1,"bad")="bad",0,1)=1,L33>=0),1,0),IF(L$30=$AQ$1,IF(AND(IF(IFERROR(IF(L33=TRUNC(L33),1,"bad"),"bad")="bad",0,1)=1,L33>=0),1,0),IF(L$30=$AR$1,IF(AND(IF(IFERROR(L33*1,"bad")="bad",0,1)=1,L33>0),1,0),IF(L$30=$AS$1,IF(AND(IF(IFERROR(IF(L33=TRUNC(L33),1,"bad"),"bad")="bad",0,1)=1,L33>0),1,0),IF(L$30=$AT$1,1,IF(L$30=$AU$1,IF(IFERROR(HLOOKUP(L33,$AL$4:$AV$4,1,0),"bad")="bad",0,1),0)))))))))))) -> 1 | AQ33: =IF(M$30="",1,IF(M$4=99,1,IF(M33="",0,IF(M$30=$AL$1,IF(ISNA(MATCH(M33,$AI$30:$AJ$30,0)),0,1),IF(M$30=$AM$1,IF(IFERROR(M33*1,"bad")="bad",0,1),IF(M$30=$AN$1,IF(IFERROR(IF(M33=TRUNC(M33),1,"bad"),"bad")="bad",0,1),IF(M$30=$AO$1,IF(AND(IF(IFERROR(M33*1,"bad")="bad",0,1)=1,M33>=0),1,0),IF(M$30=$AQ$1,IF(AND(IF(IFERROR(IF(M33=TRUNC(M33),1,"bad"),"bad")="bad",0,1)=1,M33>=0),1,0),IF(M$30=$AR$1,IF(AND(IF(IFERROR(M33*1,"bad")="bad",0,1)=1,M33>0),1,0),IF(M$30=$AS$1,IF(AND(IF(IFERROR(IF(M33=TRUNC(M33),1,"bad"),"bad")="bad",0,1)=1,M33>0),1,0),IF(M$30=$AT$1,1,IF(M$30=$AU$1,IF(IFERROR(HLOOKUP(M33,$AL$4:$AV$4,1,0),"bad")="bad",0,1),0)))))))))))) -> 1 | AR33: =IF(N$30="",1,IF(N$4=99,1,IF(N33="",0,IF(N$30=$AL$1,IF(ISNA(MATCH(N33,$AI$30:$AJ$30,0)),0,1),IF(N$30=$AM$1,IF(IFERROR(N33*1,"bad")="bad",0,1),IF(N$30=$AN$1,IF(IFERROR(IF(N33=TRUNC(N33),1,"bad"),"bad")="bad",0,1),IF(N$30=$AO$1,IF(AND(IF(IFERROR(N33*1,"bad")="bad",0,1)=1,N33>=0),1,0),IF(N$30=$AQ$1,IF(AND(IF(IFERROR(IF(N33=TRUNC(N33),1,"bad"),"bad")="bad",0,1)=1,N33>=0),1,0),IF(N$30=$AR$1,IF(AND(IF(IFERROR(N33*1,"bad")="bad",0,1)=1,N33>0),1,0),IF(N$30=$AS$1,IF(AND(IF(IFERROR(IF(N33=TRUNC(N33),1,"bad"),"bad")="bad",0,1)=1,N33>0),1,0),IF(N$30=$AT$1,1,IF(N$30=$AU$1,IF(IFERROR(HLOOKUP(N33,$AL$4:$AV$4,1,0),"bad")="bad",0,1),0)))))))))))) -> 1 | AS33: =IF(P$30="",1,IF(P$4=99,1,IF(P33="",0,IF(P$30=$AL$1,IF(ISNA(MATCH(P33,$AI$30:$AJ$30,0)),0,1),IF(P$30=$AM$1,IF(IFERROR(P33*1,"bad")="bad",0,1),IF(P$30=$AN$1,IF(IFERROR(IF(P33=TRUNC(P33),1,"bad"),"bad")="bad",0,1),IF(P$30=$AO$1,IF(AND(IF(IFERROR(P33*1,"bad")="bad",0,1)=1,P33>=0),1,0),IF(P$30=$AQ$1,IF(AND(IF(IFERROR(IF(P33=TRUNC(P33),1,"bad"),"bad")="bad",0,1)=1,P33>=0),1,0),IF(P$30=$AR$1,IF(AND(IF(IFERROR(P33*1,"bad")="bad",0,1)=1,P33>0),1,0),IF(P$30=$AS$1,IF(AND(IF(IFERROR(IF(P33=TRUNC(P33),1,"bad"),"bad")="bad",0,1)=1,P33>0),1,0),IF(P$30=$AT$1,1,IF(P$30=$AU$1,IF(IFERROR(HLOOKUP(P33,$AL$4:$AV$4,1,0),"bad")="bad",0,1),0)))))))))))) -> 1 | AT33: =IF(Q$30="",1,IF(Q$4=99,1,IF(Q33="",0,IF(Q$30=$AL$1,IF(ISNA(MATCH(Q33,$AI$30:$AJ$30,0)),0,1),IF(Q$30=$AM$1,IF(IFERROR(Q33*1,"bad")="bad",0,1),IF(Q$30=$AN$1,IF(IFERROR(IF(Q33=TRUNC(Q33),1,"bad"),"bad")="bad",0,1),IF(Q$30=$AO$1,IF(AND(IF(IFERROR(Q33*1,"bad")="bad",0,1)=1,Q33>=0),1,0),IF(Q$30=$AQ$1,IF(AND(IF(IFERROR(IF(Q33=TRUNC(Q33),1,"bad"),"bad")="bad",0,1)=1,Q33>=0),1,0),IF(Q$30=$AR$1,IF(AND(IF(IFERROR(Q33*1,"bad")="bad",0,1)=1,Q33>0),1,0),IF(Q$30=$AS$1,IF(AND(IF(IFERROR(IF(Q33=TRUNC(Q33),1,"bad"),"bad")="bad",0,1)=1,Q33>0),1,0),IF(Q$30=$AT$1,1,IF(Q$30=$AU$1,IF(IFERROR(HLOOKUP(Q33,$AL$4:$AV$4,1,0),"bad")="bad",0,1),0)))))))))))) -> 1 | AU33: =IF(R$30="",1,IF(R$4=99,1,IF(R33="",0,IF(R$30=$AL$1,IF(ISNA(MATCH(R33,$AI$30:$AJ$30,0)),0,1),IF(R$30=$AM$1,IF(IFERROR(R33*1,"bad")="bad",0,1),IF(R$30=$AN$1,IF(IFERROR(IF(R33=TRUNC(R33),1,"bad"),"bad")="bad",0,1),IF(R$30=$AO$1,IF(AND(IF(IFERROR(R33*1,"bad")="bad",0,1)=1,R33>=0),1,0),IF(R$30=$AQ$1,IF(AND(IF(IFERROR(IF(R33=TRUNC(R33),1,"bad"),"bad")="bad",0,1)=1,R33>=0),1,0),IF(R$30=$AR$1,IF(AND(IF(IFERROR(R33*1,"bad")="bad",0,1)=1,R33>0),1,0),IF(R$30=$AS$1,IF(AND(IF(IFERROR(IF(R33=TRUNC(R33),1,"bad"),"bad")="bad",0,1)=1,R33>0),1,0),IF(R$30=$AT$1,1,IF(R$30=$AU$1,IF(IFERROR(HLOOKUP(R33,$AL$4:$AV$4,1,0),"bad")="bad",0,1),0)))))))))))) -> 1 | AV33: =IF(S$30="",1,IF(S$4=99,1,IF(S33="",0,IF(S$30=$AL$1,IF(ISNA(MATCH(S33,$AI$30:$AJ$30,0)),0,1),IF(S$30=$AM$1,IF(IFERROR(S33*1,"bad")="bad",0,1),IF(S$30=$AN$1,IF(IFERROR(IF(S33=TRUNC(S33),1,"bad"),"bad")="bad",0,1),IF(S$30=$AO$1,IF(AND(IF(IFERROR(S33*1,"bad")="bad",0,1)=1,S33>=0),1,0),IF(S$30=$AQ$1,IF(AND(IF(IFERROR(IF(S33=TRUNC(S33),1,"bad"),"bad")="bad",0,1)=1,S33>=0),1,0),IF(S$30=$AR$1,IF(AND(IF(IFERROR(S33*1,"bad")="bad",0,1)=1,S33>0),1,0),IF(S$30=$AS$1,IF(AND(IF(IFERROR(IF(S33=TRUNC(S33),1,"bad"),"bad")="bad",0,1)=1,S33>0),1,0),IF(S$30=$AT$1,1,IF(S$30=$AU$1,IF(IFERROR(HLOOKUP(S33,$AL$4:$AV$4,1,0),"bad")="bad",0,1),0)))))))))))) -> 1 | AW33: =IF(T$30="",1,IF(T$4=99,1,IF(T33="",0,IF(T$30=$AL$1,IF(ISNA(MATCH(T33,$AI$30:$AJ$30,0)),0,1),IF(T$30=$AM$1,IF(IFERROR(T33*1,"bad")="bad",0,1),IF(T$30=$AN$1,IF(IFERROR(IF(T33=TRUNC(T33),1,"bad"),"bad")="bad",0,1),IF(T$30=$AO$1,IF(AND(IF(IFERROR(T33*1,"bad")="bad",0,1)=1,T33>=0),1,0),IF(T$30=$AQ$1,IF(AND(IF(IFERROR(IF(T33=TRUNC(T33),1,"bad"),"bad")="bad",0,1)=1,T33>=0),1,0),IF(T$30=$AR$1,IF(AND(IF(IFERROR(T33*1,"bad")="bad",0,1)=1,T33>0),1,0),IF(T$30=$AS$1,IF(AND(IF(IFERROR(IF(T33=TRUNC(T33),1,"bad"),"bad")="bad",0,1)=1,T33>0),1,0),IF(T$30=$AT$1,1,IF(T$30=$AU$1,IF(IFERROR(HLOOKUP(T33,$AL$4:$AV$4,1,0),"bad")="bad",0,1),0)))))))))))) -> 1 | AX33: =IF(U$30="",1,IF(U$4=99,1,IF(U33="",0,IF(U$30=$AL$1,IF(ISNA(MATCH(U33,$AI$30:$AJ$30,0)),0,1),IF(U$30=$AM$1,IF(IFERROR(U33*1,"bad")="bad",0,1),IF(U$30=$AN$1,IF(IFERROR(IF(U33=TRUNC(U33),1,"bad"),"bad")="bad",0,1),IF(U$30=$AO$1,IF(AND(IF(IFERROR(U33*1,"bad")="bad",0,1)=1,U33>=0),1,0),IF(U$30=$AQ$1,IF(AND(IF(IFERROR(IF(U33=TRUNC(U33),1,"bad"),"bad")="bad",0,1)=1,U33>=0),1,0),IF(U$30=$AR$1,IF(AND(IF(IFERROR(U33*1,"bad")="bad",0,1)=1,U33>0),1,0),IF(U$30=$AS$1,IF(AND(IF(IFERROR(IF(U33=TRUNC(U33),1,"bad"),"bad")="bad",0,1)=1,U33>0),1,0),IF(U$30=$AT$1,1,IF(U$30=$AU$1,IF(IFERROR(HLOOKUP(U33,$AL$4:$AV$4,1,0),"bad")="bad",0,1),0)))))))))))) -> 1 | AY33: =IF(V$30="",1,IF(V$4=99,1,IF(V33="",0,IF(V$30=$AL$1,IF(ISNA(MATCH(V33,$AI$30:$AJ$30,0)),0,1),IF(V$30=$AM$1,IF(IFERROR(V33*1,"bad")="bad",0,1),IF(V$30=$AN$1,IF(IFERROR(IF(V33=TRUNC(V33),1,"bad"),"bad")="bad",0,1),IF(V$30=$AO$1,IF(AND(IF(IFERROR(V33*1,"bad")="bad",0,1)=1,V33>=0),1,0),IF(V$30=$AQ$1,IF(AND(IF(IFERROR(IF(V33=TRUNC(V33),1,"bad"),"bad")="bad",0,1)=1,V33>=0),1,0),IF(V$30=$AR$1,IF(AND(IF(IFERROR(V33*1,"bad")="bad",0,1)=1,V33>0),1,0),IF(V$30=$AS$1,IF(AND(IF(IFERROR(IF(V33=TRUNC(V33),1,"bad"),"bad")="bad",0,1)=1,V33>0),1,0),IF(V$30=$AT$1,1,IF(V$30=$AU$1,IF(IFERROR(HLOOKUP(V33,$AL$4:$AV$4,1,0),"bad")="bad",0,1),0)))))))))))) -> 1 | AZ33: =IF(W$30="",1,IF(W$4=99,1,IF(W33="",0,IF(W$30=$AL$1,IF(ISNA(MATCH(W33,$AI$30:$AJ$30,0)),0,1),IF(W$30=$AM$1,IF(IFERROR(W33*1,"bad")="bad",0,1),IF(W$30=$AN$1,IF(IFERROR(IF(W33=TRUNC(W33),1,"bad"),"bad")="bad",0,1),IF(W$30=$AO$1,IF(AND(IF(IFERROR(W33*1,"bad")="bad",0,1)=1,W33>=0),1,0),IF(W$30=$AQ$1,IF(AND(IF(IFERROR(IF(W33=TRUNC(W33),1,"bad"),"bad")="bad",0,1)=1,W33>=0),1,0),IF(W$30=$AR$1,IF(AND(IF(IFERROR(W33*1,"bad")="bad",0,1)=1,W33>0),1,0),IF(W$30=$AS$1,IF(AND(IF(IFERROR(IF(W33=TRUNC(W33),1,"bad"),"bad")="bad",0,1)=1,W33>0),1,0),IF(W$30=$AT$1,1,IF(W$30=$AU$1,IF(IFERROR(HLOOKUP(W33,$AL$4:$AV$4,1,0),"bad")="bad",0,1),0)))))))))))) -> 1 | ... BJ33: =IF(AG$30="",1,IF(AG$4=99,1,IF(AG33="",0,IF(AG$30=$AL$1,IF(ISNA(MATCH(AG33,$AI$30:$AJ$30,0)),0,1),IF(AG$30=$AM$1,IF(IFERROR(AG33*1,"bad")="bad",0,1),IF(AG$30=$AN$1,IF(IFERROR(IF(AG33=TRUNC(AG33),1,"bad"),"bad")="bad",0,1),IF(AG$30=$AO$1,IF(AND(IF(IFERROR(AG33*1,"bad")="bad",0,1)=1,AG33>=0),1,0),IF(AG$30=$AQ$1,IF(AND(IF(IFERROR(IF(AG33=TRUNC(AG33),1,"bad"),"bad")="bad",0,1)=1,AG33>=0),1,0),IF(AG$30=$AR$1,IF(AND(IF(IFERROR(AG33*1,"bad")="bad",0,1)=1,AG33>0),1,0),IF(AG$30=$AS$1,IF(AND(IF(IFERROR(IF(AG33=TRUNC(AG33),1,"bad"),"bad")="bad",0,1)=1,AG33>0),1,0),IF(AG$30=$AT$1,1,IF(AG$30=$AU$1,IF(IFERROR(HLOOKUP(AG33,$AL$4:$AV$4,1,0),"bad")="bad",0,1),0)))))))))))) -> 0 | BM33: =IF($F33="","",BM$30) -> 1 | BN33: =IF($F33="","",BN$30) -> 2 | BO33: =IF($F33="","",BO$30) -> 3 | BP33: =IF($F33="","",BP$30) -> 4 | BQ33: =IF($F33="","",BQ$30) -> 5 | BR33: =IF($F33="","",BR$30) -> 6 | BS33: =IF($F33="","",BS$30) -> 7 | BT33: =IF($F33="","",BT$30) -> 8 | ... BV33: =IF($F33="","",BV$30) -> 10
B34: =IF(F34="","",ROW()-30) | O34: =IF(D34="","",IF(L34="",$AI$1,IF(OR(SUM(L34:N34)=3,L34=0),1,0))) | AF34: {=IF($D34="","",IF(AE34=1,1,IF(AH34<>1,$AI$1,IF(SUMPRODUCT(--(G34:AD34>=$G$6:$AD$6)*($G$6:$AD$6<>"")*($G$4:$AD$4=1))=COUNTIF($G$4:$AD$4,1),1,0))))} | AH34: =IF(SUM(AK34:BI34)=COUNT(AK34:BI34),1,0) -> 0 | AI34: =IF($F34="","",AI$30) | AJ34: =IF($F34="","",AJ$30) | AK34: =IF(G$30="",1,IF(G$4=99,1,IF(G34="",0,IF(G$30=$AL$1,IF(ISNA(MATCH(G34,$AI$30:$AJ$30,0)),0,1),IF(G$30=$AM$1,IF(IFERROR(G34*1,"bad")="bad",0,1),IF(G$30=$AN$1,IF(IFERROR(IF(G34=TRUNC(G34),1,"bad"),"bad")="bad",0,1),IF(G$30=$AO$1,IF(AND(IF(IFERROR(G34*1,"bad")="bad",0,1)=1,G34>=0),1,0),IF(G$30=$AQ$1,IF(AND(IF(IFERROR(IF(G34=TRUNC(G34),1,"bad"),"bad")="bad",0,1)=1,G34>=0),1,0),IF(G$30=$AR$1,IF(AND(IF(IFERROR(G34*1,"bad")="bad",0,1)=1,G34>0),1,0),IF(G$30=$AS$1,IF(AND(IF(IFERROR(IF(G34=TRUNC(G34),1,"bad"),"bad")="bad",0,1)=1,G34>0),1,0),IF(G$30=$AT$1,1,IF(G$30=$AU$1,IF(IFERROR(HLOOKUP(G34,$AL$4:$AV$4,1,0),"bad")="bad",0,1),0)))))))))))) -> 0 | AL34: =IF(H$30="",1,IF(H$4=99,1,IF(H34="",0,IF(H$30=$AL$1,IF(ISNA(MATCH(H34,$AI$30:$AJ$30,0)),0,1),IF(H$30=$AM$1,IF(IFERROR(H34*1,"bad")="bad",0,1),IF(H$30=$AN$1,IF(IFERROR(IF(H34=TRUNC(H34),1,"bad"),"bad")="bad",0,1),IF(H$30=$AO$1,IF(AND(IF(IFERROR(H34*1,"bad")="bad",0,1)=1,H34>=0),1,0),IF(H$30=$AQ$1,IF(AND(IF(IFERROR(IF(H34=TRUNC(H34),1,"bad"),"bad")="bad",0,1)=1,H34>=0),1,0),IF(H$30=$AR$1,IF(AND(IF(IFERROR(H34*1,"bad")="bad",0,1)=1,H34>0),1,0),IF(H$30=$AS$1,IF(AND(IF(IFERROR(IF(H34=TRUNC(H34),1,"bad"),"bad")="bad",0,1)=1,H34>0),1,0),IF(H$30=$AT$1,1,IF(H$30=$AU$1,IF(IFERROR(HLOOKUP(H34,$AL$4:$AV$4,1,0),"bad")="bad",0,1),0)))))))))))) -> 0 | AM34: =IF(I$30="",1,IF(I$4=99,1,IF(I34="",0,IF(I$30=$AL$1,IF(ISNA(MATCH(I34,$AI$30:$AJ$30,0)),0,1),IF(I$30=$AM$1,IF(IFERROR(I34*1,"bad")="bad",0,1),IF(I$30=$AN$1,IF(IFERROR(IF(I34=TRUNC(I34),1,"bad"),"bad")="bad",0,1),IF(I$30=$AO$1,IF(AND(IF(IFERROR(I34*1,"bad")="bad",0,1)=1,I34>=0),1,0),IF(I$30=$AQ$1,IF(AND(IF(IFERROR(IF(I34=TRUNC(I34),1,"bad"),"bad")="bad",0,1)=1,I34>=0),1,0),IF(I$30=$AR$1,IF(AND(IF(IFERROR(I34*1,"bad")="bad",0,1)=1,I34>0),1,0),IF(I$30=$AS$1,IF(AND(IF(IFERROR(IF(I34=TRUNC(I34),1,"bad"),"bad")="bad",0,1)=1,I34>0),1,0),IF(I$30=$AT$1,1,IF(I$30=$AU$1,IF(IFERROR(HLOOKUP(I34,$AL$4:$AV$4,1,0),"bad")="bad",0,1),0)))))))))))) -> 0 | AN34: =IF(J$30="",1,IF(J$4=99,1,IF(J34="",0,IF(J$30=$AL$1,IF(ISNA(MATCH(J34,$AI$30:$AJ$30,0)),0,1),IF(J$30=$AM$1,IF(IFERROR(J34*1,"bad")="bad",0,1),IF(J$30=$AN$1,IF(IFERROR(IF(J34=TRUNC(J34),1,"bad"),"bad")="bad",0,1),IF(J$30=$AO$1,IF(AND(IF(IFERROR(J34*1,"bad")="bad",0,1)=1,J34>=0),1,0),IF(J$30=$AQ$1,IF(AND(IF(IFERROR(IF(J34=TRUNC(J34),1,"bad"),"bad")="bad",0,1)=1,J34>=0),1,0),IF(J$30=$AR$1,IF(AND(IF(IFERROR(J34*1,"bad")="bad",0,1)=1,J34>0),1,0),IF(J$30=$AS$1,IF(AND(IF(IFERROR(IF(J34=TRUNC(J34),1,"bad"),"bad")="bad",0,1)=1,J34>0),1,0),IF(J$30=$AT$1,1,IF(J$30=$AU$1,IF(IFERROR(HLOOKUP(J34,$AL$4:$AV$4,1,0),"bad")="bad",0,1),0)))))))))))) -> 0 | AO34: =IF(K$30="",1,IF(K$4=99,1,IF(K34="",0,IF(K$30=$AL$1,IF(ISNA(MATCH(K34,$AI$30:$AJ$30,0)),0,1),IF(K$30=$AM$1,IF(IFERROR(K34*1,"bad")="bad",0,1),IF(K$30=$AN$1,IF(IFERROR(IF(K34=TRUNC(K34),1,"bad"),"bad")="bad",0,1),IF(K$30=$AO$1,IF(AND(IF(IFERROR(K34*1,"bad")="bad",0,1)=1,K34>=0),1,0),IF(K$30=$AQ$1,IF(AND(IF(IFERROR(IF(K34=TRUNC(K34),1,"bad"),"bad")="bad",0,1)=1,K34>=0),1,0),IF(K$30=$AR$1,IF(AND(IF(IFERROR(K34*1,"bad")="bad",0,1)=1,K34>0),1,0),IF(K$30=$AS$1,IF(AND(IF(IFERROR(IF(K34=TRUNC(K34),1,"bad"),"bad")="bad",0,1)=1,K34>0),1,0),IF(K$30=$AT$1,1,IF(K$30=$AU$1,IF(IFERROR(HLOOKUP(K34,$AL$4:$AV$4,1,0),"bad")="bad",0,1),0)))))))))))) -> 0 | AP34: =IF(L$30="",1,IF(L$4=99,1,IF(L34="",0,IF(L$30=$AL$1,IF(ISNA(MATCH(L34,$AI$30:$AJ$30,0)),0,1),IF(L$30=$AM$1,IF(IFERROR(L34*1,"bad")="bad",0,1),IF(L$30=$AN$1,IF(IFERROR(IF(L34=TRUNC(L34),1,"bad"),"bad")="bad",0,1),IF(L$30=$AO$1,IF(AND(IF(IFERROR(L34*1,"bad")="bad",0,1)=1,L34>=0),1,0),IF(L$30=$AQ$1,IF(AND(IF(IFERROR(IF(L34=TRUNC(L34),1,"bad"),"bad")="bad",0,1)=1,L34>=0),1,0),IF(L$30=$AR$1,IF(AND(IF(IFERROR(L34*1,"bad")="bad",0,1)=1,L34>0),1,0),IF(L$30=$AS$1,IF(AND(IF(IFERROR(IF(L34=TRUNC(L34),1,"bad"),"bad")="bad",0,1)=1,L34>0),1,0),IF(L$30=$AT$1,1,IF(L$30=$AU$1,IF(IFERROR(HLOOKUP(L34,$AL$4:$AV$4,1,0),"bad")="bad",0,1),0)))))))))))) -> 0 | AQ34: =IF(M$30="",1,IF(M$4=99,1,IF(M34="",0,IF(M$30=$AL$1,IF(ISNA(MATCH(M34,$AI$30:$AJ$30,0)),0,1),IF(M$30=$AM$1,IF(IFERROR(M34*1,"bad")="bad",0,1),IF(M$30=$AN$1,IF(IFERROR(IF(M34=TRUNC(M34),1,"bad"),"bad")="bad",0,1),IF(M$30=$AO$1,IF(AND(IF(IFERROR(M34*1,"bad")="bad",0,1)=1,M34>=0),1,0),IF(M$30=$AQ$1,IF(AND(IF(IFERROR(IF(M34=TRUNC(M34),1,"bad"),"bad")="bad",0,1)=1,M34>=0),1,0),IF(M$30=$AR$1,IF(AND(IF(IFERROR(M34*1,"bad")="bad",0,1)=1,M34>0),1,0),IF(M$30=$AS$1,IF(AND(IF(IFERROR(IF(M34=TRUNC(M34),1,"bad"),"bad")="bad",0,1)=1,M34>0),1,0),IF(M$30=$AT$1,1,IF(M$30=$AU$1,IF(IFERROR(HLOOKUP(M34,$AL$4:$AV$4,1,0),"bad")="bad",0,1),0)))))))))))) -> 1 | AR34: =IF(N$30="",1,IF(N$4=99,1,IF(N34="",0,IF(N$30=$AL$1,IF(ISNA(MATCH(N34,$AI$30:$AJ$30,0)),0,1),IF(N$30=$AM$1,IF(IFERROR(N34*1,"bad")="bad",0,1),IF(N$30=$AN$1,IF(IFERROR(IF(N34=TRUNC(N34),1,"bad"),"bad")="bad",0,1),IF(N$30=$AO$1,IF(AND(IF(IFERROR(N34*1,"bad")="bad",0,1)=1,N34>=0),1,0),IF(N$30=$AQ$1,IF(AND(IF(IFERROR(IF(N34=TRUNC(N34),1,"bad"),"bad")="bad",0,1)=1,N34>=0),1,0),IF(N$30=$AR$1,IF(AND(IF(IFERROR(N34*1,"bad")="bad",0,1)=1,N34>0),1,0),IF(N$30=$AS$1,IF(AND(IF(IFERROR(IF(N34=TRUNC(N34),1,"bad"),"bad")="bad",0,1)=1,N34>0),1,0),IF(N$30=$AT$1,1,IF(N$30=$AU$1,IF(IFERROR(HLOOKUP(N34,$AL$4:$AV$4,1,0),"bad")="bad",0,1),0)))))))))))) -> 1 | AS34: =IF(P$30="",1,IF(P$4=99,1,IF(P34="",0,IF(P$30=$AL$1,IF(ISNA(MATCH(P34,$AI$30:$AJ$30,0)),0,1),IF(P$30=$AM$1,IF(IFERROR(P34*1,"bad")="bad",0,1),IF(P$30=$AN$1,IF(IFERROR(IF(P34=TRUNC(P34),1,"bad"),"bad")="bad",0,1),IF(P$30=$AO$1,IF(AND(IF(IFERROR(P34*1,"bad")="bad",0,1)=1,P34>=0),1,0),IF(P$30=$AQ$1,IF(AND(IF(IFERROR(IF(P34=TRUNC(P34),1,"bad"),"bad")="bad",0,1)=1,P34>=0),1,0),IF(P$30=$AR$1,IF(AND(IF(IFERROR(P34*1,"bad")="bad",0,1)=1,P34>0),1,0),IF(P$30=$AS$1,IF(AND(IF(IFERROR(IF(P34=TRUNC(P34),1,"bad"),"bad")="bad",0,1)=1,P34>0),1,0),IF(P$30=$AT$1,1,IF(P$30=$AU$1,IF(IFERROR(HLOOKUP(P34,$AL$4:$AV$4,1,0),"bad")="bad",0,1),0)))))))))))) -> 0 | AT34: =IF(Q$30="",1,IF(Q$4=99,1,IF(Q34="",0,IF(Q$30=$AL$1,IF(ISNA(MATCH(Q34,$AI$30:$AJ$30,0)),0,1),IF(Q$30=$AM$1,IF(IFERROR(Q34*1,"bad")="bad",0,1),IF(Q$30=$AN$1,IF(IFERROR(IF(Q34=TRUNC(Q34),1,"bad"),"bad")="bad",0,1),IF(Q$30=$AO$1,IF(AND(IF(IFERROR(Q34*1,"bad")="bad",0,1)=1,Q34>=0),1,0),IF(Q$30=$AQ$1,IF(AND(IF(IFERROR(IF(Q34=TRUNC(Q34),1,"bad"),"bad")="bad",0,1)=1,Q34>=0),1,0),IF(Q$30=$AR$1,IF(AND(IF(IFERROR(Q34*1,"bad")="bad",0,1)=1,Q34>0),1,0),IF(Q$30=$AS$1,IF(AND(IF(IFERROR(IF(Q34=TRUNC(Q34),1,"bad"),"bad")="bad",0,1)=1,Q34>0),1,0),IF(Q$30=$AT$1,1,IF(Q$30=$AU$1,IF(IFERROR(HLOOKUP(Q34,$AL$4:$AV$4,1,0),"bad")="bad",0,1),0)))))))))))) -> 0 | AU34: =IF(R$30="",1,IF(R$4=99,1,IF(R34="",0,IF(R$30=$AL$1,IF(ISNA(MATCH(R34,$AI$30:$AJ$30,0)),0,1),IF(R$30=$AM$1,IF(IFERROR(R34*1,"bad")="bad",0,1),IF(R$30=$AN$1,IF(IFERROR(IF(R34=TRUNC(R34),1,"bad"),"bad")="bad",0,1),IF(R$30=$AO$1,IF(AND(IF(IFERROR(R34*1,"bad")="bad",0,1)=1,R34>=0),1,0),IF(R$30=$AQ$1,IF(AND(IF(IFERROR(IF(R34=TRUNC(R34),1,"bad"),"bad")="bad",0,1)=1,R34>=0),1,0),IF(R$30=$AR$1,IF(AND(IF(IFERROR(R34*1,"bad")="bad",0,1)=1,R34>0),1,0),IF(R$30=$AS$1,IF(AND(IF(IFERROR(IF(R34=TRUNC(R34),1,"bad"),"bad")="bad",0,1)=1,R34>0),1,0),IF(R$30=$AT$1,1,IF(R$30=$AU$1,IF(IFERROR(HLOOKUP(R34,$AL$4:$AV$4,1,0),"bad")="bad",0,1),0)))))))))))) -> 0 | AV34: =IF(S$30="",1,IF(S$4=99,1,IF(S34="",0,IF(S$30=$AL$1,IF(ISNA(MATCH(S34,$AI$30:$AJ$30,0)),0,1),IF(S$30=$AM$1,IF(IFERROR(S34*1,"bad")="bad",0,1),IF(S$30=$AN$1,IF(IFERROR(IF(S34=TRUNC(S34),1,"bad"),"bad")="bad",0,1),IF(S$30=$AO$1,IF(AND(IF(IFERROR(S34*1,"bad")="bad",0,1)=1,S34>=0),1,0),IF(S$30=$AQ$1,IF(AND(IF(IFERROR(IF(S34=TRUNC(S34),1,"bad"),"bad")="bad",0,1)=1,S34>=0),1,0),IF(S$30=$AR$1,IF(AND(IF(IFERROR(S34*1,"bad")="bad",0,1)=1,S34>0),1,0),IF(S$30=$AS$1,IF(AND(IF(IFERROR(IF(S34=TRUNC(S34),1,"bad"),"bad")="bad",0,1)=1,S34>0),1,0),IF(S$30=$AT$1,1,IF(S$30=$AU$1,IF(IFERROR(HLOOKUP(S34,$AL$4:$AV$4,1,0),"bad")="bad",0,1),0)))))))))))) -> 1 | AW34: =IF(T$30="",1,IF(T$4=99,1,IF(T34="",0,IF(T$30=$AL$1,IF(ISNA(MATCH(T34,$AI$30:$AJ$30,0)),0,1),IF(T$30=$AM$1,IF(IFERROR(T34*1,"bad")="bad",0,1),IF(T$30=$AN$1,IF(IFERROR(IF(T34=TRUNC(T34),1,"bad"),"bad")="bad",0,1),IF(T$30=$AO$1,IF(AND(IF(IFERROR(T34*1,"bad")="bad",0,1)=1,T34>=0),1,0),IF(T$30=$AQ$1,IF(AND(IF(IFERROR(IF(T34=TRUNC(T34),1,"bad"),"bad")="bad",0,1)=1,T34>=0),1,0),IF(T$30=$AR$1,IF(AND(IF(IFERROR(T34*1,"bad")="bad",0,1)=1,T34>0),1,0),IF(T$30=$AS$1,IF(AND(IF(IFERROR(IF(T34=TRUNC(T34),1,"bad"),"bad")="bad",0,1)=1,T34>0),1,0),IF(T$30=$AT$1,1,IF(T$30=$AU$1,IF(IFERROR(HLOOKUP(T34,$AL$4:$AV$4,1,0),"bad")="bad",0,1),0)))))))))))) -> 0 | AX34: =IF(U$30="",1,IF(U$4=99,1,IF(U34="",0,IF(U$30=$AL$1,IF(ISNA(MATCH(U34,$AI$30:$AJ$30,0)),0,1),IF(U$30=$AM$1,IF(IFERROR(U34*1,"bad")="bad",0,1),IF(U$30=$AN$1,IF(IFERROR(IF(U34=TRUNC(U34),1,"bad"),"bad")="bad",0,1),IF(U$30=$AO$1,IF(AND(IF(IFERROR(U34*1,"bad")="bad",0,1)=1,U34>=0),1,0),IF(U$30=$AQ$1,IF(AND(IF(IFERROR(IF(U34=TRUNC(U34),1,"bad"),"bad")="bad",0,1)=1,U34>=0),1,0),IF(U$30=$AR$1,IF(AND(IF(IFERROR(U34*1,"bad")="bad",0,1)=1,U34>0),1,0),IF(U$30=$AS$1,IF(AND(IF(IFERROR(IF(U34=TRUNC(U34),1,"bad"),"bad")="bad",0,1)=1,U34>0),1,0),IF(U$30=$AT$1,1,IF(U$30=$AU$1,IF(IFERROR(HLOOKUP(U34,$AL$4:$AV$4,1,0),"bad")="bad",0,1),0)))))))))))) -> 0 | AY34: =IF(V$30="",1,IF(V$4=99,1,IF(V34="",0,IF(V$30=$AL$1,IF(ISNA(MATCH(V34,$AI$30:$AJ$30,0)),0,1),IF(V$30=$AM$1,IF(IFERROR(V34*1,"bad")="bad",0,1),IF(V$30=$AN$1,IF(IFERROR(IF(V34=TRUNC(V34),1,"bad"),"bad")="bad",0,1),IF(V$30=$AO$1,IF(AND(IF(IFERROR(V34*1,"bad")="bad",0,1)=1,V34>=0),1,0),IF(V$30=$AQ$1,IF(AND(IF(IFERROR(IF(V34=TRUNC(V34),1,"bad"),"bad")="bad",0,1)=1,V34>=0),1,0),IF(V$30=$AR$1,IF(AND(IF(IFERROR(V34*1,"bad")="bad",0,1)=1,V34>0),1,0),IF(V$30=$AS$1,IF(AND(IF(IFERROR(IF(V34=TRUNC(V34),1,"bad"),"bad")="bad",0,1)=1,V34>0),1,0),IF(V$30=$AT$1,1,IF(V$30=$AU$1,IF(IFERROR(HLOOKUP(V34,$AL$4:$AV$4,1,0),"bad")="bad",0,1),0)))))))))))) -> 0 | AZ34: =IF(W$30="",1,IF(W$4=99,1,IF(W34="",0,IF(W$30=$AL$1,IF(ISNA(MATCH(W34,$AI$30:$AJ$30,0)),0,1),IF(W$30=$AM$1,IF(IFERROR(W34*1,"bad")="bad",0,1),IF(W$30=$AN$1,IF(IFERROR(IF(W34=TRUNC(W34),1,"bad"),"bad")="bad",0,1),IF(W$30=$AO$1,IF(AND(IF(IFERROR(W34*1,"bad")="bad",0,1)=1,W34>=0),1,0),IF(W$30=$AQ$1,IF(AND(IF(IFERROR(IF(W34=TRUNC(W34),1,"bad"),"bad")="bad",0,1)=1,W34>=0),1,0),IF(W$30=$AR$1,IF(AND(IF(IFERROR(W34*1,"bad")="bad",0,1)=1,W34>0),1,0),IF(W$30=$AS$1,IF(AND(IF(IFERROR(IF(W34=TRUNC(W34),1,"bad"),"bad")="bad",0,1)=1,W34>0),1,0),IF(W$30=$AT$1,1,IF(W$30=$AU$1,IF(IFERROR(HLOOKUP(W34,$AL$4:$AV$4,1,0),"bad")="bad",0,1),0)))))))))))) -> 0 | ... BJ34: =IF(AG$30="",1,IF(AG$4=99,1,IF(AG34="",0,IF(AG$30=$AL$1,IF(ISNA(MATCH(AG34,$AI$30:$AJ$30,0)),0,1),IF(AG$30=$AM$1,IF(IFERROR(AG34*1,"bad")="bad",0,1),IF(AG$30=$AN$1,IF(IFERROR(IF(AG34=TRUNC(AG34),1,"bad"),"bad")="bad",0,1),IF(AG$30=$AO$1,IF(AND(IF(IFERROR(AG34*1,"bad")="bad",0,1)=1,AG34>=0),1,0),IF(AG$30=$AQ$1,IF(AND(IF(IFERROR(IF(AG34=TRUNC(AG34),1,"bad"),"bad")="bad",0,1)=1,AG34>=0),1,0),IF(AG$30=$AR$1,IF(AND(IF(IFERROR(AG34*1,"bad")="bad",0,1)=1,AG34>0),1,0),IF(AG$30=$AS$1,IF(AND(IF(IFERROR(IF(AG34=TRUNC(AG34),1,"bad"),"bad")="bad",0,1)=1,AG34>0),1,0),IF(AG$30=$AT$1,1,IF(AG$30=$AU$1,IF(IFERROR(HLOOKUP(AG34,$AL$4:$AV$4,1,0),"bad")="bad",0,1),0)))))))))))) -> 0 | BM34: =IF($F34="","",BM$30) | BN34: =IF($F34="","",BN$30) | BO34: =IF($F34="","",BO$30) | BP34: =IF($F34="","",BP$30) | BQ34: =IF($F34="","",BQ$30) | BR34: =IF($F34="","",BR$30) | BS34: =IF($F34="","",BS$30) | BT34: =IF($F34="","",BT$30) | ... BV34: =IF($F34="","",BV$30)
B35: =IF(F35="","",ROW()-30) | O35: =IF(D35="","",IF(L35="",$AI$1,IF(OR(SUM(L35:N35)=3,L35=0),1,0))) | AF35: {=IF($D35="","",IF(AE35=1,1,IF(AH35<>1,$AI$1,IF(SUMPRODUCT(--(G35:AD35>=$G$6:$AD$6)*($G$6:$AD$6<>"")*($G$4:$AD$4=1))=COUNTIF($G$4:$AD$4,1),1,0))))} | AH35: =IF(SUM(AK35:BI35)=COUNT(AK35:BI35),1,0) -> 0 | AI35: =IF($F35="","",AI$30) | AJ35: =IF($F35="","",AJ$30) | AK35: =IF(G$30="",1,IF(G$4=99,1,IF(G35="",0,IF(G$30=$AL$1,IF(ISNA(MATCH(G35,$AI$30:$AJ$30,0)),0,1),IF(G$30=$AM$1,IF(IFERROR(G35*1,"bad")="bad",0,1),IF(G$30=$AN$1,IF(IFERROR(IF(G35=TRUNC(G35),1,"bad"),"bad")="bad",0,1),IF(G$30=$AO$1,IF(AND(IF(IFERROR(G35*1,"bad")="bad",0,1)=1,G35>=0),1,0),IF(G$30=$AQ$1,IF(AND(IF(IFERROR(IF(G35=TRUNC(G35),1,"bad"),"bad")="bad",0,1)=1,G35>=0),1,0),IF(G$30=$AR$1,IF(AND(IF(IFERROR(G35*1,"bad")="bad",0,1)=1,G35>0),1,0),IF(G$30=$AS$1,IF(AND(IF(IFERROR(IF(G35=TRUNC(G35),1,"bad"),"bad")="bad",0,1)=1,G35>0),1,0),IF(G$30=$AT$1,1,IF(G$30=$AU$1,IF(IFERROR(HLOOKUP(G35,$AL$4:$AV$4,1,0),"bad")="bad",0,1),0)))))))))))) -> 0 | AL35: =IF(H$30="",1,IF(H$4=99,1,IF(H35="",0,IF(H$30=$AL$1,IF(ISNA(MATCH(H35,$AI$30:$AJ$30,0)),0,1),IF(H$30=$AM$1,IF(IFERROR(H35*1,"bad")="bad",0,1),IF(H$30=$AN$1,IF(IFERROR(IF(H35=TRUNC(H35),1,"bad"),"bad")="bad",0,1),IF(H$30=$AO$1,IF(AND(IF(IFERROR(H35*1,"bad")="bad",0,1)=1,H35>=0),1,0),IF(H$30=$AQ$1,IF(AND(IF(IFERROR(IF(H35=TRUNC(H35),1,"bad"),"bad")="bad",0,1)=1,H35>=0),1,0),IF(H$30=$AR$1,IF(AND(IF(IFERROR(H35*1,"bad")="bad",0,1)=1,H35>0),1,0),IF(H$30=$AS$1,IF(AND(IF(IFERROR(IF(H35=TRUNC(H35),1,"bad"),"bad")="bad",0,1)=1,H35>0),1,0),IF(H$30=$AT$1,1,IF(H$30=$AU$1,IF(IFERROR(HLOOKUP(H35,$AL$4:$AV$4,1,0),"bad")="bad",0,1),0)))))))))))) -> 0 | AM35: =IF(I$30="",1,IF(I$4=99,1,IF(I35="",0,IF(I$30=$AL$1,IF(ISNA(MATCH(I35,$AI$30:$AJ$30,0)),0,1),IF(I$30=$AM$1,IF(IFERROR(I35*1,"bad")="bad",0,1),IF(I$30=$AN$1,IF(IFERROR(IF(I35=TRUNC(I35),1,"bad"),"bad")="bad",0,1),IF(I$30=$AO$1,IF(AND(IF(IFERROR(I35*1,"bad")="bad",0,1)=1,I35>=0),1,0),IF(I$30=$AQ$1,IF(AND(IF(IFERROR(IF(I35=TRUNC(I35),1,"bad"),"bad")="bad",0,1)=1,I35>=0),1,0),IF(I$30=$AR$1,IF(AND(IF(IFERROR(I35*1,"bad")="bad",0,1)=1,I35>0),1,0),IF(I$30=$AS$1,IF(AND(IF(IFERROR(IF(I35=TRUNC(I35),1,"bad"),"bad")="bad",0,1)=1,I35>0),1,0),IF(I$30=$AT$1,1,IF(I$30=$AU$1,IF(IFERROR(HLOOKUP(I35,$AL$4:$AV$4,1,0),"bad")="bad",0,1),0)))))))))))) -> 0 | AN35: =IF(J$30="",1,IF(J$4=99,1,IF(J35="",0,IF(J$30=$AL$1,IF(ISNA(MATCH(J35,$AI$30:$AJ$30,0)),0,1),IF(J$30=$AM$1,IF(IFERROR(J35*1,"bad")="bad",0,1),IF(J$30=$AN$1,IF(IFERROR(IF(J35=TRUNC(J35),1,"bad"),"bad")="bad",0,1),IF(J$30=$AO$1,IF(AND(IF(IFERROR(J35*1,"bad")="bad",0,1)=1,J35>=0),1,0),IF(J$30=$AQ$1,IF(AND(IF(IFERROR(IF(J35=TRUNC(J35),1,"bad"),"bad")="bad",0,1)=1,J35>=0),1,0),IF(J$30=$AR$1,IF(AND(IF(IFERROR(J35*1,"bad")="bad",0,1)=1,J35>0),1,0),IF(J$30=$AS$1,IF(AND(IF(IFERROR(IF(J35=TRUNC(J35),1,"bad"),"bad")="bad",0,1)=1,J35>0),1,0),IF(J$30=$AT$1,1,IF(J$30=$AU$1,IF(IFERROR(HLOOKUP(J35,$AL$4:$AV$4,1,0),"bad")="bad",0,1),0)))))))))))) -> 0 | AO35: =IF(K$30="",1,IF(K$4=99,1,IF(K35="",0,IF(K$30=$AL$1,IF(ISNA(MATCH(K35,$AI$30:$AJ$30,0)),0,1),IF(K$30=$AM$1,IF(IFERROR(K35*1,"bad")="bad",0,1),IF(K$30=$AN$1,IF(IFERROR(IF(K35=TRUNC(K35),1,"bad"),"bad")="bad",0,1),IF(K$30=$AO$1,IF(AND(IF(IFERROR(K35*1,"bad")="bad",0,1)=1,K35>=0),1,0),IF(K$30=$AQ$1,IF(AND(IF(IFERROR(IF(K35=TRUNC(K35),1,"bad"),"bad")="bad",0,1)=1,K35>=0),1,0),IF(K$30=$AR$1,IF(AND(IF(IFERROR(K35*1,"bad")="bad",0,1)=1,K35>0),1,0),IF(K$30=$AS$1,IF(AND(IF(IFERROR(IF(K35=TRUNC(K35),1,"bad"),"bad")="bad",0,1)=1,K35>0),1,0),IF(K$30=$AT$1,1,IF(K$30=$AU$1,IF(IFERROR(HLOOKUP(K35,$AL$4:$AV$4,1,0),"bad")="bad",0,1),0)))))))))))) -> 0 | AP35: =IF(L$30="",1,IF(L$4=99,1,IF(L35="",0,IF(L$30=$AL$1,IF(ISNA(MATCH(L35,$AI$30:$AJ$30,0)),0,1),IF(L$30=$AM$1,IF(IFERROR(L35*1,"bad")="bad",0,1),IF(L$30=$AN$1,IF(IFERROR(IF(L35=TRUNC(L35),1,"bad"),"bad")="bad",0,1),IF(L$30=$AO$1,IF(AND(IF(IFERROR(L35*1,"bad")="bad",0,1)=1,L35>=0),1,0),IF(L$30=$AQ$1,IF(AND(IF(IFERROR(IF(L35=TRUNC(L35),1,"bad"),"bad")="bad",0,1)=1,L35>=0),1,0),IF(L$30=$AR$1,IF(AND(IF(IFERROR(L35*1,"bad")="bad",0,1)=1,L35>0),1,0),IF(L$30=$AS$1,IF(AND(IF(IFERROR(IF(L35=TRUNC(L35),1,"bad"),"bad")="bad",0,1)=1,L35>0),1,0),IF(L$30=$AT$1,1,IF(L$30=$AU$1,IF(IFERROR(HLOOKUP(L35,$AL$4:$AV$4,1,0),"bad")="bad",0,1),0)))))))))))) -> 0 | AQ35: =IF(M$30="",1,IF(M$4=99,1,IF(M35="",0,IF(M$30=$AL$1,IF(ISNA(MATCH(M35,$AI$30:$AJ$30,0)),0,1),IF(M$30=$AM$1,IF(IFERROR(M35*1,"bad")="bad",0,1),IF(M$30=$AN$1,IF(IFERROR(IF(M35=TRUNC(M35),1,"bad"),"bad")="bad",0,1),IF(M$30=$AO$1,IF(AND(IF(IFERROR(M35*1,"bad")="bad",0,1)=1,M35>=0),1,0),IF(M$30=$AQ$1,IF(AND(IF(IFERROR(IF(M35=TRUNC(M35),1,"bad"),"bad")="bad",0,1)=1,M35>=0),1,0),IF(M$30=$AR$1,IF(AND(IF(IFERROR(M35*1,"bad")="bad",0,1)=1,M35>0),1,0),IF(M$30=$AS$1,IF(AND(IF(IFERROR(IF(M35=TRUNC(M35),1,"bad"),"bad")="bad",0,1)=1,M35>0),1,0),IF(M$30=$AT$1,1,IF(M$30=$AU$1,IF(IFERROR(HLOOKUP(M35,$AL$4:$AV$4,1,0),"bad")="bad",0,1),0)))))))))))) -> 1 | AR35: =IF(N$30="",1,IF(N$4=99,1,IF(N35="",0,IF(N$30=$AL$1,IF(ISNA(MATCH(N35,$AI$30:$AJ$30,0)),0,1),IF(N$30=$AM$1,IF(IFERROR(N35*1,"bad")="bad",0,1),IF(N$30=$AN$1,IF(IFERROR(IF(N35=TRUNC(N35),1,"bad"),"bad")="bad",0,1),IF(N$30=$AO$1,IF(AND(IF(IFERROR(N35*1,"bad")="bad",0,1)=1,N35>=0),1,0),IF(N$30=$AQ$1,IF(AND(IF(IFERROR(IF(N35=TRUNC(N35),1,"bad"),"bad")="bad",0,1)=1,N35>=0),1,0),IF(N$30=$AR$1,IF(AND(IF(IFERROR(N35*1,"bad")="bad",0,1)=1,N35>0),1,0),IF(N$30=$AS$1,IF(AND(IF(IFERROR(IF(N35=TRUNC(N35),1,"bad"),"bad")="bad",0,1)=1,N35>0),1,0),IF(N$30=$AT$1,1,IF(N$30=$AU$1,IF(IFERROR(HLOOKUP(N35,$AL$4:$AV$4,1,0),"bad")="bad",0,1),0)))))))))))) -> 1 | AS35: =IF(P$30="",1,IF(P$4=99,1,IF(P35="",0,IF(P$30=$AL$1,IF(ISNA(MATCH(P35,$AI$30:$AJ$30,0)),0,1),IF(P$30=$AM$1,IF(IFERROR(P35*1,"bad")="bad",0,1),IF(P$30=$AN$1,IF(IFERROR(IF(P35=TRUNC(P35),1,"bad"),"bad")="bad",0,1),IF(P$30=$AO$1,IF(AND(IF(IFERROR(P35*1,"bad")="bad",0,1)=1,P35>=0),1,0),IF(P$30=$AQ$1,IF(AND(IF(IFERROR(IF(P35=TRUNC(P35),1,"bad"),"bad")="bad",0,1)=1,P35>=0),1,0),IF(P$30=$AR$1,IF(AND(IF(IFERROR(P35*1,"bad")="bad",0,1)=1,P35>0),1,0),IF(P$30=$AS$1,IF(AND(IF(IFERROR(IF(P35=TRUNC(P35),1,"bad"),"bad")="bad",0,1)=1,P35>0),1,0),IF(P$30=$AT$1,1,IF(P$30=$AU$1,IF(IFERROR(HLOOKUP(P35,$AL$4:$AV$4,1,0),"bad")="bad",0,1),0)))))))))))) -> 0 | AT35: =IF(Q$30="",1,IF(Q$4=99,1,IF(Q35="",0,IF(Q$30=$AL$1,IF(ISNA(MATCH(Q35,$AI$30:$AJ$30,0)),0,1),IF(Q$30=$AM$1,IF(IFERROR(Q35*1,"bad")="bad",0,1),IF(Q$30=$AN$1,IF(IFERROR(IF(Q35=TRUNC(Q35),1,"bad"),"bad")="bad",0,1),IF(Q$30=$AO$1,IF(AND(IF(IFERROR(Q35*1,"bad")="bad",0,1)=1,Q35>=0),1,0),IF(Q$30=$AQ$1,IF(AND(IF(IFERROR(IF(Q35=TRUNC(Q35),1,"bad"),"bad")="bad",0,1)=1,Q35>=0),1,0),IF(Q$30=$AR$1,IF(AND(IF(IFERROR(Q35*1,"bad")="bad",0,1)=1,Q35>0),1,0),IF(Q$30=$AS$1,IF(AND(IF(IFERROR(IF(Q35=TRUNC(Q35),1,"bad"),"bad")="bad",0,1)=1,Q35>0),1,0),IF(Q$30=$AT$1,1,IF(Q$30=$AU$1,IF(IFERROR(HLOOKUP(Q35,$AL$4:$AV$4,1,0),"bad")="bad",0,1),0)))))))))))) -> 0 | AU35: =IF(R$30="",1,IF(R$4=99,1,IF(R35="",0,IF(R$30=$AL$1,IF(ISNA(MATCH(R35,$AI$30:$AJ$30,0)),0,1),IF(R$30=$AM$1,IF(IFERROR(R35*1,"bad")="bad",0,1),IF(R$30=$AN$1,IF(IFERROR(IF(R35=TRUNC(R35),1,"bad"),"bad")="bad",0,1),IF(R$30=$AO$1,IF(AND(IF(IFERROR(R35*1,"bad")="bad",0,1)=1,R35>=0),1,0),IF(R$30=$AQ$1,IF(AND(IF(IFERROR(IF(R35=TRUNC(R35),1,"bad"),"bad")="bad",0,1)=1,R35>=0),1,0),IF(R$30=$AR$1,IF(AND(IF(IFERROR(R35*1,"bad")="bad",0,1)=1,R35>0),1,0),IF(R$30=$AS$1,IF(AND(IF(IFERROR(IF(R35=TRUNC(R35),1,"bad"),"bad")="bad",0,1)=1,R35>0),1,0),IF(R$30=$AT$1,1,IF(R$30=$AU$1,IF(IFERROR(HLOOKUP(R35,$AL$4:$AV$4,1,0),"bad")="bad",0,1),0)))))))))))) -> 0 | AV35: =IF(S$30="",1,IF(S$4=99,1,IF(S35="",0,IF(S$30=$AL$1,IF(ISNA(MATCH(S35,$AI$30:$AJ$30,0)),0,1),IF(S$30=$AM$1,IF(IFERROR(S35*1,"bad")="bad",0,1),IF(S$30=$AN$1,IF(IFERROR(IF(S35=TRUNC(S35),1,"bad"),"bad")="bad",0,1),IF(S$30=$AO$1,IF(AND(IF(IFERROR(S35*1,"bad")="bad",0,1)=1,S35>=0),1,0),IF(S$30=$AQ$1,IF(AND(IF(IFERROR(IF(S35=TRUNC(S35),1,"bad"),"bad")="bad",0,1)=1,S35>=0),1,0),IF(S$30=$AR$1,IF(AND(IF(IFERROR(S35*1,"bad")="bad",0,1)=1,S35>0),1,0),IF(S$30=$AS$1,IF(AND(IF(IFERROR(IF(S35=TRUNC(S35),1,"bad"),"bad")="bad",0,1)=1,S35>0),1,0),IF(S$30=$AT$1,1,IF(S$30=$AU$1,IF(IFERROR(HLOOKUP(S35,$AL$4:$AV$4,1,0),"bad")="bad",0,1),0)))))))))))) -> 1 | AW35: =IF(T$30="",1,IF(T$4=99,1,IF(T35="",0,IF(T$30=$AL$1,IF(ISNA(MATCH(T35,$AI$30:$AJ$30,0)),0,1),IF(T$30=$AM$1,IF(IFERROR(T35*1,"bad")="bad",0,1),IF(T$30=$AN$1,IF(IFERROR(IF(T35=TRUNC(T35),1,"bad"),"bad")="bad",0,1),IF(T$30=$AO$1,IF(AND(IF(IFERROR(T35*1,"bad")="bad",0,1)=1,T35>=0),1,0),IF(T$30=$AQ$1,IF(AND(IF(IFERROR(IF(T35=TRUNC(T35),1,"bad"),"bad")="bad",0,1)=1,T35>=0),1,0),IF(T$30=$AR$1,IF(AND(IF(IFERROR(T35*1,"bad")="bad",0,1)=1,T35>0),1,0),IF(T$30=$AS$1,IF(AND(IF(IFERROR(IF(T35=TRUNC(T35),1,"bad"),"bad")="bad",0,1)=1,T35>0),1,0),IF(T$30=$AT$1,1,IF(T$30=$AU$1,IF(IFERROR(HLOOKUP(T35,$AL$4:$AV$4,1,0),"bad")="bad",0,1),0)))))))))))) -> 0 | AX35: =IF(U$30="",1,IF(U$4=99,1,IF(U35="",0,IF(U$30=$AL$1,IF(ISNA(MATCH(U35,$AI$30:$AJ$30,0)),0,1),IF(U$30=$AM$1,IF(IFERROR(U35*1,"bad")="bad",0,1),IF(U$30=$AN$1,IF(IFERROR(IF(U35=TRUNC(U35),1,"bad"),"bad")="bad",0,1),IF(U$30=$AO$1,IF(AND(IF(IFERROR(U35*1,"bad")="bad",0,1)=1,U35>=0),1,0),IF(U$30=$AQ$1,IF(AND(IF(IFERROR(IF(U35=TRUNC(U35),1,"bad"),"bad")="bad",0,1)=1,U35>=0),1,0),IF(U$30=$AR$1,IF(AND(IF(IFERROR(U35*1,"bad")="bad",0,1)=1,U35>0),1,0),IF(U$30=$AS$1,IF(AND(IF(IFERROR(IF(U35=TRUNC(U35),1,"bad"),"bad")="bad",0,1)=1,U35>0),1,0),IF(U$30=$AT$1,1,IF(U$30=$AU$1,IF(IFERROR(HLOOKUP(U35,$AL$4:$AV$4,1,0),"bad")="bad",0,1),0)))))))))))) -> 0 | AY35: =IF(V$30="",1,IF(V$4=99,1,IF(V35="",0,IF(V$30=$AL$1,IF(ISNA(MATCH(V35,$AI$30:$AJ$30,0)),0,1),IF(V$30=$AM$1,IF(IFERROR(V35*1,"bad")="bad",0,1),IF(V$30=$AN$1,IF(IFERROR(IF(V35=TRUNC(V35),1,"bad"),"bad")="bad",0,1),IF(V$30=$AO$1,IF(AND(IF(IFERROR(V35*1,"bad")="bad",0,1)=1,V35>=0),1,0),IF(V$30=$AQ$1,IF(AND(IF(IFERROR(IF(V35=TRUNC(V35),1,"bad"),"bad")="bad",0,1)=1,V35>=0),1,0),IF(V$30=$AR$1,IF(AND(IF(IFERROR(V35*1,"bad")="bad",0,1)=1,V35>0),1,0),IF(V$30=$AS$1,IF(AND(IF(IFERROR(IF(V35=TRUNC(V35),1,"bad"),"bad")="bad",0,1)=1,V35>0),1,0),IF(V$30=$AT$1,1,IF(V$30=$AU$1,IF(IFERROR(HLOOKUP(V35,$AL$4:$AV$4,1,0),"bad")="bad",0,1),0)))))))))))) -> 0 | AZ35: =IF(W$30="",1,IF(W$4=99,1,IF(W35="",0,IF(W$30=$AL$1,IF(ISNA(MATCH(W35,$AI$30:$AJ$30,0)),0,1),IF(W$30=$AM$1,IF(IFERROR(W35*1,"bad")="bad",0,1),IF(W$30=$AN$1,IF(IFERROR(IF(W35=TRUNC(W35),1,"bad"),"bad")="bad",0,1),IF(W$30=$AO$1,IF(AND(IF(IFERROR(W35*1,"bad")="bad",0,1)=1,W35>=0),1,0),IF(W$30=$AQ$1,IF(AND(IF(IFERROR(IF(W35=TRUNC(W35),1,"bad"),"bad")="bad",0,1)=1,W35>=0),1,0),IF(W$30=$AR$1,IF(AND(IF(IFERROR(W35*1,"bad")="bad",0,1)=1,W35>0),1,0),IF(W$30=$AS$1,IF(AND(IF(IFERROR(IF(W35=TRUNC(W35),1,"bad"),"bad")="bad",0,1)=1,W35>0),1,0),IF(W$30=$AT$1,1,IF(W$30=$AU$1,IF(IFERROR(HLOOKUP(W35,$AL$4:$AV$4,1,0),"bad")="bad",0,1),0)))))))))))) -> 0 | ... BJ35: =IF(AG$30="",1,IF(AG$4=99,1,IF(AG35="",0,IF(AG$30=$AL$1,IF(ISNA(MATCH(AG35,$AI$30:$AJ$30,0)),0,1),IF(AG$30=$AM$1,IF(IFERROR(AG35*1,"bad")="bad",0,1),IF(AG$30=$AN$1,IF(IFERROR(IF(AG35=TRUNC(AG35),1,"bad"),"bad")="bad",0,1),IF(AG$30=$AO$1,IF(AND(IF(IFERROR(AG35*1,"bad")="bad",0,1)=1,AG35>=0),1,0),IF(AG$30=$AQ$1,IF(AND(IF(IFERROR(IF(AG35=TRUNC(AG35),1,"bad"),"bad")="bad",0,1)=1,AG35>=0),1,0),IF(AG$30=$AR$1,IF(AND(IF(IFERROR(AG35*1,"bad")="bad",0,1)=1,AG35>0),1,0),IF(AG$30=$AS$1,IF(AND(IF(IFERROR(IF(AG35=TRUNC(AG35),1,"bad"),"bad")="bad",0,1)=1,AG35>0),1,0),IF(AG$30=$AT$1,1,IF(AG$30=$AU$1,IF(IFERROR(HLOOKUP(AG35,$AL$4:$AV$4,1,0),"bad")="bad",0,1),0)))))))))))) -> 0 | BM35: =IF($F35="","",BM$30) | BN35: =IF($F35="","",BN$30) | BO35: =IF($F35="","",BO$30) | BP35: =IF($F35="","",BP$30) | BQ35: =IF($F35="","",BQ$30) | BR35: =IF($F35="","",BR$30) | BS35: =IF($F35="","",BS$30) | BT35: =IF($F35="","",BT$30) | ... BV35: =IF($F35="","",BV$30)
B36: =IF(F36="","",ROW()-30) -> 6 | C36: 510632219 | D36: 1001842024 | E36: כנס תיאטרון קהילתי נווה יוסף | F36: חברת מוסדות חנוך ותרבות בחיפה מיסוד | G36: 1 | H36: 1 | I36: 1 | J36: 1 | K36: 1 | L36: 0 | M36: 0 | N36: 0 | O36: =IF(D36="","",IF(L36="",$AI$1,IF(OR(SUM(L36:N36)=3,L36=0),1,0))) -> 1 | P36: 1 | Q36: 1 | R36: 1 | T36: 1 | U36: 1 | V36: 205 | W36: 515207 | X36: 1 | Y36: 1 | Z36: 1 | AA36: 1 | AB36: 1 | AC36: 1 | AD36: 1 | AF36: {=IF($D36="","",IF(AE36=1,1,IF(AH36<>1,$AI$1,IF(SUMPRODUCT(--(G36:AD36>=$G$6:$AD$6)*($G$6:$AD$6<>"")*($G$4:$AD$4=1))=COUNTIF($G$4:$AD$4,1),1,0))))} -> 1 | AH36: =IF(SUM(AK36:BI36)=COUNT(AK36:BI36),1,0) -> 1 | AI36: =IF($F36="","",AI$30) -> 0 | AJ36: =IF($F36="","",AJ$30) -> 1 | AK36: =IF(G$30="",1,IF(G$4=99,1,IF(G36="",0,IF(G$30=$AL$1,IF(ISNA(MATCH(G36,$AI$30:$AJ$30,0)),0,1),IF(G$30=$AM$1,IF(IFERROR(G36*1,"bad")="bad",0,1),IF(G$30=$AN$1,IF(IFERROR(IF(G36=TRUNC(G36),1,"bad"),"bad")="bad",0,1),IF(G$30=$AO$1,IF(AND(IF(IFERROR(G36*1,"bad")="bad",0,1)=1,G36>=0),1,0),IF(G$30=$AQ$1,IF(AND(IF(IFERROR(IF(G36=TRUNC(G36),1,"bad"),"bad")="bad",0,1)=1,G36>=0),1,0),IF(G$30=$AR$1,IF(AND(IF(IFERROR(G36*1,"bad")="bad",0,1)=1,G36>0),1,0),IF(G$30=$AS$1,IF(AND(IF(IFERROR(IF(G36=TRUNC(G36),1,"bad"),"bad")="bad",0,1)=1,G36>0),1,0),IF(G$30=$AT$1,1,IF(G$30=$AU$1,IF(IFERROR(HLOOKUP(G36,$AL$4:$AV$4,1,0),"bad")="bad",0,1),0)))))))))))) -> 1 | AL36: =IF(H$30="",1,IF(H$4=99,1,IF(H36="",0,IF(H$30=$AL$1,IF(ISNA(MATCH(H36,$AI$30:$AJ$30,0)),0,1),IF(H$30=$AM$1,IF(IFERROR(H36*1,"bad")="bad",0,1),IF(H$30=$AN$1,IF(IFERROR(IF(H36=TRUNC(H36),1,"bad"),"bad")="bad",0,1),IF(H$30=$AO$1,IF(AND(IF(IFERROR(H36*1,"bad")="bad",0,1)=1,H36>=0),1,0),IF(H$30=$AQ$1,IF(AND(IF(IFERROR(IF(H36=TRUNC(H36),1,"bad"),"bad")="bad",0,1)=1,H36>=0),1,0),IF(H$30=$AR$1,IF(AND(IF(IFERROR(H36*1,"bad")="bad",0,1)=1,H36>0),1,0),IF(H$30=$AS$1,IF(AND(IF(IFERROR(IF(H36=TRUNC(H36),1,"bad"),"bad")="bad",0,1)=1,H36>0),1,0),IF(H$30=$AT$1,1,IF(H$30=$AU$1,IF(IFERROR(HLOOKUP(H36,$AL$4:$AV$4,1,0),"bad")="bad",0,1),0)))))))))))) -> 1 | AM36: =IF(I$30="",1,IF(I$4=99,1,IF(I36="",0,IF(I$30=$AL$1,IF(ISNA(MATCH(I36,$AI$30:$AJ$30,0)),0,1),IF(I$30=$AM$1,IF(IFERROR(I36*1,"bad")="bad",0,1),IF(I$30=$AN$1,IF(IFERROR(IF(I36=TRUNC(I36),1,"bad"),"bad")="bad",0,1),IF(I$30=$AO$1,IF(AND(IF(IFERROR(I36*1,"bad")="bad",0,1)=1,I36>=0),1,0),IF(I$30=$AQ$1,IF(AND(IF(IFERROR(IF(I36=TRUNC(I36),1,"bad"),"bad")="bad",0,1)=1,I36>=0),1,0),IF(I$30=$AR$1,IF(AND(IF(IFERROR(I36*1,"bad")="bad",0,1)=1,I36>0),1,0),IF(I$30=$AS$1,IF(AND(IF(IFERROR(IF(I36=TRUNC(I36),1,"bad"),"bad")="bad",0,1)=1,I36>0),1,0),IF(I$30=$AT$1,1,IF(I$30=$AU$1,IF(IFERROR(HLOOKUP(I36,$AL$4:$AV$4,1,0),"bad")="bad",0,1),0)))))))))))) -> 1 | AN36: =IF(J$30="",1,IF(J$4=99,1,IF(J36="",0,IF(J$30=$AL$1,IF(ISNA(MATCH(J36,$AI$30:$AJ$30,0)),0,1),IF(J$30=$AM$1,IF(IFERROR(J36*1,"bad")="bad",0,1),IF(J$30=$AN$1,IF(IFERROR(IF(J36=TRUNC(J36),1,"bad"),"bad")="bad",0,1),IF(J$30=$AO$1,IF(AND(IF(IFERROR(J36*1,"bad")="bad",0,1)=1,J36>=0),1,0),IF(J$30=$AQ$1,IF(AND(IF(IFERROR(IF(J36=TRUNC(J36),1,"bad"),"bad")="bad",0,1)=1,J36>=0),1,0),IF(J$30=$AR$1,IF(AND(IF(IFERROR(J36*1,"bad")="bad",0,1)=1,J36>0),1,0),IF(J$30=$AS$1,IF(AND(IF(IFERROR(IF(J36=TRUNC(J36),1,"bad"),"bad")="bad",0,1)=1,J36>0),1,0),IF(J$30=$AT$1,1,IF(J$30=$AU$1,IF(IFERROR(HLOOKUP(J36,$AL$4:$AV$4,1,0),"bad")="bad",0,1),0)))))))))))) -> 1 | AO36: =IF(K$30="",1,IF(K$4=99,1,IF(K36="",0,IF(K$30=$AL$1,IF(ISNA(MATCH(K36,$AI$30:$AJ$30,0)),0,1),IF(K$30=$AM$1,IF(IFERROR(K36*1,"bad")="bad",0,1),IF(K$30=$AN$1,IF(IFERROR(IF(K36=TRUNC(K36),1,"bad"),"bad")="bad",0,1),IF(K$30=$AO$1,IF(AND(IF(IFERROR(K36*1,"bad")="bad",0,1)=1,K36>=0),1,0),IF(K$30=$AQ$1,IF(AND(IF(IFERROR(IF(K36=TRUNC(K36),1,"bad"),"bad")="bad",0,1)=1,K36>=0),1,0),IF(K$30=$AR$1,IF(AND(IF(IFERROR(K36*1,"bad")="bad",0,1)=1,K36>0),1,0),IF(K$30=$AS$1,IF(AND(IF(IFERROR(IF(K36=TRUNC(K36),1,"bad"),"bad")="bad",0,1)=1,K36>0),1,0),IF(K$30=$AT$1,1,IF(K$30=$AU$1,IF(IFERROR(HLOOKUP(K36,$AL$4:$AV$4,1,0),"bad")="bad",0,1),0)))))))))))) -> 1 | AP36: =IF(L$30="",1,IF(L$4=99,1,IF(L36="",0,IF(L$30=$AL$1,IF(ISNA(MATCH(L36,$AI$30:$AJ$30,0)),0,1),IF(L$30=$AM$1,IF(IFERROR(L36*1,"bad")="bad",0,1),IF(L$30=$AN$1,IF(IFERROR(IF(L36=TRUNC(L36),1,"bad"),"bad")="bad",0,1),IF(L$30=$AO$1,IF(AND(IF(IFERROR(L36*1,"bad")="bad",0,1)=1,L36>=0),1,0),IF(L$30=$AQ$1,IF(AND(IF(IFERROR(IF(L36=TRUNC(L36),1,"bad"),"bad")="bad",0,1)=1,L36>=0),1,0),IF(L$30=$AR$1,IF(AND(IF(IFERROR(L36*1,"bad")="bad",0,1)=1,L36>0),1,0),IF(L$30=$AS$1,IF(AND(IF(IFERROR(IF(L36=TRUNC(L36),1,"bad"),"bad")="bad",0,1)=1,L36>0),1,0),IF(L$30=$AT$1,1,IF(L$30=$AU$1,IF(IFERROR(HLOOKUP(L36,$AL$4:$AV$4,1,0),"bad")="bad",0,1),0)))))))))))) -> 1 | AQ36: =IF(M$30="",1,IF(M$4=99,1,IF(M36="",0,IF(M$30=$AL$1,IF(ISNA(MATCH(M36,$AI$30:$AJ$30,0)),0,1),IF(M$30=$AM$1,IF(IFERROR(M36*1,"bad")="bad",0,1),IF(M$30=$AN$1,IF(IFERROR(IF(M36=TRUNC(M36),1,"bad"),"bad")="bad",0,1),IF(M$30=$AO$1,IF(AND(IF(IFERROR(M36*1,"bad")="bad",0,1)=1,M36>=0),1,0),IF(M$30=$AQ$1,IF(AND(IF(IFERROR(IF(M36=TRUNC(M36),1,"bad"),"bad")="bad",0,1)=1,M36>=0),1,0),IF(M$30=$AR$1,IF(AND(IF(IFERROR(M36*1,"bad")="bad",0,1)=1,M36>0),1,0),IF(M$30=$AS$1,IF(AND(IF(IFERROR(IF(M36=TRUNC(M36),1,"bad"),"bad")="bad",0,1)=1,M36>0),1,0),IF(M$30=$AT$1,1,IF(M$30=$AU$1,IF(IFERROR(HLOOKUP(M36,$AL$4:$AV$4,1,0),"bad")="bad",0,1),0)))))))))))) -> 1 | AR36: =IF(N$30="",1,IF(N$4=99,1,IF(N36="",0,IF(N$30=$AL$1,IF(ISNA(MATCH(N36,$AI$30:$AJ$30,0)),0,1),IF(N$30=$AM$1,IF(IFERROR(N36*1,"bad")="bad",0,1),IF(N$30=$AN$1,IF(IFERROR(IF(N36=TRUNC(N36),1,"bad"),"bad")="bad",0,1),IF(N$30=$AO$1,IF(AND(IF(IFERROR(N36*1,"bad")="bad",0,1)=1,N36>=0),1,0),IF(N$30=$AQ$1,IF(AND(IF(IFERROR(IF(N36=TRUNC(N36),1,"bad"),"bad")="bad",0,1)=1,N36>=0),1,0),IF(N$30=$AR$1,IF(AND(IF(IFERROR(N36*1,"bad")="bad",0,1)=1,N36>0),1,0),IF(N$30=$AS$1,IF(AND(IF(IFERROR(IF(N36=TRUNC(N36),1,"bad"),"bad")="bad",0,1)=1,N36>0),1,0),IF(N$30=$AT$1,1,IF(N$30=$AU$1,IF(IFERROR(HLOOKUP(N36,$AL$4:$AV$4,1,0),"bad")="bad",0,1),0)))))))))))) -> 1 | AS36: =IF(P$30="",1,IF(P$4=99,1,IF(P36="",0,IF(P$30=$AL$1,IF(ISNA(MATCH(P36,$AI$30:$AJ$30,0)),0,1),IF(P$30=$AM$1,IF(IFERROR(P36*1,"bad")="bad",0,1),IF(P$30=$AN$1,IF(IFERROR(IF(P36=TRUNC(P36),1,"bad"),"bad")="bad",0,1),IF(P$30=$AO$1,IF(AND(IF(IFERROR(P36*1,"bad")="bad",0,1)=1,P36>=0),1,0),IF(P$30=$AQ$1,IF(AND(IF(IFERROR(IF(P36=TRUNC(P36),1,"bad"),"bad")="bad",0,1)=1,P36>=0),1,0),IF(P$30=$AR$1,IF(AND(IF(IFERROR(P36*1,"bad")="bad",0,1)=1,P36>0),1,0),IF(P$30=$AS$1,IF(AND(IF(IFERROR(IF(P36=TRUNC(P36),1,"bad"),"bad")="bad",0,1)=1,P36>0),1,0),IF(P$30=$AT$1,1,IF(P$30=$AU$1,IF(IFERROR(HLOOKUP(P36,$AL$4:$AV$4,1,0),"bad")="bad",0,1),0)))))))))))) -> 1 | AT36: =IF(Q$30="",1,IF(Q$4=99,1,IF(Q36="",0,IF(Q$30=$AL$1,IF(ISNA(MATCH(Q36,$AI$30:$AJ$30,0)),0,1),IF(Q$30=$AM$1,IF(IFERROR(Q36*1,"bad")="bad",0,1),IF(Q$30=$AN$1,IF(IFERROR(IF(Q36=TRUNC(Q36),1,"bad"),"bad")="bad",0,1),IF(Q$30=$AO$1,IF(AND(IF(IFERROR(Q36*1,"bad")="bad",0,1)=1,Q36>=0),1,0),IF(Q$30=$AQ$1,IF(AND(IF(IFERROR(IF(Q36=TRUNC(Q36),1,"bad"),"bad")="bad",0,1)=1,Q36>=0),1,0),IF(Q$30=$AR$1,IF(AND(IF(IFERROR(Q36*1,"bad")="bad",0,1)=1,Q36>0),1,0),IF(Q$30=$AS$1,IF(AND(IF(IFERROR(IF(Q36=TRUNC(Q36),1,"bad"),"bad")="bad",0,1)=1,Q36>0),1,0),IF(Q$30=$AT$1,1,IF(Q$30=$AU$1,IF(IFERROR(HLOOKUP(Q36,$AL$4:$AV$4,1,0),"bad")="bad",0,1),0)))))))))))) -> 1 | AU36: =IF(R$30="",1,IF(R$4=99,1,IF(R36="",0,IF(R$30=$AL$1,IF(ISNA(MATCH(R36,$AI$30:$AJ$30,0)),0,1),IF(R$30=$AM$1,IF(IFERROR(R36*1,"bad")="bad",0,1),IF(R$30=$AN$1,IF(IFERROR(IF(R36=TRUNC(R36),1,"bad"),"bad")="bad",0,1),IF(R$30=$AO$1,IF(AND(IF(IFERROR(R36*1,"bad")="bad",0,1)=1,R36>=0),1,0),IF(R$30=$AQ$1,IF(AND(IF(IFERROR(IF(R36=TRUNC(R36),1,"bad"),"bad")="bad",0,1)=1,R36>=0),1,0),IF(R$30=$AR$1,IF(AND(IF(IFERROR(R36*1,"bad")="bad",0,1)=1,R36>0),1,0),IF(R$30=$AS$1,IF(AND(IF(IFERROR(IF(R36=TRUNC(R36),1,"bad"),"bad")="bad",0,1)=1,R36>0),1,0),IF(R$30=$AT$1,1,IF(R$30=$AU$1,IF(IFERROR(HLOOKUP(R36,$AL$4:$AV$4,1,0),"bad")="bad",0,1),0)))))))))))) -> 1 | AV36: =IF(S$30="",1,IF(S$4=99,1,IF(S36="",0,IF(S$30=$AL$1,IF(ISNA(MATCH(S36,$AI$30:$AJ$30,0)),0,1),IF(S$30=$AM$1,IF(IFERROR(S36*1,"bad")="bad",0,1),IF(S$30=$AN$1,IF(IFERROR(IF(S36=TRUNC(S36),1,"bad"),"bad")="bad",0,1),IF(S$30=$AO$1,IF(AND(IF(IFERROR(S36*1,"bad")="bad",0,1)=1,S36>=0),1,0),IF(S$30=$AQ$1,IF(AND(IF(IFERROR(IF(S36=TRUNC(S36),1,"bad"),"bad")="bad",0,1)=1,S36>=0),1,0),IF(S$30=$AR$1,IF(AND(IF(IFERROR(S36*1,"bad")="bad",0,1)=1,S36>0),1,0),IF(S$30=$AS$1,IF(AND(IF(IFERROR(IF(S36=TRUNC(S36),1,"bad"),"bad")="bad",0,1)=1,S36>0),1,0),IF(S$30=$AT$1,1,IF(S$30=$AU$1,IF(IFERROR(HLOOKUP(S36,$AL$4:$AV$4,1,0),"bad")="bad",0,1),0)))))))))))) -> 1 | AW36: =IF(T$30="",1,IF(T$4=99,1,IF(T36="",0,IF(T$30=$AL$1,IF(ISNA(MATCH(T36,$AI$30:$AJ$30,0)),0,1),IF(T$30=$AM$1,IF(IFERROR(T36*1,"bad")="bad",0,1),IF(T$30=$AN$1,IF(IFERROR(IF(T36=TRUNC(T36),1,"bad"),"bad")="bad",0,1),IF(T$30=$AO$1,IF(AND(IF(IFERROR(T36*1,"bad")="bad",0,1)=1,T36>=0),1,0),IF(T$30=$AQ$1,IF(AND(IF(IFERROR(IF(T36=TRUNC(T36),1,"bad"),"bad")="bad",0,1)=1,T36>=0),1,0),IF(T$30=$AR$1,IF(AND(IF(IFERROR(T36*1,"bad")="bad",0,1)=1,T36>0),1,0),IF(T$30=$AS$1,IF(AND(IF(IFERROR(IF(T36=TRUNC(T36),1,"bad"),"bad")="bad",0,1)=1,T36>0),1,0),IF(T$30=$AT$1,1,IF(T$30=$AU$1,IF(IFERROR(HLOOKUP(T36,$AL$4:$AV$4,1,0),"bad")="bad",0,1),0)))))))))))) -> 1 | AX36: =IF(U$30="",1,IF(U$4=99,1,IF(U36="",0,IF(U$30=$AL$1,IF(ISNA(MATCH(U36,$AI$30:$AJ$30,0)),0,1),IF(U$30=$AM$1,IF(IFERROR(U36*1,"bad")="bad",0,1),IF(U$30=$AN$1,IF(IFERROR(IF(U36=TRUNC(U36),1,"bad"),"bad")="bad",0,1),IF(U$30=$AO$1,IF(AND(IF(IFERROR(U36*1,"bad")="bad",0,1)=1,U36>=0),1,0),IF(U$30=$AQ$1,IF(AND(IF(IFERROR(IF(U36=TRUNC(U36),1,"bad"),"bad")="bad",0,1)=1,U36>=0),1,0),IF(U$30=$AR$1,IF(AND(IF(IFERROR(U36*1,"bad")="bad",0,1)=1,U36>0),1,0),IF(U$30=$AS$1,IF(AND(IF(IFERROR(IF(U36=TRUNC(U36),1,"bad"),"bad")="bad",0,1)=1,U36>0),1,0),IF(U$30=$AT$1,1,IF(U$30=$AU$1,IF(IFERROR(HLOOKUP(U36,$AL$4:$AV$4,1,0),"bad")="bad",0,1),0)))))))))))) -> 1 | AY36: =IF(V$30="",1,IF(V$4=99,1,IF(V36="",0,IF(V$30=$AL$1,IF(ISNA(MATCH(V36,$AI$30:$AJ$30,0)),0,1),IF(V$30=$AM$1,IF(IFERROR(V36*1,"bad")="bad",0,1),IF(V$30=$AN$1,IF(IFERROR(IF(V36=TRUNC(V36),1,"bad"),"bad")="bad",0,1),IF(V$30=$AO$1,IF(AND(IF(IFERROR(V36*1,"bad")="bad",0,1)=1,V36>=0),1,0),IF(V$30=$AQ$1,IF(AND(IF(IFERROR(IF(V36=TRUNC(V36),1,"bad"),"bad")="bad",0,1)=1,V36>=0),1,0),IF(V$30=$AR$1,IF(AND(IF(IFERROR(V36*1,"bad")="bad",0,1)=1,V36>0),1,0),IF(V$30=$AS$1,IF(AND(IF(IFERROR(IF(V36=TRUNC(V36),1,"bad"),"bad")="bad",0,1)=1,V36>0),1,0),IF(V$30=$AT$1,1,IF(V$30=$AU$1,IF(IFERROR(HLOOKUP(V36,$AL$4:$AV$4,1,0),"bad")="bad",0,1),0)))))))))))) -> 1 | AZ36: =IF(W$30="",1,IF(W$4=99,1,IF(W36="",0,IF(W$30=$AL$1,IF(ISNA(MATCH(W36,$AI$30:$AJ$30,0)),0,1),IF(W$30=$AM$1,IF(IFERROR(W36*1,"bad")="bad",0,1),IF(W$30=$AN$1,IF(IFERROR(IF(W36=TRUNC(W36),1,"bad"),"bad")="bad",0,1),IF(W$30=$AO$1,IF(AND(IF(IFERROR(W36*1,"bad")="bad",0,1)=1,W36>=0),1,0),IF(W$30=$AQ$1,IF(AND(IF(IFERROR(IF(W36=TRUNC(W36),1,"bad"),"bad")="bad",0,1)=1,W36>=0),1,0),IF(W$30=$AR$1,IF(AND(IF(IFERROR(W36*1,"bad")="bad",0,1)=1,W36>0),1,0),IF(W$30=$AS$1,IF(AND(IF(IFERROR(IF(W36=TRUNC(W36),1,"bad"),"bad")="bad",0,1)=1,W36>0),1,0),IF(W$30=$AT$1,1,IF(W$30=$AU$1,IF(IFERROR(HLOOKUP(W36,$AL$4:$AV$4,1,0),"bad")="bad",0,1),0)))))))))))) -> 1 | ... BJ36: =IF(AG$30="",1,IF(AG$4=99,1,IF(AG36="",0,IF(AG$30=$AL$1,IF(ISNA(MATCH(AG36,$AI$30:$AJ$30,0)),0,1),IF(AG$30=$AM$1,IF(IFERROR(AG36*1,"bad")="bad",0,1),IF(AG$30=$AN$1,IF(IFERROR(IF(AG36=TRUNC(AG36),1,"bad"),"bad")="bad",0,1),IF(AG$30=$AO$1,IF(AND(IF(IFERROR(AG36*1,"bad")="bad",0,1)=1,AG36>=0),1,0),IF(AG$30=$AQ$1,IF(AND(IF(IFERROR(IF(AG36=TRUNC(AG36),1,"bad"),"bad")="bad",0,1)=1,AG36>=0),1,0),IF(AG$30=$AR$1,IF(AND(IF(IFERROR(AG36*1,"bad")="bad",0,1)=1,AG36>0),1,0),IF(AG$30=$AS$1,IF(AND(IF(IFERROR(IF(AG36=TRUNC(AG36),1,"bad"),"bad")="bad",0,1)=1,AG36>0),1,0),IF(AG$30=$AT$1,1,IF(AG$30=$AU$1,IF(IFERROR(HLOOKUP(AG36,$AL$4:$AV$4,1,0),"bad")="bad",0,1),0)))))))))))) -> 0 | BM36: =IF($F36="","",BM$30) -> 1 | BN36: =IF($F36="","",BN$30) -> 2 | BO36: =IF($F36="","",BO$30) -> 3 | BP36: =IF($F36="","",BP$30) -> 4 | BQ36: =IF($F36="","",BQ$30) -> 5 | BR36: =IF($F36="","",BR$30) -> 6 | BS36: =IF($F36="","",BS$30) -> 7 | BT36: =IF($F36="","",BT$30) -> 8 | ... BV36: =IF($F36="","",BV$30) -> 10
B37: =IF(F37="","",ROW()-30) | O37: =IF(D37="","",IF(L37="",$AI$1,IF(OR(SUM(L37:N37)=3,L37=0),1,0))) | AF37: {=IF($D37="","",IF(AE37=1,1,IF(AH37<>1,$AI$1,IF(SUMPRODUCT(--(G37:AD37>=$G$6:$AD$6)*($G$6:$AD$6<>"")*($G$4:$AD$4=1))=COUNTIF($G$4:$AD$4,1),1,0))))} | AH37: =IF(SUM(AK37:BI37)=COUNT(AK37:BI37),1,0) -> 0 | AI37: =IF($F37="","",AI$30) | AJ37: =IF($F37="","",AJ$30) | AK37: =IF(G$30="",1,IF(G$4=99,1,IF(G37="",0,IF(G$30=$AL$1,IF(ISNA(MATCH(G37,$AI$30:$AJ$30,0)),0,1),IF(G$30=$AM$1,IF(IFERROR(G37*1,"bad")="bad",0,1),IF(G$30=$AN$1,IF(IFERROR(IF(G37=TRUNC(G37),1,"bad"),"bad")="bad",0,1),IF(G$30=$AO$1,IF(AND(IF(IFERROR(G37*1,"bad")="bad",0,1)=1,G37>=0),1,0),IF(G$30=$AQ$1,IF(AND(IF(IFERROR(IF(G37=TRUNC(G37),1,"bad"),"bad")="bad",0,1)=1,G37>=0),1,0),IF(G$30=$AR$1,IF(AND(IF(IFERROR(G37*1,"bad")="bad",0,1)=1,G37>0),1,0),IF(G$30=$AS$1,IF(AND(IF(IFERROR(IF(G37=TRUNC(G37),1,"bad"),"bad")="bad",0,1)=1,G37>0),1,0),IF(G$30=$AT$1,1,IF(G$30=$AU$1,IF(IFERROR(HLOOKUP(G37,$AL$4:$AV$4,1,0),"bad")="bad",0,1),0)))))))))))) -> 0 | AL37: =IF(H$30="",1,IF(H$4=99,1,IF(H37="",0,IF(H$30=$AL$1,IF(ISNA(MATCH(H37,$AI$30:$AJ$30,0)),0,1),IF(H$30=$AM$1,IF(IFERROR(H37*1,"bad")="bad",0,1),IF(H$30=$AN$1,IF(IFERROR(IF(H37=TRUNC(H37),1,"bad"),"bad")="bad",0,1),IF(H$30=$AO$1,IF(AND(IF(IFERROR(H37*1,"bad")="bad",0,1)=1,H37>=0),1,0),IF(H$30=$AQ$1,IF(AND(IF(IFERROR(IF(H37=TRUNC(H37),1,"bad"),"bad")="bad",0,1)=1,H37>=0),1,0),IF(H$30=$AR$1,IF(AND(IF(IFERROR(H37*1,"bad")="bad",0,1)=1,H37>0),1,0),IF(H$30=$AS$1,IF(AND(IF(IFERROR(IF(H37=TRUNC(H37),1,"bad"),"bad")="bad",0,1)=1,H37>0),1,0),IF(H$30=$AT$1,1,IF(H$30=$AU$1,IF(IFERROR(HLOOKUP(H37,$AL$4:$AV$4,1,0),"bad")="bad",0,1),0)))))))))))) -> 0 | AM37: =IF(I$30="",1,IF(I$4=99,1,IF(I37="",0,IF(I$30=$AL$1,IF(ISNA(MATCH(I37,$AI$30:$AJ$30,0)),0,1),IF(I$30=$AM$1,IF(IFERROR(I37*1,"bad")="bad",0,1),IF(I$30=$AN$1,IF(IFERROR(IF(I37=TRUNC(I37),1,"bad"),"bad")="bad",0,1),IF(I$30=$AO$1,IF(AND(IF(IFERROR(I37*1,"bad")="bad",0,1)=1,I37>=0),1,0),IF(I$30=$AQ$1,IF(AND(IF(IFERROR(IF(I37=TRUNC(I37),1,"bad"),"bad")="bad",0,1)=1,I37>=0),1,0),IF(I$30=$AR$1,IF(AND(IF(IFERROR(I37*1,"bad")="bad",0,1)=1,I37>0),1,0),IF(I$30=$AS$1,IF(AND(IF(IFERROR(IF(I37=TRUNC(I37),1,"bad"),"bad")="bad",0,1)=1,I37>0),1,0),IF(I$30=$AT$1,1,IF(I$30=$AU$1,IF(IFERROR(HLOOKUP(I37,$AL$4:$AV$4,1,0),"bad")="bad",0,1),0)))))))))))) -> 0 | AN37: =IF(J$30="",1,IF(J$4=99,1,IF(J37="",0,IF(J$30=$AL$1,IF(ISNA(MATCH(J37,$AI$30:$AJ$30,0)),0,1),IF(J$30=$AM$1,IF(IFERROR(J37*1,"bad")="bad",0,1),IF(J$30=$AN$1,IF(IFERROR(IF(J37=TRUNC(J37),1,"bad"),"bad")="bad",0,1),IF(J$30=$AO$1,IF(AND(IF(IFERROR(J37*1,"bad")="bad",0,1)=1,J37>=0),1,0),IF(J$30=$AQ$1,IF(AND(IF(IFERROR(IF(J37=TRUNC(J37),1,"bad"),"bad")="bad",0,1)=1,J37>=0),1,0),IF(J$30=$AR$1,IF(AND(IF(IFERROR(J37*1,"bad")="bad",0,1)=1,J37>0),1,0),IF(J$30=$AS$1,IF(AND(IF(IFERROR(IF(J37=TRUNC(J37),1,"bad"),"bad")="bad",0,1)=1,J37>0),1,0),IF(J$30=$AT$1,1,IF(J$30=$AU$1,IF(IFERROR(HLOOKUP(J37,$AL$4:$AV$4,1,0),"bad")="bad",0,1),0)))))))))))) -> 0 | AO37: =IF(K$30="",1,IF(K$4=99,1,IF(K37="",0,IF(K$30=$AL$1,IF(ISNA(MATCH(K37,$AI$30:$AJ$30,0)),0,1),IF(K$30=$AM$1,IF(IFERROR(K37*1,"bad")="bad",0,1),IF(K$30=$AN$1,IF(IFERROR(IF(K37=TRUNC(K37),1,"bad"),"bad")="bad",0,1),IF(K$30=$AO$1,IF(AND(IF(IFERROR(K37*1,"bad")="bad",0,1)=1,K37>=0),1,0),IF(K$30=$AQ$1,IF(AND(IF(IFERROR(IF(K37=TRUNC(K37),1,"bad"),"bad")="bad",0,1)=1,K37>=0),1,0),IF(K$30=$AR$1,IF(AND(IF(IFERROR(K37*1,"bad")="bad",0,1)=1,K37>0),1,0),IF(K$30=$AS$1,IF(AND(IF(IFERROR(IF(K37=TRUNC(K37),1,"bad"),"bad")="bad",0,1)=1,K37>0),1,0),IF(K$30=$AT$1,1,IF(K$30=$AU$1,IF(IFERROR(HLOOKUP(K37,$AL$4:$AV$4,1,0),"bad")="bad",0,1),0)))))))))))) -> 0 | AP37: =IF(L$30="",1,IF(L$4=99,1,IF(L37="",0,IF(L$30=$AL$1,IF(ISNA(MATCH(L37,$AI$30:$AJ$30,0)),0,1),IF(L$30=$AM$1,IF(IFERROR(L37*1,"bad")="bad",0,1),IF(L$30=$AN$1,IF(IFERROR(IF(L37=TRUNC(L37),1,"bad"),"bad")="bad",0,1),IF(L$30=$AO$1,IF(AND(IF(IFERROR(L37*1,"bad")="bad",0,1)=1,L37>=0),1,0),IF(L$30=$AQ$1,IF(AND(IF(IFERROR(IF(L37=TRUNC(L37),1,"bad"),"bad")="bad",0,1)=1,L37>=0),1,0),IF(L$30=$AR$1,IF(AND(IF(IFERROR(L37*1,"bad")="bad",0,1)=1,L37>0),1,0),IF(L$30=$AS$1,IF(AND(IF(IFERROR(IF(L37=TRUNC(L37),1,"bad"),"bad")="bad",0,1)=1,L37>0),1,0),IF(L$30=$AT$1,1,IF(L$30=$AU$1,IF(IFERROR(HLOOKUP(L37,$AL$4:$AV$4,1,0),"bad")="bad",0,1),0)))))))))))) -> 0 | AQ37: =IF(M$30="",1,IF(M$4=99,1,IF(M37="",0,IF(M$30=$AL$1,IF(ISNA(MATCH(M37,$AI$30:$AJ$30,0)),0,1),IF(M$30=$AM$1,IF(IFERROR(M37*1,"bad")="bad",0,1),IF(M$30=$AN$1,IF(IFERROR(IF(M37=TRUNC(M37),1,"bad"),"bad")="bad",0,1),IF(M$30=$AO$1,IF(AND(IF(IFERROR(M37*1,"bad")="bad",0,1)=1,M37>=0),1,0),IF(M$30=$AQ$1,IF(AND(IF(IFERROR(IF(M37=TRUNC(M37),1,"bad"),"bad")="bad",0,1)=1,M37>=0),1,0),IF(M$30=$AR$1,IF(AND(IF(IFERROR(M37*1,"bad")="bad",0,1)=1,M37>0),1,0),IF(M$30=$AS$1,IF(AND(IF(IFERROR(IF(M37=TRUNC(M37),1,"bad"),"bad")="bad",0,1)=1,M37>0),1,0),IF(M$30=$AT$1,1,IF(M$30=$AU$1,IF(IFERROR(HLOOKUP(M37,$AL$4:$AV$4,1,0),"bad")="bad",0,1),0)))))))))))) -> 1 | AR37: =IF(N$30="",1,IF(N$4=99,1,IF(N37="",0,IF(N$30=$AL$1,IF(ISNA(MATCH(N37,$AI$30:$AJ$30,0)),0,1),IF(N$30=$AM$1,IF(IFERROR(N37*1,"bad")="bad",0,1),IF(N$30=$AN$1,IF(IFERROR(IF(N37=TRUNC(N37),1,"bad"),"bad")="bad",0,1),IF(N$30=$AO$1,IF(AND(IF(IFERROR(N37*1,"bad")="bad",0,1)=1,N37>=0),1,0),IF(N$30=$AQ$1,IF(AND(IF(IFERROR(IF(N37=TRUNC(N37),1,"bad"),"bad")="bad",0,1)=1,N37>=0),1,0),IF(N$30=$AR$1,IF(AND(IF(IFERROR(N37*1,"bad")="bad",0,1)=1,N37>0),1,0),IF(N$30=$AS$1,IF(AND(IF(IFERROR(IF(N37=TRUNC(N37),1,"bad"),"bad")="bad",0,1)=1,N37>0),1,0),IF(N$30=$AT$1,1,IF(N$30=$AU$1,IF(IFERROR(HLOOKUP(N37,$AL$4:$AV$4,1,0),"bad")="bad",0,1),0)))))))))))) -> 1 | AS37: =IF(P$30="",1,IF(P$4=99,1,IF(P37="",0,IF(P$30=$AL$1,IF(ISNA(MATCH(P37,$AI$30:$AJ$30,0)),0,1),IF(P$30=$AM$1,IF(IFERROR(P37*1,"bad")="bad",0,1),IF(P$30=$AN$1,IF(IFERROR(IF(P37=TRUNC(P37),1,"bad"),"bad")="bad",0,1),IF(P$30=$AO$1,IF(AND(IF(IFERROR(P37*1,"bad")="bad",0,1)=1,P37>=0),1,0),IF(P$30=$AQ$1,IF(AND(IF(IFERROR(IF(P37=TRUNC(P37),1,"bad"),"bad")="bad",0,1)=1,P37>=0),1,0),IF(P$30=$AR$1,IF(AND(IF(IFERROR(P37*1,"bad")="bad",0,1)=1,P37>0),1,0),IF(P$30=$AS$1,IF(AND(IF(IFERROR(IF(P37=TRUNC(P37),1,"bad"),"bad")="bad",0,1)=1,P37>0),1,0),IF(P$30=$AT$1,1,IF(P$30=$AU$1,IF(IFERROR(HLOOKUP(P37,$AL$4:$AV$4,1,0),"bad")="bad",0,1),0)))))))))))) -> 0 | AT37: =IF(Q$30="",1,IF(Q$4=99,1,IF(Q37="",0,IF(Q$30=$AL$1,IF(ISNA(MATCH(Q37,$AI$30:$AJ$30,0)),0,1),IF(Q$30=$AM$1,IF(IFERROR(Q37*1,"bad")="bad",0,1),IF(Q$30=$AN$1,IF(IFERROR(IF(Q37=TRUNC(Q37),1,"bad"),"bad")="bad",0,1),IF(Q$30=$AO$1,IF(AND(IF(IFERROR(Q37*1,"bad")="bad",0,1)=1,Q37>=0),1,0),IF(Q$30=$AQ$1,IF(AND(IF(IFERROR(IF(Q37=TRUNC(Q37),1,"bad"),"bad")="bad",0,1)=1,Q37>=0),1,0),IF(Q$30=$AR$1,IF(AND(IF(IFERROR(Q37*1,"bad")="bad",0,1)=1,Q37>0),1,0),IF(Q$30=$AS$1,IF(AND(IF(IFERROR(IF(Q37=TRUNC(Q37),1,"bad"),"bad")="bad",0,1)=1,Q37>0),1,0),IF(Q$30=$AT$1,1,IF(Q$30=$AU$1,IF(IFERROR(HLOOKUP(Q37,$AL$4:$AV$4,1,0),"bad")="bad",0,1),0)))))))))))) -> 0 | AU37: =IF(R$30="",1,IF(R$4=99,1,IF(R37="",0,IF(R$30=$AL$1,IF(ISNA(MATCH(R37,$AI$30:$AJ$30,0)),0,1),IF(R$30=$AM$1,IF(IFERROR(R37*1,"bad")="bad",0,1),IF(R$30=$AN$1,IF(IFERROR(IF(R37=TRUNC(R37),1,"bad"),"bad")="bad",0,1),IF(R$30=$AO$1,IF(AND(IF(IFERROR(R37*1,"bad")="bad",0,1)=1,R37>=0),1,0),IF(R$30=$AQ$1,IF(AND(IF(IFERROR(IF(R37=TRUNC(R37),1,"bad"),"bad")="bad",0,1)=1,R37>=0),1,0),IF(R$30=$AR$1,IF(AND(IF(IFERROR(R37*1,"bad")="bad",0,1)=1,R37>0),1,0),IF(R$30=$AS$1,IF(AND(IF(IFERROR(IF(R37=TRUNC(R37),1,"bad"),"bad")="bad",0,1)=1,R37>0),1,0),IF(R$30=$AT$1,1,IF(R$30=$AU$1,IF(IFERROR(HLOOKUP(R37,$AL$4:$AV$4,1,0),"bad")="bad",0,1),0)))))))))))) -> 0 | AV37: =IF(S$30="",1,IF(S$4=99,1,IF(S37="",0,IF(S$30=$AL$1,IF(ISNA(MATCH(S37,$AI$30:$AJ$30,0)),0,1),IF(S$30=$AM$1,IF(IFERROR(S37*1,"bad")="bad",0,1),IF(S$30=$AN$1,IF(IFERROR(IF(S37=TRUNC(S37),1,"bad"),"bad")="bad",0,1),IF(S$30=$AO$1,IF(AND(IF(IFERROR(S37*1,"bad")="bad",0,1)=1,S37>=0),1,0),IF(S$30=$AQ$1,IF(AND(IF(IFERROR(IF(S37=TRUNC(S37),1,"bad"),"bad")="bad",0,1)=1,S37>=0),1,0),IF(S$30=$AR$1,IF(AND(IF(IFERROR(S37*1,"bad")="bad",0,1)=1,S37>0),1,0),IF(S$30=$AS$1,IF(AND(IF(IFERROR(IF(S37=TRUNC(S37),1,"bad"),"bad")="bad",0,1)=1,S37>0),1,0),IF(S$30=$AT$1,1,IF(S$30=$AU$1,IF(IFERROR(HLOOKUP(S37,$AL$4:$AV$4,1,0),"bad")="bad",0,1),0)))))))))))) -> 1 | AW37: =IF(T$30="",1,IF(T$4=99,1,IF(T37="",0,IF(T$30=$AL$1,IF(ISNA(MATCH(T37,$AI$30:$AJ$30,0)),0,1),IF(T$30=$AM$1,IF(IFERROR(T37*1,"bad")="bad",0,1),IF(T$30=$AN$1,IF(IFERROR(IF(T37=TRUNC(T37),1,"bad"),"bad")="bad",0,1),IF(T$30=$AO$1,IF(AND(IF(IFERROR(T37*1,"bad")="bad",0,1)=1,T37>=0),1,0),IF(T$30=$AQ$1,IF(AND(IF(IFERROR(IF(T37=TRUNC(T37),1,"bad"),"bad")="bad",0,1)=1,T37>=0),1,0),IF(T$30=$AR$1,IF(AND(IF(IFERROR(T37*1,"bad")="bad",0,1)=1,T37>0),1,0),IF(T$30=$AS$1,IF(AND(IF(IFERROR(IF(T37=TRUNC(T37),1,"bad"),"bad")="bad",0,1)=1,T37>0),1,0),IF(T$30=$AT$1,1,IF(T$30=$AU$1,IF(IFERROR(HLOOKUP(T37,$AL$4:$AV$4,1,0),"bad")="bad",0,1),0)))))))))))) -> 0 | AX37: =IF(U$30="",1,IF(U$4=99,1,IF(U37="",0,IF(U$30=$AL$1,IF(ISNA(MATCH(U37,$AI$30:$AJ$30,0)),0,1),IF(U$30=$AM$1,IF(IFERROR(U37*1,"bad")="bad",0,1),IF(U$30=$AN$1,IF(IFERROR(IF(U37=TRUNC(U37),1,"bad"),"bad")="bad",0,1),IF(U$30=$AO$1,IF(AND(IF(IFERROR(U37*1,"bad")="bad",0,1)=1,U37>=0),1,0),IF(U$30=$AQ$1,IF(AND(IF(IFERROR(IF(U37=TRUNC(U37),1,"bad"),"bad")="bad",0,1)=1,U37>=0),1,0),IF(U$30=$AR$1,IF(AND(IF(IFERROR(U37*1,"bad")="bad",0,1)=1,U37>0),1,0),IF(U$30=$AS$1,IF(AND(IF(IFERROR(IF(U37=TRUNC(U37),1,"bad"),"bad")="bad",0,1)=1,U37>0),1,0),IF(U$30=$AT$1,1,IF(U$30=$AU$1,IF(IFERROR(HLOOKUP(U37,$AL$4:$AV$4,1,0),"bad")="bad",0,1),0)))))))))))) -> 0 | AY37: =IF(V$30="",1,IF(V$4=99,1,IF(V37="",0,IF(V$30=$AL$1,IF(ISNA(MATCH(V37,$AI$30:$AJ$30,0)),0,1),IF(V$30=$AM$1,IF(IFERROR(V37*1,"bad")="bad",0,1),IF(V$30=$AN$1,IF(IFERROR(IF(V37=TRUNC(V37),1,"bad"),"bad")="bad",0,1),IF(V$30=$AO$1,IF(AND(IF(IFERROR(V37*1,"bad")="bad",0,1)=1,V37>=0),1,0),IF(V$30=$AQ$1,IF(AND(IF(IFERROR(IF(V37=TRUNC(V37),1,"bad"),"bad")="bad",0,1)=1,V37>=0),1,0),IF(V$30=$AR$1,IF(AND(IF(IFERROR(V37*1,"bad")="bad",0,1)=1,V37>0),1,0),IF(V$30=$AS$1,IF(AND(IF(IFERROR(IF(V37=TRUNC(V37),1,"bad"),"bad")="bad",0,1)=1,V37>0),1,0),IF(V$30=$AT$1,1,IF(V$30=$AU$1,IF(IFERROR(HLOOKUP(V37,$AL$4:$AV$4,1,0),"bad")="bad",0,1),0)))))))))))) -> 0 | AZ37: =IF(W$30="",1,IF(W$4=99,1,IF(W37="",0,IF(W$30=$AL$1,IF(ISNA(MATCH(W37,$AI$30:$AJ$30,0)),0,1),IF(W$30=$AM$1,IF(IFERROR(W37*1,"bad")="bad",0,1),IF(W$30=$AN$1,IF(IFERROR(IF(W37=TRUNC(W37),1,"bad"),"bad")="bad",0,1),IF(W$30=$AO$1,IF(AND(IF(IFERROR(W37*1,"bad")="bad",0,1)=1,W37>=0),1,0),IF(W$30=$AQ$1,IF(AND(IF(IFERROR(IF(W37=TRUNC(W37),1,"bad"),"bad")="bad",0,1)=1,W37>=0),1,0),IF(W$30=$AR$1,IF(AND(IF(IFERROR(W37*1,"bad")="bad",0,1)=1,W37>0),1,0),IF(W$30=$AS$1,IF(AND(IF(IFERROR(IF(W37=TRUNC(W37),1,"bad"),"bad")="bad",0,1)=1,W37>0),1,0),IF(W$30=$AT$1,1,IF(W$30=$AU$1,IF(IFERROR(HLOOKUP(W37,$AL$4:$AV$4,1,0),"bad")="bad",0,1),0)))))))))))) -> 0 | ... BJ37: =IF(AG$30="",1,IF(AG$4=99,1,IF(AG37="",0,IF(AG$30=$AL$1,IF(ISNA(MATCH(AG37,$AI$30:$AJ$30,0)),0,1),IF(AG$30=$AM$1,IF(IFERROR(AG37*1,"bad")="bad",0,1),IF(AG$30=$AN$1,IF(IFERROR(IF(AG37=TRUNC(AG37),1,"bad"),"bad")="bad",0,1),IF(AG$30=$AO$1,IF(AND(IF(IFERROR(AG37*1,"bad")="bad",0,1)=1,AG37>=0),1,0),IF(AG$30=$AQ$1,IF(AND(IF(IFERROR(IF(AG37=TRUNC(AG37),1,"bad"),"bad")="bad",0,1)=1,AG37>=0),1,0),IF(AG$30=$AR$1,IF(AND(IF(IFERROR(AG37*1,"bad")="bad",0,1)=1,AG37>0),1,0),IF(AG$30=$AS$1,IF(AND(IF(IFERROR(IF(AG37=TRUNC(AG37),1,"bad"),"bad")="bad",0,1)=1,AG37>0),1,0),IF(AG$30=$AT$1,1,IF(AG$30=$AU$1,IF(IFERROR(HLOOKUP(AG37,$AL$4:$AV$4,1,0),"bad")="bad",0,1),0)))))))))))) -> 0 | BM37: =IF($F37="","",BM$30) | BN37: =IF($F37="","",BN$30) | BO37: =IF($F37="","",BO$30) | BP37: =IF($F37="","",BP$30) | BQ37: =IF($F37="","",BQ$30) | BR37: =IF($F37="","",BR$30) | BS37: =IF($F37="","",BS$30) | BT37: =IF($F37="","",BT$30) | ... BV37: =IF($F37="","",BV$30)
B38: =IF(F38="","",ROW()-30) | O38: =IF(D38="","",IF(L38="",$AI$1,IF(OR(SUM(L38:N38)=3,L38=0),1,0))) | AF38: {=IF($D38="","",IF(AE38=1,1,IF(AH38<>1,$AI$1,IF(SUMPRODUCT(--(G38:AD38>=$G$6:$AD$6)*($G$6:$AD$6<>"")*($G$4:$AD$4=1))=COUNTIF($G$4:$AD$4,1),1,0))))} | AH38: =IF(SUM(AK38:BI38)=COUNT(AK38:BI38),1,0) -> 0 | AI38: =IF($F38="","",AI$30) | AJ38: =IF($F38="","",AJ$30) | AK38: =IF(G$30="",1,IF(G$4=99,1,IF(G38="",0,IF(G$30=$AL$1,IF(ISNA(MATCH(G38,$AI$30:$AJ$30,0)),0,1),IF(G$30=$AM$1,IF(IFERROR(G38*1,"bad")="bad",0,1),IF(G$30=$AN$1,IF(IFERROR(IF(G38=TRUNC(G38),1,"bad"),"bad")="bad",0,1),IF(G$30=$AO$1,IF(AND(IF(IFERROR(G38*1,"bad")="bad",0,1)=1,G38>=0),1,0),IF(G$30=$AQ$1,IF(AND(IF(IFERROR(IF(G38=TRUNC(G38),1,"bad"),"bad")="bad",0,1)=1,G38>=0),1,0),IF(G$30=$AR$1,IF(AND(IF(IFERROR(G38*1,"bad")="bad",0,1)=1,G38>0),1,0),IF(G$30=$AS$1,IF(AND(IF(IFERROR(IF(G38=TRUNC(G38),1,"bad"),"bad")="bad",0,1)=1,G38>0),1,0),IF(G$30=$AT$1,1,IF(G$30=$AU$1,IF(IFERROR(HLOOKUP(G38,$AL$4:$AV$4,1,0),"bad")="bad",0,1),0)))))))))))) -> 0 | AL38: =IF(H$30="",1,IF(H$4=99,1,IF(H38="",0,IF(H$30=$AL$1,IF(ISNA(MATCH(H38,$AI$30:$AJ$30,0)),0,1),IF(H$30=$AM$1,IF(IFERROR(H38*1,"bad")="bad",0,1),IF(H$30=$AN$1,IF(IFERROR(IF(H38=TRUNC(H38),1,"bad"),"bad")="bad",0,1),IF(H$30=$AO$1,IF(AND(IF(IFERROR(H38*1,"bad")="bad",0,1)=1,H38>=0),1,0),IF(H$30=$AQ$1,IF(AND(IF(IFERROR(IF(H38=TRUNC(H38),1,"bad"),"bad")="bad",0,1)=1,H38>=0),1,0),IF(H$30=$AR$1,IF(AND(IF(IFERROR(H38*1,"bad")="bad",0,1)=1,H38>0),1,0),IF(H$30=$AS$1,IF(AND(IF(IFERROR(IF(H38=TRUNC(H38),1,"bad"),"bad")="bad",0,1)=1,H38>0),1,0),IF(H$30=$AT$1,1,IF(H$30=$AU$1,IF(IFERROR(HLOOKUP(H38,$AL$4:$AV$4,1,0),"bad")="bad",0,1),0)))))))))))) -> 0 | AM38: =IF(I$30="",1,IF(I$4=99,1,IF(I38="",0,IF(I$30=$AL$1,IF(ISNA(MATCH(I38,$AI$30:$AJ$30,0)),0,1),IF(I$30=$AM$1,IF(IFERROR(I38*1,"bad")="bad",0,1),IF(I$30=$AN$1,IF(IFERROR(IF(I38=TRUNC(I38),1,"bad"),"bad")="bad",0,1),IF(I$30=$AO$1,IF(AND(IF(IFERROR(I38*1,"bad")="bad",0,1)=1,I38>=0),1,0),IF(I$30=$AQ$1,IF(AND(IF(IFERROR(IF(I38=TRUNC(I38),1,"bad"),"bad")="bad",0,1)=1,I38>=0),1,0),IF(I$30=$AR$1,IF(AND(IF(IFERROR(I38*1,"bad")="bad",0,1)=1,I38>0),1,0),IF(I$30=$AS$1,IF(AND(IF(IFERROR(IF(I38=TRUNC(I38),1,"bad"),"bad")="bad",0,1)=1,I38>0),1,0),IF(I$30=$AT$1,1,IF(I$30=$AU$1,IF(IFERROR(HLOOKUP(I38,$AL$4:$AV$4,1,0),"bad")="bad",0,1),0)))))))))))) -> 0 | AN38: =IF(J$30="",1,IF(J$4=99,1,IF(J38="",0,IF(J$30=$AL$1,IF(ISNA(MATCH(J38,$AI$30:$AJ$30,0)),0,1),IF(J$30=$AM$1,IF(IFERROR(J38*1,"bad")="bad",0,1),IF(J$30=$AN$1,IF(IFERROR(IF(J38=TRUNC(J38),1,"bad"),"bad")="bad",0,1),IF(J$30=$AO$1,IF(AND(IF(IFERROR(J38*1,"bad")="bad",0,1)=1,J38>=0),1,0),IF(J$30=$AQ$1,IF(AND(IF(IFERROR(IF(J38=TRUNC(J38),1,"bad"),"bad")="bad",0,1)=1,J38>=0),1,0),IF(J$30=$AR$1,IF(AND(IF(IFERROR(J38*1,"bad")="bad",0,1)=1,J38>0),1,0),IF(J$30=$AS$1,IF(AND(IF(IFERROR(IF(J38=TRUNC(J38),1,"bad"),"bad")="bad",0,1)=1,J38>0),1,0),IF(J$30=$AT$1,1,IF(J$30=$AU$1,IF(IFERROR(HLOOKUP(J38,$AL$4:$AV$4,1,0),"bad")="bad",0,1),0)))))))))))) -> 0 | AO38: =IF(K$30="",1,IF(K$4=99,1,IF(K38="",0,IF(K$30=$AL$1,IF(ISNA(MATCH(K38,$AI$30:$AJ$30,0)),0,1),IF(K$30=$AM$1,IF(IFERROR(K38*1,"bad")="bad",0,1),IF(K$30=$AN$1,IF(IFERROR(IF(K38=TRUNC(K38),1,"bad"),"bad")="bad",0,1),IF(K$30=$AO$1,IF(AND(IF(IFERROR(K38*1,"bad")="bad",0,1)=1,K38>=0),1,0),IF(K$30=$AQ$1,IF(AND(IF(IFERROR(IF(K38=TRUNC(K38),1,"bad"),"bad")="bad",0,1)=1,K38>=0),1,0),IF(K$30=$AR$1,IF(AND(IF(IFERROR(K38*1,"bad")="bad",0,1)=1,K38>0),1,0),IF(K$30=$AS$1,IF(AND(IF(IFERROR(IF(K38=TRUNC(K38),1,"bad"),"bad")="bad",0,1)=1,K38>0),1,0),IF(K$30=$AT$1,1,IF(K$30=$AU$1,IF(IFERROR(HLOOKUP(K38,$AL$4:$AV$4,1,0),"bad")="bad",0,1),0)))))))))))) -> 0 | AP38: =IF(L$30="",1,IF(L$4=99,1,IF(L38="",0,IF(L$30=$AL$1,IF(ISNA(MATCH(L38,$AI$30:$AJ$30,0)),0,1),IF(L$30=$AM$1,IF(IFERROR(L38*1,"bad")="bad",0,1),IF(L$30=$AN$1,IF(IFERROR(IF(L38=TRUNC(L38),1,"bad"),"bad")="bad",0,1),IF(L$30=$AO$1,IF(AND(IF(IFERROR(L38*1,"bad")="bad",0,1)=1,L38>=0),1,0),IF(L$30=$AQ$1,IF(AND(IF(IFERROR(IF(L38=TRUNC(L38),1,"bad"),"bad")="bad",0,1)=1,L38>=0),1,0),IF(L$30=$AR$1,IF(AND(IF(IFERROR(L38*1,"bad")="bad",0,1)=1,L38>0),1,0),IF(L$30=$AS$1,IF(AND(IF(IFERROR(IF(L38=TRUNC(L38),1,"bad"),"bad")="bad",0,1)=1,L38>0),1,0),IF(L$30=$AT$1,1,IF(L$30=$AU$1,IF(IFERROR(HLOOKUP(L38,$AL$4:$AV$4,1,0),"bad")="bad",0,1),0)))))))))))) -> 0 | AQ38: =IF(M$30="",1,IF(M$4=99,1,IF(M38="",0,IF(M$30=$AL$1,IF(ISNA(MATCH(M38,$AI$30:$AJ$30,0)),0,1),IF(M$30=$AM$1,IF(IFERROR(M38*1,"bad")="bad",0,1),IF(M$30=$AN$1,IF(IFERROR(IF(M38=TRUNC(M38),1,"bad"),"bad")="bad",0,1),IF(M$30=$AO$1,IF(AND(IF(IFERROR(M38*1,"bad")="bad",0,1)=1,M38>=0),1,0),IF(M$30=$AQ$1,IF(AND(IF(IFERROR(IF(M38=TRUNC(M38),1,"bad"),"bad")="bad",0,1)=1,M38>=0),1,0),IF(M$30=$AR$1,IF(AND(IF(IFERROR(M38*1,"bad")="bad",0,1)=1,M38>0),1,0),IF(M$30=$AS$1,IF(AND(IF(IFERROR(IF(M38=TRUNC(M38),1,"bad"),"bad")="bad",0,1)=1,M38>0),1,0),IF(M$30=$AT$1,1,IF(M$30=$AU$1,IF(IFERROR(HLOOKUP(M38,$AL$4:$AV$4,1,0),"bad")="bad",0,1),0)))))))))))) -> 1 | AR38: =IF(N$30="",1,IF(N$4=99,1,IF(N38="",0,IF(N$30=$AL$1,IF(ISNA(MATCH(N38,$AI$30:$AJ$30,0)),0,1),IF(N$30=$AM$1,IF(IFERROR(N38*1,"bad")="bad",0,1),IF(N$30=$AN$1,IF(IFERROR(IF(N38=TRUNC(N38),1,"bad"),"bad")="bad",0,1),IF(N$30=$AO$1,IF(AND(IF(IFERROR(N38*1,"bad")="bad",0,1)=1,N38>=0),1,0),IF(N$30=$AQ$1,IF(AND(IF(IFERROR(IF(N38=TRUNC(N38),1,"bad"),"bad")="bad",0,1)=1,N38>=0),1,0),IF(N$30=$AR$1,IF(AND(IF(IFERROR(N38*1,"bad")="bad",0,1)=1,N38>0),1,0),IF(N$30=$AS$1,IF(AND(IF(IFERROR(IF(N38=TRUNC(N38),1,"bad"),"bad")="bad",0,1)=1,N38>0),1,0),IF(N$30=$AT$1,1,IF(N$30=$AU$1,IF(IFERROR(HLOOKUP(N38,$AL$4:$AV$4,1,0),"bad")="bad",0,1),0)))))))))))) -> 1 | AS38: =IF(P$30="",1,IF(P$4=99,1,IF(P38="",0,IF(P$30=$AL$1,IF(ISNA(MATCH(P38,$AI$30:$AJ$30,0)),0,1),IF(P$30=$AM$1,IF(IFERROR(P38*1,"bad")="bad",0,1),IF(P$30=$AN$1,IF(IFERROR(IF(P38=TRUNC(P38),1,"bad"),"bad")="bad",0,1),IF(P$30=$AO$1,IF(AND(IF(IFERROR(P38*1,"bad")="bad",0,1)=1,P38>=0),1,0),IF(P$30=$AQ$1,IF(AND(IF(IFERROR(IF(P38=TRUNC(P38),1,"bad"),"bad")="bad",0,1)=1,P38>=0),1,0),IF(P$30=$AR$1,IF(AND(IF(IFERROR(P38*1,"bad")="bad",0,1)=1,P38>0),1,0),IF(P$30=$AS$1,IF(AND(IF(IFERROR(IF(P38=TRUNC(P38),1,"bad"),"bad")="bad",0,1)=1,P38>0),1,0),IF(P$30=$AT$1,1,IF(P$30=$AU$1,IF(IFERROR(HLOOKUP(P38,$AL$4:$AV$4,1,0),"bad")="bad",0,1),0)))))))))))) -> 0 | AT38: =IF(Q$30="",1,IF(Q$4=99,1,IF(Q38="",0,IF(Q$30=$AL$1,IF(ISNA(MATCH(Q38,$AI$30:$AJ$30,0)),0,1),IF(Q$30=$AM$1,IF(IFERROR(Q38*1,"bad")="bad",0,1),IF(Q$30=$AN$1,IF(IFERROR(IF(Q38=TRUNC(Q38),1,"bad"),"bad")="bad",0,1),IF(Q$30=$AO$1,IF(AND(IF(IFERROR(Q38*1,"bad")="bad",0,1)=1,Q38>=0),1,0),IF(Q$30=$AQ$1,IF(AND(IF(IFERROR(IF(Q38=TRUNC(Q38),1,"bad"),"bad")="bad",0,1)=1,Q38>=0),1,0),IF(Q$30=$AR$1,IF(AND(IF(IFERROR(Q38*1,"bad")="bad",0,1)=1,Q38>0),1,0),IF(Q$30=$AS$1,IF(AND(IF(IFERROR(IF(Q38=TRUNC(Q38),1,"bad"),"bad")="bad",0,1)=1,Q38>0),1,0),IF(Q$30=$AT$1,1,IF(Q$30=$AU$1,IF(IFERROR(HLOOKUP(Q38,$AL$4:$AV$4,1,0),"bad")="bad",0,1),0)))))))))))) -> 0 | AU38: =IF(R$30="",1,IF(R$4=99,1,IF(R38="",0,IF(R$30=$AL$1,IF(ISNA(MATCH(R38,$AI$30:$AJ$30,0)),0,1),IF(R$30=$AM$1,IF(IFERROR(R38*1,"bad")="bad",0,1),IF(R$30=$AN$1,IF(IFERROR(IF(R38=TRUNC(R38),1,"bad"),"bad")="bad",0,1),IF(R$30=$AO$1,IF(AND(IF(IFERROR(R38*1,"bad")="bad",0,1)=1,R38>=0),1,0),IF(R$30=$AQ$1,IF(AND(IF(IFERROR(IF(R38=TRUNC(R38),1,"bad"),"bad")="bad",0,1)=1,R38>=0),1,0),IF(R$30=$AR$1,IF(AND(IF(IFERROR(R38*1,"bad")="bad",0,1)=1,R38>0),1,0),IF(R$30=$AS$1,IF(AND(IF(IFERROR(IF(R38=TRUNC(R38),1,"bad"),"bad")="bad",0,1)=1,R38>0),1,0),IF(R$30=$AT$1,1,IF(R$30=$AU$1,IF(IFERROR(HLOOKUP(R38,$AL$4:$AV$4,1,0),"bad")="bad",0,1),0)))))))))))) -> 0 | AV38: =IF(S$30="",1,IF(S$4=99,1,IF(S38="",0,IF(S$30=$AL$1,IF(ISNA(MATCH(S38,$AI$30:$AJ$30,0)),0,1),IF(S$30=$AM$1,IF(IFERROR(S38*1,"bad")="bad",0,1),IF(S$30=$AN$1,IF(IFERROR(IF(S38=TRUNC(S38),1,"bad"),"bad")="bad",0,1),IF(S$30=$AO$1,IF(AND(IF(IFERROR(S38*1,"bad")="bad",0,1)=1,S38>=0),1,0),IF(S$30=$AQ$1,IF(AND(IF(IFERROR(IF(S38=TRUNC(S38),1,"bad"),"bad")="bad",0,1)=1,S38>=0),1,0),IF(S$30=$AR$1,IF(AND(IF(IFERROR(S38*1,"bad")="bad",0,1)=1,S38>0),1,0),IF(S$30=$AS$1,IF(AND(IF(IFERROR(IF(S38=TRUNC(S38),1,"bad"),"bad")="bad",0,1)=1,S38>0),1,0),IF(S$30=$AT$1,1,IF(S$30=$AU$1,IF(IFERROR(HLOOKUP(S38,$AL$4:$AV$4,1,0),"bad")="bad",0,1),0)))))))))))) -> 1 | AW38: =IF(T$30="",1,IF(T$4=99,1,IF(T38="",0,IF(T$30=$AL$1,IF(ISNA(MATCH(T38,$AI$30:$AJ$30,0)),0,1),IF(T$30=$AM$1,IF(IFERROR(T38*1,"bad")="bad",0,1),IF(T$30=$AN$1,IF(IFERROR(IF(T38=TRUNC(T38),1,"bad"),"bad")="bad",0,1),IF(T$30=$AO$1,IF(AND(IF(IFERROR(T38*1,"bad")="bad",0,1)=1,T38>=0),1,0),IF(T$30=$AQ$1,IF(AND(IF(IFERROR(IF(T38=TRUNC(T38),1,"bad"),"bad")="bad",0,1)=1,T38>=0),1,0),IF(T$30=$AR$1,IF(AND(IF(IFERROR(T38*1,"bad")="bad",0,1)=1,T38>0),1,0),IF(T$30=$AS$1,IF(AND(IF(IFERROR(IF(T38=TRUNC(T38),1,"bad"),"bad")="bad",0,1)=1,T38>0),1,0),IF(T$30=$AT$1,1,IF(T$30=$AU$1,IF(IFERROR(HLOOKUP(T38,$AL$4:$AV$4,1,0),"bad")="bad",0,1),0)))))))))))) -> 0 | AX38: =IF(U$30="",1,IF(U$4=99,1,IF(U38="",0,IF(U$30=$AL$1,IF(ISNA(MATCH(U38,$AI$30:$AJ$30,0)),0,1),IF(U$30=$AM$1,IF(IFERROR(U38*1,"bad")="bad",0,1),IF(U$30=$AN$1,IF(IFERROR(IF(U38=TRUNC(U38),1,"bad"),"bad")="bad",0,1),IF(U$30=$AO$1,IF(AND(IF(IFERROR(U38*1,"bad")="bad",0,1)=1,U38>=0),1,0),IF(U$30=$AQ$1,IF(AND(IF(IFERROR(IF(U38=TRUNC(U38),1,"bad"),"bad")="bad",0,1)=1,U38>=0),1,0),IF(U$30=$AR$1,IF(AND(IF(IFERROR(U38*1,"bad")="bad",0,1)=1,U38>0),1,0),IF(U$30=$AS$1,IF(AND(IF(IFERROR(IF(U38=TRUNC(U38),1,"bad"),"bad")="bad",0,1)=1,U38>0),1,0),IF(U$30=$AT$1,1,IF(U$30=$AU$1,IF(IFERROR(HLOOKUP(U38,$AL$4:$AV$4,1,0),"bad")="bad",0,1),0)))))))))))) -> 0 | AY38: =IF(V$30="",1,IF(V$4=99,1,IF(V38="",0,IF(V$30=$AL$1,IF(ISNA(MATCH(V38,$AI$30:$AJ$30,0)),0,1),IF(V$30=$AM$1,IF(IFERROR(V38*1,"bad")="bad",0,1),IF(V$30=$AN$1,IF(IFERROR(IF(V38=TRUNC(V38),1,"bad"),"bad")="bad",0,1),IF(V$30=$AO$1,IF(AND(IF(IFERROR(V38*1,"bad")="bad",0,1)=1,V38>=0),1,0),IF(V$30=$AQ$1,IF(AND(IF(IFERROR(IF(V38=TRUNC(V38),1,"bad"),"bad")="bad",0,1)=1,V38>=0),1,0),IF(V$30=$AR$1,IF(AND(IF(IFERROR(V38*1,"bad")="bad",0,1)=1,V38>0),1,0),IF(V$30=$AS$1,IF(AND(IF(IFERROR(IF(V38=TRUNC(V38),1,"bad"),"bad")="bad",0,1)=1,V38>0),1,0),IF(V$30=$AT$1,1,IF(V$30=$AU$1,IF(IFERROR(HLOOKUP(V38,$AL$4:$AV$4,1,0),"bad")="bad",0,1),0)))))))))))) -> 0 | AZ38: =IF(W$30="",1,IF(W$4=99,1,IF(W38="",0,IF(W$30=$AL$1,IF(ISNA(MATCH(W38,$AI$30:$AJ$30,0)),0,1),IF(W$30=$AM$1,IF(IFERROR(W38*1,"bad")="bad",0,1),IF(W$30=$AN$1,IF(IFERROR(IF(W38=TRUNC(W38),1,"bad"),"bad")="bad",0,1),IF(W$30=$AO$1,IF(AND(IF(IFERROR(W38*1,"bad")="bad",0,1)=1,W38>=0),1,0),IF(W$30=$AQ$1,IF(AND(IF(IFERROR(IF(W38=TRUNC(W38),1,"bad"),"bad")="bad",0,1)=1,W38>=0),1,0),IF(W$30=$AR$1,IF(AND(IF(IFERROR(W38*1,"bad")="bad",0,1)=1,W38>0),1,0),IF(W$30=$AS$1,IF(AND(IF(IFERROR(IF(W38=TRUNC(W38),1,"bad"),"bad")="bad",0,1)=1,W38>0),1,0),IF(W$30=$AT$1,1,IF(W$30=$AU$1,IF(IFERROR(HLOOKUP(W38,$AL$4:$AV$4,1,0),"bad")="bad",0,1),0)))))))))))) -> 0 | ... BJ38: =IF(AG$30="",1,IF(AG$4=99,1,IF(AG38="",0,IF(AG$30=$AL$1,IF(ISNA(MATCH(AG38,$AI$30:$AJ$30,0)),0,1),IF(AG$30=$AM$1,IF(IFERROR(AG38*1,"bad")="bad",0,1),IF(AG$30=$AN$1,IF(IFERROR(IF(AG38=TRUNC(AG38),1,"bad"),"bad")="bad",0,1),IF(AG$30=$AO$1,IF(AND(IF(IFERROR(AG38*1,"bad")="bad",0,1)=1,AG38>=0),1,0),IF(AG$30=$AQ$1,IF(AND(IF(IFERROR(IF(AG38=TRUNC(AG38),1,"bad"),"bad")="bad",0,1)=1,AG38>=0),1,0),IF(AG$30=$AR$1,IF(AND(IF(IFERROR(AG38*1,"bad")="bad",0,1)=1,AG38>0),1,0),IF(AG$30=$AS$1,IF(AND(IF(IFERROR(IF(AG38=TRUNC(AG38),1,"bad"),"bad")="bad",0,1)=1,AG38>0),1,0),IF(AG$30=$AT$1,1,IF(AG$30=$AU$1,IF(IFERROR(HLOOKUP(AG38,$AL$4:$AV$4,1,0),"bad")="bad",0,1),0)))))))))))) -> 0 | BM38: =IF($F38="","",BM$30) | BN38: =IF($F38="","",BN$30) | BO38: =IF($F38="","",BO$30) | BP38: =IF($F38="","",BP$30) | BQ38: =IF($F38="","",BQ$30) | BR38: =IF($F38="","",BR$30) | BS38: =IF($F38="","",BS$30) | BT38: =IF($F38="","",BT$30) | ... BV38: =IF($F38="","",BV$30)
B39: =IF(F39="","",ROW()-30) | O39: =IF(D39="","",IF(L39="",$AI$1,IF(OR(SUM(L39:N39)=3,L39=0),1,0))) | AF39: {=IF($D39="","",IF(AE39=1,1,IF(AH39<>1,$AI$1,IF(SUMPRODUCT(--(G39:AD39>=$G$6:$AD$6)*($G$6:$AD$6<>"")*($G$4:$AD$4=1))=COUNTIF($G$4:$AD$4,1),1,0))))} | AH39: =IF(SUM(AK39:BI39)=COUNT(AK39:BI39),1,0) -> 0 | AI39: =IF($F39="","",AI$30) | AJ39: =IF($F39="","",AJ$30) | AK39: =IF(G$30="",1,IF(G$4=99,1,IF(G39="",0,IF(G$30=$AL$1,IF(ISNA(MATCH(G39,$AI$30:$AJ$30,0)),0,1),IF(G$30=$AM$1,IF(IFERROR(G39*1,"bad")="bad",0,1),IF(G$30=$AN$1,IF(IFERROR(IF(G39=TRUNC(G39),1,"bad"),"bad")="bad",0,1),IF(G$30=$AO$1,IF(AND(IF(IFERROR(G39*1,"bad")="bad",0,1)=1,G39>=0),1,0),IF(G$30=$AQ$1,IF(AND(IF(IFERROR(IF(G39=TRUNC(G39),1,"bad"),"bad")="bad",0,1)=1,G39>=0),1,0),IF(G$30=$AR$1,IF(AND(IF(IFERROR(G39*1,"bad")="bad",0,1)=1,G39>0),1,0),IF(G$30=$AS$1,IF(AND(IF(IFERROR(IF(G39=TRUNC(G39),1,"bad"),"bad")="bad",0,1)=1,G39>0),1,0),IF(G$30=$AT$1,1,IF(G$30=$AU$1,IF(IFERROR(HLOOKUP(G39,$AL$4:$AV$4,1,0),"bad")="bad",0,1),0)))))))))))) -> 0 | AL39: =IF(H$30="",1,IF(H$4=99,1,IF(H39="",0,IF(H$30=$AL$1,IF(ISNA(MATCH(H39,$AI$30:$AJ$30,0)),0,1),IF(H$30=$AM$1,IF(IFERROR(H39*1,"bad")="bad",0,1),IF(H$30=$AN$1,IF(IFERROR(IF(H39=TRUNC(H39),1,"bad"),"bad")="bad",0,1),IF(H$30=$AO$1,IF(AND(IF(IFERROR(H39*1,"bad")="bad",0,1)=1,H39>=0),1,0),IF(H$30=$AQ$1,IF(AND(IF(IFERROR(IF(H39=TRUNC(H39),1,"bad"),"bad")="bad",0,1)=1,H39>=0),1,0),IF(H$30=$AR$1,IF(AND(IF(IFERROR(H39*1,"bad")="bad",0,1)=1,H39>0),1,0),IF(H$30=$AS$1,IF(AND(IF(IFERROR(IF(H39=TRUNC(H39),1,"bad"),"bad")="bad",0,1)=1,H39>0),1,0),IF(H$30=$AT$1,1,IF(H$30=$AU$1,IF(IFERROR(HLOOKUP(H39,$AL$4:$AV$4,1,0),"bad")="bad",0,1),0)))))))))))) -> 0 | AM39: =IF(I$30="",1,IF(I$4=99,1,IF(I39="",0,IF(I$30=$AL$1,IF(ISNA(MATCH(I39,$AI$30:$AJ$30,0)),0,1),IF(I$30=$AM$1,IF(IFERROR(I39*1,"bad")="bad",0,1),IF(I$30=$AN$1,IF(IFERROR(IF(I39=TRUNC(I39),1,"bad"),"bad")="bad",0,1),IF(I$30=$AO$1,IF(AND(IF(IFERROR(I39*1,"bad")="bad",0,1)=1,I39>=0),1,0),IF(I$30=$AQ$1,IF(AND(IF(IFERROR(IF(I39=TRUNC(I39),1,"bad"),"bad")="bad",0,1)=1,I39>=0),1,0),IF(I$30=$AR$1,IF(AND(IF(IFERROR(I39*1,"bad")="bad",0,1)=1,I39>0),1,0),IF(I$30=$AS$1,IF(AND(IF(IFERROR(IF(I39=TRUNC(I39),1,"bad"),"bad")="bad",0,1)=1,I39>0),1,0),IF(I$30=$AT$1,1,IF(I$30=$AU$1,IF(IFERROR(HLOOKUP(I39,$AL$4:$AV$4,1,0),"bad")="bad",0,1),0)))))))))))) -> 0 | AN39: =IF(J$30="",1,IF(J$4=99,1,IF(J39="",0,IF(J$30=$AL$1,IF(ISNA(MATCH(J39,$AI$30:$AJ$30,0)),0,1),IF(J$30=$AM$1,IF(IFERROR(J39*1,"bad")="bad",0,1),IF(J$30=$AN$1,IF(IFERROR(IF(J39=TRUNC(J39),1,"bad"),"bad")="bad",0,1),IF(J$30=$AO$1,IF(AND(IF(IFERROR(J39*1,"bad")="bad",0,1)=1,J39>=0),1,0),IF(J$30=$AQ$1,IF(AND(IF(IFERROR(IF(J39=TRUNC(J39),1,"bad"),"bad")="bad",0,1)=1,J39>=0),1,0),IF(J$30=$AR$1,IF(AND(IF(IFERROR(J39*1,"bad")="bad",0,1)=1,J39>0),1,0),IF(J$30=$AS$1,IF(AND(IF(IFERROR(IF(J39=TRUNC(J39),1,"bad"),"bad")="bad",0,1)=1,J39>0),1,0),IF(J$30=$AT$1,1,IF(J$30=$AU$1,IF(IFERROR(HLOOKUP(J39,$AL$4:$AV$4,1,0),"bad")="bad",0,1),0)))))))))))) -> 0 | AO39: =IF(K$30="",1,IF(K$4=99,1,IF(K39="",0,IF(K$30=$AL$1,IF(ISNA(MATCH(K39,$AI$30:$AJ$30,0)),0,1),IF(K$30=$AM$1,IF(IFERROR(K39*1,"bad")="bad",0,1),IF(K$30=$AN$1,IF(IFERROR(IF(K39=TRUNC(K39),1,"bad"),"bad")="bad",0,1),IF(K$30=$AO$1,IF(AND(IF(IFERROR(K39*1,"bad")="bad",0,1)=1,K39>=0),1,0),IF(K$30=$AQ$1,IF(AND(IF(IFERROR(IF(K39=TRUNC(K39),1,"bad"),"bad")="bad",0,1)=1,K39>=0),1,0),IF(K$30=$AR$1,IF(AND(IF(IFERROR(K39*1,"bad")="bad",0,1)=1,K39>0),1,0),IF(K$30=$AS$1,IF(AND(IF(IFERROR(IF(K39=TRUNC(K39),1,"bad"),"bad")="bad",0,1)=1,K39>0),1,0),IF(K$30=$AT$1,1,IF(K$30=$AU$1,IF(IFERROR(HLOOKUP(K39,$AL$4:$AV$4,1,0),"bad")="bad",0,1),0)))))))))))) -> 0 | AP39: =IF(L$30="",1,IF(L$4=99,1,IF(L39="",0,IF(L$30=$AL$1,IF(ISNA(MATCH(L39,$AI$30:$AJ$30,0)),0,1),IF(L$30=$AM$1,IF(IFERROR(L39*1,"bad")="bad",0,1),IF(L$30=$AN$1,IF(IFERROR(IF(L39=TRUNC(L39),1,"bad"),"bad")="bad",0,1),IF(L$30=$AO$1,IF(AND(IF(IFERROR(L39*1,"bad")="bad",0,1)=1,L39>=0),1,0),IF(L$30=$AQ$1,IF(AND(IF(IFERROR(IF(L39=TRUNC(L39),1,"bad"),"bad")="bad",0,1)=1,L39>=0),1,0),IF(L$30=$AR$1,IF(AND(IF(IFERROR(L39*1,"bad")="bad",0,1)=1,L39>0),1,0),IF(L$30=$AS$1,IF(AND(IF(IFERROR(IF(L39=TRUNC(L39),1,"bad"),"bad")="bad",0,1)=1,L39>0),1,0),IF(L$30=$AT$1,1,IF(L$30=$AU$1,IF(IFERROR(HLOOKUP(L39,$AL$4:$AV$4,1,0),"bad")="bad",0,1),0)))))))))))) -> 0 | AQ39: =IF(M$30="",1,IF(M$4=99,1,IF(M39="",0,IF(M$30=$AL$1,IF(ISNA(MATCH(M39,$AI$30:$AJ$30,0)),0,1),IF(M$30=$AM$1,IF(IFERROR(M39*1,"bad")="bad",0,1),IF(M$30=$AN$1,IF(IFERROR(IF(M39=TRUNC(M39),1,"bad"),"bad")="bad",0,1),IF(M$30=$AO$1,IF(AND(IF(IFERROR(M39*1,"bad")="bad",0,1)=1,M39>=0),1,0),IF(M$30=$AQ$1,IF(AND(IF(IFERROR(IF(M39=TRUNC(M39),1,"bad"),"bad")="bad",0,1)=1,M39>=0),1,0),IF(M$30=$AR$1,IF(AND(IF(IFERROR(M39*1,"bad")="bad",0,1)=1,M39>0),1,0),IF(M$30=$AS$1,IF(AND(IF(IFERROR(IF(M39=TRUNC(M39),1,"bad"),"bad")="bad",0,1)=1,M39>0),1,0),IF(M$30=$AT$1,1,IF(M$30=$AU$1,IF(IFERROR(HLOOKUP(M39,$AL$4:$AV$4,1,0),"bad")="bad",0,1),0)))))))))))) -> 1 | AR39: =IF(N$30="",1,IF(N$4=99,1,IF(N39="",0,IF(N$30=$AL$1,IF(ISNA(MATCH(N39,$AI$30:$AJ$30,0)),0,1),IF(N$30=$AM$1,IF(IFERROR(N39*1,"bad")="bad",0,1),IF(N$30=$AN$1,IF(IFERROR(IF(N39=TRUNC(N39),1,"bad"),"bad")="bad",0,1),IF(N$30=$AO$1,IF(AND(IF(IFERROR(N39*1,"bad")="bad",0,1)=1,N39>=0),1,0),IF(N$30=$AQ$1,IF(AND(IF(IFERROR(IF(N39=TRUNC(N39),1,"bad"),"bad")="bad",0,1)=1,N39>=0),1,0),IF(N$30=$AR$1,IF(AND(IF(IFERROR(N39*1,"bad")="bad",0,1)=1,N39>0),1,0),IF(N$30=$AS$1,IF(AND(IF(IFERROR(IF(N39=TRUNC(N39),1,"bad"),"bad")="bad",0,1)=1,N39>0),1,0),IF(N$30=$AT$1,1,IF(N$30=$AU$1,IF(IFERROR(HLOOKUP(N39,$AL$4:$AV$4,1,0),"bad")="bad",0,1),0)))))))))))) -> 1 | AS39: =IF(P$30="",1,IF(P$4=99,1,IF(P39="",0,IF(P$30=$AL$1,IF(ISNA(MATCH(P39,$AI$30:$AJ$30,0)),0,1),IF(P$30=$AM$1,IF(IFERROR(P39*1,"bad")="bad",0,1),IF(P$30=$AN$1,IF(IFERROR(IF(P39=TRUNC(P39),1,"bad"),"bad")="bad",0,1),IF(P$30=$AO$1,IF(AND(IF(IFERROR(P39*1,"bad")="bad",0,1)=1,P39>=0),1,0),IF(P$30=$AQ$1,IF(AND(IF(IFERROR(IF(P39=TRUNC(P39),1,"bad"),"bad")="bad",0,1)=1,P39>=0),1,0),IF(P$30=$AR$1,IF(AND(IF(IFERROR(P39*1,"bad")="bad",0,1)=1,P39>0),1,0),IF(P$30=$AS$1,IF(AND(IF(IFERROR(IF(P39=TRUNC(P39),1,"bad"),"bad")="bad",0,1)=1,P39>0),1,0),IF(P$30=$AT$1,1,IF(P$30=$AU$1,IF(IFERROR(HLOOKUP(P39,$AL$4:$AV$4,1,0),"bad")="bad",0,1),0)))))))))))) -> 0 | AT39: =IF(Q$30="",1,IF(Q$4=99,1,IF(Q39="",0,IF(Q$30=$AL$1,IF(ISNA(MATCH(Q39,$AI$30:$AJ$30,0)),0,1),IF(Q$30=$AM$1,IF(IFERROR(Q39*1,"bad")="bad",0,1),IF(Q$30=$AN$1,IF(IFERROR(IF(Q39=TRUNC(Q39),1,"bad"),"bad")="bad",0,1),IF(Q$30=$AO$1,IF(AND(IF(IFERROR(Q39*1,"bad")="bad",0,1)=1,Q39>=0),1,0),IF(Q$30=$AQ$1,IF(AND(IF(IFERROR(IF(Q39=TRUNC(Q39),1,"bad"),"bad")="bad",0,1)=1,Q39>=0),1,0),IF(Q$30=$AR$1,IF(AND(IF(IFERROR(Q39*1,"bad")="bad",0,1)=1,Q39>0),1,0),IF(Q$30=$AS$1,IF(AND(IF(IFERROR(IF(Q39=TRUNC(Q39),1,"bad"),"bad")="bad",0,1)=1,Q39>0),1,0),IF(Q$30=$AT$1,1,IF(Q$30=$AU$1,IF(IFERROR(HLOOKUP(Q39,$AL$4:$AV$4,1,0),"bad")="bad",0,1),0)))))))))))) -> 0 | AU39: =IF(R$30="",1,IF(R$4=99,1,IF(R39="",0,IF(R$30=$AL$1,IF(ISNA(MATCH(R39,$AI$30:$AJ$30,0)),0,1),IF(R$30=$AM$1,IF(IFERROR(R39*1,"bad")="bad",0,1),IF(R$30=$AN$1,IF(IFERROR(IF(R39=TRUNC(R39),1,"bad"),"bad")="bad",0,1),IF(R$30=$AO$1,IF(AND(IF(IFERROR(R39*1,"bad")="bad",0,1)=1,R39>=0),1,0),IF(R$30=$AQ$1,IF(AND(IF(IFERROR(IF(R39=TRUNC(R39),1,"bad"),"bad")="bad",0,1)=1,R39>=0),1,0),IF(R$30=$AR$1,IF(AND(IF(IFERROR(R39*1,"bad")="bad",0,1)=1,R39>0),1,0),IF(R$30=$AS$1,IF(AND(IF(IFERROR(IF(R39=TRUNC(R39),1,"bad"),"bad")="bad",0,1)=1,R39>0),1,0),IF(R$30=$AT$1,1,IF(R$30=$AU$1,IF(IFERROR(HLOOKUP(R39,$AL$4:$AV$4,1,0),"bad")="bad",0,1),0)))))))))))) -> 0 | AV39: =IF(S$30="",1,IF(S$4=99,1,IF(S39="",0,IF(S$30=$AL$1,IF(ISNA(MATCH(S39,$AI$30:$AJ$30,0)),0,1),IF(S$30=$AM$1,IF(IFERROR(S39*1,"bad")="bad",0,1),IF(S$30=$AN$1,IF(IFERROR(IF(S39=TRUNC(S39),1,"bad"),"bad")="bad",0,1),IF(S$30=$AO$1,IF(AND(IF(IFERROR(S39*1,"bad")="bad",0,1)=1,S39>=0),1,0),IF(S$30=$AQ$1,IF(AND(IF(IFERROR(IF(S39=TRUNC(S39),1,"bad"),"bad")="bad",0,1)=1,S39>=0),1,0),IF(S$30=$AR$1,IF(AND(IF(IFERROR(S39*1,"bad")="bad",0,1)=1,S39>0),1,0),IF(S$30=$AS$1,IF(AND(IF(IFERROR(IF(S39=TRUNC(S39),1,"bad"),"bad")="bad",0,1)=1,S39>0),1,0),IF(S$30=$AT$1,1,IF(S$30=$AU$1,IF(IFERROR(HLOOKUP(S39,$AL$4:$AV$4,1,0),"bad")="bad",0,1),0)))))))))))) -> 1 | AW39: =IF(T$30="",1,IF(T$4=99,1,IF(T39="",0,IF(T$30=$AL$1,IF(ISNA(MATCH(T39,$AI$30:$AJ$30,0)),0,1),IF(T$30=$AM$1,IF(IFERROR(T39*1,"bad")="bad",0,1),IF(T$30=$AN$1,IF(IFERROR(IF(T39=TRUNC(T39),1,"bad"),"bad")="bad",0,1),IF(T$30=$AO$1,IF(AND(IF(IFERROR(T39*1,"bad")="bad",0,1)=1,T39>=0),1,0),IF(T$30=$AQ$1,IF(AND(IF(IFERROR(IF(T39=TRUNC(T39),1,"bad"),"bad")="bad",0,1)=1,T39>=0),1,0),IF(T$30=$AR$1,IF(AND(IF(IFERROR(T39*1,"bad")="bad",0,1)=1,T39>0),1,0),IF(T$30=$AS$1,IF(AND(IF(IFERROR(IF(T39=TRUNC(T39),1,"bad"),"bad")="bad",0,1)=1,T39>0),1,0),IF(T$30=$AT$1,1,IF(T$30=$AU$1,IF(IFERROR(HLOOKUP(T39,$AL$4:$AV$4,1,0),"bad")="bad",0,1),0)))))))))))) -> 0 | AX39: =IF(U$30="",1,IF(U$4=99,1,IF(U39="",0,IF(U$30=$AL$1,IF(ISNA(MATCH(U39,$AI$30:$AJ$30,0)),0,1),IF(U$30=$AM$1,IF(IFERROR(U39*1,"bad")="bad",0,1),IF(U$30=$AN$1,IF(IFERROR(IF(U39=TRUNC(U39),1,"bad"),"bad")="bad",0,1),IF(U$30=$AO$1,IF(AND(IF(IFERROR(U39*1,"bad")="bad",0,1)=1,U39>=0),1,0),IF(U$30=$AQ$1,IF(AND(IF(IFERROR(IF(U39=TRUNC(U39),1,"bad"),"bad")="bad",0,1)=1,U39>=0),1,0),IF(U$30=$AR$1,IF(AND(IF(IFERROR(U39*1,"bad")="bad",0,1)=1,U39>0),1,0),IF(U$30=$AS$1,IF(AND(IF(IFERROR(IF(U39=TRUNC(U39),1,"bad"),"bad")="bad",0,1)=1,U39>0),1,0),IF(U$30=$AT$1,1,IF(U$30=$AU$1,IF(IFERROR(HLOOKUP(U39,$AL$4:$AV$4,1,0),"bad")="bad",0,1),0)))))))))))) -> 0 | AY39: =IF(V$30="",1,IF(V$4=99,1,IF(V39="",0,IF(V$30=$AL$1,IF(ISNA(MATCH(V39,$AI$30:$AJ$30,0)),0,1),IF(V$30=$AM$1,IF(IFERROR(V39*1,"bad")="bad",0,1),IF(V$30=$AN$1,IF(IFERROR(IF(V39=TRUNC(V39),1,"bad"),"bad")="bad",0,1),IF(V$30=$AO$1,IF(AND(IF(IFERROR(V39*1,"bad")="bad",0,1)=1,V39>=0),1,0),IF(V$30=$AQ$1,IF(AND(IF(IFERROR(IF(V39=TRUNC(V39),1,"bad"),"bad")="bad",0,1)=1,V39>=0),1,0),IF(V$30=$AR$1,IF(AND(IF(IFERROR(V39*1,"bad")="bad",0,1)=1,V39>0),1,0),IF(V$30=$AS$1,IF(AND(IF(IFERROR(IF(V39=TRUNC(V39),1,"bad"),"bad")="bad",0,1)=1,V39>0),1,0),IF(V$30=$AT$1,1,IF(V$30=$AU$1,IF(IFERROR(HLOOKUP(V39,$AL$4:$AV$4,1,0),"bad")="bad",0,1),0)))))))))))) -> 0 | AZ39: =IF(W$30="",1,IF(W$4=99,1,IF(W39="",0,IF(W$30=$AL$1,IF(ISNA(MATCH(W39,$AI$30:$AJ$30,0)),0,1),IF(W$30=$AM$1,IF(IFERROR(W39*1,"bad")="bad",0,1),IF(W$30=$AN$1,IF(IFERROR(IF(W39=TRUNC(W39),1,"bad"),"bad")="bad",0,1),IF(W$30=$AO$1,IF(AND(IF(IFERROR(W39*1,"bad")="bad",0,1)=1,W39>=0),1,0),IF(W$30=$AQ$1,IF(AND(IF(IFERROR(IF(W39=TRUNC(W39),1,"bad"),"bad")="bad",0,1)=1,W39>=0),1,0),IF(W$30=$AR$1,IF(AND(IF(IFERROR(W39*1,"bad")="bad",0,1)=1,W39>0),1,0),IF(W$30=$AS$1,IF(AND(IF(IFERROR(IF(W39=TRUNC(W39),1,"bad"),"bad")="bad",0,1)=1,W39>0),1,0),IF(W$30=$AT$1,1,IF(W$30=$AU$1,IF(IFERROR(HLOOKUP(W39,$AL$4:$AV$4,1,0),"bad")="bad",0,1),0)))))))))))) -> 0 | ... BJ39: =IF(AG$30="",1,IF(AG$4=99,1,IF(AG39="",0,IF(AG$30=$AL$1,IF(ISNA(MATCH(AG39,$AI$30:$AJ$30,0)),0,1),IF(AG$30=$AM$1,IF(IFERROR(AG39*1,"bad")="bad",0,1),IF(AG$30=$AN$1,IF(IFERROR(IF(AG39=TRUNC(AG39),1,"bad"),"bad")="bad",0,1),IF(AG$30=$AO$1,IF(AND(IF(IFERROR(AG39*1,"bad")="bad",0,1)=1,AG39>=0),1,0),IF(AG$30=$AQ$1,IF(AND(IF(IFERROR(IF(AG39=TRUNC(AG39),1,"bad"),"bad")="bad",0,1)=1,AG39>=0),1,0),IF(AG$30=$AR$1,IF(AND(IF(IFERROR(AG39*1,"bad")="bad",0,1)=1,AG39>0),1,0),IF(AG$30=$AS$1,IF(AND(IF(IFERROR(IF(AG39=TRUNC(AG39),1,"bad"),"bad")="bad",0,1)=1,AG39>0),1,0),IF(AG$30=$AT$1,1,IF(AG$30=$AU$1,IF(IFERROR(HLOOKUP(AG39,$AL$4:$AV$4,1,0),"bad")="bad",0,1),0)))))))))))) -> 0 | BM39: =IF($F39="","",BM$30) | BN39: =IF($F39="","",BN$30) | BO39: =IF($F39="","",BO$30) | BP39: =IF($F39="","",BP$30) | BQ39: =IF($F39="","",BQ$30) | BR39: =IF($F39="","",BR$30) | BS39: =IF($F39="","",BS$30) | BT39: =IF($F39="","",BT$30) | ... BV39: =IF($F39="","",BV$30)
B40: =IF(F40="","",ROW()-30) | O40: =IF(D40="","",IF(L40="",$AI$1,IF(OR(SUM(L40:N40)=3,L40=0),1,0))) | AF40: {=IF($D40="","",IF(AE40=1,1,IF(AH40<>1,$AI$1,IF(SUMPRODUCT(--(G40:AD40>=$G$6:$AD$6)*($G$6:$AD$6<>"")*($G$4:$AD$4=1))=COUNTIF($G$4:$AD$4,1),1,0))))} | AH40: =IF(SUM(AK40:BI40)=COUNT(AK40:BI40),1,0) -> 0 | AI40: =IF($F40="","",AI$30) | AJ40: =IF($F40="","",AJ$30) | AK40: =IF(G$30="",1,IF(G$4=99,1,IF(G40="",0,IF(G$30=$AL$1,IF(ISNA(MATCH(G40,$AI$30:$AJ$30,0)),0,1),IF(G$30=$AM$1,IF(IFERROR(G40*1,"bad")="bad",0,1),IF(G$30=$AN$1,IF(IFERROR(IF(G40=TRUNC(G40),1,"bad"),"bad")="bad",0,1),IF(G$30=$AO$1,IF(AND(IF(IFERROR(G40*1,"bad")="bad",0,1)=1,G40>=0),1,0),IF(G$30=$AQ$1,IF(AND(IF(IFERROR(IF(G40=TRUNC(G40),1,"bad"),"bad")="bad",0,1)=1,G40>=0),1,0),IF(G$30=$AR$1,IF(AND(IF(IFERROR(G40*1,"bad")="bad",0,1)=1,G40>0),1,0),IF(G$30=$AS$1,IF(AND(IF(IFERROR(IF(G40=TRUNC(G40),1,"bad"),"bad")="bad",0,1)=1,G40>0),1,0),IF(G$30=$AT$1,1,IF(G$30=$AU$1,IF(IFERROR(HLOOKUP(G40,$AL$4:$AV$4,1,0),"bad")="bad",0,1),0)))))))))))) -> 0 | AL40: =IF(H$30="",1,IF(H$4=99,1,IF(H40="",0,IF(H$30=$AL$1,IF(ISNA(MATCH(H40,$AI$30:$AJ$30,0)),0,1),IF(H$30=$AM$1,IF(IFERROR(H40*1,"bad")="bad",0,1),IF(H$30=$AN$1,IF(IFERROR(IF(H40=TRUNC(H40),1,"bad"),"bad")="bad",0,1),IF(H$30=$AO$1,IF(AND(IF(IFERROR(H40*1,"bad")="bad",0,1)=1,H40>=0),1,0),IF(H$30=$AQ$1,IF(AND(IF(IFERROR(IF(H40=TRUNC(H40),1,"bad"),"bad")="bad",0,1)=1,H40>=0),1,0),IF(H$30=$AR$1,IF(AND(IF(IFERROR(H40*1,"bad")="bad",0,1)=1,H40>0),1,0),IF(H$30=$AS$1,IF(AND(IF(IFERROR(IF(H40=TRUNC(H40),1,"bad"),"bad")="bad",0,1)=1,H40>0),1,0),IF(H$30=$AT$1,1,IF(H$30=$AU$1,IF(IFERROR(HLOOKUP(H40,$AL$4:$AV$4,1,0),"bad")="bad",0,1),0)))))))))))) -> 0 | AM40: =IF(I$30="",1,IF(I$4=99,1,IF(I40="",0,IF(I$30=$AL$1,IF(ISNA(MATCH(I40,$AI$30:$AJ$30,0)),0,1),IF(I$30=$AM$1,IF(IFERROR(I40*1,"bad")="bad",0,1),IF(I$30=$AN$1,IF(IFERROR(IF(I40=TRUNC(I40),1,"bad"),"bad")="bad",0,1),IF(I$30=$AO$1,IF(AND(IF(IFERROR(I40*1,"bad")="bad",0,1)=1,I40>=0),1,0),IF(I$30=$AQ$1,IF(AND(IF(IFERROR(IF(I40=TRUNC(I40),1,"bad"),"bad")="bad",0,1)=1,I40>=0),1,0),IF(I$30=$AR$1,IF(AND(IF(IFERROR(I40*1,"bad")="bad",0,1)=1,I40>0),1,0),IF(I$30=$AS$1,IF(AND(IF(IFERROR(IF(I40=TRUNC(I40),1,"bad"),"bad")="bad",0,1)=1,I40>0),1,0),IF(I$30=$AT$1,1,IF(I$30=$AU$1,IF(IFERROR(HLOOKUP(I40,$AL$4:$AV$4,1,0),"bad")="bad",0,1),0)))))))))))) -> 0 | AN40: =IF(J$30="",1,IF(J$4=99,1,IF(J40="",0,IF(J$30=$AL$1,IF(ISNA(MATCH(J40,$AI$30:$AJ$30,0)),0,1),IF(J$30=$AM$1,IF(IFERROR(J40*1,"bad")="bad",0,1),IF(J$30=$AN$1,IF(IFERROR(IF(J40=TRUNC(J40),1,"bad"),"bad")="bad",0,1),IF(J$30=$AO$1,IF(AND(IF(IFERROR(J40*1,"bad")="bad",0,1)=1,J40>=0),1,0),IF(J$30=$AQ$1,IF(AND(IF(IFERROR(IF(J40=TRUNC(J40),1,"bad"),"bad")="bad",0,1)=1,J40>=0),1,0),IF(J$30=$AR$1,IF(AND(IF(IFERROR(J40*1,"bad")="bad",0,1)=1,J40>0),1,0),IF(J$30=$AS$1,IF(AND(IF(IFERROR(IF(J40=TRUNC(J40),1,"bad"),"bad")="bad",0,1)=1,J40>0),1,0),IF(J$30=$AT$1,1,IF(J$30=$AU$1,IF(IFERROR(HLOOKUP(J40,$AL$4:$AV$4,1,0),"bad")="bad",0,1),0)))))))))))) -> 0 | AO40: =IF(K$30="",1,IF(K$4=99,1,IF(K40="",0,IF(K$30=$AL$1,IF(ISNA(MATCH(K40,$AI$30:$AJ$30,0)),0,1),IF(K$30=$AM$1,IF(IFERROR(K40*1,"bad")="bad",0,1),IF(K$30=$AN$1,IF(IFERROR(IF(K40=TRUNC(K40),1,"bad"),"bad")="bad",0,1),IF(K$30=$AO$1,IF(AND(IF(IFERROR(K40*1,"bad")="bad",0,1)=1,K40>=0),1,0),IF(K$30=$AQ$1,IF(AND(IF(IFERROR(IF(K40=TRUNC(K40),1,"bad"),"bad")="bad",0,1)=1,K40>=0),1,0),IF(K$30=$AR$1,IF(AND(IF(IFERROR(K40*1,"bad")="bad",0,1)=1,K40>0),1,0),IF(K$30=$AS$1,IF(AND(IF(IFERROR(IF(K40=TRUNC(K40),1,"bad"),"bad")="bad",0,1)=1,K40>0),1,0),IF(K$30=$AT$1,1,IF(K$30=$AU$1,IF(IFERROR(HLOOKUP(K40,$AL$4:$AV$4,1,0),"bad")="bad",0,1),0)))))))))))) -> 0 | AP40: =IF(L$30="",1,IF(L$4=99,1,IF(L40="",0,IF(L$30=$AL$1,IF(ISNA(MATCH(L40,$AI$30:$AJ$30,0)),0,1),IF(L$30=$AM$1,IF(IFERROR(L40*1,"bad")="bad",0,1),IF(L$30=$AN$1,IF(IFERROR(IF(L40=TRUNC(L40),1,"bad"),"bad")="bad",0,1),IF(L$30=$AO$1,IF(AND(IF(IFERROR(L40*1,"bad")="bad",0,1)=1,L40>=0),1,0),IF(L$30=$AQ$1,IF(AND(IF(IFERROR(IF(L40=TRUNC(L40),1,"bad"),"bad")="bad",0,1)=1,L40>=0),1,0),IF(L$30=$AR$1,IF(AND(IF(IFERROR(L40*1,"bad")="bad",0,1)=1,L40>0),1,0),IF(L$30=$AS$1,IF(AND(IF(IFERROR(IF(L40=TRUNC(L40),1,"bad"),"bad")="bad",0,1)=1,L40>0),1,0),IF(L$30=$AT$1,1,IF(L$30=$AU$1,IF(IFERROR(HLOOKUP(L40,$AL$4:$AV$4,1,0),"bad")="bad",0,1),0)))))))))))) -> 0 | AQ40: =IF(M$30="",1,IF(M$4=99,1,IF(M40="",0,IF(M$30=$AL$1,IF(ISNA(MATCH(M40,$AI$30:$AJ$30,0)),0,1),IF(M$30=$AM$1,IF(IFERROR(M40*1,"bad")="bad",0,1),IF(M$30=$AN$1,IF(IFERROR(IF(M40=TRUNC(M40),1,"bad"),"bad")="bad",0,1),IF(M$30=$AO$1,IF(AND(IF(IFERROR(M40*1,"bad")="bad",0,1)=1,M40>=0),1,0),IF(M$30=$AQ$1,IF(AND(IF(IFERROR(IF(M40=TRUNC(M40),1,"bad"),"bad")="bad",0,1)=1,M40>=0),1,0),IF(M$30=$AR$1,IF(AND(IF(IFERROR(M40*1,"bad")="bad",0,1)=1,M40>0),1,0),IF(M$30=$AS$1,IF(AND(IF(IFERROR(IF(M40=TRUNC(M40),1,"bad"),"bad")="bad",0,1)=1,M40>0),1,0),IF(M$30=$AT$1,1,IF(M$30=$AU$1,IF(IFERROR(HLOOKUP(M40,$AL$4:$AV$4,1,0),"bad")="bad",0,1),0)))))))))))) -> 1 | AR40: =IF(N$30="",1,IF(N$4=99,1,IF(N40="",0,IF(N$30=$AL$1,IF(ISNA(MATCH(N40,$AI$30:$AJ$30,0)),0,1),IF(N$30=$AM$1,IF(IFERROR(N40*1,"bad")="bad",0,1),IF(N$30=$AN$1,IF(IFERROR(IF(N40=TRUNC(N40),1,"bad"),"bad")="bad",0,1),IF(N$30=$AO$1,IF(AND(IF(IFERROR(N40*1,"bad")="bad",0,1)=1,N40>=0),1,0),IF(N$30=$AQ$1,IF(AND(IF(IFERROR(IF(N40=TRUNC(N40),1,"bad"),"bad")="bad",0,1)=1,N40>=0),1,0),IF(N$30=$AR$1,IF(AND(IF(IFERROR(N40*1,"bad")="bad",0,1)=1,N40>0),1,0),IF(N$30=$AS$1,IF(AND(IF(IFERROR(IF(N40=TRUNC(N40),1,"bad"),"bad")="bad",0,1)=1,N40>0),1,0),IF(N$30=$AT$1,1,IF(N$30=$AU$1,IF(IFERROR(HLOOKUP(N40,$AL$4:$AV$4,1,0),"bad")="bad",0,1),0)))))))))))) -> 1 | AS40: =IF(P$30="",1,IF(P$4=99,1,IF(P40="",0,IF(P$30=$AL$1,IF(ISNA(MATCH(P40,$AI$30:$AJ$30,0)),0,1),IF(P$30=$AM$1,IF(IFERROR(P40*1,"bad")="bad",0,1),IF(P$30=$AN$1,IF(IFERROR(IF(P40=TRUNC(P40),1,"bad"),"bad")="bad",0,1),IF(P$30=$AO$1,IF(AND(IF(IFERROR(P40*1,"bad")="bad",0,1)=1,P40>=0),1,0),IF(P$30=$AQ$1,IF(AND(IF(IFERROR(IF(P40=TRUNC(P40),1,"bad"),"bad")="bad",0,1)=1,P40>=0),1,0),IF(P$30=$AR$1,IF(AND(IF(IFERROR(P40*1,"bad")="bad",0,1)=1,P40>0),1,0),IF(P$30=$AS$1,IF(AND(IF(IFERROR(IF(P40=TRUNC(P40),1,"bad"),"bad")="bad",0,1)=1,P40>0),1,0),IF(P$30=$AT$1,1,IF(P$30=$AU$1,IF(IFERROR(HLOOKUP(P40,$AL$4:$AV$4,1,0),"bad")="bad",0,1),0)))))))))))) -> 0 | AT40: =IF(Q$30="",1,IF(Q$4=99,1,IF(Q40="",0,IF(Q$30=$AL$1,IF(ISNA(MATCH(Q40,$AI$30:$AJ$30,0)),0,1),IF(Q$30=$AM$1,IF(IFERROR(Q40*1,"bad")="bad",0,1),IF(Q$30=$AN$1,IF(IFERROR(IF(Q40=TRUNC(Q40),1,"bad"),"bad")="bad",0,1),IF(Q$30=$AO$1,IF(AND(IF(IFERROR(Q40*1,"bad")="bad",0,1)=1,Q40>=0),1,0),IF(Q$30=$AQ$1,IF(AND(IF(IFERROR(IF(Q40=TRUNC(Q40),1,"bad"),"bad")="bad",0,1)=1,Q40>=0),1,0),IF(Q$30=$AR$1,IF(AND(IF(IFERROR(Q40*1,"bad")="bad",0,1)=1,Q40>0),1,0),IF(Q$30=$AS$1,IF(AND(IF(IFERROR(IF(Q40=TRUNC(Q40),1,"bad"),"bad")="bad",0,1)=1,Q40>0),1,0),IF(Q$30=$AT$1,1,IF(Q$30=$AU$1,IF(IFERROR(HLOOKUP(Q40,$AL$4:$AV$4,1,0),"bad")="bad",0,1),0)))))))))))) -> 0 | AU40: =IF(R$30="",1,IF(R$4=99,1,IF(R40="",0,IF(R$30=$AL$1,IF(ISNA(MATCH(R40,$AI$30:$AJ$30,0)),0,1),IF(R$30=$AM$1,IF(IFERROR(R40*1,"bad")="bad",0,1),IF(R$30=$AN$1,IF(IFERROR(IF(R40=TRUNC(R40),1,"bad"),"bad")="bad",0,1),IF(R$30=$AO$1,IF(AND(IF(IFERROR(R40*1,"bad")="bad",0,1)=1,R40>=0),1,0),IF(R$30=$AQ$1,IF(AND(IF(IFERROR(IF(R40=TRUNC(R40),1,"bad"),"bad")="bad",0,1)=1,R40>=0),1,0),IF(R$30=$AR$1,IF(AND(IF(IFERROR(R40*1,"bad")="bad",0,1)=1,R40>0),1,0),IF(R$30=$AS$1,IF(AND(IF(IFERROR(IF(R40=TRUNC(R40),1,"bad"),"bad")="bad",0,1)=1,R40>0),1,0),IF(R$30=$AT$1,1,IF(R$30=$AU$1,IF(IFERROR(HLOOKUP(R40,$AL$4:$AV$4,1,0),"bad")="bad",0,1),0)))))))))))) -> 0 | AV40: =IF(S$30="",1,IF(S$4=99,1,IF(S40="",0,IF(S$30=$AL$1,IF(ISNA(MATCH(S40,$AI$30:$AJ$30,0)),0,1),IF(S$30=$AM$1,IF(IFERROR(S40*1,"bad")="bad",0,1),IF(S$30=$AN$1,IF(IFERROR(IF(S40=TRUNC(S40),1,"bad"),"bad")="bad",0,1),IF(S$30=$AO$1,IF(AND(IF(IFERROR(S40*1,"bad")="bad",0,1)=1,S40>=0),1,0),IF(S$30=$AQ$1,IF(AND(IF(IFERROR(IF(S40=TRUNC(S40),1,"bad"),"bad")="bad",0,1)=1,S40>=0),1,0),IF(S$30=$AR$1,IF(AND(IF(IFERROR(S40*1,"bad")="bad",0,1)=1,S40>0),1,0),IF(S$30=$AS$1,IF(AND(IF(IFERROR(IF(S40=TRUNC(S40),1,"bad"),"bad")="bad",0,1)=1,S40>0),1,0),IF(S$30=$AT$1,1,IF(S$30=$AU$1,IF(IFERROR(HLOOKUP(S40,$AL$4:$AV$4,1,0),"bad")="bad",0,1),0)))))))))))) -> 1 | AW40: =IF(T$30="",1,IF(T$4=99,1,IF(T40="",0,IF(T$30=$AL$1,IF(ISNA(MATCH(T40,$AI$30:$AJ$30,0)),0,1),IF(T$30=$AM$1,IF(IFERROR(T40*1,"bad")="bad",0,1),IF(T$30=$AN$1,IF(IFERROR(IF(T40=TRUNC(T40),1,"bad"),"bad")="bad",0,1),IF(T$30=$AO$1,IF(AND(IF(IFERROR(T40*1,"bad")="bad",0,1)=1,T40>=0),1,0),IF(T$30=$AQ$1,IF(AND(IF(IFERROR(IF(T40=TRUNC(T40),1,"bad"),"bad")="bad",0,1)=1,T40>=0),1,0),IF(T$30=$AR$1,IF(AND(IF(IFERROR(T40*1,"bad")="bad",0,1)=1,T40>0),1,0),IF(T$30=$AS$1,IF(AND(IF(IFERROR(IF(T40=TRUNC(T40),1,"bad"),"bad")="bad",0,1)=1,T40>0),1,0),IF(T$30=$AT$1,1,IF(T$30=$AU$1,IF(IFERROR(HLOOKUP(T40,$AL$4:$AV$4,1,0),"bad")="bad",0,1),0)))))))))))) -> 0 | AX40: =IF(U$30="",1,IF(U$4=99,1,IF(U40="",0,IF(U$30=$AL$1,IF(ISNA(MATCH(U40,$AI$30:$AJ$30,0)),0,1),IF(U$30=$AM$1,IF(IFERROR(U40*1,"bad")="bad",0,1),IF(U$30=$AN$1,IF(IFERROR(IF(U40=TRUNC(U40),1,"bad"),"bad")="bad",0,1),IF(U$30=$AO$1,IF(AND(IF(IFERROR(U40*1,"bad")="bad",0,1)=1,U40>=0),1,0),IF(U$30=$AQ$1,IF(AND(IF(IFERROR(IF(U40=TRUNC(U40),1,"bad"),"bad")="bad",0,1)=1,U40>=0),1,0),IF(U$30=$AR$1,IF(AND(IF(IFERROR(U40*1,"bad")="bad",0,1)=1,U40>0),1,0),IF(U$30=$AS$1,IF(AND(IF(IFERROR(IF(U40=TRUNC(U40),1,"bad"),"bad")="bad",0,1)=1,U40>0),1,0),IF(U$30=$AT$1,1,IF(U$30=$AU$1,IF(IFERROR(HLOOKUP(U40,$AL$4:$AV$4,1,0),"bad")="bad",0,1),0)))))))))))) -> 0 | AY40: =IF(V$30="",1,IF(V$4=99,1,IF(V40="",0,IF(V$30=$AL$1,IF(ISNA(MATCH(V40,$AI$30:$AJ$30,0)),0,1),IF(V$30=$AM$1,IF(IFERROR(V40*1,"bad")="bad",0,1),IF(V$30=$AN$1,IF(IFERROR(IF(V40=TRUNC(V40),1,"bad"),"bad")="bad",0,1),IF(V$30=$AO$1,IF(AND(IF(IFERROR(V40*1,"bad")="bad",0,1)=1,V40>=0),1,0),IF(V$30=$AQ$1,IF(AND(IF(IFERROR(IF(V40=TRUNC(V40),1,"bad"),"bad")="bad",0,1)=1,V40>=0),1,0),IF(V$30=$AR$1,IF(AND(IF(IFERROR(V40*1,"bad")="bad",0,1)=1,V40>0),1,0),IF(V$30=$AS$1,IF(AND(IF(IFERROR(IF(V40=TRUNC(V40),1,"bad"),"bad")="bad",0,1)=1,V40>0),1,0),IF(V$30=$AT$1,1,IF(V$30=$AU$1,IF(IFERROR(HLOOKUP(V40,$AL$4:$AV$4,1,0),"bad")="bad",0,1),0)))))))))))) -> 0 | AZ40: =IF(W$30="",1,IF(W$4=99,1,IF(W40="",0,IF(W$30=$AL$1,IF(ISNA(MATCH(W40,$AI$30:$AJ$30,0)),0,1),IF(W$30=$AM$1,IF(IFERROR(W40*1,"bad")="bad",0,1),IF(W$30=$AN$1,IF(IFERROR(IF(W40=TRUNC(W40),1,"bad"),"bad")="bad",0,1),IF(W$30=$AO$1,IF(AND(IF(IFERROR(W40*1,"bad")="bad",0,1)=1,W40>=0),1,0),IF(W$30=$AQ$1,IF(AND(IF(IFERROR(IF(W40=TRUNC(W40),1,"bad"),"bad")="bad",0,1)=1,W40>=0),1,0),IF(W$30=$AR$1,IF(AND(IF(IFERROR(W40*1,"bad")="bad",0,1)=1,W40>0),1,0),IF(W$30=$AS$1,IF(AND(IF(IFERROR(IF(W40=TRUNC(W40),1,"bad"),"bad")="bad",0,1)=1,W40>0),1,0),IF(W$30=$AT$1,1,IF(W$30=$AU$1,IF(IFERROR(HLOOKUP(W40,$AL$4:$AV$4,1,0),"bad")="bad",0,1),0)))))))))))) -> 0 | ... BJ40: =IF(AG$30="",1,IF(AG$4=99,1,IF(AG40="",0,IF(AG$30=$AL$1,IF(ISNA(MATCH(AG40,$AI$30:$AJ$30,0)),0,1),IF(AG$30=$AM$1,IF(IFERROR(AG40*1,"bad")="bad",0,1),IF(AG$30=$AN$1,IF(IFERROR(IF(AG40=TRUNC(AG40),1,"bad"),"bad")="bad",0,1),IF(AG$30=$AO$1,IF(AND(IF(IFERROR(AG40*1,"bad")="bad",0,1)=1,AG40>=0),1,0),IF(AG$30=$AQ$1,IF(AND(IF(IFERROR(IF(AG40=TRUNC(AG40),1,"bad"),"bad")="bad",0,1)=1,AG40>=0),1,0),IF(AG$30=$AR$1,IF(AND(IF(IFERROR(AG40*1,"bad")="bad",0,1)=1,AG40>0),1,0),IF(AG$30=$AS$1,IF(AND(IF(IFERROR(IF(AG40=TRUNC(AG40),1,"bad"),"bad")="bad",0,1)=1,AG40>0),1,0),IF(AG$30=$AT$1,1,IF(AG$30=$AU$1,IF(IFERROR(HLOOKUP(AG40,$AL$4:$AV$4,1,0),"bad")="bad",0,1),0)))))))))))) -> 0 | BM40: =IF($F40="","",BM$30) | BN40: =IF($F40="","",BN$30) | BO40: =IF($F40="","",BO$30) | BP40: =IF($F40="","",BP$30) | BQ40: =IF($F40="","",BQ$30) | BR40: =IF($F40="","",BR$30) | BS40: =IF($F40="","",BS$30) | BT40: =IF($F40="","",BT$30) | ... BV40: =IF($F40="","",BV$30)
A41: =ROW()-30 -> 11 | B41: =IF(F41="","",ROW()-30) | O41: =IF(D41="","",IF(L41="",$AI$1,IF(OR(SUM(L41:N41)=3,L41=0),1,0))) | AF41: {=IF($D41="","",IF(AE41=1,1,IF(AH41<>1,$AI$1,IF(SUMPRODUCT(--(G41:AD41>=$G$6:$AD$6)*($G$6:$AD$6<>"")*($G$4:$AD$4=1))=COUNTIF($G$4:$AD$4,1),1,0))))} | AH41: =IF(SUM(AK41:BI41)=COUNT(AK41:BI41),1,0) -> 0 | AI41: =IF($F41="","",AI$30) | AJ41: =IF($F41="","",AJ$30) | AK41: =IF(G$30="",1,IF(G$4=99,1,IF(G41="",0,IF(G$30=$AL$1,IF(ISNA(MATCH(G41,$AI$30:$AJ$30,0)),0,1),IF(G$30=$AM$1,IF(IFERROR(G41*1,"bad")="bad",0,1),IF(G$30=$AN$1,IF(IFERROR(IF(G41=TRUNC(G41),1,"bad"),"bad")="bad",0,1),IF(G$30=$AO$1,IF(AND(IF(IFERROR(G41*1,"bad")="bad",0,1)=1,G41>=0),1,0),IF(G$30=$AQ$1,IF(AND(IF(IFERROR(IF(G41=TRUNC(G41),1,"bad"),"bad")="bad",0,1)=1,G41>=0),1,0),IF(G$30=$AR$1,IF(AND(IF(IFERROR(G41*1,"bad")="bad",0,1)=1,G41>0),1,0),IF(G$30=$AS$1,IF(AND(IF(IFERROR(IF(G41=TRUNC(G41),1,"bad"),"bad")="bad",0,1)=1,G41>0),1,0),IF(G$30=$AT$1,1,IF(G$30=$AU$1,IF(IFERROR(HLOOKUP(G41,$AL$4:$AV$4,1,0),"bad")="bad",0,1),0)))))))))))) -> 0 | AL41: =IF(H$30="",1,IF(H$4=99,1,IF(H41="",0,IF(H$30=$AL$1,IF(ISNA(MATCH(H41,$AI$30:$AJ$30,0)),0,1),IF(H$30=$AM$1,IF(IFERROR(H41*1,"bad")="bad",0,1),IF(H$30=$AN$1,IF(IFERROR(IF(H41=TRUNC(H41),1,"bad"),"bad")="bad",0,1),IF(H$30=$AO$1,IF(AND(IF(IFERROR(H41*1,"bad")="bad",0,1)=1,H41>=0),1,0),IF(H$30=$AQ$1,IF(AND(IF(IFERROR(IF(H41=TRUNC(H41),1,"bad"),"bad")="bad",0,1)=1,H41>=0),1,0),IF(H$30=$AR$1,IF(AND(IF(IFERROR(H41*1,"bad")="bad",0,1)=1,H41>0),1,0),IF(H$30=$AS$1,IF(AND(IF(IFERROR(IF(H41=TRUNC(H41),1,"bad"),"bad")="bad",0,1)=1,H41>0),1,0),IF(H$30=$AT$1,1,IF(H$30=$AU$1,IF(IFERROR(HLOOKUP(H41,$AL$4:$AV$4,1,0),"bad")="bad",0,1),0)))))))))))) -> 0 | AM41: =IF(I$30="",1,IF(I$4=99,1,IF(I41="",0,IF(I$30=$AL$1,IF(ISNA(MATCH(I41,$AI$30:$AJ$30,0)),0,1),IF(I$30=$AM$1,IF(IFERROR(I41*1,"bad")="bad",0,1),IF(I$30=$AN$1,IF(IFERROR(IF(I41=TRUNC(I41),1,"bad"),"bad")="bad",0,1),IF(I$30=$AO$1,IF(AND(IF(IFERROR(I41*1,"bad")="bad",0,1)=1,I41>=0),1,0),IF(I$30=$AQ$1,IF(AND(IF(IFERROR(IF(I41=TRUNC(I41),1,"bad"),"bad")="bad",0,1)=1,I41>=0),1,0),IF(I$30=$AR$1,IF(AND(IF(IFERROR(I41*1,"bad")="bad",0,1)=1,I41>0),1,0),IF(I$30=$AS$1,IF(AND(IF(IFERROR(IF(I41=TRUNC(I41),1,"bad"),"bad")="bad",0,1)=1,I41>0),1,0),IF(I$30=$AT$1,1,IF(I$30=$AU$1,IF(IFERROR(HLOOKUP(I41,$AL$4:$AV$4,1,0),"bad")="bad",0,1),0)))))))))))) -> 0 | AN41: =IF(J$30="",1,IF(J$4=99,1,IF(J41="",0,IF(J$30=$AL$1,IF(ISNA(MATCH(J41,$AI$30:$AJ$30,0)),0,1),IF(J$30=$AM$1,IF(IFERROR(J41*1,"bad")="bad",0,1),IF(J$30=$AN$1,IF(IFERROR(IF(J41=TRUNC(J41),1,"bad"),"bad")="bad",0,1),IF(J$30=$AO$1,IF(AND(IF(IFERROR(J41*1,"bad")="bad",0,1)=1,J41>=0),1,0),IF(J$30=$AQ$1,IF(AND(IF(IFERROR(IF(J41=TRUNC(J41),1,"bad"),"bad")="bad",0,1)=1,J41>=0),1,0),IF(J$30=$AR$1,IF(AND(IF(IFERROR(J41*1,"bad")="bad",0,1)=1,J41>0),1,0),IF(J$30=$AS$1,IF(AND(IF(IFERROR(IF(J41=TRUNC(J41),1,"bad"),"bad")="bad",0,1)=1,J41>0),1,0),IF(J$30=$AT$1,1,IF(J$30=$AU$1,IF(IFERROR(HLOOKUP(J41,$AL$4:$AV$4,1,0),"bad")="bad",0,1),0)))))))))))) -> 0 | AO41: =IF(K$30="",1,IF(K$4=99,1,IF(K41="",0,IF(K$30=$AL$1,IF(ISNA(MATCH(K41,$AI$30:$AJ$30,0)),0,1),IF(K$30=$AM$1,IF(IFERROR(K41*1,"bad")="bad",0,1),IF(K$30=$AN$1,IF(IFERROR(IF(K41=TRUNC(K41),1,"bad"),"bad")="bad",0,1),IF(K$30=$AO$1,IF(AND(IF(IFERROR(K41*1,"bad")="bad",0,1)=1,K41>=0),1,0),IF(K$30=$AQ$1,IF(AND(IF(IFERROR(IF(K41=TRUNC(K41),1,"bad"),"bad")="bad",0,1)=1,K41>=0),1,0),IF(K$30=$AR$1,IF(AND(IF(IFERROR(K41*1,"bad")="bad",0,1)=1,K41>0),1,0),IF(K$30=$AS$1,IF(AND(IF(IFERROR(IF(K41=TRUNC(K41),1,"bad"),"bad")="bad",0,1)=1,K41>0),1,0),IF(K$30=$AT$1,1,IF(K$30=$AU$1,IF(IFERROR(HLOOKUP(K41,$AL$4:$AV$4,1,0),"bad")="bad",0,1),0)))))))))))) -> 0 | AP41: =IF(L$30="",1,IF(L$4=99,1,IF(L41="",0,IF(L$30=$AL$1,IF(ISNA(MATCH(L41,$AI$30:$AJ$30,0)),0,1),IF(L$30=$AM$1,IF(IFERROR(L41*1,"bad")="bad",0,1),IF(L$30=$AN$1,IF(IFERROR(IF(L41=TRUNC(L41),1,"bad"),"bad")="bad",0,1),IF(L$30=$AO$1,IF(AND(IF(IFERROR(L41*1,"bad")="bad",0,1)=1,L41>=0),1,0),IF(L$30=$AQ$1,IF(AND(IF(IFERROR(IF(L41=TRUNC(L41),1,"bad"),"bad")="bad",0,1)=1,L41>=0),1,0),IF(L$30=$AR$1,IF(AND(IF(IFERROR(L41*1,"bad")="bad",0,1)=1,L41>0),1,0),IF(L$30=$AS$1,IF(AND(IF(IFERROR(IF(L41=TRUNC(L41),1,"bad"),"bad")="bad",0,1)=1,L41>0),1,0),IF(L$30=$AT$1,1,IF(L$30=$AU$1,IF(IFERROR(HLOOKUP(L41,$AL$4:$AV$4,1,0),"bad")="bad",0,1),0)))))))))))) -> 0 | AQ41: =IF(M$30="",1,IF(M$4=99,1,IF(M41="",0,IF(M$30=$AL$1,IF(ISNA(MATCH(M41,$AI$30:$AJ$30,0)),0,1),IF(M$30=$AM$1,IF(IFERROR(M41*1,"bad")="bad",0,1),IF(M$30=$AN$1,IF(IFERROR(IF(M41=TRUNC(M41),1,"bad"),"bad")="bad",0,1),IF(M$30=$AO$1,IF(AND(IF(IFERROR(M41*1,"bad")="bad",0,1)=1,M41>=0),1,0),IF(M$30=$AQ$1,IF(AND(IF(IFERROR(IF(M41=TRUNC(M41),1,"bad"),"bad")="bad",0,1)=1,M41>=0),1,0),IF(M$30=$AR$1,IF(AND(IF(IFERROR(M41*1,"bad")="bad",0,1)=1,M41>0),1,0),IF(M$30=$AS$1,IF(AND(IF(IFERROR(IF(M41=TRUNC(M41),1,"bad"),"bad")="bad",0,1)=1,M41>0),1,0),IF(M$30=$AT$1,1,IF(M$30=$AU$1,IF(IFERROR(HLOOKUP(M41,$AL$4:$AV$4,1,0),"bad")="bad",0,1),0)))))))))))) -> 1 | AR41: =IF(N$30="",1,IF(N$4=99,1,IF(N41="",0,IF(N$30=$AL$1,IF(ISNA(MATCH(N41,$AI$30:$AJ$30,0)),0,1),IF(N$30=$AM$1,IF(IFERROR(N41*1,"bad")="bad",0,1),IF(N$30=$AN$1,IF(IFERROR(IF(N41=TRUNC(N41),1,"bad"),"bad")="bad",0,1),IF(N$30=$AO$1,IF(AND(IF(IFERROR(N41*1,"bad")="bad",0,1)=1,N41>=0),1,0),IF(N$30=$AQ$1,IF(AND(IF(IFERROR(IF(N41=TRUNC(N41),1,"bad"),"bad")="bad",0,1)=1,N41>=0),1,0),IF(N$30=$AR$1,IF(AND(IF(IFERROR(N41*1,"bad")="bad",0,1)=1,N41>0),1,0),IF(N$30=$AS$1,IF(AND(IF(IFERROR(IF(N41=TRUNC(N41),1,"bad"),"bad")="bad",0,1)=1,N41>0),1,0),IF(N$30=$AT$1,1,IF(N$30=$AU$1,IF(IFERROR(HLOOKUP(N41,$AL$4:$AV$4,1,0),"bad")="bad",0,1),0)))))))))))) -> 1 | AS41: =IF(P$30="",1,IF(P$4=99,1,IF(P41="",0,IF(P$30=$AL$1,IF(ISNA(MATCH(P41,$AI$30:$AJ$30,0)),0,1),IF(P$30=$AM$1,IF(IFERROR(P41*1,"bad")="bad",0,1),IF(P$30=$AN$1,IF(IFERROR(IF(P41=TRUNC(P41),1,"bad"),"bad")="bad",0,1),IF(P$30=$AO$1,IF(AND(IF(IFERROR(P41*1,"bad")="bad",0,1)=1,P41>=0),1,0),IF(P$30=$AQ$1,IF(AND(IF(IFERROR(IF(P41=TRUNC(P41),1,"bad"),"bad")="bad",0,1)=1,P41>=0),1,0),IF(P$30=$AR$1,IF(AND(IF(IFERROR(P41*1,"bad")="bad",0,1)=1,P41>0),1,0),IF(P$30=$AS$1,IF(AND(IF(IFERROR(IF(P41=TRUNC(P41),1,"bad"),"bad")="bad",0,1)=1,P41>0),1,0),IF(P$30=$AT$1,1,IF(P$30=$AU$1,IF(IFERROR(HLOOKUP(P41,$AL$4:$AV$4,1,0),"bad")="bad",0,1),0)))))))))))) -> 0 | AT41: =IF(Q$30="",1,IF(Q$4=99,1,IF(Q41="",0,IF(Q$30=$AL$1,IF(ISNA(MATCH(Q41,$AI$30:$AJ$30,0)),0,1),IF(Q$30=$AM$1,IF(IFERROR(Q41*1,"bad")="bad",0,1),IF(Q$30=$AN$1,IF(IFERROR(IF(Q41=TRUNC(Q41),1,"bad"),"bad")="bad",0,1),IF(Q$30=$AO$1,IF(AND(IF(IFERROR(Q41*1,"bad")="bad",0,1)=1,Q41>=0),1,0),IF(Q$30=$AQ$1,IF(AND(IF(IFERROR(IF(Q41=TRUNC(Q41),1,"bad"),"bad")="bad",0,1)=1,Q41>=0),1,0),IF(Q$30=$AR$1,IF(AND(IF(IFERROR(Q41*1,"bad")="bad",0,1)=1,Q41>0),1,0),IF(Q$30=$AS$1,IF(AND(IF(IFERROR(IF(Q41=TRUNC(Q41),1,"bad"),"bad")="bad",0,1)=1,Q41>0),1,0),IF(Q$30=$AT$1,1,IF(Q$30=$AU$1,IF(IFERROR(HLOOKUP(Q41,$AL$4:$AV$4,1,0),"bad")="bad",0,1),0)))))))))))) -> 0 | AU41: =IF(R$30="",1,IF(R$4=99,1,IF(R41="",0,IF(R$30=$AL$1,IF(ISNA(MATCH(R41,$AI$30:$AJ$30,0)),0,1),IF(R$30=$AM$1,IF(IFERROR(R41*1,"bad")="bad",0,1),IF(R$30=$AN$1,IF(IFERROR(IF(R41=TRUNC(R41),1,"bad"),"bad")="bad",0,1),IF(R$30=$AO$1,IF(AND(IF(IFERROR(R41*1,"bad")="bad",0,1)=1,R41>=0),1,0),IF(R$30=$AQ$1,IF(AND(IF(IFERROR(IF(R41=TRUNC(R41),1,"bad"),"bad")="bad",0,1)=1,R41>=0),1,0),IF(R$30=$AR$1,IF(AND(IF(IFERROR(R41*1,"bad")="bad",0,1)=1,R41>0),1,0),IF(R$30=$AS$1,IF(AND(IF(IFERROR(IF(R41=TRUNC(R41),1,"bad"),"bad")="bad",0,1)=1,R41>0),1,0),IF(R$30=$AT$1,1,IF(R$30=$AU$1,IF(IFERROR(HLOOKUP(R41,$AL$4:$AV$4,1,0),"bad")="bad",0,1),0)))))))))))) -> 0 | AV41: =IF(S$30="",1,IF(S$4=99,1,IF(S41="",0,IF(S$30=$AL$1,IF(ISNA(MATCH(S41,$AI$30:$AJ$30,0)),0,1),IF(S$30=$AM$1,IF(IFERROR(S41*1,"bad")="bad",0,1),IF(S$30=$AN$1,IF(IFERROR(IF(S41=TRUNC(S41),1,"bad"),"bad")="bad",0,1),IF(S$30=$AO$1,IF(AND(IF(IFERROR(S41*1,"bad")="bad",0,1)=1,S41>=0),1,0),IF(S$30=$AQ$1,IF(AND(IF(IFERROR(IF(S41=TRUNC(S41),1,"bad"),"bad")="bad",0,1)=1,S41>=0),1,0),IF(S$30=$AR$1,IF(AND(IF(IFERROR(S41*1,"bad")="bad",0,1)=1,S41>0),1,0),IF(S$30=$AS$1,IF(AND(IF(IFERROR(IF(S41=TRUNC(S41),1,"bad"),"bad")="bad",0,1)=1,S41>0),1,0),IF(S$30=$AT$1,1,IF(S$30=$AU$1,IF(IFERROR(HLOOKUP(S41,$AL$4:$AV$4,1,0),"bad")="bad",0,1),0)))))))))))) -> 1 | AW41: =IF(T$30="",1,IF(T$4=99,1,IF(T41="",0,IF(T$30=$AL$1,IF(ISNA(MATCH(T41,$AI$30:$AJ$30,0)),0,1),IF(T$30=$AM$1,IF(IFERROR(T41*1,"bad")="bad",0,1),IF(T$30=$AN$1,IF(IFERROR(IF(T41=TRUNC(T41),1,"bad"),"bad")="bad",0,1),IF(T$30=$AO$1,IF(AND(IF(IFERROR(T41*1,"bad")="bad",0,1)=1,T41>=0),1,0),IF(T$30=$AQ$1,IF(AND(IF(IFERROR(IF(T41=TRUNC(T41),1,"bad"),"bad")="bad",0,1)=1,T41>=0),1,0),IF(T$30=$AR$1,IF(AND(IF(IFERROR(T41*1,"bad")="bad",0,1)=1,T41>0),1,0),IF(T$30=$AS$1,IF(AND(IF(IFERROR(IF(T41=TRUNC(T41),1,"bad"),"bad")="bad",0,1)=1,T41>0),1,0),IF(T$30=$AT$1,1,IF(T$30=$AU$1,IF(IFERROR(HLOOKUP(T41,$AL$4:$AV$4,1,0),"bad")="bad",0,1),0)))))))))))) -> 0 | AX41: =IF(U$30="",1,IF(U$4=99,1,IF(U41="",0,IF(U$30=$AL$1,IF(ISNA(MATCH(U41,$AI$30:$AJ$30,0)),0,1),IF(U$30=$AM$1,IF(IFERROR(U41*1,"bad")="bad",0,1),IF(U$30=$AN$1,IF(IFERROR(IF(U41=TRUNC(U41),1,"bad"),"bad")="bad",0,1),IF(U$30=$AO$1,IF(AND(IF(IFERROR(U41*1,"bad")="bad",0,1)=1,U41>=0),1,0),IF(U$30=$AQ$1,IF(AND(IF(IFERROR(IF(U41=TRUNC(U41),1,"bad"),"bad")="bad",0,1)=1,U41>=0),1,0),IF(U$30=$AR$1,IF(AND(IF(IFERROR(U41*1,"bad")="bad",0,1)=1,U41>0),1,0),IF(U$30=$AS$1,IF(AND(IF(IFERROR(IF(U41=TRUNC(U41),1,"bad"),"bad")="bad",0,1)=1,U41>0),1,0),IF(U$30=$AT$1,1,IF(U$30=$AU$1,IF(IFERROR(HLOOKUP(U41,$AL$4:$AV$4,1,0),"bad")="bad",0,1),0)))))))))))) -> 0 | AY41: =IF(V$30="",1,IF(V$4=99,1,IF(V41="",0,IF(V$30=$AL$1,IF(ISNA(MATCH(V41,$AI$30:$AJ$30,0)),0,1),IF(V$30=$AM$1,IF(IFERROR(V41*1,"bad")="bad",0,1),IF(V$30=$AN$1,IF(IFERROR(IF(V41=TRUNC(V41),1,"bad"),"bad")="bad",0,1),IF(V$30=$AO$1,IF(AND(IF(IFERROR(V41*1,"bad")="bad",0,1)=1,V41>=0),1,0),IF(V$30=$AQ$1,IF(AND(IF(IFERROR(IF(V41=TRUNC(V41),1,"bad"),"bad")="bad",0,1)=1,V41>=0),1,0),IF(V$30=$AR$1,IF(AND(IF(IFERROR(V41*1,"bad")="bad",0,1)=1,V41>0),1,0),IF(V$30=$AS$1,IF(AND(IF(IFERROR(IF(V41=TRUNC(V41),1,"bad"),"bad")="bad",0,1)=1,V41>0),1,0),IF(V$30=$AT$1,1,IF(V$30=$AU$1,IF(IFERROR(HLOOKUP(V41,$AL$4:$AV$4,1,0),"bad")="bad",0,1),0)))))))))))) -> 0 | AZ41: =IF(W$30="",1,IF(W$4=99,1,IF(W41="",0,IF(W$30=$AL$1,IF(ISNA(MATCH(W41,$AI$30:$AJ$30,0)),0,1),IF(W$30=$AM$1,IF(IFERROR(W41*1,"bad")="bad",0,1),IF(W$30=$AN$1,IF(IFERROR(IF(W41=TRUNC(W41),1,"bad"),"bad")="bad",0,1),IF(W$30=$AO$1,IF(AND(IF(IFERROR(W41*1,"bad")="bad",0,1)=1,W41>=0),1,0),IF(W$30=$AQ$1,IF(AND(IF(IFERROR(IF(W41=TRUNC(W41),1,"bad"),"bad")="bad",0,1)=1,W41>=0),1,0),IF(W$30=$AR$1,IF(AND(IF(IFERROR(W41*1,"bad")="bad",0,1)=1,W41>0),1,0),IF(W$30=$AS$1,IF(AND(IF(IFERROR(IF(W41=TRUNC(W41),1,"bad"),"bad")="bad",0,1)=1,W41>0),1,0),IF(W$30=$AT$1,1,IF(W$30=$AU$1,IF(IFERROR(HLOOKUP(W41,$AL$4:$AV$4,1,0),"bad")="bad",0,1),0)))))))))))) -> 0 | ... BJ41: =IF(AG$30="",1,IF(AG$4=99,1,IF(AG41="",0,IF(AG$30=$AL$1,IF(ISNA(MATCH(AG41,$AI$30:$AJ$30,0)),0,1),IF(AG$30=$AM$1,IF(IFERROR(AG41*1,"bad")="bad",0,1),IF(AG$30=$AN$1,IF(IFERROR(IF(AG41=TRUNC(AG41),1,"bad"),"bad")="bad",0,1),IF(AG$30=$AO$1,IF(AND(IF(IFERROR(AG41*1,"bad")="bad",0,1)=1,AG41>=0),1,0),IF(AG$30=$AQ$1,IF(AND(IF(IFERROR(IF(AG41=TRUNC(AG41),1,"bad"),"bad")="bad",0,1)=1,AG41>=0),1,0),IF(AG$30=$AR$1,IF(AND(IF(IFERROR(AG41*1,"bad")="bad",0,1)=1,AG41>0),1,0),IF(AG$30=$AS$1,IF(AND(IF(IFERROR(IF(AG41=TRUNC(AG41),1,"bad"),"bad")="bad",0,1)=1,AG41>0),1,0),IF(AG$30=$AT$1,1,IF(AG$30=$AU$1,IF(IFERROR(HLOOKUP(AG41,$AL$4:$AV$4,1,0),"bad")="bad",0,1),0)))))))))))) -> 0 | BM41: =IF($F41="","",BM$30) | BN41: =IF($F41="","",BN$30) | BO41: =IF($F41="","",BO$30) | BP41: =IF($F41="","",BP$30) | BQ41: =IF($F41="","",BQ$30) | BR41: =IF($F41="","",BR$30) | BS41: =IF($F41="","",BS$30) | BT41: =IF($F41="","",BT$30) | ... BV41: =IF($F41="","",BV$30)
B42: =IF(F42="","",ROW()-30) | O42: =IF(D42="","",IF(L42="",$AI$1,IF(OR(SUM(L42:N42)=3,L42=0),1,0))) | AF42: {=IF($D42="","",IF(AE42=1,1,IF(AH42<>1,$AI$1,IF(SUMPRODUCT(--(G42:AD42>=$G$6:$AD$6)*($G$6:$AD$6<>"")*($G$4:$AD$4=1))=COUNTIF($G$4:$AD$4,1),1,0))))} | AH42: =IF(SUM(AK42:BI42)=COUNT(AK42:BI42),1,0) -> 0 | AI42: =IF($F42="","",AI$30) | AJ42: =IF($F42="","",AJ$30) | AK42: =IF(G$30="",1,IF(G$4=99,1,IF(G42="",0,IF(G$30=$AL$1,IF(ISNA(MATCH(G42,$AI$30:$AJ$30,0)),0,1),IF(G$30=$AM$1,IF(IFERROR(G42*1,"bad")="bad",0,1),IF(G$30=$AN$1,IF(IFERROR(IF(G42=TRUNC(G42),1,"bad"),"bad")="bad",0,1),IF(G$30=$AO$1,IF(AND(IF(IFERROR(G42*1,"bad")="bad",0,1)=1,G42>=0),1,0),IF(G$30=$AQ$1,IF(AND(IF(IFERROR(IF(G42=TRUNC(G42),1,"bad"),"bad")="bad",0,1)=1,G42>=0),1,0),IF(G$30=$AR$1,IF(AND(IF(IFERROR(G42*1,"bad")="bad",0,1)=1,G42>0),1,0),IF(G$30=$AS$1,IF(AND(IF(IFERROR(IF(G42=TRUNC(G42),1,"bad"),"bad")="bad",0,1)=1,G42>0),1,0),IF(G$30=$AT$1,1,IF(G$30=$AU$1,IF(IFERROR(HLOOKUP(G42,$AL$4:$AV$4,1,0),"bad")="bad",0,1),0)))))))))))) -> 0 | AL42: =IF(H$30="",1,IF(H$4=99,1,IF(H42="",0,IF(H$30=$AL$1,IF(ISNA(MATCH(H42,$AI$30:$AJ$30,0)),0,1),IF(H$30=$AM$1,IF(IFERROR(H42*1,"bad")="bad",0,1),IF(H$30=$AN$1,IF(IFERROR(IF(H42=TRUNC(H42),1,"bad"),"bad")="bad",0,1),IF(H$30=$AO$1,IF(AND(IF(IFERROR(H42*1,"bad")="bad",0,1)=1,H42>=0),1,0),IF(H$30=$AQ$1,IF(AND(IF(IFERROR(IF(H42=TRUNC(H42),1,"bad"),"bad")="bad",0,1)=1,H42>=0),1,0),IF(H$30=$AR$1,IF(AND(IF(IFERROR(H42*1,"bad")="bad",0,1)=1,H42>0),1,0),IF(H$30=$AS$1,IF(AND(IF(IFERROR(IF(H42=TRUNC(H42),1,"bad"),"bad")="bad",0,1)=1,H42>0),1,0),IF(H$30=$AT$1,1,IF(H$30=$AU$1,IF(IFERROR(HLOOKUP(H42,$AL$4:$AV$4,1,0),"bad")="bad",0,1),0)))))))))))) -> 0 | AM42: =IF(I$30="",1,IF(I$4=99,1,IF(I42="",0,IF(I$30=$AL$1,IF(ISNA(MATCH(I42,$AI$30:$AJ$30,0)),0,1),IF(I$30=$AM$1,IF(IFERROR(I42*1,"bad")="bad",0,1),IF(I$30=$AN$1,IF(IFERROR(IF(I42=TRUNC(I42),1,"bad"),"bad")="bad",0,1),IF(I$30=$AO$1,IF(AND(IF(IFERROR(I42*1,"bad")="bad",0,1)=1,I42>=0),1,0),IF(I$30=$AQ$1,IF(AND(IF(IFERROR(IF(I42=TRUNC(I42),1,"bad"),"bad")="bad",0,1)=1,I42>=0),1,0),IF(I$30=$AR$1,IF(AND(IF(IFERROR(I42*1,"bad")="bad",0,1)=1,I42>0),1,0),IF(I$30=$AS$1,IF(AND(IF(IFERROR(IF(I42=TRUNC(I42),1,"bad"),"bad")="bad",0,1)=1,I42>0),1,0),IF(I$30=$AT$1,1,IF(I$30=$AU$1,IF(IFERROR(HLOOKUP(I42,$AL$4:$AV$4,1,0),"bad")="bad",0,1),0)))))))))))) -> 0 | AN42: =IF(J$30="",1,IF(J$4=99,1,IF(J42="",0,IF(J$30=$AL$1,IF(ISNA(MATCH(J42,$AI$30:$AJ$30,0)),0,1),IF(J$30=$AM$1,IF(IFERROR(J42*1,"bad")="bad",0,1),IF(J$30=$AN$1,IF(IFERROR(IF(J42=TRUNC(J42),1,"bad"),"bad")="bad",0,1),IF(J$30=$AO$1,IF(AND(IF(IFERROR(J42*1,"bad")="bad",0,1)=1,J42>=0),1,0),IF(J$30=$AQ$1,IF(AND(IF(IFERROR(IF(J42=TRUNC(J42),1,"bad"),"bad")="bad",0,1)=1,J42>=0),1,0),IF(J$30=$AR$1,IF(AND(IF(IFERROR(J42*1,"bad")="bad",0,1)=1,J42>0),1,0),IF(J$30=$AS$1,IF(AND(IF(IFERROR(IF(J42=TRUNC(J42),1,"bad"),"bad")="bad",0,1)=1,J42>0),1,0),IF(J$30=$AT$1,1,IF(J$30=$AU$1,IF(IFERROR(HLOOKUP(J42,$AL$4:$AV$4,1,0),"bad")="bad",0,1),0)))))))))))) -> 0 | AO42: =IF(K$30="",1,IF(K$4=99,1,IF(K42="",0,IF(K$30=$AL$1,IF(ISNA(MATCH(K42,$AI$30:$AJ$30,0)),0,1),IF(K$30=$AM$1,IF(IFERROR(K42*1,"bad")="bad",0,1),IF(K$30=$AN$1,IF(IFERROR(IF(K42=TRUNC(K42),1,"bad"),"bad")="bad",0,1),IF(K$30=$AO$1,IF(AND(IF(IFERROR(K42*1,"bad")="bad",0,1)=1,K42>=0),1,0),IF(K$30=$AQ$1,IF(AND(IF(IFERROR(IF(K42=TRUNC(K42),1,"bad"),"bad")="bad",0,1)=1,K42>=0),1,0),IF(K$30=$AR$1,IF(AND(IF(IFERROR(K42*1,"bad")="bad",0,1)=1,K42>0),1,0),IF(K$30=$AS$1,IF(AND(IF(IFERROR(IF(K42=TRUNC(K42),1,"bad"),"bad")="bad",0,1)=1,K42>0),1,0),IF(K$30=$AT$1,1,IF(K$30=$AU$1,IF(IFERROR(HLOOKUP(K42,$AL$4:$AV$4,1,0),"bad")="bad",0,1),0)))))))))))) -> 0 | AP42: =IF(L$30="",1,IF(L$4=99,1,IF(L42="",0,IF(L$30=$AL$1,IF(ISNA(MATCH(L42,$AI$30:$AJ$30,0)),0,1),IF(L$30=$AM$1,IF(IFERROR(L42*1,"bad")="bad",0,1),IF(L$30=$AN$1,IF(IFERROR(IF(L42=TRUNC(L42),1,"bad"),"bad")="bad",0,1),IF(L$30=$AO$1,IF(AND(IF(IFERROR(L42*1,"bad")="bad",0,1)=1,L42>=0),1,0),IF(L$30=$AQ$1,IF(AND(IF(IFERROR(IF(L42=TRUNC(L42),1,"bad"),"bad")="bad",0,1)=1,L42>=0),1,0),IF(L$30=$AR$1,IF(AND(IF(IFERROR(L42*1,"bad")="bad",0,1)=1,L42>0),1,0),IF(L$30=$AS$1,IF(AND(IF(IFERROR(IF(L42=TRUNC(L42),1,"bad"),"bad")="bad",0,1)=1,L42>0),1,0),IF(L$30=$AT$1,1,IF(L$30=$AU$1,IF(IFERROR(HLOOKUP(L42,$AL$4:$AV$4,1,0),"bad")="bad",0,1),0)))))))))))) -> 0 | AQ42: =IF(M$30="",1,IF(M$4=99,1,IF(M42="",0,IF(M$30=$AL$1,IF(ISNA(MATCH(M42,$AI$30:$AJ$30,0)),0,1),IF(M$30=$AM$1,IF(IFERROR(M42*1,"bad")="bad",0,1),IF(M$30=$AN$1,IF(IFERROR(IF(M42=TRUNC(M42),1,"bad"),"bad")="bad",0,1),IF(M$30=$AO$1,IF(AND(IF(IFERROR(M42*1,"bad")="bad",0,1)=1,M42>=0),1,0),IF(M$30=$AQ$1,IF(AND(IF(IFERROR(IF(M42=TRUNC(M42),1,"bad"),"bad")="bad",0,1)=1,M42>=0),1,0),IF(M$30=$AR$1,IF(AND(IF(IFERROR(M42*1,"bad")="bad",0,1)=1,M42>0),1,0),IF(M$30=$AS$1,IF(AND(IF(IFERROR(IF(M42=TRUNC(M42),1,"bad"),"bad")="bad",0,1)=1,M42>0),1,0),IF(M$30=$AT$1,1,IF(M$30=$AU$1,IF(IFERROR(HLOOKUP(M42,$AL$4:$AV$4,1,0),"bad")="bad",0,1),0)))))))))))) -> 1 | AR42: =IF(N$30="",1,IF(N$4=99,1,IF(N42="",0,IF(N$30=$AL$1,IF(ISNA(MATCH(N42,$AI$30:$AJ$30,0)),0,1),IF(N$30=$AM$1,IF(IFERROR(N42*1,"bad")="bad",0,1),IF(N$30=$AN$1,IF(IFERROR(IF(N42=TRUNC(N42),1,"bad"),"bad")="bad",0,1),IF(N$30=$AO$1,IF(AND(IF(IFERROR(N42*1,"bad")="bad",0,1)=1,N42>=0),1,0),IF(N$30=$AQ$1,IF(AND(IF(IFERROR(IF(N42=TRUNC(N42),1,"bad"),"bad")="bad",0,1)=1,N42>=0),1,0),IF(N$30=$AR$1,IF(AND(IF(IFERROR(N42*1,"bad")="bad",0,1)=1,N42>0),1,0),IF(N$30=$AS$1,IF(AND(IF(IFERROR(IF(N42=TRUNC(N42),1,"bad"),"bad")="bad",0,1)=1,N42>0),1,0),IF(N$30=$AT$1,1,IF(N$30=$AU$1,IF(IFERROR(HLOOKUP(N42,$AL$4:$AV$4,1,0),"bad")="bad",0,1),0)))))))))))) -> 1 | AS42: =IF(P$30="",1,IF(P$4=99,1,IF(P42="",0,IF(P$30=$AL$1,IF(ISNA(MATCH(P42,$AI$30:$AJ$30,0)),0,1),IF(P$30=$AM$1,IF(IFERROR(P42*1,"bad")="bad",0,1),IF(P$30=$AN$1,IF(IFERROR(IF(P42=TRUNC(P42),1,"bad"),"bad")="bad",0,1),IF(P$30=$AO$1,IF(AND(IF(IFERROR(P42*1,"bad")="bad",0,1)=1,P42>=0),1,0),IF(P$30=$AQ$1,IF(AND(IF(IFERROR(IF(P42=TRUNC(P42),1,"bad"),"bad")="bad",0,1)=1,P42>=0),1,0),IF(P$30=$AR$1,IF(AND(IF(IFERROR(P42*1,"bad")="bad",0,1)=1,P42>0),1,0),IF(P$30=$AS$1,IF(AND(IF(IFERROR(IF(P42=TRUNC(P42),1,"bad"),"bad")="bad",0,1)=1,P42>0),1,0),IF(P$30=$AT$1,1,IF(P$30=$AU$1,IF(IFERROR(HLOOKUP(P42,$AL$4:$AV$4,1,0),"bad")="bad",0,1),0)))))))))))) -> 0 | AT42: =IF(Q$30="",1,IF(Q$4=99,1,IF(Q42="",0,IF(Q$30=$AL$1,IF(ISNA(MATCH(Q42,$AI$30:$AJ$30,0)),0,1),IF(Q$30=$AM$1,IF(IFERROR(Q42*1,"bad")="bad",0,1),IF(Q$30=$AN$1,IF(IFERROR(IF(Q42=TRUNC(Q42),1,"bad"),"bad")="bad",0,1),IF(Q$30=$AO$1,IF(AND(IF(IFERROR(Q42*1,"bad")="bad",0,1)=1,Q42>=0),1,0),IF(Q$30=$AQ$1,IF(AND(IF(IFERROR(IF(Q42=TRUNC(Q42),1,"bad"),"bad")="bad",0,1)=1,Q42>=0),1,0),IF(Q$30=$AR$1,IF(AND(IF(IFERROR(Q42*1,"bad")="bad",0,1)=1,Q42>0),1,0),IF(Q$30=$AS$1,IF(AND(IF(IFERROR(IF(Q42=TRUNC(Q42),1,"bad"),"bad")="bad",0,1)=1,Q42>0),1,0),IF(Q$30=$AT$1,1,IF(Q$30=$AU$1,IF(IFERROR(HLOOKUP(Q42,$AL$4:$AV$4,1,0),"bad")="bad",0,1),0)))))))))))) -> 0 | AU42: =IF(R$30="",1,IF(R$4=99,1,IF(R42="",0,IF(R$30=$AL$1,IF(ISNA(MATCH(R42,$AI$30:$AJ$30,0)),0,1),IF(R$30=$AM$1,IF(IFERROR(R42*1,"bad")="bad",0,1),IF(R$30=$AN$1,IF(IFERROR(IF(R42=TRUNC(R42),1,"bad"),"bad")="bad",0,1),IF(R$30=$AO$1,IF(AND(IF(IFERROR(R42*1,"bad")="bad",0,1)=1,R42>=0),1,0),IF(R$30=$AQ$1,IF(AND(IF(IFERROR(IF(R42=TRUNC(R42),1,"bad"),"bad")="bad",0,1)=1,R42>=0),1,0),IF(R$30=$AR$1,IF(AND(IF(IFERROR(R42*1,"bad")="bad",0,1)=1,R42>0),1,0),IF(R$30=$AS$1,IF(AND(IF(IFERROR(IF(R42=TRUNC(R42),1,"bad"),"bad")="bad",0,1)=1,R42>0),1,0),IF(R$30=$AT$1,1,IF(R$30=$AU$1,IF(IFERROR(HLOOKUP(R42,$AL$4:$AV$4,1,0),"bad")="bad",0,1),0)))))))))))) -> 0 | AV42: =IF(S$30="",1,IF(S$4=99,1,IF(S42="",0,IF(S$30=$AL$1,IF(ISNA(MATCH(S42,$AI$30:$AJ$30,0)),0,1),IF(S$30=$AM$1,IF(IFERROR(S42*1,"bad")="bad",0,1),IF(S$30=$AN$1,IF(IFERROR(IF(S42=TRUNC(S42),1,"bad"),"bad")="bad",0,1),IF(S$30=$AO$1,IF(AND(IF(IFERROR(S42*1,"bad")="bad",0,1)=1,S42>=0),1,0),IF(S$30=$AQ$1,IF(AND(IF(IFERROR(IF(S42=TRUNC(S42),1,"bad"),"bad")="bad",0,1)=1,S42>=0),1,0),IF(S$30=$AR$1,IF(AND(IF(IFERROR(S42*1,"bad")="bad",0,1)=1,S42>0),1,0),IF(S$30=$AS$1,IF(AND(IF(IFERROR(IF(S42=TRUNC(S42),1,"bad"),"bad")="bad",0,1)=1,S42>0),1,0),IF(S$30=$AT$1,1,IF(S$30=$AU$1,IF(IFERROR(HLOOKUP(S42,$AL$4:$AV$4,1,0),"bad")="bad",0,1),0)))))))))))) -> 1 | AW42: =IF(T$30="",1,IF(T$4=99,1,IF(T42="",0,IF(T$30=$AL$1,IF(ISNA(MATCH(T42,$AI$30:$AJ$30,0)),0,1),IF(T$30=$AM$1,IF(IFERROR(T42*1,"bad")="bad",0,1),IF(T$30=$AN$1,IF(IFERROR(IF(T42=TRUNC(T42),1,"bad"),"bad")="bad",0,1),IF(T$30=$AO$1,IF(AND(IF(IFERROR(T42*1,"bad")="bad",0,1)=1,T42>=0),1,0),IF(T$30=$AQ$1,IF(AND(IF(IFERROR(IF(T42=TRUNC(T42),1,"bad"),"bad")="bad",0,1)=1,T42>=0),1,0),IF(T$30=$AR$1,IF(AND(IF(IFERROR(T42*1,"bad")="bad",0,1)=1,T42>0),1,0),IF(T$30=$AS$1,IF(AND(IF(IFERROR(IF(T42=TRUNC(T42),1,"bad"),"bad")="bad",0,1)=1,T42>0),1,0),IF(T$30=$AT$1,1,IF(T$30=$AU$1,IF(IFERROR(HLOOKUP(T42,$AL$4:$AV$4,1,0),"bad")="bad",0,1),0)))))))))))) -> 0 | AX42: =IF(U$30="",1,IF(U$4=99,1,IF(U42="",0,IF(U$30=$AL$1,IF(ISNA(MATCH(U42,$AI$30:$AJ$30,0)),0,1),IF(U$30=$AM$1,IF(IFERROR(U42*1,"bad")="bad",0,1),IF(U$30=$AN$1,IF(IFERROR(IF(U42=TRUNC(U42),1,"bad"),"bad")="bad",0,1),IF(U$30=$AO$1,IF(AND(IF(IFERROR(U42*1,"bad")="bad",0,1)=1,U42>=0),1,0),IF(U$30=$AQ$1,IF(AND(IF(IFERROR(IF(U42=TRUNC(U42),1,"bad"),"bad")="bad",0,1)=1,U42>=0),1,0),IF(U$30=$AR$1,IF(AND(IF(IFERROR(U42*1,"bad")="bad",0,1)=1,U42>0),1,0),IF(U$30=$AS$1,IF(AND(IF(IFERROR(IF(U42=TRUNC(U42),1,"bad"),"bad")="bad",0,1)=1,U42>0),1,0),IF(U$30=$AT$1,1,IF(U$30=$AU$1,IF(IFERROR(HLOOKUP(U42,$AL$4:$AV$4,1,0),"bad")="bad",0,1),0)))))))))))) -> 0 | AY42: =IF(V$30="",1,IF(V$4=99,1,IF(V42="",0,IF(V$30=$AL$1,IF(ISNA(MATCH(V42,$AI$30:$AJ$30,0)),0,1),IF(V$30=$AM$1,IF(IFERROR(V42*1,"bad")="bad",0,1),IF(V$30=$AN$1,IF(IFERROR(IF(V42=TRUNC(V42),1,"bad"),"bad")="bad",0,1),IF(V$30=$AO$1,IF(AND(IF(IFERROR(V42*1,"bad")="bad",0,1)=1,V42>=0),1,0),IF(V$30=$AQ$1,IF(AND(IF(IFERROR(IF(V42=TRUNC(V42),1,"bad"),"bad")="bad",0,1)=1,V42>=0),1,0),IF(V$30=$AR$1,IF(AND(IF(IFERROR(V42*1,"bad")="bad",0,1)=1,V42>0),1,0),IF(V$30=$AS$1,IF(AND(IF(IFERROR(IF(V42=TRUNC(V42),1,"bad"),"bad")="bad",0,1)=1,V42>0),1,0),IF(V$30=$AT$1,1,IF(V$30=$AU$1,IF(IFERROR(HLOOKUP(V42,$AL$4:$AV$4,1,0),"bad")="bad",0,1),0)))))))))))) -> 0 | AZ42: =IF(W$30="",1,IF(W$4=99,1,IF(W42="",0,IF(W$30=$AL$1,IF(ISNA(MATCH(W42,$AI$30:$AJ$30,0)),0,1),IF(W$30=$AM$1,IF(IFERROR(W42*1,"bad")="bad",0,1),IF(W$30=$AN$1,IF(IFERROR(IF(W42=TRUNC(W42),1,"bad"),"bad")="bad",0,1),IF(W$30=$AO$1,IF(AND(IF(IFERROR(W42*1,"bad")="bad",0,1)=1,W42>=0),1,0),IF(W$30=$AQ$1,IF(AND(IF(IFERROR(IF(W42=TRUNC(W42),1,"bad"),"bad")="bad",0,1)=1,W42>=0),1,0),IF(W$30=$AR$1,IF(AND(IF(IFERROR(W42*1,"bad")="bad",0,1)=1,W42>0),1,0),IF(W$30=$AS$1,IF(AND(IF(IFERROR(IF(W42=TRUNC(W42),1,"bad"),"bad")="bad",0,1)=1,W42>0),1,0),IF(W$30=$AT$1,1,IF(W$30=$AU$1,IF(IFERROR(HLOOKUP(W42,$AL$4:$AV$4,1,0),"bad")="bad",0,1),0)))))))))))) -> 0 | ... BJ42: =IF(AG$30="",1,IF(AG$4=99,1,IF(AG42="",0,IF(AG$30=$AL$1,IF(ISNA(MATCH(AG42,$AI$30:$AJ$30,0)),0,1),IF(AG$30=$AM$1,IF(IFERROR(AG42*1,"bad")="bad",0,1),IF(AG$30=$AN$1,IF(IFERROR(IF(AG42=TRUNC(AG42),1,"bad"),"bad")="bad",0,1),IF(AG$30=$AO$1,IF(AND(IF(IFERROR(AG42*1,"bad")="bad",0,1)=1,AG42>=0),1,0),IF(AG$30=$AQ$1,IF(AND(IF(IFERROR(IF(AG42=TRUNC(AG42),1,"bad"),"bad")="bad",0,1)=1,AG42>=0),1,0),IF(AG$30=$AR$1,IF(AND(IF(IFERROR(AG42*1,"bad")="bad",0,1)=1,AG42>0),1,0),IF(AG$30=$AS$1,IF(AND(IF(IFERROR(IF(AG42=TRUNC(AG42),1,"bad"),"bad")="bad",0,1)=1,AG42>0),1,0),IF(AG$30=$AT$1,1,IF(AG$30=$AU$1,IF(IFERROR(HLOOKUP(AG42,$AL$4:$AV$4,1,0),"bad")="bad",0,1),0)))))))))))) -> 0 | BM42: =IF($F42="","",BM$30) | BN42: =IF($F42="","",BN$30) | BO42: =IF($F42="","",BO$30) | BP42: =IF($F42="","",BP$30) | BQ42: =IF($F42="","",BQ$30) | BR42: =IF($F42="","",BR$30) | BS42: =IF($F42="","",BS$30) | BT42: =IF($F42="","",BT$30) | ... BV42: =IF($F42="","",BV$30)
B43: =IF(F43="","",ROW()-30) | O43: =IF(D43="","",IF(L43="",$AI$1,IF(OR(SUM(L43:N43)=3,L43=0),1,0))) | AF43: {=IF($D43="","",IF(AE43=1,1,IF(AH43<>1,$AI$1,IF(SUMPRODUCT(--(G43:AD43>=$G$6:$AD$6)*($G$6:$AD$6<>"")*($G$4:$AD$4=1))=COUNTIF($G$4:$AD$4,1),1,0))))} | AH43: =IF(SUM(AK43:BI43)=COUNT(AK43:BI43),1,0) -> 0 | AI43: =IF($F43="","",AI$30) | AJ43: =IF($F43="","",AJ$30) | AK43: =IF(G$30="",1,IF(G$4=99,1,IF(G43="",0,IF(G$30=$AL$1,IF(ISNA(MATCH(G43,$AI$30:$AJ$30,0)),0,1),IF(G$30=$AM$1,IF(IFERROR(G43*1,"bad")="bad",0,1),IF(G$30=$AN$1,IF(IFERROR(IF(G43=TRUNC(G43),1,"bad"),"bad")="bad",0,1),IF(G$30=$AO$1,IF(AND(IF(IFERROR(G43*1,"bad")="bad",0,1)=1,G43>=0),1,0),IF(G$30=$AQ$1,IF(AND(IF(IFERROR(IF(G43=TRUNC(G43),1,"bad"),"bad")="bad",0,1)=1,G43>=0),1,0),IF(G$30=$AR$1,IF(AND(IF(IFERROR(G43*1,"bad")="bad",0,1)=1,G43>0),1,0),IF(G$30=$AS$1,IF(AND(IF(IFERROR(IF(G43=TRUNC(G43),1,"bad"),"bad")="bad",0,1)=1,G43>0),1,0),IF(G$30=$AT$1,1,IF(G$30=$AU$1,IF(IFERROR(HLOOKUP(G43,$AL$4:$AV$4,1,0),"bad")="bad",0,1),0)))))))))))) -> 0 | AL43: =IF(H$30="",1,IF(H$4=99,1,IF(H43="",0,IF(H$30=$AL$1,IF(ISNA(MATCH(H43,$AI$30:$AJ$30,0)),0,1),IF(H$30=$AM$1,IF(IFERROR(H43*1,"bad")="bad",0,1),IF(H$30=$AN$1,IF(IFERROR(IF(H43=TRUNC(H43),1,"bad"),"bad")="bad",0,1),IF(H$30=$AO$1,IF(AND(IF(IFERROR(H43*1,"bad")="bad",0,1)=1,H43>=0),1,0),IF(H$30=$AQ$1,IF(AND(IF(IFERROR(IF(H43=TRUNC(H43),1,"bad"),"bad")="bad",0,1)=1,H43>=0),1,0),IF(H$30=$AR$1,IF(AND(IF(IFERROR(H43*1,"bad")="bad",0,1)=1,H43>0),1,0),IF(H$30=$AS$1,IF(AND(IF(IFERROR(IF(H43=TRUNC(H43),1,"bad"),"bad")="bad",0,1)=1,H43>0),1,0),IF(H$30=$AT$1,1,IF(H$30=$AU$1,IF(IFERROR(HLOOKUP(H43,$AL$4:$AV$4,1,0),"bad")="bad",0,1),0)))))))))))) -> 0 | AM43: =IF(I$30="",1,IF(I$4=99,1,IF(I43="",0,IF(I$30=$AL$1,IF(ISNA(MATCH(I43,$AI$30:$AJ$30,0)),0,1),IF(I$30=$AM$1,IF(IFERROR(I43*1,"bad")="bad",0,1),IF(I$30=$AN$1,IF(IFERROR(IF(I43=TRUNC(I43),1,"bad"),"bad")="bad",0,1),IF(I$30=$AO$1,IF(AND(IF(IFERROR(I43*1,"bad")="bad",0,1)=1,I43>=0),1,0),IF(I$30=$AQ$1,IF(AND(IF(IFERROR(IF(I43=TRUNC(I43),1,"bad"),"bad")="bad",0,1)=1,I43>=0),1,0),IF(I$30=$AR$1,IF(AND(IF(IFERROR(I43*1,"bad")="bad",0,1)=1,I43>0),1,0),IF(I$30=$AS$1,IF(AND(IF(IFERROR(IF(I43=TRUNC(I43),1,"bad"),"bad")="bad",0,1)=1,I43>0),1,0),IF(I$30=$AT$1,1,IF(I$30=$AU$1,IF(IFERROR(HLOOKUP(I43,$AL$4:$AV$4,1,0),"bad")="bad",0,1),0)))))))))))) -> 0 | AN43: =IF(J$30="",1,IF(J$4=99,1,IF(J43="",0,IF(J$30=$AL$1,IF(ISNA(MATCH(J43,$AI$30:$AJ$30,0)),0,1),IF(J$30=$AM$1,IF(IFERROR(J43*1,"bad")="bad",0,1),IF(J$30=$AN$1,IF(IFERROR(IF(J43=TRUNC(J43),1,"bad"),"bad")="bad",0,1),IF(J$30=$AO$1,IF(AND(IF(IFERROR(J43*1,"bad")="bad",0,1)=1,J43>=0),1,0),IF(J$30=$AQ$1,IF(AND(IF(IFERROR(IF(J43=TRUNC(J43),1,"bad"),"bad")="bad",0,1)=1,J43>=0),1,0),IF(J$30=$AR$1,IF(AND(IF(IFERROR(J43*1,"bad")="bad",0,1)=1,J43>0),1,0),IF(J$30=$AS$1,IF(AND(IF(IFERROR(IF(J43=TRUNC(J43),1,"bad"),"bad")="bad",0,1)=1,J43>0),1,0),IF(J$30=$AT$1,1,IF(J$30=$AU$1,IF(IFERROR(HLOOKUP(J43,$AL$4:$AV$4,1,0),"bad")="bad",0,1),0)))))))))))) -> 0 | AO43: =IF(K$30="",1,IF(K$4=99,1,IF(K43="",0,IF(K$30=$AL$1,IF(ISNA(MATCH(K43,$AI$30:$AJ$30,0)),0,1),IF(K$30=$AM$1,IF(IFERROR(K43*1,"bad")="bad",0,1),IF(K$30=$AN$1,IF(IFERROR(IF(K43=TRUNC(K43),1,"bad"),"bad")="bad",0,1),IF(K$30=$AO$1,IF(AND(IF(IFERROR(K43*1,"bad")="bad",0,1)=1,K43>=0),1,0),IF(K$30=$AQ$1,IF(AND(IF(IFERROR(IF(K43=TRUNC(K43),1,"bad"),"bad")="bad",0,1)=1,K43>=0),1,0),IF(K$30=$AR$1,IF(AND(IF(IFERROR(K43*1,"bad")="bad",0,1)=1,K43>0),1,0),IF(K$30=$AS$1,IF(AND(IF(IFERROR(IF(K43=TRUNC(K43),1,"bad"),"bad")="bad",0,1)=1,K43>0),1,0),IF(K$30=$AT$1,1,IF(K$30=$AU$1,IF(IFERROR(HLOOKUP(K43,$AL$4:$AV$4,1,0),"bad")="bad",0,1),0)))))))))))) -> 0 | AP43: =IF(L$30="",1,IF(L$4=99,1,IF(L43="",0,IF(L$30=$AL$1,IF(ISNA(MATCH(L43,$AI$30:$AJ$30,0)),0,1),IF(L$30=$AM$1,IF(IFERROR(L43*1,"bad")="bad",0,1),IF(L$30=$AN$1,IF(IFERROR(IF(L43=TRUNC(L43),1,"bad"),"bad")="bad",0,1),IF(L$30=$AO$1,IF(AND(IF(IFERROR(L43*1,"bad")="bad",0,1)=1,L43>=0),1,0),IF(L$30=$AQ$1,IF(AND(IF(IFERROR(IF(L43=TRUNC(L43),1,"bad"),"bad")="bad",0,1)=1,L43>=0),1,0),IF(L$30=$AR$1,IF(AND(IF(IFERROR(L43*1,"bad")="bad",0,1)=1,L43>0),1,0),IF(L$30=$AS$1,IF(AND(IF(IFERROR(IF(L43=TRUNC(L43),1,"bad"),"bad")="bad",0,1)=1,L43>0),1,0),IF(L$30=$AT$1,1,IF(L$30=$AU$1,IF(IFERROR(HLOOKUP(L43,$AL$4:$AV$4,1,0),"bad")="bad",0,1),0)))))))))))) -> 0 | AQ43: =IF(M$30="",1,IF(M$4=99,1,IF(M43="",0,IF(M$30=$AL$1,IF(ISNA(MATCH(M43,$AI$30:$AJ$30,0)),0,1),IF(M$30=$AM$1,IF(IFERROR(M43*1,"bad")="bad",0,1),IF(M$30=$AN$1,IF(IFERROR(IF(M43=TRUNC(M43),1,"bad"),"bad")="bad",0,1),IF(M$30=$AO$1,IF(AND(IF(IFERROR(M43*1,"bad")="bad",0,1)=1,M43>=0),1,0),IF(M$30=$AQ$1,IF(AND(IF(IFERROR(IF(M43=TRUNC(M43),1,"bad"),"bad")="bad",0,1)=1,M43>=0),1,0),IF(M$30=$AR$1,IF(AND(IF(IFERROR(M43*1,"bad")="bad",0,1)=1,M43>0),1,0),IF(M$30=$AS$1,IF(AND(IF(IFERROR(IF(M43=TRUNC(M43),1,"bad"),"bad")="bad",0,1)=1,M43>0),1,0),IF(M$30=$AT$1,1,IF(M$30=$AU$1,IF(IFERROR(HLOOKUP(M43,$AL$4:$AV$4,1,0),"bad")="bad",0,1),0)))))))))))) -> 1 | AR43: =IF(N$30="",1,IF(N$4=99,1,IF(N43="",0,IF(N$30=$AL$1,IF(ISNA(MATCH(N43,$AI$30:$AJ$30,0)),0,1),IF(N$30=$AM$1,IF(IFERROR(N43*1,"bad")="bad",0,1),IF(N$30=$AN$1,IF(IFERROR(IF(N43=TRUNC(N43),1,"bad"),"bad")="bad",0,1),IF(N$30=$AO$1,IF(AND(IF(IFERROR(N43*1,"bad")="bad",0,1)=1,N43>=0),1,0),IF(N$30=$AQ$1,IF(AND(IF(IFERROR(IF(N43=TRUNC(N43),1,"bad"),"bad")="bad",0,1)=1,N43>=0),1,0),IF(N$30=$AR$1,IF(AND(IF(IFERROR(N43*1,"bad")="bad",0,1)=1,N43>0),1,0),IF(N$30=$AS$1,IF(AND(IF(IFERROR(IF(N43=TRUNC(N43),1,"bad"),"bad")="bad",0,1)=1,N43>0),1,0),IF(N$30=$AT$1,1,IF(N$30=$AU$1,IF(IFERROR(HLOOKUP(N43,$AL$4:$AV$4,1,0),"bad")="bad",0,1),0)))))))))))) -> 1 | AS43: =IF(P$30="",1,IF(P$4=99,1,IF(P43="",0,IF(P$30=$AL$1,IF(ISNA(MATCH(P43,$AI$30:$AJ$30,0)),0,1),IF(P$30=$AM$1,IF(IFERROR(P43*1,"bad")="bad",0,1),IF(P$30=$AN$1,IF(IFERROR(IF(P43=TRUNC(P43),1,"bad"),"bad")="bad",0,1),IF(P$30=$AO$1,IF(AND(IF(IFERROR(P43*1,"bad")="bad",0,1)=1,P43>=0),1,0),IF(P$30=$AQ$1,IF(AND(IF(IFERROR(IF(P43=TRUNC(P43),1,"bad"),"bad")="bad",0,1)=1,P43>=0),1,0),IF(P$30=$AR$1,IF(AND(IF(IFERROR(P43*1,"bad")="bad",0,1)=1,P43>0),1,0),IF(P$30=$AS$1,IF(AND(IF(IFERROR(IF(P43=TRUNC(P43),1,"bad"),"bad")="bad",0,1)=1,P43>0),1,0),IF(P$30=$AT$1,1,IF(P$30=$AU$1,IF(IFERROR(HLOOKUP(P43,$AL$4:$AV$4,1,0),"bad")="bad",0,1),0)))))))))))) -> 0 | AT43: =IF(Q$30="",1,IF(Q$4=99,1,IF(Q43="",0,IF(Q$30=$AL$1,IF(ISNA(MATCH(Q43,$AI$30:$AJ$30,0)),0,1),IF(Q$30=$AM$1,IF(IFERROR(Q43*1,"bad")="bad",0,1),IF(Q$30=$AN$1,IF(IFERROR(IF(Q43=TRUNC(Q43),1,"bad"),"bad")="bad",0,1),IF(Q$30=$AO$1,IF(AND(IF(IFERROR(Q43*1,"bad")="bad",0,1)=1,Q43>=0),1,0),IF(Q$30=$AQ$1,IF(AND(IF(IFERROR(IF(Q43=TRUNC(Q43),1,"bad"),"bad")="bad",0,1)=1,Q43>=0),1,0),IF(Q$30=$AR$1,IF(AND(IF(IFERROR(Q43*1,"bad")="bad",0,1)=1,Q43>0),1,0),IF(Q$30=$AS$1,IF(AND(IF(IFERROR(IF(Q43=TRUNC(Q43),1,"bad"),"bad")="bad",0,1)=1,Q43>0),1,0),IF(Q$30=$AT$1,1,IF(Q$30=$AU$1,IF(IFERROR(HLOOKUP(Q43,$AL$4:$AV$4,1,0),"bad")="bad",0,1),0)))))))))))) -> 0 | AU43: =IF(R$30="",1,IF(R$4=99,1,IF(R43="",0,IF(R$30=$AL$1,IF(ISNA(MATCH(R43,$AI$30:$AJ$30,0)),0,1),IF(R$30=$AM$1,IF(IFERROR(R43*1,"bad")="bad",0,1),IF(R$30=$AN$1,IF(IFERROR(IF(R43=TRUNC(R43),1,"bad"),"bad")="bad",0,1),IF(R$30=$AO$1,IF(AND(IF(IFERROR(R43*1,"bad")="bad",0,1)=1,R43>=0),1,0),IF(R$30=$AQ$1,IF(AND(IF(IFERROR(IF(R43=TRUNC(R43),1,"bad"),"bad")="bad",0,1)=1,R43>=0),1,0),IF(R$30=$AR$1,IF(AND(IF(IFERROR(R43*1,"bad")="bad",0,1)=1,R43>0),1,0),IF(R$30=$AS$1,IF(AND(IF(IFERROR(IF(R43=TRUNC(R43),1,"bad"),"bad")="bad",0,1)=1,R43>0),1,0),IF(R$30=$AT$1,1,IF(R$30=$AU$1,IF(IFERROR(HLOOKUP(R43,$AL$4:$AV$4,1,0),"bad")="bad",0,1),0)))))))))))) -> 0 | AV43: =IF(S$30="",1,IF(S$4=99,1,IF(S43="",0,IF(S$30=$AL$1,IF(ISNA(MATCH(S43,$AI$30:$AJ$30,0)),0,1),IF(S$30=$AM$1,IF(IFERROR(S43*1,"bad")="bad",0,1),IF(S$30=$AN$1,IF(IFERROR(IF(S43=TRUNC(S43),1,"bad"),"bad")="bad",0,1),IF(S$30=$AO$1,IF(AND(IF(IFERROR(S43*1,"bad")="bad",0,1)=1,S43>=0),1,0),IF(S$30=$AQ$1,IF(AND(IF(IFERROR(IF(S43=TRUNC(S43),1,"bad"),"bad")="bad",0,1)=1,S43>=0),1,0),IF(S$30=$AR$1,IF(AND(IF(IFERROR(S43*1,"bad")="bad",0,1)=1,S43>0),1,0),IF(S$30=$AS$1,IF(AND(IF(IFERROR(IF(S43=TRUNC(S43),1,"bad"),"bad")="bad",0,1)=1,S43>0),1,0),IF(S$30=$AT$1,1,IF(S$30=$AU$1,IF(IFERROR(HLOOKUP(S43,$AL$4:$AV$4,1,0),"bad")="bad",0,1),0)))))))))))) -> 1 | AW43: =IF(T$30="",1,IF(T$4=99,1,IF(T43="",0,IF(T$30=$AL$1,IF(ISNA(MATCH(T43,$AI$30:$AJ$30,0)),0,1),IF(T$30=$AM$1,IF(IFERROR(T43*1,"bad")="bad",0,1),IF(T$30=$AN$1,IF(IFERROR(IF(T43=TRUNC(T43),1,"bad"),"bad")="bad",0,1),IF(T$30=$AO$1,IF(AND(IF(IFERROR(T43*1,"bad")="bad",0,1)=1,T43>=0),1,0),IF(T$30=$AQ$1,IF(AND(IF(IFERROR(IF(T43=TRUNC(T43),1,"bad"),"bad")="bad",0,1)=1,T43>=0),1,0),IF(T$30=$AR$1,IF(AND(IF(IFERROR(T43*1,"bad")="bad",0,1)=1,T43>0),1,0),IF(T$30=$AS$1,IF(AND(IF(IFERROR(IF(T43=TRUNC(T43),1,"bad"),"bad")="bad",0,1)=1,T43>0),1,0),IF(T$30=$AT$1,1,IF(T$30=$AU$1,IF(IFERROR(HLOOKUP(T43,$AL$4:$AV$4,1,0),"bad")="bad",0,1),0)))))))))))) -> 0 | AX43: =IF(U$30="",1,IF(U$4=99,1,IF(U43="",0,IF(U$30=$AL$1,IF(ISNA(MATCH(U43,$AI$30:$AJ$30,0)),0,1),IF(U$30=$AM$1,IF(IFERROR(U43*1,"bad")="bad",0,1),IF(U$30=$AN$1,IF(IFERROR(IF(U43=TRUNC(U43),1,"bad"),"bad")="bad",0,1),IF(U$30=$AO$1,IF(AND(IF(IFERROR(U43*1,"bad")="bad",0,1)=1,U43>=0),1,0),IF(U$30=$AQ$1,IF(AND(IF(IFERROR(IF(U43=TRUNC(U43),1,"bad"),"bad")="bad",0,1)=1,U43>=0),1,0),IF(U$30=$AR$1,IF(AND(IF(IFERROR(U43*1,"bad")="bad",0,1)=1,U43>0),1,0),IF(U$30=$AS$1,IF(AND(IF(IFERROR(IF(U43=TRUNC(U43),1,"bad"),"bad")="bad",0,1)=1,U43>0),1,0),IF(U$30=$AT$1,1,IF(U$30=$AU$1,IF(IFERROR(HLOOKUP(U43,$AL$4:$AV$4,1,0),"bad")="bad",0,1),0)))))))))))) -> 0 | AY43: =IF(V$30="",1,IF(V$4=99,1,IF(V43="",0,IF(V$30=$AL$1,IF(ISNA(MATCH(V43,$AI$30:$AJ$30,0)),0,1),IF(V$30=$AM$1,IF(IFERROR(V43*1,"bad")="bad",0,1),IF(V$30=$AN$1,IF(IFERROR(IF(V43=TRUNC(V43),1,"bad"),"bad")="bad",0,1),IF(V$30=$AO$1,IF(AND(IF(IFERROR(V43*1,"bad")="bad",0,1)=1,V43>=0),1,0),IF(V$30=$AQ$1,IF(AND(IF(IFERROR(IF(V43=TRUNC(V43),1,"bad"),"bad")="bad",0,1)=1,V43>=0),1,0),IF(V$30=$AR$1,IF(AND(IF(IFERROR(V43*1,"bad")="bad",0,1)=1,V43>0),1,0),IF(V$30=$AS$1,IF(AND(IF(IFERROR(IF(V43=TRUNC(V43),1,"bad"),"bad")="bad",0,1)=1,V43>0),1,0),IF(V$30=$AT$1,1,IF(V$30=$AU$1,IF(IFERROR(HLOOKUP(V43,$AL$4:$AV$4,1,0),"bad")="bad",0,1),0)))))))))))) -> 0 | AZ43: =IF(W$30="",1,IF(W$4=99,1,IF(W43="",0,IF(W$30=$AL$1,IF(ISNA(MATCH(W43,$AI$30:$AJ$30,0)),0,1),IF(W$30=$AM$1,IF(IFERROR(W43*1,"bad")="bad",0,1),IF(W$30=$AN$1,IF(IFERROR(IF(W43=TRUNC(W43),1,"bad"),"bad")="bad",0,1),IF(W$30=$AO$1,IF(AND(IF(IFERROR(W43*1,"bad")="bad",0,1)=1,W43>=0),1,0),IF(W$30=$AQ$1,IF(AND(IF(IFERROR(IF(W43=TRUNC(W43),1,"bad"),"bad")="bad",0,1)=1,W43>=0),1,0),IF(W$30=$AR$1,IF(AND(IF(IFERROR(W43*1,"bad")="bad",0,1)=1,W43>0),1,0),IF(W$30=$AS$1,IF(AND(IF(IFERROR(IF(W43=TRUNC(W43),1,"bad"),"bad")="bad",0,1)=1,W43>0),1,0),IF(W$30=$AT$1,1,IF(W$30=$AU$1,IF(IFERROR(HLOOKUP(W43,$AL$4:$AV$4,1,0),"bad")="bad",0,1),0)))))))))))) -> 0 | ... BJ43: =IF(AG$30="",1,IF(AG$4=99,1,IF(AG43="",0,IF(AG$30=$AL$1,IF(ISNA(MATCH(AG43,$AI$30:$AJ$30,0)),0,1),IF(AG$30=$AM$1,IF(IFERROR(AG43*1,"bad")="bad",0,1),IF(AG$30=$AN$1,IF(IFERROR(IF(AG43=TRUNC(AG43),1,"bad"),"bad")="bad",0,1),IF(AG$30=$AO$1,IF(AND(IF(IFERROR(AG43*1,"bad")="bad",0,1)=1,AG43>=0),1,0),IF(AG$30=$AQ$1,IF(AND(IF(IFERROR(IF(AG43=TRUNC(AG43),1,"bad"),"bad")="bad",0,1)=1,AG43>=0),1,0),IF(AG$30=$AR$1,IF(AND(IF(IFERROR(AG43*1,"bad")="bad",0,1)=1,AG43>0),1,0),IF(AG$30=$AS$1,IF(AND(IF(IFERROR(IF(AG43=TRUNC(AG43),1,"bad"),"bad")="bad",0,1)=1,AG43>0),1,0),IF(AG$30=$AT$1,1,IF(AG$30=$AU$1,IF(IFERROR(HLOOKUP(AG43,$AL$4:$AV$4,1,0),"bad")="bad",0,1),0)))))))))))) -> 0 | BM43: =IF($F43="","",BM$30) | BN43: =IF($F43="","",BN$30) | BO43: =IF($F43="","",BO$30) | BP43: =IF($F43="","",BP$30) | BQ43: =IF($F43="","",BQ$30) | BR43: =IF($F43="","",BR$30) | BS43: =IF($F43="","",BS$30) | BT43: =IF($F43="","",BT$30) | ... BV43: =IF($F43="","",BV$30)
B44: =IF(F44="","",ROW()-30) | O44: =IF(D44="","",IF(L44="",$AI$1,IF(OR(SUM(L44:N44)=3,L44=0),1,0))) | AF44: {=IF($D44="","",IF(AE44=1,1,IF(AH44<>1,$AI$1,IF(SUMPRODUCT(--(G44:AD44>=$G$6:$AD$6)*($G$6:$AD$6<>"")*($G$4:$AD$4=1))=COUNTIF($G$4:$AD$4,1),1,0))))} | AH44: =IF(SUM(AK44:BI44)=COUNT(AK44:BI44),1,0) -> 0 | AI44: =IF($F44="","",AI$30) | AJ44: =IF($F44="","",AJ$30) | AK44: =IF(G$30="",1,IF(G$4=99,1,IF(G44="",0,IF(G$30=$AL$1,IF(ISNA(MATCH(G44,$AI$30:$AJ$30,0)),0,1),IF(G$30=$AM$1,IF(IFERROR(G44*1,"bad")="bad",0,1),IF(G$30=$AN$1,IF(IFERROR(IF(G44=TRUNC(G44),1,"bad"),"bad")="bad",0,1),IF(G$30=$AO$1,IF(AND(IF(IFERROR(G44*1,"bad")="bad",0,1)=1,G44>=0),1,0),IF(G$30=$AQ$1,IF(AND(IF(IFERROR(IF(G44=TRUNC(G44),1,"bad"),"bad")="bad",0,1)=1,G44>=0),1,0),IF(G$30=$AR$1,IF(AND(IF(IFERROR(G44*1,"bad")="bad",0,1)=1,G44>0),1,0),IF(G$30=$AS$1,IF(AND(IF(IFERROR(IF(G44=TRUNC(G44),1,"bad"),"bad")="bad",0,1)=1,G44>0),1,0),IF(G$30=$AT$1,1,IF(G$30=$AU$1,IF(IFERROR(HLOOKUP(G44,$AL$4:$AV$4,1,0),"bad")="bad",0,1),0)))))))))))) -> 0 | AL44: =IF(H$30="",1,IF(H$4=99,1,IF(H44="",0,IF(H$30=$AL$1,IF(ISNA(MATCH(H44,$AI$30:$AJ$30,0)),0,1),IF(H$30=$AM$1,IF(IFERROR(H44*1,"bad")="bad",0,1),IF(H$30=$AN$1,IF(IFERROR(IF(H44=TRUNC(H44),1,"bad"),"bad")="bad",0,1),IF(H$30=$AO$1,IF(AND(IF(IFERROR(H44*1,"bad")="bad",0,1)=1,H44>=0),1,0),IF(H$30=$AQ$1,IF(AND(IF(IFERROR(IF(H44=TRUNC(H44),1,"bad"),"bad")="bad",0,1)=1,H44>=0),1,0),IF(H$30=$AR$1,IF(AND(IF(IFERROR(H44*1,"bad")="bad",0,1)=1,H44>0),1,0),IF(H$30=$AS$1,IF(AND(IF(IFERROR(IF(H44=TRUNC(H44),1,"bad"),"bad")="bad",0,1)=1,H44>0),1,0),IF(H$30=$AT$1,1,IF(H$30=$AU$1,IF(IFERROR(HLOOKUP(H44,$AL$4:$AV$4,1,0),"bad")="bad",0,1),0)))))))))))) -> 0 | AM44: =IF(I$30="",1,IF(I$4=99,1,IF(I44="",0,IF(I$30=$AL$1,IF(ISNA(MATCH(I44,$AI$30:$AJ$30,0)),0,1),IF(I$30=$AM$1,IF(IFERROR(I44*1,"bad")="bad",0,1),IF(I$30=$AN$1,IF(IFERROR(IF(I44=TRUNC(I44),1,"bad"),"bad")="bad",0,1),IF(I$30=$AO$1,IF(AND(IF(IFERROR(I44*1,"bad")="bad",0,1)=1,I44>=0),1,0),IF(I$30=$AQ$1,IF(AND(IF(IFERROR(IF(I44=TRUNC(I44),1,"bad"),"bad")="bad",0,1)=1,I44>=0),1,0),IF(I$30=$AR$1,IF(AND(IF(IFERROR(I44*1,"bad")="bad",0,1)=1,I44>0),1,0),IF(I$30=$AS$1,IF(AND(IF(IFERROR(IF(I44=TRUNC(I44),1,"bad"),"bad")="bad",0,1)=1,I44>0),1,0),IF(I$30=$AT$1,1,IF(I$30=$AU$1,IF(IFERROR(HLOOKUP(I44,$AL$4:$AV$4,1,0),"bad")="bad",0,1),0)))))))))))) -> 0 | AN44: =IF(J$30="",1,IF(J$4=99,1,IF(J44="",0,IF(J$30=$AL$1,IF(ISNA(MATCH(J44,$AI$30:$AJ$30,0)),0,1),IF(J$30=$AM$1,IF(IFERROR(J44*1,"bad")="bad",0,1),IF(J$30=$AN$1,IF(IFERROR(IF(J44=TRUNC(J44),1,"bad"),"bad")="bad",0,1),IF(J$30=$AO$1,IF(AND(IF(IFERROR(J44*1,"bad")="bad",0,1)=1,J44>=0),1,0),IF(J$30=$AQ$1,IF(AND(IF(IFERROR(IF(J44=TRUNC(J44),1,"bad"),"bad")="bad",0,1)=1,J44>=0),1,0),IF(J$30=$AR$1,IF(AND(IF(IFERROR(J44*1,"bad")="bad",0,1)=1,J44>0),1,0),IF(J$30=$AS$1,IF(AND(IF(IFERROR(IF(J44=TRUNC(J44),1,"bad"),"bad")="bad",0,1)=1,J44>0),1,0),IF(J$30=$AT$1,1,IF(J$30=$AU$1,IF(IFERROR(HLOOKUP(J44,$AL$4:$AV$4,1,0),"bad")="bad",0,1),0)))))))))))) -> 0 | AO44: =IF(K$30="",1,IF(K$4=99,1,IF(K44="",0,IF(K$30=$AL$1,IF(ISNA(MATCH(K44,$AI$30:$AJ$30,0)),0,1),IF(K$30=$AM$1,IF(IFERROR(K44*1,"bad")="bad",0,1),IF(K$30=$AN$1,IF(IFERROR(IF(K44=TRUNC(K44),1,"bad"),"bad")="bad",0,1),IF(K$30=$AO$1,IF(AND(IF(IFERROR(K44*1,"bad")="bad",0,1)=1,K44>=0),1,0),IF(K$30=$AQ$1,IF(AND(IF(IFERROR(IF(K44=TRUNC(K44),1,"bad"),"bad")="bad",0,1)=1,K44>=0),1,0),IF(K$30=$AR$1,IF(AND(IF(IFERROR(K44*1,"bad")="bad",0,1)=1,K44>0),1,0),IF(K$30=$AS$1,IF(AND(IF(IFERROR(IF(K44=TRUNC(K44),1,"bad"),"bad")="bad",0,1)=1,K44>0),1,0),IF(K$30=$AT$1,1,IF(K$30=$AU$1,IF(IFERROR(HLOOKUP(K44,$AL$4:$AV$4,1,0),"bad")="bad",0,1),0)))))))))))) -> 0 | AP44: =IF(L$30="",1,IF(L$4=99,1,IF(L44="",0,IF(L$30=$AL$1,IF(ISNA(MATCH(L44,$AI$30:$AJ$30,0)),0,1),IF(L$30=$AM$1,IF(IFERROR(L44*1,"bad")="bad",0,1),IF(L$30=$AN$1,IF(IFERROR(IF(L44=TRUNC(L44),1,"bad"),"bad")="bad",0,1),IF(L$30=$AO$1,IF(AND(IF(IFERROR(L44*1,"bad")="bad",0,1)=1,L44>=0),1,0),IF(L$30=$AQ$1,IF(AND(IF(IFERROR(IF(L44=TRUNC(L44),1,"bad"),"bad")="bad",0,1)=1,L44>=0),1,0),IF(L$30=$AR$1,IF(AND(IF(IFERROR(L44*1,"bad")="bad",0,1)=1,L44>0),1,0),IF(L$30=$AS$1,IF(AND(IF(IFERROR(IF(L44=TRUNC(L44),1,"bad"),"bad")="bad",0,1)=1,L44>0),1,0),IF(L$30=$AT$1,1,IF(L$30=$AU$1,IF(IFERROR(HLOOKUP(L44,$AL$4:$AV$4,1,0),"bad")="bad",0,1),0)))))))))))) -> 0 | AQ44: =IF(M$30="",1,IF(M$4=99,1,IF(M44="",0,IF(M$30=$AL$1,IF(ISNA(MATCH(M44,$AI$30:$AJ$30,0)),0,1),IF(M$30=$AM$1,IF(IFERROR(M44*1,"bad")="bad",0,1),IF(M$30=$AN$1,IF(IFERROR(IF(M44=TRUNC(M44),1,"bad"),"bad")="bad",0,1),IF(M$30=$AO$1,IF(AND(IF(IFERROR(M44*1,"bad")="bad",0,1)=1,M44>=0),1,0),IF(M$30=$AQ$1,IF(AND(IF(IFERROR(IF(M44=TRUNC(M44),1,"bad"),"bad")="bad",0,1)=1,M44>=0),1,0),IF(M$30=$AR$1,IF(AND(IF(IFERROR(M44*1,"bad")="bad",0,1)=1,M44>0),1,0),IF(M$30=$AS$1,IF(AND(IF(IFERROR(IF(M44=TRUNC(M44),1,"bad"),"bad")="bad",0,1)=1,M44>0),1,0),IF(M$30=$AT$1,1,IF(M$30=$AU$1,IF(IFERROR(HLOOKUP(M44,$AL$4:$AV$4,1,0),"bad")="bad",0,1),0)))))))))))) -> 1 | AR44: =IF(N$30="",1,IF(N$4=99,1,IF(N44="",0,IF(N$30=$AL$1,IF(ISNA(MATCH(N44,$AI$30:$AJ$30,0)),0,1),IF(N$30=$AM$1,IF(IFERROR(N44*1,"bad")="bad",0,1),IF(N$30=$AN$1,IF(IFERROR(IF(N44=TRUNC(N44),1,"bad"),"bad")="bad",0,1),IF(N$30=$AO$1,IF(AND(IF(IFERROR(N44*1,"bad")="bad",0,1)=1,N44>=0),1,0),IF(N$30=$AQ$1,IF(AND(IF(IFERROR(IF(N44=TRUNC(N44),1,"bad"),"bad")="bad",0,1)=1,N44>=0),1,0),IF(N$30=$AR$1,IF(AND(IF(IFERROR(N44*1,"bad")="bad",0,1)=1,N44>0),1,0),IF(N$30=$AS$1,IF(AND(IF(IFERROR(IF(N44=TRUNC(N44),1,"bad"),"bad")="bad",0,1)=1,N44>0),1,0),IF(N$30=$AT$1,1,IF(N$30=$AU$1,IF(IFERROR(HLOOKUP(N44,$AL$4:$AV$4,1,0),"bad")="bad",0,1),0)))))))))))) -> 1 | AS44: =IF(P$30="",1,IF(P$4=99,1,IF(P44="",0,IF(P$30=$AL$1,IF(ISNA(MATCH(P44,$AI$30:$AJ$30,0)),0,1),IF(P$30=$AM$1,IF(IFERROR(P44*1,"bad")="bad",0,1),IF(P$30=$AN$1,IF(IFERROR(IF(P44=TRUNC(P44),1,"bad"),"bad")="bad",0,1),IF(P$30=$AO$1,IF(AND(IF(IFERROR(P44*1,"bad")="bad",0,1)=1,P44>=0),1,0),IF(P$30=$AQ$1,IF(AND(IF(IFERROR(IF(P44=TRUNC(P44),1,"bad"),"bad")="bad",0,1)=1,P44>=0),1,0),IF(P$30=$AR$1,IF(AND(IF(IFERROR(P44*1,"bad")="bad",0,1)=1,P44>0),1,0),IF(P$30=$AS$1,IF(AND(IF(IFERROR(IF(P44=TRUNC(P44),1,"bad"),"bad")="bad",0,1)=1,P44>0),1,0),IF(P$30=$AT$1,1,IF(P$30=$AU$1,IF(IFERROR(HLOOKUP(P44,$AL$4:$AV$4,1,0),"bad")="bad",0,1),0)))))))))))) -> 0 | AT44: =IF(Q$30="",1,IF(Q$4=99,1,IF(Q44="",0,IF(Q$30=$AL$1,IF(ISNA(MATCH(Q44,$AI$30:$AJ$30,0)),0,1),IF(Q$30=$AM$1,IF(IFERROR(Q44*1,"bad")="bad",0,1),IF(Q$30=$AN$1,IF(IFERROR(IF(Q44=TRUNC(Q44),1,"bad"),"bad")="bad",0,1),IF(Q$30=$AO$1,IF(AND(IF(IFERROR(Q44*1,"bad")="bad",0,1)=1,Q44>=0),1,0),IF(Q$30=$AQ$1,IF(AND(IF(IFERROR(IF(Q44=TRUNC(Q44),1,"bad"),"bad")="bad",0,1)=1,Q44>=0),1,0),IF(Q$30=$AR$1,IF(AND(IF(IFERROR(Q44*1,"bad")="bad",0,1)=1,Q44>0),1,0),IF(Q$30=$AS$1,IF(AND(IF(IFERROR(IF(Q44=TRUNC(Q44),1,"bad"),"bad")="bad",0,1)=1,Q44>0),1,0),IF(Q$30=$AT$1,1,IF(Q$30=$AU$1,IF(IFERROR(HLOOKUP(Q44,$AL$4:$AV$4,1,0),"bad")="bad",0,1),0)))))))))))) -> 0 | AU44: =IF(R$30="",1,IF(R$4=99,1,IF(R44="",0,IF(R$30=$AL$1,IF(ISNA(MATCH(R44,$AI$30:$AJ$30,0)),0,1),IF(R$30=$AM$1,IF(IFERROR(R44*1,"bad")="bad",0,1),IF(R$30=$AN$1,IF(IFERROR(IF(R44=TRUNC(R44),1,"bad"),"bad")="bad",0,1),IF(R$30=$AO$1,IF(AND(IF(IFERROR(R44*1,"bad")="bad",0,1)=1,R44>=0),1,0),IF(R$30=$AQ$1,IF(AND(IF(IFERROR(IF(R44=TRUNC(R44),1,"bad"),"bad")="bad",0,1)=1,R44>=0),1,0),IF(R$30=$AR$1,IF(AND(IF(IFERROR(R44*1,"bad")="bad",0,1)=1,R44>0),1,0),IF(R$30=$AS$1,IF(AND(IF(IFERROR(IF(R44=TRUNC(R44),1,"bad"),"bad")="bad",0,1)=1,R44>0),1,0),IF(R$30=$AT$1,1,IF(R$30=$AU$1,IF(IFERROR(HLOOKUP(R44,$AL$4:$AV$4,1,0),"bad")="bad",0,1),0)))))))))))) -> 0 | AV44: =IF(S$30="",1,IF(S$4=99,1,IF(S44="",0,IF(S$30=$AL$1,IF(ISNA(MATCH(S44,$AI$30:$AJ$30,0)),0,1),IF(S$30=$AM$1,IF(IFERROR(S44*1,"bad")="bad",0,1),IF(S$30=$AN$1,IF(IFERROR(IF(S44=TRUNC(S44),1,"bad"),"bad")="bad",0,1),IF(S$30=$AO$1,IF(AND(IF(IFERROR(S44*1,"bad")="bad",0,1)=1,S44>=0),1,0),IF(S$30=$AQ$1,IF(AND(IF(IFERROR(IF(S44=TRUNC(S44),1,"bad"),"bad")="bad",0,1)=1,S44>=0),1,0),IF(S$30=$AR$1,IF(AND(IF(IFERROR(S44*1,"bad")="bad",0,1)=1,S44>0),1,0),IF(S$30=$AS$1,IF(AND(IF(IFERROR(IF(S44=TRUNC(S44),1,"bad"),"bad")="bad",0,1)=1,S44>0),1,0),IF(S$30=$AT$1,1,IF(S$30=$AU$1,IF(IFERROR(HLOOKUP(S44,$AL$4:$AV$4,1,0),"bad")="bad",0,1),0)))))))))))) -> 1 | AW44: =IF(T$30="",1,IF(T$4=99,1,IF(T44="",0,IF(T$30=$AL$1,IF(ISNA(MATCH(T44,$AI$30:$AJ$30,0)),0,1),IF(T$30=$AM$1,IF(IFERROR(T44*1,"bad")="bad",0,1),IF(T$30=$AN$1,IF(IFERROR(IF(T44=TRUNC(T44),1,"bad"),"bad")="bad",0,1),IF(T$30=$AO$1,IF(AND(IF(IFERROR(T44*1,"bad")="bad",0,1)=1,T44>=0),1,0),IF(T$30=$AQ$1,IF(AND(IF(IFERROR(IF(T44=TRUNC(T44),1,"bad"),"bad")="bad",0,1)=1,T44>=0),1,0),IF(T$30=$AR$1,IF(AND(IF(IFERROR(T44*1,"bad")="bad",0,1)=1,T44>0),1,0),IF(T$30=$AS$1,IF(AND(IF(IFERROR(IF(T44=TRUNC(T44),1,"bad"),"bad")="bad",0,1)=1,T44>0),1,0),IF(T$30=$AT$1,1,IF(T$30=$AU$1,IF(IFERROR(HLOOKUP(T44,$AL$4:$AV$4,1,0),"bad")="bad",0,1),0)))))))))))) -> 0 | AX44: =IF(U$30="",1,IF(U$4=99,1,IF(U44="",0,IF(U$30=$AL$1,IF(ISNA(MATCH(U44,$AI$30:$AJ$30,0)),0,1),IF(U$30=$AM$1,IF(IFERROR(U44*1,"bad")="bad",0,1),IF(U$30=$AN$1,IF(IFERROR(IF(U44=TRUNC(U44),1,"bad"),"bad")="bad",0,1),IF(U$30=$AO$1,IF(AND(IF(IFERROR(U44*1,"bad")="bad",0,1)=1,U44>=0),1,0),IF(U$30=$AQ$1,IF(AND(IF(IFERROR(IF(U44=TRUNC(U44),1,"bad"),"bad")="bad",0,1)=1,U44>=0),1,0),IF(U$30=$AR$1,IF(AND(IF(IFERROR(U44*1,"bad")="bad",0,1)=1,U44>0),1,0),IF(U$30=$AS$1,IF(AND(IF(IFERROR(IF(U44=TRUNC(U44),1,"bad"),"bad")="bad",0,1)=1,U44>0),1,0),IF(U$30=$AT$1,1,IF(U$30=$AU$1,IF(IFERROR(HLOOKUP(U44,$AL$4:$AV$4,1,0),"bad")="bad",0,1),0)))))))))))) -> 0 | AY44: =IF(V$30="",1,IF(V$4=99,1,IF(V44="",0,IF(V$30=$AL$1,IF(ISNA(MATCH(V44,$AI$30:$AJ$30,0)),0,1),IF(V$30=$AM$1,IF(IFERROR(V44*1,"bad")="bad",0,1),IF(V$30=$AN$1,IF(IFERROR(IF(V44=TRUNC(V44),1,"bad"),"bad")="bad",0,1),IF(V$30=$AO$1,IF(AND(IF(IFERROR(V44*1,"bad")="bad",0,1)=1,V44>=0),1,0),IF(V$30=$AQ$1,IF(AND(IF(IFERROR(IF(V44=TRUNC(V44),1,"bad"),"bad")="bad",0,1)=1,V44>=0),1,0),IF(V$30=$AR$1,IF(AND(IF(IFERROR(V44*1,"bad")="bad",0,1)=1,V44>0),1,0),IF(V$30=$AS$1,IF(AND(IF(IFERROR(IF(V44=TRUNC(V44),1,"bad"),"bad")="bad",0,1)=1,V44>0),1,0),IF(V$30=$AT$1,1,IF(V$30=$AU$1,IF(IFERROR(HLOOKUP(V44,$AL$4:$AV$4,1,0),"bad")="bad",0,1),0)))))))))))) -> 0 | AZ44: =IF(W$30="",1,IF(W$4=99,1,IF(W44="",0,IF(W$30=$AL$1,IF(ISNA(MATCH(W44,$AI$30:$AJ$30,0)),0,1),IF(W$30=$AM$1,IF(IFERROR(W44*1,"bad")="bad",0,1),IF(W$30=$AN$1,IF(IFERROR(IF(W44=TRUNC(W44),1,"bad"),"bad")="bad",0,1),IF(W$30=$AO$1,IF(AND(IF(IFERROR(W44*1,"bad")="bad",0,1)=1,W44>=0),1,0),IF(W$30=$AQ$1,IF(AND(IF(IFERROR(IF(W44=TRUNC(W44),1,"bad"),"bad")="bad",0,1)=1,W44>=0),1,0),IF(W$30=$AR$1,IF(AND(IF(IFERROR(W44*1,"bad")="bad",0,1)=1,W44>0),1,0),IF(W$30=$AS$1,IF(AND(IF(IFERROR(IF(W44=TRUNC(W44),1,"bad"),"bad")="bad",0,1)=1,W44>0),1,0),IF(W$30=$AT$1,1,IF(W$30=$AU$1,IF(IFERROR(HLOOKUP(W44,$AL$4:$AV$4,1,0),"bad")="bad",0,1),0)))))))))))) -> 0 | ... BJ44: =IF(AG$30="",1,IF(AG$4=99,1,IF(AG44="",0,IF(AG$30=$AL$1,IF(ISNA(MATCH(AG44,$AI$30:$AJ$30,0)),0,1),IF(AG$30=$AM$1,IF(IFERROR(AG44*1,"bad")="bad",0,1),IF(AG$30=$AN$1,IF(IFERROR(IF(AG44=TRUNC(AG44),1,"bad"),"bad")="bad",0,1),IF(AG$30=$AO$1,IF(AND(IF(IFERROR(AG44*1,"bad")="bad",0,1)=1,AG44>=0),1,0),IF(AG$30=$AQ$1,IF(AND(IF(IFERROR(IF(AG44=TRUNC(AG44),1,"bad"),"bad")="bad",0,1)=1,AG44>=0),1,0),IF(AG$30=$AR$1,IF(AND(IF(IFERROR(AG44*1,"bad")="bad",0,1)=1,AG44>0),1,0),IF(AG$30=$AS$1,IF(AND(IF(IFERROR(IF(AG44=TRUNC(AG44),1,"bad"),"bad")="bad",0,1)=1,AG44>0),1,0),IF(AG$30=$AT$1,1,IF(AG$30=$AU$1,IF(IFERROR(HLOOKUP(AG44,$AL$4:$AV$4,1,0),"bad")="bad",0,1),0)))))))))))) -> 0 | BM44: =IF($F44="","",BM$30) | BN44: =IF($F44="","",BN$30) | BO44: =IF($F44="","",BO$30) | BP44: =IF($F44="","",BP$30) | BQ44: =IF($F44="","",BQ$30) | BR44: =IF($F44="","",BR$30) | BS44: =IF($F44="","",BS$30) | BT44: =IF($F44="","",BT$30) | ... BV44: =IF($F44="","",BV$30)
B45: =IF(F45="","",ROW()-30) | O45: =IF(D45="","",IF(L45="",$AI$1,IF(OR(SUM(L45:N45)=3,L45=0),1,0))) | AF45: {=IF($D45="","",IF(AE45=1,1,IF(AH45<>1,$AI$1,IF(SUMPRODUCT(--(G45:AD45>=$G$6:$AD$6)*($G$6:$AD$6<>"")*($G$4:$AD$4=1))=COUNTIF($G$4:$AD$4,1),1,0))))} | AH45: =IF(SUM(AK45:BI45)=COUNT(AK45:BI45),1,0) -> 0 | AI45: =IF($F45="","",AI$30) | AJ45: =IF($F45="","",AJ$30) | AK45: =IF(G$30="",1,IF(G$4=99,1,IF(G45="",0,IF(G$30=$AL$1,IF(ISNA(MATCH(G45,$AI$30:$AJ$30,0)),0,1),IF(G$30=$AM$1,IF(IFERROR(G45*1,"bad")="bad",0,1),IF(G$30=$AN$1,IF(IFERROR(IF(G45=TRUNC(G45),1,"bad"),"bad")="bad",0,1),IF(G$30=$AO$1,IF(AND(IF(IFERROR(G45*1,"bad")="bad",0,1)=1,G45>=0),1,0),IF(G$30=$AQ$1,IF(AND(IF(IFERROR(IF(G45=TRUNC(G45),1,"bad"),"bad")="bad",0,1)=1,G45>=0),1,0),IF(G$30=$AR$1,IF(AND(IF(IFERROR(G45*1,"bad")="bad",0,1)=1,G45>0),1,0),IF(G$30=$AS$1,IF(AND(IF(IFERROR(IF(G45=TRUNC(G45),1,"bad"),"bad")="bad",0,1)=1,G45>0),1,0),IF(G$30=$AT$1,1,IF(G$30=$AU$1,IF(IFERROR(HLOOKUP(G45,$AL$4:$AV$4,1,0),"bad")="bad",0,1),0)))))))))))) -> 0 | AL45: =IF(H$30="",1,IF(H$4=99,1,IF(H45="",0,IF(H$30=$AL$1,IF(ISNA(MATCH(H45,$AI$30:$AJ$30,0)),0,1),IF(H$30=$AM$1,IF(IFERROR(H45*1,"bad")="bad",0,1),IF(H$30=$AN$1,IF(IFERROR(IF(H45=TRUNC(H45),1,"bad"),"bad")="bad",0,1),IF(H$30=$AO$1,IF(AND(IF(IFERROR(H45*1,"bad")="bad",0,1)=1,H45>=0),1,0),IF(H$30=$AQ$1,IF(AND(IF(IFERROR(IF(H45=TRUNC(H45),1,"bad"),"bad")="bad",0,1)=1,H45>=0),1,0),IF(H$30=$AR$1,IF(AND(IF(IFERROR(H45*1,"bad")="bad",0,1)=1,H45>0),1,0),IF(H$30=$AS$1,IF(AND(IF(IFERROR(IF(H45=TRUNC(H45),1,"bad"),"bad")="bad",0,1)=1,H45>0),1,0),IF(H$30=$AT$1,1,IF(H$30=$AU$1,IF(IFERROR(HLOOKUP(H45,$AL$4:$AV$4,1,0),"bad")="bad",0,1),0)))))))))))) -> 0 | AM45: =IF(I$30="",1,IF(I$4=99,1,IF(I45="",0,IF(I$30=$AL$1,IF(ISNA(MATCH(I45,$AI$30:$AJ$30,0)),0,1),IF(I$30=$AM$1,IF(IFERROR(I45*1,"bad")="bad",0,1),IF(I$30=$AN$1,IF(IFERROR(IF(I45=TRUNC(I45),1,"bad"),"bad")="bad",0,1),IF(I$30=$AO$1,IF(AND(IF(IFERROR(I45*1,"bad")="bad",0,1)=1,I45>=0),1,0),IF(I$30=$AQ$1,IF(AND(IF(IFERROR(IF(I45=TRUNC(I45),1,"bad"),"bad")="bad",0,1)=1,I45>=0),1,0),IF(I$30=$AR$1,IF(AND(IF(IFERROR(I45*1,"bad")="bad",0,1)=1,I45>0),1,0),IF(I$30=$AS$1,IF(AND(IF(IFERROR(IF(I45=TRUNC(I45),1,"bad"),"bad")="bad",0,1)=1,I45>0),1,0),IF(I$30=$AT$1,1,IF(I$30=$AU$1,IF(IFERROR(HLOOKUP(I45,$AL$4:$AV$4,1,0),"bad")="bad",0,1),0)))))))))))) -> 0 | AN45: =IF(J$30="",1,IF(J$4=99,1,IF(J45="",0,IF(J$30=$AL$1,IF(ISNA(MATCH(J45,$AI$30:$AJ$30,0)),0,1),IF(J$30=$AM$1,IF(IFERROR(J45*1,"bad")="bad",0,1),IF(J$30=$AN$1,IF(IFERROR(IF(J45=TRUNC(J45),1,"bad"),"bad")="bad",0,1),IF(J$30=$AO$1,IF(AND(IF(IFERROR(J45*1,"bad")="bad",0,1)=1,J45>=0),1,0),IF(J$30=$AQ$1,IF(AND(IF(IFERROR(IF(J45=TRUNC(J45),1,"bad"),"bad")="bad",0,1)=1,J45>=0),1,0),IF(J$30=$AR$1,IF(AND(IF(IFERROR(J45*1,"bad")="bad",0,1)=1,J45>0),1,0),IF(J$30=$AS$1,IF(AND(IF(IFERROR(IF(J45=TRUNC(J45),1,"bad"),"bad")="bad",0,1)=1,J45>0),1,0),IF(J$30=$AT$1,1,IF(J$30=$AU$1,IF(IFERROR(HLOOKUP(J45,$AL$4:$AV$4,1,0),"bad")="bad",0,1),0)))))))))))) -> 0 | AO45: =IF(K$30="",1,IF(K$4=99,1,IF(K45="",0,IF(K$30=$AL$1,IF(ISNA(MATCH(K45,$AI$30:$AJ$30,0)),0,1),IF(K$30=$AM$1,IF(IFERROR(K45*1,"bad")="bad",0,1),IF(K$30=$AN$1,IF(IFERROR(IF(K45=TRUNC(K45),1,"bad"),"bad")="bad",0,1),IF(K$30=$AO$1,IF(AND(IF(IFERROR(K45*1,"bad")="bad",0,1)=1,K45>=0),1,0),IF(K$30=$AQ$1,IF(AND(IF(IFERROR(IF(K45=TRUNC(K45),1,"bad"),"bad")="bad",0,1)=1,K45>=0),1,0),IF(K$30=$AR$1,IF(AND(IF(IFERROR(K45*1,"bad")="bad",0,1)=1,K45>0),1,0),IF(K$30=$AS$1,IF(AND(IF(IFERROR(IF(K45=TRUNC(K45),1,"bad"),"bad")="bad",0,1)=1,K45>0),1,0),IF(K$30=$AT$1,1,IF(K$30=$AU$1,IF(IFERROR(HLOOKUP(K45,$AL$4:$AV$4,1,0),"bad")="bad",0,1),0)))))))))))) -> 0 | AP45: =IF(L$30="",1,IF(L$4=99,1,IF(L45="",0,IF(L$30=$AL$1,IF(ISNA(MATCH(L45,$AI$30:$AJ$30,0)),0,1),IF(L$30=$AM$1,IF(IFERROR(L45*1,"bad")="bad",0,1),IF(L$30=$AN$1,IF(IFERROR(IF(L45=TRUNC(L45),1,"bad"),"bad")="bad",0,1),IF(L$30=$AO$1,IF(AND(IF(IFERROR(L45*1,"bad")="bad",0,1)=1,L45>=0),1,0),IF(L$30=$AQ$1,IF(AND(IF(IFERROR(IF(L45=TRUNC(L45),1,"bad"),"bad")="bad",0,1)=1,L45>=0),1,0),IF(L$30=$AR$1,IF(AND(IF(IFERROR(L45*1,"bad")="bad",0,1)=1,L45>0),1,0),IF(L$30=$AS$1,IF(AND(IF(IFERROR(IF(L45=TRUNC(L45),1,"bad"),"bad")="bad",0,1)=1,L45>0),1,0),IF(L$30=$AT$1,1,IF(L$30=$AU$1,IF(IFERROR(HLOOKUP(L45,$AL$4:$AV$4,1,0),"bad")="bad",0,1),0)))))))))))) -> 0 | AQ45: =IF(M$30="",1,IF(M$4=99,1,IF(M45="",0,IF(M$30=$AL$1,IF(ISNA(MATCH(M45,$AI$30:$AJ$30,0)),0,1),IF(M$30=$AM$1,IF(IFERROR(M45*1,"bad")="bad",0,1),IF(M$30=$AN$1,IF(IFERROR(IF(M45=TRUNC(M45),1,"bad"),"bad")="bad",0,1),IF(M$30=$AO$1,IF(AND(IF(IFERROR(M45*1,"bad")="bad",0,1)=1,M45>=0),1,0),IF(M$30=$AQ$1,IF(AND(IF(IFERROR(IF(M45=TRUNC(M45),1,"bad"),"bad")="bad",0,1)=1,M45>=0),1,0),IF(M$30=$AR$1,IF(AND(IF(IFERROR(M45*1,"bad")="bad",0,1)=1,M45>0),1,0),IF(M$30=$AS$1,IF(AND(IF(IFERROR(IF(M45=TRUNC(M45),1,"bad"),"bad")="bad",0,1)=1,M45>0),1,0),IF(M$30=$AT$1,1,IF(M$30=$AU$1,IF(IFERROR(HLOOKUP(M45,$AL$4:$AV$4,1,0),"bad")="bad",0,1),0)))))))))))) -> 1 | AR45: =IF(N$30="",1,IF(N$4=99,1,IF(N45="",0,IF(N$30=$AL$1,IF(ISNA(MATCH(N45,$AI$30:$AJ$30,0)),0,1),IF(N$30=$AM$1,IF(IFERROR(N45*1,"bad")="bad",0,1),IF(N$30=$AN$1,IF(IFERROR(IF(N45=TRUNC(N45),1,"bad"),"bad")="bad",0,1),IF(N$30=$AO$1,IF(AND(IF(IFERROR(N45*1,"bad")="bad",0,1)=1,N45>=0),1,0),IF(N$30=$AQ$1,IF(AND(IF(IFERROR(IF(N45=TRUNC(N45),1,"bad"),"bad")="bad",0,1)=1,N45>=0),1,0),IF(N$30=$AR$1,IF(AND(IF(IFERROR(N45*1,"bad")="bad",0,1)=1,N45>0),1,0),IF(N$30=$AS$1,IF(AND(IF(IFERROR(IF(N45=TRUNC(N45),1,"bad"),"bad")="bad",0,1)=1,N45>0),1,0),IF(N$30=$AT$1,1,IF(N$30=$AU$1,IF(IFERROR(HLOOKUP(N45,$AL$4:$AV$4,1,0),"bad")="bad",0,1),0)))))))))))) -> 1 | AS45: =IF(P$30="",1,IF(P$4=99,1,IF(P45="",0,IF(P$30=$AL$1,IF(ISNA(MATCH(P45,$AI$30:$AJ$30,0)),0,1),IF(P$30=$AM$1,IF(IFERROR(P45*1,"bad")="bad",0,1),IF(P$30=$AN$1,IF(IFERROR(IF(P45=TRUNC(P45),1,"bad"),"bad")="bad",0,1),IF(P$30=$AO$1,IF(AND(IF(IFERROR(P45*1,"bad")="bad",0,1)=1,P45>=0),1,0),IF(P$30=$AQ$1,IF(AND(IF(IFERROR(IF(P45=TRUNC(P45),1,"bad"),"bad")="bad",0,1)=1,P45>=0),1,0),IF(P$30=$AR$1,IF(AND(IF(IFERROR(P45*1,"bad")="bad",0,1)=1,P45>0),1,0),IF(P$30=$AS$1,IF(AND(IF(IFERROR(IF(P45=TRUNC(P45),1,"bad"),"bad")="bad",0,1)=1,P45>0),1,0),IF(P$30=$AT$1,1,IF(P$30=$AU$1,IF(IFERROR(HLOOKUP(P45,$AL$4:$AV$4,1,0),"bad")="bad",0,1),0)))))))))))) -> 0 | AT45: =IF(Q$30="",1,IF(Q$4=99,1,IF(Q45="",0,IF(Q$30=$AL$1,IF(ISNA(MATCH(Q45,$AI$30:$AJ$30,0)),0,1),IF(Q$30=$AM$1,IF(IFERROR(Q45*1,"bad")="bad",0,1),IF(Q$30=$AN$1,IF(IFERROR(IF(Q45=TRUNC(Q45),1,"bad"),"bad")="bad",0,1),IF(Q$30=$AO$1,IF(AND(IF(IFERROR(Q45*1,"bad")="bad",0,1)=1,Q45>=0),1,0),IF(Q$30=$AQ$1,IF(AND(IF(IFERROR(IF(Q45=TRUNC(Q45),1,"bad"),"bad")="bad",0,1)=1,Q45>=0),1,0),IF(Q$30=$AR$1,IF(AND(IF(IFERROR(Q45*1,"bad")="bad",0,1)=1,Q45>0),1,0),IF(Q$30=$AS$1,IF(AND(IF(IFERROR(IF(Q45=TRUNC(Q45),1,"bad"),"bad")="bad",0,1)=1,Q45>0),1,0),IF(Q$30=$AT$1,1,IF(Q$30=$AU$1,IF(IFERROR(HLOOKUP(Q45,$AL$4:$AV$4,1,0),"bad")="bad",0,1),0)))))))))))) -> 0 | AU45: =IF(R$30="",1,IF(R$4=99,1,IF(R45="",0,IF(R$30=$AL$1,IF(ISNA(MATCH(R45,$AI$30:$AJ$30,0)),0,1),IF(R$30=$AM$1,IF(IFERROR(R45*1,"bad")="bad",0,1),IF(R$30=$AN$1,IF(IFERROR(IF(R45=TRUNC(R45),1,"bad"),"bad")="bad",0,1),IF(R$30=$AO$1,IF(AND(IF(IFERROR(R45*1,"bad")="bad",0,1)=1,R45>=0),1,0),IF(R$30=$AQ$1,IF(AND(IF(IFERROR(IF(R45=TRUNC(R45),1,"bad"),"bad")="bad",0,1)=1,R45>=0),1,0),IF(R$30=$AR$1,IF(AND(IF(IFERROR(R45*1,"bad")="bad",0,1)=1,R45>0),1,0),IF(R$30=$AS$1,IF(AND(IF(IFERROR(IF(R45=TRUNC(R45),1,"bad"),"bad")="bad",0,1)=1,R45>0),1,0),IF(R$30=$AT$1,1,IF(R$30=$AU$1,IF(IFERROR(HLOOKUP(R45,$AL$4:$AV$4,1,0),"bad")="bad",0,1),0)))))))))))) -> 0 | AV45: =IF(S$30="",1,IF(S$4=99,1,IF(S45="",0,IF(S$30=$AL$1,IF(ISNA(MATCH(S45,$AI$30:$AJ$30,0)),0,1),IF(S$30=$AM$1,IF(IFERROR(S45*1,"bad")="bad",0,1),IF(S$30=$AN$1,IF(IFERROR(IF(S45=TRUNC(S45),1,"bad"),"bad")="bad",0,1),IF(S$30=$AO$1,IF(AND(IF(IFERROR(S45*1,"bad")="bad",0,1)=1,S45>=0),1,0),IF(S$30=$AQ$1,IF(AND(IF(IFERROR(IF(S45=TRUNC(S45),1,"bad"),"bad")="bad",0,1)=1,S45>=0),1,0),IF(S$30=$AR$1,IF(AND(IF(IFERROR(S45*1,"bad")="bad",0,1)=1,S45>0),1,0),IF(S$30=$AS$1,IF(AND(IF(IFERROR(IF(S45=TRUNC(S45),1,"bad"),"bad")="bad",0,1)=1,S45>0),1,0),IF(S$30=$AT$1,1,IF(S$30=$AU$1,IF(IFERROR(HLOOKUP(S45,$AL$4:$AV$4,1,0),"bad")="bad",0,1),0)))))))))))) -> 1 | AW45: =IF(T$30="",1,IF(T$4=99,1,IF(T45="",0,IF(T$30=$AL$1,IF(ISNA(MATCH(T45,$AI$30:$AJ$30,0)),0,1),IF(T$30=$AM$1,IF(IFERROR(T45*1,"bad")="bad",0,1),IF(T$30=$AN$1,IF(IFERROR(IF(T45=TRUNC(T45),1,"bad"),"bad")="bad",0,1),IF(T$30=$AO$1,IF(AND(IF(IFERROR(T45*1,"bad")="bad",0,1)=1,T45>=0),1,0),IF(T$30=$AQ$1,IF(AND(IF(IFERROR(IF(T45=TRUNC(T45),1,"bad"),"bad")="bad",0,1)=1,T45>=0),1,0),IF(T$30=$AR$1,IF(AND(IF(IFERROR(T45*1,"bad")="bad",0,1)=1,T45>0),1,0),IF(T$30=$AS$1,IF(AND(IF(IFERROR(IF(T45=TRUNC(T45),1,"bad"),"bad")="bad",0,1)=1,T45>0),1,0),IF(T$30=$AT$1,1,IF(T$30=$AU$1,IF(IFERROR(HLOOKUP(T45,$AL$4:$AV$4,1,0),"bad")="bad",0,1),0)))))))))))) -> 0 | AX45: =IF(U$30="",1,IF(U$4=99,1,IF(U45="",0,IF(U$30=$AL$1,IF(ISNA(MATCH(U45,$AI$30:$AJ$30,0)),0,1),IF(U$30=$AM$1,IF(IFERROR(U45*1,"bad")="bad",0,1),IF(U$30=$AN$1,IF(IFERROR(IF(U45=TRUNC(U45),1,"bad"),"bad")="bad",0,1),IF(U$30=$AO$1,IF(AND(IF(IFERROR(U45*1,"bad")="bad",0,1)=1,U45>=0),1,0),IF(U$30=$AQ$1,IF(AND(IF(IFERROR(IF(U45=TRUNC(U45),1,"bad"),"bad")="bad",0,1)=1,U45>=0),1,0),IF(U$30=$AR$1,IF(AND(IF(IFERROR(U45*1,"bad")="bad",0,1)=1,U45>0),1,0),IF(U$30=$AS$1,IF(AND(IF(IFERROR(IF(U45=TRUNC(U45),1,"bad"),"bad")="bad",0,1)=1,U45>0),1,0),IF(U$30=$AT$1,1,IF(U$30=$AU$1,IF(IFERROR(HLOOKUP(U45,$AL$4:$AV$4,1,0),"bad")="bad",0,1),0)))))))))))) -> 0 | AY45: =IF(V$30="",1,IF(V$4=99,1,IF(V45="",0,IF(V$30=$AL$1,IF(ISNA(MATCH(V45,$AI$30:$AJ$30,0)),0,1),IF(V$30=$AM$1,IF(IFERROR(V45*1,"bad")="bad",0,1),IF(V$30=$AN$1,IF(IFERROR(IF(V45=TRUNC(V45),1,"bad"),"bad")="bad",0,1),IF(V$30=$AO$1,IF(AND(IF(IFERROR(V45*1,"bad")="bad",0,1)=1,V45>=0),1,0),IF(V$30=$AQ$1,IF(AND(IF(IFERROR(IF(V45=TRUNC(V45),1,"bad"),"bad")="bad",0,1)=1,V45>=0),1,0),IF(V$30=$AR$1,IF(AND(IF(IFERROR(V45*1,"bad")="bad",0,1)=1,V45>0),1,0),IF(V$30=$AS$1,IF(AND(IF(IFERROR(IF(V45=TRUNC(V45),1,"bad"),"bad")="bad",0,1)=1,V45>0),1,0),IF(V$30=$AT$1,1,IF(V$30=$AU$1,IF(IFERROR(HLOOKUP(V45,$AL$4:$AV$4,1,0),"bad")="bad",0,1),0)))))))))))) -> 0 | AZ45: =IF(W$30="",1,IF(W$4=99,1,IF(W45="",0,IF(W$30=$AL$1,IF(ISNA(MATCH(W45,$AI$30:$AJ$30,0)),0,1),IF(W$30=$AM$1,IF(IFERROR(W45*1,"bad")="bad",0,1),IF(W$30=$AN$1,IF(IFERROR(IF(W45=TRUNC(W45),1,"bad"),"bad")="bad",0,1),IF(W$30=$AO$1,IF(AND(IF(IFERROR(W45*1,"bad")="bad",0,1)=1,W45>=0),1,0),IF(W$30=$AQ$1,IF(AND(IF(IFERROR(IF(W45=TRUNC(W45),1,"bad"),"bad")="bad",0,1)=1,W45>=0),1,0),IF(W$30=$AR$1,IF(AND(IF(IFERROR(W45*1,"bad")="bad",0,1)=1,W45>0),1,0),IF(W$30=$AS$1,IF(AND(IF(IFERROR(IF(W45=TRUNC(W45),1,"bad"),"bad")="bad",0,1)=1,W45>0),1,0),IF(W$30=$AT$1,1,IF(W$30=$AU$1,IF(IFERROR(HLOOKUP(W45,$AL$4:$AV$4,1,0),"bad")="bad",0,1),0)))))))))))) -> 0 | ... BJ45: =IF(AG$30="",1,IF(AG$4=99,1,IF(AG45="",0,IF(AG$30=$AL$1,IF(ISNA(MATCH(AG45,$AI$30:$AJ$30,0)),0,1),IF(AG$30=$AM$1,IF(IFERROR(AG45*1,"bad")="bad",0,1),IF(AG$30=$AN$1,IF(IFERROR(IF(AG45=TRUNC(AG45),1,"bad"),"bad")="bad",0,1),IF(AG$30=$AO$1,IF(AND(IF(IFERROR(AG45*1,"bad")="bad",0,1)=1,AG45>=0),1,0),IF(AG$30=$AQ$1,IF(AND(IF(IFERROR(IF(AG45=TRUNC(AG45),1,"bad"),"bad")="bad",0,1)=1,AG45>=0),1,0),IF(AG$30=$AR$1,IF(AND(IF(IFERROR(AG45*1,"bad")="bad",0,1)=1,AG45>0),1,0),IF(AG$30=$AS$1,IF(AND(IF(IFERROR(IF(AG45=TRUNC(AG45),1,"bad"),"bad")="bad",0,1)=1,AG45>0),1,0),IF(AG$30=$AT$1,1,IF(AG$30=$AU$1,IF(IFERROR(HLOOKUP(AG45,$AL$4:$AV$4,1,0),"bad")="bad",0,1),0)))))))))))) -> 0 | BM45: =IF($F45="","",BM$30) | BN45: =IF($F45="","",BN$30) | BO45: =IF($F45="","",BO$30) | BP45: =IF($F45="","",BP$30) | BQ45: =IF($F45="","",BQ$30) | BR45: =IF($F45="","",BR$30) | BS45: =IF($F45="","",BS$30) | BT45: =IF($F45="","",BT$30) | ... BV45: =IF($F45="","",BV$30)
