Workbook

Sheet ProtectSettings
B1: 0.046352565
B2: 45595.351
A6: AllowFilterCheckBox | B6: TRUE
A7: AllowFormattingCheckBox | B7: TRUE
A8: AllowColumnFormattingCheckBox | B8: TRUE
A9: AllowRowFormattingCheckBox | B9: TRUE
B21: 1 | C21: ProtectSettings
B22: 2 | C22: הדרכה למשתמש
B23: 3 | C23: פרמטרים לקריטריונים
B24: 4 | C24: הוראת שעה
B25: 5 | C25: תנאי סף
B26: 6 | C26: עדיפות לפריפריה
B27: 7 | C27: מספר המשתתפים
B28: 8 | C28: מספר מופעים
B29: 9 | C29: הערכה כללית ותרומה לקהילה
B30: 10 | C30: תקציב הפעילות
B31: 11 | C31: התחשיב הבסיסי
B32: 12 | C32: פרמטרים לעקרונות חישוב התמיכה
... B41: 21 | C41: סיכום לועדה - תוצאות

Sheet הדרכה למשתמש
B2: הדרכה למשתמש
B4: תאריך בניית המודל | C4: 42917
B5: תאריך עדכון מודל | C5: 44243
B7: המודל מותאם באופן אוטומטי להוראות מעבר של 2017 ו-2018
B9: הוראת שעה/מעבר:
B11: הדרכה להזנת נתונים
B12: צבע התא | C12: מטרת התא | D12: דגש
B13: צהוב | C13: הזנת נתונים | D13: נדרש להזין מידע בהתאם להנחיות מבחן התמיכה, אי הזנה של תא יכולה להביא לידי שגיאה בתוצאות במודל. למעט גיליון "ניוד מופעים לפרפירה" בו אי הזנת נתון במספר הרצות משמעו 0 הרצות.
B14: חום | C14: הצגת מידע | D14: תא שאיננו מיועד להזנה. תא זה מציג מידע עפ"י נוסחה קבועה ואין לשנות אותה.
B15: אדום | C15: התראת שגיאה | D15: קיימת שגיאה בהזנת נתונים באחד מהתאים המיועדים להזנה, נדרש להזין את הנתונים הנדרשים לפני קביעת גובה תמיכה סופי.
B17: את רשימת המוסדות יש להזין בגיליון תנאי הסף
B33: ניהול גרסאות
B34: מספר גרסה | C34: תאריך עדכון גרסה | D34: תאריך גרסה של מבחן תמיכה | E34: התאמות נוספות של מבחן תמיכה
B35: 1 | C35: 42932 | E35: בניית מודל

Sheet פרמטרים לקריטריונים
B2: מודל תחרויות וכנסים בהיקף ארצי - תרבות בקהילה
B4: שנת תקציב | C4: 2025
B5: תקציב התמיכה | C5: 700000
B9: הגדרות
B10: הגדרת שנה | C10: תאריך התחלה | D10: תאריך סיום
B11: שנת התמיכה/תקציב | C11: =DATE($C$4,1,1) -> 45658 | D11: =DATE($C$4,12,31) -> 46022
B12: שנת ההערכה | C12: =DATE($C$4-3,10,1) -> 44835 | D12: =DATE($C$4-2,9,30) -> 45199
B13: שנת התקציב המבוקר | C13: =DATE($C$4-3,1,1) -> 44562 | D13: =DATE($C$4-3,12,31) -> 44926
B30: משקולות קריטריונים
B31: סעיף | C31: משקל
B32: עדיפות לפריפריה | C32: 0.25
B33: מספר המשתתפים | C33: 0.2
B35: מספר המופעים | C35: 0.15
B36: הערכה כללית ותרומה לקהילה | C36: 0.2
B37: מחזור הפעילות | C37: 0.2
B58: סה"כ | C58: =SUM(C32:C57) -> 1
B60: ="פרמטרים לחישוב ניקוד משתנה "&$B$32 -> פרמטרים לחישוב ניקוד משתנה עדיפות לפריפריה
B61: סיווג למ"ס של היישוב בו נמצא המוסד | C61: ניקוד
B62: 1 | C62: 10
B63: 2 | C63: 8
B64: 3 | C64: 6
B65: 4 | C65: 4
B66: 5 | C66: 3
B67: 6 ומעלה | C67: 0
C68: 0
B71: אשכול | C71: ניקוד
B72: 1 | C72: 10
B73: 2 | C73: 8
B74: 3 | C74: 6
B75: 4 | C75: 4
B76: 5R | C76: 4 | D76: באר שבע
B77: סעיף | C77: מקדם
B78: 6 | C78: 1
B79: 7 | C79: 1
B80: 8 | C80: 0.5
B81: סעיף | C81: ניקוד
B82: מוסד ש-75% לפחות מהמשתתפים בפעילותו השוטפת הם מקרב מגזר ייחודי | C82: 5
B91: ="פרמטרים לחישוב ניקוד משתנה "&$B$33 -> פרמטרים לחישוב ניקוד משתנה מספר המשתתפים
B92: סעיף | C92: ניקוד
B93: ניקוד מקסימלי | C93: 10
...

Sheet הוראת שעה
A4: האם חלה הוראת השעה בשנה הספציפית
A5: שנה | C5: גובה הגנה
A6: 2016
A7: =A6+1 -> 2017 | C7: #N/A
A8: =A7+1 -> 2018 | C8: 0.9
A9: =A8+1 -> 2019 | C9: 0.85
A10: =A9+1 -> 2020 | C10: 0
A11: =A10+1 -> 2021 | C11: 0
A12: =A11+1 -> 2022 | C12: 0.85
A13: =A12+1 -> 2023 | C13: 0.75
A14: =A13+1 -> 2024 | C14: 0
A15: =A14+1 -> 2025 | C15: 0
A16: =A15+1 -> 2026 | C16: 0
A17: =A16+1 -> 2027 | C17: 0
A18: =A17+1 -> 2028 | C18: 0
A19: =A18+1 -> 2029 | C19: 0
A20: =A19+1 -> 2030 | C20: 0
C22: משפיע על הגנה בגיליון פרמטרים לעיקרון חישוב התמיכה

Sheet תנאי סף
B1: =MID(CELL("filename",AJ2),FIND("]",CELL("filename",AJ2),1)+1,99) -> תנאי סף | AI1: בדוק נתוני הזנה | AK1: סוגי בקרות | AL1: 0/1 | AM1: מספר | AN1: מספר שלם | AO1: מספר שאינו שלילי | AQ1: מספר שלם שאינו שלילי | AR1: מספר חיובי | AS1: מספר שלם חיובי | AT1: טקסט | AU1: טקסט מרשימה סגורה
AF2: ='פרמטרים לקריטריונים'!$B$4 -> שנת תקציב | AG2: ='פרמטרים לקריטריונים'!$C$4 -> 2025 | AL2: =IF(ISNA(MATCH(#REF!,$AI$30:$AJ$30,0)),0,1) -> 1 | AM2: =IF(IFERROR(#REF!*1,"bad")="bad",0,1) -> 0 | AN2: =IF(IFERROR(IF(#REF!=TRUNC(#REF!),1,"bad"),"bad")="bad",0,1) -> 0 | AO2: =IF(AND(IF(IFERROR(#REF!*1,"bad")="bad",0,1)=1,#REF!>=0),1,0) -> #REF! | AQ2: =IF(AND(IF(IFERROR(IF(#REF!=TRUNC(#REF!),1,"bad"),"bad")="bad",0,1)=1,#REF!>=0),1,0) -> #REF! | AR2: =IF(AND(IF(IFERROR(#REF!*1,"bad")="bad",0,1)=1,#REF!>0),1,0) -> #REF! | AS2: =IF(AND(IF(IFERROR(IF(#REF!=TRUNC(#REF!),1,"bad"),"bad")="bad",0,1)=1,#REF!>0),1,0) -> #REF! | AT2: 1 | AU2: =IF(IFERROR(HLOOKUP(#REF!,$BM$30:$BW$30,1,0),"bad")="bad",0,1) -> 0
AF3: ='פרמטרים לקריטריונים'!$B$5 -> תקציב התמיכה | AG3: ='פרמטרים לקריטריונים'!$C$5 -> 700000 | AJ3: =IF(#REF!="",1,IF(#REF!="",0,IF(#REF!=$AL$1,11,IF(#REF!=$AM$1,12,IF(#REF!=$AER1,13,IF(#REF!=$AO$1,14,IF(#REF!=$AQ$1,15,IF(#REF!=$AR$1,16,IF(#REF!=$AS$1,17,IF(#REF!=$AT$1,18,IF(#REF!=$AU$1,19,0))))))))))) -> #REF! | AK3: מספר בקרה | AL3: 1 | AM3: 2 | AN3: 3 | AO3: 4 | AQ3: 5 | AR3: 6 | AS3: 7 | AT3: 8 | AU3: 9
F4: רלוונטי למבחן עמידה בתנאי סף? 1=רלוונטי. 0= לא רלוונטי אבל נדרשת בקרה על הזנת נתונים. 99= לא רלוונטי ולא נדרשת בקה על הזנת נתונים | G4: 1 | H4: 1 | I4: 1 | J4: 1 | K4: 1 | L4: 0 | M4: 99 | N4: 99 | O4: 1 | P4: 1 | Q4: 1 | R4: 1 | S4: 99 | T4: 1 | U4: 1 | V4: 1 | W4: 1 | X4: 1 | Y4: 1 | Z4: 1 | AA4: 1 | AB4: 1 | AD4: 1 | AE4: 99 | AK4: רשימה סגורה | AL4: 1 | AM4: 2 | AN4: 3 | AO4: 4 | AQ4: 5 | AR4: 6 | AS4: 7 | AT4: 8 | AU4: 9 | AV4: 10
G5: =G29 -> המוסד עומד בתנאי סף כלליים | H5: =H29 -> כל האמנים בני 15 ומעלה | I5: =I29 -> הפעילות אינה במסגרת קונסרבטוריון נתמך/מתוקצב | J5: =J29 -> הפעילות השוטפת נשוא הבקשה נעשית ברובה בפריפריה או לפחות 50% מהמשתתפים בפעילות השוטפת ממגזר ייחודי | K5: =K29 -> פעילות המוסד הינה ברמה אמנותית נאותה | L5: =L29 -> מגיש הבקשה הינו רשות מקומית | M5: =M29 -> לרשות מקומית: ברשות פועלת מחלקה לתרבות ואמנות בראשה מנהל בחצי משרה לפחות | N5: =N29 -> לרשות מקומית: הרשות תחתום על כתב התחייבות לפי הוראות התכ"ם 6.2 בדבר תמיכה בגופים אחרים | P5: =P29 -> המוסד מקיים פעילות תרבות מיוחדת בתחום המחול, המוסיקה או התיאטרון השונה באופייה מהפעילות של תחום אמנויות הבמה | Q5: =Q29 -> הפעילות בעדה מבוקשת התמיכה מיועדת, על פי אופייה וטיבה, להיות בהיקף כלל ארצי | R5: =R29 -> 50% מהמשתתפים בפעילות לפחות הם מקרב הפריפריה או שהתחרות או הכנס מושא הבקשה לתמיכה מתקיימים בפריפריה | S5: =S29 -> 0 | T5: =T29 -> הפעילות כוללת הפקה של מופע שמשכו 30 דקות לפחות המוצג או מושמע בפני קהל | U5: =U29 -> לפעילות וותק של שנתיים לפחות, נכון למועד הגשת הבקשה לתמיכה | V5: =V29 -> מספר המשתתפים בפעילות, לרבות במופע, הנוטלים חלק בפעילות | W5: =W29 -> מחזור הפעילות בשנת 2022 | ... Z5: =Z29 -> המוסד משתמש בכספי התמיכה רק למטרות שלשמן ניתנו | AE5: =AE29 -> מעבר תנאי סף-אישור מיוחד
F6: ערך למעבר תנאי סף | G6: 1 | H6: 1 | I6: 1 | J6: 1 | K6: 1 | O6: 1 | P6: 1 | Q6: 1 | R6: 1 | T6: 1 | U6: 1 | V6: ='פרמטרים לקריטריונים'!C94 -> 80 | W6: 100000 | X6: 1 | Y6: 1 | Z6: 1 | AA6: 1 | AB6: 1 | AD6: 1
G7: סעיף 8 | H7: סעיף 9 (1) | I7: סעיף 9 (2) | J7: סעיף 9 (3) | K7: סעיף 9 (4) | L7: סעיף 9 (11) | M7: סעיף 9 (11) (א) | N7: סעיף 9 (11) (ב) | P7: סעיף 12 (1) | Q7: סעיף 12 (2) | R7: סעיף 12 (3) | T7: סעיף 12 (4) | U7: סעיף 12 (5) | V7: סעיף 12 (6) | W7: סעיף 12 (7) | X7: סעיף 9 (5) | Y7: סעיף 9 (6) | Z7: סעיף 9 (7) | AA7: סעיף 9 (8) | AB7: סעיף 9 (9) | AD7: סעיף 9 (10)
B24: סה"כ | H24: =SUM(H30:H130) -> 4 | I24: =SUM(I30:I130) -> 4 | J24: =SUM(J30:J130) -> 4 | K24: =SUM(K30:K130) -> 4 | M24: =SUM(M30:M130) -> 0 | N24: =SUM(N30:N130) -> 0 | P24: =SUM(P30:P130) -> 4 | Q24: =SUM(Q30:Q130) -> 4 | R24: =SUM(R30:R130) -> 4 | S24: =SUM(S30:S130) -> 0 | T24: =SUM(T30:T130) -> 4 | U24: =SUM(U30:U130) -> 4 | V24: =SUM(V30:V130) -> 2815 | W24: =SUM(W30:W130) -> 2719940 | ... Z24: =SUM(Z30:Z130) -> 4 | AE24: =SUM(AE30:AE130) -> 0 | AF24: =SUM(AF30:AF130) -> 4
B25: בדיקת תא שורה 30 | H25: =IF(H30="",1,IF(IFERROR(HLOOKUP(H30,$AK$1:$BK$2,1,0),0)=0,0,1)) -> 1 | I25: =IF(I30="",1,IF(IFERROR(HLOOKUP(I30,$AK$1:$BK$2,1,0),0)=0,0,1)) -> 1 | J25: =IF(J30="",1,IF(IFERROR(HLOOKUP(J30,$AK$1:$BK$2,1,0),0)=0,0,1)) -> 1 | K25: =IF(K30="",1,IF(IFERROR(HLOOKUP(K30,$AK$1:$BK$2,1,0),0)=0,0,1)) -> 1 | M25: =IF(M30="",1,IF(IFERROR(HLOOKUP(M30,$AK$1:$BK$2,1,0),0)=0,0,1)) -> 1 | N25: =IF(N30="",1,IF(IFERROR(HLOOKUP(N30,$AK$1:$BK$2,1,0),0)=0,0,1)) -> 1 | P25: =IF(P30="",1,IF(IFERROR(HLOOKUP(P30,$AK$1:$BK$2,1,0),0)=0,0,1)) -> 1 | Q25: =IF(Q30="",1,IF(IFERROR(HLOOKUP(Q30,$AK$1:$BK$2,1,0),0)=0,0,1)) -> 1 | R25: =IF(R30="",1,IF(IFERROR(HLOOKUP(R30,$AK$1:$BK$2,1,0),0)=0,0,1)) -> 1 | S25: =IF(S30="",1,IF(IFERROR(HLOOKUP(S30,$AK$1:$BK$2,1,0),0)=0,0,1)) -> 1 | T25: =IF(T30="",1,IF(IFERROR(HLOOKUP(T30,$AK$1:$BK$2,1,0),0)=0,0,1)) -> 1 | U25: =IF(U30="",1,IF(IFERROR(HLOOKUP(U30,$AK$1:$BK$2,1,0),0)=0,0,1)) -> 1 | V25: =IF(V30="",1,IF(IFERROR(HLOOKUP(V30,$AK$1:$BK$2,1,0),0)=0,0,1)) -> 1 | W25: =IF(W30="",1,IF(IFERROR(HLOOKUP(W30,$AK$1:$BK$2,1,0),0)=0,0,1)) -> 1 | ... Z25: =IF(Z30="",1,IF(IFERROR(HLOOKUP(Z30,$AK$1:$BK$2,1,0),0)=0,0,1)) -> 1 | AE25: =IF(AE30="",1,IF(IFERROR(HLOOKUP(AE30,$AK$1:$BK$2,1,0),0)=0,0,1)) -> 1 | AF25: =IF(AF30="",1,IF(IFERROR(HLOOKUP(AF30,$AK$1:$BK$2,1,0),0)=0,0,1)) -> 1
B26: ספירת לא ריקים | F26: =$A$29-COUNTBLANK(F31:F130) -> 4 | H26: =$A$29-COUNTBLANK(H31:H130) -> 4 | I26: =$A$29-COUNTBLANK(I31:I130) -> 4 | J26: =$A$29-COUNTBLANK(J31:J130) -> 4 | K26: =$A$29-COUNTBLANK(K31:K130) -> 4 | M26: =$A$29-COUNTBLANK(M31:M130) -> 4 | N26: =$A$29-COUNTBLANK(N31:N130) -> 4 | P26: =$A$29-COUNTBLANK(P31:P130) -> 4 | Q26: =$A$29-COUNTBLANK(Q31:Q130) -> 4 | R26: =$A$29-COUNTBLANK(R31:R130) -> 4 | S26: =$A$29-COUNTBLANK(S31:S130) -> 0 | T26: =$A$29-COUNTBLANK(T31:T130) -> 4 | U26: =$A$29-COUNTBLANK(U31:U130) -> 4 | V26: =$A$29-COUNTBLANK(V31:V130) -> 4 | W26: =$A$29-COUNTBLANK(W31:W130) -> 4 | ... Z26: =$A$29-COUNTBLANK(Z31:Z130) -> 4 | AE26: =$A$29-COUNTBLANK(AE31:AE130) -> 0 | AF26: =$A$29-COUNTBLANK(AF31:AF130) -> 4
B27: ממוצע | H27: =AVERAGE(H31:H130) -> 1 | I27: =AVERAGE(I31:I130) -> 1 | J27: =AVERAGE(J31:J130) -> 1 | K27: =AVERAGE(K31:K130) -> 1 | M27: =AVERAGE(M31:M130) -> 0 | N27: =AVERAGE(N31:N130) -> 0 | P27: =AVERAGE(P31:P130) -> 1 | Q27: =AVERAGE(Q31:Q130) -> 1 | R27: =AVERAGE(R31:R130) -> 1 | S27: =AVERAGE(S31:S130) -> #DIV/0! | T27: =AVERAGE(T31:T130) -> 1 | U27: =AVERAGE(U31:U130) -> 1 | V27: =AVERAGE(V31:V130) -> 703.75 | W27: =AVERAGE(W31:W130) -> 679985 | ... Z27: =AVERAGE(Z31:Z130) -> 1 | AE27: =AVERAGE(AE31:AE130) -> #DIV/0! | AF27: =AVERAGE(AF31:AF130) -> 1 | AG27: =AVERAGE(AG31:AG130) -> #DIV/0!
AH28: =IF(SUM(AH31:AH130)=COUNT(AH31:AH130),1,0) -> 0
A29: 100 | B29: מס"ד | C29: מספר מוסד | D29: מספר בקשה | E29: שם הבקשה | F29: שם המוסד | G29: המוסד עומד בתנאי סף כלליים | H29: כל האמנים בני 15 ומעלה | I29: הפעילות אינה במסגרת קונסרבטוריון נתמך/מתוקצב | J29: הפעילות השוטפת נשוא הבקשה נעשית ברובה בפריפריה או לפחות 50% מהמשתתפים בפעילות השוטפת ממגזר ייחודי | K29: פעילות המוסד הינה ברמה אמנותית נאותה | L29: מגיש הבקשה הינו רשות מקומית | M29: לרשות מקומית: ברשות פועלת מחלקה לתרבות ואמנות בראשה מנהל בחצי משרה לפחות | N29: לרשות מקומית: הרשות תחתום על כתב התחייבות לפי הוראות התכ"ם 6.2 בדבר תמיכה בגופים אחרים | O29: עומד בתנאי רשות המגישה בקשה לתמיכה או שמגיש הבקשה אינו רשות | P29: המוסד מקיים פעילות תרבות מיוחדת בתחום המחול, המוסיקה או התיאטרון השונה באופייה מהפעילות של תחום אמנויות הבמה | Q29: הפעילות בעדה מבוקשת התמיכה מיועדת, על פי אופייה וטיבה, להיות בהיקף כלל ארצי | R29: 50% מהמשתתפים בפעילות לפחות הם מקרב הפריפריה או שהתחרות או הכנס מושא הבקשה לתמיכה מתקיימים בפריפריה | T29: הפעילות כוללת הפקה של מופע שמשכו 30 דקות לפחות המוצג או מושמע בפני קהל | U29: לפעילות וותק של שנתיים לפחות, נכון למועד הגשת הבקשה לתמיכה | V29: מספר המשתתפים בפעילות, לרבות במופע, הנוטלים חלק בפעילות | W29: ="מחזור הפעילות בשנת "&YEAR('פרמטרים לקריטריונים'!C13) -> מחזור הפעילות בשנת 2022 | X29: המוסד עומד בדרישות הנוהל, ובכלל זה יעמיד עצמו לביקורת המשרד בהתאם לדינים החלים עליו, להוראות הנוהל ולהחלטות הממשלה | Y29: מטרות המוסד כמפורט במסמכי היסוד שלו ואופן פעולתו עולים בקנה אחד עם מטרות התמיכה המפורטות במבחנים | Z29: המוסד משתמש בכספי התמיכה רק למטרות שלשמן ניתנו | AA29: המוסד מציין בפרסומיו כי הפעילות הנתמכת מבוצעת בתמיכת המשרד | AB29: המוסד מקיים את הוראות החוק הרלבנטיות לפעילותו, מקפיד על כללי ניהול תקין ושומר על שקיפות מלאה באורחות התנהלותו באופן ההולם את מטרותיו הציבוריות | AC29: המוסד פועל ביעילות ובתקורה מינימאלית, שמאפשרת את פעילותו התקינה והראויה, לרבות בהתאם לנוהל ובהתאם להוראות החשב הכללי במשרד האוצר לעניין הוצאות הנהלה וכלליות | AD29: במוסד בו מועסקים עובדים ביחסי עבודה, המוסד קבע תקנון למניעת הטרדה מינית ועומד בדרישות תקנה 8 לתקנות חובות מעסיק. המוסד צירף לבקשתו את התקנון ופרטים על ההתאמות בתקנון, פרסומו למסירתו. (במוסד בו אין מתכונת יחסי עבודה - יש לסמן 1 עבור תנאי זה) | AE29: מעבר תנאי סף-אישור מיוחד | AF29: מעבר תנאי סף | AG29: הערות | AH29: בקרה ראשית | AK29: ="בקרת "&G29 -> בקרת המוסד עומד בתנאי סף כלליים | AL29: ="בקרת "&H29 -> בקרת כל האמנים בני 15 ומעלה | AM29: ="בקרת "&I29 -> בקרת הפעילות אינה במסגרת קונסרבטוריון נתמך/מתוקצב | AN29: ="בקרת "&J29 -> בקרת הפעילות השוטפת נשוא הבקשה נעשית ברובה בפריפריה או לפחות 50% מהמשתתפים בפעילות השוטפת ממגזר ייחודי | AO29: ="בקרת "&K29 -> בקרת פעילות המוסד הינה ברמה אמנותית נאותה | AP29: ="בקרת "&L29 -> בקרת מגיש הבקשה הינו רשות מקומית | AQ29: ="בקרת "&M29 -> בקרת לרשות מקומית: ברשות פועלת מחלקה לתרבות ואמנות בראשה מנהל בחצי משרה לפחות | AR29: ="בקרת "&N29 -> בקרת לרשות מקומית: הרשות תחתום על כתב התחייבות לפי הוראות התכ"ם 6.2 בדבר תמיכה בגופים אחרים | AS29: ="בקרת "&P29 -> בקרת המוסד מקיים פעילות תרבות מיוחדת בתחום המחול, המוסיקה או התיאטרון השונה באופייה מהפעילות של תחום אמנויות הבמה | AT29: ="בקרת "&Q29 -> בקרת הפעילות בעדה מבוקשת התמיכה מיועדת, על פי אופייה וטיבה, להיות בהיקף כלל ארצי | AU29: ="בקרת "&R29 -> בקרת 50% מהמשתתפים בפעילות לפחות הם מקרב הפריפריה או שהתחרות או הכנס מושא הבקשה לתמיכה מתקיימים בפריפריה | AV29: ="בקרת "&S29 -> בקרת | AW29: ="בקרת "&T29 -> בקרת הפעילות כוללת הפקה של מופע שמשכו 30 דקות לפחות המוצג או מושמע בפני קהל | AX29: ="בקרת "&U29 -> בקרת לפעילות וותק של שנתיים לפחות, נכון למועד הגשת הבקשה לתמיכה | AY29: ="בקרת "&V29 -> בקרת מספר המשתתפים בפעילות, לרבות במופע, הנוטלים חלק בפעילות | AZ29: ="בקרת "&W29 -> בקרת מחזור הפעילות בשנת 2022 | ... BJ29: ="בקרת "&AG29 -> בקרת הערות | BM29: רשימה סגורה
G30: 0/1 | H30: 0/1 | I30: 0/1 | J30: 0/1 | K30: 0/1 | L30: 0/1 | M30: 0/1 | N30: 0/1 | P30: 0/1 | Q30: 0/1 | R30: 0/1 | T30: 0/1 | U30: 0/1 | V30: מספר שלם שאינו שלילי | W30: מספר שלם שאינו שלילי | X30: 0/1 | Y30: 0/1 | Z30: 0/1 | AA30: 0/1 | AB30: 0/1 | AC30: 0/1 | AD30: 0/1 | AE30: 0/1 | AG30: טקסט | AI30: 0 | AJ30: 1 | AK30: =G30 -> 0/1 | AL30: =H30 -> 0/1 | AM30: =I30 -> 0/1 | AN30: =J30 -> 0/1 | AO30: =K30 -> 0/1 | AP30: =L30 -> 0/1 | AQ30: =M30 -> 0/1 | AR30: =N30 -> 0/1 | AS30: =P30 -> 0/1 | AT30: =Q30 -> 0/1 | AU30: =R30 -> 0/1 | AV30: =S30 -> 0 | AW30: =T30 -> 0/1 | AX30: =U30 -> 0/1 | AY30: =V30 -> מספר שלם שאינו שלילי | AZ30: =W30 -> מספר שלם שאינו שלילי | ... BK30: =AH30 -> 0 | BM30: =AL4 -> 1 | BN30: =AM4 -> 2 | BO30: =AN4 -> 3 | BP30: =AO4 -> 4 | BQ30: =AQ4 -> 5 | BR30: =AR4 -> 6 | BS30: =AS4 -> 7 | BT30: =AT4 -> 8 | BU30: =AU4 -> 9 | BV30: =AV4 -> 10
B31: =IF(F31="","",ROW()-30) -> 1 | C31: 580538015 | D31: 1001829429 | E31: בקשת תמיכה 2025 פרויקט התחרות אהבי | F31: אהב"י - העמותה לקידום אמנות העם ביש | G31: 1 | H31: 1 | I31: 1 | J31: 1 | K31: 1 | L31: 0 | M31: 0 | N31: 0 | O31: =IF(D31="","",IF(L31="",$AI$1,IF(OR(SUM(L31:N31)=3,L31=0),1,0))) -> 1 | P31: 1 | Q31: 1 | R31: 1 | T31: 1 | U31: 1 | V31: 261 | W31: 199400 | X31: 1 | Y31: 1 | Z31: 1 | AA31: 1 | AB31: 1 | AC31: 1 | AD31: 1 | AF31: {=IF($D31="","",IF(AE31=1,1,IF(AH31<>1,$AI$1,IF(SUMPRODUCT(--(G31:AD31>=$G$6:$AD$6)*($G$6:$AD$6<>"")*($G$4:$AD$4=1))=COUNTIF($G$4:$AD$4,1),1,0))))} -> 1 | AH31: =IF(SUM(AK31:BI31)=COUNT(AK31:BI31),1,0) -> 1 | AI31: =IF($F31="","",AI$30) -> 0 | AJ31: =IF($F31="","",AJ$30) -> 1 | AK31: =IF(G$30="",1,IF(G$4=99,1,IF(G31="",0,IF(G$30=$AL$1,IF(ISNA(MATCH(G31,$AI$30:$AJ$30,0)),0,1),IF(G$30=$AM$1,IF(IFERROR(G31*1,"bad")="bad",0,1),IF(G$30=$AN$1,IF(IFERROR(IF(G31=TRUNC(G31),1,"bad"),"bad")="bad",0,1),IF(G$30=$AO$1,IF(AND(IF(IFERROR(G31*1,"bad")="bad",0,1)=1,G31>=0),1,0),IF(G$30=$AQ$1,IF(AND(IF(IFERROR(IF(G31=TRUNC(G31),1,"bad"),"bad")="bad",0,1)=1,G31>=0),1,0),IF(G$30=$AR$1,IF(AND(IF(IFERROR(G31*1,"bad")="bad",0,1)=1,G31>0),1,0),IF(G$30=$AS$1,IF(AND(IF(IFERROR(IF(G31=TRUNC(G31),1,"bad"),"bad")="bad",0,1)=1,G31>0),1,0),IF(G$30=$AT$1,1,IF(G$30=$AU$1,IF(IFERROR(HLOOKUP(G31,$AL$4:$AV$4,1,0),"bad")="bad",0,1),0)))))))))))) -> 1 | AL31: =IF(H$30="",1,IF(H$4=99,1,IF(H31="",0,IF(H$30=$AL$1,IF(ISNA(MATCH(H31,$AI$30:$AJ$30,0)),0,1),IF(H$30=$AM$1,IF(IFERROR(H31*1,"bad")="bad",0,1),IF(H$30=$AN$1,IF(IFERROR(IF(H31=TRUNC(H31),1,"bad"),"bad")="bad",0,1),IF(H$30=$AO$1,IF(AND(IF(IFERROR(H31*1,"bad")="bad",0,1)=1,H31>=0),1,0),IF(H$30=$AQ$1,IF(AND(IF(IFERROR(IF(H31=TRUNC(H31),1,"bad"),"bad")="bad",0,1)=1,H31>=0),1,0),IF(H$30=$AR$1,IF(AND(IF(IFERROR(H31*1,"bad")="bad",0,1)=1,H31>0),1,0),IF(H$30=$AS$1,IF(AND(IF(IFERROR(IF(H31=TRUNC(H31),1,"bad"),"bad")="bad",0,1)=1,H31>0),1,0),IF(H$30=$AT$1,1,IF(H$30=$AU$1,IF(IFERROR(HLOOKUP(H31,$AL$4:$AV$4,1,0),"bad")="bad",0,1),0)))))))))))) -> 1 | AM31: =IF(I$30="",1,IF(I$4=99,1,IF(I31="",0,IF(I$30=$AL$1,IF(ISNA(MATCH(I31,$AI$30:$AJ$30,0)),0,1),IF(I$30=$AM$1,IF(IFERROR(I31*1,"bad")="bad",0,1),IF(I$30=$AN$1,IF(IFERROR(IF(I31=TRUNC(I31),1,"bad"),"bad")="bad",0,1),IF(I$30=$AO$1,IF(AND(IF(IFERROR(I31*1,"bad")="bad",0,1)=1,I31>=0),1,0),IF(I$30=$AQ$1,IF(AND(IF(IFERROR(IF(I31=TRUNC(I31),1,"bad"),"bad")="bad",0,1)=1,I31>=0),1,0),IF(I$30=$AR$1,IF(AND(IF(IFERROR(I31*1,"bad")="bad",0,1)=1,I31>0),1,0),IF(I$30=$AS$1,IF(AND(IF(IFERROR(IF(I31=TRUNC(I31),1,"bad"),"bad")="bad",0,1)=1,I31>0),1,0),IF(I$30=$AT$1,1,IF(I$30=$AU$1,IF(IFERROR(HLOOKUP(I31,$AL$4:$AV$4,1,0),"bad")="bad",0,1),0)))))))))))) -> 1 | AN31: =IF(J$30="",1,IF(J$4=99,1,IF(J31="",0,IF(J$30=$AL$1,IF(ISNA(MATCH(J31,$AI$30:$AJ$30,0)),0,1),IF(J$30=$AM$1,IF(IFERROR(J31*1,"bad")="bad",0,1),IF(J$30=$AN$1,IF(IFERROR(IF(J31=TRUNC(J31),1,"bad"),"bad")="bad",0,1),IF(J$30=$AO$1,IF(AND(IF(IFERROR(J31*1,"bad")="bad",0,1)=1,J31>=0),1,0),IF(J$30=$AQ$1,IF(AND(IF(IFERROR(IF(J31=TRUNC(J31),1,"bad"),"bad")="bad",0,1)=1,J31>=0),1,0),IF(J$30=$AR$1,IF(AND(IF(IFERROR(J31*1,"bad")="bad",0,1)=1,J31>0),1,0),IF(J$30=$AS$1,IF(AND(IF(IFERROR(IF(J31=TRUNC(J31),1,"bad"),"bad")="bad",0,1)=1,J31>0),1,0),IF(J$30=$AT$1,1,IF(J$30=$AU$1,IF(IFERROR(HLOOKUP(J31,$AL$4:$AV$4,1,0),"bad")="bad",0,1),0)))))))))))) -> 1 | AO31: =IF(K$30="",1,IF(K$4=99,1,IF(K31="",0,IF(K$30=$AL$1,IF(ISNA(MATCH(K31,$AI$30:$AJ$30,0)),0,1),IF(K$30=$AM$1,IF(IFERROR(K31*1,"bad")="bad",0,1),IF(K$30=$AN$1,IF(IFERROR(IF(K31=TRUNC(K31),1,"bad"),"bad")="bad",0,1),IF(K$30=$AO$1,IF(AND(IF(IFERROR(K31*1,"bad")="bad",0,1)=1,K31>=0),1,0),IF(K$30=$AQ$1,IF(AND(IF(IFERROR(IF(K31=TRUNC(K31),1,"bad"),"bad")="bad",0,1)=1,K31>=0),1,0),IF(K$30=$AR$1,IF(AND(IF(IFERROR(K31*1,"bad")="bad",0,1)=1,K31>0),1,0),IF(K$30=$AS$1,IF(AND(IF(IFERROR(IF(K31=TRUNC(K31),1,"bad"),"bad")="bad",0,1)=1,K31>0),1,0),IF(K$30=$AT$1,1,IF(K$30=$AU$1,IF(IFERROR(HLOOKUP(K31,$AL$4:$AV$4,1,0),"bad")="bad",0,1),0)))))))))))) -> 1 | AP31: =IF(L$30="",1,IF(L$4=99,1,IF(L31="",0,IF(L$30=$AL$1,IF(ISNA(MATCH(L31,$AI$30:$AJ$30,0)),0,1),IF(L$30=$AM$1,IF(IFERROR(L31*1,"bad")="bad",0,1),IF(L$30=$AN$1,IF(IFERROR(IF(L31=TRUNC(L31),1,"bad"),"bad")="bad",0,1),IF(L$30=$AO$1,IF(AND(IF(IFERROR(L31*1,"bad")="bad",0,1)=1,L31>=0),1,0),IF(L$30=$AQ$1,IF(AND(IF(IFERROR(IF(L31=TRUNC(L31),1,"bad"),"bad")="bad",0,1)=1,L31>=0),1,0),IF(L$30=$AR$1,IF(AND(IF(IFERROR(L31*1,"bad")="bad",0,1)=1,L31>0),1,0),IF(L$30=$AS$1,IF(AND(IF(IFERROR(IF(L31=TRUNC(L31),1,"bad"),"bad")="bad",0,1)=1,L31>0),1,0),IF(L$30=$AT$1,1,IF(L$30=$AU$1,IF(IFERROR(HLOOKUP(L31,$AL$4:$AV$4,1,0),"bad")="bad",0,1),0)))))))))))) -> 1 | AQ31: =IF(M$30="",1,IF(M$4=99,1,IF(M31="",0,IF(M$30=$AL$1,IF(ISNA(MATCH(M31,$AI$30:$AJ$30,0)),0,1),IF(M$30=$AM$1,IF(IFERROR(M31*1,"bad")="bad",0,1),IF(M$30=$AN$1,IF(IFERROR(IF(M31=TRUNC(M31),1,"bad"),"bad")="bad",0,1),IF(M$30=$AO$1,IF(AND(IF(IFERROR(M31*1,"bad")="bad",0,1)=1,M31>=0),1,0),IF(M$30=$AQ$1,IF(AND(IF(IFERROR(IF(M31=TRUNC(M31),1,"bad"),"bad")="bad",0,1)=1,M31>=0),1,0),IF(M$30=$AR$1,IF(AND(IF(IFERROR(M31*1,"bad")="bad",0,1)=1,M31>0),1,0),IF(M$30=$AS$1,IF(AND(IF(IFERROR(IF(M31=TRUNC(M31),1,"bad"),"bad")="bad",0,1)=1,M31>0),1,0),IF(M$30=$AT$1,1,IF(M$30=$AU$1,IF(IFERROR(HLOOKUP(M31,$AL$4:$AV$4,1,0),"bad")="bad",0,1),0)))))))))))) -> 1 | AR31: =IF(N$30="",1,IF(N$4=99,1,IF(N31="",0,IF(N$30=$AL$1,IF(ISNA(MATCH(N31,$AI$30:$AJ$30,0)),0,1),IF(N$30=$AM$1,IF(IFERROR(N31*1,"bad")="bad",0,1),IF(N$30=$AN$1,IF(IFERROR(IF(N31=TRUNC(N31),1,"bad"),"bad")="bad",0,1),IF(N$30=$AO$1,IF(AND(IF(IFERROR(N31*1,"bad")="bad",0,1)=1,N31>=0),1,0),IF(N$30=$AQ$1,IF(AND(IF(IFERROR(IF(N31=TRUNC(N31),1,"bad"),"bad")="bad",0,1)=1,N31>=0),1,0),IF(N$30=$AR$1,IF(AND(IF(IFERROR(N31*1,"bad")="bad",0,1)=1,N31>0),1,0),IF(N$30=$AS$1,IF(AND(IF(IFERROR(IF(N31=TRUNC(N31),1,"bad"),"bad")="bad",0,1)=1,N31>0),1,0),IF(N$30=$AT$1,1,IF(N$30=$AU$1,IF(IFERROR(HLOOKUP(N31,$AL$4:$AV$4,1,0),"bad")="bad",0,1),0)))))))))))) -> 1 | AS31: =IF(P$30="",1,IF(P$4=99,1,IF(P31="",0,IF(P$30=$AL$1,IF(ISNA(MATCH(P31,$AI$30:$AJ$30,0)),0,1),IF(P$30=$AM$1,IF(IFERROR(P31*1,"bad")="bad",0,1),IF(P$30=$AN$1,IF(IFERROR(IF(P31=TRUNC(P31),1,"bad"),"bad")="bad",0,1),IF(P$30=$AO$1,IF(AND(IF(IFERROR(P31*1,"bad")="bad",0,1)=1,P31>=0),1,0),IF(P$30=$AQ$1,IF(AND(IF(IFERROR(IF(P31=TRUNC(P31),1,"bad"),"bad")="bad",0,1)=1,P31>=0),1,0),IF(P$30=$AR$1,IF(AND(IF(IFERROR(P31*1,"bad")="bad",0,1)=1,P31>0),1,0),IF(P$30=$AS$1,IF(AND(IF(IFERROR(IF(P31=TRUNC(P31),1,"bad"),"bad")="bad",0,1)=1,P31>0),1,0),IF(P$30=$AT$1,1,IF(P$30=$AU$1,IF(IFERROR(HLOOKUP(P31,$AL$4:$AV$4,1,0),"bad")="bad",0,1),0)))))))))))) -> 1 | AT31: =IF(Q$30="",1,IF(Q$4=99,1,IF(Q31="",0,IF(Q$30=$AL$1,IF(ISNA(MATCH(Q31,$AI$30:$AJ$30,0)),0,1),IF(Q$30=$AM$1,IF(IFERROR(Q31*1,"bad")="bad",0,1),IF(Q$30=$AN$1,IF(IFERROR(IF(Q31=TRUNC(Q31),1,"bad"),"bad")="bad",0,1),IF(Q$30=$AO$1,IF(AND(IF(IFERROR(Q31*1,"bad")="bad",0,1)=1,Q31>=0),1,0),IF(Q$30=$AQ$1,IF(AND(IF(IFERROR(IF(Q31=TRUNC(Q31),1,"bad"),"bad")="bad",0,1)=1,Q31>=0),1,0),IF(Q$30=$AR$1,IF(AND(IF(IFERROR(Q31*1,"bad")="bad",0,1)=1,Q31>0),1,0),IF(Q$30=$AS$1,IF(AND(IF(IFERROR(IF(Q31=TRUNC(Q31),1,"bad"),"bad")="bad",0,1)=1,Q31>0),1,0),IF(Q$30=$AT$1,1,IF(Q$30=$AU$1,IF(IFERROR(HLOOKUP(Q31,$AL$4:$AV$4,1,0),"bad")="bad",0,1),0)))))))))))) -> 1 | AU31: =IF(R$30="",1,IF(R$4=99,1,IF(R31="",0,IF(R$30=$AL$1,IF(ISNA(MATCH(R31,$AI$30:$AJ$30,0)),0,1),IF(R$30=$AM$1,IF(IFERROR(R31*1,"bad")="bad",0,1),IF(R$30=$AN$1,IF(IFERROR(IF(R31=TRUNC(R31),1,"bad"),"bad")="bad",0,1),IF(R$30=$AO$1,IF(AND(IF(IFERROR(R31*1,"bad")="bad",0,1)=1,R31>=0),1,0),IF(R$30=$AQ$1,IF(AND(IF(IFERROR(IF(R31=TRUNC(R31),1,"bad"),"bad")="bad",0,1)=1,R31>=0),1,0),IF(R$30=$AR$1,IF(AND(IF(IFERROR(R31*1,"bad")="bad",0,1)=1,R31>0),1,0),IF(R$30=$AS$1,IF(AND(IF(IFERROR(IF(R31=TRUNC(R31),1,"bad"),"bad")="bad",0,1)=1,R31>0),1,0),IF(R$30=$AT$1,1,IF(R$30=$AU$1,IF(IFERROR(HLOOKUP(R31,$AL$4:$AV$4,1,0),"bad")="bad",0,1),0)))))))))))) -> 1 | AV31: =IF(S$30="",1,IF(S$4=99,1,IF(S31="",0,IF(S$30=$AL$1,IF(ISNA(MATCH(S31,$AI$30:$AJ$30,0)),0,1),IF(S$30=$AM$1,IF(IFERROR(S31*1,"bad")="bad",0,1),IF(S$30=$AN$1,IF(IFERROR(IF(S31=TRUNC(S31),1,"bad"),"bad")="bad",0,1),IF(S$30=$AO$1,IF(AND(IF(IFERROR(S31*1,"bad")="bad",0,1)=1,S31>=0),1,0),IF(S$30=$AQ$1,IF(AND(IF(IFERROR(IF(S31=TRUNC(S31),1,"bad"),"bad")="bad",0,1)=1,S31>=0),1,0),IF(S$30=$AR$1,IF(AND(IF(IFERROR(S31*1,"bad")="bad",0,1)=1,S31>0),1,0),IF(S$30=$AS$1,IF(AND(IF(IFERROR(IF(S31=TRUNC(S31),1,"bad"),"bad")="bad",0,1)=1,S31>0),1,0),IF(S$30=$AT$1,1,IF(S$30=$AU$1,IF(IFERROR(HLOOKUP(S31,$AL$4:$AV$4,1,0),"bad")="bad",0,1),0)))))))))))) -> 1 | AW31: =IF(T$30="",1,IF(T$4=99,1,IF(T31="",0,IF(T$30=$AL$1,IF(ISNA(MATCH(T31,$AI$30:$AJ$30,0)),0,1),IF(T$30=$AM$1,IF(IFERROR(T31*1,"bad")="bad",0,1),IF(T$30=$AN$1,IF(IFERROR(IF(T31=TRUNC(T31),1,"bad"),"bad")="bad",0,1),IF(T$30=$AO$1,IF(AND(IF(IFERROR(T31*1,"bad")="bad",0,1)=1,T31>=0),1,0),IF(T$30=$AQ$1,IF(AND(IF(IFERROR(IF(T31=TRUNC(T31),1,"bad"),"bad")="bad",0,1)=1,T31>=0),1,0),IF(T$30=$AR$1,IF(AND(IF(IFERROR(T31*1,"bad")="bad",0,1)=1,T31>0),1,0),IF(T$30=$AS$1,IF(AND(IF(IFERROR(IF(T31=TRUNC(T31),1,"bad"),"bad")="bad",0,1)=1,T31>0),1,0),IF(T$30=$AT$1,1,IF(T$30=$AU$1,IF(IFERROR(HLOOKUP(T31,$AL$4:$AV$4,1,0),"bad")="bad",0,1),0)))))))))))) -> 1 | AX31: =IF(U$30="",1,IF(U$4=99,1,IF(U31="",0,IF(U$30=$AL$1,IF(ISNA(MATCH(U31,$AI$30:$AJ$30,0)),0,1),IF(U$30=$AM$1,IF(IFERROR(U31*1,"bad")="bad",0,1),IF(U$30=$AN$1,IF(IFERROR(IF(U31=TRUNC(U31),1,"bad"),"bad")="bad",0,1),IF(U$30=$AO$1,IF(AND(IF(IFERROR(U31*1,"bad")="bad",0,1)=1,U31>=0),1,0),IF(U$30=$AQ$1,IF(AND(IF(IFERROR(IF(U31=TRUNC(U31),1,"bad"),"bad")="bad",0,1)=1,U31>=0),1,0),IF(U$30=$AR$1,IF(AND(IF(IFERROR(U31*1,"bad")="bad",0,1)=1,U31>0),1,0),IF(U$30=$AS$1,IF(AND(IF(IFERROR(IF(U31=TRUNC(U31),1,"bad"),"bad")="bad",0,1)=1,U31>0),1,0),IF(U$30=$AT$1,1,IF(U$30=$AU$1,IF(IFERROR(HLOOKUP(U31,$AL$4:$AV$4,1,0),"bad")="bad",0,1),0)))))))))))) -> 1 | AY31: =IF(V$30="",1,IF(V$4=99,1,IF(V31="",0,IF(V$30=$AL$1,IF(ISNA(MATCH(V31,$AI$30:$AJ$30,0)),0,1),IF(V$30=$AM$1,IF(IFERROR(V31*1,"bad")="bad",0,1),IF(V$30=$AN$1,IF(IFERROR(IF(V31=TRUNC(V31),1,"bad"),"bad")="bad",0,1),IF(V$30=$AO$1,IF(AND(IF(IFERROR(V31*1,"bad")="bad",0,1)=1,V31>=0),1,0),IF(V$30=$AQ$1,IF(AND(IF(IFERROR(IF(V31=TRUNC(V31),1,"bad"),"bad")="bad",0,1)=1,V31>=0),1,0),IF(V$30=$AR$1,IF(AND(IF(IFERROR(V31*1,"bad")="bad",0,1)=1,V31>0),1,0),IF(V$30=$AS$1,IF(AND(IF(IFERROR(IF(V31=TRUNC(V31),1,"bad"),"bad")="bad",0,1)=1,V31>0),1,0),IF(V$30=$AT$1,1,IF(V$30=$AU$1,IF(IFERROR(HLOOKUP(V31,$AL$4:$AV$4,1,0),"bad")="bad",0,1),0)))))))))))) -> 1 | AZ31: =IF(W$30="",1,IF(W$4=99,1,IF(W31="",0,IF(W$30=$AL$1,IF(ISNA(MATCH(W31,$AI$30:$AJ$30,0)),0,1),IF(W$30=$AM$1,IF(IFERROR(W31*1,"bad")="bad",0,1),IF(W$30=$AN$1,IF(IFERROR(IF(W31=TRUNC(W31),1,"bad"),"bad")="bad",0,1),IF(W$30=$AO$1,IF(AND(IF(IFERROR(W31*1,"bad")="bad",0,1)=1,W31>=0),1,0),IF(W$30=$AQ$1,IF(AND(IF(IFERROR(IF(W31=TRUNC(W31),1,"bad"),"bad")="bad",0,1)=1,W31>=0),1,0),IF(W$30=$AR$1,IF(AND(IF(IFERROR(W31*1,"bad")="bad",0,1)=1,W31>0),1,0),IF(W$30=$AS$1,IF(AND(IF(IFERROR(IF(W31=TRUNC(W31),1,"bad"),"bad")="bad",0,1)=1,W31>0),1,0),IF(W$30=$AT$1,1,IF(W$30=$AU$1,IF(IFERROR(HLOOKUP(W31,$AL$4:$AV$4,1,0),"bad")="bad",0,1),0)))))))))))) -> 1 | ... BJ31: =IF(AG$30="",1,IF(AG$4=99,1,IF(AG31="",0,IF(AG$30=$AL$1,IF(ISNA(MATCH(AG31,$AI$30:$AJ$30,0)),0,1),IF(AG$30=$AM$1,IF(IFERROR(AG31*1,"bad")="bad",0,1),IF(AG$30=$AN$1,IF(IFERROR(IF(AG31=TRUNC(AG31),1,"bad"),"bad")="bad",0,1),IF(AG$30=$AO$1,IF(AND(IF(IFERROR(AG31*1,"bad")="bad",0,1)=1,AG31>=0),1,0),IF(AG$30=$AQ$1,IF(AND(IF(IFERROR(IF(AG31=TRUNC(AG31),1,"bad"),"bad")="bad",0,1)=1,AG31>=0),1,0),IF(AG$30=$AR$1,IF(AND(IF(IFERROR(AG31*1,"bad")="bad",0,1)=1,AG31>0),1,0),IF(AG$30=$AS$1,IF(AND(IF(IFERROR(IF(AG31=TRUNC(AG31),1,"bad"),"bad")="bad",0,1)=1,AG31>0),1,0),IF(AG$30=$AT$1,1,IF(AG$30=$AU$1,IF(IFERROR(HLOOKUP(AG31,$AL$4:$AV$4,1,0),"bad")="bad",0,1),0)))))))))))) -> 0 | BM31: =IF($F31="","",BM$30) -> 1 | BN31: =IF($F31="","",BN$30) -> 2 | BO31: =IF($F31="","",BO$30) -> 3 | BP31: =IF($F31="","",BP$30) -> 4 | BQ31: =IF($F31="","",BQ$30) -> 5 | BR31: =IF($F31="","",BR$30) -> 6 | BS31: =IF($F31="","",BS$30) -> 7 | BT31: =IF($F31="","",BT$30) -> 8 | ... BV31: =IF($F31="","",BV$30) -> 10
B32: =IF(F32="","",ROW()-30) -> 2 | C32: 510662190 | D32: 1001844093 | E32: כנס חבורות זמר | F32: מרכז קהילתי בטירת כרמל עש פרסט בע"מ | G32: 1 | H32: 1 | I32: 1 | J32: 1 | K32: 1 | L32: 0 | M32: 0 | N32: 0 | O32: =IF(D32="","",IF(L32="",$AI$1,IF(OR(SUM(L32:N32)=3,L32=0),1,0))) -> 1 | P32: 1 | Q32: 1 | R32: 1 | T32: 1 | U32: 1 | V32: 221 | W32: 231103 | X32: 1 | Y32: 1 | Z32: 1 | AA32: 1 | AB32: 1 | AC32: 1 | AD32: 1 | AF32: {=IF($D32="","",IF(AE32=1,1,IF(AH32<>1,$AI$1,IF(SUMPRODUCT(--(G32:AD32>=$G$6:$AD$6)*($G$6:$AD$6<>"")*($G$4:$AD$4=1))=COUNTIF($G$4:$AD$4,1),1,0))))} -> 1 | AH32: =IF(SUM(AK32:BI32)=COUNT(AK32:BI32),1,0) -> 1 | AI32: =IF($F32="","",AI$30) -> 0 | AJ32: =IF($F32="","",AJ$30) -> 1 | AK32: =IF(G$30="",1,IF(G$4=99,1,IF(G32="",0,IF(G$30=$AL$1,IF(ISNA(MATCH(G32,$AI$30:$AJ$30,0)),0,1),IF(G$30=$AM$1,IF(IFERROR(G32*1,"bad")="bad",0,1),IF(G$30=$AN$1,IF(IFERROR(IF(G32=TRUNC(G32),1,"bad"),"bad")="bad",0,1),IF(G$30=$AO$1,IF(AND(IF(IFERROR(G32*1,"bad")="bad",0,1)=1,G32>=0),1,0),IF(G$30=$AQ$1,IF(AND(IF(IFERROR(IF(G32=TRUNC(G32),1,"bad"),"bad")="bad",0,1)=1,G32>=0),1,0),IF(G$30=$AR$1,IF(AND(IF(IFERROR(G32*1,"bad")="bad",0,1)=1,G32>0),1,0),IF(G$30=$AS$1,IF(AND(IF(IFERROR(IF(G32=TRUNC(G32),1,"bad"),"bad")="bad",0,1)=1,G32>0),1,0),IF(G$30=$AT$1,1,IF(G$30=$AU$1,IF(IFERROR(HLOOKUP(G32,$AL$4:$AV$4,1,0),"bad")="bad",0,1),0)))))))))))) -> 1 | AL32: =IF(H$30="",1,IF(H$4=99,1,IF(H32="",0,IF(H$30=$AL$1,IF(ISNA(MATCH(H32,$AI$30:$AJ$30,0)),0,1),IF(H$30=$AM$1,IF(IFERROR(H32*1,"bad")="bad",0,1),IF(H$30=$AN$1,IF(IFERROR(IF(H32=TRUNC(H32),1,"bad"),"bad")="bad",0,1),IF(H$30=$AO$1,IF(AND(IF(IFERROR(H32*1,"bad")="bad",0,1)=1,H32>=0),1,0),IF(H$30=$AQ$1,IF(AND(IF(IFERROR(IF(H32=TRUNC(H32),1,"bad"),"bad")="bad",0,1)=1,H32>=0),1,0),IF(H$30=$AR$1,IF(AND(IF(IFERROR(H32*1,"bad")="bad",0,1)=1,H32>0),1,0),IF(H$30=$AS$1,IF(AND(IF(IFERROR(IF(H32=TRUNC(H32),1,"bad"),"bad")="bad",0,1)=1,H32>0),1,0),IF(H$30=$AT$1,1,IF(H$30=$AU$1,IF(IFERROR(HLOOKUP(H32,$AL$4:$AV$4,1,0),"bad")="bad",0,1),0)))))))))))) -> 1 | AM32: =IF(I$30="",1,IF(I$4=99,1,IF(I32="",0,IF(I$30=$AL$1,IF(ISNA(MATCH(I32,$AI$30:$AJ$30,0)),0,1),IF(I$30=$AM$1,IF(IFERROR(I32*1,"bad")="bad",0,1),IF(I$30=$AN$1,IF(IFERROR(IF(I32=TRUNC(I32),1,"bad"),"bad")="bad",0,1),IF(I$30=$AO$1,IF(AND(IF(IFERROR(I32*1,"bad")="bad",0,1)=1,I32>=0),1,0),IF(I$30=$AQ$1,IF(AND(IF(IFERROR(IF(I32=TRUNC(I32),1,"bad"),"bad")="bad",0,1)=1,I32>=0),1,0),IF(I$30=$AR$1,IF(AND(IF(IFERROR(I32*1,"bad")="bad",0,1)=1,I32>0),1,0),IF(I$30=$AS$1,IF(AND(IF(IFERROR(IF(I32=TRUNC(I32),1,"bad"),"bad")="bad",0,1)=1,I32>0),1,0),IF(I$30=$AT$1,1,IF(I$30=$AU$1,IF(IFERROR(HLOOKUP(I32,$AL$4:$AV$4,1,0),"bad")="bad",0,1),0)))))))))))) -> 1 | AN32: =IF(J$30="",1,IF(J$4=99,1,IF(J32="",0,IF(J$30=$AL$1,IF(ISNA(MATCH(J32,$AI$30:$AJ$30,0)),0,1),IF(J$30=$AM$1,IF(IFERROR(J32*1,"bad")="bad",0,1),IF(J$30=$AN$1,IF(IFERROR(IF(J32=TRUNC(J32),1,"bad"),"bad")="bad",0,1),IF(J$30=$AO$1,IF(AND(IF(IFERROR(J32*1,"bad")="bad",0,1)=1,J32>=0),1,0),IF(J$30=$AQ$1,IF(AND(IF(IFERROR(IF(J32=TRUNC(J32),1,"bad"),"bad")="bad",0,1)=1,J32>=0),1,0),IF(J$30=$AR$1,IF(AND(IF(IFERROR(J32*1,"bad")="bad",0,1)=1,J32>0),1,0),IF(J$30=$AS$1,IF(AND(IF(IFERROR(IF(J32=TRUNC(J32),1,"bad"),"bad")="bad",0,1)=1,J32>0),1,0),IF(J$30=$AT$1,1,IF(J$30=$AU$1,IF(IFERROR(HLOOKUP(J32,$AL$4:$AV$4,1,0),"bad")="bad",0,1),0)))))))))))) -> 1 | AO32: =IF(K$30="",1,IF(K$4=99,1,IF(K32="",0,IF(K$30=$AL$1,IF(ISNA(MATCH(K32,$AI$30:$AJ$30,0)),0,1),IF(K$30=$AM$1,IF(IFERROR(K32*1,"bad")="bad",0,1),IF(K$30=$AN$1,IF(IFERROR(IF(K32=TRUNC(K32),1,"bad"),"bad")="bad",0,1),IF(K$30=$AO$1,IF(AND(IF(IFERROR(K32*1,"bad")="bad",0,1)=1,K32>=0),1,0),IF(K$30=$AQ$1,IF(AND(IF(IFERROR(IF(K32=TRUNC(K32),1,"bad"),"bad")="bad",0,1)=1,K32>=0),1,0),IF(K$30=$AR$1,IF(AND(IF(IFERROR(K32*1,"bad")="bad",0,1)=1,K32>0),1,0),IF(K$30=$AS$1,IF(AND(IF(IFERROR(IF(K32=TRUNC(K32),1,"bad"),"bad")="bad",0,1)=1,K32>0),1,0),IF(K$30=$AT$1,1,IF(K$30=$AU$1,IF(IFERROR(HLOOKUP(K32,$AL$4:$AV$4,1,0),"bad")="bad",0,1),0)))))))))))) -> 1 | AP32: =IF(L$30="",1,IF(L$4=99,1,IF(L32="",0,IF(L$30=$AL$1,IF(ISNA(MATCH(L32,$AI$30:$AJ$30,0)),0,1),IF(L$30=$AM$1,IF(IFERROR(L32*1,"bad")="bad",0,1),IF(L$30=$AN$1,IF(IFERROR(IF(L32=TRUNC(L32),1,"bad"),"bad")="bad",0,1),IF(L$30=$AO$1,IF(AND(IF(IFERROR(L32*1,"bad")="bad",0,1)=1,L32>=0),1,0),IF(L$30=$AQ$1,IF(AND(IF(IFERROR(IF(L32=TRUNC(L32),1,"bad"),"bad")="bad",0,1)=1,L32>=0),1,0),IF(L$30=$AR$1,IF(AND(IF(IFERROR(L32*1,"bad")="bad",0,1)=1,L32>0),1,0),IF(L$30=$AS$1,IF(AND(IF(IFERROR(IF(L32=TRUNC(L32),1,"bad"),"bad")="bad",0,1)=1,L32>0),1,0),IF(L$30=$AT$1,1,IF(L$30=$AU$1,IF(IFERROR(HLOOKUP(L32,$AL$4:$AV$4,1,0),"bad")="bad",0,1),0)))))))))))) -> 1 | AQ32: =IF(M$30="",1,IF(M$4=99,1,IF(M32="",0,IF(M$30=$AL$1,IF(ISNA(MATCH(M32,$AI$30:$AJ$30,0)),0,1),IF(M$30=$AM$1,IF(IFERROR(M32*1,"bad")="bad",0,1),IF(M$30=$AN$1,IF(IFERROR(IF(M32=TRUNC(M32),1,"bad"),"bad")="bad",0,1),IF(M$30=$AO$1,IF(AND(IF(IFERROR(M32*1,"bad")="bad",0,1)=1,M32>=0),1,0),IF(M$30=$AQ$1,IF(AND(IF(IFERROR(IF(M32=TRUNC(M32),1,"bad"),"bad")="bad",0,1)=1,M32>=0),1,0),IF(M$30=$AR$1,IF(AND(IF(IFERROR(M32*1,"bad")="bad",0,1)=1,M32>0),1,0),IF(M$30=$AS$1,IF(AND(IF(IFERROR(IF(M32=TRUNC(M32),1,"bad"),"bad")="bad",0,1)=1,M32>0),1,0),IF(M$30=$AT$1,1,IF(M$30=$AU$1,IF(IFERROR(HLOOKUP(M32,$AL$4:$AV$4,1,0),"bad")="bad",0,1),0)))))))))))) -> 1 | AR32: =IF(N$30="",1,IF(N$4=99,1,IF(N32="",0,IF(N$30=$AL$1,IF(ISNA(MATCH(N32,$AI$30:$AJ$30,0)),0,1),IF(N$30=$AM$1,IF(IFERROR(N32*1,"bad")="bad",0,1),IF(N$30=$AN$1,IF(IFERROR(IF(N32=TRUNC(N32),1,"bad"),"bad")="bad",0,1),IF(N$30=$AO$1,IF(AND(IF(IFERROR(N32*1,"bad")="bad",0,1)=1,N32>=0),1,0),IF(N$30=$AQ$1,IF(AND(IF(IFERROR(IF(N32=TRUNC(N32),1,"bad"),"bad")="bad",0,1)=1,N32>=0),1,0),IF(N$30=$AR$1,IF(AND(IF(IFERROR(N32*1,"bad")="bad",0,1)=1,N32>0),1,0),IF(N$30=$AS$1,IF(AND(IF(IFERROR(IF(N32=TRUNC(N32),1,"bad"),"bad")="bad",0,1)=1,N32>0),1,0),IF(N$30=$AT$1,1,IF(N$30=$AU$1,IF(IFERROR(HLOOKUP(N32,$AL$4:$AV$4,1,0),"bad")="bad",0,1),0)))))))))))) -> 1 | AS32: =IF(P$30="",1,IF(P$4=99,1,IF(P32="",0,IF(P$30=$AL$1,IF(ISNA(MATCH(P32,$AI$30:$AJ$30,0)),0,1),IF(P$30=$AM$1,IF(IFERROR(P32*1,"bad")="bad",0,1),IF(P$30=$AN$1,IF(IFERROR(IF(P32=TRUNC(P32),1,"bad"),"bad")="bad",0,1),IF(P$30=$AO$1,IF(AND(IF(IFERROR(P32*1,"bad")="bad",0,1)=1,P32>=0),1,0),IF(P$30=$AQ$1,IF(AND(IF(IFERROR(IF(P32=TRUNC(P32),1,"bad"),"bad")="bad",0,1)=1,P32>=0),1,0),IF(P$30=$AR$1,IF(AND(IF(IFERROR(P32*1,"bad")="bad",0,1)=1,P32>0),1,0),IF(P$30=$AS$1,IF(AND(IF(IFERROR(IF(P32=TRUNC(P32),1,"bad"),"bad")="bad",0,1)=1,P32>0),1,0),IF(P$30=$AT$1,1,IF(P$30=$AU$1,IF(IFERROR(HLOOKUP(P32,$AL$4:$AV$4,1,0),"bad")="bad",0,1),0)))))))))))) -> 1 | AT32: =IF(Q$30="",1,IF(Q$4=99,1,IF(Q32="",0,IF(Q$30=$AL$1,IF(ISNA(MATCH(Q32,$AI$30:$AJ$30,0)),0,1),IF(Q$30=$AM$1,IF(IFERROR(Q32*1,"bad")="bad",0,1),IF(Q$30=$AN$1,IF(IFERROR(IF(Q32=TRUNC(Q32),1,"bad"),"bad")="bad",0,1),IF(Q$30=$AO$1,IF(AND(IF(IFERROR(Q32*1,"bad")="bad",0,1)=1,Q32>=0),1,0),IF(Q$30=$AQ$1,IF(AND(IF(IFERROR(IF(Q32=TRUNC(Q32),1,"bad"),"bad")="bad",0,1)=1,Q32>=0),1,0),IF(Q$30=$AR$1,IF(AND(IF(IFERROR(Q32*1,"bad")="bad",0,1)=1,Q32>0),1,0),IF(Q$30=$AS$1,IF(AND(IF(IFERROR(IF(Q32=TRUNC(Q32),1,"bad"),"bad")="bad",0,1)=1,Q32>0),1,0),IF(Q$30=$AT$1,1,IF(Q$30=$AU$1,IF(IFERROR(HLOOKUP(Q32,$AL$4:$AV$4,1,0),"bad")="bad",0,1),0)))))))))))) -> 1 | AU32: =IF(R$30="",1,IF(R$4=99,1,IF(R32="",0,IF(R$30=$AL$1,IF(ISNA(MATCH(R32,$AI$30:$AJ$30,0)),0,1),IF(R$30=$AM$1,IF(IFERROR(R32*1,"bad")="bad",0,1),IF(R$30=$AN$1,IF(IFERROR(IF(R32=TRUNC(R32),1,"bad"),"bad")="bad",0,1),IF(R$30=$AO$1,IF(AND(IF(IFERROR(R32*1,"bad")="bad",0,1)=1,R32>=0),1,0),IF(R$30=$AQ$1,IF(AND(IF(IFERROR(IF(R32=TRUNC(R32),1,"bad"),"bad")="bad",0,1)=1,R32>=0),1,0),IF(R$30=$AR$1,IF(AND(IF(IFERROR(R32*1,"bad")="bad",0,1)=1,R32>0),1,0),IF(R$30=$AS$1,IF(AND(IF(IFERROR(IF(R32=TRUNC(R32),1,"bad"),"bad")="bad",0,1)=1,R32>0),1,0),IF(R$30=$AT$1,1,IF(R$30=$AU$1,IF(IFERROR(HLOOKUP(R32,$AL$4:$AV$4,1,0),"bad")="bad",0,1),0)))))))))))) -> 1 | AV32: =IF(S$30="",1,IF(S$4=99,1,IF(S32="",0,IF(S$30=$AL$1,IF(ISNA(MATCH(S32,$AI$30:$AJ$30,0)),0,1),IF(S$30=$AM$1,IF(IFERROR(S32*1,"bad")="bad",0,1),IF(S$30=$AN$1,IF(IFERROR(IF(S32=TRUNC(S32),1,"bad"),"bad")="bad",0,1),IF(S$30=$AO$1,IF(AND(IF(IFERROR(S32*1,"bad")="bad",0,1)=1,S32>=0),1,0),IF(S$30=$AQ$1,IF(AND(IF(IFERROR(IF(S32=TRUNC(S32),1,"bad"),"bad")="bad",0,1)=1,S32>=0),1,0),IF(S$30=$AR$1,IF(AND(IF(IFERROR(S32*1,"bad")="bad",0,1)=1,S32>0),1,0),IF(S$30=$AS$1,IF(AND(IF(IFERROR(IF(S32=TRUNC(S32),1,"bad"),"bad")="bad",0,1)=1,S32>0),1,0),IF(S$30=$AT$1,1,IF(S$30=$AU$1,IF(IFERROR(HLOOKUP(S32,$AL$4:$AV$4,1,0),"bad")="bad",0,1),0)))))))))))) -> 1 | AW32: =IF(T$30="",1,IF(T$4=99,1,IF(T32="",0,IF(T$30=$AL$1,IF(ISNA(MATCH(T32,$AI$30:$AJ$30,0)),0,1),IF(T$30=$AM$1,IF(IFERROR(T32*1,"bad")="bad",0,1),IF(T$30=$AN$1,IF(IFERROR(IF(T32=TRUNC(T32),1,"bad"),"bad")="bad",0,1),IF(T$30=$AO$1,IF(AND(IF(IFERROR(T32*1,"bad")="bad",0,1)=1,T32>=0),1,0),IF(T$30=$AQ$1,IF(AND(IF(IFERROR(IF(T32=TRUNC(T32),1,"bad"),"bad")="bad",0,1)=1,T32>=0),1,0),IF(T$30=$AR$1,IF(AND(IF(IFERROR(T32*1,"bad")="bad",0,1)=1,T32>0),1,0),IF(T$30=$AS$1,IF(AND(IF(IFERROR(IF(T32=TRUNC(T32),1,"bad"),"bad")="bad",0,1)=1,T32>0),1,0),IF(T$30=$AT$1,1,IF(T$30=$AU$1,IF(IFERROR(HLOOKUP(T32,$AL$4:$AV$4,1,0),"bad")="bad",0,1),0)))))))))))) -> 1 | AX32: =IF(U$30="",1,IF(U$4=99,1,IF(U32="",0,IF(U$30=$AL$1,IF(ISNA(MATCH(U32,$AI$30:$AJ$30,0)),0,1),IF(U$30=$AM$1,IF(IFERROR(U32*1,"bad")="bad",0,1),IF(U$30=$AN$1,IF(IFERROR(IF(U32=TRUNC(U32),1,"bad"),"bad")="bad",0,1),IF(U$30=$AO$1,IF(AND(IF(IFERROR(U32*1,"bad")="bad",0,1)=1,U32>=0),1,0),IF(U$30=$AQ$1,IF(AND(IF(IFERROR(IF(U32=TRUNC(U32),1,"bad"),"bad")="bad",0,1)=1,U32>=0),1,0),IF(U$30=$AR$1,IF(AND(IF(IFERROR(U32*1,"bad")="bad",0,1)=1,U32>0),1,0),IF(U$30=$AS$1,IF(AND(IF(IFERROR(IF(U32=TRUNC(U32),1,"bad"),"bad")="bad",0,1)=1,U32>0),1,0),IF(U$30=$AT$1,1,IF(U$30=$AU$1,IF(IFERROR(HLOOKUP(U32,$AL$4:$AV$4,1,0),"bad")="bad",0,1),0)))))))))))) -> 1 | AY32: =IF(V$30="",1,IF(V$4=99,1,IF(V32="",0,IF(V$30=$AL$1,IF(ISNA(MATCH(V32,$AI$30:$AJ$30,0)),0,1),IF(V$30=$AM$1,IF(IFERROR(V32*1,"bad")="bad",0,1),IF(V$30=$AN$1,IF(IFERROR(IF(V32=TRUNC(V32),1,"bad"),"bad")="bad",0,1),IF(V$30=$AO$1,IF(AND(IF(IFERROR(V32*1,"bad")="bad",0,1)=1,V32>=0),1,0),IF(V$30=$AQ$1,IF(AND(IF(IFERROR(IF(V32=TRUNC(V32),1,"bad"),"bad")="bad",0,1)=1,V32>=0),1,0),IF(V$30=$AR$1,IF(AND(IF(IFERROR(V32*1,"bad")="bad",0,1)=1,V32>0),1,0),IF(V$30=$AS$1,IF(AND(IF(IFERROR(IF(V32=TRUNC(V32),1,"bad"),"bad")="bad",0,1)=1,V32>0),1,0),IF(V$30=$AT$1,1,IF(V$30=$AU$1,IF(IFERROR(HLOOKUP(V32,$AL$4:$AV$4,1,0),"bad")="bad",0,1),0)))))))))))) -> 1 | AZ32: =IF(W$30="",1,IF(W$4=99,1,IF(W32="",0,IF(W$30=$AL$1,IF(ISNA(MATCH(W32,$AI$30:$AJ$30,0)),0,1),IF(W$30=$AM$1,IF(IFERROR(W32*1,"bad")="bad",0,1),IF(W$30=$AN$1,IF(IFERROR(IF(W32=TRUNC(W32),1,"bad"),"bad")="bad",0,1),IF(W$30=$AO$1,IF(AND(IF(IFERROR(W32*1,"bad")="bad",0,1)=1,W32>=0),1,0),IF(W$30=$AQ$1,IF(AND(IF(IFERROR(IF(W32=TRUNC(W32),1,"bad"),"bad")="bad",0,1)=1,W32>=0),1,0),IF(W$30=$AR$1,IF(AND(IF(IFERROR(W32*1,"bad")="bad",0,1)=1,W32>0),1,0),IF(W$30=$AS$1,IF(AND(IF(IFERROR(IF(W32=TRUNC(W32),1,"bad"),"bad")="bad",0,1)=1,W32>0),1,0),IF(W$30=$AT$1,1,IF(W$30=$AU$1,IF(IFERROR(HLOOKUP(W32,$AL$4:$AV$4,1,0),"bad")="bad",0,1),0)))))))))))) -> 1 | ... BJ32: =IF(AG$30="",1,IF(AG$4=99,1,IF(AG32="",0,IF(AG$30=$AL$1,IF(ISNA(MATCH(AG32,$AI$30:$AJ$30,0)),0,1),IF(AG$30=$AM$1,IF(IFERROR(AG32*1,"bad")="bad",0,1),IF(AG$30=$AN$1,IF(IFERROR(IF(AG32=TRUNC(AG32),1,"bad"),"bad")="bad",0,1),IF(AG$30=$AO$1,IF(AND(IF(IFERROR(AG32*1,"bad")="bad",0,1)=1,AG32>=0),1,0),IF(AG$30=$AQ$1,IF(AND(IF(IFERROR(IF(AG32=TRUNC(AG32),1,"bad"),"bad")="bad",0,1)=1,AG32>=0),1,0),IF(AG$30=$AR$1,IF(AND(IF(IFERROR(AG32*1,"bad")="bad",0,1)=1,AG32>0),1,0),IF(AG$30=$AS$1,IF(AND(IF(IFERROR(IF(AG32=TRUNC(AG32),1,"bad"),"bad")="bad",0,1)=1,AG32>0),1,0),IF(AG$30=$AT$1,1,IF(AG$30=$AU$1,IF(IFERROR(HLOOKUP(AG32,$AL$4:$AV$4,1,0),"bad")="bad",0,1),0)))))))))))) -> 0 | BM32: =IF($F32="","",BM$30) -> 1 | BN32: =IF($F32="","",BN$30) -> 2 | BO32: =IF($F32="","",BO$30) -> 3 | BP32: =IF($F32="","",BP$30) -> 4 | BQ32: =IF($F32="","",BQ$30) -> 5 | BR32: =IF($F32="","",BR$30) -> 6 | BS32: =IF($F32="","",BS$30) -> 7 | BT32: =IF($F32="","",BT$30) -> 8 | ... BV32: =IF($F32="","",BV$30) -> 10
B33: =IF(F33="","",ROW()-30) -> 3 | C33: 580350841 | D33: 1001844060 | E33: תמיכה בפעילויות עמותת מיל"ה ברחבי הארץ | F33: מרכז ישראלי למקהלות ולחבורות זמר (ע | G33: 1 | H33: 1 | I33: 1 | J33: 1 | K33: 1 | L33: 0 | M33: 0 | N33: 0 | O33: =IF(D33="","",IF(L33="",$AI$1,IF(OR(SUM(L33:N33)=3,L33=0),1,0))) -> 1 | P33: 1 | Q33: 1 | R33: 1 | T33: 1 | U33: 1 | V33: 2128 | W33: 1774230 | X33: 1 | Y33: 1 | Z33: 1 | AA33: 1 | AB33: 1 | AC33: 1 | AD33: 1 | AF33: {=IF($D33="","",IF(AE33=1,1,IF(AH33<>1,$AI$1,IF(SUMPRODUCT(--(G33:AD33>=$G$6:$AD$6)*($G$6:$AD$6<>"")*($G$4:$AD$4=1))=COUNTIF($G$4:$AD$4,1),1,0))))} -> 1 | AH33: =IF(SUM(AK33:BI33)=COUNT(AK33:BI33),1,0) -> 1 | AI33: =IF($F33="","",AI$30) -> 0 | AJ33: =IF($F33="","",AJ$30) -> 1 | AK33: =IF(G$30="",1,IF(G$4=99,1,IF(G33="",0,IF(G$30=$AL$1,IF(ISNA(MATCH(G33,$AI$30:$AJ$30,0)),0,1),IF(G$30=$AM$1,IF(IFERROR(G33*1,"bad")="bad",0,1),IF(G$30=$AN$1,IF(IFERROR(IF(G33=TRUNC(G33),1,"bad"),"bad")="bad",0,1),IF(G$30=$AO$1,IF(AND(IF(IFERROR(G33*1,"bad")="bad",0,1)=1,G33>=0),1,0),IF(G$30=$AQ$1,IF(AND(IF(IFERROR(IF(G33=TRUNC(G33),1,"bad"),"bad")="bad",0,1)=1,G33>=0),1,0),IF(G$30=$AR$1,IF(AND(IF(IFERROR(G33*1,"bad")="bad",0,1)=1,G33>0),1,0),IF(G$30=$AS$1,IF(AND(IF(IFERROR(IF(G33=TRUNC(G33),1,"bad"),"bad")="bad",0,1)=1,G33>0),1,0),IF(G$30=$AT$1,1,IF(G$30=$AU$1,IF(IFERROR(HLOOKUP(G33,$AL$4:$AV$4,1,0),"bad")="bad",0,1),0)))))))))))) -> 1 | AL33: =IF(H$30="",1,IF(H$4=99,1,IF(H33="",0,IF(H$30=$AL$1,IF(ISNA(MATCH(H33,$AI$30:$AJ$30,0)),0,1),IF(H$30=$AM$1,IF(IFERROR(H33*1,"bad")="bad",0,1),IF(H$30=$AN$1,IF(IFERROR(IF(H33=TRUNC(H33),1,"bad"),"bad")="bad",0,1),IF(H$30=$AO$1,IF(AND(IF(IFERROR(H33*1,"bad")="bad",0,1)=1,H33>=0),1,0),IF(H$30=$AQ$1,IF(AND(IF(IFERROR(IF(H33=TRUNC(H33),1,"bad"),"bad")="bad",0,1)=1,H33>=0),1,0),IF(H$30=$AR$1,IF(AND(IF(IFERROR(H33*1,"bad")="bad",0,1)=1,H33>0),1,0),IF(H$30=$AS$1,IF(AND(IF(IFERROR(IF(H33=TRUNC(H33),1,"bad"),"bad")="bad",0,1)=1,H33>0),1,0),IF(H$30=$AT$1,1,IF(H$30=$AU$1,IF(IFERROR(HLOOKUP(H33,$AL$4:$AV$4,1,0),"bad")="bad",0,1),0)))))))))))) -> 1 | AM33: =IF(I$30="",1,IF(I$4=99,1,IF(I33="",0,IF(I$30=$AL$1,IF(ISNA(MATCH(I33,$AI$30:$AJ$30,0)),0,1),IF(I$30=$AM$1,IF(IFERROR(I33*1,"bad")="bad",0,1),IF(I$30=$AN$1,IF(IFERROR(IF(I33=TRUNC(I33),1,"bad"),"bad")="bad",0,1),IF(I$30=$AO$1,IF(AND(IF(IFERROR(I33*1,"bad")="bad",0,1)=1,I33>=0),1,0),IF(I$30=$AQ$1,IF(AND(IF(IFERROR(IF(I33=TRUNC(I33),1,"bad"),"bad")="bad",0,1)=1,I33>=0),1,0),IF(I$30=$AR$1,IF(AND(IF(IFERROR(I33*1,"bad")="bad",0,1)=1,I33>0),1,0),IF(I$30=$AS$1,IF(AND(IF(IFERROR(IF(I33=TRUNC(I33),1,"bad"),"bad")="bad",0,1)=1,I33>0),1,0),IF(I$30=$AT$1,1,IF(I$30=$AU$1,IF(IFERROR(HLOOKUP(I33,$AL$4:$AV$4,1,0),"bad")="bad",0,1),0)))))))))))) -> 1 | AN33: =IF(J$30="",1,IF(J$4=99,1,IF(J33="",0,IF(J$30=$AL$1,IF(ISNA(MATCH(J33,$AI$30:$AJ$30,0)),0,1),IF(J$30=$AM$1,IF(IFERROR(J33*1,"bad")="bad",0,1),IF(J$30=$AN$1,IF(IFERROR(IF(J33=TRUNC(J33),1,"bad"),"bad")="bad",0,1),IF(J$30=$AO$1,IF(AND(IF(IFERROR(J33*1,"bad")="bad",0,1)=1,J33>=0),1,0),IF(J$30=$AQ$1,IF(AND(IF(IFERROR(IF(J33=TRUNC(J33),1,"bad"),"bad")="bad",0,1)=1,J33>=0),1,0),IF(J$30=$AR$1,IF(AND(IF(IFERROR(J33*1,"bad")="bad",0,1)=1,J33>0),1,0),IF(J$30=$AS$1,IF(AND(IF(IFERROR(IF(J33=TRUNC(J33),1,"bad"),"bad")="bad",0,1)=1,J33>0),1,0),IF(J$30=$AT$1,1,IF(J$30=$AU$1,IF(IFERROR(HLOOKUP(J33,$AL$4:$AV$4,1,0),"bad")="bad",0,1),0)))))))))))) -> 1 | AO33: =IF(K$30="",1,IF(K$4=99,1,IF(K33="",0,IF(K$30=$AL$1,IF(ISNA(MATCH(K33,$AI$30:$AJ$30,0)),0,1),IF(K$30=$AM$1,IF(IFERROR(K33*1,"bad")="bad",0,1),IF(K$30=$AN$1,IF(IFERROR(IF(K33=TRUNC(K33),1,"bad"),"bad")="bad",0,1),IF(K$30=$AO$1,IF(AND(IF(IFERROR(K33*1,"bad")="bad",0,1)=1,K33>=0),1,0),IF(K$30=$AQ$1,IF(AND(IF(IFERROR(IF(K33=TRUNC(K33),1,"bad"),"bad")="bad",0,1)=1,K33>=0),1,0),IF(K$30=$AR$1,IF(AND(IF(IFERROR(K33*1,"bad")="bad",0,1)=1,K33>0),1,0),IF(K$30=$AS$1,IF(AND(IF(IFERROR(IF(K33=TRUNC(K33),1,"bad"),"bad")="bad",0,1)=1,K33>0),1,0),IF(K$30=$AT$1,1,IF(K$30=$AU$1,IF(IFERROR(HLOOKUP(K33,$AL$4:$AV$4,1,0),"bad")="bad",0,1),0)))))))))))) -> 1 | AP33: =IF(L$30="",1,IF(L$4=99,1,IF(L33="",0,IF(L$30=$AL$1,IF(ISNA(MATCH(L33,$AI$30:$AJ$30,0)),0,1),IF(L$30=$AM$1,IF(IFERROR(L33*1,"bad")="bad",0,1),IF(L$30=$AN$1,IF(IFERROR(IF(L33=TRUNC(L33),1,"bad"),"bad")="bad",0,1),IF(L$30=$AO$1,IF(AND(IF(IFERROR(L33*1,"bad")="bad",0,1)=1,L33>=0),1,0),IF(L$30=$AQ$1,IF(AND(IF(IFERROR(IF(L33=TRUNC(L33),1,"bad"),"bad")="bad",0,1)=1,L33>=0),1,0),IF(L$30=$AR$1,IF(AND(IF(IFERROR(L33*1,"bad")="bad",0,1)=1,L33>0),1,0),IF(L$30=$AS$1,IF(AND(IF(IFERROR(IF(L33=TRUNC(L33),1,"bad"),"bad")="bad",0,1)=1,L33>0),1,0),IF(L$30=$AT$1,1,IF(L$30=$AU$1,IF(IFERROR(HLOOKUP(L33,$AL$4:$AV$4,1,0),"bad")="bad",0,1),0)))))))))))) -> 1 | AQ33: =IF(M$30="",1,IF(M$4=99,1,IF(M33="",0,IF(M$30=$AL$1,IF(ISNA(MATCH(M33,$AI$30:$AJ$30,0)),0,1),IF(M$30=$AM$1,IF(IFERROR(M33*1,"bad")="bad",0,1),IF(M$30=$AN$1,IF(IFERROR(IF(M33=TRUNC(M33),1,"bad"),"bad")="bad",0,1),IF(M$30=$AO$1,IF(AND(IF(IFERROR(M33*1,"bad")="bad",0,1)=1,M33>=0),1,0),IF(M$30=$AQ$1,IF(AND(IF(IFERROR(IF(M33=TRUNC(M33),1,"bad"),"bad")="bad",0,1)=1,M33>=0),1,0),IF(M$30=$AR$1,IF(AND(IF(IFERROR(M33*1,"bad")="bad",0,1)=1,M33>0),1,0),IF(M$30=$AS$1,IF(AND(IF(IFERROR(IF(M33=TRUNC(M33),1,"bad"),"bad")="bad",0,1)=1,M33>0),1,0),IF(M$30=$AT$1,1,IF(M$30=$AU$1,IF(IFERROR(HLOOKUP(M33,$AL$4:$AV$4,1,0),"bad")="bad",0,1),0)))))))))))) -> 1 | AR33: =IF(N$30="",1,IF(N$4=99,1,IF(N33="",0,IF(N$30=$AL$1,IF(ISNA(MATCH(N33,$AI$30:$AJ$30,0)),0,1),IF(N$30=$AM$1,IF(IFERROR(N33*1,"bad")="bad",0,1),IF(N$30=$AN$1,IF(IFERROR(IF(N33=TRUNC(N33),1,"bad"),"bad")="bad",0,1),IF(N$30=$AO$1,IF(AND(IF(IFERROR(N33*1,"bad")="bad",0,1)=1,N33>=0),1,0),IF(N$30=$AQ$1,IF(AND(IF(IFERROR(IF(N33=TRUNC(N33),1,"bad"),"bad")="bad",0,1)=1,N33>=0),1,0),IF(N$30=$AR$1,IF(AND(IF(IFERROR(N33*1,"bad")="bad",0,1)=1,N33>0),1,0),IF(N$30=$AS$1,IF(AND(IF(IFERROR(IF(N33=TRUNC(N33),1,"bad"),"bad")="bad",0,1)=1,N33>0),1,0),IF(N$30=$AT$1,1,IF(N$30=$AU$1,IF(IFERROR(HLOOKUP(N33,$AL$4:$AV$4,1,0),"bad")="bad",0,1),0)))))))))))) -> 1 | AS33: =IF(P$30="",1,IF(P$4=99,1,IF(P33="",0,IF(P$30=$AL$1,IF(ISNA(MATCH(P33,$AI$30:$AJ$30,0)),0,1),IF(P$30=$AM$1,IF(IFERROR(P33*1,"bad")="bad",0,1),IF(P$30=$AN$1,IF(IFERROR(IF(P33=TRUNC(P33),1,"bad"),"bad")="bad",0,1),IF(P$30=$AO$1,IF(AND(IF(IFERROR(P33*1,"bad")="bad",0,1)=1,P33>=0),1,0),IF(P$30=$AQ$1,IF(AND(IF(IFERROR(IF(P33=TRUNC(P33),1,"bad"),"bad")="bad",0,1)=1,P33>=0),1,0),IF(P$30=$AR$1,IF(AND(IF(IFERROR(P33*1,"bad")="bad",0,1)=1,P33>0),1,0),IF(P$30=$AS$1,IF(AND(IF(IFERROR(IF(P33=TRUNC(P33),1,"bad"),"bad")="bad",0,1)=1,P33>0),1,0),IF(P$30=$AT$1,1,IF(P$30=$AU$1,IF(IFERROR(HLOOKUP(P33,$AL$4:$AV$4,1,0),"bad")="bad",0,1),0)))))))))))) -> 1 | AT33: =IF(Q$30="",1,IF(Q$4=99,1,IF(Q33="",0,IF(Q$30=$AL$1,IF(ISNA(MATCH(Q33,$AI$30:$AJ$30,0)),0,1),IF(Q$30=$AM$1,IF(IFERROR(Q33*1,"bad")="bad",0,1),IF(Q$30=$AN$1,IF(IFERROR(IF(Q33=TRUNC(Q33),1,"bad"),"bad")="bad",0,1),IF(Q$30=$AO$1,IF(AND(IF(IFERROR(Q33*1,"bad")="bad",0,1)=1,Q33>=0),1,0),IF(Q$30=$AQ$1,IF(AND(IF(IFERROR(IF(Q33=TRUNC(Q33),1,"bad"),"bad")="bad",0,1)=1,Q33>=0),1,0),IF(Q$30=$AR$1,IF(AND(IF(IFERROR(Q33*1,"bad")="bad",0,1)=1,Q33>0),1,0),IF(Q$30=$AS$1,IF(AND(IF(IFERROR(IF(Q33=TRUNC(Q33),1,"bad"),"bad")="bad",0,1)=1,Q33>0),1,0),IF(Q$30=$AT$1,1,IF(Q$30=$AU$1,IF(IFERROR(HLOOKUP(Q33,$AL$4:$AV$4,1,0),"bad")="bad",0,1),0)))))))))))) -> 1 | AU33: =IF(R$30="",1,IF(R$4=99,1,IF(R33="",0,IF(R$30=$AL$1,IF(ISNA(MATCH(R33,$AI$30:$AJ$30,0)),0,1),IF(R$30=$AM$1,IF(IFERROR(R33*1,"bad")="bad",0,1),IF(R$30=$AN$1,IF(IFERROR(IF(R33=TRUNC(R33),1,"bad"),"bad")="bad",0,1),IF(R$30=$AO$1,IF(AND(IF(IFERROR(R33*1,"bad")="bad",0,1)=1,R33>=0),1,0),IF(R$30=$AQ$1,IF(AND(IF(IFERROR(IF(R33=TRUNC(R33),1,"bad"),"bad")="bad",0,1)=1,R33>=0),1,0),IF(R$30=$AR$1,IF(AND(IF(IFERROR(R33*1,"bad")="bad",0,1)=1,R33>0),1,0),IF(R$30=$AS$1,IF(AND(IF(IFERROR(IF(R33=TRUNC(R33),1,"bad"),"bad")="bad",0,1)=1,R33>0),1,0),IF(R$30=$AT$1,1,IF(R$30=$AU$1,IF(IFERROR(HLOOKUP(R33,$AL$4:$AV$4,1,0),"bad")="bad",0,1),0)))))))))))) -> 1 | AV33: =IF(S$30="",1,IF(S$4=99,1,IF(S33="",0,IF(S$30=$AL$1,IF(ISNA(MATCH(S33,$AI$30:$AJ$30,0)),0,1),IF(S$30=$AM$1,IF(IFERROR(S33*1,"bad")="bad",0,1),IF(S$30=$AN$1,IF(IFERROR(IF(S33=TRUNC(S33),1,"bad"),"bad")="bad",0,1),IF(S$30=$AO$1,IF(AND(IF(IFERROR(S33*1,"bad")="bad",0,1)=1,S33>=0),1,0),IF(S$30=$AQ$1,IF(AND(IF(IFERROR(IF(S33=TRUNC(S33),1,"bad"),"bad")="bad",0,1)=1,S33>=0),1,0),IF(S$30=$AR$1,IF(AND(IF(IFERROR(S33*1,"bad")="bad",0,1)=1,S33>0),1,0),IF(S$30=$AS$1,IF(AND(IF(IFERROR(IF(S33=TRUNC(S33),1,"bad"),"bad")="bad",0,1)=1,S33>0),1,0),IF(S$30=$AT$1,1,IF(S$30=$AU$1,IF(IFERROR(HLOOKUP(S33,$AL$4:$AV$4,1,0),"bad")="bad",0,1),0)))))))))))) -> 1 | AW33: =IF(T$30="",1,IF(T$4=99,1,IF(T33="",0,IF(T$30=$AL$1,IF(ISNA(MATCH(T33,$AI$30:$AJ$30,0)),0,1),IF(T$30=$AM$1,IF(IFERROR(T33*1,"bad")="bad",0,1),IF(T$30=$AN$1,IF(IFERROR(IF(T33=TRUNC(T33),1,"bad"),"bad")="bad",0,1),IF(T$30=$AO$1,IF(AND(IF(IFERROR(T33*1,"bad")="bad",0,1)=1,T33>=0),1,0),IF(T$30=$AQ$1,IF(AND(IF(IFERROR(IF(T33=TRUNC(T33),1,"bad"),"bad")="bad",0,1)=1,T33>=0),1,0),IF(T$30=$AR$1,IF(AND(IF(IFERROR(T33*1,"bad")="bad",0,1)=1,T33>0),1,0),IF(T$30=$AS$1,IF(AND(IF(IFERROR(IF(T33=TRUNC(T33),1,"bad"),"bad")="bad",0,1)=1,T33>0),1,0),IF(T$30=$AT$1,1,IF(T$30=$AU$1,IF(IFERROR(HLOOKUP(T33,$AL$4:$AV$4,1,0),"bad")="bad",0,1),0)))))))))))) -> 1 | AX33: =IF(U$30="",1,IF(U$4=99,1,IF(U33="",0,IF(U$30=$AL$1,IF(ISNA(MATCH(U33,$AI$30:$AJ$30,0)),0,1),IF(U$30=$AM$1,IF(IFERROR(U33*1,"bad")="bad",0,1),IF(U$30=$AN$1,IF(IFERROR(IF(U33=TRUNC(U33),1,"bad"),"bad")="bad",0,1),IF(U$30=$AO$1,IF(AND(IF(IFERROR(U33*1,"bad")="bad",0,1)=1,U33>=0),1,0),IF(U$30=$AQ$1,IF(AND(IF(IFERROR(IF(U33=TRUNC(U33),1,"bad"),"bad")="bad",0,1)=1,U33>=0),1,0),IF(U$30=$AR$1,IF(AND(IF(IFERROR(U33*1,"bad")="bad",0,1)=1,U33>0),1,0),IF(U$30=$AS$1,IF(AND(IF(IFERROR(IF(U33=TRUNC(U33),1,"bad"),"bad")="bad",0,1)=1,U33>0),1,0),IF(U$30=$AT$1,1,IF(U$30=$AU$1,IF(IFERROR(HLOOKUP(U33,$AL$4:$AV$4,1,0),"bad")="bad",0,1),0)))))))))))) -> 1 | AY33: =IF(V$30="",1,IF(V$4=99,1,IF(V33="",0,IF(V$30=$AL$1,IF(ISNA(MATCH(V33,$AI$30:$AJ$30,0)),0,1),IF(V$30=$AM$1,IF(IFERROR(V33*1,"bad")="bad",0,1),IF(V$30=$AN$1,IF(IFERROR(IF(V33=TRUNC(V33),1,"bad"),"bad")="bad",0,1),IF(V$30=$AO$1,IF(AND(IF(IFERROR(V33*1,"bad")="bad",0,1)=1,V33>=0),1,0),IF(V$30=$AQ$1,IF(AND(IF(IFERROR(IF(V33=TRUNC(V33),1,"bad"),"bad")="bad",0,1)=1,V33>=0),1,0),IF(V$30=$AR$1,IF(AND(IF(IFERROR(V33*1,"bad")="bad",0,1)=1,V33>0),1,0),IF(V$30=$AS$1,IF(AND(IF(IFERROR(IF(V33=TRUNC(V33),1,"bad"),"bad")="bad",0,1)=1,V33>0),1,0),IF(V$30=$AT$1,1,IF(V$30=$AU$1,IF(IFERROR(HLOOKUP(V33,$AL$4:$AV$4,1,0),"bad")="bad",0,1),0)))))))))))) -> 1 | AZ33: =IF(W$30="",1,IF(W$4=99,1,IF(W33="",0,IF(W$30=$AL$1,IF(ISNA(MATCH(W33,$AI$30:$AJ$30,0)),0,1),IF(W$30=$AM$1,IF(IFERROR(W33*1,"bad")="bad",0,1),IF(W$30=$AN$1,IF(IFERROR(IF(W33=TRUNC(W33),1,"bad"),"bad")="bad",0,1),IF(W$30=$AO$1,IF(AND(IF(IFERROR(W33*1,"bad")="bad",0,1)=1,W33>=0),1,0),IF(W$30=$AQ$1,IF(AND(IF(IFERROR(IF(W33=TRUNC(W33),1,"bad"),"bad")="bad",0,1)=1,W33>=0),1,0),IF(W$30=$AR$1,IF(AND(IF(IFERROR(W33*1,"bad")="bad",0,1)=1,W33>0),1,0),IF(W$30=$AS$1,IF(AND(IF(IFERROR(IF(W33=TRUNC(W33),1,"bad"),"bad")="bad",0,1)=1,W33>0),1,0),IF(W$30=$AT$1,1,IF(W$30=$AU$1,IF(IFERROR(HLOOKUP(W33,$AL$4:$AV$4,1,0),"bad")="bad",0,1),0)))))))))))) -> 1 | ... BJ33: =IF(AG$30="",1,IF(AG$4=99,1,IF(AG33="",0,IF(AG$30=$AL$1,IF(ISNA(MATCH(AG33,$AI$30:$AJ$30,0)),0,1),IF(AG$30=$AM$1,IF(IFERROR(AG33*1,"bad")="bad",0,1),IF(AG$30=$AN$1,IF(IFERROR(IF(AG33=TRUNC(AG33),1,"bad"),"bad")="bad",0,1),IF(AG$30=$AO$1,IF(AND(IF(IFERROR(AG33*1,"bad")="bad",0,1)=1,AG33>=0),1,0),IF(AG$30=$AQ$1,IF(AND(IF(IFERROR(IF(AG33=TRUNC(AG33),1,"bad"),"bad")="bad",0,1)=1,AG33>=0),1,0),IF(AG$30=$AR$1,IF(AND(IF(IFERROR(AG33*1,"bad")="bad",0,1)=1,AG33>0),1,0),IF(AG$30=$AS$1,IF(AND(IF(IFERROR(IF(AG33=TRUNC(AG33),1,"bad"),"bad")="bad",0,1)=1,AG33>0),1,0),IF(AG$30=$AT$1,1,IF(AG$30=$AU$1,IF(IFERROR(HLOOKUP(AG33,$AL$4:$AV$4,1,0),"bad")="bad",0,1),0)))))))))))) -> 0 | BM33: =IF($F33="","",BM$30) -> 1 | BN33: =IF($F33="","",BN$30) -> 2 | BO33: =IF($F33="","",BO$30) -> 3 | BP33: =IF($F33="","",BP$30) -> 4 | BQ33: =IF($F33="","",BQ$30) -> 5 | BR33: =IF($F33="","",BR$30) -> 6 | BS33: =IF($F33="","",BS$30) -> 7 | BT33: =IF($F33="","",BT$30) -> 8 | ... BV33: =IF($F33="","",BV$30) -> 10
