Workbook

Sheet ProtectSettings
B1: 0.14252871
B2: 45509.399
A6: AllowFilterCheckBox
A7: AllowFormattingCheckBox
A8: AllowColumnFormattingCheckBox | B8: TRUE
A9: AllowRowFormattingCheckBox | B9: TRUE

Sheet הדרכה למשתמש
B2: הדרכה למשתמש
B4: תאריך בניית המודל | C4: 43615
B5: תאריך עדכון מודל
B7: הערות חשובות: בעת עריכת המודל - חל איסור מוחלט לבצע גזירה והדבקה או העברה של תא ממקום למקום על ידי גרירה. אסור לבצע "הוספה" או "מחיקה" של שורות או עמודות יש לפתוח את המודל בגרסת אקסל 2010 לפחות. חל איסור לשמור את הקובץ בפורמט התואם אקסל 97-2003
B9: הוראת שעה/מעבר: 2019-2020
B11: הדרכה להזנת נתונים
B12: צבע התא | C12: מטרת התא | D12: דגש
B13: צהוב | C13: הזנת נתונים | D13: נדרש להזין מידע בהתאם להנחיות מבחן התמיכה, אי הזנה של תא יכולה להביא לידי שגיאה בתוצאות במודל. במקומות שבהם מזינים 0/1, אז המשמעות של 0 הוא "לא" ו-1 "כן"
B14: חום | C14: הצגת מידע | D14: תא שאיננו מיועד להזנה. תא זה מציג מידע עפ"י נוסחה קבועה ואין לשנות אותה.
B15: אדום | C15: התראת שגיאה | D15: קיימת שגיאה בהזנת נתונים באחד מהתאים המיועדים להזנה, נדרש להזין את הנתונים הנדרשים לפני קביעת גובה תמיכה סופי.
B17: את רשימת המוסדות יש להזין בגיליונות השמאליים של הקובץ הממוספרים מ1 עד 10 במקום שם הגיליון , גיליון שממוספר מ1-10 ואינו נמצא בשימוש אין לשנות את שם הגיליון הקיים כברירת מחדל (מספר סידורי). במידה והוחלט לא להשתמש בגיליון לאחר כתיבת השם, נדרש לשנות חזרה את שם הגיליון למספר סידורי
B33: ניהול גרסאות
B34: מספר גרסה | C34: תאריך עדכון גרסה | D34: תאריך גרסה של מבחן תמיכה | E34: התאמות נוספות של מבחן תמיכה

Sheet פרמטרים לקריטריונים
B2: מודל קידום יצירה ישראלית
B4: שנת תקציב | C4: 2025
B5: תקציב התמיכה | C5: 1538184
B9: הגדרות
B10: הגדרת שנה | C10: תאריך התחלה | D10: תאריך סיום
B11: שנת התמיכה/תקציב | C11: =DATE($C$4,1,1) -> 45658 | D11: =DATE($C$4,12,31) -> 46022
B12: שנת ההערכה | C12: =DATE($C$4-3,10,1) -> 44835 | D12: =DATE($C$4-2,9,30) -> 45199
B13: שנת התקציב המבוקר | C13: =DATE($C$4-3,1,1) -> 44562 | D13: =DATE($C$4-3,12,31) -> 44926
B14: שנה תקציבית קודמת | C14: =DATE($C$4-1,1,1) -> 45292 | D14: =DATE($C$4-1,12,31) -> 45657
B24: סיווג | I24: מקדם
B25: סיווג | C25: תקציב גבוהה מ: | D25: הרצות
B30: משקולות קריטריונים
B31: סעיף | C31: משקל
B32: מספר פרסומים | C32: 0.35
B33: תקציב | C33: 0.2
B35: מספר אירועים | C35: 0.2
B37: מלחינים בראשית דרכם | C37: 0.15
B38: עובדים מקצועיים | C38: 0.1
D40: 0
D41: 0
D42: 0
D43: 0
D44: 0
D45: 0
B58: סה"כ | C58: =SUM(C32:C57) -> 1
B60: ="פרמטרים לחישוב ניקוד משתנה "&$B$32 -> פרמטרים לחישוב ניקוד משתנה מספר פרסומים
B61: סעיף | C61: ניקוד
B62: בעד כל פרסום שהוציא לאור בשנת ההערכה | C62: 1
B80: ="פרמטרים לחישוב ניקוד משתנה "&$B$33 -> פרמטרים לחישוב ניקוד משתנה תקציב
B81: סעיף | C81: ניקוד
B82: בעד כל שקל חדש בתקציב | C82: 1
B100: ="פרמטרים לחישוב ניקוד משתנה "&$B$34 -> פרמטרים לחישוב ניקוד משתנה
B120: ="פרמטרים לחישוב ניקוד משתנה "&$B$35 -> פרמטרים לחישוב ניקוד משתנה מספר אירועים
B121: סעיף | C121: ניקוד
B122: מספר משתתפים מינימלי | C122: 50
B123: מספר דקות מינימלי | C123: 50
B124: מספר דקות מינימלי לאירועי ילדים | C124: 35 | D124: השתנה בהתאם למבחן
B125: ניקוד לאירוע | C125: 1
B140: ="פרמטרים לחישוב ניקוד משתנה "&$B$36 -> פרמטרים לחישוב ניקוד משתנה
B141: מקום פעילות המרכזי | C141: ניקוד
...

Sheet הוראת שעה
A4: האם חלה הוראת השעה בשנה הספציפית
A5: שנה | C5: הגנה הוראת שעה | D5: מינימום תמיכה | E5: שיעור הקלה | F5: תנאי סף חומר ארכיוני
A6: 2019 | C6: 0.85 | D6: 20000 | E6: 0.7 | F6: 0
A7: =A6+1 -> 2020 | C7: 0 | D7: 25000 | E7: 0.7 | F7: 0
A8: =A7+1 -> 2021 | C8: 0 | D8: 25000 | E8: 0.8 | F8: 0
A9: =A8+1 -> 2022 | C9: 0 | D9: 25000 | E9: 0.8 | F9: 1
A10: =A9+1 -> 2023 | C10: 0 | D10: 25000 | E10: 0.8 | F10: 1
A11: =A10+1 -> 2024 | C11: 0 | D11: 25000 | E11: 0.8 | F11: 1
A12: =A11+1 -> 2025 | C12: 0 | D12: 25000 | E12: 0.8 | F12: 1
A13: =A12+1 -> 2026 | C13: 0 | D13: 25000 | E13: 0.8 | F13: 1
A14: =A13+1 -> 2027 | C14: 0 | D14: 25000 | E14: 0.8 | F14: 1
A15: =A14+1 -> 2028 | C15: 0 | D15: 25000 | E15: 0.8 | F15: 1
A16: =A15+1 -> 2029 | C16: 0 | D16: 25000 | E16: 0.8 | F16: 1
A17: =A16+1 -> 2030 | C17: 0 | D17: 25000 | E17: 0.8 | F17: 1
A18: =A17+1 -> 2031 | C18: 0 | D18: 25000 | E18: 0.8 | F18: 1
... A20: =A19+1 -> 2033 | C20: 0 | D20: 25000 | E20: 0.8 | F20: 1

Sheet תנאי סף
B1: =MID(CELL("filename",AS2),FIND("]",CELL("filename",AS2),1)+1,99) -> תנאי סף | AR1: בדוק נתוני הזנה | AT1: סוגי בקרות | AU1: 0/1 | AV1: מספר | AW1: מספר שלם | AX1: מספר שאינו שלילי | AY1: מספר שלם שאינו שלילי | AZ1: מספר חיובי | BA1: מספר שלם חיובי | BB1: טקסט | BC1: טקסט מרשימה סגורה
AO2: ='פרמטרים לקריטריונים'!$B$4 -> שנת תקציב | AP2: ='פרמטרים לקריטריונים'!$C$4 -> 2025 | AU2: =IF(ISNA(MATCH(G31,$AR$30:$AS$30,0)),0,1) -> 1 | AV2: =IF(IFERROR(G31*1,"bad")="bad",0,1) -> 1 | AW2: =IF(IFERROR(IF(G31=TRUNC(G31),1,"bad"),"bad")="bad",0,1) -> 1 | AX2: =IF(AND(IF(IFERROR(G31*1,"bad")="bad",0,1)=1,G31>=0),1,0) -> 1 | AY2: =IF(AND(IF(IFERROR(IF(G31=TRUNC(G31),1,"bad"),"bad")="bad",0,1)=1,G31>=0),1,0) -> 1 | AZ2: =IF(AND(IF(IFERROR(G31*1,"bad")="bad",0,1)=1,G31>0),1,0) -> 1 | BA2: =IF(AND(IF(IFERROR(IF(G31=TRUNC(G31),1,"bad"),"bad")="bad",0,1)=1,G31>0),1,0) -> 1 | BB2: 1 | BC2: =IF(IFERROR(HLOOKUP(G31,$CF$30:$CP$30,1,0),"bad")="bad",0,1) -> 0
AO3: ='פרמטרים לקריטריונים'!$B$5 -> תקציב התמיכה | AP3: ='פרמטרים לקריטריונים'!$C$5 -> 1538184 | AT3: מספר בקרה | AU3: 1 | AV3: 2 | AW3: 3 | AX3: 4 | AY3: 5 | AZ3: 6 | BA3: 7 | BB3: 8 | BC3: 9
F4: רלוונטי למבחן עמידה בתנאי סף? 1=רלוונטי. 0= לא רלוונטי אבל נדרשת בקרה על הזנת נתונים. 99= לא רלוונטי ולא נדרשת בקה על הזנת נתונים | G4: 1 | H4: 1 | I4: 1 | J4: 1 | K4: 1 | L4: 1 | M4: 1 | N4: 0 | O4: 0 | P4: 0 | Q4: 1 | T4: 1 | U4: 1 | V4: 1 | W4: 1 | X4: 99 | Y4: 99 | AD4: 0 | AE4: 1 | AF4: =INDEX('הוראת שעה'!$F$6:$F$20,MATCH($AP$2,'הוראת שעה'!$A$6:$A$20,1)) -> 1 | AG4: 1 | AH4: 1 | AI4: 1 | AJ4: 1 | AK4: 99 | AT4: רשימה סגורה | AU4: 1 | AV4: 2 | AW4: 3 | AX4: 4 | AY4: 5 | AZ4: 6 | BA4: 7 | BB4: 8 | BC4: 9 | BD4: 10 | CS4: שיעור הקלה | CT4: =INDEX('הוראת שעה'!$E$6:$E$20,MATCH($AP$2,'הוראת שעה'!$A$6:$A$20,1)) -> 0.8
F5: מעבר תנאי סף- במידה ולא רלוונטי להשאיר ריק | G5: 1 | H5: 1 | I5: 1 | J5: 1 | K5: 1 | L5: 1 | M5: 1 | N5: 8 | O5: 50 | P5: 50 | Q5: 15 | T5: 1 | U5: 1 | V5: 1 | W5: 1 | AD5: 108777 | AE5: 1 | AF5: 1 | AG5: 1 | AH5: 1 | AI5: 1 | AJ5: 1 | CL5: מספר תנאים | CM5: =COUNTA(CL7:CR7) -> 5 | CS5: הקלות מותרות | CT5: 2
CS6: נדרש לפי הקלה
CL7: =N5 -> 8 | CM7: =O5 -> 50 | CN7: =P5 -> 50 | CO7: =Q5 -> 15 | CQ7: =AD5 -> 108777 | CS7: =ROUNDUP(CL7*$CT$4,0) -> 7 | CT7: =ROUNDUP(CM7*$CT$4,0) -> 40 | CU7: =ROUNDUP(CN7*$CT$4,0) -> 40 | CV7: =ROUNDUP(CO7*$CT$4,0) -> 12 | CX7: =ROUNDUP(CQ7*$CT$4,0) -> 87022
AQ28: =IF(SUM(AQ31:AQ130)=COUNT(AQ31:AQ130),1,0) -> 0 | AT28: =MATCH(G$30,$AU$1:$BC$1,0) -> 1 | AU28: =MATCH(H$30,$AU$1:$BC$1,0) -> 1 | AV28: =MATCH(I$30,$AU$1:$BC$1,0) -> 1 | AW28: =MATCH(J$30,$AU$1:$BC$1,0) -> 1 | AX28: =MATCH(K$30,$AU$1:$BC$1,0) -> 1 | AY28: =MATCH(L$30,$AU$1:$BC$1,0) -> 1 | AZ28: =MATCH(M$30,$AU$1:$BC$1,0) -> 1 | BA28: =MATCH(N$30,$AU$1:$BC$1,0) -> #N/A | ... BU28: =MATCH(AH$30,$AU$1:$BC$1,0) -> 1 | BV28: =MATCH(AJ$30,$AU$1:$BC$1,0) -> 1 | BW28: =MATCH(AK$30,$AU$1:$BC$1,0) -> #N/A | BX28: =MATCH(AL$30,$AU$1:$BC$1,0) -> #N/A | BY28: =MATCH(AM$30,$AU$1:$BC$1,0) -> #N/A | BZ28: =MATCH(AN$30,$AU$1:$BC$1,0) -> #N/A | CA28: =MATCH(AO$30,$AU$1:$BC$1,0) -> #N/A
A29: 100 | B29: מס"ד | C29: =COLUMN() -> 3 | D29: =COLUMN() -> 4 | E29: =COLUMN() -> 5 | F29: שם המוסד | G29: מקיים פעילות מוסקלית מקצועית במשך שנתיים | H29: התקציב מנוהל כמשק סגור ובאופן ישיר | I29: מטרות המוסד עולים בקנה אחד עם מטרות התמיכה | J29: עומד בדרישות הנוהל | K29: המוסד מציין בפרסומיו את תמיכת המשרד | L29: ="ותק של שנתיים לפחות בתחום נכון ל-1/1/"&AP2 -> ותק של שנתיים לפחות בתחום נכון ל-1/1/2025 | M29: עיקר פעילותו סיוע ליצירה ישראלית מקורית וקידום מלחינים | N29: מספר אירועים לקידום מלחינים ישראליים | O29: מספר צופים מינימלי לאירועים | P29: אורך מינימלי של אירוע (דקות) | Q29: מספר פרסומים שהוציא לאור | T29: אינו חלק ממוסד מוכר להשכלה גבוהה או מבית ספר לאמנות המקבל תמיכה ממינהל התרבות | U29: מעסיק בשכר מנהל אמנותי בחצי משרה לפחות | V29: מעסיק עורך ומנהל ארכיון קבועים | W29: מפעיל אתר אינטרנט כנדרש | X29: הוועדה המליצה קבלת הקלות | Y29: המוסד לא קיבל הקלה בשנה קודמת | AD29: תקציב השנתי של הפעילות הנתמכת | AE29: עומד בתנאים לאור הקלות | AF29: שומר על חומר ארכיוני כנדרש | AG29: למוסד תקנון מפורט כנדרש | AH29: התנאים צפוים להתקיים בשנת התמיכה על פי תכנית עבודה | AI29: במוסד בו מועסקים עובדים ביחסי עבודה, המוסד קבע תקנון למניעת הטרדה מינית ועומד בדרישות תקנה 8 לתקנות חובות מעסיק. המוסד צירף לבקשתו את התקנון ופרטים על ההתאמות בתקנון, פרסומו למסירתו. (במוסד בו אין מתכונת יחסי עבודה - יש לסמן 1 עבור תנאי זה) | AJ29: עומד בתנאי סף כלליים אחרים | AK29: מעבר תנאי סף-אישור מיוחד | AL29: ריק | AM29: ריק | AN29: ריק | AO29: מעבר תנאי סף | AP29: הערות | AQ29: בקרה ראשית | AT29: ="בקרת "&G29 -> בקרת מקיים פעילות מוסקלית מקצועית במשך שנתיים | AU29: ="בקרת "&H29 -> בקרת התקציב מנוהל כמשק סגור ובאופן ישיר | AV29: ="בקרת "&I29 -> בקרת מטרות המוסד עולים בקנה אחד עם מטרות התמיכה | AW29: ="בקרת "&J29 -> בקרת עומד בדרישות הנוהל | AX29: ="בקרת "&K29 -> בקרת המוסד מציין בפרסומיו את תמיכת המשרד | AY29: ="בקרת "&L29 -> בקרת ותק של שנתיים לפחות בתחום נכון ל-1/1/2025 | AZ29: ="בקרת "&M29 -> בקרת עיקר פעילותו סיוע ליצירה ישראלית מקורית וקידום מלחינים | BA29: ="בקרת "&N29 -> בקרת מספר אירועים לקידום מלחינים ישראליים | ... BU29: ="בקרת "&AH29 -> בקרת התנאים צפוים להתקיים בשנת התמיכה על פי תכנית עבודה | BV29: ="בקרת "&AJ29 -> בקרת עומד בתנאי סף כלליים אחרים | BW29: ="בקרת "&AK29 -> בקרת מעבר תנאי סף-אישור מיוחד | BX29: ="בקרת "&AL29 -> בקרת ריק | BY29: ="בקרת "&AM29 -> בקרת ריק | BZ29: ="בקרת "&AN29 -> בקרת ריק | CA29: ="בקרת "&AO29 -> בקרת מעבר תנאי סף | CF29: רשימה סגורה | CL29: קריטריון הקלה 1 | CM29: קריטריון הקלה 2 | CN29: קריטריון הקלה 3 | CO29: קריטריון הקלה 4 | CP29: קריטריון הקלה 5 | CQ29: קריטריון הקלה 6 | CR29: תנאי ללא הקלה | CS29: קריטריון הקלה 1 | CT29: קריטריון הקלה 2 | CU29: קריטריון הקלה 3 | CV29: קריטריון הקלה 4 | CW29: קריטריון הקלה 5 | CX29: קריטריון הקלה 6 | CY29: תנאים עם הקלה | CZ29: עומד בתנאים ללא הקלות | DA29: עומד בתנאים להקלות
G30: 0/1 | H30: 0/1 | I30: 0/1 | J30: 0/1 | K30: 0/1 | L30: 0/1 | M30: 0/1 | Q30: מספר שלם שאינו שלילי | T30: 0/1 | U30: 0/1 | V30: 0/1 | W30: 0/1 | X30: 0/1 | Y30: 0/1 | AD30: מספר שאינו שלילי | AF30: 0/1 | AG30: 0/1 | AH30: 0/1 | AI30: 0/1 | AJ30: 0/1 | AP30: טקסט | AR30: 0 | AS30: 1 | AT30: =G30 -> 0/1 | AU30: =H30 -> 0/1 | AV30: =I30 -> 0/1 | AW30: =J30 -> 0/1 | AX30: =K30 -> 0/1 | AY30: =L30 -> 0/1 | AZ30: =M30 -> 0/1 | BA30: =N30 -> 0 | ... BU30: =AH30 -> 0/1 | BV30: =AJ30 -> 0/1 | BW30: =AK30 -> 0 | BX30: =AL30 -> 0 | BY30: =AM30 -> 0 | BZ30: =AN30 -> 0 | CA30: =AO30 -> 0
B31: =IF(F31="","",ROW()-30) -> 1 | F31: =IF('איגוד הקומפוזיטורים'!$F$1="1","",'איגוד הקומפוזיטורים'!$F$1) -> איגוד הקומפוזיטורים | G31: 1 | H31: 1 | I31: 1 | J31: 1 | K31: 1 | L31: 1 | M31: 1 | N31: =IF($F31="","",'ריכוז גיליונות עזר'!H31) -> 10 | O31: =IF($F31="","",'ריכוז גיליונות עזר'!K31) -> 60 | P31: =IF($F31="","",'ריכוז גיליונות עזר'!L31) -> 50 | Q31: 31 | T31: 1 | U31: 1 | V31: 1 | W31: 1 | X31: 0 | Y31: 0 | AD31: 205028 | AE31: =IF($F31="","",IF(OR(CZ31=1,AND(X31=1,Y31=1,DA31=1)),1,0)) -> 1 | AF31: 1 | AG31: 1 | AH31: 1 | AI31: 1 | AJ31: 1 | AO31: =IF($F31="","",IF(AK31=1,1,IF(AQ31<>1,$AR$1,IF(SUMPRODUCT(--(G31:AJ31>=$G$5:$AJ$5)*($G$5:$AJ$5<>"")*($G$4:$AJ$4=1))=COUNTIF($G$4:$AJ$4,1),1,0)))) -> 1 | AQ31: =IF(OR(SUM(AT31:CA31)<>COUNT(AT31:CA31),SUMPRODUCT(--(G31:AJ31=$AR$1))<>0),0,1) -> 1 | AR31: =IF($F31="","",AR$30) -> 0 | AS31: =IF($F31="","",AS$30) -> 1 | AT31: =IF(OR(G$30="",G$4=99),1,IF(G31="",0,IFERROR(CHOOSE(AT$28,IF(ISNA(MATCH(G31,$AR$30:$AS$30,0)),0,1),IF(ISNUMBER(G31),1,0),IF(G31=TRUNC(G31),1,0),IF(AND(G31*1=G31,G31>=0),1,0),IF(AND(G31=TRUNC(G31),G31>=0),1,0),IF(AND(G31*1=G31,G31>0),1,0),IF(AND(G31=TRUNC(G31),G31>0),1,0),1,IF(ISNA(HLOOKUP(G31,$AU$4:$BD$4,1,0)),0,1)),0))) -> 1 | AU31: =IF(OR(H$30="",H$4=99),1,IF(H31="",0,IFERROR(CHOOSE(AU$28,IF(ISNA(MATCH(H31,$AR$30:$AS$30,0)),0,1),IF(ISNUMBER(H31),1,0),IF(H31=TRUNC(H31),1,0),IF(AND(H31*1=H31,H31>=0),1,0),IF(AND(H31=TRUNC(H31),H31>=0),1,0),IF(AND(H31*1=H31,H31>0),1,0),IF(AND(H31=TRUNC(H31),H31>0),1,0),1,IF(ISNA(HLOOKUP(H31,$AU$4:$BD$4,1,0)),0,1)),0))) -> 1 | AV31: =IF(OR(I$30="",I$4=99),1,IF(I31="",0,IFERROR(CHOOSE(AV$28,IF(ISNA(MATCH(I31,$AR$30:$AS$30,0)),0,1),IF(ISNUMBER(I31),1,0),IF(I31=TRUNC(I31),1,0),IF(AND(I31*1=I31,I31>=0),1,0),IF(AND(I31=TRUNC(I31),I31>=0),1,0),IF(AND(I31*1=I31,I31>0),1,0),IF(AND(I31=TRUNC(I31),I31>0),1,0),1,IF(ISNA(HLOOKUP(I31,$AU$4:$BD$4,1,0)),0,1)),0))) -> 1 | AW31: =IF(OR(J$30="",J$4=99),1,IF(J31="",0,IFERROR(CHOOSE(AW$28,IF(ISNA(MATCH(J31,$AR$30:$AS$30,0)),0,1),IF(ISNUMBER(J31),1,0),IF(J31=TRUNC(J31),1,0),IF(AND(J31*1=J31,J31>=0),1,0),IF(AND(J31=TRUNC(J31),J31>=0),1,0),IF(AND(J31*1=J31,J31>0),1,0),IF(AND(J31=TRUNC(J31),J31>0),1,0),1,IF(ISNA(HLOOKUP(J31,$AU$4:$BD$4,1,0)),0,1)),0))) -> 1 | AX31: =IF(OR(K$30="",K$4=99),1,IF(K31="",0,IFERROR(CHOOSE(AX$28,IF(ISNA(MATCH(K31,$AR$30:$AS$30,0)),0,1),IF(ISNUMBER(K31),1,0),IF(K31=TRUNC(K31),1,0),IF(AND(K31*1=K31,K31>=0),1,0),IF(AND(K31=TRUNC(K31),K31>=0),1,0),IF(AND(K31*1=K31,K31>0),1,0),IF(AND(K31=TRUNC(K31),K31>0),1,0),1,IF(ISNA(HLOOKUP(K31,$AU$4:$BD$4,1,0)),0,1)),0))) -> 1 | AY31: =IF(OR(L$30="",L$4=99),1,IF(L31="",0,IFERROR(CHOOSE(AY$28,IF(ISNA(MATCH(L31,$AR$30:$AS$30,0)),0,1),IF(ISNUMBER(L31),1,0),IF(L31=TRUNC(L31),1,0),IF(AND(L31*1=L31,L31>=0),1,0),IF(AND(L31=TRUNC(L31),L31>=0),1,0),IF(AND(L31*1=L31,L31>0),1,0),IF(AND(L31=TRUNC(L31),L31>0),1,0),1,IF(ISNA(HLOOKUP(L31,$AU$4:$BD$4,1,0)),0,1)),0))) -> 1 | AZ31: =IF(OR(M$30="",M$4=99),1,IF(M31="",0,IFERROR(CHOOSE(AZ$28,IF(ISNA(MATCH(M31,$AR$30:$AS$30,0)),0,1),IF(ISNUMBER(M31),1,0),IF(M31=TRUNC(M31),1,0),IF(AND(M31*1=M31,M31>=0),1,0),IF(AND(M31=TRUNC(M31),M31>=0),1,0),IF(AND(M31*1=M31,M31>0),1,0),IF(AND(M31=TRUNC(M31),M31>0),1,0),1,IF(ISNA(HLOOKUP(M31,$AU$4:$BD$4,1,0)),0,1)),0))) -> 1 | BA31: =IF(OR(N$30="",N$4=99),1,IF(N31="",0,IFERROR(CHOOSE(BA$28,IF(ISNA(MATCH(N31,$AR$30:$AS$30,0)),0,1),IF(ISNUMBER(N31),1,0),IF(N31=TRUNC(N31),1,0),IF(AND(N31*1=N31,N31>=0),1,0),IF(AND(N31=TRUNC(N31),N31>=0),1,0),IF(AND(N31*1=N31,N31>0),1,0),IF(AND(N31=TRUNC(N31),N31>0),1,0),1,IF(ISNA(HLOOKUP(N31,$AU$4:$BD$4,1,0)),0,1)),0))) -> 1 | ... BH31: =IF(OR(U$30="",U$4=99),1,IF(U31="",0,IFERROR(CHOOSE(BH$28,IF(ISNA(MATCH(U31,$AR$30:$AS$30,0)),0,1),IF(ISNUMBER(U31),1,0),IF(U31=TRUNC(U31),1,0),IF(AND(U31*1=U31,U31>=0),1,0),IF(AND(U31=TRUNC(U31),U31>=0),1,0),IF(AND(U31*1=U31,U31>0),1,0),IF(AND(U31=TRUNC(U31),U31>0),1,0),1,IF(ISNA(HLOOKUP(U31,$AU$4:$BD$4,1,0)),0,1)),0))) -> 1 | BI31: =IF(OR(V$30="",W$4=99),1,IF(V31="",0,IFERROR(CHOOSE(BI$28,IF(ISNA(MATCH(V31,$AR$30:$AS$30,0)),0,1),IF(ISNUMBER(V31),1,0),IF(V31=TRUNC(V31),1,0),IF(AND(V31*1=V31,V31>=0),1,0),IF(AND(V31=TRUNC(V31),V31>=0),1,0),IF(AND(V31*1=V31,V31>0),1,0),IF(AND(V31=TRUNC(V31),V31>0),1,0),1,IF(ISNA(HLOOKUP(V31,$AU$4:$BD$4,1,0)),0,1)),0))) -> 1 | BJ31: =IF(OR(W$30="",X$4=99),1,IF(W31="",0,IFERROR(CHOOSE(BJ$28,IF(ISNA(MATCH(W31,$AR$30:$AS$30,0)),0,1),IF(ISNUMBER(W31),1,0),IF(W31=TRUNC(W31),1,0),IF(AND(W31*1=W31,W31>=0),1,0),IF(AND(W31=TRUNC(W31),W31>=0),1,0),IF(AND(W31*1=W31,W31>0),1,0),IF(AND(W31=TRUNC(W31),W31>0),1,0),1,IF(ISNA(HLOOKUP(W31,$AU$4:$BD$4,1,0)),0,1)),0))) -> 1 | BK31: =IF(OR(X$30="",X$4=99),1,IF(X31="",0,IFERROR(CHOOSE(BK$28,IF(ISNA(MATCH(X31,$AR$30:$AS$30,0)),0,1),IF(ISNUMBER(X31),1,0),IF(X31=TRUNC(X31),1,0),IF(AND(X31*1=X31,X31>=0),1,0),IF(AND(X31=TRUNC(X31),X31>=0),1,0),IF(AND(X31*1=X31,X31>0),1,0),IF(AND(X31=TRUNC(X31),X31>0),1,0),1,IF(ISNA(HLOOKUP(X31,$AU$4:$BD$4,1,0)),0,1)),0))) -> 1 | BL31: =IF(OR(Y$30="",Y$4=99),1,IF(Y31="",0,IFERROR(CHOOSE(BL$28,IF(ISNA(MATCH(Y31,$AR$30:$AS$30,0)),0,1),IF(ISNUMBER(Y31),1,0),IF(Y31=TRUNC(Y31),1,0),IF(AND(Y31*1=Y31,Y31>=0),1,0),IF(AND(Y31=TRUNC(Y31),Y31>=0),1,0),IF(AND(Y31*1=Y31,Y31>0),1,0),IF(AND(Y31=TRUNC(Y31),Y31>0),1,0),1,IF(ISNA(HLOOKUP(Y31,$AU$4:$BD$4,1,0)),0,1)),0))) -> 1 | BM31: =IF(OR(Z$30="",Z$4=99),1,IF(Z31="",0,IFERROR(CHOOSE(BM$28,IF(ISNA(MATCH(Z31,$AR$30:$AS$30,0)),0,1),IF(ISNUMBER(Z31),1,0),IF(Z31=TRUNC(Z31),1,0),IF(AND(Z31*1=Z31,Z31>=0),1,0),IF(AND(Z31=TRUNC(Z31),Z31>=0),1,0),IF(AND(Z31*1=Z31,Z31>0),1,0),IF(AND(Z31=TRUNC(Z31),Z31>0),1,0),1,IF(ISNA(HLOOKUP(Z31,$AU$4:$BD$4,1,0)),0,1)),0))) -> 1 | BN31: =IF(OR(AA$30="",AA$4=99),1,IF(AA31="",0,IFERROR(CHOOSE(BN$28,IF(ISNA(MATCH(AA31,$AR$30:$AS$30,0)),0,1),IF(ISNUMBER(AA31),1,0),IF(AA31=TRUNC(AA31),1,0),IF(AND(AA31*1=AA31,AA31>=0),1,0),IF(AND(AA31=TRUNC(AA31),AA31>=0),1,0),IF(AND(AA31*1=AA31,AA31>0),1,0),IF(AND(AA31=TRUNC(AA31),AA31>0),1,0),1,IF(ISNA(HLOOKUP(AA31,$AU$4:$BD$4,1,0)),0,1)),0))) -> 1 | BO31: =IF(OR(AB$30="",AB$4=99),1,IF(AB31="",0,IFERROR(CHOOSE(BO$28,IF(ISNA(MATCH(AB31,$AR$30:$AS$30,0)),0,1),IF(ISNUMBER(AB31),1,0),IF(AB31=TRUNC(AB31),1,0),IF(AND(AB31*1=AB31,AB31>=0),1,0),IF(AND(AB31=TRUNC(AB31),AB31>=0),1,0),IF(AND(AB31*1=AB31,AB31>0),1,0),IF(AND(AB31=TRUNC(AB31),AB31>0),1,0),1,IF(ISNA(HLOOKUP(AB31,$AU$4:$BD$4,1,0)),0,1)),0))) -> 1 | BP31: =IF(OR(AC$30="",AC$4=99),1,IF(AC31="",0,IFERROR(CHOOSE(BP$28,IF(ISNA(MATCH(AC31,$AR$30:$AS$30,0)),0,1),IF(ISNUMBER(AC31),1,0),IF(AC31=TRUNC(AC31),1,0),IF(AND(AC31*1=AC31,AC31>=0),1,0),IF(AND(AC31=TRUNC(AC31),AC31>=0),1,0),IF(AND(AC31*1=AC31,AC31>0),1,0),IF(AND(AC31=TRUNC(AC31),AC31>0),1,0),1,IF(ISNA(HLOOKUP(AC31,$AU$4:$BD$4,1,0)),0,1)),0))) -> 1 | BQ31: =IF(OR(AD$30="",AD$4=99),1,IF(AD31="",0,IFERROR(CHOOSE(BQ$28,IF(ISNA(MATCH(AD31,$AR$30:$AS$30,0)),0,1),IF(ISNUMBER(AD31),1,0),IF(AD31=TRUNC(AD31),1,0),IF(AND(AD31*1=AD31,AD31>=0),1,0),IF(AND(AD31=TRUNC(AD31),AD31>=0),1,0),IF(AND(AD31*1=AD31,AD31>0),1,0),IF(AND(AD31=TRUNC(AD31),AD31>0),1,0),1,IF(ISNA(HLOOKUP(AD31,$AU$4:$BD$4,1,0)),0,1)),0))) -> 1 | BR31: =IF(OR(AE$30="",AE$4=99),1,IF(AE31="",0,IFERROR(CHOOSE(BR$28,IF(ISNA(MATCH(AE31,$AR$30:$AS$30,0)),0,1),IF(ISNUMBER(AE31),1,0),IF(AE31=TRUNC(AE31),1,0),IF(AND(AE31*1=AE31,AE31>=0),1,0),IF(AND(AE31=TRUNC(AE31),AE31>=0),1,0),IF(AND(AE31*1=AE31,AE31>0),1,0),IF(AND(AE31=TRUNC(AE31),AE31>0),1,0),1,IF(ISNA(HLOOKUP(AE31,$AU$4:$BD$4,1,0)),0,1)),0))) -> 1 | ... BU31: =IF(OR(AH$30="",AH$4=99),1,IF(AH31="",0,IFERROR(CHOOSE(BU$28,IF(ISNA(MATCH(AH31,$AR$30:$AS$30,0)),0,1),IF(ISNUMBER(AH31),1,0),IF(AH31=TRUNC(AH31),1,0),IF(AND(AH31*1=AH31,AH31>=0),1,0),IF(AND(AH31=TRUNC(AH31),AH31>=0),1,0),IF(AND(AH31*1=AH31,AH31>0),1,0),IF(AND(AH31=TRUNC(AH31),AH31>0),1,0),1,IF(ISNA(HLOOKUP(AH31,$AU$4:$BD$4,1,0)),0,1)),0))) -> 1 | BV31: =IF(OR(AJ$30="",AJ$4=99),1,IF(AJ31="",0,IFERROR(CHOOSE(BV$28,IF(ISNA(MATCH(AJ31,$AR$30:$AS$30,0)),0,1),IF(ISNUMBER(AJ31),1,0),IF(AJ31=TRUNC(AJ31),1,0),IF(AND(AJ31*1=AJ31,AJ31>=0),1,0),IF(AND(AJ31=TRUNC(AJ31),AJ31>=0),1,0),IF(AND(AJ31*1=AJ31,AJ31>0),1,0),IF(AND(AJ31=TRUNC(AJ31),AJ31>0),1,0),1,IF(ISNA(HLOOKUP(AJ31,$AU$4:$BD$4,1,0)),0,1)),0))) -> 1 | BW31: =IF(OR(AK$30="",AK$4=99),1,IF(AK31="",0,IFERROR(CHOOSE(BW$28,IF(ISNA(MATCH(AK31,$AR$30:$AS$30,0)),0,1),IF(ISNUMBER(AK31),1,0),IF(AK31=TRUNC(AK31),1,0),IF(AND(AK31*1=AK31,AK31>=0),1,0),IF(AND(AK31=TRUNC(AK31),AK31>=0),1,0),IF(AND(AK31*1=AK31,AK31>0),1,0),IF(AND(AK31=TRUNC(AK31),AK31>0),1,0),1,IF(ISNA(HLOOKUP(AK31,$AU$4:$BD$4,1,0)),0,1)),0))) -> 1 | BX31: =IF(OR(AL$30="",AL$4=99),1,IF(AL31="",0,IFERROR(CHOOSE(BX$28,IF(ISNA(MATCH(AL31,$AR$30:$AS$30,0)),0,1),IF(ISNUMBER(AL31),1,0),IF(AL31=TRUNC(AL31),1,0),IF(AND(AL31*1=AL31,AL31>=0),1,0),IF(AND(AL31=TRUNC(AL31),AL31>=0),1,0),IF(AND(AL31*1=AL31,AL31>0),1,0),IF(AND(AL31=TRUNC(AL31),AL31>0),1,0),1,IF(ISNA(HLOOKUP(AL31,$AU$4:$BD$4,1,0)),0,1)),0))) -> 1 | BY31: =IF(OR(AM$30="",AM$4=99),1,IF(AM31="",0,IFERROR(CHOOSE(BY$28,IF(ISNA(MATCH(AM31,$AR$30:$AS$30,0)),0,1),IF(ISNUMBER(AM31),1,0),IF(AM31=TRUNC(AM31),1,0),IF(AND(AM31*1=AM31,AM31>=0),1,0),IF(AND(AM31=TRUNC(AM31),AM31>=0),1,0),IF(AND(AM31*1=AM31,AM31>0),1,0),IF(AND(AM31=TRUNC(AM31),AM31>0),1,0),1,IF(ISNA(HLOOKUP(AM31,$AU$4:$BD$4,1,0)),0,1)),0))) -> 1 | BZ31: =IF(OR(AN$30="",AN$4=99),1,IF(AN31="",0,IFERROR(CHOOSE(BZ$28,IF(ISNA(MATCH(AN31,$AR$30:$AS$30,0)),0,1),IF(ISNUMBER(AN31),1,0),IF(AN31=TRUNC(AN31),1,0),IF(AND(AN31*1=AN31,AN31>=0),1,0),IF(AND(AN31=TRUNC(AN31),AN31>=0),1,0),IF(AND(AN31*1=AN31,AN31>0),1,0),IF(AND(AN31=TRUNC(AN31),AN31>0),1,0),1,IF(ISNA(HLOOKUP(AN31,$AU$4:$BD$4,1,0)),0,1)),0))) -> 1 | CA31: =IF(OR(AO$30="",AO$4=99),1,IF(AO31="",0,IFERROR(CHOOSE(CA$28,IF(ISNA(MATCH(AO31,$AR$30:$AS$30,0)),0,1),IF(ISNUMBER(AO31),1,0),IF(AO31=TRUNC(AO31),1,0),IF(AND(AO31*1=AO31,AO31>=0),1,0),IF(AND(AO31=TRUNC(AO31),AO31>=0),1,0),IF(AND(AO31*1=AO31,AO31>0),1,0),IF(AND(AO31=TRUNC(AO31),AO31>0),1,0),1,IF(ISNA(HLOOKUP(AO31,$AU$4:$BD$4,1,0)),0,1)),0))) -> 1 | CL31: =N31>=CS$7 -> TRUE | CM31: =O31>=CM$7 -> TRUE | CN31: =P31>=CN$7 -> TRUE | CO31: =Q31>=CO$7 -> TRUE | CQ31: =AD31>=CQ$7 -> TRUE | CR31: =COUNTIF(CL31:CQ31,TRUE) -> 5 | CS31: =N31>=CS$7 -> TRUE | CT31: =O31>=CT$7 -> TRUE | CU31: =P31>=CU$7 -> TRUE | CV31: =Q31>=CV$7 -> TRUE | CX31: =AD31>=CX$7 -> TRUE | CY31: =COUNTIF(CS31:CX31,TRUE) -> 5 | CZ31: =IF($F31="","",IF(CR31=$CM$5,1,0)) -> 1 | DA31: =IF($F31="","",IF(AND(CY31=$CM$5,CY31-CR31<=$CT$5),1,0)) -> 1
B32: =IF(F32="","",ROW()-30) -> 2 | F32: =IF('המכון למוסיקה ישראלית'!$F$1="2","",'המכון למוסיקה ישראלית'!$F$1) -> המכון למוסיקה ישראלית | G32: 1 | H32: 1 | I32: 1 | J32: 1 | K32: 1 | L32: 1 | M32: 1 | N32: =IF($F32="","",'ריכוז גיליונות עזר'!H32) -> 11 | O32: =IF($F32="","",'ריכוז גיליונות עזר'!K32) -> 55 | P32: =IF($F32="","",'ריכוז גיליונות עזר'!L32) -> 50 | Q32: 365 | T32: 1 | U32: 1 | V32: 1 | W32: 1 | X32: 0 | Y32: 0 | AD32: 1425860 | AE32: =IF($F32="","",IF(OR(CZ32=1,AND(X32=1,Y32=1,DA32=1)),1,0)) -> 1 | AF32: 1 | AG32: 1 | AH32: 1 | AI32: 1 | AJ32: 1 | AO32: =IF($F32="","",IF(AK32=1,1,IF(AQ32<>1,$AR$1,IF(SUMPRODUCT(--(G32:AJ32>=$G$5:$AJ$5)*($G$5:$AJ$5<>"")*($G$4:$AJ$4=1))=COUNTIF($G$4:$AJ$4,1),1,0)))) -> 1 | AQ32: =IF(OR(SUM(AT32:CA32)<>COUNT(AT32:CA32),SUMPRODUCT(--(G32:AJ32=$AR$1))<>0),0,1) -> 1 | AR32: =IF($F32="","",AR$30) -> 0 | AS32: =IF($F32="","",AS$30) -> 1 | AT32: =IF(OR(G$30="",G$4=99),1,IF(G32="",0,IFERROR(CHOOSE(AT$28,IF(ISNA(MATCH(G32,$AR$30:$AS$30,0)),0,1),IF(ISNUMBER(G32),1,0),IF(G32=TRUNC(G32),1,0),IF(AND(G32*1=G32,G32>=0),1,0),IF(AND(G32=TRUNC(G32),G32>=0),1,0),IF(AND(G32*1=G32,G32>0),1,0),IF(AND(G32=TRUNC(G32),G32>0),1,0),1,IF(ISNA(HLOOKUP(G32,$AU$4:$BD$4,1,0)),0,1)),0))) -> 1 | AU32: =IF(OR(H$30="",H$4=99),1,IF(H32="",0,IFERROR(CHOOSE(AU$28,IF(ISNA(MATCH(H32,$AR$30:$AS$30,0)),0,1),IF(ISNUMBER(H32),1,0),IF(H32=TRUNC(H32),1,0),IF(AND(H32*1=H32,H32>=0),1,0),IF(AND(H32=TRUNC(H32),H32>=0),1,0),IF(AND(H32*1=H32,H32>0),1,0),IF(AND(H32=TRUNC(H32),H32>0),1,0),1,IF(ISNA(HLOOKUP(H32,$AU$4:$BD$4,1,0)),0,1)),0))) -> 1 | AV32: =IF(OR(I$30="",I$4=99),1,IF(I32="",0,IFERROR(CHOOSE(AV$28,IF(ISNA(MATCH(I32,$AR$30:$AS$30,0)),0,1),IF(ISNUMBER(I32),1,0),IF(I32=TRUNC(I32),1,0),IF(AND(I32*1=I32,I32>=0),1,0),IF(AND(I32=TRUNC(I32),I32>=0),1,0),IF(AND(I32*1=I32,I32>0),1,0),IF(AND(I32=TRUNC(I32),I32>0),1,0),1,IF(ISNA(HLOOKUP(I32,$AU$4:$BD$4,1,0)),0,1)),0))) -> 1 | AW32: =IF(OR(J$30="",J$4=99),1,IF(J32="",0,IFERROR(CHOOSE(AW$28,IF(ISNA(MATCH(J32,$AR$30:$AS$30,0)),0,1),IF(ISNUMBER(J32),1,0),IF(J32=TRUNC(J32),1,0),IF(AND(J32*1=J32,J32>=0),1,0),IF(AND(J32=TRUNC(J32),J32>=0),1,0),IF(AND(J32*1=J32,J32>0),1,0),IF(AND(J32=TRUNC(J32),J32>0),1,0),1,IF(ISNA(HLOOKUP(J32,$AU$4:$BD$4,1,0)),0,1)),0))) -> 1 | AX32: =IF(OR(K$30="",K$4=99),1,IF(K32="",0,IFERROR(CHOOSE(AX$28,IF(ISNA(MATCH(K32,$AR$30:$AS$30,0)),0,1),IF(ISNUMBER(K32),1,0),IF(K32=TRUNC(K32),1,0),IF(AND(K32*1=K32,K32>=0),1,0),IF(AND(K32=TRUNC(K32),K32>=0),1,0),IF(AND(K32*1=K32,K32>0),1,0),IF(AND(K32=TRUNC(K32),K32>0),1,0),1,IF(ISNA(HLOOKUP(K32,$AU$4:$BD$4,1,0)),0,1)),0))) -> 1 | AY32: =IF(OR(L$30="",L$4=99),1,IF(L32="",0,IFERROR(CHOOSE(AY$28,IF(ISNA(MATCH(L32,$AR$30:$AS$30,0)),0,1),IF(ISNUMBER(L32),1,0),IF(L32=TRUNC(L32),1,0),IF(AND(L32*1=L32,L32>=0),1,0),IF(AND(L32=TRUNC(L32),L32>=0),1,0),IF(AND(L32*1=L32,L32>0),1,0),IF(AND(L32=TRUNC(L32),L32>0),1,0),1,IF(ISNA(HLOOKUP(L32,$AU$4:$BD$4,1,0)),0,1)),0))) -> 1 | AZ32: =IF(OR(M$30="",M$4=99),1,IF(M32="",0,IFERROR(CHOOSE(AZ$28,IF(ISNA(MATCH(M32,$AR$30:$AS$30,0)),0,1),IF(ISNUMBER(M32),1,0),IF(M32=TRUNC(M32),1,0),IF(AND(M32*1=M32,M32>=0),1,0),IF(AND(M32=TRUNC(M32),M32>=0),1,0),IF(AND(M32*1=M32,M32>0),1,0),IF(AND(M32=TRUNC(M32),M32>0),1,0),1,IF(ISNA(HLOOKUP(M32,$AU$4:$BD$4,1,0)),0,1)),0))) -> 1 | BA32: =IF(OR(N$30="",N$4=99),1,IF(N32="",0,IFERROR(CHOOSE(BA$28,IF(ISNA(MATCH(N32,$AR$30:$AS$30,0)),0,1),IF(ISNUMBER(N32),1,0),IF(N32=TRUNC(N32),1,0),IF(AND(N32*1=N32,N32>=0),1,0),IF(AND(N32=TRUNC(N32),N32>=0),1,0),IF(AND(N32*1=N32,N32>0),1,0),IF(AND(N32=TRUNC(N32),N32>0),1,0),1,IF(ISNA(HLOOKUP(N32,$AU$4:$BD$4,1,0)),0,1)),0))) -> 1 | ... BH32: =IF(OR(U$30="",U$4=99),1,IF(U32="",0,IFERROR(CHOOSE(BH$28,IF(ISNA(MATCH(U32,$AR$30:$AS$30,0)),0,1),IF(ISNUMBER(U32),1,0),IF(U32=TRUNC(U32),1,0),IF(AND(U32*1=U32,U32>=0),1,0),IF(AND(U32=TRUNC(U32),U32>=0),1,0),IF(AND(U32*1=U32,U32>0),1,0),IF(AND(U32=TRUNC(U32),U32>0),1,0),1,IF(ISNA(HLOOKUP(U32,$AU$4:$BD$4,1,0)),0,1)),0))) -> 1 | BI32: =IF(OR(V$30="",W$4=99),1,IF(V32="",0,IFERROR(CHOOSE(BI$28,IF(ISNA(MATCH(V32,$AR$30:$AS$30,0)),0,1),IF(ISNUMBER(V32),1,0),IF(V32=TRUNC(V32),1,0),IF(AND(V32*1=V32,V32>=0),1,0),IF(AND(V32=TRUNC(V32),V32>=0),1,0),IF(AND(V32*1=V32,V32>0),1,0),IF(AND(V32=TRUNC(V32),V32>0),1,0),1,IF(ISNA(HLOOKUP(V32,$AU$4:$BD$4,1,0)),0,1)),0))) -> 1 | BJ32: =IF(OR(W$30="",X$4=99),1,IF(W32="",0,IFERROR(CHOOSE(BJ$28,IF(ISNA(MATCH(W32,$AR$30:$AS$30,0)),0,1),IF(ISNUMBER(W32),1,0),IF(W32=TRUNC(W32),1,0),IF(AND(W32*1=W32,W32>=0),1,0),IF(AND(W32=TRUNC(W32),W32>=0),1,0),IF(AND(W32*1=W32,W32>0),1,0),IF(AND(W32=TRUNC(W32),W32>0),1,0),1,IF(ISNA(HLOOKUP(W32,$AU$4:$BD$4,1,0)),0,1)),0))) -> 1 | BK32: =IF(OR(X$30="",X$4=99),1,IF(X32="",0,IFERROR(CHOOSE(BK$28,IF(ISNA(MATCH(X32,$AR$30:$AS$30,0)),0,1),IF(ISNUMBER(X32),1,0),IF(X32=TRUNC(X32),1,0),IF(AND(X32*1=X32,X32>=0),1,0),IF(AND(X32=TRUNC(X32),X32>=0),1,0),IF(AND(X32*1=X32,X32>0),1,0),IF(AND(X32=TRUNC(X32),X32>0),1,0),1,IF(ISNA(HLOOKUP(X32,$AU$4:$BD$4,1,0)),0,1)),0))) -> 1 | BL32: =IF(OR(Y$30="",Y$4=99),1,IF(Y32="",0,IFERROR(CHOOSE(BL$28,IF(ISNA(MATCH(Y32,$AR$30:$AS$30,0)),0,1),IF(ISNUMBER(Y32),1,0),IF(Y32=TRUNC(Y32),1,0),IF(AND(Y32*1=Y32,Y32>=0),1,0),IF(AND(Y32=TRUNC(Y32),Y32>=0),1,0),IF(AND(Y32*1=Y32,Y32>0),1,0),IF(AND(Y32=TRUNC(Y32),Y32>0),1,0),1,IF(ISNA(HLOOKUP(Y32,$AU$4:$BD$4,1,0)),0,1)),0))) -> 1 | BM32: =IF(OR(Z$30="",Z$4=99),1,IF(Z32="",0,IFERROR(CHOOSE(BM$28,IF(ISNA(MATCH(Z32,$AR$30:$AS$30,0)),0,1),IF(ISNUMBER(Z32),1,0),IF(Z32=TRUNC(Z32),1,0),IF(AND(Z32*1=Z32,Z32>=0),1,0),IF(AND(Z32=TRUNC(Z32),Z32>=0),1,0),IF(AND(Z32*1=Z32,Z32>0),1,0),IF(AND(Z32=TRUNC(Z32),Z32>0),1,0),1,IF(ISNA(HLOOKUP(Z32,$AU$4:$BD$4,1,0)),0,1)),0))) -> 1 | BN32: =IF(OR(AA$30="",AA$4=99),1,IF(AA32="",0,IFERROR(CHOOSE(BN$28,IF(ISNA(MATCH(AA32,$AR$30:$AS$30,0)),0,1),IF(ISNUMBER(AA32),1,0),IF(AA32=TRUNC(AA32),1,0),IF(AND(AA32*1=AA32,AA32>=0),1,0),IF(AND(AA32=TRUNC(AA32),AA32>=0),1,0),IF(AND(AA32*1=AA32,AA32>0),1,0),IF(AND(AA32=TRUNC(AA32),AA32>0),1,0),1,IF(ISNA(HLOOKUP(AA32,$AU$4:$BD$4,1,0)),0,1)),0))) -> 1 | BO32: =IF(OR(AB$30="",AB$4=99),1,IF(AB32="",0,IFERROR(CHOOSE(BO$28,IF(ISNA(MATCH(AB32,$AR$30:$AS$30,0)),0,1),IF(ISNUMBER(AB32),1,0),IF(AB32=TRUNC(AB32),1,0),IF(AND(AB32*1=AB32,AB32>=0),1,0),IF(AND(AB32=TRUNC(AB32),AB32>=0),1,0),IF(AND(AB32*1=AB32,AB32>0),1,0),IF(AND(AB32=TRUNC(AB32),AB32>0),1,0),1,IF(ISNA(HLOOKUP(AB32,$AU$4:$BD$4,1,0)),0,1)),0))) -> 1 | BP32: =IF(OR(AC$30="",AC$4=99),1,IF(AC32="",0,IFERROR(CHOOSE(BP$28,IF(ISNA(MATCH(AC32,$AR$30:$AS$30,0)),0,1),IF(ISNUMBER(AC32),1,0),IF(AC32=TRUNC(AC32),1,0),IF(AND(AC32*1=AC32,AC32>=0),1,0),IF(AND(AC32=TRUNC(AC32),AC32>=0),1,0),IF(AND(AC32*1=AC32,AC32>0),1,0),IF(AND(AC32=TRUNC(AC32),AC32>0),1,0),1,IF(ISNA(HLOOKUP(AC32,$AU$4:$BD$4,1,0)),0,1)),0))) -> 1 | BQ32: =IF(OR(AD$30="",AD$4=99),1,IF(AD32="",0,IFERROR(CHOOSE(BQ$28,IF(ISNA(MATCH(AD32,$AR$30:$AS$30,0)),0,1),IF(ISNUMBER(AD32),1,0),IF(AD32=TRUNC(AD32),1,0),IF(AND(AD32*1=AD32,AD32>=0),1,0),IF(AND(AD32=TRUNC(AD32),AD32>=0),1,0),IF(AND(AD32*1=AD32,AD32>0),1,0),IF(AND(AD32=TRUNC(AD32),AD32>0),1,0),1,IF(ISNA(HLOOKUP(AD32,$AU$4:$BD$4,1,0)),0,1)),0))) -> 1 | BR32: =IF(OR(AE$30="",AE$4=99),1,IF(AE32="",0,IFERROR(CHOOSE(BR$28,IF(ISNA(MATCH(AE32,$AR$30:$AS$30,0)),0,1),IF(ISNUMBER(AE32),1,0),IF(AE32=TRUNC(AE32),1,0),IF(AND(AE32*1=AE32,AE32>=0),1,0),IF(AND(AE32=TRUNC(AE32),AE32>=0),1,0),IF(AND(AE32*1=AE32,AE32>0),1,0),IF(AND(AE32=TRUNC(AE32),AE32>0),1,0),1,IF(ISNA(HLOOKUP(AE32,$AU$4:$BD$4,1,0)),0,1)),0))) -> 1 | ... BU32: =IF(OR(AH$30="",AH$4=99),1,IF(AH32="",0,IFERROR(CHOOSE(BU$28,IF(ISNA(MATCH(AH32,$AR$30:$AS$30,0)),0,1),IF(ISNUMBER(AH32),1,0),IF(AH32=TRUNC(AH32),1,0),IF(AND(AH32*1=AH32,AH32>=0),1,0),IF(AND(AH32=TRUNC(AH32),AH32>=0),1,0),IF(AND(AH32*1=AH32,AH32>0),1,0),IF(AND(AH32=TRUNC(AH32),AH32>0),1,0),1,IF(ISNA(HLOOKUP(AH32,$AU$4:$BD$4,1,0)),0,1)),0))) -> 1 | BV32: =IF(OR(AJ$30="",AJ$4=99),1,IF(AJ32="",0,IFERROR(CHOOSE(BV$28,IF(ISNA(MATCH(AJ32,$AR$30:$AS$30,0)),0,1),IF(ISNUMBER(AJ32),1,0),IF(AJ32=TRUNC(AJ32),1,0),IF(AND(AJ32*1=AJ32,AJ32>=0),1,0),IF(AND(AJ32=TRUNC(AJ32),AJ32>=0),1,0),IF(AND(AJ32*1=AJ32,AJ32>0),1,0),IF(AND(AJ32=TRUNC(AJ32),AJ32>0),1,0),1,IF(ISNA(HLOOKUP(AJ32,$AU$4:$BD$4,1,0)),0,1)),0))) -> 1 | BW32: =IF(OR(AK$30="",AK$4=99),1,IF(AK32="",0,IFERROR(CHOOSE(BW$28,IF(ISNA(MATCH(AK32,$AR$30:$AS$30,0)),0,1),IF(ISNUMBER(AK32),1,0),IF(AK32=TRUNC(AK32),1,0),IF(AND(AK32*1=AK32,AK32>=0),1,0),IF(AND(AK32=TRUNC(AK32),AK32>=0),1,0),IF(AND(AK32*1=AK32,AK32>0),1,0),IF(AND(AK32=TRUNC(AK32),AK32>0),1,0),1,IF(ISNA(HLOOKUP(AK32,$AU$4:$BD$4,1,0)),0,1)),0))) -> 1 | BX32: =IF(OR(AL$30="",AL$4=99),1,IF(AL32="",0,IFERROR(CHOOSE(BX$28,IF(ISNA(MATCH(AL32,$AR$30:$AS$30,0)),0,1),IF(ISNUMBER(AL32),1,0),IF(AL32=TRUNC(AL32),1,0),IF(AND(AL32*1=AL32,AL32>=0),1,0),IF(AND(AL32=TRUNC(AL32),AL32>=0),1,0),IF(AND(AL32*1=AL32,AL32>0),1,0),IF(AND(AL32=TRUNC(AL32),AL32>0),1,0),1,IF(ISNA(HLOOKUP(AL32,$AU$4:$BD$4,1,0)),0,1)),0))) -> 1 | BY32: =IF(OR(AM$30="",AM$4=99),1,IF(AM32="",0,IFERROR(CHOOSE(BY$28,IF(ISNA(MATCH(AM32,$AR$30:$AS$30,0)),0,1),IF(ISNUMBER(AM32),1,0),IF(AM32=TRUNC(AM32),1,0),IF(AND(AM32*1=AM32,AM32>=0),1,0),IF(AND(AM32=TRUNC(AM32),AM32>=0),1,0),IF(AND(AM32*1=AM32,AM32>0),1,0),IF(AND(AM32=TRUNC(AM32),AM32>0),1,0),1,IF(ISNA(HLOOKUP(AM32,$AU$4:$BD$4,1,0)),0,1)),0))) -> 1 | BZ32: =IF(OR(AN$30="",AN$4=99),1,IF(AN32="",0,IFERROR(CHOOSE(BZ$28,IF(ISNA(MATCH(AN32,$AR$30:$AS$30,0)),0,1),IF(ISNUMBER(AN32),1,0),IF(AN32=TRUNC(AN32),1,0),IF(AND(AN32*1=AN32,AN32>=0),1,0),IF(AND(AN32=TRUNC(AN32),AN32>=0),1,0),IF(AND(AN32*1=AN32,AN32>0),1,0),IF(AND(AN32=TRUNC(AN32),AN32>0),1,0),1,IF(ISNA(HLOOKUP(AN32,$AU$4:$BD$4,1,0)),0,1)),0))) -> 1 | CA32: =IF(OR(AO$30="",AO$4=99),1,IF(AO32="",0,IFERROR(CHOOSE(CA$28,IF(ISNA(MATCH(AO32,$AR$30:$AS$30,0)),0,1),IF(ISNUMBER(AO32),1,0),IF(AO32=TRUNC(AO32),1,0),IF(AND(AO32*1=AO32,AO32>=0),1,0),IF(AND(AO32=TRUNC(AO32),AO32>=0),1,0),IF(AND(AO32*1=AO32,AO32>0),1,0),IF(AND(AO32=TRUNC(AO32),AO32>0),1,0),1,IF(ISNA(HLOOKUP(AO32,$AU$4:$BD$4,1,0)),0,1)),0))) -> 1 | CL32: =N32>=CS$7 -> TRUE | CM32: =O32>=CM$7 -> TRUE | CN32: =P32>=CN$7 -> TRUE | CO32: =Q32>=CO$7 -> TRUE | CQ32: =AD32>=CQ$7 -> TRUE | CR32: =COUNTIF(CL32:CQ32,TRUE) -> 5 | CS32: =N32>=CS$7 -> TRUE | CT32: =O32>=CT$7 -> TRUE | CU32: =P32>=CU$7 -> TRUE | CV32: =Q32>=CV$7 -> TRUE | CX32: =AD32>=CX$7 -> TRUE | CY32: =COUNTIF(CS32:CX32,TRUE) -> 5 | CZ32: =IF($F32="","",IF(CR32=$CM$5,1,0)) -> 1 | DA32: =IF($F32="","",IF(AND(CY32=$CM$5,CY32-CR32<=$CT$5),1,0)) -> 1
B33: =IF(F33="","",ROW()-30) | F33: =IF('3'!$F$1="3","",'3'!$F$1) | N33: =IF($F33="","",'ריכוז גיליונות עזר'!H33) | O33: =IF($F33="","",'ריכוז גיליונות עזר'!K33) | P33: =IF($F33="","",'ריכוז גיליונות עזר'!L33) | AE33: =IF($F33="","",IF(OR(CZ33=1,AND(X33=1,Y33=1,DA33=1)),1,0)) | AO33: =IF($F33="","",IF(AK33=1,1,IF(AQ33<>1,$AR$1,IF(SUMPRODUCT(--(G33:AJ33>=$G$5:$AJ$5)*($G$5:$AJ$5<>"")*($G$4:$AJ$4=1))=COUNTIF($G$4:$AJ$4,1),1,0)))) | AQ33: =IF(OR(SUM(AT33:CA33)<>COUNT(AT33:CA33),SUMPRODUCT(--(G33:AJ33=$AR$1))<>0),0,1) -> 0 | AR33: =IF($F33="","",AR$30) | AS33: =IF($F33="","",AS$30) | AT33: =IF(OR(G$30="",G$4=99),1,IF(G33="",0,IFERROR(CHOOSE(AT$28,IF(ISNA(MATCH(G33,$AR$30:$AS$30,0)),0,1),IF(ISNUMBER(G33),1,0),IF(G33=TRUNC(G33),1,0),IF(AND(G33*1=G33,G33>=0),1,0),IF(AND(G33=TRUNC(G33),G33>=0),1,0),IF(AND(G33*1=G33,G33>0),1,0),IF(AND(G33=TRUNC(G33),G33>0),1,0),1,IF(ISNA(HLOOKUP(G33,$AU$4:$BD$4,1,0)),0,1)),0))) -> 0 | AU33: =IF(OR(H$30="",H$4=99),1,IF(H33="",0,IFERROR(CHOOSE(AU$28,IF(ISNA(MATCH(H33,$AR$30:$AS$30,0)),0,1),IF(ISNUMBER(H33),1,0),IF(H33=TRUNC(H33),1,0),IF(AND(H33*1=H33,H33>=0),1,0),IF(AND(H33=TRUNC(H33),H33>=0),1,0),IF(AND(H33*1=H33,H33>0),1,0),IF(AND(H33=TRUNC(H33),H33>0),1,0),1,IF(ISNA(HLOOKUP(H33,$AU$4:$BD$4,1,0)),0,1)),0))) -> 0 | AV33: =IF(OR(I$30="",I$4=99),1,IF(I33="",0,IFERROR(CHOOSE(AV$28,IF(ISNA(MATCH(I33,$AR$30:$AS$30,0)),0,1),IF(ISNUMBER(I33),1,0),IF(I33=TRUNC(I33),1,0),IF(AND(I33*1=I33,I33>=0),1,0),IF(AND(I33=TRUNC(I33),I33>=0),1,0),IF(AND(I33*1=I33,I33>0),1,0),IF(AND(I33=TRUNC(I33),I33>0),1,0),1,IF(ISNA(HLOOKUP(I33,$AU$4:$BD$4,1,0)),0,1)),0))) -> 0 | AW33: =IF(OR(J$30="",J$4=99),1,IF(J33="",0,IFERROR(CHOOSE(AW$28,IF(ISNA(MATCH(J33,$AR$30:$AS$30,0)),0,1),IF(ISNUMBER(J33),1,0),IF(J33=TRUNC(J33),1,0),IF(AND(J33*1=J33,J33>=0),1,0),IF(AND(J33=TRUNC(J33),J33>=0),1,0),IF(AND(J33*1=J33,J33>0),1,0),IF(AND(J33=TRUNC(J33),J33>0),1,0),1,IF(ISNA(HLOOKUP(J33,$AU$4:$BD$4,1,0)),0,1)),0))) -> 0 | AX33: =IF(OR(K$30="",K$4=99),1,IF(K33="",0,IFERROR(CHOOSE(AX$28,IF(ISNA(MATCH(K33,$AR$30:$AS$30,0)),0,1),IF(ISNUMBER(K33),1,0),IF(K33=TRUNC(K33),1,0),IF(AND(K33*1=K33,K33>=0),1,0),IF(AND(K33=TRUNC(K33),K33>=0),1,0),IF(AND(K33*1=K33,K33>0),1,0),IF(AND(K33=TRUNC(K33),K33>0),1,0),1,IF(ISNA(HLOOKUP(K33,$AU$4:$BD$4,1,0)),0,1)),0))) -> 0 | AY33: =IF(OR(L$30="",L$4=99),1,IF(L33="",0,IFERROR(CHOOSE(AY$28,IF(ISNA(MATCH(L33,$AR$30:$AS$30,0)),0,1),IF(ISNUMBER(L33),1,0),IF(L33=TRUNC(L33),1,0),IF(AND(L33*1=L33,L33>=0),1,0),IF(AND(L33=TRUNC(L33),L33>=0),1,0),IF(AND(L33*1=L33,L33>0),1,0),IF(AND(L33=TRUNC(L33),L33>0),1,0),1,IF(ISNA(HLOOKUP(L33,$AU$4:$BD$4,1,0)),0,1)),0))) -> 0 | AZ33: =IF(OR(M$30="",M$4=99),1,IF(M33="",0,IFERROR(CHOOSE(AZ$28,IF(ISNA(MATCH(M33,$AR$30:$AS$30,0)),0,1),IF(ISNUMBER(M33),1,0),IF(M33=TRUNC(M33),1,0),IF(AND(M33*1=M33,M33>=0),1,0),IF(AND(M33=TRUNC(M33),M33>=0),1,0),IF(AND(M33*1=M33,M33>0),1,0),IF(AND(M33=TRUNC(M33),M33>0),1,0),1,IF(ISNA(HLOOKUP(M33,$AU$4:$BD$4,1,0)),0,1)),0))) -> 0 | BA33: =IF(OR(N$30="",N$4=99),1,IF(N33="",0,IFERROR(CHOOSE(BA$28,IF(ISNA(MATCH(N33,$AR$30:$AS$30,0)),0,1),IF(ISNUMBER(N33),1,0),IF(N33=TRUNC(N33),1,0),IF(AND(N33*1=N33,N33>=0),1,0),IF(AND(N33=TRUNC(N33),N33>=0),1,0),IF(AND(N33*1=N33,N33>0),1,0),IF(AND(N33=TRUNC(N33),N33>0),1,0),1,IF(ISNA(HLOOKUP(N33,$AU$4:$BD$4,1,0)),0,1)),0))) -> 1 | ... BH33: =IF(OR(U$30="",U$4=99),1,IF(U33="",0,IFERROR(CHOOSE(BH$28,IF(ISNA(MATCH(U33,$AR$30:$AS$30,0)),0,1),IF(ISNUMBER(U33),1,0),IF(U33=TRUNC(U33),1,0),IF(AND(U33*1=U33,U33>=0),1,0),IF(AND(U33=TRUNC(U33),U33>=0),1,0),IF(AND(U33*1=U33,U33>0),1,0),IF(AND(U33=TRUNC(U33),U33>0),1,0),1,IF(ISNA(HLOOKUP(U33,$AU$4:$BD$4,1,0)),0,1)),0))) -> 0 | BI33: =IF(OR(V$30="",W$4=99),1,IF(V33="",0,IFERROR(CHOOSE(BI$28,IF(ISNA(MATCH(V33,$AR$30:$AS$30,0)),0,1),IF(ISNUMBER(V33),1,0),IF(V33=TRUNC(V33),1,0),IF(AND(V33*1=V33,V33>=0),1,0),IF(AND(V33=TRUNC(V33),V33>=0),1,0),IF(AND(V33*1=V33,V33>0),1,0),IF(AND(V33=TRUNC(V33),V33>0),1,0),1,IF(ISNA(HLOOKUP(V33,$AU$4:$BD$4,1,0)),0,1)),0))) -> 0 | BJ33: =IF(OR(W$30="",X$4=99),1,IF(W33="",0,IFERROR(CHOOSE(BJ$28,IF(ISNA(MATCH(W33,$AR$30:$AS$30,0)),0,1),IF(ISNUMBER(W33),1,0),IF(W33=TRUNC(W33),1,0),IF(AND(W33*1=W33,W33>=0),1,0),IF(AND(W33=TRUNC(W33),W33>=0),1,0),IF(AND(W33*1=W33,W33>0),1,0),IF(AND(W33=TRUNC(W33),W33>0),1,0),1,IF(ISNA(HLOOKUP(W33,$AU$4:$BD$4,1,0)),0,1)),0))) -> 1 | BK33: =IF(OR(X$30="",X$4=99),1,IF(X33="",0,IFERROR(CHOOSE(BK$28,IF(ISNA(MATCH(X33,$AR$30:$AS$30,0)),0,1),IF(ISNUMBER(X33),1,0),IF(X33=TRUNC(X33),1,0),IF(AND(X33*1=X33,X33>=0),1,0),IF(AND(X33=TRUNC(X33),X33>=0),1,0),IF(AND(X33*1=X33,X33>0),1,0),IF(AND(X33=TRUNC(X33),X33>0),1,0),1,IF(ISNA(HLOOKUP(X33,$AU$4:$BD$4,1,0)),0,1)),0))) -> 1 | BL33: =IF(OR(Y$30="",Y$4=99),1,IF(Y33="",0,IFERROR(CHOOSE(BL$28,IF(ISNA(MATCH(Y33,$AR$30:$AS$30,0)),0,1),IF(ISNUMBER(Y33),1,0),IF(Y33=TRUNC(Y33),1,0),IF(AND(Y33*1=Y33,Y33>=0),1,0),IF(AND(Y33=TRUNC(Y33),Y33>=0),1,0),IF(AND(Y33*1=Y33,Y33>0),1,0),IF(AND(Y33=TRUNC(Y33),Y33>0),1,0),1,IF(ISNA(HLOOKUP(Y33,$AU$4:$BD$4,1,0)),0,1)),0))) -> 1 | BM33: =IF(OR(Z$30="",Z$4=99),1,IF(Z33="",0,IFERROR(CHOOSE(BM$28,IF(ISNA(MATCH(Z33,$AR$30:$AS$30,0)),0,1),IF(ISNUMBER(Z33),1,0),IF(Z33=TRUNC(Z33),1,0),IF(AND(Z33*1=Z33,Z33>=0),1,0),IF(AND(Z33=TRUNC(Z33),Z33>=0),1,0),IF(AND(Z33*1=Z33,Z33>0),1,0),IF(AND(Z33=TRUNC(Z33),Z33>0),1,0),1,IF(ISNA(HLOOKUP(Z33,$AU$4:$BD$4,1,0)),0,1)),0))) -> 1 | BN33: =IF(OR(AA$30="",AA$4=99),1,IF(AA33="",0,IFERROR(CHOOSE(BN$28,IF(ISNA(MATCH(AA33,$AR$30:$AS$30,0)),0,1),IF(ISNUMBER(AA33),1,0),IF(AA33=TRUNC(AA33),1,0),IF(AND(AA33*1=AA33,AA33>=0),1,0),IF(AND(AA33=TRUNC(AA33),AA33>=0),1,0),IF(AND(AA33*1=AA33,AA33>0),1,0),IF(AND(AA33=TRUNC(AA33),AA33>0),1,0),1,IF(ISNA(HLOOKUP(AA33,$AU$4:$BD$4,1,0)),0,1)),0))) -> 1 | BO33: =IF(OR(AB$30="",AB$4=99),1,IF(AB33="",0,IFERROR(CHOOSE(BO$28,IF(ISNA(MATCH(AB33,$AR$30:$AS$30,0)),0,1),IF(ISNUMBER(AB33),1,0),IF(AB33=TRUNC(AB33),1,0),IF(AND(AB33*1=AB33,AB33>=0),1,0),IF(AND(AB33=TRUNC(AB33),AB33>=0),1,0),IF(AND(AB33*1=AB33,AB33>0),1,0),IF(AND(AB33=TRUNC(AB33),AB33>0),1,0),1,IF(ISNA(HLOOKUP(AB33,$AU$4:$BD$4,1,0)),0,1)),0))) -> 1 | BP33: =IF(OR(AC$30="",AC$4=99),1,IF(AC33="",0,IFERROR(CHOOSE(BP$28,IF(ISNA(MATCH(AC33,$AR$30:$AS$30,0)),0,1),IF(ISNUMBER(AC33),1,0),IF(AC33=TRUNC(AC33),1,0),IF(AND(AC33*1=AC33,AC33>=0),1,0),IF(AND(AC33=TRUNC(AC33),AC33>=0),1,0),IF(AND(AC33*1=AC33,AC33>0),1,0),IF(AND(AC33=TRUNC(AC33),AC33>0),1,0),1,IF(ISNA(HLOOKUP(AC33,$AU$4:$BD$4,1,0)),0,1)),0))) -> 1 | BQ33: =IF(OR(AD$30="",AD$4=99),1,IF(AD33="",0,IFERROR(CHOOSE(BQ$28,IF(ISNA(MATCH(AD33,$AR$30:$AS$30,0)),0,1),IF(ISNUMBER(AD33),1,0),IF(AD33=TRUNC(AD33),1,0),IF(AND(AD33*1=AD33,AD33>=0),1,0),IF(AND(AD33=TRUNC(AD33),AD33>=0),1,0),IF(AND(AD33*1=AD33,AD33>0),1,0),IF(AND(AD33=TRUNC(AD33),AD33>0),1,0),1,IF(ISNA(HLOOKUP(AD33,$AU$4:$BD$4,1,0)),0,1)),0))) -> 0 | BR33: =IF(OR(AE$30="",AE$4=99),1,IF(AE33="",0,IFERROR(CHOOSE(BR$28,IF(ISNA(MATCH(AE33,$AR$30:$AS$30,0)),0,1),IF(ISNUMBER(AE33),1,0),IF(AE33=TRUNC(AE33),1,0),IF(AND(AE33*1=AE33,AE33>=0),1,0),IF(AND(AE33=TRUNC(AE33),AE33>=0),1,0),IF(AND(AE33*1=AE33,AE33>0),1,0),IF(AND(AE33=TRUNC(AE33),AE33>0),1,0),1,IF(ISNA(HLOOKUP(AE33,$AU$4:$BD$4,1,0)),0,1)),0))) -> 1 | ... BU33: =IF(OR(AH$30="",AH$4=99),1,IF(AH33="",0,IFERROR(CHOOSE(BU$28,IF(ISNA(MATCH(AH33,$AR$30:$AS$30,0)),0,1),IF(ISNUMBER(AH33),1,0),IF(AH33=TRUNC(AH33),1,0),IF(AND(AH33*1=AH33,AH33>=0),1,0),IF(AND(AH33=TRUNC(AH33),AH33>=0),1,0),IF(AND(AH33*1=AH33,AH33>0),1,0),IF(AND(AH33=TRUNC(AH33),AH33>0),1,0),1,IF(ISNA(HLOOKUP(AH33,$AU$4:$BD$4,1,0)),0,1)),0))) -> 0 | BV33: =IF(OR(AJ$30="",AJ$4=99),1,IF(AJ33="",0,IFERROR(CHOOSE(BV$28,IF(ISNA(MATCH(AJ33,$AR$30:$AS$30,0)),0,1),IF(ISNUMBER(AJ33),1,0),IF(AJ33=TRUNC(AJ33),1,0),IF(AND(AJ33*1=AJ33,AJ33>=0),1,0),IF(AND(AJ33=TRUNC(AJ33),AJ33>=0),1,0),IF(AND(AJ33*1=AJ33,AJ33>0),1,0),IF(AND(AJ33=TRUNC(AJ33),AJ33>0),1,0),1,IF(ISNA(HLOOKUP(AJ33,$AU$4:$BD$4,1,0)),0,1)),0))) -> 0 | BW33: =IF(OR(AK$30="",AK$4=99),1,IF(AK33="",0,IFERROR(CHOOSE(BW$28,IF(ISNA(MATCH(AK33,$AR$30:$AS$30,0)),0,1),IF(ISNUMBER(AK33),1,0),IF(AK33=TRUNC(AK33),1,0),IF(AND(AK33*1=AK33,AK33>=0),1,0),IF(AND(AK33=TRUNC(AK33),AK33>=0),1,0),IF(AND(AK33*1=AK33,AK33>0),1,0),IF(AND(AK33=TRUNC(AK33),AK33>0),1,0),1,IF(ISNA(HLOOKUP(AK33,$AU$4:$BD$4,1,0)),0,1)),0))) -> 1 | BX33: =IF(OR(AL$30="",AL$4=99),1,IF(AL33="",0,IFERROR(CHOOSE(BX$28,IF(ISNA(MATCH(AL33,$AR$30:$AS$30,0)),0,1),IF(ISNUMBER(AL33),1,0),IF(AL33=TRUNC(AL33),1,0),IF(AND(AL33*1=AL33,AL33>=0),1,0),IF(AND(AL33=TRUNC(AL33),AL33>=0),1,0),IF(AND(AL33*1=AL33,AL33>0),1,0),IF(AND(AL33=TRUNC(AL33),AL33>0),1,0),1,IF(ISNA(HLOOKUP(AL33,$AU$4:$BD$4,1,0)),0,1)),0))) -> 1 | BY33: =IF(OR(AM$30="",AM$4=99),1,IF(AM33="",0,IFERROR(CHOOSE(BY$28,IF(ISNA(MATCH(AM33,$AR$30:$AS$30,0)),0,1),IF(ISNUMBER(AM33),1,0),IF(AM33=TRUNC(AM33),1,0),IF(AND(AM33*1=AM33,AM33>=0),1,0),IF(AND(AM33=TRUNC(AM33),AM33>=0),1,0),IF(AND(AM33*1=AM33,AM33>0),1,0),IF(AND(AM33=TRUNC(AM33),AM33>0),1,0),1,IF(ISNA(HLOOKUP(AM33,$AU$4:$BD$4,1,0)),0,1)),0))) -> 1 | BZ33: =IF(OR(AN$30="",AN$4=99),1,IF(AN33="",0,IFERROR(CHOOSE(BZ$28,IF(ISNA(MATCH(AN33,$AR$30:$AS$30,0)),0,1),IF(ISNUMBER(AN33),1,0),IF(AN33=TRUNC(AN33),1,0),IF(AND(AN33*1=AN33,AN33>=0),1,0),IF(AND(AN33=TRUNC(AN33),AN33>=0),1,0),IF(AND(AN33*1=AN33,AN33>0),1,0),IF(AND(AN33=TRUNC(AN33),AN33>0),1,0),1,IF(ISNA(HLOOKUP(AN33,$AU$4:$BD$4,1,0)),0,1)),0))) -> 1 | CA33: =IF(OR(AO$30="",AO$4=99),1,IF(AO33="",0,IFERROR(CHOOSE(CA$28,IF(ISNA(MATCH(AO33,$AR$30:$AS$30,0)),0,1),IF(ISNUMBER(AO33),1,0),IF(AO33=TRUNC(AO33),1,0),IF(AND(AO33*1=AO33,AO33>=0),1,0),IF(AND(AO33=TRUNC(AO33),AO33>=0),1,0),IF(AND(AO33*1=AO33,AO33>0),1,0),IF(AND(AO33=TRUNC(AO33),AO33>0),1,0),1,IF(ISNA(HLOOKUP(AO33,$AU$4:$BD$4,1,0)),0,1)),0))) -> 1 | CL33: =N33>=CS$7 -> TRUE | CM33: =O33>=CM$7 -> TRUE | CN33: =P33>=CN$7 -> TRUE | CO33: =Q33>=CO$7 -> FALSE | CQ33: =AD33>=CQ$7 -> FALSE | CR33: =COUNTIF(CL33:CQ33,TRUE) -> 3 | CS33: =N33>=CS$7 -> TRUE | CT33: =O33>=CT$7 -> TRUE | CU33: =P33>=CU$7 -> TRUE | CV33: =Q33>=CV$7 -> FALSE | CX33: =AD33>=CX$7 -> FALSE | CY33: =COUNTIF(CS33:CX33,TRUE) -> 3 | CZ33: =IF($F33="","",IF(CR33=$CM$5,1,0)) | DA33: =IF($F33="","",IF(AND(CY33=$CM$5,CY33-CR33<=$CT$5),1,0))
B34: =IF(F34="","",ROW()-30) | F34: =IF('4'!$F$1="4","",'4'!$F$1) | N34: =IF($F34="","",'ריכוז גיליונות עזר'!H34) | O34: =IF($F34="","",'ריכוז גיליונות עזר'!K34) | P34: =IF($F34="","",'ריכוז גיליונות עזר'!L34) | R34: =IF($F34="","",IF(P34=0,1,IF(Q34<N34,$AR$1,N34/Q34))) | S34: =IF($F34="","",IF(OR(AND(R34=1,P34=1),R34=$AR$1),$AR$1,IF(OR(R34>=$R$5,N34>=$Q$5),1,0))) | AE34: =IF($F34="","",IF(OR(CZ34=1,AND(X34=1,Y34=1,DA34=1)),1,0)) | AO34: =IF($F34="","",IF(AK34=1,1,IF(AQ34<>1,$AR$1,IF(SUMPRODUCT(--(G34:AJ34>=$G$5:$AJ$5)*($G$5:$AJ$5<>"")*($G$4:$AJ$4=1))=COUNTIF($G$4:$AJ$4,1),1,0)))) | AQ34: =IF(OR(SUM(AT34:CA34)<>COUNT(AT34:CA34),SUMPRODUCT(--(G34:AJ34=$AR$1))<>0),0,1) -> 0 | AR34: =IF($F34="","",AR$30) | AS34: =IF($F34="","",AS$30) | AT34: =IF(OR(G$30="",G$4=99),1,IF(G34="",0,IFERROR(CHOOSE(AT$28,IF(ISNA(MATCH(G34,$AR$30:$AS$30,0)),0,1),IF(ISNUMBER(G34),1,0),IF(G34=TRUNC(G34),1,0),IF(AND(G34*1=G34,G34>=0),1,0),IF(AND(G34=TRUNC(G34),G34>=0),1,0),IF(AND(G34*1=G34,G34>0),1,0),IF(AND(G34=TRUNC(G34),G34>0),1,0),1,IF(ISNA(HLOOKUP(G34,$AU$4:$BD$4,1,0)),0,1)),0))) -> 0 | AU34: =IF(OR(H$30="",H$4=99),1,IF(H34="",0,IFERROR(CHOOSE(AU$28,IF(ISNA(MATCH(H34,$AR$30:$AS$30,0)),0,1),IF(ISNUMBER(H34),1,0),IF(H34=TRUNC(H34),1,0),IF(AND(H34*1=H34,H34>=0),1,0),IF(AND(H34=TRUNC(H34),H34>=0),1,0),IF(AND(H34*1=H34,H34>0),1,0),IF(AND(H34=TRUNC(H34),H34>0),1,0),1,IF(ISNA(HLOOKUP(H34,$AU$4:$BD$4,1,0)),0,1)),0))) -> 0 | AV34: =IF(OR(I$30="",I$4=99),1,IF(I34="",0,IFERROR(CHOOSE(AV$28,IF(ISNA(MATCH(I34,$AR$30:$AS$30,0)),0,1),IF(ISNUMBER(I34),1,0),IF(I34=TRUNC(I34),1,0),IF(AND(I34*1=I34,I34>=0),1,0),IF(AND(I34=TRUNC(I34),I34>=0),1,0),IF(AND(I34*1=I34,I34>0),1,0),IF(AND(I34=TRUNC(I34),I34>0),1,0),1,IF(ISNA(HLOOKUP(I34,$AU$4:$BD$4,1,0)),0,1)),0))) -> 0 | AW34: =IF(OR(J$30="",J$4=99),1,IF(J34="",0,IFERROR(CHOOSE(AW$28,IF(ISNA(MATCH(J34,$AR$30:$AS$30,0)),0,1),IF(ISNUMBER(J34),1,0),IF(J34=TRUNC(J34),1,0),IF(AND(J34*1=J34,J34>=0),1,0),IF(AND(J34=TRUNC(J34),J34>=0),1,0),IF(AND(J34*1=J34,J34>0),1,0),IF(AND(J34=TRUNC(J34),J34>0),1,0),1,IF(ISNA(HLOOKUP(J34,$AU$4:$BD$4,1,0)),0,1)),0))) -> 0 | AX34: =IF(OR(K$30="",K$4=99),1,IF(K34="",0,IFERROR(CHOOSE(AX$28,IF(ISNA(MATCH(K34,$AR$30:$AS$30,0)),0,1),IF(ISNUMBER(K34),1,0),IF(K34=TRUNC(K34),1,0),IF(AND(K34*1=K34,K34>=0),1,0),IF(AND(K34=TRUNC(K34),K34>=0),1,0),IF(AND(K34*1=K34,K34>0),1,0),IF(AND(K34=TRUNC(K34),K34>0),1,0),1,IF(ISNA(HLOOKUP(K34,$AU$4:$BD$4,1,0)),0,1)),0))) -> 0 | AY34: =IF(OR(L$30="",L$4=99),1,IF(L34="",0,IFERROR(CHOOSE(AY$28,IF(ISNA(MATCH(L34,$AR$30:$AS$30,0)),0,1),IF(ISNUMBER(L34),1,0),IF(L34=TRUNC(L34),1,0),IF(AND(L34*1=L34,L34>=0),1,0),IF(AND(L34=TRUNC(L34),L34>=0),1,0),IF(AND(L34*1=L34,L34>0),1,0),IF(AND(L34=TRUNC(L34),L34>0),1,0),1,IF(ISNA(HLOOKUP(L34,$AU$4:$BD$4,1,0)),0,1)),0))) -> 0 | AZ34: =IF(OR(M$30="",M$4=99),1,IF(M34="",0,IFERROR(CHOOSE(AZ$28,IF(ISNA(MATCH(M34,$AR$30:$AS$30,0)),0,1),IF(ISNUMBER(M34),1,0),IF(M34=TRUNC(M34),1,0),IF(AND(M34*1=M34,M34>=0),1,0),IF(AND(M34=TRUNC(M34),M34>=0),1,0),IF(AND(M34*1=M34,M34>0),1,0),IF(AND(M34=TRUNC(M34),M34>0),1,0),1,IF(ISNA(HLOOKUP(M34,$AU$4:$BD$4,1,0)),0,1)),0))) -> 0 | BA34: =IF(OR(N$30="",N$4=99),1,IF(N34="",0,IFERROR(CHOOSE(BA$28,IF(ISNA(MATCH(N34,$AR$30:$AS$30,0)),0,1),IF(ISNUMBER(N34),1,0),IF(N34=TRUNC(N34),1,0),IF(AND(N34*1=N34,N34>=0),1,0),IF(AND(N34=TRUNC(N34),N34>=0),1,0),IF(AND(N34*1=N34,N34>0),1,0),IF(AND(N34=TRUNC(N34),N34>0),1,0),1,IF(ISNA(HLOOKUP(N34,$AU$4:$BD$4,1,0)),0,1)),0))) -> 1 | ... BH34: =IF(OR(U$30="",U$4=99),1,IF(U34="",0,IFERROR(CHOOSE(BH$28,IF(ISNA(MATCH(U34,$AR$30:$AS$30,0)),0,1),IF(ISNUMBER(U34),1,0),IF(U34=TRUNC(U34),1,0),IF(AND(U34*1=U34,U34>=0),1,0),IF(AND(U34=TRUNC(U34),U34>=0),1,0),IF(AND(U34*1=U34,U34>0),1,0),IF(AND(U34=TRUNC(U34),U34>0),1,0),1,IF(ISNA(HLOOKUP(U34,$AU$4:$BD$4,1,0)),0,1)),0))) -> 0 | BI34: =IF(OR(V$30="",W$4=99),1,IF(V34="",0,IFERROR(CHOOSE(BI$28,IF(ISNA(MATCH(V34,$AR$30:$AS$30,0)),0,1),IF(ISNUMBER(V34),1,0),IF(V34=TRUNC(V34),1,0),IF(AND(V34*1=V34,V34>=0),1,0),IF(AND(V34=TRUNC(V34),V34>=0),1,0),IF(AND(V34*1=V34,V34>0),1,0),IF(AND(V34=TRUNC(V34),V34>0),1,0),1,IF(ISNA(HLOOKUP(V34,$AU$4:$BD$4,1,0)),0,1)),0))) -> 0 | BJ34: =IF(OR(W$30="",X$4=99),1,IF(W34="",0,IFERROR(CHOOSE(BJ$28,IF(ISNA(MATCH(W34,$AR$30:$AS$30,0)),0,1),IF(ISNUMBER(W34),1,0),IF(W34=TRUNC(W34),1,0),IF(AND(W34*1=W34,W34>=0),1,0),IF(AND(W34=TRUNC(W34),W34>=0),1,0),IF(AND(W34*1=W34,W34>0),1,0),IF(AND(W34=TRUNC(W34),W34>0),1,0),1,IF(ISNA(HLOOKUP(W34,$AU$4:$BD$4,1,0)),0,1)),0))) -> 1 | BK34: =IF(OR(X$30="",X$4=99),1,IF(X34="",0,IFERROR(CHOOSE(BK$28,IF(ISNA(MATCH(X34,$AR$30:$AS$30,0)),0,1),IF(ISNUMBER(X34),1,0),IF(X34=TRUNC(X34),1,0),IF(AND(X34*1=X34,X34>=0),1,0),IF(AND(X34=TRUNC(X34),X34>=0),1,0),IF(AND(X34*1=X34,X34>0),1,0),IF(AND(X34=TRUNC(X34),X34>0),1,0),1,IF(ISNA(HLOOKUP(X34,$AU$4:$BD$4,1,0)),0,1)),0))) -> 1 | BL34: =IF(OR(Y$30="",Y$4=99),1,IF(Y34="",0,IFERROR(CHOOSE(BL$28,IF(ISNA(MATCH(Y34,$AR$30:$AS$30,0)),0,1),IF(ISNUMBER(Y34),1,0),IF(Y34=TRUNC(Y34),1,0),IF(AND(Y34*1=Y34,Y34>=0),1,0),IF(AND(Y34=TRUNC(Y34),Y34>=0),1,0),IF(AND(Y34*1=Y34,Y34>0),1,0),IF(AND(Y34=TRUNC(Y34),Y34>0),1,0),1,IF(ISNA(HLOOKUP(Y34,$AU$4:$BD$4,1,0)),0,1)),0))) -> 1 | BM34: =IF(OR(Z$30="",Z$4=99),1,IF(Z34="",0,IFERROR(CHOOSE(BM$28,IF(ISNA(MATCH(Z34,$AR$30:$AS$30,0)),0,1),IF(ISNUMBER(Z34),1,0),IF(Z34=TRUNC(Z34),1,0),IF(AND(Z34*1=Z34,Z34>=0),1,0),IF(AND(Z34=TRUNC(Z34),Z34>=0),1,0),IF(AND(Z34*1=Z34,Z34>0),1,0),IF(AND(Z34=TRUNC(Z34),Z34>0),1,0),1,IF(ISNA(HLOOKUP(Z34,$AU$4:$BD$4,1,0)),0,1)),0))) -> 1 | BN34: =IF(OR(AA$30="",AA$4=99),1,IF(AA34="",0,IFERROR(CHOOSE(BN$28,IF(ISNA(MATCH(AA34,$AR$30:$AS$30,0)),0,1),IF(ISNUMBER(AA34),1,0),IF(AA34=TRUNC(AA34),1,0),IF(AND(AA34*1=AA34,AA34>=0),1,0),IF(AND(AA34=TRUNC(AA34),AA34>=0),1,0),IF(AND(AA34*1=AA34,AA34>0),1,0),IF(AND(AA34=TRUNC(AA34),AA34>0),1,0),1,IF(ISNA(HLOOKUP(AA34,$AU$4:$BD$4,1,0)),0,1)),0))) -> 1 | BO34: =IF(OR(AB$30="",AB$4=99),1,IF(AB34="",0,IFERROR(CHOOSE(BO$28,IF(ISNA(MATCH(AB34,$AR$30:$AS$30,0)),0,1),IF(ISNUMBER(AB34),1,0),IF(AB34=TRUNC(AB34),1,0),IF(AND(AB34*1=AB34,AB34>=0),1,0),IF(AND(AB34=TRUNC(AB34),AB34>=0),1,0),IF(AND(AB34*1=AB34,AB34>0),1,0),IF(AND(AB34=TRUNC(AB34),AB34>0),1,0),1,IF(ISNA(HLOOKUP(AB34,$AU$4:$BD$4,1,0)),0,1)),0))) -> 1 | BP34: =IF(OR(AC$30="",AC$4=99),1,IF(AC34="",0,IFERROR(CHOOSE(BP$28,IF(ISNA(MATCH(AC34,$AR$30:$AS$30,0)),0,1),IF(ISNUMBER(AC34),1,0),IF(AC34=TRUNC(AC34),1,0),IF(AND(AC34*1=AC34,AC34>=0),1,0),IF(AND(AC34=TRUNC(AC34),AC34>=0),1,0),IF(AND(AC34*1=AC34,AC34>0),1,0),IF(AND(AC34=TRUNC(AC34),AC34>0),1,0),1,IF(ISNA(HLOOKUP(AC34,$AU$4:$BD$4,1,0)),0,1)),0))) -> 1 | BQ34: =IF(OR(AD$30="",AD$4=99),1,IF(AD34="",0,IFERROR(CHOOSE(BQ$28,IF(ISNA(MATCH(AD34,$AR$30:$AS$30,0)),0,1),IF(ISNUMBER(AD34),1,0),IF(AD34=TRUNC(AD34),1,0),IF(AND(AD34*1=AD34,AD34>=0),1,0),IF(AND(AD34=TRUNC(AD34),AD34>=0),1,0),IF(AND(AD34*1=AD34,AD34>0),1,0),IF(AND(AD34=TRUNC(AD34),AD34>0),1,0),1,IF(ISNA(HLOOKUP(AD34,$AU$4:$BD$4,1,0)),0,1)),0))) -> 0 | BR34: =IF(OR(AE$30="",AE$4=99),1,IF(AE34="",0,IFERROR(CHOOSE(BR$28,IF(ISNA(MATCH(AE34,$AR$30:$AS$30,0)),0,1),IF(ISNUMBER(AE34),1,0),IF(AE34=TRUNC(AE34),1,0),IF(AND(AE34*1=AE34,AE34>=0),1,0),IF(AND(AE34=TRUNC(AE34),AE34>=0),1,0),IF(AND(AE34*1=AE34,AE34>0),1,0),IF(AND(AE34=TRUNC(AE34),AE34>0),1,0),1,IF(ISNA(HLOOKUP(AE34,$AU$4:$BD$4,1,0)),0,1)),0))) -> 1 | ... BU34: =IF(OR(AH$30="",AH$4=99),1,IF(AH34="",0,IFERROR(CHOOSE(BU$28,IF(ISNA(MATCH(AH34,$AR$30:$AS$30,0)),0,1),IF(ISNUMBER(AH34),1,0),IF(AH34=TRUNC(AH34),1,0),IF(AND(AH34*1=AH34,AH34>=0),1,0),IF(AND(AH34=TRUNC(AH34),AH34>=0),1,0),IF(AND(AH34*1=AH34,AH34>0),1,0),IF(AND(AH34=TRUNC(AH34),AH34>0),1,0),1,IF(ISNA(HLOOKUP(AH34,$AU$4:$BD$4,1,0)),0,1)),0))) -> 0 | BV34: =IF(OR(AJ$30="",AJ$4=99),1,IF(AJ34="",0,IFERROR(CHOOSE(BV$28,IF(ISNA(MATCH(AJ34,$AR$30:$AS$30,0)),0,1),IF(ISNUMBER(AJ34),1,0),IF(AJ34=TRUNC(AJ34),1,0),IF(AND(AJ34*1=AJ34,AJ34>=0),1,0),IF(AND(AJ34=TRUNC(AJ34),AJ34>=0),1,0),IF(AND(AJ34*1=AJ34,AJ34>0),1,0),IF(AND(AJ34=TRUNC(AJ34),AJ34>0),1,0),1,IF(ISNA(HLOOKUP(AJ34,$AU$4:$BD$4,1,0)),0,1)),0))) -> 0 | BW34: =IF(OR(AK$30="",AK$4=99),1,IF(AK34="",0,IFERROR(CHOOSE(BW$28,IF(ISNA(MATCH(AK34,$AR$30:$AS$30,0)),0,1),IF(ISNUMBER(AK34),1,0),IF(AK34=TRUNC(AK34),1,0),IF(AND(AK34*1=AK34,AK34>=0),1,0),IF(AND(AK34=TRUNC(AK34),AK34>=0),1,0),IF(AND(AK34*1=AK34,AK34>0),1,0),IF(AND(AK34=TRUNC(AK34),AK34>0),1,0),1,IF(ISNA(HLOOKUP(AK34,$AU$4:$BD$4,1,0)),0,1)),0))) -> 1 | BX34: =IF(OR(AL$30="",AL$4=99),1,IF(AL34="",0,IFERROR(CHOOSE(BX$28,IF(ISNA(MATCH(AL34,$AR$30:$AS$30,0)),0,1),IF(ISNUMBER(AL34),1,0),IF(AL34=TRUNC(AL34),1,0),IF(AND(AL34*1=AL34,AL34>=0),1,0),IF(AND(AL34=TRUNC(AL34),AL34>=0),1,0),IF(AND(AL34*1=AL34,AL34>0),1,0),IF(AND(AL34=TRUNC(AL34),AL34>0),1,0),1,IF(ISNA(HLOOKUP(AL34,$AU$4:$BD$4,1,0)),0,1)),0))) -> 1 | BY34: =IF(OR(AM$30="",AM$4=99),1,IF(AM34="",0,IFERROR(CHOOSE(BY$28,IF(ISNA(MATCH(AM34,$AR$30:$AS$30,0)),0,1),IF(ISNUMBER(AM34),1,0),IF(AM34=TRUNC(AM34),1,0),IF(AND(AM34*1=AM34,AM34>=0),1,0),IF(AND(AM34=TRUNC(AM34),AM34>=0),1,0),IF(AND(AM34*1=AM34,AM34>0),1,0),IF(AND(AM34=TRUNC(AM34),AM34>0),1,0),1,IF(ISNA(HLOOKUP(AM34,$AU$4:$BD$4,1,0)),0,1)),0))) -> 1 | BZ34: =IF(OR(AN$30="",AN$4=99),1,IF(AN34="",0,IFERROR(CHOOSE(BZ$28,IF(ISNA(MATCH(AN34,$AR$30:$AS$30,0)),0,1),IF(ISNUMBER(AN34),1,0),IF(AN34=TRUNC(AN34),1,0),IF(AND(AN34*1=AN34,AN34>=0),1,0),IF(AND(AN34=TRUNC(AN34),AN34>=0),1,0),IF(AND(AN34*1=AN34,AN34>0),1,0),IF(AND(AN34=TRUNC(AN34),AN34>0),1,0),1,IF(ISNA(HLOOKUP(AN34,$AU$4:$BD$4,1,0)),0,1)),0))) -> 1 | CA34: =IF(OR(AO$30="",AO$4=99),1,IF(AO34="",0,IFERROR(CHOOSE(CA$28,IF(ISNA(MATCH(AO34,$AR$30:$AS$30,0)),0,1),IF(ISNUMBER(AO34),1,0),IF(AO34=TRUNC(AO34),1,0),IF(AND(AO34*1=AO34,AO34>=0),1,0),IF(AND(AO34=TRUNC(AO34),AO34>=0),1,0),IF(AND(AO34*1=AO34,AO34>0),1,0),IF(AND(AO34=TRUNC(AO34),AO34>0),1,0),1,IF(ISNA(HLOOKUP(AO34,$AU$4:$BD$4,1,0)),0,1)),0))) -> 1 | CL34: =N34>=CS$7 -> TRUE | CM34: =O34>=CM$7 -> TRUE | CN34: =P34>=CN$7 -> TRUE | CO34: =Q34>=CO$7 -> FALSE | CQ34: =AD34>=CQ$7 -> FALSE | CR34: =COUNTIF(CL34:CQ34,TRUE) -> 3 | CS34: =N34>=CS$7 -> TRUE | CT34: =O34>=CT$7 -> TRUE | CU34: =P34>=CU$7 -> TRUE | CV34: =Q34>=CV$7 -> FALSE | CX34: =AD34>=CX$7 -> FALSE | CY34: =COUNTIF(CS34:CX34,TRUE) -> 3 | CZ34: =IF($F34="","",IF(CR34=$CM$5,1,0)) | DA34: =IF($F34="","",IF(AND(CY34=$CM$5,CY34-CR34<=$CT$5),1,0))
