Workbook

Sheet ProtectSettings
B1: 0.14252871
B2: 45509.399
A6: AllowFilterCheckBox
A7: AllowFormattingCheckBox
A8: AllowColumnFormattingCheckBox | B8: TRUE
A9: AllowRowFormattingCheckBox | B9: TRUE

Sheet הדרכה למשתמש
B2: הדרכה למשתמש
B4: תאריך בניית המודל | C4: 43615
B5: תאריך עדכון מודל
B7: הערות חשובות: בעת עריכת המודל - חל איסור מוחלט לבצע גזירה והדבקה או העברה של תא ממקום למקום על ידי גרירה. אסור לבצע "הוספה" או "מחיקה" של שורות או עמודות יש לפתוח את המודל בגרסת אקסל 2010 לפחות. חל איסור לשמור את הקובץ בפורמט התואם אקסל 97-2003
B9: הוראת שעה/מעבר: 2019-2020
B11: הדרכה להזנת נתונים
B12: צבע התא | C12: מטרת התא | D12: דגש
B13: צהוב | C13: הזנת נתונים | D13: נדרש להזין מידע בהתאם להנחיות מבחן התמיכה, אי הזנה של תא יכולה להביא לידי שגיאה בתוצאות במודל. במקומות שבהם מזינים 0/1, אז המשמעות של 0 הוא "לא" ו-1 "כן"
B14: חום | C14: הצגת מידע | D14: תא שאיננו מיועד להזנה. תא זה מציג מידע עפ"י נוסחה קבועה ואין לשנות אותה.
B15: אדום | C15: התראת שגיאה | D15: קיימת שגיאה בהזנת נתונים באחד מהתאים המיועדים להזנה, נדרש להזין את הנתונים הנדרשים לפני קביעת גובה תמיכה סופי.
B17: את רשימת המוסדות יש להזין בגיליונות השמאליים של הקובץ הממוספרים מ1 עד 10 במקום שם הגיליון , גיליון שממוספר מ1-10 ואינו נמצא בשימוש אין לשנות את שם הגיליון הקיים כברירת מחדל (מספר סידורי). במידה והוחלט לא להשתמש בגיליון לאחר כתיבת השם, נדרש לשנות חזרה את שם הגיליון למספר סידורי
B33: ניהול גרסאות
B34: מספר גרסה | C34: תאריך עדכון גרסה | D34: תאריך גרסה של מבחן תמיכה | E34: התאמות נוספות של מבחן תמיכה

Sheet פרמטרים לקריטריונים
B2: מודל קידום יצירה ישראלית
B4: שנת תקציב | C4: 2025
B5: תקציב התמיכה | C5: 1538184
B9: הגדרות
B10: הגדרת שנה | C10: תאריך התחלה | D10: תאריך סיום
B11: שנת התמיכה/תקציב | C11: =DATE($C$4,1,1) -> 45658 | D11: =DATE($C$4,12,31) -> 46022
B12: שנת ההערכה | C12: =DATE($C$4-3,10,1) -> 44835 | D12: =DATE($C$4-2,9,30) -> 45199
B13: שנת התקציב המבוקר | C13: =DATE($C$4-3,1,1) -> 44562 | D13: =DATE($C$4-3,12,31) -> 44926
B14: שנה תקציבית קודמת | C14: =DATE($C$4-1,1,1) -> 45292 | D14: =DATE($C$4-1,12,31) -> 45657
B24: סיווג | I24: מקדם
B25: סיווג | C25: תקציב גבוהה מ: | D25: הרצות
B30: משקולות קריטריונים
B31: סעיף | C31: משקל
B32: מספר פרסומים | C32: 0.35
B33: תקציב | C33: 0.2
B35: מספר אירועים | C35: 0.2
B37: מלחינים בראשית דרכם | C37: 0.15
B38: עובדים מקצועיים | C38: 0.1
D40: 0
D41: 0
D42: 0
D43: 0
D44: 0
D45: 0
B58: סה"כ | C58: =SUM(C32:C57) -> 1
B60: ="פרמטרים לחישוב ניקוד משתנה "&$B$32 -> פרמטרים לחישוב ניקוד משתנה מספר פרסומים
B61: סעיף | C61: ניקוד
B62: בעד כל פרסום שהוציא לאור בשנת ההערכה | C62: 1
B80: ="פרמטרים לחישוב ניקוד משתנה "&$B$33 -> פרמטרים לחישוב ניקוד משתנה תקציב
B81: סעיף | C81: ניקוד
B82: בעד כל שקל חדש בתקציב | C82: 1
B100: ="פרמטרים לחישוב ניקוד משתנה "&$B$34 -> פרמטרים לחישוב ניקוד משתנה
B120: ="פרמטרים לחישוב ניקוד משתנה "&$B$35 -> פרמטרים לחישוב ניקוד משתנה מספר אירועים
B121: סעיף | C121: ניקוד
B122: מספר משתתפים מינימלי | C122: 50
B123: מספר דקות מינימלי | C123: 50
B124: מספר דקות מינימלי לאירועי ילדים | C124: 35 | D124: השתנה בהתאם למבחן
B125: ניקוד לאירוע | C125: 1
B140: ="פרמטרים לחישוב ניקוד משתנה "&$B$36 -> פרמטרים לחישוב ניקוד משתנה
B141: מקום פעילות המרכזי | C141: ניקוד
B160: ="פרמטרים לחישוב ניקוד משתנה "&$B$37 -> פרמטרים לחישוב ניקוד משתנה מלחינים בראשית דרכם
B161: סעיף | C161: ניקוד
B162: בעד כל מלחין בראשית דרכו שהמוסד הוציא לאור יצירה מוסיקלית שלו או ערך אירוע לקידום פעילותו | C162: 1
B180: ="פרמטרים לחישוב ניקוד משתנה "&$B$38 -> פרמטרים לחישוב ניקוד משתנה עובדים מקצועיים
B181: סעיף | C181: ניקוד
B182: בעד כל עובד מקצועי שהעסיק בשכר בשנת התקציב המבוקר בלפחות חצי משרה | C182: 1
B200: ="פרמטרים לחישוב ניקוד משתנה "&$B$39 -> פרמטרים לחישוב ניקוד משתנה
B201: סעיף | C201: ניקוד
B220: ="פרמטרים לחישוב ניקוד משתנה "&$B$40 -> פרמטרים לחישוב ניקוד משתנה
B221: סעיף | C221: ניקוד
B222: א | C222: 1
B223: ב | C223: 2
B224: ג | C224: 3
B225: ד | C225: 4
B226: ה | C226: 5
B240: ="פרמטרים לחישוב ניקוד משתנה "&$B$41 -> פרמטרים לחישוב ניקוד משתנה
B241: סעיף | C241: ניקוד
B242: א | C242: 1
B243: ב | C243: 2
B244: ג | C244: 3
B245: ד | C245: 4
B246: ה | C246: 5
B260: ="פרמטרים לחישוב ניקוד משתנה "&$B$42 -> פרמטרים לחישוב ניקוד משתנה
B261: סעיף | C261: ניקוד
B262: א | C262: 1
B263: ב | C263: 2
B264: ג | C264: 3
B265: ד | C265: 4
B266: ה | C266: 5
B280: ="פרמטרים לחישוב ניקוד משתנה "&$B$43 -> פרמטרים לחישוב ניקוד משתנה
B281: סעיף | C281: ניקוד
B282: א | C282: 1
B283: ב | C283: 2
B284: ג | C284: 3
B285: ד | C285: 4
B286: ה | C286: 5
B300: ="פרמטרים לחישוב ניקוד משתנה "&$B$44 -> פרמטרים לחישוב ניקוד משתנה
B301: סעיף | C301: ניקוד
B302: א | C302: 1
B303: ב | C303: 2
B304: ג | C304: 3
B305: ד | C305: 4
B306: ה | C306: 5
B320: ="פרמטרים לחישוב ניקוד משתנה "&$B$45 -> פרמטרים לחישוב ניקוד משתנה
B321: סעיף | C321: ניקוד
B322: א | C322: 1
B323: ב | C323: 2
B324: ג | C324: 3
B325: ד | C325: 4
B326: ה | C326: 5

Sheet הוראת שעה
A4: האם חלה הוראת השעה בשנה הספציפית
A5: שנה | C5: הגנה הוראת שעה | D5: מינימום תמיכה | E5: שיעור הקלה | F5: תנאי סף חומר ארכיוני
A6: 2019 | C6: 0.85 | D6: 20000 | E6: 0.7 | F6: 0
A7: =A6+1 -> 2020 | C7: 0 | D7: 25000 | E7: 0.7 | F7: 0
A8: =A7+1 -> 2021 | C8: 0 | D8: 25000 | E8: 0.8 | F8: 0
A9: =A8+1 -> 2022 | C9: 0 | D9: 25000 | E9: 0.8 | F9: 1
A10: =A9+1 -> 2023 | C10: 0 | D10: 25000 | E10: 0.8 | F10: 1
A11: =A10+1 -> 2024 | C11: 0 | D11: 25000 | E11: 0.8 | F11: 1
A12: =A11+1 -> 2025 | C12: 0 | D12: 25000 | E12: 0.8 | F12: 1
A13: =A12+1 -> 2026 | C13: 0 | D13: 25000 | E13: 0.8 | F13: 1
A14: =A13+1 -> 2027 | C14: 0 | D14: 25000 | E14: 0.8 | F14: 1
A15: =A14+1 -> 2028 | C15: 0 | D15: 25000 | E15: 0.8 | F15: 1
A16: =A15+1 -> 2029 | C16: 0 | D16: 25000 | E16: 0.8 | F16: 1
A17: =A16+1 -> 2030 | C17: 0 | D17: 25000 | E17: 0.8 | F17: 1
A18: =A17+1 -> 2031 | C18: 0 | D18: 25000 | E18: 0.8 | F18: 1
... A20: =A19+1 -> 2033 | C20: 0 | D20: 25000 | E20: 0.8 | F20: 1

Sheet תנאי סף
B1: =MID(CELL("filename",AS2),FIND("]",CELL("filename",AS2),1)+1,99) -> תנאי סף | AR1: בדוק נתוני הזנה | AT1: סוגי בקרות | AU1: 0/1 | AV1: מספר | AW1: מספר שלם | AX1: מספר שאינו שלילי | AY1: מספר שלם שאינו שלילי | AZ1: מספר חיובי | BA1: מספר שלם חיובי | BB1: טקסט | BC1: טקסט מרשימה סגורה
AO2: ='פרמטרים לקריטריונים'!$B$4 -> שנת תקציב | AP2: ='פרמטרים לקריטריונים'!$C$4 -> 2025 | AU2: =IF(ISNA(MATCH(G31,$AR$30:$AS$30,0)),0,1) -> 1 | AV2: =IF(IFERROR(G31*1,"bad")="bad",0,1) -> 1 | AW2: =IF(IFERROR(IF(G31=TRUNC(G31),1,"bad"),"bad")="bad",0,1) -> 1 | AX2: =IF(AND(IF(IFERROR(G31*1,"bad")="bad",0,1)=1,G31>=0),1,0) -> 1 | AY2: =IF(AND(IF(IFERROR(IF(G31=TRUNC(G31),1,"bad"),"bad")="bad",0,1)=1,G31>=0),1,0) -> 1 | AZ2: =IF(AND(IF(IFERROR(G31*1,"bad")="bad",0,1)=1,G31>0),1,0) -> 1 | BA2: =IF(AND(IF(IFERROR(IF(G31=TRUNC(G31),1,"bad"),"bad")="bad",0,1)=1,G31>0),1,0) -> 1 | BB2: 1 | BC2: =IF(IFERROR(HLOOKUP(G31,$CF$30:$CP$30,1,0),"bad")="bad",0,1) -> 0
AO3: ='פרמטרים לקריטריונים'!$B$5 -> תקציב התמיכה | AP3: ='פרמטרים לקריטריונים'!$C$5 -> 1538184 | AT3: מספר בקרה | AU3: 1 | AV3: 2 | AW3: 3 | AX3: 4 | AY3: 5 | AZ3: 6 | BA3: 7 | BB3: 8 | BC3: 9
F4: רלוונטי למבחן עמידה בתנאי סף? 1=רלוונטי. 0= לא רלוונטי אבל נדרשת בקרה על הזנת נתונים. 99= לא רלוונטי ולא נדרשת בקה על הזנת נתונים | G4: 1 | H4: 1 | I4: 1 | J4: 1 | K4: 1 | L4: 1 | M4: 1 | N4: 0 | O4: 0 | P4: 0 | Q4: 1 | T4: 1 | U4: 1 | V4: 1 | W4: 1 | X4: 99 | Y4: 99 | AD4: 0 | AE4: 1 | AF4: =INDEX('הוראת שעה'!$F$6:$F$20,MATCH($AP$2,'הוראת שעה'!$A$6:$A$20,1)) -> 1 | AG4: 1 | AH4: 1 | AI4: 1 | AJ4: 1 | AK4: 99 | AT4: רשימה סגורה | AU4: 1 | AV4: 2 | AW4: 3 | AX4: 4 | AY4: 5 | AZ4: 6 | BA4: 7 | BB4: 8 | BC4: 9 | BD4: 10 | CS4: שיעור הקלה | CT4: =INDEX('הוראת שעה'!$E$6:$E$20,MATCH($AP$2,'הוראת שעה'!$A$6:$A$20,1)) -> 0.8
F5: מעבר תנאי סף- במידה ולא רלוונטי להשאיר ריק | G5: 1 | H5: 1 | I5: 1 | J5: 1 | K5: 1 | L5: 1 | M5: 1 | N5: 8 | O5: 50 | P5: 50 | Q5: 15 | T5: 1 | U5: 1 | V5: 1 | W5: 1 | AD5: 108777 | AE5: 1 | AF5: 1 | AG5: 1 | AH5: 1 | AI5: 1 | AJ5: 1 | CL5: מספר תנאים | CM5: =COUNTA(CL7:CR7) -> 5 | CS5: הקלות מותרות | CT5: 2
CS6: נדרש לפי הקלה
CL7: =N5 -> 8 | CM7: =O5 -> 50 | CN7: =P5 -> 50 | CO7: =Q5 -> 15 | CQ7: =AD5 -> 108777 | CS7: =ROUNDUP(CL7*$CT$4,0) -> 7 | CT7: =ROUNDUP(CM7*$CT$4,0) -> 40 | CU7: =ROUNDUP(CN7*$CT$4,0) -> 40 | CV7: =ROUNDUP(CO7*$CT$4,0) -> 12 | CX7: =ROUNDUP(CQ7*$CT$4,0) -> 87022
AQ28: =IF(SUM(AQ31:AQ130)=COUNT(AQ31:AQ130),1,0) -> 0 | AT28: =MATCH(G$30,$AU$1:$BC$1,0) -> 1 | AU28: =MATCH(H$30,$AU$1:$BC$1,0) -> 1 | AV28: =MATCH(I$30,$AU$1:$BC$1,0) -> 1 | AW28: =MATCH(J$30,$AU$1:$BC$1,0) -> 1 | AX28: =MATCH(K$30,$AU$1:$BC$1,0) -> 1 | AY28: =MATCH(L$30,$AU$1:$BC$1,0) -> 1 | AZ28: =MATCH(M$30,$AU$1:$BC$1,0) -> 1 | BA28: =MATCH(N$30,$AU$1:$BC$1,0) -> #N/A | ... BU28: =MATCH(AH$30,$AU$1:$BC$1,0) -> 1 | BV28: =MATCH(AJ$30,$AU$1:$BC$1,0) -> 1 | BW28: =MATCH(AK$30,$AU$1:$BC$1,0) -> #N/A | BX28: =MATCH(AL$30,$AU$1:$BC$1,0) -> #N/A | BY28: =MATCH(AM$30,$AU$1:$BC$1,0) -> #N/A | BZ28: =MATCH(AN$30,$AU$1:$BC$1,0) -> #N/A | CA28: =MATCH(AO$30,$AU$1:$BC$1,0) -> #N/A
A29: 100 | B29: מס"ד | C29: =COLUMN() -> 3 | D29: =COLUMN() -> 4 | E29: =COLUMN() -> 5 | F29: שם המוסד | G29: מקיים פעילות מוסקלית מקצועית במשך שנתיים | H29: התקציב מנוהל כמשק סגור ובאופן ישיר | I29: מטרות המוסד עולים בקנה אחד עם מטרות התמיכה | J29: עומד בדרישות הנוהל | K29: המוסד מציין בפרסומיו את תמיכת המשרד | L29: ="ותק של שנתיים לפחות בתחום נכון ל-1/1/"&AP2 -> ותק של שנתיים לפחות בתחום נכון ל-1/1/2025 | M29: עיקר פעילותו סיוע ליצירה ישראלית מקורית וקידום מלחינים | N29: מספר אירועים לקידום מלחינים ישראליים | O29: מספר צופים מינימלי לאירועים | P29: אורך מינימלי של אירוע (דקות) | Q29: מספר פרסומים שהוציא לאור | T29: אינו חלק ממוסד מוכר להשכלה גבוהה או מבית ספר לאמנות המקבל תמיכה ממינהל התרבות | U29: מעסיק בשכר מנהל אמנותי בחצי משרה לפחות | V29: מעסיק עורך ומנהל ארכיון קבועים | W29: מפעיל אתר אינטרנט כנדרש | X29: הוועדה המליצה קבלת הקלות | Y29: המוסד לא קיבל הקלה בשנה קודמת | AD29: תקציב השנתי של הפעילות הנתמכת | AE29: עומד בתנאים לאור הקלות | AF29: שומר על חומר ארכיוני כנדרש | AG29: למוסד תקנון מפורט כנדרש | AH29: התנאים צפוים להתקיים בשנת התמיכה על פי תכנית עבודה | AI29: במוסד בו מועסקים עובדים ביחסי עבודה, המוסד קבע תקנון למניעת הטרדה מינית ועומד בדרישות תקנה 8 לתקנות חובות מעסיק. המוסד צירף לבקשתו את התקנון ופרטים על ההתאמות בתקנון, פרסומו למסירתו. (במוסד בו אין מתכונת יחסי עבודה - יש לסמן 1 עבור תנאי זה) | AJ29: עומד בתנאי סף כלליים אחרים | AK29: מעבר תנאי סף-אישור מיוחד | AL29: ריק | AM29: ריק | AN29: ריק | AO29: מעבר תנאי סף | AP29: הערות | AQ29: בקרה ראשית | AT29: ="בקרת "&G29 -> בקרת מקיים פעילות מוסקלית מקצועית במשך שנתיים | AU29: ="בקרת "&H29 -> בקרת התקציב מנוהל כמשק סגור ובאופן ישיר | AV29: ="בקרת "&I29 -> בקרת מטרות המוסד עולים בקנה אחד עם מטרות התמיכה | AW29: ="בקרת "&J29 -> בקרת עומד בדרישות הנוהל | AX29: ="בקרת "&K29 -> בקרת המוסד מציין בפרסומיו את תמיכת המשרד | AY29: ="בקרת "&L29 -> בקרת ותק של שנתיים לפחות בתחום נכון ל-1/1/2025 | AZ29: ="בקרת "&M29 -> בקרת עיקר פעילותו סיוע ליצירה ישראלית מקורית וקידום מלחינים | BA29: ="בקרת "&N29 -> בקרת מספר אירועים לקידום מלחינים ישראליים | ... BU29: ="בקרת "&AH29 -> בקרת התנאים צפוים להתקיים בשנת התמיכה על פי תכנית עבודה | BV29: ="בקרת "&AJ29 -> בקרת עומד בתנאי סף כלליים אחרים | BW29: ="בקרת "&AK29 -> בקרת מעבר תנאי סף-אישור מיוחד | BX29: ="בקרת "&AL29 -> בקרת ריק | BY29: ="בקרת "&AM29 -> בקרת ריק | BZ29: ="בקרת "&AN29 -> בקרת ריק | CA29: ="בקרת "&AO29 -> בקרת מעבר תנאי סף | CF29: רשימה סגורה | CL29: קריטריון הקלה 1 | CM29: קריטריון הקלה 2 | CN29: קריטריון הקלה 3 | CO29: קריטריון הקלה 4 | CP29: קריטריון הקלה 5 | CQ29: קריטריון הקלה 6 | CR29: תנאי ללא הקלה | CS29: קריטריון הקלה 1 | CT29: קריטריון הקלה 2 | CU29: קריטריון הקלה 3 | CV29: קריטריון הקלה 4 | CW29: קריטריון הקלה 5 | CX29: קריטריון הקלה 6 | CY29: תנאים עם הקלה | CZ29: עומד בתנאים ללא הקלות | DA29: עומד בתנאים להקלות
G30: 0/1 | H30: 0/1 | I30: 0/1 | J30: 0/1 | K30: 0/1 | L30: 0/1 | M30: 0/1 | Q30: מספר שלם שאינו שלילי | T30: 0/1 | U30: 0/1 | V30: 0/1 | W30: 0/1 | X30: 0/1 | Y30: 0/1 | AD30: מספר שאינו שלילי | AF30: 0/1 | AG30: 0/1 | AH30: 0/1 | AI30: 0/1 | AJ30: 0/1 | AP30: טקסט | AR30: 0 | AS30: 1 | AT30: =G30 -> 0/1 | AU30: =H30 -> 0/1 | AV30: =I30 -> 0/1 | AW30: =J30 -> 0/1 | AX30: =K30 -> 0/1 | AY30: =L30 -> 0/1 | AZ30: =M30 -> 0/1 | BA30: =N30 -> 0 | ... BU30: =AH30 -> 0/1 | BV30: =AJ30 -> 0/1 | BW30: =AK30 -> 0 | BX30: =AL30 -> 0 | BY30: =AM30 -> 0 | BZ30: =AN30 -> 0 | CA30: =AO30 -> 0
B31: =IF(F31="","",ROW()-30) -> 1 | F31: =IF('איגוד הקומפוזיטורים'!$F$1="1","",'איגוד הקומפוזיטורים'!$F$1) -> איגוד הקומפוזיטורים | G31: 1 | H31: 1 | I31: 1 | J31: 1 | K31: 1 | L31: 1 | M31: 1 | N31: =IF($F31="","",'ריכוז גיליונות עזר'!H31) -> 10 | O31: =IF($F31="","",'ריכוז גיליונות עזר'!K31) -> 60 | P31: =IF($F31="","",'ריכוז גיליונות עזר'!L31) -> 50 | Q31: 31 | T31: 1 | U31: 1 | V31: 1 | W31: 1 | X31: 0 | Y31: 0 | AD31: 205028 | AE31: =IF($F31="","",IF(OR(CZ31=1,AND(X31=1,Y31=1,DA31=1)),1,0)) -> 1 | AF31: 1 | AG31: 1 | AH31: 1 | AI31: 1 | AJ31: 1 | AO31: =IF($F31="","",IF(AK31=1,1,IF(AQ31<>1,$AR$1,IF(SUMPRODUCT(--(G31:AJ31>=$G$5:$AJ$5)*($G$5:$AJ$5<>"")*($G$4:$AJ$4=1))=COUNTIF($G$4:$AJ$4,1),1,0)))) -> 1 | AQ31: =IF(OR(SUM(AT31:CA31)<>COUNT(AT31:CA31),SUMPRODUCT(--(G31:AJ31=$AR$1))<>0),0,1) -> 1 | AR31: =IF($F31="","",AR$30) -> 0 | AS31: =IF($F31="","",AS$30) -> 1 | AT31: =IF(OR(G$30="",G$4=99),1,IF(G31="",0,IFERROR(CHOOSE(AT$28,IF(ISNA(MATCH(G31,$AR$30:$AS$30,0)),0,1),IF(ISNUMBER(G31),1,0),IF(G31=TRUNC(G31),1,0),IF(AND(G31*1=G31,G31>=0),1,0),IF(AND(G31=TRUNC(G31),G31>=0),1,0),IF(AND(G31*1=G31,G31>0),1,0),IF(AND(G31=TRUNC(G31),G31>0),1,0),1,IF(ISNA(HLOOKUP(G31,$AU$4:$BD$4,1,0)),0,1)),0))) -> 1 | AU31: =IF(OR(H$30="",H$4=99),1,IF(H31="",0,IFERROR(CHOOSE(AU$28,IF(ISNA(MATCH(H31,$AR$30:$AS$30,0)),0,1),IF(ISNUMBER(H31),1,0),IF(H31=TRUNC(H31),1,0),IF(AND(H31*1=H31,H31>=0),1,0),IF(AND(H31=TRUNC(H31),H31>=0),1,0),IF(AND(H31*1=H31,H31>0),1,0),IF(AND(H31=TRUNC(H31),H31>0),1,0),1,IF(ISNA(HLOOKUP(H31,$AU$4:$BD$4,1,0)),0,1)),0))) -> 1 | AV31: =IF(OR(I$30="",I$4=99),1,IF(I31="",0,IFERROR(CHOOSE(AV$28,IF(ISNA(MATCH(I31,$AR$30:$AS$30,0)),0,1),IF(ISNUMBER(I31),1,0),IF(I31=TRUNC(I31),1,0),IF(AND(I31*1=I31,I31>=0),1,0),IF(AND(I31=TRUNC(I31),I31>=0),1,0),IF(AND(I31*1=I31,I31>0),1,0),IF(AND(I31=TRUNC(I31),I31>0),1,0),1,IF(ISNA(HLOOKUP(I31,$AU$4:$BD$4,1,0)),0,1)),0))) -> 1 | AW31: =IF(OR(J$30="",J$4=99),1,IF(J31="",0,IFERROR(CHOOSE(AW$28,IF(ISNA(MATCH(J31,$AR$30:$AS$30,0)),0,1),IF(ISNUMBER(J31),1,0),IF(J31=TRUNC(J31),1,0),IF(AND(J31*1=J31,J31>=0),1,0),IF(AND(J31=TRUNC(J31),J31>=0),1,0),IF(AND(J31*1=J31,J31>0),1,0),IF(AND(J31=TRUNC(J31),J31>0),1,0),1,IF(ISNA(HLOOKUP(J31,$AU$4:$BD$4,1,0)),0,1)),0))) -> 1 | AX31: =IF(OR(K$30="",K$4=99),1,IF(K31="",0,IFERROR(CHOOSE(AX$28,IF(ISNA(MATCH(K31,$AR$30:$AS$30,0)),0,1),IF(ISNUMBER(K31),1,0),IF(K31=TRUNC(K31),1,0),IF(AND(K31*1=K31,K31>=0),1,0),IF(AND(K31=TRUNC(K31),K31>=0),1,0),IF(AND(K31*1=K31,K31>0),1,0),IF(AND(K31=TRUNC(K31),K31>0),1,0),1,IF(ISNA(HLOOKUP(K31,$AU$4:$BD$4,1,0)),0,1)),0))) -> 1 | AY31: =IF(OR(L$30="",L$4=99),1,IF(L31="",0,IFERROR(CHOOSE(AY$28,IF(ISNA(MATCH(L31,$AR$30:$AS$30,0)),0,1),IF(ISNUMBER(L31),1,0),IF(L31=TRUNC(L31),1,0),IF(AND(L31*1=L31,L31>=0),1,0),IF(AND(L31=TRUNC(L31),L31>=0),1,0),IF(AND(L31*1=L31,L31>0),1,0),IF(AND(L31=TRUNC(L31),L31>0),1,0),1,IF(ISNA(HLOOKUP(L31,$AU$4:$BD$4,1,0)),0,1)),0))) -> 1 | AZ31: =IF(OR(M$30="",M$4=99),1,IF(M31="",0,IFERROR(CHOOSE(AZ$28,IF(ISNA(MATCH(M31,$AR$30:$AS$30,0)),0,1),IF(ISNUMBER(M31),1,0),IF(M31=TRUNC(M31),1,0),IF(AND(M31*1=M31,M31>=0),1,0),IF(AND(M31=TRUNC(M31),M31>=0),1,0),IF(AND(M31*1=M31,M31>0),1,0),IF(AND(M31=TRUNC(M31),M31>0),1,0),1,IF(ISNA(HLOOKUP(M31,$AU$4:$BD$4,1,0)),0,1)),0))) -> 1 | BA31: =IF(OR(N$30="",N$4=99),1,IF(N31="",0,IFERROR(CHOOSE(BA$28,IF(ISNA(MATCH(N31,$AR$30:$AS$30,0)),0,1),IF(ISNUMBER(N31),1,0),IF(N31=TRUNC(N31),1,0),IF(AND(N31*1=N31,N31>=0),1,0),IF(AND(N31=TRUNC(N31),N31>=0),1,0),IF(AND(N31*1=N31,N31>0),1,0),IF(AND(N31=TRUNC(N31),N31>0),1,0),1,IF(ISNA(HLOOKUP(N31,$AU$4:$BD$4,1,0)),0,1)),0))) -> 1 | ... BH31: =IF(OR(U$30="",U$4=99),1,IF(U31="",0,IFERROR(CHOOSE(BH$28,IF(ISNA(MATCH(U31,$AR$30:$AS$30,0)),0,1),IF(ISNUMBER(U31),1,0),IF(U31=TRUNC(U31),1,0),IF(AND(U31*1=U31,U31>=0),1,0),IF(AND(U31=TRUNC(U31),U31>=0),1,0),IF(AND(U31*1=U31,U31>0),1,0),IF(AND(U31=TRUNC(U31),U31>0),1,0),1,IF(ISNA(HLOOKUP(U31,$AU$4:$BD$4,1,0)),0,1)),0))) -> 1 | BI31: =IF(OR(V$30="",W$4=99),1,IF(V31="",0,IFERROR(CHOOSE(BI$28,IF(ISNA(MATCH(V31,$AR$30:$AS$30,0)),0,1),IF(ISNUMBER(V31),1,0),IF(V31=TRUNC(V31),1,0),IF(AND(V31*1=V31,V31>=0),1,0),IF(AND(V31=TRUNC(V31),V31>=0),1,0),IF(AND(V31*1=V31,V31>0),1,0),IF(AND(V31=TRUNC(V31),V31>0),1,0),1,IF(ISNA(HLOOKUP(V31,$AU$4:$BD$4,1,0)),0,1)),0))) -> 1 | BJ31: =IF(OR(W$30="",X$4=99),1,IF(W31="",0,IFERROR(CHOOSE(BJ$28,IF(ISNA(MATCH(W31,$AR$30:$AS$30,0)),0,1),IF(ISNUMBER(W31),1,0),IF(W31=TRUNC(W31),1,0),IF(AND(W31*1=W31,W31>=0),1,0),IF(AND(W31=TRUNC(W31),W31>=0),1,0),IF(AND(W31*1=W31,W31>0),1,0),IF(AND(W31=TRUNC(W31),W31>0),1,0),1,IF(ISNA(HLOOKUP(W31,$AU$4:$BD$4,1,0)),0,1)),0))) -> 1 | BK31: =IF(OR(X$30="",X$4=99),1,IF(X31="",0,IFERROR(CHOOSE(BK$28,IF(ISNA(MATCH(X31,$AR$30:$AS$30,0)),0,1),IF(ISNUMBER(X31),1,0),IF(X31=TRUNC(X31),1,0),IF(AND(X31*1=X31,X31>=0),1,0),IF(AND(X31=TRUNC(X31),X31>=0),1,0),IF(AND(X31*1=X31,X31>0),1,0),IF(AND(X31=TRUNC(X31),X31>0),1,0),1,IF(ISNA(HLOOKUP(X31,$AU$4:$BD$4,1,0)),0,1)),0))) -> 1 | BL31: =IF(OR(Y$30="",Y$4=99),1,IF(Y31="",0,IFERROR(CHOOSE(BL$28,IF(ISNA(MATCH(Y31,$AR$30:$AS$30,0)),0,1),IF(ISNUMBER(Y31),1,0),IF(Y31=TRUNC(Y31),1,0),IF(AND(Y31*1=Y31,Y31>=0),1,0),IF(AND(Y31=TRUNC(Y31),Y31>=0),1,0),IF(AND(Y31*1=Y31,Y31>0),1,0),IF(AND(Y31=TRUNC(Y31),Y31>0),1,0),1,IF(ISNA(HLOOKUP(Y31,$AU$4:$BD$4,1,0)),0,1)),0))) -> 1 | BM31: =IF(OR(Z$30="",Z$4=99),1,IF(Z31="",0,IFERROR(CHOOSE(BM$28,IF(ISNA(MATCH(Z31,$AR$30:$AS$30,0)),0,1),IF(ISNUMBER(Z31),1,0),IF(Z31=TRUNC(Z31),1,0),IF(AND(Z31*1=Z31,Z31>=0),1,0),IF(AND(Z31=TRUNC(Z31),Z31>=0),1,0),IF(AND(Z31*1=Z31,Z31>0),1,0),IF(AND(Z31=TRUNC(Z31),Z31>0),1,0),1,IF(ISNA(HLOOKUP(Z31,$AU$4:$BD$4,1,0)),0,1)),0))) -> 1 | BN31: =IF(OR(AA$30="",AA$4=99),1,IF(AA31="",0,IFERROR(CHOOSE(BN$28,IF(ISNA(MATCH(AA31,$AR$30:$AS$30,0)),0,1),IF(ISNUMBER(AA31),1,0),IF(AA31=TRUNC(AA31),1,0),IF(AND(AA31*1=AA31,AA31>=0),1,0),IF(AND(AA31=TRUNC(AA31),AA31>=0),1,0),IF(AND(AA31*1=AA31,AA31>0),1,0),IF(AND(AA31=TRUNC(AA31),AA31>0),1,0),1,IF(ISNA(HLOOKUP(AA31,$AU$4:$BD$4,1,0)),0,1)),0))) -> 1 | BO31: =IF(OR(AB$30="",AB$4=99),1,IF(AB31="",0,IFERROR(CHOOSE(BO$28,IF(ISNA(MATCH(AB31,$AR$30:$AS$30,0)),0,1),IF(ISNUMBER(AB31),1,0),IF(AB31=TRUNC(AB31),1,0),IF(AND(AB31*1=AB31,AB31>=0),1,0),IF(AND(AB31=TRUNC(AB31),AB31>=0),1,0),IF(AND(AB31*1=AB31,AB31>0),1,0),IF(AND(AB31=TRUNC(AB31),AB31>0),1,0),1,IF(ISNA(HLOOKUP(AB31,$AU$4:$BD$4,1,0)),0,1)),0))) -> 1 | BP31: =IF(OR(AC$30="",AC$4=99),1,IF(AC31="",0,IFERROR(CHOOSE(BP$28,IF(ISNA(MATCH(AC31,$AR$30:$AS$30,0)),0,1),IF(ISNUMBER(AC31),1,0),IF(AC31=TRUNC(AC31),1,0),IF(AND(AC31*1=AC31,AC31>=0),1,0),IF(AND(AC31=TRUNC(AC31),AC31>=0),1,0),IF(AND(AC31*1=AC31,AC31>0),1,0),IF(AND(AC31=TRUNC(AC31),AC31>0),1,0),1,IF(ISNA(HLOOKUP(AC31,$AU$4:$BD$4,1,0)),0,1)),0))) -> 1 | BQ31: =IF(OR(AD$30="",AD$4=99),1,IF(AD31="",0,IFERROR(CHOOSE(BQ$28,IF(ISNA(MATCH(AD31,$AR$30:$AS$30,0)),0,1),IF(ISNUMBER(AD31),1,0),IF(AD31=TRUNC(AD31),1,0),IF(AND(AD31*1=AD31,AD31>=0),1,0),IF(AND(AD31=TRUNC(AD31),AD31>=0),1,0),IF(AND(AD31*1=AD31,AD31>0),1,0),IF(AND(AD31=TRUNC(AD31),AD31>0),1,0),1,IF(ISNA(HLOOKUP(AD31,$AU$4:$BD$4,1,0)),0,1)),0))) -> 1 | BR31: =IF(OR(AE$30="",AE$4=99),1,IF(AE31="",0,IFERROR(CHOOSE(BR$28,IF(ISNA(MATCH(AE31,$AR$30:$AS$30,0)),0,1),IF(ISNUMBER(AE31),1,0),IF(AE31=TRUNC(AE31),1,0),IF(AND(AE31*1=AE31,AE31>=0),1,0),IF(AND(AE31=TRUNC(AE31),AE31>=0),1,0),IF(AND(AE31*1=AE31,AE31>0),1,0),IF(AND(AE31=TRUNC(AE31),AE31>0),1,0),1,IF(ISNA(HLOOKUP(AE31,$AU$4:$BD$4,1,0)),0,1)),0))) -> 1 | ... BU31: =IF(OR(AH$30="",AH$4=99),1,IF(AH31="",0,IFERROR(CHOOSE(BU$28,IF(ISNA(MATCH(AH31,$AR$30:$AS$30,0)),0,1),IF(ISNUMBER(AH31),1,0),IF(AH31=TRUNC(AH31),1,0),IF(AND(AH31*1=AH31,AH31>=0),1,0),IF(AND(AH31=TRUNC(AH31),AH31>=0),1,0),IF(AND(AH31*1=AH31,AH31>0),1,0),IF(AND(AH31=TRUNC(AH31),AH31>0),1,0),1,IF(ISNA(HLOOKUP(AH31,$AU$4:$BD$4,1,0)),0,1)),0))) -> 1 | BV31: =IF(OR(AJ$30="",AJ$4=99),1,IF(AJ31="",0,IFERROR(CHOOSE(BV$28,IF(ISNA(MATCH(AJ31,$AR$30:$AS$30,0)),0,1),IF(ISNUMBER(AJ31),1,0),IF(AJ31=TRUNC(AJ31),1,0),IF(AND(AJ31*1=AJ31,AJ31>=0),1,0),IF(AND(AJ31=TRUNC(AJ31),AJ31>=0),1,0),IF(AND(AJ31*1=AJ31,AJ31>0),1,0),IF(AND(AJ31=TRUNC(AJ31),AJ31>0),1,0),1,IF(ISNA(HLOOKUP(AJ31,$AU$4:$BD$4,1,0)),0,1)),0))) -> 1 | BW31: =IF(OR(AK$30="",AK$4=99),1,IF(AK31="",0,IFERROR(CHOOSE(BW$28,IF(ISNA(MATCH(AK31,$AR$30:$AS$30,0)),0,1),IF(ISNUMBER(AK31),1,0),IF(AK31=TRUNC(AK31),1,0),IF(AND(AK31*1=AK31,AK31>=0),1,0),IF(AND(AK31=TRUNC(AK31),AK31>=0),1,0),IF(AND(AK31*1=AK31,AK31>0),1,0),IF(AND(AK31=TRUNC(AK31),AK31>0),1,0),1,IF(ISNA(HLOOKUP(AK31,$AU$4:$BD$4,1,0)),0,1)),0))) -> 1 | BX31: =IF(OR(AL$30="",AL$4=99),1,IF(AL31="",0,IFERROR(CHOOSE(BX$28,IF(ISNA(MATCH(AL31,$AR$30:$AS$30,0)),0,1),IF(ISNUMBER(AL31),1,0),IF(AL31=TRUNC(AL31),1,0),IF(AND(AL31*1=AL31,AL31>=0),1,0),IF(AND(AL31=TRUNC(AL31),AL31>=0),1,0),IF(AND(AL31*1=AL31,AL31>0),1,0),IF(AND(AL31=TRUNC(AL31),AL31>0),1,0),1,IF(ISNA(HLOOKUP(AL31,$AU$4:$BD$4,1,0)),0,1)),0))) -> 1 | BY31: =IF(OR(AM$30="",AM$4=99),1,IF(AM31="",0,IFERROR(CHOOSE(BY$28,IF(ISNA(MATCH(AM31,$AR$30:$AS$30,0)),0,1),IF(ISNUMBER(AM31),1,0),IF(AM31=TRUNC(AM31),1,0),IF(AND(AM31*1=AM31,AM31>=0),1,0),IF(AND(AM31=TRUNC(AM31),AM31>=0),1,0),IF(AND(AM31*1=AM31,AM31>0),1,0),IF(AND(AM31=TRUNC(AM31),AM31>0),1,0),1,IF(ISNA(HLOOKUP(AM31,$AU$4:$BD$4,1,0)),0,1)),0))) -> 1 | BZ31: =IF(OR(AN$30="",AN$4=99),1,IF(AN31="",0,IFERROR(CHOOSE(BZ$28,IF(ISNA(MATCH(AN31,$AR$30:$AS$30,0)),0,1),IF(ISNUMBER(AN31),1,0),IF(AN31=TRUNC(AN31),1,0),IF(AND(AN31*1=AN31,AN31>=0),1,0),IF(AND(AN31=TRUNC(AN31),AN31>=0),1,0),IF(AND(AN31*1=AN31,AN31>0),1,0),IF(AND(AN31=TRUNC(AN31),AN31>0),1,0),1,IF(ISNA(HLOOKUP(AN31,$AU$4:$BD$4,1,0)),0,1)),0))) -> 1 | CA31: =IF(OR(AO$30="",AO$4=99),1,IF(AO31="",0,IFERROR(CHOOSE(CA$28,IF(ISNA(MATCH(AO31,$AR$30:$AS$30,0)),0,1),IF(ISNUMBER(AO31),1,0),IF(AO31=TRUNC(AO31),1,0),IF(AND(AO31*1=AO31,AO31>=0),1,0),IF(AND(AO31=TRUNC(AO31),AO31>=0),1,0),IF(AND(AO31*1=AO31,AO31>0),1,0),IF(AND(AO31=TRUNC(AO31),AO31>0),1,0),1,IF(ISNA(HLOOKUP(AO31,$AU$4:$BD$4,1,0)),0,1)),0))) -> 1 | CL31: =N31>=CS$7 -> TRUE | CM31: =O31>=CM$7 -> TRUE | CN31: =P31>=CN$7 -> TRUE | CO31: =Q31>=CO$7 -> TRUE | CQ31: =AD31>=CQ$7 -> TRUE | CR31: =COUNTIF(CL31:CQ31,TRUE) -> 5 | CS31: =N31>=CS$7 -> TRUE | CT31: =O31>=CT$7 -> TRUE | CU31: =P31>=CU$7 -> TRUE | CV31: =Q31>=CV$7 -> TRUE | CX31: =AD31>=CX$7 -> TRUE | CY31: =COUNTIF(CS31:CX31,TRUE) -> 5 | CZ31: =IF($F31="","",IF(CR31=$CM$5,1,0)) -> 1 | DA31: =IF($F31="","",IF(AND(CY31=$CM$5,CY31-CR31<=$CT$5),1,0)) -> 1
B32: =IF(F32="","",ROW()-30) -> 2 | F32: =IF('המכון למוסיקה ישראלית'!$F$1="2","",'המכון למוסיקה ישראלית'!$F$1) -> המכון למוסיקה ישראלית | G32: 1 | H32: 1 | I32: 1 | J32: 1 | K32: 1 | L32: 1 | M32: 1 | N32: =IF($F32="","",'ריכוז גיליונות עזר'!H32) -> 11 | O32: =IF($F32="","",'ריכוז גיליונות עזר'!K32) -> 55 | P32: =IF($F32="","",'ריכוז גיליונות עזר'!L32) -> 50 | Q32: 365 | T32: 1 | U32: 1 | V32: 1 | W32: 1 | X32: 0 | Y32: 0 | AD32: 1425860 | AE32: =IF($F32="","",IF(OR(CZ32=1,AND(X32=1,Y32=1,DA32=1)),1,0)) -> 1 | AF32: 1 | AG32: 1 | AH32: 1 | AI32: 1 | AJ32: 1 | AO32: =IF($F32="","",IF(AK32=1,1,IF(AQ32<>1,$AR$1,IF(SUMPRODUCT(--(G32:AJ32>=$G$5:$AJ$5)*($G$5:$AJ$5<>"")*($G$4:$AJ$4=1))=COUNTIF($G$4:$AJ$4,1),1,0)))) -> 1 | AQ32: =IF(OR(SUM(AT32:CA32)<>COUNT(AT32:CA32),SUMPRODUCT(--(G32:AJ32=$AR$1))<>0),0,1) -> 1 | AR32: =IF($F32="","",AR$30) -> 0 | AS32: =IF($F32="","",AS$30) -> 1 | AT32: =IF(OR(G$30="",G$4=99),1,IF(G32="",0,IFERROR(CHOOSE(AT$28,IF(ISNA(MATCH(G32,$AR$30:$AS$30,0)),0,1),IF(ISNUMBER(G32),1,0),IF(G32=TRUNC(G32),1,0),IF(AND(G32*1=G32,G32>=0),1,0),IF(AND(G32=TRUNC(G32),G32>=0),1,0),IF(AND(G32*1=G32,G32>0),1,0),IF(AND(G32=TRUNC(G32),G32>0),1,0),1,IF(ISNA(HLOOKUP(G32,$AU$4:$BD$4,1,0)),0,1)),0))) -> 1 | AU32: =IF(OR(H$30="",H$4=99),1,IF(H32="",0,IFERROR(CHOOSE(AU$28,IF(ISNA(MATCH(H32,$AR$30:$AS$30,0)),0,1),IF(ISNUMBER(H32),1,0),IF(H32=TRUNC(H32),1,0),IF(AND(H32*1=H32,H32>=0),1,0),IF(AND(H32=TRUNC(H32),H32>=0),1,0),IF(AND(H32*1=H32,H32>0),1,0),IF(AND(H32=TRUNC(H32),H32>0),1,0),1,IF(ISNA(HLOOKUP(H32,$AU$4:$BD$4,1,0)),0,1)),0))) -> 1 | AV32: =IF(OR(I$30="",I$4=99),1,IF(I32="",0,IFERROR(CHOOSE(AV$28,IF(ISNA(MATCH(I32,$AR$30:$AS$30,0)),0,1),IF(ISNUMBER(I32),1,0),IF(I32=TRUNC(I32),1,0),IF(AND(I32*1=I32,I32>=0),1,0),IF(AND(I32=TRUNC(I32),I32>=0),1,0),IF(AND(I32*1=I32,I32>0),1,0),IF(AND(I32=TRUNC(I32),I32>0),1,0),1,IF(ISNA(HLOOKUP(I32,$AU$4:$BD$4,1,0)),0,1)),0))) -> 1 | AW32: =IF(OR(J$30="",J$4=99),1,IF(J32="",0,IFERROR(CHOOSE(AW$28,IF(ISNA(MATCH(J32,$AR$30:$AS$30,0)),0,1),IF(ISNUMBER(J32),1,0),IF(J32=TRUNC(J32),1,0),IF(AND(J32*1=J32,J32>=0),1,0),IF(AND(J32=TRUNC(J32),J32>=0),1,0),IF(AND(J32*1=J32,J32>0),1,0),IF(AND(J32=TRUNC(J32),J32>0),1,0),1,IF(ISNA(HLOOKUP(J32,$AU$4:$BD$4,1,0)),0,1)),0))) -> 1 | AX32: =IF(OR(K$30="",K$4=99),1,IF(K32="",0,IFERROR(CHOOSE(AX$28,IF(ISNA(MATCH(K32,$AR$30:$AS$30,0)),0,1),IF(ISNUMBER(K32),1,0),IF(K32=TRUNC(K32),1,0),IF(AND(K32*1=K32,K32>=0),1,0),IF(AND(K32=TRUNC(K32),K32>=0),1,0),IF(AND(K32*1=K32,K32>0),1,0),IF(AND(K32=TRUNC(K32),K32>0),1,0),1,IF(ISNA(HLOOKUP(K32,$AU$4:$BD$4,1,0)),0,1)),0))) -> 1 | AY32: =IF(OR(L$30="",L$4=99),1,IF(L32="",0,IFERROR(CHOOSE(AY$28,IF(ISNA(MATCH(L32,$AR$30:$AS$30,0)),0,1),IF(ISNUMBER(L32),1,0),IF(L32=TRUNC(L32),1,0),IF(AND(L32*1=L32,L32>=0),1,0),IF(AND(L32=TRUNC(L32),L32>=0),1,0),IF(AND(L32*1=L32,L32>0),1,0),IF(AND(L32=TRUNC(L32),L32>0),1,0),1,IF(ISNA(HLOOKUP(L32,$AU$4:$BD$4,1,0)),0,1)),0))) -> 1 | AZ32: =IF(OR(M$30="",M$4=99),1,IF(M32="",0,IFERROR(CHOOSE(AZ$28,IF(ISNA(MATCH(M32,$AR$30:$AS$30,0)),0,1),IF(ISNUMBER(M32),1,0),IF(M32=TRUNC(M32),1,0),IF(AND(M32*1=M32,M32>=0),1,0),IF(AND(M32=TRUNC(M32),M32>=0),1,0),IF(AND(M32*1=M32,M32>0),1,0),IF(AND(M32=TRUNC(M32),M32>0),1,0),1,IF(ISNA(HLOOKUP(M32,$AU$4:$BD$4,1,0)),0,1)),0))) -> 1 | BA32: =IF(OR(N$30="",N$4=99),1,IF(N32="",0,IFERROR(CHOOSE(BA$28,IF(ISNA(MATCH(N32,$AR$30:$AS$30,0)),0,1),IF(ISNUMBER(N32),1,0),IF(N32=TRUNC(N32),1,0),IF(AND(N32*1=N32,N32>=0),1,0),IF(AND(N32=TRUNC(N32),N32>=0),1,0),IF(AND(N32*1=N32,N32>0),1,0),IF(AND(N32=TRUNC(N32),N32>0),1,0),1,IF(ISNA(HLOOKUP(N32,$AU$4:$BD$4,1,0)),0,1)),0))) -> 1 | ... BH32: =IF(OR(U$30="",U$4=99),1,IF(U32="",0,IFERROR(CHOOSE(BH$28,IF(ISNA(MATCH(U32,$AR$30:$AS$30,0)),0,1),IF(ISNUMBER(U32),1,0),IF(U32=TRUNC(U32),1,0),IF(AND(U32*1=U32,U32>=0),1,0),IF(AND(U32=TRUNC(U32),U32>=0),1,0),IF(AND(U32*1=U32,U32>0),1,0),IF(AND(U32=TRUNC(U32),U32>0),1,0),1,IF(ISNA(HLOOKUP(U32,$AU$4:$BD$4,1,0)),0,1)),0))) -> 1 | BI32: =IF(OR(V$30="",W$4=99),1,IF(V32="",0,IFERROR(CHOOSE(BI$28,IF(ISNA(MATCH(V32,$AR$30:$AS$30,0)),0,1),IF(ISNUMBER(V32),1,0),IF(V32=TRUNC(V32),1,0),IF(AND(V32*1=V32,V32>=0),1,0),IF(AND(V32=TRUNC(V32),V32>=0),1,0),IF(AND(V32*1=V32,V32>0),1,0),IF(AND(V32=TRUNC(V32),V32>0),1,0),1,IF(ISNA(HLOOKUP(V32,$AU$4:$BD$4,1,0)),0,1)),0))) -> 1 | BJ32: =IF(OR(W$30="",X$4=99),1,IF(W32="",0,IFERROR(CHOOSE(BJ$28,IF(ISNA(MATCH(W32,$AR$30:$AS$30,0)),0,1),IF(ISNUMBER(W32),1,0),IF(W32=TRUNC(W32),1,0),IF(AND(W32*1=W32,W32>=0),1,0),IF(AND(W32=TRUNC(W32),W32>=0),1,0),IF(AND(W32*1=W32,W32>0),1,0),IF(AND(W32=TRUNC(W32),W32>0),1,0),1,IF(ISNA(HLOOKUP(W32,$AU$4:$BD$4,1,0)),0,1)),0))) -> 1 | BK32: =IF(OR(X$30="",X$4=99),1,IF(X32="",0,IFERROR(CHOOSE(BK$28,IF(ISNA(MATCH(X32,$AR$30:$AS$30,0)),0,1),IF(ISNUMBER(X32),1,0),IF(X32=TRUNC(X32),1,0),IF(AND(X32*1=X32,X32>=0),1,0),IF(AND(X32=TRUNC(X32),X32>=0),1,0),IF(AND(X32*1=X32,X32>0),1,0),IF(AND(X32=TRUNC(X32),X32>0),1,0),1,IF(ISNA(HLOOKUP(X32,$AU$4:$BD$4,1,0)),0,1)),0))) -> 1 | BL32: =IF(OR(Y$30="",Y$4=99),1,IF(Y32="",0,IFERROR(CHOOSE(BL$28,IF(ISNA(MATCH(Y32,$AR$30:$AS$30,0)),0,1),IF(ISNUMBER(Y32),1,0),IF(Y32=TRUNC(Y32),1,0),IF(AND(Y32*1=Y32,Y32>=0),1,0),IF(AND(Y32=TRUNC(Y32),Y32>=0),1,0),IF(AND(Y32*1=Y32,Y32>0),1,0),IF(AND(Y32=TRUNC(Y32),Y32>0),1,0),1,IF(ISNA(HLOOKUP(Y32,$AU$4:$BD$4,1,0)),0,1)),0))) -> 1 | BM32: =IF(OR(Z$30="",Z$4=99),1,IF(Z32="",0,IFERROR(CHOOSE(BM$28,IF(ISNA(MATCH(Z32,$AR$30:$AS$30,0)),0,1),IF(ISNUMBER(Z32),1,0),IF(Z32=TRUNC(Z32),1,0),IF(AND(Z32*1=Z32,Z32>=0),1,0),IF(AND(Z32=TRUNC(Z32),Z32>=0),1,0),IF(AND(Z32*1=Z32,Z32>0),1,0),IF(AND(Z32=TRUNC(Z32),Z32>0),1,0),1,IF(ISNA(HLOOKUP(Z32,$AU$4:$BD$4,1,0)),0,1)),0))) -> 1 | BN32: =IF(OR(AA$30="",AA$4=99),1,IF(AA32="",0,IFERROR(CHOOSE(BN$28,IF(ISNA(MATCH(AA32,$AR$30:$AS$30,0)),0,1),IF(ISNUMBER(AA32),1,0),IF(AA32=TRUNC(AA32),1,0),IF(AND(AA32*1=AA32,AA32>=0),1,0),IF(AND(AA32=TRUNC(AA32),AA32>=0),1,0),IF(AND(AA32*1=AA32,AA32>0),1,0),IF(AND(AA32=TRUNC(AA32),AA32>0),1,0),1,IF(ISNA(HLOOKUP(AA32,$AU$4:$BD$4,1,0)),0,1)),0))) -> 1 | BO32: =IF(OR(AB$30="",AB$4=99),1,IF(AB32="",0,IFERROR(CHOOSE(BO$28,IF(ISNA(MATCH(AB32,$AR$30:$AS$30,0)),0,1),IF(ISNUMBER(AB32),1,0),IF(AB32=TRUNC(AB32),1,0),IF(AND(AB32*1=AB32,AB32>=0),1,0),IF(AND(AB32=TRUNC(AB32),AB32>=0),1,0),IF(AND(AB32*1=AB32,AB32>0),1,0),IF(AND(AB32=TRUNC(AB32),AB32>0),1,0),1,IF(ISNA(HLOOKUP(AB32,$AU$4:$BD$4,1,0)),0,1)),0))) -> 1 | BP32: =IF(OR(AC$30="",AC$4=99),1,IF(AC32="",0,IFERROR(CHOOSE(BP$28,IF(ISNA(MATCH(AC32,$AR$30:$AS$30,0)),0,1),IF(ISNUMBER(AC32),1,0),IF(AC32=TRUNC(AC32),1,0),IF(AND(AC32*1=AC32,AC32>=0),1,0),IF(AND(AC32=TRUNC(AC32),AC32>=0),1,0),IF(AND(AC32*1=AC32,AC32>0),1,0),IF(AND(AC32=TRUNC(AC32),AC32>0),1,0),1,IF(ISNA(HLOOKUP(AC32,$AU$4:$BD$4,1,0)),0,1)),0))) -> 1 | BQ32: =IF(OR(AD$30="",AD$4=99),1,IF(AD32="",0,IFERROR(CHOOSE(BQ$28,IF(ISNA(MATCH(AD32,$AR$30:$AS$30,0)),0,1),IF(ISNUMBER(AD32),1,0),IF(AD32=TRUNC(AD32),1,0),IF(AND(AD32*1=AD32,AD32>=0),1,0),IF(AND(AD32=TRUNC(AD32),AD32>=0),1,0),IF(AND(AD32*1=AD32,AD32>0),1,0),IF(AND(AD32=TRUNC(AD32),AD32>0),1,0),1,IF(ISNA(HLOOKUP(AD32,$AU$4:$BD$4,1,0)),0,1)),0))) -> 1 | BR32: =IF(OR(AE$30="",AE$4=99),1,IF(AE32="",0,IFERROR(CHOOSE(BR$28,IF(ISNA(MATCH(AE32,$AR$30:$AS$30,0)),0,1),IF(ISNUMBER(AE32),1,0),IF(AE32=TRUNC(AE32),1,0),IF(AND(AE32*1=AE32,AE32>=0),1,0),IF(AND(AE32=TRUNC(AE32),AE32>=0),1,0),IF(AND(AE32*1=AE32,AE32>0),1,0),IF(AND(AE32=TRUNC(AE32),AE32>0),1,0),1,IF(ISNA(HLOOKUP(AE32,$AU$4:$BD$4,1,0)),0,1)),0))) -> 1 | ... BU32: =IF(OR(AH$30="",AH$4=99),1,IF(AH32="",0,IFERROR(CHOOSE(BU$28,IF(ISNA(MATCH(AH32,$AR$30:$AS$30,0)),0,1),IF(ISNUMBER(AH32),1,0),IF(AH32=TRUNC(AH32),1,0),IF(AND(AH32*1=AH32,AH32>=0),1,0),IF(AND(AH32=TRUNC(AH32),AH32>=0),1,0),IF(AND(AH32*1=AH32,AH32>0),1,0),IF(AND(AH32=TRUNC(AH32),AH32>0),1,0),1,IF(ISNA(HLOOKUP(AH32,$AU$4:$BD$4,1,0)),0,1)),0))) -> 1 | BV32: =IF(OR(AJ$30="",AJ$4=99),1,IF(AJ32="",0,IFERROR(CHOOSE(BV$28,IF(ISNA(MATCH(AJ32,$AR$30:$AS$30,0)),0,1),IF(ISNUMBER(AJ32),1,0),IF(AJ32=TRUNC(AJ32),1,0),IF(AND(AJ32*1=AJ32,AJ32>=0),1,0),IF(AND(AJ32=TRUNC(AJ32),AJ32>=0),1,0),IF(AND(AJ32*1=AJ32,AJ32>0),1,0),IF(AND(AJ32=TRUNC(AJ32),AJ32>0),1,0),1,IF(ISNA(HLOOKUP(AJ32,$AU$4:$BD$4,1,0)),0,1)),0))) -> 1 | BW32: =IF(OR(AK$30="",AK$4=99),1,IF(AK32="",0,IFERROR(CHOOSE(BW$28,IF(ISNA(MATCH(AK32,$AR$30:$AS$30,0)),0,1),IF(ISNUMBER(AK32),1,0),IF(AK32=TRUNC(AK32),1,0),IF(AND(AK32*1=AK32,AK32>=0),1,0),IF(AND(AK32=TRUNC(AK32),AK32>=0),1,0),IF(AND(AK32*1=AK32,AK32>0),1,0),IF(AND(AK32=TRUNC(AK32),AK32>0),1,0),1,IF(ISNA(HLOOKUP(AK32,$AU$4:$BD$4,1,0)),0,1)),0))) -> 1 | BX32: =IF(OR(AL$30="",AL$4=99),1,IF(AL32="",0,IFERROR(CHOOSE(BX$28,IF(ISNA(MATCH(AL32,$AR$30:$AS$30,0)),0,1),IF(ISNUMBER(AL32),1,0),IF(AL32=TRUNC(AL32),1,0),IF(AND(AL32*1=AL32,AL32>=0),1,0),IF(AND(AL32=TRUNC(AL32),AL32>=0),1,0),IF(AND(AL32*1=AL32,AL32>0),1,0),IF(AND(AL32=TRUNC(AL32),AL32>0),1,0),1,IF(ISNA(HLOOKUP(AL32,$AU$4:$BD$4,1,0)),0,1)),0))) -> 1 | BY32: =IF(OR(AM$30="",AM$4=99),1,IF(AM32="",0,IFERROR(CHOOSE(BY$28,IF(ISNA(MATCH(AM32,$AR$30:$AS$30,0)),0,1),IF(ISNUMBER(AM32),1,0),IF(AM32=TRUNC(AM32),1,0),IF(AND(AM32*1=AM32,AM32>=0),1,0),IF(AND(AM32=TRUNC(AM32),AM32>=0),1,0),IF(AND(AM32*1=AM32,AM32>0),1,0),IF(AND(AM32=TRUNC(AM32),AM32>0),1,0),1,IF(ISNA(HLOOKUP(AM32,$AU$4:$BD$4,1,0)),0,1)),0))) -> 1 | BZ32: =IF(OR(AN$30="",AN$4=99),1,IF(AN32="",0,IFERROR(CHOOSE(BZ$28,IF(ISNA(MATCH(AN32,$AR$30:$AS$30,0)),0,1),IF(ISNUMBER(AN32),1,0),IF(AN32=TRUNC(AN32),1,0),IF(AND(AN32*1=AN32,AN32>=0),1,0),IF(AND(AN32=TRUNC(AN32),AN32>=0),1,0),IF(AND(AN32*1=AN32,AN32>0),1,0),IF(AND(AN32=TRUNC(AN32),AN32>0),1,0),1,IF(ISNA(HLOOKUP(AN32,$AU$4:$BD$4,1,0)),0,1)),0))) -> 1 | CA32: =IF(OR(AO$30="",AO$4=99),1,IF(AO32="",0,IFERROR(CHOOSE(CA$28,IF(ISNA(MATCH(AO32,$AR$30:$AS$30,0)),0,1),IF(ISNUMBER(AO32),1,0),IF(AO32=TRUNC(AO32),1,0),IF(AND(AO32*1=AO32,AO32>=0),1,0),IF(AND(AO32=TRUNC(AO32),AO32>=0),1,0),IF(AND(AO32*1=AO32,AO32>0),1,0),IF(AND(AO32=TRUNC(AO32),AO32>0),1,0),1,IF(ISNA(HLOOKUP(AO32,$AU$4:$BD$4,1,0)),0,1)),0))) -> 1 | CL32: =N32>=CS$7 -> TRUE | CM32: =O32>=CM$7 -> TRUE | CN32: =P32>=CN$7 -> TRUE | CO32: =Q32>=CO$7 -> TRUE | CQ32: =AD32>=CQ$7 -> TRUE | CR32: =COUNTIF(CL32:CQ32,TRUE) -> 5 | CS32: =N32>=CS$7 -> TRUE | CT32: =O32>=CT$7 -> TRUE | CU32: =P32>=CU$7 -> TRUE | CV32: =Q32>=CV$7 -> TRUE | CX32: =AD32>=CX$7 -> TRUE | CY32: =COUNTIF(CS32:CX32,TRUE) -> 5 | CZ32: =IF($F32="","",IF(CR32=$CM$5,1,0)) -> 1 | DA32: =IF($F32="","",IF(AND(CY32=$CM$5,CY32-CR32<=$CT$5),1,0)) -> 1
B33: =IF(F33="","",ROW()-30) | F33: =IF('3'!$F$1="3","",'3'!$F$1) | N33: =IF($F33="","",'ריכוז גיליונות עזר'!H33) | O33: =IF($F33="","",'ריכוז גיליונות עזר'!K33) | P33: =IF($F33="","",'ריכוז גיליונות עזר'!L33) | AE33: =IF($F33="","",IF(OR(CZ33=1,AND(X33=1,Y33=1,DA33=1)),1,0)) | AO33: =IF($F33="","",IF(AK33=1,1,IF(AQ33<>1,$AR$1,IF(SUMPRODUCT(--(G33:AJ33>=$G$5:$AJ$5)*($G$5:$AJ$5<>"")*($G$4:$AJ$4=1))=COUNTIF($G$4:$AJ$4,1),1,0)))) | AQ33: =IF(OR(SUM(AT33:CA33)<>COUNT(AT33:CA33),SUMPRODUCT(--(G33:AJ33=$AR$1))<>0),0,1) -> 0 | AR33: =IF($F33="","",AR$30) | AS33: =IF($F33="","",AS$30) | AT33: =IF(OR(G$30="",G$4=99),1,IF(G33="",0,IFERROR(CHOOSE(AT$28,IF(ISNA(MATCH(G33,$AR$30:$AS$30,0)),0,1),IF(ISNUMBER(G33),1,0),IF(G33=TRUNC(G33),1,0),IF(AND(G33*1=G33,G33>=0),1,0),IF(AND(G33=TRUNC(G33),G33>=0),1,0),IF(AND(G33*1=G33,G33>0),1,0),IF(AND(G33=TRUNC(G33),G33>0),1,0),1,IF(ISNA(HLOOKUP(G33,$AU$4:$BD$4,1,0)),0,1)),0))) -> 0 | AU33: =IF(OR(H$30="",H$4=99),1,IF(H33="",0,IFERROR(CHOOSE(AU$28,IF(ISNA(MATCH(H33,$AR$30:$AS$30,0)),0,1),IF(ISNUMBER(H33),1,0),IF(H33=TRUNC(H33),1,0),IF(AND(H33*1=H33,H33>=0),1,0),IF(AND(H33=TRUNC(H33),H33>=0),1,0),IF(AND(H33*1=H33,H33>0),1,0),IF(AND(H33=TRUNC(H33),H33>0),1,0),1,IF(ISNA(HLOOKUP(H33,$AU$4:$BD$4,1,0)),0,1)),0))) -> 0 | AV33: =IF(OR(I$30="",I$4=99),1,IF(I33="",0,IFERROR(CHOOSE(AV$28,IF(ISNA(MATCH(I33,$AR$30:$AS$30,0)),0,1),IF(ISNUMBER(I33),1,0),IF(I33=TRUNC(I33),1,0),IF(AND(I33*1=I33,I33>=0),1,0),IF(AND(I33=TRUNC(I33),I33>=0),1,0),IF(AND(I33*1=I33,I33>0),1,0),IF(AND(I33=TRUNC(I33),I33>0),1,0),1,IF(ISNA(HLOOKUP(I33,$AU$4:$BD$4,1,0)),0,1)),0))) -> 0 | AW33: =IF(OR(J$30="",J$4=99),1,IF(J33="",0,IFERROR(CHOOSE(AW$28,IF(ISNA(MATCH(J33,$AR$30:$AS$30,0)),0,1),IF(ISNUMBER(J33),1,0),IF(J33=TRUNC(J33),1,0),IF(AND(J33*1=J33,J33>=0),1,0),IF(AND(J33=TRUNC(J33),J33>=0),1,0),IF(AND(J33*1=J33,J33>0),1,0),IF(AND(J33=TRUNC(J33),J33>0),1,0),1,IF(ISNA(HLOOKUP(J33,$AU$4:$BD$4,1,0)),0,1)),0))) -> 0 | AX33: =IF(OR(K$30="",K$4=99),1,IF(K33="",0,IFERROR(CHOOSE(AX$28,IF(ISNA(MATCH(K33,$AR$30:$AS$30,0)),0,1),IF(ISNUMBER(K33),1,0),IF(K33=TRUNC(K33),1,0),IF(AND(K33*1=K33,K33>=0),1,0),IF(AND(K33=TRUNC(K33),K33>=0),1,0),IF(AND(K33*1=K33,K33>0),1,0),IF(AND(K33=TRUNC(K33),K33>0),1,0),1,IF(ISNA(HLOOKUP(K33,$AU$4:$BD$4,1,0)),0,1)),0))) -> 0 | AY33: =IF(OR(L$30="",L$4=99),1,IF(L33="",0,IFERROR(CHOOSE(AY$28,IF(ISNA(MATCH(L33,$AR$30:$AS$30,0)),0,1),IF(ISNUMBER(L33),1,0),IF(L33=TRUNC(L33),1,0),IF(AND(L33*1=L33,L33>=0),1,0),IF(AND(L33=TRUNC(L33),L33>=0),1,0),IF(AND(L33*1=L33,L33>0),1,0),IF(AND(L33=TRUNC(L33),L33>0),1,0),1,IF(ISNA(HLOOKUP(L33,$AU$4:$BD$4,1,0)),0,1)),0))) -> 0 | AZ33: =IF(OR(M$30="",M$4=99),1,IF(M33="",0,IFERROR(CHOOSE(AZ$28,IF(ISNA(MATCH(M33,$AR$30:$AS$30,0)),0,1),IF(ISNUMBER(M33),1,0),IF(M33=TRUNC(M33),1,0),IF(AND(M33*1=M33,M33>=0),1,0),IF(AND(M33=TRUNC(M33),M33>=0),1,0),IF(AND(M33*1=M33,M33>0),1,0),IF(AND(M33=TRUNC(M33),M33>0),1,0),1,IF(ISNA(HLOOKUP(M33,$AU$4:$BD$4,1,0)),0,1)),0))) -> 0 | BA33: =IF(OR(N$30="",N$4=99),1,IF(N33="",0,IFERROR(CHOOSE(BA$28,IF(ISNA(MATCH(N33,$AR$30:$AS$30,0)),0,1),IF(ISNUMBER(N33),1,0),IF(N33=TRUNC(N33),1,0),IF(AND(N33*1=N33,N33>=0),1,0),IF(AND(N33=TRUNC(N33),N33>=0),1,0),IF(AND(N33*1=N33,N33>0),1,0),IF(AND(N33=TRUNC(N33),N33>0),1,0),1,IF(ISNA(HLOOKUP(N33,$AU$4:$BD$4,1,0)),0,1)),0))) -> 1 | ... BH33: =IF(OR(U$30="",U$4=99),1,IF(U33="",0,IFERROR(CHOOSE(BH$28,IF(ISNA(MATCH(U33,$AR$30:$AS$30,0)),0,1),IF(ISNUMBER(U33),1,0),IF(U33=TRUNC(U33),1,0),IF(AND(U33*1=U33,U33>=0),1,0),IF(AND(U33=TRUNC(U33),U33>=0),1,0),IF(AND(U33*1=U33,U33>0),1,0),IF(AND(U33=TRUNC(U33),U33>0),1,0),1,IF(ISNA(HLOOKUP(U33,$AU$4:$BD$4,1,0)),0,1)),0))) -> 0 | BI33: =IF(OR(V$30="",W$4=99),1,IF(V33="",0,IFERROR(CHOOSE(BI$28,IF(ISNA(MATCH(V33,$AR$30:$AS$30,0)),0,1),IF(ISNUMBER(V33),1,0),IF(V33=TRUNC(V33),1,0),IF(AND(V33*1=V33,V33>=0),1,0),IF(AND(V33=TRUNC(V33),V33>=0),1,0),IF(AND(V33*1=V33,V33>0),1,0),IF(AND(V33=TRUNC(V33),V33>0),1,0),1,IF(ISNA(HLOOKUP(V33,$AU$4:$BD$4,1,0)),0,1)),0))) -> 0 | BJ33: =IF(OR(W$30="",X$4=99),1,IF(W33="",0,IFERROR(CHOOSE(BJ$28,IF(ISNA(MATCH(W33,$AR$30:$AS$30,0)),0,1),IF(ISNUMBER(W33),1,0),IF(W33=TRUNC(W33),1,0),IF(AND(W33*1=W33,W33>=0),1,0),IF(AND(W33=TRUNC(W33),W33>=0),1,0),IF(AND(W33*1=W33,W33>0),1,0),IF(AND(W33=TRUNC(W33),W33>0),1,0),1,IF(ISNA(HLOOKUP(W33,$AU$4:$BD$4,1,0)),0,1)),0))) -> 1 | BK33: =IF(OR(X$30="",X$4=99),1,IF(X33="",0,IFERROR(CHOOSE(BK$28,IF(ISNA(MATCH(X33,$AR$30:$AS$30,0)),0,1),IF(ISNUMBER(X33),1,0),IF(X33=TRUNC(X33),1,0),IF(AND(X33*1=X33,X33>=0),1,0),IF(AND(X33=TRUNC(X33),X33>=0),1,0),IF(AND(X33*1=X33,X33>0),1,0),IF(AND(X33=TRUNC(X33),X33>0),1,0),1,IF(ISNA(HLOOKUP(X33,$AU$4:$BD$4,1,0)),0,1)),0))) -> 1 | BL33: =IF(OR(Y$30="",Y$4=99),1,IF(Y33="",0,IFERROR(CHOOSE(BL$28,IF(ISNA(MATCH(Y33,$AR$30:$AS$30,0)),0,1),IF(ISNUMBER(Y33),1,0),IF(Y33=TRUNC(Y33),1,0),IF(AND(Y33*1=Y33,Y33>=0),1,0),IF(AND(Y33=TRUNC(Y33),Y33>=0),1,0),IF(AND(Y33*1=Y33,Y33>0),1,0),IF(AND(Y33=TRUNC(Y33),Y33>0),1,0),1,IF(ISNA(HLOOKUP(Y33,$AU$4:$BD$4,1,0)),0,1)),0))) -> 1 | BM33: =IF(OR(Z$30="",Z$4=99),1,IF(Z33="",0,IFERROR(CHOOSE(BM$28,IF(ISNA(MATCH(Z33,$AR$30:$AS$30,0)),0,1),IF(ISNUMBER(Z33),1,0),IF(Z33=TRUNC(Z33),1,0),IF(AND(Z33*1=Z33,Z33>=0),1,0),IF(AND(Z33=TRUNC(Z33),Z33>=0),1,0),IF(AND(Z33*1=Z33,Z33>0),1,0),IF(AND(Z33=TRUNC(Z33),Z33>0),1,0),1,IF(ISNA(HLOOKUP(Z33,$AU$4:$BD$4,1,0)),0,1)),0))) -> 1 | BN33: =IF(OR(AA$30="",AA$4=99),1,IF(AA33="",0,IFERROR(CHOOSE(BN$28,IF(ISNA(MATCH(AA33,$AR$30:$AS$30,0)),0,1),IF(ISNUMBER(AA33),1,0),IF(AA33=TRUNC(AA33),1,0),IF(AND(AA33*1=AA33,AA33>=0),1,0),IF(AND(AA33=TRUNC(AA33),AA33>=0),1,0),IF(AND(AA33*1=AA33,AA33>0),1,0),IF(AND(AA33=TRUNC(AA33),AA33>0),1,0),1,IF(ISNA(HLOOKUP(AA33,$AU$4:$BD$4,1,0)),0,1)),0))) -> 1 | BO33: =IF(OR(AB$30="",AB$4=99),1,IF(AB33="",0,IFERROR(CHOOSE(BO$28,IF(ISNA(MATCH(AB33,$AR$30:$AS$30,0)),0,1),IF(ISNUMBER(AB33),1,0),IF(AB33=TRUNC(AB33),1,0),IF(AND(AB33*1=AB33,AB33>=0),1,0),IF(AND(AB33=TRUNC(AB33),AB33>=0),1,0),IF(AND(AB33*1=AB33,AB33>0),1,0),IF(AND(AB33=TRUNC(AB33),AB33>0),1,0),1,IF(ISNA(HLOOKUP(AB33,$AU$4:$BD$4,1,0)),0,1)),0))) -> 1 | BP33: =IF(OR(AC$30="",AC$4=99),1,IF(AC33="",0,IFERROR(CHOOSE(BP$28,IF(ISNA(MATCH(AC33,$AR$30:$AS$30,0)),0,1),IF(ISNUMBER(AC33),1,0),IF(AC33=TRUNC(AC33),1,0),IF(AND(AC33*1=AC33,AC33>=0),1,0),IF(AND(AC33=TRUNC(AC33),AC33>=0),1,0),IF(AND(AC33*1=AC33,AC33>0),1,0),IF(AND(AC33=TRUNC(AC33),AC33>0),1,0),1,IF(ISNA(HLOOKUP(AC33,$AU$4:$BD$4,1,0)),0,1)),0))) -> 1 | BQ33: =IF(OR(AD$30="",AD$4=99),1,IF(AD33="",0,IFERROR(CHOOSE(BQ$28,IF(ISNA(MATCH(AD33,$AR$30:$AS$30,0)),0,1),IF(ISNUMBER(AD33),1,0),IF(AD33=TRUNC(AD33),1,0),IF(AND(AD33*1=AD33,AD33>=0),1,0),IF(AND(AD33=TRUNC(AD33),AD33>=0),1,0),IF(AND(AD33*1=AD33,AD33>0),1,0),IF(AND(AD33=TRUNC(AD33),AD33>0),1,0),1,IF(ISNA(HLOOKUP(AD33,$AU$4:$BD$4,1,0)),0,1)),0))) -> 0 | BR33: =IF(OR(AE$30="",AE$4=99),1,IF(AE33="",0,IFERROR(CHOOSE(BR$28,IF(ISNA(MATCH(AE33,$AR$30:$AS$30,0)),0,1),IF(ISNUMBER(AE33),1,0),IF(AE33=TRUNC(AE33),1,0),IF(AND(AE33*1=AE33,AE33>=0),1,0),IF(AND(AE33=TRUNC(AE33),AE33>=0),1,0),IF(AND(AE33*1=AE33,AE33>0),1,0),IF(AND(AE33=TRUNC(AE33),AE33>0),1,0),1,IF(ISNA(HLOOKUP(AE33,$AU$4:$BD$4,1,0)),0,1)),0))) -> 1 | ... BU33: =IF(OR(AH$30="",AH$4=99),1,IF(AH33="",0,IFERROR(CHOOSE(BU$28,IF(ISNA(MATCH(AH33,$AR$30:$AS$30,0)),0,1),IF(ISNUMBER(AH33),1,0),IF(AH33=TRUNC(AH33),1,0),IF(AND(AH33*1=AH33,AH33>=0),1,0),IF(AND(AH33=TRUNC(AH33),AH33>=0),1,0),IF(AND(AH33*1=AH33,AH33>0),1,0),IF(AND(AH33=TRUNC(AH33),AH33>0),1,0),1,IF(ISNA(HLOOKUP(AH33,$AU$4:$BD$4,1,0)),0,1)),0))) -> 0 | BV33: =IF(OR(AJ$30="",AJ$4=99),1,IF(AJ33="",0,IFERROR(CHOOSE(BV$28,IF(ISNA(MATCH(AJ33,$AR$30:$AS$30,0)),0,1),IF(ISNUMBER(AJ33),1,0),IF(AJ33=TRUNC(AJ33),1,0),IF(AND(AJ33*1=AJ33,AJ33>=0),1,0),IF(AND(AJ33=TRUNC(AJ33),AJ33>=0),1,0),IF(AND(AJ33*1=AJ33,AJ33>0),1,0),IF(AND(AJ33=TRUNC(AJ33),AJ33>0),1,0),1,IF(ISNA(HLOOKUP(AJ33,$AU$4:$BD$4,1,0)),0,1)),0))) -> 0 | BW33: =IF(OR(AK$30="",AK$4=99),1,IF(AK33="",0,IFERROR(CHOOSE(BW$28,IF(ISNA(MATCH(AK33,$AR$30:$AS$30,0)),0,1),IF(ISNUMBER(AK33),1,0),IF(AK33=TRUNC(AK33),1,0),IF(AND(AK33*1=AK33,AK33>=0),1,0),IF(AND(AK33=TRUNC(AK33),AK33>=0),1,0),IF(AND(AK33*1=AK33,AK33>0),1,0),IF(AND(AK33=TRUNC(AK33),AK33>0),1,0),1,IF(ISNA(HLOOKUP(AK33,$AU$4:$BD$4,1,0)),0,1)),0))) -> 1 | BX33: =IF(OR(AL$30="",AL$4=99),1,IF(AL33="",0,IFERROR(CHOOSE(BX$28,IF(ISNA(MATCH(AL33,$AR$30:$AS$30,0)),0,1),IF(ISNUMBER(AL33),1,0),IF(AL33=TRUNC(AL33),1,0),IF(AND(AL33*1=AL33,AL33>=0),1,0),IF(AND(AL33=TRUNC(AL33),AL33>=0),1,0),IF(AND(AL33*1=AL33,AL33>0),1,0),IF(AND(AL33=TRUNC(AL33),AL33>0),1,0),1,IF(ISNA(HLOOKUP(AL33,$AU$4:$BD$4,1,0)),0,1)),0))) -> 1 | BY33: =IF(OR(AM$30="",AM$4=99),1,IF(AM33="",0,IFERROR(CHOOSE(BY$28,IF(ISNA(MATCH(AM33,$AR$30:$AS$30,0)),0,1),IF(ISNUMBER(AM33),1,0),IF(AM33=TRUNC(AM33),1,0),IF(AND(AM33*1=AM33,AM33>=0),1,0),IF(AND(AM33=TRUNC(AM33),AM33>=0),1,0),IF(AND(AM33*1=AM33,AM33>0),1,0),IF(AND(AM33=TRUNC(AM33),AM33>0),1,0),1,IF(ISNA(HLOOKUP(AM33,$AU$4:$BD$4,1,0)),0,1)),0))) -> 1 | BZ33: =IF(OR(AN$30="",AN$4=99),1,IF(AN33="",0,IFERROR(CHOOSE(BZ$28,IF(ISNA(MATCH(AN33,$AR$30:$AS$30,0)),0,1),IF(ISNUMBER(AN33),1,0),IF(AN33=TRUNC(AN33),1,0),IF(AND(AN33*1=AN33,AN33>=0),1,0),IF(AND(AN33=TRUNC(AN33),AN33>=0),1,0),IF(AND(AN33*1=AN33,AN33>0),1,0),IF(AND(AN33=TRUNC(AN33),AN33>0),1,0),1,IF(ISNA(HLOOKUP(AN33,$AU$4:$BD$4,1,0)),0,1)),0))) -> 1 | CA33: =IF(OR(AO$30="",AO$4=99),1,IF(AO33="",0,IFERROR(CHOOSE(CA$28,IF(ISNA(MATCH(AO33,$AR$30:$AS$30,0)),0,1),IF(ISNUMBER(AO33),1,0),IF(AO33=TRUNC(AO33),1,0),IF(AND(AO33*1=AO33,AO33>=0),1,0),IF(AND(AO33=TRUNC(AO33),AO33>=0),1,0),IF(AND(AO33*1=AO33,AO33>0),1,0),IF(AND(AO33=TRUNC(AO33),AO33>0),1,0),1,IF(ISNA(HLOOKUP(AO33,$AU$4:$BD$4,1,0)),0,1)),0))) -> 1 | CL33: =N33>=CS$7 -> TRUE | CM33: =O33>=CM$7 -> TRUE | CN33: =P33>=CN$7 -> TRUE | CO33: =Q33>=CO$7 -> FALSE | CQ33: =AD33>=CQ$7 -> FALSE | CR33: =COUNTIF(CL33:CQ33,TRUE) -> 3 | CS33: =N33>=CS$7 -> TRUE | CT33: =O33>=CT$7 -> TRUE | CU33: =P33>=CU$7 -> TRUE | CV33: =Q33>=CV$7 -> FALSE | CX33: =AD33>=CX$7 -> FALSE | CY33: =COUNTIF(CS33:CX33,TRUE) -> 3 | CZ33: =IF($F33="","",IF(CR33=$CM$5,1,0)) | DA33: =IF($F33="","",IF(AND(CY33=$CM$5,CY33-CR33<=$CT$5),1,0))
B34: =IF(F34="","",ROW()-30) | F34: =IF('4'!$F$1="4","",'4'!$F$1) | N34: =IF($F34="","",'ריכוז גיליונות עזר'!H34) | O34: =IF($F34="","",'ריכוז גיליונות עזר'!K34) | P34: =IF($F34="","",'ריכוז גיליונות עזר'!L34) | R34: =IF($F34="","",IF(P34=0,1,IF(Q34<N34,$AR$1,N34/Q34))) | S34: =IF($F34="","",IF(OR(AND(R34=1,P34=1),R34=$AR$1),$AR$1,IF(OR(R34>=$R$5,N34>=$Q$5),1,0))) | AE34: =IF($F34="","",IF(OR(CZ34=1,AND(X34=1,Y34=1,DA34=1)),1,0)) | AO34: =IF($F34="","",IF(AK34=1,1,IF(AQ34<>1,$AR$1,IF(SUMPRODUCT(--(G34:AJ34>=$G$5:$AJ$5)*($G$5:$AJ$5<>"")*($G$4:$AJ$4=1))=COUNTIF($G$4:$AJ$4,1),1,0)))) | AQ34: =IF(OR(SUM(AT34:CA34)<>COUNT(AT34:CA34),SUMPRODUCT(--(G34:AJ34=$AR$1))<>0),0,1) -> 0 | AR34: =IF($F34="","",AR$30) | AS34: =IF($F34="","",AS$30) | AT34: =IF(OR(G$30="",G$4=99),1,IF(G34="",0,IFERROR(CHOOSE(AT$28,IF(ISNA(MATCH(G34,$AR$30:$AS$30,0)),0,1),IF(ISNUMBER(G34),1,0),IF(G34=TRUNC(G34),1,0),IF(AND(G34*1=G34,G34>=0),1,0),IF(AND(G34=TRUNC(G34),G34>=0),1,0),IF(AND(G34*1=G34,G34>0),1,0),IF(AND(G34=TRUNC(G34),G34>0),1,0),1,IF(ISNA(HLOOKUP(G34,$AU$4:$BD$4,1,0)),0,1)),0))) -> 0 | AU34: =IF(OR(H$30="",H$4=99),1,IF(H34="",0,IFERROR(CHOOSE(AU$28,IF(ISNA(MATCH(H34,$AR$30:$AS$30,0)),0,1),IF(ISNUMBER(H34),1,0),IF(H34=TRUNC(H34),1,0),IF(AND(H34*1=H34,H34>=0),1,0),IF(AND(H34=TRUNC(H34),H34>=0),1,0),IF(AND(H34*1=H34,H34>0),1,0),IF(AND(H34=TRUNC(H34),H34>0),1,0),1,IF(ISNA(HLOOKUP(H34,$AU$4:$BD$4,1,0)),0,1)),0))) -> 0 | AV34: =IF(OR(I$30="",I$4=99),1,IF(I34="",0,IFERROR(CHOOSE(AV$28,IF(ISNA(MATCH(I34,$AR$30:$AS$30,0)),0,1),IF(ISNUMBER(I34),1,0),IF(I34=TRUNC(I34),1,0),IF(AND(I34*1=I34,I34>=0),1,0),IF(AND(I34=TRUNC(I34),I34>=0),1,0),IF(AND(I34*1=I34,I34>0),1,0),IF(AND(I34=TRUNC(I34),I34>0),1,0),1,IF(ISNA(HLOOKUP(I34,$AU$4:$BD$4,1,0)),0,1)),0))) -> 0 | AW34: =IF(OR(J$30="",J$4=99),1,IF(J34="",0,IFERROR(CHOOSE(AW$28,IF(ISNA(MATCH(J34,$AR$30:$AS$30,0)),0,1),IF(ISNUMBER(J34),1,0),IF(J34=TRUNC(J34),1,0),IF(AND(J34*1=J34,J34>=0),1,0),IF(AND(J34=TRUNC(J34),J34>=0),1,0),IF(AND(J34*1=J34,J34>0),1,0),IF(AND(J34=TRUNC(J34),J34>0),1,0),1,IF(ISNA(HLOOKUP(J34,$AU$4:$BD$4,1,0)),0,1)),0))) -> 0 | AX34: =IF(OR(K$30="",K$4=99),1,IF(K34="",0,IFERROR(CHOOSE(AX$28,IF(ISNA(MATCH(K34,$AR$30:$AS$30,0)),0,1),IF(ISNUMBER(K34),1,0),IF(K34=TRUNC(K34),1,0),IF(AND(K34*1=K34,K34>=0),1,0),IF(AND(K34=TRUNC(K34),K34>=0),1,0),IF(AND(K34*1=K34,K34>0),1,0),IF(AND(K34=TRUNC(K34),K34>0),1,0),1,IF(ISNA(HLOOKUP(K34,$AU$4:$BD$4,1,0)),0,1)),0))) -> 0 | AY34: =IF(OR(L$30="",L$4=99),1,IF(L34="",0,IFERROR(CHOOSE(AY$28,IF(ISNA(MATCH(L34,$AR$30:$AS$30,0)),0,1),IF(ISNUMBER(L34),1,0),IF(L34=TRUNC(L34),1,0),IF(AND(L34*1=L34,L34>=0),1,0),IF(AND(L34=TRUNC(L34),L34>=0),1,0),IF(AND(L34*1=L34,L34>0),1,0),IF(AND(L34=TRUNC(L34),L34>0),1,0),1,IF(ISNA(HLOOKUP(L34,$AU$4:$BD$4,1,0)),0,1)),0))) -> 0 | AZ34: =IF(OR(M$30="",M$4=99),1,IF(M34="",0,IFERROR(CHOOSE(AZ$28,IF(ISNA(MATCH(M34,$AR$30:$AS$30,0)),0,1),IF(ISNUMBER(M34),1,0),IF(M34=TRUNC(M34),1,0),IF(AND(M34*1=M34,M34>=0),1,0),IF(AND(M34=TRUNC(M34),M34>=0),1,0),IF(AND(M34*1=M34,M34>0),1,0),IF(AND(M34=TRUNC(M34),M34>0),1,0),1,IF(ISNA(HLOOKUP(M34,$AU$4:$BD$4,1,0)),0,1)),0))) -> 0 | BA34: =IF(OR(N$30="",N$4=99),1,IF(N34="",0,IFERROR(CHOOSE(BA$28,IF(ISNA(MATCH(N34,$AR$30:$AS$30,0)),0,1),IF(ISNUMBER(N34),1,0),IF(N34=TRUNC(N34),1,0),IF(AND(N34*1=N34,N34>=0),1,0),IF(AND(N34=TRUNC(N34),N34>=0),1,0),IF(AND(N34*1=N34,N34>0),1,0),IF(AND(N34=TRUNC(N34),N34>0),1,0),1,IF(ISNA(HLOOKUP(N34,$AU$4:$BD$4,1,0)),0,1)),0))) -> 1 | ... BH34: =IF(OR(U$30="",U$4=99),1,IF(U34="",0,IFERROR(CHOOSE(BH$28,IF(ISNA(MATCH(U34,$AR$30:$AS$30,0)),0,1),IF(ISNUMBER(U34),1,0),IF(U34=TRUNC(U34),1,0),IF(AND(U34*1=U34,U34>=0),1,0),IF(AND(U34=TRUNC(U34),U34>=0),1,0),IF(AND(U34*1=U34,U34>0),1,0),IF(AND(U34=TRUNC(U34),U34>0),1,0),1,IF(ISNA(HLOOKUP(U34,$AU$4:$BD$4,1,0)),0,1)),0))) -> 0 | BI34: =IF(OR(V$30="",W$4=99),1,IF(V34="",0,IFERROR(CHOOSE(BI$28,IF(ISNA(MATCH(V34,$AR$30:$AS$30,0)),0,1),IF(ISNUMBER(V34),1,0),IF(V34=TRUNC(V34),1,0),IF(AND(V34*1=V34,V34>=0),1,0),IF(AND(V34=TRUNC(V34),V34>=0),1,0),IF(AND(V34*1=V34,V34>0),1,0),IF(AND(V34=TRUNC(V34),V34>0),1,0),1,IF(ISNA(HLOOKUP(V34,$AU$4:$BD$4,1,0)),0,1)),0))) -> 0 | BJ34: =IF(OR(W$30="",X$4=99),1,IF(W34="",0,IFERROR(CHOOSE(BJ$28,IF(ISNA(MATCH(W34,$AR$30:$AS$30,0)),0,1),IF(ISNUMBER(W34),1,0),IF(W34=TRUNC(W34),1,0),IF(AND(W34*1=W34,W34>=0),1,0),IF(AND(W34=TRUNC(W34),W34>=0),1,0),IF(AND(W34*1=W34,W34>0),1,0),IF(AND(W34=TRUNC(W34),W34>0),1,0),1,IF(ISNA(HLOOKUP(W34,$AU$4:$BD$4,1,0)),0,1)),0))) -> 1 | BK34: =IF(OR(X$30="",X$4=99),1,IF(X34="",0,IFERROR(CHOOSE(BK$28,IF(ISNA(MATCH(X34,$AR$30:$AS$30,0)),0,1),IF(ISNUMBER(X34),1,0),IF(X34=TRUNC(X34),1,0),IF(AND(X34*1=X34,X34>=0),1,0),IF(AND(X34=TRUNC(X34),X34>=0),1,0),IF(AND(X34*1=X34,X34>0),1,0),IF(AND(X34=TRUNC(X34),X34>0),1,0),1,IF(ISNA(HLOOKUP(X34,$AU$4:$BD$4,1,0)),0,1)),0))) -> 1 | BL34: =IF(OR(Y$30="",Y$4=99),1,IF(Y34="",0,IFERROR(CHOOSE(BL$28,IF(ISNA(MATCH(Y34,$AR$30:$AS$30,0)),0,1),IF(ISNUMBER(Y34),1,0),IF(Y34=TRUNC(Y34),1,0),IF(AND(Y34*1=Y34,Y34>=0),1,0),IF(AND(Y34=TRUNC(Y34),Y34>=0),1,0),IF(AND(Y34*1=Y34,Y34>0),1,0),IF(AND(Y34=TRUNC(Y34),Y34>0),1,0),1,IF(ISNA(HLOOKUP(Y34,$AU$4:$BD$4,1,0)),0,1)),0))) -> 1 | BM34: =IF(OR(Z$30="",Z$4=99),1,IF(Z34="",0,IFERROR(CHOOSE(BM$28,IF(ISNA(MATCH(Z34,$AR$30:$AS$30,0)),0,1),IF(ISNUMBER(Z34),1,0),IF(Z34=TRUNC(Z34),1,0),IF(AND(Z34*1=Z34,Z34>=0),1,0),IF(AND(Z34=TRUNC(Z34),Z34>=0),1,0),IF(AND(Z34*1=Z34,Z34>0),1,0),IF(AND(Z34=TRUNC(Z34),Z34>0),1,0),1,IF(ISNA(HLOOKUP(Z34,$AU$4:$BD$4,1,0)),0,1)),0))) -> 1 | BN34: =IF(OR(AA$30="",AA$4=99),1,IF(AA34="",0,IFERROR(CHOOSE(BN$28,IF(ISNA(MATCH(AA34,$AR$30:$AS$30,0)),0,1),IF(ISNUMBER(AA34),1,0),IF(AA34=TRUNC(AA34),1,0),IF(AND(AA34*1=AA34,AA34>=0),1,0),IF(AND(AA34=TRUNC(AA34),AA34>=0),1,0),IF(AND(AA34*1=AA34,AA34>0),1,0),IF(AND(AA34=TRUNC(AA34),AA34>0),1,0),1,IF(ISNA(HLOOKUP(AA34,$AU$4:$BD$4,1,0)),0,1)),0))) -> 1 | BO34: =IF(OR(AB$30="",AB$4=99),1,IF(AB34="",0,IFERROR(CHOOSE(BO$28,IF(ISNA(MATCH(AB34,$AR$30:$AS$30,0)),0,1),IF(ISNUMBER(AB34),1,0),IF(AB34=TRUNC(AB34),1,0),IF(AND(AB34*1=AB34,AB34>=0),1,0),IF(AND(AB34=TRUNC(AB34),AB34>=0),1,0),IF(AND(AB34*1=AB34,AB34>0),1,0),IF(AND(AB34=TRUNC(AB34),AB34>0),1,0),1,IF(ISNA(HLOOKUP(AB34,$AU$4:$BD$4,1,0)),0,1)),0))) -> 1 | BP34: =IF(OR(AC$30="",AC$4=99),1,IF(AC34="",0,IFERROR(CHOOSE(BP$28,IF(ISNA(MATCH(AC34,$AR$30:$AS$30,0)),0,1),IF(ISNUMBER(AC34),1,0),IF(AC34=TRUNC(AC34),1,0),IF(AND(AC34*1=AC34,AC34>=0),1,0),IF(AND(AC34=TRUNC(AC34),AC34>=0),1,0),IF(AND(AC34*1=AC34,AC34>0),1,0),IF(AND(AC34=TRUNC(AC34),AC34>0),1,0),1,IF(ISNA(HLOOKUP(AC34,$AU$4:$BD$4,1,0)),0,1)),0))) -> 1 | BQ34: =IF(OR(AD$30="",AD$4=99),1,IF(AD34="",0,IFERROR(CHOOSE(BQ$28,IF(ISNA(MATCH(AD34,$AR$30:$AS$30,0)),0,1),IF(ISNUMBER(AD34),1,0),IF(AD34=TRUNC(AD34),1,0),IF(AND(AD34*1=AD34,AD34>=0),1,0),IF(AND(AD34=TRUNC(AD34),AD34>=0),1,0),IF(AND(AD34*1=AD34,AD34>0),1,0),IF(AND(AD34=TRUNC(AD34),AD34>0),1,0),1,IF(ISNA(HLOOKUP(AD34,$AU$4:$BD$4,1,0)),0,1)),0))) -> 0 | BR34: =IF(OR(AE$30="",AE$4=99),1,IF(AE34="",0,IFERROR(CHOOSE(BR$28,IF(ISNA(MATCH(AE34,$AR$30:$AS$30,0)),0,1),IF(ISNUMBER(AE34),1,0),IF(AE34=TRUNC(AE34),1,0),IF(AND(AE34*1=AE34,AE34>=0),1,0),IF(AND(AE34=TRUNC(AE34),AE34>=0),1,0),IF(AND(AE34*1=AE34,AE34>0),1,0),IF(AND(AE34=TRUNC(AE34),AE34>0),1,0),1,IF(ISNA(HLOOKUP(AE34,$AU$4:$BD$4,1,0)),0,1)),0))) -> 1 | ... BU34: =IF(OR(AH$30="",AH$4=99),1,IF(AH34="",0,IFERROR(CHOOSE(BU$28,IF(ISNA(MATCH(AH34,$AR$30:$AS$30,0)),0,1),IF(ISNUMBER(AH34),1,0),IF(AH34=TRUNC(AH34),1,0),IF(AND(AH34*1=AH34,AH34>=0),1,0),IF(AND(AH34=TRUNC(AH34),AH34>=0),1,0),IF(AND(AH34*1=AH34,AH34>0),1,0),IF(AND(AH34=TRUNC(AH34),AH34>0),1,0),1,IF(ISNA(HLOOKUP(AH34,$AU$4:$BD$4,1,0)),0,1)),0))) -> 0 | BV34: =IF(OR(AJ$30="",AJ$4=99),1,IF(AJ34="",0,IFERROR(CHOOSE(BV$28,IF(ISNA(MATCH(AJ34,$AR$30:$AS$30,0)),0,1),IF(ISNUMBER(AJ34),1,0),IF(AJ34=TRUNC(AJ34),1,0),IF(AND(AJ34*1=AJ34,AJ34>=0),1,0),IF(AND(AJ34=TRUNC(AJ34),AJ34>=0),1,0),IF(AND(AJ34*1=AJ34,AJ34>0),1,0),IF(AND(AJ34=TRUNC(AJ34),AJ34>0),1,0),1,IF(ISNA(HLOOKUP(AJ34,$AU$4:$BD$4,1,0)),0,1)),0))) -> 0 | BW34: =IF(OR(AK$30="",AK$4=99),1,IF(AK34="",0,IFERROR(CHOOSE(BW$28,IF(ISNA(MATCH(AK34,$AR$30:$AS$30,0)),0,1),IF(ISNUMBER(AK34),1,0),IF(AK34=TRUNC(AK34),1,0),IF(AND(AK34*1=AK34,AK34>=0),1,0),IF(AND(AK34=TRUNC(AK34),AK34>=0),1,0),IF(AND(AK34*1=AK34,AK34>0),1,0),IF(AND(AK34=TRUNC(AK34),AK34>0),1,0),1,IF(ISNA(HLOOKUP(AK34,$AU$4:$BD$4,1,0)),0,1)),0))) -> 1 | BX34: =IF(OR(AL$30="",AL$4=99),1,IF(AL34="",0,IFERROR(CHOOSE(BX$28,IF(ISNA(MATCH(AL34,$AR$30:$AS$30,0)),0,1),IF(ISNUMBER(AL34),1,0),IF(AL34=TRUNC(AL34),1,0),IF(AND(AL34*1=AL34,AL34>=0),1,0),IF(AND(AL34=TRUNC(AL34),AL34>=0),1,0),IF(AND(AL34*1=AL34,AL34>0),1,0),IF(AND(AL34=TRUNC(AL34),AL34>0),1,0),1,IF(ISNA(HLOOKUP(AL34,$AU$4:$BD$4,1,0)),0,1)),0))) -> 1 | BY34: =IF(OR(AM$30="",AM$4=99),1,IF(AM34="",0,IFERROR(CHOOSE(BY$28,IF(ISNA(MATCH(AM34,$AR$30:$AS$30,0)),0,1),IF(ISNUMBER(AM34),1,0),IF(AM34=TRUNC(AM34),1,0),IF(AND(AM34*1=AM34,AM34>=0),1,0),IF(AND(AM34=TRUNC(AM34),AM34>=0),1,0),IF(AND(AM34*1=AM34,AM34>0),1,0),IF(AND(AM34=TRUNC(AM34),AM34>0),1,0),1,IF(ISNA(HLOOKUP(AM34,$AU$4:$BD$4,1,0)),0,1)),0))) -> 1 | BZ34: =IF(OR(AN$30="",AN$4=99),1,IF(AN34="",0,IFERROR(CHOOSE(BZ$28,IF(ISNA(MATCH(AN34,$AR$30:$AS$30,0)),0,1),IF(ISNUMBER(AN34),1,0),IF(AN34=TRUNC(AN34),1,0),IF(AND(AN34*1=AN34,AN34>=0),1,0),IF(AND(AN34=TRUNC(AN34),AN34>=0),1,0),IF(AND(AN34*1=AN34,AN34>0),1,0),IF(AND(AN34=TRUNC(AN34),AN34>0),1,0),1,IF(ISNA(HLOOKUP(AN34,$AU$4:$BD$4,1,0)),0,1)),0))) -> 1 | CA34: =IF(OR(AO$30="",AO$4=99),1,IF(AO34="",0,IFERROR(CHOOSE(CA$28,IF(ISNA(MATCH(AO34,$AR$30:$AS$30,0)),0,1),IF(ISNUMBER(AO34),1,0),IF(AO34=TRUNC(AO34),1,0),IF(AND(AO34*1=AO34,AO34>=0),1,0),IF(AND(AO34=TRUNC(AO34),AO34>=0),1,0),IF(AND(AO34*1=AO34,AO34>0),1,0),IF(AND(AO34=TRUNC(AO34),AO34>0),1,0),1,IF(ISNA(HLOOKUP(AO34,$AU$4:$BD$4,1,0)),0,1)),0))) -> 1 | CL34: =N34>=CS$7 -> TRUE | CM34: =O34>=CM$7 -> TRUE | CN34: =P34>=CN$7 -> TRUE | CO34: =Q34>=CO$7 -> FALSE | CQ34: =AD34>=CQ$7 -> FALSE | CR34: =COUNTIF(CL34:CQ34,TRUE) -> 3 | CS34: =N34>=CS$7 -> TRUE | CT34: =O34>=CT$7 -> TRUE | CU34: =P34>=CU$7 -> TRUE | CV34: =Q34>=CV$7 -> FALSE | CX34: =AD34>=CX$7 -> FALSE | CY34: =COUNTIF(CS34:CX34,TRUE) -> 3 | CZ34: =IF($F34="","",IF(CR34=$CM$5,1,0)) | DA34: =IF($F34="","",IF(AND(CY34=$CM$5,CY34-CR34<=$CT$5),1,0))
B35: =IF(F35="","",ROW()-30) | F35: =IF('5'!$F$1="5","",'5'!$F$1) | N35: =IF($F35="","",'ריכוז גיליונות עזר'!H35) | O35: =IF($F35="","",'ריכוז גיליונות עזר'!K35) | P35: =IF($F35="","",'ריכוז גיליונות עזר'!L35) | R35: =IF($F35="","",IF(P35=0,1,IF(Q35<N35,$AR$1,N35/Q35))) | S35: =IF($F35="","",IF(OR(AND(R35=1,P35=1),R35=$AR$1),$AR$1,IF(OR(R35>=$R$5,N35>=$Q$5),1,0))) | AE35: =IF($F35="","",IF(OR(CZ35=1,AND(X35=1,Y35=1,DA35=1)),1,0)) | AO35: =IF($F35="","",IF(AK35=1,1,IF(AQ35<>1,$AR$1,IF(SUMPRODUCT(--(G35:AJ35>=$G$5:$AJ$5)*($G$5:$AJ$5<>"")*($G$4:$AJ$4=1))=COUNTIF($G$4:$AJ$4,1),1,0)))) | AQ35: =IF(OR(SUM(AT35:CA35)<>COUNT(AT35:CA35),SUMPRODUCT(--(G35:AJ35=$AR$1))<>0),0,1) -> 0 | AR35: =IF($F35="","",AR$30) | AS35: =IF($F35="","",AS$30) | AT35: =IF(OR(G$30="",G$4=99),1,IF(G35="",0,IFERROR(CHOOSE(AT$28,IF(ISNA(MATCH(G35,$AR$30:$AS$30,0)),0,1),IF(ISNUMBER(G35),1,0),IF(G35=TRUNC(G35),1,0),IF(AND(G35*1=G35,G35>=0),1,0),IF(AND(G35=TRUNC(G35),G35>=0),1,0),IF(AND(G35*1=G35,G35>0),1,0),IF(AND(G35=TRUNC(G35),G35>0),1,0),1,IF(ISNA(HLOOKUP(G35,$AU$4:$BD$4,1,0)),0,1)),0))) -> 0 | AU35: =IF(OR(H$30="",H$4=99),1,IF(H35="",0,IFERROR(CHOOSE(AU$28,IF(ISNA(MATCH(H35,$AR$30:$AS$30,0)),0,1),IF(ISNUMBER(H35),1,0),IF(H35=TRUNC(H35),1,0),IF(AND(H35*1=H35,H35>=0),1,0),IF(AND(H35=TRUNC(H35),H35>=0),1,0),IF(AND(H35*1=H35,H35>0),1,0),IF(AND(H35=TRUNC(H35),H35>0),1,0),1,IF(ISNA(HLOOKUP(H35,$AU$4:$BD$4,1,0)),0,1)),0))) -> 0 | AV35: =IF(OR(I$30="",I$4=99),1,IF(I35="",0,IFERROR(CHOOSE(AV$28,IF(ISNA(MATCH(I35,$AR$30:$AS$30,0)),0,1),IF(ISNUMBER(I35),1,0),IF(I35=TRUNC(I35),1,0),IF(AND(I35*1=I35,I35>=0),1,0),IF(AND(I35=TRUNC(I35),I35>=0),1,0),IF(AND(I35*1=I35,I35>0),1,0),IF(AND(I35=TRUNC(I35),I35>0),1,0),1,IF(ISNA(HLOOKUP(I35,$AU$4:$BD$4,1,0)),0,1)),0))) -> 0 | AW35: =IF(OR(J$30="",J$4=99),1,IF(J35="",0,IFERROR(CHOOSE(AW$28,IF(ISNA(MATCH(J35,$AR$30:$AS$30,0)),0,1),IF(ISNUMBER(J35),1,0),IF(J35=TRUNC(J35),1,0),IF(AND(J35*1=J35,J35>=0),1,0),IF(AND(J35=TRUNC(J35),J35>=0),1,0),IF(AND(J35*1=J35,J35>0),1,0),IF(AND(J35=TRUNC(J35),J35>0),1,0),1,IF(ISNA(HLOOKUP(J35,$AU$4:$BD$4,1,0)),0,1)),0))) -> 0 | AX35: =IF(OR(K$30="",K$4=99),1,IF(K35="",0,IFERROR(CHOOSE(AX$28,IF(ISNA(MATCH(K35,$AR$30:$AS$30,0)),0,1),IF(ISNUMBER(K35),1,0),IF(K35=TRUNC(K35),1,0),IF(AND(K35*1=K35,K35>=0),1,0),IF(AND(K35=TRUNC(K35),K35>=0),1,0),IF(AND(K35*1=K35,K35>0),1,0),IF(AND(K35=TRUNC(K35),K35>0),1,0),1,IF(ISNA(HLOOKUP(K35,$AU$4:$BD$4,1,0)),0,1)),0))) -> 0 | AY35: =IF(OR(L$30="",L$4=99),1,IF(L35="",0,IFERROR(CHOOSE(AY$28,IF(ISNA(MATCH(L35,$AR$30:$AS$30,0)),0,1),IF(ISNUMBER(L35),1,0),IF(L35=TRUNC(L35),1,0),IF(AND(L35*1=L35,L35>=0),1,0),IF(AND(L35=TRUNC(L35),L35>=0),1,0),IF(AND(L35*1=L35,L35>0),1,0),IF(AND(L35=TRUNC(L35),L35>0),1,0),1,IF(ISNA(HLOOKUP(L35,$AU$4:$BD$4,1,0)),0,1)),0))) -> 0 | AZ35: =IF(OR(M$30="",M$4=99),1,IF(M35="",0,IFERROR(CHOOSE(AZ$28,IF(ISNA(MATCH(M35,$AR$30:$AS$30,0)),0,1),IF(ISNUMBER(M35),1,0),IF(M35=TRUNC(M35),1,0),IF(AND(M35*1=M35,M35>=0),1,0),IF(AND(M35=TRUNC(M35),M35>=0),1,0),IF(AND(M35*1=M35,M35>0),1,0),IF(AND(M35=TRUNC(M35),M35>0),1,0),1,IF(ISNA(HLOOKUP(M35,$AU$4:$BD$4,1,0)),0,1)),0))) -> 0 | BA35: =IF(OR(N$30="",N$4=99),1,IF(N35="",0,IFERROR(CHOOSE(BA$28,IF(ISNA(MATCH(N35,$AR$30:$AS$30,0)),0,1),IF(ISNUMBER(N35),1,0),IF(N35=TRUNC(N35),1,0),IF(AND(N35*1=N35,N35>=0),1,0),IF(AND(N35=TRUNC(N35),N35>=0),1,0),IF(AND(N35*1=N35,N35>0),1,0),IF(AND(N35=TRUNC(N35),N35>0),1,0),1,IF(ISNA(HLOOKUP(N35,$AU$4:$BD$4,1,0)),0,1)),0))) -> 1 | ... BH35: =IF(OR(U$30="",U$4=99),1,IF(U35="",0,IFERROR(CHOOSE(BH$28,IF(ISNA(MATCH(U35,$AR$30:$AS$30,0)),0,1),IF(ISNUMBER(U35),1,0),IF(U35=TRUNC(U35),1,0),IF(AND(U35*1=U35,U35>=0),1,0),IF(AND(U35=TRUNC(U35),U35>=0),1,0),IF(AND(U35*1=U35,U35>0),1,0),IF(AND(U35=TRUNC(U35),U35>0),1,0),1,IF(ISNA(HLOOKUP(U35,$AU$4:$BD$4,1,0)),0,1)),0))) -> 0 | BI35: =IF(OR(V$30="",W$4=99),1,IF(V35="",0,IFERROR(CHOOSE(BI$28,IF(ISNA(MATCH(V35,$AR$30:$AS$30,0)),0,1),IF(ISNUMBER(V35),1,0),IF(V35=TRUNC(V35),1,0),IF(AND(V35*1=V35,V35>=0),1,0),IF(AND(V35=TRUNC(V35),V35>=0),1,0),IF(AND(V35*1=V35,V35>0),1,0),IF(AND(V35=TRUNC(V35),V35>0),1,0),1,IF(ISNA(HLOOKUP(V35,$AU$4:$BD$4,1,0)),0,1)),0))) -> 0 | BJ35: =IF(OR(W$30="",X$4=99),1,IF(W35="",0,IFERROR(CHOOSE(BJ$28,IF(ISNA(MATCH(W35,$AR$30:$AS$30,0)),0,1),IF(ISNUMBER(W35),1,0),IF(W35=TRUNC(W35),1,0),IF(AND(W35*1=W35,W35>=0),1,0),IF(AND(W35=TRUNC(W35),W35>=0),1,0),IF(AND(W35*1=W35,W35>0),1,0),IF(AND(W35=TRUNC(W35),W35>0),1,0),1,IF(ISNA(HLOOKUP(W35,$AU$4:$BD$4,1,0)),0,1)),0))) -> 1 | BK35: =IF(OR(X$30="",X$4=99),1,IF(X35="",0,IFERROR(CHOOSE(BK$28,IF(ISNA(MATCH(X35,$AR$30:$AS$30,0)),0,1),IF(ISNUMBER(X35),1,0),IF(X35=TRUNC(X35),1,0),IF(AND(X35*1=X35,X35>=0),1,0),IF(AND(X35=TRUNC(X35),X35>=0),1,0),IF(AND(X35*1=X35,X35>0),1,0),IF(AND(X35=TRUNC(X35),X35>0),1,0),1,IF(ISNA(HLOOKUP(X35,$AU$4:$BD$4,1,0)),0,1)),0))) -> 1 | BL35: =IF(OR(Y$30="",Y$4=99),1,IF(Y35="",0,IFERROR(CHOOSE(BL$28,IF(ISNA(MATCH(Y35,$AR$30:$AS$30,0)),0,1),IF(ISNUMBER(Y35),1,0),IF(Y35=TRUNC(Y35),1,0),IF(AND(Y35*1=Y35,Y35>=0),1,0),IF(AND(Y35=TRUNC(Y35),Y35>=0),1,0),IF(AND(Y35*1=Y35,Y35>0),1,0),IF(AND(Y35=TRUNC(Y35),Y35>0),1,0),1,IF(ISNA(HLOOKUP(Y35,$AU$4:$BD$4,1,0)),0,1)),0))) -> 1 | BM35: =IF(OR(Z$30="",Z$4=99),1,IF(Z35="",0,IFERROR(CHOOSE(BM$28,IF(ISNA(MATCH(Z35,$AR$30:$AS$30,0)),0,1),IF(ISNUMBER(Z35),1,0),IF(Z35=TRUNC(Z35),1,0),IF(AND(Z35*1=Z35,Z35>=0),1,0),IF(AND(Z35=TRUNC(Z35),Z35>=0),1,0),IF(AND(Z35*1=Z35,Z35>0),1,0),IF(AND(Z35=TRUNC(Z35),Z35>0),1,0),1,IF(ISNA(HLOOKUP(Z35,$AU$4:$BD$4,1,0)),0,1)),0))) -> 1 | BN35: =IF(OR(AA$30="",AA$4=99),1,IF(AA35="",0,IFERROR(CHOOSE(BN$28,IF(ISNA(MATCH(AA35,$AR$30:$AS$30,0)),0,1),IF(ISNUMBER(AA35),1,0),IF(AA35=TRUNC(AA35),1,0),IF(AND(AA35*1=AA35,AA35>=0),1,0),IF(AND(AA35=TRUNC(AA35),AA35>=0),1,0),IF(AND(AA35*1=AA35,AA35>0),1,0),IF(AND(AA35=TRUNC(AA35),AA35>0),1,0),1,IF(ISNA(HLOOKUP(AA35,$AU$4:$BD$4,1,0)),0,1)),0))) -> 1 | BO35: =IF(OR(AB$30="",AB$4=99),1,IF(AB35="",0,IFERROR(CHOOSE(BO$28,IF(ISNA(MATCH(AB35,$AR$30:$AS$30,0)),0,1),IF(ISNUMBER(AB35),1,0),IF(AB35=TRUNC(AB35),1,0),IF(AND(AB35*1=AB35,AB35>=0),1,0),IF(AND(AB35=TRUNC(AB35),AB35>=0),1,0),IF(AND(AB35*1=AB35,AB35>0),1,0),IF(AND(AB35=TRUNC(AB35),AB35>0),1,0),1,IF(ISNA(HLOOKUP(AB35,$AU$4:$BD$4,1,0)),0,1)),0))) -> 1 | BP35: =IF(OR(AC$30="",AC$4=99),1,IF(AC35="",0,IFERROR(CHOOSE(BP$28,IF(ISNA(MATCH(AC35,$AR$30:$AS$30,0)),0,1),IF(ISNUMBER(AC35),1,0),IF(AC35=TRUNC(AC35),1,0),IF(AND(AC35*1=AC35,AC35>=0),1,0),IF(AND(AC35=TRUNC(AC35),AC35>=0),1,0),IF(AND(AC35*1=AC35,AC35>0),1,0),IF(AND(AC35=TRUNC(AC35),AC35>0),1,0),1,IF(ISNA(HLOOKUP(AC35,$AU$4:$BD$4,1,0)),0,1)),0))) -> 1 | BQ35: =IF(OR(AD$30="",AD$4=99),1,IF(AD35="",0,IFERROR(CHOOSE(BQ$28,IF(ISNA(MATCH(AD35,$AR$30:$AS$30,0)),0,1),IF(ISNUMBER(AD35),1,0),IF(AD35=TRUNC(AD35),1,0),IF(AND(AD35*1=AD35,AD35>=0),1,0),IF(AND(AD35=TRUNC(AD35),AD35>=0),1,0),IF(AND(AD35*1=AD35,AD35>0),1,0),IF(AND(AD35=TRUNC(AD35),AD35>0),1,0),1,IF(ISNA(HLOOKUP(AD35,$AU$4:$BD$4,1,0)),0,1)),0))) -> 0 | BR35: =IF(OR(AE$30="",AE$4=99),1,IF(AE35="",0,IFERROR(CHOOSE(BR$28,IF(ISNA(MATCH(AE35,$AR$30:$AS$30,0)),0,1),IF(ISNUMBER(AE35),1,0),IF(AE35=TRUNC(AE35),1,0),IF(AND(AE35*1=AE35,AE35>=0),1,0),IF(AND(AE35=TRUNC(AE35),AE35>=0),1,0),IF(AND(AE35*1=AE35,AE35>0),1,0),IF(AND(AE35=TRUNC(AE35),AE35>0),1,0),1,IF(ISNA(HLOOKUP(AE35,$AU$4:$BD$4,1,0)),0,1)),0))) -> 1 | ... BU35: =IF(OR(AH$30="",AH$4=99),1,IF(AH35="",0,IFERROR(CHOOSE(BU$28,IF(ISNA(MATCH(AH35,$AR$30:$AS$30,0)),0,1),IF(ISNUMBER(AH35),1,0),IF(AH35=TRUNC(AH35),1,0),IF(AND(AH35*1=AH35,AH35>=0),1,0),IF(AND(AH35=TRUNC(AH35),AH35>=0),1,0),IF(AND(AH35*1=AH35,AH35>0),1,0),IF(AND(AH35=TRUNC(AH35),AH35>0),1,0),1,IF(ISNA(HLOOKUP(AH35,$AU$4:$BD$4,1,0)),0,1)),0))) -> 0 | BV35: =IF(OR(AJ$30="",AJ$4=99),1,IF(AJ35="",0,IFERROR(CHOOSE(BV$28,IF(ISNA(MATCH(AJ35,$AR$30:$AS$30,0)),0,1),IF(ISNUMBER(AJ35),1,0),IF(AJ35=TRUNC(AJ35),1,0),IF(AND(AJ35*1=AJ35,AJ35>=0),1,0),IF(AND(AJ35=TRUNC(AJ35),AJ35>=0),1,0),IF(AND(AJ35*1=AJ35,AJ35>0),1,0),IF(AND(AJ35=TRUNC(AJ35),AJ35>0),1,0),1,IF(ISNA(HLOOKUP(AJ35,$AU$4:$BD$4,1,0)),0,1)),0))) -> 0 | BW35: =IF(OR(AK$30="",AK$4=99),1,IF(AK35="",0,IFERROR(CHOOSE(BW$28,IF(ISNA(MATCH(AK35,$AR$30:$AS$30,0)),0,1),IF(ISNUMBER(AK35),1,0),IF(AK35=TRUNC(AK35),1,0),IF(AND(AK35*1=AK35,AK35>=0),1,0),IF(AND(AK35=TRUNC(AK35),AK35>=0),1,0),IF(AND(AK35*1=AK35,AK35>0),1,0),IF(AND(AK35=TRUNC(AK35),AK35>0),1,0),1,IF(ISNA(HLOOKUP(AK35,$AU$4:$BD$4,1,0)),0,1)),0))) -> 1 | BX35: =IF(OR(AL$30="",AL$4=99),1,IF(AL35="",0,IFERROR(CHOOSE(BX$28,IF(ISNA(MATCH(AL35,$AR$30:$AS$30,0)),0,1),IF(ISNUMBER(AL35),1,0),IF(AL35=TRUNC(AL35),1,0),IF(AND(AL35*1=AL35,AL35>=0),1,0),IF(AND(AL35=TRUNC(AL35),AL35>=0),1,0),IF(AND(AL35*1=AL35,AL35>0),1,0),IF(AND(AL35=TRUNC(AL35),AL35>0),1,0),1,IF(ISNA(HLOOKUP(AL35,$AU$4:$BD$4,1,0)),0,1)),0))) -> 1 | BY35: =IF(OR(AM$30="",AM$4=99),1,IF(AM35="",0,IFERROR(CHOOSE(BY$28,IF(ISNA(MATCH(AM35,$AR$30:$AS$30,0)),0,1),IF(ISNUMBER(AM35),1,0),IF(AM35=TRUNC(AM35),1,0),IF(AND(AM35*1=AM35,AM35>=0),1,0),IF(AND(AM35=TRUNC(AM35),AM35>=0),1,0),IF(AND(AM35*1=AM35,AM35>0),1,0),IF(AND(AM35=TRUNC(AM35),AM35>0),1,0),1,IF(ISNA(HLOOKUP(AM35,$AU$4:$BD$4,1,0)),0,1)),0))) -> 1 | BZ35: =IF(OR(AN$30="",AN$4=99),1,IF(AN35="",0,IFERROR(CHOOSE(BZ$28,IF(ISNA(MATCH(AN35,$AR$30:$AS$30,0)),0,1),IF(ISNUMBER(AN35),1,0),IF(AN35=TRUNC(AN35),1,0),IF(AND(AN35*1=AN35,AN35>=0),1,0),IF(AND(AN35=TRUNC(AN35),AN35>=0),1,0),IF(AND(AN35*1=AN35,AN35>0),1,0),IF(AND(AN35=TRUNC(AN35),AN35>0),1,0),1,IF(ISNA(HLOOKUP(AN35,$AU$4:$BD$4,1,0)),0,1)),0))) -> 1 | CA35: =IF(OR(AO$30="",AO$4=99),1,IF(AO35="",0,IFERROR(CHOOSE(CA$28,IF(ISNA(MATCH(AO35,$AR$30:$AS$30,0)),0,1),IF(ISNUMBER(AO35),1,0),IF(AO35=TRUNC(AO35),1,0),IF(AND(AO35*1=AO35,AO35>=0),1,0),IF(AND(AO35=TRUNC(AO35),AO35>=0),1,0),IF(AND(AO35*1=AO35,AO35>0),1,0),IF(AND(AO35=TRUNC(AO35),AO35>0),1,0),1,IF(ISNA(HLOOKUP(AO35,$AU$4:$BD$4,1,0)),0,1)),0))) -> 1 | CL35: =N35>=CS$7 -> TRUE | CM35: =O35>=CM$7 -> TRUE | CN35: =P35>=CN$7 -> TRUE | CO35: =Q35>=CO$7 -> FALSE | CQ35: =AD35>=CQ$7 -> FALSE | CR35: =COUNTIF(CL35:CQ35,TRUE) -> 3 | CS35: =N35>=CS$7 -> TRUE | CT35: =O35>=CT$7 -> TRUE | CU35: =P35>=CU$7 -> TRUE | CV35: =Q35>=CV$7 -> FALSE | CX35: =AD35>=CX$7 -> FALSE | CY35: =COUNTIF(CS35:CX35,TRUE) -> 3 | CZ35: =IF($F35="","",IF(CR35=$CM$5,1,0)) | DA35: =IF($F35="","",IF(AND(CY35=$CM$5,CY35-CR35<=$CT$5),1,0))
B36: =IF(F36="","",ROW()-30) | F36: =IF('6'!$F$1="6","",'6'!$F$1) | N36: =IF($F36="","",'ריכוז גיליונות עזר'!H36) | O36: =IF($F36="","",'ריכוז גיליונות עזר'!K36) | P36: =IF($F36="","",'ריכוז גיליונות עזר'!L36) | R36: =IF($F36="","",IF(P36=0,1,IF(Q36<N36,$AR$1,N36/Q36))) | S36: =IF($F36="","",IF(OR(AND(R36=1,P36=1),R36=$AR$1),$AR$1,IF(OR(R36>=$R$5,N36>=$Q$5),1,0))) | AE36: =IF($F36="","",IF(OR(CZ36=1,AND(X36=1,Y36=1,DA36=1)),1,0)) | AO36: =IF($F36="","",IF(AK36=1,1,IF(AQ36<>1,$AR$1,IF(SUMPRODUCT(--(G36:AJ36>=$G$5:$AJ$5)*($G$5:$AJ$5<>"")*($G$4:$AJ$4=1))=COUNTIF($G$4:$AJ$4,1),1,0)))) | AQ36: =IF(OR(SUM(AT36:CA36)<>COUNT(AT36:CA36),SUMPRODUCT(--(G36:AJ36=$AR$1))<>0),0,1) -> 0 | AR36: =IF($F36="","",AR$30) | AS36: =IF($F36="","",AS$30) | AT36: =IF(OR(G$30="",G$4=99),1,IF(G36="",0,IFERROR(CHOOSE(AT$28,IF(ISNA(MATCH(G36,$AR$30:$AS$30,0)),0,1),IF(ISNUMBER(G36),1,0),IF(G36=TRUNC(G36),1,0),IF(AND(G36*1=G36,G36>=0),1,0),IF(AND(G36=TRUNC(G36),G36>=0),1,0),IF(AND(G36*1=G36,G36>0),1,0),IF(AND(G36=TRUNC(G36),G36>0),1,0),1,IF(ISNA(HLOOKUP(G36,$AU$4:$BD$4,1,0)),0,1)),0))) -> 0 | AU36: =IF(OR(H$30="",H$4=99),1,IF(H36="",0,IFERROR(CHOOSE(AU$28,IF(ISNA(MATCH(H36,$AR$30:$AS$30,0)),0,1),IF(ISNUMBER(H36),1,0),IF(H36=TRUNC(H36),1,0),IF(AND(H36*1=H36,H36>=0),1,0),IF(AND(H36=TRUNC(H36),H36>=0),1,0),IF(AND(H36*1=H36,H36>0),1,0),IF(AND(H36=TRUNC(H36),H36>0),1,0),1,IF(ISNA(HLOOKUP(H36,$AU$4:$BD$4,1,0)),0,1)),0))) -> 0 | AV36: =IF(OR(I$30="",I$4=99),1,IF(I36="",0,IFERROR(CHOOSE(AV$28,IF(ISNA(MATCH(I36,$AR$30:$AS$30,0)),0,1),IF(ISNUMBER(I36),1,0),IF(I36=TRUNC(I36),1,0),IF(AND(I36*1=I36,I36>=0),1,0),IF(AND(I36=TRUNC(I36),I36>=0),1,0),IF(AND(I36*1=I36,I36>0),1,0),IF(AND(I36=TRUNC(I36),I36>0),1,0),1,IF(ISNA(HLOOKUP(I36,$AU$4:$BD$4,1,0)),0,1)),0))) -> 0 | AW36: =IF(OR(J$30="",J$4=99),1,IF(J36="",0,IFERROR(CHOOSE(AW$28,IF(ISNA(MATCH(J36,$AR$30:$AS$30,0)),0,1),IF(ISNUMBER(J36),1,0),IF(J36=TRUNC(J36),1,0),IF(AND(J36*1=J36,J36>=0),1,0),IF(AND(J36=TRUNC(J36),J36>=0),1,0),IF(AND(J36*1=J36,J36>0),1,0),IF(AND(J36=TRUNC(J36),J36>0),1,0),1,IF(ISNA(HLOOKUP(J36,$AU$4:$BD$4,1,0)),0,1)),0))) -> 0 | AX36: =IF(OR(K$30="",K$4=99),1,IF(K36="",0,IFERROR(CHOOSE(AX$28,IF(ISNA(MATCH(K36,$AR$30:$AS$30,0)),0,1),IF(ISNUMBER(K36),1,0),IF(K36=TRUNC(K36),1,0),IF(AND(K36*1=K36,K36>=0),1,0),IF(AND(K36=TRUNC(K36),K36>=0),1,0),IF(AND(K36*1=K36,K36>0),1,0),IF(AND(K36=TRUNC(K36),K36>0),1,0),1,IF(ISNA(HLOOKUP(K36,$AU$4:$BD$4,1,0)),0,1)),0))) -> 0 | AY36: =IF(OR(L$30="",L$4=99),1,IF(L36="",0,IFERROR(CHOOSE(AY$28,IF(ISNA(MATCH(L36,$AR$30:$AS$30,0)),0,1),IF(ISNUMBER(L36),1,0),IF(L36=TRUNC(L36),1,0),IF(AND(L36*1=L36,L36>=0),1,0),IF(AND(L36=TRUNC(L36),L36>=0),1,0),IF(AND(L36*1=L36,L36>0),1,0),IF(AND(L36=TRUNC(L36),L36>0),1,0),1,IF(ISNA(HLOOKUP(L36,$AU$4:$BD$4,1,0)),0,1)),0))) -> 0 | AZ36: =IF(OR(M$30="",M$4=99),1,IF(M36="",0,IFERROR(CHOOSE(AZ$28,IF(ISNA(MATCH(M36,$AR$30:$AS$30,0)),0,1),IF(ISNUMBER(M36),1,0),IF(M36=TRUNC(M36),1,0),IF(AND(M36*1=M36,M36>=0),1,0),IF(AND(M36=TRUNC(M36),M36>=0),1,0),IF(AND(M36*1=M36,M36>0),1,0),IF(AND(M36=TRUNC(M36),M36>0),1,0),1,IF(ISNA(HLOOKUP(M36,$AU$4:$BD$4,1,0)),0,1)),0))) -> 0 | BA36: =IF(OR(N$30="",N$4=99),1,IF(N36="",0,IFERROR(CHOOSE(BA$28,IF(ISNA(MATCH(N36,$AR$30:$AS$30,0)),0,1),IF(ISNUMBER(N36),1,0),IF(N36=TRUNC(N36),1,0),IF(AND(N36*1=N36,N36>=0),1,0),IF(AND(N36=TRUNC(N36),N36>=0),1,0),IF(AND(N36*1=N36,N36>0),1,0),IF(AND(N36=TRUNC(N36),N36>0),1,0),1,IF(ISNA(HLOOKUP(N36,$AU$4:$BD$4,1,0)),0,1)),0))) -> 1 | ... BH36: =IF(OR(U$30="",U$4=99),1,IF(U36="",0,IFERROR(CHOOSE(BH$28,IF(ISNA(MATCH(U36,$AR$30:$AS$30,0)),0,1),IF(ISNUMBER(U36),1,0),IF(U36=TRUNC(U36),1,0),IF(AND(U36*1=U36,U36>=0),1,0),IF(AND(U36=TRUNC(U36),U36>=0),1,0),IF(AND(U36*1=U36,U36>0),1,0),IF(AND(U36=TRUNC(U36),U36>0),1,0),1,IF(ISNA(HLOOKUP(U36,$AU$4:$BD$4,1,0)),0,1)),0))) -> 0 | BI36: =IF(OR(V$30="",W$4=99),1,IF(V36="",0,IFERROR(CHOOSE(BI$28,IF(ISNA(MATCH(V36,$AR$30:$AS$30,0)),0,1),IF(ISNUMBER(V36),1,0),IF(V36=TRUNC(V36),1,0),IF(AND(V36*1=V36,V36>=0),1,0),IF(AND(V36=TRUNC(V36),V36>=0),1,0),IF(AND(V36*1=V36,V36>0),1,0),IF(AND(V36=TRUNC(V36),V36>0),1,0),1,IF(ISNA(HLOOKUP(V36,$AU$4:$BD$4,1,0)),0,1)),0))) -> 0 | BJ36: =IF(OR(W$30="",X$4=99),1,IF(W36="",0,IFERROR(CHOOSE(BJ$28,IF(ISNA(MATCH(W36,$AR$30:$AS$30,0)),0,1),IF(ISNUMBER(W36),1,0),IF(W36=TRUNC(W36),1,0),IF(AND(W36*1=W36,W36>=0),1,0),IF(AND(W36=TRUNC(W36),W36>=0),1,0),IF(AND(W36*1=W36,W36>0),1,0),IF(AND(W36=TRUNC(W36),W36>0),1,0),1,IF(ISNA(HLOOKUP(W36,$AU$4:$BD$4,1,0)),0,1)),0))) -> 1 | BK36: =IF(OR(X$30="",X$4=99),1,IF(X36="",0,IFERROR(CHOOSE(BK$28,IF(ISNA(MATCH(X36,$AR$30:$AS$30,0)),0,1),IF(ISNUMBER(X36),1,0),IF(X36=TRUNC(X36),1,0),IF(AND(X36*1=X36,X36>=0),1,0),IF(AND(X36=TRUNC(X36),X36>=0),1,0),IF(AND(X36*1=X36,X36>0),1,0),IF(AND(X36=TRUNC(X36),X36>0),1,0),1,IF(ISNA(HLOOKUP(X36,$AU$4:$BD$4,1,0)),0,1)),0))) -> 1 | BL36: =IF(OR(Y$30="",Y$4=99),1,IF(Y36="",0,IFERROR(CHOOSE(BL$28,IF(ISNA(MATCH(Y36,$AR$30:$AS$30,0)),0,1),IF(ISNUMBER(Y36),1,0),IF(Y36=TRUNC(Y36),1,0),IF(AND(Y36*1=Y36,Y36>=0),1,0),IF(AND(Y36=TRUNC(Y36),Y36>=0),1,0),IF(AND(Y36*1=Y36,Y36>0),1,0),IF(AND(Y36=TRUNC(Y36),Y36>0),1,0),1,IF(ISNA(HLOOKUP(Y36,$AU$4:$BD$4,1,0)),0,1)),0))) -> 1 | BM36: =IF(OR(Z$30="",Z$4=99),1,IF(Z36="",0,IFERROR(CHOOSE(BM$28,IF(ISNA(MATCH(Z36,$AR$30:$AS$30,0)),0,1),IF(ISNUMBER(Z36),1,0),IF(Z36=TRUNC(Z36),1,0),IF(AND(Z36*1=Z36,Z36>=0),1,0),IF(AND(Z36=TRUNC(Z36),Z36>=0),1,0),IF(AND(Z36*1=Z36,Z36>0),1,0),IF(AND(Z36=TRUNC(Z36),Z36>0),1,0),1,IF(ISNA(HLOOKUP(Z36,$AU$4:$BD$4,1,0)),0,1)),0))) -> 1 | BN36: =IF(OR(AA$30="",AA$4=99),1,IF(AA36="",0,IFERROR(CHOOSE(BN$28,IF(ISNA(MATCH(AA36,$AR$30:$AS$30,0)),0,1),IF(ISNUMBER(AA36),1,0),IF(AA36=TRUNC(AA36),1,0),IF(AND(AA36*1=AA36,AA36>=0),1,0),IF(AND(AA36=TRUNC(AA36),AA36>=0),1,0),IF(AND(AA36*1=AA36,AA36>0),1,0),IF(AND(AA36=TRUNC(AA36),AA36>0),1,0),1,IF(ISNA(HLOOKUP(AA36,$AU$4:$BD$4,1,0)),0,1)),0))) -> 1 | BO36: =IF(OR(AB$30="",AB$4=99),1,IF(AB36="",0,IFERROR(CHOOSE(BO$28,IF(ISNA(MATCH(AB36,$AR$30:$AS$30,0)),0,1),IF(ISNUMBER(AB36),1,0),IF(AB36=TRUNC(AB36),1,0),IF(AND(AB36*1=AB36,AB36>=0),1,0),IF(AND(AB36=TRUNC(AB36),AB36>=0),1,0),IF(AND(AB36*1=AB36,AB36>0),1,0),IF(AND(AB36=TRUNC(AB36),AB36>0),1,0),1,IF(ISNA(HLOOKUP(AB36,$AU$4:$BD$4,1,0)),0,1)),0))) -> 1 | BP36: =IF(OR(AC$30="",AC$4=99),1,IF(AC36="",0,IFERROR(CHOOSE(BP$28,IF(ISNA(MATCH(AC36,$AR$30:$AS$30,0)),0,1),IF(ISNUMBER(AC36),1,0),IF(AC36=TRUNC(AC36),1,0),IF(AND(AC36*1=AC36,AC36>=0),1,0),IF(AND(AC36=TRUNC(AC36),AC36>=0),1,0),IF(AND(AC36*1=AC36,AC36>0),1,0),IF(AND(AC36=TRUNC(AC36),AC36>0),1,0),1,IF(ISNA(HLOOKUP(AC36,$AU$4:$BD$4,1,0)),0,1)),0))) -> 1 | BQ36: =IF(OR(AD$30="",AD$4=99),1,IF(AD36="",0,IFERROR(CHOOSE(BQ$28,IF(ISNA(MATCH(AD36,$AR$30:$AS$30,0)),0,1),IF(ISNUMBER(AD36),1,0),IF(AD36=TRUNC(AD36),1,0),IF(AND(AD36*1=AD36,AD36>=0),1,0),IF(AND(AD36=TRUNC(AD36),AD36>=0),1,0),IF(AND(AD36*1=AD36,AD36>0),1,0),IF(AND(AD36=TRUNC(AD36),AD36>0),1,0),1,IF(ISNA(HLOOKUP(AD36,$AU$4:$BD$4,1,0)),0,1)),0))) -> 0 | BR36: =IF(OR(AE$30="",AE$4=99),1,IF(AE36="",0,IFERROR(CHOOSE(BR$28,IF(ISNA(MATCH(AE36,$AR$30:$AS$30,0)),0,1),IF(ISNUMBER(AE36),1,0),IF(AE36=TRUNC(AE36),1,0),IF(AND(AE36*1=AE36,AE36>=0),1,0),IF(AND(AE36=TRUNC(AE36),AE36>=0),1,0),IF(AND(AE36*1=AE36,AE36>0),1,0),IF(AND(AE36=TRUNC(AE36),AE36>0),1,0),1,IF(ISNA(HLOOKUP(AE36,$AU$4:$BD$4,1,0)),0,1)),0))) -> 1 | ... BU36: =IF(OR(AH$30="",AH$4=99),1,IF(AH36="",0,IFERROR(CHOOSE(BU$28,IF(ISNA(MATCH(AH36,$AR$30:$AS$30,0)),0,1),IF(ISNUMBER(AH36),1,0),IF(AH36=TRUNC(AH36),1,0),IF(AND(AH36*1=AH36,AH36>=0),1,0),IF(AND(AH36=TRUNC(AH36),AH36>=0),1,0),IF(AND(AH36*1=AH36,AH36>0),1,0),IF(AND(AH36=TRUNC(AH36),AH36>0),1,0),1,IF(ISNA(HLOOKUP(AH36,$AU$4:$BD$4,1,0)),0,1)),0))) -> 0 | BV36: =IF(OR(AJ$30="",AJ$4=99),1,IF(AJ36="",0,IFERROR(CHOOSE(BV$28,IF(ISNA(MATCH(AJ36,$AR$30:$AS$30,0)),0,1),IF(ISNUMBER(AJ36),1,0),IF(AJ36=TRUNC(AJ36),1,0),IF(AND(AJ36*1=AJ36,AJ36>=0),1,0),IF(AND(AJ36=TRUNC(AJ36),AJ36>=0),1,0),IF(AND(AJ36*1=AJ36,AJ36>0),1,0),IF(AND(AJ36=TRUNC(AJ36),AJ36>0),1,0),1,IF(ISNA(HLOOKUP(AJ36,$AU$4:$BD$4,1,0)),0,1)),0))) -> 0 | BW36: =IF(OR(AK$30="",AK$4=99),1,IF(AK36="",0,IFERROR(CHOOSE(BW$28,IF(ISNA(MATCH(AK36,$AR$30:$AS$30,0)),0,1),IF(ISNUMBER(AK36),1,0),IF(AK36=TRUNC(AK36),1,0),IF(AND(AK36*1=AK36,AK36>=0),1,0),IF(AND(AK36=TRUNC(AK36),AK36>=0),1,0),IF(AND(AK36*1=AK36,AK36>0),1,0),IF(AND(AK36=TRUNC(AK36),AK36>0),1,0),1,IF(ISNA(HLOOKUP(AK36,$AU$4:$BD$4,1,0)),0,1)),0))) -> 1 | BX36: =IF(OR(AL$30="",AL$4=99),1,IF(AL36="",0,IFERROR(CHOOSE(BX$28,IF(ISNA(MATCH(AL36,$AR$30:$AS$30,0)),0,1),IF(ISNUMBER(AL36),1,0),IF(AL36=TRUNC(AL36),1,0),IF(AND(AL36*1=AL36,AL36>=0),1,0),IF(AND(AL36=TRUNC(AL36),AL36>=0),1,0),IF(AND(AL36*1=AL36,AL36>0),1,0),IF(AND(AL36=TRUNC(AL36),AL36>0),1,0),1,IF(ISNA(HLOOKUP(AL36,$AU$4:$BD$4,1,0)),0,1)),0))) -> 1 | BY36: =IF(OR(AM$30="",AM$4=99),1,IF(AM36="",0,IFERROR(CHOOSE(BY$28,IF(ISNA(MATCH(AM36,$AR$30:$AS$30,0)),0,1),IF(ISNUMBER(AM36),1,0),IF(AM36=TRUNC(AM36),1,0),IF(AND(AM36*1=AM36,AM36>=0),1,0),IF(AND(AM36=TRUNC(AM36),AM36>=0),1,0),IF(AND(AM36*1=AM36,AM36>0),1,0),IF(AND(AM36=TRUNC(AM36),AM36>0),1,0),1,IF(ISNA(HLOOKUP(AM36,$AU$4:$BD$4,1,0)),0,1)),0))) -> 1 | BZ36: =IF(OR(AN$30="",AN$4=99),1,IF(AN36="",0,IFERROR(CHOOSE(BZ$28,IF(ISNA(MATCH(AN36,$AR$30:$AS$30,0)),0,1),IF(ISNUMBER(AN36),1,0),IF(AN36=TRUNC(AN36),1,0),IF(AND(AN36*1=AN36,AN36>=0),1,0),IF(AND(AN36=TRUNC(AN36),AN36>=0),1,0),IF(AND(AN36*1=AN36,AN36>0),1,0),IF(AND(AN36=TRUNC(AN36),AN36>0),1,0),1,IF(ISNA(HLOOKUP(AN36,$AU$4:$BD$4,1,0)),0,1)),0))) -> 1 | CA36: =IF(OR(AO$30="",AO$4=99),1,IF(AO36="",0,IFERROR(CHOOSE(CA$28,IF(ISNA(MATCH(AO36,$AR$30:$AS$30,0)),0,1),IF(ISNUMBER(AO36),1,0),IF(AO36=TRUNC(AO36),1,0),IF(AND(AO36*1=AO36,AO36>=0),1,0),IF(AND(AO36=TRUNC(AO36),AO36>=0),1,0),IF(AND(AO36*1=AO36,AO36>0),1,0),IF(AND(AO36=TRUNC(AO36),AO36>0),1,0),1,IF(ISNA(HLOOKUP(AO36,$AU$4:$BD$4,1,0)),0,1)),0))) -> 1 | CL36: =N36>=CS$7 -> TRUE | CM36: =O36>=CM$7 -> TRUE | CN36: =P36>=CN$7 -> TRUE | CO36: =Q36>=CO$7 -> FALSE | CQ36: =AD36>=CQ$7 -> FALSE | CR36: =COUNTIF(CL36:CQ36,TRUE) -> 3 | CS36: =N36>=CS$7 -> TRUE | CT36: =O36>=CT$7 -> TRUE | CU36: =P36>=CU$7 -> TRUE | CV36: =Q36>=CV$7 -> FALSE | CX36: =AD36>=CX$7 -> FALSE | CY36: =COUNTIF(CS36:CX36,TRUE) -> 3 | CZ36: =IF($F36="","",IF(CR36=$CM$5,1,0)) | DA36: =IF($F36="","",IF(AND(CY36=$CM$5,CY36-CR36<=$CT$5),1,0))
B37: =IF(F37="","",ROW()-30) | F37: =IF('7'!$F$1="7","",'7'!$F$1) | N37: =IF($F37="","",'ריכוז גיליונות עזר'!H37) | O37: =IF($F37="","",'ריכוז גיליונות עזר'!K37) | P37: =IF($F37="","",'ריכוז גיליונות עזר'!L37) | R37: =IF($F37="","",IF(P37=0,1,IF(Q37<N37,$AR$1,N37/Q37))) | S37: =IF($F37="","",IF(OR(AND(R37=1,P37=1),R37=$AR$1),$AR$1,IF(OR(R37>=$R$5,N37>=$Q$5),1,0))) | AE37: =IF($F37="","",IF(OR(CZ37=1,AND(X37=1,Y37=1,DA37=1)),1,0)) | AO37: =IF($F37="","",IF(AK37=1,1,IF(AQ37<>1,$AR$1,IF(SUMPRODUCT(--(G37:AJ37>=$G$5:$AJ$5)*($G$5:$AJ$5<>"")*($G$4:$AJ$4=1))=COUNTIF($G$4:$AJ$4,1),1,0)))) | AQ37: =IF(OR(SUM(AT37:CA37)<>COUNT(AT37:CA37),SUMPRODUCT(--(G37:AJ37=$AR$1))<>0),0,1) -> 0 | AR37: =IF($F37="","",AR$30) | AS37: =IF($F37="","",AS$30) | AT37: =IF(OR(G$30="",G$4=99),1,IF(G37="",0,IFERROR(CHOOSE(AT$28,IF(ISNA(MATCH(G37,$AR$30:$AS$30,0)),0,1),IF(ISNUMBER(G37),1,0),IF(G37=TRUNC(G37),1,0),IF(AND(G37*1=G37,G37>=0),1,0),IF(AND(G37=TRUNC(G37),G37>=0),1,0),IF(AND(G37*1=G37,G37>0),1,0),IF(AND(G37=TRUNC(G37),G37>0),1,0),1,IF(ISNA(HLOOKUP(G37,$AU$4:$BD$4,1,0)),0,1)),0))) -> 0 | AU37: =IF(OR(H$30="",H$4=99),1,IF(H37="",0,IFERROR(CHOOSE(AU$28,IF(ISNA(MATCH(H37,$AR$30:$AS$30,0)),0,1),IF(ISNUMBER(H37),1,0),IF(H37=TRUNC(H37),1,0),IF(AND(H37*1=H37,H37>=0),1,0),IF(AND(H37=TRUNC(H37),H37>=0),1,0),IF(AND(H37*1=H37,H37>0),1,0),IF(AND(H37=TRUNC(H37),H37>0),1,0),1,IF(ISNA(HLOOKUP(H37,$AU$4:$BD$4,1,0)),0,1)),0))) -> 0 | AV37: =IF(OR(I$30="",I$4=99),1,IF(I37="",0,IFERROR(CHOOSE(AV$28,IF(ISNA(MATCH(I37,$AR$30:$AS$30,0)),0,1),IF(ISNUMBER(I37),1,0),IF(I37=TRUNC(I37),1,0),IF(AND(I37*1=I37,I37>=0),1,0),IF(AND(I37=TRUNC(I37),I37>=0),1,0),IF(AND(I37*1=I37,I37>0),1,0),IF(AND(I37=TRUNC(I37),I37>0),1,0),1,IF(ISNA(HLOOKUP(I37,$AU$4:$BD$4,1,0)),0,1)),0))) -> 0 | AW37: =IF(OR(J$30="",J$4=99),1,IF(J37="",0,IFERROR(CHOOSE(AW$28,IF(ISNA(MATCH(J37,$AR$30:$AS$30,0)),0,1),IF(ISNUMBER(J37),1,0),IF(J37=TRUNC(J37),1,0),IF(AND(J37*1=J37,J37>=0),1,0),IF(AND(J37=TRUNC(J37),J37>=0),1,0),IF(AND(J37*1=J37,J37>0),1,0),IF(AND(J37=TRUNC(J37),J37>0),1,0),1,IF(ISNA(HLOOKUP(J37,$AU$4:$BD$4,1,0)),0,1)),0))) -> 0 | AX37: =IF(OR(K$30="",K$4=99),1,IF(K37="",0,IFERROR(CHOOSE(AX$28,IF(ISNA(MATCH(K37,$AR$30:$AS$30,0)),0,1),IF(ISNUMBER(K37),1,0),IF(K37=TRUNC(K37),1,0),IF(AND(K37*1=K37,K37>=0),1,0),IF(AND(K37=TRUNC(K37),K37>=0),1,0),IF(AND(K37*1=K37,K37>0),1,0),IF(AND(K37=TRUNC(K37),K37>0),1,0),1,IF(ISNA(HLOOKUP(K37,$AU$4:$BD$4,1,0)),0,1)),0))) -> 0 | AY37: =IF(OR(L$30="",L$4=99),1,IF(L37="",0,IFERROR(CHOOSE(AY$28,IF(ISNA(MATCH(L37,$AR$30:$AS$30,0)),0,1),IF(ISNUMBER(L37),1,0),IF(L37=TRUNC(L37),1,0),IF(AND(L37*1=L37,L37>=0),1,0),IF(AND(L37=TRUNC(L37),L37>=0),1,0),IF(AND(L37*1=L37,L37>0),1,0),IF(AND(L37=TRUNC(L37),L37>0),1,0),1,IF(ISNA(HLOOKUP(L37,$AU$4:$BD$4,1,0)),0,1)),0))) -> 0 | AZ37: =IF(OR(M$30="",M$4=99),1,IF(M37="",0,IFERROR(CHOOSE(AZ$28,IF(ISNA(MATCH(M37,$AR$30:$AS$30,0)),0,1),IF(ISNUMBER(M37),1,0),IF(M37=TRUNC(M37),1,0),IF(AND(M37*1=M37,M37>=0),1,0),IF(AND(M37=TRUNC(M37),M37>=0),1,0),IF(AND(M37*1=M37,M37>0),1,0),IF(AND(M37=TRUNC(M37),M37>0),1,0),1,IF(ISNA(HLOOKUP(M37,$AU$4:$BD$4,1,0)),0,1)),0))) -> 0 | BA37: =IF(OR(N$30="",N$4=99),1,IF(N37="",0,IFERROR(CHOOSE(BA$28,IF(ISNA(MATCH(N37,$AR$30:$AS$30,0)),0,1),IF(ISNUMBER(N37),1,0),IF(N37=TRUNC(N37),1,0),IF(AND(N37*1=N37,N37>=0),1,0),IF(AND(N37=TRUNC(N37),N37>=0),1,0),IF(AND(N37*1=N37,N37>0),1,0),IF(AND(N37=TRUNC(N37),N37>0),1,0),1,IF(ISNA(HLOOKUP(N37,$AU$4:$BD$4,1,0)),0,1)),0))) -> 1 | ... BH37: =IF(OR(U$30="",U$4=99),1,IF(U37="",0,IFERROR(CHOOSE(BH$28,IF(ISNA(MATCH(U37,$AR$30:$AS$30,0)),0,1),IF(ISNUMBER(U37),1,0),IF(U37=TRUNC(U37),1,0),IF(AND(U37*1=U37,U37>=0),1,0),IF(AND(U37=TRUNC(U37),U37>=0),1,0),IF(AND(U37*1=U37,U37>0),1,0),IF(AND(U37=TRUNC(U37),U37>0),1,0),1,IF(ISNA(HLOOKUP(U37,$AU$4:$BD$4,1,0)),0,1)),0))) -> 0 | BI37: =IF(OR(V$30="",W$4=99),1,IF(V37="",0,IFERROR(CHOOSE(BI$28,IF(ISNA(MATCH(V37,$AR$30:$AS$30,0)),0,1),IF(ISNUMBER(V37),1,0),IF(V37=TRUNC(V37),1,0),IF(AND(V37*1=V37,V37>=0),1,0),IF(AND(V37=TRUNC(V37),V37>=0),1,0),IF(AND(V37*1=V37,V37>0),1,0),IF(AND(V37=TRUNC(V37),V37>0),1,0),1,IF(ISNA(HLOOKUP(V37,$AU$4:$BD$4,1,0)),0,1)),0))) -> 0 | BJ37: =IF(OR(W$30="",X$4=99),1,IF(W37="",0,IFERROR(CHOOSE(BJ$28,IF(ISNA(MATCH(W37,$AR$30:$AS$30,0)),0,1),IF(ISNUMBER(W37),1,0),IF(W37=TRUNC(W37),1,0),IF(AND(W37*1=W37,W37>=0),1,0),IF(AND(W37=TRUNC(W37),W37>=0),1,0),IF(AND(W37*1=W37,W37>0),1,0),IF(AND(W37=TRUNC(W37),W37>0),1,0),1,IF(ISNA(HLOOKUP(W37,$AU$4:$BD$4,1,0)),0,1)),0))) -> 1 | BK37: =IF(OR(X$30="",X$4=99),1,IF(X37="",0,IFERROR(CHOOSE(BK$28,IF(ISNA(MATCH(X37,$AR$30:$AS$30,0)),0,1),IF(ISNUMBER(X37),1,0),IF(X37=TRUNC(X37),1,0),IF(AND(X37*1=X37,X37>=0),1,0),IF(AND(X37=TRUNC(X37),X37>=0),1,0),IF(AND(X37*1=X37,X37>0),1,0),IF(AND(X37=TRUNC(X37),X37>0),1,0),1,IF(ISNA(HLOOKUP(X37,$AU$4:$BD$4,1,0)),0,1)),0))) -> 1 | BL37: =IF(OR(Y$30="",Y$4=99),1,IF(Y37="",0,IFERROR(CHOOSE(BL$28,IF(ISNA(MATCH(Y37,$AR$30:$AS$30,0)),0,1),IF(ISNUMBER(Y37),1,0),IF(Y37=TRUNC(Y37),1,0),IF(AND(Y37*1=Y37,Y37>=0),1,0),IF(AND(Y37=TRUNC(Y37),Y37>=0),1,0),IF(AND(Y37*1=Y37,Y37>0),1,0),IF(AND(Y37=TRUNC(Y37),Y37>0),1,0),1,IF(ISNA(HLOOKUP(Y37,$AU$4:$BD$4,1,0)),0,1)),0))) -> 1 | BM37: =IF(OR(Z$30="",Z$4=99),1,IF(Z37="",0,IFERROR(CHOOSE(BM$28,IF(ISNA(MATCH(Z37,$AR$30:$AS$30,0)),0,1),IF(ISNUMBER(Z37),1,0),IF(Z37=TRUNC(Z37),1,0),IF(AND(Z37*1=Z37,Z37>=0),1,0),IF(AND(Z37=TRUNC(Z37),Z37>=0),1,0),IF(AND(Z37*1=Z37,Z37>0),1,0),IF(AND(Z37=TRUNC(Z37),Z37>0),1,0),1,IF(ISNA(HLOOKUP(Z37,$AU$4:$BD$4,1,0)),0,1)),0))) -> 1 | BN37: =IF(OR(AA$30="",AA$4=99),1,IF(AA37="",0,IFERROR(CHOOSE(BN$28,IF(ISNA(MATCH(AA37,$AR$30:$AS$30,0)),0,1),IF(ISNUMBER(AA37),1,0),IF(AA37=TRUNC(AA37),1,0),IF(AND(AA37*1=AA37,AA37>=0),1,0),IF(AND(AA37=TRUNC(AA37),AA37>=0),1,0),IF(AND(AA37*1=AA37,AA37>0),1,0),IF(AND(AA37=TRUNC(AA37),AA37>0),1,0),1,IF(ISNA(HLOOKUP(AA37,$AU$4:$BD$4,1,0)),0,1)),0))) -> 1 | BO37: =IF(OR(AB$30="",AB$4=99),1,IF(AB37="",0,IFERROR(CHOOSE(BO$28,IF(ISNA(MATCH(AB37,$AR$30:$AS$30,0)),0,1),IF(ISNUMBER(AB37),1,0),IF(AB37=TRUNC(AB37),1,0),IF(AND(AB37*1=AB37,AB37>=0),1,0),IF(AND(AB37=TRUNC(AB37),AB37>=0),1,0),IF(AND(AB37*1=AB37,AB37>0),1,0),IF(AND(AB37=TRUNC(AB37),AB37>0),1,0),1,IF(ISNA(HLOOKUP(AB37,$AU$4:$BD$4,1,0)),0,1)),0))) -> 1 | BP37: =IF(OR(AC$30="",AC$4=99),1,IF(AC37="",0,IFERROR(CHOOSE(BP$28,IF(ISNA(MATCH(AC37,$AR$30:$AS$30,0)),0,1),IF(ISNUMBER(AC37),1,0),IF(AC37=TRUNC(AC37),1,0),IF(AND(AC37*1=AC37,AC37>=0),1,0),IF(AND(AC37=TRUNC(AC37),AC37>=0),1,0),IF(AND(AC37*1=AC37,AC37>0),1,0),IF(AND(AC37=TRUNC(AC37),AC37>0),1,0),1,IF(ISNA(HLOOKUP(AC37,$AU$4:$BD$4,1,0)),0,1)),0))) -> 1 | BQ37: =IF(OR(AD$30="",AD$4=99),1,IF(AD37="",0,IFERROR(CHOOSE(BQ$28,IF(ISNA(MATCH(AD37,$AR$30:$AS$30,0)),0,1),IF(ISNUMBER(AD37),1,0),IF(AD37=TRUNC(AD37),1,0),IF(AND(AD37*1=AD37,AD37>=0),1,0),IF(AND(AD37=TRUNC(AD37),AD37>=0),1,0),IF(AND(AD37*1=AD37,AD37>0),1,0),IF(AND(AD37=TRUNC(AD37),AD37>0),1,0),1,IF(ISNA(HLOOKUP(AD37,$AU$4:$BD$4,1,0)),0,1)),0))) -> 0 | BR37: =IF(OR(AE$30="",AE$4=99),1,IF(AE37="",0,IFERROR(CHOOSE(BR$28,IF(ISNA(MATCH(AE37,$AR$30:$AS$30,0)),0,1),IF(ISNUMBER(AE37),1,0),IF(AE37=TRUNC(AE37),1,0),IF(AND(AE37*1=AE37,AE37>=0),1,0),IF(AND(AE37=TRUNC(AE37),AE37>=0),1,0),IF(AND(AE37*1=AE37,AE37>0),1,0),IF(AND(AE37=TRUNC(AE37),AE37>0),1,0),1,IF(ISNA(HLOOKUP(AE37,$AU$4:$BD$4,1,0)),0,1)),0))) -> 1 | ... BU37: =IF(OR(AH$30="",AH$4=99),1,IF(AH37="",0,IFERROR(CHOOSE(BU$28,IF(ISNA(MATCH(AH37,$AR$30:$AS$30,0)),0,1),IF(ISNUMBER(AH37),1,0),IF(AH37=TRUNC(AH37),1,0),IF(AND(AH37*1=AH37,AH37>=0),1,0),IF(AND(AH37=TRUNC(AH37),AH37>=0),1,0),IF(AND(AH37*1=AH37,AH37>0),1,0),IF(AND(AH37=TRUNC(AH37),AH37>0),1,0),1,IF(ISNA(HLOOKUP(AH37,$AU$4:$BD$4,1,0)),0,1)),0))) -> 0 | BV37: =IF(OR(AJ$30="",AJ$4=99),1,IF(AJ37="",0,IFERROR(CHOOSE(BV$28,IF(ISNA(MATCH(AJ37,$AR$30:$AS$30,0)),0,1),IF(ISNUMBER(AJ37),1,0),IF(AJ37=TRUNC(AJ37),1,0),IF(AND(AJ37*1=AJ37,AJ37>=0),1,0),IF(AND(AJ37=TRUNC(AJ37),AJ37>=0),1,0),IF(AND(AJ37*1=AJ37,AJ37>0),1,0),IF(AND(AJ37=TRUNC(AJ37),AJ37>0),1,0),1,IF(ISNA(HLOOKUP(AJ37,$AU$4:$BD$4,1,0)),0,1)),0))) -> 0 | BW37: =IF(OR(AK$30="",AK$4=99),1,IF(AK37="",0,IFERROR(CHOOSE(BW$28,IF(ISNA(MATCH(AK37,$AR$30:$AS$30,0)),0,1),IF(ISNUMBER(AK37),1,0),IF(AK37=TRUNC(AK37),1,0),IF(AND(AK37*1=AK37,AK37>=0),1,0),IF(AND(AK37=TRUNC(AK37),AK37>=0),1,0),IF(AND(AK37*1=AK37,AK37>0),1,0),IF(AND(AK37=TRUNC(AK37),AK37>0),1,0),1,IF(ISNA(HLOOKUP(AK37,$AU$4:$BD$4,1,0)),0,1)),0))) -> 1 | BX37: =IF(OR(AL$30="",AL$4=99),1,IF(AL37="",0,IFERROR(CHOOSE(BX$28,IF(ISNA(MATCH(AL37,$AR$30:$AS$30,0)),0,1),IF(ISNUMBER(AL37),1,0),IF(AL37=TRUNC(AL37),1,0),IF(AND(AL37*1=AL37,AL37>=0),1,0),IF(AND(AL37=TRUNC(AL37),AL37>=0),1,0),IF(AND(AL37*1=AL37,AL37>0),1,0),IF(AND(AL37=TRUNC(AL37),AL37>0),1,0),1,IF(ISNA(HLOOKUP(AL37,$AU$4:$BD$4,1,0)),0,1)),0))) -> 1 | BY37: =IF(OR(AM$30="",AM$4=99),1,IF(AM37="",0,IFERROR(CHOOSE(BY$28,IF(ISNA(MATCH(AM37,$AR$30:$AS$30,0)),0,1),IF(ISNUMBER(AM37),1,0),IF(AM37=TRUNC(AM37),1,0),IF(AND(AM37*1=AM37,AM37>=0),1,0),IF(AND(AM37=TRUNC(AM37),AM37>=0),1,0),IF(AND(AM37*1=AM37,AM37>0),1,0),IF(AND(AM37=TRUNC(AM37),AM37>0),1,0),1,IF(ISNA(HLOOKUP(AM37,$AU$4:$BD$4,1,0)),0,1)),0))) -> 1 | BZ37: =IF(OR(AN$30="",AN$4=99),1,IF(AN37="",0,IFERROR(CHOOSE(BZ$28,IF(ISNA(MATCH(AN37,$AR$30:$AS$30,0)),0,1),IF(ISNUMBER(AN37),1,0),IF(AN37=TRUNC(AN37),1,0),IF(AND(AN37*1=AN37,AN37>=0),1,0),IF(AND(AN37=TRUNC(AN37),AN37>=0),1,0),IF(AND(AN37*1=AN37,AN37>0),1,0),IF(AND(AN37=TRUNC(AN37),AN37>0),1,0),1,IF(ISNA(HLOOKUP(AN37,$AU$4:$BD$4,1,0)),0,1)),0))) -> 1 | CA37: =IF(OR(AO$30="",AO$4=99),1,IF(AO37="",0,IFERROR(CHOOSE(CA$28,IF(ISNA(MATCH(AO37,$AR$30:$AS$30,0)),0,1),IF(ISNUMBER(AO37),1,0),IF(AO37=TRUNC(AO37),1,0),IF(AND(AO37*1=AO37,AO37>=0),1,0),IF(AND(AO37=TRUNC(AO37),AO37>=0),1,0),IF(AND(AO37*1=AO37,AO37>0),1,0),IF(AND(AO37=TRUNC(AO37),AO37>0),1,0),1,IF(ISNA(HLOOKUP(AO37,$AU$4:$BD$4,1,0)),0,1)),0))) -> 1 | CL37: =N37>=CS$7 -> TRUE | CM37: =O37>=CM$7 -> TRUE | CN37: =P37>=CN$7 -> TRUE | CO37: =Q37>=CO$7 -> FALSE | CQ37: =AD37>=CQ$7 -> FALSE | CR37: =COUNTIF(CL37:CQ37,TRUE) -> 3 | CS37: =N37>=CS$7 -> TRUE | CT37: =O37>=CT$7 -> TRUE | CU37: =P37>=CU$7 -> TRUE | CV37: =Q37>=CV$7 -> FALSE | CX37: =AD37>=CX$7 -> FALSE | CY37: =COUNTIF(CS37:CX37,TRUE) -> 3 | CZ37: =IF($F37="","",IF(CR37=$CM$5,1,0)) | DA37: =IF($F37="","",IF(AND(CY37=$CM$5,CY37-CR37<=$CT$5),1,0))
B38: =IF(F38="","",ROW()-30) | F38: =IF('8'!$F$1="8","",'8'!$F$1) | N38: =IF($F38="","",'ריכוז גיליונות עזר'!H38) | O38: =IF($F38="","",'ריכוז גיליונות עזר'!K38) | P38: =IF($F38="","",'ריכוז גיליונות עזר'!L38) | R38: =IF($F38="","",IF(P38=0,1,IF(Q38<N38,$AR$1,N38/Q38))) | S38: =IF($F38="","",IF(OR(AND(R38=1,P38=1),R38=$AR$1),$AR$1,IF(OR(R38>=$R$5,N38>=$Q$5),1,0))) | AE38: =IF($F38="","",IF(OR(CZ38=1,AND(X38=1,Y38=1,DA38=1)),1,0)) | AO38: =IF($F38="","",IF(AK38=1,1,IF(AQ38<>1,$AR$1,IF(SUMPRODUCT(--(G38:AJ38>=$G$5:$AJ$5)*($G$5:$AJ$5<>"")*($G$4:$AJ$4=1))=COUNTIF($G$4:$AJ$4,1),1,0)))) | AQ38: =IF(OR(SUM(AT38:CA38)<>COUNT(AT38:CA38),SUMPRODUCT(--(G38:AJ38=$AR$1))<>0),0,1) -> 0 | AR38: =IF($F38="","",AR$30) | AS38: =IF($F38="","",AS$30) | AT38: =IF(OR(G$30="",G$4=99),1,IF(G38="",0,IFERROR(CHOOSE(AT$28,IF(ISNA(MATCH(G38,$AR$30:$AS$30,0)),0,1),IF(ISNUMBER(G38),1,0),IF(G38=TRUNC(G38),1,0),IF(AND(G38*1=G38,G38>=0),1,0),IF(AND(G38=TRUNC(G38),G38>=0),1,0),IF(AND(G38*1=G38,G38>0),1,0),IF(AND(G38=TRUNC(G38),G38>0),1,0),1,IF(ISNA(HLOOKUP(G38,$AU$4:$BD$4,1,0)),0,1)),0))) -> 0 | AU38: =IF(OR(H$30="",H$4=99),1,IF(H38="",0,IFERROR(CHOOSE(AU$28,IF(ISNA(MATCH(H38,$AR$30:$AS$30,0)),0,1),IF(ISNUMBER(H38),1,0),IF(H38=TRUNC(H38),1,0),IF(AND(H38*1=H38,H38>=0),1,0),IF(AND(H38=TRUNC(H38),H38>=0),1,0),IF(AND(H38*1=H38,H38>0),1,0),IF(AND(H38=TRUNC(H38),H38>0),1,0),1,IF(ISNA(HLOOKUP(H38,$AU$4:$BD$4,1,0)),0,1)),0))) -> 0 | AV38: =IF(OR(I$30="",I$4=99),1,IF(I38="",0,IFERROR(CHOOSE(AV$28,IF(ISNA(MATCH(I38,$AR$30:$AS$30,0)),0,1),IF(ISNUMBER(I38),1,0),IF(I38=TRUNC(I38),1,0),IF(AND(I38*1=I38,I38>=0),1,0),IF(AND(I38=TRUNC(I38),I38>=0),1,0),IF(AND(I38*1=I38,I38>0),1,0),IF(AND(I38=TRUNC(I38),I38>0),1,0),1,IF(ISNA(HLOOKUP(I38,$AU$4:$BD$4,1,0)),0,1)),0))) -> 0 | AW38: =IF(OR(J$30="",J$4=99),1,IF(J38="",0,IFERROR(CHOOSE(AW$28,IF(ISNA(MATCH(J38,$AR$30:$AS$30,0)),0,1),IF(ISNUMBER(J38),1,0),IF(J38=TRUNC(J38),1,0),IF(AND(J38*1=J38,J38>=0),1,0),IF(AND(J38=TRUNC(J38),J38>=0),1,0),IF(AND(J38*1=J38,J38>0),1,0),IF(AND(J38=TRUNC(J38),J38>0),1,0),1,IF(ISNA(HLOOKUP(J38,$AU$4:$BD$4,1,0)),0,1)),0))) -> 0 | AX38: =IF(OR(K$30="",K$4=99),1,IF(K38="",0,IFERROR(CHOOSE(AX$28,IF(ISNA(MATCH(K38,$AR$30:$AS$30,0)),0,1),IF(ISNUMBER(K38),1,0),IF(K38=TRUNC(K38),1,0),IF(AND(K38*1=K38,K38>=0),1,0),IF(AND(K38=TRUNC(K38),K38>=0),1,0),IF(AND(K38*1=K38,K38>0),1,0),IF(AND(K38=TRUNC(K38),K38>0),1,0),1,IF(ISNA(HLOOKUP(K38,$AU$4:$BD$4,1,0)),0,1)),0))) -> 0 | AY38: =IF(OR(L$30="",L$4=99),1,IF(L38="",0,IFERROR(CHOOSE(AY$28,IF(ISNA(MATCH(L38,$AR$30:$AS$30,0)),0,1),IF(ISNUMBER(L38),1,0),IF(L38=TRUNC(L38),1,0),IF(AND(L38*1=L38,L38>=0),1,0),IF(AND(L38=TRUNC(L38),L38>=0),1,0),IF(AND(L38*1=L38,L38>0),1,0),IF(AND(L38=TRUNC(L38),L38>0),1,0),1,IF(ISNA(HLOOKUP(L38,$AU$4:$BD$4,1,0)),0,1)),0))) -> 0 | AZ38: =IF(OR(M$30="",M$4=99),1,IF(M38="",0,IFERROR(CHOOSE(AZ$28,IF(ISNA(MATCH(M38,$AR$30:$AS$30,0)),0,1),IF(ISNUMBER(M38),1,0),IF(M38=TRUNC(M38),1,0),IF(AND(M38*1=M38,M38>=0),1,0),IF(AND(M38=TRUNC(M38),M38>=0),1,0),IF(AND(M38*1=M38,M38>0),1,0),IF(AND(M38=TRUNC(M38),M38>0),1,0),1,IF(ISNA(HLOOKUP(M38,$AU$4:$BD$4,1,0)),0,1)),0))) -> 0 | BA38: =IF(OR(N$30="",N$4=99),1,IF(N38="",0,IFERROR(CHOOSE(BA$28,IF(ISNA(MATCH(N38,$AR$30:$AS$30,0)),0,1),IF(ISNUMBER(N38),1,0),IF(N38=TRUNC(N38),1,0),IF(AND(N38*1=N38,N38>=0),1,0),IF(AND(N38=TRUNC(N38),N38>=0),1,0),IF(AND(N38*1=N38,N38>0),1,0),IF(AND(N38=TRUNC(N38),N38>0),1,0),1,IF(ISNA(HLOOKUP(N38,$AU$4:$BD$4,1,0)),0,1)),0))) -> 1 | ... BH38: =IF(OR(U$30="",U$4=99),1,IF(U38="",0,IFERROR(CHOOSE(BH$28,IF(ISNA(MATCH(U38,$AR$30:$AS$30,0)),0,1),IF(ISNUMBER(U38),1,0),IF(U38=TRUNC(U38),1,0),IF(AND(U38*1=U38,U38>=0),1,0),IF(AND(U38=TRUNC(U38),U38>=0),1,0),IF(AND(U38*1=U38,U38>0),1,0),IF(AND(U38=TRUNC(U38),U38>0),1,0),1,IF(ISNA(HLOOKUP(U38,$AU$4:$BD$4,1,0)),0,1)),0))) -> 0 | BI38: =IF(OR(V$30="",W$4=99),1,IF(V38="",0,IFERROR(CHOOSE(BI$28,IF(ISNA(MATCH(V38,$AR$30:$AS$30,0)),0,1),IF(ISNUMBER(V38),1,0),IF(V38=TRUNC(V38),1,0),IF(AND(V38*1=V38,V38>=0),1,0),IF(AND(V38=TRUNC(V38),V38>=0),1,0),IF(AND(V38*1=V38,V38>0),1,0),IF(AND(V38=TRUNC(V38),V38>0),1,0),1,IF(ISNA(HLOOKUP(V38,$AU$4:$BD$4,1,0)),0,1)),0))) -> 0 | BJ38: =IF(OR(W$30="",X$4=99),1,IF(W38="",0,IFERROR(CHOOSE(BJ$28,IF(ISNA(MATCH(W38,$AR$30:$AS$30,0)),0,1),IF(ISNUMBER(W38),1,0),IF(W38=TRUNC(W38),1,0),IF(AND(W38*1=W38,W38>=0),1,0),IF(AND(W38=TRUNC(W38),W38>=0),1,0),IF(AND(W38*1=W38,W38>0),1,0),IF(AND(W38=TRUNC(W38),W38>0),1,0),1,IF(ISNA(HLOOKUP(W38,$AU$4:$BD$4,1,0)),0,1)),0))) -> 1 | BK38: =IF(OR(X$30="",X$4=99),1,IF(X38="",0,IFERROR(CHOOSE(BK$28,IF(ISNA(MATCH(X38,$AR$30:$AS$30,0)),0,1),IF(ISNUMBER(X38),1,0),IF(X38=TRUNC(X38),1,0),IF(AND(X38*1=X38,X38>=0),1,0),IF(AND(X38=TRUNC(X38),X38>=0),1,0),IF(AND(X38*1=X38,X38>0),1,0),IF(AND(X38=TRUNC(X38),X38>0),1,0),1,IF(ISNA(HLOOKUP(X38,$AU$4:$BD$4,1,0)),0,1)),0))) -> 1 | BL38: =IF(OR(Y$30="",Y$4=99),1,IF(Y38="",0,IFERROR(CHOOSE(BL$28,IF(ISNA(MATCH(Y38,$AR$30:$AS$30,0)),0,1),IF(ISNUMBER(Y38),1,0),IF(Y38=TRUNC(Y38),1,0),IF(AND(Y38*1=Y38,Y38>=0),1,0),IF(AND(Y38=TRUNC(Y38),Y38>=0),1,0),IF(AND(Y38*1=Y38,Y38>0),1,0),IF(AND(Y38=TRUNC(Y38),Y38>0),1,0),1,IF(ISNA(HLOOKUP(Y38,$AU$4:$BD$4,1,0)),0,1)),0))) -> 1 | BM38: =IF(OR(Z$30="",Z$4=99),1,IF(Z38="",0,IFERROR(CHOOSE(BM$28,IF(ISNA(MATCH(Z38,$AR$30:$AS$30,0)),0,1),IF(ISNUMBER(Z38),1,0),IF(Z38=TRUNC(Z38),1,0),IF(AND(Z38*1=Z38,Z38>=0),1,0),IF(AND(Z38=TRUNC(Z38),Z38>=0),1,0),IF(AND(Z38*1=Z38,Z38>0),1,0),IF(AND(Z38=TRUNC(Z38),Z38>0),1,0),1,IF(ISNA(HLOOKUP(Z38,$AU$4:$BD$4,1,0)),0,1)),0))) -> 1 | BN38: =IF(OR(AA$30="",AA$4=99),1,IF(AA38="",0,IFERROR(CHOOSE(BN$28,IF(ISNA(MATCH(AA38,$AR$30:$AS$30,0)),0,1),IF(ISNUMBER(AA38),1,0),IF(AA38=TRUNC(AA38),1,0),IF(AND(AA38*1=AA38,AA38>=0),1,0),IF(AND(AA38=TRUNC(AA38),AA38>=0),1,0),IF(AND(AA38*1=AA38,AA38>0),1,0),IF(AND(AA38=TRUNC(AA38),AA38>0),1,0),1,IF(ISNA(HLOOKUP(AA38,$AU$4:$BD$4,1,0)),0,1)),0))) -> 1 | BO38: =IF(OR(AB$30="",AB$4=99),1,IF(AB38="",0,IFERROR(CHOOSE(BO$28,IF(ISNA(MATCH(AB38,$AR$30:$AS$30,0)),0,1),IF(ISNUMBER(AB38),1,0),IF(AB38=TRUNC(AB38),1,0),IF(AND(AB38*1=AB38,AB38>=0),1,0),IF(AND(AB38=TRUNC(AB38),AB38>=0),1,0),IF(AND(AB38*1=AB38,AB38>0),1,0),IF(AND(AB38=TRUNC(AB38),AB38>0),1,0),1,IF(ISNA(HLOOKUP(AB38,$AU$4:$BD$4,1,0)),0,1)),0))) -> 1 | BP38: =IF(OR(AC$30="",AC$4=99),1,IF(AC38="",0,IFERROR(CHOOSE(BP$28,IF(ISNA(MATCH(AC38,$AR$30:$AS$30,0)),0,1),IF(ISNUMBER(AC38),1,0),IF(AC38=TRUNC(AC38),1,0),IF(AND(AC38*1=AC38,AC38>=0),1,0),IF(AND(AC38=TRUNC(AC38),AC38>=0),1,0),IF(AND(AC38*1=AC38,AC38>0),1,0),IF(AND(AC38=TRUNC(AC38),AC38>0),1,0),1,IF(ISNA(HLOOKUP(AC38,$AU$4:$BD$4,1,0)),0,1)),0))) -> 1 | BQ38: =IF(OR(AD$30="",AD$4=99),1,IF(AD38="",0,IFERROR(CHOOSE(BQ$28,IF(ISNA(MATCH(AD38,$AR$30:$AS$30,0)),0,1),IF(ISNUMBER(AD38),1,0),IF(AD38=TRUNC(AD38),1,0),IF(AND(AD38*1=AD38,AD38>=0),1,0),IF(AND(AD38=TRUNC(AD38),AD38>=0),1,0),IF(AND(AD38*1=AD38,AD38>0),1,0),IF(AND(AD38=TRUNC(AD38),AD38>0),1,0),1,IF(ISNA(HLOOKUP(AD38,$AU$4:$BD$4,1,0)),0,1)),0))) -> 0 | BR38: =IF(OR(AE$30="",AE$4=99),1,IF(AE38="",0,IFERROR(CHOOSE(BR$28,IF(ISNA(MATCH(AE38,$AR$30:$AS$30,0)),0,1),IF(ISNUMBER(AE38),1,0),IF(AE38=TRUNC(AE38),1,0),IF(AND(AE38*1=AE38,AE38>=0),1,0),IF(AND(AE38=TRUNC(AE38),AE38>=0),1,0),IF(AND(AE38*1=AE38,AE38>0),1,0),IF(AND(AE38=TRUNC(AE38),AE38>0),1,0),1,IF(ISNA(HLOOKUP(AE38,$AU$4:$BD$4,1,0)),0,1)),0))) -> 1 | ... BU38: =IF(OR(AH$30="",AH$4=99),1,IF(AH38="",0,IFERROR(CHOOSE(BU$28,IF(ISNA(MATCH(AH38,$AR$30:$AS$30,0)),0,1),IF(ISNUMBER(AH38),1,0),IF(AH38=TRUNC(AH38),1,0),IF(AND(AH38*1=AH38,AH38>=0),1,0),IF(AND(AH38=TRUNC(AH38),AH38>=0),1,0),IF(AND(AH38*1=AH38,AH38>0),1,0),IF(AND(AH38=TRUNC(AH38),AH38>0),1,0),1,IF(ISNA(HLOOKUP(AH38,$AU$4:$BD$4,1,0)),0,1)),0))) -> 0 | BV38: =IF(OR(AJ$30="",AJ$4=99),1,IF(AJ38="",0,IFERROR(CHOOSE(BV$28,IF(ISNA(MATCH(AJ38,$AR$30:$AS$30,0)),0,1),IF(ISNUMBER(AJ38),1,0),IF(AJ38=TRUNC(AJ38),1,0),IF(AND(AJ38*1=AJ38,AJ38>=0),1,0),IF(AND(AJ38=TRUNC(AJ38),AJ38>=0),1,0),IF(AND(AJ38*1=AJ38,AJ38>0),1,0),IF(AND(AJ38=TRUNC(AJ38),AJ38>0),1,0),1,IF(ISNA(HLOOKUP(AJ38,$AU$4:$BD$4,1,0)),0,1)),0))) -> 0 | BW38: =IF(OR(AK$30="",AK$4=99),1,IF(AK38="",0,IFERROR(CHOOSE(BW$28,IF(ISNA(MATCH(AK38,$AR$30:$AS$30,0)),0,1),IF(ISNUMBER(AK38),1,0),IF(AK38=TRUNC(AK38),1,0),IF(AND(AK38*1=AK38,AK38>=0),1,0),IF(AND(AK38=TRUNC(AK38),AK38>=0),1,0),IF(AND(AK38*1=AK38,AK38>0),1,0),IF(AND(AK38=TRUNC(AK38),AK38>0),1,0),1,IF(ISNA(HLOOKUP(AK38,$AU$4:$BD$4,1,0)),0,1)),0))) -> 1 | BX38: =IF(OR(AL$30="",AL$4=99),1,IF(AL38="",0,IFERROR(CHOOSE(BX$28,IF(ISNA(MATCH(AL38,$AR$30:$AS$30,0)),0,1),IF(ISNUMBER(AL38),1,0),IF(AL38=TRUNC(AL38),1,0),IF(AND(AL38*1=AL38,AL38>=0),1,0),IF(AND(AL38=TRUNC(AL38),AL38>=0),1,0),IF(AND(AL38*1=AL38,AL38>0),1,0),IF(AND(AL38=TRUNC(AL38),AL38>0),1,0),1,IF(ISNA(HLOOKUP(AL38,$AU$4:$BD$4,1,0)),0,1)),0))) -> 1 | BY38: =IF(OR(AM$30="",AM$4=99),1,IF(AM38="",0,IFERROR(CHOOSE(BY$28,IF(ISNA(MATCH(AM38,$AR$30:$AS$30,0)),0,1),IF(ISNUMBER(AM38),1,0),IF(AM38=TRUNC(AM38),1,0),IF(AND(AM38*1=AM38,AM38>=0),1,0),IF(AND(AM38=TRUNC(AM38),AM38>=0),1,0),IF(AND(AM38*1=AM38,AM38>0),1,0),IF(AND(AM38=TRUNC(AM38),AM38>0),1,0),1,IF(ISNA(HLOOKUP(AM38,$AU$4:$BD$4,1,0)),0,1)),0))) -> 1 | BZ38: =IF(OR(AN$30="",AN$4=99),1,IF(AN38="",0,IFERROR(CHOOSE(BZ$28,IF(ISNA(MATCH(AN38,$AR$30:$AS$30,0)),0,1),IF(ISNUMBER(AN38),1,0),IF(AN38=TRUNC(AN38),1,0),IF(AND(AN38*1=AN38,AN38>=0),1,0),IF(AND(AN38=TRUNC(AN38),AN38>=0),1,0),IF(AND(AN38*1=AN38,AN38>0),1,0),IF(AND(AN38=TRUNC(AN38),AN38>0),1,0),1,IF(ISNA(HLOOKUP(AN38,$AU$4:$BD$4,1,0)),0,1)),0))) -> 1 | CA38: =IF(OR(AO$30="",AO$4=99),1,IF(AO38="",0,IFERROR(CHOOSE(CA$28,IF(ISNA(MATCH(AO38,$AR$30:$AS$30,0)),0,1),IF(ISNUMBER(AO38),1,0),IF(AO38=TRUNC(AO38),1,0),IF(AND(AO38*1=AO38,AO38>=0),1,0),IF(AND(AO38=TRUNC(AO38),AO38>=0),1,0),IF(AND(AO38*1=AO38,AO38>0),1,0),IF(AND(AO38=TRUNC(AO38),AO38>0),1,0),1,IF(ISNA(HLOOKUP(AO38,$AU$4:$BD$4,1,0)),0,1)),0))) -> 1 | CL38: =N38>=CS$7 -> TRUE | CM38: =O38>=CM$7 -> TRUE | CN38: =P38>=CN$7 -> TRUE | CO38: =Q38>=CO$7 -> FALSE | CQ38: =AD38>=CQ$7 -> FALSE | CR38: =COUNTIF(CL38:CQ38,TRUE) -> 3 | CS38: =N38>=CS$7 -> TRUE | CT38: =O38>=CT$7 -> TRUE | CU38: =P38>=CU$7 -> TRUE | CV38: =Q38>=CV$7 -> FALSE | CX38: =AD38>=CX$7 -> FALSE | CY38: =COUNTIF(CS38:CX38,TRUE) -> 3 | CZ38: =IF($F38="","",IF(CR38=$CM$5,1,0)) | DA38: =IF($F38="","",IF(AND(CY38=$CM$5,CY38-CR38<=$CT$5),1,0))
B39: =IF(F39="","",ROW()-30) | F39: =IF('9'!$F$1="9","",'9'!$F$1) | N39: =IF($F39="","",'ריכוז גיליונות עזר'!H39) | O39: =IF($F39="","",'ריכוז גיליונות עזר'!K39) | P39: =IF($F39="","",'ריכוז גיליונות עזר'!L39) | R39: =IF($F39="","",IF(P39=0,1,IF(Q39<N39,$AR$1,N39/Q39))) | S39: =IF($F39="","",IF(OR(AND(R39=1,P39=1),R39=$AR$1),$AR$1,IF(OR(R39>=$R$5,N39>=$Q$5),1,0))) | AE39: =IF($F39="","",IF(OR(CZ39=1,AND(X39=1,Y39=1,DA39=1)),1,0)) | AO39: =IF($F39="","",IF(AK39=1,1,IF(AQ39<>1,$AR$1,IF(SUMPRODUCT(--(G39:AJ39>=$G$5:$AJ$5)*($G$5:$AJ$5<>"")*($G$4:$AJ$4=1))=COUNTIF($G$4:$AJ$4,1),1,0)))) | AQ39: =IF(OR(SUM(AT39:CA39)<>COUNT(AT39:CA39),SUMPRODUCT(--(G39:AJ39=$AR$1))<>0),0,1) -> 0 | AR39: =IF($F39="","",AR$30) | AS39: =IF($F39="","",AS$30) | AT39: =IF(OR(G$30="",G$4=99),1,IF(G39="",0,IFERROR(CHOOSE(AT$28,IF(ISNA(MATCH(G39,$AR$30:$AS$30,0)),0,1),IF(ISNUMBER(G39),1,0),IF(G39=TRUNC(G39),1,0),IF(AND(G39*1=G39,G39>=0),1,0),IF(AND(G39=TRUNC(G39),G39>=0),1,0),IF(AND(G39*1=G39,G39>0),1,0),IF(AND(G39=TRUNC(G39),G39>0),1,0),1,IF(ISNA(HLOOKUP(G39,$AU$4:$BD$4,1,0)),0,1)),0))) -> 0 | AU39: =IF(OR(H$30="",H$4=99),1,IF(H39="",0,IFERROR(CHOOSE(AU$28,IF(ISNA(MATCH(H39,$AR$30:$AS$30,0)),0,1),IF(ISNUMBER(H39),1,0),IF(H39=TRUNC(H39),1,0),IF(AND(H39*1=H39,H39>=0),1,0),IF(AND(H39=TRUNC(H39),H39>=0),1,0),IF(AND(H39*1=H39,H39>0),1,0),IF(AND(H39=TRUNC(H39),H39>0),1,0),1,IF(ISNA(HLOOKUP(H39,$AU$4:$BD$4,1,0)),0,1)),0))) -> 0 | AV39: =IF(OR(I$30="",I$4=99),1,IF(I39="",0,IFERROR(CHOOSE(AV$28,IF(ISNA(MATCH(I39,$AR$30:$AS$30,0)),0,1),IF(ISNUMBER(I39),1,0),IF(I39=TRUNC(I39),1,0),IF(AND(I39*1=I39,I39>=0),1,0),IF(AND(I39=TRUNC(I39),I39>=0),1,0),IF(AND(I39*1=I39,I39>0),1,0),IF(AND(I39=TRUNC(I39),I39>0),1,0),1,IF(ISNA(HLOOKUP(I39,$AU$4:$BD$4,1,0)),0,1)),0))) -> 0 | AW39: =IF(OR(J$30="",J$4=99),1,IF(J39="",0,IFERROR(CHOOSE(AW$28,IF(ISNA(MATCH(J39,$AR$30:$AS$30,0)),0,1),IF(ISNUMBER(J39),1,0),IF(J39=TRUNC(J39),1,0),IF(AND(J39*1=J39,J39>=0),1,0),IF(AND(J39=TRUNC(J39),J39>=0),1,0),IF(AND(J39*1=J39,J39>0),1,0),IF(AND(J39=TRUNC(J39),J39>0),1,0),1,IF(ISNA(HLOOKUP(J39,$AU$4:$BD$4,1,0)),0,1)),0))) -> 0 | AX39: =IF(OR(K$30="",K$4=99),1,IF(K39="",0,IFERROR(CHOOSE(AX$28,IF(ISNA(MATCH(K39,$AR$30:$AS$30,0)),0,1),IF(ISNUMBER(K39),1,0),IF(K39=TRUNC(K39),1,0),IF(AND(K39*1=K39,K39>=0),1,0),IF(AND(K39=TRUNC(K39),K39>=0),1,0),IF(AND(K39*1=K39,K39>0),1,0),IF(AND(K39=TRUNC(K39),K39>0),1,0),1,IF(ISNA(HLOOKUP(K39,$AU$4:$BD$4,1,0)),0,1)),0))) -> 0 | AY39: =IF(OR(L$30="",L$4=99),1,IF(L39="",0,IFERROR(CHOOSE(AY$28,IF(ISNA(MATCH(L39,$AR$30:$AS$30,0)),0,1),IF(ISNUMBER(L39),1,0),IF(L39=TRUNC(L39),1,0),IF(AND(L39*1=L39,L39>=0),1,0),IF(AND(L39=TRUNC(L39),L39>=0),1,0),IF(AND(L39*1=L39,L39>0),1,0),IF(AND(L39=TRUNC(L39),L39>0),1,0),1,IF(ISNA(HLOOKUP(L39,$AU$4:$BD$4,1,0)),0,1)),0))) -> 0 | AZ39: =IF(OR(M$30="",M$4=99),1,IF(M39="",0,IFERROR(CHOOSE(AZ$28,IF(ISNA(MATCH(M39,$AR$30:$AS$30,0)),0,1),IF(ISNUMBER(M39),1,0),IF(M39=TRUNC(M39),1,0),IF(AND(M39*1=M39,M39>=0),1,0),IF(AND(M39=TRUNC(M39),M39>=0),1,0),IF(AND(M39*1=M39,M39>0),1,0),IF(AND(M39=TRUNC(M39),M39>0),1,0),1,IF(ISNA(HLOOKUP(M39,$AU$4:$BD$4,1,0)),0,1)),0))) -> 0 | BA39: =IF(OR(N$30="",N$4=99),1,IF(N39="",0,IFERROR(CHOOSE(BA$28,IF(ISNA(MATCH(N39,$AR$30:$AS$30,0)),0,1),IF(ISNUMBER(N39),1,0),IF(N39=TRUNC(N39),1,0),IF(AND(N39*1=N39,N39>=0),1,0),IF(AND(N39=TRUNC(N39),N39>=0),1,0),IF(AND(N39*1=N39,N39>0),1,0),IF(AND(N39=TRUNC(N39),N39>0),1,0),1,IF(ISNA(HLOOKUP(N39,$AU$4:$BD$4,1,0)),0,1)),0))) -> 1 | ... BH39: =IF(OR(U$30="",U$4=99),1,IF(U39="",0,IFERROR(CHOOSE(BH$28,IF(ISNA(MATCH(U39,$AR$30:$AS$30,0)),0,1),IF(ISNUMBER(U39),1,0),IF(U39=TRUNC(U39),1,0),IF(AND(U39*1=U39,U39>=0),1,0),IF(AND(U39=TRUNC(U39),U39>=0),1,0),IF(AND(U39*1=U39,U39>0),1,0),IF(AND(U39=TRUNC(U39),U39>0),1,0),1,IF(ISNA(HLOOKUP(U39,$AU$4:$BD$4,1,0)),0,1)),0))) -> 0 | BI39: =IF(OR(V$30="",W$4=99),1,IF(V39="",0,IFERROR(CHOOSE(BI$28,IF(ISNA(MATCH(V39,$AR$30:$AS$30,0)),0,1),IF(ISNUMBER(V39),1,0),IF(V39=TRUNC(V39),1,0),IF(AND(V39*1=V39,V39>=0),1,0),IF(AND(V39=TRUNC(V39),V39>=0),1,0),IF(AND(V39*1=V39,V39>0),1,0),IF(AND(V39=TRUNC(V39),V39>0),1,0),1,IF(ISNA(HLOOKUP(V39,$AU$4:$BD$4,1,0)),0,1)),0))) -> 0 | BJ39: =IF(OR(W$30="",X$4=99),1,IF(W39="",0,IFERROR(CHOOSE(BJ$28,IF(ISNA(MATCH(W39,$AR$30:$AS$30,0)),0,1),IF(ISNUMBER(W39),1,0),IF(W39=TRUNC(W39),1,0),IF(AND(W39*1=W39,W39>=0),1,0),IF(AND(W39=TRUNC(W39),W39>=0),1,0),IF(AND(W39*1=W39,W39>0),1,0),IF(AND(W39=TRUNC(W39),W39>0),1,0),1,IF(ISNA(HLOOKUP(W39,$AU$4:$BD$4,1,0)),0,1)),0))) -> 1 | BK39: =IF(OR(X$30="",X$4=99),1,IF(X39="",0,IFERROR(CHOOSE(BK$28,IF(ISNA(MATCH(X39,$AR$30:$AS$30,0)),0,1),IF(ISNUMBER(X39),1,0),IF(X39=TRUNC(X39),1,0),IF(AND(X39*1=X39,X39>=0),1,0),IF(AND(X39=TRUNC(X39),X39>=0),1,0),IF(AND(X39*1=X39,X39>0),1,0),IF(AND(X39=TRUNC(X39),X39>0),1,0),1,IF(ISNA(HLOOKUP(X39,$AU$4:$BD$4,1,0)),0,1)),0))) -> 1 | BL39: =IF(OR(Y$30="",Y$4=99),1,IF(Y39="",0,IFERROR(CHOOSE(BL$28,IF(ISNA(MATCH(Y39,$AR$30:$AS$30,0)),0,1),IF(ISNUMBER(Y39),1,0),IF(Y39=TRUNC(Y39),1,0),IF(AND(Y39*1=Y39,Y39>=0),1,0),IF(AND(Y39=TRUNC(Y39),Y39>=0),1,0),IF(AND(Y39*1=Y39,Y39>0),1,0),IF(AND(Y39=TRUNC(Y39),Y39>0),1,0),1,IF(ISNA(HLOOKUP(Y39,$AU$4:$BD$4,1,0)),0,1)),0))) -> 1 | BM39: =IF(OR(Z$30="",Z$4=99),1,IF(Z39="",0,IFERROR(CHOOSE(BM$28,IF(ISNA(MATCH(Z39,$AR$30:$AS$30,0)),0,1),IF(ISNUMBER(Z39),1,0),IF(Z39=TRUNC(Z39),1,0),IF(AND(Z39*1=Z39,Z39>=0),1,0),IF(AND(Z39=TRUNC(Z39),Z39>=0),1,0),IF(AND(Z39*1=Z39,Z39>0),1,0),IF(AND(Z39=TRUNC(Z39),Z39>0),1,0),1,IF(ISNA(HLOOKUP(Z39,$AU$4:$BD$4,1,0)),0,1)),0))) -> 1 | BN39: =IF(OR(AA$30="",AA$4=99),1,IF(AA39="",0,IFERROR(CHOOSE(BN$28,IF(ISNA(MATCH(AA39,$AR$30:$AS$30,0)),0,1),IF(ISNUMBER(AA39),1,0),IF(AA39=TRUNC(AA39),1,0),IF(AND(AA39*1=AA39,AA39>=0),1,0),IF(AND(AA39=TRUNC(AA39),AA39>=0),1,0),IF(AND(AA39*1=AA39,AA39>0),1,0),IF(AND(AA39=TRUNC(AA39),AA39>0),1,0),1,IF(ISNA(HLOOKUP(AA39,$AU$4:$BD$4,1,0)),0,1)),0))) -> 1 | BO39: =IF(OR(AB$30="",AB$4=99),1,IF(AB39="",0,IFERROR(CHOOSE(BO$28,IF(ISNA(MATCH(AB39,$AR$30:$AS$30,0)),0,1),IF(ISNUMBER(AB39),1,0),IF(AB39=TRUNC(AB39),1,0),IF(AND(AB39*1=AB39,AB39>=0),1,0),IF(AND(AB39=TRUNC(AB39),AB39>=0),1,0),IF(AND(AB39*1=AB39,AB39>0),1,0),IF(AND(AB39=TRUNC(AB39),AB39>0),1,0),1,IF(ISNA(HLOOKUP(AB39,$AU$4:$BD$4,1,0)),0,1)),0))) -> 1 | BP39: =IF(OR(AC$30="",AC$4=99),1,IF(AC39="",0,IFERROR(CHOOSE(BP$28,IF(ISNA(MATCH(AC39,$AR$30:$AS$30,0)),0,1),IF(ISNUMBER(AC39),1,0),IF(AC39=TRUNC(AC39),1,0),IF(AND(AC39*1=AC39,AC39>=0),1,0),IF(AND(AC39=TRUNC(AC39),AC39>=0),1,0),IF(AND(AC39*1=AC39,AC39>0),1,0),IF(AND(AC39=TRUNC(AC39),AC39>0),1,0),1,IF(ISNA(HLOOKUP(AC39,$AU$4:$BD$4,1,0)),0,1)),0))) -> 1 | BQ39: =IF(OR(AD$30="",AD$4=99),1,IF(AD39="",0,IFERROR(CHOOSE(BQ$28,IF(ISNA(MATCH(AD39,$AR$30:$AS$30,0)),0,1),IF(ISNUMBER(AD39),1,0),IF(AD39=TRUNC(AD39),1,0),IF(AND(AD39*1=AD39,AD39>=0),1,0),IF(AND(AD39=TRUNC(AD39),AD39>=0),1,0),IF(AND(AD39*1=AD39,AD39>0),1,0),IF(AND(AD39=TRUNC(AD39),AD39>0),1,0),1,IF(ISNA(HLOOKUP(AD39,$AU$4:$BD$4,1,0)),0,1)),0))) -> 0 | BR39: =IF(OR(AE$30="",AE$4=99),1,IF(AE39="",0,IFERROR(CHOOSE(BR$28,IF(ISNA(MATCH(AE39,$AR$30:$AS$30,0)),0,1),IF(ISNUMBER(AE39),1,0),IF(AE39=TRUNC(AE39),1,0),IF(AND(AE39*1=AE39,AE39>=0),1,0),IF(AND(AE39=TRUNC(AE39),AE39>=0),1,0),IF(AND(AE39*1=AE39,AE39>0),1,0),IF(AND(AE39=TRUNC(AE39),AE39>0),1,0),1,IF(ISNA(HLOOKUP(AE39,$AU$4:$BD$4,1,0)),0,1)),0))) -> 1 | ... BU39: =IF(OR(AH$30="",AH$4=99),1,IF(AH39="",0,IFERROR(CHOOSE(BU$28,IF(ISNA(MATCH(AH39,$AR$30:$AS$30,0)),0,1),IF(ISNUMBER(AH39),1,0),IF(AH39=TRUNC(AH39),1,0),IF(AND(AH39*1=AH39,AH39>=0),1,0),IF(AND(AH39=TRUNC(AH39),AH39>=0),1,0),IF(AND(AH39*1=AH39,AH39>0),1,0),IF(AND(AH39=TRUNC(AH39),AH39>0),1,0),1,IF(ISNA(HLOOKUP(AH39,$AU$4:$BD$4,1,0)),0,1)),0))) -> 0 | BV39: =IF(OR(AJ$30="",AJ$4=99),1,IF(AJ39="",0,IFERROR(CHOOSE(BV$28,IF(ISNA(MATCH(AJ39,$AR$30:$AS$30,0)),0,1),IF(ISNUMBER(AJ39),1,0),IF(AJ39=TRUNC(AJ39),1,0),IF(AND(AJ39*1=AJ39,AJ39>=0),1,0),IF(AND(AJ39=TRUNC(AJ39),AJ39>=0),1,0),IF(AND(AJ39*1=AJ39,AJ39>0),1,0),IF(AND(AJ39=TRUNC(AJ39),AJ39>0),1,0),1,IF(ISNA(HLOOKUP(AJ39,$AU$4:$BD$4,1,0)),0,1)),0))) -> 0 | BW39: =IF(OR(AK$30="",AK$4=99),1,IF(AK39="",0,IFERROR(CHOOSE(BW$28,IF(ISNA(MATCH(AK39,$AR$30:$AS$30,0)),0,1),IF(ISNUMBER(AK39),1,0),IF(AK39=TRUNC(AK39),1,0),IF(AND(AK39*1=AK39,AK39>=0),1,0),IF(AND(AK39=TRUNC(AK39),AK39>=0),1,0),IF(AND(AK39*1=AK39,AK39>0),1,0),IF(AND(AK39=TRUNC(AK39),AK39>0),1,0),1,IF(ISNA(HLOOKUP(AK39,$AU$4:$BD$4,1,0)),0,1)),0))) -> 1 | BX39: =IF(OR(AL$30="",AL$4=99),1,IF(AL39="",0,IFERROR(CHOOSE(BX$28,IF(ISNA(MATCH(AL39,$AR$30:$AS$30,0)),0,1),IF(ISNUMBER(AL39),1,0),IF(AL39=TRUNC(AL39),1,0),IF(AND(AL39*1=AL39,AL39>=0),1,0),IF(AND(AL39=TRUNC(AL39),AL39>=0),1,0),IF(AND(AL39*1=AL39,AL39>0),1,0),IF(AND(AL39=TRUNC(AL39),AL39>0),1,0),1,IF(ISNA(HLOOKUP(AL39,$AU$4:$BD$4,1,0)),0,1)),0))) -> 1 | BY39: =IF(OR(AM$30="",AM$4=99),1,IF(AM39="",0,IFERROR(CHOOSE(BY$28,IF(ISNA(MATCH(AM39,$AR$30:$AS$30,0)),0,1),IF(ISNUMBER(AM39),1,0),IF(AM39=TRUNC(AM39),1,0),IF(AND(AM39*1=AM39,AM39>=0),1,0),IF(AND(AM39=TRUNC(AM39),AM39>=0),1,0),IF(AND(AM39*1=AM39,AM39>0),1,0),IF(AND(AM39=TRUNC(AM39),AM39>0),1,0),1,IF(ISNA(HLOOKUP(AM39,$AU$4:$BD$4,1,0)),0,1)),0))) -> 1 | BZ39: =IF(OR(AN$30="",AN$4=99),1,IF(AN39="",0,IFERROR(CHOOSE(BZ$28,IF(ISNA(MATCH(AN39,$AR$30:$AS$30,0)),0,1),IF(ISNUMBER(AN39),1,0),IF(AN39=TRUNC(AN39),1,0),IF(AND(AN39*1=AN39,AN39>=0),1,0),IF(AND(AN39=TRUNC(AN39),AN39>=0),1,0),IF(AND(AN39*1=AN39,AN39>0),1,0),IF(AND(AN39=TRUNC(AN39),AN39>0),1,0),1,IF(ISNA(HLOOKUP(AN39,$AU$4:$BD$4,1,0)),0,1)),0))) -> 1 | CA39: =IF(OR(AO$30="",AO$4=99),1,IF(AO39="",0,IFERROR(CHOOSE(CA$28,IF(ISNA(MATCH(AO39,$AR$30:$AS$30,0)),0,1),IF(ISNUMBER(AO39),1,0),IF(AO39=TRUNC(AO39),1,0),IF(AND(AO39*1=AO39,AO39>=0),1,0),IF(AND(AO39=TRUNC(AO39),AO39>=0),1,0),IF(AND(AO39*1=AO39,AO39>0),1,0),IF(AND(AO39=TRUNC(AO39),AO39>0),1,0),1,IF(ISNA(HLOOKUP(AO39,$AU$4:$BD$4,1,0)),0,1)),0))) -> 1 | CL39: =N39>=CS$7 -> TRUE | CM39: =O39>=CM$7 -> TRUE | CN39: =P39>=CN$7 -> TRUE | CO39: =Q39>=CO$7 -> FALSE | CQ39: =AD39>=CQ$7 -> FALSE | CR39: =COUNTIF(CL39:CQ39,TRUE) -> 3 | CS39: =N39>=CS$7 -> TRUE | CT39: =O39>=CT$7 -> TRUE | CU39: =P39>=CU$7 -> TRUE | CV39: =Q39>=CV$7 -> FALSE | CX39: =AD39>=CX$7 -> FALSE | CY39: =COUNTIF(CS39:CX39,TRUE) -> 3 | CZ39: =IF($F39="","",IF(CR39=$CM$5,1,0)) | DA39: =IF($F39="","",IF(AND(CY39=$CM$5,CY39-CR39<=$CT$5),1,0))
B40: =IF(F40="","",ROW()-30) | F40: =IF('10'!$F$1="10","",'10'!$F$1) | N40: =IF($F40="","",'ריכוז גיליונות עזר'!H40) | O40: =IF($F40="","",'ריכוז גיליונות עזר'!K40) | P40: =IF($F40="","",'ריכוז גיליונות עזר'!L40) | R40: =IF($F40="","",IF(P40=0,1,IF(Q40<N40,$AR$1,N40/Q40))) | S40: =IF($F40="","",IF(OR(AND(R40=1,P40=1),R40=$AR$1),$AR$1,IF(OR(R40>=$R$5,N40>=$Q$5),1,0))) | AE40: =IF($F40="","",IF(OR(CZ40=1,AND(X40=1,Y40=1,DA40=1)),1,0)) | AO40: =IF($F40="","",IF(AK40=1,1,IF(AQ40<>1,$AR$1,IF(SUMPRODUCT(--(G40:AJ40>=$G$5:$AJ$5)*($G$5:$AJ$5<>"")*($G$4:$AJ$4=1))=COUNTIF($G$4:$AJ$4,1),1,0)))) | AQ40: =IF(OR(SUM(AT40:CA40)<>COUNT(AT40:CA40),SUMPRODUCT(--(G40:AJ40=$AR$1))<>0),0,1) -> 0 | AR40: =IF($F40="","",AR$30) | AS40: =IF($F40="","",AS$30) | AT40: =IF(OR(G$30="",G$4=99),1,IF(G40="",0,IFERROR(CHOOSE(AT$28,IF(ISNA(MATCH(G40,$AR$30:$AS$30,0)),0,1),IF(ISNUMBER(G40),1,0),IF(G40=TRUNC(G40),1,0),IF(AND(G40*1=G40,G40>=0),1,0),IF(AND(G40=TRUNC(G40),G40>=0),1,0),IF(AND(G40*1=G40,G40>0),1,0),IF(AND(G40=TRUNC(G40),G40>0),1,0),1,IF(ISNA(HLOOKUP(G40,$AU$4:$BD$4,1,0)),0,1)),0))) -> 0 | AU40: =IF(OR(H$30="",H$4=99),1,IF(H40="",0,IFERROR(CHOOSE(AU$28,IF(ISNA(MATCH(H40,$AR$30:$AS$30,0)),0,1),IF(ISNUMBER(H40),1,0),IF(H40=TRUNC(H40),1,0),IF(AND(H40*1=H40,H40>=0),1,0),IF(AND(H40=TRUNC(H40),H40>=0),1,0),IF(AND(H40*1=H40,H40>0),1,0),IF(AND(H40=TRUNC(H40),H40>0),1,0),1,IF(ISNA(HLOOKUP(H40,$AU$4:$BD$4,1,0)),0,1)),0))) -> 0 | AV40: =IF(OR(I$30="",I$4=99),1,IF(I40="",0,IFERROR(CHOOSE(AV$28,IF(ISNA(MATCH(I40,$AR$30:$AS$30,0)),0,1),IF(ISNUMBER(I40),1,0),IF(I40=TRUNC(I40),1,0),IF(AND(I40*1=I40,I40>=0),1,0),IF(AND(I40=TRUNC(I40),I40>=0),1,0),IF(AND(I40*1=I40,I40>0),1,0),IF(AND(I40=TRUNC(I40),I40>0),1,0),1,IF(ISNA(HLOOKUP(I40,$AU$4:$BD$4,1,0)),0,1)),0))) -> 0 | AW40: =IF(OR(J$30="",J$4=99),1,IF(J40="",0,IFERROR(CHOOSE(AW$28,IF(ISNA(MATCH(J40,$AR$30:$AS$30,0)),0,1),IF(ISNUMBER(J40),1,0),IF(J40=TRUNC(J40),1,0),IF(AND(J40*1=J40,J40>=0),1,0),IF(AND(J40=TRUNC(J40),J40>=0),1,0),IF(AND(J40*1=J40,J40>0),1,0),IF(AND(J40=TRUNC(J40),J40>0),1,0),1,IF(ISNA(HLOOKUP(J40,$AU$4:$BD$4,1,0)),0,1)),0))) -> 0 | AX40: =IF(OR(K$30="",K$4=99),1,IF(K40="",0,IFERROR(CHOOSE(AX$28,IF(ISNA(MATCH(K40,$AR$30:$AS$30,0)),0,1),IF(ISNUMBER(K40),1,0),IF(K40=TRUNC(K40),1,0),IF(AND(K40*1=K40,K40>=0),1,0),IF(AND(K40=TRUNC(K40),K40>=0),1,0),IF(AND(K40*1=K40,K40>0),1,0),IF(AND(K40=TRUNC(K40),K40>0),1,0),1,IF(ISNA(HLOOKUP(K40,$AU$4:$BD$4,1,0)),0,1)),0))) -> 0 | AY40: =IF(OR(L$30="",L$4=99),1,IF(L40="",0,IFERROR(CHOOSE(AY$28,IF(ISNA(MATCH(L40,$AR$30:$AS$30,0)),0,1),IF(ISNUMBER(L40),1,0),IF(L40=TRUNC(L40),1,0),IF(AND(L40*1=L40,L40>=0),1,0),IF(AND(L40=TRUNC(L40),L40>=0),1,0),IF(AND(L40*1=L40,L40>0),1,0),IF(AND(L40=TRUNC(L40),L40>0),1,0),1,IF(ISNA(HLOOKUP(L40,$AU$4:$BD$4,1,0)),0,1)),0))) -> 0 | AZ40: =IF(OR(M$30="",M$4=99),1,IF(M40="",0,IFERROR(CHOOSE(AZ$28,IF(ISNA(MATCH(M40,$AR$30:$AS$30,0)),0,1),IF(ISNUMBER(M40),1,0),IF(M40=TRUNC(M40),1,0),IF(AND(M40*1=M40,M40>=0),1,0),IF(AND(M40=TRUNC(M40),M40>=0),1,0),IF(AND(M40*1=M40,M40>0),1,0),IF(AND(M40=TRUNC(M40),M40>0),1,0),1,IF(ISNA(HLOOKUP(M40,$AU$4:$BD$4,1,0)),0,1)),0))) -> 0 | BA40: =IF(OR(N$30="",N$4=99),1,IF(N40="",0,IFERROR(CHOOSE(BA$28,IF(ISNA(MATCH(N40,$AR$30:$AS$30,0)),0,1),IF(ISNUMBER(N40),1,0),IF(N40=TRUNC(N40),1,0),IF(AND(N40*1=N40,N40>=0),1,0),IF(AND(N40=TRUNC(N40),N40>=0),1,0),IF(AND(N40*1=N40,N40>0),1,0),IF(AND(N40=TRUNC(N40),N40>0),1,0),1,IF(ISNA(HLOOKUP(N40,$AU$4:$BD$4,1,0)),0,1)),0))) -> 1 | ... BH40: =IF(OR(U$30="",U$4=99),1,IF(U40="",0,IFERROR(CHOOSE(BH$28,IF(ISNA(MATCH(U40,$AR$30:$AS$30,0)),0,1),IF(ISNUMBER(U40),1,0),IF(U40=TRUNC(U40),1,0),IF(AND(U40*1=U40,U40>=0),1,0),IF(AND(U40=TRUNC(U40),U40>=0),1,0),IF(AND(U40*1=U40,U40>0),1,0),IF(AND(U40=TRUNC(U40),U40>0),1,0),1,IF(ISNA(HLOOKUP(U40,$AU$4:$BD$4,1,0)),0,1)),0))) -> 0 | BI40: =IF(OR(V$30="",W$4=99),1,IF(V40="",0,IFERROR(CHOOSE(BI$28,IF(ISNA(MATCH(V40,$AR$30:$AS$30,0)),0,1),IF(ISNUMBER(V40),1,0),IF(V40=TRUNC(V40),1,0),IF(AND(V40*1=V40,V40>=0),1,0),IF(AND(V40=TRUNC(V40),V40>=0),1,0),IF(AND(V40*1=V40,V40>0),1,0),IF(AND(V40=TRUNC(V40),V40>0),1,0),1,IF(ISNA(HLOOKUP(V40,$AU$4:$BD$4,1,0)),0,1)),0))) -> 0 | BJ40: =IF(OR(W$30="",X$4=99),1,IF(W40="",0,IFERROR(CHOOSE(BJ$28,IF(ISNA(MATCH(W40,$AR$30:$AS$30,0)),0,1),IF(ISNUMBER(W40),1,0),IF(W40=TRUNC(W40),1,0),IF(AND(W40*1=W40,W40>=0),1,0),IF(AND(W40=TRUNC(W40),W40>=0),1,0),IF(AND(W40*1=W40,W40>0),1,0),IF(AND(W40=TRUNC(W40),W40>0),1,0),1,IF(ISNA(HLOOKUP(W40,$AU$4:$BD$4,1,0)),0,1)),0))) -> 1 | BK40: =IF(OR(X$30="",X$4=99),1,IF(X40="",0,IFERROR(CHOOSE(BK$28,IF(ISNA(MATCH(X40,$AR$30:$AS$30,0)),0,1),IF(ISNUMBER(X40),1,0),IF(X40=TRUNC(X40),1,0),IF(AND(X40*1=X40,X40>=0),1,0),IF(AND(X40=TRUNC(X40),X40>=0),1,0),IF(AND(X40*1=X40,X40>0),1,0),IF(AND(X40=TRUNC(X40),X40>0),1,0),1,IF(ISNA(HLOOKUP(X40,$AU$4:$BD$4,1,0)),0,1)),0))) -> 1 | BL40: =IF(OR(Y$30="",Y$4=99),1,IF(Y40="",0,IFERROR(CHOOSE(BL$28,IF(ISNA(MATCH(Y40,$AR$30:$AS$30,0)),0,1),IF(ISNUMBER(Y40),1,0),IF(Y40=TRUNC(Y40),1,0),IF(AND(Y40*1=Y40,Y40>=0),1,0),IF(AND(Y40=TRUNC(Y40),Y40>=0),1,0),IF(AND(Y40*1=Y40,Y40>0),1,0),IF(AND(Y40=TRUNC(Y40),Y40>0),1,0),1,IF(ISNA(HLOOKUP(Y40,$AU$4:$BD$4,1,0)),0,1)),0))) -> 1 | BM40: =IF(OR(Z$30="",Z$4=99),1,IF(Z40="",0,IFERROR(CHOOSE(BM$28,IF(ISNA(MATCH(Z40,$AR$30:$AS$30,0)),0,1),IF(ISNUMBER(Z40),1,0),IF(Z40=TRUNC(Z40),1,0),IF(AND(Z40*1=Z40,Z40>=0),1,0),IF(AND(Z40=TRUNC(Z40),Z40>=0),1,0),IF(AND(Z40*1=Z40,Z40>0),1,0),IF(AND(Z40=TRUNC(Z40),Z40>0),1,0),1,IF(ISNA(HLOOKUP(Z40,$AU$4:$BD$4,1,0)),0,1)),0))) -> 1 | BN40: =IF(OR(AA$30="",AA$4=99),1,IF(AA40="",0,IFERROR(CHOOSE(BN$28,IF(ISNA(MATCH(AA40,$AR$30:$AS$30,0)),0,1),IF(ISNUMBER(AA40),1,0),IF(AA40=TRUNC(AA40),1,0),IF(AND(AA40*1=AA40,AA40>=0),1,0),IF(AND(AA40=TRUNC(AA40),AA40>=0),1,0),IF(AND(AA40*1=AA40,AA40>0),1,0),IF(AND(AA40=TRUNC(AA40),AA40>0),1,0),1,IF(ISNA(HLOOKUP(AA40,$AU$4:$BD$4,1,0)),0,1)),0))) -> 1 | BO40: =IF(OR(AB$30="",AB$4=99),1,IF(AB40="",0,IFERROR(CHOOSE(BO$28,IF(ISNA(MATCH(AB40,$AR$30:$AS$30,0)),0,1),IF(ISNUMBER(AB40),1,0),IF(AB40=TRUNC(AB40),1,0),IF(AND(AB40*1=AB40,AB40>=0),1,0),IF(AND(AB40=TRUNC(AB40),AB40>=0),1,0),IF(AND(AB40*1=AB40,AB40>0),1,0),IF(AND(AB40=TRUNC(AB40),AB40>0),1,0),1,IF(ISNA(HLOOKUP(AB40,$AU$4:$BD$4,1,0)),0,1)),0))) -> 1 | BP40: =IF(OR(AC$30="",AC$4=99),1,IF(AC40="",0,IFERROR(CHOOSE(BP$28,IF(ISNA(MATCH(AC40,$AR$30:$AS$30,0)),0,1),IF(ISNUMBER(AC40),1,0),IF(AC40=TRUNC(AC40),1,0),IF(AND(AC40*1=AC40,AC40>=0),1,0),IF(AND(AC40=TRUNC(AC40),AC40>=0),1,0),IF(AND(AC40*1=AC40,AC40>0),1,0),IF(AND(AC40=TRUNC(AC40),AC40>0),1,0),1,IF(ISNA(HLOOKUP(AC40,$AU$4:$BD$4,1,0)),0,1)),0))) -> 1 | BQ40: =IF(OR(AD$30="",AD$4=99),1,IF(AD40="",0,IFERROR(CHOOSE(BQ$28,IF(ISNA(MATCH(AD40,$AR$30:$AS$30,0)),0,1),IF(ISNUMBER(AD40),1,0),IF(AD40=TRUNC(AD40),1,0),IF(AND(AD40*1=AD40,AD40>=0),1,0),IF(AND(AD40=TRUNC(AD40),AD40>=0),1,0),IF(AND(AD40*1=AD40,AD40>0),1,0),IF(AND(AD40=TRUNC(AD40),AD40>0),1,0),1,IF(ISNA(HLOOKUP(AD40,$AU$4:$BD$4,1,0)),0,1)),0))) -> 0 | BR40: =IF(OR(AE$30="",AE$4=99),1,IF(AE40="",0,IFERROR(CHOOSE(BR$28,IF(ISNA(MATCH(AE40,$AR$30:$AS$30,0)),0,1),IF(ISNUMBER(AE40),1,0),IF(AE40=TRUNC(AE40),1,0),IF(AND(AE40*1=AE40,AE40>=0),1,0),IF(AND(AE40=TRUNC(AE40),AE40>=0),1,0),IF(AND(AE40*1=AE40,AE40>0),1,0),IF(AND(AE40=TRUNC(AE40),AE40>0),1,0),1,IF(ISNA(HLOOKUP(AE40,$AU$4:$BD$4,1,0)),0,1)),0))) -> 1 | ... BU40: =IF(OR(AH$30="",AH$4=99),1,IF(AH40="",0,IFERROR(CHOOSE(BU$28,IF(ISNA(MATCH(AH40,$AR$30:$AS$30,0)),0,1),IF(ISNUMBER(AH40),1,0),IF(AH40=TRUNC(AH40),1,0),IF(AND(AH40*1=AH40,AH40>=0),1,0),IF(AND(AH40=TRUNC(AH40),AH40>=0),1,0),IF(AND(AH40*1=AH40,AH40>0),1,0),IF(AND(AH40=TRUNC(AH40),AH40>0),1,0),1,IF(ISNA(HLOOKUP(AH40,$AU$4:$BD$4,1,0)),0,1)),0))) -> 0 | BV40: =IF(OR(AJ$30="",AJ$4=99),1,IF(AJ40="",0,IFERROR(CHOOSE(BV$28,IF(ISNA(MATCH(AJ40,$AR$30:$AS$30,0)),0,1),IF(ISNUMBER(AJ40),1,0),IF(AJ40=TRUNC(AJ40),1,0),IF(AND(AJ40*1=AJ40,AJ40>=0),1,0),IF(AND(AJ40=TRUNC(AJ40),AJ40>=0),1,0),IF(AND(AJ40*1=AJ40,AJ40>0),1,0),IF(AND(AJ40=TRUNC(AJ40),AJ40>0),1,0),1,IF(ISNA(HLOOKUP(AJ40,$AU$4:$BD$4,1,0)),0,1)),0))) -> 0 | BW40: =IF(OR(AK$30="",AK$4=99),1,IF(AK40="",0,IFERROR(CHOOSE(BW$28,IF(ISNA(MATCH(AK40,$AR$30:$AS$30,0)),0,1),IF(ISNUMBER(AK40),1,0),IF(AK40=TRUNC(AK40),1,0),IF(AND(AK40*1=AK40,AK40>=0),1,0),IF(AND(AK40=TRUNC(AK40),AK40>=0),1,0),IF(AND(AK40*1=AK40,AK40>0),1,0),IF(AND(AK40=TRUNC(AK40),AK40>0),1,0),1,IF(ISNA(HLOOKUP(AK40,$AU$4:$BD$4,1,0)),0,1)),0))) -> 1 | BX40: =IF(OR(AL$30="",AL$4=99),1,IF(AL40="",0,IFERROR(CHOOSE(BX$28,IF(ISNA(MATCH(AL40,$AR$30:$AS$30,0)),0,1),IF(ISNUMBER(AL40),1,0),IF(AL40=TRUNC(AL40),1,0),IF(AND(AL40*1=AL40,AL40>=0),1,0),IF(AND(AL40=TRUNC(AL40),AL40>=0),1,0),IF(AND(AL40*1=AL40,AL40>0),1,0),IF(AND(AL40=TRUNC(AL40),AL40>0),1,0),1,IF(ISNA(HLOOKUP(AL40,$AU$4:$BD$4,1,0)),0,1)),0))) -> 1 | BY40: =IF(OR(AM$30="",AM$4=99),1,IF(AM40="",0,IFERROR(CHOOSE(BY$28,IF(ISNA(MATCH(AM40,$AR$30:$AS$30,0)),0,1),IF(ISNUMBER(AM40),1,0),IF(AM40=TRUNC(AM40),1,0),IF(AND(AM40*1=AM40,AM40>=0),1,0),IF(AND(AM40=TRUNC(AM40),AM40>=0),1,0),IF(AND(AM40*1=AM40,AM40>0),1,0),IF(AND(AM40=TRUNC(AM40),AM40>0),1,0),1,IF(ISNA(HLOOKUP(AM40,$AU$4:$BD$4,1,0)),0,1)),0))) -> 1 | BZ40: =IF(OR(AN$30="",AN$4=99),1,IF(AN40="",0,IFERROR(CHOOSE(BZ$28,IF(ISNA(MATCH(AN40,$AR$30:$AS$30,0)),0,1),IF(ISNUMBER(AN40),1,0),IF(AN40=TRUNC(AN40),1,0),IF(AND(AN40*1=AN40,AN40>=0),1,0),IF(AND(AN40=TRUNC(AN40),AN40>=0),1,0),IF(AND(AN40*1=AN40,AN40>0),1,0),IF(AND(AN40=TRUNC(AN40),AN40>0),1,0),1,IF(ISNA(HLOOKUP(AN40,$AU$4:$BD$4,1,0)),0,1)),0))) -> 1 | CA40: =IF(OR(AO$30="",AO$4=99),1,IF(AO40="",0,IFERROR(CHOOSE(CA$28,IF(ISNA(MATCH(AO40,$AR$30:$AS$30,0)),0,1),IF(ISNUMBER(AO40),1,0),IF(AO40=TRUNC(AO40),1,0),IF(AND(AO40*1=AO40,AO40>=0),1,0),IF(AND(AO40=TRUNC(AO40),AO40>=0),1,0),IF(AND(AO40*1=AO40,AO40>0),1,0),IF(AND(AO40=TRUNC(AO40),AO40>0),1,0),1,IF(ISNA(HLOOKUP(AO40,$AU$4:$BD$4,1,0)),0,1)),0))) -> 1 | CL40: =N40>=CS$7 -> TRUE | CM40: =O40>=CM$7 -> TRUE | CN40: =P40>=CN$7 -> TRUE | CO40: =Q40>=CO$7 -> FALSE | CQ40: =AD40>=CQ$7 -> FALSE | CR40: =COUNTIF(CL40:CQ40,TRUE) -> 3 | CS40: =N40>=CS$7 -> TRUE | CT40: =O40>=CT$7 -> TRUE | CU40: =P40>=CU$7 -> TRUE | CV40: =Q40>=CV$7 -> FALSE | CX40: =AD40>=CX$7 -> FALSE | CY40: =COUNTIF(CS40:CX40,TRUE) -> 3 | CZ40: =IF($F40="","",IF(CR40=$CM$5,1,0)) | DA40: =IF($F40="","",IF(AND(CY40=$CM$5,CY40-CR40<=$CT$5),1,0))
A41: =ROW()-30 -> 11 | B41: =IF(F41="","",ROW()-30) | N41: =IF($F41="","",'ריכוז גיליונות עזר'!H41) | O41: =IF($F41="","",'ריכוז גיליונות עזר'!K41) | P41: =IF($F41="","",'ריכוז גיליונות עזר'!L41) | R41: =IF($F41="","",IF(P41=0,1,IF(Q41<N41,$AR$1,N41/Q41))) | S41: =IF($F41="","",IF(OR(AND(R41=1,P41=1),R41=$AR$1),$AR$1,IF(OR(R41>=$R$5,N41>=$Q$5),1,0))) | AE41: =IF($F41="","",IF(OR(CZ41=1,AND(X41=1,Y41=1,DA41=1)),1,0)) | AO41: =IF($F41="","",IF(AK41=1,1,IF(AQ41<>1,$AR$1,IF(SUMPRODUCT(--(G41:AJ41>=$G$5:$AJ$5)*($G$5:$AJ$5<>"")*($G$4:$AJ$4=1))=COUNTIF($G$4:$AJ$4,1),1,0)))) | AQ41: =IF(OR(SUM(AT41:CA41)<>COUNT(AT41:CA41),SUMPRODUCT(--(G41:AJ41=$AR$1))<>0),0,1) -> 0 | AR41: =IF($F41="","",AR$30) | AS41: =IF($F41="","",AS$30) | AT41: =IF(OR(G$30="",G$4=99),1,IF(G41="",0,IFERROR(CHOOSE(AT$28,IF(ISNA(MATCH(G41,$AR$30:$AS$30,0)),0,1),IF(ISNUMBER(G41),1,0),IF(G41=TRUNC(G41),1,0),IF(AND(G41*1=G41,G41>=0),1,0),IF(AND(G41=TRUNC(G41),G41>=0),1,0),IF(AND(G41*1=G41,G41>0),1,0),IF(AND(G41=TRUNC(G41),G41>0),1,0),1,IF(ISNA(HLOOKUP(G41,$AU$4:$BD$4,1,0)),0,1)),0))) -> 0 | AU41: =IF(OR(H$30="",H$4=99),1,IF(H41="",0,IFERROR(CHOOSE(AU$28,IF(ISNA(MATCH(H41,$AR$30:$AS$30,0)),0,1),IF(ISNUMBER(H41),1,0),IF(H41=TRUNC(H41),1,0),IF(AND(H41*1=H41,H41>=0),1,0),IF(AND(H41=TRUNC(H41),H41>=0),1,0),IF(AND(H41*1=H41,H41>0),1,0),IF(AND(H41=TRUNC(H41),H41>0),1,0),1,IF(ISNA(HLOOKUP(H41,$AU$4:$BD$4,1,0)),0,1)),0))) -> 0 | AV41: =IF(OR(I$30="",I$4=99),1,IF(I41="",0,IFERROR(CHOOSE(AV$28,IF(ISNA(MATCH(I41,$AR$30:$AS$30,0)),0,1),IF(ISNUMBER(I41),1,0),IF(I41=TRUNC(I41),1,0),IF(AND(I41*1=I41,I41>=0),1,0),IF(AND(I41=TRUNC(I41),I41>=0),1,0),IF(AND(I41*1=I41,I41>0),1,0),IF(AND(I41=TRUNC(I41),I41>0),1,0),1,IF(ISNA(HLOOKUP(I41,$AU$4:$BD$4,1,0)),0,1)),0))) -> 0 | AW41: =IF(OR(J$30="",J$4=99),1,IF(J41="",0,IFERROR(CHOOSE(AW$28,IF(ISNA(MATCH(J41,$AR$30:$AS$30,0)),0,1),IF(ISNUMBER(J41),1,0),IF(J41=TRUNC(J41),1,0),IF(AND(J41*1=J41,J41>=0),1,0),IF(AND(J41=TRUNC(J41),J41>=0),1,0),IF(AND(J41*1=J41,J41>0),1,0),IF(AND(J41=TRUNC(J41),J41>0),1,0),1,IF(ISNA(HLOOKUP(J41,$AU$4:$BD$4,1,0)),0,1)),0))) -> 0 | AX41: =IF(OR(K$30="",K$4=99),1,IF(K41="",0,IFERROR(CHOOSE(AX$28,IF(ISNA(MATCH(K41,$AR$30:$AS$30,0)),0,1),IF(ISNUMBER(K41),1,0),IF(K41=TRUNC(K41),1,0),IF(AND(K41*1=K41,K41>=0),1,0),IF(AND(K41=TRUNC(K41),K41>=0),1,0),IF(AND(K41*1=K41,K41>0),1,0),IF(AND(K41=TRUNC(K41),K41>0),1,0),1,IF(ISNA(HLOOKUP(K41,$AU$4:$BD$4,1,0)),0,1)),0))) -> 0 | AY41: =IF(OR(L$30="",L$4=99),1,IF(L41="",0,IFERROR(CHOOSE(AY$28,IF(ISNA(MATCH(L41,$AR$30:$AS$30,0)),0,1),IF(ISNUMBER(L41),1,0),IF(L41=TRUNC(L41),1,0),IF(AND(L41*1=L41,L41>=0),1,0),IF(AND(L41=TRUNC(L41),L41>=0),1,0),IF(AND(L41*1=L41,L41>0),1,0),IF(AND(L41=TRUNC(L41),L41>0),1,0),1,IF(ISNA(HLOOKUP(L41,$AU$4:$BD$4,1,0)),0,1)),0))) -> 0 | AZ41: =IF(OR(M$30="",M$4=99),1,IF(M41="",0,IFERROR(CHOOSE(AZ$28,IF(ISNA(MATCH(M41,$AR$30:$AS$30,0)),0,1),IF(ISNUMBER(M41),1,0),IF(M41=TRUNC(M41),1,0),IF(AND(M41*1=M41,M41>=0),1,0),IF(AND(M41=TRUNC(M41),M41>=0),1,0),IF(AND(M41*1=M41,M41>0),1,0),IF(AND(M41=TRUNC(M41),M41>0),1,0),1,IF(ISNA(HLOOKUP(M41,$AU$4:$BD$4,1,0)),0,1)),0))) -> 0 | BA41: =IF(OR(N$30="",N$4=99),1,IF(N41="",0,IFERROR(CHOOSE(BA$28,IF(ISNA(MATCH(N41,$AR$30:$AS$30,0)),0,1),IF(ISNUMBER(N41),1,0),IF(N41=TRUNC(N41),1,0),IF(AND(N41*1=N41,N41>=0),1,0),IF(AND(N41=TRUNC(N41),N41>=0),1,0),IF(AND(N41*1=N41,N41>0),1,0),IF(AND(N41=TRUNC(N41),N41>0),1,0),1,IF(ISNA(HLOOKUP(N41,$AU$4:$BD$4,1,0)),0,1)),0))) -> 1 | ... BH41: =IF(OR(U$30="",U$4=99),1,IF(U41="",0,IFERROR(CHOOSE(BH$28,IF(ISNA(MATCH(U41,$AR$30:$AS$30,0)),0,1),IF(ISNUMBER(U41),1,0),IF(U41=TRUNC(U41),1,0),IF(AND(U41*1=U41,U41>=0),1,0),IF(AND(U41=TRUNC(U41),U41>=0),1,0),IF(AND(U41*1=U41,U41>0),1,0),IF(AND(U41=TRUNC(U41),U41>0),1,0),1,IF(ISNA(HLOOKUP(U41,$AU$4:$BD$4,1,0)),0,1)),0))) -> 0 | BI41: =IF(OR(V$30="",W$4=99),1,IF(V41="",0,IFERROR(CHOOSE(BI$28,IF(ISNA(MATCH(V41,$AR$30:$AS$30,0)),0,1),IF(ISNUMBER(V41),1,0),IF(V41=TRUNC(V41),1,0),IF(AND(V41*1=V41,V41>=0),1,0),IF(AND(V41=TRUNC(V41),V41>=0),1,0),IF(AND(V41*1=V41,V41>0),1,0),IF(AND(V41=TRUNC(V41),V41>0),1,0),1,IF(ISNA(HLOOKUP(V41,$AU$4:$BD$4,1,0)),0,1)),0))) -> 0 | BJ41: =IF(OR(W$30="",X$4=99),1,IF(W41="",0,IFERROR(CHOOSE(BJ$28,IF(ISNA(MATCH(W41,$AR$30:$AS$30,0)),0,1),IF(ISNUMBER(W41),1,0),IF(W41=TRUNC(W41),1,0),IF(AND(W41*1=W41,W41>=0),1,0),IF(AND(W41=TRUNC(W41),W41>=0),1,0),IF(AND(W41*1=W41,W41>0),1,0),IF(AND(W41=TRUNC(W41),W41>0),1,0),1,IF(ISNA(HLOOKUP(W41,$AU$4:$BD$4,1,0)),0,1)),0))) -> 1 | BK41: =IF(OR(X$30="",X$4=99),1,IF(X41="",0,IFERROR(CHOOSE(BK$28,IF(ISNA(MATCH(X41,$AR$30:$AS$30,0)),0,1),IF(ISNUMBER(X41),1,0),IF(X41=TRUNC(X41),1,0),IF(AND(X41*1=X41,X41>=0),1,0),IF(AND(X41=TRUNC(X41),X41>=0),1,0),IF(AND(X41*1=X41,X41>0),1,0),IF(AND(X41=TRUNC(X41),X41>0),1,0),1,IF(ISNA(HLOOKUP(X41,$AU$4:$BD$4,1,0)),0,1)),0))) -> 1 | BL41: =IF(OR(Y$30="",Y$4=99),1,IF(Y41="",0,IFERROR(CHOOSE(BL$28,IF(ISNA(MATCH(Y41,$AR$30:$AS$30,0)),0,1),IF(ISNUMBER(Y41),1,0),IF(Y41=TRUNC(Y41),1,0),IF(AND(Y41*1=Y41,Y41>=0),1,0),IF(AND(Y41=TRUNC(Y41),Y41>=0),1,0),IF(AND(Y41*1=Y41,Y41>0),1,0),IF(AND(Y41=TRUNC(Y41),Y41>0),1,0),1,IF(ISNA(HLOOKUP(Y41,$AU$4:$BD$4,1,0)),0,1)),0))) -> 1 | BM41: =IF(OR(Z$30="",Z$4=99),1,IF(Z41="",0,IFERROR(CHOOSE(BM$28,IF(ISNA(MATCH(Z41,$AR$30:$AS$30,0)),0,1),IF(ISNUMBER(Z41),1,0),IF(Z41=TRUNC(Z41),1,0),IF(AND(Z41*1=Z41,Z41>=0),1,0),IF(AND(Z41=TRUNC(Z41),Z41>=0),1,0),IF(AND(Z41*1=Z41,Z41>0),1,0),IF(AND(Z41=TRUNC(Z41),Z41>0),1,0),1,IF(ISNA(HLOOKUP(Z41,$AU$4:$BD$4,1,0)),0,1)),0))) -> 1 | BN41: =IF(OR(AA$30="",AA$4=99),1,IF(AA41="",0,IFERROR(CHOOSE(BN$28,IF(ISNA(MATCH(AA41,$AR$30:$AS$30,0)),0,1),IF(ISNUMBER(AA41),1,0),IF(AA41=TRUNC(AA41),1,0),IF(AND(AA41*1=AA41,AA41>=0),1,0),IF(AND(AA41=TRUNC(AA41),AA41>=0),1,0),IF(AND(AA41*1=AA41,AA41>0),1,0),IF(AND(AA41=TRUNC(AA41),AA41>0),1,0),1,IF(ISNA(HLOOKUP(AA41,$AU$4:$BD$4,1,0)),0,1)),0))) -> 1 | BO41: =IF(OR(AB$30="",AB$4=99),1,IF(AB41="",0,IFERROR(CHOOSE(BO$28,IF(ISNA(MATCH(AB41,$AR$30:$AS$30,0)),0,1),IF(ISNUMBER(AB41),1,0),IF(AB41=TRUNC(AB41),1,0),IF(AND(AB41*1=AB41,AB41>=0),1,0),IF(AND(AB41=TRUNC(AB41),AB41>=0),1,0),IF(AND(AB41*1=AB41,AB41>0),1,0),IF(AND(AB41=TRUNC(AB41),AB41>0),1,0),1,IF(ISNA(HLOOKUP(AB41,$AU$4:$BD$4,1,0)),0,1)),0))) -> 1 | BP41: =IF(OR(AC$30="",AC$4=99),1,IF(AC41="",0,IFERROR(CHOOSE(BP$28,IF(ISNA(MATCH(AC41,$AR$30:$AS$30,0)),0,1),IF(ISNUMBER(AC41),1,0),IF(AC41=TRUNC(AC41),1,0),IF(AND(AC41*1=AC41,AC41>=0),1,0),IF(AND(AC41=TRUNC(AC41),AC41>=0),1,0),IF(AND(AC41*1=AC41,AC41>0),1,0),IF(AND(AC41=TRUNC(AC41),AC41>0),1,0),1,IF(ISNA(HLOOKUP(AC41,$AU$4:$BD$4,1,0)),0,1)),0))) -> 1 | BQ41: =IF(OR(AD$30="",AD$4=99),1,IF(AD41="",0,IFERROR(CHOOSE(BQ$28,IF(ISNA(MATCH(AD41,$AR$30:$AS$30,0)),0,1),IF(ISNUMBER(AD41),1,0),IF(AD41=TRUNC(AD41),1,0),IF(AND(AD41*1=AD41,AD41>=0),1,0),IF(AND(AD41=TRUNC(AD41),AD41>=0),1,0),IF(AND(AD41*1=AD41,AD41>0),1,0),IF(AND(AD41=TRUNC(AD41),AD41>0),1,0),1,IF(ISNA(HLOOKUP(AD41,$AU$4:$BD$4,1,0)),0,1)),0))) -> 0 | BR41: =IF(OR(AE$30="",AE$4=99),1,IF(AE41="",0,IFERROR(CHOOSE(BR$28,IF(ISNA(MATCH(AE41,$AR$30:$AS$30,0)),0,1),IF(ISNUMBER(AE41),1,0),IF(AE41=TRUNC(AE41),1,0),IF(AND(AE41*1=AE41,AE41>=0),1,0),IF(AND(AE41=TRUNC(AE41),AE41>=0),1,0),IF(AND(AE41*1=AE41,AE41>0),1,0),IF(AND(AE41=TRUNC(AE41),AE41>0),1,0),1,IF(ISNA(HLOOKUP(AE41,$AU$4:$BD$4,1,0)),0,1)),0))) -> 1 | ... BU41: =IF(OR(AH$30="",AH$4=99),1,IF(AH41="",0,IFERROR(CHOOSE(BU$28,IF(ISNA(MATCH(AH41,$AR$30:$AS$30,0)),0,1),IF(ISNUMBER(AH41),1,0),IF(AH41=TRUNC(AH41),1,0),IF(AND(AH41*1=AH41,AH41>=0),1,0),IF(AND(AH41=TRUNC(AH41),AH41>=0),1,0),IF(AND(AH41*1=AH41,AH41>0),1,0),IF(AND(AH41=TRUNC(AH41),AH41>0),1,0),1,IF(ISNA(HLOOKUP(AH41,$AU$4:$BD$4,1,0)),0,1)),0))) -> 0 | BV41: =IF(OR(AJ$30="",AJ$4=99),1,IF(AJ41="",0,IFERROR(CHOOSE(BV$28,IF(ISNA(MATCH(AJ41,$AR$30:$AS$30,0)),0,1),IF(ISNUMBER(AJ41),1,0),IF(AJ41=TRUNC(AJ41),1,0),IF(AND(AJ41*1=AJ41,AJ41>=0),1,0),IF(AND(AJ41=TRUNC(AJ41),AJ41>=0),1,0),IF(AND(AJ41*1=AJ41,AJ41>0),1,0),IF(AND(AJ41=TRUNC(AJ41),AJ41>0),1,0),1,IF(ISNA(HLOOKUP(AJ41,$AU$4:$BD$4,1,0)),0,1)),0))) -> 0 | BW41: =IF(OR(AK$30="",AK$4=99),1,IF(AK41="",0,IFERROR(CHOOSE(BW$28,IF(ISNA(MATCH(AK41,$AR$30:$AS$30,0)),0,1),IF(ISNUMBER(AK41),1,0),IF(AK41=TRUNC(AK41),1,0),IF(AND(AK41*1=AK41,AK41>=0),1,0),IF(AND(AK41=TRUNC(AK41),AK41>=0),1,0),IF(AND(AK41*1=AK41,AK41>0),1,0),IF(AND(AK41=TRUNC(AK41),AK41>0),1,0),1,IF(ISNA(HLOOKUP(AK41,$AU$4:$BD$4,1,0)),0,1)),0))) -> 1 | BX41: =IF(OR(AL$30="",AL$4=99),1,IF(AL41="",0,IFERROR(CHOOSE(BX$28,IF(ISNA(MATCH(AL41,$AR$30:$AS$30,0)),0,1),IF(ISNUMBER(AL41),1,0),IF(AL41=TRUNC(AL41),1,0),IF(AND(AL41*1=AL41,AL41>=0),1,0),IF(AND(AL41=TRUNC(AL41),AL41>=0),1,0),IF(AND(AL41*1=AL41,AL41>0),1,0),IF(AND(AL41=TRUNC(AL41),AL41>0),1,0),1,IF(ISNA(HLOOKUP(AL41,$AU$4:$BD$4,1,0)),0,1)),0))) -> 1 | BY41: =IF(OR(AM$30="",AM$4=99),1,IF(AM41="",0,IFERROR(CHOOSE(BY$28,IF(ISNA(MATCH(AM41,$AR$30:$AS$30,0)),0,1),IF(ISNUMBER(AM41),1,0),IF(AM41=TRUNC(AM41),1,0),IF(AND(AM41*1=AM41,AM41>=0),1,0),IF(AND(AM41=TRUNC(AM41),AM41>=0),1,0),IF(AND(AM41*1=AM41,AM41>0),1,0),IF(AND(AM41=TRUNC(AM41),AM41>0),1,0),1,IF(ISNA(HLOOKUP(AM41,$AU$4:$BD$4,1,0)),0,1)),0))) -> 1 | BZ41: =IF(OR(AN$30="",AN$4=99),1,IF(AN41="",0,IFERROR(CHOOSE(BZ$28,IF(ISNA(MATCH(AN41,$AR$30:$AS$30,0)),0,1),IF(ISNUMBER(AN41),1,0),IF(AN41=TRUNC(AN41),1,0),IF(AND(AN41*1=AN41,AN41>=0),1,0),IF(AND(AN41=TRUNC(AN41),AN41>=0),1,0),IF(AND(AN41*1=AN41,AN41>0),1,0),IF(AND(AN41=TRUNC(AN41),AN41>0),1,0),1,IF(ISNA(HLOOKUP(AN41,$AU$4:$BD$4,1,0)),0,1)),0))) -> 1 | CA41: =IF(OR(AO$30="",AO$4=99),1,IF(AO41="",0,IFERROR(CHOOSE(CA$28,IF(ISNA(MATCH(AO41,$AR$30:$AS$30,0)),0,1),IF(ISNUMBER(AO41),1,0),IF(AO41=TRUNC(AO41),1,0),IF(AND(AO41*1=AO41,AO41>=0),1,0),IF(AND(AO41=TRUNC(AO41),AO41>=0),1,0),IF(AND(AO41*1=AO41,AO41>0),1,0),IF(AND(AO41=TRUNC(AO41),AO41>0),1,0),1,IF(ISNA(HLOOKUP(AO41,$AU$4:$BD$4,1,0)),0,1)),0))) -> 1 | CL41: =N41>=CS$7 -> TRUE | CM41: =O41>=CM$7 -> TRUE | CN41: =P41>=CN$7 -> TRUE | CO41: =Q41>=CO$7 -> FALSE | CQ41: =AD41>=CQ$7 -> FALSE | CR41: =COUNTIF(CL41:CQ41,TRUE) -> 3 | CS41: =N41>=CS$7 -> TRUE | CT41: =O41>=CT$7 -> TRUE | CU41: =P41>=CU$7 -> TRUE | CV41: =Q41>=CV$7 -> FALSE | CX41: =AD41>=CX$7 -> FALSE | CY41: =COUNTIF(CS41:CX41,TRUE) -> 3 | CZ41: =IF($F41="","",IF(CR41=$CM$5,1,0)) | DA41: =IF($F41="","",IF(AND(CY41=$CM$5,CY41-CR41<=$CT$5),1,0))
B42: =IF(F42="","",ROW()-30) | N42: =IF($F42="","",'ריכוז גיליונות עזר'!H42) | O42: =IF($F42="","",'ריכוז גיליונות עזר'!K42) | P42: =IF($F42="","",'ריכוז גיליונות עזר'!L42) | R42: =IF($F42="","",IF(P42=0,1,IF(Q42<N42,$AR$1,N42/Q42))) | S42: =IF($F42="","",IF(OR(AND(R42=1,P42=1),R42=$AR$1),$AR$1,IF(OR(R42>=$R$5,N42>=$Q$5),1,0))) | AE42: =IF($F42="","",IF(OR(CZ42=1,AND(X42=1,Y42=1,DA42=1)),1,0)) | AO42: =IF($F42="","",IF(AK42=1,1,IF(AQ42<>1,$AR$1,IF(SUMPRODUCT(--(G42:AJ42>=$G$5:$AJ$5)*($G$5:$AJ$5<>"")*($G$4:$AJ$4=1))=COUNTIF($G$4:$AJ$4,1),1,0)))) | AQ42: =IF(OR(SUM(AT42:CA42)<>COUNT(AT42:CA42),SUMPRODUCT(--(G42:AJ42=$AR$1))<>0),0,1) -> 0 | AR42: =IF($F42="","",AR$30) | AS42: =IF($F42="","",AS$30) | AT42: =IF(OR(G$30="",G$4=99),1,IF(G42="",0,IFERROR(CHOOSE(AT$28,IF(ISNA(MATCH(G42,$AR$30:$AS$30,0)),0,1),IF(ISNUMBER(G42),1,0),IF(G42=TRUNC(G42),1,0),IF(AND(G42*1=G42,G42>=0),1,0),IF(AND(G42=TRUNC(G42),G42>=0),1,0),IF(AND(G42*1=G42,G42>0),1,0),IF(AND(G42=TRUNC(G42),G42>0),1,0),1,IF(ISNA(HLOOKUP(G42,$AU$4:$BD$4,1,0)),0,1)),0))) -> 0 | AU42: =IF(OR(H$30="",H$4=99),1,IF(H42="",0,IFERROR(CHOOSE(AU$28,IF(ISNA(MATCH(H42,$AR$30:$AS$30,0)),0,1),IF(ISNUMBER(H42),1,0),IF(H42=TRUNC(H42),1,0),IF(AND(H42*1=H42,H42>=0),1,0),IF(AND(H42=TRUNC(H42),H42>=0),1,0),IF(AND(H42*1=H42,H42>0),1,0),IF(AND(H42=TRUNC(H42),H42>0),1,0),1,IF(ISNA(HLOOKUP(H42,$AU$4:$BD$4,1,0)),0,1)),0))) -> 0 | AV42: =IF(OR(I$30="",I$4=99),1,IF(I42="",0,IFERROR(CHOOSE(AV$28,IF(ISNA(MATCH(I42,$AR$30:$AS$30,0)),0,1),IF(ISNUMBER(I42),1,0),IF(I42=TRUNC(I42),1,0),IF(AND(I42*1=I42,I42>=0),1,0),IF(AND(I42=TRUNC(I42),I42>=0),1,0),IF(AND(I42*1=I42,I42>0),1,0),IF(AND(I42=TRUNC(I42),I42>0),1,0),1,IF(ISNA(HLOOKUP(I42,$AU$4:$BD$4,1,0)),0,1)),0))) -> 0 | AW42: =IF(OR(J$30="",J$4=99),1,IF(J42="",0,IFERROR(CHOOSE(AW$28,IF(ISNA(MATCH(J42,$AR$30:$AS$30,0)),0,1),IF(ISNUMBER(J42),1,0),IF(J42=TRUNC(J42),1,0),IF(AND(J42*1=J42,J42>=0),1,0),IF(AND(J42=TRUNC(J42),J42>=0),1,0),IF(AND(J42*1=J42,J42>0),1,0),IF(AND(J42=TRUNC(J42),J42>0),1,0),1,IF(ISNA(HLOOKUP(J42,$AU$4:$BD$4,1,0)),0,1)),0))) -> 0 | AX42: =IF(OR(K$30="",K$4=99),1,IF(K42="",0,IFERROR(CHOOSE(AX$28,IF(ISNA(MATCH(K42,$AR$30:$AS$30,0)),0,1),IF(ISNUMBER(K42),1,0),IF(K42=TRUNC(K42),1,0),IF(AND(K42*1=K42,K42>=0),1,0),IF(AND(K42=TRUNC(K42),K42>=0),1,0),IF(AND(K42*1=K42,K42>0),1,0),IF(AND(K42=TRUNC(K42),K42>0),1,0),1,IF(ISNA(HLOOKUP(K42,$AU$4:$BD$4,1,0)),0,1)),0))) -> 0 | AY42: =IF(OR(L$30="",L$4=99),1,IF(L42="",0,IFERROR(CHOOSE(AY$28,IF(ISNA(MATCH(L42,$AR$30:$AS$30,0)),0,1),IF(ISNUMBER(L42),1,0),IF(L42=TRUNC(L42),1,0),IF(AND(L42*1=L42,L42>=0),1,0),IF(AND(L42=TRUNC(L42),L42>=0),1,0),IF(AND(L42*1=L42,L42>0),1,0),IF(AND(L42=TRUNC(L42),L42>0),1,0),1,IF(ISNA(HLOOKUP(L42,$AU$4:$BD$4,1,0)),0,1)),0))) -> 0 | AZ42: =IF(OR(M$30="",M$4=99),1,IF(M42="",0,IFERROR(CHOOSE(AZ$28,IF(ISNA(MATCH(M42,$AR$30:$AS$30,0)),0,1),IF(ISNUMBER(M42),1,0),IF(M42=TRUNC(M42),1,0),IF(AND(M42*1=M42,M42>=0),1,0),IF(AND(M42=TRUNC(M42),M42>=0),1,0),IF(AND(M42*1=M42,M42>0),1,0),IF(AND(M42=TRUNC(M42),M42>0),1,0),1,IF(ISNA(HLOOKUP(M42,$AU$4:$BD$4,1,0)),0,1)),0))) -> 0 | BA42: =IF(OR(N$30="",N$4=99),1,IF(N42="",0,IFERROR(CHOOSE(BA$28,IF(ISNA(MATCH(N42,$AR$30:$AS$30,0)),0,1),IF(ISNUMBER(N42),1,0),IF(N42=TRUNC(N42),1,0),IF(AND(N42*1=N42,N42>=0),1,0),IF(AND(N42=TRUNC(N42),N42>=0),1,0),IF(AND(N42*1=N42,N42>0),1,0),IF(AND(N42=TRUNC(N42),N42>0),1,0),1,IF(ISNA(HLOOKUP(N42,$AU$4:$BD$4,1,0)),0,1)),0))) -> 1 | ... BH42: =IF(OR(U$30="",U$4=99),1,IF(U42="",0,IFERROR(CHOOSE(BH$28,IF(ISNA(MATCH(U42,$AR$30:$AS$30,0)),0,1),IF(ISNUMBER(U42),1,0),IF(U42=TRUNC(U42),1,0),IF(AND(U42*1=U42,U42>=0),1,0),IF(AND(U42=TRUNC(U42),U42>=0),1,0),IF(AND(U42*1=U42,U42>0),1,0),IF(AND(U42=TRUNC(U42),U42>0),1,0),1,IF(ISNA(HLOOKUP(U42,$AU$4:$BD$4,1,0)),0,1)),0))) -> 0 | BI42: =IF(OR(V$30="",W$4=99),1,IF(V42="",0,IFERROR(CHOOSE(BI$28,IF(ISNA(MATCH(V42,$AR$30:$AS$30,0)),0,1),IF(ISNUMBER(V42),1,0),IF(V42=TRUNC(V42),1,0),IF(AND(V42*1=V42,V42>=0),1,0),IF(AND(V42=TRUNC(V42),V42>=0),1,0),IF(AND(V42*1=V42,V42>0),1,0),IF(AND(V42=TRUNC(V42),V42>0),1,0),1,IF(ISNA(HLOOKUP(V42,$AU$4:$BD$4,1,0)),0,1)),0))) -> 0 | BJ42: =IF(OR(W$30="",X$4=99),1,IF(W42="",0,IFERROR(CHOOSE(BJ$28,IF(ISNA(MATCH(W42,$AR$30:$AS$30,0)),0,1),IF(ISNUMBER(W42),1,0),IF(W42=TRUNC(W42),1,0),IF(AND(W42*1=W42,W42>=0),1,0),IF(AND(W42=TRUNC(W42),W42>=0),1,0),IF(AND(W42*1=W42,W42>0),1,0),IF(AND(W42=TRUNC(W42),W42>0),1,0),1,IF(ISNA(HLOOKUP(W42,$AU$4:$BD$4,1,0)),0,1)),0))) -> 1 | BK42: =IF(OR(X$30="",X$4=99),1,IF(X42="",0,IFERROR(CHOOSE(BK$28,IF(ISNA(MATCH(X42,$AR$30:$AS$30,0)),0,1),IF(ISNUMBER(X42),1,0),IF(X42=TRUNC(X42),1,0),IF(AND(X42*1=X42,X42>=0),1,0),IF(AND(X42=TRUNC(X42),X42>=0),1,0),IF(AND(X42*1=X42,X42>0),1,0),IF(AND(X42=TRUNC(X42),X42>0),1,0),1,IF(ISNA(HLOOKUP(X42,$AU$4:$BD$4,1,0)),0,1)),0))) -> 1 | BL42: =IF(OR(Y$30="",Y$4=99),1,IF(Y42="",0,IFERROR(CHOOSE(BL$28,IF(ISNA(MATCH(Y42,$AR$30:$AS$30,0)),0,1),IF(ISNUMBER(Y42),1,0),IF(Y42=TRUNC(Y42),1,0),IF(AND(Y42*1=Y42,Y42>=0),1,0),IF(AND(Y42=TRUNC(Y42),Y42>=0),1,0),IF(AND(Y42*1=Y42,Y42>0),1,0),IF(AND(Y42=TRUNC(Y42),Y42>0),1,0),1,IF(ISNA(HLOOKUP(Y42,$AU$4:$BD$4,1,0)),0,1)),0))) -> 1 | BM42: =IF(OR(Z$30="",Z$4=99),1,IF(Z42="",0,IFERROR(CHOOSE(BM$28,IF(ISNA(MATCH(Z42,$AR$30:$AS$30,0)),0,1),IF(ISNUMBER(Z42),1,0),IF(Z42=TRUNC(Z42),1,0),IF(AND(Z42*1=Z42,Z42>=0),1,0),IF(AND(Z42=TRUNC(Z42),Z42>=0),1,0),IF(AND(Z42*1=Z42,Z42>0),1,0),IF(AND(Z42=TRUNC(Z42),Z42>0),1,0),1,IF(ISNA(HLOOKUP(Z42,$AU$4:$BD$4,1,0)),0,1)),0))) -> 1 | BN42: =IF(OR(AA$30="",AA$4=99),1,IF(AA42="",0,IFERROR(CHOOSE(BN$28,IF(ISNA(MATCH(AA42,$AR$30:$AS$30,0)),0,1),IF(ISNUMBER(AA42),1,0),IF(AA42=TRUNC(AA42),1,0),IF(AND(AA42*1=AA42,AA42>=0),1,0),IF(AND(AA42=TRUNC(AA42),AA42>=0),1,0),IF(AND(AA42*1=AA42,AA42>0),1,0),IF(AND(AA42=TRUNC(AA42),AA42>0),1,0),1,IF(ISNA(HLOOKUP(AA42,$AU$4:$BD$4,1,0)),0,1)),0))) -> 1 | BO42: =IF(OR(AB$30="",AB$4=99),1,IF(AB42="",0,IFERROR(CHOOSE(BO$28,IF(ISNA(MATCH(AB42,$AR$30:$AS$30,0)),0,1),IF(ISNUMBER(AB42),1,0),IF(AB42=TRUNC(AB42),1,0),IF(AND(AB42*1=AB42,AB42>=0),1,0),IF(AND(AB42=TRUNC(AB42),AB42>=0),1,0),IF(AND(AB42*1=AB42,AB42>0),1,0),IF(AND(AB42=TRUNC(AB42),AB42>0),1,0),1,IF(ISNA(HLOOKUP(AB42,$AU$4:$BD$4,1,0)),0,1)),0))) -> 1 | BP42: =IF(OR(AC$30="",AC$4=99),1,IF(AC42="",0,IFERROR(CHOOSE(BP$28,IF(ISNA(MATCH(AC42,$AR$30:$AS$30,0)),0,1),IF(ISNUMBER(AC42),1,0),IF(AC42=TRUNC(AC42),1,0),IF(AND(AC42*1=AC42,AC42>=0),1,0),IF(AND(AC42=TRUNC(AC42),AC42>=0),1,0),IF(AND(AC42*1=AC42,AC42>0),1,0),IF(AND(AC42=TRUNC(AC42),AC42>0),1,0),1,IF(ISNA(HLOOKUP(AC42,$AU$4:$BD$4,1,0)),0,1)),0))) -> 1 | BQ42: =IF(OR(AD$30="",AD$4=99),1,IF(AD42="",0,IFERROR(CHOOSE(BQ$28,IF(ISNA(MATCH(AD42,$AR$30:$AS$30,0)),0,1),IF(ISNUMBER(AD42),1,0),IF(AD42=TRUNC(AD42),1,0),IF(AND(AD42*1=AD42,AD42>=0),1,0),IF(AND(AD42=TRUNC(AD42),AD42>=0),1,0),IF(AND(AD42*1=AD42,AD42>0),1,0),IF(AND(AD42=TRUNC(AD42),AD42>0),1,0),1,IF(ISNA(HLOOKUP(AD42,$AU$4:$BD$4,1,0)),0,1)),0))) -> 0 | BR42: =IF(OR(AE$30="",AE$4=99),1,IF(AE42="",0,IFERROR(CHOOSE(BR$28,IF(ISNA(MATCH(AE42,$AR$30:$AS$30,0)),0,1),IF(ISNUMBER(AE42),1,0),IF(AE42=TRUNC(AE42),1,0),IF(AND(AE42*1=AE42,AE42>=0),1,0),IF(AND(AE42=TRUNC(AE42),AE42>=0),1,0),IF(AND(AE42*1=AE42,AE42>0),1,0),IF(AND(AE42=TRUNC(AE42),AE42>0),1,0),1,IF(ISNA(HLOOKUP(AE42,$AU$4:$BD$4,1,0)),0,1)),0))) -> 1 | ... BU42: =IF(OR(AH$30="",AH$4=99),1,IF(AH42="",0,IFERROR(CHOOSE(BU$28,IF(ISNA(MATCH(AH42,$AR$30:$AS$30,0)),0,1),IF(ISNUMBER(AH42),1,0),IF(AH42=TRUNC(AH42),1,0),IF(AND(AH42*1=AH42,AH42>=0),1,0),IF(AND(AH42=TRUNC(AH42),AH42>=0),1,0),IF(AND(AH42*1=AH42,AH42>0),1,0),IF(AND(AH42=TRUNC(AH42),AH42>0),1,0),1,IF(ISNA(HLOOKUP(AH42,$AU$4:$BD$4,1,0)),0,1)),0))) -> 0 | BV42: =IF(OR(AJ$30="",AJ$4=99),1,IF(AJ42="",0,IFERROR(CHOOSE(BV$28,IF(ISNA(MATCH(AJ42,$AR$30:$AS$30,0)),0,1),IF(ISNUMBER(AJ42),1,0),IF(AJ42=TRUNC(AJ42),1,0),IF(AND(AJ42*1=AJ42,AJ42>=0),1,0),IF(AND(AJ42=TRUNC(AJ42),AJ42>=0),1,0),IF(AND(AJ42*1=AJ42,AJ42>0),1,0),IF(AND(AJ42=TRUNC(AJ42),AJ42>0),1,0),1,IF(ISNA(HLOOKUP(AJ42,$AU$4:$BD$4,1,0)),0,1)),0))) -> 0 | BW42: =IF(OR(AK$30="",AK$4=99),1,IF(AK42="",0,IFERROR(CHOOSE(BW$28,IF(ISNA(MATCH(AK42,$AR$30:$AS$30,0)),0,1),IF(ISNUMBER(AK42),1,0),IF(AK42=TRUNC(AK42),1,0),IF(AND(AK42*1=AK42,AK42>=0),1,0),IF(AND(AK42=TRUNC(AK42),AK42>=0),1,0),IF(AND(AK42*1=AK42,AK42>0),1,0),IF(AND(AK42=TRUNC(AK42),AK42>0),1,0),1,IF(ISNA(HLOOKUP(AK42,$AU$4:$BD$4,1,0)),0,1)),0))) -> 1 | BX42: =IF(OR(AL$30="",AL$4=99),1,IF(AL42="",0,IFERROR(CHOOSE(BX$28,IF(ISNA(MATCH(AL42,$AR$30:$AS$30,0)),0,1),IF(ISNUMBER(AL42),1,0),IF(AL42=TRUNC(AL42),1,0),IF(AND(AL42*1=AL42,AL42>=0),1,0),IF(AND(AL42=TRUNC(AL42),AL42>=0),1,0),IF(AND(AL42*1=AL42,AL42>0),1,0),IF(AND(AL42=TRUNC(AL42),AL42>0),1,0),1,IF(ISNA(HLOOKUP(AL42,$AU$4:$BD$4,1,0)),0,1)),0))) -> 1 | BY42: =IF(OR(AM$30="",AM$4=99),1,IF(AM42="",0,IFERROR(CHOOSE(BY$28,IF(ISNA(MATCH(AM42,$AR$30:$AS$30,0)),0,1),IF(ISNUMBER(AM42),1,0),IF(AM42=TRUNC(AM42),1,0),IF(AND(AM42*1=AM42,AM42>=0),1,0),IF(AND(AM42=TRUNC(AM42),AM42>=0),1,0),IF(AND(AM42*1=AM42,AM42>0),1,0),IF(AND(AM42=TRUNC(AM42),AM42>0),1,0),1,IF(ISNA(HLOOKUP(AM42,$AU$4:$BD$4,1,0)),0,1)),0))) -> 1 | BZ42: =IF(OR(AN$30="",AN$4=99),1,IF(AN42="",0,IFERROR(CHOOSE(BZ$28,IF(ISNA(MATCH(AN42,$AR$30:$AS$30,0)),0,1),IF(ISNUMBER(AN42),1,0),IF(AN42=TRUNC(AN42),1,0),IF(AND(AN42*1=AN42,AN42>=0),1,0),IF(AND(AN42=TRUNC(AN42),AN42>=0),1,0),IF(AND(AN42*1=AN42,AN42>0),1,0),IF(AND(AN42=TRUNC(AN42),AN42>0),1,0),1,IF(ISNA(HLOOKUP(AN42,$AU$4:$BD$4,1,0)),0,1)),0))) -> 1 | CA42: =IF(OR(AO$30="",AO$4=99),1,IF(AO42="",0,IFERROR(CHOOSE(CA$28,IF(ISNA(MATCH(AO42,$AR$30:$AS$30,0)),0,1),IF(ISNUMBER(AO42),1,0),IF(AO42=TRUNC(AO42),1,0),IF(AND(AO42*1=AO42,AO42>=0),1,0),IF(AND(AO42=TRUNC(AO42),AO42>=0),1,0),IF(AND(AO42*1=AO42,AO42>0),1,0),IF(AND(AO42=TRUNC(AO42),AO42>0),1,0),1,IF(ISNA(HLOOKUP(AO42,$AU$4:$BD$4,1,0)),0,1)),0))) -> 1 | CL42: =N42>=CS$7 -> TRUE | CM42: =O42>=CM$7 -> TRUE | CN42: =P42>=CN$7 -> TRUE | CO42: =Q42>=CO$7 -> FALSE | CQ42: =AD42>=CQ$7 -> FALSE | CR42: =COUNTIF(CL42:CQ42,TRUE) -> 3 | CS42: =N42>=CS$7 -> TRUE | CT42: =O42>=CT$7 -> TRUE | CU42: =P42>=CU$7 -> TRUE | CV42: =Q42>=CV$7 -> FALSE | CX42: =AD42>=CX$7 -> FALSE | CY42: =COUNTIF(CS42:CX42,TRUE) -> 3 | CZ42: =IF($F42="","",IF(CR42=$CM$5,1,0)) | DA42: =IF($F42="","",IF(AND(CY42=$CM$5,CY42-CR42<=$CT$5),1,0))
B43: =IF(F43="","",ROW()-30) | N43: =IF($F43="","",'ריכוז גיליונות עזר'!H43) | O43: =IF($F43="","",'ריכוז גיליונות עזר'!K43) | P43: =IF($F43="","",'ריכוז גיליונות עזר'!L43) | R43: =IF($F43="","",IF(P43=0,1,IF(Q43<N43,$AR$1,N43/Q43))) | S43: =IF($F43="","",IF(OR(AND(R43=1,P43=1),R43=$AR$1),$AR$1,IF(OR(R43>=$R$5,N43>=$Q$5),1,0))) | AE43: =IF($F43="","",IF(OR(CZ43=1,AND(X43=1,Y43=1,DA43=1)),1,0)) | AO43: =IF($F43="","",IF(AK43=1,1,IF(AQ43<>1,$AR$1,IF(SUMPRODUCT(--(G43:AJ43>=$G$5:$AJ$5)*($G$5:$AJ$5<>"")*($G$4:$AJ$4=1))=COUNTIF($G$4:$AJ$4,1),1,0)))) | AQ43: =IF(OR(SUM(AT43:CA43)<>COUNT(AT43:CA43),SUMPRODUCT(--(G43:AJ43=$AR$1))<>0),0,1) -> 0 | AR43: =IF($F43="","",AR$30) | AS43: =IF($F43="","",AS$30) | AT43: =IF(OR(G$30="",G$4=99),1,IF(G43="",0,IFERROR(CHOOSE(AT$28,IF(ISNA(MATCH(G43,$AR$30:$AS$30,0)),0,1),IF(ISNUMBER(G43),1,0),IF(G43=TRUNC(G43),1,0),IF(AND(G43*1=G43,G43>=0),1,0),IF(AND(G43=TRUNC(G43),G43>=0),1,0),IF(AND(G43*1=G43,G43>0),1,0),IF(AND(G43=TRUNC(G43),G43>0),1,0),1,IF(ISNA(HLOOKUP(G43,$AU$4:$BD$4,1,0)),0,1)),0))) -> 0 | AU43: =IF(OR(H$30="",H$4=99),1,IF(H43="",0,IFERROR(CHOOSE(AU$28,IF(ISNA(MATCH(H43,$AR$30:$AS$30,0)),0,1),IF(ISNUMBER(H43),1,0),IF(H43=TRUNC(H43),1,0),IF(AND(H43*1=H43,H43>=0),1,0),IF(AND(H43=TRUNC(H43),H43>=0),1,0),IF(AND(H43*1=H43,H43>0),1,0),IF(AND(H43=TRUNC(H43),H43>0),1,0),1,IF(ISNA(HLOOKUP(H43,$AU$4:$BD$4,1,0)),0,1)),0))) -> 0 | AV43: =IF(OR(I$30="",I$4=99),1,IF(I43="",0,IFERROR(CHOOSE(AV$28,IF(ISNA(MATCH(I43,$AR$30:$AS$30,0)),0,1),IF(ISNUMBER(I43),1,0),IF(I43=TRUNC(I43),1,0),IF(AND(I43*1=I43,I43>=0),1,0),IF(AND(I43=TRUNC(I43),I43>=0),1,0),IF(AND(I43*1=I43,I43>0),1,0),IF(AND(I43=TRUNC(I43),I43>0),1,0),1,IF(ISNA(HLOOKUP(I43,$AU$4:$BD$4,1,0)),0,1)),0))) -> 0 | AW43: =IF(OR(J$30="",J$4=99),1,IF(J43="",0,IFERROR(CHOOSE(AW$28,IF(ISNA(MATCH(J43,$AR$30:$AS$30,0)),0,1),IF(ISNUMBER(J43),1,0),IF(J43=TRUNC(J43),1,0),IF(AND(J43*1=J43,J43>=0),1,0),IF(AND(J43=TRUNC(J43),J43>=0),1,0),IF(AND(J43*1=J43,J43>0),1,0),IF(AND(J43=TRUNC(J43),J43>0),1,0),1,IF(ISNA(HLOOKUP(J43,$AU$4:$BD$4,1,0)),0,1)),0))) -> 0 | AX43: =IF(OR(K$30="",K$4=99),1,IF(K43="",0,IFERROR(CHOOSE(AX$28,IF(ISNA(MATCH(K43,$AR$30:$AS$30,0)),0,1),IF(ISNUMBER(K43),1,0),IF(K43=TRUNC(K43),1,0),IF(AND(K43*1=K43,K43>=0),1,0),IF(AND(K43=TRUNC(K43),K43>=0),1,0),IF(AND(K43*1=K43,K43>0),1,0),IF(AND(K43=TRUNC(K43),K43>0),1,0),1,IF(ISNA(HLOOKUP(K43,$AU$4:$BD$4,1,0)),0,1)),0))) -> 0 | AY43: =IF(OR(L$30="",L$4=99),1,IF(L43="",0,IFERROR(CHOOSE(AY$28,IF(ISNA(MATCH(L43,$AR$30:$AS$30,0)),0,1),IF(ISNUMBER(L43),1,0),IF(L43=TRUNC(L43),1,0),IF(AND(L43*1=L43,L43>=0),1,0),IF(AND(L43=TRUNC(L43),L43>=0),1,0),IF(AND(L43*1=L43,L43>0),1,0),IF(AND(L43=TRUNC(L43),L43>0),1,0),1,IF(ISNA(HLOOKUP(L43,$AU$4:$BD$4,1,0)),0,1)),0))) -> 0 | AZ43: =IF(OR(M$30="",M$4=99),1,IF(M43="",0,IFERROR(CHOOSE(AZ$28,IF(ISNA(MATCH(M43,$AR$30:$AS$30,0)),0,1),IF(ISNUMBER(M43),1,0),IF(M43=TRUNC(M43),1,0),IF(AND(M43*1=M43,M43>=0),1,0),IF(AND(M43=TRUNC(M43),M43>=0),1,0),IF(AND(M43*1=M43,M43>0),1,0),IF(AND(M43=TRUNC(M43),M43>0),1,0),1,IF(ISNA(HLOOKUP(M43,$AU$4:$BD$4,1,0)),0,1)),0))) -> 0 | BA43: =IF(OR(N$30="",N$4=99),1,IF(N43="",0,IFERROR(CHOOSE(BA$28,IF(ISNA(MATCH(N43,$AR$30:$AS$30,0)),0,1),IF(ISNUMBER(N43),1,0),IF(N43=TRUNC(N43),1,0),IF(AND(N43*1=N43,N43>=0),1,0),IF(AND(N43=TRUNC(N43),N43>=0),1,0),IF(AND(N43*1=N43,N43>0),1,0),IF(AND(N43=TRUNC(N43),N43>0),1,0),1,IF(ISNA(HLOOKUP(N43,$AU$4:$BD$4,1,0)),0,1)),0))) -> 1 | ... BH43: =IF(OR(U$30="",U$4=99),1,IF(U43="",0,IFERROR(CHOOSE(BH$28,IF(ISNA(MATCH(U43,$AR$30:$AS$30,0)),0,1),IF(ISNUMBER(U43),1,0),IF(U43=TRUNC(U43),1,0),IF(AND(U43*1=U43,U43>=0),1,0),IF(AND(U43=TRUNC(U43),U43>=0),1,0),IF(AND(U43*1=U43,U43>0),1,0),IF(AND(U43=TRUNC(U43),U43>0),1,0),1,IF(ISNA(HLOOKUP(U43,$AU$4:$BD$4,1,0)),0,1)),0))) -> 0 | BI43: =IF(OR(V$30="",W$4=99),1,IF(V43="",0,IFERROR(CHOOSE(BI$28,IF(ISNA(MATCH(V43,$AR$30:$AS$30,0)),0,1),IF(ISNUMBER(V43),1,0),IF(V43=TRUNC(V43),1,0),IF(AND(V43*1=V43,V43>=0),1,0),IF(AND(V43=TRUNC(V43),V43>=0),1,0),IF(AND(V43*1=V43,V43>0),1,0),IF(AND(V43=TRUNC(V43),V43>0),1,0),1,IF(ISNA(HLOOKUP(V43,$AU$4:$BD$4,1,0)),0,1)),0))) -> 0 | BJ43: =IF(OR(W$30="",X$4=99),1,IF(W43="",0,IFERROR(CHOOSE(BJ$28,IF(ISNA(MATCH(W43,$AR$30:$AS$30,0)),0,1),IF(ISNUMBER(W43),1,0),IF(W43=TRUNC(W43),1,0),IF(AND(W43*1=W43,W43>=0),1,0),IF(AND(W43=TRUNC(W43),W43>=0),1,0),IF(AND(W43*1=W43,W43>0),1,0),IF(AND(W43=TRUNC(W43),W43>0),1,0),1,IF(ISNA(HLOOKUP(W43,$AU$4:$BD$4,1,0)),0,1)),0))) -> 1 | BK43: =IF(OR(X$30="",X$4=99),1,IF(X43="",0,IFERROR(CHOOSE(BK$28,IF(ISNA(MATCH(X43,$AR$30:$AS$30,0)),0,1),IF(ISNUMBER(X43),1,0),IF(X43=TRUNC(X43),1,0),IF(AND(X43*1=X43,X43>=0),1,0),IF(AND(X43=TRUNC(X43),X43>=0),1,0),IF(AND(X43*1=X43,X43>0),1,0),IF(AND(X43=TRUNC(X43),X43>0),1,0),1,IF(ISNA(HLOOKUP(X43,$AU$4:$BD$4,1,0)),0,1)),0))) -> 1 | BL43: =IF(OR(Y$30="",Y$4=99),1,IF(Y43="",0,IFERROR(CHOOSE(BL$28,IF(ISNA(MATCH(Y43,$AR$30:$AS$30,0)),0,1),IF(ISNUMBER(Y43),1,0),IF(Y43=TRUNC(Y43),1,0),IF(AND(Y43*1=Y43,Y43>=0),1,0),IF(AND(Y43=TRUNC(Y43),Y43>=0),1,0),IF(AND(Y43*1=Y43,Y43>0),1,0),IF(AND(Y43=TRUNC(Y43),Y43>0),1,0),1,IF(ISNA(HLOOKUP(Y43,$AU$4:$BD$4,1,0)),0,1)),0))) -> 1 | BM43: =IF(OR(Z$30="",Z$4=99),1,IF(Z43="",0,IFERROR(CHOOSE(BM$28,IF(ISNA(MATCH(Z43,$AR$30:$AS$30,0)),0,1),IF(ISNUMBER(Z43),1,0),IF(Z43=TRUNC(Z43),1,0),IF(AND(Z43*1=Z43,Z43>=0),1,0),IF(AND(Z43=TRUNC(Z43),Z43>=0),1,0),IF(AND(Z43*1=Z43,Z43>0),1,0),IF(AND(Z43=TRUNC(Z43),Z43>0),1,0),1,IF(ISNA(HLOOKUP(Z43,$AU$4:$BD$4,1,0)),0,1)),0))) -> 1 | BN43: =IF(OR(AA$30="",AA$4=99),1,IF(AA43="",0,IFERROR(CHOOSE(BN$28,IF(ISNA(MATCH(AA43,$AR$30:$AS$30,0)),0,1),IF(ISNUMBER(AA43),1,0),IF(AA43=TRUNC(AA43),1,0),IF(AND(AA43*1=AA43,AA43>=0),1,0),IF(AND(AA43=TRUNC(AA43),AA43>=0),1,0),IF(AND(AA43*1=AA43,AA43>0),1,0),IF(AND(AA43=TRUNC(AA43),AA43>0),1,0),1,IF(ISNA(HLOOKUP(AA43,$AU$4:$BD$4,1,0)),0,1)),0))) -> 1 | BO43: =IF(OR(AB$30="",AB$4=99),1,IF(AB43="",0,IFERROR(CHOOSE(BO$28,IF(ISNA(MATCH(AB43,$AR$30:$AS$30,0)),0,1),IF(ISNUMBER(AB43),1,0),IF(AB43=TRUNC(AB43),1,0),IF(AND(AB43*1=AB43,AB43>=0),1,0),IF(AND(AB43=TRUNC(AB43),AB43>=0),1,0),IF(AND(AB43*1=AB43,AB43>0),1,0),IF(AND(AB43=TRUNC(AB43),AB43>0),1,0),1,IF(ISNA(HLOOKUP(AB43,$AU$4:$BD$4,1,0)),0,1)),0))) -> 1 | BP43: =IF(OR(AC$30="",AC$4=99),1,IF(AC43="",0,IFERROR(CHOOSE(BP$28,IF(ISNA(MATCH(AC43,$AR$30:$AS$30,0)),0,1),IF(ISNUMBER(AC43),1,0),IF(AC43=TRUNC(AC43),1,0),IF(AND(AC43*1=AC43,AC43>=0),1,0),IF(AND(AC43=TRUNC(AC43),AC43>=0),1,0),IF(AND(AC43*1=AC43,AC43>0),1,0),IF(AND(AC43=TRUNC(AC43),AC43>0),1,0),1,IF(ISNA(HLOOKUP(AC43,$AU$4:$BD$4,1,0)),0,1)),0))) -> 1 | BQ43: =IF(OR(AD$30="",AD$4=99),1,IF(AD43="",0,IFERROR(CHOOSE(BQ$28,IF(ISNA(MATCH(AD43,$AR$30:$AS$30,0)),0,1),IF(ISNUMBER(AD43),1,0),IF(AD43=TRUNC(AD43),1,0),IF(AND(AD43*1=AD43,AD43>=0),1,0),IF(AND(AD43=TRUNC(AD43),AD43>=0),1,0),IF(AND(AD43*1=AD43,AD43>0),1,0),IF(AND(AD43=TRUNC(AD43),AD43>0),1,0),1,IF(ISNA(HLOOKUP(AD43,$AU$4:$BD$4,1,0)),0,1)),0))) -> 0 | BR43: =IF(OR(AE$30="",AE$4=99),1,IF(AE43="",0,IFERROR(CHOOSE(BR$28,IF(ISNA(MATCH(AE43,$AR$30:$AS$30,0)),0,1),IF(ISNUMBER(AE43),1,0),IF(AE43=TRUNC(AE43),1,0),IF(AND(AE43*1=AE43,AE43>=0),1,0),IF(AND(AE43=TRUNC(AE43),AE43>=0),1,0),IF(AND(AE43*1=AE43,AE43>0),1,0),IF(AND(AE43=TRUNC(AE43),AE43>0),1,0),1,IF(ISNA(HLOOKUP(AE43,$AU$4:$BD$4,1,0)),0,1)),0))) -> 1 | ... BU43: =IF(OR(AH$30="",AH$4=99),1,IF(AH43="",0,IFERROR(CHOOSE(BU$28,IF(ISNA(MATCH(AH43,$AR$30:$AS$30,0)),0,1),IF(ISNUMBER(AH43),1,0),IF(AH43=TRUNC(AH43),1,0),IF(AND(AH43*1=AH43,AH43>=0),1,0),IF(AND(AH43=TRUNC(AH43),AH43>=0),1,0),IF(AND(AH43*1=AH43,AH43>0),1,0),IF(AND(AH43=TRUNC(AH43),AH43>0),1,0),1,IF(ISNA(HLOOKUP(AH43,$AU$4:$BD$4,1,0)),0,1)),0))) -> 0 | BV43: =IF(OR(AJ$30="",AJ$4=99),1,IF(AJ43="",0,IFERROR(CHOOSE(BV$28,IF(ISNA(MATCH(AJ43,$AR$30:$AS$30,0)),0,1),IF(ISNUMBER(AJ43),1,0),IF(AJ43=TRUNC(AJ43),1,0),IF(AND(AJ43*1=AJ43,AJ43>=0),1,0),IF(AND(AJ43=TRUNC(AJ43),AJ43>=0),1,0),IF(AND(AJ43*1=AJ43,AJ43>0),1,0),IF(AND(AJ43=TRUNC(AJ43),AJ43>0),1,0),1,IF(ISNA(HLOOKUP(AJ43,$AU$4:$BD$4,1,0)),0,1)),0))) -> 0 | BW43: =IF(OR(AK$30="",AK$4=99),1,IF(AK43="",0,IFERROR(CHOOSE(BW$28,IF(ISNA(MATCH(AK43,$AR$30:$AS$30,0)),0,1),IF(ISNUMBER(AK43),1,0),IF(AK43=TRUNC(AK43),1,0),IF(AND(AK43*1=AK43,AK43>=0),1,0),IF(AND(AK43=TRUNC(AK43),AK43>=0),1,0),IF(AND(AK43*1=AK43,AK43>0),1,0),IF(AND(AK43=TRUNC(AK43),AK43>0),1,0),1,IF(ISNA(HLOOKUP(AK43,$AU$4:$BD$4,1,0)),0,1)),0))) -> 1 | BX43: =IF(OR(AL$30="",AL$4=99),1,IF(AL43="",0,IFERROR(CHOOSE(BX$28,IF(ISNA(MATCH(AL43,$AR$30:$AS$30,0)),0,1),IF(ISNUMBER(AL43),1,0),IF(AL43=TRUNC(AL43),1,0),IF(AND(AL43*1=AL43,AL43>=0),1,0),IF(AND(AL43=TRUNC(AL43),AL43>=0),1,0),IF(AND(AL43*1=AL43,AL43>0),1,0),IF(AND(AL43=TRUNC(AL43),AL43>0),1,0),1,IF(ISNA(HLOOKUP(AL43,$AU$4:$BD$4,1,0)),0,1)),0))) -> 1 | BY43: =IF(OR(AM$30="",AM$4=99),1,IF(AM43="",0,IFERROR(CHOOSE(BY$28,IF(ISNA(MATCH(AM43,$AR$30:$AS$30,0)),0,1),IF(ISNUMBER(AM43),1,0),IF(AM43=TRUNC(AM43),1,0),IF(AND(AM43*1=AM43,AM43>=0),1,0),IF(AND(AM43=TRUNC(AM43),AM43>=0),1,0),IF(AND(AM43*1=AM43,AM43>0),1,0),IF(AND(AM43=TRUNC(AM43),AM43>0),1,0),1,IF(ISNA(HLOOKUP(AM43,$AU$4:$BD$4,1,0)),0,1)),0))) -> 1 | BZ43: =IF(OR(AN$30="",AN$4=99),1,IF(AN43="",0,IFERROR(CHOOSE(BZ$28,IF(ISNA(MATCH(AN43,$AR$30:$AS$30,0)),0,1),IF(ISNUMBER(AN43),1,0),IF(AN43=TRUNC(AN43),1,0),IF(AND(AN43*1=AN43,AN43>=0),1,0),IF(AND(AN43=TRUNC(AN43),AN43>=0),1,0),IF(AND(AN43*1=AN43,AN43>0),1,0),IF(AND(AN43=TRUNC(AN43),AN43>0),1,0),1,IF(ISNA(HLOOKUP(AN43,$AU$4:$BD$4,1,0)),0,1)),0))) -> 1 | CA43: =IF(OR(AO$30="",AO$4=99),1,IF(AO43="",0,IFERROR(CHOOSE(CA$28,IF(ISNA(MATCH(AO43,$AR$30:$AS$30,0)),0,1),IF(ISNUMBER(AO43),1,0),IF(AO43=TRUNC(AO43),1,0),IF(AND(AO43*1=AO43,AO43>=0),1,0),IF(AND(AO43=TRUNC(AO43),AO43>=0),1,0),IF(AND(AO43*1=AO43,AO43>0),1,0),IF(AND(AO43=TRUNC(AO43),AO43>0),1,0),1,IF(ISNA(HLOOKUP(AO43,$AU$4:$BD$4,1,0)),0,1)),0))) -> 1 | CL43: =N43>=CS$7 -> TRUE | CM43: =O43>=CM$7 -> TRUE | CN43: =P43>=CN$7 -> TRUE | CO43: =Q43>=CO$7 -> FALSE | CQ43: =AD43>=CQ$7 -> FALSE | CR43: =COUNTIF(CL43:CQ43,TRUE) -> 3 | CS43: =N43>=CS$7 -> TRUE | CT43: =O43>=CT$7 -> TRUE | CU43: =P43>=CU$7 -> TRUE | CV43: =Q43>=CV$7 -> FALSE | CX43: =AD43>=CX$7 -> FALSE | CY43: =COUNTIF(CS43:CX43,TRUE) -> 3 | CZ43: =IF($F43="","",IF(CR43=$CM$5,1,0)) | DA43: =IF($F43="","",IF(AND(CY43=$CM$5,CY43-CR43<=$CT$5),1,0))
B44: =IF(F44="","",ROW()-30) | N44: =IF($F44="","",'ריכוז גיליונות עזר'!H44) | O44: =IF($F44="","",'ריכוז גיליונות עזר'!K44) | P44: =IF($F44="","",'ריכוז גיליונות עזר'!L44) | R44: =IF($F44="","",IF(P44=0,1,IF(Q44<N44,$AR$1,N44/Q44))) | S44: =IF($F44="","",IF(OR(AND(R44=1,P44=1),R44=$AR$1),$AR$1,IF(OR(R44>=$R$5,N44>=$Q$5),1,0))) | AE44: =IF($F44="","",IF(OR(CZ44=1,AND(X44=1,Y44=1,DA44=1)),1,0)) | AO44: =IF($F44="","",IF(AK44=1,1,IF(AQ44<>1,$AR$1,IF(SUMPRODUCT(--(G44:AJ44>=$G$5:$AJ$5)*($G$5:$AJ$5<>"")*($G$4:$AJ$4=1))=COUNTIF($G$4:$AJ$4,1),1,0)))) | AQ44: =IF(OR(SUM(AT44:CA44)<>COUNT(AT44:CA44),SUMPRODUCT(--(G44:AJ44=$AR$1))<>0),0,1) -> 0 | AR44: =IF($F44="","",AR$30) | AS44: =IF($F44="","",AS$30) | AT44: =IF(OR(G$30="",G$4=99),1,IF(G44="",0,IFERROR(CHOOSE(AT$28,IF(ISNA(MATCH(G44,$AR$30:$AS$30,0)),0,1),IF(ISNUMBER(G44),1,0),IF(G44=TRUNC(G44),1,0),IF(AND(G44*1=G44,G44>=0),1,0),IF(AND(G44=TRUNC(G44),G44>=0),1,0),IF(AND(G44*1=G44,G44>0),1,0),IF(AND(G44=TRUNC(G44),G44>0),1,0),1,IF(ISNA(HLOOKUP(G44,$AU$4:$BD$4,1,0)),0,1)),0))) -> 0 | AU44: =IF(OR(H$30="",H$4=99),1,IF(H44="",0,IFERROR(CHOOSE(AU$28,IF(ISNA(MATCH(H44,$AR$30:$AS$30,0)),0,1),IF(ISNUMBER(H44),1,0),IF(H44=TRUNC(H44),1,0),IF(AND(H44*1=H44,H44>=0),1,0),IF(AND(H44=TRUNC(H44),H44>=0),1,0),IF(AND(H44*1=H44,H44>0),1,0),IF(AND(H44=TRUNC(H44),H44>0),1,0),1,IF(ISNA(HLOOKUP(H44,$AU$4:$BD$4,1,0)),0,1)),0))) -> 0 | AV44: =IF(OR(I$30="",I$4=99),1,IF(I44="",0,IFERROR(CHOOSE(AV$28,IF(ISNA(MATCH(I44,$AR$30:$AS$30,0)),0,1),IF(ISNUMBER(I44),1,0),IF(I44=TRUNC(I44),1,0),IF(AND(I44*1=I44,I44>=0),1,0),IF(AND(I44=TRUNC(I44),I44>=0),1,0),IF(AND(I44*1=I44,I44>0),1,0),IF(AND(I44=TRUNC(I44),I44>0),1,0),1,IF(ISNA(HLOOKUP(I44,$AU$4:$BD$4,1,0)),0,1)),0))) -> 0 | AW44: =IF(OR(J$30="",J$4=99),1,IF(J44="",0,IFERROR(CHOOSE(AW$28,IF(ISNA(MATCH(J44,$AR$30:$AS$30,0)),0,1),IF(ISNUMBER(J44),1,0),IF(J44=TRUNC(J44),1,0),IF(AND(J44*1=J44,J44>=0),1,0),IF(AND(J44=TRUNC(J44),J44>=0),1,0),IF(AND(J44*1=J44,J44>0),1,0),IF(AND(J44=TRUNC(J44),J44>0),1,0),1,IF(ISNA(HLOOKUP(J44,$AU$4:$BD$4,1,0)),0,1)),0))) -> 0 | AX44: =IF(OR(K$30="",K$4=99),1,IF(K44="",0,IFERROR(CHOOSE(AX$28,IF(ISNA(MATCH(K44,$AR$30:$AS$30,0)),0,1),IF(ISNUMBER(K44),1,0),IF(K44=TRUNC(K44),1,0),IF(AND(K44*1=K44,K44>=0),1,0),IF(AND(K44=TRUNC(K44),K44>=0),1,0),IF(AND(K44*1=K44,K44>0),1,0),IF(AND(K44=TRUNC(K44),K44>0),1,0),1,IF(ISNA(HLOOKUP(K44,$AU$4:$BD$4,1,0)),0,1)),0))) -> 0 | AY44: =IF(OR(L$30="",L$4=99),1,IF(L44="",0,IFERROR(CHOOSE(AY$28,IF(ISNA(MATCH(L44,$AR$30:$AS$30,0)),0,1),IF(ISNUMBER(L44),1,0),IF(L44=TRUNC(L44),1,0),IF(AND(L44*1=L44,L44>=0),1,0),IF(AND(L44=TRUNC(L44),L44>=0),1,0),IF(AND(L44*1=L44,L44>0),1,0),IF(AND(L44=TRUNC(L44),L44>0),1,0),1,IF(ISNA(HLOOKUP(L44,$AU$4:$BD$4,1,0)),0,1)),0))) -> 0 | AZ44: =IF(OR(M$30="",M$4=99),1,IF(M44="",0,IFERROR(CHOOSE(AZ$28,IF(ISNA(MATCH(M44,$AR$30:$AS$30,0)),0,1),IF(ISNUMBER(M44),1,0),IF(M44=TRUNC(M44),1,0),IF(AND(M44*1=M44,M44>=0),1,0),IF(AND(M44=TRUNC(M44),M44>=0),1,0),IF(AND(M44*1=M44,M44>0),1,0),IF(AND(M44=TRUNC(M44),M44>0),1,0),1,IF(ISNA(HLOOKUP(M44,$AU$4:$BD$4,1,0)),0,1)),0))) -> 0 | BA44: =IF(OR(N$30="",N$4=99),1,IF(N44="",0,IFERROR(CHOOSE(BA$28,IF(ISNA(MATCH(N44,$AR$30:$AS$30,0)),0,1),IF(ISNUMBER(N44),1,0),IF(N44=TRUNC(N44),1,0),IF(AND(N44*1=N44,N44>=0),1,0),IF(AND(N44=TRUNC(N44),N44>=0),1,0),IF(AND(N44*1=N44,N44>0),1,0),IF(AND(N44=TRUNC(N44),N44>0),1,0),1,IF(ISNA(HLOOKUP(N44,$AU$4:$BD$4,1,0)),0,1)),0))) -> 1 | ... BH44: =IF(OR(U$30="",U$4=99),1,IF(U44="",0,IFERROR(CHOOSE(BH$28,IF(ISNA(MATCH(U44,$AR$30:$AS$30,0)),0,1),IF(ISNUMBER(U44),1,0),IF(U44=TRUNC(U44),1,0),IF(AND(U44*1=U44,U44>=0),1,0),IF(AND(U44=TRUNC(U44),U44>=0),1,0),IF(AND(U44*1=U44,U44>0),1,0),IF(AND(U44=TRUNC(U44),U44>0),1,0),1,IF(ISNA(HLOOKUP(U44,$AU$4:$BD$4,1,0)),0,1)),0))) -> 0 | BI44: =IF(OR(V$30="",W$4=99),1,IF(V44="",0,IFERROR(CHOOSE(BI$28,IF(ISNA(MATCH(V44,$AR$30:$AS$30,0)),0,1),IF(ISNUMBER(V44),1,0),IF(V44=TRUNC(V44),1,0),IF(AND(V44*1=V44,V44>=0),1,0),IF(AND(V44=TRUNC(V44),V44>=0),1,0),IF(AND(V44*1=V44,V44>0),1,0),IF(AND(V44=TRUNC(V44),V44>0),1,0),1,IF(ISNA(HLOOKUP(V44,$AU$4:$BD$4,1,0)),0,1)),0))) -> 0 | BJ44: =IF(OR(W$30="",X$4=99),1,IF(W44="",0,IFERROR(CHOOSE(BJ$28,IF(ISNA(MATCH(W44,$AR$30:$AS$30,0)),0,1),IF(ISNUMBER(W44),1,0),IF(W44=TRUNC(W44),1,0),IF(AND(W44*1=W44,W44>=0),1,0),IF(AND(W44=TRUNC(W44),W44>=0),1,0),IF(AND(W44*1=W44,W44>0),1,0),IF(AND(W44=TRUNC(W44),W44>0),1,0),1,IF(ISNA(HLOOKUP(W44,$AU$4:$BD$4,1,0)),0,1)),0))) -> 1 | BK44: =IF(OR(X$30="",X$4=99),1,IF(X44="",0,IFERROR(CHOOSE(BK$28,IF(ISNA(MATCH(X44,$AR$30:$AS$30,0)),0,1),IF(ISNUMBER(X44),1,0),IF(X44=TRUNC(X44),1,0),IF(AND(X44*1=X44,X44>=0),1,0),IF(AND(X44=TRUNC(X44),X44>=0),1,0),IF(AND(X44*1=X44,X44>0),1,0),IF(AND(X44=TRUNC(X44),X44>0),1,0),1,IF(ISNA(HLOOKUP(X44,$AU$4:$BD$4,1,0)),0,1)),0))) -> 1 | BL44: =IF(OR(Y$30="",Y$4=99),1,IF(Y44="",0,IFERROR(CHOOSE(BL$28,IF(ISNA(MATCH(Y44,$AR$30:$AS$30,0)),0,1),IF(ISNUMBER(Y44),1,0),IF(Y44=TRUNC(Y44),1,0),IF(AND(Y44*1=Y44,Y44>=0),1,0),IF(AND(Y44=TRUNC(Y44),Y44>=0),1,0),IF(AND(Y44*1=Y44,Y44>0),1,0),IF(AND(Y44=TRUNC(Y44),Y44>0),1,0),1,IF(ISNA(HLOOKUP(Y44,$AU$4:$BD$4,1,0)),0,1)),0))) -> 1 | BM44: =IF(OR(Z$30="",Z$4=99),1,IF(Z44="",0,IFERROR(CHOOSE(BM$28,IF(ISNA(MATCH(Z44,$AR$30:$AS$30,0)),0,1),IF(ISNUMBER(Z44),1,0),IF(Z44=TRUNC(Z44),1,0),IF(AND(Z44*1=Z44,Z44>=0),1,0),IF(AND(Z44=TRUNC(Z44),Z44>=0),1,0),IF(AND(Z44*1=Z44,Z44>0),1,0),IF(AND(Z44=TRUNC(Z44),Z44>0),1,0),1,IF(ISNA(HLOOKUP(Z44,$AU$4:$BD$4,1,0)),0,1)),0))) -> 1 | BN44: =IF(OR(AA$30="",AA$4=99),1,IF(AA44="",0,IFERROR(CHOOSE(BN$28,IF(ISNA(MATCH(AA44,$AR$30:$AS$30,0)),0,1),IF(ISNUMBER(AA44),1,0),IF(AA44=TRUNC(AA44),1,0),IF(AND(AA44*1=AA44,AA44>=0),1,0),IF(AND(AA44=TRUNC(AA44),AA44>=0),1,0),IF(AND(AA44*1=AA44,AA44>0),1,0),IF(AND(AA44=TRUNC(AA44),AA44>0),1,0),1,IF(ISNA(HLOOKUP(AA44,$AU$4:$BD$4,1,0)),0,1)),0))) -> 1 | BO44: =IF(OR(AB$30="",AB$4=99),1,IF(AB44="",0,IFERROR(CHOOSE(BO$28,IF(ISNA(MATCH(AB44,$AR$30:$AS$30,0)),0,1),IF(ISNUMBER(AB44),1,0),IF(AB44=TRUNC(AB44),1,0),IF(AND(AB44*1=AB44,AB44>=0),1,0),IF(AND(AB44=TRUNC(AB44),AB44>=0),1,0),IF(AND(AB44*1=AB44,AB44>0),1,0),IF(AND(AB44=TRUNC(AB44),AB44>0),1,0),1,IF(ISNA(HLOOKUP(AB44,$AU$4:$BD$4,1,0)),0,1)),0))) -> 1 | BP44: =IF(OR(AC$30="",AC$4=99),1,IF(AC44="",0,IFERROR(CHOOSE(BP$28,IF(ISNA(MATCH(AC44,$AR$30:$AS$30,0)),0,1),IF(ISNUMBER(AC44),1,0),IF(AC44=TRUNC(AC44),1,0),IF(AND(AC44*1=AC44,AC44>=0),1,0),IF(AND(AC44=TRUNC(AC44),AC44>=0),1,0),IF(AND(AC44*1=AC44,AC44>0),1,0),IF(AND(AC44=TRUNC(AC44),AC44>0),1,0),1,IF(ISNA(HLOOKUP(AC44,$AU$4:$BD$4,1,0)),0,1)),0))) -> 1 | BQ44: =IF(OR(AD$30="",AD$4=99),1,IF(AD44="",0,IFERROR(CHOOSE(BQ$28,IF(ISNA(MATCH(AD44,$AR$30:$AS$30,0)),0,1),IF(ISNUMBER(AD44),1,0),IF(AD44=TRUNC(AD44),1,0),IF(AND(AD44*1=AD44,AD44>=0),1,0),IF(AND(AD44=TRUNC(AD44),AD44>=0),1,0),IF(AND(AD44*1=AD44,AD44>0),1,0),IF(AND(AD44=TRUNC(AD44),AD44>0),1,0),1,IF(ISNA(HLOOKUP(AD44,$AU$4:$BD$4,1,0)),0,1)),0))) -> 0 | BR44: =IF(OR(AE$30="",AE$4=99),1,IF(AE44="",0,IFERROR(CHOOSE(BR$28,IF(ISNA(MATCH(AE44,$AR$30:$AS$30,0)),0,1),IF(ISNUMBER(AE44),1,0),IF(AE44=TRUNC(AE44),1,0),IF(AND(AE44*1=AE44,AE44>=0),1,0),IF(AND(AE44=TRUNC(AE44),AE44>=0),1,0),IF(AND(AE44*1=AE44,AE44>0),1,0),IF(AND(AE44=TRUNC(AE44),AE44>0),1,0),1,IF(ISNA(HLOOKUP(AE44,$AU$4:$BD$4,1,0)),0,1)),0))) -> 1 | ... BU44: =IF(OR(AH$30="",AH$4=99),1,IF(AH44="",0,IFERROR(CHOOSE(BU$28,IF(ISNA(MATCH(AH44,$AR$30:$AS$30,0)),0,1),IF(ISNUMBER(AH44),1,0),IF(AH44=TRUNC(AH44),1,0),IF(AND(AH44*1=AH44,AH44>=0),1,0),IF(AND(AH44=TRUNC(AH44),AH44>=0),1,0),IF(AND(AH44*1=AH44,AH44>0),1,0),IF(AND(AH44=TRUNC(AH44),AH44>0),1,0),1,IF(ISNA(HLOOKUP(AH44,$AU$4:$BD$4,1,0)),0,1)),0))) -> 0 | BV44: =IF(OR(AJ$30="",AJ$4=99),1,IF(AJ44="",0,IFERROR(CHOOSE(BV$28,IF(ISNA(MATCH(AJ44,$AR$30:$AS$30,0)),0,1),IF(ISNUMBER(AJ44),1,0),IF(AJ44=TRUNC(AJ44),1,0),IF(AND(AJ44*1=AJ44,AJ44>=0),1,0),IF(AND(AJ44=TRUNC(AJ44),AJ44>=0),1,0),IF(AND(AJ44*1=AJ44,AJ44>0),1,0),IF(AND(AJ44=TRUNC(AJ44),AJ44>0),1,0),1,IF(ISNA(HLOOKUP(AJ44,$AU$4:$BD$4,1,0)),0,1)),0))) -> 0 | BW44: =IF(OR(AK$30="",AK$4=99),1,IF(AK44="",0,IFERROR(CHOOSE(BW$28,IF(ISNA(MATCH(AK44,$AR$30:$AS$30,0)),0,1),IF(ISNUMBER(AK44),1,0),IF(AK44=TRUNC(AK44),1,0),IF(AND(AK44*1=AK44,AK44>=0),1,0),IF(AND(AK44=TRUNC(AK44),AK44>=0),1,0),IF(AND(AK44*1=AK44,AK44>0),1,0),IF(AND(AK44=TRUNC(AK44),AK44>0),1,0),1,IF(ISNA(HLOOKUP(AK44,$AU$4:$BD$4,1,0)),0,1)),0))) -> 1 | BX44: =IF(OR(AL$30="",AL$4=99),1,IF(AL44="",0,IFERROR(CHOOSE(BX$28,IF(ISNA(MATCH(AL44,$AR$30:$AS$30,0)),0,1),IF(ISNUMBER(AL44),1,0),IF(AL44=TRUNC(AL44),1,0),IF(AND(AL44*1=AL44,AL44>=0),1,0),IF(AND(AL44=TRUNC(AL44),AL44>=0),1,0),IF(AND(AL44*1=AL44,AL44>0),1,0),IF(AND(AL44=TRUNC(AL44),AL44>0),1,0),1,IF(ISNA(HLOOKUP(AL44,$AU$4:$BD$4,1,0)),0,1)),0))) -> 1 | BY44: =IF(OR(AM$30="",AM$4=99),1,IF(AM44="",0,IFERROR(CHOOSE(BY$28,IF(ISNA(MATCH(AM44,$AR$30:$AS$30,0)),0,1),IF(ISNUMBER(AM44),1,0),IF(AM44=TRUNC(AM44),1,0),IF(AND(AM44*1=AM44,AM44>=0),1,0),IF(AND(AM44=TRUNC(AM44),AM44>=0),1,0),IF(AND(AM44*1=AM44,AM44>0),1,0),IF(AND(AM44=TRUNC(AM44),AM44>0),1,0),1,IF(ISNA(HLOOKUP(AM44,$AU$4:$BD$4,1,0)),0,1)),0))) -> 1 | BZ44: =IF(OR(AN$30="",AN$4=99),1,IF(AN44="",0,IFERROR(CHOOSE(BZ$28,IF(ISNA(MATCH(AN44,$AR$30:$AS$30,0)),0,1),IF(ISNUMBER(AN44),1,0),IF(AN44=TRUNC(AN44),1,0),IF(AND(AN44*1=AN44,AN44>=0),1,0),IF(AND(AN44=TRUNC(AN44),AN44>=0),1,0),IF(AND(AN44*1=AN44,AN44>0),1,0),IF(AND(AN44=TRUNC(AN44),AN44>0),1,0),1,IF(ISNA(HLOOKUP(AN44,$AU$4:$BD$4,1,0)),0,1)),0))) -> 1 | CA44: =IF(OR(AO$30="",AO$4=99),1,IF(AO44="",0,IFERROR(CHOOSE(CA$28,IF(ISNA(MATCH(AO44,$AR$30:$AS$30,0)),0,1),IF(ISNUMBER(AO44),1,0),IF(AO44=TRUNC(AO44),1,0),IF(AND(AO44*1=AO44,AO44>=0),1,0),IF(AND(AO44=TRUNC(AO44),AO44>=0),1,0),IF(AND(AO44*1=AO44,AO44>0),1,0),IF(AND(AO44=TRUNC(AO44),AO44>0),1,0),1,IF(ISNA(HLOOKUP(AO44,$AU$4:$BD$4,1,0)),0,1)),0))) -> 1 | CL44: =N44>=CS$7 -> TRUE | CM44: =O44>=CM$7 -> TRUE | CN44: =P44>=CN$7 -> TRUE | CO44: =Q44>=CO$7 -> FALSE | CQ44: =AD44>=CQ$7 -> FALSE | CR44: =COUNTIF(CL44:CQ44,TRUE) -> 3 | CS44: =N44>=CS$7 -> TRUE | CT44: =O44>=CT$7 -> TRUE | CU44: =P44>=CU$7 -> TRUE | CV44: =Q44>=CV$7 -> FALSE | CX44: =AD44>=CX$7 -> FALSE | CY44: =COUNTIF(CS44:CX44,TRUE) -> 3 | CZ44: =IF($F44="","",IF(CR44=$CM$5,1,0)) | DA44: =IF($F44="","",IF(AND(CY44=$CM$5,CY44-CR44<=$CT$5),1,0))
B45: =IF(F45="","",ROW()-30) | N45: =IF($F45="","",'ריכוז גיליונות עזר'!H45) | O45: =IF($F45="","",'ריכוז גיליונות עזר'!K45) | P45: =IF($F45="","",'ריכוז גיליונות עזר'!L45) | R45: =IF($F45="","",IF(P45=0,1,IF(Q45<N45,$AR$1,N45/Q45))) | S45: =IF($F45="","",IF(OR(AND(R45=1,P45=1),R45=$AR$1),$AR$1,IF(OR(R45>=$R$5,N45>=$Q$5),1,0))) | AE45: =IF($F45="","",IF(OR(CZ45=1,AND(X45=1,Y45=1,DA45=1)),1,0)) | AO45: =IF($F45="","",IF(AK45=1,1,IF(AQ45<>1,$AR$1,IF(SUMPRODUCT(--(G45:AJ45>=$G$5:$AJ$5)*($G$5:$AJ$5<>"")*($G$4:$AJ$4=1))=COUNTIF($G$4:$AJ$4,1),1,0)))) | AQ45: =IF(OR(SUM(AT45:CA45)<>COUNT(AT45:CA45),SUMPRODUCT(--(G45:AJ45=$AR$1))<>0),0,1) -> 0 | AR45: =IF($F45="","",AR$30) | AS45: =IF($F45="","",AS$30) | AT45: =IF(OR(G$30="",G$4=99),1,IF(G45="",0,IFERROR(CHOOSE(AT$28,IF(ISNA(MATCH(G45,$AR$30:$AS$30,0)),0,1),IF(ISNUMBER(G45),1,0),IF(G45=TRUNC(G45),1,0),IF(AND(G45*1=G45,G45>=0),1,0),IF(AND(G45=TRUNC(G45),G45>=0),1,0),IF(AND(G45*1=G45,G45>0),1,0),IF(AND(G45=TRUNC(G45),G45>0),1,0),1,IF(ISNA(HLOOKUP(G45,$AU$4:$BD$4,1,0)),0,1)),0))) -> 0 | AU45: =IF(OR(H$30="",H$4=99),1,IF(H45="",0,IFERROR(CHOOSE(AU$28,IF(ISNA(MATCH(H45,$AR$30:$AS$30,0)),0,1),IF(ISNUMBER(H45),1,0),IF(H45=TRUNC(H45),1,0),IF(AND(H45*1=H45,H45>=0),1,0),IF(AND(H45=TRUNC(H45),H45>=0),1,0),IF(AND(H45*1=H45,H45>0),1,0),IF(AND(H45=TRUNC(H45),H45>0),1,0),1,IF(ISNA(HLOOKUP(H45,$AU$4:$BD$4,1,0)),0,1)),0))) -> 0 | AV45: =IF(OR(I$30="",I$4=99),1,IF(I45="",0,IFERROR(CHOOSE(AV$28,IF(ISNA(MATCH(I45,$AR$30:$AS$30,0)),0,1),IF(ISNUMBER(I45),1,0),IF(I45=TRUNC(I45),1,0),IF(AND(I45*1=I45,I45>=0),1,0),IF(AND(I45=TRUNC(I45),I45>=0),1,0),IF(AND(I45*1=I45,I45>0),1,0),IF(AND(I45=TRUNC(I45),I45>0),1,0),1,IF(ISNA(HLOOKUP(I45,$AU$4:$BD$4,1,0)),0,1)),0))) -> 0 | AW45: =IF(OR(J$30="",J$4=99),1,IF(J45="",0,IFERROR(CHOOSE(AW$28,IF(ISNA(MATCH(J45,$AR$30:$AS$30,0)),0,1),IF(ISNUMBER(J45),1,0),IF(J45=TRUNC(J45),1,0),IF(AND(J45*1=J45,J45>=0),1,0),IF(AND(J45=TRUNC(J45),J45>=0),1,0),IF(AND(J45*1=J45,J45>0),1,0),IF(AND(J45=TRUNC(J45),J45>0),1,0),1,IF(ISNA(HLOOKUP(J45,$AU$4:$BD$4,1,0)),0,1)),0))) -> 0 | AX45: =IF(OR(K$30="",K$4=99),1,IF(K45="",0,IFERROR(CHOOSE(AX$28,IF(ISNA(MATCH(K45,$AR$30:$AS$30,0)),0,1),IF(ISNUMBER(K45),1,0),IF(K45=TRUNC(K45),1,0),IF(AND(K45*1=K45,K45>=0),1,0),IF(AND(K45=TRUNC(K45),K45>=0),1,0),IF(AND(K45*1=K45,K45>0),1,0),IF(AND(K45=TRUNC(K45),K45>0),1,0),1,IF(ISNA(HLOOKUP(K45,$AU$4:$BD$4,1,0)),0,1)),0))) -> 0 | AY45: =IF(OR(L$30="",L$4=99),1,IF(L45="",0,IFERROR(CHOOSE(AY$28,IF(ISNA(MATCH(L45,$AR$30:$AS$30,0)),0,1),IF(ISNUMBER(L45),1,0),IF(L45=TRUNC(L45),1,0),IF(AND(L45*1=L45,L45>=0),1,0),IF(AND(L45=TRUNC(L45),L45>=0),1,0),IF(AND(L45*1=L45,L45>0),1,0),IF(AND(L45=TRUNC(L45),L45>0),1,0),1,IF(ISNA(HLOOKUP(L45,$AU$4:$BD$4,1,0)),0,1)),0))) -> 0 | AZ45: =IF(OR(M$30="",M$4=99),1,IF(M45="",0,IFERROR(CHOOSE(AZ$28,IF(ISNA(MATCH(M45,$AR$30:$AS$30,0)),0,1),IF(ISNUMBER(M45),1,0),IF(M45=TRUNC(M45),1,0),IF(AND(M45*1=M45,M45>=0),1,0),IF(AND(M45=TRUNC(M45),M45>=0),1,0),IF(AND(M45*1=M45,M45>0),1,0),IF(AND(M45=TRUNC(M45),M45>0),1,0),1,IF(ISNA(HLOOKUP(M45,$AU$4:$BD$4,1,0)),0,1)),0))) -> 0 | BA45: =IF(OR(N$30="",N$4=99),1,IF(N45="",0,IFERROR(CHOOSE(BA$28,IF(ISNA(MATCH(N45,$AR$30:$AS$30,0)),0,1),IF(ISNUMBER(N45),1,0),IF(N45=TRUNC(N45),1,0),IF(AND(N45*1=N45,N45>=0),1,0),IF(AND(N45=TRUNC(N45),N45>=0),1,0),IF(AND(N45*1=N45,N45>0),1,0),IF(AND(N45=TRUNC(N45),N45>0),1,0),1,IF(ISNA(HLOOKUP(N45,$AU$4:$BD$4,1,0)),0,1)),0))) -> 1 | ... BH45: =IF(OR(U$30="",U$4=99),1,IF(U45="",0,IFERROR(CHOOSE(BH$28,IF(ISNA(MATCH(U45,$AR$30:$AS$30,0)),0,1),IF(ISNUMBER(U45),1,0),IF(U45=TRUNC(U45),1,0),IF(AND(U45*1=U45,U45>=0),1,0),IF(AND(U45=TRUNC(U45),U45>=0),1,0),IF(AND(U45*1=U45,U45>0),1,0),IF(AND(U45=TRUNC(U45),U45>0),1,0),1,IF(ISNA(HLOOKUP(U45,$AU$4:$BD$4,1,0)),0,1)),0))) -> 0 | BI45: =IF(OR(V$30="",W$4=99),1,IF(V45="",0,IFERROR(CHOOSE(BI$28,IF(ISNA(MATCH(V45,$AR$30:$AS$30,0)),0,1),IF(ISNUMBER(V45),1,0),IF(V45=TRUNC(V45),1,0),IF(AND(V45*1=V45,V45>=0),1,0),IF(AND(V45=TRUNC(V45),V45>=0),1,0),IF(AND(V45*1=V45,V45>0),1,0),IF(AND(V45=TRUNC(V45),V45>0),1,0),1,IF(ISNA(HLOOKUP(V45,$AU$4:$BD$4,1,0)),0,1)),0))) -> 0 | BJ45: =IF(OR(W$30="",X$4=99),1,IF(W45="",0,IFERROR(CHOOSE(BJ$28,IF(ISNA(MATCH(W45,$AR$30:$AS$30,0)),0,1),IF(ISNUMBER(W45),1,0),IF(W45=TRUNC(W45),1,0),IF(AND(W45*1=W45,W45>=0),1,0),IF(AND(W45=TRUNC(W45),W45>=0),1,0),IF(AND(W45*1=W45,W45>0),1,0),IF(AND(W45=TRUNC(W45),W45>0),1,0),1,IF(ISNA(HLOOKUP(W45,$AU$4:$BD$4,1,0)),0,1)),0))) -> 1 | BK45: =IF(OR(X$30="",X$4=99),1,IF(X45="",0,IFERROR(CHOOSE(BK$28,IF(ISNA(MATCH(X45,$AR$30:$AS$30,0)),0,1),IF(ISNUMBER(X45),1,0),IF(X45=TRUNC(X45),1,0),IF(AND(X45*1=X45,X45>=0),1,0),IF(AND(X45=TRUNC(X45),X45>=0),1,0),IF(AND(X45*1=X45,X45>0),1,0),IF(AND(X45=TRUNC(X45),X45>0),1,0),1,IF(ISNA(HLOOKUP(X45,$AU$4:$BD$4,1,0)),0,1)),0))) -> 1 | BL45: =IF(OR(Y$30="",Y$4=99),1,IF(Y45="",0,IFERROR(CHOOSE(BL$28,IF(ISNA(MATCH(Y45,$AR$30:$AS$30,0)),0,1),IF(ISNUMBER(Y45),1,0),IF(Y45=TRUNC(Y45),1,0),IF(AND(Y45*1=Y45,Y45>=0),1,0),IF(AND(Y45=TRUNC(Y45),Y45>=0),1,0),IF(AND(Y45*1=Y45,Y45>0),1,0),IF(AND(Y45=TRUNC(Y45),Y45>0),1,0),1,IF(ISNA(HLOOKUP(Y45,$AU$4:$BD$4,1,0)),0,1)),0))) -> 1 | BM45: =IF(OR(Z$30="",Z$4=99),1,IF(Z45="",0,IFERROR(CHOOSE(BM$28,IF(ISNA(MATCH(Z45,$AR$30:$AS$30,0)),0,1),IF(ISNUMBER(Z45),1,0),IF(Z45=TRUNC(Z45),1,0),IF(AND(Z45*1=Z45,Z45>=0),1,0),IF(AND(Z45=TRUNC(Z45),Z45>=0),1,0),IF(AND(Z45*1=Z45,Z45>0),1,0),IF(AND(Z45=TRUNC(Z45),Z45>0),1,0),1,IF(ISNA(HLOOKUP(Z45,$AU$4:$BD$4,1,0)),0,1)),0))) -> 1 | BN45: =IF(OR(AA$30="",AA$4=99),1,IF(AA45="",0,IFERROR(CHOOSE(BN$28,IF(ISNA(MATCH(AA45,$AR$30:$AS$30,0)),0,1),IF(ISNUMBER(AA45),1,0),IF(AA45=TRUNC(AA45),1,0),IF(AND(AA45*1=AA45,AA45>=0),1,0),IF(AND(AA45=TRUNC(AA45),AA45>=0),1,0),IF(AND(AA45*1=AA45,AA45>0),1,0),IF(AND(AA45=TRUNC(AA45),AA45>0),1,0),1,IF(ISNA(HLOOKUP(AA45,$AU$4:$BD$4,1,0)),0,1)),0))) -> 1 | BO45: =IF(OR(AB$30="",AB$4=99),1,IF(AB45="",0,IFERROR(CHOOSE(BO$28,IF(ISNA(MATCH(AB45,$AR$30:$AS$30,0)),0,1),IF(ISNUMBER(AB45),1,0),IF(AB45=TRUNC(AB45),1,0),IF(AND(AB45*1=AB45,AB45>=0),1,0),IF(AND(AB45=TRUNC(AB45),AB45>=0),1,0),IF(AND(AB45*1=AB45,AB45>0),1,0),IF(AND(AB45=TRUNC(AB45),AB45>0),1,0),1,IF(ISNA(HLOOKUP(AB45,$AU$4:$BD$4,1,0)),0,1)),0))) -> 1 | BP45: =IF(OR(AC$30="",AC$4=99),1,IF(AC45="",0,IFERROR(CHOOSE(BP$28,IF(ISNA(MATCH(AC45,$AR$30:$AS$30,0)),0,1),IF(ISNUMBER(AC45),1,0),IF(AC45=TRUNC(AC45),1,0),IF(AND(AC45*1=AC45,AC45>=0),1,0),IF(AND(AC45=TRUNC(AC45),AC45>=0),1,0),IF(AND(AC45*1=AC45,AC45>0),1,0),IF(AND(AC45=TRUNC(AC45),AC45>0),1,0),1,IF(ISNA(HLOOKUP(AC45,$AU$4:$BD$4,1,0)),0,1)),0))) -> 1 | BQ45: =IF(OR(AD$30="",AD$4=99),1,IF(AD45="",0,IFERROR(CHOOSE(BQ$28,IF(ISNA(MATCH(AD45,$AR$30:$AS$30,0)),0,1),IF(ISNUMBER(AD45),1,0),IF(AD45=TRUNC(AD45),1,0),IF(AND(AD45*1=AD45,AD45>=0),1,0),IF(AND(AD45=TRUNC(AD45),AD45>=0),1,0),IF(AND(AD45*1=AD45,AD45>0),1,0),IF(AND(AD45=TRUNC(AD45),AD45>0),1,0),1,IF(ISNA(HLOOKUP(AD45,$AU$4:$BD$4,1,0)),0,1)),0))) -> 0 | BR45: =IF(OR(AE$30="",AE$4=99),1,IF(AE45="",0,IFERROR(CHOOSE(BR$28,IF(ISNA(MATCH(AE45,$AR$30:$AS$30,0)),0,1),IF(ISNUMBER(AE45),1,0),IF(AE45=TRUNC(AE45),1,0),IF(AND(AE45*1=AE45,AE45>=0),1,0),IF(AND(AE45=TRUNC(AE45),AE45>=0),1,0),IF(AND(AE45*1=AE45,AE45>0),1,0),IF(AND(AE45=TRUNC(AE45),AE45>0),1,0),1,IF(ISNA(HLOOKUP(AE45,$AU$4:$BD$4,1,0)),0,1)),0))) -> 1 | ... BU45: =IF(OR(AH$30="",AH$4=99),1,IF(AH45="",0,IFERROR(CHOOSE(BU$28,IF(ISNA(MATCH(AH45,$AR$30:$AS$30,0)),0,1),IF(ISNUMBER(AH45),1,0),IF(AH45=TRUNC(AH45),1,0),IF(AND(AH45*1=AH45,AH45>=0),1,0),IF(AND(AH45=TRUNC(AH45),AH45>=0),1,0),IF(AND(AH45*1=AH45,AH45>0),1,0),IF(AND(AH45=TRUNC(AH45),AH45>0),1,0),1,IF(ISNA(HLOOKUP(AH45,$AU$4:$BD$4,1,0)),0,1)),0))) -> 0 | BV45: =IF(OR(AJ$30="",AJ$4=99),1,IF(AJ45="",0,IFERROR(CHOOSE(BV$28,IF(ISNA(MATCH(AJ45,$AR$30:$AS$30,0)),0,1),IF(ISNUMBER(AJ45),1,0),IF(AJ45=TRUNC(AJ45),1,0),IF(AND(AJ45*1=AJ45,AJ45>=0),1,0),IF(AND(AJ45=TRUNC(AJ45),AJ45>=0),1,0),IF(AND(AJ45*1=AJ45,AJ45>0),1,0),IF(AND(AJ45=TRUNC(AJ45),AJ45>0),1,0),1,IF(ISNA(HLOOKUP(AJ45,$AU$4:$BD$4,1,0)),0,1)),0))) -> 0 | BW45: =IF(OR(AK$30="",AK$4=99),1,IF(AK45="",0,IFERROR(CHOOSE(BW$28,IF(ISNA(MATCH(AK45,$AR$30:$AS$30,0)),0,1),IF(ISNUMBER(AK45),1,0),IF(AK45=TRUNC(AK45),1,0),IF(AND(AK45*1=AK45,AK45>=0),1,0),IF(AND(AK45=TRUNC(AK45),AK45>=0),1,0),IF(AND(AK45*1=AK45,AK45>0),1,0),IF(AND(AK45=TRUNC(AK45),AK45>0),1,0),1,IF(ISNA(HLOOKUP(AK45,$AU$4:$BD$4,1,0)),0,1)),0))) -> 1 | BX45: =IF(OR(AL$30="",AL$4=99),1,IF(AL45="",0,IFERROR(CHOOSE(BX$28,IF(ISNA(MATCH(AL45,$AR$30:$AS$30,0)),0,1),IF(ISNUMBER(AL45),1,0),IF(AL45=TRUNC(AL45),1,0),IF(AND(AL45*1=AL45,AL45>=0),1,0),IF(AND(AL45=TRUNC(AL45),AL45>=0),1,0),IF(AND(AL45*1=AL45,AL45>0),1,0),IF(AND(AL45=TRUNC(AL45),AL45>0),1,0),1,IF(ISNA(HLOOKUP(AL45,$AU$4:$BD$4,1,0)),0,1)),0))) -> 1 | BY45: =IF(OR(AM$30="",AM$4=99),1,IF(AM45="",0,IFERROR(CHOOSE(BY$28,IF(ISNA(MATCH(AM45,$AR$30:$AS$30,0)),0,1),IF(ISNUMBER(AM45),1,0),IF(AM45=TRUNC(AM45),1,0),IF(AND(AM45*1=AM45,AM45>=0),1,0),IF(AND(AM45=TRUNC(AM45),AM45>=0),1,0),IF(AND(AM45*1=AM45,AM45>0),1,0),IF(AND(AM45=TRUNC(AM45),AM45>0),1,0),1,IF(ISNA(HLOOKUP(AM45,$AU$4:$BD$4,1,0)),0,1)),0))) -> 1 | BZ45: =IF(OR(AN$30="",AN$4=99),1,IF(AN45="",0,IFERROR(CHOOSE(BZ$28,IF(ISNA(MATCH(AN45,$AR$30:$AS$30,0)),0,1),IF(ISNUMBER(AN45),1,0),IF(AN45=TRUNC(AN45),1,0),IF(AND(AN45*1=AN45,AN45>=0),1,0),IF(AND(AN45=TRUNC(AN45),AN45>=0),1,0),IF(AND(AN45*1=AN45,AN45>0),1,0),IF(AND(AN45=TRUNC(AN45),AN45>0),1,0),1,IF(ISNA(HLOOKUP(AN45,$AU$4:$BD$4,1,0)),0,1)),0))) -> 1 | CA45: =IF(OR(AO$30="",AO$4=99),1,IF(AO45="",0,IFERROR(CHOOSE(CA$28,IF(ISNA(MATCH(AO45,$AR$30:$AS$30,0)),0,1),IF(ISNUMBER(AO45),1,0),IF(AO45=TRUNC(AO45),1,0),IF(AND(AO45*1=AO45,AO45>=0),1,0),IF(AND(AO45=TRUNC(AO45),AO45>=0),1,0),IF(AND(AO45*1=AO45,AO45>0),1,0),IF(AND(AO45=TRUNC(AO45),AO45>0),1,0),1,IF(ISNA(HLOOKUP(AO45,$AU$4:$BD$4,1,0)),0,1)),0))) -> 1 | CL45: =N45>=CS$7 -> TRUE | CM45: =O45>=CM$7 -> TRUE | CN45: =P45>=CN$7 -> TRUE | CO45: =Q45>=CO$7 -> FALSE | CQ45: =AD45>=CQ$7 -> FALSE | CR45: =COUNTIF(CL45:CQ45,TRUE) -> 3 | CS45: =N45>=CS$7 -> TRUE | CT45: =O45>=CT$7 -> TRUE | CU45: =P45>=CU$7 -> TRUE | CV45: =Q45>=CV$7 -> FALSE | CX45: =AD45>=CX$7 -> FALSE | CY45: =COUNTIF(CS45:CX45,TRUE) -> 3 | CZ45: =IF($F45="","",IF(CR45=$CM$5,1,0)) | DA45: =IF($F45="","",IF(AND(CY45=$CM$5,CY45-CR45<=$CT$5),1,0))
B46: =IF(F46="","",ROW()-30) | N46: =IF($F46="","",'ריכוז גיליונות עזר'!H46) | O46: =IF($F46="","",'ריכוז גיליונות עזר'!K46) | P46: =IF($F46="","",'ריכוז גיליונות עזר'!L46) | R46: =IF($F46="","",IF(P46=0,1,IF(Q46<N46,$AR$1,N46/Q46))) | S46: =IF($F46="","",IF(OR(AND(R46=1,P46=1),R46=$AR$1),$AR$1,IF(OR(R46>=$R$5,N46>=$Q$5),1,0))) | AE46: =IF($F46="","",IF(OR(CZ46=1,AND(X46=1,Y46=1,DA46=1)),1,0)) | AO46: =IF($F46="","",IF(AK46=1,1,IF(AQ46<>1,$AR$1,IF(SUMPRODUCT(--(G46:AJ46>=$G$5:$AJ$5)*($G$5:$AJ$5<>"")*($G$4:$AJ$4=1))=COUNTIF($G$4:$AJ$4,1),1,0)))) | AQ46: =IF(OR(SUM(AT46:CA46)<>COUNT(AT46:CA46),SUMPRODUCT(--(G46:AJ46=$AR$1))<>0),0,1) -> 0 | AR46: =IF($F46="","",AR$30) | AS46: =IF($F46="","",AS$30) | AT46: =IF(OR(G$30="",G$4=99),1,IF(G46="",0,IFERROR(CHOOSE(AT$28,IF(ISNA(MATCH(G46,$AR$30:$AS$30,0)),0,1),IF(ISNUMBER(G46),1,0),IF(G46=TRUNC(G46),1,0),IF(AND(G46*1=G46,G46>=0),1,0),IF(AND(G46=TRUNC(G46),G46>=0),1,0),IF(AND(G46*1=G46,G46>0),1,0),IF(AND(G46=TRUNC(G46),G46>0),1,0),1,IF(ISNA(HLOOKUP(G46,$AU$4:$BD$4,1,0)),0,1)),0))) -> 0 | AU46: =IF(OR(H$30="",H$4=99),1,IF(H46="",0,IFERROR(CHOOSE(AU$28,IF(ISNA(MATCH(H46,$AR$30:$AS$30,0)),0,1),IF(ISNUMBER(H46),1,0),IF(H46=TRUNC(H46),1,0),IF(AND(H46*1=H46,H46>=0),1,0),IF(AND(H46=TRUNC(H46),H46>=0),1,0),IF(AND(H46*1=H46,H46>0),1,0),IF(AND(H46=TRUNC(H46),H46>0),1,0),1,IF(ISNA(HLOOKUP(H46,$AU$4:$BD$4,1,0)),0,1)),0))) -> 0 | AV46: =IF(OR(I$30="",I$4=99),1,IF(I46="",0,IFERROR(CHOOSE(AV$28,IF(ISNA(MATCH(I46,$AR$30:$AS$30,0)),0,1),IF(ISNUMBER(I46),1,0),IF(I46=TRUNC(I46),1,0),IF(AND(I46*1=I46,I46>=0),1,0),IF(AND(I46=TRUNC(I46),I46>=0),1,0),IF(AND(I46*1=I46,I46>0),1,0),IF(AND(I46=TRUNC(I46),I46>0),1,0),1,IF(ISNA(HLOOKUP(I46,$AU$4:$BD$4,1,0)),0,1)),0))) -> 0 | AW46: =IF(OR(J$30="",J$4=99),1,IF(J46="",0,IFERROR(CHOOSE(AW$28,IF(ISNA(MATCH(J46,$AR$30:$AS$30,0)),0,1),IF(ISNUMBER(J46),1,0),IF(J46=TRUNC(J46),1,0),IF(AND(J46*1=J46,J46>=0),1,0),IF(AND(J46=TRUNC(J46),J46>=0),1,0),IF(AND(J46*1=J46,J46>0),1,0),IF(AND(J46=TRUNC(J46),J46>0),1,0),1,IF(ISNA(HLOOKUP(J46,$AU$4:$BD$4,1,0)),0,1)),0))) -> 0 | AX46: =IF(OR(K$30="",K$4=99),1,IF(K46="",0,IFERROR(CHOOSE(AX$28,IF(ISNA(MATCH(K46,$AR$30:$AS$30,0)),0,1),IF(ISNUMBER(K46),1,0),IF(K46=TRUNC(K46),1,0),IF(AND(K46*1=K46,K46>=0),1,0),IF(AND(K46=TRUNC(K46),K46>=0),1,0),IF(AND(K46*1=K46,K46>0),1,0),IF(AND(K46=TRUNC(K46),K46>0),1,0),1,IF(ISNA(HLOOKUP(K46,$AU$4:$BD$4,1,0)),0,1)),0))) -> 0 | AY46: =IF(OR(L$30="",L$4=99),1,IF(L46="",0,IFERROR(CHOOSE(AY$28,IF(ISNA(MATCH(L46,$AR$30:$AS$30,0)),0,1),IF(ISNUMBER(L46),1,0),IF(L46=TRUNC(L46),1,0),IF(AND(L46*1=L46,L46>=0),1,0),IF(AND(L46=TRUNC(L46),L46>=0),1,0),IF(AND(L46*1=L46,L46>0),1,0),IF(AND(L46=TRUNC(L46),L46>0),1,0),1,IF(ISNA(HLOOKUP(L46,$AU$4:$BD$4,1,0)),0,1)),0))) -> 0 | AZ46: =IF(OR(M$30="",M$4=99),1,IF(M46="",0,IFERROR(CHOOSE(AZ$28,IF(ISNA(MATCH(M46,$AR$30:$AS$30,0)),0,1),IF(ISNUMBER(M46),1,0),IF(M46=TRUNC(M46),1,0),IF(AND(M46*1=M46,M46>=0),1,0),IF(AND(M46=TRUNC(M46),M46>=0),1,0),IF(AND(M46*1=M46,M46>0),1,0),IF(AND(M46=TRUNC(M46),M46>0),1,0),1,IF(ISNA(HLOOKUP(M46,$AU$4:$BD$4,1,0)),0,1)),0))) -> 0 | BA46: =IF(OR(N$30="",N$4=99),1,IF(N46="",0,IFERROR(CHOOSE(BA$28,IF(ISNA(MATCH(N46,$AR$30:$AS$30,0)),0,1),IF(ISNUMBER(N46),1,0),IF(N46=TRUNC(N46),1,0),IF(AND(N46*1=N46,N46>=0),1,0),IF(AND(N46=TRUNC(N46),N46>=0),1,0),IF(AND(N46*1=N46,N46>0),1,0),IF(AND(N46=TRUNC(N46),N46>0),1,0),1,IF(ISNA(HLOOKUP(N46,$AU$4:$BD$4,1,0)),0,1)),0))) -> 1 | ... BH46: =IF(OR(U$30="",U$4=99),1,IF(U46="",0,IFERROR(CHOOSE(BH$28,IF(ISNA(MATCH(U46,$AR$30:$AS$30,0)),0,1),IF(ISNUMBER(U46),1,0),IF(U46=TRUNC(U46),1,0),IF(AND(U46*1=U46,U46>=0),1,0),IF(AND(U46=TRUNC(U46),U46>=0),1,0),IF(AND(U46*1=U46,U46>0),1,0),IF(AND(U46=TRUNC(U46),U46>0),1,0),1,IF(ISNA(HLOOKUP(U46,$AU$4:$BD$4,1,0)),0,1)),0))) -> 0 | BI46: =IF(OR(V$30="",W$4=99),1,IF(V46="",0,IFERROR(CHOOSE(BI$28,IF(ISNA(MATCH(V46,$AR$30:$AS$30,0)),0,1),IF(ISNUMBER(V46),1,0),IF(V46=TRUNC(V46),1,0),IF(AND(V46*1=V46,V46>=0),1,0),IF(AND(V46=TRUNC(V46),V46>=0),1,0),IF(AND(V46*1=V46,V46>0),1,0),IF(AND(V46=TRUNC(V46),V46>0),1,0),1,IF(ISNA(HLOOKUP(V46,$AU$4:$BD$4,1,0)),0,1)),0))) -> 0 | BJ46: =IF(OR(W$30="",X$4=99),1,IF(W46="",0,IFERROR(CHOOSE(BJ$28,IF(ISNA(MATCH(W46,$AR$30:$AS$30,0)),0,1),IF(ISNUMBER(W46),1,0),IF(W46=TRUNC(W46),1,0),IF(AND(W46*1=W46,W46>=0),1,0),IF(AND(W46=TRUNC(W46),W46>=0),1,0),IF(AND(W46*1=W46,W46>0),1,0),IF(AND(W46=TRUNC(W46),W46>0),1,0),1,IF(ISNA(HLOOKUP(W46,$AU$4:$BD$4,1,0)),0,1)),0))) -> 1 | BK46: =IF(OR(X$30="",X$4=99),1,IF(X46="",0,IFERROR(CHOOSE(BK$28,IF(ISNA(MATCH(X46,$AR$30:$AS$30,0)),0,1),IF(ISNUMBER(X46),1,0),IF(X46=TRUNC(X46),1,0),IF(AND(X46*1=X46,X46>=0),1,0),IF(AND(X46=TRUNC(X46),X46>=0),1,0),IF(AND(X46*1=X46,X46>0),1,0),IF(AND(X46=TRUNC(X46),X46>0),1,0),1,IF(ISNA(HLOOKUP(X46,$AU$4:$BD$4,1,0)),0,1)),0))) -> 1 | BL46: =IF(OR(Y$30="",Y$4=99),1,IF(Y46="",0,IFERROR(CHOOSE(BL$28,IF(ISNA(MATCH(Y46,$AR$30:$AS$30,0)),0,1),IF(ISNUMBER(Y46),1,0),IF(Y46=TRUNC(Y46),1,0),IF(AND(Y46*1=Y46,Y46>=0),1,0),IF(AND(Y46=TRUNC(Y46),Y46>=0),1,0),IF(AND(Y46*1=Y46,Y46>0),1,0),IF(AND(Y46=TRUNC(Y46),Y46>0),1,0),1,IF(ISNA(HLOOKUP(Y46,$AU$4:$BD$4,1,0)),0,1)),0))) -> 1 | BM46: =IF(OR(Z$30="",Z$4=99),1,IF(Z46="",0,IFERROR(CHOOSE(BM$28,IF(ISNA(MATCH(Z46,$AR$30:$AS$30,0)),0,1),IF(ISNUMBER(Z46),1,0),IF(Z46=TRUNC(Z46),1,0),IF(AND(Z46*1=Z46,Z46>=0),1,0),IF(AND(Z46=TRUNC(Z46),Z46>=0),1,0),IF(AND(Z46*1=Z46,Z46>0),1,0),IF(AND(Z46=TRUNC(Z46),Z46>0),1,0),1,IF(ISNA(HLOOKUP(Z46,$AU$4:$BD$4,1,0)),0,1)),0))) -> 1 | BN46: =IF(OR(AA$30="",AA$4=99),1,IF(AA46="",0,IFERROR(CHOOSE(BN$28,IF(ISNA(MATCH(AA46,$AR$30:$AS$30,0)),0,1),IF(ISNUMBER(AA46),1,0),IF(AA46=TRUNC(AA46),1,0),IF(AND(AA46*1=AA46,AA46>=0),1,0),IF(AND(AA46=TRUNC(AA46),AA46>=0),1,0),IF(AND(AA46*1=AA46,AA46>0),1,0),IF(AND(AA46=TRUNC(AA46),AA46>0),1,0),1,IF(ISNA(HLOOKUP(AA46,$AU$4:$BD$4,1,0)),0,1)),0))) -> 1 | BO46: =IF(OR(AB$30="",AB$4=99),1,IF(AB46="",0,IFERROR(CHOOSE(BO$28,IF(ISNA(MATCH(AB46,$AR$30:$AS$30,0)),0,1),IF(ISNUMBER(AB46),1,0),IF(AB46=TRUNC(AB46),1,0),IF(AND(AB46*1=AB46,AB46>=0),1,0),IF(AND(AB46=TRUNC(AB46),AB46>=0),1,0),IF(AND(AB46*1=AB46,AB46>0),1,0),IF(AND(AB46=TRUNC(AB46),AB46>0),1,0),1,IF(ISNA(HLOOKUP(AB46,$AU$4:$BD$4,1,0)),0,1)),0))) -> 1 | BP46: =IF(OR(AC$30="",AC$4=99),1,IF(AC46="",0,IFERROR(CHOOSE(BP$28,IF(ISNA(MATCH(AC46,$AR$30:$AS$30,0)),0,1),IF(ISNUMBER(AC46),1,0),IF(AC46=TRUNC(AC46),1,0),IF(AND(AC46*1=AC46,AC46>=0),1,0),IF(AND(AC46=TRUNC(AC46),AC46>=0),1,0),IF(AND(AC46*1=AC46,AC46>0),1,0),IF(AND(AC46=TRUNC(AC46),AC46>0),1,0),1,IF(ISNA(HLOOKUP(AC46,$AU$4:$BD$4,1,0)),0,1)),0))) -> 1 | BQ46: =IF(OR(AD$30="",AD$4=99),1,IF(AD46="",0,IFERROR(CHOOSE(BQ$28,IF(ISNA(MATCH(AD46,$AR$30:$AS$30,0)),0,1),IF(ISNUMBER(AD46),1,0),IF(AD46=TRUNC(AD46),1,0),IF(AND(AD46*1=AD46,AD46>=0),1,0),IF(AND(AD46=TRUNC(AD46),AD46>=0),1,0),IF(AND(AD46*1=AD46,AD46>0),1,0),IF(AND(AD46=TRUNC(AD46),AD46>0),1,0),1,IF(ISNA(HLOOKUP(AD46,$AU$4:$BD$4,1,0)),0,1)),0))) -> 0 | BR46: =IF(OR(AE$30="",AE$4=99),1,IF(AE46="",0,IFERROR(CHOOSE(BR$28,IF(ISNA(MATCH(AE46,$AR$30:$AS$30,0)),0,1),IF(ISNUMBER(AE46),1,0),IF(AE46=TRUNC(AE46),1,0),IF(AND(AE46*1=AE46,AE46>=0),1,0),IF(AND(AE46=TRUNC(AE46),AE46>=0),1,0),IF(AND(AE46*1=AE46,AE46>0),1,0),IF(AND(AE46=TRUNC(AE46),AE46>0),1,0),1,IF(ISNA(HLOOKUP(AE46,$AU$4:$BD$4,1,0)),0,1)),0))) -> 1 | ... BU46: =IF(OR(AH$30="",AH$4=99),1,IF(AH46="",0,IFERROR(CHOOSE(BU$28,IF(ISNA(MATCH(AH46,$AR$30:$AS$30,0)),0,1),IF(ISNUMBER(AH46),1,0),IF(AH46=TRUNC(AH46),1,0),IF(AND(AH46*1=AH46,AH46>=0),1,0),IF(AND(AH46=TRUNC(AH46),AH46>=0),1,0),IF(AND(AH46*1=AH46,AH46>0),1,0),IF(AND(AH46=TRUNC(AH46),AH46>0),1,0),1,IF(ISNA(HLOOKUP(AH46,$AU$4:$BD$4,1,0)),0,1)),0))) -> 0 | BV46: =IF(OR(AJ$30="",AJ$4=99),1,IF(AJ46="",0,IFERROR(CHOOSE(BV$28,IF(ISNA(MATCH(AJ46,$AR$30:$AS$30,0)),0,1),IF(ISNUMBER(AJ46),1,0),IF(AJ46=TRUNC(AJ46),1,0),IF(AND(AJ46*1=AJ46,AJ46>=0),1,0),IF(AND(AJ46=TRUNC(AJ46),AJ46>=0),1,0),IF(AND(AJ46*1=AJ46,AJ46>0),1,0),IF(AND(AJ46=TRUNC(AJ46),AJ46>0),1,0),1,IF(ISNA(HLOOKUP(AJ46,$AU$4:$BD$4,1,0)),0,1)),0))) -> 0 | BW46: =IF(OR(AK$30="",AK$4=99),1,IF(AK46="",0,IFERROR(CHOOSE(BW$28,IF(ISNA(MATCH(AK46,$AR$30:$AS$30,0)),0,1),IF(ISNUMBER(AK46),1,0),IF(AK46=TRUNC(AK46),1,0),IF(AND(AK46*1=AK46,AK46>=0),1,0),IF(AND(AK46=TRUNC(AK46),AK46>=0),1,0),IF(AND(AK46*1=AK46,AK46>0),1,0),IF(AND(AK46=TRUNC(AK46),AK46>0),1,0),1,IF(ISNA(HLOOKUP(AK46,$AU$4:$BD$4,1,0)),0,1)),0))) -> 1 | BX46: =IF(OR(AL$30="",AL$4=99),1,IF(AL46="",0,IFERROR(CHOOSE(BX$28,IF(ISNA(MATCH(AL46,$AR$30:$AS$30,0)),0,1),IF(ISNUMBER(AL46),1,0),IF(AL46=TRUNC(AL46),1,0),IF(AND(AL46*1=AL46,AL46>=0),1,0),IF(AND(AL46=TRUNC(AL46),AL46>=0),1,0),IF(AND(AL46*1=AL46,AL46>0),1,0),IF(AND(AL46=TRUNC(AL46),AL46>0),1,0),1,IF(ISNA(HLOOKUP(AL46,$AU$4:$BD$4,1,0)),0,1)),0))) -> 1 | BY46: =IF(OR(AM$30="",AM$4=99),1,IF(AM46="",0,IFERROR(CHOOSE(BY$28,IF(ISNA(MATCH(AM46,$AR$30:$AS$30,0)),0,1),IF(ISNUMBER(AM46),1,0),IF(AM46=TRUNC(AM46),1,0),IF(AND(AM46*1=AM46,AM46>=0),1,0),IF(AND(AM46=TRUNC(AM46),AM46>=0),1,0),IF(AND(AM46*1=AM46,AM46>0),1,0),IF(AND(AM46=TRUNC(AM46),AM46>0),1,0),1,IF(ISNA(HLOOKUP(AM46,$AU$4:$BD$4,1,0)),0,1)),0))) -> 1 | BZ46: =IF(OR(AN$30="",AN$4=99),1,IF(AN46="",0,IFERROR(CHOOSE(BZ$28,IF(ISNA(MATCH(AN46,$AR$30:$AS$30,0)),0,1),IF(ISNUMBER(AN46),1,0),IF(AN46=TRUNC(AN46),1,0),IF(AND(AN46*1=AN46,AN46>=0),1,0),IF(AND(AN46=TRUNC(AN46),AN46>=0),1,0),IF(AND(AN46*1=AN46,AN46>0),1,0),IF(AND(AN46=TRUNC(AN46),AN46>0),1,0),1,IF(ISNA(HLOOKUP(AN46,$AU$4:$BD$4,1,0)),0,1)),0))) -> 1 | CA46: =IF(OR(AO$30="",AO$4=99),1,IF(AO46="",0,IFERROR(CHOOSE(CA$28,IF(ISNA(MATCH(AO46,$AR$30:$AS$30,0)),0,1),IF(ISNUMBER(AO46),1,0),IF(AO46=TRUNC(AO46),1,0),IF(AND(AO46*1=AO46,AO46>=0),1,0),IF(AND(AO46=TRUNC(AO46),AO46>=0),1,0),IF(AND(AO46*1=AO46,AO46>0),1,0),IF(AND(AO46=TRUNC(AO46),AO46>0),1,0),1,IF(ISNA(HLOOKUP(AO46,$AU$4:$BD$4,1,0)),0,1)),0))) -> 1 | CL46: =N46>=CS$7 -> TRUE | CM46: =O46>=CM$7 -> TRUE | CN46: =P46>=CN$7 -> TRUE | CO46: =Q46>=CO$7 -> FALSE | CQ46: =AD46>=CQ$7 -> FALSE | CR46: =COUNTIF(CL46:CQ46,TRUE) -> 3 | CS46: =N46>=CS$7 -> TRUE | CT46: =O46>=CT$7 -> TRUE | CU46: =P46>=CU$7 -> TRUE | CV46: =Q46>=CV$7 -> FALSE | CX46: =AD46>=CX$7 -> FALSE | CY46: =COUNTIF(CS46:CX46,TRUE) -> 3 | CZ46: =IF($F46="","",IF(CR46=$CM$5,1,0)) | DA46: =IF($F46="","",IF(AND(CY46=$CM$5,CY46-CR46<=$CT$5),1,0))
B47: =IF(F47="","",ROW()-30) | N47: =IF($F47="","",'ריכוז גיליונות עזר'!H47) | O47: =IF($F47="","",'ריכוז גיליונות עזר'!K47) | P47: =IF($F47="","",'ריכוז גיליונות עזר'!L47) | R47: =IF($F47="","",IF(P47=0,1,IF(Q47<N47,$AR$1,N47/Q47))) | S47: =IF($F47="","",IF(OR(AND(R47=1,P47=1),R47=$AR$1),$AR$1,IF(OR(R47>=$R$5,N47>=$Q$5),1,0))) | AE47: =IF($F47="","",IF(OR(CZ47=1,AND(X47=1,Y47=1,DA47=1)),1,0)) | AO47: =IF($F47="","",IF(AK47=1,1,IF(AQ47<>1,$AR$1,IF(SUMPRODUCT(--(G47:AJ47>=$G$5:$AJ$5)*($G$5:$AJ$5<>"")*($G$4:$AJ$4=1))=COUNTIF($G$4:$AJ$4,1),1,0)))) | AQ47: =IF(OR(SUM(AT47:CA47)<>COUNT(AT47:CA47),SUMPRODUCT(--(G47:AJ47=$AR$1))<>0),0,1) -> 0 | AR47: =IF($F47="","",AR$30) | AS47: =IF($F47="","",AS$30) | AT47: =IF(OR(G$30="",G$4=99),1,IF(G47="",0,IFERROR(CHOOSE(AT$28,IF(ISNA(MATCH(G47,$AR$30:$AS$30,0)),0,1),IF(ISNUMBER(G47),1,0),IF(G47=TRUNC(G47),1,0),IF(AND(G47*1=G47,G47>=0),1,0),IF(AND(G47=TRUNC(G47),G47>=0),1,0),IF(AND(G47*1=G47,G47>0),1,0),IF(AND(G47=TRUNC(G47),G47>0),1,0),1,IF(ISNA(HLOOKUP(G47,$AU$4:$BD$4,1,0)),0,1)),0))) -> 0 | AU47: =IF(OR(H$30="",H$4=99),1,IF(H47="",0,IFERROR(CHOOSE(AU$28,IF(ISNA(MATCH(H47,$AR$30:$AS$30,0)),0,1),IF(ISNUMBER(H47),1,0),IF(H47=TRUNC(H47),1,0),IF(AND(H47*1=H47,H47>=0),1,0),IF(AND(H47=TRUNC(H47),H47>=0),1,0),IF(AND(H47*1=H47,H47>0),1,0),IF(AND(H47=TRUNC(H47),H47>0),1,0),1,IF(ISNA(HLOOKUP(H47,$AU$4:$BD$4,1,0)),0,1)),0))) -> 0 | AV47: =IF(OR(I$30="",I$4=99),1,IF(I47="",0,IFERROR(CHOOSE(AV$28,IF(ISNA(MATCH(I47,$AR$30:$AS$30,0)),0,1),IF(ISNUMBER(I47),1,0),IF(I47=TRUNC(I47),1,0),IF(AND(I47*1=I47,I47>=0),1,0),IF(AND(I47=TRUNC(I47),I47>=0),1,0),IF(AND(I47*1=I47,I47>0),1,0),IF(AND(I47=TRUNC(I47),I47>0),1,0),1,IF(ISNA(HLOOKUP(I47,$AU$4:$BD$4,1,0)),0,1)),0))) -> 0 | AW47: =IF(OR(J$30="",J$4=99),1,IF(J47="",0,IFERROR(CHOOSE(AW$28,IF(ISNA(MATCH(J47,$AR$30:$AS$30,0)),0,1),IF(ISNUMBER(J47),1,0),IF(J47=TRUNC(J47),1,0),IF(AND(J47*1=J47,J47>=0),1,0),IF(AND(J47=TRUNC(J47),J47>=0),1,0),IF(AND(J47*1=J47,J47>0),1,0),IF(AND(J47=TRUNC(J47),J47>0),1,0),1,IF(ISNA(HLOOKUP(J47,$AU$4:$BD$4,1,0)),0,1)),0))) -> 0 | AX47: =IF(OR(K$30="",K$4=99),1,IF(K47="",0,IFERROR(CHOOSE(AX$28,IF(ISNA(MATCH(K47,$AR$30:$AS$30,0)),0,1),IF(ISNUMBER(K47),1,0),IF(K47=TRUNC(K47),1,0),IF(AND(K47*1=K47,K47>=0),1,0),IF(AND(K47=TRUNC(K47),K47>=0),1,0),IF(AND(K47*1=K47,K47>0),1,0),IF(AND(K47=TRUNC(K47),K47>0),1,0),1,IF(ISNA(HLOOKUP(K47,$AU$4:$BD$4,1,0)),0,1)),0))) -> 0 | AY47: =IF(OR(L$30="",L$4=99),1,IF(L47="",0,IFERROR(CHOOSE(AY$28,IF(ISNA(MATCH(L47,$AR$30:$AS$30,0)),0,1),IF(ISNUMBER(L47),1,0),IF(L47=TRUNC(L47),1,0),IF(AND(L47*1=L47,L47>=0),1,0),IF(AND(L47=TRUNC(L47),L47>=0),1,0),IF(AND(L47*1=L47,L47>0),1,0),IF(AND(L47=TRUNC(L47),L47>0),1,0),1,IF(ISNA(HLOOKUP(L47,$AU$4:$BD$4,1,0)),0,1)),0))) -> 0 | AZ47: =IF(OR(M$30="",M$4=99),1,IF(M47="",0,IFERROR(CHOOSE(AZ$28,IF(ISNA(MATCH(M47,$AR$30:$AS$30,0)),0,1),IF(ISNUMBER(M47),1,0),IF(M47=TRUNC(M47),1,0),IF(AND(M47*1=M47,M47>=0),1,0),IF(AND(M47=TRUNC(M47),M47>=0),1,0),IF(AND(M47*1=M47,M47>0),1,0),IF(AND(M47=TRUNC(M47),M47>0),1,0),1,IF(ISNA(HLOOKUP(M47,$AU$4:$BD$4,1,0)),0,1)),0))) -> 0 | BA47: =IF(OR(N$30="",N$4=99),1,IF(N47="",0,IFERROR(CHOOSE(BA$28,IF(ISNA(MATCH(N47,$AR$30:$AS$30,0)),0,1),IF(ISNUMBER(N47),1,0),IF(N47=TRUNC(N47),1,0),IF(AND(N47*1=N47,N47>=0),1,0),IF(AND(N47=TRUNC(N47),N47>=0),1,0),IF(AND(N47*1=N47,N47>0),1,0),IF(AND(N47=TRUNC(N47),N47>0),1,0),1,IF(ISNA(HLOOKUP(N47,$AU$4:$BD$4,1,0)),0,1)),0))) -> 1 | ... BH47: =IF(OR(U$30="",U$4=99),1,IF(U47="",0,IFERROR(CHOOSE(BH$28,IF(ISNA(MATCH(U47,$AR$30:$AS$30,0)),0,1),IF(ISNUMBER(U47),1,0),IF(U47=TRUNC(U47),1,0),IF(AND(U47*1=U47,U47>=0),1,0),IF(AND(U47=TRUNC(U47),U47>=0),1,0),IF(AND(U47*1=U47,U47>0),1,0),IF(AND(U47=TRUNC(U47),U47>0),1,0),1,IF(ISNA(HLOOKUP(U47,$AU$4:$BD$4,1,0)),0,1)),0))) -> 0 | BI47: =IF(OR(V$30="",W$4=99),1,IF(V47="",0,IFERROR(CHOOSE(BI$28,IF(ISNA(MATCH(V47,$AR$30:$AS$30,0)),0,1),IF(ISNUMBER(V47),1,0),IF(V47=TRUNC(V47),1,0),IF(AND(V47*1=V47,V47>=0),1,0),IF(AND(V47=TRUNC(V47),V47>=0),1,0),IF(AND(V47*1=V47,V47>0),1,0),IF(AND(V47=TRUNC(V47),V47>0),1,0),1,IF(ISNA(HLOOKUP(V47,$AU$4:$BD$4,1,0)),0,1)),0))) -> 0 | BJ47: =IF(OR(W$30="",X$4=99),1,IF(W47="",0,IFERROR(CHOOSE(BJ$28,IF(ISNA(MATCH(W47,$AR$30:$AS$30,0)),0,1),IF(ISNUMBER(W47),1,0),IF(W47=TRUNC(W47),1,0),IF(AND(W47*1=W47,W47>=0),1,0),IF(AND(W47=TRUNC(W47),W47>=0),1,0),IF(AND(W47*1=W47,W47>0),1,0),IF(AND(W47=TRUNC(W47),W47>0),1,0),1,IF(ISNA(HLOOKUP(W47,$AU$4:$BD$4,1,0)),0,1)),0))) -> 1 | BK47: =IF(OR(X$30="",X$4=99),1,IF(X47="",0,IFERROR(CHOOSE(BK$28,IF(ISNA(MATCH(X47,$AR$30:$AS$30,0)),0,1),IF(ISNUMBER(X47),1,0),IF(X47=TRUNC(X47),1,0),IF(AND(X47*1=X47,X47>=0),1,0),IF(AND(X47=TRUNC(X47),X47>=0),1,0),IF(AND(X47*1=X47,X47>0),1,0),IF(AND(X47=TRUNC(X47),X47>0),1,0),1,IF(ISNA(HLOOKUP(X47,$AU$4:$BD$4,1,0)),0,1)),0))) -> 1 | BL47: =IF(OR(Y$30="",Y$4=99),1,IF(Y47="",0,IFERROR(CHOOSE(BL$28,IF(ISNA(MATCH(Y47,$AR$30:$AS$30,0)),0,1),IF(ISNUMBER(Y47),1,0),IF(Y47=TRUNC(Y47),1,0),IF(AND(Y47*1=Y47,Y47>=0),1,0),IF(AND(Y47=TRUNC(Y47),Y47>=0),1,0),IF(AND(Y47*1=Y47,Y47>0),1,0),IF(AND(Y47=TRUNC(Y47),Y47>0),1,0),1,IF(ISNA(HLOOKUP(Y47,$AU$4:$BD$4,1,0)),0,1)),0))) -> 1 | BM47: =IF(OR(Z$30="",Z$4=99),1,IF(Z47="",0,IFERROR(CHOOSE(BM$28,IF(ISNA(MATCH(Z47,$AR$30:$AS$30,0)),0,1),IF(ISNUMBER(Z47),1,0),IF(Z47=TRUNC(Z47),1,0),IF(AND(Z47*1=Z47,Z47>=0),1,0),IF(AND(Z47=TRUNC(Z47),Z47>=0),1,0),IF(AND(Z47*1=Z47,Z47>0),1,0),IF(AND(Z47=TRUNC(Z47),Z47>0),1,0),1,IF(ISNA(HLOOKUP(Z47,$AU$4:$BD$4,1,0)),0,1)),0))) -> 1 | BN47: =IF(OR(AA$30="",AA$4=99),1,IF(AA47="",0,IFERROR(CHOOSE(BN$28,IF(ISNA(MATCH(AA47,$AR$30:$AS$30,0)),0,1),IF(ISNUMBER(AA47),1,0),IF(AA47=TRUNC(AA47),1,0),IF(AND(AA47*1=AA47,AA47>=0),1,0),IF(AND(AA47=TRUNC(AA47),AA47>=0),1,0),IF(AND(AA47*1=AA47,AA47>0),1,0),IF(AND(AA47=TRUNC(AA47),AA47>0),1,0),1,IF(ISNA(HLOOKUP(AA47,$AU$4:$BD$4,1,0)),0,1)),0))) -> 1 | BO47: =IF(OR(AB$30="",AB$4=99),1,IF(AB47="",0,IFERROR(CHOOSE(BO$28,IF(ISNA(MATCH(AB47,$AR$30:$AS$30,0)),0,1),IF(ISNUMBER(AB47),1,0),IF(AB47=TRUNC(AB47),1,0),IF(AND(AB47*1=AB47,AB47>=0),1,0),IF(AND(AB47=TRUNC(AB47),AB47>=0),1,0),IF(AND(AB47*1=AB47,AB47>0),1,0),IF(AND(AB47=TRUNC(AB47),AB47>0),1,0),1,IF(ISNA(HLOOKUP(AB47,$AU$4:$BD$4,1,0)),0,1)),0))) -> 1 | BP47: =IF(OR(AC$30="",AC$4=99),1,IF(AC47="",0,IFERROR(CHOOSE(BP$28,IF(ISNA(MATCH(AC47,$AR$30:$AS$30,0)),0,1),IF(ISNUMBER(AC47),1,0),IF(AC47=TRUNC(AC47),1,0),IF(AND(AC47*1=AC47,AC47>=0),1,0),IF(AND(AC47=TRUNC(AC47),AC47>=0),1,0),IF(AND(AC47*1=AC47,AC47>0),1,0),IF(AND(AC47=TRUNC(AC47),AC47>0),1,0),1,IF(ISNA(HLOOKUP(AC47,$AU$4:$BD$4,1,0)),0,1)),0))) -> 1 | BQ47: =IF(OR(AD$30="",AD$4=99),1,IF(AD47="",0,IFERROR(CHOOSE(BQ$28,IF(ISNA(MATCH(AD47,$AR$30:$AS$30,0)),0,1),IF(ISNUMBER(AD47),1,0),IF(AD47=TRUNC(AD47),1,0),IF(AND(AD47*1=AD47,AD47>=0),1,0),IF(AND(AD47=TRUNC(AD47),AD47>=0),1,0),IF(AND(AD47*1=AD47,AD47>0),1,0),IF(AND(AD47=TRUNC(AD47),AD47>0),1,0),1,IF(ISNA(HLOOKUP(AD47,$AU$4:$BD$4,1,0)),0,1)),0))) -> 0 | BR47: =IF(OR(AE$30="",AE$4=99),1,IF(AE47="",0,IFERROR(CHOOSE(BR$28,IF(ISNA(MATCH(AE47,$AR$30:$AS$30,0)),0,1),IF(ISNUMBER(AE47),1,0),IF(AE47=TRUNC(AE47),1,0),IF(AND(AE47*1=AE47,AE47>=0),1,0),IF(AND(AE47=TRUNC(AE47),AE47>=0),1,0),IF(AND(AE47*1=AE47,AE47>0),1,0),IF(AND(AE47=TRUNC(AE47),AE47>0),1,0),1,IF(ISNA(HLOOKUP(AE47,$AU$4:$BD$4,1,0)),0,1)),0))) -> 1 | ... BU47: =IF(OR(AH$30="",AH$4=99),1,IF(AH47="",0,IFERROR(CHOOSE(BU$28,IF(ISNA(MATCH(AH47,$AR$30:$AS$30,0)),0,1),IF(ISNUMBER(AH47),1,0),IF(AH47=TRUNC(AH47),1,0),IF(AND(AH47*1=AH47,AH47>=0),1,0),IF(AND(AH47=TRUNC(AH47),AH47>=0),1,0),IF(AND(AH47*1=AH47,AH47>0),1,0),IF(AND(AH47=TRUNC(AH47),AH47>0),1,0),1,IF(ISNA(HLOOKUP(AH47,$AU$4:$BD$4,1,0)),0,1)),0))) -> 0 | BV47: =IF(OR(AJ$30="",AJ$4=99),1,IF(AJ47="",0,IFERROR(CHOOSE(BV$28,IF(ISNA(MATCH(AJ47,$AR$30:$AS$30,0)),0,1),IF(ISNUMBER(AJ47),1,0),IF(AJ47=TRUNC(AJ47),1,0),IF(AND(AJ47*1=AJ47,AJ47>=0),1,0),IF(AND(AJ47=TRUNC(AJ47),AJ47>=0),1,0),IF(AND(AJ47*1=AJ47,AJ47>0),1,0),IF(AND(AJ47=TRUNC(AJ47),AJ47>0),1,0),1,IF(ISNA(HLOOKUP(AJ47,$AU$4:$BD$4,1,0)),0,1)),0))) -> 0 | BW47: =IF(OR(AK$30="",AK$4=99),1,IF(AK47="",0,IFERROR(CHOOSE(BW$28,IF(ISNA(MATCH(AK47,$AR$30:$AS$30,0)),0,1),IF(ISNUMBER(AK47),1,0),IF(AK47=TRUNC(AK47),1,0),IF(AND(AK47*1=AK47,AK47>=0),1,0),IF(AND(AK47=TRUNC(AK47),AK47>=0),1,0),IF(AND(AK47*1=AK47,AK47>0),1,0),IF(AND(AK47=TRUNC(AK47),AK47>0),1,0),1,IF(ISNA(HLOOKUP(AK47,$AU$4:$BD$4,1,0)),0,1)),0))) -> 1 | BX47: =IF(OR(AL$30="",AL$4=99),1,IF(AL47="",0,IFERROR(CHOOSE(BX$28,IF(ISNA(MATCH(AL47,$AR$30:$AS$30,0)),0,1),IF(ISNUMBER(AL47),1,0),IF(AL47=TRUNC(AL47),1,0),IF(AND(AL47*1=AL47,AL47>=0),1,0),IF(AND(AL47=TRUNC(AL47),AL47>=0),1,0),IF(AND(AL47*1=AL47,AL47>0),1,0),IF(AND(AL47=TRUNC(AL47),AL47>0),1,0),1,IF(ISNA(HLOOKUP(AL47,$AU$4:$BD$4,1,0)),0,1)),0))) -> 1 | BY47: =IF(OR(AM$30="",AM$4=99),1,IF(AM47="",0,IFERROR(CHOOSE(BY$28,IF(ISNA(MATCH(AM47,$AR$30:$AS$30,0)),0,1),IF(ISNUMBER(AM47),1,0),IF(AM47=TRUNC(AM47),1,0),IF(AND(AM47*1=AM47,AM47>=0),1,0),IF(AND(AM47=TRUNC(AM47),AM47>=0),1,0),IF(AND(AM47*1=AM47,AM47>0),1,0),IF(AND(AM47=TRUNC(AM47),AM47>0),1,0),1,IF(ISNA(HLOOKUP(AM47,$AU$4:$BD$4,1,0)),0,1)),0))) -> 1 | BZ47: =IF(OR(AN$30="",AN$4=99),1,IF(AN47="",0,IFERROR(CHOOSE(BZ$28,IF(ISNA(MATCH(AN47,$AR$30:$AS$30,0)),0,1),IF(ISNUMBER(AN47),1,0),IF(AN47=TRUNC(AN47),1,0),IF(AND(AN47*1=AN47,AN47>=0),1,0),IF(AND(AN47=TRUNC(AN47),AN47>=0),1,0),IF(AND(AN47*1=AN47,AN47>0),1,0),IF(AND(AN47=TRUNC(AN47),AN47>0),1,0),1,IF(ISNA(HLOOKUP(AN47,$AU$4:$BD$4,1,0)),0,1)),0))) -> 1 | CA47: =IF(OR(AO$30="",AO$4=99),1,IF(AO47="",0,IFERROR(CHOOSE(CA$28,IF(ISNA(MATCH(AO47,$AR$30:$AS$30,0)),0,1),IF(ISNUMBER(AO47),1,0),IF(AO47=TRUNC(AO47),1,0),IF(AND(AO47*1=AO47,AO47>=0),1,0),IF(AND(AO47=TRUNC(AO47),AO47>=0),1,0),IF(AND(AO47*1=AO47,AO47>0),1,0),IF(AND(AO47=TRUNC(AO47),AO47>0),1,0),1,IF(ISNA(HLOOKUP(AO47,$AU$4:$BD$4,1,0)),0,1)),0))) -> 1 | CL47: =N47>=CS$7 -> TRUE | CM47: =O47>=CM$7 -> TRUE | CN47: =P47>=CN$7 -> TRUE | CO47: =Q47>=CO$7 -> FALSE | CQ47: =AD47>=CQ$7 -> FALSE | CR47: =COUNTIF(CL47:CQ47,TRUE) -> 3 | CS47: =N47>=CS$7 -> TRUE | CT47: =O47>=CT$7 -> TRUE | CU47: =P47>=CU$7 -> TRUE | CV47: =Q47>=CV$7 -> FALSE | CX47: =AD47>=CX$7 -> FALSE | CY47: =COUNTIF(CS47:CX47,TRUE) -> 3 | CZ47: =IF($F47="","",IF(CR47=$CM$5,1,0)) | DA47: =IF($F47="","",IF(AND(CY47=$CM$5,CY47-CR47<=$CT$5),1,0))
B48: =IF(F48="","",ROW()-30) | N48: =IF($F48="","",'ריכוז גיליונות עזר'!H48) | O48: =IF($F48="","",'ריכוז גיליונות עזר'!K48) | P48: =IF($F48="","",'ריכוז גיליונות עזר'!L48) | R48: =IF($F48="","",IF(P48=0,1,IF(Q48<N48,$AR$1,N48/Q48))) | S48: =IF($F48="","",IF(OR(AND(R48=1,P48=1),R48=$AR$1),$AR$1,IF(OR(R48>=$R$5,N48>=$Q$5),1,0))) | AE48: =IF($F48="","",IF(OR(CZ48=1,AND(X48=1,Y48=1,DA48=1)),1,0)) | AO48: =IF($F48="","",IF(AK48=1,1,IF(AQ48<>1,$AR$1,IF(SUMPRODUCT(--(G48:AJ48>=$G$5:$AJ$5)*($G$5:$AJ$5<>"")*($G$4:$AJ$4=1))=COUNTIF($G$4:$AJ$4,1),1,0)))) | AQ48: =IF(OR(SUM(AT48:CA48)<>COUNT(AT48:CA48),SUMPRODUCT(--(G48:AJ48=$AR$1))<>0),0,1) -> 0 | AR48: =IF($F48="","",AR$30) | AS48: =IF($F48="","",AS$30) | AT48: =IF(OR(G$30="",G$4=99),1,IF(G48="",0,IFERROR(CHOOSE(AT$28,IF(ISNA(MATCH(G48,$AR$30:$AS$30,0)),0,1),IF(ISNUMBER(G48),1,0),IF(G48=TRUNC(G48),1,0),IF(AND(G48*1=G48,G48>=0),1,0),IF(AND(G48=TRUNC(G48),G48>=0),1,0),IF(AND(G48*1=G48,G48>0),1,0),IF(AND(G48=TRUNC(G48),G48>0),1,0),1,IF(ISNA(HLOOKUP(G48,$AU$4:$BD$4,1,0)),0,1)),0))) -> 0 | AU48: =IF(OR(H$30="",H$4=99),1,IF(H48="",0,IFERROR(CHOOSE(AU$28,IF(ISNA(MATCH(H48,$AR$30:$AS$30,0)),0,1),IF(ISNUMBER(H48),1,0),IF(H48=TRUNC(H48),1,0),IF(AND(H48*1=H48,H48>=0),1,0),IF(AND(H48=TRUNC(H48),H48>=0),1,0),IF(AND(H48*1=H48,H48>0),1,0),IF(AND(H48=TRUNC(H48),H48>0),1,0),1,IF(ISNA(HLOOKUP(H48,$AU$4:$BD$4,1,0)),0,1)),0))) -> 0 | AV48: =IF(OR(I$30="",I$4=99),1,IF(I48="",0,IFERROR(CHOOSE(AV$28,IF(ISNA(MATCH(I48,$AR$30:$AS$30,0)),0,1),IF(ISNUMBER(I48),1,0),IF(I48=TRUNC(I48),1,0),IF(AND(I48*1=I48,I48>=0),1,0),IF(AND(I48=TRUNC(I48),I48>=0),1,0),IF(AND(I48*1=I48,I48>0),1,0),IF(AND(I48=TRUNC(I48),I48>0),1,0),1,IF(ISNA(HLOOKUP(I48,$AU$4:$BD$4,1,0)),0,1)),0))) -> 0 | AW48: =IF(OR(J$30="",J$4=99),1,IF(J48="",0,IFERROR(CHOOSE(AW$28,IF(ISNA(MATCH(J48,$AR$30:$AS$30,0)),0,1),IF(ISNUMBER(J48),1,0),IF(J48=TRUNC(J48),1,0),IF(AND(J48*1=J48,J48>=0),1,0),IF(AND(J48=TRUNC(J48),J48>=0),1,0),IF(AND(J48*1=J48,J48>0),1,0),IF(AND(J48=TRUNC(J48),J48>0),1,0),1,IF(ISNA(HLOOKUP(J48,$AU$4:$BD$4,1,0)),0,1)),0))) -> 0 | AX48: =IF(OR(K$30="",K$4=99),1,IF(K48="",0,IFERROR(CHOOSE(AX$28,IF(ISNA(MATCH(K48,$AR$30:$AS$30,0)),0,1),IF(ISNUMBER(K48),1,0),IF(K48=TRUNC(K48),1,0),IF(AND(K48*1=K48,K48>=0),1,0),IF(AND(K48=TRUNC(K48),K48>=0),1,0),IF(AND(K48*1=K48,K48>0),1,0),IF(AND(K48=TRUNC(K48),K48>0),1,0),1,IF(ISNA(HLOOKUP(K48,$AU$4:$BD$4,1,0)),0,1)),0))) -> 0 | AY48: =IF(OR(L$30="",L$4=99),1,IF(L48="",0,IFERROR(CHOOSE(AY$28,IF(ISNA(MATCH(L48,$AR$30:$AS$30,0)),0,1),IF(ISNUMBER(L48),1,0),IF(L48=TRUNC(L48),1,0),IF(AND(L48*1=L48,L48>=0),1,0),IF(AND(L48=TRUNC(L48),L48>=0),1,0),IF(AND(L48*1=L48,L48>0),1,0),IF(AND(L48=TRUNC(L48),L48>0),1,0),1,IF(ISNA(HLOOKUP(L48,$AU$4:$BD$4,1,0)),0,1)),0))) -> 0 | AZ48: =IF(OR(M$30="",M$4=99),1,IF(M48="",0,IFERROR(CHOOSE(AZ$28,IF(ISNA(MATCH(M48,$AR$30:$AS$30,0)),0,1),IF(ISNUMBER(M48),1,0),IF(M48=TRUNC(M48),1,0),IF(AND(M48*1=M48,M48>=0),1,0),IF(AND(M48=TRUNC(M48),M48>=0),1,0),IF(AND(M48*1=M48,M48>0),1,0),IF(AND(M48=TRUNC(M48),M48>0),1,0),1,IF(ISNA(HLOOKUP(M48,$AU$4:$BD$4,1,0)),0,1)),0))) -> 0 | BA48: =IF(OR(N$30="",N$4=99),1,IF(N48="",0,IFERROR(CHOOSE(BA$28,IF(ISNA(MATCH(N48,$AR$30:$AS$30,0)),0,1),IF(ISNUMBER(N48),1,0),IF(N48=TRUNC(N48),1,0),IF(AND(N48*1=N48,N48>=0),1,0),IF(AND(N48=TRUNC(N48),N48>=0),1,0),IF(AND(N48*1=N48,N48>0),1,0),IF(AND(N48=TRUNC(N48),N48>0),1,0),1,IF(ISNA(HLOOKUP(N48,$AU$4:$BD$4,1,0)),0,1)),0))) -> 1 | ... BH48: =IF(OR(U$30="",U$4=99),1,IF(U48="",0,IFERROR(CHOOSE(BH$28,IF(ISNA(MATCH(U48,$AR$30:$AS$30,0)),0,1),IF(ISNUMBER(U48),1,0),IF(U48=TRUNC(U48),1,0),IF(AND(U48*1=U48,U48>=0),1,0),IF(AND(U48=TRUNC(U48),U48>=0),1,0),IF(AND(U48*1=U48,U48>0),1,0),IF(AND(U48=TRUNC(U48),U48>0),1,0),1,IF(ISNA(HLOOKUP(U48,$AU$4:$BD$4,1,0)),0,1)),0))) -> 0 | BI48: =IF(OR(V$30="",W$4=99),1,IF(V48="",0,IFERROR(CHOOSE(BI$28,IF(ISNA(MATCH(V48,$AR$30:$AS$30,0)),0,1),IF(ISNUMBER(V48),1,0),IF(V48=TRUNC(V48),1,0),IF(AND(V48*1=V48,V48>=0),1,0),IF(AND(V48=TRUNC(V48),V48>=0),1,0),IF(AND(V48*1=V48,V48>0),1,0),IF(AND(V48=TRUNC(V48),V48>0),1,0),1,IF(ISNA(HLOOKUP(V48,$AU$4:$BD$4,1,0)),0,1)),0))) -> 0 | BJ48: =IF(OR(W$30="",X$4=99),1,IF(W48="",0,IFERROR(CHOOSE(BJ$28,IF(ISNA(MATCH(W48,$AR$30:$AS$30,0)),0,1),IF(ISNUMBER(W48),1,0),IF(W48=TRUNC(W48),1,0),IF(AND(W48*1=W48,W48>=0),1,0),IF(AND(W48=TRUNC(W48),W48>=0),1,0),IF(AND(W48*1=W48,W48>0),1,0),IF(AND(W48=TRUNC(W48),W48>0),1,0),1,IF(ISNA(HLOOKUP(W48,$AU$4:$BD$4,1,0)),0,1)),0))) -> 1 | BK48: =IF(OR(X$30="",X$4=99),1,IF(X48="",0,IFERROR(CHOOSE(BK$28,IF(ISNA(MATCH(X48,$AR$30:$AS$30,0)),0,1),IF(ISNUMBER(X48),1,0),IF(X48=TRUNC(X48),1,0),IF(AND(X48*1=X48,X48>=0),1,0),IF(AND(X48=TRUNC(X48),X48>=0),1,0),IF(AND(X48*1=X48,X48>0),1,0),IF(AND(X48=TRUNC(X48),X48>0),1,0),1,IF(ISNA(HLOOKUP(X48,$AU$4:$BD$4,1,0)),0,1)),0))) -> 1 | BL48: =IF(OR(Y$30="",Y$4=99),1,IF(Y48="",0,IFERROR(CHOOSE(BL$28,IF(ISNA(MATCH(Y48,$AR$30:$AS$30,0)),0,1),IF(ISNUMBER(Y48),1,0),IF(Y48=TRUNC(Y48),1,0),IF(AND(Y48*1=Y48,Y48>=0),1,0),IF(AND(Y48=TRUNC(Y48),Y48>=0),1,0),IF(AND(Y48*1=Y48,Y48>0),1,0),IF(AND(Y48=TRUNC(Y48),Y48>0),1,0),1,IF(ISNA(HLOOKUP(Y48,$AU$4:$BD$4,1,0)),0,1)),0))) -> 1 | BM48: =IF(OR(Z$30="",Z$4=99),1,IF(Z48="",0,IFERROR(CHOOSE(BM$28,IF(ISNA(MATCH(Z48,$AR$30:$AS$30,0)),0,1),IF(ISNUMBER(Z48),1,0),IF(Z48=TRUNC(Z48),1,0),IF(AND(Z48*1=Z48,Z48>=0),1,0),IF(AND(Z48=TRUNC(Z48),Z48>=0),1,0),IF(AND(Z48*1=Z48,Z48>0),1,0),IF(AND(Z48=TRUNC(Z48),Z48>0),1,0),1,IF(ISNA(HLOOKUP(Z48,$AU$4:$BD$4,1,0)),0,1)),0))) -> 1 | BN48: =IF(OR(AA$30="",AA$4=99),1,IF(AA48="",0,IFERROR(CHOOSE(BN$28,IF(ISNA(MATCH(AA48,$AR$30:$AS$30,0)),0,1),IF(ISNUMBER(AA48),1,0),IF(AA48=TRUNC(AA48),1,0),IF(AND(AA48*1=AA48,AA48>=0),1,0),IF(AND(AA48=TRUNC(AA48),AA48>=0),1,0),IF(AND(AA48*1=AA48,AA48>0),1,0),IF(AND(AA48=TRUNC(AA48),AA48>0),1,0),1,IF(ISNA(HLOOKUP(AA48,$AU$4:$BD$4,1,0)),0,1)),0))) -> 1 | BO48: =IF(OR(AB$30="",AB$4=99),1,IF(AB48="",0,IFERROR(CHOOSE(BO$28,IF(ISNA(MATCH(AB48,$AR$30:$AS$30,0)),0,1),IF(ISNUMBER(AB48),1,0),IF(AB48=TRUNC(AB48),1,0),IF(AND(AB48*1=AB48,AB48>=0),1,0),IF(AND(AB48=TRUNC(AB48),AB48>=0),1,0),IF(AND(AB48*1=AB48,AB48>0),1,0),IF(AND(AB48=TRUNC(AB48),AB48>0),1,0),1,IF(ISNA(HLOOKUP(AB48,$AU$4:$BD$4,1,0)),0,1)),0))) -> 1 | BP48: =IF(OR(AC$30="",AC$4=99),1,IF(AC48="",0,IFERROR(CHOOSE(BP$28,IF(ISNA(MATCH(AC48,$AR$30:$AS$30,0)),0,1),IF(ISNUMBER(AC48),1,0),IF(AC48=TRUNC(AC48),1,0),IF(AND(AC48*1=AC48,AC48>=0),1,0),IF(AND(AC48=TRUNC(AC48),AC48>=0),1,0),IF(AND(AC48*1=AC48,AC48>0),1,0),IF(AND(AC48=TRUNC(AC48),AC48>0),1,0),1,IF(ISNA(HLOOKUP(AC48,$AU$4:$BD$4,1,0)),0,1)),0))) -> 1 | BQ48: =IF(OR(AD$30="",AD$4=99),1,IF(AD48="",0,IFERROR(CHOOSE(BQ$28,IF(ISNA(MATCH(AD48,$AR$30:$AS$30,0)),0,1),IF(ISNUMBER(AD48),1,0),IF(AD48=TRUNC(AD48),1,0),IF(AND(AD48*1=AD48,AD48>=0),1,0),IF(AND(AD48=TRUNC(AD48),AD48>=0),1,0),IF(AND(AD48*1=AD48,AD48>0),1,0),IF(AND(AD48=TRUNC(AD48),AD48>0),1,0),1,IF(ISNA(HLOOKUP(AD48,$AU$4:$BD$4,1,0)),0,1)),0))) -> 0 | BR48: =IF(OR(AE$30="",AE$4=99),1,IF(AE48="",0,IFERROR(CHOOSE(BR$28,IF(ISNA(MATCH(AE48,$AR$30:$AS$30,0)),0,1),IF(ISNUMBER(AE48),1,0),IF(AE48=TRUNC(AE48),1,0),IF(AND(AE48*1=AE48,AE48>=0),1,0),IF(AND(AE48=TRUNC(AE48),AE48>=0),1,0),IF(AND(AE48*1=AE48,AE48>0),1,0),IF(AND(AE48=TRUNC(AE48),AE48>0),1,0),1,IF(ISNA(HLOOKUP(AE48,$AU$4:$BD$4,1,0)),0,1)),0))) -> 1 | ... BU48: =IF(OR(AH$30="",AH$4=99),1,IF(AH48="",0,IFERROR(CHOOSE(BU$28,IF(ISNA(MATCH(AH48,$AR$30:$AS$30,0)),0,1),IF(ISNUMBER(AH48),1,0),IF(AH48=TRUNC(AH48),1,0),IF(AND(AH48*1=AH48,AH48>=0),1,0),IF(AND(AH48=TRUNC(AH48),AH48>=0),1,0),IF(AND(AH48*1=AH48,AH48>0),1,0),IF(AND(AH48=TRUNC(AH48),AH48>0),1,0),1,IF(ISNA(HLOOKUP(AH48,$AU$4:$BD$4,1,0)),0,1)),0))) -> 0 | BV48: =IF(OR(AJ$30="",AJ$4=99),1,IF(AJ48="",0,IFERROR(CHOOSE(BV$28,IF(ISNA(MATCH(AJ48,$AR$30:$AS$30,0)),0,1),IF(ISNUMBER(AJ48),1,0),IF(AJ48=TRUNC(AJ48),1,0),IF(AND(AJ48*1=AJ48,AJ48>=0),1,0),IF(AND(AJ48=TRUNC(AJ48),AJ48>=0),1,0),IF(AND(AJ48*1=AJ48,AJ48>0),1,0),IF(AND(AJ48=TRUNC(AJ48),AJ48>0),1,0),1,IF(ISNA(HLOOKUP(AJ48,$AU$4:$BD$4,1,0)),0,1)),0))) -> 0 | BW48: =IF(OR(AK$30="",AK$4=99),1,IF(AK48="",0,IFERROR(CHOOSE(BW$28,IF(ISNA(MATCH(AK48,$AR$30:$AS$30,0)),0,1),IF(ISNUMBER(AK48),1,0),IF(AK48=TRUNC(AK48),1,0),IF(AND(AK48*1=AK48,AK48>=0),1,0),IF(AND(AK48=TRUNC(AK48),AK48>=0),1,0),IF(AND(AK48*1=AK48,AK48>0),1,0),IF(AND(AK48=TRUNC(AK48),AK48>0),1,0),1,IF(ISNA(HLOOKUP(AK48,$AU$4:$BD$4,1,0)),0,1)),0))) -> 1 | BX48: =IF(OR(AL$30="",AL$4=99),1,IF(AL48="",0,IFERROR(CHOOSE(BX$28,IF(ISNA(MATCH(AL48,$AR$30:$AS$30,0)),0,1),IF(ISNUMBER(AL48),1,0),IF(AL48=TRUNC(AL48),1,0),IF(AND(AL48*1=AL48,AL48>=0),1,0),IF(AND(AL48=TRUNC(AL48),AL48>=0),1,0),IF(AND(AL48*1=AL48,AL48>0),1,0),IF(AND(AL48=TRUNC(AL48),AL48>0),1,0),1,IF(ISNA(HLOOKUP(AL48,$AU$4:$BD$4,1,0)),0,1)),0))) -> 1 | BY48: =IF(OR(AM$30="",AM$4=99),1,IF(AM48="",0,IFERROR(CHOOSE(BY$28,IF(ISNA(MATCH(AM48,$AR$30:$AS$30,0)),0,1),IF(ISNUMBER(AM48),1,0),IF(AM48=TRUNC(AM48),1,0),IF(AND(AM48*1=AM48,AM48>=0),1,0),IF(AND(AM48=TRUNC(AM48),AM48>=0),1,0),IF(AND(AM48*1=AM48,AM48>0),1,0),IF(AND(AM48=TRUNC(AM48),AM48>0),1,0),1,IF(ISNA(HLOOKUP(AM48,$AU$4:$BD$4,1,0)),0,1)),0))) -> 1 | BZ48: =IF(OR(AN$30="",AN$4=99),1,IF(AN48="",0,IFERROR(CHOOSE(BZ$28,IF(ISNA(MATCH(AN48,$AR$30:$AS$30,0)),0,1),IF(ISNUMBER(AN48),1,0),IF(AN48=TRUNC(AN48),1,0),IF(AND(AN48*1=AN48,AN48>=0),1,0),IF(AND(AN48=TRUNC(AN48),AN48>=0),1,0),IF(AND(AN48*1=AN48,AN48>0),1,0),IF(AND(AN48=TRUNC(AN48),AN48>0),1,0),1,IF(ISNA(HLOOKUP(AN48,$AU$4:$BD$4,1,0)),0,1)),0))) -> 1 | CA48: =IF(OR(AO$30="",AO$4=99),1,IF(AO48="",0,IFERROR(CHOOSE(CA$28,IF(ISNA(MATCH(AO48,$AR$30:$AS$30,0)),0,1),IF(ISNUMBER(AO48),1,0),IF(AO48=TRUNC(AO48),1,0),IF(AND(AO48*1=AO48,AO48>=0),1,0),IF(AND(AO48=TRUNC(AO48),AO48>=0),1,0),IF(AND(AO48*1=AO48,AO48>0),1,0),IF(AND(AO48=TRUNC(AO48),AO48>0),1,0),1,IF(ISNA(HLOOKUP(AO48,$AU$4:$BD$4,1,0)),0,1)),0))) -> 1 | CL48: =N48>=CS$7 -> TRUE | CM48: =O48>=CM$7 -> TRUE | CN48: =P48>=CN$7 -> TRUE | CO48: =Q48>=CO$7 -> FALSE | CQ48: =AD48>=CQ$7 -> FALSE | CR48: =COUNTIF(CL48:CQ48,TRUE) -> 3 | CS48: =N48>=CS$7 -> TRUE | CT48: =O48>=CT$7 -> TRUE | CU48: =P48>=CU$7 -> TRUE | CV48: =Q48>=CV$7 -> FALSE | CX48: =AD48>=CX$7 -> FALSE | CY48: =COUNTIF(CS48:CX48,TRUE) -> 3 | CZ48: =IF($F48="","",IF(CR48=$CM$5,1,0)) | DA48: =IF($F48="","",IF(AND(CY48=$CM$5,CY48-CR48<=$CT$5),1,0))
