Workbook
Name a: #REF!
Name aa: #REF!
Name b: #REF!
Name DDDD: #REF!
Name ee: #REF!
Name ngf: #REF!

Sheet ProtectSettings
B1: 0.44929141
B2: 45526.427
A6: AllowFilterCheckBox | B6: TRUE
A7: AllowFormattingCheckBox | B7: TRUE
A8: AllowColumnFormattingCheckBox | B8: TRUE
A9: AllowRowFormattingCheckBox | B9: TRUE

Sheet הדרכה למשתמש
B2: הדרכה למשתמש
B4: תאריך בניית המודל | C4: 43615
B5: תאריך עדכון מודל
B7: הערות חשובות: בעת עריכת המודל - חל איסור מוחלט לבצע גזירה והדבקה או העברה של תא ממקום למקום על ידי גרירה. אסור לבצע "הוספה" או "מחיקה" של שורות או עמודות יש לפתוח את המודל בגרסת אקסל 2010 לפחות. חל איסור לשמור את הקובץ בפורמט התואם אקסל 97-2003
B9: הוראת שעה/מעבר: 2019-2020
B11: הדרכה להזנת נתונים
B12: צבע התא | C12: מטרת התא | D12: דגש
B13: צהוב | C13: הזנת נתונים | D13: נדרש להזין מידע בהתאם להנחיות מבחן התמיכה, אי הזנה של תא יכולה להביא לידי שגיאה בתוצאות במודל. במקומות שבהם מזינים 0/1, אז המשמעות של 0 הוא "לא" ו-1 "כן"
B14: חום | C14: הצגת מידע | D14: תא שאיננו מיועד להזנה. תא זה מציג מידע עפ"י נוסחה קבועה ואין לשנות אותה.
B15: אדום | C15: התראת שגיאה | D15: קיימת שגיאה בהזנת נתונים באחד מהתאים המיועדים להזנה, נדרש להזין את הנתונים הנדרשים לפני קביעת גובה תמיכה סופי.
B17: יש לעדכן את שנת התמיכה והתקציב בגיליון פרמטרים לקריטריונים. את רשימת המוסדות יש להזין בגיליון תנאי סף וכן את כלל הנתונים לגבי תנאי הסף. יש למלא בכל גיליון של משתנה את הנתונים הרלוונטיים. במידה ויש נתון אשר הוזן בגיליון קודם, נתון זה יועבר באופן אוטומטי לגיליונות הרלוונטיים ללא צורך בהזנה חוזרת.
B33: ניהול גרסאות
B34: מספר גרסה | C34: תאריך עדכון גרסה | D34: תאריך גרסה של מבחן תמיכה | E34: התאמות נוספות של מבחן תמיכה

Sheet פרמטרים לקריטריונים
B2: מודל פרויקטים מוסיקליים
B4: שנת תקציב | C4: 2025
B5: תקציב התמיכה | C5: 2023926
B6: מדד בסיס (לפי בסיס ממוצע 2016) | C6: 131.58302
B7: מדד ידוע (לפי בסיס ממוצע 2016) | C7: 143.13206
B9: הגדרות
B10: הגדרת שנה | C10: תאריך התחלה | D10: תאריך סיום
B11: שנת התמיכה/תקציב | C11: =DATE($C$4,1,1) -> 45658 | D11: =DATE($C$4,12,31) -> 46022
B12: שנת ההערכה | C12: =DATE($C$4-3,10,1) -> 44835 | D12: =DATE($C$4-2,9,30) -> 45199
B13: שנת התקציב המבוקר | C13: =DATE($C$4-3,1,1) -> 44562 | D13: =DATE($C$4-3,12,31) -> 44926
B14: שנה תקציבית קודמת | C14: =DATE($C$4-1,1,1) -> 45292 | D14: =DATE($C$4-1,12,31) -> 45657
B24: סיווג | I24: מקדם
B25: סיווג | C25: תקציב גבוהה מ: | D25: הרצות
B30: משקולות קריטריונים
B31: סעיף | C31: משקל
B32: מורכבות הפרויקט | C32: 0.15
B33: תקציב | C33: 0.2
B35: מיקום גיאוגרפי | C35: 0.15
B37: מספר אמנים או מנחים | C37: 0.2
B38: חשיבות ותרומה לתחום | C38: 0.15
B39: ותק | C39: 0.15
D40: 0
D41: 0
D42: 0
D43: 0
D44: 0
D45: 0
B58: סה"כ | C58: =SUM(C32:C57) -> 1
B60: ="פרמטרים לחישוב ניקוד משתנה "&$B$32 -> פרמטרים לחישוב ניקוד משתנה מורכבות הפרויקט
B61: רמת מורכבות | C61: ניקוד
B62: מעטה | C62: 1
B63: רבה - 2 נקודות | C63: 2
B64: רבה - 3 נקודות | C64: 3
B65: רבה מאוד - 4 נקודות | C65: 4
B66: רבה מאוד - 5 נקודות | C66: 5
B80: ="פרמטרים לחישוב ניקוד משתנה "&$B$33 -> פרמטרים לחישוב ניקוד משתנה תקציב
B81: סעיף | C81: ניקוד
B82: בעד כל שקל חדש בתקציב המאושר | C82: 1
B100: ="פרמטרים לחישוב ניקוד משתנה "&$B$34 -> פרמטרים לחישוב ניקוד משתנה
B120: ="פרמטרים לחישוב ניקוד משתנה "&$B$35 -> פרמטרים לחישוב ניקוד משתנה מיקום גיאוגרפי
B121: סעיף | C121: ניקוד
B122: תל אביב והסביבה (עד 30 קילומטר מתל-אביב) | C122: 0
B123: מעל 30 ועד 60 קילומטר מתל-אביב (נתניה חדרה, יבנה, גדרה) | C123: 1
B124: מעל 60 ועד 100 קילומטר מתל-אביב (ירושלים, חיפה) | C124: 1.5
B125: מעל 100 קילומטר מתל-אביב (עכו, באר שבע, טבריה) | C125: 3
B126: בפריפריה | C126: 2
B140: ="פרמטרים לחישוב ניקוד משתנה "&$B$36 -> פרמטרים לחישוב ניקוד משתנה
B141: מקום פעילות המרכזי | C141: ניקוד
B160: ="פרמטרים לחישוב ניקוד משתנה "&$B$37 -> פרמטרים לחישוב ניקוד משתנה מספר אמנים או מנחים
B161: בעד כל אמן או מנחה | C161: ניקוד
B162: תושב ישראל | C162: 1
B163: מחוץ לישראל | C163: 2
B180: ="פרמטרים לחישוב ניקוד משתנה "&$B$38 -> פרמטרים לחישוב ניקוד משתנה חשיבות ותרומה לתחום
B181: סעיף | C181: ניקוד
B182: בעל תרומה משמעותית ובעלת ערך לקהל היעד או לחינוך המוסיקה | C182: 1
B183: מתקיימת במסגרתו פעילות מתמשכת ומשמעותית לאורך השנה או תרומה יוצאת דופן וייחודית | C183: 2
B200: ="פרמטרים לחישוב ניקוד משתנה "&$B$39 -> פרמטרים לחישוב ניקוד משתנה ותק
B201: מספר שנות ותק | C201: ניקוד
B202: פחות מ-5 שנים | C202: 0
B203: 5 שנים ועד 10 שנים | C203: 3
B204: מעל 10 שנים ועד 15 שנים | C204: 5
B205: מעל 15 שנים | C205: 7
B220: ="פרמטרים לחישוב ניקוד משתנה "&$B$40 -> פרמטרים לחישוב ניקוד משתנה
B221: סעיף | C221: ניקוד
B222: א | C222: 1
B223: ב | C223: 2
B224: ג | C224: 3
B225: ד | C225: 4
B226: ה | C226: 5
B240: ="פרמטרים לחישוב ניקוד משתנה "&$B$41 -> פרמטרים לחישוב ניקוד משתנה
B241: סעיף | C241: ניקוד
B242: א | C242: 1
B243: ב | C243: 2
B244: ג | C244: 3
B245: ד | C245: 4
B246: ה | C246: 5
B260: ="פרמטרים לחישוב ניקוד משתנה "&$B$42 -> פרמטרים לחישוב ניקוד משתנה
B261: סעיף | C261: ניקוד
B262: א | C262: 1
B263: ב | C263: 2
B264: ג | C264: 3
B265: ד | C265: 4
B266: ה | C266: 5
B280: ="פרמטרים לחישוב ניקוד משתנה "&$B$43 -> פרמטרים לחישוב ניקוד משתנה
B281: סעיף | C281: ניקוד
B282: א | C282: 1
B283: ב | C283: 2
B284: ג | C284: 3
B285: ד | C285: 4
B286: ה | C286: 5
B300: ="פרמטרים לחישוב ניקוד משתנה "&$B$44 -> פרמטרים לחישוב ניקוד משתנה
B301: סעיף | C301: ניקוד
B302: א | C302: 1
B303: ב | C303: 2
B304: ג | C304: 3
B305: ד | C305: 4
B306: ה | C306: 5
B320: ="פרמטרים לחישוב ניקוד משתנה "&$B$45 -> פרמטרים לחישוב ניקוד משתנה
B321: סעיף | C321: ניקוד
B322: א | C322: 1
...

Sheet הוראת שעה
A4: האם חלה הוראת השעה בשנה הספציפית
A5: שנה | C5: הגנה הוראת שעה | D5: מינימום תמיכה | E5: שיעור הקלה
A6: 2019 | C6: 0.85 | D6: 20000 | E6: 0.7
A7: =A6+1 -> 2020 | C7: 0 | D7: 25000 | E7: 0.7
A8: =A7+1 -> 2021 | C8: 0 | D8: 25000 | E8: 0.8
A9: =A8+1 -> 2022 | C9: 0 | D9: 25000 | E9: 0.8
A10: =A9+1 -> 2023 | C10: 0 | D10: 25000 | E10: 0.8
A11: =A10+1 -> 2024 | C11: 0 | D11: 25000 | E11: 0.8
A12: =A11+1 -> 2025 | C12: 0 | D12: 25000 | E12: 0.8
A13: =A12+1 -> 2026 | C13: 0 | D13: 25000 | E13: 0.8
A14: =A13+1 -> 2027 | C14: 0 | D14: 25000 | E14: 0.8
A15: =A14+1 -> 2028 | C15: 0 | D15: 25000 | E15: 0.8
A16: =A15+1 -> 2029 | C16: 0 | D16: 25000 | E16: 0.8
A17: =A16+1 -> 2030 | C17: 0 | D17: 25000 | E17: 0.8
A18: =A17+1 -> 2031 | C18: 0 | D18: 25000 | E18: 0.8
... A20: =A19+1 -> 2033 | C20: 0 | D20: 25000 | E20: 0.8

Sheet תנאי סף
B1: =MID(CELL("filename",BI2),FIND("]",CELL("filename",BI2),1)+1,99) -> תנאי סף | BH1: בדוק נתוני הזנה | BJ1: סוגי בקרות | BK1: 0/1 | BL1: מספר | BM1: מספר שלם | BN1: מספר שאינו שלילי | BO1: מספר שלם שאינו שלילי | BP1: מספר חיובי | BQ1: מספר שלם חיובי | BR1: טקסט | BS1: טקסט מרשימה סגורה
BE2: ='פרמטרים לקריטריונים'!$B$4 -> שנת תקציב | BF2: ='פרמטרים לקריטריונים'!$C$4 -> 2025 | BK2: =IF(ISNA(MATCH(G31,$BH$30:$BI$30,0)),0,1) -> 1 | BL2: =IF(IFERROR(G31*1,"bad")="bad",0,1) -> 1 | BM2: =IF(IFERROR(IF(G31=TRUNC(G31),1,"bad"),"bad")="bad",0,1) -> 1 | BN2: =IF(AND(IF(IFERROR(G31*1,"bad")="bad",0,1)=1,G31>=0),1,0) -> 1 | BO2: =IF(AND(IF(IFERROR(IF(G31=TRUNC(G31),1,"bad"),"bad")="bad",0,1)=1,G31>=0),1,0) -> 1 | BP2: =IF(AND(IF(IFERROR(G31*1,"bad")="bad",0,1)=1,G31>0),1,0) -> 1 | BQ2: =IF(AND(IF(IFERROR(IF(G31=TRUNC(G31),1,"bad"),"bad")="bad",0,1)=1,G31>0),1,0) -> 1 | BR2: 1 | BS2: =IF(IFERROR(HLOOKUP(G31,$DL$30:$DV$30,1,0),"bad")="bad",0,1) -> 0
BE3: ='פרמטרים לקריטריונים'!$B$5 -> תקציב התמיכה | BF3: ='פרמטרים לקריטריונים'!$C$5 -> 2023926 | BJ3: מספר בקרה | BK3: 1 | BL3: 2 | BM3: 3 | BN3: 4 | BO3: 5 | BP3: 6 | BQ3: 7 | BR3: 8 | BS3: 9
F4: רלוונטי למבחן עמידה בתנאי סף? 1=רלוונטי. 0= לא רלוונטי אבל נדרשת בקרה על הזנת נתונים. 99= לא רלוונטי ולא נדרשת בקה על הזנת נתונים | G4: 1 | H4: 1 | I4: 0 | J4: 99 | K4: 1 | L4: 1 | M4: 1 | N4: 1 | O4: 0 | P4: 99 | Q4: 99 | R4: 99 | S4: 1 | T4: 1 | U4: 1 | V4: 1 | W4: 1 | X4: 1 | Y4: 1 | Z4: 1 | AA4: 1 | AB4: 1 | AC4: 1 | AD4: 1 | AE4: 1 | AF4: 1 | AG4: 0 | AH4: 99 | AI4: 99 | AJ4: 99 | AK4: 99 | AL4: 99 | AM4: 99 | AN4: 99 | AO4: 99 | AP4: 99 | AQ4: 99 | AR4: 99 | AS4: 99 | AT4: 1 | AU4: 99 | AV4: 99 | AW4: 1 | AX4: 1 | AY4: 1 | AZ4: 1 | BA4: 99 | BJ4: רשימה סגורה | BK4: 1 | BL4: 2 | BM4: 3 | BN4: 4 | BO4: 5 | BP4: 6 | BQ4: 7 | BR4: 8 | BS4: 9 | BT4: 10 | DI4: שיעור הקלה | DJ4: =INDEX('הוראת שעה'!$E$6:$E$20,MATCH($BF$2,'הוראת שעה'!$A$6:$A$20,1)) -> 0.8
F5: מעבר תנאי סף- במידה ולא רלוונטי להשאיר ריק | G5: 1 | H5: 1 | K5: 1 | L5: 1 | M5: 1 | N5: 1 | S5: 1 | T5: 1 | U5: 1 | V5: 1 | W5: 1 | X5: 1 | Y5: 1 | Z5: 1 | AA5: 1 | AB5: 1 | AC5: 1 | AD5: 1 | AE5: 1 | AF5: 1 | AQ5: 5 | AR5: 25 | AS5: 18 | AT5: =50000/'פרמטרים לקריטריונים'!$C$6*'פרמטרים לקריטריונים'!$C$7 -> 54388.5 | AW5: 1 | AX5: 1 | AY5: 1 | AZ5: 1 | DB5: מספר תנאים | DC5: =COUNTA(DB7:DH7) -> 3 | DI5: הקלות מותרות | DJ5: 2
DI6: נדרש לפי הקלה
DB7: =AQ5 -> 5 | DC7: =AR5 -> 25 | DD7: =AS5 -> 18 | DI7: =ROUNDUP(DB7*$DJ$4,0) -> 4 | DJ7: =ROUNDUP(DC7*$DJ$4,0) -> 20 | DK7: =ROUNDUP(DD7*$DJ$4,0) -> 15
F28: סעיף | G28: 7(א)(3) | H28: 7(א)(5) | I28: 7(א)(6) | J28: 7(א)(6) | K28: 7(א)(6) | L28: 7(ב) | M28: 7(ג) | N28: 7(ד), 7(ה) | O28: 7(ה) | P28: 7(ו) | Q28: 7(ו) | R28: 7(ו) | S28: 7(ה), 7(ו) | T28: 8(1) | U28: 8(2) | V28: 8(3) | W28: 8(4) | X28: 8(5) | Y28: 8(6) | Z28: 8(7) | AA28: 8(8) | AB28: 12(א)(1) | AC28: 12(א)(2) | AD28: 12(א)(3) | AE28: 12(א)(5) | AF28: 12(א)(6) | AG28: 12(א)(7) | AH28: 12(א)(7א) | AI28: 12(א)(7ב) | AJ28: 12(א)(7ג1) | AK28: 12(א)(7ג1) | AL28: 12(א)(7ג4) | AM28: 12(א)(7ג5) | AN28: 12(א)(7ג6) | AO28: 12(א)(7ג7) | AP28: 12(א)(7ג8) | AQ28: 12(א)(7ג2) | AR28: 12(א)(7ג2) | AS28: 12(א)(7ג2) | AT28: 12(א)(4) | AU28: 12(ב) | AV28: 12(ב) | AX28: 7(א)(4) | BG28: =IF(SUM(BG31:BG130)=COUNT(BG31:BG130),1,0) -> 0 | BJ28: =MATCH(G$30,$BK$1:$BS$1,0) -> 1 | BK28: =MATCH(H$30,$BK$1:$BS$1,0) -> 1 | BL28: =MATCH(I$30,$BK$1:$BS$1,0) -> 1 | BM28: =MATCH(J$30,$BK$1:$BS$1,0) -> 1 | BN28: =MATCH(K$30,$BK$1:$BS$1,0) -> #N/A | BO28: =MATCH(L$30,$BK$1:$BS$1,0) -> 1 | BP28: =MATCH(M$30,$BK$1:$BS$1,0) -> 1 | BQ28: =MATCH(N$30,$BK$1:$BS$1,0) -> 1 | ... DB28: =MATCH(AY$30,$BK$1:$BS$1,0) -> 1 | DC28: =MATCH(BA$30,$BK$1:$BS$1,0) -> #N/A | DD28: =MATCH(BB$30,$BK$1:$BS$1,0) -> #N/A | DE28: =MATCH(BC$30,$BK$1:$BS$1,0) -> #N/A | DF28: =MATCH(BD$30,$BK$1:$BS$1,0) -> #N/A | DG28: =MATCH(BE$30,$BK$1:$BS$1,0) -> #N/A
A29: 100 | B29: מס"ד | C29: =COLUMN() -> 3 | D29: =COLUMN() -> 4 | E29: =COLUMN() -> 5 | F29: שם המוסד | G29: המוסד הגיש את כל הדוחות הנדרשים, מלאים ותקינים | H29: המוסד הגיש תקציב לפעילות והודוחת במהלך שנת התמיכה | I29: המוסד נתמך בשנה התקציבית הקודמת בעד הפעילות נשוא בקשתו לתמיכה | J29: מוסד שלא נתמך בשנה קודמת הודיע למינהל על כוונתו להגיש בקשה כאמור 8 חודשים לפחות לפני מועד הגשת הבקשה לתמיכה, ונתן לחברי המדור הזדמנות סבירה לצפות בהפקותיו או להתרשם מפעילותו, לפי העניין, לרבות בדרך של יום האזנה שעורך המשרד | K29: המוסד עומד בתנאי סעיף 7(א)(6) | L29: לפעילות נשוא בקשת המוסד לא ניתנת תמיכה על פי מבחני תמיכה אחרים של המשרד או שהיא מתוקצבת בדרך אחרת על ידי המשרד או נתמכת או מתוקצבת על ידי משרד ממשלתי אחר או שהממשלה משתתפת במימונה בדרך אחרת | M29: המוסד אינו גוף כלי המקבל תמיכה לפי המבחנים לחלוקת כספי תמיכות של משרד התרבות והספורט בתחום הגופים הכליים | N29: המוסד המבצע את הפעילות נשוא התמיכה הגיש בקשת תמיכה נפרדת לכל תחום תמיכה שבו הוא מבקש להיתמך או לכל סוג של פעילות, לפי העניין; או בקשה לתמיכה עד שתי כיתות אמן | O29: ארגון גג הבקשה לתמיכה הוגשה בידי ארגון גג שנתמך בהתאם למבחנים לתמיכה של משרד התרבות והספורט במוסדות המשמשים ארגון גג בתחום התרבות | P29: ארגון גג הבקשה כוללת התייחסות לפעילות נשוא התמיכה בלבד | Q29: ארגון גג הבקשה נחתמה בידי הגורם המקצועי המנהל את הפעילות נשוא הבקשה לתמיכה | R29: ארגון גג בבקשה לא נכלות הוצאות שבעבורן קיבל תמיכה כארגון גג, כמו השכרת חללי חזרות והוצאות תקורה | S29: עומד בתנאי המוסד המבצע את הפעילות נשוא התמיכה או בתנאי ארגון גג | T29: מקיים פעילות מוסיקלית מקצועית במשך שנתיים | U29: התקציב מנוהל כמשק סגור ובאופן ישיר | V29: מטרות המוסד עולים בקנה אחד עם מטרות התמיכה | W29: המוסד עומד בדרישות הנוהל | X29: המוסד מציין בפרסומיו את תמיכת המשרד | Y29: המוסד מקיים את הוראות הדין הנוגעות לפעילותו, מחזיק בכל האישורים הדרושים לפי חוק לצורך פעילותו לפי מבחנים אלה, מקפיד על כללי ניהול תקין ושומר על שקיפות מלאה באורחות התנהלותו באופן ההולם את מטרותיה של הפעילות הנתמכת | Z29: המוסד פועל ביעילות ובתקורה מינימלית, שמאפשרת את פעילותו התקינה והראויה, לרבות בהתאם לנוהל ולהנחיות החשב הכללי שבמשרד האוצר לעניין הוצאות הנהלה וכלליות | AA29: המוסד משתמש בכספי התמיכה רק למטרות שלשמן ניתנו | AB29: ="ותק של שנתיים לפחות בעשייה מקצועית בתחום המוסיקה בזיקה לנושא הפרויקט נכון ל-1/1/"&BF2 -> ותק של שנתיים לפחות בעשייה מקצועית בתחום המוסיקה בזיקה לנושא הפרויקט נכון ל-1/1/2025 | AC29: מקיים פרויקט לעידוד וקידום היצירה המוסיקלית האמנותית | AD29: אינו חלק ממוסד מוכר להשכלה גבוהה או מבית ספר לאמנות המקבל תמיכה ממינהל התרבות | AE29: אינו פועל כחלק מגוף שיש לו פעילויות נוספות שאינן נתמכות לפי מבחנים אלה או הפרויקט מנוהל כמשק סגור | AF29: הפרויקט בעל חשיבות וברמה מקצועית נאותה | AG29: הפרויקט מסוג כיתת אומן | AH29: ="קיים בישראל שתי כיתות אומן בתחום המוסיקה לפחות נכון ל-1/1/"&$BF$2 -> קיים בישראל שתי כיתות אומן בתחום המוסיקה לפחות נכון ל-1/1/2025 | AI29: מקיים כיתות אמן בתחום המוסיקה לפחות אחת לשנה | AJ29: כיתת האמן נערכת תחום מוסיקלי | AK29: כיתת האמן כוללת שלב של מיון משתתפים | AL29: הנחיה מקצועית והדרכה מקצועית בידי אמן מורה עם ניסיון מקצועי ומוניטין | AM29: המוסד פרסם לציבור הרחב מודעות בדבר קיום כיתת האמן | AN29: כיתת האמן נערכת במתקן שהולם את הפעילות הנתמכת וכולל אולם מופעים | AO29: בסיום כיתת האמן נערך מופע סיום פתוח לקהל הרחב | AP29: כיתת האמן ברמה מקצועית טובה | AQ29: משך ימי כיתת האמן | AR29: היקף השעות של כיתת האמן | AS29: מספר התלמידים המשתתפים בכיתת האמן | AT29: תקציב הפרויקט | AU29: הוועדה המליצה על קבלת הקלות | AV29: המוסד קיבל הקלה בשנה קודמת | AW29: עומד בתנאים לכיתת אמן לאור הקלות | AX29: המוסד הגיש תכנית עבודה כללית לשנת התמיכה | AY29: עומד בתנאי סף כלליים אחרים | AZ29: במוסד בו מועסקים עובדים ביחסי עבודה, המוסד קבע תקנון למניעת הטרדה מינית ועומד בדרישות תקנה 8 לתקנות חובות מעסיק. המוסד צירף לבקשתו את התקנון ופרטים על ההתאמות בתקנון, פרסומו למסירתו. (במוסד בו אין מתכונת יחסי עבודה - יש לסמן 1 עבור תנאי זה) | BA29: מעבר תנאי סף-אישור מיוחד | BB29: ריק | BC29: ריק | BD29: ריק | BE29: מעבר תנאי סף | BF29: הערות | BG29: בקרה ראשית | BJ29: ="בקרת "&G29 -> בקרת המוסד הגיש את כל הדוחות הנדרשים, מלאים ותקינים | BK29: ="בקרת "&H29 -> בקרת המוסד הגיש תקציב לפעילות והודוחת במהלך שנת התמיכה | BL29: ="בקרת "&I29 -> בקרת המוסד נתמך בשנה התקציבית הקודמת בעד הפעילות נשוא בקשתו לתמיכה | BM29: ="בקרת "&J29 -> בקרת מוסד שלא נתמך בשנה קודמת הודיע למינהל על כוונתו להגיש בקשה כאמור 8 חודשים לפחות לפני מועד הגשת הבקשה לתמיכה, ונתן לחברי המדור הזדמנות סבירה לצפות בהפקותיו או להתרשם מפעילותו, לפי העניין, לרבות בדרך של יום האזנה שעורך המשרד | BN29: ="בקרת "&K29 -> בקרת המוסד עומד בתנאי סעיף 7(א)(6) | BO29: ="בקרת "&L29 -> בקרת לפעילות נשוא בקשת המוסד לא ניתנת תמיכה על פי מבחני תמיכה אחרים של המשרד או שהיא מתוקצבת בדרך אחרת על ידי המשרד או נתמכת או מתוקצבת על ידי משרד ממשלתי אחר או שהממשלה משתתפת במימונה בדרך אחרת | BP29: ="בקרת "&M29 -> בקרת המוסד אינו גוף כלי המקבל תמיכה לפי המבחנים לחלוקת כספי תמיכות של משרד התרבות והספורט בתחום הגופים הכליים | BQ29: ="בקרת "&N29 -> בקרת המוסד המבצע את הפעילות נשוא התמיכה הגיש בקשת תמיכה נפרדת לכל תחום תמיכה שבו הוא מבקש להיתמך או לכל סוג של פעילות, לפי העניין; או בקשה לתמיכה עד שתי כיתות אמן | ... DB29: ="בקרת "&AY29 -> בקרת עומד בתנאי סף כלליים אחרים | DC29: ="בקרת "&BA29 -> בקרת מעבר תנאי סף-אישור מיוחד | DD29: ="בקרת "&BB29 -> בקרת ריק | DE29: ="בקרת "&BC29 -> בקרת ריק | DF29: ="בקרת "&BD29 -> בקרת ריק | DG29: ="בקרת "&BE29 -> בקרת מעבר תנאי סף | DL29: רשימה סגורה | DR29: קריטריון הקלה 1 | DS29: קריטריון הקלה 2 | DT29: קריטריון הקלה 3 | DX29: תנאי ללא הקלה | DY29: קריטריון הקלה 1 | DZ29: קריטריון הקלה 2 | EA29: קריטריון הקלה 3 | EB29: קריטריון הקלה 4 | EC29: קריטריון הקלה 5 | ED29: קריטריון הקלה 6 | EE29: תנאים עם הקלה | EF29: עומד בתנאים ללא הקלות | EG29: עומד בתנאים להקלות
G30: 0/1 | H30: 0/1 | I30: 0/1 | J30: 0/1 | L30: 0/1 | M30: 0/1 | N30: 0/1 | O30: 0/1 | P30: 0/1 | Q30: 0/1 | R30: 0/1 | T30: 0/1 | U30: 0/1 | V30: 0/1 | W30: 0/1 | X30: 0/1 | Y30: 0/1 | Z30: 0/1 | AA30: 0/1 | AB30: 0/1 | AC30: 0/1 | AD30: 0/1 | AE30: 0/1 | AF30: 0/1 | AG30: 0/1 | AH30: 0/1 | AI30: 0/1 | AJ30: 0/1 | AK30: 0/1 | AL30: 0/1 | AM30: 0/1 | AN30: 0/1 | AO30: 0/1 | AP30: 0/1 | AQ30: מספר שלם שאינו שלילי | AR30: מספר שלם שאינו שלילי | AS30: מספר שלם שאינו שלילי | AT30: מספר שאינו שלילי | AV30: 0/1 | AX30: 0/1 | AY30: 0/1 | AZ30: 0/1 | BF30: טקסט | BH30: 0 | BI30: 1 | BJ30: =G30 -> 0/1 | BK30: =H30 -> 0/1 | BL30: =I30 -> 0/1 | BM30: =J30 -> 0/1 | BN30: =K30 -> 0 | BO30: =L30 -> 0/1 | BP30: =M30 -> 0/1 | BQ30: =N30 -> 0/1 | ... DB30: =AY30 -> 0/1 | DC30: =BA30 -> 0 | DD30: =BB30 -> 0 | DE30: =BC30 -> 0 | DF30: =BD30 -> 0 | DG30: =BE30 -> 0
B31: =IF(F31="","",ROW()-30) -> 1 | F31: מרכז למוסיקה ירושלים - כיתות אמן מרים פריד | G31: 1 | H31: 1 | I31: 1 | J31: 0 | K31: 1 | L31: 1 | M31: 1 | N31: 1 | O31: 0 | P31: 0 | Q31: 0 | R31: 0 | S31: 1 | T31: 1 | U31: 1 | V31: 1 | W31: 1 | X31: 1 | Y31: 1 | Z31: 1 | AA31: 1 | AB31: 1 | AC31: 1 | AD31: 1 | AE31: 1 | AF31: 1 | AG31: 1 | AH31: 1 | AI31: 1 | AJ31: 1 | AK31: 1 | AL31: 1 | AM31: 1 | AN31: 1 | AO31: 1 | AP31: 1 | AQ31: 5 | AR31: 30 | AS31: 27 | AT31: 105000 | AU31: =IF($F31="","",IF(OR(EF31=1,AND(COUNT(G31:AP31)=SUM(G31:AP31),EG31=1)),1,0)) -> 1 | AV31: 0 | AW31: =IF($F31="","",IF(OR(AG31=0,AND(SUM(AH31:AP31)=COUNTA($AH$29:$AP$29),OR(AND(AV31=0,AU31=1,EG31=1),EF31=1))),1,0)) -> 1 | AX31: 1 | AY31: 1 | AZ31: 1 | BA31: 0 | BE31: {=IF($F31="","",IF(BA31=1,1,IF(BG31<>1,$BH$1,IF(SUMPRODUCT(--(G31:AZ31>=$G$5:$AZ$5)*($G$5:$AZ$5<>"")*($G$4:$AZ$4=1))=COUNTIF($G$4:$AZ$4,1),1,0))))} -> 1 | BF31: מומלץ לתמיכה עפ"י מבחן התמיכה - תחום ד'. הוגשה הצעת תקציב בסך 105,000 ₪. עפ"י המלצת המדור אושרו הוצאות התקציב המבוקש. | BG31: =IF(OR(SUM(BJ31:DG31)<>COUNT(BJ31:DG31),SUMPRODUCT(--(G31:AY31=$BH$1))<>0),0,1) -> 1 | BH31: =IF($F31="","",BH$30) -> 0 | BI31: =IF($F31="","",BI$30) -> 1 | BJ31: =IF(OR(G$30="",G$4=99),1,IF(G31="",0,IFERROR(CHOOSE(BJ$28,IF(ISNA(MATCH(G31,$BH$30:$BI$30,0)),0,1),IF(ISNUMBER(G31),1,0),IF(G31=TRUNC(G31),1,0),IF(AND(G31*1=G31,G31>=0),1,0),IF(AND(G31=TRUNC(G31),G31>=0),1,0),IF(AND(G31*1=G31,G31>0),1,0),IF(AND(G31=TRUNC(G31),G31>0),1,0),1,IF(ISNA(HLOOKUP(G31,$BK$4:$BT$4,1,0)),0,1)),0))) -> 1 | BK31: =IF(OR(H$30="",H$4=99),1,IF(H31="",0,IFERROR(CHOOSE(BK$28,IF(ISNA(MATCH(H31,$BH$30:$BI$30,0)),0,1),IF(ISNUMBER(H31),1,0),IF(H31=TRUNC(H31),1,0),IF(AND(H31*1=H31,H31>=0),1,0),IF(AND(H31=TRUNC(H31),H31>=0),1,0),IF(AND(H31*1=H31,H31>0),1,0),IF(AND(H31=TRUNC(H31),H31>0),1,0),1,IF(ISNA(HLOOKUP(H31,$BK$4:$BT$4,1,0)),0,1)),0))) -> 1 | BL31: =IF(OR(I$30="",I$4=99),1,IF(I31="",0,IFERROR(CHOOSE(BL$28,IF(ISNA(MATCH(I31,$BH$30:$BI$30,0)),0,1),IF(ISNUMBER(I31),1,0),IF(I31=TRUNC(I31),1,0),IF(AND(I31*1=I31,I31>=0),1,0),IF(AND(I31=TRUNC(I31),I31>=0),1,0),IF(AND(I31*1=I31,I31>0),1,0),IF(AND(I31=TRUNC(I31),I31>0),1,0),1,IF(ISNA(HLOOKUP(I31,$BK$4:$BT$4,1,0)),0,1)),0))) -> 1 | BM31: =IF(OR(J$30="",J$4=99),1,IF(J31="",0,IFERROR(CHOOSE(BM$28,IF(ISNA(MATCH(J31,$BH$30:$BI$30,0)),0,1),IF(ISNUMBER(J31),1,0),IF(J31=TRUNC(J31),1,0),IF(AND(J31*1=J31,J31>=0),1,0),IF(AND(J31=TRUNC(J31),J31>=0),1,0),IF(AND(J31*1=J31,J31>0),1,0),IF(AND(J31=TRUNC(J31),J31>0),1,0),1,IF(ISNA(HLOOKUP(J31,$BK$4:$BT$4,1,0)),0,1)),0))) -> 1 | BN31: =IF(OR(K$30="",K$4=99),1,IF(K31="",0,IFERROR(CHOOSE(BN$28,IF(ISNA(MATCH(K31,$BH$30:$BI$30,0)),0,1),IF(ISNUMBER(K31),1,0),IF(K31=TRUNC(K31),1,0),IF(AND(K31*1=K31,K31>=0),1,0),IF(AND(K31=TRUNC(K31),K31>=0),1,0),IF(AND(K31*1=K31,K31>0),1,0),IF(AND(K31=TRUNC(K31),K31>0),1,0),1,IF(ISNA(HLOOKUP(K31,$BK$4:$BT$4,1,0)),0,1)),0))) -> 1 | BO31: =IF(OR(L$30="",L$4=99),1,IF(L31="",0,IFERROR(CHOOSE(BO$28,IF(ISNA(MATCH(L31,$BH$30:$BI$30,0)),0,1),IF(ISNUMBER(L31),1,0),IF(L31=TRUNC(L31),1,0),IF(AND(L31*1=L31,L31>=0),1,0),IF(AND(L31=TRUNC(L31),L31>=0),1,0),IF(AND(L31*1=L31,L31>0),1,0),IF(AND(L31=TRUNC(L31),L31>0),1,0),1,IF(ISNA(HLOOKUP(L31,$BK$4:$BT$4,1,0)),0,1)),0))) -> 1 | BP31: =IF(OR(M$30="",M$4=99),1,IF(M31="",0,IFERROR(CHOOSE(BP$28,IF(ISNA(MATCH(M31,$BH$30:$BI$30,0)),0,1),IF(ISNUMBER(M31),1,0),IF(M31=TRUNC(M31),1,0),IF(AND(M31*1=M31,M31>=0),1,0),IF(AND(M31=TRUNC(M31),M31>=0),1,0),IF(AND(M31*1=M31,M31>0),1,0),IF(AND(M31=TRUNC(M31),M31>0),1,0),1,IF(ISNA(HLOOKUP(M31,$BK$4:$BT$4,1,0)),0,1)),0))) -> 1 | BQ31: =IF(OR(N$30="",N$4=99),1,IF(N31="",0,IFERROR(CHOOSE(BQ$28,IF(ISNA(MATCH(N31,$BH$30:$BI$30,0)),0,1),IF(ISNUMBER(N31),1,0),IF(N31=TRUNC(N31),1,0),IF(AND(N31*1=N31,N31>=0),1,0),IF(AND(N31=TRUNC(N31),N31>=0),1,0),IF(AND(N31*1=N31,N31>0),1,0),IF(AND(N31=TRUNC(N31),N31>0),1,0),1,IF(ISNA(HLOOKUP(N31,$BK$4:$BT$4,1,0)),0,1)),0))) -> 1 | ... CN31: =IF(OR(AK$30="",AK$4=99),1,IF(AK31="",0,IFERROR(CHOOSE(CN$28,IF(ISNA(MATCH(AK31,$BH$30:$BI$30,0)),0,1),IF(ISNUMBER(AK31),1,0),IF(AK31=TRUNC(AK31),1,0),IF(AND(AK31*1=AK31,AK31>=0),1,0),IF(AND(AK31=TRUNC(AK31),AK31>=0),1,0),IF(AND(AK31*1=AK31,AK31>0),1,0),IF(AND(AK31=TRUNC(AK31),AK31>0),1,0),1,IF(ISNA(HLOOKUP(AK31,$BK$4:$BT$4,1,0)),0,1)),0))) -> 1 | CO31: =IF(OR(AL$30="",AM$4=99),1,IF(AL31="",0,IFERROR(CHOOSE(CO$28,IF(ISNA(MATCH(AL31,$BH$30:$BI$30,0)),0,1),IF(ISNUMBER(AL31),1,0),IF(AL31=TRUNC(AL31),1,0),IF(AND(AL31*1=AL31,AL31>=0),1,0),IF(AND(AL31=TRUNC(AL31),AL31>=0),1,0),IF(AND(AL31*1=AL31,AL31>0),1,0),IF(AND(AL31=TRUNC(AL31),AL31>0),1,0),1,IF(ISNA(HLOOKUP(AL31,$BK$4:$BT$4,1,0)),0,1)),0))) -> 1 | CP31: =IF(OR(AM$30="",AN$4=99),1,IF(AM31="",0,IFERROR(CHOOSE(CP$28,IF(ISNA(MATCH(AM31,$BH$30:$BI$30,0)),0,1),IF(ISNUMBER(AM31),1,0),IF(AM31=TRUNC(AM31),1,0),IF(AND(AM31*1=AM31,AM31>=0),1,0),IF(AND(AM31=TRUNC(AM31),AM31>=0),1,0),IF(AND(AM31*1=AM31,AM31>0),1,0),IF(AND(AM31=TRUNC(AM31),AM31>0),1,0),1,IF(ISNA(HLOOKUP(AM31,$BK$4:$BT$4,1,0)),0,1)),0))) -> 1 | CQ31: =IF(OR(AN$30="",AN$4=99),1,IF(AN31="",0,IFERROR(CHOOSE(CQ$28,IF(ISNA(MATCH(AN31,$BH$30:$BI$30,0)),0,1),IF(ISNUMBER(AN31),1,0),IF(AN31=TRUNC(AN31),1,0),IF(AND(AN31*1=AN31,AN31>=0),1,0),IF(AND(AN31=TRUNC(AN31),AN31>=0),1,0),IF(AND(AN31*1=AN31,AN31>0),1,0),IF(AND(AN31=TRUNC(AN31),AN31>0),1,0),1,IF(ISNA(HLOOKUP(AN31,$BK$4:$BT$4,1,0)),0,1)),0))) -> 1 | CR31: =IF(OR(AO$30="",AO$4=99),1,IF(AO31="",0,IFERROR(CHOOSE(CR$28,IF(ISNA(MATCH(AO31,$BH$30:$BI$30,0)),0,1),IF(ISNUMBER(AO31),1,0),IF(AO31=TRUNC(AO31),1,0),IF(AND(AO31*1=AO31,AO31>=0),1,0),IF(AND(AO31=TRUNC(AO31),AO31>=0),1,0),IF(AND(AO31*1=AO31,AO31>0),1,0),IF(AND(AO31=TRUNC(AO31),AO31>0),1,0),1,IF(ISNA(HLOOKUP(AO31,$BK$4:$BT$4,1,0)),0,1)),0))) -> 1 | CS31: =IF(OR(AP$30="",AP$4=99),1,IF(AP31="",0,IFERROR(CHOOSE(CS$28,IF(ISNA(MATCH(AP31,$BH$30:$BI$30,0)),0,1),IF(ISNUMBER(AP31),1,0),IF(AP31=TRUNC(AP31),1,0),IF(AND(AP31*1=AP31,AP31>=0),1,0),IF(AND(AP31=TRUNC(AP31),AP31>=0),1,0),IF(AND(AP31*1=AP31,AP31>0),1,0),IF(AND(AP31=TRUNC(AP31),AP31>0),1,0),1,IF(ISNA(HLOOKUP(AP31,$BK$4:$BT$4,1,0)),0,1)),0))) -> 1 | CT31: =IF(OR(AQ$30="",AQ$4=99),1,IF(AQ31="",0,IFERROR(CHOOSE(CT$28,IF(ISNA(MATCH(AQ31,$BH$30:$BI$30,0)),0,1),IF(ISNUMBER(AQ31),1,0),IF(AQ31=TRUNC(AQ31),1,0),IF(AND(AQ31*1=AQ31,AQ31>=0),1,0),IF(AND(AQ31=TRUNC(AQ31),AQ31>=0),1,0),IF(AND(AQ31*1=AQ31,AQ31>0),1,0),IF(AND(AQ31=TRUNC(AQ31),AQ31>0),1,0),1,IF(ISNA(HLOOKUP(AQ31,$BK$4:$BT$4,1,0)),0,1)),0))) -> 1 | CU31: =IF(OR(AR$30="",AR$4=99),1,IF(AR31="",0,IFERROR(CHOOSE(CU$28,IF(ISNA(MATCH(AR31,$BH$30:$BI$30,0)),0,1),IF(ISNUMBER(AR31),1,0),IF(AR31=TRUNC(AR31),1,0),IF(AND(AR31*1=AR31,AR31>=0),1,0),IF(AND(AR31=TRUNC(AR31),AR31>=0),1,0),IF(AND(AR31*1=AR31,AR31>0),1,0),IF(AND(AR31=TRUNC(AR31),AR31>0),1,0),1,IF(ISNA(HLOOKUP(AR31,$BK$4:$BT$4,1,0)),0,1)),0))) -> 1 | CV31: =IF(OR(AS$30="",AS$4=99),1,IF(AS31="",0,IFERROR(CHOOSE(CV$28,IF(ISNA(MATCH(AS31,$BH$30:$BI$30,0)),0,1),IF(ISNUMBER(AS31),1,0),IF(AS31=TRUNC(AS31),1,0),IF(AND(AS31*1=AS31,AS31>=0),1,0),IF(AND(AS31=TRUNC(AS31),AS31>=0),1,0),IF(AND(AS31*1=AS31,AS31>0),1,0),IF(AND(AS31=TRUNC(AS31),AS31>0),1,0),1,IF(ISNA(HLOOKUP(AS31,$BK$4:$BT$4,1,0)),0,1)),0))) -> 1 | CW31: =IF(OR(AT$30="",AT$4=99),1,IF(AT31="",0,IFERROR(CHOOSE(CW$28,IF(ISNA(MATCH(AT31,$BH$30:$BI$30,0)),0,1),IF(ISNUMBER(AT31),1,0),IF(AT31=TRUNC(AT31),1,0),IF(AND(AT31*1=AT31,AT31>=0),1,0),IF(AND(AT31=TRUNC(AT31),AT31>=0),1,0),IF(AND(AT31*1=AT31,AT31>0),1,0),IF(AND(AT31=TRUNC(AT31),AT31>0),1,0),1,IF(ISNA(HLOOKUP(AT31,$BK$4:$BT$4,1,0)),0,1)),0))) -> 1 | CX31: =IF(OR(AU$30="",AU$4=99),1,IF(AU31="",0,IFERROR(CHOOSE(CX$28,IF(ISNA(MATCH(AU31,$BH$30:$BI$30,0)),0,1),IF(ISNUMBER(AU31),1,0),IF(AU31=TRUNC(AU31),1,0),IF(AND(AU31*1=AU31,AU31>=0),1,0),IF(AND(AU31=TRUNC(AU31),AU31>=0),1,0),IF(AND(AU31*1=AU31,AU31>0),1,0),IF(AND(AU31=TRUNC(AU31),AU31>0),1,0),1,IF(ISNA(HLOOKUP(AU31,$BK$4:$BT$4,1,0)),0,1)),0))) -> 1 | ... DB31: =IF(OR(AY$30="",AY$4=99),1,IF(AY31="",0,IFERROR(CHOOSE(DB$28,IF(ISNA(MATCH(AY31,$BH$30:$BI$30,0)),0,1),IF(ISNUMBER(AY31),1,0),IF(AY31=TRUNC(AY31),1,0),IF(AND(AY31*1=AY31,AY31>=0),1,0),IF(AND(AY31=TRUNC(AY31),AY31>=0),1,0),IF(AND(AY31*1=AY31,AY31>0),1,0),IF(AND(AY31=TRUNC(AY31),AY31>0),1,0),1,IF(ISNA(HLOOKUP(AY31,$BK$4:$BT$4,1,0)),0,1)),0))) -> 1 | DC31: =IF(OR(BA$30="",BA$4=99),1,IF(BA31="",0,IFERROR(CHOOSE(DC$28,IF(ISNA(MATCH(BA31,$BH$30:$BI$30,0)),0,1),IF(ISNUMBER(BA31),1,0),IF(BA31=TRUNC(BA31),1,0),IF(AND(BA31*1=BA31,BA31>=0),1,0),IF(AND(BA31=TRUNC(BA31),BA31>=0),1,0),IF(AND(BA31*1=BA31,BA31>0),1,0),IF(AND(BA31=TRUNC(BA31),BA31>0),1,0),1,IF(ISNA(HLOOKUP(BA31,$BK$4:$BT$4,1,0)),0,1)),0))) -> 1 | DD31: =IF(OR(BB$30="",BB$4=99),1,IF(BB31="",0,IFERROR(CHOOSE(DD$28,IF(ISNA(MATCH(BB31,$BH$30:$BI$30,0)),0,1),IF(ISNUMBER(BB31),1,0),IF(BB31=TRUNC(BB31),1,0),IF(AND(BB31*1=BB31,BB31>=0),1,0),IF(AND(BB31=TRUNC(BB31),BB31>=0),1,0),IF(AND(BB31*1=BB31,BB31>0),1,0),IF(AND(BB31=TRUNC(BB31),BB31>0),1,0),1,IF(ISNA(HLOOKUP(BB31,$BK$4:$BT$4,1,0)),0,1)),0))) -> 1 | DE31: =IF(OR(BC$30="",BC$4=99),1,IF(BC31="",0,IFERROR(CHOOSE(DE$28,IF(ISNA(MATCH(BC31,$BH$30:$BI$30,0)),0,1),IF(ISNUMBER(BC31),1,0),IF(BC31=TRUNC(BC31),1,0),IF(AND(BC31*1=BC31,BC31>=0),1,0),IF(AND(BC31=TRUNC(BC31),BC31>=0),1,0),IF(AND(BC31*1=BC31,BC31>0),1,0),IF(AND(BC31=TRUNC(BC31),BC31>0),1,0),1,IF(ISNA(HLOOKUP(BC31,$BK$4:$BT$4,1,0)),0,1)),0))) -> 1 | DF31: =IF(OR(BD$30="",BD$4=99),1,IF(BD31="",0,IFERROR(CHOOSE(DF$28,IF(ISNA(MATCH(BD31,$BH$30:$BI$30,0)),0,1),IF(ISNUMBER(BD31),1,0),IF(BD31=TRUNC(BD31),1,0),IF(AND(BD31*1=BD31,BD31>=0),1,0),IF(AND(BD31=TRUNC(BD31),BD31>=0),1,0),IF(AND(BD31*1=BD31,BD31>0),1,0),IF(AND(BD31=TRUNC(BD31),BD31>0),1,0),1,IF(ISNA(HLOOKUP(BD31,$BK$4:$BT$4,1,0)),0,1)),0))) -> 1 | DG31: =IF(OR(BE$30="",BE$4=99),1,IF(BE31="",0,IFERROR(CHOOSE(DG$28,IF(ISNA(MATCH(BE31,$BH$30:$BI$30,0)),0,1),IF(ISNUMBER(BE31),1,0),IF(BE31=TRUNC(BE31),1,0),IF(AND(BE31*1=BE31,BE31>=0),1,0),IF(AND(BE31=TRUNC(BE31),BE31>=0),1,0),IF(AND(BE31*1=BE31,BE31>0),1,0),IF(AND(BE31=TRUNC(BE31),BE31>0),1,0),1,IF(ISNA(HLOOKUP(BE31,$BK$4:$BT$4,1,0)),0,1)),0))) -> 1 | DR31: =AQ31>=DB$7 -> TRUE | DS31: =AR31>=DC$7 -> TRUE | DT31: =AS31>=DD$7 -> TRUE | DX31: =COUNTIF(DR31:DW31,TRUE) -> 3 | DY31: =AQ31>=DI$7 -> TRUE | DZ31: =AR31>=DJ$7 -> TRUE | EA31: =AS31>=DK$7 -> TRUE | EE31: =COUNTIF(DY31:ED31,TRUE) -> 3 | EF31: =IF($F31="","",IF(DX31=$DC$5,1,0)) -> 1 | EG31: =IF($F31="","",IF(AND(EE31=$DC$5,EE31-DX31<=$DJ$5),1,0)) -> 1
B32: =IF(F32="","",ROW()-30) -> 2 | F32: המרכז למוסיקה ע"ש פיליציה בלומנטל - צ'ליל בגליל | G32: 1 | H32: 1 | I32: 1 | J32: 0 | K32: 1 | L32: 1 | M32: 1 | N32: 1 | O32: 1 | P32: 1 | Q32: 1 | R32: 1 | S32: =IF(F32="","",IF(OR(O32=0,SUM(O32:R32)=4),1,0)) -> 1 | T32: 1 | U32: 1 | V32: 1 | W32: 1 | X32: 1 | Y32: 1 | Z32: 1 | AA32: 1 | AB32: 1 | AC32: 1 | AD32: 1 | AE32: 1 | AF32: 1 | AG32: 1 | AH32: 1 | AI32: 1 | AJ32: 1 | AK32: 1 | AL32: 1 | AM32: 1 | AN32: 1 | AO32: 1 | AP32: 1 | AQ32: 5 | AR32: 50 | AS32: 50 | AT32: 175000 | AU32: =IF($F32="","",IF(OR(EF32=1,AND(COUNT(G32:AP32)=SUM(G32:AP32),EG32=1)),1,0)) -> 1 | AV32: 1 | AW32: =IF($F32="","",IF(OR(AG32=0,AND(SUM(AH32:AP32)=COUNTA($AH$29:$AP$29),OR(AND(AV32=0,AU32=1,EG32=1),EF32=1))),1,0)) -> 1 | AX32: 1 | AY32: 1 | AZ32: 1 | BA32: 0 | BE32: {=IF($F32="","",IF(BA32=1,1,IF(BG32<>1,$BH$1,IF(SUMPRODUCT(--(G32:AZ32>=$G$5:$AZ$5)*($G$5:$AZ$5<>"")*($G$4:$AZ$4=1))=COUNTIF($G$4:$AZ$4,1),1,0))))} -> 1 | BF32: מומלץ לתמיכה עפ"י מבחן התמיכה - תחום ד'. הוגשה הצעת תקציב בסך 175,00 ₪. עפ"י המלצת המדור אושרו הוצאות התקציב המבוקש. | BG32: =IF(OR(SUM(BJ32:DG32)<>COUNT(BJ32:DG32),SUMPRODUCT(--(G32:AY32=$BH$1))<>0),0,1) -> 1 | BH32: =IF($F32="","",BH$30) -> 0 | BI32: =IF($F32="","",BI$30) -> 1 | BJ32: =IF(OR(G$30="",G$4=99),1,IF(G32="",0,IFERROR(CHOOSE(BJ$28,IF(ISNA(MATCH(G32,$BH$30:$BI$30,0)),0,1),IF(ISNUMBER(G32),1,0),IF(G32=TRUNC(G32),1,0),IF(AND(G32*1=G32,G32>=0),1,0),IF(AND(G32=TRUNC(G32),G32>=0),1,0),IF(AND(G32*1=G32,G32>0),1,0),IF(AND(G32=TRUNC(G32),G32>0),1,0),1,IF(ISNA(HLOOKUP(G32,$BK$4:$BT$4,1,0)),0,1)),0))) -> 1 | BK32: =IF(OR(H$30="",H$4=99),1,IF(H32="",0,IFERROR(CHOOSE(BK$28,IF(ISNA(MATCH(H32,$BH$30:$BI$30,0)),0,1),IF(ISNUMBER(H32),1,0),IF(H32=TRUNC(H32),1,0),IF(AND(H32*1=H32,H32>=0),1,0),IF(AND(H32=TRUNC(H32),H32>=0),1,0),IF(AND(H32*1=H32,H32>0),1,0),IF(AND(H32=TRUNC(H32),H32>0),1,0),1,IF(ISNA(HLOOKUP(H32,$BK$4:$BT$4,1,0)),0,1)),0))) -> 1 | BL32: =IF(OR(I$30="",I$4=99),1,IF(I32="",0,IFERROR(CHOOSE(BL$28,IF(ISNA(MATCH(I32,$BH$30:$BI$30,0)),0,1),IF(ISNUMBER(I32),1,0),IF(I32=TRUNC(I32),1,0),IF(AND(I32*1=I32,I32>=0),1,0),IF(AND(I32=TRUNC(I32),I32>=0),1,0),IF(AND(I32*1=I32,I32>0),1,0),IF(AND(I32=TRUNC(I32),I32>0),1,0),1,IF(ISNA(HLOOKUP(I32,$BK$4:$BT$4,1,0)),0,1)),0))) -> 1 | BM32: =IF(OR(J$30="",J$4=99),1,IF(J32="",0,IFERROR(CHOOSE(BM$28,IF(ISNA(MATCH(J32,$BH$30:$BI$30,0)),0,1),IF(ISNUMBER(J32),1,0),IF(J32=TRUNC(J32),1,0),IF(AND(J32*1=J32,J32>=0),1,0),IF(AND(J32=TRUNC(J32),J32>=0),1,0),IF(AND(J32*1=J32,J32>0),1,0),IF(AND(J32=TRUNC(J32),J32>0),1,0),1,IF(ISNA(HLOOKUP(J32,$BK$4:$BT$4,1,0)),0,1)),0))) -> 1 | BN32: =IF(OR(K$30="",K$4=99),1,IF(K32="",0,IFERROR(CHOOSE(BN$28,IF(ISNA(MATCH(K32,$BH$30:$BI$30,0)),0,1),IF(ISNUMBER(K32),1,0),IF(K32=TRUNC(K32),1,0),IF(AND(K32*1=K32,K32>=0),1,0),IF(AND(K32=TRUNC(K32),K32>=0),1,0),IF(AND(K32*1=K32,K32>0),1,0),IF(AND(K32=TRUNC(K32),K32>0),1,0),1,IF(ISNA(HLOOKUP(K32,$BK$4:$BT$4,1,0)),0,1)),0))) -> 1 | BO32: =IF(OR(L$30="",L$4=99),1,IF(L32="",0,IFERROR(CHOOSE(BO$28,IF(ISNA(MATCH(L32,$BH$30:$BI$30,0)),0,1),IF(ISNUMBER(L32),1,0),IF(L32=TRUNC(L32),1,0),IF(AND(L32*1=L32,L32>=0),1,0),IF(AND(L32=TRUNC(L32),L32>=0),1,0),IF(AND(L32*1=L32,L32>0),1,0),IF(AND(L32=TRUNC(L32),L32>0),1,0),1,IF(ISNA(HLOOKUP(L32,$BK$4:$BT$4,1,0)),0,1)),0))) -> 1 | BP32: =IF(OR(M$30="",M$4=99),1,IF(M32="",0,IFERROR(CHOOSE(BP$28,IF(ISNA(MATCH(M32,$BH$30:$BI$30,0)),0,1),IF(ISNUMBER(M32),1,0),IF(M32=TRUNC(M32),1,0),IF(AND(M32*1=M32,M32>=0),1,0),IF(AND(M32=TRUNC(M32),M32>=0),1,0),IF(AND(M32*1=M32,M32>0),1,0),IF(AND(M32=TRUNC(M32),M32>0),1,0),1,IF(ISNA(HLOOKUP(M32,$BK$4:$BT$4,1,0)),0,1)),0))) -> 1 | BQ32: =IF(OR(N$30="",N$4=99),1,IF(N32="",0,IFERROR(CHOOSE(BQ$28,IF(ISNA(MATCH(N32,$BH$30:$BI$30,0)),0,1),IF(ISNUMBER(N32),1,0),IF(N32=TRUNC(N32),1,0),IF(AND(N32*1=N32,N32>=0),1,0),IF(AND(N32=TRUNC(N32),N32>=0),1,0),IF(AND(N32*1=N32,N32>0),1,0),IF(AND(N32=TRUNC(N32),N32>0),1,0),1,IF(ISNA(HLOOKUP(N32,$BK$4:$BT$4,1,0)),0,1)),0))) -> 1 | ... CN32: =IF(OR(AK$30="",AK$4=99),1,IF(AK32="",0,IFERROR(CHOOSE(CN$28,IF(ISNA(MATCH(AK32,$BH$30:$BI$30,0)),0,1),IF(ISNUMBER(AK32),1,0),IF(AK32=TRUNC(AK32),1,0),IF(AND(AK32*1=AK32,AK32>=0),1,0),IF(AND(AK32=TRUNC(AK32),AK32>=0),1,0),IF(AND(AK32*1=AK32,AK32>0),1,0),IF(AND(AK32=TRUNC(AK32),AK32>0),1,0),1,IF(ISNA(HLOOKUP(AK32,$BK$4:$BT$4,1,0)),0,1)),0))) -> 1 | CO32: =IF(OR(AL$30="",AM$4=99),1,IF(AL32="",0,IFERROR(CHOOSE(CO$28,IF(ISNA(MATCH(AL32,$BH$30:$BI$30,0)),0,1),IF(ISNUMBER(AL32),1,0),IF(AL32=TRUNC(AL32),1,0),IF(AND(AL32*1=AL32,AL32>=0),1,0),IF(AND(AL32=TRUNC(AL32),AL32>=0),1,0),IF(AND(AL32*1=AL32,AL32>0),1,0),IF(AND(AL32=TRUNC(AL32),AL32>0),1,0),1,IF(ISNA(HLOOKUP(AL32,$BK$4:$BT$4,1,0)),0,1)),0))) -> 1 | CP32: =IF(OR(AM$30="",AN$4=99),1,IF(AM32="",0,IFERROR(CHOOSE(CP$28,IF(ISNA(MATCH(AM32,$BH$30:$BI$30,0)),0,1),IF(ISNUMBER(AM32),1,0),IF(AM32=TRUNC(AM32),1,0),IF(AND(AM32*1=AM32,AM32>=0),1,0),IF(AND(AM32=TRUNC(AM32),AM32>=0),1,0),IF(AND(AM32*1=AM32,AM32>0),1,0),IF(AND(AM32=TRUNC(AM32),AM32>0),1,0),1,IF(ISNA(HLOOKUP(AM32,$BK$4:$BT$4,1,0)),0,1)),0))) -> 1 | CQ32: =IF(OR(AN$30="",AN$4=99),1,IF(AN32="",0,IFERROR(CHOOSE(CQ$28,IF(ISNA(MATCH(AN32,$BH$30:$BI$30,0)),0,1),IF(ISNUMBER(AN32),1,0),IF(AN32=TRUNC(AN32),1,0),IF(AND(AN32*1=AN32,AN32>=0),1,0),IF(AND(AN32=TRUNC(AN32),AN32>=0),1,0),IF(AND(AN32*1=AN32,AN32>0),1,0),IF(AND(AN32=TRUNC(AN32),AN32>0),1,0),1,IF(ISNA(HLOOKUP(AN32,$BK$4:$BT$4,1,0)),0,1)),0))) -> 1 | CR32: =IF(OR(AO$30="",AO$4=99),1,IF(AO32="",0,IFERROR(CHOOSE(CR$28,IF(ISNA(MATCH(AO32,$BH$30:$BI$30,0)),0,1),IF(ISNUMBER(AO32),1,0),IF(AO32=TRUNC(AO32),1,0),IF(AND(AO32*1=AO32,AO32>=0),1,0),IF(AND(AO32=TRUNC(AO32),AO32>=0),1,0),IF(AND(AO32*1=AO32,AO32>0),1,0),IF(AND(AO32=TRUNC(AO32),AO32>0),1,0),1,IF(ISNA(HLOOKUP(AO32,$BK$4:$BT$4,1,0)),0,1)),0))) -> 1 | CS32: =IF(OR(AP$30="",AP$4=99),1,IF(AP32="",0,IFERROR(CHOOSE(CS$28,IF(ISNA(MATCH(AP32,$BH$30:$BI$30,0)),0,1),IF(ISNUMBER(AP32),1,0),IF(AP32=TRUNC(AP32),1,0),IF(AND(AP32*1=AP32,AP32>=0),1,0),IF(AND(AP32=TRUNC(AP32),AP32>=0),1,0),IF(AND(AP32*1=AP32,AP32>0),1,0),IF(AND(AP32=TRUNC(AP32),AP32>0),1,0),1,IF(ISNA(HLOOKUP(AP32,$BK$4:$BT$4,1,0)),0,1)),0))) -> 1 | CT32: =IF(OR(AQ$30="",AQ$4=99),1,IF(AQ32="",0,IFERROR(CHOOSE(CT$28,IF(ISNA(MATCH(AQ32,$BH$30:$BI$30,0)),0,1),IF(ISNUMBER(AQ32),1,0),IF(AQ32=TRUNC(AQ32),1,0),IF(AND(AQ32*1=AQ32,AQ32>=0),1,0),IF(AND(AQ32=TRUNC(AQ32),AQ32>=0),1,0),IF(AND(AQ32*1=AQ32,AQ32>0),1,0),IF(AND(AQ32=TRUNC(AQ32),AQ32>0),1,0),1,IF(ISNA(HLOOKUP(AQ32,$BK$4:$BT$4,1,0)),0,1)),0))) -> 1 | CU32: =IF(OR(AR$30="",AR$4=99),1,IF(AR32="",0,IFERROR(CHOOSE(CU$28,IF(ISNA(MATCH(AR32,$BH$30:$BI$30,0)),0,1),IF(ISNUMBER(AR32),1,0),IF(AR32=TRUNC(AR32),1,0),IF(AND(AR32*1=AR32,AR32>=0),1,0),IF(AND(AR32=TRUNC(AR32),AR32>=0),1,0),IF(AND(AR32*1=AR32,AR32>0),1,0),IF(AND(AR32=TRUNC(AR32),AR32>0),1,0),1,IF(ISNA(HLOOKUP(AR32,$BK$4:$BT$4,1,0)),0,1)),0))) -> 1 | CV32: =IF(OR(AS$30="",AS$4=99),1,IF(AS32="",0,IFERROR(CHOOSE(CV$28,IF(ISNA(MATCH(AS32,$BH$30:$BI$30,0)),0,1),IF(ISNUMBER(AS32),1,0),IF(AS32=TRUNC(AS32),1,0),IF(AND(AS32*1=AS32,AS32>=0),1,0),IF(AND(AS32=TRUNC(AS32),AS32>=0),1,0),IF(AND(AS32*1=AS32,AS32>0),1,0),IF(AND(AS32=TRUNC(AS32),AS32>0),1,0),1,IF(ISNA(HLOOKUP(AS32,$BK$4:$BT$4,1,0)),0,1)),0))) -> 1 | CW32: =IF(OR(AT$30="",AT$4=99),1,IF(AT32="",0,IFERROR(CHOOSE(CW$28,IF(ISNA(MATCH(AT32,$BH$30:$BI$30,0)),0,1),IF(ISNUMBER(AT32),1,0),IF(AT32=TRUNC(AT32),1,0),IF(AND(AT32*1=AT32,AT32>=0),1,0),IF(AND(AT32=TRUNC(AT32),AT32>=0),1,0),IF(AND(AT32*1=AT32,AT32>0),1,0),IF(AND(AT32=TRUNC(AT32),AT32>0),1,0),1,IF(ISNA(HLOOKUP(AT32,$BK$4:$BT$4,1,0)),0,1)),0))) -> 1 | CX32: =IF(OR(AU$30="",AU$4=99),1,IF(AU32="",0,IFERROR(CHOOSE(CX$28,IF(ISNA(MATCH(AU32,$BH$30:$BI$30,0)),0,1),IF(ISNUMBER(AU32),1,0),IF(AU32=TRUNC(AU32),1,0),IF(AND(AU32*1=AU32,AU32>=0),1,0),IF(AND(AU32=TRUNC(AU32),AU32>=0),1,0),IF(AND(AU32*1=AU32,AU32>0),1,0),IF(AND(AU32=TRUNC(AU32),AU32>0),1,0),1,IF(ISNA(HLOOKUP(AU32,$BK$4:$BT$4,1,0)),0,1)),0))) -> 1 | ... DB32: =IF(OR(AY$30="",AY$4=99),1,IF(AY32="",0,IFERROR(CHOOSE(DB$28,IF(ISNA(MATCH(AY32,$BH$30:$BI$30,0)),0,1),IF(ISNUMBER(AY32),1,0),IF(AY32=TRUNC(AY32),1,0),IF(AND(AY32*1=AY32,AY32>=0),1,0),IF(AND(AY32=TRUNC(AY32),AY32>=0),1,0),IF(AND(AY32*1=AY32,AY32>0),1,0),IF(AND(AY32=TRUNC(AY32),AY32>0),1,0),1,IF(ISNA(HLOOKUP(AY32,$BK$4:$BT$4,1,0)),0,1)),0))) -> 1 | DC32: =IF(OR(BA$30="",BA$4=99),1,IF(BA32="",0,IFERROR(CHOOSE(DC$28,IF(ISNA(MATCH(BA32,$BH$30:$BI$30,0)),0,1),IF(ISNUMBER(BA32),1,0),IF(BA32=TRUNC(BA32),1,0),IF(AND(BA32*1=BA32,BA32>=0),1,0),IF(AND(BA32=TRUNC(BA32),BA32>=0),1,0),IF(AND(BA32*1=BA32,BA32>0),1,0),IF(AND(BA32=TRUNC(BA32),BA32>0),1,0),1,IF(ISNA(HLOOKUP(BA32,$BK$4:$BT$4,1,0)),0,1)),0))) -> 1 | DD32: =IF(OR(BB$30="",BB$4=99),1,IF(BB32="",0,IFERROR(CHOOSE(DD$28,IF(ISNA(MATCH(BB32,$BH$30:$BI$30,0)),0,1),IF(ISNUMBER(BB32),1,0),IF(BB32=TRUNC(BB32),1,0),IF(AND(BB32*1=BB32,BB32>=0),1,0),IF(AND(BB32=TRUNC(BB32),BB32>=0),1,0),IF(AND(BB32*1=BB32,BB32>0),1,0),IF(AND(BB32=TRUNC(BB32),BB32>0),1,0),1,IF(ISNA(HLOOKUP(BB32,$BK$4:$BT$4,1,0)),0,1)),0))) -> 1 | DE32: =IF(OR(BC$30="",BC$4=99),1,IF(BC32="",0,IFERROR(CHOOSE(DE$28,IF(ISNA(MATCH(BC32,$BH$30:$BI$30,0)),0,1),IF(ISNUMBER(BC32),1,0),IF(BC32=TRUNC(BC32),1,0),IF(AND(BC32*1=BC32,BC32>=0),1,0),IF(AND(BC32=TRUNC(BC32),BC32>=0),1,0),IF(AND(BC32*1=BC32,BC32>0),1,0),IF(AND(BC32=TRUNC(BC32),BC32>0),1,0),1,IF(ISNA(HLOOKUP(BC32,$BK$4:$BT$4,1,0)),0,1)),0))) -> 1 | DF32: =IF(OR(BD$30="",BD$4=99),1,IF(BD32="",0,IFERROR(CHOOSE(DF$28,IF(ISNA(MATCH(BD32,$BH$30:$BI$30,0)),0,1),IF(ISNUMBER(BD32),1,0),IF(BD32=TRUNC(BD32),1,0),IF(AND(BD32*1=BD32,BD32>=0),1,0),IF(AND(BD32=TRUNC(BD32),BD32>=0),1,0),IF(AND(BD32*1=BD32,BD32>0),1,0),IF(AND(BD32=TRUNC(BD32),BD32>0),1,0),1,IF(ISNA(HLOOKUP(BD32,$BK$4:$BT$4,1,0)),0,1)),0))) -> 1 | DG32: =IF(OR(BE$30="",BE$4=99),1,IF(BE32="",0,IFERROR(CHOOSE(DG$28,IF(ISNA(MATCH(BE32,$BH$30:$BI$30,0)),0,1),IF(ISNUMBER(BE32),1,0),IF(BE32=TRUNC(BE32),1,0),IF(AND(BE32*1=BE32,BE32>=0),1,0),IF(AND(BE32=TRUNC(BE32),BE32>=0),1,0),IF(AND(BE32*1=BE32,BE32>0),1,0),IF(AND(BE32=TRUNC(BE32),BE32>0),1,0),1,IF(ISNA(HLOOKUP(BE32,$BK$4:$BT$4,1,0)),0,1)),0))) -> 1 | DR32: =AQ32>=DB$7 -> TRUE | DS32: =AR32>=DC$7 -> TRUE | DT32: =AS32>=DD$7 -> TRUE | DX32: =COUNTIF(DR32:DW32,TRUE) -> 3 | DY32: =AQ32>=DI$7 -> TRUE | DZ32: =AR32>=DJ$7 -> TRUE | EA32: =AS32>=DK$7 -> TRUE | EE32: =COUNTIF(DY32:ED32,TRUE) -> 3 | EF32: =IF($F32="","",IF(DX32=$DC$5,1,0)) -> 1 | EG32: =IF($F32="","",IF(AND(EE32=$DC$5,EE32-DX32<=$DJ$5),1,0)) -> 1
B33: =IF(F33="","",ROW()-30) -> 3 | F33: נוער מוסיקלי בישראל - כיתות אמן | G33: 1 | H33: 1 | I33: 1 | J33: 0 | K33: 1 | L33: 1 | M33: 1 | N33: 1 | O33: 0 | P33: 0 | Q33: 0 | R33: 0 | S33: =IF(F33="","",IF(OR(O33=0,SUM(O33:R33)=4),1,0)) -> 1 | T33: 1 | U33: 1 | V33: 1 | W33: 1 | X33: 1 | Y33: 1 | Z33: 1 | AA33: 1 | AB33: 1 | AC33: 1 | AD33: 1 | AE33: 1 | AF33: 1 | AG33: 1 | AH33: 1 | AI33: 1 | AJ33: 1 | AK33: 1 | AL33: 1 | AM33: 1 | AN33: 1 | AO33: 1 | AP33: 1 | AQ33: 6 | AR33: 66 | AS33: 95 | AT33: 220000 | AU33: =IF($F33="","",IF(OR(EF33=1,AND(COUNT(G33:AP33)=SUM(G33:AP33),EG33=1)),1,0)) -> 1 | AV33: 0 | AW33: =IF($F33="","",IF(OR(AG33=0,AND(SUM(AH33:AP33)=COUNTA($AH$29:$AP$29),OR(AND(AV33=0,AU33=1,EG33=1),EF33=1))),1,0)) -> 1 | AX33: 1 | AY33: 1 | AZ33: 1 | BA33: 0 | BE33: {=IF($F33="","",IF(BA33=1,1,IF(BG33<>1,$BH$1,IF(SUMPRODUCT(--(G33:AZ33>=$G$5:$AZ$5)*($G$5:$AZ$5<>"")*($G$4:$AZ$4=1))=COUNTIF($G$4:$AZ$4,1),1,0))))} -> 1 | BF33: מומלץ לתמיכה עפ"י מבחן התמיכה - תחום ד'. הוגשה הצעת תקציב בסך 220,000 ₪. עפ"י המלצת המדור אושרו הוצאות התקציב המבוקש. | BG33: =IF(OR(SUM(BJ33:DG33)<>COUNT(BJ33:DG33),SUMPRODUCT(--(G33:AY33=$BH$1))<>0),0,1) -> 1 | BH33: =IF($F33="","",BH$30) -> 0 | BI33: =IF($F33="","",BI$30) -> 1 | BJ33: =IF(OR(G$30="",G$4=99),1,IF(G33="",0,IFERROR(CHOOSE(BJ$28,IF(ISNA(MATCH(G33,$BH$30:$BI$30,0)),0,1),IF(ISNUMBER(G33),1,0),IF(G33=TRUNC(G33),1,0),IF(AND(G33*1=G33,G33>=0),1,0),IF(AND(G33=TRUNC(G33),G33>=0),1,0),IF(AND(G33*1=G33,G33>0),1,0),IF(AND(G33=TRUNC(G33),G33>0),1,0),1,IF(ISNA(HLOOKUP(G33,$BK$4:$BT$4,1,0)),0,1)),0))) -> 1 | BK33: =IF(OR(H$30="",H$4=99),1,IF(H33="",0,IFERROR(CHOOSE(BK$28,IF(ISNA(MATCH(H33,$BH$30:$BI$30,0)),0,1),IF(ISNUMBER(H33),1,0),IF(H33=TRUNC(H33),1,0),IF(AND(H33*1=H33,H33>=0),1,0),IF(AND(H33=TRUNC(H33),H33>=0),1,0),IF(AND(H33*1=H33,H33>0),1,0),IF(AND(H33=TRUNC(H33),H33>0),1,0),1,IF(ISNA(HLOOKUP(H33,$BK$4:$BT$4,1,0)),0,1)),0))) -> 1 | BL33: =IF(OR(I$30="",I$4=99),1,IF(I33="",0,IFERROR(CHOOSE(BL$28,IF(ISNA(MATCH(I33,$BH$30:$BI$30,0)),0,1),IF(ISNUMBER(I33),1,0),IF(I33=TRUNC(I33),1,0),IF(AND(I33*1=I33,I33>=0),1,0),IF(AND(I33=TRUNC(I33),I33>=0),1,0),IF(AND(I33*1=I33,I33>0),1,0),IF(AND(I33=TRUNC(I33),I33>0),1,0),1,IF(ISNA(HLOOKUP(I33,$BK$4:$BT$4,1,0)),0,1)),0))) -> 1 | BM33: =IF(OR(J$30="",J$4=99),1,IF(J33="",0,IFERROR(CHOOSE(BM$28,IF(ISNA(MATCH(J33,$BH$30:$BI$30,0)),0,1),IF(ISNUMBER(J33),1,0),IF(J33=TRUNC(J33),1,0),IF(AND(J33*1=J33,J33>=0),1,0),IF(AND(J33=TRUNC(J33),J33>=0),1,0),IF(AND(J33*1=J33,J33>0),1,0),IF(AND(J33=TRUNC(J33),J33>0),1,0),1,IF(ISNA(HLOOKUP(J33,$BK$4:$BT$4,1,0)),0,1)),0))) -> 1 | BN33: =IF(OR(K$30="",K$4=99),1,IF(K33="",0,IFERROR(CHOOSE(BN$28,IF(ISNA(MATCH(K33,$BH$30:$BI$30,0)),0,1),IF(ISNUMBER(K33),1,0),IF(K33=TRUNC(K33),1,0),IF(AND(K33*1=K33,K33>=0),1,0),IF(AND(K33=TRUNC(K33),K33>=0),1,0),IF(AND(K33*1=K33,K33>0),1,0),IF(AND(K33=TRUNC(K33),K33>0),1,0),1,IF(ISNA(HLOOKUP(K33,$BK$4:$BT$4,1,0)),0,1)),0))) -> 1 | BO33: =IF(OR(L$30="",L$4=99),1,IF(L33="",0,IFERROR(CHOOSE(BO$28,IF(ISNA(MATCH(L33,$BH$30:$BI$30,0)),0,1),IF(ISNUMBER(L33),1,0),IF(L33=TRUNC(L33),1,0),IF(AND(L33*1=L33,L33>=0),1,0),IF(AND(L33=TRUNC(L33),L33>=0),1,0),IF(AND(L33*1=L33,L33>0),1,0),IF(AND(L33=TRUNC(L33),L33>0),1,0),1,IF(ISNA(HLOOKUP(L33,$BK$4:$BT$4,1,0)),0,1)),0))) -> 1 | BP33: =IF(OR(M$30="",M$4=99),1,IF(M33="",0,IFERROR(CHOOSE(BP$28,IF(ISNA(MATCH(M33,$BH$30:$BI$30,0)),0,1),IF(ISNUMBER(M33),1,0),IF(M33=TRUNC(M33),1,0),IF(AND(M33*1=M33,M33>=0),1,0),IF(AND(M33=TRUNC(M33),M33>=0),1,0),IF(AND(M33*1=M33,M33>0),1,0),IF(AND(M33=TRUNC(M33),M33>0),1,0),1,IF(ISNA(HLOOKUP(M33,$BK$4:$BT$4,1,0)),0,1)),0))) -> 1 | BQ33: =IF(OR(N$30="",N$4=99),1,IF(N33="",0,IFERROR(CHOOSE(BQ$28,IF(ISNA(MATCH(N33,$BH$30:$BI$30,0)),0,1),IF(ISNUMBER(N33),1,0),IF(N33=TRUNC(N33),1,0),IF(AND(N33*1=N33,N33>=0),1,0),IF(AND(N33=TRUNC(N33),N33>=0),1,0),IF(AND(N33*1=N33,N33>0),1,0),IF(AND(N33=TRUNC(N33),N33>0),1,0),1,IF(ISNA(HLOOKUP(N33,$BK$4:$BT$4,1,0)),0,1)),0))) -> 1 | ... CN33: =IF(OR(AK$30="",AK$4=99),1,IF(AK33="",0,IFERROR(CHOOSE(CN$28,IF(ISNA(MATCH(AK33,$BH$30:$BI$30,0)),0,1),IF(ISNUMBER(AK33),1,0),IF(AK33=TRUNC(AK33),1,0),IF(AND(AK33*1=AK33,AK33>=0),1,0),IF(AND(AK33=TRUNC(AK33),AK33>=0),1,0),IF(AND(AK33*1=AK33,AK33>0),1,0),IF(AND(AK33=TRUNC(AK33),AK33>0),1,0),1,IF(ISNA(HLOOKUP(AK33,$BK$4:$BT$4,1,0)),0,1)),0))) -> 1 | CO33: =IF(OR(AL$30="",AM$4=99),1,IF(AL33="",0,IFERROR(CHOOSE(CO$28,IF(ISNA(MATCH(AL33,$BH$30:$BI$30,0)),0,1),IF(ISNUMBER(AL33),1,0),IF(AL33=TRUNC(AL33),1,0),IF(AND(AL33*1=AL33,AL33>=0),1,0),IF(AND(AL33=TRUNC(AL33),AL33>=0),1,0),IF(AND(AL33*1=AL33,AL33>0),1,0),IF(AND(AL33=TRUNC(AL33),AL33>0),1,0),1,IF(ISNA(HLOOKUP(AL33,$BK$4:$BT$4,1,0)),0,1)),0))) -> 1 | CP33: =IF(OR(AM$30="",AN$4=99),1,IF(AM33="",0,IFERROR(CHOOSE(CP$28,IF(ISNA(MATCH(AM33,$BH$30:$BI$30,0)),0,1),IF(ISNUMBER(AM33),1,0),IF(AM33=TRUNC(AM33),1,0),IF(AND(AM33*1=AM33,AM33>=0),1,0),IF(AND(AM33=TRUNC(AM33),AM33>=0),1,0),IF(AND(AM33*1=AM33,AM33>0),1,0),IF(AND(AM33=TRUNC(AM33),AM33>0),1,0),1,IF(ISNA(HLOOKUP(AM33,$BK$4:$BT$4,1,0)),0,1)),0))) -> 1 | CQ33: =IF(OR(AN$30="",AN$4=99),1,IF(AN33="",0,IFERROR(CHOOSE(CQ$28,IF(ISNA(MATCH(AN33,$BH$30:$BI$30,0)),0,1),IF(ISNUMBER(AN33),1,0),IF(AN33=TRUNC(AN33),1,0),IF(AND(AN33*1=AN33,AN33>=0),1,0),IF(AND(AN33=TRUNC(AN33),AN33>=0),1,0),IF(AND(AN33*1=AN33,AN33>0),1,0),IF(AND(AN33=TRUNC(AN33),AN33>0),1,0),1,IF(ISNA(HLOOKUP(AN33,$BK$4:$BT$4,1,0)),0,1)),0))) -> 1 | CR33: =IF(OR(AO$30="",AO$4=99),1,IF(AO33="",0,IFERROR(CHOOSE(CR$28,IF(ISNA(MATCH(AO33,$BH$30:$BI$30,0)),0,1),IF(ISNUMBER(AO33),1,0),IF(AO33=TRUNC(AO33),1,0),IF(AND(AO33*1=AO33,AO33>=0),1,0),IF(AND(AO33=TRUNC(AO33),AO33>=0),1,0),IF(AND(AO33*1=AO33,AO33>0),1,0),IF(AND(AO33=TRUNC(AO33),AO33>0),1,0),1,IF(ISNA(HLOOKUP(AO33,$BK$4:$BT$4,1,0)),0,1)),0))) -> 1 | CS33: =IF(OR(AP$30="",AP$4=99),1,IF(AP33="",0,IFERROR(CHOOSE(CS$28,IF(ISNA(MATCH(AP33,$BH$30:$BI$30,0)),0,1),IF(ISNUMBER(AP33),1,0),IF(AP33=TRUNC(AP33),1,0),IF(AND(AP33*1=AP33,AP33>=0),1,0),IF(AND(AP33=TRUNC(AP33),AP33>=0),1,0),IF(AND(AP33*1=AP33,AP33>0),1,0),IF(AND(AP33=TRUNC(AP33),AP33>0),1,0),1,IF(ISNA(HLOOKUP(AP33,$BK$4:$BT$4,1,0)),0,1)),0))) -> 1 | CT33: =IF(OR(AQ$30="",AQ$4=99),1,IF(AQ33="",0,IFERROR(CHOOSE(CT$28,IF(ISNA(MATCH(AQ33,$BH$30:$BI$30,0)),0,1),IF(ISNUMBER(AQ33),1,0),IF(AQ33=TRUNC(AQ33),1,0),IF(AND(AQ33*1=AQ33,AQ33>=0),1,0),IF(AND(AQ33=TRUNC(AQ33),AQ33>=0),1,0),IF(AND(AQ33*1=AQ33,AQ33>0),1,0),IF(AND(AQ33=TRUNC(AQ33),AQ33>0),1,0),1,IF(ISNA(HLOOKUP(AQ33,$BK$4:$BT$4,1,0)),0,1)),0))) -> 1 | CU33: =IF(OR(AR$30="",AR$4=99),1,IF(AR33="",0,IFERROR(CHOOSE(CU$28,IF(ISNA(MATCH(AR33,$BH$30:$BI$30,0)),0,1),IF(ISNUMBER(AR33),1,0),IF(AR33=TRUNC(AR33),1,0),IF(AND(AR33*1=AR33,AR33>=0),1,0),IF(AND(AR33=TRUNC(AR33),AR33>=0),1,0),IF(AND(AR33*1=AR33,AR33>0),1,0),IF(AND(AR33=TRUNC(AR33),AR33>0),1,0),1,IF(ISNA(HLOOKUP(AR33,$BK$4:$BT$4,1,0)),0,1)),0))) -> 1 | CV33: =IF(OR(AS$30="",AS$4=99),1,IF(AS33="",0,IFERROR(CHOOSE(CV$28,IF(ISNA(MATCH(AS33,$BH$30:$BI$30,0)),0,1),IF(ISNUMBER(AS33),1,0),IF(AS33=TRUNC(AS33),1,0),IF(AND(AS33*1=AS33,AS33>=0),1,0),IF(AND(AS33=TRUNC(AS33),AS33>=0),1,0),IF(AND(AS33*1=AS33,AS33>0),1,0),IF(AND(AS33=TRUNC(AS33),AS33>0),1,0),1,IF(ISNA(HLOOKUP(AS33,$BK$4:$BT$4,1,0)),0,1)),0))) -> 1 | CW33: =IF(OR(AT$30="",AT$4=99),1,IF(AT33="",0,IFERROR(CHOOSE(CW$28,IF(ISNA(MATCH(AT33,$BH$30:$BI$30,0)),0,1),IF(ISNUMBER(AT33),1,0),IF(AT33=TRUNC(AT33),1,0),IF(AND(AT33*1=AT33,AT33>=0),1,0),IF(AND(AT33=TRUNC(AT33),AT33>=0),1,0),IF(AND(AT33*1=AT33,AT33>0),1,0),IF(AND(AT33=TRUNC(AT33),AT33>0),1,0),1,IF(ISNA(HLOOKUP(AT33,$BK$4:$BT$4,1,0)),0,1)),0))) -> 1 | CX33: =IF(OR(AU$30="",AU$4=99),1,IF(AU33="",0,IFERROR(CHOOSE(CX$28,IF(ISNA(MATCH(AU33,$BH$30:$BI$30,0)),0,1),IF(ISNUMBER(AU33),1,0),IF(AU33=TRUNC(AU33),1,0),IF(AND(AU33*1=AU33,AU33>=0),1,0),IF(AND(AU33=TRUNC(AU33),AU33>=0),1,0),IF(AND(AU33*1=AU33,AU33>0),1,0),IF(AND(AU33=TRUNC(AU33),AU33>0),1,0),1,IF(ISNA(HLOOKUP(AU33,$BK$4:$BT$4,1,0)),0,1)),0))) -> 1 | ... DB33: =IF(OR(AY$30="",AY$4=99),1,IF(AY33="",0,IFERROR(CHOOSE(DB$28,IF(ISNA(MATCH(AY33,$BH$30:$BI$30,0)),0,1),IF(ISNUMBER(AY33),1,0),IF(AY33=TRUNC(AY33),1,0),IF(AND(AY33*1=AY33,AY33>=0),1,0),IF(AND(AY33=TRUNC(AY33),AY33>=0),1,0),IF(AND(AY33*1=AY33,AY33>0),1,0),IF(AND(AY33=TRUNC(AY33),AY33>0),1,0),1,IF(ISNA(HLOOKUP(AY33,$BK$4:$BT$4,1,0)),0,1)),0))) -> 1 | DC33: =IF(OR(BA$30="",BA$4=99),1,IF(BA33="",0,IFERROR(CHOOSE(DC$28,IF(ISNA(MATCH(BA33,$BH$30:$BI$30,0)),0,1),IF(ISNUMBER(BA33),1,0),IF(BA33=TRUNC(BA33),1,0),IF(AND(BA33*1=BA33,BA33>=0),1,0),IF(AND(BA33=TRUNC(BA33),BA33>=0),1,0),IF(AND(BA33*1=BA33,BA33>0),1,0),IF(AND(BA33=TRUNC(BA33),BA33>0),1,0),1,IF(ISNA(HLOOKUP(BA33,$BK$4:$BT$4,1,0)),0,1)),0))) -> 1 | DD33: =IF(OR(BB$30="",BB$4=99),1,IF(BB33="",0,IFERROR(CHOOSE(DD$28,IF(ISNA(MATCH(BB33,$BH$30:$BI$30,0)),0,1),IF(ISNUMBER(BB33),1,0),IF(BB33=TRUNC(BB33),1,0),IF(AND(BB33*1=BB33,BB33>=0),1,0),IF(AND(BB33=TRUNC(BB33),BB33>=0),1,0),IF(AND(BB33*1=BB33,BB33>0),1,0),IF(AND(BB33=TRUNC(BB33),BB33>0),1,0),1,IF(ISNA(HLOOKUP(BB33,$BK$4:$BT$4,1,0)),0,1)),0))) -> 1 | DE33: =IF(OR(BC$30="",BC$4=99),1,IF(BC33="",0,IFERROR(CHOOSE(DE$28,IF(ISNA(MATCH(BC33,$BH$30:$BI$30,0)),0,1),IF(ISNUMBER(BC33),1,0),IF(BC33=TRUNC(BC33),1,0),IF(AND(BC33*1=BC33,BC33>=0),1,0),IF(AND(BC33=TRUNC(BC33),BC33>=0),1,0),IF(AND(BC33*1=BC33,BC33>0),1,0),IF(AND(BC33=TRUNC(BC33),BC33>0),1,0),1,IF(ISNA(HLOOKUP(BC33,$BK$4:$BT$4,1,0)),0,1)),0))) -> 1 | DF33: =IF(OR(BD$30="",BD$4=99),1,IF(BD33="",0,IFERROR(CHOOSE(DF$28,IF(ISNA(MATCH(BD33,$BH$30:$BI$30,0)),0,1),IF(ISNUMBER(BD33),1,0),IF(BD33=TRUNC(BD33),1,0),IF(AND(BD33*1=BD33,BD33>=0),1,0),IF(AND(BD33=TRUNC(BD33),BD33>=0),1,0),IF(AND(BD33*1=BD33,BD33>0),1,0),IF(AND(BD33=TRUNC(BD33),BD33>0),1,0),1,IF(ISNA(HLOOKUP(BD33,$BK$4:$BT$4,1,0)),0,1)),0))) -> 1 | DG33: =IF(OR(BE$30="",BE$4=99),1,IF(BE33="",0,IFERROR(CHOOSE(DG$28,IF(ISNA(MATCH(BE33,$BH$30:$BI$30,0)),0,1),IF(ISNUMBER(BE33),1,0),IF(BE33=TRUNC(BE33),1,0),IF(AND(BE33*1=BE33,BE33>=0),1,0),IF(AND(BE33=TRUNC(BE33),BE33>=0),1,0),IF(AND(BE33*1=BE33,BE33>0),1,0),IF(AND(BE33=TRUNC(BE33),BE33>0),1,0),1,IF(ISNA(HLOOKUP(BE33,$BK$4:$BT$4,1,0)),0,1)),0))) -> 1 | DR33: =AQ33>=DB$7 -> TRUE | DS33: =AR33>=DC$7 -> TRUE | DT33: =AS33>=DD$7 -> TRUE | DX33: =COUNTIF(DR33:DW33,TRUE) -> 3 | DY33: =AQ33>=DI$7 -> TRUE | DZ33: =AR33>=DJ$7 -> TRUE | EA33: =AS33>=DK$7 -> TRUE | EE33: =COUNTIF(DY33:ED33,TRUE) -> 3 | EF33: =IF($F33="","",IF(DX33=$DC$5,1,0)) -> 1 | EG33: =IF($F33="","",IF(AND(EE33=$DC$5,EE33-DX33<=$DJ$5),1,0)) -> 1
B34: =IF(F34="","",ROW()-30) -> 4 | F34: בר-קיימא - ליריק אופרה - כיתות אמן | G34: 1 | H34: 1 | I34: 1 | J34: 0 | K34: 1 | L34: 1 | M34: 1 | N34: 1 | O34: 0 | P34: 0 | Q34: 0 | R34: 0 | S34: =IF(F34="","",IF(OR(O34=0,SUM(O34:R34)=4),1,0)) -> 1 | T34: 1 | U34: 1 | V34: 1 | W34: 1 | X34: 1 | Y34: 1 | Z34: 1 | AA34: 1 | AB34: 1 | AC34: 1 | AD34: 1 | AE34: 1 | AF34: 1 | AG34: 1 | AH34: 1 | AI34: 1 | AJ34: 1 | AK34: 1 | AL34: 1 | AM34: 1 | AN34: 1 | AO34: 1 | AP34: 1 | AQ34: 15 | AR34: 360 | AS34: 50 | AT34: 325000 | AU34: =IF($F34="","",IF(OR(EF34=1,AND(COUNT(G34:AP34)=SUM(G34:AP34),EG34=1)),1,0)) -> 1 | AV34: 0 | AW34: =IF($F34="","",IF(OR(AG34=0,AND(SUM(AH34:AP34)=COUNTA($AH$29:$AP$29),OR(AND(AV34=0,AU34=1,EG34=1),EF34=1))),1,0)) -> 1 | AX34: 1 | AY34: 1 | AZ34: 1 | BA34: 0 | BE34: {=IF($F34="","",IF(BA34=1,1,IF(BG34<>1,$BH$1,IF(SUMPRODUCT(--(G34:AZ34>=$G$5:$AZ$5)*($G$5:$AZ$5<>"")*($G$4:$AZ$4=1))=COUNTIF($G$4:$AZ$4,1),1,0))))} -> 1 | BF34: מומלץ לתמיכה עפ"י מבחן התמיכה - תחום ד'. הוגשה הצעת תקציב בסך 325,000 ₪. עפ"י המלצת המדור אושרו הוצאות התקציב המבוקש. | BG34: =IF(OR(SUM(BJ34:DG34)<>COUNT(BJ34:DG34),SUMPRODUCT(--(G34:AY34=$BH$1))<>0),0,1) -> 1 | BH34: =IF($F34="","",BH$30) -> 0 | BI34: =IF($F34="","",BI$30) -> 1 | BJ34: =IF(OR(G$30="",G$4=99),1,IF(G34="",0,IFERROR(CHOOSE(BJ$28,IF(ISNA(MATCH(G34,$BH$30:$BI$30,0)),0,1),IF(ISNUMBER(G34),1,0),IF(G34=TRUNC(G34),1,0),IF(AND(G34*1=G34,G34>=0),1,0),IF(AND(G34=TRUNC(G34),G34>=0),1,0),IF(AND(G34*1=G34,G34>0),1,0),IF(AND(G34=TRUNC(G34),G34>0),1,0),1,IF(ISNA(HLOOKUP(G34,$BK$4:$BT$4,1,0)),0,1)),0))) -> 1 | BK34: =IF(OR(H$30="",H$4=99),1,IF(H34="",0,IFERROR(CHOOSE(BK$28,IF(ISNA(MATCH(H34,$BH$30:$BI$30,0)),0,1),IF(ISNUMBER(H34),1,0),IF(H34=TRUNC(H34),1,0),IF(AND(H34*1=H34,H34>=0),1,0),IF(AND(H34=TRUNC(H34),H34>=0),1,0),IF(AND(H34*1=H34,H34>0),1,0),IF(AND(H34=TRUNC(H34),H34>0),1,0),1,IF(ISNA(HLOOKUP(H34,$BK$4:$BT$4,1,0)),0,1)),0))) -> 1 | BL34: =IF(OR(I$30="",I$4=99),1,IF(I34="",0,IFERROR(CHOOSE(BL$28,IF(ISNA(MATCH(I34,$BH$30:$BI$30,0)),0,1),IF(ISNUMBER(I34),1,0),IF(I34=TRUNC(I34),1,0),IF(AND(I34*1=I34,I34>=0),1,0),IF(AND(I34=TRUNC(I34),I34>=0),1,0),IF(AND(I34*1=I34,I34>0),1,0),IF(AND(I34=TRUNC(I34),I34>0),1,0),1,IF(ISNA(HLOOKUP(I34,$BK$4:$BT$4,1,0)),0,1)),0))) -> 1 | BM34: =IF(OR(J$30="",J$4=99),1,IF(J34="",0,IFERROR(CHOOSE(BM$28,IF(ISNA(MATCH(J34,$BH$30:$BI$30,0)),0,1),IF(ISNUMBER(J34),1,0),IF(J34=TRUNC(J34),1,0),IF(AND(J34*1=J34,J34>=0),1,0),IF(AND(J34=TRUNC(J34),J34>=0),1,0),IF(AND(J34*1=J34,J34>0),1,0),IF(AND(J34=TRUNC(J34),J34>0),1,0),1,IF(ISNA(HLOOKUP(J34,$BK$4:$BT$4,1,0)),0,1)),0))) -> 1 | BN34: =IF(OR(K$30="",K$4=99),1,IF(K34="",0,IFERROR(CHOOSE(BN$28,IF(ISNA(MATCH(K34,$BH$30:$BI$30,0)),0,1),IF(ISNUMBER(K34),1,0),IF(K34=TRUNC(K34),1,0),IF(AND(K34*1=K34,K34>=0),1,0),IF(AND(K34=TRUNC(K34),K34>=0),1,0),IF(AND(K34*1=K34,K34>0),1,0),IF(AND(K34=TRUNC(K34),K34>0),1,0),1,IF(ISNA(HLOOKUP(K34,$BK$4:$BT$4,1,0)),0,1)),0))) -> 1 | BO34: =IF(OR(L$30="",L$4=99),1,IF(L34="",0,IFERROR(CHOOSE(BO$28,IF(ISNA(MATCH(L34,$BH$30:$BI$30,0)),0,1),IF(ISNUMBER(L34),1,0),IF(L34=TRUNC(L34),1,0),IF(AND(L34*1=L34,L34>=0),1,0),IF(AND(L34=TRUNC(L34),L34>=0),1,0),IF(AND(L34*1=L34,L34>0),1,0),IF(AND(L34=TRUNC(L34),L34>0),1,0),1,IF(ISNA(HLOOKUP(L34,$BK$4:$BT$4,1,0)),0,1)),0))) -> 1 | BP34: =IF(OR(M$30="",M$4=99),1,IF(M34="",0,IFERROR(CHOOSE(BP$28,IF(ISNA(MATCH(M34,$BH$30:$BI$30,0)),0,1),IF(ISNUMBER(M34),1,0),IF(M34=TRUNC(M34),1,0),IF(AND(M34*1=M34,M34>=0),1,0),IF(AND(M34=TRUNC(M34),M34>=0),1,0),IF(AND(M34*1=M34,M34>0),1,0),IF(AND(M34=TRUNC(M34),M34>0),1,0),1,IF(ISNA(HLOOKUP(M34,$BK$4:$BT$4,1,0)),0,1)),0))) -> 1 | BQ34: =IF(OR(N$30="",N$4=99),1,IF(N34="",0,IFERROR(CHOOSE(BQ$28,IF(ISNA(MATCH(N34,$BH$30:$BI$30,0)),0,1),IF(ISNUMBER(N34),1,0),IF(N34=TRUNC(N34),1,0),IF(AND(N34*1=N34,N34>=0),1,0),IF(AND(N34=TRUNC(N34),N34>=0),1,0),IF(AND(N34*1=N34,N34>0),1,0),IF(AND(N34=TRUNC(N34),N34>0),1,0),1,IF(ISNA(HLOOKUP(N34,$BK$4:$BT$4,1,0)),0,1)),0))) -> 1 | ... CN34: =IF(OR(AK$30="",AK$4=99),1,IF(AK34="",0,IFERROR(CHOOSE(CN$28,IF(ISNA(MATCH(AK34,$BH$30:$BI$30,0)),0,1),IF(ISNUMBER(AK34),1,0),IF(AK34=TRUNC(AK34),1,0),IF(AND(AK34*1=AK34,AK34>=0),1,0),IF(AND(AK34=TRUNC(AK34),AK34>=0),1,0),IF(AND(AK34*1=AK34,AK34>0),1,0),IF(AND(AK34=TRUNC(AK34),AK34>0),1,0),1,IF(ISNA(HLOOKUP(AK34,$BK$4:$BT$4,1,0)),0,1)),0))) -> 1 | CO34: =IF(OR(AL$30="",AM$4=99),1,IF(AL34="",0,IFERROR(CHOOSE(CO$28,IF(ISNA(MATCH(AL34,$BH$30:$BI$30,0)),0,1),IF(ISNUMBER(AL34),1,0),IF(AL34=TRUNC(AL34),1,0),IF(AND(AL34*1=AL34,AL34>=0),1,0),IF(AND(AL34=TRUNC(AL34),AL34>=0),1,0),IF(AND(AL34*1=AL34,AL34>0),1,0),IF(AND(AL34=TRUNC(AL34),AL34>0),1,0),1,IF(ISNA(HLOOKUP(AL34,$BK$4:$BT$4,1,0)),0,1)),0))) -> 1 | CP34: =IF(OR(AM$30="",AN$4=99),1,IF(AM34="",0,IFERROR(CHOOSE(CP$28,IF(ISNA(MATCH(AM34,$BH$30:$BI$30,0)),0,1),IF(ISNUMBER(AM34),1,0),IF(AM34=TRUNC(AM34),1,0),IF(AND(AM34*1=AM34,AM34>=0),1,0),IF(AND(AM34=TRUNC(AM34),AM34>=0),1,0),IF(AND(AM34*1=AM34,AM34>0),1,0),IF(AND(AM34=TRUNC(AM34),AM34>0),1,0),1,IF(ISNA(HLOOKUP(AM34,$BK$4:$BT$4,1,0)),0,1)),0))) -> 1 | CQ34: =IF(OR(AN$30="",AN$4=99),1,IF(AN34="",0,IFERROR(CHOOSE(CQ$28,IF(ISNA(MATCH(AN34,$BH$30:$BI$30,0)),0,1),IF(ISNUMBER(AN34),1,0),IF(AN34=TRUNC(AN34),1,0),IF(AND(AN34*1=AN34,AN34>=0),1,0),IF(AND(AN34=TRUNC(AN34),AN34>=0),1,0),IF(AND(AN34*1=AN34,AN34>0),1,0),IF(AND(AN34=TRUNC(AN34),AN34>0),1,0),1,IF(ISNA(HLOOKUP(AN34,$BK$4:$BT$4,1,0)),0,1)),0))) -> 1 | CR34: =IF(OR(AO$30="",AO$4=99),1,IF(AO34="",0,IFERROR(CHOOSE(CR$28,IF(ISNA(MATCH(AO34,$BH$30:$BI$30,0)),0,1),IF(ISNUMBER(AO34),1,0),IF(AO34=TRUNC(AO34),1,0),IF(AND(AO34*1=AO34,AO34>=0),1,0),IF(AND(AO34=TRUNC(AO34),AO34>=0),1,0),IF(AND(AO34*1=AO34,AO34>0),1,0),IF(AND(AO34=TRUNC(AO34),AO34>0),1,0),1,IF(ISNA(HLOOKUP(AO34,$BK$4:$BT$4,1,0)),0,1)),0))) -> 1 | CS34: =IF(OR(AP$30="",AP$4=99),1,IF(AP34="",0,IFERROR(CHOOSE(CS$28,IF(ISNA(MATCH(AP34,$BH$30:$BI$30,0)),0,1),IF(ISNUMBER(AP34),1,0),IF(AP34=TRUNC(AP34),1,0),IF(AND(AP34*1=AP34,AP34>=0),1,0),IF(AND(AP34=TRUNC(AP34),AP34>=0),1,0),IF(AND(AP34*1=AP34,AP34>0),1,0),IF(AND(AP34=TRUNC(AP34),AP34>0),1,0),1,IF(ISNA(HLOOKUP(AP34,$BK$4:$BT$4,1,0)),0,1)),0))) -> 1 | CT34: =IF(OR(AQ$30="",AQ$4=99),1,IF(AQ34="",0,IFERROR(CHOOSE(CT$28,IF(ISNA(MATCH(AQ34,$BH$30:$BI$30,0)),0,1),IF(ISNUMBER(AQ34),1,0),IF(AQ34=TRUNC(AQ34),1,0),IF(AND(AQ34*1=AQ34,AQ34>=0),1,0),IF(AND(AQ34=TRUNC(AQ34),AQ34>=0),1,0),IF(AND(AQ34*1=AQ34,AQ34>0),1,0),IF(AND(AQ34=TRUNC(AQ34),AQ34>0),1,0),1,IF(ISNA(HLOOKUP(AQ34,$BK$4:$BT$4,1,0)),0,1)),0))) -> 1 | CU34: =IF(OR(AR$30="",AR$4=99),1,IF(AR34="",0,IFERROR(CHOOSE(CU$28,IF(ISNA(MATCH(AR34,$BH$30:$BI$30,0)),0,1),IF(ISNUMBER(AR34),1,0),IF(AR34=TRUNC(AR34),1,0),IF(AND(AR34*1=AR34,AR34>=0),1,0),IF(AND(AR34=TRUNC(AR34),AR34>=0),1,0),IF(AND(AR34*1=AR34,AR34>0),1,0),IF(AND(AR34=TRUNC(AR34),AR34>0),1,0),1,IF(ISNA(HLOOKUP(AR34,$BK$4:$BT$4,1,0)),0,1)),0))) -> 1 | CV34: =IF(OR(AS$30="",AS$4=99),1,IF(AS34="",0,IFERROR(CHOOSE(CV$28,IF(ISNA(MATCH(AS34,$BH$30:$BI$30,0)),0,1),IF(ISNUMBER(AS34),1,0),IF(AS34=TRUNC(AS34),1,0),IF(AND(AS34*1=AS34,AS34>=0),1,0),IF(AND(AS34=TRUNC(AS34),AS34>=0),1,0),IF(AND(AS34*1=AS34,AS34>0),1,0),IF(AND(AS34=TRUNC(AS34),AS34>0),1,0),1,IF(ISNA(HLOOKUP(AS34,$BK$4:$BT$4,1,0)),0,1)),0))) -> 1 | CW34: =IF(OR(AT$30="",AT$4=99),1,IF(AT34="",0,IFERROR(CHOOSE(CW$28,IF(ISNA(MATCH(AT34,$BH$30:$BI$30,0)),0,1),IF(ISNUMBER(AT34),1,0),IF(AT34=TRUNC(AT34),1,0),IF(AND(AT34*1=AT34,AT34>=0),1,0),IF(AND(AT34=TRUNC(AT34),AT34>=0),1,0),IF(AND(AT34*1=AT34,AT34>0),1,0),IF(AND(AT34=TRUNC(AT34),AT34>0),1,0),1,IF(ISNA(HLOOKUP(AT34,$BK$4:$BT$4,1,0)),0,1)),0))) -> 1 | CX34: =IF(OR(AU$30="",AU$4=99),1,IF(AU34="",0,IFERROR(CHOOSE(CX$28,IF(ISNA(MATCH(AU34,$BH$30:$BI$30,0)),0,1),IF(ISNUMBER(AU34),1,0),IF(AU34=TRUNC(AU34),1,0),IF(AND(AU34*1=AU34,AU34>=0),1,0),IF(AND(AU34=TRUNC(AU34),AU34>=0),1,0),IF(AND(AU34*1=AU34,AU34>0),1,0),IF(AND(AU34=TRUNC(AU34),AU34>0),1,0),1,IF(ISNA(HLOOKUP(AU34,$BK$4:$BT$4,1,0)),0,1)),0))) -> 1 | ... DB34: =IF(OR(AY$30="",AY$4=99),1,IF(AY34="",0,IFERROR(CHOOSE(DB$28,IF(ISNA(MATCH(AY34,$BH$30:$BI$30,0)),0,1),IF(ISNUMBER(AY34),1,0),IF(AY34=TRUNC(AY34),1,0),IF(AND(AY34*1=AY34,AY34>=0),1,0),IF(AND(AY34=TRUNC(AY34),AY34>=0),1,0),IF(AND(AY34*1=AY34,AY34>0),1,0),IF(AND(AY34=TRUNC(AY34),AY34>0),1,0),1,IF(ISNA(HLOOKUP(AY34,$BK$4:$BT$4,1,0)),0,1)),0))) -> 1 | DC34: =IF(OR(BA$30="",BA$4=99),1,IF(BA34="",0,IFERROR(CHOOSE(DC$28,IF(ISNA(MATCH(BA34,$BH$30:$BI$30,0)),0,1),IF(ISNUMBER(BA34),1,0),IF(BA34=TRUNC(BA34),1,0),IF(AND(BA34*1=BA34,BA34>=0),1,0),IF(AND(BA34=TRUNC(BA34),BA34>=0),1,0),IF(AND(BA34*1=BA34,BA34>0),1,0),IF(AND(BA34=TRUNC(BA34),BA34>0),1,0),1,IF(ISNA(HLOOKUP(BA34,$BK$4:$BT$4,1,0)),0,1)),0))) -> 1 | DD34: =IF(OR(BB$30="",BB$4=99),1,IF(BB34="",0,IFERROR(CHOOSE(DD$28,IF(ISNA(MATCH(BB34,$BH$30:$BI$30,0)),0,1),IF(ISNUMBER(BB34),1,0),IF(BB34=TRUNC(BB34),1,0),IF(AND(BB34*1=BB34,BB34>=0),1,0),IF(AND(BB34=TRUNC(BB34),BB34>=0),1,0),IF(AND(BB34*1=BB34,BB34>0),1,0),IF(AND(BB34=TRUNC(BB34),BB34>0),1,0),1,IF(ISNA(HLOOKUP(BB34,$BK$4:$BT$4,1,0)),0,1)),0))) -> 1 | DE34: =IF(OR(BC$30="",BC$4=99),1,IF(BC34="",0,IFERROR(CHOOSE(DE$28,IF(ISNA(MATCH(BC34,$BH$30:$BI$30,0)),0,1),IF(ISNUMBER(BC34),1,0),IF(BC34=TRUNC(BC34),1,0),IF(AND(BC34*1=BC34,BC34>=0),1,0),IF(AND(BC34=TRUNC(BC34),BC34>=0),1,0),IF(AND(BC34*1=BC34,BC34>0),1,0),IF(AND(BC34=TRUNC(BC34),BC34>0),1,0),1,IF(ISNA(HLOOKUP(BC34,$BK$4:$BT$4,1,0)),0,1)),0))) -> 1 | DF34: =IF(OR(BD$30="",BD$4=99),1,IF(BD34="",0,IFERROR(CHOOSE(DF$28,IF(ISNA(MATCH(BD34,$BH$30:$BI$30,0)),0,1),IF(ISNUMBER(BD34),1,0),IF(BD34=TRUNC(BD34),1,0),IF(AND(BD34*1=BD34,BD34>=0),1,0),IF(AND(BD34=TRUNC(BD34),BD34>=0),1,0),IF(AND(BD34*1=BD34,BD34>0),1,0),IF(AND(BD34=TRUNC(BD34),BD34>0),1,0),1,IF(ISNA(HLOOKUP(BD34,$BK$4:$BT$4,1,0)),0,1)),0))) -> 1 | DG34: =IF(OR(BE$30="",BE$4=99),1,IF(BE34="",0,IFERROR(CHOOSE(DG$28,IF(ISNA(MATCH(BE34,$BH$30:$BI$30,0)),0,1),IF(ISNUMBER(BE34),1,0),IF(BE34=TRUNC(BE34),1,0),IF(AND(BE34*1=BE34,BE34>=0),1,0),IF(AND(BE34=TRUNC(BE34),BE34>=0),1,0),IF(AND(BE34*1=BE34,BE34>0),1,0),IF(AND(BE34=TRUNC(BE34),BE34>0),1,0),1,IF(ISNA(HLOOKUP(BE34,$BK$4:$BT$4,1,0)),0,1)),0))) -> 1 | DR34: =AQ34>=DB$7 -> TRUE | DS34: =AR34>=DC$7 -> TRUE | DT34: =AS34>=DD$7 -> TRUE | DX34: =COUNTIF(DR34:DW34,TRUE) -> 3 | DY34: =AQ34>=DI$7 -> TRUE | DZ34: =AR34>=DJ$7 -> TRUE | EA34: =AS34>=DK$7 -> TRUE | EE34: =COUNTIF(DY34:ED34,TRUE) -> 3 | EF34: =IF($F34="","",IF(DX34=$DC$5,1,0)) -> 1 | EG34: =IF($F34="","",IF(AND(EE34=$DC$5,EE34-DX34<=$DJ$5),1,0)) -> 1
B35: =IF(F35="","",ROW()-30) -> 5 | F35: עמותת כליזמרים כיתת אמן בצפת | G35: 1 | H35: 1 | I35: 1 | J35: 0 | K35: 1 | L35: 1 | M35: 1 | N35: 1 | O35: 0 | P35: 0 | Q35: 0 | R35: 0 | S35: =IF(F35="","",IF(OR(O35=0,SUM(O35:R35)=4),1,0)) -> 1 | T35: 1 | U35: 1 | V35: 1 | W35: 1 | X35: 1 | Y35: 1 | Z35: 1 | AA35: 1 | AB35: 1 | AC35: 1 | AD35: 1 | AE35: 1 | AF35: 1 | AG35: 1 | AH35: 1 | AI35: 1 | AJ35: 1 | AK35: 1 | AL35: 1 | AM35: 1 | AN35: 1 | AO35: 1 | AP35: 1 | AQ35: 5 | AR35: 35 | AS35: 47 | AT35: 675253 | AU35: =IF($F35="","",IF(OR(EF35=1,AND(COUNT(G35:AP35)=SUM(G35:AP35),EG35=1)),1,0)) -> 1 | AV35: 0 | AW35: =IF($F35="","",IF(OR(AG35=0,AND(SUM(AH35:AP35)=COUNTA($AH$29:$AP$29),OR(AND(AV35=0,AU35=1,EG35=1),EF35=1))),1,0)) -> 1 | AX35: 1 | AY35: 1 | AZ35: 1 | BA35: 0 | BE35: {=IF($F35="","",IF(BA35=1,1,IF(BG35<>1,$BH$1,IF(SUMPRODUCT(--(G35:AZ35>=$G$5:$AZ$5)*($G$5:$AZ$5<>"")*($G$4:$AZ$4=1))=COUNTIF($G$4:$AZ$4,1),1,0))))} -> 1 | BF35: מומלץ לתמיכה עפ"י מבחן התמיכה - תחום ד'. הוגשה הצעת תקציב בסך 675,253 ₪. עפ"י המלצת המדור אושרו הוצאות התקציב המבוקש. | BG35: =IF(OR(SUM(BJ35:DG35)<>COUNT(BJ35:DG35),SUMPRODUCT(--(G35:AY35=$BH$1))<>0),0,1) -> 1 | BH35: =IF($F35="","",BH$30) -> 0 | BI35: =IF($F35="","",BI$30) -> 1 | BJ35: =IF(OR(G$30="",G$4=99),1,IF(G35="",0,IFERROR(CHOOSE(BJ$28,IF(ISNA(MATCH(G35,$BH$30:$BI$30,0)),0,1),IF(ISNUMBER(G35),1,0),IF(G35=TRUNC(G35),1,0),IF(AND(G35*1=G35,G35>=0),1,0),IF(AND(G35=TRUNC(G35),G35>=0),1,0),IF(AND(G35*1=G35,G35>0),1,0),IF(AND(G35=TRUNC(G35),G35>0),1,0),1,IF(ISNA(HLOOKUP(G35,$BK$4:$BT$4,1,0)),0,1)),0))) -> 1 | BK35: =IF(OR(H$30="",H$4=99),1,IF(H35="",0,IFERROR(CHOOSE(BK$28,IF(ISNA(MATCH(H35,$BH$30:$BI$30,0)),0,1),IF(ISNUMBER(H35),1,0),IF(H35=TRUNC(H35),1,0),IF(AND(H35*1=H35,H35>=0),1,0),IF(AND(H35=TRUNC(H35),H35>=0),1,0),IF(AND(H35*1=H35,H35>0),1,0),IF(AND(H35=TRUNC(H35),H35>0),1,0),1,IF(ISNA(HLOOKUP(H35,$BK$4:$BT$4,1,0)),0,1)),0))) -> 1 | BL35: =IF(OR(I$30="",I$4=99),1,IF(I35="",0,IFERROR(CHOOSE(BL$28,IF(ISNA(MATCH(I35,$BH$30:$BI$30,0)),0,1),IF(ISNUMBER(I35),1,0),IF(I35=TRUNC(I35),1,0),IF(AND(I35*1=I35,I35>=0),1,0),IF(AND(I35=TRUNC(I35),I35>=0),1,0),IF(AND(I35*1=I35,I35>0),1,0),IF(AND(I35=TRUNC(I35),I35>0),1,0),1,IF(ISNA(HLOOKUP(I35,$BK$4:$BT$4,1,0)),0,1)),0))) -> 1 | BM35: =IF(OR(J$30="",J$4=99),1,IF(J35="",0,IFERROR(CHOOSE(BM$28,IF(ISNA(MATCH(J35,$BH$30:$BI$30,0)),0,1),IF(ISNUMBER(J35),1,0),IF(J35=TRUNC(J35),1,0),IF(AND(J35*1=J35,J35>=0),1,0),IF(AND(J35=TRUNC(J35),J35>=0),1,0),IF(AND(J35*1=J35,J35>0),1,0),IF(AND(J35=TRUNC(J35),J35>0),1,0),1,IF(ISNA(HLOOKUP(J35,$BK$4:$BT$4,1,0)),0,1)),0))) -> 1 | BN35: =IF(OR(K$30="",K$4=99),1,IF(K35="",0,IFERROR(CHOOSE(BN$28,IF(ISNA(MATCH(K35,$BH$30:$BI$30,0)),0,1),IF(ISNUMBER(K35),1,0),IF(K35=TRUNC(K35),1,0),IF(AND(K35*1=K35,K35>=0),1,0),IF(AND(K35=TRUNC(K35),K35>=0),1,0),IF(AND(K35*1=K35,K35>0),1,0),IF(AND(K35=TRUNC(K35),K35>0),1,0),1,IF(ISNA(HLOOKUP(K35,$BK$4:$BT$4,1,0)),0,1)),0))) -> 1 | BO35: =IF(OR(L$30="",L$4=99),1,IF(L35="",0,IFERROR(CHOOSE(BO$28,IF(ISNA(MATCH(L35,$BH$30:$BI$30,0)),0,1),IF(ISNUMBER(L35),1,0),IF(L35=TRUNC(L35),1,0),IF(AND(L35*1=L35,L35>=0),1,0),IF(AND(L35=TRUNC(L35),L35>=0),1,0),IF(AND(L35*1=L35,L35>0),1,0),IF(AND(L35=TRUNC(L35),L35>0),1,0),1,IF(ISNA(HLOOKUP(L35,$BK$4:$BT$4,1,0)),0,1)),0))) -> 1 | BP35: =IF(OR(M$30="",M$4=99),1,IF(M35="",0,IFERROR(CHOOSE(BP$28,IF(ISNA(MATCH(M35,$BH$30:$BI$30,0)),0,1),IF(ISNUMBER(M35),1,0),IF(M35=TRUNC(M35),1,0),IF(AND(M35*1=M35,M35>=0),1,0),IF(AND(M35=TRUNC(M35),M35>=0),1,0),IF(AND(M35*1=M35,M35>0),1,0),IF(AND(M35=TRUNC(M35),M35>0),1,0),1,IF(ISNA(HLOOKUP(M35,$BK$4:$BT$4,1,0)),0,1)),0))) -> 1 | BQ35: =IF(OR(N$30="",N$4=99),1,IF(N35="",0,IFERROR(CHOOSE(BQ$28,IF(ISNA(MATCH(N35,$BH$30:$BI$30,0)),0,1),IF(ISNUMBER(N35),1,0),IF(N35=TRUNC(N35),1,0),IF(AND(N35*1=N35,N35>=0),1,0),IF(AND(N35=TRUNC(N35),N35>=0),1,0),IF(AND(N35*1=N35,N35>0),1,0),IF(AND(N35=TRUNC(N35),N35>0),1,0),1,IF(ISNA(HLOOKUP(N35,$BK$4:$BT$4,1,0)),0,1)),0))) -> 1 | ... CN35: =IF(OR(AK$30="",AK$4=99),1,IF(AK35="",0,IFERROR(CHOOSE(CN$28,IF(ISNA(MATCH(AK35,$BH$30:$BI$30,0)),0,1),IF(ISNUMBER(AK35),1,0),IF(AK35=TRUNC(AK35),1,0),IF(AND(AK35*1=AK35,AK35>=0),1,0),IF(AND(AK35=TRUNC(AK35),AK35>=0),1,0),IF(AND(AK35*1=AK35,AK35>0),1,0),IF(AND(AK35=TRUNC(AK35),AK35>0),1,0),1,IF(ISNA(HLOOKUP(AK35,$BK$4:$BT$4,1,0)),0,1)),0))) -> 1 | CO35: =IF(OR(AL$30="",AM$4=99),1,IF(AL35="",0,IFERROR(CHOOSE(CO$28,IF(ISNA(MATCH(AL35,$BH$30:$BI$30,0)),0,1),IF(ISNUMBER(AL35),1,0),IF(AL35=TRUNC(AL35),1,0),IF(AND(AL35*1=AL35,AL35>=0),1,0),IF(AND(AL35=TRUNC(AL35),AL35>=0),1,0),IF(AND(AL35*1=AL35,AL35>0),1,0),IF(AND(AL35=TRUNC(AL35),AL35>0),1,0),1,IF(ISNA(HLOOKUP(AL35,$BK$4:$BT$4,1,0)),0,1)),0))) -> 1 | CP35: =IF(OR(AM$30="",AN$4=99),1,IF(AM35="",0,IFERROR(CHOOSE(CP$28,IF(ISNA(MATCH(AM35,$BH$30:$BI$30,0)),0,1),IF(ISNUMBER(AM35),1,0),IF(AM35=TRUNC(AM35),1,0),IF(AND(AM35*1=AM35,AM35>=0),1,0),IF(AND(AM35=TRUNC(AM35),AM35>=0),1,0),IF(AND(AM35*1=AM35,AM35>0),1,0),IF(AND(AM35=TRUNC(AM35),AM35>0),1,0),1,IF(ISNA(HLOOKUP(AM35,$BK$4:$BT$4,1,0)),0,1)),0))) -> 1 | CQ35: =IF(OR(AN$30="",AN$4=99),1,IF(AN35="",0,IFERROR(CHOOSE(CQ$28,IF(ISNA(MATCH(AN35,$BH$30:$BI$30,0)),0,1),IF(ISNUMBER(AN35),1,0),IF(AN35=TRUNC(AN35),1,0),IF(AND(AN35*1=AN35,AN35>=0),1,0),IF(AND(AN35=TRUNC(AN35),AN35>=0),1,0),IF(AND(AN35*1=AN35,AN35>0),1,0),IF(AND(AN35=TRUNC(AN35),AN35>0),1,0),1,IF(ISNA(HLOOKUP(AN35,$BK$4:$BT$4,1,0)),0,1)),0))) -> 1 | CR35: =IF(OR(AO$30="",AO$4=99),1,IF(AO35="",0,IFERROR(CHOOSE(CR$28,IF(ISNA(MATCH(AO35,$BH$30:$BI$30,0)),0,1),IF(ISNUMBER(AO35),1,0),IF(AO35=TRUNC(AO35),1,0),IF(AND(AO35*1=AO35,AO35>=0),1,0),IF(AND(AO35=TRUNC(AO35),AO35>=0),1,0),IF(AND(AO35*1=AO35,AO35>0),1,0),IF(AND(AO35=TRUNC(AO35),AO35>0),1,0),1,IF(ISNA(HLOOKUP(AO35,$BK$4:$BT$4,1,0)),0,1)),0))) -> 1 | CS35: =IF(OR(AP$30="",AP$4=99),1,IF(AP35="",0,IFERROR(CHOOSE(CS$28,IF(ISNA(MATCH(AP35,$BH$30:$BI$30,0)),0,1),IF(ISNUMBER(AP35),1,0),IF(AP35=TRUNC(AP35),1,0),IF(AND(AP35*1=AP35,AP35>=0),1,0),IF(AND(AP35=TRUNC(AP35),AP35>=0),1,0),IF(AND(AP35*1=AP35,AP35>0),1,0),IF(AND(AP35=TRUNC(AP35),AP35>0),1,0),1,IF(ISNA(HLOOKUP(AP35,$BK$4:$BT$4,1,0)),0,1)),0))) -> 1 | CT35: =IF(OR(AQ$30="",AQ$4=99),1,IF(AQ35="",0,IFERROR(CHOOSE(CT$28,IF(ISNA(MATCH(AQ35,$BH$30:$BI$30,0)),0,1),IF(ISNUMBER(AQ35),1,0),IF(AQ35=TRUNC(AQ35),1,0),IF(AND(AQ35*1=AQ35,AQ35>=0),1,0),IF(AND(AQ35=TRUNC(AQ35),AQ35>=0),1,0),IF(AND(AQ35*1=AQ35,AQ35>0),1,0),IF(AND(AQ35=TRUNC(AQ35),AQ35>0),1,0),1,IF(ISNA(HLOOKUP(AQ35,$BK$4:$BT$4,1,0)),0,1)),0))) -> 1 | CU35: =IF(OR(AR$30="",AR$4=99),1,IF(AR35="",0,IFERROR(CHOOSE(CU$28,IF(ISNA(MATCH(AR35,$BH$30:$BI$30,0)),0,1),IF(ISNUMBER(AR35),1,0),IF(AR35=TRUNC(AR35),1,0),IF(AND(AR35*1=AR35,AR35>=0),1,0),IF(AND(AR35=TRUNC(AR35),AR35>=0),1,0),IF(AND(AR35*1=AR35,AR35>0),1,0),IF(AND(AR35=TRUNC(AR35),AR35>0),1,0),1,IF(ISNA(HLOOKUP(AR35,$BK$4:$BT$4,1,0)),0,1)),0))) -> 1 | CV35: =IF(OR(AS$30="",AS$4=99),1,IF(AS35="",0,IFERROR(CHOOSE(CV$28,IF(ISNA(MATCH(AS35,$BH$30:$BI$30,0)),0,1),IF(ISNUMBER(AS35),1,0),IF(AS35=TRUNC(AS35),1,0),IF(AND(AS35*1=AS35,AS35>=0),1,0),IF(AND(AS35=TRUNC(AS35),AS35>=0),1,0),IF(AND(AS35*1=AS35,AS35>0),1,0),IF(AND(AS35=TRUNC(AS35),AS35>0),1,0),1,IF(ISNA(HLOOKUP(AS35,$BK$4:$BT$4,1,0)),0,1)),0))) -> 1 | CW35: =IF(OR(AT$30="",AT$4=99),1,IF(AT35="",0,IFERROR(CHOOSE(CW$28,IF(ISNA(MATCH(AT35,$BH$30:$BI$30,0)),0,1),IF(ISNUMBER(AT35),1,0),IF(AT35=TRUNC(AT35),1,0),IF(AND(AT35*1=AT35,AT35>=0),1,0),IF(AND(AT35=TRUNC(AT35),AT35>=0),1,0),IF(AND(AT35*1=AT35,AT35>0),1,0),IF(AND(AT35=TRUNC(AT35),AT35>0),1,0),1,IF(ISNA(HLOOKUP(AT35,$BK$4:$BT$4,1,0)),0,1)),0))) -> 1 | CX35: =IF(OR(AU$30="",AU$4=99),1,IF(AU35="",0,IFERROR(CHOOSE(CX$28,IF(ISNA(MATCH(AU35,$BH$30:$BI$30,0)),0,1),IF(ISNUMBER(AU35),1,0),IF(AU35=TRUNC(AU35),1,0),IF(AND(AU35*1=AU35,AU35>=0),1,0),IF(AND(AU35=TRUNC(AU35),AU35>=0),1,0),IF(AND(AU35*1=AU35,AU35>0),1,0),IF(AND(AU35=TRUNC(AU35),AU35>0),1,0),1,IF(ISNA(HLOOKUP(AU35,$BK$4:$BT$4,1,0)),0,1)),0))) -> 1 | ... DB35: =IF(OR(AY$30="",AY$4=99),1,IF(AY35="",0,IFERROR(CHOOSE(DB$28,IF(ISNA(MATCH(AY35,$BH$30:$BI$30,0)),0,1),IF(ISNUMBER(AY35),1,0),IF(AY35=TRUNC(AY35),1,0),IF(AND(AY35*1=AY35,AY35>=0),1,0),IF(AND(AY35=TRUNC(AY35),AY35>=0),1,0),IF(AND(AY35*1=AY35,AY35>0),1,0),IF(AND(AY35=TRUNC(AY35),AY35>0),1,0),1,IF(ISNA(HLOOKUP(AY35,$BK$4:$BT$4,1,0)),0,1)),0))) -> 1 | DC35: =IF(OR(BA$30="",BA$4=99),1,IF(BA35="",0,IFERROR(CHOOSE(DC$28,IF(ISNA(MATCH(BA35,$BH$30:$BI$30,0)),0,1),IF(ISNUMBER(BA35),1,0),IF(BA35=TRUNC(BA35),1,0),IF(AND(BA35*1=BA35,BA35>=0),1,0),IF(AND(BA35=TRUNC(BA35),BA35>=0),1,0),IF(AND(BA35*1=BA35,BA35>0),1,0),IF(AND(BA35=TRUNC(BA35),BA35>0),1,0),1,IF(ISNA(HLOOKUP(BA35,$BK$4:$BT$4,1,0)),0,1)),0))) -> 1 | DD35: =IF(OR(BB$30="",BB$4=99),1,IF(BB35="",0,IFERROR(CHOOSE(DD$28,IF(ISNA(MATCH(BB35,$BH$30:$BI$30,0)),0,1),IF(ISNUMBER(BB35),1,0),IF(BB35=TRUNC(BB35),1,0),IF(AND(BB35*1=BB35,BB35>=0),1,0),IF(AND(BB35=TRUNC(BB35),BB35>=0),1,0),IF(AND(BB35*1=BB35,BB35>0),1,0),IF(AND(BB35=TRUNC(BB35),BB35>0),1,0),1,IF(ISNA(HLOOKUP(BB35,$BK$4:$BT$4,1,0)),0,1)),0))) -> 1 | DE35: =IF(OR(BC$30="",BC$4=99),1,IF(BC35="",0,IFERROR(CHOOSE(DE$28,IF(ISNA(MATCH(BC35,$BH$30:$BI$30,0)),0,1),IF(ISNUMBER(BC35),1,0),IF(BC35=TRUNC(BC35),1,0),IF(AND(BC35*1=BC35,BC35>=0),1,0),IF(AND(BC35=TRUNC(BC35),BC35>=0),1,0),IF(AND(BC35*1=BC35,BC35>0),1,0),IF(AND(BC35=TRUNC(BC35),BC35>0),1,0),1,IF(ISNA(HLOOKUP(BC35,$BK$4:$BT$4,1,0)),0,1)),0))) -> 1 | DF35: =IF(OR(BD$30="",BD$4=99),1,IF(BD35="",0,IFERROR(CHOOSE(DF$28,IF(ISNA(MATCH(BD35,$BH$30:$BI$30,0)),0,1),IF(ISNUMBER(BD35),1,0),IF(BD35=TRUNC(BD35),1,0),IF(AND(BD35*1=BD35,BD35>=0),1,0),IF(AND(BD35=TRUNC(BD35),BD35>=0),1,0),IF(AND(BD35*1=BD35,BD35>0),1,0),IF(AND(BD35=TRUNC(BD35),BD35>0),1,0),1,IF(ISNA(HLOOKUP(BD35,$BK$4:$BT$4,1,0)),0,1)),0))) -> 1 | DG35: =IF(OR(BE$30="",BE$4=99),1,IF(BE35="",0,IFERROR(CHOOSE(DG$28,IF(ISNA(MATCH(BE35,$BH$30:$BI$30,0)),0,1),IF(ISNUMBER(BE35),1,0),IF(BE35=TRUNC(BE35),1,0),IF(AND(BE35*1=BE35,BE35>=0),1,0),IF(AND(BE35=TRUNC(BE35),BE35>=0),1,0),IF(AND(BE35*1=BE35,BE35>0),1,0),IF(AND(BE35=TRUNC(BE35),BE35>0),1,0),1,IF(ISNA(HLOOKUP(BE35,$BK$4:$BT$4,1,0)),0,1)),0))) -> 1 | DR35: =AQ35>=DB$7 -> TRUE | DS35: =AR35>=DC$7 -> TRUE | DT35: =AS35>=DD$7 -> TRUE | DX35: =COUNTIF(DR35:DW35,TRUE) -> 3 | DY35: =AQ35>=DI$7 -> TRUE | DZ35: =AR35>=DJ$7 -> TRUE | EA35: =AS35>=DK$7 -> TRUE | EE35: =COUNTIF(DY35:ED35,TRUE) -> 3 | EF35: =IF($F35="","",IF(DX35=$DC$5,1,0)) -> 1 | EG35: =IF($F35="","",IF(AND(EE35=$DC$5,EE35-DX35<=$DJ$5),1,0)) -> 1
B36: =IF(F36="","",ROW()-30) -> 6 | F36: מרכז למוסיקה ירושלים - כיתות אמן - מארי פרחיה | G36: 1 | H36: 1 | I36: 1 | J36: 0 | K36: 1 | L36: 1 | M36: 1 | N36: 1 | O36: 0 | P36: 0 | Q36: 0 | R36: 0 | S36: =IF(F36="","",IF(OR(O36=0,SUM(O36:R36)=4),1,0)) -> 1 | T36: 1 | U36: 1 | V36: 1 | W36: 1 | X36: 1 | Y36: 1 | Z36: 1 | AA36: 1 | AB36: 1 | AC36: 1 | AD36: 1 | AE36: 1 | AF36: 1 | AG36: 1 | AH36: 1 | AI36: 1 | AJ36: 1 | AK36: 1 | AL36: 1 | AM36: 1 | AN36: 1 | AO36: 1 | AP36: 1 | AQ36: 7 | AR36: 42 | AS36: 28 | AT36: 175000 | AU36: =IF($F36="","",IF(OR(EF36=1,AND(COUNT(G36:AP36)=SUM(G36:AP36),EG36=1)),1,0)) -> 1 | AV36: 0 | AW36: =IF($F36="","",IF(OR(AG36=0,AND(SUM(AH36:AP36)=COUNTA($AH$29:$AP$29),OR(AND(AV36=0,AU36=1,EG36=1),EF36=1))),1,0)) -> 1 | AX36: 1 | AY36: 1 | AZ36: 1 | BA36: 0 | BE36: {=IF($F36="","",IF(BA36=1,1,IF(BG36<>1,$BH$1,IF(SUMPRODUCT(--(G36:AZ36>=$G$5:$AZ$5)*($G$5:$AZ$5<>"")*($G$4:$AZ$4=1))=COUNTIF($G$4:$AZ$4,1),1,0))))} -> 1 | BF36: מומלץ לתמיכה עפ"י מבחן התמיכה - תחום ד'. הוגשה הצעת תקציב בסך 175,000 ₪. עפ"י המלצת המדור אושרו הוצאות התקציב המבוקש. | BG36: =IF(OR(SUM(BJ36:DG36)<>COUNT(BJ36:DG36),SUMPRODUCT(--(G36:AY36=$BH$1))<>0),0,1) -> 1 | BH36: =IF($F36="","",BH$30) -> 0 | BI36: =IF($F36="","",BI$30) -> 1 | BJ36: =IF(OR(G$30="",G$4=99),1,IF(G36="",0,IFERROR(CHOOSE(BJ$28,IF(ISNA(MATCH(G36,$BH$30:$BI$30,0)),0,1),IF(ISNUMBER(G36),1,0),IF(G36=TRUNC(G36),1,0),IF(AND(G36*1=G36,G36>=0),1,0),IF(AND(G36=TRUNC(G36),G36>=0),1,0),IF(AND(G36*1=G36,G36>0),1,0),IF(AND(G36=TRUNC(G36),G36>0),1,0),1,IF(ISNA(HLOOKUP(G36,$BK$4:$BT$4,1,0)),0,1)),0))) -> 1 | BK36: =IF(OR(H$30="",H$4=99),1,IF(H36="",0,IFERROR(CHOOSE(BK$28,IF(ISNA(MATCH(H36,$BH$30:$BI$30,0)),0,1),IF(ISNUMBER(H36),1,0),IF(H36=TRUNC(H36),1,0),IF(AND(H36*1=H36,H36>=0),1,0),IF(AND(H36=TRUNC(H36),H36>=0),1,0),IF(AND(H36*1=H36,H36>0),1,0),IF(AND(H36=TRUNC(H36),H36>0),1,0),1,IF(ISNA(HLOOKUP(H36,$BK$4:$BT$4,1,0)),0,1)),0))) -> 1 | BL36: =IF(OR(I$30="",I$4=99),1,IF(I36="",0,IFERROR(CHOOSE(BL$28,IF(ISNA(MATCH(I36,$BH$30:$BI$30,0)),0,1),IF(ISNUMBER(I36),1,0),IF(I36=TRUNC(I36),1,0),IF(AND(I36*1=I36,I36>=0),1,0),IF(AND(I36=TRUNC(I36),I36>=0),1,0),IF(AND(I36*1=I36,I36>0),1,0),IF(AND(I36=TRUNC(I36),I36>0),1,0),1,IF(ISNA(HLOOKUP(I36,$BK$4:$BT$4,1,0)),0,1)),0))) -> 1 | BM36: =IF(OR(J$30="",J$4=99),1,IF(J36="",0,IFERROR(CHOOSE(BM$28,IF(ISNA(MATCH(J36,$BH$30:$BI$30,0)),0,1),IF(ISNUMBER(J36),1,0),IF(J36=TRUNC(J36),1,0),IF(AND(J36*1=J36,J36>=0),1,0),IF(AND(J36=TRUNC(J36),J36>=0),1,0),IF(AND(J36*1=J36,J36>0),1,0),IF(AND(J36=TRUNC(J36),J36>0),1,0),1,IF(ISNA(HLOOKUP(J36,$BK$4:$BT$4,1,0)),0,1)),0))) -> 1 | BN36: =IF(OR(K$30="",K$4=99),1,IF(K36="",0,IFERROR(CHOOSE(BN$28,IF(ISNA(MATCH(K36,$BH$30:$BI$30,0)),0,1),IF(ISNUMBER(K36),1,0),IF(K36=TRUNC(K36),1,0),IF(AND(K36*1=K36,K36>=0),1,0),IF(AND(K36=TRUNC(K36),K36>=0),1,0),IF(AND(K36*1=K36,K36>0),1,0),IF(AND(K36=TRUNC(K36),K36>0),1,0),1,IF(ISNA(HLOOKUP(K36,$BK$4:$BT$4,1,0)),0,1)),0))) -> 1 | BO36: =IF(OR(L$30="",L$4=99),1,IF(L36="",0,IFERROR(CHOOSE(BO$28,IF(ISNA(MATCH(L36,$BH$30:$BI$30,0)),0,1),IF(ISNUMBER(L36),1,0),IF(L36=TRUNC(L36),1,0),IF(AND(L36*1=L36,L36>=0),1,0),IF(AND(L36=TRUNC(L36),L36>=0),1,0),IF(AND(L36*1=L36,L36>0),1,0),IF(AND(L36=TRUNC(L36),L36>0),1,0),1,IF(ISNA(HLOOKUP(L36,$BK$4:$BT$4,1,0)),0,1)),0))) -> 1 | BP36: =IF(OR(M$30="",M$4=99),1,IF(M36="",0,IFERROR(CHOOSE(BP$28,IF(ISNA(MATCH(M36,$BH$30:$BI$30,0)),0,1),IF(ISNUMBER(M36),1,0),IF(M36=TRUNC(M36),1,0),IF(AND(M36*1=M36,M36>=0),1,0),IF(AND(M36=TRUNC(M36),M36>=0),1,0),IF(AND(M36*1=M36,M36>0),1,0),IF(AND(M36=TRUNC(M36),M36>0),1,0),1,IF(ISNA(HLOOKUP(M36,$BK$4:$BT$4,1,0)),0,1)),0))) -> 1 | BQ36: =IF(OR(N$30="",N$4=99),1,IF(N36="",0,IFERROR(CHOOSE(BQ$28,IF(ISNA(MATCH(N36,$BH$30:$BI$30,0)),0,1),IF(ISNUMBER(N36),1,0),IF(N36=TRUNC(N36),1,0),IF(AND(N36*1=N36,N36>=0),1,0),IF(AND(N36=TRUNC(N36),N36>=0),1,0),IF(AND(N36*1=N36,N36>0),1,0),IF(AND(N36=TRUNC(N36),N36>0),1,0),1,IF(ISNA(HLOOKUP(N36,$BK$4:$BT$4,1,0)),0,1)),0))) -> 1 | ... CN36: =IF(OR(AK$30="",AK$4=99),1,IF(AK36="",0,IFERROR(CHOOSE(CN$28,IF(ISNA(MATCH(AK36,$BH$30:$BI$30,0)),0,1),IF(ISNUMBER(AK36),1,0),IF(AK36=TRUNC(AK36),1,0),IF(AND(AK36*1=AK36,AK36>=0),1,0),IF(AND(AK36=TRUNC(AK36),AK36>=0),1,0),IF(AND(AK36*1=AK36,AK36>0),1,0),IF(AND(AK36=TRUNC(AK36),AK36>0),1,0),1,IF(ISNA(HLOOKUP(AK36,$BK$4:$BT$4,1,0)),0,1)),0))) -> 1 | CO36: =IF(OR(AL$30="",AM$4=99),1,IF(AL36="",0,IFERROR(CHOOSE(CO$28,IF(ISNA(MATCH(AL36,$BH$30:$BI$30,0)),0,1),IF(ISNUMBER(AL36),1,0),IF(AL36=TRUNC(AL36),1,0),IF(AND(AL36*1=AL36,AL36>=0),1,0),IF(AND(AL36=TRUNC(AL36),AL36>=0),1,0),IF(AND(AL36*1=AL36,AL36>0),1,0),IF(AND(AL36=TRUNC(AL36),AL36>0),1,0),1,IF(ISNA(HLOOKUP(AL36,$BK$4:$BT$4,1,0)),0,1)),0))) -> 1 | CP36: =IF(OR(AM$30="",AN$4=99),1,IF(AM36="",0,IFERROR(CHOOSE(CP$28,IF(ISNA(MATCH(AM36,$BH$30:$BI$30,0)),0,1),IF(ISNUMBER(AM36),1,0),IF(AM36=TRUNC(AM36),1,0),IF(AND(AM36*1=AM36,AM36>=0),1,0),IF(AND(AM36=TRUNC(AM36),AM36>=0),1,0),IF(AND(AM36*1=AM36,AM36>0),1,0),IF(AND(AM36=TRUNC(AM36),AM36>0),1,0),1,IF(ISNA(HLOOKUP(AM36,$BK$4:$BT$4,1,0)),0,1)),0))) -> 1 | CQ36: =IF(OR(AN$30="",AN$4=99),1,IF(AN36="",0,IFERROR(CHOOSE(CQ$28,IF(ISNA(MATCH(AN36,$BH$30:$BI$30,0)),0,1),IF(ISNUMBER(AN36),1,0),IF(AN36=TRUNC(AN36),1,0),IF(AND(AN36*1=AN36,AN36>=0),1,0),IF(AND(AN36=TRUNC(AN36),AN36>=0),1,0),IF(AND(AN36*1=AN36,AN36>0),1,0),IF(AND(AN36=TRUNC(AN36),AN36>0),1,0),1,IF(ISNA(HLOOKUP(AN36,$BK$4:$BT$4,1,0)),0,1)),0))) -> 1 | CR36: =IF(OR(AO$30="",AO$4=99),1,IF(AO36="",0,IFERROR(CHOOSE(CR$28,IF(ISNA(MATCH(AO36,$BH$30:$BI$30,0)),0,1),IF(ISNUMBER(AO36),1,0),IF(AO36=TRUNC(AO36),1,0),IF(AND(AO36*1=AO36,AO36>=0),1,0),IF(AND(AO36=TRUNC(AO36),AO36>=0),1,0),IF(AND(AO36*1=AO36,AO36>0),1,0),IF(AND(AO36=TRUNC(AO36),AO36>0),1,0),1,IF(ISNA(HLOOKUP(AO36,$BK$4:$BT$4,1,0)),0,1)),0))) -> 1 | CS36: =IF(OR(AP$30="",AP$4=99),1,IF(AP36="",0,IFERROR(CHOOSE(CS$28,IF(ISNA(MATCH(AP36,$BH$30:$BI$30,0)),0,1),IF(ISNUMBER(AP36),1,0),IF(AP36=TRUNC(AP36),1,0),IF(AND(AP36*1=AP36,AP36>=0),1,0),IF(AND(AP36=TRUNC(AP36),AP36>=0),1,0),IF(AND(AP36*1=AP36,AP36>0),1,0),IF(AND(AP36=TRUNC(AP36),AP36>0),1,0),1,IF(ISNA(HLOOKUP(AP36,$BK$4:$BT$4,1,0)),0,1)),0))) -> 1 | CT36: =IF(OR(AQ$30="",AQ$4=99),1,IF(AQ36="",0,IFERROR(CHOOSE(CT$28,IF(ISNA(MATCH(AQ36,$BH$30:$BI$30,0)),0,1),IF(ISNUMBER(AQ36),1,0),IF(AQ36=TRUNC(AQ36),1,0),IF(AND(AQ36*1=AQ36,AQ36>=0),1,0),IF(AND(AQ36=TRUNC(AQ36),AQ36>=0),1,0),IF(AND(AQ36*1=AQ36,AQ36>0),1,0),IF(AND(AQ36=TRUNC(AQ36),AQ36>0),1,0),1,IF(ISNA(HLOOKUP(AQ36,$BK$4:$BT$4,1,0)),0,1)),0))) -> 1 | CU36: =IF(OR(AR$30="",AR$4=99),1,IF(AR36="",0,IFERROR(CHOOSE(CU$28,IF(ISNA(MATCH(AR36,$BH$30:$BI$30,0)),0,1),IF(ISNUMBER(AR36),1,0),IF(AR36=TRUNC(AR36),1,0),IF(AND(AR36*1=AR36,AR36>=0),1,0),IF(AND(AR36=TRUNC(AR36),AR36>=0),1,0),IF(AND(AR36*1=AR36,AR36>0),1,0),IF(AND(AR36=TRUNC(AR36),AR36>0),1,0),1,IF(ISNA(HLOOKUP(AR36,$BK$4:$BT$4,1,0)),0,1)),0))) -> 1 | CV36: =IF(OR(AS$30="",AS$4=99),1,IF(AS36="",0,IFERROR(CHOOSE(CV$28,IF(ISNA(MATCH(AS36,$BH$30:$BI$30,0)),0,1),IF(ISNUMBER(AS36),1,0),IF(AS36=TRUNC(AS36),1,0),IF(AND(AS36*1=AS36,AS36>=0),1,0),IF(AND(AS36=TRUNC(AS36),AS36>=0),1,0),IF(AND(AS36*1=AS36,AS36>0),1,0),IF(AND(AS36=TRUNC(AS36),AS36>0),1,0),1,IF(ISNA(HLOOKUP(AS36,$BK$4:$BT$4,1,0)),0,1)),0))) -> 1 | CW36: =IF(OR(AT$30="",AT$4=99),1,IF(AT36="",0,IFERROR(CHOOSE(CW$28,IF(ISNA(MATCH(AT36,$BH$30:$BI$30,0)),0,1),IF(ISNUMBER(AT36),1,0),IF(AT36=TRUNC(AT36),1,0),IF(AND(AT36*1=AT36,AT36>=0),1,0),IF(AND(AT36=TRUNC(AT36),AT36>=0),1,0),IF(AND(AT36*1=AT36,AT36>0),1,0),IF(AND(AT36=TRUNC(AT36),AT36>0),1,0),1,IF(ISNA(HLOOKUP(AT36,$BK$4:$BT$4,1,0)),0,1)),0))) -> 1 | CX36: =IF(OR(AU$30="",AU$4=99),1,IF(AU36="",0,IFERROR(CHOOSE(CX$28,IF(ISNA(MATCH(AU36,$BH$30:$BI$30,0)),0,1),IF(ISNUMBER(AU36),1,0),IF(AU36=TRUNC(AU36),1,0),IF(AND(AU36*1=AU36,AU36>=0),1,0),IF(AND(AU36=TRUNC(AU36),AU36>=0),1,0),IF(AND(AU36*1=AU36,AU36>0),1,0),IF(AND(AU36=TRUNC(AU36),AU36>0),1,0),1,IF(ISNA(HLOOKUP(AU36,$BK$4:$BT$4,1,0)),0,1)),0))) -> 1 | ... DB36: =IF(OR(AY$30="",AY$4=99),1,IF(AY36="",0,IFERROR(CHOOSE(DB$28,IF(ISNA(MATCH(AY36,$BH$30:$BI$30,0)),0,1),IF(ISNUMBER(AY36),1,0),IF(AY36=TRUNC(AY36),1,0),IF(AND(AY36*1=AY36,AY36>=0),1,0),IF(AND(AY36=TRUNC(AY36),AY36>=0),1,0),IF(AND(AY36*1=AY36,AY36>0),1,0),IF(AND(AY36=TRUNC(AY36),AY36>0),1,0),1,IF(ISNA(HLOOKUP(AY36,$BK$4:$BT$4,1,0)),0,1)),0))) -> 1 | DC36: =IF(OR(BA$30="",BA$4=99),1,IF(BA36="",0,IFERROR(CHOOSE(DC$28,IF(ISNA(MATCH(BA36,$BH$30:$BI$30,0)),0,1),IF(ISNUMBER(BA36),1,0),IF(BA36=TRUNC(BA36),1,0),IF(AND(BA36*1=BA36,BA36>=0),1,0),IF(AND(BA36=TRUNC(BA36),BA36>=0),1,0),IF(AND(BA36*1=BA36,BA36>0),1,0),IF(AND(BA36=TRUNC(BA36),BA36>0),1,0),1,IF(ISNA(HLOOKUP(BA36,$BK$4:$BT$4,1,0)),0,1)),0))) -> 1 | DD36: =IF(OR(BB$30="",BB$4=99),1,IF(BB36="",0,IFERROR(CHOOSE(DD$28,IF(ISNA(MATCH(BB36,$BH$30:$BI$30,0)),0,1),IF(ISNUMBER(BB36),1,0),IF(BB36=TRUNC(BB36),1,0),IF(AND(BB36*1=BB36,BB36>=0),1,0),IF(AND(BB36=TRUNC(BB36),BB36>=0),1,0),IF(AND(BB36*1=BB36,BB36>0),1,0),IF(AND(BB36=TRUNC(BB36),BB36>0),1,0),1,IF(ISNA(HLOOKUP(BB36,$BK$4:$BT$4,1,0)),0,1)),0))) -> 1 | DE36: =IF(OR(BC$30="",BC$4=99),1,IF(BC36="",0,IFERROR(CHOOSE(DE$28,IF(ISNA(MATCH(BC36,$BH$30:$BI$30,0)),0,1),IF(ISNUMBER(BC36),1,0),IF(BC36=TRUNC(BC36),1,0),IF(AND(BC36*1=BC36,BC36>=0),1,0),IF(AND(BC36=TRUNC(BC36),BC36>=0),1,0),IF(AND(BC36*1=BC36,BC36>0),1,0),IF(AND(BC36=TRUNC(BC36),BC36>0),1,0),1,IF(ISNA(HLOOKUP(BC36,$BK$4:$BT$4,1,0)),0,1)),0))) -> 1 | DF36: =IF(OR(BD$30="",BD$4=99),1,IF(BD36="",0,IFERROR(CHOOSE(DF$28,IF(ISNA(MATCH(BD36,$BH$30:$BI$30,0)),0,1),IF(ISNUMBER(BD36),1,0),IF(BD36=TRUNC(BD36),1,0),IF(AND(BD36*1=BD36,BD36>=0),1,0),IF(AND(BD36=TRUNC(BD36),BD36>=0),1,0),IF(AND(BD36*1=BD36,BD36>0),1,0),IF(AND(BD36=TRUNC(BD36),BD36>0),1,0),1,IF(ISNA(HLOOKUP(BD36,$BK$4:$BT$4,1,0)),0,1)),0))) -> 1 | DG36: =IF(OR(BE$30="",BE$4=99),1,IF(BE36="",0,IFERROR(CHOOSE(DG$28,IF(ISNA(MATCH(BE36,$BH$30:$BI$30,0)),0,1),IF(ISNUMBER(BE36),1,0),IF(BE36=TRUNC(BE36),1,0),IF(AND(BE36*1=BE36,BE36>=0),1,0),IF(AND(BE36=TRUNC(BE36),BE36>=0),1,0),IF(AND(BE36*1=BE36,BE36>0),1,0),IF(AND(BE36=TRUNC(BE36),BE36>0),1,0),1,IF(ISNA(HLOOKUP(BE36,$BK$4:$BT$4,1,0)),0,1)),0))) -> 1 | DR36: =AQ36>=DB$7 -> TRUE | DS36: =AR36>=DC$7 -> TRUE | DT36: =AS36>=DD$7 -> TRUE | DX36: =COUNTIF(DR36:DW36,TRUE) -> 3 | DY36: =AQ36>=DI$7 -> TRUE | DZ36: =AR36>=DJ$7 -> TRUE | EA36: =AS36>=DK$7 -> TRUE | EE36: =COUNTIF(DY36:ED36,TRUE) -> 3 | EF36: =IF($F36="","",IF(DX36=$DC$5,1,0)) -> 1 | EG36: =IF($F36="","",IF(AND(EE36=$DC$5,EE36-DX36<=$DJ$5),1,0)) -> 1
B37: =IF(F37="","",ROW()-30) -> 7 | F37: תל-חי - כיתות אמן בינ"ל לפסנתר | G37: 1 | H37: 1 | I37: 1 | J37: 0 | K37: 1 | L37: 1 | M37: 1 | N37: 1 | O37: 0 | P37: 0 | Q37: 0 | R37: 0 | S37: =IF(F37="","",IF(OR(O37=0,SUM(O37:R37)=4),1,0)) -> 1 | T37: 1 | U37: 1 | V37: 1 | W37: 1 | X37: 1 | Y37: 1 | Z37: 1 | AA37: 1 | AB37: 1 | AC37: 1 | AD37: 1 | AE37: 1 | AF37: 1 | AG37: 1 | AH37: 1 | AI37: 1 | AJ37: 1 | AK37: 1 | AL37: 1 | AM37: 1 | AN37: 1 | AO37: 1 | AP37: 1 | AQ37: 15 | AR37: 828 | AS37: 75 | AT37: 112000 | AU37: =IF($F37="","",IF(OR(EF37=1,AND(COUNT(G37:AP37)=SUM(G37:AP37),EG37=1)),1,0)) -> 1 | AV37: 0 | AW37: =IF($F37="","",IF(OR(AG37=0,AND(SUM(AH37:AP37)=COUNTA($AH$29:$AP$29),OR(AND(AV37=0,AU37=1,EG37=1),EF37=1))),1,0)) -> 1 | AX37: 1 | AY37: 1 | AZ37: 1 | BA37: 0 | BE37: {=IF($F37="","",IF(BA37=1,1,IF(BG37<>1,$BH$1,IF(SUMPRODUCT(--(G37:AZ37>=$G$5:$AZ$5)*($G$5:$AZ$5<>"")*($G$4:$AZ$4=1))=COUNTIF($G$4:$AZ$4,1),1,0))))} -> 1 | BF37: מומלץ לתמיכה עפ"י מבחן התמיכה - תחום ד'. הוגשה הצעת תקציב בסך 1,110,600 ₪. עפ"י המלצת המדור אושרו הוצאות התקציב המבוקש. | BG37: =IF(OR(SUM(BJ37:DG37)<>COUNT(BJ37:DG37),SUMPRODUCT(--(G37:AY37=$BH$1))<>0),0,1) -> 1 | BH37: =IF($F37="","",BH$30) -> 0 | BI37: =IF($F37="","",BI$30) -> 1 | BJ37: =IF(OR(G$30="",G$4=99),1,IF(G37="",0,IFERROR(CHOOSE(BJ$28,IF(ISNA(MATCH(G37,$BH$30:$BI$30,0)),0,1),IF(ISNUMBER(G37),1,0),IF(G37=TRUNC(G37),1,0),IF(AND(G37*1=G37,G37>=0),1,0),IF(AND(G37=TRUNC(G37),G37>=0),1,0),IF(AND(G37*1=G37,G37>0),1,0),IF(AND(G37=TRUNC(G37),G37>0),1,0),1,IF(ISNA(HLOOKUP(G37,$BK$4:$BT$4,1,0)),0,1)),0))) -> 1 | BK37: =IF(OR(H$30="",H$4=99),1,IF(H37="",0,IFERROR(CHOOSE(BK$28,IF(ISNA(MATCH(H37,$BH$30:$BI$30,0)),0,1),IF(ISNUMBER(H37),1,0),IF(H37=TRUNC(H37),1,0),IF(AND(H37*1=H37,H37>=0),1,0),IF(AND(H37=TRUNC(H37),H37>=0),1,0),IF(AND(H37*1=H37,H37>0),1,0),IF(AND(H37=TRUNC(H37),H37>0),1,0),1,IF(ISNA(HLOOKUP(H37,$BK$4:$BT$4,1,0)),0,1)),0))) -> 1 | BL37: =IF(OR(I$30="",I$4=99),1,IF(I37="",0,IFERROR(CHOOSE(BL$28,IF(ISNA(MATCH(I37,$BH$30:$BI$30,0)),0,1),IF(ISNUMBER(I37),1,0),IF(I37=TRUNC(I37),1,0),IF(AND(I37*1=I37,I37>=0),1,0),IF(AND(I37=TRUNC(I37),I37>=0),1,0),IF(AND(I37*1=I37,I37>0),1,0),IF(AND(I37=TRUNC(I37),I37>0),1,0),1,IF(ISNA(HLOOKUP(I37,$BK$4:$BT$4,1,0)),0,1)),0))) -> 1 | BM37: =IF(OR(J$30="",J$4=99),1,IF(J37="",0,IFERROR(CHOOSE(BM$28,IF(ISNA(MATCH(J37,$BH$30:$BI$30,0)),0,1),IF(ISNUMBER(J37),1,0),IF(J37=TRUNC(J37),1,0),IF(AND(J37*1=J37,J37>=0),1,0),IF(AND(J37=TRUNC(J37),J37>=0),1,0),IF(AND(J37*1=J37,J37>0),1,0),IF(AND(J37=TRUNC(J37),J37>0),1,0),1,IF(ISNA(HLOOKUP(J37,$BK$4:$BT$4,1,0)),0,1)),0))) -> 1 | BN37: =IF(OR(K$30="",K$4=99),1,IF(K37="",0,IFERROR(CHOOSE(BN$28,IF(ISNA(MATCH(K37,$BH$30:$BI$30,0)),0,1),IF(ISNUMBER(K37),1,0),IF(K37=TRUNC(K37),1,0),IF(AND(K37*1=K37,K37>=0),1,0),IF(AND(K37=TRUNC(K37),K37>=0),1,0),IF(AND(K37*1=K37,K37>0),1,0),IF(AND(K37=TRUNC(K37),K37>0),1,0),1,IF(ISNA(HLOOKUP(K37,$BK$4:$BT$4,1,0)),0,1)),0))) -> 1 | BO37: =IF(OR(L$30="",L$4=99),1,IF(L37="",0,IFERROR(CHOOSE(BO$28,IF(ISNA(MATCH(L37,$BH$30:$BI$30,0)),0,1),IF(ISNUMBER(L37),1,0),IF(L37=TRUNC(L37),1,0),IF(AND(L37*1=L37,L37>=0),1,0),IF(AND(L37=TRUNC(L37),L37>=0),1,0),IF(AND(L37*1=L37,L37>0),1,0),IF(AND(L37=TRUNC(L37),L37>0),1,0),1,IF(ISNA(HLOOKUP(L37,$BK$4:$BT$4,1,0)),0,1)),0))) -> 1 | BP37: =IF(OR(M$30="",M$4=99),1,IF(M37="",0,IFERROR(CHOOSE(BP$28,IF(ISNA(MATCH(M37,$BH$30:$BI$30,0)),0,1),IF(ISNUMBER(M37),1,0),IF(M37=TRUNC(M37),1,0),IF(AND(M37*1=M37,M37>=0),1,0),IF(AND(M37=TRUNC(M37),M37>=0),1,0),IF(AND(M37*1=M37,M37>0),1,0),IF(AND(M37=TRUNC(M37),M37>0),1,0),1,IF(ISNA(HLOOKUP(M37,$BK$4:$BT$4,1,0)),0,1)),0))) -> 1 | BQ37: =IF(OR(N$30="",N$4=99),1,IF(N37="",0,IFERROR(CHOOSE(BQ$28,IF(ISNA(MATCH(N37,$BH$30:$BI$30,0)),0,1),IF(ISNUMBER(N37),1,0),IF(N37=TRUNC(N37),1,0),IF(AND(N37*1=N37,N37>=0),1,0),IF(AND(N37=TRUNC(N37),N37>=0),1,0),IF(AND(N37*1=N37,N37>0),1,0),IF(AND(N37=TRUNC(N37),N37>0),1,0),1,IF(ISNA(HLOOKUP(N37,$BK$4:$BT$4,1,0)),0,1)),0))) -> 1 | ... CN37: =IF(OR(AK$30="",AK$4=99),1,IF(AK37="",0,IFERROR(CHOOSE(CN$28,IF(ISNA(MATCH(AK37,$BH$30:$BI$30,0)),0,1),IF(ISNUMBER(AK37),1,0),IF(AK37=TRUNC(AK37),1,0),IF(AND(AK37*1=AK37,AK37>=0),1,0),IF(AND(AK37=TRUNC(AK37),AK37>=0),1,0),IF(AND(AK37*1=AK37,AK37>0),1,0),IF(AND(AK37=TRUNC(AK37),AK37>0),1,0),1,IF(ISNA(HLOOKUP(AK37,$BK$4:$BT$4,1,0)),0,1)),0))) -> 1 | CO37: =IF(OR(AL$30="",AM$4=99),1,IF(AL37="",0,IFERROR(CHOOSE(CO$28,IF(ISNA(MATCH(AL37,$BH$30:$BI$30,0)),0,1),IF(ISNUMBER(AL37),1,0),IF(AL37=TRUNC(AL37),1,0),IF(AND(AL37*1=AL37,AL37>=0),1,0),IF(AND(AL37=TRUNC(AL37),AL37>=0),1,0),IF(AND(AL37*1=AL37,AL37>0),1,0),IF(AND(AL37=TRUNC(AL37),AL37>0),1,0),1,IF(ISNA(HLOOKUP(AL37,$BK$4:$BT$4,1,0)),0,1)),0))) -> 1 | CP37: =IF(OR(AM$30="",AN$4=99),1,IF(AM37="",0,IFERROR(CHOOSE(CP$28,IF(ISNA(MATCH(AM37,$BH$30:$BI$30,0)),0,1),IF(ISNUMBER(AM37),1,0),IF(AM37=TRUNC(AM37),1,0),IF(AND(AM37*1=AM37,AM37>=0),1,0),IF(AND(AM37=TRUNC(AM37),AM37>=0),1,0),IF(AND(AM37*1=AM37,AM37>0),1,0),IF(AND(AM37=TRUNC(AM37),AM37>0),1,0),1,IF(ISNA(HLOOKUP(AM37,$BK$4:$BT$4,1,0)),0,1)),0))) -> 1 | CQ37: =IF(OR(AN$30="",AN$4=99),1,IF(AN37="",0,IFERROR(CHOOSE(CQ$28,IF(ISNA(MATCH(AN37,$BH$30:$BI$30,0)),0,1),IF(ISNUMBER(AN37),1,0),IF(AN37=TRUNC(AN37),1,0),IF(AND(AN37*1=AN37,AN37>=0),1,0),IF(AND(AN37=TRUNC(AN37),AN37>=0),1,0),IF(AND(AN37*1=AN37,AN37>0),1,0),IF(AND(AN37=TRUNC(AN37),AN37>0),1,0),1,IF(ISNA(HLOOKUP(AN37,$BK$4:$BT$4,1,0)),0,1)),0))) -> 1 | CR37: =IF(OR(AO$30="",AO$4=99),1,IF(AO37="",0,IFERROR(CHOOSE(CR$28,IF(ISNA(MATCH(AO37,$BH$30:$BI$30,0)),0,1),IF(ISNUMBER(AO37),1,0),IF(AO37=TRUNC(AO37),1,0),IF(AND(AO37*1=AO37,AO37>=0),1,0),IF(AND(AO37=TRUNC(AO37),AO37>=0),1,0),IF(AND(AO37*1=AO37,AO37>0),1,0),IF(AND(AO37=TRUNC(AO37),AO37>0),1,0),1,IF(ISNA(HLOOKUP(AO37,$BK$4:$BT$4,1,0)),0,1)),0))) -> 1 | CS37: =IF(OR(AP$30="",AP$4=99),1,IF(AP37="",0,IFERROR(CHOOSE(CS$28,IF(ISNA(MATCH(AP37,$BH$30:$BI$30,0)),0,1),IF(ISNUMBER(AP37),1,0),IF(AP37=TRUNC(AP37),1,0),IF(AND(AP37*1=AP37,AP37>=0),1,0),IF(AND(AP37=TRUNC(AP37),AP37>=0),1,0),IF(AND(AP37*1=AP37,AP37>0),1,0),IF(AND(AP37=TRUNC(AP37),AP37>0),1,0),1,IF(ISNA(HLOOKUP(AP37,$BK$4:$BT$4,1,0)),0,1)),0))) -> 1 | CT37: =IF(OR(AQ$30="",AQ$4=99),1,IF(AQ37="",0,IFERROR(CHOOSE(CT$28,IF(ISNA(MATCH(AQ37,$BH$30:$BI$30,0)),0,1),IF(ISNUMBER(AQ37),1,0),IF(AQ37=TRUNC(AQ37),1,0),IF(AND(AQ37*1=AQ37,AQ37>=0),1,0),IF(AND(AQ37=TRUNC(AQ37),AQ37>=0),1,0),IF(AND(AQ37*1=AQ37,AQ37>0),1,0),IF(AND(AQ37=TRUNC(AQ37),AQ37>0),1,0),1,IF(ISNA(HLOOKUP(AQ37,$BK$4:$BT$4,1,0)),0,1)),0))) -> 1 | CU37: =IF(OR(AR$30="",AR$4=99),1,IF(AR37="",0,IFERROR(CHOOSE(CU$28,IF(ISNA(MATCH(AR37,$BH$30:$BI$30,0)),0,1),IF(ISNUMBER(AR37),1,0),IF(AR37=TRUNC(AR37),1,0),IF(AND(AR37*1=AR37,AR37>=0),1,0),IF(AND(AR37=TRUNC(AR37),AR37>=0),1,0),IF(AND(AR37*1=AR37,AR37>0),1,0),IF(AND(AR37=TRUNC(AR37),AR37>0),1,0),1,IF(ISNA(HLOOKUP(AR37,$BK$4:$BT$4,1,0)),0,1)),0))) -> 1 | CV37: =IF(OR(AS$30="",AS$4=99),1,IF(AS37="",0,IFERROR(CHOOSE(CV$28,IF(ISNA(MATCH(AS37,$BH$30:$BI$30,0)),0,1),IF(ISNUMBER(AS37),1,0),IF(AS37=TRUNC(AS37),1,0),IF(AND(AS37*1=AS37,AS37>=0),1,0),IF(AND(AS37=TRUNC(AS37),AS37>=0),1,0),IF(AND(AS37*1=AS37,AS37>0),1,0),IF(AND(AS37=TRUNC(AS37),AS37>0),1,0),1,IF(ISNA(HLOOKUP(AS37,$BK$4:$BT$4,1,0)),0,1)),0))) -> 1 | CW37: =IF(OR(AT$30="",AT$4=99),1,IF(AT37="",0,IFERROR(CHOOSE(CW$28,IF(ISNA(MATCH(AT37,$BH$30:$BI$30,0)),0,1),IF(ISNUMBER(AT37),1,0),IF(AT37=TRUNC(AT37),1,0),IF(AND(AT37*1=AT37,AT37>=0),1,0),IF(AND(AT37=TRUNC(AT37),AT37>=0),1,0),IF(AND(AT37*1=AT37,AT37>0),1,0),IF(AND(AT37=TRUNC(AT37),AT37>0),1,0),1,IF(ISNA(HLOOKUP(AT37,$BK$4:$BT$4,1,0)),0,1)),0))) -> 1 | CX37: =IF(OR(AU$30="",AU$4=99),1,IF(AU37="",0,IFERROR(CHOOSE(CX$28,IF(ISNA(MATCH(AU37,$BH$30:$BI$30,0)),0,1),IF(ISNUMBER(AU37),1,0),IF(AU37=TRUNC(AU37),1,0),IF(AND(AU37*1=AU37,AU37>=0),1,0),IF(AND(AU37=TRUNC(AU37),AU37>=0),1,0),IF(AND(AU37*1=AU37,AU37>0),1,0),IF(AND(AU37=TRUNC(AU37),AU37>0),1,0),1,IF(ISNA(HLOOKUP(AU37,$BK$4:$BT$4,1,0)),0,1)),0))) -> 1 | ... DB37: =IF(OR(AY$30="",AY$4=99),1,IF(AY37="",0,IFERROR(CHOOSE(DB$28,IF(ISNA(MATCH(AY37,$BH$30:$BI$30,0)),0,1),IF(ISNUMBER(AY37),1,0),IF(AY37=TRUNC(AY37),1,0),IF(AND(AY37*1=AY37,AY37>=0),1,0),IF(AND(AY37=TRUNC(AY37),AY37>=0),1,0),IF(AND(AY37*1=AY37,AY37>0),1,0),IF(AND(AY37=TRUNC(AY37),AY37>0),1,0),1,IF(ISNA(HLOOKUP(AY37,$BK$4:$BT$4,1,0)),0,1)),0))) -> 1 | DC37: =IF(OR(BA$30="",BA$4=99),1,IF(BA37="",0,IFERROR(CHOOSE(DC$28,IF(ISNA(MATCH(BA37,$BH$30:$BI$30,0)),0,1),IF(ISNUMBER(BA37),1,0),IF(BA37=TRUNC(BA37),1,0),IF(AND(BA37*1=BA37,BA37>=0),1,0),IF(AND(BA37=TRUNC(BA37),BA37>=0),1,0),IF(AND(BA37*1=BA37,BA37>0),1,0),IF(AND(BA37=TRUNC(BA37),BA37>0),1,0),1,IF(ISNA(HLOOKUP(BA37,$BK$4:$BT$4,1,0)),0,1)),0))) -> 1 | DD37: =IF(OR(BB$30="",BB$4=99),1,IF(BB37="",0,IFERROR(CHOOSE(DD$28,IF(ISNA(MATCH(BB37,$BH$30:$BI$30,0)),0,1),IF(ISNUMBER(BB37),1,0),IF(BB37=TRUNC(BB37),1,0),IF(AND(BB37*1=BB37,BB37>=0),1,0),IF(AND(BB37=TRUNC(BB37),BB37>=0),1,0),IF(AND(BB37*1=BB37,BB37>0),1,0),IF(AND(BB37=TRUNC(BB37),BB37>0),1,0),1,IF(ISNA(HLOOKUP(BB37,$BK$4:$BT$4,1,0)),0,1)),0))) -> 1 | DE37: =IF(OR(BC$30="",BC$4=99),1,IF(BC37="",0,IFERROR(CHOOSE(DE$28,IF(ISNA(MATCH(BC37,$BH$30:$BI$30,0)),0,1),IF(ISNUMBER(BC37),1,0),IF(BC37=TRUNC(BC37),1,0),IF(AND(BC37*1=BC37,BC37>=0),1,0),IF(AND(BC37=TRUNC(BC37),BC37>=0),1,0),IF(AND(BC37*1=BC37,BC37>0),1,0),IF(AND(BC37=TRUNC(BC37),BC37>0),1,0),1,IF(ISNA(HLOOKUP(BC37,$BK$4:$BT$4,1,0)),0,1)),0))) -> 1 | DF37: =IF(OR(BD$30="",BD$4=99),1,IF(BD37="",0,IFERROR(CHOOSE(DF$28,IF(ISNA(MATCH(BD37,$BH$30:$BI$30,0)),0,1),IF(ISNUMBER(BD37),1,0),IF(BD37=TRUNC(BD37),1,0),IF(AND(BD37*1=BD37,BD37>=0),1,0),IF(AND(BD37=TRUNC(BD37),BD37>=0),1,0),IF(AND(BD37*1=BD37,BD37>0),1,0),IF(AND(BD37=TRUNC(BD37),BD37>0),1,0),1,IF(ISNA(HLOOKUP(BD37,$BK$4:$BT$4,1,0)),0,1)),0))) -> 1 | DG37: =IF(OR(BE$30="",BE$4=99),1,IF(BE37="",0,IFERROR(CHOOSE(DG$28,IF(ISNA(MATCH(BE37,$BH$30:$BI$30,0)),0,1),IF(ISNUMBER(BE37),1,0),IF(BE37=TRUNC(BE37),1,0),IF(AND(BE37*1=BE37,BE37>=0),1,0),IF(AND(BE37=TRUNC(BE37),BE37>=0),1,0),IF(AND(BE37*1=BE37,BE37>0),1,0),IF(AND(BE37=TRUNC(BE37),BE37>0),1,0),1,IF(ISNA(HLOOKUP(BE37,$BK$4:$BT$4,1,0)),0,1)),0))) -> 1 | DR37: =AQ37>=DB$7 -> TRUE | DS37: =AR37>=DC$7 -> TRUE | DT37: =AS37>=DD$7 -> TRUE | DX37: =COUNTIF(DR37:DW37,TRUE) -> 3 | DY37: =AQ37>=DI$7 -> TRUE | DZ37: =AR37>=DJ$7 -> TRUE | EA37: =AS37>=DK$7 -> TRUE | EE37: =COUNTIF(DY37:ED37,TRUE) -> 3 | EF37: =IF($F37="","",IF(DX37=$DC$5,1,0)) -> 1 | EG37: =IF($F37="","",IF(AND(EE37=$DC$5,EE37-DX37<=$DJ$5),1,0)) -> 1
B38: =IF(F38="","",ROW()-30) -> 8 | F38: קשת אילון - קורס קיץ | G38: 1 | H38: 1 | I38: 1 | J38: 0 | K38: 1 | L38: 1 | M38: 1 | N38: 1 | O38: 0 | P38: 0 | Q38: 0 | R38: 0 | S38: =IF(F38="","",IF(OR(O38=0,SUM(O38:R38)=4),1,0)) -> 1 | T38: 1 | U38: 1 | V38: 1 | W38: 1 | X38: 1 | Y38: 1 | Z38: 1 | AA38: 1 | AB38: 1 | AC38: 1 | AD38: 1 | AE38: 1 | AF38: 1 | AG38: 1 | AH38: 1 | AI38: 1 | AJ38: 1 | AK38: 1 | AL38: 1 | AM38: 1 | AN38: 1 | AO38: 1 | AP38: 1 | AQ38: 19 | AR38: 30 | AS38: 55 | AT38: 1730000 | AU38: =IF($F38="","",IF(OR(EF38=1,AND(COUNT(G38:AP38)=SUM(G38:AP38),EG38=1)),1,0)) -> 1 | AV38: 0 | AW38: =IF($F38="","",IF(OR(AG38=0,AND(SUM(AH38:AP38)=COUNTA($AH$29:$AP$29),OR(AND(AV38=0,AU38=1,EG38=1),EF38=1))),1,0)) -> 1 | AX38: 1 | AY38: 1 | AZ38: 1 | BA38: 0 | BE38: {=IF($F38="","",IF(BA38=1,1,IF(BG38<>1,$BH$1,IF(SUMPRODUCT(--(G38:AZ38>=$G$5:$AZ$5)*($G$5:$AZ$5<>"")*($G$4:$AZ$4=1))=COUNTIF($G$4:$AZ$4,1),1,0))))} -> 1 | BF38: מומלץ לתמיכה עפ"י מבחן התמיכה - תחום ד'. הוגשה הצעת תקציב בסך 1,730,000 ₪. עפ"י המלצת המדור אושרו הוצאות התקציב המבוקש. | BG38: =IF(OR(SUM(BJ38:DG38)<>COUNT(BJ38:DG38),SUMPRODUCT(--(G38:AY38=$BH$1))<>0),0,1) -> 1 | BH38: =IF($F38="","",BH$30) -> 0 | BI38: =IF($F38="","",BI$30) -> 1 | BJ38: =IF(OR(G$30="",G$4=99),1,IF(G38="",0,IFERROR(CHOOSE(BJ$28,IF(ISNA(MATCH(G38,$BH$30:$BI$30,0)),0,1),IF(ISNUMBER(G38),1,0),IF(G38=TRUNC(G38),1,0),IF(AND(G38*1=G38,G38>=0),1,0),IF(AND(G38=TRUNC(G38),G38>=0),1,0),IF(AND(G38*1=G38,G38>0),1,0),IF(AND(G38=TRUNC(G38),G38>0),1,0),1,IF(ISNA(HLOOKUP(G38,$BK$4:$BT$4,1,0)),0,1)),0))) -> 1 | BK38: =IF(OR(H$30="",H$4=99),1,IF(H38="",0,IFERROR(CHOOSE(BK$28,IF(ISNA(MATCH(H38,$BH$30:$BI$30,0)),0,1),IF(ISNUMBER(H38),1,0),IF(H38=TRUNC(H38),1,0),IF(AND(H38*1=H38,H38>=0),1,0),IF(AND(H38=TRUNC(H38),H38>=0),1,0),IF(AND(H38*1=H38,H38>0),1,0),IF(AND(H38=TRUNC(H38),H38>0),1,0),1,IF(ISNA(HLOOKUP(H38,$BK$4:$BT$4,1,0)),0,1)),0))) -> 1 | BL38: =IF(OR(I$30="",I$4=99),1,IF(I38="",0,IFERROR(CHOOSE(BL$28,IF(ISNA(MATCH(I38,$BH$30:$BI$30,0)),0,1),IF(ISNUMBER(I38),1,0),IF(I38=TRUNC(I38),1,0),IF(AND(I38*1=I38,I38>=0),1,0),IF(AND(I38=TRUNC(I38),I38>=0),1,0),IF(AND(I38*1=I38,I38>0),1,0),IF(AND(I38=TRUNC(I38),I38>0),1,0),1,IF(ISNA(HLOOKUP(I38,$BK$4:$BT$4,1,0)),0,1)),0))) -> 1 | BM38: =IF(OR(J$30="",J$4=99),1,IF(J38="",0,IFERROR(CHOOSE(BM$28,IF(ISNA(MATCH(J38,$BH$30:$BI$30,0)),0,1),IF(ISNUMBER(J38),1,0),IF(J38=TRUNC(J38),1,0),IF(AND(J38*1=J38,J38>=0),1,0),IF(AND(J38=TRUNC(J38),J38>=0),1,0),IF(AND(J38*1=J38,J38>0),1,0),IF(AND(J38=TRUNC(J38),J38>0),1,0),1,IF(ISNA(HLOOKUP(J38,$BK$4:$BT$4,1,0)),0,1)),0))) -> 1 | BN38: =IF(OR(K$30="",K$4=99),1,IF(K38="",0,IFERROR(CHOOSE(BN$28,IF(ISNA(MATCH(K38,$BH$30:$BI$30,0)),0,1),IF(ISNUMBER(K38),1,0),IF(K38=TRUNC(K38),1,0),IF(AND(K38*1=K38,K38>=0),1,0),IF(AND(K38=TRUNC(K38),K38>=0),1,0),IF(AND(K38*1=K38,K38>0),1,0),IF(AND(K38=TRUNC(K38),K38>0),1,0),1,IF(ISNA(HLOOKUP(K38,$BK$4:$BT$4,1,0)),0,1)),0))) -> 1 | BO38: =IF(OR(L$30="",L$4=99),1,IF(L38="",0,IFERROR(CHOOSE(BO$28,IF(ISNA(MATCH(L38,$BH$30:$BI$30,0)),0,1),IF(ISNUMBER(L38),1,0),IF(L38=TRUNC(L38),1,0),IF(AND(L38*1=L38,L38>=0),1,0),IF(AND(L38=TRUNC(L38),L38>=0),1,0),IF(AND(L38*1=L38,L38>0),1,0),IF(AND(L38=TRUNC(L38),L38>0),1,0),1,IF(ISNA(HLOOKUP(L38,$BK$4:$BT$4,1,0)),0,1)),0))) -> 1 | BP38: =IF(OR(M$30="",M$4=99),1,IF(M38="",0,IFERROR(CHOOSE(BP$28,IF(ISNA(MATCH(M38,$BH$30:$BI$30,0)),0,1),IF(ISNUMBER(M38),1,0),IF(M38=TRUNC(M38),1,0),IF(AND(M38*1=M38,M38>=0),1,0),IF(AND(M38=TRUNC(M38),M38>=0),1,0),IF(AND(M38*1=M38,M38>0),1,0),IF(AND(M38=TRUNC(M38),M38>0),1,0),1,IF(ISNA(HLOOKUP(M38,$BK$4:$BT$4,1,0)),0,1)),0))) -> 1 | BQ38: =IF(OR(N$30="",N$4=99),1,IF(N38="",0,IFERROR(CHOOSE(BQ$28,IF(ISNA(MATCH(N38,$BH$30:$BI$30,0)),0,1),IF(ISNUMBER(N38),1,0),IF(N38=TRUNC(N38),1,0),IF(AND(N38*1=N38,N38>=0),1,0),IF(AND(N38=TRUNC(N38),N38>=0),1,0),IF(AND(N38*1=N38,N38>0),1,0),IF(AND(N38=TRUNC(N38),N38>0),1,0),1,IF(ISNA(HLOOKUP(N38,$BK$4:$BT$4,1,0)),0,1)),0))) -> 1 | ... CN38: =IF(OR(AK$30="",AK$4=99),1,IF(AK38="",0,IFERROR(CHOOSE(CN$28,IF(ISNA(MATCH(AK38,$BH$30:$BI$30,0)),0,1),IF(ISNUMBER(AK38),1,0),IF(AK38=TRUNC(AK38),1,0),IF(AND(AK38*1=AK38,AK38>=0),1,0),IF(AND(AK38=TRUNC(AK38),AK38>=0),1,0),IF(AND(AK38*1=AK38,AK38>0),1,0),IF(AND(AK38=TRUNC(AK38),AK38>0),1,0),1,IF(ISNA(HLOOKUP(AK38,$BK$4:$BT$4,1,0)),0,1)),0))) -> 1 | CO38: =IF(OR(AL$30="",AM$4=99),1,IF(AL38="",0,IFERROR(CHOOSE(CO$28,IF(ISNA(MATCH(AL38,$BH$30:$BI$30,0)),0,1),IF(ISNUMBER(AL38),1,0),IF(AL38=TRUNC(AL38),1,0),IF(AND(AL38*1=AL38,AL38>=0),1,0),IF(AND(AL38=TRUNC(AL38),AL38>=0),1,0),IF(AND(AL38*1=AL38,AL38>0),1,0),IF(AND(AL38=TRUNC(AL38),AL38>0),1,0),1,IF(ISNA(HLOOKUP(AL38,$BK$4:$BT$4,1,0)),0,1)),0))) -> 1 | CP38: =IF(OR(AM$30="",AN$4=99),1,IF(AM38="",0,IFERROR(CHOOSE(CP$28,IF(ISNA(MATCH(AM38,$BH$30:$BI$30,0)),0,1),IF(ISNUMBER(AM38),1,0),IF(AM38=TRUNC(AM38),1,0),IF(AND(AM38*1=AM38,AM38>=0),1,0),IF(AND(AM38=TRUNC(AM38),AM38>=0),1,0),IF(AND(AM38*1=AM38,AM38>0),1,0),IF(AND(AM38=TRUNC(AM38),AM38>0),1,0),1,IF(ISNA(HLOOKUP(AM38,$BK$4:$BT$4,1,0)),0,1)),0))) -> 1 | CQ38: =IF(OR(AN$30="",AN$4=99),1,IF(AN38="",0,IFERROR(CHOOSE(CQ$28,IF(ISNA(MATCH(AN38,$BH$30:$BI$30,0)),0,1),IF(ISNUMBER(AN38),1,0),IF(AN38=TRUNC(AN38),1,0),IF(AND(AN38*1=AN38,AN38>=0),1,0),IF(AND(AN38=TRUNC(AN38),AN38>=0),1,0),IF(AND(AN38*1=AN38,AN38>0),1,0),IF(AND(AN38=TRUNC(AN38),AN38>0),1,0),1,IF(ISNA(HLOOKUP(AN38,$BK$4:$BT$4,1,0)),0,1)),0))) -> 1 | CR38: =IF(OR(AO$30="",AO$4=99),1,IF(AO38="",0,IFERROR(CHOOSE(CR$28,IF(ISNA(MATCH(AO38,$BH$30:$BI$30,0)),0,1),IF(ISNUMBER(AO38),1,0),IF(AO38=TRUNC(AO38),1,0),IF(AND(AO38*1=AO38,AO38>=0),1,0),IF(AND(AO38=TRUNC(AO38),AO38>=0),1,0),IF(AND(AO38*1=AO38,AO38>0),1,0),IF(AND(AO38=TRUNC(AO38),AO38>0),1,0),1,IF(ISNA(HLOOKUP(AO38,$BK$4:$BT$4,1,0)),0,1)),0))) -> 1 | CS38: =IF(OR(AP$30="",AP$4=99),1,IF(AP38="",0,IFERROR(CHOOSE(CS$28,IF(ISNA(MATCH(AP38,$BH$30:$BI$30,0)),0,1),IF(ISNUMBER(AP38),1,0),IF(AP38=TRUNC(AP38),1,0),IF(AND(AP38*1=AP38,AP38>=0),1,0),IF(AND(AP38=TRUNC(AP38),AP38>=0),1,0),IF(AND(AP38*1=AP38,AP38>0),1,0),IF(AND(AP38=TRUNC(AP38),AP38>0),1,0),1,IF(ISNA(HLOOKUP(AP38,$BK$4:$BT$4,1,0)),0,1)),0))) -> 1 | CT38: =IF(OR(AQ$30="",AQ$4=99),1,IF(AQ38="",0,IFERROR(CHOOSE(CT$28,IF(ISNA(MATCH(AQ38,$BH$30:$BI$30,0)),0,1),IF(ISNUMBER(AQ38),1,0),IF(AQ38=TRUNC(AQ38),1,0),IF(AND(AQ38*1=AQ38,AQ38>=0),1,0),IF(AND(AQ38=TRUNC(AQ38),AQ38>=0),1,0),IF(AND(AQ38*1=AQ38,AQ38>0),1,0),IF(AND(AQ38=TRUNC(AQ38),AQ38>0),1,0),1,IF(ISNA(HLOOKUP(AQ38,$BK$4:$BT$4,1,0)),0,1)),0))) -> 1 | CU38: =IF(OR(AR$30="",AR$4=99),1,IF(AR38="",0,IFERROR(CHOOSE(CU$28,IF(ISNA(MATCH(AR38,$BH$30:$BI$30,0)),0,1),IF(ISNUMBER(AR38),1,0),IF(AR38=TRUNC(AR38),1,0),IF(AND(AR38*1=AR38,AR38>=0),1,0),IF(AND(AR38=TRUNC(AR38),AR38>=0),1,0),IF(AND(AR38*1=AR38,AR38>0),1,0),IF(AND(AR38=TRUNC(AR38),AR38>0),1,0),1,IF(ISNA(HLOOKUP(AR38,$BK$4:$BT$4,1,0)),0,1)),0))) -> 1 | CV38: =IF(OR(AS$30="",AS$4=99),1,IF(AS38="",0,IFERROR(CHOOSE(CV$28,IF(ISNA(MATCH(AS38,$BH$30:$BI$30,0)),0,1),IF(ISNUMBER(AS38),1,0),IF(AS38=TRUNC(AS38),1,0),IF(AND(AS38*1=AS38,AS38>=0),1,0),IF(AND(AS38=TRUNC(AS38),AS38>=0),1,0),IF(AND(AS38*1=AS38,AS38>0),1,0),IF(AND(AS38=TRUNC(AS38),AS38>0),1,0),1,IF(ISNA(HLOOKUP(AS38,$BK$4:$BT$4,1,0)),0,1)),0))) -> 1 | CW38: =IF(OR(AT$30="",AT$4=99),1,IF(AT38="",0,IFERROR(CHOOSE(CW$28,IF(ISNA(MATCH(AT38,$BH$30:$BI$30,0)),0,1),IF(ISNUMBER(AT38),1,0),IF(AT38=TRUNC(AT38),1,0),IF(AND(AT38*1=AT38,AT38>=0),1,0),IF(AND(AT38=TRUNC(AT38),AT38>=0),1,0),IF(AND(AT38*1=AT38,AT38>0),1,0),IF(AND(AT38=TRUNC(AT38),AT38>0),1,0),1,IF(ISNA(HLOOKUP(AT38,$BK$4:$BT$4,1,0)),0,1)),0))) -> 1 | CX38: =IF(OR(AU$30="",AU$4=99),1,IF(AU38="",0,IFERROR(CHOOSE(CX$28,IF(ISNA(MATCH(AU38,$BH$30:$BI$30,0)),0,1),IF(ISNUMBER(AU38),1,0),IF(AU38=TRUNC(AU38),1,0),IF(AND(AU38*1=AU38,AU38>=0),1,0),IF(AND(AU38=TRUNC(AU38),AU38>=0),1,0),IF(AND(AU38*1=AU38,AU38>0),1,0),IF(AND(AU38=TRUNC(AU38),AU38>0),1,0),1,IF(ISNA(HLOOKUP(AU38,$BK$4:$BT$4,1,0)),0,1)),0))) -> 1 | ... DB38: =IF(OR(AY$30="",AY$4=99),1,IF(AY38="",0,IFERROR(CHOOSE(DB$28,IF(ISNA(MATCH(AY38,$BH$30:$BI$30,0)),0,1),IF(ISNUMBER(AY38),1,0),IF(AY38=TRUNC(AY38),1,0),IF(AND(AY38*1=AY38,AY38>=0),1,0),IF(AND(AY38=TRUNC(AY38),AY38>=0),1,0),IF(AND(AY38*1=AY38,AY38>0),1,0),IF(AND(AY38=TRUNC(AY38),AY38>0),1,0),1,IF(ISNA(HLOOKUP(AY38,$BK$4:$BT$4,1,0)),0,1)),0))) -> 1 | DC38: =IF(OR(BA$30="",BA$4=99),1,IF(BA38="",0,IFERROR(CHOOSE(DC$28,IF(ISNA(MATCH(BA38,$BH$30:$BI$30,0)),0,1),IF(ISNUMBER(BA38),1,0),IF(BA38=TRUNC(BA38),1,0),IF(AND(BA38*1=BA38,BA38>=0),1,0),IF(AND(BA38=TRUNC(BA38),BA38>=0),1,0),IF(AND(BA38*1=BA38,BA38>0),1,0),IF(AND(BA38=TRUNC(BA38),BA38>0),1,0),1,IF(ISNA(HLOOKUP(BA38,$BK$4:$BT$4,1,0)),0,1)),0))) -> 1 | DD38: =IF(OR(BB$30="",BB$4=99),1,IF(BB38="",0,IFERROR(CHOOSE(DD$28,IF(ISNA(MATCH(BB38,$BH$30:$BI$30,0)),0,1),IF(ISNUMBER(BB38),1,0),IF(BB38=TRUNC(BB38),1,0),IF(AND(BB38*1=BB38,BB38>=0),1,0),IF(AND(BB38=TRUNC(BB38),BB38>=0),1,0),IF(AND(BB38*1=BB38,BB38>0),1,0),IF(AND(BB38=TRUNC(BB38),BB38>0),1,0),1,IF(ISNA(HLOOKUP(BB38,$BK$4:$BT$4,1,0)),0,1)),0))) -> 1 | DE38: =IF(OR(BC$30="",BC$4=99),1,IF(BC38="",0,IFERROR(CHOOSE(DE$28,IF(ISNA(MATCH(BC38,$BH$30:$BI$30,0)),0,1),IF(ISNUMBER(BC38),1,0),IF(BC38=TRUNC(BC38),1,0),IF(AND(BC38*1=BC38,BC38>=0),1,0),IF(AND(BC38=TRUNC(BC38),BC38>=0),1,0),IF(AND(BC38*1=BC38,BC38>0),1,0),IF(AND(BC38=TRUNC(BC38),BC38>0),1,0),1,IF(ISNA(HLOOKUP(BC38,$BK$4:$BT$4,1,0)),0,1)),0))) -> 1 | DF38: =IF(OR(BD$30="",BD$4=99),1,IF(BD38="",0,IFERROR(CHOOSE(DF$28,IF(ISNA(MATCH(BD38,$BH$30:$BI$30,0)),0,1),IF(ISNUMBER(BD38),1,0),IF(BD38=TRUNC(BD38),1,0),IF(AND(BD38*1=BD38,BD38>=0),1,0),IF(AND(BD38=TRUNC(BD38),BD38>=0),1,0),IF(AND(BD38*1=BD38,BD38>0),1,0),IF(AND(BD38=TRUNC(BD38),BD38>0),1,0),1,IF(ISNA(HLOOKUP(BD38,$BK$4:$BT$4,1,0)),0,1)),0))) -> 1 | DG38: =IF(OR(BE$30="",BE$4=99),1,IF(BE38="",0,IFERROR(CHOOSE(DG$28,IF(ISNA(MATCH(BE38,$BH$30:$BI$30,0)),0,1),IF(ISNUMBER(BE38),1,0),IF(BE38=TRUNC(BE38),1,0),IF(AND(BE38*1=BE38,BE38>=0),1,0),IF(AND(BE38=TRUNC(BE38),BE38>=0),1,0),IF(AND(BE38*1=BE38,BE38>0),1,0),IF(AND(BE38=TRUNC(BE38),BE38>0),1,0),1,IF(ISNA(HLOOKUP(BE38,$BK$4:$BT$4,1,0)),0,1)),0))) -> 1 | DR38: =AQ38>=DB$7 -> TRUE | DS38: =AR38>=DC$7 -> TRUE | DT38: =AS38>=DD$7 -> TRUE | DX38: =COUNTIF(DR38:DW38,TRUE) -> 3 | DY38: =AQ38>=DI$7 -> TRUE | DZ38: =AR38>=DJ$7 -> TRUE | EA38: =AS38>=DK$7 -> TRUE | EE38: =COUNTIF(DY38:ED38,TRUE) -> 3 | EF38: =IF($F38="","",IF(DX38=$DC$5,1,0)) -> 1 | EG38: =IF($F38="","",IF(AND(EE38=$DC$5,EE38-DX38<=$DJ$5),1,0)) -> 1
B39: =IF(F39="","",ROW()-30) | S39: =IF(F39="","",IF(OR(O39=0,SUM(O39:R39)=4),1,0)) | AU39: =IF($F39="","",IF(OR(EF39=1,AND(COUNT(G39:AP39)=SUM(G39:AP39),EG39=1)),1,0)) | AW39: =IF($F39="","",IF(OR(AG39=0,AND(SUM(AH39:AP39)=COUNTA($AH$29:$AP$29),OR(AND(AV39=0,AU39=1,EG39=1),EF39=1))),1,0)) | BE39: {=IF($F39="","",IF(BA39=1,1,IF(BG39<>1,$BH$1,IF(SUMPRODUCT(--(G39:AZ39>=$G$5:$AZ$5)*($G$5:$AZ$5<>"")*($G$4:$AZ$4=1))=COUNTIF($G$4:$AZ$4,1),1,0))))} | BG39: =IF(OR(SUM(BJ39:DG39)<>COUNT(BJ39:DG39),SUMPRODUCT(--(G39:AY39=$BH$1))<>0),0,1) -> 0 | BH39: =IF($F39="","",BH$30) | BI39: =IF($F39="","",BI$30) | BJ39: =IF(OR(G$30="",G$4=99),1,IF(G39="",0,IFERROR(CHOOSE(BJ$28,IF(ISNA(MATCH(G39,$BH$30:$BI$30,0)),0,1),IF(ISNUMBER(G39),1,0),IF(G39=TRUNC(G39),1,0),IF(AND(G39*1=G39,G39>=0),1,0),IF(AND(G39=TRUNC(G39),G39>=0),1,0),IF(AND(G39*1=G39,G39>0),1,0),IF(AND(G39=TRUNC(G39),G39>0),1,0),1,IF(ISNA(HLOOKUP(G39,$BK$4:$BT$4,1,0)),0,1)),0))) -> 0 | BK39: =IF(OR(H$30="",H$4=99),1,IF(H39="",0,IFERROR(CHOOSE(BK$28,IF(ISNA(MATCH(H39,$BH$30:$BI$30,0)),0,1),IF(ISNUMBER(H39),1,0),IF(H39=TRUNC(H39),1,0),IF(AND(H39*1=H39,H39>=0),1,0),IF(AND(H39=TRUNC(H39),H39>=0),1,0),IF(AND(H39*1=H39,H39>0),1,0),IF(AND(H39=TRUNC(H39),H39>0),1,0),1,IF(ISNA(HLOOKUP(H39,$BK$4:$BT$4,1,0)),0,1)),0))) -> 0 | BL39: =IF(OR(I$30="",I$4=99),1,IF(I39="",0,IFERROR(CHOOSE(BL$28,IF(ISNA(MATCH(I39,$BH$30:$BI$30,0)),0,1),IF(ISNUMBER(I39),1,0),IF(I39=TRUNC(I39),1,0),IF(AND(I39*1=I39,I39>=0),1,0),IF(AND(I39=TRUNC(I39),I39>=0),1,0),IF(AND(I39*1=I39,I39>0),1,0),IF(AND(I39=TRUNC(I39),I39>0),1,0),1,IF(ISNA(HLOOKUP(I39,$BK$4:$BT$4,1,0)),0,1)),0))) -> 0 | BM39: =IF(OR(J$30="",J$4=99),1,IF(J39="",0,IFERROR(CHOOSE(BM$28,IF(ISNA(MATCH(J39,$BH$30:$BI$30,0)),0,1),IF(ISNUMBER(J39),1,0),IF(J39=TRUNC(J39),1,0),IF(AND(J39*1=J39,J39>=0),1,0),IF(AND(J39=TRUNC(J39),J39>=0),1,0),IF(AND(J39*1=J39,J39>0),1,0),IF(AND(J39=TRUNC(J39),J39>0),1,0),1,IF(ISNA(HLOOKUP(J39,$BK$4:$BT$4,1,0)),0,1)),0))) -> 1 | BN39: =IF(OR(K$30="",K$4=99),1,IF(K39="",0,IFERROR(CHOOSE(BN$28,IF(ISNA(MATCH(K39,$BH$30:$BI$30,0)),0,1),IF(ISNUMBER(K39),1,0),IF(K39=TRUNC(K39),1,0),IF(AND(K39*1=K39,K39>=0),1,0),IF(AND(K39=TRUNC(K39),K39>=0),1,0),IF(AND(K39*1=K39,K39>0),1,0),IF(AND(K39=TRUNC(K39),K39>0),1,0),1,IF(ISNA(HLOOKUP(K39,$BK$4:$BT$4,1,0)),0,1)),0))) -> 1 | BO39: =IF(OR(L$30="",L$4=99),1,IF(L39="",0,IFERROR(CHOOSE(BO$28,IF(ISNA(MATCH(L39,$BH$30:$BI$30,0)),0,1),IF(ISNUMBER(L39),1,0),IF(L39=TRUNC(L39),1,0),IF(AND(L39*1=L39,L39>=0),1,0),IF(AND(L39=TRUNC(L39),L39>=0),1,0),IF(AND(L39*1=L39,L39>0),1,0),IF(AND(L39=TRUNC(L39),L39>0),1,0),1,IF(ISNA(HLOOKUP(L39,$BK$4:$BT$4,1,0)),0,1)),0))) -> 0 | BP39: =IF(OR(M$30="",M$4=99),1,IF(M39="",0,IFERROR(CHOOSE(BP$28,IF(ISNA(MATCH(M39,$BH$30:$BI$30,0)),0,1),IF(ISNUMBER(M39),1,0),IF(M39=TRUNC(M39),1,0),IF(AND(M39*1=M39,M39>=0),1,0),IF(AND(M39=TRUNC(M39),M39>=0),1,0),IF(AND(M39*1=M39,M39>0),1,0),IF(AND(M39=TRUNC(M39),M39>0),1,0),1,IF(ISNA(HLOOKUP(M39,$BK$4:$BT$4,1,0)),0,1)),0))) -> 0 | BQ39: =IF(OR(N$30="",N$4=99),1,IF(N39="",0,IFERROR(CHOOSE(BQ$28,IF(ISNA(MATCH(N39,$BH$30:$BI$30,0)),0,1),IF(ISNUMBER(N39),1,0),IF(N39=TRUNC(N39),1,0),IF(AND(N39*1=N39,N39>=0),1,0),IF(AND(N39=TRUNC(N39),N39>=0),1,0),IF(AND(N39*1=N39,N39>0),1,0),IF(AND(N39=TRUNC(N39),N39>0),1,0),1,IF(ISNA(HLOOKUP(N39,$BK$4:$BT$4,1,0)),0,1)),0))) -> 0 | ... CN39: =IF(OR(AK$30="",AK$4=99),1,IF(AK39="",0,IFERROR(CHOOSE(CN$28,IF(ISNA(MATCH(AK39,$BH$30:$BI$30,0)),0,1),IF(ISNUMBER(AK39),1,0),IF(AK39=TRUNC(AK39),1,0),IF(AND(AK39*1=AK39,AK39>=0),1,0),IF(AND(AK39=TRUNC(AK39),AK39>=0),1,0),IF(AND(AK39*1=AK39,AK39>0),1,0),IF(AND(AK39=TRUNC(AK39),AK39>0),1,0),1,IF(ISNA(HLOOKUP(AK39,$BK$4:$BT$4,1,0)),0,1)),0))) -> 1 | CO39: =IF(OR(AL$30="",AM$4=99),1,IF(AL39="",0,IFERROR(CHOOSE(CO$28,IF(ISNA(MATCH(AL39,$BH$30:$BI$30,0)),0,1),IF(ISNUMBER(AL39),1,0),IF(AL39=TRUNC(AL39),1,0),IF(AND(AL39*1=AL39,AL39>=0),1,0),IF(AND(AL39=TRUNC(AL39),AL39>=0),1,0),IF(AND(AL39*1=AL39,AL39>0),1,0),IF(AND(AL39=TRUNC(AL39),AL39>0),1,0),1,IF(ISNA(HLOOKUP(AL39,$BK$4:$BT$4,1,0)),0,1)),0))) -> 1 | CP39: =IF(OR(AM$30="",AN$4=99),1,IF(AM39="",0,IFERROR(CHOOSE(CP$28,IF(ISNA(MATCH(AM39,$BH$30:$BI$30,0)),0,1),IF(ISNUMBER(AM39),1,0),IF(AM39=TRUNC(AM39),1,0),IF(AND(AM39*1=AM39,AM39>=0),1,0),IF(AND(AM39=TRUNC(AM39),AM39>=0),1,0),IF(AND(AM39*1=AM39,AM39>0),1,0),IF(AND(AM39=TRUNC(AM39),AM39>0),1,0),1,IF(ISNA(HLOOKUP(AM39,$BK$4:$BT$4,1,0)),0,1)),0))) -> 1 | CQ39: =IF(OR(AN$30="",AN$4=99),1,IF(AN39="",0,IFERROR(CHOOSE(CQ$28,IF(ISNA(MATCH(AN39,$BH$30:$BI$30,0)),0,1),IF(ISNUMBER(AN39),1,0),IF(AN39=TRUNC(AN39),1,0),IF(AND(AN39*1=AN39,AN39>=0),1,0),IF(AND(AN39=TRUNC(AN39),AN39>=0),1,0),IF(AND(AN39*1=AN39,AN39>0),1,0),IF(AND(AN39=TRUNC(AN39),AN39>0),1,0),1,IF(ISNA(HLOOKUP(AN39,$BK$4:$BT$4,1,0)),0,1)),0))) -> 1 | CR39: =IF(OR(AO$30="",AO$4=99),1,IF(AO39="",0,IFERROR(CHOOSE(CR$28,IF(ISNA(MATCH(AO39,$BH$30:$BI$30,0)),0,1),IF(ISNUMBER(AO39),1,0),IF(AO39=TRUNC(AO39),1,0),IF(AND(AO39*1=AO39,AO39>=0),1,0),IF(AND(AO39=TRUNC(AO39),AO39>=0),1,0),IF(AND(AO39*1=AO39,AO39>0),1,0),IF(AND(AO39=TRUNC(AO39),AO39>0),1,0),1,IF(ISNA(HLOOKUP(AO39,$BK$4:$BT$4,1,0)),0,1)),0))) -> 1 | CS39: =IF(OR(AP$30="",AP$4=99),1,IF(AP39="",0,IFERROR(CHOOSE(CS$28,IF(ISNA(MATCH(AP39,$BH$30:$BI$30,0)),0,1),IF(ISNUMBER(AP39),1,0),IF(AP39=TRUNC(AP39),1,0),IF(AND(AP39*1=AP39,AP39>=0),1,0),IF(AND(AP39=TRUNC(AP39),AP39>=0),1,0),IF(AND(AP39*1=AP39,AP39>0),1,0),IF(AND(AP39=TRUNC(AP39),AP39>0),1,0),1,IF(ISNA(HLOOKUP(AP39,$BK$4:$BT$4,1,0)),0,1)),0))) -> 1 | CT39: =IF(OR(AQ$30="",AQ$4=99),1,IF(AQ39="",0,IFERROR(CHOOSE(CT$28,IF(ISNA(MATCH(AQ39,$BH$30:$BI$30,0)),0,1),IF(ISNUMBER(AQ39),1,0),IF(AQ39=TRUNC(AQ39),1,0),IF(AND(AQ39*1=AQ39,AQ39>=0),1,0),IF(AND(AQ39=TRUNC(AQ39),AQ39>=0),1,0),IF(AND(AQ39*1=AQ39,AQ39>0),1,0),IF(AND(AQ39=TRUNC(AQ39),AQ39>0),1,0),1,IF(ISNA(HLOOKUP(AQ39,$BK$4:$BT$4,1,0)),0,1)),0))) -> 1 | CU39: =IF(OR(AR$30="",AR$4=99),1,IF(AR39="",0,IFERROR(CHOOSE(CU$28,IF(ISNA(MATCH(AR39,$BH$30:$BI$30,0)),0,1),IF(ISNUMBER(AR39),1,0),IF(AR39=TRUNC(AR39),1,0),IF(AND(AR39*1=AR39,AR39>=0),1,0),IF(AND(AR39=TRUNC(AR39),AR39>=0),1,0),IF(AND(AR39*1=AR39,AR39>0),1,0),IF(AND(AR39=TRUNC(AR39),AR39>0),1,0),1,IF(ISNA(HLOOKUP(AR39,$BK$4:$BT$4,1,0)),0,1)),0))) -> 1 | CV39: =IF(OR(AS$30="",AS$4=99),1,IF(AS39="",0,IFERROR(CHOOSE(CV$28,IF(ISNA(MATCH(AS39,$BH$30:$BI$30,0)),0,1),IF(ISNUMBER(AS39),1,0),IF(AS39=TRUNC(AS39),1,0),IF(AND(AS39*1=AS39,AS39>=0),1,0),IF(AND(AS39=TRUNC(AS39),AS39>=0),1,0),IF(AND(AS39*1=AS39,AS39>0),1,0),IF(AND(AS39=TRUNC(AS39),AS39>0),1,0),1,IF(ISNA(HLOOKUP(AS39,$BK$4:$BT$4,1,0)),0,1)),0))) -> 1 | CW39: =IF(OR(AT$30="",AT$4=99),1,IF(AT39="",0,IFERROR(CHOOSE(CW$28,IF(ISNA(MATCH(AT39,$BH$30:$BI$30,0)),0,1),IF(ISNUMBER(AT39),1,0),IF(AT39=TRUNC(AT39),1,0),IF(AND(AT39*1=AT39,AT39>=0),1,0),IF(AND(AT39=TRUNC(AT39),AT39>=0),1,0),IF(AND(AT39*1=AT39,AT39>0),1,0),IF(AND(AT39=TRUNC(AT39),AT39>0),1,0),1,IF(ISNA(HLOOKUP(AT39,$BK$4:$BT$4,1,0)),0,1)),0))) -> 0 | CX39: =IF(OR(AU$30="",AU$4=99),1,IF(AU39="",0,IFERROR(CHOOSE(CX$28,IF(ISNA(MATCH(AU39,$BH$30:$BI$30,0)),0,1),IF(ISNUMBER(AU39),1,0),IF(AU39=TRUNC(AU39),1,0),IF(AND(AU39*1=AU39,AU39>=0),1,0),IF(AND(AU39=TRUNC(AU39),AU39>=0),1,0),IF(AND(AU39*1=AU39,AU39>0),1,0),IF(AND(AU39=TRUNC(AU39),AU39>0),1,0),1,IF(ISNA(HLOOKUP(AU39,$BK$4:$BT$4,1,0)),0,1)),0))) -> 1 | ... DB39: =IF(OR(AY$30="",AY$4=99),1,IF(AY39="",0,IFERROR(CHOOSE(DB$28,IF(ISNA(MATCH(AY39,$BH$30:$BI$30,0)),0,1),IF(ISNUMBER(AY39),1,0),IF(AY39=TRUNC(AY39),1,0),IF(AND(AY39*1=AY39,AY39>=0),1,0),IF(AND(AY39=TRUNC(AY39),AY39>=0),1,0),IF(AND(AY39*1=AY39,AY39>0),1,0),IF(AND(AY39=TRUNC(AY39),AY39>0),1,0),1,IF(ISNA(HLOOKUP(AY39,$BK$4:$BT$4,1,0)),0,1)),0))) -> 0 | DC39: =IF(OR(BA$30="",BA$4=99),1,IF(BA39="",0,IFERROR(CHOOSE(DC$28,IF(ISNA(MATCH(BA39,$BH$30:$BI$30,0)),0,1),IF(ISNUMBER(BA39),1,0),IF(BA39=TRUNC(BA39),1,0),IF(AND(BA39*1=BA39,BA39>=0),1,0),IF(AND(BA39=TRUNC(BA39),BA39>=0),1,0),IF(AND(BA39*1=BA39,BA39>0),1,0),IF(AND(BA39=TRUNC(BA39),BA39>0),1,0),1,IF(ISNA(HLOOKUP(BA39,$BK$4:$BT$4,1,0)),0,1)),0))) -> 1 | DD39: =IF(OR(BB$30="",BB$4=99),1,IF(BB39="",0,IFERROR(CHOOSE(DD$28,IF(ISNA(MATCH(BB39,$BH$30:$BI$30,0)),0,1),IF(ISNUMBER(BB39),1,0),IF(BB39=TRUNC(BB39),1,0),IF(AND(BB39*1=BB39,BB39>=0),1,0),IF(AND(BB39=TRUNC(BB39),BB39>=0),1,0),IF(AND(BB39*1=BB39,BB39>0),1,0),IF(AND(BB39=TRUNC(BB39),BB39>0),1,0),1,IF(ISNA(HLOOKUP(BB39,$BK$4:$BT$4,1,0)),0,1)),0))) -> 1 | DE39: =IF(OR(BC$30="",BC$4=99),1,IF(BC39="",0,IFERROR(CHOOSE(DE$28,IF(ISNA(MATCH(BC39,$BH$30:$BI$30,0)),0,1),IF(ISNUMBER(BC39),1,0),IF(BC39=TRUNC(BC39),1,0),IF(AND(BC39*1=BC39,BC39>=0),1,0),IF(AND(BC39=TRUNC(BC39),BC39>=0),1,0),IF(AND(BC39*1=BC39,BC39>0),1,0),IF(AND(BC39=TRUNC(BC39),BC39>0),1,0),1,IF(ISNA(HLOOKUP(BC39,$BK$4:$BT$4,1,0)),0,1)),0))) -> 1 | DF39: =IF(OR(BD$30="",BD$4=99),1,IF(BD39="",0,IFERROR(CHOOSE(DF$28,IF(ISNA(MATCH(BD39,$BH$30:$BI$30,0)),0,1),IF(ISNUMBER(BD39),1,0),IF(BD39=TRUNC(BD39),1,0),IF(AND(BD39*1=BD39,BD39>=0),1,0),IF(AND(BD39=TRUNC(BD39),BD39>=0),1,0),IF(AND(BD39*1=BD39,BD39>0),1,0),IF(AND(BD39=TRUNC(BD39),BD39>0),1,0),1,IF(ISNA(HLOOKUP(BD39,$BK$4:$BT$4,1,0)),0,1)),0))) -> 1 | DG39: =IF(OR(BE$30="",BE$4=99),1,IF(BE39="",0,IFERROR(CHOOSE(DG$28,IF(ISNA(MATCH(BE39,$BH$30:$BI$30,0)),0,1),IF(ISNUMBER(BE39),1,0),IF(BE39=TRUNC(BE39),1,0),IF(AND(BE39*1=BE39,BE39>=0),1,0),IF(AND(BE39=TRUNC(BE39),BE39>=0),1,0),IF(AND(BE39*1=BE39,BE39>0),1,0),IF(AND(BE39=TRUNC(BE39),BE39>0),1,0),1,IF(ISNA(HLOOKUP(BE39,$BK$4:$BT$4,1,0)),0,1)),0))) -> 1 | DR39: =AQ39>=DB$7 -> FALSE | DS39: =AR39>=DC$7 -> FALSE | DT39: =AS39>=DD$7 -> FALSE | DX39: =COUNTIF(DR39:DW39,TRUE) -> 0 | DY39: =AQ39>=DI$7 -> FALSE | DZ39: =AR39>=DJ$7 -> FALSE | EA39: =AS39>=DK$7 -> FALSE | EE39: =COUNTIF(DY39:ED39,TRUE) -> 0 | EF39: =IF($F39="","",IF(DX39=$DC$5,1,0)) | EG39: =IF($F39="","",IF(AND(EE39=$DC$5,EE39-DX39<=$DJ$5),1,0))
B40: =IF(F40="","",ROW()-30) | S40: =IF(F40="","",IF(OR(O40=0,SUM(O40:R40)=4),1,0)) | AU40: =IF($F40="","",IF(OR(EF40=1,AND(COUNT(G40:AP40)=SUM(G40:AP40),EG40=1)),1,0)) | AW40: =IF($F40="","",IF(OR(AG40=0,AND(SUM(AH40:AP40)=COUNTA($AH$29:$AP$29),OR(AND(AV40=0,AU40=1,EG40=1),EF40=1))),1,0)) | BE40: {=IF($F40="","",IF(BA40=1,1,IF(BG40<>1,$BH$1,IF(SUMPRODUCT(--(G40:AZ40>=$G$5:$AZ$5)*($G$5:$AZ$5<>"")*($G$4:$AZ$4=1))=COUNTIF($G$4:$AZ$4,1),1,0))))} | BG40: =IF(OR(SUM(BJ40:DG40)<>COUNT(BJ40:DG40),SUMPRODUCT(--(G40:AY40=$BH$1))<>0),0,1) -> 0 | BH40: =IF($F40="","",BH$30) | BI40: =IF($F40="","",BI$30) | BJ40: =IF(OR(G$30="",G$4=99),1,IF(G40="",0,IFERROR(CHOOSE(BJ$28,IF(ISNA(MATCH(G40,$BH$30:$BI$30,0)),0,1),IF(ISNUMBER(G40),1,0),IF(G40=TRUNC(G40),1,0),IF(AND(G40*1=G40,G40>=0),1,0),IF(AND(G40=TRUNC(G40),G40>=0),1,0),IF(AND(G40*1=G40,G40>0),1,0),IF(AND(G40=TRUNC(G40),G40>0),1,0),1,IF(ISNA(HLOOKUP(G40,$BK$4:$BT$4,1,0)),0,1)),0))) -> 0 | BK40: =IF(OR(H$30="",H$4=99),1,IF(H40="",0,IFERROR(CHOOSE(BK$28,IF(ISNA(MATCH(H40,$BH$30:$BI$30,0)),0,1),IF(ISNUMBER(H40),1,0),IF(H40=TRUNC(H40),1,0),IF(AND(H40*1=H40,H40>=0),1,0),IF(AND(H40=TRUNC(H40),H40>=0),1,0),IF(AND(H40*1=H40,H40>0),1,0),IF(AND(H40=TRUNC(H40),H40>0),1,0),1,IF(ISNA(HLOOKUP(H40,$BK$4:$BT$4,1,0)),0,1)),0))) -> 0 | BL40: =IF(OR(I$30="",I$4=99),1,IF(I40="",0,IFERROR(CHOOSE(BL$28,IF(ISNA(MATCH(I40,$BH$30:$BI$30,0)),0,1),IF(ISNUMBER(I40),1,0),IF(I40=TRUNC(I40),1,0),IF(AND(I40*1=I40,I40>=0),1,0),IF(AND(I40=TRUNC(I40),I40>=0),1,0),IF(AND(I40*1=I40,I40>0),1,0),IF(AND(I40=TRUNC(I40),I40>0),1,0),1,IF(ISNA(HLOOKUP(I40,$BK$4:$BT$4,1,0)),0,1)),0))) -> 0 | BM40: =IF(OR(J$30="",J$4=99),1,IF(J40="",0,IFERROR(CHOOSE(BM$28,IF(ISNA(MATCH(J40,$BH$30:$BI$30,0)),0,1),IF(ISNUMBER(J40),1,0),IF(J40=TRUNC(J40),1,0),IF(AND(J40*1=J40,J40>=0),1,0),IF(AND(J40=TRUNC(J40),J40>=0),1,0),IF(AND(J40*1=J40,J40>0),1,0),IF(AND(J40=TRUNC(J40),J40>0),1,0),1,IF(ISNA(HLOOKUP(J40,$BK$4:$BT$4,1,0)),0,1)),0))) -> 1 | BN40: =IF(OR(K$30="",K$4=99),1,IF(K40="",0,IFERROR(CHOOSE(BN$28,IF(ISNA(MATCH(K40,$BH$30:$BI$30,0)),0,1),IF(ISNUMBER(K40),1,0),IF(K40=TRUNC(K40),1,0),IF(AND(K40*1=K40,K40>=0),1,0),IF(AND(K40=TRUNC(K40),K40>=0),1,0),IF(AND(K40*1=K40,K40>0),1,0),IF(AND(K40=TRUNC(K40),K40>0),1,0),1,IF(ISNA(HLOOKUP(K40,$BK$4:$BT$4,1,0)),0,1)),0))) -> 1 | BO40: =IF(OR(L$30="",L$4=99),1,IF(L40="",0,IFERROR(CHOOSE(BO$28,IF(ISNA(MATCH(L40,$BH$30:$BI$30,0)),0,1),IF(ISNUMBER(L40),1,0),IF(L40=TRUNC(L40),1,0),IF(AND(L40*1=L40,L40>=0),1,0),IF(AND(L40=TRUNC(L40),L40>=0),1,0),IF(AND(L40*1=L40,L40>0),1,0),IF(AND(L40=TRUNC(L40),L40>0),1,0),1,IF(ISNA(HLOOKUP(L40,$BK$4:$BT$4,1,0)),0,1)),0))) -> 0 | BP40: =IF(OR(M$30="",M$4=99),1,IF(M40="",0,IFERROR(CHOOSE(BP$28,IF(ISNA(MATCH(M40,$BH$30:$BI$30,0)),0,1),IF(ISNUMBER(M40),1,0),IF(M40=TRUNC(M40),1,0),IF(AND(M40*1=M40,M40>=0),1,0),IF(AND(M40=TRUNC(M40),M40>=0),1,0),IF(AND(M40*1=M40,M40>0),1,0),IF(AND(M40=TRUNC(M40),M40>0),1,0),1,IF(ISNA(HLOOKUP(M40,$BK$4:$BT$4,1,0)),0,1)),0))) -> 0 | BQ40: =IF(OR(N$30="",N$4=99),1,IF(N40="",0,IFERROR(CHOOSE(BQ$28,IF(ISNA(MATCH(N40,$BH$30:$BI$30,0)),0,1),IF(ISNUMBER(N40),1,0),IF(N40=TRUNC(N40),1,0),IF(AND(N40*1=N40,N40>=0),1,0),IF(AND(N40=TRUNC(N40),N40>=0),1,0),IF(AND(N40*1=N40,N40>0),1,0),IF(AND(N40=TRUNC(N40),N40>0),1,0),1,IF(ISNA(HLOOKUP(N40,$BK$4:$BT$4,1,0)),0,1)),0))) -> 0 | ... CN40: =IF(OR(AK$30="",AK$4=99),1,IF(AK40="",0,IFERROR(CHOOSE(CN$28,IF(ISNA(MATCH(AK40,$BH$30:$BI$30,0)),0,1),IF(ISNUMBER(AK40),1,0),IF(AK40=TRUNC(AK40),1,0),IF(AND(AK40*1=AK40,AK40>=0),1,0),IF(AND(AK40=TRUNC(AK40),AK40>=0),1,0),IF(AND(AK40*1=AK40,AK40>0),1,0),IF(AND(AK40=TRUNC(AK40),AK40>0),1,0),1,IF(ISNA(HLOOKUP(AK40,$BK$4:$BT$4,1,0)),0,1)),0))) -> 1 | CO40: =IF(OR(AL$30="",AM$4=99),1,IF(AL40="",0,IFERROR(CHOOSE(CO$28,IF(ISNA(MATCH(AL40,$BH$30:$BI$30,0)),0,1),IF(ISNUMBER(AL40),1,0),IF(AL40=TRUNC(AL40),1,0),IF(AND(AL40*1=AL40,AL40>=0),1,0),IF(AND(AL40=TRUNC(AL40),AL40>=0),1,0),IF(AND(AL40*1=AL40,AL40>0),1,0),IF(AND(AL40=TRUNC(AL40),AL40>0),1,0),1,IF(ISNA(HLOOKUP(AL40,$BK$4:$BT$4,1,0)),0,1)),0))) -> 1 | CP40: =IF(OR(AM$30="",AN$4=99),1,IF(AM40="",0,IFERROR(CHOOSE(CP$28,IF(ISNA(MATCH(AM40,$BH$30:$BI$30,0)),0,1),IF(ISNUMBER(AM40),1,0),IF(AM40=TRUNC(AM40),1,0),IF(AND(AM40*1=AM40,AM40>=0),1,0),IF(AND(AM40=TRUNC(AM40),AM40>=0),1,0),IF(AND(AM40*1=AM40,AM40>0),1,0),IF(AND(AM40=TRUNC(AM40),AM40>0),1,0),1,IF(ISNA(HLOOKUP(AM40,$BK$4:$BT$4,1,0)),0,1)),0))) -> 1 | CQ40: =IF(OR(AN$30="",AN$4=99),1,IF(AN40="",0,IFERROR(CHOOSE(CQ$28,IF(ISNA(MATCH(AN40,$BH$30:$BI$30,0)),0,1),IF(ISNUMBER(AN40),1,0),IF(AN40=TRUNC(AN40),1,0),IF(AND(AN40*1=AN40,AN40>=0),1,0),IF(AND(AN40=TRUNC(AN40),AN40>=0),1,0),IF(AND(AN40*1=AN40,AN40>0),1,0),IF(AND(AN40=TRUNC(AN40),AN40>0),1,0),1,IF(ISNA(HLOOKUP(AN40,$BK$4:$BT$4,1,0)),0,1)),0))) -> 1 | CR40: =IF(OR(AO$30="",AO$4=99),1,IF(AO40="",0,IFERROR(CHOOSE(CR$28,IF(ISNA(MATCH(AO40,$BH$30:$BI$30,0)),0,1),IF(ISNUMBER(AO40),1,0),IF(AO40=TRUNC(AO40),1,0),IF(AND(AO40*1=AO40,AO40>=0),1,0),IF(AND(AO40=TRUNC(AO40),AO40>=0),1,0),IF(AND(AO40*1=AO40,AO40>0),1,0),IF(AND(AO40=TRUNC(AO40),AO40>0),1,0),1,IF(ISNA(HLOOKUP(AO40,$BK$4:$BT$4,1,0)),0,1)),0))) -> 1 | CS40: =IF(OR(AP$30="",AP$4=99),1,IF(AP40="",0,IFERROR(CHOOSE(CS$28,IF(ISNA(MATCH(AP40,$BH$30:$BI$30,0)),0,1),IF(ISNUMBER(AP40),1,0),IF(AP40=TRUNC(AP40),1,0),IF(AND(AP40*1=AP40,AP40>=0),1,0),IF(AND(AP40=TRUNC(AP40),AP40>=0),1,0),IF(AND(AP40*1=AP40,AP40>0),1,0),IF(AND(AP40=TRUNC(AP40),AP40>0),1,0),1,IF(ISNA(HLOOKUP(AP40,$BK$4:$BT$4,1,0)),0,1)),0))) -> 1 | CT40: =IF(OR(AQ$30="",AQ$4=99),1,IF(AQ40="",0,IFERROR(CHOOSE(CT$28,IF(ISNA(MATCH(AQ40,$BH$30:$BI$30,0)),0,1),IF(ISNUMBER(AQ40),1,0),IF(AQ40=TRUNC(AQ40),1,0),IF(AND(AQ40*1=AQ40,AQ40>=0),1,0),IF(AND(AQ40=TRUNC(AQ40),AQ40>=0),1,0),IF(AND(AQ40*1=AQ40,AQ40>0),1,0),IF(AND(AQ40=TRUNC(AQ40),AQ40>0),1,0),1,IF(ISNA(HLOOKUP(AQ40,$BK$4:$BT$4,1,0)),0,1)),0))) -> 1 | CU40: =IF(OR(AR$30="",AR$4=99),1,IF(AR40="",0,IFERROR(CHOOSE(CU$28,IF(ISNA(MATCH(AR40,$BH$30:$BI$30,0)),0,1),IF(ISNUMBER(AR40),1,0),IF(AR40=TRUNC(AR40),1,0),IF(AND(AR40*1=AR40,AR40>=0),1,0),IF(AND(AR40=TRUNC(AR40),AR40>=0),1,0),IF(AND(AR40*1=AR40,AR40>0),1,0),IF(AND(AR40=TRUNC(AR40),AR40>0),1,0),1,IF(ISNA(HLOOKUP(AR40,$BK$4:$BT$4,1,0)),0,1)),0))) -> 1 | CV40: =IF(OR(AS$30="",AS$4=99),1,IF(AS40="",0,IFERROR(CHOOSE(CV$28,IF(ISNA(MATCH(AS40,$BH$30:$BI$30,0)),0,1),IF(ISNUMBER(AS40),1,0),IF(AS40=TRUNC(AS40),1,0),IF(AND(AS40*1=AS40,AS40>=0),1,0),IF(AND(AS40=TRUNC(AS40),AS40>=0),1,0),IF(AND(AS40*1=AS40,AS40>0),1,0),IF(AND(AS40=TRUNC(AS40),AS40>0),1,0),1,IF(ISNA(HLOOKUP(AS40,$BK$4:$BT$4,1,0)),0,1)),0))) -> 1 | CW40: =IF(OR(AT$30="",AT$4=99),1,IF(AT40="",0,IFERROR(CHOOSE(CW$28,IF(ISNA(MATCH(AT40,$BH$30:$BI$30,0)),0,1),IF(ISNUMBER(AT40),1,0),IF(AT40=TRUNC(AT40),1,0),IF(AND(AT40*1=AT40,AT40>=0),1,0),IF(AND(AT40=TRUNC(AT40),AT40>=0),1,0),IF(AND(AT40*1=AT40,AT40>0),1,0),IF(AND(AT40=TRUNC(AT40),AT40>0),1,0),1,IF(ISNA(HLOOKUP(AT40,$BK$4:$BT$4,1,0)),0,1)),0))) -> 0 | CX40: =IF(OR(AU$30="",AU$4=99),1,IF(AU40="",0,IFERROR(CHOOSE(CX$28,IF(ISNA(MATCH(AU40,$BH$30:$BI$30,0)),0,1),IF(ISNUMBER(AU40),1,0),IF(AU40=TRUNC(AU40),1,0),IF(AND(AU40*1=AU40,AU40>=0),1,0),IF(AND(AU40=TRUNC(AU40),AU40>=0),1,0),IF(AND(AU40*1=AU40,AU40>0),1,0),IF(AND(AU40=TRUNC(AU40),AU40>0),1,0),1,IF(ISNA(HLOOKUP(AU40,$BK$4:$BT$4,1,0)),0,1)),0))) -> 1 | ... DB40: =IF(OR(AY$30="",AY$4=99),1,IF(AY40="",0,IFERROR(CHOOSE(DB$28,IF(ISNA(MATCH(AY40,$BH$30:$BI$30,0)),0,1),IF(ISNUMBER(AY40),1,0),IF(AY40=TRUNC(AY40),1,0),IF(AND(AY40*1=AY40,AY40>=0),1,0),IF(AND(AY40=TRUNC(AY40),AY40>=0),1,0),IF(AND(AY40*1=AY40,AY40>0),1,0),IF(AND(AY40=TRUNC(AY40),AY40>0),1,0),1,IF(ISNA(HLOOKUP(AY40,$BK$4:$BT$4,1,0)),0,1)),0))) -> 0 | DC40: =IF(OR(BA$30="",BA$4=99),1,IF(BA40="",0,IFERROR(CHOOSE(DC$28,IF(ISNA(MATCH(BA40,$BH$30:$BI$30,0)),0,1),IF(ISNUMBER(BA40),1,0),IF(BA40=TRUNC(BA40),1,0),IF(AND(BA40*1=BA40,BA40>=0),1,0),IF(AND(BA40=TRUNC(BA40),BA40>=0),1,0),IF(AND(BA40*1=BA40,BA40>0),1,0),IF(AND(BA40=TRUNC(BA40),BA40>0),1,0),1,IF(ISNA(HLOOKUP(BA40,$BK$4:$BT$4,1,0)),0,1)),0))) -> 1 | DD40: =IF(OR(BB$30="",BB$4=99),1,IF(BB40="",0,IFERROR(CHOOSE(DD$28,IF(ISNA(MATCH(BB40,$BH$30:$BI$30,0)),0,1),IF(ISNUMBER(BB40),1,0),IF(BB40=TRUNC(BB40),1,0),IF(AND(BB40*1=BB40,BB40>=0),1,0),IF(AND(BB40=TRUNC(BB40),BB40>=0),1,0),IF(AND(BB40*1=BB40,BB40>0),1,0),IF(AND(BB40=TRUNC(BB40),BB40>0),1,0),1,IF(ISNA(HLOOKUP(BB40,$BK$4:$BT$4,1,0)),0,1)),0))) -> 1 | DE40: =IF(OR(BC$30="",BC$4=99),1,IF(BC40="",0,IFERROR(CHOOSE(DE$28,IF(ISNA(MATCH(BC40,$BH$30:$BI$30,0)),0,1),IF(ISNUMBER(BC40),1,0),IF(BC40=TRUNC(BC40),1,0),IF(AND(BC40*1=BC40,BC40>=0),1,0),IF(AND(BC40=TRUNC(BC40),BC40>=0),1,0),IF(AND(BC40*1=BC40,BC40>0),1,0),IF(AND(BC40=TRUNC(BC40),BC40>0),1,0),1,IF(ISNA(HLOOKUP(BC40,$BK$4:$BT$4,1,0)),0,1)),0))) -> 1 | DF40: =IF(OR(BD$30="",BD$4=99),1,IF(BD40="",0,IFERROR(CHOOSE(DF$28,IF(ISNA(MATCH(BD40,$BH$30:$BI$30,0)),0,1),IF(ISNUMBER(BD40),1,0),IF(BD40=TRUNC(BD40),1,0),IF(AND(BD40*1=BD40,BD40>=0),1,0),IF(AND(BD40=TRUNC(BD40),BD40>=0),1,0),IF(AND(BD40*1=BD40,BD40>0),1,0),IF(AND(BD40=TRUNC(BD40),BD40>0),1,0),1,IF(ISNA(HLOOKUP(BD40,$BK$4:$BT$4,1,0)),0,1)),0))) -> 1 | DG40: =IF(OR(BE$30="",BE$4=99),1,IF(BE40="",0,IFERROR(CHOOSE(DG$28,IF(ISNA(MATCH(BE40,$BH$30:$BI$30,0)),0,1),IF(ISNUMBER(BE40),1,0),IF(BE40=TRUNC(BE40),1,0),IF(AND(BE40*1=BE40,BE40>=0),1,0),IF(AND(BE40=TRUNC(BE40),BE40>=0),1,0),IF(AND(BE40*1=BE40,BE40>0),1,0),IF(AND(BE40=TRUNC(BE40),BE40>0),1,0),1,IF(ISNA(HLOOKUP(BE40,$BK$4:$BT$4,1,0)),0,1)),0))) -> 1 | DR40: =AQ40>=DB$7 -> FALSE | DS40: =AR40>=DC$7 -> FALSE | DT40: =AS40>=DD$7 -> FALSE | DX40: =COUNTIF(DR40:DW40,TRUE) -> 0 | DY40: =AQ40>=DI$7 -> FALSE | DZ40: =AR40>=DJ$7 -> FALSE | EA40: =AS40>=DK$7 -> FALSE | EE40: =COUNTIF(DY40:ED40,TRUE) -> 0 | EF40: =IF($F40="","",IF(DX40=$DC$5,1,0)) | EG40: =IF($F40="","",IF(AND(EE40=$DC$5,EE40-DX40<=$DJ$5),1,0))
A41: =ROW()-30 -> 11 | B41: =IF(F41="","",ROW()-30) | S41: =IF(F41="","",IF(OR(O41=0,SUM(O41:R41)=4),1,0)) | AU41: =IF($F41="","",IF(OR(EF41=1,AND(COUNT(G41:AP41)=SUM(G41:AP41),EG41=1)),1,0)) | AW41: =IF($F41="","",IF(OR(AG41=0,AND(SUM(AH41:AP41)=COUNTA($AH$29:$AP$29),OR(AND(AV41=0,AU41=1,EG41=1),EF41=1))),1,0)) | BE41: {=IF($F41="","",IF(BA41=1,1,IF(BG41<>1,$BH$1,IF(SUMPRODUCT(--(G41:AZ41>=$G$5:$AZ$5)*($G$5:$AZ$5<>"")*($G$4:$AZ$4=1))=COUNTIF($G$4:$AZ$4,1),1,0))))} | BG41: =IF(OR(SUM(BJ41:DG41)<>COUNT(BJ41:DG41),SUMPRODUCT(--(G41:AY41=$BH$1))<>0),0,1) -> 0 | BH41: =IF($F41="","",BH$30) | BI41: =IF($F41="","",BI$30) | BJ41: =IF(OR(G$30="",G$4=99),1,IF(G41="",0,IFERROR(CHOOSE(BJ$28,IF(ISNA(MATCH(G41,$BH$30:$BI$30,0)),0,1),IF(ISNUMBER(G41),1,0),IF(G41=TRUNC(G41),1,0),IF(AND(G41*1=G41,G41>=0),1,0),IF(AND(G41=TRUNC(G41),G41>=0),1,0),IF(AND(G41*1=G41,G41>0),1,0),IF(AND(G41=TRUNC(G41),G41>0),1,0),1,IF(ISNA(HLOOKUP(G41,$BK$4:$BT$4,1,0)),0,1)),0))) -> 0 | BK41: =IF(OR(H$30="",H$4=99),1,IF(H41="",0,IFERROR(CHOOSE(BK$28,IF(ISNA(MATCH(H41,$BH$30:$BI$30,0)),0,1),IF(ISNUMBER(H41),1,0),IF(H41=TRUNC(H41),1,0),IF(AND(H41*1=H41,H41>=0),1,0),IF(AND(H41=TRUNC(H41),H41>=0),1,0),IF(AND(H41*1=H41,H41>0),1,0),IF(AND(H41=TRUNC(H41),H41>0),1,0),1,IF(ISNA(HLOOKUP(H41,$BK$4:$BT$4,1,0)),0,1)),0))) -> 0 | BL41: =IF(OR(I$30="",I$4=99),1,IF(I41="",0,IFERROR(CHOOSE(BL$28,IF(ISNA(MATCH(I41,$BH$30:$BI$30,0)),0,1),IF(ISNUMBER(I41),1,0),IF(I41=TRUNC(I41),1,0),IF(AND(I41*1=I41,I41>=0),1,0),IF(AND(I41=TRUNC(I41),I41>=0),1,0),IF(AND(I41*1=I41,I41>0),1,0),IF(AND(I41=TRUNC(I41),I41>0),1,0),1,IF(ISNA(HLOOKUP(I41,$BK$4:$BT$4,1,0)),0,1)),0))) -> 0 | BM41: =IF(OR(J$30="",J$4=99),1,IF(J41="",0,IFERROR(CHOOSE(BM$28,IF(ISNA(MATCH(J41,$BH$30:$BI$30,0)),0,1),IF(ISNUMBER(J41),1,0),IF(J41=TRUNC(J41),1,0),IF(AND(J41*1=J41,J41>=0),1,0),IF(AND(J41=TRUNC(J41),J41>=0),1,0),IF(AND(J41*1=J41,J41>0),1,0),IF(AND(J41=TRUNC(J41),J41>0),1,0),1,IF(ISNA(HLOOKUP(J41,$BK$4:$BT$4,1,0)),0,1)),0))) -> 1 | BN41: =IF(OR(K$30="",K$4=99),1,IF(K41="",0,IFERROR(CHOOSE(BN$28,IF(ISNA(MATCH(K41,$BH$30:$BI$30,0)),0,1),IF(ISNUMBER(K41),1,0),IF(K41=TRUNC(K41),1,0),IF(AND(K41*1=K41,K41>=0),1,0),IF(AND(K41=TRUNC(K41),K41>=0),1,0),IF(AND(K41*1=K41,K41>0),1,0),IF(AND(K41=TRUNC(K41),K41>0),1,0),1,IF(ISNA(HLOOKUP(K41,$BK$4:$BT$4,1,0)),0,1)),0))) -> 1 | BO41: =IF(OR(L$30="",L$4=99),1,IF(L41="",0,IFERROR(CHOOSE(BO$28,IF(ISNA(MATCH(L41,$BH$30:$BI$30,0)),0,1),IF(ISNUMBER(L41),1,0),IF(L41=TRUNC(L41),1,0),IF(AND(L41*1=L41,L41>=0),1,0),IF(AND(L41=TRUNC(L41),L41>=0),1,0),IF(AND(L41*1=L41,L41>0),1,0),IF(AND(L41=TRUNC(L41),L41>0),1,0),1,IF(ISNA(HLOOKUP(L41,$BK$4:$BT$4,1,0)),0,1)),0))) -> 0 | BP41: =IF(OR(M$30="",M$4=99),1,IF(M41="",0,IFERROR(CHOOSE(BP$28,IF(ISNA(MATCH(M41,$BH$30:$BI$30,0)),0,1),IF(ISNUMBER(M41),1,0),IF(M41=TRUNC(M41),1,0),IF(AND(M41*1=M41,M41>=0),1,0),IF(AND(M41=TRUNC(M41),M41>=0),1,0),IF(AND(M41*1=M41,M41>0),1,0),IF(AND(M41=TRUNC(M41),M41>0),1,0),1,IF(ISNA(HLOOKUP(M41,$BK$4:$BT$4,1,0)),0,1)),0))) -> 0 | BQ41: =IF(OR(N$30="",N$4=99),1,IF(N41="",0,IFERROR(CHOOSE(BQ$28,IF(ISNA(MATCH(N41,$BH$30:$BI$30,0)),0,1),IF(ISNUMBER(N41),1,0),IF(N41=TRUNC(N41),1,0),IF(AND(N41*1=N41,N41>=0),1,0),IF(AND(N41=TRUNC(N41),N41>=0),1,0),IF(AND(N41*1=N41,N41>0),1,0),IF(AND(N41=TRUNC(N41),N41>0),1,0),1,IF(ISNA(HLOOKUP(N41,$BK$4:$BT$4,1,0)),0,1)),0))) -> 0 | ... CN41: =IF(OR(AK$30="",AK$4=99),1,IF(AK41="",0,IFERROR(CHOOSE(CN$28,IF(ISNA(MATCH(AK41,$BH$30:$BI$30,0)),0,1),IF(ISNUMBER(AK41),1,0),IF(AK41=TRUNC(AK41),1,0),IF(AND(AK41*1=AK41,AK41>=0),1,0),IF(AND(AK41=TRUNC(AK41),AK41>=0),1,0),IF(AND(AK41*1=AK41,AK41>0),1,0),IF(AND(AK41=TRUNC(AK41),AK41>0),1,0),1,IF(ISNA(HLOOKUP(AK41,$BK$4:$BT$4,1,0)),0,1)),0))) -> 1 | CO41: =IF(OR(AL$30="",AM$4=99),1,IF(AL41="",0,IFERROR(CHOOSE(CO$28,IF(ISNA(MATCH(AL41,$BH$30:$BI$30,0)),0,1),IF(ISNUMBER(AL41),1,0),IF(AL41=TRUNC(AL41),1,0),IF(AND(AL41*1=AL41,AL41>=0),1,0),IF(AND(AL41=TRUNC(AL41),AL41>=0),1,0),IF(AND(AL41*1=AL41,AL41>0),1,0),IF(AND(AL41=TRUNC(AL41),AL41>0),1,0),1,IF(ISNA(HLOOKUP(AL41,$BK$4:$BT$4,1,0)),0,1)),0))) -> 1 | CP41: =IF(OR(AM$30="",AN$4=99),1,IF(AM41="",0,IFERROR(CHOOSE(CP$28,IF(ISNA(MATCH(AM41,$BH$30:$BI$30,0)),0,1),IF(ISNUMBER(AM41),1,0),IF(AM41=TRUNC(AM41),1,0),IF(AND(AM41*1=AM41,AM41>=0),1,0),IF(AND(AM41=TRUNC(AM41),AM41>=0),1,0),IF(AND(AM41*1=AM41,AM41>0),1,0),IF(AND(AM41=TRUNC(AM41),AM41>0),1,0),1,IF(ISNA(HLOOKUP(AM41,$BK$4:$BT$4,1,0)),0,1)),0))) -> 1 | CQ41: =IF(OR(AN$30="",AN$4=99),1,IF(AN41="",0,IFERROR(CHOOSE(CQ$28,IF(ISNA(MATCH(AN41,$BH$30:$BI$30,0)),0,1),IF(ISNUMBER(AN41),1,0),IF(AN41=TRUNC(AN41),1,0),IF(AND(AN41*1=AN41,AN41>=0),1,0),IF(AND(AN41=TRUNC(AN41),AN41>=0),1,0),IF(AND(AN41*1=AN41,AN41>0),1,0),IF(AND(AN41=TRUNC(AN41),AN41>0),1,0),1,IF(ISNA(HLOOKUP(AN41,$BK$4:$BT$4,1,0)),0,1)),0))) -> 1 | CR41: =IF(OR(AO$30="",AO$4=99),1,IF(AO41="",0,IFERROR(CHOOSE(CR$28,IF(ISNA(MATCH(AO41,$BH$30:$BI$30,0)),0,1),IF(ISNUMBER(AO41),1,0),IF(AO41=TRUNC(AO41),1,0),IF(AND(AO41*1=AO41,AO41>=0),1,0),IF(AND(AO41=TRUNC(AO41),AO41>=0),1,0),IF(AND(AO41*1=AO41,AO41>0),1,0),IF(AND(AO41=TRUNC(AO41),AO41>0),1,0),1,IF(ISNA(HLOOKUP(AO41,$BK$4:$BT$4,1,0)),0,1)),0))) -> 1 | CS41: =IF(OR(AP$30="",AP$4=99),1,IF(AP41="",0,IFERROR(CHOOSE(CS$28,IF(ISNA(MATCH(AP41,$BH$30:$BI$30,0)),0,1),IF(ISNUMBER(AP41),1,0),IF(AP41=TRUNC(AP41),1,0),IF(AND(AP41*1=AP41,AP41>=0),1,0),IF(AND(AP41=TRUNC(AP41),AP41>=0),1,0),IF(AND(AP41*1=AP41,AP41>0),1,0),IF(AND(AP41=TRUNC(AP41),AP41>0),1,0),1,IF(ISNA(HLOOKUP(AP41,$BK$4:$BT$4,1,0)),0,1)),0))) -> 1 | CT41: =IF(OR(AQ$30="",AQ$4=99),1,IF(AQ41="",0,IFERROR(CHOOSE(CT$28,IF(ISNA(MATCH(AQ41,$BH$30:$BI$30,0)),0,1),IF(ISNUMBER(AQ41),1,0),IF(AQ41=TRUNC(AQ41),1,0),IF(AND(AQ41*1=AQ41,AQ41>=0),1,0),IF(AND(AQ41=TRUNC(AQ41),AQ41>=0),1,0),IF(AND(AQ41*1=AQ41,AQ41>0),1,0),IF(AND(AQ41=TRUNC(AQ41),AQ41>0),1,0),1,IF(ISNA(HLOOKUP(AQ41,$BK$4:$BT$4,1,0)),0,1)),0))) -> 1 | CU41: =IF(OR(AR$30="",AR$4=99),1,IF(AR41="",0,IFERROR(CHOOSE(CU$28,IF(ISNA(MATCH(AR41,$BH$30:$BI$30,0)),0,1),IF(ISNUMBER(AR41),1,0),IF(AR41=TRUNC(AR41),1,0),IF(AND(AR41*1=AR41,AR41>=0),1,0),IF(AND(AR41=TRUNC(AR41),AR41>=0),1,0),IF(AND(AR41*1=AR41,AR41>0),1,0),IF(AND(AR41=TRUNC(AR41),AR41>0),1,0),1,IF(ISNA(HLOOKUP(AR41,$BK$4:$BT$4,1,0)),0,1)),0))) -> 1 | CV41: =IF(OR(AS$30="",AS$4=99),1,IF(AS41="",0,IFERROR(CHOOSE(CV$28,IF(ISNA(MATCH(AS41,$BH$30:$BI$30,0)),0,1),IF(ISNUMBER(AS41),1,0),IF(AS41=TRUNC(AS41),1,0),IF(AND(AS41*1=AS41,AS41>=0),1,0),IF(AND(AS41=TRUNC(AS41),AS41>=0),1,0),IF(AND(AS41*1=AS41,AS41>0),1,0),IF(AND(AS41=TRUNC(AS41),AS41>0),1,0),1,IF(ISNA(HLOOKUP(AS41,$BK$4:$BT$4,1,0)),0,1)),0))) -> 1 | CW41: =IF(OR(AT$30="",AT$4=99),1,IF(AT41="",0,IFERROR(CHOOSE(CW$28,IF(ISNA(MATCH(AT41,$BH$30:$BI$30,0)),0,1),IF(ISNUMBER(AT41),1,0),IF(AT41=TRUNC(AT41),1,0),IF(AND(AT41*1=AT41,AT41>=0),1,0),IF(AND(AT41=TRUNC(AT41),AT41>=0),1,0),IF(AND(AT41*1=AT41,AT41>0),1,0),IF(AND(AT41=TRUNC(AT41),AT41>0),1,0),1,IF(ISNA(HLOOKUP(AT41,$BK$4:$BT$4,1,0)),0,1)),0))) -> 0 | CX41: =IF(OR(AU$30="",AU$4=99),1,IF(AU41="",0,IFERROR(CHOOSE(CX$28,IF(ISNA(MATCH(AU41,$BH$30:$BI$30,0)),0,1),IF(ISNUMBER(AU41),1,0),IF(AU41=TRUNC(AU41),1,0),IF(AND(AU41*1=AU41,AU41>=0),1,0),IF(AND(AU41=TRUNC(AU41),AU41>=0),1,0),IF(AND(AU41*1=AU41,AU41>0),1,0),IF(AND(AU41=TRUNC(AU41),AU41>0),1,0),1,IF(ISNA(HLOOKUP(AU41,$BK$4:$BT$4,1,0)),0,1)),0))) -> 1 | ... DB41: =IF(OR(AY$30="",AY$4=99),1,IF(AY41="",0,IFERROR(CHOOSE(DB$28,IF(ISNA(MATCH(AY41,$BH$30:$BI$30,0)),0,1),IF(ISNUMBER(AY41),1,0),IF(AY41=TRUNC(AY41),1,0),IF(AND(AY41*1=AY41,AY41>=0),1,0),IF(AND(AY41=TRUNC(AY41),AY41>=0),1,0),IF(AND(AY41*1=AY41,AY41>0),1,0),IF(AND(AY41=TRUNC(AY41),AY41>0),1,0),1,IF(ISNA(HLOOKUP(AY41,$BK$4:$BT$4,1,0)),0,1)),0))) -> 0 | DC41: =IF(OR(BA$30="",BA$4=99),1,IF(BA41="",0,IFERROR(CHOOSE(DC$28,IF(ISNA(MATCH(BA41,$BH$30:$BI$30,0)),0,1),IF(ISNUMBER(BA41),1,0),IF(BA41=TRUNC(BA41),1,0),IF(AND(BA41*1=BA41,BA41>=0),1,0),IF(AND(BA41=TRUNC(BA41),BA41>=0),1,0),IF(AND(BA41*1=BA41,BA41>0),1,0),IF(AND(BA41=TRUNC(BA41),BA41>0),1,0),1,IF(ISNA(HLOOKUP(BA41,$BK$4:$BT$4,1,0)),0,1)),0))) -> 1 | DD41: =IF(OR(BB$30="",BB$4=99),1,IF(BB41="",0,IFERROR(CHOOSE(DD$28,IF(ISNA(MATCH(BB41,$BH$30:$BI$30,0)),0,1),IF(ISNUMBER(BB41),1,0),IF(BB41=TRUNC(BB41),1,0),IF(AND(BB41*1=BB41,BB41>=0),1,0),IF(AND(BB41=TRUNC(BB41),BB41>=0),1,0),IF(AND(BB41*1=BB41,BB41>0),1,0),IF(AND(BB41=TRUNC(BB41),BB41>0),1,0),1,IF(ISNA(HLOOKUP(BB41,$BK$4:$BT$4,1,0)),0,1)),0))) -> 1 | DE41: =IF(OR(BC$30="",BC$4=99),1,IF(BC41="",0,IFERROR(CHOOSE(DE$28,IF(ISNA(MATCH(BC41,$BH$30:$BI$30,0)),0,1),IF(ISNUMBER(BC41),1,0),IF(BC41=TRUNC(BC41),1,0),IF(AND(BC41*1=BC41,BC41>=0),1,0),IF(AND(BC41=TRUNC(BC41),BC41>=0),1,0),IF(AND(BC41*1=BC41,BC41>0),1,0),IF(AND(BC41=TRUNC(BC41),BC41>0),1,0),1,IF(ISNA(HLOOKUP(BC41,$BK$4:$BT$4,1,0)),0,1)),0))) -> 1 | DF41: =IF(OR(BD$30="",BD$4=99),1,IF(BD41="",0,IFERROR(CHOOSE(DF$28,IF(ISNA(MATCH(BD41,$BH$30:$BI$30,0)),0,1),IF(ISNUMBER(BD41),1,0),IF(BD41=TRUNC(BD41),1,0),IF(AND(BD41*1=BD41,BD41>=0),1,0),IF(AND(BD41=TRUNC(BD41),BD41>=0),1,0),IF(AND(BD41*1=BD41,BD41>0),1,0),IF(AND(BD41=TRUNC(BD41),BD41>0),1,0),1,IF(ISNA(HLOOKUP(BD41,$BK$4:$BT$4,1,0)),0,1)),0))) -> 1 | DG41: =IF(OR(BE$30="",BE$4=99),1,IF(BE41="",0,IFERROR(CHOOSE(DG$28,IF(ISNA(MATCH(BE41,$BH$30:$BI$30,0)),0,1),IF(ISNUMBER(BE41),1,0),IF(BE41=TRUNC(BE41),1,0),IF(AND(BE41*1=BE41,BE41>=0),1,0),IF(AND(BE41=TRUNC(BE41),BE41>=0),1,0),IF(AND(BE41*1=BE41,BE41>0),1,0),IF(AND(BE41=TRUNC(BE41),BE41>0),1,0),1,IF(ISNA(HLOOKUP(BE41,$BK$4:$BT$4,1,0)),0,1)),0))) -> 1 | DR41: =AQ41>=DB$7 -> FALSE | DS41: =AR41>=DC$7 -> FALSE | DT41: =AS41>=DD$7 -> FALSE | DX41: =COUNTIF(DR41:DW41,TRUE) -> 0 | DY41: =AQ41>=DI$7 -> FALSE | DZ41: =AR41>=DJ$7 -> FALSE | EA41: =AS41>=DK$7 -> FALSE | EE41: =COUNTIF(DY41:ED41,TRUE) -> 0 | EF41: =IF($F41="","",IF(DX41=$DC$5,1,0)) | EG41: =IF($F41="","",IF(AND(EE41=$DC$5,EE41-DX41<=$DJ$5),1,0))
B42: =IF(F42="","",ROW()-30) -> 12 | F42: אתו"ס - כיתת אמן ניצוח | G42: 1 | H42: 1 | I42: 1 | J42: 0 | K42: 1 | L42: 1 | M42: 1 | N42: 1 | O42: 0 | P42: 0 | Q42: 0 | R42: 0 | S42: =IF(F42="","",IF(OR(O42=0,SUM(O42:R42)=4),1,0)) -> 1 | T42: 1 | U42: 1 | V42: 1 | W42: 1 | X42: 1 | Y42: 1 | Z42: 1 | AA42: 1 | AB42: 1 | AC42: 1 | AD42: 1 | AE42: 1 | AF42: 1 | AG42: 1 | AH42: 1 | AI42: 1 | AJ42: 1 | AK42: 1 | AL42: 1 | AM42: 1 | AN42: 1 | AO42: 1 | AP42: 1 | AQ42: 6 | AR42: 36 | AS42: 24 | AT42: 234000 | AU42: =IF($F42="","",IF(OR(EF42=1,AND(COUNT(G42:AP42)=SUM(G42:AP42),EG42=1)),1,0)) -> 1 | AV42: 0 | AW42: =IF($F42="","",IF(OR(AG42=0,AND(SUM(AH42:AP42)=COUNTA($AH$29:$AP$29),OR(AND(AV42=0,AU42=1,EG42=1),EF42=1))),1,0)) -> 1 | AX42: 1 | AY42: 1 | AZ42: 1 | BA42: 0 | BE42: {=IF($F42="","",IF(BA42=1,1,IF(BG42<>1,$BH$1,IF(SUMPRODUCT(--(G42:AZ42>=$G$5:$AZ$5)*($G$5:$AZ$5<>"")*($G$4:$AZ$4=1))=COUNTIF($G$4:$AZ$4,1),1,0))))} -> 1 | BF42: מומלץ לתמיכה עפ"י מבחן התמיכה - תחום ד'. הוגשה הצעת תקציב בסך 234,000 ₪. עפ"י המלצת המדור אושרו הוצאות התקציב המבוקש. | BG42: =IF(OR(SUM(BJ42:DG42)<>COUNT(BJ42:DG42),SUMPRODUCT(--(G42:AY42=$BH$1))<>0),0,1) -> 1 | BH42: =IF($F42="","",BH$30) -> 0 | BI42: =IF($F42="","",BI$30) -> 1 | BJ42: =IF(OR(G$30="",G$4=99),1,IF(G42="",0,IFERROR(CHOOSE(BJ$28,IF(ISNA(MATCH(G42,$BH$30:$BI$30,0)),0,1),IF(ISNUMBER(G42),1,0),IF(G42=TRUNC(G42),1,0),IF(AND(G42*1=G42,G42>=0),1,0),IF(AND(G42=TRUNC(G42),G42>=0),1,0),IF(AND(G42*1=G42,G42>0),1,0),IF(AND(G42=TRUNC(G42),G42>0),1,0),1,IF(ISNA(HLOOKUP(G42,$BK$4:$BT$4,1,0)),0,1)),0))) -> 1 | BK42: =IF(OR(H$30="",H$4=99),1,IF(H42="",0,IFERROR(CHOOSE(BK$28,IF(ISNA(MATCH(H42,$BH$30:$BI$30,0)),0,1),IF(ISNUMBER(H42),1,0),IF(H42=TRUNC(H42),1,0),IF(AND(H42*1=H42,H42>=0),1,0),IF(AND(H42=TRUNC(H42),H42>=0),1,0),IF(AND(H42*1=H42,H42>0),1,0),IF(AND(H42=TRUNC(H42),H42>0),1,0),1,IF(ISNA(HLOOKUP(H42,$BK$4:$BT$4,1,0)),0,1)),0))) -> 1 | BL42: =IF(OR(I$30="",I$4=99),1,IF(I42="",0,IFERROR(CHOOSE(BL$28,IF(ISNA(MATCH(I42,$BH$30:$BI$30,0)),0,1),IF(ISNUMBER(I42),1,0),IF(I42=TRUNC(I42),1,0),IF(AND(I42*1=I42,I42>=0),1,0),IF(AND(I42=TRUNC(I42),I42>=0),1,0),IF(AND(I42*1=I42,I42>0),1,0),IF(AND(I42=TRUNC(I42),I42>0),1,0),1,IF(ISNA(HLOOKUP(I42,$BK$4:$BT$4,1,0)),0,1)),0))) -> 1 | BM42: =IF(OR(J$30="",J$4=99),1,IF(J42="",0,IFERROR(CHOOSE(BM$28,IF(ISNA(MATCH(J42,$BH$30:$BI$30,0)),0,1),IF(ISNUMBER(J42),1,0),IF(J42=TRUNC(J42),1,0),IF(AND(J42*1=J42,J42>=0),1,0),IF(AND(J42=TRUNC(J42),J42>=0),1,0),IF(AND(J42*1=J42,J42>0),1,0),IF(AND(J42=TRUNC(J42),J42>0),1,0),1,IF(ISNA(HLOOKUP(J42,$BK$4:$BT$4,1,0)),0,1)),0))) -> 1 | BN42: =IF(OR(K$30="",K$4=99),1,IF(K42="",0,IFERROR(CHOOSE(BN$28,IF(ISNA(MATCH(K42,$BH$30:$BI$30,0)),0,1),IF(ISNUMBER(K42),1,0),IF(K42=TRUNC(K42),1,0),IF(AND(K42*1=K42,K42>=0),1,0),IF(AND(K42=TRUNC(K42),K42>=0),1,0),IF(AND(K42*1=K42,K42>0),1,0),IF(AND(K42=TRUNC(K42),K42>0),1,0),1,IF(ISNA(HLOOKUP(K42,$BK$4:$BT$4,1,0)),0,1)),0))) -> 1 | BO42: =IF(OR(L$30="",L$4=99),1,IF(L42="",0,IFERROR(CHOOSE(BO$28,IF(ISNA(MATCH(L42,$BH$30:$BI$30,0)),0,1),IF(ISNUMBER(L42),1,0),IF(L42=TRUNC(L42),1,0),IF(AND(L42*1=L42,L42>=0),1,0),IF(AND(L42=TRUNC(L42),L42>=0),1,0),IF(AND(L42*1=L42,L42>0),1,0),IF(AND(L42=TRUNC(L42),L42>0),1,0),1,IF(ISNA(HLOOKUP(L42,$BK$4:$BT$4,1,0)),0,1)),0))) -> 1 | BP42: =IF(OR(M$30="",M$4=99),1,IF(M42="",0,IFERROR(CHOOSE(BP$28,IF(ISNA(MATCH(M42,$BH$30:$BI$30,0)),0,1),IF(ISNUMBER(M42),1,0),IF(M42=TRUNC(M42),1,0),IF(AND(M42*1=M42,M42>=0),1,0),IF(AND(M42=TRUNC(M42),M42>=0),1,0),IF(AND(M42*1=M42,M42>0),1,0),IF(AND(M42=TRUNC(M42),M42>0),1,0),1,IF(ISNA(HLOOKUP(M42,$BK$4:$BT$4,1,0)),0,1)),0))) -> 1 | BQ42: =IF(OR(N$30="",N$4=99),1,IF(N42="",0,IFERROR(CHOOSE(BQ$28,IF(ISNA(MATCH(N42,$BH$30:$BI$30,0)),0,1),IF(ISNUMBER(N42),1,0),IF(N42=TRUNC(N42),1,0),IF(AND(N42*1=N42,N42>=0),1,0),IF(AND(N42=TRUNC(N42),N42>=0),1,0),IF(AND(N42*1=N42,N42>0),1,0),IF(AND(N42=TRUNC(N42),N42>0),1,0),1,IF(ISNA(HLOOKUP(N42,$BK$4:$BT$4,1,0)),0,1)),0))) -> 1 | ... CN42: =IF(OR(AK$30="",AK$4=99),1,IF(AK42="",0,IFERROR(CHOOSE(CN$28,IF(ISNA(MATCH(AK42,$BH$30:$BI$30,0)),0,1),IF(ISNUMBER(AK42),1,0),IF(AK42=TRUNC(AK42),1,0),IF(AND(AK42*1=AK42,AK42>=0),1,0),IF(AND(AK42=TRUNC(AK42),AK42>=0),1,0),IF(AND(AK42*1=AK42,AK42>0),1,0),IF(AND(AK42=TRUNC(AK42),AK42>0),1,0),1,IF(ISNA(HLOOKUP(AK42,$BK$4:$BT$4,1,0)),0,1)),0))) -> 1 | CO42: =IF(OR(AL$30="",AM$4=99),1,IF(AL42="",0,IFERROR(CHOOSE(CO$28,IF(ISNA(MATCH(AL42,$BH$30:$BI$30,0)),0,1),IF(ISNUMBER(AL42),1,0),IF(AL42=TRUNC(AL42),1,0),IF(AND(AL42*1=AL42,AL42>=0),1,0),IF(AND(AL42=TRUNC(AL42),AL42>=0),1,0),IF(AND(AL42*1=AL42,AL42>0),1,0),IF(AND(AL42=TRUNC(AL42),AL42>0),1,0),1,IF(ISNA(HLOOKUP(AL42,$BK$4:$BT$4,1,0)),0,1)),0))) -> 1 | CP42: =IF(OR(AM$30="",AN$4=99),1,IF(AM42="",0,IFERROR(CHOOSE(CP$28,IF(ISNA(MATCH(AM42,$BH$30:$BI$30,0)),0,1),IF(ISNUMBER(AM42),1,0),IF(AM42=TRUNC(AM42),1,0),IF(AND(AM42*1=AM42,AM42>=0),1,0),IF(AND(AM42=TRUNC(AM42),AM42>=0),1,0),IF(AND(AM42*1=AM42,AM42>0),1,0),IF(AND(AM42=TRUNC(AM42),AM42>0),1,0),1,IF(ISNA(HLOOKUP(AM42,$BK$4:$BT$4,1,0)),0,1)),0))) -> 1 | CQ42: =IF(OR(AN$30="",AN$4=99),1,IF(AN42="",0,IFERROR(CHOOSE(CQ$28,IF(ISNA(MATCH(AN42,$BH$30:$BI$30,0)),0,1),IF(ISNUMBER(AN42),1,0),IF(AN42=TRUNC(AN42),1,0),IF(AND(AN42*1=AN42,AN42>=0),1,0),IF(AND(AN42=TRUNC(AN42),AN42>=0),1,0),IF(AND(AN42*1=AN42,AN42>0),1,0),IF(AND(AN42=TRUNC(AN42),AN42>0),1,0),1,IF(ISNA(HLOOKUP(AN42,$BK$4:$BT$4,1,0)),0,1)),0))) -> 1 | CR42: =IF(OR(AO$30="",AO$4=99),1,IF(AO42="",0,IFERROR(CHOOSE(CR$28,IF(ISNA(MATCH(AO42,$BH$30:$BI$30,0)),0,1),IF(ISNUMBER(AO42),1,0),IF(AO42=TRUNC(AO42),1,0),IF(AND(AO42*1=AO42,AO42>=0),1,0),IF(AND(AO42=TRUNC(AO42),AO42>=0),1,0),IF(AND(AO42*1=AO42,AO42>0),1,0),IF(AND(AO42=TRUNC(AO42),AO42>0),1,0),1,IF(ISNA(HLOOKUP(AO42,$BK$4:$BT$4,1,0)),0,1)),0))) -> 1 | CS42: =IF(OR(AP$30="",AP$4=99),1,IF(AP42="",0,IFERROR(CHOOSE(CS$28,IF(ISNA(MATCH(AP42,$BH$30:$BI$30,0)),0,1),IF(ISNUMBER(AP42),1,0),IF(AP42=TRUNC(AP42),1,0),IF(AND(AP42*1=AP42,AP42>=0),1,0),IF(AND(AP42=TRUNC(AP42),AP42>=0),1,0),IF(AND(AP42*1=AP42,AP42>0),1,0),IF(AND(AP42=TRUNC(AP42),AP42>0),1,0),1,IF(ISNA(HLOOKUP(AP42,$BK$4:$BT$4,1,0)),0,1)),0))) -> 1 | CT42: =IF(OR(AQ$30="",AQ$4=99),1,IF(AQ42="",0,IFERROR(CHOOSE(CT$28,IF(ISNA(MATCH(AQ42,$BH$30:$BI$30,0)),0,1),IF(ISNUMBER(AQ42),1,0),IF(AQ42=TRUNC(AQ42),1,0),IF(AND(AQ42*1=AQ42,AQ42>=0),1,0),IF(AND(AQ42=TRUNC(AQ42),AQ42>=0),1,0),IF(AND(AQ42*1=AQ42,AQ42>0),1,0),IF(AND(AQ42=TRUNC(AQ42),AQ42>0),1,0),1,IF(ISNA(HLOOKUP(AQ42,$BK$4:$BT$4,1,0)),0,1)),0))) -> 1 | CU42: =IF(OR(AR$30="",AR$4=99),1,IF(AR42="",0,IFERROR(CHOOSE(CU$28,IF(ISNA(MATCH(AR42,$BH$30:$BI$30,0)),0,1),IF(ISNUMBER(AR42),1,0),IF(AR42=TRUNC(AR42),1,0),IF(AND(AR42*1=AR42,AR42>=0),1,0),IF(AND(AR42=TRUNC(AR42),AR42>=0),1,0),IF(AND(AR42*1=AR42,AR42>0),1,0),IF(AND(AR42=TRUNC(AR42),AR42>0),1,0),1,IF(ISNA(HLOOKUP(AR42,$BK$4:$BT$4,1,0)),0,1)),0))) -> 1 | CV42: =IF(OR(AS$30="",AS$4=99),1,IF(AS42="",0,IFERROR(CHOOSE(CV$28,IF(ISNA(MATCH(AS42,$BH$30:$BI$30,0)),0,1),IF(ISNUMBER(AS42),1,0),IF(AS42=TRUNC(AS42),1,0),IF(AND(AS42*1=AS42,AS42>=0),1,0),IF(AND(AS42=TRUNC(AS42),AS42>=0),1,0),IF(AND(AS42*1=AS42,AS42>0),1,0),IF(AND(AS42=TRUNC(AS42),AS42>0),1,0),1,IF(ISNA(HLOOKUP(AS42,$BK$4:$BT$4,1,0)),0,1)),0))) -> 1 | CW42: =IF(OR(AT$30="",AT$4=99),1,IF(AT42="",0,IFERROR(CHOOSE(CW$28,IF(ISNA(MATCH(AT42,$BH$30:$BI$30,0)),0,1),IF(ISNUMBER(AT42),1,0),IF(AT42=TRUNC(AT42),1,0),IF(AND(AT42*1=AT42,AT42>=0),1,0),IF(AND(AT42=TRUNC(AT42),AT42>=0),1,0),IF(AND(AT42*1=AT42,AT42>0),1,0),IF(AND(AT42=TRUNC(AT42),AT42>0),1,0),1,IF(ISNA(HLOOKUP(AT42,$BK$4:$BT$4,1,0)),0,1)),0))) -> 1 | CX42: =IF(OR(AU$30="",AU$4=99),1,IF(AU42="",0,IFERROR(CHOOSE(CX$28,IF(ISNA(MATCH(AU42,$BH$30:$BI$30,0)),0,1),IF(ISNUMBER(AU42),1,0),IF(AU42=TRUNC(AU42),1,0),IF(AND(AU42*1=AU42,AU42>=0),1,0),IF(AND(AU42=TRUNC(AU42),AU42>=0),1,0),IF(AND(AU42*1=AU42,AU42>0),1,0),IF(AND(AU42=TRUNC(AU42),AU42>0),1,0),1,IF(ISNA(HLOOKUP(AU42,$BK$4:$BT$4,1,0)),0,1)),0))) -> 1 | ... DB42: =IF(OR(AY$30="",AY$4=99),1,IF(AY42="",0,IFERROR(CHOOSE(DB$28,IF(ISNA(MATCH(AY42,$BH$30:$BI$30,0)),0,1),IF(ISNUMBER(AY42),1,0),IF(AY42=TRUNC(AY42),1,0),IF(AND(AY42*1=AY42,AY42>=0),1,0),IF(AND(AY42=TRUNC(AY42),AY42>=0),1,0),IF(AND(AY42*1=AY42,AY42>0),1,0),IF(AND(AY42=TRUNC(AY42),AY42>0),1,0),1,IF(ISNA(HLOOKUP(AY42,$BK$4:$BT$4,1,0)),0,1)),0))) -> 1 | DC42: =IF(OR(BA$30="",BA$4=99),1,IF(BA42="",0,IFERROR(CHOOSE(DC$28,IF(ISNA(MATCH(BA42,$BH$30:$BI$30,0)),0,1),IF(ISNUMBER(BA42),1,0),IF(BA42=TRUNC(BA42),1,0),IF(AND(BA42*1=BA42,BA42>=0),1,0),IF(AND(BA42=TRUNC(BA42),BA42>=0),1,0),IF(AND(BA42*1=BA42,BA42>0),1,0),IF(AND(BA42=TRUNC(BA42),BA42>0),1,0),1,IF(ISNA(HLOOKUP(BA42,$BK$4:$BT$4,1,0)),0,1)),0))) -> 1 | DD42: =IF(OR(BB$30="",BB$4=99),1,IF(BB42="",0,IFERROR(CHOOSE(DD$28,IF(ISNA(MATCH(BB42,$BH$30:$BI$30,0)),0,1),IF(ISNUMBER(BB42),1,0),IF(BB42=TRUNC(BB42),1,0),IF(AND(BB42*1=BB42,BB42>=0),1,0),IF(AND(BB42=TRUNC(BB42),BB42>=0),1,0),IF(AND(BB42*1=BB42,BB42>0),1,0),IF(AND(BB42=TRUNC(BB42),BB42>0),1,0),1,IF(ISNA(HLOOKUP(BB42,$BK$4:$BT$4,1,0)),0,1)),0))) -> 1 | DE42: =IF(OR(BC$30="",BC$4=99),1,IF(BC42="",0,IFERROR(CHOOSE(DE$28,IF(ISNA(MATCH(BC42,$BH$30:$BI$30,0)),0,1),IF(ISNUMBER(BC42),1,0),IF(BC42=TRUNC(BC42),1,0),IF(AND(BC42*1=BC42,BC42>=0),1,0),IF(AND(BC42=TRUNC(BC42),BC42>=0),1,0),IF(AND(BC42*1=BC42,BC42>0),1,0),IF(AND(BC42=TRUNC(BC42),BC42>0),1,0),1,IF(ISNA(HLOOKUP(BC42,$BK$4:$BT$4,1,0)),0,1)),0))) -> 1 | DF42: =IF(OR(BD$30="",BD$4=99),1,IF(BD42="",0,IFERROR(CHOOSE(DF$28,IF(ISNA(MATCH(BD42,$BH$30:$BI$30,0)),0,1),IF(ISNUMBER(BD42),1,0),IF(BD42=TRUNC(BD42),1,0),IF(AND(BD42*1=BD42,BD42>=0),1,0),IF(AND(BD42=TRUNC(BD42),BD42>=0),1,0),IF(AND(BD42*1=BD42,BD42>0),1,0),IF(AND(BD42=TRUNC(BD42),BD42>0),1,0),1,IF(ISNA(HLOOKUP(BD42,$BK$4:$BT$4,1,0)),0,1)),0))) -> 1 | DG42: =IF(OR(BE$30="",BE$4=99),1,IF(BE42="",0,IFERROR(CHOOSE(DG$28,IF(ISNA(MATCH(BE42,$BH$30:$BI$30,0)),0,1),IF(ISNUMBER(BE42),1,0),IF(BE42=TRUNC(BE42),1,0),IF(AND(BE42*1=BE42,BE42>=0),1,0),IF(AND(BE42=TRUNC(BE42),BE42>=0),1,0),IF(AND(BE42*1=BE42,BE42>0),1,0),IF(AND(BE42=TRUNC(BE42),BE42>0),1,0),1,IF(ISNA(HLOOKUP(BE42,$BK$4:$BT$4,1,0)),0,1)),0))) -> 1 | DR42: =AQ42>=DB$7 -> TRUE | DS42: =AR42>=DC$7 -> TRUE | DT42: =AS42>=DD$7 -> TRUE | DX42: =COUNTIF(DR42:DW42,TRUE) -> 3 | DY42: =AQ42>=DI$7 -> TRUE | DZ42: =AR42>=DJ$7 -> TRUE | EA42: =AS42>=DK$7 -> TRUE | EE42: =COUNTIF(DY42:ED42,TRUE) -> 3 | EF42: =IF($F42="","",IF(DX42=$DC$5,1,0)) -> 1 | EG42: =IF($F42="","",IF(AND(EE42=$DC$5,EE42-DX42<=$DJ$5),1,0)) -> 1
B43: =IF(F43="","",ROW()-30) | S43: =IF(F43="","",IF(OR(O43=0,SUM(O43:R43)=4),1,0)) | AU43: =IF($F43="","",IF(OR(EF43=1,AND(COUNT(G43:AP43)=SUM(G43:AP43),EG43=1)),1,0)) | AW43: =IF($F43="","",IF(OR(AG43=0,AND(SUM(AH43:AP43)=COUNTA($AH$29:$AP$29),OR(AND(AV43=0,AU43=1,EG43=1),EF43=1))),1,0)) | BE43: {=IF($F43="","",IF(BA43=1,1,IF(BG43<>1,$BH$1,IF(SUMPRODUCT(--(G43:AZ43>=$G$5:$AZ$5)*($G$5:$AZ$5<>"")*($G$4:$AZ$4=1))=COUNTIF($G$4:$AZ$4,1),1,0))))} | BG43: =IF(OR(SUM(BJ43:DG43)<>COUNT(BJ43:DG43),SUMPRODUCT(--(G43:AY43=$BH$1))<>0),0,1) -> 0 | BH43: =IF($F43="","",BH$30) | BI43: =IF($F43="","",BI$30) | BJ43: =IF(OR(G$30="",G$4=99),1,IF(G43="",0,IFERROR(CHOOSE(BJ$28,IF(ISNA(MATCH(G43,$BH$30:$BI$30,0)),0,1),IF(ISNUMBER(G43),1,0),IF(G43=TRUNC(G43),1,0),IF(AND(G43*1=G43,G43>=0),1,0),IF(AND(G43=TRUNC(G43),G43>=0),1,0),IF(AND(G43*1=G43,G43>0),1,0),IF(AND(G43=TRUNC(G43),G43>0),1,0),1,IF(ISNA(HLOOKUP(G43,$BK$4:$BT$4,1,0)),0,1)),0))) -> 0 | BK43: =IF(OR(H$30="",H$4=99),1,IF(H43="",0,IFERROR(CHOOSE(BK$28,IF(ISNA(MATCH(H43,$BH$30:$BI$30,0)),0,1),IF(ISNUMBER(H43),1,0),IF(H43=TRUNC(H43),1,0),IF(AND(H43*1=H43,H43>=0),1,0),IF(AND(H43=TRUNC(H43),H43>=0),1,0),IF(AND(H43*1=H43,H43>0),1,0),IF(AND(H43=TRUNC(H43),H43>0),1,0),1,IF(ISNA(HLOOKUP(H43,$BK$4:$BT$4,1,0)),0,1)),0))) -> 0 | BL43: =IF(OR(I$30="",I$4=99),1,IF(I43="",0,IFERROR(CHOOSE(BL$28,IF(ISNA(MATCH(I43,$BH$30:$BI$30,0)),0,1),IF(ISNUMBER(I43),1,0),IF(I43=TRUNC(I43),1,0),IF(AND(I43*1=I43,I43>=0),1,0),IF(AND(I43=TRUNC(I43),I43>=0),1,0),IF(AND(I43*1=I43,I43>0),1,0),IF(AND(I43=TRUNC(I43),I43>0),1,0),1,IF(ISNA(HLOOKUP(I43,$BK$4:$BT$4,1,0)),0,1)),0))) -> 0 | BM43: =IF(OR(J$30="",J$4=99),1,IF(J43="",0,IFERROR(CHOOSE(BM$28,IF(ISNA(MATCH(J43,$BH$30:$BI$30,0)),0,1),IF(ISNUMBER(J43),1,0),IF(J43=TRUNC(J43),1,0),IF(AND(J43*1=J43,J43>=0),1,0),IF(AND(J43=TRUNC(J43),J43>=0),1,0),IF(AND(J43*1=J43,J43>0),1,0),IF(AND(J43=TRUNC(J43),J43>0),1,0),1,IF(ISNA(HLOOKUP(J43,$BK$4:$BT$4,1,0)),0,1)),0))) -> 1 | BN43: =IF(OR(K$30="",K$4=99),1,IF(K43="",0,IFERROR(CHOOSE(BN$28,IF(ISNA(MATCH(K43,$BH$30:$BI$30,0)),0,1),IF(ISNUMBER(K43),1,0),IF(K43=TRUNC(K43),1,0),IF(AND(K43*1=K43,K43>=0),1,0),IF(AND(K43=TRUNC(K43),K43>=0),1,0),IF(AND(K43*1=K43,K43>0),1,0),IF(AND(K43=TRUNC(K43),K43>0),1,0),1,IF(ISNA(HLOOKUP(K43,$BK$4:$BT$4,1,0)),0,1)),0))) -> 1 | BO43: =IF(OR(L$30="",L$4=99),1,IF(L43="",0,IFERROR(CHOOSE(BO$28,IF(ISNA(MATCH(L43,$BH$30:$BI$30,0)),0,1),IF(ISNUMBER(L43),1,0),IF(L43=TRUNC(L43),1,0),IF(AND(L43*1=L43,L43>=0),1,0),IF(AND(L43=TRUNC(L43),L43>=0),1,0),IF(AND(L43*1=L43,L43>0),1,0),IF(AND(L43=TRUNC(L43),L43>0),1,0),1,IF(ISNA(HLOOKUP(L43,$BK$4:$BT$4,1,0)),0,1)),0))) -> 0 | BP43: =IF(OR(M$30="",M$4=99),1,IF(M43="",0,IFERROR(CHOOSE(BP$28,IF(ISNA(MATCH(M43,$BH$30:$BI$30,0)),0,1),IF(ISNUMBER(M43),1,0),IF(M43=TRUNC(M43),1,0),IF(AND(M43*1=M43,M43>=0),1,0),IF(AND(M43=TRUNC(M43),M43>=0),1,0),IF(AND(M43*1=M43,M43>0),1,0),IF(AND(M43=TRUNC(M43),M43>0),1,0),1,IF(ISNA(HLOOKUP(M43,$BK$4:$BT$4,1,0)),0,1)),0))) -> 0 | BQ43: =IF(OR(N$30="",N$4=99),1,IF(N43="",0,IFERROR(CHOOSE(BQ$28,IF(ISNA(MATCH(N43,$BH$30:$BI$30,0)),0,1),IF(ISNUMBER(N43),1,0),IF(N43=TRUNC(N43),1,0),IF(AND(N43*1=N43,N43>=0),1,0),IF(AND(N43=TRUNC(N43),N43>=0),1,0),IF(AND(N43*1=N43,N43>0),1,0),IF(AND(N43=TRUNC(N43),N43>0),1,0),1,IF(ISNA(HLOOKUP(N43,$BK$4:$BT$4,1,0)),0,1)),0))) -> 0 | ... CN43: =IF(OR(AK$30="",AK$4=99),1,IF(AK43="",0,IFERROR(CHOOSE(CN$28,IF(ISNA(MATCH(AK43,$BH$30:$BI$30,0)),0,1),IF(ISNUMBER(AK43),1,0),IF(AK43=TRUNC(AK43),1,0),IF(AND(AK43*1=AK43,AK43>=0),1,0),IF(AND(AK43=TRUNC(AK43),AK43>=0),1,0),IF(AND(AK43*1=AK43,AK43>0),1,0),IF(AND(AK43=TRUNC(AK43),AK43>0),1,0),1,IF(ISNA(HLOOKUP(AK43,$BK$4:$BT$4,1,0)),0,1)),0))) -> 1 | CO43: =IF(OR(AL$30="",AM$4=99),1,IF(AL43="",0,IFERROR(CHOOSE(CO$28,IF(ISNA(MATCH(AL43,$BH$30:$BI$30,0)),0,1),IF(ISNUMBER(AL43),1,0),IF(AL43=TRUNC(AL43),1,0),IF(AND(AL43*1=AL43,AL43>=0),1,0),IF(AND(AL43=TRUNC(AL43),AL43>=0),1,0),IF(AND(AL43*1=AL43,AL43>0),1,0),IF(AND(AL43=TRUNC(AL43),AL43>0),1,0),1,IF(ISNA(HLOOKUP(AL43,$BK$4:$BT$4,1,0)),0,1)),0))) -> 1 | CP43: =IF(OR(AM$30="",AN$4=99),1,IF(AM43="",0,IFERROR(CHOOSE(CP$28,IF(ISNA(MATCH(AM43,$BH$30:$BI$30,0)),0,1),IF(ISNUMBER(AM43),1,0),IF(AM43=TRUNC(AM43),1,0),IF(AND(AM43*1=AM43,AM43>=0),1,0),IF(AND(AM43=TRUNC(AM43),AM43>=0),1,0),IF(AND(AM43*1=AM43,AM43>0),1,0),IF(AND(AM43=TRUNC(AM43),AM43>0),1,0),1,IF(ISNA(HLOOKUP(AM43,$BK$4:$BT$4,1,0)),0,1)),0))) -> 1 | CQ43: =IF(OR(AN$30="",AN$4=99),1,IF(AN43="",0,IFERROR(CHOOSE(CQ$28,IF(ISNA(MATCH(AN43,$BH$30:$BI$30,0)),0,1),IF(ISNUMBER(AN43),1,0),IF(AN43=TRUNC(AN43),1,0),IF(AND(AN43*1=AN43,AN43>=0),1,0),IF(AND(AN43=TRUNC(AN43),AN43>=0),1,0),IF(AND(AN43*1=AN43,AN43>0),1,0),IF(AND(AN43=TRUNC(AN43),AN43>0),1,0),1,IF(ISNA(HLOOKUP(AN43,$BK$4:$BT$4,1,0)),0,1)),0))) -> 1 | CR43: =IF(OR(AO$30="",AO$4=99),1,IF(AO43="",0,IFERROR(CHOOSE(CR$28,IF(ISNA(MATCH(AO43,$BH$30:$BI$30,0)),0,1),IF(ISNUMBER(AO43),1,0),IF(AO43=TRUNC(AO43),1,0),IF(AND(AO43*1=AO43,AO43>=0),1,0),IF(AND(AO43=TRUNC(AO43),AO43>=0),1,0),IF(AND(AO43*1=AO43,AO43>0),1,0),IF(AND(AO43=TRUNC(AO43),AO43>0),1,0),1,IF(ISNA(HLOOKUP(AO43,$BK$4:$BT$4,1,0)),0,1)),0))) -> 1 | CS43: =IF(OR(AP$30="",AP$4=99),1,IF(AP43="",0,IFERROR(CHOOSE(CS$28,IF(ISNA(MATCH(AP43,$BH$30:$BI$30,0)),0,1),IF(ISNUMBER(AP43),1,0),IF(AP43=TRUNC(AP43),1,0),IF(AND(AP43*1=AP43,AP43>=0),1,0),IF(AND(AP43=TRUNC(AP43),AP43>=0),1,0),IF(AND(AP43*1=AP43,AP43>0),1,0),IF(AND(AP43=TRUNC(AP43),AP43>0),1,0),1,IF(ISNA(HLOOKUP(AP43,$BK$4:$BT$4,1,0)),0,1)),0))) -> 1 | CT43: =IF(OR(AQ$30="",AQ$4=99),1,IF(AQ43="",0,IFERROR(CHOOSE(CT$28,IF(ISNA(MATCH(AQ43,$BH$30:$BI$30,0)),0,1),IF(ISNUMBER(AQ43),1,0),IF(AQ43=TRUNC(AQ43),1,0),IF(AND(AQ43*1=AQ43,AQ43>=0),1,0),IF(AND(AQ43=TRUNC(AQ43),AQ43>=0),1,0),IF(AND(AQ43*1=AQ43,AQ43>0),1,0),IF(AND(AQ43=TRUNC(AQ43),AQ43>0),1,0),1,IF(ISNA(HLOOKUP(AQ43,$BK$4:$BT$4,1,0)),0,1)),0))) -> 1 | CU43: =IF(OR(AR$30="",AR$4=99),1,IF(AR43="",0,IFERROR(CHOOSE(CU$28,IF(ISNA(MATCH(AR43,$BH$30:$BI$30,0)),0,1),IF(ISNUMBER(AR43),1,0),IF(AR43=TRUNC(AR43),1,0),IF(AND(AR43*1=AR43,AR43>=0),1,0),IF(AND(AR43=TRUNC(AR43),AR43>=0),1,0),IF(AND(AR43*1=AR43,AR43>0),1,0),IF(AND(AR43=TRUNC(AR43),AR43>0),1,0),1,IF(ISNA(HLOOKUP(AR43,$BK$4:$BT$4,1,0)),0,1)),0))) -> 1 | CV43: =IF(OR(AS$30="",AS$4=99),1,IF(AS43="",0,IFERROR(CHOOSE(CV$28,IF(ISNA(MATCH(AS43,$BH$30:$BI$30,0)),0,1),IF(ISNUMBER(AS43),1,0),IF(AS43=TRUNC(AS43),1,0),IF(AND(AS43*1=AS43,AS43>=0),1,0),IF(AND(AS43=TRUNC(AS43),AS43>=0),1,0),IF(AND(AS43*1=AS43,AS43>0),1,0),IF(AND(AS43=TRUNC(AS43),AS43>0),1,0),1,IF(ISNA(HLOOKUP(AS43,$BK$4:$BT$4,1,0)),0,1)),0))) -> 1 | CW43: =IF(OR(AT$30="",AT$4=99),1,IF(AT43="",0,IFERROR(CHOOSE(CW$28,IF(ISNA(MATCH(AT43,$BH$30:$BI$30,0)),0,1),IF(ISNUMBER(AT43),1,0),IF(AT43=TRUNC(AT43),1,0),IF(AND(AT43*1=AT43,AT43>=0),1,0),IF(AND(AT43=TRUNC(AT43),AT43>=0),1,0),IF(AND(AT43*1=AT43,AT43>0),1,0),IF(AND(AT43=TRUNC(AT43),AT43>0),1,0),1,IF(ISNA(HLOOKUP(AT43,$BK$4:$BT$4,1,0)),0,1)),0))) -> 0 | CX43: =IF(OR(AU$30="",AU$4=99),1,IF(AU43="",0,IFERROR(CHOOSE(CX$28,IF(ISNA(MATCH(AU43,$BH$30:$BI$30,0)),0,1),IF(ISNUMBER(AU43),1,0),IF(AU43=TRUNC(AU43),1,0),IF(AND(AU43*1=AU43,AU43>=0),1,0),IF(AND(AU43=TRUNC(AU43),AU43>=0),1,0),IF(AND(AU43*1=AU43,AU43>0),1,0),IF(AND(AU43=TRUNC(AU43),AU43>0),1,0),1,IF(ISNA(HLOOKUP(AU43,$BK$4:$BT$4,1,0)),0,1)),0))) -> 1 | ... DB43: =IF(OR(AY$30="",AY$4=99),1,IF(AY43="",0,IFERROR(CHOOSE(DB$28,IF(ISNA(MATCH(AY43,$BH$30:$BI$30,0)),0,1),IF(ISNUMBER(AY43),1,0),IF(AY43=TRUNC(AY43),1,0),IF(AND(AY43*1=AY43,AY43>=0),1,0),IF(AND(AY43=TRUNC(AY43),AY43>=0),1,0),IF(AND(AY43*1=AY43,AY43>0),1,0),IF(AND(AY43=TRUNC(AY43),AY43>0),1,0),1,IF(ISNA(HLOOKUP(AY43,$BK$4:$BT$4,1,0)),0,1)),0))) -> 0 | DC43: =IF(OR(BA$30="",BA$4=99),1,IF(BA43="",0,IFERROR(CHOOSE(DC$28,IF(ISNA(MATCH(BA43,$BH$30:$BI$30,0)),0,1),IF(ISNUMBER(BA43),1,0),IF(BA43=TRUNC(BA43),1,0),IF(AND(BA43*1=BA43,BA43>=0),1,0),IF(AND(BA43=TRUNC(BA43),BA43>=0),1,0),IF(AND(BA43*1=BA43,BA43>0),1,0),IF(AND(BA43=TRUNC(BA43),BA43>0),1,0),1,IF(ISNA(HLOOKUP(BA43,$BK$4:$BT$4,1,0)),0,1)),0))) -> 1 | DD43: =IF(OR(BB$30="",BB$4=99),1,IF(BB43="",0,IFERROR(CHOOSE(DD$28,IF(ISNA(MATCH(BB43,$BH$30:$BI$30,0)),0,1),IF(ISNUMBER(BB43),1,0),IF(BB43=TRUNC(BB43),1,0),IF(AND(BB43*1=BB43,BB43>=0),1,0),IF(AND(BB43=TRUNC(BB43),BB43>=0),1,0),IF(AND(BB43*1=BB43,BB43>0),1,0),IF(AND(BB43=TRUNC(BB43),BB43>0),1,0),1,IF(ISNA(HLOOKUP(BB43,$BK$4:$BT$4,1,0)),0,1)),0))) -> 1 | DE43: =IF(OR(BC$30="",BC$4=99),1,IF(BC43="",0,IFERROR(CHOOSE(DE$28,IF(ISNA(MATCH(BC43,$BH$30:$BI$30,0)),0,1),IF(ISNUMBER(BC43),1,0),IF(BC43=TRUNC(BC43),1,0),IF(AND(BC43*1=BC43,BC43>=0),1,0),IF(AND(BC43=TRUNC(BC43),BC43>=0),1,0),IF(AND(BC43*1=BC43,BC43>0),1,0),IF(AND(BC43=TRUNC(BC43),BC43>0),1,0),1,IF(ISNA(HLOOKUP(BC43,$BK$4:$BT$4,1,0)),0,1)),0))) -> 1 | DF43: =IF(OR(BD$30="",BD$4=99),1,IF(BD43="",0,IFERROR(CHOOSE(DF$28,IF(ISNA(MATCH(BD43,$BH$30:$BI$30,0)),0,1),IF(ISNUMBER(BD43),1,0),IF(BD43=TRUNC(BD43),1,0),IF(AND(BD43*1=BD43,BD43>=0),1,0),IF(AND(BD43=TRUNC(BD43),BD43>=0),1,0),IF(AND(BD43*1=BD43,BD43>0),1,0),IF(AND(BD43=TRUNC(BD43),BD43>0),1,0),1,IF(ISNA(HLOOKUP(BD43,$BK$4:$BT$4,1,0)),0,1)),0))) -> 1 | DG43: =IF(OR(BE$30="",BE$4=99),1,IF(BE43="",0,IFERROR(CHOOSE(DG$28,IF(ISNA(MATCH(BE43,$BH$30:$BI$30,0)),0,1),IF(ISNUMBER(BE43),1,0),IF(BE43=TRUNC(BE43),1,0),IF(AND(BE43*1=BE43,BE43>=0),1,0),IF(AND(BE43=TRUNC(BE43),BE43>=0),1,0),IF(AND(BE43*1=BE43,BE43>0),1,0),IF(AND(BE43=TRUNC(BE43),BE43>0),1,0),1,IF(ISNA(HLOOKUP(BE43,$BK$4:$BT$4,1,0)),0,1)),0))) -> 1 | DR43: =AQ43>=DB$7 -> FALSE | DS43: =AR43>=DC$7 -> FALSE | DT43: =AS43>=DD$7 -> FALSE | DX43: =COUNTIF(DR43:DW43,TRUE) -> 0 | DY43: =AQ43>=DI$7 -> FALSE | DZ43: =AR43>=DJ$7 -> FALSE | EA43: =AS43>=DK$7 -> FALSE | EE43: =COUNTIF(DY43:ED43,TRUE) -> 0 | EF43: =IF($F43="","",IF(DX43=$DC$5,1,0)) | EG43: =IF($F43="","",IF(AND(EE43=$DC$5,EE43-DX43<=$DJ$5),1,0))
B44: =IF(F44="","",ROW()-30) | S44: =IF(F44="","",IF(OR(O44=0,SUM(O44:R44)=4),1,0)) | AU44: =IF($F44="","",IF(OR(EF44=1,AND(COUNT(G44:AP44)=SUM(G44:AP44),EG44=1)),1,0)) | AW44: =IF($F44="","",IF(OR(AG44=0,AND(SUM(AH44:AP44)=COUNTA($AH$29:$AP$29),OR(AND(AV44=0,AU44=1,EG44=1),EF44=1))),1,0)) | BE44: {=IF($F44="","",IF(BA44=1,1,IF(BG44<>1,$BH$1,IF(SUMPRODUCT(--(G44:AZ44>=$G$5:$AZ$5)*($G$5:$AZ$5<>"")*($G$4:$AZ$4=1))=COUNTIF($G$4:$AZ$4,1),1,0))))} | BG44: =IF(OR(SUM(BJ44:DG44)<>COUNT(BJ44:DG44),SUMPRODUCT(--(G44:AY44=$BH$1))<>0),0,1) -> 0 | BH44: =IF($F44="","",BH$30) | BI44: =IF($F44="","",BI$30) | BJ44: =IF(OR(G$30="",G$4=99),1,IF(G44="",0,IFERROR(CHOOSE(BJ$28,IF(ISNA(MATCH(G44,$BH$30:$BI$30,0)),0,1),IF(ISNUMBER(G44),1,0),IF(G44=TRUNC(G44),1,0),IF(AND(G44*1=G44,G44>=0),1,0),IF(AND(G44=TRUNC(G44),G44>=0),1,0),IF(AND(G44*1=G44,G44>0),1,0),IF(AND(G44=TRUNC(G44),G44>0),1,0),1,IF(ISNA(HLOOKUP(G44,$BK$4:$BT$4,1,0)),0,1)),0))) -> 0 | BK44: =IF(OR(H$30="",H$4=99),1,IF(H44="",0,IFERROR(CHOOSE(BK$28,IF(ISNA(MATCH(H44,$BH$30:$BI$30,0)),0,1),IF(ISNUMBER(H44),1,0),IF(H44=TRUNC(H44),1,0),IF(AND(H44*1=H44,H44>=0),1,0),IF(AND(H44=TRUNC(H44),H44>=0),1,0),IF(AND(H44*1=H44,H44>0),1,0),IF(AND(H44=TRUNC(H44),H44>0),1,0),1,IF(ISNA(HLOOKUP(H44,$BK$4:$BT$4,1,0)),0,1)),0))) -> 0 | BL44: =IF(OR(I$30="",I$4=99),1,IF(I44="",0,IFERROR(CHOOSE(BL$28,IF(ISNA(MATCH(I44,$BH$30:$BI$30,0)),0,1),IF(ISNUMBER(I44),1,0),IF(I44=TRUNC(I44),1,0),IF(AND(I44*1=I44,I44>=0),1,0),IF(AND(I44=TRUNC(I44),I44>=0),1,0),IF(AND(I44*1=I44,I44>0),1,0),IF(AND(I44=TRUNC(I44),I44>0),1,0),1,IF(ISNA(HLOOKUP(I44,$BK$4:$BT$4,1,0)),0,1)),0))) -> 0 | BM44: =IF(OR(J$30="",J$4=99),1,IF(J44="",0,IFERROR(CHOOSE(BM$28,IF(ISNA(MATCH(J44,$BH$30:$BI$30,0)),0,1),IF(ISNUMBER(J44),1,0),IF(J44=TRUNC(J44),1,0),IF(AND(J44*1=J44,J44>=0),1,0),IF(AND(J44=TRUNC(J44),J44>=0),1,0),IF(AND(J44*1=J44,J44>0),1,0),IF(AND(J44=TRUNC(J44),J44>0),1,0),1,IF(ISNA(HLOOKUP(J44,$BK$4:$BT$4,1,0)),0,1)),0))) -> 1 | BN44: =IF(OR(K$30="",K$4=99),1,IF(K44="",0,IFERROR(CHOOSE(BN$28,IF(ISNA(MATCH(K44,$BH$30:$BI$30,0)),0,1),IF(ISNUMBER(K44),1,0),IF(K44=TRUNC(K44),1,0),IF(AND(K44*1=K44,K44>=0),1,0),IF(AND(K44=TRUNC(K44),K44>=0),1,0),IF(AND(K44*1=K44,K44>0),1,0),IF(AND(K44=TRUNC(K44),K44>0),1,0),1,IF(ISNA(HLOOKUP(K44,$BK$4:$BT$4,1,0)),0,1)),0))) -> 1 | BO44: =IF(OR(L$30="",L$4=99),1,IF(L44="",0,IFERROR(CHOOSE(BO$28,IF(ISNA(MATCH(L44,$BH$30:$BI$30,0)),0,1),IF(ISNUMBER(L44),1,0),IF(L44=TRUNC(L44),1,0),IF(AND(L44*1=L44,L44>=0),1,0),IF(AND(L44=TRUNC(L44),L44>=0),1,0),IF(AND(L44*1=L44,L44>0),1,0),IF(AND(L44=TRUNC(L44),L44>0),1,0),1,IF(ISNA(HLOOKUP(L44,$BK$4:$BT$4,1,0)),0,1)),0))) -> 0 | BP44: =IF(OR(M$30="",M$4=99),1,IF(M44="",0,IFERROR(CHOOSE(BP$28,IF(ISNA(MATCH(M44,$BH$30:$BI$30,0)),0,1),IF(ISNUMBER(M44),1,0),IF(M44=TRUNC(M44),1,0),IF(AND(M44*1=M44,M44>=0),1,0),IF(AND(M44=TRUNC(M44),M44>=0),1,0),IF(AND(M44*1=M44,M44>0),1,0),IF(AND(M44=TRUNC(M44),M44>0),1,0),1,IF(ISNA(HLOOKUP(M44,$BK$4:$BT$4,1,0)),0,1)),0))) -> 0 | BQ44: =IF(OR(N$30="",N$4=99),1,IF(N44="",0,IFERROR(CHOOSE(BQ$28,IF(ISNA(MATCH(N44,$BH$30:$BI$30,0)),0,1),IF(ISNUMBER(N44),1,0),IF(N44=TRUNC(N44),1,0),IF(AND(N44*1=N44,N44>=0),1,0),IF(AND(N44=TRUNC(N44),N44>=0),1,0),IF(AND(N44*1=N44,N44>0),1,0),IF(AND(N44=TRUNC(N44),N44>0),1,0),1,IF(ISNA(HLOOKUP(N44,$BK$4:$BT$4,1,0)),0,1)),0))) -> 0 | ... CN44: =IF(OR(AK$30="",AK$4=99),1,IF(AK44="",0,IFERROR(CHOOSE(CN$28,IF(ISNA(MATCH(AK44,$BH$30:$BI$30,0)),0,1),IF(ISNUMBER(AK44),1,0),IF(AK44=TRUNC(AK44),1,0),IF(AND(AK44*1=AK44,AK44>=0),1,0),IF(AND(AK44=TRUNC(AK44),AK44>=0),1,0),IF(AND(AK44*1=AK44,AK44>0),1,0),IF(AND(AK44=TRUNC(AK44),AK44>0),1,0),1,IF(ISNA(HLOOKUP(AK44,$BK$4:$BT$4,1,0)),0,1)),0))) -> 1 | CO44: =IF(OR(AL$30="",AM$4=99),1,IF(AL44="",0,IFERROR(CHOOSE(CO$28,IF(ISNA(MATCH(AL44,$BH$30:$BI$30,0)),0,1),IF(ISNUMBER(AL44),1,0),IF(AL44=TRUNC(AL44),1,0),IF(AND(AL44*1=AL44,AL44>=0),1,0),IF(AND(AL44=TRUNC(AL44),AL44>=0),1,0),IF(AND(AL44*1=AL44,AL44>0),1,0),IF(AND(AL44=TRUNC(AL44),AL44>0),1,0),1,IF(ISNA(HLOOKUP(AL44,$BK$4:$BT$4,1,0)),0,1)),0))) -> 1 | CP44: =IF(OR(AM$30="",AN$4=99),1,IF(AM44="",0,IFERROR(CHOOSE(CP$28,IF(ISNA(MATCH(AM44,$BH$30:$BI$30,0)),0,1),IF(ISNUMBER(AM44),1,0),IF(AM44=TRUNC(AM44),1,0),IF(AND(AM44*1=AM44,AM44>=0),1,0),IF(AND(AM44=TRUNC(AM44),AM44>=0),1,0),IF(AND(AM44*1=AM44,AM44>0),1,0),IF(AND(AM44=TRUNC(AM44),AM44>0),1,0),1,IF(ISNA(HLOOKUP(AM44,$BK$4:$BT$4,1,0)),0,1)),0))) -> 1 | CQ44: =IF(OR(AN$30="",AN$4=99),1,IF(AN44="",0,IFERROR(CHOOSE(CQ$28,IF(ISNA(MATCH(AN44,$BH$30:$BI$30,0)),0,1),IF(ISNUMBER(AN44),1,0),IF(AN44=TRUNC(AN44),1,0),IF(AND(AN44*1=AN44,AN44>=0),1,0),IF(AND(AN44=TRUNC(AN44),AN44>=0),1,0),IF(AND(AN44*1=AN44,AN44>0),1,0),IF(AND(AN44=TRUNC(AN44),AN44>0),1,0),1,IF(ISNA(HLOOKUP(AN44,$BK$4:$BT$4,1,0)),0,1)),0))) -> 1 | CR44: =IF(OR(AO$30="",AO$4=99),1,IF(AO44="",0,IFERROR(CHOOSE(CR$28,IF(ISNA(MATCH(AO44,$BH$30:$BI$30,0)),0,1),IF(ISNUMBER(AO44),1,0),IF(AO44=TRUNC(AO44),1,0),IF(AND(AO44*1=AO44,AO44>=0),1,0),IF(AND(AO44=TRUNC(AO44),AO44>=0),1,0),IF(AND(AO44*1=AO44,AO44>0),1,0),IF(AND(AO44=TRUNC(AO44),AO44>0),1,0),1,IF(ISNA(HLOOKUP(AO44,$BK$4:$BT$4,1,0)),0,1)),0))) -> 1 | CS44: =IF(OR(AP$30="",AP$4=99),1,IF(AP44="",0,IFERROR(CHOOSE(CS$28,IF(ISNA(MATCH(AP44,$BH$30:$BI$30,0)),0,1),IF(ISNUMBER(AP44),1,0),IF(AP44=TRUNC(AP44),1,0),IF(AND(AP44*1=AP44,AP44>=0),1,0),IF(AND(AP44=TRUNC(AP44),AP44>=0),1,0),IF(AND(AP44*1=AP44,AP44>0),1,0),IF(AND(AP44=TRUNC(AP44),AP44>0),1,0),1,IF(ISNA(HLOOKUP(AP44,$BK$4:$BT$4,1,0)),0,1)),0))) -> 1 | CT44: =IF(OR(AQ$30="",AQ$4=99),1,IF(AQ44="",0,IFERROR(CHOOSE(CT$28,IF(ISNA(MATCH(AQ44,$BH$30:$BI$30,0)),0,1),IF(ISNUMBER(AQ44),1,0),IF(AQ44=TRUNC(AQ44),1,0),IF(AND(AQ44*1=AQ44,AQ44>=0),1,0),IF(AND(AQ44=TRUNC(AQ44),AQ44>=0),1,0),IF(AND(AQ44*1=AQ44,AQ44>0),1,0),IF(AND(AQ44=TRUNC(AQ44),AQ44>0),1,0),1,IF(ISNA(HLOOKUP(AQ44,$BK$4:$BT$4,1,0)),0,1)),0))) -> 1 | CU44: =IF(OR(AR$30="",AR$4=99),1,IF(AR44="",0,IFERROR(CHOOSE(CU$28,IF(ISNA(MATCH(AR44,$BH$30:$BI$30,0)),0,1),IF(ISNUMBER(AR44),1,0),IF(AR44=TRUNC(AR44),1,0),IF(AND(AR44*1=AR44,AR44>=0),1,0),IF(AND(AR44=TRUNC(AR44),AR44>=0),1,0),IF(AND(AR44*1=AR44,AR44>0),1,0),IF(AND(AR44=TRUNC(AR44),AR44>0),1,0),1,IF(ISNA(HLOOKUP(AR44,$BK$4:$BT$4,1,0)),0,1)),0))) -> 1 | CV44: =IF(OR(AS$30="",AS$4=99),1,IF(AS44="",0,IFERROR(CHOOSE(CV$28,IF(ISNA(MATCH(AS44,$BH$30:$BI$30,0)),0,1),IF(ISNUMBER(AS44),1,0),IF(AS44=TRUNC(AS44),1,0),IF(AND(AS44*1=AS44,AS44>=0),1,0),IF(AND(AS44=TRUNC(AS44),AS44>=0),1,0),IF(AND(AS44*1=AS44,AS44>0),1,0),IF(AND(AS44=TRUNC(AS44),AS44>0),1,0),1,IF(ISNA(HLOOKUP(AS44,$BK$4:$BT$4,1,0)),0,1)),0))) -> 1 | CW44: =IF(OR(AT$30="",AT$4=99),1,IF(AT44="",0,IFERROR(CHOOSE(CW$28,IF(ISNA(MATCH(AT44,$BH$30:$BI$30,0)),0,1),IF(ISNUMBER(AT44),1,0),IF(AT44=TRUNC(AT44),1,0),IF(AND(AT44*1=AT44,AT44>=0),1,0),IF(AND(AT44=TRUNC(AT44),AT44>=0),1,0),IF(AND(AT44*1=AT44,AT44>0),1,0),IF(AND(AT44=TRUNC(AT44),AT44>0),1,0),1,IF(ISNA(HLOOKUP(AT44,$BK$4:$BT$4,1,0)),0,1)),0))) -> 0 | CX44: =IF(OR(AU$30="",AU$4=99),1,IF(AU44="",0,IFERROR(CHOOSE(CX$28,IF(ISNA(MATCH(AU44,$BH$30:$BI$30,0)),0,1),IF(ISNUMBER(AU44),1,0),IF(AU44=TRUNC(AU44),1,0),IF(AND(AU44*1=AU44,AU44>=0),1,0),IF(AND(AU44=TRUNC(AU44),AU44>=0),1,0),IF(AND(AU44*1=AU44,AU44>0),1,0),IF(AND(AU44=TRUNC(AU44),AU44>0),1,0),1,IF(ISNA(HLOOKUP(AU44,$BK$4:$BT$4,1,0)),0,1)),0))) -> 1 | ... DB44: =IF(OR(AY$30="",AY$4=99),1,IF(AY44="",0,IFERROR(CHOOSE(DB$28,IF(ISNA(MATCH(AY44,$BH$30:$BI$30,0)),0,1),IF(ISNUMBER(AY44),1,0),IF(AY44=TRUNC(AY44),1,0),IF(AND(AY44*1=AY44,AY44>=0),1,0),IF(AND(AY44=TRUNC(AY44),AY44>=0),1,0),IF(AND(AY44*1=AY44,AY44>0),1,0),IF(AND(AY44=TRUNC(AY44),AY44>0),1,0),1,IF(ISNA(HLOOKUP(AY44,$BK$4:$BT$4,1,0)),0,1)),0))) -> 0 | DC44: =IF(OR(BA$30="",BA$4=99),1,IF(BA44="",0,IFERROR(CHOOSE(DC$28,IF(ISNA(MATCH(BA44,$BH$30:$BI$30,0)),0,1),IF(ISNUMBER(BA44),1,0),IF(BA44=TRUNC(BA44),1,0),IF(AND(BA44*1=BA44,BA44>=0),1,0),IF(AND(BA44=TRUNC(BA44),BA44>=0),1,0),IF(AND(BA44*1=BA44,BA44>0),1,0),IF(AND(BA44=TRUNC(BA44),BA44>0),1,0),1,IF(ISNA(HLOOKUP(BA44,$BK$4:$BT$4,1,0)),0,1)),0))) -> 1 | DD44: =IF(OR(BB$30="",BB$4=99),1,IF(BB44="",0,IFERROR(CHOOSE(DD$28,IF(ISNA(MATCH(BB44,$BH$30:$BI$30,0)),0,1),IF(ISNUMBER(BB44),1,0),IF(BB44=TRUNC(BB44),1,0),IF(AND(BB44*1=BB44,BB44>=0),1,0),IF(AND(BB44=TRUNC(BB44),BB44>=0),1,0),IF(AND(BB44*1=BB44,BB44>0),1,0),IF(AND(BB44=TRUNC(BB44),BB44>0),1,0),1,IF(ISNA(HLOOKUP(BB44,$BK$4:$BT$4,1,0)),0,1)),0))) -> 1 | DE44: =IF(OR(BC$30="",BC$4=99),1,IF(BC44="",0,IFERROR(CHOOSE(DE$28,IF(ISNA(MATCH(BC44,$BH$30:$BI$30,0)),0,1),IF(ISNUMBER(BC44),1,0),IF(BC44=TRUNC(BC44),1,0),IF(AND(BC44*1=BC44,BC44>=0),1,0),IF(AND(BC44=TRUNC(BC44),BC44>=0),1,0),IF(AND(BC44*1=BC44,BC44>0),1,0),IF(AND(BC44=TRUNC(BC44),BC44>0),1,0),1,IF(ISNA(HLOOKUP(BC44,$BK$4:$BT$4,1,0)),0,1)),0))) -> 1 | DF44: =IF(OR(BD$30="",BD$4=99),1,IF(BD44="",0,IFERROR(CHOOSE(DF$28,IF(ISNA(MATCH(BD44,$BH$30:$BI$30,0)),0,1),IF(ISNUMBER(BD44),1,0),IF(BD44=TRUNC(BD44),1,0),IF(AND(BD44*1=BD44,BD44>=0),1,0),IF(AND(BD44=TRUNC(BD44),BD44>=0),1,0),IF(AND(BD44*1=BD44,BD44>0),1,0),IF(AND(BD44=TRUNC(BD44),BD44>0),1,0),1,IF(ISNA(HLOOKUP(BD44,$BK$4:$BT$4,1,0)),0,1)),0))) -> 1 | DG44: =IF(OR(BE$30="",BE$4=99),1,IF(BE44="",0,IFERROR(CHOOSE(DG$28,IF(ISNA(MATCH(BE44,$BH$30:$BI$30,0)),0,1),IF(ISNUMBER(BE44),1,0),IF(BE44=TRUNC(BE44),1,0),IF(AND(BE44*1=BE44,BE44>=0),1,0),IF(AND(BE44=TRUNC(BE44),BE44>=0),1,0),IF(AND(BE44*1=BE44,BE44>0),1,0),IF(AND(BE44=TRUNC(BE44),BE44>0),1,0),1,IF(ISNA(HLOOKUP(BE44,$BK$4:$BT$4,1,0)),0,1)),0))) -> 1 | DR44: =AQ44>=DB$7 -> FALSE | DS44: =AR44>=DC$7 -> FALSE | DT44: =AS44>=DD$7 -> FALSE | DX44: =COUNTIF(DR44:DW44,TRUE) -> 0 | DY44: =AQ44>=DI$7 -> FALSE | DZ44: =AR44>=DJ$7 -> FALSE | EA44: =AS44>=DK$7 -> FALSE | EE44: =COUNTIF(DY44:ED44,TRUE) -> 0 | EF44: =IF($F44="","",IF(DX44=$DC$5,1,0)) | EG44: =IF($F44="","",IF(AND(EE44=$DC$5,EE44-DX44<=$DJ$5),1,0))
B45: =IF(F45="","",ROW()-30) -> 15 | F45: עמותת מקהלות מורן - סדנת מנצחים צעירים | G45: 1 | H45: 1 | I45: 0 | J45: 1 | K45: 1 | L45: 1 | M45: 1 | N45: 1 | O45: 0 | P45: 0 | Q45: 0 | R45: 0 | S45: =IF(F45="","",IF(OR(O45=0,SUM(O45:R45)=4),1,0)) -> 1 | T45: 1 | U45: 1 | V45: 1 | W45: 1 | X45: 1 | Y45: 1 | Z45: 1 | AA45: 1 | AB45: 1 | AC45: 1 | AD45: 1 | AE45: 1 | AF45: 0 | AG45: 0 | AT45: 81000 | AU45: =IF($F45="","",IF(OR(EF45=1,AND(COUNT(G45:AP45)=SUM(G45:AP45),EG45=1)),1,0)) -> 0 | AV45: 0 | AW45: =IF($F45="","",IF(OR(AG45=0,AND(SUM(AH45:AP45)=COUNTA($AH$29:$AP$29),OR(AND(AV45=0,AU45=1,EG45=1),EF45=1))),1,0)) -> 1 | AX45: 1 | AY45: 1 | AZ45: 1 | BA45: 0 | BE45: {=IF($F45="","",IF(BA45=1,1,IF(BG45<>1,$BH$1,IF(SUMPRODUCT(--(G45:AZ45>=$G$5:$AZ$5)*($G$5:$AZ$5<>"")*($G$4:$AZ$4=1))=COUNTIF($G$4:$AZ$4,1),1,0))))} -> 0 | BF45: נדחה - לא עומד בסעיף 12(א)(6) - אינו בעל חשיבות וברמה מקצועית נאותה ע"פ המלצת המדור | BG45: =IF(OR(SUM(BJ45:DG45)<>COUNT(BJ45:DG45),SUMPRODUCT(--(G45:AY45=$BH$1))<>0),0,1) -> 1 | BH45: =IF($F45="","",BH$30) -> 0 | BI45: =IF($F45="","",BI$30) -> 1 | BJ45: =IF(OR(G$30="",G$4=99),1,IF(G45="",0,IFERROR(CHOOSE(BJ$28,IF(ISNA(MATCH(G45,$BH$30:$BI$30,0)),0,1),IF(ISNUMBER(G45),1,0),IF(G45=TRUNC(G45),1,0),IF(AND(G45*1=G45,G45>=0),1,0),IF(AND(G45=TRUNC(G45),G45>=0),1,0),IF(AND(G45*1=G45,G45>0),1,0),IF(AND(G45=TRUNC(G45),G45>0),1,0),1,IF(ISNA(HLOOKUP(G45,$BK$4:$BT$4,1,0)),0,1)),0))) -> 1 | BK45: =IF(OR(H$30="",H$4=99),1,IF(H45="",0,IFERROR(CHOOSE(BK$28,IF(ISNA(MATCH(H45,$BH$30:$BI$30,0)),0,1),IF(ISNUMBER(H45),1,0),IF(H45=TRUNC(H45),1,0),IF(AND(H45*1=H45,H45>=0),1,0),IF(AND(H45=TRUNC(H45),H45>=0),1,0),IF(AND(H45*1=H45,H45>0),1,0),IF(AND(H45=TRUNC(H45),H45>0),1,0),1,IF(ISNA(HLOOKUP(H45,$BK$4:$BT$4,1,0)),0,1)),0))) -> 1 | BL45: =IF(OR(I$30="",I$4=99),1,IF(I45="",0,IFERROR(CHOOSE(BL$28,IF(ISNA(MATCH(I45,$BH$30:$BI$30,0)),0,1),IF(ISNUMBER(I45),1,0),IF(I45=TRUNC(I45),1,0),IF(AND(I45*1=I45,I45>=0),1,0),IF(AND(I45=TRUNC(I45),I45>=0),1,0),IF(AND(I45*1=I45,I45>0),1,0),IF(AND(I45=TRUNC(I45),I45>0),1,0),1,IF(ISNA(HLOOKUP(I45,$BK$4:$BT$4,1,0)),0,1)),0))) -> 1 | BM45: =IF(OR(J$30="",J$4=99),1,IF(J45="",0,IFERROR(CHOOSE(BM$28,IF(ISNA(MATCH(J45,$BH$30:$BI$30,0)),0,1),IF(ISNUMBER(J45),1,0),IF(J45=TRUNC(J45),1,0),IF(AND(J45*1=J45,J45>=0),1,0),IF(AND(J45=TRUNC(J45),J45>=0),1,0),IF(AND(J45*1=J45,J45>0),1,0),IF(AND(J45=TRUNC(J45),J45>0),1,0),1,IF(ISNA(HLOOKUP(J45,$BK$4:$BT$4,1,0)),0,1)),0))) -> 1 | BN45: =IF(OR(K$30="",K$4=99),1,IF(K45="",0,IFERROR(CHOOSE(BN$28,IF(ISNA(MATCH(K45,$BH$30:$BI$30,0)),0,1),IF(ISNUMBER(K45),1,0),IF(K45=TRUNC(K45),1,0),IF(AND(K45*1=K45,K45>=0),1,0),IF(AND(K45=TRUNC(K45),K45>=0),1,0),IF(AND(K45*1=K45,K45>0),1,0),IF(AND(K45=TRUNC(K45),K45>0),1,0),1,IF(ISNA(HLOOKUP(K45,$BK$4:$BT$4,1,0)),0,1)),0))) -> 1 | BO45: =IF(OR(L$30="",L$4=99),1,IF(L45="",0,IFERROR(CHOOSE(BO$28,IF(ISNA(MATCH(L45,$BH$30:$BI$30,0)),0,1),IF(ISNUMBER(L45),1,0),IF(L45=TRUNC(L45),1,0),IF(AND(L45*1=L45,L45>=0),1,0),IF(AND(L45=TRUNC(L45),L45>=0),1,0),IF(AND(L45*1=L45,L45>0),1,0),IF(AND(L45=TRUNC(L45),L45>0),1,0),1,IF(ISNA(HLOOKUP(L45,$BK$4:$BT$4,1,0)),0,1)),0))) -> 1 | BP45: =IF(OR(M$30="",M$4=99),1,IF(M45="",0,IFERROR(CHOOSE(BP$28,IF(ISNA(MATCH(M45,$BH$30:$BI$30,0)),0,1),IF(ISNUMBER(M45),1,0),IF(M45=TRUNC(M45),1,0),IF(AND(M45*1=M45,M45>=0),1,0),IF(AND(M45=TRUNC(M45),M45>=0),1,0),IF(AND(M45*1=M45,M45>0),1,0),IF(AND(M45=TRUNC(M45),M45>0),1,0),1,IF(ISNA(HLOOKUP(M45,$BK$4:$BT$4,1,0)),0,1)),0))) -> 1 | BQ45: =IF(OR(N$30="",N$4=99),1,IF(N45="",0,IFERROR(CHOOSE(BQ$28,IF(ISNA(MATCH(N45,$BH$30:$BI$30,0)),0,1),IF(ISNUMBER(N45),1,0),IF(N45=TRUNC(N45),1,0),IF(AND(N45*1=N45,N45>=0),1,0),IF(AND(N45=TRUNC(N45),N45>=0),1,0),IF(AND(N45*1=N45,N45>0),1,0),IF(AND(N45=TRUNC(N45),N45>0),1,0),1,IF(ISNA(HLOOKUP(N45,$BK$4:$BT$4,1,0)),0,1)),0))) -> 1 | ... CN45: =IF(OR(AK$30="",AK$4=99),1,IF(AK45="",0,IFERROR(CHOOSE(CN$28,IF(ISNA(MATCH(AK45,$BH$30:$BI$30,0)),0,1),IF(ISNUMBER(AK45),1,0),IF(AK45=TRUNC(AK45),1,0),IF(AND(AK45*1=AK45,AK45>=0),1,0),IF(AND(AK45=TRUNC(AK45),AK45>=0),1,0),IF(AND(AK45*1=AK45,AK45>0),1,0),IF(AND(AK45=TRUNC(AK45),AK45>0),1,0),1,IF(ISNA(HLOOKUP(AK45,$BK$4:$BT$4,1,0)),0,1)),0))) -> 1 | CO45: =IF(OR(AL$30="",AM$4=99),1,IF(AL45="",0,IFERROR(CHOOSE(CO$28,IF(ISNA(MATCH(AL45,$BH$30:$BI$30,0)),0,1),IF(ISNUMBER(AL45),1,0),IF(AL45=TRUNC(AL45),1,0),IF(AND(AL45*1=AL45,AL45>=0),1,0),IF(AND(AL45=TRUNC(AL45),AL45>=0),1,0),IF(AND(AL45*1=AL45,AL45>0),1,0),IF(AND(AL45=TRUNC(AL45),AL45>0),1,0),1,IF(ISNA(HLOOKUP(AL45,$BK$4:$BT$4,1,0)),0,1)),0))) -> 1 | CP45: =IF(OR(AM$30="",AN$4=99),1,IF(AM45="",0,IFERROR(CHOOSE(CP$28,IF(ISNA(MATCH(AM45,$BH$30:$BI$30,0)),0,1),IF(ISNUMBER(AM45),1,0),IF(AM45=TRUNC(AM45),1,0),IF(AND(AM45*1=AM45,AM45>=0),1,0),IF(AND(AM45=TRUNC(AM45),AM45>=0),1,0),IF(AND(AM45*1=AM45,AM45>0),1,0),IF(AND(AM45=TRUNC(AM45),AM45>0),1,0),1,IF(ISNA(HLOOKUP(AM45,$BK$4:$BT$4,1,0)),0,1)),0))) -> 1 | CQ45: =IF(OR(AN$30="",AN$4=99),1,IF(AN45="",0,IFERROR(CHOOSE(CQ$28,IF(ISNA(MATCH(AN45,$BH$30:$BI$30,0)),0,1),IF(ISNUMBER(AN45),1,0),IF(AN45=TRUNC(AN45),1,0),IF(AND(AN45*1=AN45,AN45>=0),1,0),IF(AND(AN45=TRUNC(AN45),AN45>=0),1,0),IF(AND(AN45*1=AN45,AN45>0),1,0),IF(AND(AN45=TRUNC(AN45),AN45>0),1,0),1,IF(ISNA(HLOOKUP(AN45,$BK$4:$BT$4,1,0)),0,1)),0))) -> 1 | CR45: =IF(OR(AO$30="",AO$4=99),1,IF(AO45="",0,IFERROR(CHOOSE(CR$28,IF(ISNA(MATCH(AO45,$BH$30:$BI$30,0)),0,1),IF(ISNUMBER(AO45),1,0),IF(AO45=TRUNC(AO45),1,0),IF(AND(AO45*1=AO45,AO45>=0),1,0),IF(AND(AO45=TRUNC(AO45),AO45>=0),1,0),IF(AND(AO45*1=AO45,AO45>0),1,0),IF(AND(AO45=TRUNC(AO45),AO45>0),1,0),1,IF(ISNA(HLOOKUP(AO45,$BK$4:$BT$4,1,0)),0,1)),0))) -> 1 | CS45: =IF(OR(AP$30="",AP$4=99),1,IF(AP45="",0,IFERROR(CHOOSE(CS$28,IF(ISNA(MATCH(AP45,$BH$30:$BI$30,0)),0,1),IF(ISNUMBER(AP45),1,0),IF(AP45=TRUNC(AP45),1,0),IF(AND(AP45*1=AP45,AP45>=0),1,0),IF(AND(AP45=TRUNC(AP45),AP45>=0),1,0),IF(AND(AP45*1=AP45,AP45>0),1,0),IF(AND(AP45=TRUNC(AP45),AP45>0),1,0),1,IF(ISNA(HLOOKUP(AP45,$BK$4:$BT$4,1,0)),0,1)),0))) -> 1 | CT45: =IF(OR(AQ$30="",AQ$4=99),1,IF(AQ45="",0,IFERROR(CHOOSE(CT$28,IF(ISNA(MATCH(AQ45,$BH$30:$BI$30,0)),0,1),IF(ISNUMBER(AQ45),1,0),IF(AQ45=TRUNC(AQ45),1,0),IF(AND(AQ45*1=AQ45,AQ45>=0),1,0),IF(AND(AQ45=TRUNC(AQ45),AQ45>=0),1,0),IF(AND(AQ45*1=AQ45,AQ45>0),1,0),IF(AND(AQ45=TRUNC(AQ45),AQ45>0),1,0),1,IF(ISNA(HLOOKUP(AQ45,$BK$4:$BT$4,1,0)),0,1)),0))) -> 1 | CU45: =IF(OR(AR$30="",AR$4=99),1,IF(AR45="",0,IFERROR(CHOOSE(CU$28,IF(ISNA(MATCH(AR45,$BH$30:$BI$30,0)),0,1),IF(ISNUMBER(AR45),1,0),IF(AR45=TRUNC(AR45),1,0),IF(AND(AR45*1=AR45,AR45>=0),1,0),IF(AND(AR45=TRUNC(AR45),AR45>=0),1,0),IF(AND(AR45*1=AR45,AR45>0),1,0),IF(AND(AR45=TRUNC(AR45),AR45>0),1,0),1,IF(ISNA(HLOOKUP(AR45,$BK$4:$BT$4,1,0)),0,1)),0))) -> 1 | CV45: =IF(OR(AS$30="",AS$4=99),1,IF(AS45="",0,IFERROR(CHOOSE(CV$28,IF(ISNA(MATCH(AS45,$BH$30:$BI$30,0)),0,1),IF(ISNUMBER(AS45),1,0),IF(AS45=TRUNC(AS45),1,0),IF(AND(AS45*1=AS45,AS45>=0),1,0),IF(AND(AS45=TRUNC(AS45),AS45>=0),1,0),IF(AND(AS45*1=AS45,AS45>0),1,0),IF(AND(AS45=TRUNC(AS45),AS45>0),1,0),1,IF(ISNA(HLOOKUP(AS45,$BK$4:$BT$4,1,0)),0,1)),0))) -> 1 | CW45: =IF(OR(AT$30="",AT$4=99),1,IF(AT45="",0,IFERROR(CHOOSE(CW$28,IF(ISNA(MATCH(AT45,$BH$30:$BI$30,0)),0,1),IF(ISNUMBER(AT45),1,0),IF(AT45=TRUNC(AT45),1,0),IF(AND(AT45*1=AT45,AT45>=0),1,0),IF(AND(AT45=TRUNC(AT45),AT45>=0),1,0),IF(AND(AT45*1=AT45,AT45>0),1,0),IF(AND(AT45=TRUNC(AT45),AT45>0),1,0),1,IF(ISNA(HLOOKUP(AT45,$BK$4:$BT$4,1,0)),0,1)),0))) -> 1 | CX45: =IF(OR(AU$30="",AU$4=99),1,IF(AU45="",0,IFERROR(CHOOSE(CX$28,IF(ISNA(MATCH(AU45,$BH$30:$BI$30,0)),0,1),IF(ISNUMBER(AU45),1,0),IF(AU45=TRUNC(AU45),1,0),IF(AND(AU45*1=AU45,AU45>=0),1,0),IF(AND(AU45=TRUNC(AU45),AU45>=0),1,0),IF(AND(AU45*1=AU45,AU45>0),1,0),IF(AND(AU45=TRUNC(AU45),AU45>0),1,0),1,IF(ISNA(HLOOKUP(AU45,$BK$4:$BT$4,1,0)),0,1)),0))) -> 1 | ... DB45: =IF(OR(AY$30="",AY$4=99),1,IF(AY45="",0,IFERROR(CHOOSE(DB$28,IF(ISNA(MATCH(AY45,$BH$30:$BI$30,0)),0,1),IF(ISNUMBER(AY45),1,0),IF(AY45=TRUNC(AY45),1,0),IF(AND(AY45*1=AY45,AY45>=0),1,0),IF(AND(AY45=TRUNC(AY45),AY45>=0),1,0),IF(AND(AY45*1=AY45,AY45>0),1,0),IF(AND(AY45=TRUNC(AY45),AY45>0),1,0),1,IF(ISNA(HLOOKUP(AY45,$BK$4:$BT$4,1,0)),0,1)),0))) -> 1 | DC45: =IF(OR(BA$30="",BA$4=99),1,IF(BA45="",0,IFERROR(CHOOSE(DC$28,IF(ISNA(MATCH(BA45,$BH$30:$BI$30,0)),0,1),IF(ISNUMBER(BA45),1,0),IF(BA45=TRUNC(BA45),1,0),IF(AND(BA45*1=BA45,BA45>=0),1,0),IF(AND(BA45=TRUNC(BA45),BA45>=0),1,0),IF(AND(BA45*1=BA45,BA45>0),1,0),IF(AND(BA45=TRUNC(BA45),BA45>0),1,0),1,IF(ISNA(HLOOKUP(BA45,$BK$4:$BT$4,1,0)),0,1)),0))) -> 1 | DD45: =IF(OR(BB$30="",BB$4=99),1,IF(BB45="",0,IFERROR(CHOOSE(DD$28,IF(ISNA(MATCH(BB45,$BH$30:$BI$30,0)),0,1),IF(ISNUMBER(BB45),1,0),IF(BB45=TRUNC(BB45),1,0),IF(AND(BB45*1=BB45,BB45>=0),1,0),IF(AND(BB45=TRUNC(BB45),BB45>=0),1,0),IF(AND(BB45*1=BB45,BB45>0),1,0),IF(AND(BB45=TRUNC(BB45),BB45>0),1,0),1,IF(ISNA(HLOOKUP(BB45,$BK$4:$BT$4,1,0)),0,1)),0))) -> 1 | DE45: =IF(OR(BC$30="",BC$4=99),1,IF(BC45="",0,IFERROR(CHOOSE(DE$28,IF(ISNA(MATCH(BC45,$BH$30:$BI$30,0)),0,1),IF(ISNUMBER(BC45),1,0),IF(BC45=TRUNC(BC45),1,0),IF(AND(BC45*1=BC45,BC45>=0),1,0),IF(AND(BC45=TRUNC(BC45),BC45>=0),1,0),IF(AND(BC45*1=BC45,BC45>0),1,0),IF(AND(BC45=TRUNC(BC45),BC45>0),1,0),1,IF(ISNA(HLOOKUP(BC45,$BK$4:$BT$4,1,0)),0,1)),0))) -> 1 | DF45: =IF(OR(BD$30="",BD$4=99),1,IF(BD45="",0,IFERROR(CHOOSE(DF$28,IF(ISNA(MATCH(BD45,$BH$30:$BI$30,0)),0,1),IF(ISNUMBER(BD45),1,0),IF(BD45=TRUNC(BD45),1,0),IF(AND(BD45*1=BD45,BD45>=0),1,0),IF(AND(BD45=TRUNC(BD45),BD45>=0),1,0),IF(AND(BD45*1=BD45,BD45>0),1,0),IF(AND(BD45=TRUNC(BD45),BD45>0),1,0),1,IF(ISNA(HLOOKUP(BD45,$BK$4:$BT$4,1,0)),0,1)),0))) -> 1 | DG45: =IF(OR(BE$30="",BE$4=99),1,IF(BE45="",0,IFERROR(CHOOSE(DG$28,IF(ISNA(MATCH(BE45,$BH$30:$BI$30,0)),0,1),IF(ISNUMBER(BE45),1,0),IF(BE45=TRUNC(BE45),1,0),IF(AND(BE45*1=BE45,BE45>=0),1,0),IF(AND(BE45=TRUNC(BE45),BE45>=0),1,0),IF(AND(BE45*1=BE45,BE45>0),1,0),IF(AND(BE45=TRUNC(BE45),BE45>0),1,0),1,IF(ISNA(HLOOKUP(BE45,$BK$4:$BT$4,1,0)),0,1)),0))) -> 1 | DR45: =AQ45>=DB$7 -> FALSE | DS45: =AR45>=DC$7 -> FALSE | DT45: =AS45>=DD$7 -> FALSE | DX45: =COUNTIF(DR45:DW45,TRUE) -> 0 | DY45: =AQ45>=DI$7 -> FALSE | DZ45: =AR45>=DJ$7 -> FALSE | EA45: =AS45>=DK$7 -> FALSE | EE45: =COUNTIF(DY45:ED45,TRUE) -> 0 | EF45: =IF($F45="","",IF(DX45=$DC$5,1,0)) -> 0 | EG45: =IF($F45="","",IF(AND(EE45=$DC$5,EE45-DX45<=$DJ$5),1,0)) -> 0
B46: =IF(F46="","",ROW()-30) -> 16 | F46: תמוז - 98 - אופרה זעירה | G46: 1 | H46: 1 | I46: 1 | J46: 0 | K46: 1 | L46: 1 | M46: 1 | N46: 1 | O46: 0 | P46: 0 | Q46: 0 | R46: 0 | S46: =IF(F46="","",IF(OR(O46=0,SUM(O46:R46)=4),1,0)) -> 1 | T46: 1 | U46: 1 | V46: 1 | W46: 1 | X46: 1 | Y46: 1 | Z46: 1 | AA46: 1 | AB46: 1 | AC46: 1 | AD46: 1 | AE46: 1 | AF46: 1 | AG46: 0 | AT46: 90000 | AU46: =IF($F46="","",IF(OR(EF46=1,AND(COUNT(G46:AP46)=SUM(G46:AP46),EG46=1)),1,0)) -> 0 | AV46: 0 | AW46: =IF($F46="","",IF(OR(AG46=0,AND(SUM(AH46:AP46)=COUNTA($AH$29:$AP$29),OR(AND(AV46=0,AU46=1,EG46=1),EF46=1))),1,0)) -> 1 | AX46: 1 | AY46: 1 | AZ46: 1 | BA46: 0 | BE46: {=IF($F46="","",IF(BA46=1,1,IF(BG46<>1,$BH$1,IF(SUMPRODUCT(--(G46:AZ46>=$G$5:$AZ$5)*($G$5:$AZ$5<>"")*($G$4:$AZ$4=1))=COUNTIF($G$4:$AZ$4,1),1,0))))} -> 1 | BF46: מומלץ לתמיכה עפ"י מבחן התמיכה - תחום ד'. הוגשה הצעת תקציב בסך 90,000 ₪. עפ"י המלצת המדור אושרו הוצאות התקציב המבוקש. | BG46: =IF(OR(SUM(BJ46:DG46)<>COUNT(BJ46:DG46),SUMPRODUCT(--(G46:AY46=$BH$1))<>0),0,1) -> 1 | BH46: =IF($F46="","",BH$30) -> 0 | BI46: =IF($F46="","",BI$30) -> 1 | BJ46: =IF(OR(G$30="",G$4=99),1,IF(G46="",0,IFERROR(CHOOSE(BJ$28,IF(ISNA(MATCH(G46,$BH$30:$BI$30,0)),0,1),IF(ISNUMBER(G46),1,0),IF(G46=TRUNC(G46),1,0),IF(AND(G46*1=G46,G46>=0),1,0),IF(AND(G46=TRUNC(G46),G46>=0),1,0),IF(AND(G46*1=G46,G46>0),1,0),IF(AND(G46=TRUNC(G46),G46>0),1,0),1,IF(ISNA(HLOOKUP(G46,$BK$4:$BT$4,1,0)),0,1)),0))) -> 1 | BK46: =IF(OR(H$30="",H$4=99),1,IF(H46="",0,IFERROR(CHOOSE(BK$28,IF(ISNA(MATCH(H46,$BH$30:$BI$30,0)),0,1),IF(ISNUMBER(H46),1,0),IF(H46=TRUNC(H46),1,0),IF(AND(H46*1=H46,H46>=0),1,0),IF(AND(H46=TRUNC(H46),H46>=0),1,0),IF(AND(H46*1=H46,H46>0),1,0),IF(AND(H46=TRUNC(H46),H46>0),1,0),1,IF(ISNA(HLOOKUP(H46,$BK$4:$BT$4,1,0)),0,1)),0))) -> 1 | BL46: =IF(OR(I$30="",I$4=99),1,IF(I46="",0,IFERROR(CHOOSE(BL$28,IF(ISNA(MATCH(I46,$BH$30:$BI$30,0)),0,1),IF(ISNUMBER(I46),1,0),IF(I46=TRUNC(I46),1,0),IF(AND(I46*1=I46,I46>=0),1,0),IF(AND(I46=TRUNC(I46),I46>=0),1,0),IF(AND(I46*1=I46,I46>0),1,0),IF(AND(I46=TRUNC(I46),I46>0),1,0),1,IF(ISNA(HLOOKUP(I46,$BK$4:$BT$4,1,0)),0,1)),0))) -> 1 | BM46: =IF(OR(J$30="",J$4=99),1,IF(J46="",0,IFERROR(CHOOSE(BM$28,IF(ISNA(MATCH(J46,$BH$30:$BI$30,0)),0,1),IF(ISNUMBER(J46),1,0),IF(J46=TRUNC(J46),1,0),IF(AND(J46*1=J46,J46>=0),1,0),IF(AND(J46=TRUNC(J46),J46>=0),1,0),IF(AND(J46*1=J46,J46>0),1,0),IF(AND(J46=TRUNC(J46),J46>0),1,0),1,IF(ISNA(HLOOKUP(J46,$BK$4:$BT$4,1,0)),0,1)),0))) -> 1 | BN46: =IF(OR(K$30="",K$4=99),1,IF(K46="",0,IFERROR(CHOOSE(BN$28,IF(ISNA(MATCH(K46,$BH$30:$BI$30,0)),0,1),IF(ISNUMBER(K46),1,0),IF(K46=TRUNC(K46),1,0),IF(AND(K46*1=K46,K46>=0),1,0),IF(AND(K46=TRUNC(K46),K46>=0),1,0),IF(AND(K46*1=K46,K46>0),1,0),IF(AND(K46=TRUNC(K46),K46>0),1,0),1,IF(ISNA(HLOOKUP(K46,$BK$4:$BT$4,1,0)),0,1)),0))) -> 1 | BO46: =IF(OR(L$30="",L$4=99),1,IF(L46="",0,IFERROR(CHOOSE(BO$28,IF(ISNA(MATCH(L46,$BH$30:$BI$30,0)),0,1),IF(ISNUMBER(L46),1,0),IF(L46=TRUNC(L46),1,0),IF(AND(L46*1=L46,L46>=0),1,0),IF(AND(L46=TRUNC(L46),L46>=0),1,0),IF(AND(L46*1=L46,L46>0),1,0),IF(AND(L46=TRUNC(L46),L46>0),1,0),1,IF(ISNA(HLOOKUP(L46,$BK$4:$BT$4,1,0)),0,1)),0))) -> 1 | BP46: =IF(OR(M$30="",M$4=99),1,IF(M46="",0,IFERROR(CHOOSE(BP$28,IF(ISNA(MATCH(M46,$BH$30:$BI$30,0)),0,1),IF(ISNUMBER(M46),1,0),IF(M46=TRUNC(M46),1,0),IF(AND(M46*1=M46,M46>=0),1,0),IF(AND(M46=TRUNC(M46),M46>=0),1,0),IF(AND(M46*1=M46,M46>0),1,0),IF(AND(M46=TRUNC(M46),M46>0),1,0),1,IF(ISNA(HLOOKUP(M46,$BK$4:$BT$4,1,0)),0,1)),0))) -> 1 | BQ46: =IF(OR(N$30="",N$4=99),1,IF(N46="",0,IFERROR(CHOOSE(BQ$28,IF(ISNA(MATCH(N46,$BH$30:$BI$30,0)),0,1),IF(ISNUMBER(N46),1,0),IF(N46=TRUNC(N46),1,0),IF(AND(N46*1=N46,N46>=0),1,0),IF(AND(N46=TRUNC(N46),N46>=0),1,0),IF(AND(N46*1=N46,N46>0),1,0),IF(AND(N46=TRUNC(N46),N46>0),1,0),1,IF(ISNA(HLOOKUP(N46,$BK$4:$BT$4,1,0)),0,1)),0))) -> 1 | ... CN46: =IF(OR(AK$30="",AK$4=99),1,IF(AK46="",0,IFERROR(CHOOSE(CN$28,IF(ISNA(MATCH(AK46,$BH$30:$BI$30,0)),0,1),IF(ISNUMBER(AK46),1,0),IF(AK46=TRUNC(AK46),1,0),IF(AND(AK46*1=AK46,AK46>=0),1,0),IF(AND(AK46=TRUNC(AK46),AK46>=0),1,0),IF(AND(AK46*1=AK46,AK46>0),1,0),IF(AND(AK46=TRUNC(AK46),AK46>0),1,0),1,IF(ISNA(HLOOKUP(AK46,$BK$4:$BT$4,1,0)),0,1)),0))) -> 1 | CO46: =IF(OR(AL$30="",AM$4=99),1,IF(AL46="",0,IFERROR(CHOOSE(CO$28,IF(ISNA(MATCH(AL46,$BH$30:$BI$30,0)),0,1),IF(ISNUMBER(AL46),1,0),IF(AL46=TRUNC(AL46),1,0),IF(AND(AL46*1=AL46,AL46>=0),1,0),IF(AND(AL46=TRUNC(AL46),AL46>=0),1,0),IF(AND(AL46*1=AL46,AL46>0),1,0),IF(AND(AL46=TRUNC(AL46),AL46>0),1,0),1,IF(ISNA(HLOOKUP(AL46,$BK$4:$BT$4,1,0)),0,1)),0))) -> 1 | CP46: =IF(OR(AM$30="",AN$4=99),1,IF(AM46="",0,IFERROR(CHOOSE(CP$28,IF(ISNA(MATCH(AM46,$BH$30:$BI$30,0)),0,1),IF(ISNUMBER(AM46),1,0),IF(AM46=TRUNC(AM46),1,0),IF(AND(AM46*1=AM46,AM46>=0),1,0),IF(AND(AM46=TRUNC(AM46),AM46>=0),1,0),IF(AND(AM46*1=AM46,AM46>0),1,0),IF(AND(AM46=TRUNC(AM46),AM46>0),1,0),1,IF(ISNA(HLOOKUP(AM46,$BK$4:$BT$4,1,0)),0,1)),0))) -> 1 | CQ46: =IF(OR(AN$30="",AN$4=99),1,IF(AN46="",0,IFERROR(CHOOSE(CQ$28,IF(ISNA(MATCH(AN46,$BH$30:$BI$30,0)),0,1),IF(ISNUMBER(AN46),1,0),IF(AN46=TRUNC(AN46),1,0),IF(AND(AN46*1=AN46,AN46>=0),1,0),IF(AND(AN46=TRUNC(AN46),AN46>=0),1,0),IF(AND(AN46*1=AN46,AN46>0),1,0),IF(AND(AN46=TRUNC(AN46),AN46>0),1,0),1,IF(ISNA(HLOOKUP(AN46,$BK$4:$BT$4,1,0)),0,1)),0))) -> 1 | CR46: =IF(OR(AO$30="",AO$4=99),1,IF(AO46="",0,IFERROR(CHOOSE(CR$28,IF(ISNA(MATCH(AO46,$BH$30:$BI$30,0)),0,1),IF(ISNUMBER(AO46),1,0),IF(AO46=TRUNC(AO46),1,0),IF(AND(AO46*1=AO46,AO46>=0),1,0),IF(AND(AO46=TRUNC(AO46),AO46>=0),1,0),IF(AND(AO46*1=AO46,AO46>0),1,0),IF(AND(AO46=TRUNC(AO46),AO46>0),1,0),1,IF(ISNA(HLOOKUP(AO46,$BK$4:$BT$4,1,0)),0,1)),0))) -> 1 | CS46: =IF(OR(AP$30="",AP$4=99),1,IF(AP46="",0,IFERROR(CHOOSE(CS$28,IF(ISNA(MATCH(AP46,$BH$30:$BI$30,0)),0,1),IF(ISNUMBER(AP46),1,0),IF(AP46=TRUNC(AP46),1,0),IF(AND(AP46*1=AP46,AP46>=0),1,0),IF(AND(AP46=TRUNC(AP46),AP46>=0),1,0),IF(AND(AP46*1=AP46,AP46>0),1,0),IF(AND(AP46=TRUNC(AP46),AP46>0),1,0),1,IF(ISNA(HLOOKUP(AP46,$BK$4:$BT$4,1,0)),0,1)),0))) -> 1 | CT46: =IF(OR(AQ$30="",AQ$4=99),1,IF(AQ46="",0,IFERROR(CHOOSE(CT$28,IF(ISNA(MATCH(AQ46,$BH$30:$BI$30,0)),0,1),IF(ISNUMBER(AQ46),1,0),IF(AQ46=TRUNC(AQ46),1,0),IF(AND(AQ46*1=AQ46,AQ46>=0),1,0),IF(AND(AQ46=TRUNC(AQ46),AQ46>=0),1,0),IF(AND(AQ46*1=AQ46,AQ46>0),1,0),IF(AND(AQ46=TRUNC(AQ46),AQ46>0),1,0),1,IF(ISNA(HLOOKUP(AQ46,$BK$4:$BT$4,1,0)),0,1)),0))) -> 1 | CU46: =IF(OR(AR$30="",AR$4=99),1,IF(AR46="",0,IFERROR(CHOOSE(CU$28,IF(ISNA(MATCH(AR46,$BH$30:$BI$30,0)),0,1),IF(ISNUMBER(AR46),1,0),IF(AR46=TRUNC(AR46),1,0),IF(AND(AR46*1=AR46,AR46>=0),1,0),IF(AND(AR46=TRUNC(AR46),AR46>=0),1,0),IF(AND(AR46*1=AR46,AR46>0),1,0),IF(AND(AR46=TRUNC(AR46),AR46>0),1,0),1,IF(ISNA(HLOOKUP(AR46,$BK$4:$BT$4,1,0)),0,1)),0))) -> 1 | CV46: =IF(OR(AS$30="",AS$4=99),1,IF(AS46="",0,IFERROR(CHOOSE(CV$28,IF(ISNA(MATCH(AS46,$BH$30:$BI$30,0)),0,1),IF(ISNUMBER(AS46),1,0),IF(AS46=TRUNC(AS46),1,0),IF(AND(AS46*1=AS46,AS46>=0),1,0),IF(AND(AS46=TRUNC(AS46),AS46>=0),1,0),IF(AND(AS46*1=AS46,AS46>0),1,0),IF(AND(AS46=TRUNC(AS46),AS46>0),1,0),1,IF(ISNA(HLOOKUP(AS46,$BK$4:$BT$4,1,0)),0,1)),0))) -> 1 | CW46: =IF(OR(AT$30="",AT$4=99),1,IF(AT46="",0,IFERROR(CHOOSE(CW$28,IF(ISNA(MATCH(AT46,$BH$30:$BI$30,0)),0,1),IF(ISNUMBER(AT46),1,0),IF(AT46=TRUNC(AT46),1,0),IF(AND(AT46*1=AT46,AT46>=0),1,0),IF(AND(AT46=TRUNC(AT46),AT46>=0),1,0),IF(AND(AT46*1=AT46,AT46>0),1,0),IF(AND(AT46=TRUNC(AT46),AT46>0),1,0),1,IF(ISNA(HLOOKUP(AT46,$BK$4:$BT$4,1,0)),0,1)),0))) -> 1 | CX46: =IF(OR(AU$30="",AU$4=99),1,IF(AU46="",0,IFERROR(CHOOSE(CX$28,IF(ISNA(MATCH(AU46,$BH$30:$BI$30,0)),0,1),IF(ISNUMBER(AU46),1,0),IF(AU46=TRUNC(AU46),1,0),IF(AND(AU46*1=AU46,AU46>=0),1,0),IF(AND(AU46=TRUNC(AU46),AU46>=0),1,0),IF(AND(AU46*1=AU46,AU46>0),1,0),IF(AND(AU46=TRUNC(AU46),AU46>0),1,0),1,IF(ISNA(HLOOKUP(AU46,$BK$4:$BT$4,1,0)),0,1)),0))) -> 1 | ... DB46: =IF(OR(AY$30="",AY$4=99),1,IF(AY46="",0,IFERROR(CHOOSE(DB$28,IF(ISNA(MATCH(AY46,$BH$30:$BI$30,0)),0,1),IF(ISNUMBER(AY46),1,0),IF(AY46=TRUNC(AY46),1,0),IF(AND(AY46*1=AY46,AY46>=0),1,0),IF(AND(AY46=TRUNC(AY46),AY46>=0),1,0),IF(AND(AY46*1=AY46,AY46>0),1,0),IF(AND(AY46=TRUNC(AY46),AY46>0),1,0),1,IF(ISNA(HLOOKUP(AY46,$BK$4:$BT$4,1,0)),0,1)),0))) -> 1 | DC46: =IF(OR(BA$30="",BA$4=99),1,IF(BA46="",0,IFERROR(CHOOSE(DC$28,IF(ISNA(MATCH(BA46,$BH$30:$BI$30,0)),0,1),IF(ISNUMBER(BA46),1,0),IF(BA46=TRUNC(BA46),1,0),IF(AND(BA46*1=BA46,BA46>=0),1,0),IF(AND(BA46=TRUNC(BA46),BA46>=0),1,0),IF(AND(BA46*1=BA46,BA46>0),1,0),IF(AND(BA46=TRUNC(BA46),BA46>0),1,0),1,IF(ISNA(HLOOKUP(BA46,$BK$4:$BT$4,1,0)),0,1)),0))) -> 1 | DD46: =IF(OR(BB$30="",BB$4=99),1,IF(BB46="",0,IFERROR(CHOOSE(DD$28,IF(ISNA(MATCH(BB46,$BH$30:$BI$30,0)),0,1),IF(ISNUMBER(BB46),1,0),IF(BB46=TRUNC(BB46),1,0),IF(AND(BB46*1=BB46,BB46>=0),1,0),IF(AND(BB46=TRUNC(BB46),BB46>=0),1,0),IF(AND(BB46*1=BB46,BB46>0),1,0),IF(AND(BB46=TRUNC(BB46),BB46>0),1,0),1,IF(ISNA(HLOOKUP(BB46,$BK$4:$BT$4,1,0)),0,1)),0))) -> 1 | DE46: =IF(OR(BC$30="",BC$4=99),1,IF(BC46="",0,IFERROR(CHOOSE(DE$28,IF(ISNA(MATCH(BC46,$BH$30:$BI$30,0)),0,1),IF(ISNUMBER(BC46),1,0),IF(BC46=TRUNC(BC46),1,0),IF(AND(BC46*1=BC46,BC46>=0),1,0),IF(AND(BC46=TRUNC(BC46),BC46>=0),1,0),IF(AND(BC46*1=BC46,BC46>0),1,0),IF(AND(BC46=TRUNC(BC46),BC46>0),1,0),1,IF(ISNA(HLOOKUP(BC46,$BK$4:$BT$4,1,0)),0,1)),0))) -> 1 | DF46: =IF(OR(BD$30="",BD$4=99),1,IF(BD46="",0,IFERROR(CHOOSE(DF$28,IF(ISNA(MATCH(BD46,$BH$30:$BI$30,0)),0,1),IF(ISNUMBER(BD46),1,0),IF(BD46=TRUNC(BD46),1,0),IF(AND(BD46*1=BD46,BD46>=0),1,0),IF(AND(BD46=TRUNC(BD46),BD46>=0),1,0),IF(AND(BD46*1=BD46,BD46>0),1,0),IF(AND(BD46=TRUNC(BD46),BD46>0),1,0),1,IF(ISNA(HLOOKUP(BD46,$BK$4:$BT$4,1,0)),0,1)),0))) -> 1 | DG46: =IF(OR(BE$30="",BE$4=99),1,IF(BE46="",0,IFERROR(CHOOSE(DG$28,IF(ISNA(MATCH(BE46,$BH$30:$BI$30,0)),0,1),IF(ISNUMBER(BE46),1,0),IF(BE46=TRUNC(BE46),1,0),IF(AND(BE46*1=BE46,BE46>=0),1,0),IF(AND(BE46=TRUNC(BE46),BE46>=0),1,0),IF(AND(BE46*1=BE46,BE46>0),1,0),IF(AND(BE46=TRUNC(BE46),BE46>0),1,0),1,IF(ISNA(HLOOKUP(BE46,$BK$4:$BT$4,1,0)),0,1)),0))) -> 1 | DR46: =AQ46>=DB$7 -> FALSE | DS46: =AR46>=DC$7 -> FALSE | DT46: =AS46>=DD$7 -> FALSE | DX46: =COUNTIF(DR46:DW46,TRUE) -> 0 | DY46: =AQ46>=DI$7 -> FALSE | DZ46: =AR46>=DJ$7 -> FALSE | EA46: =AS46>=DK$7 -> FALSE | EE46: =COUNTIF(DY46:ED46,TRUE) -> 0 | EF46: =IF($F46="","",IF(DX46=$DC$5,1,0)) -> 0 | EG46: =IF($F46="","",IF(AND(EE46=$DC$5,EE46-DX46<=$DJ$5),1,0)) -> 0
B47: =IF(F47="","",ROW()-30) | S47: =IF(F47="","",IF(OR(O47=0,SUM(O47:R47)=4),1,0)) | AU47: =IF($F47="","",IF(OR(EF47=1,AND(COUNT(G47:AP47)=SUM(G47:AP47),EG47=1)),1,0)) | AW47: =IF($F47="","",IF(OR(AG47=0,AND(SUM(AH47:AP47)=COUNTA($AH$29:$AP$29),OR(AND(AV47=0,AU47=1,EG47=1),EF47=1))),1,0)) | BE47: {=IF($F47="","",IF(BA47=1,1,IF(BG47<>1,$BH$1,IF(SUMPRODUCT(--(G47:AZ47>=$G$5:$AZ$5)*($G$5:$AZ$5<>"")*($G$4:$AZ$4=1))=COUNTIF($G$4:$AZ$4,1),1,0))))} | BG47: =IF(OR(SUM(BJ47:DG47)<>COUNT(BJ47:DG47),SUMPRODUCT(--(G47:AY47=$BH$1))<>0),0,1) -> 0 | BH47: =IF($F47="","",BH$30) | BI47: =IF($F47="","",BI$30) | BJ47: =IF(OR(G$30="",G$4=99),1,IF(G47="",0,IFERROR(CHOOSE(BJ$28,IF(ISNA(MATCH(G47,$BH$30:$BI$30,0)),0,1),IF(ISNUMBER(G47),1,0),IF(G47=TRUNC(G47),1,0),IF(AND(G47*1=G47,G47>=0),1,0),IF(AND(G47=TRUNC(G47),G47>=0),1,0),IF(AND(G47*1=G47,G47>0),1,0),IF(AND(G47=TRUNC(G47),G47>0),1,0),1,IF(ISNA(HLOOKUP(G47,$BK$4:$BT$4,1,0)),0,1)),0))) -> 0 | BK47: =IF(OR(H$30="",H$4=99),1,IF(H47="",0,IFERROR(CHOOSE(BK$28,IF(ISNA(MATCH(H47,$BH$30:$BI$30,0)),0,1),IF(ISNUMBER(H47),1,0),IF(H47=TRUNC(H47),1,0),IF(AND(H47*1=H47,H47>=0),1,0),IF(AND(H47=TRUNC(H47),H47>=0),1,0),IF(AND(H47*1=H47,H47>0),1,0),IF(AND(H47=TRUNC(H47),H47>0),1,0),1,IF(ISNA(HLOOKUP(H47,$BK$4:$BT$4,1,0)),0,1)),0))) -> 0 | BL47: =IF(OR(I$30="",I$4=99),1,IF(I47="",0,IFERROR(CHOOSE(BL$28,IF(ISNA(MATCH(I47,$BH$30:$BI$30,0)),0,1),IF(ISNUMBER(I47),1,0),IF(I47=TRUNC(I47),1,0),IF(AND(I47*1=I47,I47>=0),1,0),IF(AND(I47=TRUNC(I47),I47>=0),1,0),IF(AND(I47*1=I47,I47>0),1,0),IF(AND(I47=TRUNC(I47),I47>0),1,0),1,IF(ISNA(HLOOKUP(I47,$BK$4:$BT$4,1,0)),0,1)),0))) -> 0 | BM47: =IF(OR(J$30="",J$4=99),1,IF(J47="",0,IFERROR(CHOOSE(BM$28,IF(ISNA(MATCH(J47,$BH$30:$BI$30,0)),0,1),IF(ISNUMBER(J47),1,0),IF(J47=TRUNC(J47),1,0),IF(AND(J47*1=J47,J47>=0),1,0),IF(AND(J47=TRUNC(J47),J47>=0),1,0),IF(AND(J47*1=J47,J47>0),1,0),IF(AND(J47=TRUNC(J47),J47>0),1,0),1,IF(ISNA(HLOOKUP(J47,$BK$4:$BT$4,1,0)),0,1)),0))) -> 1 | BN47: =IF(OR(K$30="",K$4=99),1,IF(K47="",0,IFERROR(CHOOSE(BN$28,IF(ISNA(MATCH(K47,$BH$30:$BI$30,0)),0,1),IF(ISNUMBER(K47),1,0),IF(K47=TRUNC(K47),1,0),IF(AND(K47*1=K47,K47>=0),1,0),IF(AND(K47=TRUNC(K47),K47>=0),1,0),IF(AND(K47*1=K47,K47>0),1,0),IF(AND(K47=TRUNC(K47),K47>0),1,0),1,IF(ISNA(HLOOKUP(K47,$BK$4:$BT$4,1,0)),0,1)),0))) -> 1 | BO47: =IF(OR(L$30="",L$4=99),1,IF(L47="",0,IFERROR(CHOOSE(BO$28,IF(ISNA(MATCH(L47,$BH$30:$BI$30,0)),0,1),IF(ISNUMBER(L47),1,0),IF(L47=TRUNC(L47),1,0),IF(AND(L47*1=L47,L47>=0),1,0),IF(AND(L47=TRUNC(L47),L47>=0),1,0),IF(AND(L47*1=L47,L47>0),1,0),IF(AND(L47=TRUNC(L47),L47>0),1,0),1,IF(ISNA(HLOOKUP(L47,$BK$4:$BT$4,1,0)),0,1)),0))) -> 0 | BP47: =IF(OR(M$30="",M$4=99),1,IF(M47="",0,IFERROR(CHOOSE(BP$28,IF(ISNA(MATCH(M47,$BH$30:$BI$30,0)),0,1),IF(ISNUMBER(M47),1,0),IF(M47=TRUNC(M47),1,0),IF(AND(M47*1=M47,M47>=0),1,0),IF(AND(M47=TRUNC(M47),M47>=0),1,0),IF(AND(M47*1=M47,M47>0),1,0),IF(AND(M47=TRUNC(M47),M47>0),1,0),1,IF(ISNA(HLOOKUP(M47,$BK$4:$BT$4,1,0)),0,1)),0))) -> 0 | BQ47: =IF(OR(N$30="",N$4=99),1,IF(N47="",0,IFERROR(CHOOSE(BQ$28,IF(ISNA(MATCH(N47,$BH$30:$BI$30,0)),0,1),IF(ISNUMBER(N47),1,0),IF(N47=TRUNC(N47),1,0),IF(AND(N47*1=N47,N47>=0),1,0),IF(AND(N47=TRUNC(N47),N47>=0),1,0),IF(AND(N47*1=N47,N47>0),1,0),IF(AND(N47=TRUNC(N47),N47>0),1,0),1,IF(ISNA(HLOOKUP(N47,$BK$4:$BT$4,1,0)),0,1)),0))) -> 0 | ... CN47: =IF(OR(AK$30="",AK$4=99),1,IF(AK47="",0,IFERROR(CHOOSE(CN$28,IF(ISNA(MATCH(AK47,$BH$30:$BI$30,0)),0,1),IF(ISNUMBER(AK47),1,0),IF(AK47=TRUNC(AK47),1,0),IF(AND(AK47*1=AK47,AK47>=0),1,0),IF(AND(AK47=TRUNC(AK47),AK47>=0),1,0),IF(AND(AK47*1=AK47,AK47>0),1,0),IF(AND(AK47=TRUNC(AK47),AK47>0),1,0),1,IF(ISNA(HLOOKUP(AK47,$BK$4:$BT$4,1,0)),0,1)),0))) -> 1 | CO47: =IF(OR(AL$30="",AM$4=99),1,IF(AL47="",0,IFERROR(CHOOSE(CO$28,IF(ISNA(MATCH(AL47,$BH$30:$BI$30,0)),0,1),IF(ISNUMBER(AL47),1,0),IF(AL47=TRUNC(AL47),1,0),IF(AND(AL47*1=AL47,AL47>=0),1,0),IF(AND(AL47=TRUNC(AL47),AL47>=0),1,0),IF(AND(AL47*1=AL47,AL47>0),1,0),IF(AND(AL47=TRUNC(AL47),AL47>0),1,0),1,IF(ISNA(HLOOKUP(AL47,$BK$4:$BT$4,1,0)),0,1)),0))) -> 1 | CP47: =IF(OR(AM$30="",AN$4=99),1,IF(AM47="",0,IFERROR(CHOOSE(CP$28,IF(ISNA(MATCH(AM47,$BH$30:$BI$30,0)),0,1),IF(ISNUMBER(AM47),1,0),IF(AM47=TRUNC(AM47),1,0),IF(AND(AM47*1=AM47,AM47>=0),1,0),IF(AND(AM47=TRUNC(AM47),AM47>=0),1,0),IF(AND(AM47*1=AM47,AM47>0),1,0),IF(AND(AM47=TRUNC(AM47),AM47>0),1,0),1,IF(ISNA(HLOOKUP(AM47,$BK$4:$BT$4,1,0)),0,1)),0))) -> 1 | CQ47: =IF(OR(AN$30="",AN$4=99),1,IF(AN47="",0,IFERROR(CHOOSE(CQ$28,IF(ISNA(MATCH(AN47,$BH$30:$BI$30,0)),0,1),IF(ISNUMBER(AN47),1,0),IF(AN47=TRUNC(AN47),1,0),IF(AND(AN47*1=AN47,AN47>=0),1,0),IF(AND(AN47=TRUNC(AN47),AN47>=0),1,0),IF(AND(AN47*1=AN47,AN47>0),1,0),IF(AND(AN47=TRUNC(AN47),AN47>0),1,0),1,IF(ISNA(HLOOKUP(AN47,$BK$4:$BT$4,1,0)),0,1)),0))) -> 1 | CR47: =IF(OR(AO$30="",AO$4=99),1,IF(AO47="",0,IFERROR(CHOOSE(CR$28,IF(ISNA(MATCH(AO47,$BH$30:$BI$30,0)),0,1),IF(ISNUMBER(AO47),1,0),IF(AO47=TRUNC(AO47),1,0),IF(AND(AO47*1=AO47,AO47>=0),1,0),IF(AND(AO47=TRUNC(AO47),AO47>=0),1,0),IF(AND(AO47*1=AO47,AO47>0),1,0),IF(AND(AO47=TRUNC(AO47),AO47>0),1,0),1,IF(ISNA(HLOOKUP(AO47,$BK$4:$BT$4,1,0)),0,1)),0))) -> 1 | CS47: =IF(OR(AP$30="",AP$4=99),1,IF(AP47="",0,IFERROR(CHOOSE(CS$28,IF(ISNA(MATCH(AP47,$BH$30:$BI$30,0)),0,1),IF(ISNUMBER(AP47),1,0),IF(AP47=TRUNC(AP47),1,0),IF(AND(AP47*1=AP47,AP47>=0),1,0),IF(AND(AP47=TRUNC(AP47),AP47>=0),1,0),IF(AND(AP47*1=AP47,AP47>0),1,0),IF(AND(AP47=TRUNC(AP47),AP47>0),1,0),1,IF(ISNA(HLOOKUP(AP47,$BK$4:$BT$4,1,0)),0,1)),0))) -> 1 | CT47: =IF(OR(AQ$30="",AQ$4=99),1,IF(AQ47="",0,IFERROR(CHOOSE(CT$28,IF(ISNA(MATCH(AQ47,$BH$30:$BI$30,0)),0,1),IF(ISNUMBER(AQ47),1,0),IF(AQ47=TRUNC(AQ47),1,0),IF(AND(AQ47*1=AQ47,AQ47>=0),1,0),IF(AND(AQ47=TRUNC(AQ47),AQ47>=0),1,0),IF(AND(AQ47*1=AQ47,AQ47>0),1,0),IF(AND(AQ47=TRUNC(AQ47),AQ47>0),1,0),1,IF(ISNA(HLOOKUP(AQ47,$BK$4:$BT$4,1,0)),0,1)),0))) -> 1 | CU47: =IF(OR(AR$30="",AR$4=99),1,IF(AR47="",0,IFERROR(CHOOSE(CU$28,IF(ISNA(MATCH(AR47,$BH$30:$BI$30,0)),0,1),IF(ISNUMBER(AR47),1,0),IF(AR47=TRUNC(AR47),1,0),IF(AND(AR47*1=AR47,AR47>=0),1,0),IF(AND(AR47=TRUNC(AR47),AR47>=0),1,0),IF(AND(AR47*1=AR47,AR47>0),1,0),IF(AND(AR47=TRUNC(AR47),AR47>0),1,0),1,IF(ISNA(HLOOKUP(AR47,$BK$4:$BT$4,1,0)),0,1)),0))) -> 1 | CV47: =IF(OR(AS$30="",AS$4=99),1,IF(AS47="",0,IFERROR(CHOOSE(CV$28,IF(ISNA(MATCH(AS47,$BH$30:$BI$30,0)),0,1),IF(ISNUMBER(AS47),1,0),IF(AS47=TRUNC(AS47),1,0),IF(AND(AS47*1=AS47,AS47>=0),1,0),IF(AND(AS47=TRUNC(AS47),AS47>=0),1,0),IF(AND(AS47*1=AS47,AS47>0),1,0),IF(AND(AS47=TRUNC(AS47),AS47>0),1,0),1,IF(ISNA(HLOOKUP(AS47,$BK$4:$BT$4,1,0)),0,1)),0))) -> 1 | CW47: =IF(OR(AT$30="",AT$4=99),1,IF(AT47="",0,IFERROR(CHOOSE(CW$28,IF(ISNA(MATCH(AT47,$BH$30:$BI$30,0)),0,1),IF(ISNUMBER(AT47),1,0),IF(AT47=TRUNC(AT47),1,0),IF(AND(AT47*1=AT47,AT47>=0),1,0),IF(AND(AT47=TRUNC(AT47),AT47>=0),1,0),IF(AND(AT47*1=AT47,AT47>0),1,0),IF(AND(AT47=TRUNC(AT47),AT47>0),1,0),1,IF(ISNA(HLOOKUP(AT47,$BK$4:$BT$4,1,0)),0,1)),0))) -> 0 | CX47: =IF(OR(AU$30="",AU$4=99),1,IF(AU47="",0,IFERROR(CHOOSE(CX$28,IF(ISNA(MATCH(AU47,$BH$30:$BI$30,0)),0,1),IF(ISNUMBER(AU47),1,0),IF(AU47=TRUNC(AU47),1,0),IF(AND(AU47*1=AU47,AU47>=0),1,0),IF(AND(AU47=TRUNC(AU47),AU47>=0),1,0),IF(AND(AU47*1=AU47,AU47>0),1,0),IF(AND(AU47=TRUNC(AU47),AU47>0),1,0),1,IF(ISNA(HLOOKUP(AU47,$BK$4:$BT$4,1,0)),0,1)),0))) -> 1 | ... DB47: =IF(OR(AY$30="",AY$4=99),1,IF(AY47="",0,IFERROR(CHOOSE(DB$28,IF(ISNA(MATCH(AY47,$BH$30:$BI$30,0)),0,1),IF(ISNUMBER(AY47),1,0),IF(AY47=TRUNC(AY47),1,0),IF(AND(AY47*1=AY47,AY47>=0),1,0),IF(AND(AY47=TRUNC(AY47),AY47>=0),1,0),IF(AND(AY47*1=AY47,AY47>0),1,0),IF(AND(AY47=TRUNC(AY47),AY47>0),1,0),1,IF(ISNA(HLOOKUP(AY47,$BK$4:$BT$4,1,0)),0,1)),0))) -> 0 | DC47: =IF(OR(BA$30="",BA$4=99),1,IF(BA47="",0,IFERROR(CHOOSE(DC$28,IF(ISNA(MATCH(BA47,$BH$30:$BI$30,0)),0,1),IF(ISNUMBER(BA47),1,0),IF(BA47=TRUNC(BA47),1,0),IF(AND(BA47*1=BA47,BA47>=0),1,0),IF(AND(BA47=TRUNC(BA47),BA47>=0),1,0),IF(AND(BA47*1=BA47,BA47>0),1,0),IF(AND(BA47=TRUNC(BA47),BA47>0),1,0),1,IF(ISNA(HLOOKUP(BA47,$BK$4:$BT$4,1,0)),0,1)),0))) -> 1 | DD47: =IF(OR(BB$30="",BB$4=99),1,IF(BB47="",0,IFERROR(CHOOSE(DD$28,IF(ISNA(MATCH(BB47,$BH$30:$BI$30,0)),0,1),IF(ISNUMBER(BB47),1,0),IF(BB47=TRUNC(BB47),1,0),IF(AND(BB47*1=BB47,BB47>=0),1,0),IF(AND(BB47=TRUNC(BB47),BB47>=0),1,0),IF(AND(BB47*1=BB47,BB47>0),1,0),IF(AND(BB47=TRUNC(BB47),BB47>0),1,0),1,IF(ISNA(HLOOKUP(BB47,$BK$4:$BT$4,1,0)),0,1)),0))) -> 1 | DE47: =IF(OR(BC$30="",BC$4=99),1,IF(BC47="",0,IFERROR(CHOOSE(DE$28,IF(ISNA(MATCH(BC47,$BH$30:$BI$30,0)),0,1),IF(ISNUMBER(BC47),1,0),IF(BC47=TRUNC(BC47),1,0),IF(AND(BC47*1=BC47,BC47>=0),1,0),IF(AND(BC47=TRUNC(BC47),BC47>=0),1,0),IF(AND(BC47*1=BC47,BC47>0),1,0),IF(AND(BC47=TRUNC(BC47),BC47>0),1,0),1,IF(ISNA(HLOOKUP(BC47,$BK$4:$BT$4,1,0)),0,1)),0))) -> 1 | DF47: =IF(OR(BD$30="",BD$4=99),1,IF(BD47="",0,IFERROR(CHOOSE(DF$28,IF(ISNA(MATCH(BD47,$BH$30:$BI$30,0)),0,1),IF(ISNUMBER(BD47),1,0),IF(BD47=TRUNC(BD47),1,0),IF(AND(BD47*1=BD47,BD47>=0),1,0),IF(AND(BD47=TRUNC(BD47),BD47>=0),1,0),IF(AND(BD47*1=BD47,BD47>0),1,0),IF(AND(BD47=TRUNC(BD47),BD47>0),1,0),1,IF(ISNA(HLOOKUP(BD47,$BK$4:$BT$4,1,0)),0,1)),0))) -> 1 | DG47: =IF(OR(BE$30="",BE$4=99),1,IF(BE47="",0,IFERROR(CHOOSE(DG$28,IF(ISNA(MATCH(BE47,$BH$30:$BI$30,0)),0,1),IF(ISNUMBER(BE47),1,0),IF(BE47=TRUNC(BE47),1,0),IF(AND(BE47*1=BE47,BE47>=0),1,0),IF(AND(BE47=TRUNC(BE47),BE47>=0),1,0),IF(AND(BE47*1=BE47,BE47>0),1,0),IF(AND(BE47=TRUNC(BE47),BE47>0),1,0),1,IF(ISNA(HLOOKUP(BE47,$BK$4:$BT$4,1,0)),0,1)),0))) -> 1 | DR47: =AQ47>=DB$7 -> FALSE | DS47: =AR47>=DC$7 -> FALSE | DT47: =AS47>=DD$7 -> FALSE | DX47: =COUNTIF(DR47:DW47,TRUE) -> 0 | DY47: =AQ47>=DI$7 -> FALSE | DZ47: =AR47>=DJ$7 -> FALSE | EA47: =AS47>=DK$7 -> FALSE | EE47: =COUNTIF(DY47:ED47,TRUE) -> 0 | EF47: =IF($F47="","",IF(DX47=$DC$5,1,0)) | EG47: =IF($F47="","",IF(AND(EE47=$DC$5,EE47-DX47<=$DJ$5),1,0))
B48: =IF(F48="","",ROW()-30) -> 18 | F48: הקם - שיר לשירה | G48: 1 | H48: 1 | I48: 1 | J48: 0 | K48: 1 | L48: 1 | M48: 1 | N48: 1 | O48: 0 | P48: 0 | Q48: 0 | R48: 0 | S48: =IF(F48="","",IF(OR(O48=0,SUM(O48:R48)=4),1,0)) -> 1 | T48: 1 | U48: 1 | V48: 1 | W48: 1 | X48: 1 | Y48: 1 | Z48: 1 | AA48: 1 | AB48: 1 | AC48: 1 | AD48: 1 | AE48: 1 | AF48: 1 | AG48: 0 | AT48: 220000 | AU48: =IF($F48="","",IF(OR(EF48=1,AND(COUNT(G48:AP48)=SUM(G48:AP48),EG48=1)),1,0)) -> 0 | AV48: 0 | AW48: =IF($F48="","",IF(OR(AG48=0,AND(SUM(AH48:AP48)=COUNTA($AH$29:$AP$29),OR(AND(AV48=0,AU48=1,EG48=1),EF48=1))),1,0)) -> 1 | AX48: 1 | AY48: 1 | AZ48: 1 | BA48: 0 | BE48: {=IF($F48="","",IF(BA48=1,1,IF(BG48<>1,$BH$1,IF(SUMPRODUCT(--(G48:AZ48>=$G$5:$AZ$5)*($G$5:$AZ$5<>"")*($G$4:$AZ$4=1))=COUNTIF($G$4:$AZ$4,1),1,0))))} -> 1 | BF48: מומלץ לתמיכה עפ"י מבחן התמיכה - תחום ד'. הוגשה הצעת תקציב בסך 220,000 ₪. עפ"י המלצת המדור אושרו הוצאות התקציב המבוקש. | BG48: =IF(OR(SUM(BJ48:DG48)<>COUNT(BJ48:DG48),SUMPRODUCT(--(G48:AY48=$BH$1))<>0),0,1) -> 1 | BH48: =IF($F48="","",BH$30) -> 0 | BI48: =IF($F48="","",BI$30) -> 1 | BJ48: =IF(OR(G$30="",G$4=99),1,IF(G48="",0,IFERROR(CHOOSE(BJ$28,IF(ISNA(MATCH(G48,$BH$30:$BI$30,0)),0,1),IF(ISNUMBER(G48),1,0),IF(G48=TRUNC(G48),1,0),IF(AND(G48*1=G48,G48>=0),1,0),IF(AND(G48=TRUNC(G48),G48>=0),1,0),IF(AND(G48*1=G48,G48>0),1,0),IF(AND(G48=TRUNC(G48),G48>0),1,0),1,IF(ISNA(HLOOKUP(G48,$BK$4:$BT$4,1,0)),0,1)),0))) -> 1 | BK48: =IF(OR(H$30="",H$4=99),1,IF(H48="",0,IFERROR(CHOOSE(BK$28,IF(ISNA(MATCH(H48,$BH$30:$BI$30,0)),0,1),IF(ISNUMBER(H48),1,0),IF(H48=TRUNC(H48),1,0),IF(AND(H48*1=H48,H48>=0),1,0),IF(AND(H48=TRUNC(H48),H48>=0),1,0),IF(AND(H48*1=H48,H48>0),1,0),IF(AND(H48=TRUNC(H48),H48>0),1,0),1,IF(ISNA(HLOOKUP(H48,$BK$4:$BT$4,1,0)),0,1)),0))) -> 1 | BL48: =IF(OR(I$30="",I$4=99),1,IF(I48="",0,IFERROR(CHOOSE(BL$28,IF(ISNA(MATCH(I48,$BH$30:$BI$30,0)),0,1),IF(ISNUMBER(I48),1,0),IF(I48=TRUNC(I48),1,0),IF(AND(I48*1=I48,I48>=0),1,0),IF(AND(I48=TRUNC(I48),I48>=0),1,0),IF(AND(I48*1=I48,I48>0),1,0),IF(AND(I48=TRUNC(I48),I48>0),1,0),1,IF(ISNA(HLOOKUP(I48,$BK$4:$BT$4,1,0)),0,1)),0))) -> 1 | BM48: =IF(OR(J$30="",J$4=99),1,IF(J48="",0,IFERROR(CHOOSE(BM$28,IF(ISNA(MATCH(J48,$BH$30:$BI$30,0)),0,1),IF(ISNUMBER(J48),1,0),IF(J48=TRUNC(J48),1,0),IF(AND(J48*1=J48,J48>=0),1,0),IF(AND(J48=TRUNC(J48),J48>=0),1,0),IF(AND(J48*1=J48,J48>0),1,0),IF(AND(J48=TRUNC(J48),J48>0),1,0),1,IF(ISNA(HLOOKUP(J48,$BK$4:$BT$4,1,0)),0,1)),0))) -> 1 | BN48: =IF(OR(K$30="",K$4=99),1,IF(K48="",0,IFERROR(CHOOSE(BN$28,IF(ISNA(MATCH(K48,$BH$30:$BI$30,0)),0,1),IF(ISNUMBER(K48),1,0),IF(K48=TRUNC(K48),1,0),IF(AND(K48*1=K48,K48>=0),1,0),IF(AND(K48=TRUNC(K48),K48>=0),1,0),IF(AND(K48*1=K48,K48>0),1,0),IF(AND(K48=TRUNC(K48),K48>0),1,0),1,IF(ISNA(HLOOKUP(K48,$BK$4:$BT$4,1,0)),0,1)),0))) -> 1 | BO48: =IF(OR(L$30="",L$4=99),1,IF(L48="",0,IFERROR(CHOOSE(BO$28,IF(ISNA(MATCH(L48,$BH$30:$BI$30,0)),0,1),IF(ISNUMBER(L48),1,0),IF(L48=TRUNC(L48),1,0),IF(AND(L48*1=L48,L48>=0),1,0),IF(AND(L48=TRUNC(L48),L48>=0),1,0),IF(AND(L48*1=L48,L48>0),1,0),IF(AND(L48=TRUNC(L48),L48>0),1,0),1,IF(ISNA(HLOOKUP(L48,$BK$4:$BT$4,1,0)),0,1)),0))) -> 1 | BP48: =IF(OR(M$30="",M$4=99),1,IF(M48="",0,IFERROR(CHOOSE(BP$28,IF(ISNA(MATCH(M48,$BH$30:$BI$30,0)),0,1),IF(ISNUMBER(M48),1,0),IF(M48=TRUNC(M48),1,0),IF(AND(M48*1=M48,M48>=0),1,0),IF(AND(M48=TRUNC(M48),M48>=0),1,0),IF(AND(M48*1=M48,M48>0),1,0),IF(AND(M48=TRUNC(M48),M48>0),1,0),1,IF(ISNA(HLOOKUP(M48,$BK$4:$BT$4,1,0)),0,1)),0))) -> 1 | BQ48: =IF(OR(N$30="",N$4=99),1,IF(N48="",0,IFERROR(CHOOSE(BQ$28,IF(ISNA(MATCH(N48,$BH$30:$BI$30,0)),0,1),IF(ISNUMBER(N48),1,0),IF(N48=TRUNC(N48),1,0),IF(AND(N48*1=N48,N48>=0),1,0),IF(AND(N48=TRUNC(N48),N48>=0),1,0),IF(AND(N48*1=N48,N48>0),1,0),IF(AND(N48=TRUNC(N48),N48>0),1,0),1,IF(ISNA(HLOOKUP(N48,$BK$4:$BT$4,1,0)),0,1)),0))) -> 1 | ... CN48: =IF(OR(AK$30="",AK$4=99),1,IF(AK48="",0,IFERROR(CHOOSE(CN$28,IF(ISNA(MATCH(AK48,$BH$30:$BI$30,0)),0,1),IF(ISNUMBER(AK48),1,0),IF(AK48=TRUNC(AK48),1,0),IF(AND(AK48*1=AK48,AK48>=0),1,0),IF(AND(AK48=TRUNC(AK48),AK48>=0),1,0),IF(AND(AK48*1=AK48,AK48>0),1,0),IF(AND(AK48=TRUNC(AK48),AK48>0),1,0),1,IF(ISNA(HLOOKUP(AK48,$BK$4:$BT$4,1,0)),0,1)),0))) -> 1 | CO48: =IF(OR(AL$30="",AM$4=99),1,IF(AL48="",0,IFERROR(CHOOSE(CO$28,IF(ISNA(MATCH(AL48,$BH$30:$BI$30,0)),0,1),IF(ISNUMBER(AL48),1,0),IF(AL48=TRUNC(AL48),1,0),IF(AND(AL48*1=AL48,AL48>=0),1,0),IF(AND(AL48=TRUNC(AL48),AL48>=0),1,0),IF(AND(AL48*1=AL48,AL48>0),1,0),IF(AND(AL48=TRUNC(AL48),AL48>0),1,0),1,IF(ISNA(HLOOKUP(AL48,$BK$4:$BT$4,1,0)),0,1)),0))) -> 1 | CP48: =IF(OR(AM$30="",AN$4=99),1,IF(AM48="",0,IFERROR(CHOOSE(CP$28,IF(ISNA(MATCH(AM48,$BH$30:$BI$30,0)),0,1),IF(ISNUMBER(AM48),1,0),IF(AM48=TRUNC(AM48),1,0),IF(AND(AM48*1=AM48,AM48>=0),1,0),IF(AND(AM48=TRUNC(AM48),AM48>=0),1,0),IF(AND(AM48*1=AM48,AM48>0),1,0),IF(AND(AM48=TRUNC(AM48),AM48>0),1,0),1,IF(ISNA(HLOOKUP(AM48,$BK$4:$BT$4,1,0)),0,1)),0))) -> 1 | CQ48: =IF(OR(AN$30="",AN$4=99),1,IF(AN48="",0,IFERROR(CHOOSE(CQ$28,IF(ISNA(MATCH(AN48,$BH$30:$BI$30,0)),0,1),IF(ISNUMBER(AN48),1,0),IF(AN48=TRUNC(AN48),1,0),IF(AND(AN48*1=AN48,AN48>=0),1,0),IF(AND(AN48=TRUNC(AN48),AN48>=0),1,0),IF(AND(AN48*1=AN48,AN48>0),1,0),IF(AND(AN48=TRUNC(AN48),AN48>0),1,0),1,IF(ISNA(HLOOKUP(AN48,$BK$4:$BT$4,1,0)),0,1)),0))) -> 1 | CR48: =IF(OR(AO$30="",AO$4=99),1,IF(AO48="",0,IFERROR(CHOOSE(CR$28,IF(ISNA(MATCH(AO48,$BH$30:$BI$30,0)),0,1),IF(ISNUMBER(AO48),1,0),IF(AO48=TRUNC(AO48),1,0),IF(AND(AO48*1=AO48,AO48>=0),1,0),IF(AND(AO48=TRUNC(AO48),AO48>=0),1,0),IF(AND(AO48*1=AO48,AO48>0),1,0),IF(AND(AO48=TRUNC(AO48),AO48>0),1,0),1,IF(ISNA(HLOOKUP(AO48,$BK$4:$BT$4,1,0)),0,1)),0))) -> 1 | CS48: =IF(OR(AP$30="",AP$4=99),1,IF(AP48="",0,IFERROR(CHOOSE(CS$28,IF(ISNA(MATCH(AP48,$BH$30:$BI$30,0)),0,1),IF(ISNUMBER(AP48),1,0),IF(AP48=TRUNC(AP48),1,0),IF(AND(AP48*1=AP48,AP48>=0),1,0),IF(AND(AP48=TRUNC(AP48),AP48>=0),1,0),IF(AND(AP48*1=AP48,AP48>0),1,0),IF(AND(AP48=TRUNC(AP48),AP48>0),1,0),1,IF(ISNA(HLOOKUP(AP48,$BK$4:$BT$4,1,0)),0,1)),0))) -> 1 | CT48: =IF(OR(AQ$30="",AQ$4=99),1,IF(AQ48="",0,IFERROR(CHOOSE(CT$28,IF(ISNA(MATCH(AQ48,$BH$30:$BI$30,0)),0,1),IF(ISNUMBER(AQ48),1,0),IF(AQ48=TRUNC(AQ48),1,0),IF(AND(AQ48*1=AQ48,AQ48>=0),1,0),IF(AND(AQ48=TRUNC(AQ48),AQ48>=0),1,0),IF(AND(AQ48*1=AQ48,AQ48>0),1,0),IF(AND(AQ48=TRUNC(AQ48),AQ48>0),1,0),1,IF(ISNA(HLOOKUP(AQ48,$BK$4:$BT$4,1,0)),0,1)),0))) -> 1 | CU48: =IF(OR(AR$30="",AR$4=99),1,IF(AR48="",0,IFERROR(CHOOSE(CU$28,IF(ISNA(MATCH(AR48,$BH$30:$BI$30,0)),0,1),IF(ISNUMBER(AR48),1,0),IF(AR48=TRUNC(AR48),1,0),IF(AND(AR48*1=AR48,AR48>=0),1,0),IF(AND(AR48=TRUNC(AR48),AR48>=0),1,0),IF(AND(AR48*1=AR48,AR48>0),1,0),IF(AND(AR48=TRUNC(AR48),AR48>0),1,0),1,IF(ISNA(HLOOKUP(AR48,$BK$4:$BT$4,1,0)),0,1)),0))) -> 1 | CV48: =IF(OR(AS$30="",AS$4=99),1,IF(AS48="",0,IFERROR(CHOOSE(CV$28,IF(ISNA(MATCH(AS48,$BH$30:$BI$30,0)),0,1),IF(ISNUMBER(AS48),1,0),IF(AS48=TRUNC(AS48),1,0),IF(AND(AS48*1=AS48,AS48>=0),1,0),IF(AND(AS48=TRUNC(AS48),AS48>=0),1,0),IF(AND(AS48*1=AS48,AS48>0),1,0),IF(AND(AS48=TRUNC(AS48),AS48>0),1,0),1,IF(ISNA(HLOOKUP(AS48,$BK$4:$BT$4,1,0)),0,1)),0))) -> 1 | CW48: =IF(OR(AT$30="",AT$4=99),1,IF(AT48="",0,IFERROR(CHOOSE(CW$28,IF(ISNA(MATCH(AT48,$BH$30:$BI$30,0)),0,1),IF(ISNUMBER(AT48),1,0),IF(AT48=TRUNC(AT48),1,0),IF(AND(AT48*1=AT48,AT48>=0),1,0),IF(AND(AT48=TRUNC(AT48),AT48>=0),1,0),IF(AND(AT48*1=AT48,AT48>0),1,0),IF(AND(AT48=TRUNC(AT48),AT48>0),1,0),1,IF(ISNA(HLOOKUP(AT48,$BK$4:$BT$4,1,0)),0,1)),0))) -> 1 | CX48: =IF(OR(AU$30="",AU$4=99),1,IF(AU48="",0,IFERROR(CHOOSE(CX$28,IF(ISNA(MATCH(AU48,$BH$30:$BI$30,0)),0,1),IF(ISNUMBER(AU48),1,0),IF(AU48=TRUNC(AU48),1,0),IF(AND(AU48*1=AU48,AU48>=0),1,0),IF(AND(AU48=TRUNC(AU48),AU48>=0),1,0),IF(AND(AU48*1=AU48,AU48>0),1,0),IF(AND(AU48=TRUNC(AU48),AU48>0),1,0),1,IF(ISNA(HLOOKUP(AU48,$BK$4:$BT$4,1,0)),0,1)),0))) -> 1 | ... DB48: =IF(OR(AY$30="",AY$4=99),1,IF(AY48="",0,IFERROR(CHOOSE(DB$28,IF(ISNA(MATCH(AY48,$BH$30:$BI$30,0)),0,1),IF(ISNUMBER(AY48),1,0),IF(AY48=TRUNC(AY48),1,0),IF(AND(AY48*1=AY48,AY48>=0),1,0),IF(AND(AY48=TRUNC(AY48),AY48>=0),1,0),IF(AND(AY48*1=AY48,AY48>0),1,0),IF(AND(AY48=TRUNC(AY48),AY48>0),1,0),1,IF(ISNA(HLOOKUP(AY48,$BK$4:$BT$4,1,0)),0,1)),0))) -> 1 | DC48: =IF(OR(BA$30="",BA$4=99),1,IF(BA48="",0,IFERROR(CHOOSE(DC$28,IF(ISNA(MATCH(BA48,$BH$30:$BI$30,0)),0,1),IF(ISNUMBER(BA48),1,0),IF(BA48=TRUNC(BA48),1,0),IF(AND(BA48*1=BA48,BA48>=0),1,0),IF(AND(BA48=TRUNC(BA48),BA48>=0),1,0),IF(AND(BA48*1=BA48,BA48>0),1,0),IF(AND(BA48=TRUNC(BA48),BA48>0),1,0),1,IF(ISNA(HLOOKUP(BA48,$BK$4:$BT$4,1,0)),0,1)),0))) -> 1 | DD48: =IF(OR(BB$30="",BB$4=99),1,IF(BB48="",0,IFERROR(CHOOSE(DD$28,IF(ISNA(MATCH(BB48,$BH$30:$BI$30,0)),0,1),IF(ISNUMBER(BB48),1,0),IF(BB48=TRUNC(BB48),1,0),IF(AND(BB48*1=BB48,BB48>=0),1,0),IF(AND(BB48=TRUNC(BB48),BB48>=0),1,0),IF(AND(BB48*1=BB48,BB48>0),1,0),IF(AND(BB48=TRUNC(BB48),BB48>0),1,0),1,IF(ISNA(HLOOKUP(BB48,$BK$4:$BT$4,1,0)),0,1)),0))) -> 1 | DE48: =IF(OR(BC$30="",BC$4=99),1,IF(BC48="",0,IFERROR(CHOOSE(DE$28,IF(ISNA(MATCH(BC48,$BH$30:$BI$30,0)),0,1),IF(ISNUMBER(BC48),1,0),IF(BC48=TRUNC(BC48),1,0),IF(AND(BC48*1=BC48,BC48>=0),1,0),IF(AND(BC48=TRUNC(BC48),BC48>=0),1,0),IF(AND(BC48*1=BC48,BC48>0),1,0),IF(AND(BC48=TRUNC(BC48),BC48>0),1,0),1,IF(ISNA(HLOOKUP(BC48,$BK$4:$BT$4,1,0)),0,1)),0))) -> 1 | DF48: =IF(OR(BD$30="",BD$4=99),1,IF(BD48="",0,IFERROR(CHOOSE(DF$28,IF(ISNA(MATCH(BD48,$BH$30:$BI$30,0)),0,1),IF(ISNUMBER(BD48),1,0),IF(BD48=TRUNC(BD48),1,0),IF(AND(BD48*1=BD48,BD48>=0),1,0),IF(AND(BD48=TRUNC(BD48),BD48>=0),1,0),IF(AND(BD48*1=BD48,BD48>0),1,0),IF(AND(BD48=TRUNC(BD48),BD48>0),1,0),1,IF(ISNA(HLOOKUP(BD48,$BK$4:$BT$4,1,0)),0,1)),0))) -> 1 | DG48: =IF(OR(BE$30="",BE$4=99),1,IF(BE48="",0,IFERROR(CHOOSE(DG$28,IF(ISNA(MATCH(BE48,$BH$30:$BI$30,0)),0,1),IF(ISNUMBER(BE48),1,0),IF(BE48=TRUNC(BE48),1,0),IF(AND(BE48*1=BE48,BE48>=0),1,0),IF(AND(BE48=TRUNC(BE48),BE48>=0),1,0),IF(AND(BE48*1=BE48,BE48>0),1,0),IF(AND(BE48=TRUNC(BE48),BE48>0),1,0),1,IF(ISNA(HLOOKUP(BE48,$BK$4:$BT$4,1,0)),0,1)),0))) -> 1 | DR48: =AQ48>=DB$7 -> FALSE | DS48: =AR48>=DC$7 -> FALSE | DT48: =AS48>=DD$7 -> FALSE | DX48: =COUNTIF(DR48:DW48,TRUE) -> 0 | DY48: =AQ48>=DI$7 -> FALSE | DZ48: =AR48>=DJ$7 -> FALSE | EA48: =AS48>=DK$7 -> FALSE | EE48: =COUNTIF(DY48:ED48,TRUE) -> 0 | EF48: =IF($F48="","",IF(DX48=$DC$5,1,0)) -> 0 | EG48: =IF($F48="","",IF(AND(EE48=$DC$5,EE48-DX48<=$DJ$5),1,0)) -> 0
