Workbook
Name a: #REF!
Name aa: #REF!
Name b: #REF!
Name DDDD: #REF!
Name ee: #REF!
Name ngf: #REF!

Sheet ProtectSettings
B1: 0.44929141
B2: 45526.427
A6: AllowFilterCheckBox | B6: TRUE
A7: AllowFormattingCheckBox | B7: TRUE
A8: AllowColumnFormattingCheckBox | B8: TRUE
A9: AllowRowFormattingCheckBox | B9: TRUE

Sheet הדרכה למשתמש
B2: הדרכה למשתמש
B4: תאריך בניית המודל | C4: 43615
B5: תאריך עדכון מודל
B7: הערות חשובות: בעת עריכת המודל - חל איסור מוחלט לבצע גזירה והדבקה או העברה של תא ממקום למקום על ידי גרירה. אסור לבצע "הוספה" או "מחיקה" של שורות או עמודות יש לפתוח את המודל בגרסת אקסל 2010 לפחות. חל איסור לשמור את הקובץ בפורמט התואם אקסל 97-2003
B9: הוראת שעה/מעבר: 2019-2020
B11: הדרכה להזנת נתונים
B12: צבע התא | C12: מטרת התא | D12: דגש
B13: צהוב | C13: הזנת נתונים | D13: נדרש להזין מידע בהתאם להנחיות מבחן התמיכה, אי הזנה של תא יכולה להביא לידי שגיאה בתוצאות במודל. במקומות שבהם מזינים 0/1, אז המשמעות של 0 הוא "לא" ו-1 "כן"
B14: חום | C14: הצגת מידע | D14: תא שאיננו מיועד להזנה. תא זה מציג מידע עפ"י נוסחה קבועה ואין לשנות אותה.
B15: אדום | C15: התראת שגיאה | D15: קיימת שגיאה בהזנת נתונים באחד מהתאים המיועדים להזנה, נדרש להזין את הנתונים הנדרשים לפני קביעת גובה תמיכה סופי.
B17: יש לעדכן את שנת התמיכה והתקציב בגיליון פרמטרים לקריטריונים. את רשימת המוסדות יש להזין בגיליון תנאי סף וכן את כלל הנתונים לגבי תנאי הסף. יש למלא בכל גיליון של משתנה את הנתונים הרלוונטיים. במידה ויש נתון אשר הוזן בגיליון קודם, נתון זה יועבר באופן אוטומטי לגיליונות הרלוונטיים ללא צורך בהזנה חוזרת.
B33: ניהול גרסאות
B34: מספר גרסה | C34: תאריך עדכון גרסה | D34: תאריך גרסה של מבחן תמיכה | E34: התאמות נוספות של מבחן תמיכה

Sheet פרמטרים לקריטריונים
B2: מודל פרויקטים מוסיקליים
B4: שנת תקציב | C4: 2025
B5: תקציב התמיכה | C5: 2023926
B6: מדד בסיס (לפי בסיס ממוצע 2016) | C6: 131.58302
B7: מדד ידוע (לפי בסיס ממוצע 2016) | C7: 143.13206
B9: הגדרות
B10: הגדרת שנה | C10: תאריך התחלה | D10: תאריך סיום
B11: שנת התמיכה/תקציב | C11: =DATE($C$4,1,1) -> 45658 | D11: =DATE($C$4,12,31) -> 46022
B12: שנת ההערכה | C12: =DATE($C$4-3,10,1) -> 44835 | D12: =DATE($C$4-2,9,30) -> 45199
B13: שנת התקציב המבוקר | C13: =DATE($C$4-3,1,1) -> 44562 | D13: =DATE($C$4-3,12,31) -> 44926
B14: שנה תקציבית קודמת | C14: =DATE($C$4-1,1,1) -> 45292 | D14: =DATE($C$4-1,12,31) -> 45657
B24: סיווג | I24: מקדם
B25: סיווג | C25: תקציב גבוהה מ: | D25: הרצות
B30: משקולות קריטריונים
B31: סעיף | C31: משקל
B32: מורכבות הפרויקט | C32: 0.15
B33: תקציב | C33: 0.2
B35: מיקום גיאוגרפי | C35: 0.15
B37: מספר אמנים או מנחים | C37: 0.2
B38: חשיבות ותרומה לתחום | C38: 0.15
B39: ותק | C39: 0.15
D40: 0
D41: 0
D42: 0
D43: 0
D44: 0
D45: 0
B58: סה"כ | C58: =SUM(C32:C57) -> 1
B60: ="פרמטרים לחישוב ניקוד משתנה "&$B$32 -> פרמטרים לחישוב ניקוד משתנה מורכבות הפרויקט
B61: רמת מורכבות | C61: ניקוד
B62: מעטה | C62: 1
B63: רבה - 2 נקודות | C63: 2
B64: רבה - 3 נקודות | C64: 3
B65: רבה מאוד - 4 נקודות | C65: 4
B66: רבה מאוד - 5 נקודות | C66: 5
B80: ="פרמטרים לחישוב ניקוד משתנה "&$B$33 -> פרמטרים לחישוב ניקוד משתנה תקציב
B81: סעיף | C81: ניקוד
B82: בעד כל שקל חדש בתקציב המאושר | C82: 1
B100: ="פרמטרים לחישוב ניקוד משתנה "&$B$34 -> פרמטרים לחישוב ניקוד משתנה
B120: ="פרמטרים לחישוב ניקוד משתנה "&$B$35 -> פרמטרים לחישוב ניקוד משתנה מיקום גיאוגרפי
...

Sheet הוראת שעה
A4: האם חלה הוראת השעה בשנה הספציפית
A5: שנה | C5: הגנה הוראת שעה | D5: מינימום תמיכה | E5: שיעור הקלה
A6: 2019 | C6: 0.85 | D6: 20000 | E6: 0.7
A7: =A6+1 -> 2020 | C7: 0 | D7: 25000 | E7: 0.7
A8: =A7+1 -> 2021 | C8: 0 | D8: 25000 | E8: 0.8
A9: =A8+1 -> 2022 | C9: 0 | D9: 25000 | E9: 0.8
A10: =A9+1 -> 2023 | C10: 0 | D10: 25000 | E10: 0.8
A11: =A10+1 -> 2024 | C11: 0 | D11: 25000 | E11: 0.8
A12: =A11+1 -> 2025 | C12: 0 | D12: 25000 | E12: 0.8
A13: =A12+1 -> 2026 | C13: 0 | D13: 25000 | E13: 0.8
A14: =A13+1 -> 2027 | C14: 0 | D14: 25000 | E14: 0.8
A15: =A14+1 -> 2028 | C15: 0 | D15: 25000 | E15: 0.8
A16: =A15+1 -> 2029 | C16: 0 | D16: 25000 | E16: 0.8
A17: =A16+1 -> 2030 | C17: 0 | D17: 25000 | E17: 0.8
A18: =A17+1 -> 2031 | C18: 0 | D18: 25000 | E18: 0.8
... A20: =A19+1 -> 2033 | C20: 0 | D20: 25000 | E20: 0.8

Sheet תנאי סף
B1: =MID(CELL("filename",BI2),FIND("]",CELL("filename",BI2),1)+1,99) -> תנאי סף | BH1: בדוק נתוני הזנה | BJ1: סוגי בקרות | BK1: 0/1 | BL1: מספר | BM1: מספר שלם | BN1: מספר שאינו שלילי | BO1: מספר שלם שאינו שלילי | BP1: מספר חיובי | BQ1: מספר שלם חיובי | BR1: טקסט | BS1: טקסט מרשימה סגורה
BE2: ='פרמטרים לקריטריונים'!$B$4 -> שנת תקציב | BF2: ='פרמטרים לקריטריונים'!$C$4 -> 2025 | BK2: =IF(ISNA(MATCH(G31,$BH$30:$BI$30,0)),0,1) -> 1 | BL2: =IF(IFERROR(G31*1,"bad")="bad",0,1) -> 1 | BM2: =IF(IFERROR(IF(G31=TRUNC(G31),1,"bad"),"bad")="bad",0,1) -> 1 | BN2: =IF(AND(IF(IFERROR(G31*1,"bad")="bad",0,1)=1,G31>=0),1,0) -> 1 | BO2: =IF(AND(IF(IFERROR(IF(G31=TRUNC(G31),1,"bad"),"bad")="bad",0,1)=1,G31>=0),1,0) -> 1 | BP2: =IF(AND(IF(IFERROR(G31*1,"bad")="bad",0,1)=1,G31>0),1,0) -> 1 | BQ2: =IF(AND(IF(IFERROR(IF(G31=TRUNC(G31),1,"bad"),"bad")="bad",0,1)=1,G31>0),1,0) -> 1 | BR2: 1 | BS2: =IF(IFERROR(HLOOKUP(G31,$DL$30:$DV$30,1,0),"bad")="bad",0,1) -> 0
BE3: ='פרמטרים לקריטריונים'!$B$5 -> תקציב התמיכה | BF3: ='פרמטרים לקריטריונים'!$C$5 -> 2023926 | BJ3: מספר בקרה | BK3: 1 | BL3: 2 | BM3: 3 | BN3: 4 | BO3: 5 | BP3: 6 | BQ3: 7 | BR3: 8 | BS3: 9
F4: רלוונטי למבחן עמידה בתנאי סף? 1=רלוונטי. 0= לא רלוונטי אבל נדרשת בקרה על הזנת נתונים. 99= לא רלוונטי ולא נדרשת בקה על הזנת נתונים | G4: 1 | H4: 1 | I4: 0 | J4: 99 | K4: 1 | L4: 1 | M4: 1 | N4: 1 | O4: 0 | P4: 99 | Q4: 99 | R4: 99 | S4: 1 | T4: 1 | U4: 1 | V4: 1 | W4: 1 | X4: 1 | Y4: 1 | Z4: 1 | AA4: 1 | AB4: 1 | AC4: 1 | AD4: 1 | AE4: 1 | AF4: 1 | AG4: 0 | AH4: 99 | AI4: 99 | AJ4: 99 | AK4: 99 | AL4: 99 | AM4: 99 | AN4: 99 | AO4: 99 | AP4: 99 | AQ4: 99 | AR4: 99 | AS4: 99 | AT4: 1 | AU4: 99 | AV4: 99 | AW4: 1 | AX4: 1 | AY4: 1 | AZ4: 1 | BA4: 99 | BJ4: רשימה סגורה | BK4: 1 | BL4: 2 | BM4: 3 | BN4: 4 | BO4: 5 | BP4: 6 | BQ4: 7 | BR4: 8 | BS4: 9 | BT4: 10 | DI4: שיעור הקלה | DJ4: =INDEX('הוראת שעה'!$E$6:$E$20,MATCH($BF$2,'הוראת שעה'!$A$6:$A$20,1)) -> 0.8
F5: מעבר תנאי סף- במידה ולא רלוונטי להשאיר ריק | G5: 1 | H5: 1 | K5: 1 | L5: 1 | M5: 1 | N5: 1 | S5: 1 | T5: 1 | U5: 1 | V5: 1 | W5: 1 | X5: 1 | Y5: 1 | Z5: 1 | AA5: 1 | AB5: 1 | AC5: 1 | AD5: 1 | AE5: 1 | AF5: 1 | AQ5: 5 | AR5: 25 | AS5: 18 | AT5: =50000/'פרמטרים לקריטריונים'!$C$6*'פרמטרים לקריטריונים'!$C$7 -> 54388.5 | AW5: 1 | AX5: 1 | AY5: 1 | AZ5: 1 | DB5: מספר תנאים | DC5: =COUNTA(DB7:DH7) -> 3 | DI5: הקלות מותרות | DJ5: 2
DI6: נדרש לפי הקלה
DB7: =AQ5 -> 5 | DC7: =AR5 -> 25 | DD7: =AS5 -> 18 | DI7: =ROUNDUP(DB7*$DJ$4,0) -> 4 | DJ7: =ROUNDUP(DC7*$DJ$4,0) -> 20 | DK7: =ROUNDUP(DD7*$DJ$4,0) -> 15
F28: סעיף | G28: 7(א)(3) | H28: 7(א)(5) | I28: 7(א)(6) | J28: 7(א)(6) | K28: 7(א)(6) | L28: 7(ב) | M28: 7(ג) | N28: 7(ד), 7(ה) | O28: 7(ה) | P28: 7(ו) | Q28: 7(ו) | R28: 7(ו) | S28: 7(ה), 7(ו) | T28: 8(1) | U28: 8(2) | V28: 8(3) | W28: 8(4) | X28: 8(5) | Y28: 8(6) | Z28: 8(7) | AA28: 8(8) | AB28: 12(א)(1) | AC28: 12(א)(2) | AD28: 12(א)(3) | AE28: 12(א)(5) | AF28: 12(א)(6) | AG28: 12(א)(7) | AH28: 12(א)(7א) | AI28: 12(א)(7ב) | AJ28: 12(א)(7ג1) | AK28: 12(א)(7ג1) | AL28: 12(א)(7ג4) | AM28: 12(א)(7ג5) | AN28: 12(א)(7ג6) | AO28: 12(א)(7ג7) | AP28: 12(א)(7ג8) | AQ28: 12(א)(7ג2) | AR28: 12(א)(7ג2) | AS28: 12(א)(7ג2) | AT28: 12(א)(4) | AU28: 12(ב) | AV28: 12(ב) | AX28: 7(א)(4) | BG28: =IF(SUM(BG31:BG130)=COUNT(BG31:BG130),1,0) -> 0 | BJ28: =MATCH(G$30,$BK$1:$BS$1,0) -> 1 | BK28: =MATCH(H$30,$BK$1:$BS$1,0) -> 1 | BL28: =MATCH(I$30,$BK$1:$BS$1,0) -> 1 | BM28: =MATCH(J$30,$BK$1:$BS$1,0) -> 1 | BN28: =MATCH(K$30,$BK$1:$BS$1,0) -> #N/A | BO28: =MATCH(L$30,$BK$1:$BS$1,0) -> 1 | BP28: =MATCH(M$30,$BK$1:$BS$1,0) -> 1 | BQ28: =MATCH(N$30,$BK$1:$BS$1,0) -> 1 | ... DB28: =MATCH(AY$30,$BK$1:$BS$1,0) -> 1 | DC28: =MATCH(BA$30,$BK$1:$BS$1,0) -> #N/A | DD28: =MATCH(BB$30,$BK$1:$BS$1,0) -> #N/A | DE28: =MATCH(BC$30,$BK$1:$BS$1,0) -> #N/A | DF28: =MATCH(BD$30,$BK$1:$BS$1,0) -> #N/A | DG28: =MATCH(BE$30,$BK$1:$BS$1,0) -> #N/A
A29: 100 | B29: מס"ד | C29: =COLUMN() -> 3 | D29: =COLUMN() -> 4 | E29: =COLUMN() -> 5 | F29: שם המוסד | G29: המוסד הגיש את כל הדוחות הנדרשים, מלאים ותקינים | H29: המוסד הגיש תקציב לפעילות והודוחת במהלך שנת התמיכה | I29: המוסד נתמך בשנה התקציבית הקודמת בעד הפעילות נשוא בקשתו לתמיכה | J29: מוסד שלא נתמך בשנה קודמת הודיע למינהל על כוונתו להגיש בקשה כאמור 8 חודשים לפחות לפני מועד הגשת הבקשה לתמיכה, ונתן לחברי המדור הזדמנות סבירה לצפות בהפקותיו או להתרשם מפעילותו, לפי העניין, לרבות בדרך של יום האזנה שעורך המשרד | K29: המוסד עומד בתנאי סעיף 7(א)(6) | L29: לפעילות נשוא בקשת המוסד לא ניתנת תמיכה על פי מבחני תמיכה אחרים של המשרד או שהיא מתוקצבת בדרך אחרת על ידי המשרד או נתמכת או מתוקצבת על ידי משרד ממשלתי אחר או שהממשלה משתתפת במימונה בדרך אחרת | M29: המוסד אינו גוף כלי המקבל תמיכה לפי המבחנים לחלוקת כספי תמיכות של משרד התרבות והספורט בתחום הגופים הכליים | N29: המוסד המבצע את הפעילות נשוא התמיכה הגיש בקשת תמיכה נפרדת לכל תחום תמיכה שבו הוא מבקש להיתמך או לכל סוג של פעילות, לפי העניין; או בקשה לתמיכה עד שתי כיתות אמן | O29: ארגון גג הבקשה לתמיכה הוגשה בידי ארגון גג שנתמך בהתאם למבחנים לתמיכה של משרד התרבות והספורט במוסדות המשמשים ארגון גג בתחום התרבות | P29: ארגון גג הבקשה כוללת התייחסות לפעילות נשוא התמיכה בלבד | Q29: ארגון גג הבקשה נחתמה בידי הגורם המקצועי המנהל את הפעילות נשוא הבקשה לתמיכה | R29: ארגון גג בבקשה לא נכלות הוצאות שבעבורן קיבל תמיכה כארגון גג, כמו השכרת חללי חזרות והוצאות תקורה | S29: עומד בתנאי המוסד המבצע את הפעילות נשוא התמיכה או בתנאי ארגון גג | T29: מקיים פעילות מוסיקלית מקצועית במשך שנתיים | U29: התקציב מנוהל כמשק סגור ובאופן ישיר | V29: מטרות המוסד עולים בקנה אחד עם מטרות התמיכה | W29: המוסד עומד בדרישות הנוהל | X29: המוסד מציין בפרסומיו את תמיכת המשרד | Y29: המוסד מקיים את הוראות הדין הנוגעות לפעילותו, מחזיק בכל האישורים הדרושים לפי חוק לצורך פעילותו לפי מבחנים אלה, מקפיד על כללי ניהול תקין ושומר על שקיפות מלאה באורחות התנהלותו באופן ההולם את מטרותיה של הפעילות הנתמכת | Z29: המוסד פועל ביעילות ובתקורה מינימלית, שמאפשרת את פעילותו התקינה והראויה, לרבות בהתאם לנוהל ולהנחיות החשב הכללי שבמשרד האוצר לעניין הוצאות הנהלה וכלליות | AA29: המוסד משתמש בכספי התמיכה רק למטרות שלשמן ניתנו | AB29: ="ותק של שנתיים לפחות בעשייה מקצועית בתחום המוסיקה בזיקה לנושא הפרויקט נכון ל-1/1/"&BF2 -> ותק של שנתיים לפחות בעשייה מקצועית בתחום המוסיקה בזיקה לנושא הפרויקט נכון ל-1/1/2025 | AC29: מקיים פרויקט לעידוד וקידום היצירה המוסיקלית האמנותית | AD29: אינו חלק ממוסד מוכר להשכלה גבוהה או מבית ספר לאמנות המקבל תמיכה ממינהל התרבות | AE29: אינו פועל כחלק מגוף שיש לו פעילויות נוספות שאינן נתמכות לפי מבחנים אלה או הפרויקט מנוהל כמשק סגור | AF29: הפרויקט בעל חשיבות וברמה מקצועית נאותה | AG29: הפרויקט מסוג כיתת אומן | AH29: ="קיים בישראל שתי כיתות אומן בתחום המוסיקה לפחות נכון ל-1/1/"&$BF$2 -> קיים בישראל שתי כיתות אומן בתחום המוסיקה לפחות נכון ל-1/1/2025 | AI29: מקיים כיתות אמן בתחום המוסיקה לפחות אחת לשנה | AJ29: כיתת האמן נערכת תחום מוסיקלי | AK29: כיתת האמן כוללת שלב של מיון משתתפים | AL29: הנחיה מקצועית והדרכה מקצועית בידי אמן מורה עם ניסיון מקצועי ומוניטין | AM29: המוסד פרסם לציבור הרחב מודעות בדבר קיום כיתת האמן | AN29: כיתת האמן נערכת במתקן שהולם את הפעילות הנתמכת וכולל אולם מופעים | AO29: בסיום כיתת האמן נערך מופע סיום פתוח לקהל הרחב | AP29: כיתת האמן ברמה מקצועית טובה | AQ29: משך ימי כיתת האמן | AR29: היקף השעות של כיתת האמן | AS29: מספר התלמידים המשתתפים בכיתת האמן | AT29: תקציב הפרויקט | AU29: הוועדה המליצה על קבלת הקלות | AV29: המוסד קיבל הקלה בשנה קודמת | AW29: עומד בתנאים לכיתת אמן לאור הקלות | AX29: המוסד הגיש תכנית עבודה כללית לשנת התמיכה | AY29: עומד בתנאי סף כלליים אחרים | AZ29: במוסד בו מועסקים עובדים ביחסי עבודה, המוסד קבע תקנון למניעת הטרדה מינית ועומד בדרישות תקנה 8 לתקנות חובות מעסיק. המוסד צירף לבקשתו את התקנון ופרטים על ההתאמות בתקנון, פרסומו למסירתו. (במוסד בו אין מתכונת יחסי עבודה - יש לסמן 1 עבור תנאי זה) | BA29: מעבר תנאי סף-אישור מיוחד | BB29: ריק | BC29: ריק | BD29: ריק | BE29: מעבר תנאי סף | BF29: הערות | BG29: בקרה ראשית | BJ29: ="בקרת "&G29 -> בקרת המוסד הגיש את כל הדוחות הנדרשים, מלאים ותקינים | BK29: ="בקרת "&H29 -> בקרת המוסד הגיש תקציב לפעילות והודוחת במהלך שנת התמיכה | BL29: ="בקרת "&I29 -> בקרת המוסד נתמך בשנה התקציבית הקודמת בעד הפעילות נשוא בקשתו לתמיכה | BM29: ="בקרת "&J29 -> בקרת מוסד שלא נתמך בשנה קודמת הודיע למינהל על כוונתו להגיש בקשה כאמור 8 חודשים לפחות לפני מועד הגשת הבקשה לתמיכה, ונתן לחברי המדור הזדמנות סבירה לצפות בהפקותיו או להתרשם מפעילותו, לפי העניין, לרבות בדרך של יום האזנה שעורך המשרד | BN29: ="בקרת "&K29 -> בקרת המוסד עומד בתנאי סעיף 7(א)(6) | BO29: ="בקרת "&L29 -> בקרת לפעילות נשוא בקשת המוסד לא ניתנת תמיכה על פי מבחני תמיכה אחרים של המשרד או שהיא מתוקצבת בדרך אחרת על ידי המשרד או נתמכת או מתוקצבת על ידי משרד ממשלתי אחר או שהממשלה משתתפת במימונה בדרך אחרת | BP29: ="בקרת "&M29 -> בקרת המוסד אינו גוף כלי המקבל תמיכה לפי המבחנים לחלוקת כספי תמיכות של משרד התרבות והספורט בתחום הגופים הכליים | BQ29: ="בקרת "&N29 -> בקרת המוסד המבצע את הפעילות נשוא התמיכה הגיש בקשת תמיכה נפרדת לכל תחום תמיכה שבו הוא מבקש להיתמך או לכל סוג של פעילות, לפי העניין; או בקשה לתמיכה עד שתי כיתות אמן | ... DB29: ="בקרת "&AY29 -> בקרת עומד בתנאי סף כלליים אחרים | DC29: ="בקרת "&BA29 -> בקרת מעבר תנאי סף-אישור מיוחד | DD29: ="בקרת "&BB29 -> בקרת ריק | DE29: ="בקרת "&BC29 -> בקרת ריק | DF29: ="בקרת "&BD29 -> בקרת ריק | DG29: ="בקרת "&BE29 -> בקרת מעבר תנאי סף | DL29: רשימה סגורה | DR29: קריטריון הקלה 1 | DS29: קריטריון הקלה 2 | DT29: קריטריון הקלה 3 | DX29: תנאי ללא הקלה | DY29: קריטריון הקלה 1 | DZ29: קריטריון הקלה 2 | EA29: קריטריון הקלה 3 | EB29: קריטריון הקלה 4 | EC29: קריטריון הקלה 5 | ED29: קריטריון הקלה 6 | EE29: תנאים עם הקלה | EF29: עומד בתנאים ללא הקלות | EG29: עומד בתנאים להקלות
G30: 0/1 | H30: 0/1 | I30: 0/1 | J30: 0/1 | L30: 0/1 | M30: 0/1 | N30: 0/1 | O30: 0/1 | P30: 0/1 | Q30: 0/1 | R30: 0/1 | T30: 0/1 | U30: 0/1 | V30: 0/1 | W30: 0/1 | X30: 0/1 | Y30: 0/1 | Z30: 0/1 | AA30: 0/1 | AB30: 0/1 | AC30: 0/1 | AD30: 0/1 | AE30: 0/1 | AF30: 0/1 | AG30: 0/1 | AH30: 0/1 | AI30: 0/1 | AJ30: 0/1 | AK30: 0/1 | AL30: 0/1 | AM30: 0/1 | AN30: 0/1 | AO30: 0/1 | AP30: 0/1 | AQ30: מספר שלם שאינו שלילי | AR30: מספר שלם שאינו שלילי | AS30: מספר שלם שאינו שלילי | AT30: מספר שאינו שלילי | AV30: 0/1 | AX30: 0/1 | AY30: 0/1 | AZ30: 0/1 | BF30: טקסט | BH30: 0 | BI30: 1 | BJ30: =G30 -> 0/1 | BK30: =H30 -> 0/1 | BL30: =I30 -> 0/1 | BM30: =J30 -> 0/1 | BN30: =K30 -> 0 | BO30: =L30 -> 0/1 | BP30: =M30 -> 0/1 | BQ30: =N30 -> 0/1 | ... DB30: =AY30 -> 0/1 | DC30: =BA30 -> 0 | DD30: =BB30 -> 0 | DE30: =BC30 -> 0 | DF30: =BD30 -> 0 | DG30: =BE30 -> 0
B31: =IF(F31="","",ROW()-30) -> 1 | F31: מרכז למוסיקה ירושלים - כיתות אמן מרים פריד | G31: 1 | H31: 1 | I31: 1 | J31: 0 | K31: 1 | L31: 1 | M31: 1 | N31: 1 | O31: 0 | P31: 0 | Q31: 0 | R31: 0 | S31: 1 | T31: 1 | U31: 1 | V31: 1 | W31: 1 | X31: 1 | Y31: 1 | Z31: 1 | AA31: 1 | AB31: 1 | AC31: 1 | AD31: 1 | AE31: 1 | AF31: 1 | AG31: 1 | AH31: 1 | AI31: 1 | AJ31: 1 | AK31: 1 | AL31: 1 | AM31: 1 | AN31: 1 | AO31: 1 | AP31: 1 | AQ31: 5 | AR31: 30 | AS31: 27 | AT31: 105000 | AU31: =IF($F31="","",IF(OR(EF31=1,AND(COUNT(G31:AP31)=SUM(G31:AP31),EG31=1)),1,0)) -> 1 | AV31: 0 | AW31: =IF($F31="","",IF(OR(AG31=0,AND(SUM(AH31:AP31)=COUNTA($AH$29:$AP$29),OR(AND(AV31=0,AU31=1,EG31=1),EF31=1))),1,0)) -> 1 | AX31: 1 | AY31: 1 | AZ31: 1 | BA31: 0 | BE31: {=IF($F31="","",IF(BA31=1,1,IF(BG31<>1,$BH$1,IF(SUMPRODUCT(--(G31:AZ31>=$G$5:$AZ$5)*($G$5:$AZ$5<>"")*($G$4:$AZ$4=1))=COUNTIF($G$4:$AZ$4,1),1,0))))} -> 1 | BF31: מומלץ לתמיכה עפ"י מבחן התמיכה - תחום ד'. הוגשה הצעת תקציב בסך 105,000 ₪. עפ"י המלצת המדור אושרו הוצאות התקציב המבוקש. | BG31: =IF(OR(SUM(BJ31:DG31)<>COUNT(BJ31:DG31),SUMPRODUCT(--(G31:AY31=$BH$1))<>0),0,1) -> 1 | BH31: =IF($F31="","",BH$30) -> 0 | BI31: =IF($F31="","",BI$30) -> 1 | BJ31: =IF(OR(G$30="",G$4=99),1,IF(G31="",0,IFERROR(CHOOSE(BJ$28,IF(ISNA(MATCH(G31,$BH$30:$BI$30,0)),0,1),IF(ISNUMBER(G31),1,0),IF(G31=TRUNC(G31),1,0),IF(AND(G31*1=G31,G31>=0),1,0),IF(AND(G31=TRUNC(G31),G31>=0),1,0),IF(AND(G31*1=G31,G31>0),1,0),IF(AND(G31=TRUNC(G31),G31>0),1,0),1,IF(ISNA(HLOOKUP(G31,$BK$4:$BT$4,1,0)),0,1)),0))) -> 1 | BK31: =IF(OR(H$30="",H$4=99),1,IF(H31="",0,IFERROR(CHOOSE(BK$28,IF(ISNA(MATCH(H31,$BH$30:$BI$30,0)),0,1),IF(ISNUMBER(H31),1,0),IF(H31=TRUNC(H31),1,0),IF(AND(H31*1=H31,H31>=0),1,0),IF(AND(H31=TRUNC(H31),H31>=0),1,0),IF(AND(H31*1=H31,H31>0),1,0),IF(AND(H31=TRUNC(H31),H31>0),1,0),1,IF(ISNA(HLOOKUP(H31,$BK$4:$BT$4,1,0)),0,1)),0))) -> 1 | BL31: =IF(OR(I$30="",I$4=99),1,IF(I31="",0,IFERROR(CHOOSE(BL$28,IF(ISNA(MATCH(I31,$BH$30:$BI$30,0)),0,1),IF(ISNUMBER(I31),1,0),IF(I31=TRUNC(I31),1,0),IF(AND(I31*1=I31,I31>=0),1,0),IF(AND(I31=TRUNC(I31),I31>=0),1,0),IF(AND(I31*1=I31,I31>0),1,0),IF(AND(I31=TRUNC(I31),I31>0),1,0),1,IF(ISNA(HLOOKUP(I31,$BK$4:$BT$4,1,0)),0,1)),0))) -> 1 | BM31: =IF(OR(J$30="",J$4=99),1,IF(J31="",0,IFERROR(CHOOSE(BM$28,IF(ISNA(MATCH(J31,$BH$30:$BI$30,0)),0,1),IF(ISNUMBER(J31),1,0),IF(J31=TRUNC(J31),1,0),IF(AND(J31*1=J31,J31>=0),1,0),IF(AND(J31=TRUNC(J31),J31>=0),1,0),IF(AND(J31*1=J31,J31>0),1,0),IF(AND(J31=TRUNC(J31),J31>0),1,0),1,IF(ISNA(HLOOKUP(J31,$BK$4:$BT$4,1,0)),0,1)),0))) -> 1 | BN31: =IF(OR(K$30="",K$4=99),1,IF(K31="",0,IFERROR(CHOOSE(BN$28,IF(ISNA(MATCH(K31,$BH$30:$BI$30,0)),0,1),IF(ISNUMBER(K31),1,0),IF(K31=TRUNC(K31),1,0),IF(AND(K31*1=K31,K31>=0),1,0),IF(AND(K31=TRUNC(K31),K31>=0),1,0),IF(AND(K31*1=K31,K31>0),1,0),IF(AND(K31=TRUNC(K31),K31>0),1,0),1,IF(ISNA(HLOOKUP(K31,$BK$4:$BT$4,1,0)),0,1)),0))) -> 1 | BO31: =IF(OR(L$30="",L$4=99),1,IF(L31="",0,IFERROR(CHOOSE(BO$28,IF(ISNA(MATCH(L31,$BH$30:$BI$30,0)),0,1),IF(ISNUMBER(L31),1,0),IF(L31=TRUNC(L31),1,0),IF(AND(L31*1=L31,L31>=0),1,0),IF(AND(L31=TRUNC(L31),L31>=0),1,0),IF(AND(L31*1=L31,L31>0),1,0),IF(AND(L31=TRUNC(L31),L31>0),1,0),1,IF(ISNA(HLOOKUP(L31,$BK$4:$BT$4,1,0)),0,1)),0))) -> 1 | BP31: =IF(OR(M$30="",M$4=99),1,IF(M31="",0,IFERROR(CHOOSE(BP$28,IF(ISNA(MATCH(M31,$BH$30:$BI$30,0)),0,1),IF(ISNUMBER(M31),1,0),IF(M31=TRUNC(M31),1,0),IF(AND(M31*1=M31,M31>=0),1,0),IF(AND(M31=TRUNC(M31),M31>=0),1,0),IF(AND(M31*1=M31,M31>0),1,0),IF(AND(M31=TRUNC(M31),M31>0),1,0),1,IF(ISNA(HLOOKUP(M31,$BK$4:$BT$4,1,0)),0,1)),0))) -> 1 | BQ31: =IF(OR(N$30="",N$4=99),1,IF(N31="",0,IFERROR(CHOOSE(BQ$28,IF(ISNA(MATCH(N31,$BH$30:$BI$30,0)),0,1),IF(ISNUMBER(N31),1,0),IF(N31=TRUNC(N31),1,0),IF(AND(N31*1=N31,N31>=0),1,0),IF(AND(N31=TRUNC(N31),N31>=0),1,0),IF(AND(N31*1=N31,N31>0),1,0),IF(AND(N31=TRUNC(N31),N31>0),1,0),1,IF(ISNA(HLOOKUP(N31,$BK$4:$BT$4,1,0)),0,1)),0))) -> 1 | ... CN31: =IF(OR(AK$30="",AK$4=99),1,IF(AK31="",0,IFERROR(CHOOSE(CN$28,IF(ISNA(MATCH(AK31,$BH$30:$BI$30,0)),0,1),IF(ISNUMBER(AK31),1,0),IF(AK31=TRUNC(AK31),1,0),IF(AND(AK31*1=AK31,AK31>=0),1,0),IF(AND(AK31=TRUNC(AK31),AK31>=0),1,0),IF(AND(AK31*1=AK31,AK31>0),1,0),IF(AND(AK31=TRUNC(AK31),AK31>0),1,0),1,IF(ISNA(HLOOKUP(AK31,$BK$4:$BT$4,1,0)),0,1)),0))) -> 1 | CO31: =IF(OR(AL$30="",AM$4=99),1,IF(AL31="",0,IFERROR(CHOOSE(CO$28,IF(ISNA(MATCH(AL31,$BH$30:$BI$30,0)),0,1),IF(ISNUMBER(AL31),1,0),IF(AL31=TRUNC(AL31),1,0),IF(AND(AL31*1=AL31,AL31>=0),1,0),IF(AND(AL31=TRUNC(AL31),AL31>=0),1,0),IF(AND(AL31*1=AL31,AL31>0),1,0),IF(AND(AL31=TRUNC(AL31),AL31>0),1,0),1,IF(ISNA(HLOOKUP(AL31,$BK$4:$BT$4,1,0)),0,1)),0))) -> 1 | CP31: =IF(OR(AM$30="",AN$4=99),1,IF(AM31="",0,IFERROR(CHOOSE(CP$28,IF(ISNA(MATCH(AM31,$BH$30:$BI$30,0)),0,1),IF(ISNUMBER(AM31),1,0),IF(AM31=TRUNC(AM31),1,0),IF(AND(AM31*1=AM31,AM31>=0),1,0),IF(AND(AM31=TRUNC(AM31),AM31>=0),1,0),IF(AND(AM31*1=AM31,AM31>0),1,0),IF(AND(AM31=TRUNC(AM31),AM31>0),1,0),1,IF(ISNA(HLOOKUP(AM31,$BK$4:$BT$4,1,0)),0,1)),0))) -> 1 | CQ31: =IF(OR(AN$30="",AN$4=99),1,IF(AN31="",0,IFERROR(CHOOSE(CQ$28,IF(ISNA(MATCH(AN31,$BH$30:$BI$30,0)),0,1),IF(ISNUMBER(AN31),1,0),IF(AN31=TRUNC(AN31),1,0),IF(AND(AN31*1=AN31,AN31>=0),1,0),IF(AND(AN31=TRUNC(AN31),AN31>=0),1,0),IF(AND(AN31*1=AN31,AN31>0),1,0),IF(AND(AN31=TRUNC(AN31),AN31>0),1,0),1,IF(ISNA(HLOOKUP(AN31,$BK$4:$BT$4,1,0)),0,1)),0))) -> 1 | CR31: =IF(OR(AO$30="",AO$4=99),1,IF(AO31="",0,IFERROR(CHOOSE(CR$28,IF(ISNA(MATCH(AO31,$BH$30:$BI$30,0)),0,1),IF(ISNUMBER(AO31),1,0),IF(AO31=TRUNC(AO31),1,0),IF(AND(AO31*1=AO31,AO31>=0),1,0),IF(AND(AO31=TRUNC(AO31),AO31>=0),1,0),IF(AND(AO31*1=AO31,AO31>0),1,0),IF(AND(AO31=TRUNC(AO31),AO31>0),1,0),1,IF(ISNA(HLOOKUP(AO31,$BK$4:$BT$4,1,0)),0,1)),0))) -> 1 | CS31: =IF(OR(AP$30="",AP$4=99),1,IF(AP31="",0,IFERROR(CHOOSE(CS$28,IF(ISNA(MATCH(AP31,$BH$30:$BI$30,0)),0,1),IF(ISNUMBER(AP31),1,0),IF(AP31=TRUNC(AP31),1,0),IF(AND(AP31*1=AP31,AP31>=0),1,0),IF(AND(AP31=TRUNC(AP31),AP31>=0),1,0),IF(AND(AP31*1=AP31,AP31>0),1,0),IF(AND(AP31=TRUNC(AP31),AP31>0),1,0),1,IF(ISNA(HLOOKUP(AP31,$BK$4:$BT$4,1,0)),0,1)),0))) -> 1 | CT31: =IF(OR(AQ$30="",AQ$4=99),1,IF(AQ31="",0,IFERROR(CHOOSE(CT$28,IF(ISNA(MATCH(AQ31,$BH$30:$BI$30,0)),0,1),IF(ISNUMBER(AQ31),1,0),IF(AQ31=TRUNC(AQ31),1,0),IF(AND(AQ31*1=AQ31,AQ31>=0),1,0),IF(AND(AQ31=TRUNC(AQ31),AQ31>=0),1,0),IF(AND(AQ31*1=AQ31,AQ31>0),1,0),IF(AND(AQ31=TRUNC(AQ31),AQ31>0),1,0),1,IF(ISNA(HLOOKUP(AQ31,$BK$4:$BT$4,1,0)),0,1)),0))) -> 1 | CU31: =IF(OR(AR$30="",AR$4=99),1,IF(AR31="",0,IFERROR(CHOOSE(CU$28,IF(ISNA(MATCH(AR31,$BH$30:$BI$30,0)),0,1),IF(ISNUMBER(AR31),1,0),IF(AR31=TRUNC(AR31),1,0),IF(AND(AR31*1=AR31,AR31>=0),1,0),IF(AND(AR31=TRUNC(AR31),AR31>=0),1,0),IF(AND(AR31*1=AR31,AR31>0),1,0),IF(AND(AR31=TRUNC(AR31),AR31>0),1,0),1,IF(ISNA(HLOOKUP(AR31,$BK$4:$BT$4,1,0)),0,1)),0))) -> 1 | CV31: =IF(OR(AS$30="",AS$4=99),1,IF(AS31="",0,IFERROR(CHOOSE(CV$28,IF(ISNA(MATCH(AS31,$BH$30:$BI$30,0)),0,1),IF(ISNUMBER(AS31),1,0),IF(AS31=TRUNC(AS31),1,0),IF(AND(AS31*1=AS31,AS31>=0),1,0),IF(AND(AS31=TRUNC(AS31),AS31>=0),1,0),IF(AND(AS31*1=AS31,AS31>0),1,0),IF(AND(AS31=TRUNC(AS31),AS31>0),1,0),1,IF(ISNA(HLOOKUP(AS31,$BK$4:$BT$4,1,0)),0,1)),0))) -> 1 | CW31: =IF(OR(AT$30="",AT$4=99),1,IF(AT31="",0,IFERROR(CHOOSE(CW$28,IF(ISNA(MATCH(AT31,$BH$30:$BI$30,0)),0,1),IF(ISNUMBER(AT31),1,0),IF(AT31=TRUNC(AT31),1,0),IF(AND(AT31*1=AT31,AT31>=0),1,0),IF(AND(AT31=TRUNC(AT31),AT31>=0),1,0),IF(AND(AT31*1=AT31,AT31>0),1,0),IF(AND(AT31=TRUNC(AT31),AT31>0),1,0),1,IF(ISNA(HLOOKUP(AT31,$BK$4:$BT$4,1,0)),0,1)),0))) -> 1 | CX31: =IF(OR(AU$30="",AU$4=99),1,IF(AU31="",0,IFERROR(CHOOSE(CX$28,IF(ISNA(MATCH(AU31,$BH$30:$BI$30,0)),0,1),IF(ISNUMBER(AU31),1,0),IF(AU31=TRUNC(AU31),1,0),IF(AND(AU31*1=AU31,AU31>=0),1,0),IF(AND(AU31=TRUNC(AU31),AU31>=0),1,0),IF(AND(AU31*1=AU31,AU31>0),1,0),IF(AND(AU31=TRUNC(AU31),AU31>0),1,0),1,IF(ISNA(HLOOKUP(AU31,$BK$4:$BT$4,1,0)),0,1)),0))) -> 1 | ... DB31: =IF(OR(AY$30="",AY$4=99),1,IF(AY31="",0,IFERROR(CHOOSE(DB$28,IF(ISNA(MATCH(AY31,$BH$30:$BI$30,0)),0,1),IF(ISNUMBER(AY31),1,0),IF(AY31=TRUNC(AY31),1,0),IF(AND(AY31*1=AY31,AY31>=0),1,0),IF(AND(AY31=TRUNC(AY31),AY31>=0),1,0),IF(AND(AY31*1=AY31,AY31>0),1,0),IF(AND(AY31=TRUNC(AY31),AY31>0),1,0),1,IF(ISNA(HLOOKUP(AY31,$BK$4:$BT$4,1,0)),0,1)),0))) -> 1 | DC31: =IF(OR(BA$30="",BA$4=99),1,IF(BA31="",0,IFERROR(CHOOSE(DC$28,IF(ISNA(MATCH(BA31,$BH$30:$BI$30,0)),0,1),IF(ISNUMBER(BA31),1,0),IF(BA31=TRUNC(BA31),1,0),IF(AND(BA31*1=BA31,BA31>=0),1,0),IF(AND(BA31=TRUNC(BA31),BA31>=0),1,0),IF(AND(BA31*1=BA31,BA31>0),1,0),IF(AND(BA31=TRUNC(BA31),BA31>0),1,0),1,IF(ISNA(HLOOKUP(BA31,$BK$4:$BT$4,1,0)),0,1)),0))) -> 1 | DD31: =IF(OR(BB$30="",BB$4=99),1,IF(BB31="",0,IFERROR(CHOOSE(DD$28,IF(ISNA(MATCH(BB31,$BH$30:$BI$30,0)),0,1),IF(ISNUMBER(BB31),1,0),IF(BB31=TRUNC(BB31),1,0),IF(AND(BB31*1=BB31,BB31>=0),1,0),IF(AND(BB31=TRUNC(BB31),BB31>=0),1,0),IF(AND(BB31*1=BB31,BB31>0),1,0),IF(AND(BB31=TRUNC(BB31),BB31>0),1,0),1,IF(ISNA(HLOOKUP(BB31,$BK$4:$BT$4,1,0)),0,1)),0))) -> 1 | DE31: =IF(OR(BC$30="",BC$4=99),1,IF(BC31="",0,IFERROR(CHOOSE(DE$28,IF(ISNA(MATCH(BC31,$BH$30:$BI$30,0)),0,1),IF(ISNUMBER(BC31),1,0),IF(BC31=TRUNC(BC31),1,0),IF(AND(BC31*1=BC31,BC31>=0),1,0),IF(AND(BC31=TRUNC(BC31),BC31>=0),1,0),IF(AND(BC31*1=BC31,BC31>0),1,0),IF(AND(BC31=TRUNC(BC31),BC31>0),1,0),1,IF(ISNA(HLOOKUP(BC31,$BK$4:$BT$4,1,0)),0,1)),0))) -> 1 | DF31: =IF(OR(BD$30="",BD$4=99),1,IF(BD31="",0,IFERROR(CHOOSE(DF$28,IF(ISNA(MATCH(BD31,$BH$30:$BI$30,0)),0,1),IF(ISNUMBER(BD31),1,0),IF(BD31=TRUNC(BD31),1,0),IF(AND(BD31*1=BD31,BD31>=0),1,0),IF(AND(BD31=TRUNC(BD31),BD31>=0),1,0),IF(AND(BD31*1=BD31,BD31>0),1,0),IF(AND(BD31=TRUNC(BD31),BD31>0),1,0),1,IF(ISNA(HLOOKUP(BD31,$BK$4:$BT$4,1,0)),0,1)),0))) -> 1 | DG31: =IF(OR(BE$30="",BE$4=99),1,IF(BE31="",0,IFERROR(CHOOSE(DG$28,IF(ISNA(MATCH(BE31,$BH$30:$BI$30,0)),0,1),IF(ISNUMBER(BE31),1,0),IF(BE31=TRUNC(BE31),1,0),IF(AND(BE31*1=BE31,BE31>=0),1,0),IF(AND(BE31=TRUNC(BE31),BE31>=0),1,0),IF(AND(BE31*1=BE31,BE31>0),1,0),IF(AND(BE31=TRUNC(BE31),BE31>0),1,0),1,IF(ISNA(HLOOKUP(BE31,$BK$4:$BT$4,1,0)),0,1)),0))) -> 1 | DR31: =AQ31>=DB$7 -> TRUE | DS31: =AR31>=DC$7 -> TRUE | DT31: =AS31>=DD$7 -> TRUE | DX31: =COUNTIF(DR31:DW31,TRUE) -> 3 | DY31: =AQ31>=DI$7 -> TRUE | DZ31: =AR31>=DJ$7 -> TRUE | EA31: =AS31>=DK$7 -> TRUE | EE31: =COUNTIF(DY31:ED31,TRUE) -> 3 | EF31: =IF($F31="","",IF(DX31=$DC$5,1,0)) -> 1 | EG31: =IF($F31="","",IF(AND(EE31=$DC$5,EE31-DX31<=$DJ$5),1,0)) -> 1
B32: =IF(F32="","",ROW()-30) -> 2 | F32: המרכז למוסיקה ע"ש פיליציה בלומנטל - צ'ליל בגליל | G32: 1 | H32: 1 | I32: 1 | J32: 0 | K32: 1 | L32: 1 | M32: 1 | N32: 1 | O32: 1 | P32: 1 | Q32: 1 | R32: 1 | S32: =IF(F32="","",IF(OR(O32=0,SUM(O32:R32)=4),1,0)) -> 1 | T32: 1 | U32: 1 | V32: 1 | W32: 1 | X32: 1 | Y32: 1 | Z32: 1 | AA32: 1 | AB32: 1 | AC32: 1 | AD32: 1 | AE32: 1 | AF32: 1 | AG32: 1 | AH32: 1 | AI32: 1 | AJ32: 1 | AK32: 1 | AL32: 1 | AM32: 1 | AN32: 1 | AO32: 1 | AP32: 1 | AQ32: 5 | AR32: 50 | AS32: 50 | AT32: 175000 | AU32: =IF($F32="","",IF(OR(EF32=1,AND(COUNT(G32:AP32)=SUM(G32:AP32),EG32=1)),1,0)) -> 1 | AV32: 1 | AW32: =IF($F32="","",IF(OR(AG32=0,AND(SUM(AH32:AP32)=COUNTA($AH$29:$AP$29),OR(AND(AV32=0,AU32=1,EG32=1),EF32=1))),1,0)) -> 1 | AX32: 1 | AY32: 1 | AZ32: 1 | BA32: 0 | BE32: {=IF($F32="","",IF(BA32=1,1,IF(BG32<>1,$BH$1,IF(SUMPRODUCT(--(G32:AZ32>=$G$5:$AZ$5)*($G$5:$AZ$5<>"")*($G$4:$AZ$4=1))=COUNTIF($G$4:$AZ$4,1),1,0))))} -> 1 | BF32: מומלץ לתמיכה עפ"י מבחן התמיכה - תחום ד'. הוגשה הצעת תקציב בסך 175,00 ₪. עפ"י המלצת המדור אושרו הוצאות התקציב המבוקש. | BG32: =IF(OR(SUM(BJ32:DG32)<>COUNT(BJ32:DG32),SUMPRODUCT(--(G32:AY32=$BH$1))<>0),0,1) -> 1 | BH32: =IF($F32="","",BH$30) -> 0 | BI32: =IF($F32="","",BI$30) -> 1 | BJ32: =IF(OR(G$30="",G$4=99),1,IF(G32="",0,IFERROR(CHOOSE(BJ$28,IF(ISNA(MATCH(G32,$BH$30:$BI$30,0)),0,1),IF(ISNUMBER(G32),1,0),IF(G32=TRUNC(G32),1,0),IF(AND(G32*1=G32,G32>=0),1,0),IF(AND(G32=TRUNC(G32),G32>=0),1,0),IF(AND(G32*1=G32,G32>0),1,0),IF(AND(G32=TRUNC(G32),G32>0),1,0),1,IF(ISNA(HLOOKUP(G32,$BK$4:$BT$4,1,0)),0,1)),0))) -> 1 | BK32: =IF(OR(H$30="",H$4=99),1,IF(H32="",0,IFERROR(CHOOSE(BK$28,IF(ISNA(MATCH(H32,$BH$30:$BI$30,0)),0,1),IF(ISNUMBER(H32),1,0),IF(H32=TRUNC(H32),1,0),IF(AND(H32*1=H32,H32>=0),1,0),IF(AND(H32=TRUNC(H32),H32>=0),1,0),IF(AND(H32*1=H32,H32>0),1,0),IF(AND(H32=TRUNC(H32),H32>0),1,0),1,IF(ISNA(HLOOKUP(H32,$BK$4:$BT$4,1,0)),0,1)),0))) -> 1 | BL32: =IF(OR(I$30="",I$4=99),1,IF(I32="",0,IFERROR(CHOOSE(BL$28,IF(ISNA(MATCH(I32,$BH$30:$BI$30,0)),0,1),IF(ISNUMBER(I32),1,0),IF(I32=TRUNC(I32),1,0),IF(AND(I32*1=I32,I32>=0),1,0),IF(AND(I32=TRUNC(I32),I32>=0),1,0),IF(AND(I32*1=I32,I32>0),1,0),IF(AND(I32=TRUNC(I32),I32>0),1,0),1,IF(ISNA(HLOOKUP(I32,$BK$4:$BT$4,1,0)),0,1)),0))) -> 1 | BM32: =IF(OR(J$30="",J$4=99),1,IF(J32="",0,IFERROR(CHOOSE(BM$28,IF(ISNA(MATCH(J32,$BH$30:$BI$30,0)),0,1),IF(ISNUMBER(J32),1,0),IF(J32=TRUNC(J32),1,0),IF(AND(J32*1=J32,J32>=0),1,0),IF(AND(J32=TRUNC(J32),J32>=0),1,0),IF(AND(J32*1=J32,J32>0),1,0),IF(AND(J32=TRUNC(J32),J32>0),1,0),1,IF(ISNA(HLOOKUP(J32,$BK$4:$BT$4,1,0)),0,1)),0))) -> 1 | BN32: =IF(OR(K$30="",K$4=99),1,IF(K32="",0,IFERROR(CHOOSE(BN$28,IF(ISNA(MATCH(K32,$BH$30:$BI$30,0)),0,1),IF(ISNUMBER(K32),1,0),IF(K32=TRUNC(K32),1,0),IF(AND(K32*1=K32,K32>=0),1,0),IF(AND(K32=TRUNC(K32),K32>=0),1,0),IF(AND(K32*1=K32,K32>0),1,0),IF(AND(K32=TRUNC(K32),K32>0),1,0),1,IF(ISNA(HLOOKUP(K32,$BK$4:$BT$4,1,0)),0,1)),0))) -> 1 | BO32: =IF(OR(L$30="",L$4=99),1,IF(L32="",0,IFERROR(CHOOSE(BO$28,IF(ISNA(MATCH(L32,$BH$30:$BI$30,0)),0,1),IF(ISNUMBER(L32),1,0),IF(L32=TRUNC(L32),1,0),IF(AND(L32*1=L32,L32>=0),1,0),IF(AND(L32=TRUNC(L32),L32>=0),1,0),IF(AND(L32*1=L32,L32>0),1,0),IF(AND(L32=TRUNC(L32),L32>0),1,0),1,IF(ISNA(HLOOKUP(L32,$BK$4:$BT$4,1,0)),0,1)),0))) -> 1 | BP32: =IF(OR(M$30="",M$4=99),1,IF(M32="",0,IFERROR(CHOOSE(BP$28,IF(ISNA(MATCH(M32,$BH$30:$BI$30,0)),0,1),IF(ISNUMBER(M32),1,0),IF(M32=TRUNC(M32),1,0),IF(AND(M32*1=M32,M32>=0),1,0),IF(AND(M32=TRUNC(M32),M32>=0),1,0),IF(AND(M32*1=M32,M32>0),1,0),IF(AND(M32=TRUNC(M32),M32>0),1,0),1,IF(ISNA(HLOOKUP(M32,$BK$4:$BT$4,1,0)),0,1)),0))) -> 1 | BQ32: =IF(OR(N$30="",N$4=99),1,IF(N32="",0,IFERROR(CHOOSE(BQ$28,IF(ISNA(MATCH(N32,$BH$30:$BI$30,0)),0,1),IF(ISNUMBER(N32),1,0),IF(N32=TRUNC(N32),1,0),IF(AND(N32*1=N32,N32>=0),1,0),IF(AND(N32=TRUNC(N32),N32>=0),1,0),IF(AND(N32*1=N32,N32>0),1,0),IF(AND(N32=TRUNC(N32),N32>0),1,0),1,IF(ISNA(HLOOKUP(N32,$BK$4:$BT$4,1,0)),0,1)),0))) -> 1 | ... CN32: =IF(OR(AK$30="",AK$4=99),1,IF(AK32="",0,IFERROR(CHOOSE(CN$28,IF(ISNA(MATCH(AK32,$BH$30:$BI$30,0)),0,1),IF(ISNUMBER(AK32),1,0),IF(AK32=TRUNC(AK32),1,0),IF(AND(AK32*1=AK32,AK32>=0),1,0),IF(AND(AK32=TRUNC(AK32),AK32>=0),1,0),IF(AND(AK32*1=AK32,AK32>0),1,0),IF(AND(AK32=TRUNC(AK32),AK32>0),1,0),1,IF(ISNA(HLOOKUP(AK32,$BK$4:$BT$4,1,0)),0,1)),0))) -> 1 | CO32: =IF(OR(AL$30="",AM$4=99),1,IF(AL32="",0,IFERROR(CHOOSE(CO$28,IF(ISNA(MATCH(AL32,$BH$30:$BI$30,0)),0,1),IF(ISNUMBER(AL32),1,0),IF(AL32=TRUNC(AL32),1,0),IF(AND(AL32*1=AL32,AL32>=0),1,0),IF(AND(AL32=TRUNC(AL32),AL32>=0),1,0),IF(AND(AL32*1=AL32,AL32>0),1,0),IF(AND(AL32=TRUNC(AL32),AL32>0),1,0),1,IF(ISNA(HLOOKUP(AL32,$BK$4:$BT$4,1,0)),0,1)),0))) -> 1 | CP32: =IF(OR(AM$30="",AN$4=99),1,IF(AM32="",0,IFERROR(CHOOSE(CP$28,IF(ISNA(MATCH(AM32,$BH$30:$BI$30,0)),0,1),IF(ISNUMBER(AM32),1,0),IF(AM32=TRUNC(AM32),1,0),IF(AND(AM32*1=AM32,AM32>=0),1,0),IF(AND(AM32=TRUNC(AM32),AM32>=0),1,0),IF(AND(AM32*1=AM32,AM32>0),1,0),IF(AND(AM32=TRUNC(AM32),AM32>0),1,0),1,IF(ISNA(HLOOKUP(AM32,$BK$4:$BT$4,1,0)),0,1)),0))) -> 1 | CQ32: =IF(OR(AN$30="",AN$4=99),1,IF(AN32="",0,IFERROR(CHOOSE(CQ$28,IF(ISNA(MATCH(AN32,$BH$30:$BI$30,0)),0,1),IF(ISNUMBER(AN32),1,0),IF(AN32=TRUNC(AN32),1,0),IF(AND(AN32*1=AN32,AN32>=0),1,0),IF(AND(AN32=TRUNC(AN32),AN32>=0),1,0),IF(AND(AN32*1=AN32,AN32>0),1,0),IF(AND(AN32=TRUNC(AN32),AN32>0),1,0),1,IF(ISNA(HLOOKUP(AN32,$BK$4:$BT$4,1,0)),0,1)),0))) -> 1 | CR32: =IF(OR(AO$30="",AO$4=99),1,IF(AO32="",0,IFERROR(CHOOSE(CR$28,IF(ISNA(MATCH(AO32,$BH$30:$BI$30,0)),0,1),IF(ISNUMBER(AO32),1,0),IF(AO32=TRUNC(AO32),1,0),IF(AND(AO32*1=AO32,AO32>=0),1,0),IF(AND(AO32=TRUNC(AO32),AO32>=0),1,0),IF(AND(AO32*1=AO32,AO32>0),1,0),IF(AND(AO32=TRUNC(AO32),AO32>0),1,0),1,IF(ISNA(HLOOKUP(AO32,$BK$4:$BT$4,1,0)),0,1)),0))) -> 1 | CS32: =IF(OR(AP$30="",AP$4=99),1,IF(AP32="",0,IFERROR(CHOOSE(CS$28,IF(ISNA(MATCH(AP32,$BH$30:$BI$30,0)),0,1),IF(ISNUMBER(AP32),1,0),IF(AP32=TRUNC(AP32),1,0),IF(AND(AP32*1=AP32,AP32>=0),1,0),IF(AND(AP32=TRUNC(AP32),AP32>=0),1,0),IF(AND(AP32*1=AP32,AP32>0),1,0),IF(AND(AP32=TRUNC(AP32),AP32>0),1,0),1,IF(ISNA(HLOOKUP(AP32,$BK$4:$BT$4,1,0)),0,1)),0))) -> 1 | CT32: =IF(OR(AQ$30="",AQ$4=99),1,IF(AQ32="",0,IFERROR(CHOOSE(CT$28,IF(ISNA(MATCH(AQ32,$BH$30:$BI$30,0)),0,1),IF(ISNUMBER(AQ32),1,0),IF(AQ32=TRUNC(AQ32),1,0),IF(AND(AQ32*1=AQ32,AQ32>=0),1,0),IF(AND(AQ32=TRUNC(AQ32),AQ32>=0),1,0),IF(AND(AQ32*1=AQ32,AQ32>0),1,0),IF(AND(AQ32=TRUNC(AQ32),AQ32>0),1,0),1,IF(ISNA(HLOOKUP(AQ32,$BK$4:$BT$4,1,0)),0,1)),0))) -> 1 | CU32: =IF(OR(AR$30="",AR$4=99),1,IF(AR32="",0,IFERROR(CHOOSE(CU$28,IF(ISNA(MATCH(AR32,$BH$30:$BI$30,0)),0,1),IF(ISNUMBER(AR32),1,0),IF(AR32=TRUNC(AR32),1,0),IF(AND(AR32*1=AR32,AR32>=0),1,0),IF(AND(AR32=TRUNC(AR32),AR32>=0),1,0),IF(AND(AR32*1=AR32,AR32>0),1,0),IF(AND(AR32=TRUNC(AR32),AR32>0),1,0),1,IF(ISNA(HLOOKUP(AR32,$BK$4:$BT$4,1,0)),0,1)),0))) -> 1 | CV32: =IF(OR(AS$30="",AS$4=99),1,IF(AS32="",0,IFERROR(CHOOSE(CV$28,IF(ISNA(MATCH(AS32,$BH$30:$BI$30,0)),0,1),IF(ISNUMBER(AS32),1,0),IF(AS32=TRUNC(AS32),1,0),IF(AND(AS32*1=AS32,AS32>=0),1,0),IF(AND(AS32=TRUNC(AS32),AS32>=0),1,0),IF(AND(AS32*1=AS32,AS32>0),1,0),IF(AND(AS32=TRUNC(AS32),AS32>0),1,0),1,IF(ISNA(HLOOKUP(AS32,$BK$4:$BT$4,1,0)),0,1)),0))) -> 1 | CW32: =IF(OR(AT$30="",AT$4=99),1,IF(AT32="",0,IFERROR(CHOOSE(CW$28,IF(ISNA(MATCH(AT32,$BH$30:$BI$30,0)),0,1),IF(ISNUMBER(AT32),1,0),IF(AT32=TRUNC(AT32),1,0),IF(AND(AT32*1=AT32,AT32>=0),1,0),IF(AND(AT32=TRUNC(AT32),AT32>=0),1,0),IF(AND(AT32*1=AT32,AT32>0),1,0),IF(AND(AT32=TRUNC(AT32),AT32>0),1,0),1,IF(ISNA(HLOOKUP(AT32,$BK$4:$BT$4,1,0)),0,1)),0))) -> 1 | CX32: =IF(OR(AU$30="",AU$4=99),1,IF(AU32="",0,IFERROR(CHOOSE(CX$28,IF(ISNA(MATCH(AU32,$BH$30:$BI$30,0)),0,1),IF(ISNUMBER(AU32),1,0),IF(AU32=TRUNC(AU32),1,0),IF(AND(AU32*1=AU32,AU32>=0),1,0),IF(AND(AU32=TRUNC(AU32),AU32>=0),1,0),IF(AND(AU32*1=AU32,AU32>0),1,0),IF(AND(AU32=TRUNC(AU32),AU32>0),1,0),1,IF(ISNA(HLOOKUP(AU32,$BK$4:$BT$4,1,0)),0,1)),0))) -> 1 | ... DB32: =IF(OR(AY$30="",AY$4=99),1,IF(AY32="",0,IFERROR(CHOOSE(DB$28,IF(ISNA(MATCH(AY32,$BH$30:$BI$30,0)),0,1),IF(ISNUMBER(AY32),1,0),IF(AY32=TRUNC(AY32),1,0),IF(AND(AY32*1=AY32,AY32>=0),1,0),IF(AND(AY32=TRUNC(AY32),AY32>=0),1,0),IF(AND(AY32*1=AY32,AY32>0),1,0),IF(AND(AY32=TRUNC(AY32),AY32>0),1,0),1,IF(ISNA(HLOOKUP(AY32,$BK$4:$BT$4,1,0)),0,1)),0))) -> 1 | DC32: =IF(OR(BA$30="",BA$4=99),1,IF(BA32="",0,IFERROR(CHOOSE(DC$28,IF(ISNA(MATCH(BA32,$BH$30:$BI$30,0)),0,1),IF(ISNUMBER(BA32),1,0),IF(BA32=TRUNC(BA32),1,0),IF(AND(BA32*1=BA32,BA32>=0),1,0),IF(AND(BA32=TRUNC(BA32),BA32>=0),1,0),IF(AND(BA32*1=BA32,BA32>0),1,0),IF(AND(BA32=TRUNC(BA32),BA32>0),1,0),1,IF(ISNA(HLOOKUP(BA32,$BK$4:$BT$4,1,0)),0,1)),0))) -> 1 | DD32: =IF(OR(BB$30="",BB$4=99),1,IF(BB32="",0,IFERROR(CHOOSE(DD$28,IF(ISNA(MATCH(BB32,$BH$30:$BI$30,0)),0,1),IF(ISNUMBER(BB32),1,0),IF(BB32=TRUNC(BB32),1,0),IF(AND(BB32*1=BB32,BB32>=0),1,0),IF(AND(BB32=TRUNC(BB32),BB32>=0),1,0),IF(AND(BB32*1=BB32,BB32>0),1,0),IF(AND(BB32=TRUNC(BB32),BB32>0),1,0),1,IF(ISNA(HLOOKUP(BB32,$BK$4:$BT$4,1,0)),0,1)),0))) -> 1 | DE32: =IF(OR(BC$30="",BC$4=99),1,IF(BC32="",0,IFERROR(CHOOSE(DE$28,IF(ISNA(MATCH(BC32,$BH$30:$BI$30,0)),0,1),IF(ISNUMBER(BC32),1,0),IF(BC32=TRUNC(BC32),1,0),IF(AND(BC32*1=BC32,BC32>=0),1,0),IF(AND(BC32=TRUNC(BC32),BC32>=0),1,0),IF(AND(BC32*1=BC32,BC32>0),1,0),IF(AND(BC32=TRUNC(BC32),BC32>0),1,0),1,IF(ISNA(HLOOKUP(BC32,$BK$4:$BT$4,1,0)),0,1)),0))) -> 1 | DF32: =IF(OR(BD$30="",BD$4=99),1,IF(BD32="",0,IFERROR(CHOOSE(DF$28,IF(ISNA(MATCH(BD32,$BH$30:$BI$30,0)),0,1),IF(ISNUMBER(BD32),1,0),IF(BD32=TRUNC(BD32),1,0),IF(AND(BD32*1=BD32,BD32>=0),1,0),IF(AND(BD32=TRUNC(BD32),BD32>=0),1,0),IF(AND(BD32*1=BD32,BD32>0),1,0),IF(AND(BD32=TRUNC(BD32),BD32>0),1,0),1,IF(ISNA(HLOOKUP(BD32,$BK$4:$BT$4,1,0)),0,1)),0))) -> 1 | DG32: =IF(OR(BE$30="",BE$4=99),1,IF(BE32="",0,IFERROR(CHOOSE(DG$28,IF(ISNA(MATCH(BE32,$BH$30:$BI$30,0)),0,1),IF(ISNUMBER(BE32),1,0),IF(BE32=TRUNC(BE32),1,0),IF(AND(BE32*1=BE32,BE32>=0),1,0),IF(AND(BE32=TRUNC(BE32),BE32>=0),1,0),IF(AND(BE32*1=BE32,BE32>0),1,0),IF(AND(BE32=TRUNC(BE32),BE32>0),1,0),1,IF(ISNA(HLOOKUP(BE32,$BK$4:$BT$4,1,0)),0,1)),0))) -> 1 | DR32: =AQ32>=DB$7 -> TRUE | DS32: =AR32>=DC$7 -> TRUE | DT32: =AS32>=DD$7 -> TRUE | DX32: =COUNTIF(DR32:DW32,TRUE) -> 3 | DY32: =AQ32>=DI$7 -> TRUE | DZ32: =AR32>=DJ$7 -> TRUE | EA32: =AS32>=DK$7 -> TRUE | EE32: =COUNTIF(DY32:ED32,TRUE) -> 3 | EF32: =IF($F32="","",IF(DX32=$DC$5,1,0)) -> 1 | EG32: =IF($F32="","",IF(AND(EE32=$DC$5,EE32-DX32<=$DJ$5),1,0)) -> 1
B33: =IF(F33="","",ROW()-30) -> 3 | F33: נוער מוסיקלי בישראל - כיתות אמן | G33: 1 | H33: 1 | I33: 1 | J33: 0 | K33: 1 | L33: 1 | M33: 1 | N33: 1 | O33: 0 | P33: 0 | Q33: 0 | R33: 0 | S33: =IF(F33="","",IF(OR(O33=0,SUM(O33:R33)=4),1,0)) -> 1 | T33: 1 | U33: 1 | V33: 1 | W33: 1 | X33: 1 | Y33: 1 | Z33: 1 | AA33: 1 | AB33: 1 | AC33: 1 | AD33: 1 | AE33: 1 | AF33: 1 | AG33: 1 | AH33: 1 | AI33: 1 | AJ33: 1 | AK33: 1 | AL33: 1 | AM33: 1 | AN33: 1 | AO33: 1 | AP33: 1 | AQ33: 6 | AR33: 66 | AS33: 95 | AT33: 220000 | AU33: =IF($F33="","",IF(OR(EF33=1,AND(COUNT(G33:AP33)=SUM(G33:AP33),EG33=1)),1,0)) -> 1 | AV33: 0 | AW33: =IF($F33="","",IF(OR(AG33=0,AND(SUM(AH33:AP33)=COUNTA($AH$29:$AP$29),OR(AND(AV33=0,AU33=1,EG33=1),EF33=1))),1,0)) -> 1 | AX33: 1 | AY33: 1 | AZ33: 1 | BA33: 0 | BE33: {=IF($F33="","",IF(BA33=1,1,IF(BG33<>1,$BH$1,IF(SUMPRODUCT(--(G33:AZ33>=$G$5:$AZ$5)*($G$5:$AZ$5<>"")*($G$4:$AZ$4=1))=COUNTIF($G$4:$AZ$4,1),1,0))))} -> 1 | BF33: מומלץ לתמיכה עפ"י מבחן התמיכה - תחום ד'. הוגשה הצעת תקציב בסך 220,000 ₪. עפ"י המלצת המדור אושרו הוצאות התקציב המבוקש. | BG33: =IF(OR(SUM(BJ33:DG33)<>COUNT(BJ33:DG33),SUMPRODUCT(--(G33:AY33=$BH$1))<>0),0,1) -> 1 | BH33: =IF($F33="","",BH$30) -> 0 | BI33: =IF($F33="","",BI$30) -> 1 | BJ33: =IF(OR(G$30="",G$4=99),1,IF(G33="",0,IFERROR(CHOOSE(BJ$28,IF(ISNA(MATCH(G33,$BH$30:$BI$30,0)),0,1),IF(ISNUMBER(G33),1,0),IF(G33=TRUNC(G33),1,0),IF(AND(G33*1=G33,G33>=0),1,0),IF(AND(G33=TRUNC(G33),G33>=0),1,0),IF(AND(G33*1=G33,G33>0),1,0),IF(AND(G33=TRUNC(G33),G33>0),1,0),1,IF(ISNA(HLOOKUP(G33,$BK$4:$BT$4,1,0)),0,1)),0))) -> 1 | BK33: =IF(OR(H$30="",H$4=99),1,IF(H33="",0,IFERROR(CHOOSE(BK$28,IF(ISNA(MATCH(H33,$BH$30:$BI$30,0)),0,1),IF(ISNUMBER(H33),1,0),IF(H33=TRUNC(H33),1,0),IF(AND(H33*1=H33,H33>=0),1,0),IF(AND(H33=TRUNC(H33),H33>=0),1,0),IF(AND(H33*1=H33,H33>0),1,0),IF(AND(H33=TRUNC(H33),H33>0),1,0),1,IF(ISNA(HLOOKUP(H33,$BK$4:$BT$4,1,0)),0,1)),0))) -> 1 | BL33: =IF(OR(I$30="",I$4=99),1,IF(I33="",0,IFERROR(CHOOSE(BL$28,IF(ISNA(MATCH(I33,$BH$30:$BI$30,0)),0,1),IF(ISNUMBER(I33),1,0),IF(I33=TRUNC(I33),1,0),IF(AND(I33*1=I33,I33>=0),1,0),IF(AND(I33=TRUNC(I33),I33>=0),1,0),IF(AND(I33*1=I33,I33>0),1,0),IF(AND(I33=TRUNC(I33),I33>0),1,0),1,IF(ISNA(HLOOKUP(I33,$BK$4:$BT$4,1,0)),0,1)),0))) -> 1 | BM33: =IF(OR(J$30="",J$4=99),1,IF(J33="",0,IFERROR(CHOOSE(BM$28,IF(ISNA(MATCH(J33,$BH$30:$BI$30,0)),0,1),IF(ISNUMBER(J33),1,0),IF(J33=TRUNC(J33),1,0),IF(AND(J33*1=J33,J33>=0),1,0),IF(AND(J33=TRUNC(J33),J33>=0),1,0),IF(AND(J33*1=J33,J33>0),1,0),IF(AND(J33=TRUNC(J33),J33>0),1,0),1,IF(ISNA(HLOOKUP(J33,$BK$4:$BT$4,1,0)),0,1)),0))) -> 1 | BN33: =IF(OR(K$30="",K$4=99),1,IF(K33="",0,IFERROR(CHOOSE(BN$28,IF(ISNA(MATCH(K33,$BH$30:$BI$30,0)),0,1),IF(ISNUMBER(K33),1,0),IF(K33=TRUNC(K33),1,0),IF(AND(K33*1=K33,K33>=0),1,0),IF(AND(K33=TRUNC(K33),K33>=0),1,0),IF(AND(K33*1=K33,K33>0),1,0),IF(AND(K33=TRUNC(K33),K33>0),1,0),1,IF(ISNA(HLOOKUP(K33,$BK$4:$BT$4,1,0)),0,1)),0))) -> 1 | BO33: =IF(OR(L$30="",L$4=99),1,IF(L33="",0,IFERROR(CHOOSE(BO$28,IF(ISNA(MATCH(L33,$BH$30:$BI$30,0)),0,1),IF(ISNUMBER(L33),1,0),IF(L33=TRUNC(L33),1,0),IF(AND(L33*1=L33,L33>=0),1,0),IF(AND(L33=TRUNC(L33),L33>=0),1,0),IF(AND(L33*1=L33,L33>0),1,0),IF(AND(L33=TRUNC(L33),L33>0),1,0),1,IF(ISNA(HLOOKUP(L33,$BK$4:$BT$4,1,0)),0,1)),0))) -> 1 | BP33: =IF(OR(M$30="",M$4=99),1,IF(M33="",0,IFERROR(CHOOSE(BP$28,IF(ISNA(MATCH(M33,$BH$30:$BI$30,0)),0,1),IF(ISNUMBER(M33),1,0),IF(M33=TRUNC(M33),1,0),IF(AND(M33*1=M33,M33>=0),1,0),IF(AND(M33=TRUNC(M33),M33>=0),1,0),IF(AND(M33*1=M33,M33>0),1,0),IF(AND(M33=TRUNC(M33),M33>0),1,0),1,IF(ISNA(HLOOKUP(M33,$BK$4:$BT$4,1,0)),0,1)),0))) -> 1 | BQ33: =IF(OR(N$30="",N$4=99),1,IF(N33="",0,IFERROR(CHOOSE(BQ$28,IF(ISNA(MATCH(N33,$BH$30:$BI$30,0)),0,1),IF(ISNUMBER(N33),1,0),IF(N33=TRUNC(N33),1,0),IF(AND(N33*1=N33,N33>=0),1,0),IF(AND(N33=TRUNC(N33),N33>=0),1,0),IF(AND(N33*1=N33,N33>0),1,0),IF(AND(N33=TRUNC(N33),N33>0),1,0),1,IF(ISNA(HLOOKUP(N33,$BK$4:$BT$4,1,0)),0,1)),0))) -> 1 | ... CN33: =IF(OR(AK$30="",AK$4=99),1,IF(AK33="",0,IFERROR(CHOOSE(CN$28,IF(ISNA(MATCH(AK33,$BH$30:$BI$30,0)),0,1),IF(ISNUMBER(AK33),1,0),IF(AK33=TRUNC(AK33),1,0),IF(AND(AK33*1=AK33,AK33>=0),1,0),IF(AND(AK33=TRUNC(AK33),AK33>=0),1,0),IF(AND(AK33*1=AK33,AK33>0),1,0),IF(AND(AK33=TRUNC(AK33),AK33>0),1,0),1,IF(ISNA(HLOOKUP(AK33,$BK$4:$BT$4,1,0)),0,1)),0))) -> 1 | CO33: =IF(OR(AL$30="",AM$4=99),1,IF(AL33="",0,IFERROR(CHOOSE(CO$28,IF(ISNA(MATCH(AL33,$BH$30:$BI$30,0)),0,1),IF(ISNUMBER(AL33),1,0),IF(AL33=TRUNC(AL33),1,0),IF(AND(AL33*1=AL33,AL33>=0),1,0),IF(AND(AL33=TRUNC(AL33),AL33>=0),1,0),IF(AND(AL33*1=AL33,AL33>0),1,0),IF(AND(AL33=TRUNC(AL33),AL33>0),1,0),1,IF(ISNA(HLOOKUP(AL33,$BK$4:$BT$4,1,0)),0,1)),0))) -> 1 | CP33: =IF(OR(AM$30="",AN$4=99),1,IF(AM33="",0,IFERROR(CHOOSE(CP$28,IF(ISNA(MATCH(AM33,$BH$30:$BI$30,0)),0,1),IF(ISNUMBER(AM33),1,0),IF(AM33=TRUNC(AM33),1,0),IF(AND(AM33*1=AM33,AM33>=0),1,0),IF(AND(AM33=TRUNC(AM33),AM33>=0),1,0),IF(AND(AM33*1=AM33,AM33>0),1,0),IF(AND(AM33=TRUNC(AM33),AM33>0),1,0),1,IF(ISNA(HLOOKUP(AM33,$BK$4:$BT$4,1,0)),0,1)),0))) -> 1 | CQ33: =IF(OR(AN$30="",AN$4=99),1,IF(AN33="",0,IFERROR(CHOOSE(CQ$28,IF(ISNA(MATCH(AN33,$BH$30:$BI$30,0)),0,1),IF(ISNUMBER(AN33),1,0),IF(AN33=TRUNC(AN33),1,0),IF(AND(AN33*1=AN33,AN33>=0),1,0),IF(AND(AN33=TRUNC(AN33),AN33>=0),1,0),IF(AND(AN33*1=AN33,AN33>0),1,0),IF(AND(AN33=TRUNC(AN33),AN33>0),1,0),1,IF(ISNA(HLOOKUP(AN33,$BK$4:$BT$4,1,0)),0,1)),0))) -> 1 | CR33: =IF(OR(AO$30="",AO$4=99),1,IF(AO33="",0,IFERROR(CHOOSE(CR$28,IF(ISNA(MATCH(AO33,$BH$30:$BI$30,0)),0,1),IF(ISNUMBER(AO33),1,0),IF(AO33=TRUNC(AO33),1,0),IF(AND(AO33*1=AO33,AO33>=0),1,0),IF(AND(AO33=TRUNC(AO33),AO33>=0),1,0),IF(AND(AO33*1=AO33,AO33>0),1,0),IF(AND(AO33=TRUNC(AO33),AO33>0),1,0),1,IF(ISNA(HLOOKUP(AO33,$BK$4:$BT$4,1,0)),0,1)),0))) -> 1 | CS33: =IF(OR(AP$30="",AP$4=99),1,IF(AP33="",0,IFERROR(CHOOSE(CS$28,IF(ISNA(MATCH(AP33,$BH$30:$BI$30,0)),0,1),IF(ISNUMBER(AP33),1,0),IF(AP33=TRUNC(AP33),1,0),IF(AND(AP33*1=AP33,AP33>=0),1,0),IF(AND(AP33=TRUNC(AP33),AP33>=0),1,0),IF(AND(AP33*1=AP33,AP33>0),1,0),IF(AND(AP33=TRUNC(AP33),AP33>0),1,0),1,IF(ISNA(HLOOKUP(AP33,$BK$4:$BT$4,1,0)),0,1)),0))) -> 1 | CT33: =IF(OR(AQ$30="",AQ$4=99),1,IF(AQ33="",0,IFERROR(CHOOSE(CT$28,IF(ISNA(MATCH(AQ33,$BH$30:$BI$30,0)),0,1),IF(ISNUMBER(AQ33),1,0),IF(AQ33=TRUNC(AQ33),1,0),IF(AND(AQ33*1=AQ33,AQ33>=0),1,0),IF(AND(AQ33=TRUNC(AQ33),AQ33>=0),1,0),IF(AND(AQ33*1=AQ33,AQ33>0),1,0),IF(AND(AQ33=TRUNC(AQ33),AQ33>0),1,0),1,IF(ISNA(HLOOKUP(AQ33,$BK$4:$BT$4,1,0)),0,1)),0))) -> 1 | CU33: =IF(OR(AR$30="",AR$4=99),1,IF(AR33="",0,IFERROR(CHOOSE(CU$28,IF(ISNA(MATCH(AR33,$BH$30:$BI$30,0)),0,1),IF(ISNUMBER(AR33),1,0),IF(AR33=TRUNC(AR33),1,0),IF(AND(AR33*1=AR33,AR33>=0),1,0),IF(AND(AR33=TRUNC(AR33),AR33>=0),1,0),IF(AND(AR33*1=AR33,AR33>0),1,0),IF(AND(AR33=TRUNC(AR33),AR33>0),1,0),1,IF(ISNA(HLOOKUP(AR33,$BK$4:$BT$4,1,0)),0,1)),0))) -> 1 | CV33: =IF(OR(AS$30="",AS$4=99),1,IF(AS33="",0,IFERROR(CHOOSE(CV$28,IF(ISNA(MATCH(AS33,$BH$30:$BI$30,0)),0,1),IF(ISNUMBER(AS33),1,0),IF(AS33=TRUNC(AS33),1,0),IF(AND(AS33*1=AS33,AS33>=0),1,0),IF(AND(AS33=TRUNC(AS33),AS33>=0),1,0),IF(AND(AS33*1=AS33,AS33>0),1,0),IF(AND(AS33=TRUNC(AS33),AS33>0),1,0),1,IF(ISNA(HLOOKUP(AS33,$BK$4:$BT$4,1,0)),0,1)),0))) -> 1 | CW33: =IF(OR(AT$30="",AT$4=99),1,IF(AT33="",0,IFERROR(CHOOSE(CW$28,IF(ISNA(MATCH(AT33,$BH$30:$BI$30,0)),0,1),IF(ISNUMBER(AT33),1,0),IF(AT33=TRUNC(AT33),1,0),IF(AND(AT33*1=AT33,AT33>=0),1,0),IF(AND(AT33=TRUNC(AT33),AT33>=0),1,0),IF(AND(AT33*1=AT33,AT33>0),1,0),IF(AND(AT33=TRUNC(AT33),AT33>0),1,0),1,IF(ISNA(HLOOKUP(AT33,$BK$4:$BT$4,1,0)),0,1)),0))) -> 1 | CX33: =IF(OR(AU$30="",AU$4=99),1,IF(AU33="",0,IFERROR(CHOOSE(CX$28,IF(ISNA(MATCH(AU33,$BH$30:$BI$30,0)),0,1),IF(ISNUMBER(AU33),1,0),IF(AU33=TRUNC(AU33),1,0),IF(AND(AU33*1=AU33,AU33>=0),1,0),IF(AND(AU33=TRUNC(AU33),AU33>=0),1,0),IF(AND(AU33*1=AU33,AU33>0),1,0),IF(AND(AU33=TRUNC(AU33),AU33>0),1,0),1,IF(ISNA(HLOOKUP(AU33,$BK$4:$BT$4,1,0)),0,1)),0))) -> 1 | ... DB33: =IF(OR(AY$30="",AY$4=99),1,IF(AY33="",0,IFERROR(CHOOSE(DB$28,IF(ISNA(MATCH(AY33,$BH$30:$BI$30,0)),0,1),IF(ISNUMBER(AY33),1,0),IF(AY33=TRUNC(AY33),1,0),IF(AND(AY33*1=AY33,AY33>=0),1,0),IF(AND(AY33=TRUNC(AY33),AY33>=0),1,0),IF(AND(AY33*1=AY33,AY33>0),1,0),IF(AND(AY33=TRUNC(AY33),AY33>0),1,0),1,IF(ISNA(HLOOKUP(AY33,$BK$4:$BT$4,1,0)),0,1)),0))) -> 1 | DC33: =IF(OR(BA$30="",BA$4=99),1,IF(BA33="",0,IFERROR(CHOOSE(DC$28,IF(ISNA(MATCH(BA33,$BH$30:$BI$30,0)),0,1),IF(ISNUMBER(BA33),1,0),IF(BA33=TRUNC(BA33),1,0),IF(AND(BA33*1=BA33,BA33>=0),1,0),IF(AND(BA33=TRUNC(BA33),BA33>=0),1,0),IF(AND(BA33*1=BA33,BA33>0),1,0),IF(AND(BA33=TRUNC(BA33),BA33>0),1,0),1,IF(ISNA(HLOOKUP(BA33,$BK$4:$BT$4,1,0)),0,1)),0))) -> 1 | DD33: =IF(OR(BB$30="",BB$4=99),1,IF(BB33="",0,IFERROR(CHOOSE(DD$28,IF(ISNA(MATCH(BB33,$BH$30:$BI$30,0)),0,1),IF(ISNUMBER(BB33),1,0),IF(BB33=TRUNC(BB33),1,0),IF(AND(BB33*1=BB33,BB33>=0),1,0),IF(AND(BB33=TRUNC(BB33),BB33>=0),1,0),IF(AND(BB33*1=BB33,BB33>0),1,0),IF(AND(BB33=TRUNC(BB33),BB33>0),1,0),1,IF(ISNA(HLOOKUP(BB33,$BK$4:$BT$4,1,0)),0,1)),0))) -> 1 | DE33: =IF(OR(BC$30="",BC$4=99),1,IF(BC33="",0,IFERROR(CHOOSE(DE$28,IF(ISNA(MATCH(BC33,$BH$30:$BI$30,0)),0,1),IF(ISNUMBER(BC33),1,0),IF(BC33=TRUNC(BC33),1,0),IF(AND(BC33*1=BC33,BC33>=0),1,0),IF(AND(BC33=TRUNC(BC33),BC33>=0),1,0),IF(AND(BC33*1=BC33,BC33>0),1,0),IF(AND(BC33=TRUNC(BC33),BC33>0),1,0),1,IF(ISNA(HLOOKUP(BC33,$BK$4:$BT$4,1,0)),0,1)),0))) -> 1 | DF33: =IF(OR(BD$30="",BD$4=99),1,IF(BD33="",0,IFERROR(CHOOSE(DF$28,IF(ISNA(MATCH(BD33,$BH$30:$BI$30,0)),0,1),IF(ISNUMBER(BD33),1,0),IF(BD33=TRUNC(BD33),1,0),IF(AND(BD33*1=BD33,BD33>=0),1,0),IF(AND(BD33=TRUNC(BD33),BD33>=0),1,0),IF(AND(BD33*1=BD33,BD33>0),1,0),IF(AND(BD33=TRUNC(BD33),BD33>0),1,0),1,IF(ISNA(HLOOKUP(BD33,$BK$4:$BT$4,1,0)),0,1)),0))) -> 1 | DG33: =IF(OR(BE$30="",BE$4=99),1,IF(BE33="",0,IFERROR(CHOOSE(DG$28,IF(ISNA(MATCH(BE33,$BH$30:$BI$30,0)),0,1),IF(ISNUMBER(BE33),1,0),IF(BE33=TRUNC(BE33),1,0),IF(AND(BE33*1=BE33,BE33>=0),1,0),IF(AND(BE33=TRUNC(BE33),BE33>=0),1,0),IF(AND(BE33*1=BE33,BE33>0),1,0),IF(AND(BE33=TRUNC(BE33),BE33>0),1,0),1,IF(ISNA(HLOOKUP(BE33,$BK$4:$BT$4,1,0)),0,1)),0))) -> 1 | DR33: =AQ33>=DB$7 -> TRUE | DS33: =AR33>=DC$7 -> TRUE | DT33: =AS33>=DD$7 -> TRUE | DX33: =COUNTIF(DR33:DW33,TRUE) -> 3 | DY33: =AQ33>=DI$7 -> TRUE | DZ33: =AR33>=DJ$7 -> TRUE | EA33: =AS33>=DK$7 -> TRUE | EE33: =COUNTIF(DY33:ED33,TRUE) -> 3 | EF33: =IF($F33="","",IF(DX33=$DC$5,1,0)) -> 1 | EG33: =IF($F33="","",IF(AND(EE33=$DC$5,EE33-DX33<=$DJ$5),1,0)) -> 1
B34: =IF(F34="","",ROW()-30) -> 4 | F34: בר-קיימא - ליריק אופרה - כיתות אמן | G34: 1 | H34: 1 | I34: 1 | J34: 0 | K34: 1 | L34: 1 | M34: 1 | N34: 1 | O34: 0 | P34: 0 | Q34: 0 | R34: 0 | S34: =IF(F34="","",IF(OR(O34=0,SUM(O34:R34)=4),1,0)) -> 1 | T34: 1 | U34: 1 | V34: 1 | W34: 1 | X34: 1 | Y34: 1 | Z34: 1 | AA34: 1 | AB34: 1 | AC34: 1 | AD34: 1 | AE34: 1 | AF34: 1 | AG34: 1 | AH34: 1 | AI34: 1 | AJ34: 1 | AK34: 1 | AL34: 1 | AM34: 1 | AN34: 1 | AO34: 1 | AP34: 1 | AQ34: 15 | AR34: 360 | AS34: 50 | AT34: 325000 | AU34: =IF($F34="","",IF(OR(EF34=1,AND(COUNT(G34:AP34)=SUM(G34:AP34),EG34=1)),1,0)) -> 1 | AV34: 0 | AW34: =IF($F34="","",IF(OR(AG34=0,AND(SUM(AH34:AP34)=COUNTA($AH$29:$AP$29),OR(AND(AV34=0,AU34=1,EG34=1),EF34=1))),1,0)) -> 1 | AX34: 1 | AY34: 1 | AZ34: 1 | BA34: 0 | BE34: {=IF($F34="","",IF(BA34=1,1,IF(BG34<>1,$BH$1,IF(SUMPRODUCT(--(G34:AZ34>=$G$5:$AZ$5)*($G$5:$AZ$5<>"")*($G$4:$AZ$4=1))=COUNTIF($G$4:$AZ$4,1),1,0))))} -> 1 | BF34: מומלץ לתמיכה עפ"י מבחן התמיכה - תחום ד'. הוגשה הצעת תקציב בסך 325,000 ₪. עפ"י המלצת המדור אושרו הוצאות התקציב המבוקש. | BG34: =IF(OR(SUM(BJ34:DG34)<>COUNT(BJ34:DG34),SUMPRODUCT(--(G34:AY34=$BH$1))<>0),0,1) -> 1 | BH34: =IF($F34="","",BH$30) -> 0 | BI34: =IF($F34="","",BI$30) -> 1 | BJ34: =IF(OR(G$30="",G$4=99),1,IF(G34="",0,IFERROR(CHOOSE(BJ$28,IF(ISNA(MATCH(G34,$BH$30:$BI$30,0)),0,1),IF(ISNUMBER(G34),1,0),IF(G34=TRUNC(G34),1,0),IF(AND(G34*1=G34,G34>=0),1,0),IF(AND(G34=TRUNC(G34),G34>=0),1,0),IF(AND(G34*1=G34,G34>0),1,0),IF(AND(G34=TRUNC(G34),G34>0),1,0),1,IF(ISNA(HLOOKUP(G34,$BK$4:$BT$4,1,0)),0,1)),0))) -> 1 | BK34: =IF(OR(H$30="",H$4=99),1,IF(H34="",0,IFERROR(CHOOSE(BK$28,IF(ISNA(MATCH(H34,$BH$30:$BI$30,0)),0,1),IF(ISNUMBER(H34),1,0),IF(H34=TRUNC(H34),1,0),IF(AND(H34*1=H34,H34>=0),1,0),IF(AND(H34=TRUNC(H34),H34>=0),1,0),IF(AND(H34*1=H34,H34>0),1,0),IF(AND(H34=TRUNC(H34),H34>0),1,0),1,IF(ISNA(HLOOKUP(H34,$BK$4:$BT$4,1,0)),0,1)),0))) -> 1 | BL34: =IF(OR(I$30="",I$4=99),1,IF(I34="",0,IFERROR(CHOOSE(BL$28,IF(ISNA(MATCH(I34,$BH$30:$BI$30,0)),0,1),IF(ISNUMBER(I34),1,0),IF(I34=TRUNC(I34),1,0),IF(AND(I34*1=I34,I34>=0),1,0),IF(AND(I34=TRUNC(I34),I34>=0),1,0),IF(AND(I34*1=I34,I34>0),1,0),IF(AND(I34=TRUNC(I34),I34>0),1,0),1,IF(ISNA(HLOOKUP(I34,$BK$4:$BT$4,1,0)),0,1)),0))) -> 1 | BM34: =IF(OR(J$30="",J$4=99),1,IF(J34="",0,IFERROR(CHOOSE(BM$28,IF(ISNA(MATCH(J34,$BH$30:$BI$30,0)),0,1),IF(ISNUMBER(J34),1,0),IF(J34=TRUNC(J34),1,0),IF(AND(J34*1=J34,J34>=0),1,0),IF(AND(J34=TRUNC(J34),J34>=0),1,0),IF(AND(J34*1=J34,J34>0),1,0),IF(AND(J34=TRUNC(J34),J34>0),1,0),1,IF(ISNA(HLOOKUP(J34,$BK$4:$BT$4,1,0)),0,1)),0))) -> 1 | BN34: =IF(OR(K$30="",K$4=99),1,IF(K34="",0,IFERROR(CHOOSE(BN$28,IF(ISNA(MATCH(K34,$BH$30:$BI$30,0)),0,1),IF(ISNUMBER(K34),1,0),IF(K34=TRUNC(K34),1,0),IF(AND(K34*1=K34,K34>=0),1,0),IF(AND(K34=TRUNC(K34),K34>=0),1,0),IF(AND(K34*1=K34,K34>0),1,0),IF(AND(K34=TRUNC(K34),K34>0),1,0),1,IF(ISNA(HLOOKUP(K34,$BK$4:$BT$4,1,0)),0,1)),0))) -> 1 | BO34: =IF(OR(L$30="",L$4=99),1,IF(L34="",0,IFERROR(CHOOSE(BO$28,IF(ISNA(MATCH(L34,$BH$30:$BI$30,0)),0,1),IF(ISNUMBER(L34),1,0),IF(L34=TRUNC(L34),1,0),IF(AND(L34*1=L34,L34>=0),1,0),IF(AND(L34=TRUNC(L34),L34>=0),1,0),IF(AND(L34*1=L34,L34>0),1,0),IF(AND(L34=TRUNC(L34),L34>0),1,0),1,IF(ISNA(HLOOKUP(L34,$BK$4:$BT$4,1,0)),0,1)),0))) -> 1 | BP34: =IF(OR(M$30="",M$4=99),1,IF(M34="",0,IFERROR(CHOOSE(BP$28,IF(ISNA(MATCH(M34,$BH$30:$BI$30,0)),0,1),IF(ISNUMBER(M34),1,0),IF(M34=TRUNC(M34),1,0),IF(AND(M34*1=M34,M34>=0),1,0),IF(AND(M34=TRUNC(M34),M34>=0),1,0),IF(AND(M34*1=M34,M34>0),1,0),IF(AND(M34=TRUNC(M34),M34>0),1,0),1,IF(ISNA(HLOOKUP(M34,$BK$4:$BT$4,1,0)),0,1)),0))) -> 1 | BQ34: =IF(OR(N$30="",N$4=99),1,IF(N34="",0,IFERROR(CHOOSE(BQ$28,IF(ISNA(MATCH(N34,$BH$30:$BI$30,0)),0,1),IF(ISNUMBER(N34),1,0),IF(N34=TRUNC(N34),1,0),IF(AND(N34*1=N34,N34>=0),1,0),IF(AND(N34=TRUNC(N34),N34>=0),1,0),IF(AND(N34*1=N34,N34>0),1,0),IF(AND(N34=TRUNC(N34),N34>0),1,0),1,IF(ISNA(HLOOKUP(N34,$BK$4:$BT$4,1,0)),0,1)),0))) -> 1 | ... CN34: =IF(OR(AK$30="",AK$4=99),1,IF(AK34="",0,IFERROR(CHOOSE(CN$28,IF(ISNA(MATCH(AK34,$BH$30:$BI$30,0)),0,1),IF(ISNUMBER(AK34),1,0),IF(AK34=TRUNC(AK34),1,0),IF(AND(AK34*1=AK34,AK34>=0),1,0),IF(AND(AK34=TRUNC(AK34),AK34>=0),1,0),IF(AND(AK34*1=AK34,AK34>0),1,0),IF(AND(AK34=TRUNC(AK34),AK34>0),1,0),1,IF(ISNA(HLOOKUP(AK34,$BK$4:$BT$4,1,0)),0,1)),0))) -> 1 | CO34: =IF(OR(AL$30="",AM$4=99),1,IF(AL34="",0,IFERROR(CHOOSE(CO$28,IF(ISNA(MATCH(AL34,$BH$30:$BI$30,0)),0,1),IF(ISNUMBER(AL34),1,0),IF(AL34=TRUNC(AL34),1,0),IF(AND(AL34*1=AL34,AL34>=0),1,0),IF(AND(AL34=TRUNC(AL34),AL34>=0),1,0),IF(AND(AL34*1=AL34,AL34>0),1,0),IF(AND(AL34=TRUNC(AL34),AL34>0),1,0),1,IF(ISNA(HLOOKUP(AL34,$BK$4:$BT$4,1,0)),0,1)),0))) -> 1 | CP34: =IF(OR(AM$30="",AN$4=99),1,IF(AM34="",0,IFERROR(CHOOSE(CP$28,IF(ISNA(MATCH(AM34,$BH$30:$BI$30,0)),0,1),IF(ISNUMBER(AM34),1,0),IF(AM34=TRUNC(AM34),1,0),IF(AND(AM34*1=AM34,AM34>=0),1,0),IF(AND(AM34=TRUNC(AM34),AM34>=0),1,0),IF(AND(AM34*1=AM34,AM34>0),1,0),IF(AND(AM34=TRUNC(AM34),AM34>0),1,0),1,IF(ISNA(HLOOKUP(AM34,$BK$4:$BT$4,1,0)),0,1)),0))) -> 1 | CQ34: =IF(OR(AN$30="",AN$4=99),1,IF(AN34="",0,IFERROR(CHOOSE(CQ$28,IF(ISNA(MATCH(AN34,$BH$30:$BI$30,0)),0,1),IF(ISNUMBER(AN34),1,0),IF(AN34=TRUNC(AN34),1,0),IF(AND(AN34*1=AN34,AN34>=0),1,0),IF(AND(AN34=TRUNC(AN34),AN34>=0),1,0),IF(AND(AN34*1=AN34,AN34>0),1,0),IF(AND(AN34=TRUNC(AN34),AN34>0),1,0),1,IF(ISNA(HLOOKUP(AN34,$BK$4:$BT$4,1,0)),0,1)),0))) -> 1 | CR34: =IF(OR(AO$30="",AO$4=99),1,IF(AO34="",0,IFERROR(CHOOSE(CR$28,IF(ISNA(MATCH(AO34,$BH$30:$BI$30,0)),0,1),IF(ISNUMBER(AO34),1,0),IF(AO34=TRUNC(AO34),1,0),IF(AND(AO34*1=AO34,AO34>=0),1,0),IF(AND(AO34=TRUNC(AO34),AO34>=0),1,0),IF(AND(AO34*1=AO34,AO34>0),1,0),IF(AND(AO34=TRUNC(AO34),AO34>0),1,0),1,IF(ISNA(HLOOKUP(AO34,$BK$4:$BT$4,1,0)),0,1)),0))) -> 1 | CS34: =IF(OR(AP$30="",AP$4=99),1,IF(AP34="",0,IFERROR(CHOOSE(CS$28,IF(ISNA(MATCH(AP34,$BH$30:$BI$30,0)),0,1),IF(ISNUMBER(AP34),1,0),IF(AP34=TRUNC(AP34),1,0),IF(AND(AP34*1=AP34,AP34>=0),1,0),IF(AND(AP34=TRUNC(AP34),AP34>=0),1,0),IF(AND(AP34*1=AP34,AP34>0),1,0),IF(AND(AP34=TRUNC(AP34),AP34>0),1,0),1,IF(ISNA(HLOOKUP(AP34,$BK$4:$BT$4,1,0)),0,1)),0))) -> 1 | CT34: =IF(OR(AQ$30="",AQ$4=99),1,IF(AQ34="",0,IFERROR(CHOOSE(CT$28,IF(ISNA(MATCH(AQ34,$BH$30:$BI$30,0)),0,1),IF(ISNUMBER(AQ34),1,0),IF(AQ34=TRUNC(AQ34),1,0),IF(AND(AQ34*1=AQ34,AQ34>=0),1,0),IF(AND(AQ34=TRUNC(AQ34),AQ34>=0),1,0),IF(AND(AQ34*1=AQ34,AQ34>0),1,0),IF(AND(AQ34=TRUNC(AQ34),AQ34>0),1,0),1,IF(ISNA(HLOOKUP(AQ34,$BK$4:$BT$4,1,0)),0,1)),0))) -> 1 | CU34: =IF(OR(AR$30="",AR$4=99),1,IF(AR34="",0,IFERROR(CHOOSE(CU$28,IF(ISNA(MATCH(AR34,$BH$30:$BI$30,0)),0,1),IF(ISNUMBER(AR34),1,0),IF(AR34=TRUNC(AR34),1,0),IF(AND(AR34*1=AR34,AR34>=0),1,0),IF(AND(AR34=TRUNC(AR34),AR34>=0),1,0),IF(AND(AR34*1=AR34,AR34>0),1,0),IF(AND(AR34=TRUNC(AR34),AR34>0),1,0),1,IF(ISNA(HLOOKUP(AR34,$BK$4:$BT$4,1,0)),0,1)),0))) -> 1 | CV34: =IF(OR(AS$30="",AS$4=99),1,IF(AS34="",0,IFERROR(CHOOSE(CV$28,IF(ISNA(MATCH(AS34,$BH$30:$BI$30,0)),0,1),IF(ISNUMBER(AS34),1,0),IF(AS34=TRUNC(AS34),1,0),IF(AND(AS34*1=AS34,AS34>=0),1,0),IF(AND(AS34=TRUNC(AS34),AS34>=0),1,0),IF(AND(AS34*1=AS34,AS34>0),1,0),IF(AND(AS34=TRUNC(AS34),AS34>0),1,0),1,IF(ISNA(HLOOKUP(AS34,$BK$4:$BT$4,1,0)),0,1)),0))) -> 1 | CW34: =IF(OR(AT$30="",AT$4=99),1,IF(AT34="",0,IFERROR(CHOOSE(CW$28,IF(ISNA(MATCH(AT34,$BH$30:$BI$30,0)),0,1),IF(ISNUMBER(AT34),1,0),IF(AT34=TRUNC(AT34),1,0),IF(AND(AT34*1=AT34,AT34>=0),1,0),IF(AND(AT34=TRUNC(AT34),AT34>=0),1,0),IF(AND(AT34*1=AT34,AT34>0),1,0),IF(AND(AT34=TRUNC(AT34),AT34>0),1,0),1,IF(ISNA(HLOOKUP(AT34,$BK$4:$BT$4,1,0)),0,1)),0))) -> 1 | CX34: =IF(OR(AU$30="",AU$4=99),1,IF(AU34="",0,IFERROR(CHOOSE(CX$28,IF(ISNA(MATCH(AU34,$BH$30:$BI$30,0)),0,1),IF(ISNUMBER(AU34),1,0),IF(AU34=TRUNC(AU34),1,0),IF(AND(AU34*1=AU34,AU34>=0),1,0),IF(AND(AU34=TRUNC(AU34),AU34>=0),1,0),IF(AND(AU34*1=AU34,AU34>0),1,0),IF(AND(AU34=TRUNC(AU34),AU34>0),1,0),1,IF(ISNA(HLOOKUP(AU34,$BK$4:$BT$4,1,0)),0,1)),0))) -> 1 | ... DB34: =IF(OR(AY$30="",AY$4=99),1,IF(AY34="",0,IFERROR(CHOOSE(DB$28,IF(ISNA(MATCH(AY34,$BH$30:$BI$30,0)),0,1),IF(ISNUMBER(AY34),1,0),IF(AY34=TRUNC(AY34),1,0),IF(AND(AY34*1=AY34,AY34>=0),1,0),IF(AND(AY34=TRUNC(AY34),AY34>=0),1,0),IF(AND(AY34*1=AY34,AY34>0),1,0),IF(AND(AY34=TRUNC(AY34),AY34>0),1,0),1,IF(ISNA(HLOOKUP(AY34,$BK$4:$BT$4,1,0)),0,1)),0))) -> 1 | DC34: =IF(OR(BA$30="",BA$4=99),1,IF(BA34="",0,IFERROR(CHOOSE(DC$28,IF(ISNA(MATCH(BA34,$BH$30:$BI$30,0)),0,1),IF(ISNUMBER(BA34),1,0),IF(BA34=TRUNC(BA34),1,0),IF(AND(BA34*1=BA34,BA34>=0),1,0),IF(AND(BA34=TRUNC(BA34),BA34>=0),1,0),IF(AND(BA34*1=BA34,BA34>0),1,0),IF(AND(BA34=TRUNC(BA34),BA34>0),1,0),1,IF(ISNA(HLOOKUP(BA34,$BK$4:$BT$4,1,0)),0,1)),0))) -> 1 | DD34: =IF(OR(BB$30="",BB$4=99),1,IF(BB34="",0,IFERROR(CHOOSE(DD$28,IF(ISNA(MATCH(BB34,$BH$30:$BI$30,0)),0,1),IF(ISNUMBER(BB34),1,0),IF(BB34=TRUNC(BB34),1,0),IF(AND(BB34*1=BB34,BB34>=0),1,0),IF(AND(BB34=TRUNC(BB34),BB34>=0),1,0),IF(AND(BB34*1=BB34,BB34>0),1,0),IF(AND(BB34=TRUNC(BB34),BB34>0),1,0),1,IF(ISNA(HLOOKUP(BB34,$BK$4:$BT$4,1,0)),0,1)),0))) -> 1 | DE34: =IF(OR(BC$30="",BC$4=99),1,IF(BC34="",0,IFERROR(CHOOSE(DE$28,IF(ISNA(MATCH(BC34,$BH$30:$BI$30,0)),0,1),IF(ISNUMBER(BC34),1,0),IF(BC34=TRUNC(BC34),1,0),IF(AND(BC34*1=BC34,BC34>=0),1,0),IF(AND(BC34=TRUNC(BC34),BC34>=0),1,0),IF(AND(BC34*1=BC34,BC34>0),1,0),IF(AND(BC34=TRUNC(BC34),BC34>0),1,0),1,IF(ISNA(HLOOKUP(BC34,$BK$4:$BT$4,1,0)),0,1)),0))) -> 1 | DF34: =IF(OR(BD$30="",BD$4=99),1,IF(BD34="",0,IFERROR(CHOOSE(DF$28,IF(ISNA(MATCH(BD34,$BH$30:$BI$30,0)),0,1),IF(ISNUMBER(BD34),1,0),IF(BD34=TRUNC(BD34),1,0),IF(AND(BD34*1=BD34,BD34>=0),1,0),IF(AND(BD34=TRUNC(BD34),BD34>=0),1,0),IF(AND(BD34*1=BD34,BD34>0),1,0),IF(AND(BD34=TRUNC(BD34),BD34>0),1,0),1,IF(ISNA(HLOOKUP(BD34,$BK$4:$BT$4,1,0)),0,1)),0))) -> 1 | DG34: =IF(OR(BE$30="",BE$4=99),1,IF(BE34="",0,IFERROR(CHOOSE(DG$28,IF(ISNA(MATCH(BE34,$BH$30:$BI$30,0)),0,1),IF(ISNUMBER(BE34),1,0),IF(BE34=TRUNC(BE34),1,0),IF(AND(BE34*1=BE34,BE34>=0),1,0),IF(AND(BE34=TRUNC(BE34),BE34>=0),1,0),IF(AND(BE34*1=BE34,BE34>0),1,0),IF(AND(BE34=TRUNC(BE34),BE34>0),1,0),1,IF(ISNA(HLOOKUP(BE34,$BK$4:$BT$4,1,0)),0,1)),0))) -> 1 | DR34: =AQ34>=DB$7 -> TRUE | DS34: =AR34>=DC$7 -> TRUE | DT34: =AS34>=DD$7 -> TRUE | DX34: =COUNTIF(DR34:DW34,TRUE) -> 3 | DY34: =AQ34>=DI$7 -> TRUE | DZ34: =AR34>=DJ$7 -> TRUE | EA34: =AS34>=DK$7 -> TRUE | EE34: =COUNTIF(DY34:ED34,TRUE) -> 3 | EF34: =IF($F34="","",IF(DX34=$DC$5,1,0)) -> 1 | EG34: =IF($F34="","",IF(AND(EE34=$DC$5,EE34-DX34<=$DJ$5),1,0)) -> 1
