Workbook
Name a: #REF!
Name a: #REF!
Name aa: #REF!
Name aa: #REF!
Name b: #REF!
Name b: #REF!
Name DDDD: #REF!
Name DDDD: #REF!
Name ee: #REF!
Name ee: #REF!
Name ngf: #REF!
Name ngf: #REF!

Sheet ProtectSettings
B1: 0.22283572
B2: 45523.457
A6: AllowFilterCheckBox | B6: TRUE
A7: AllowFormattingCheckBox | B7: TRUE
A8: AllowColumnFormattingCheckBox | B8: TRUE
A9: AllowRowFormattingCheckBox | B9: TRUE
B21: 1 | C21: ProtectSettings
B22: 2 | C22: הדרכה למשתמש
B23: 3 | C23: פרמטרים לקריטריונים
B24: 4 | C24: הוראת שעה
B25: 5 | C25: תנאי סף
B26: 6 | C26: סיווג
B27: 7 | C27: מספר הרצות
B28: 8 | C28: מספר מבצעים בתשלום
B29: 9 | C29: מיקום ההרצות
B30: 10 | C30: רמה מקצועית ואמנותית
B31: 11 | C31: מיקום גיאוגרפי
B32: 12 | C32: תקציב
... B48: 28 | C48: סיכום לועדה - תוצאות

Sheet הדרכה למשתמש
B2: הדרכה למשתמש
B4: תאריך בניית המודל | C4: 43615
B5: תאריך עדכון מודל
B7: הערות חשובות: בעת עריכת המודל - חל איסור מוחלט לבצע גזירה והדבקה או העברה של תא ממקום למקום על ידי גרירה. אסור לבצע "הוספה" או "מחיקה" של שורות או עמודות יש לפתוח את המודל בגרסת אקסל 2010 לפחות. חל איסור לשמור את הקובץ בפורמט התואם אקסל 97-2003
B9: הוראת שעה/מעבר: | C9: 2019-2020
B11: הדרכה להזנת נתונים
B12: צבע התא | C12: מטרת התא | D12: דגש
B13: צהוב | C13: הזנת נתונים | D13: נדרש להזין מידע בהתאם להנחיות מבחן התמיכה, אי הזנה של תא יכולה להביא לידי שגיאה בתוצאות במודל. במקומות שבהם מזינים 0/1, אז המשמעות של 0 הוא "לא" ו-1 "כן"
B14: חום | C14: הצגת מידע | D14: תא שאיננו מיועד להזנה. תא זה מציג מידע עפ"י נוסחה קבועה ואין לשנות אותה.
B15: אדום | C15: התראת שגיאה | D15: קיימת שגיאה בהזנת נתונים באחד מהתאים המיועדים להזנה, נדרש להזין את הנתונים הנדרשים לפני קביעת גובה תמיכה סופי.
B17: יש לעדכן את שנת התמיכה והתקציב בגיליון פרמטרים לקריטריונים. את רשימת המוסדות יש להזין בגיליון תנאי סף וכן את כלל הנתונים לגבי תנאי הסף. יש למלא בכל גיליון של משתנה את הנתונים הרלוונטיים. במידה ויש נתון אשר הוזן בגיליון קודם, נתון זה יועבר באופן אוטומטי לגיליונות הרלוונטיים ללא צורך בהזנה חוזרת.
B33: ניהול גרסאות
B34: מספר גרסה | C34: תאריך עדכון גרסה | D34: תאריך גרסה של מבחן תמיכה | E34: התאמות נוספות של מבחן תמיכה

Sheet פרמטרים לקריטריונים
B2: מודל קבוצות מוסיקליות
B4: שנת תקציב | C4: 2025 | I4: מדד בסיס | J4: 131.58302
B5: תקציב התמיכה | C5: 3076367 | I5: מדד מעודכן | J5: 143.13206
B9: הגדרות
B10: הגדרת שנה | C10: תאריך התחלה | D10: תאריך סיום
B11: שנת התמיכה/תקציב | C11: =DATE($C$4,1,1) -> 45658 | D11: =DATE($C$4,12,31) -> 46022
B12: שנת ההערכה | C12: =DATE($C$4-3,10,1) -> 44835 | D12: =DATE($C$4-2,9,30) -> 45199
B13: שנת התקציב המבוקר | C13: =DATE($C$4-3,1,1) -> 44562 | D13: =DATE($C$4-3,12,31) -> 44926
B14: שנה תקציבית קודמת | C14: =DATE($C$4-1,1,1) -> 45292 | D14: =DATE($C$4-1,12,31) -> 45657
B16: קבוצה מוסיקלית
B17: סעיף | C17: תקציב לפחות: | D17: מספר הרצות
B18: קבוצה מוסיקלית | C18: =50000/$J$4*$J$5 -> 54388.5 | D18: 8
B19: קבוצה מוסיקלית חדשה | C19: =35000/$J$4*$J$5 -> 38071.95 | D19: 5
B24: סיווג | I24: מקדם
B25: סיווג | C25: תקציב גבוהה מ: | D25: מבצעים
B26: קטנה | C26: =0/$J$4*$J$5 -> 0 | D26: 0 | I26: 0.5
B27: בינונית | C27: =80000/$J$4*$J$5 -> 87021.6 | D27: 6 | I27: 0.8
B28: גדולה | C28: =120000/$J$4*$J$5 -> 130532.4 | D28: 8 | I28: 1
B30: משקולות קריטריונים
B31: סעיף | C31: משקל | D31: החלת מקדם תלוי משתנה
B32: מספר הרצות | C32: 0.2 | D32: 1
B33: מספר מבצעים בתשלום | C33: 0.2 | D33: 1
B34: מיקום ההרצות | C34: 0.1 | D34: 0
B35: רמה מקצועית ואמנותית | C35: 0.15 | D35: 1
B36: מיקום גיאוגרפי | C36: 0.1 | D36: 0
B37: תקציב | C37: 0.1 | D37: 0
B38: עידוד יצירה ישראלית | C38: 0.1 | D38: 0
B39: תיעוד | C39: 0.05 | D39: 0
D40: 0
D41: 0
D42: 0
D43: 0
D44: 0
D45: 0
B58: סה"כ | C58: =SUM(C32:C57) -> 1
B60: ="פרמטרים לחישוב ניקוד משתנה "&$B$32 -> פרמטרים לחישוב ניקוד משתנה מספר הרצות
B61: סעיף | C61: ניקוד
B62: בעד כל הרצה | C62: 1
B63: שיעור מקס' ניקוד הרצות חו"ל מתוך הרצות בישראל | C63: 0.15
B80: ="פרמטרים לחישוב ניקוד משתנה "&$B$33 -> פרמטרים לחישוב ניקוד משתנה מספר מבצעים בתשלום
...

Sheet הוראת שעה
A4: האם חלה הוראת השעה בשנה הספציפית
A5: שנה | C5: הגנה הוראת שעה | D5: מינימום תמיכה | E5: שיעור הקלה | F5: ניקוד אוטומטי ברמה אמנותיצ
A6: 2019 | B6: מקיים פעילות מוסקלית מקצועית במשך שנתיים או נתמך ב2018 כקבוצה מוסיקלית באמצעות ארגון גג | C6: 0.85 | D6: 20000 | E6: 0.7 | F6: 4
A7: =A6+1 -> 2020 | B7: מקיים פעילות מוסקלית מקצועית במשך שנתיים | C7: 0 | D7: 25000 | E7: 0.7 | F7: 4
A8: =A7+1 -> 2021 | B8: מקיים פעילות מוסקלית מקצועית במשך שנתיים | C8: 0 | D8: 25000 | E8: 0.8 | F8: 0
A9: =A8+1 -> 2022 | B9: מקיים פעילות מוסקלית מקצועית במשך שנתיים | C9: 0 | D9: 25000 | E9: 0.8 | F9: 0
A10: =A9+1 -> 2023 | B10: מקיים פעילות מוסקלית מקצועית במשך שנתיים | C10: 0 | D10: 25000 | E10: 0.8 | F10: 0
A11: =A10+1 -> 2024 | B11: מקיים פעילות מוסקלית מקצועית במשך שנתיים | C11: 0 | D11: 25000 | E11: 0.8 | F11: 0
A12: =A11+1 -> 2025 | B12: מקיים פעילות מוסקלית מקצועית במשך שנתיים | C12: 0 | D12: 25000 | E12: 0.8 | F12: 0
A13: =A12+1 -> 2026 | B13: מקיים פעילות מוסקלית מקצועית במשך שנתיים | C13: 0 | D13: 25000 | E13: 0.8 | F13: 0
A14: =A13+1 -> 2027 | B14: מקיים פעילות מוסקלית מקצועית במשך שנתיים | C14: 0 | D14: 25000 | E14: 0.8 | F14: 0
A15: =A14+1 -> 2028 | B15: מקיים פעילות מוסקלית מקצועית במשך שנתיים | C15: 0 | D15: 25000 | E15: 0.8 | F15: 0
A16: =A15+1 -> 2029 | B16: מקיים פעילות מוסקלית מקצועית במשך שנתיים | C16: 0 | D16: 25000 | E16: 0.8 | F16: 0
A17: =A16+1 -> 2030 | B17: מקיים פעילות מוסקלית מקצועית במשך שנתיים | C17: 0 | D17: 25000 | E17: 0.8 | F17: 0
A18: =A17+1 -> 2031 | B18: מקיים פעילות מוסקלית מקצועית במשך שנתיים | C18: 0 | D18: 25000 | E18: 0.8 | F18: 0
... A20: =A19+1 -> 2033 | B20: מקיים פעילות מוסקלית מקצועית במשך שנתיים | C20: 0 | D20: 25000 | E20: 0.8 | F20: 0

Sheet תנאי סף
B1: =MID(CELL("filename",AS2),FIND("]",CELL("filename",AS2),1)+1,99) -> תנאי סף | AR1: בדוק נתוני הזנה | AT1: סוגי בקרות | AU1: 0/1 | AV1: מספר | AW1: מספר שלם | AX1: מספר שאינו שלילי | AY1: מספר שלם שאינו שלילי | AZ1: מספר חיובי | BA1: מספר שלם חיובי | BB1: טקסט | BC1: טקסט מרשימה סגורה
AO2: ='פרמטרים לקריטריונים'!$B$4 -> שנת תקציב | AP2: ='פרמטרים לקריטריונים'!$C$4 -> 2025 | AU2: =IF(ISNA(MATCH(G31,$AR$30:$AS$30,0)),0,1) -> 1 | AV2: =IF(IFERROR(G31*1,"bad")="bad",0,1) -> 1 | AW2: =IF(IFERROR(IF(G31=TRUNC(G31),1,"bad"),"bad")="bad",0,1) -> 1 | AX2: =IF(AND(IF(IFERROR(G31*1,"bad")="bad",0,1)=1,G31>=0),1,0) -> 1 | AY2: =IF(AND(IF(IFERROR(IF(G31=TRUNC(G31),1,"bad"),"bad")="bad",0,1)=1,G31>=0),1,0) -> 1 | AZ2: =IF(AND(IF(IFERROR(G31*1,"bad")="bad",0,1)=1,G31>0),1,0) -> 1 | BA2: =IF(AND(IF(IFERROR(IF(G31=TRUNC(G31),1,"bad"),"bad")="bad",0,1)=1,G31>0),1,0) -> 1 | BB2: 1 | BC2: =IF(IFERROR(HLOOKUP(G31,$CG$30:$CQ$30,1,0),"bad")="bad",0,1) -> 1
AO3: ='פרמטרים לקריטריונים'!$B$5 -> תקציב התמיכה | AP3: ='פרמטרים לקריטריונים'!$C$5 -> 3076367 | AT3: מספר בקרה | AU3: 1 | AV3: 2 | AW3: 3 | AX3: 4 | AY3: 5 | AZ3: 6 | BA3: 7 | BB3: 8 | BC3: 9
F4: רלוונטי למבחן עמידה בתנאי סף? 1=רלוונטי. 0= לא רלוונטי אבל נדרשת בקרה על הזנת נתונים. 99= לא רלוונטי ולא נדרשת בקה על הזנת נתונים | G4: 1 | H4: 1 | I4: 1 | J4: 1 | K4: 1 | L4: 1 | M4: 1 | N4: 1 | O4: 0 | P4: 0 | Q4: 1 | R4: 1 | S4: 1 | T4: 1 | U4: 1 | X4: 99 | Y4: 99 | Z4: 0 | AA4: 0 | AB4: 0 | AC4: 0 | AD4: 0 | AE4: 1 | AG4: 1 | AH4: 1 | AI4: 1 | AK4: 99 | AT4: רשימה סגורה | AU4: 1 | AV4: 2 | AW4: 3 | AX4: 4 | AY4: 5 | AZ4: 6 | BA4: 7 | BB4: 8 | BC4: 9 | BD4: 10 | CS4: שיעור הקלה | CT4: =INDEX('הוראת שעה'!$E$6:$E$20,MATCH($AP$2,'הוראת שעה'!$A$6:$A$20,1)) -> 0.8
F5: מעבר תנאי סף- במידה ולא רלוונטי להשאיר ריק | G5: 1 | H5: 1 | I5: 1 | J5: 1 | K5: 1 | L5: 1 | M5: 1 | N5: 1 | P5: 3 | Q5: 1 | R5: 1 | S5: 1 | T5: 1 | U5: 1 | Z5: 8 | AA5: ='פרמטרים לקריטריונים'!$C$18 -> 54388.5 | AE5: 1 | AG5: 1 | AH5: 1 | AI5: 1 | CS5: הקלות
CS6: נדרש לפי הקלה
CS7: =ROUNDUP(Z5*$CT$4,0) -> 7 | CT7: =ROUNDUP(AA5*$CT$4,2) -> 43510.81
AQ28: =IF(SUM(AQ31:AQ130)=COUNT(AQ31:AQ130),1,0) -> 0 | AT28: =MATCH(G$30,$AU$1:$BC$1,0) -> 1 | AU28: =MATCH(H$30,$AU$1:$BC$1,0) -> 1 | AV28: =MATCH(I$30,$AU$1:$BC$1,0) -> 1 | AW28: =MATCH(J$30,$AU$1:$BC$1,0) -> 1 | AX28: =MATCH(K$30,$AU$1:$BC$1,0) -> 1 | AY28: =MATCH(L$30,$AU$1:$BC$1,0) -> 1 | AZ28: =MATCH(M$30,$AU$1:$BC$1,0) -> 1 | BA28: =MATCH(N$30,$AU$1:$BC$1,0) -> 1 | ... CB28: =MATCH(AO$30,$AU$1:$BC$1,0) -> #N/A
A29: 100 | B29: מס"ד | C29: =COLUMN() -> 3 | D29: =COLUMN() -> 4 | E29: =COLUMN() -> 5 | F29: שם המוסד | G29: =INDEX('הוראת שעה'!$B$6:$B$20,MATCH($AP$2,'הוראת שעה'!$A$6:$A$20,1)) -> מקיים פעילות מוסקלית מקצועית במשך שנתיים | H29: התקציב מנוהל כמשק סגור ובאופן ישיר | I29: מטרות המוסד עולים בקנה אחד עם מטרות התמיכה | J29: עומד בדרישות הנוהל | K29: המוסד מציין בפרסומיו את תמיכת המשרד | L29: המוסד פועל שנתיים כקבוצה מוסקלית | M29: גוף ביצוע בתחום המוסיקלי הכלית או רב תחומי כולל מוסיקה | N29: אינו מקבל תמיכה במסגרת מבחן גופים כליים | O29: סך מספר המבצעים בקבוצה | P29: מבצעים בקבוצה מתחום המוסיקה הכלית | Q29: עומד בקריטריון מבצעים | R29: כל מבצע סיים הכשרה בתחומי המוסיקה במוסד מוכר או עבד כמוסיקאי במשך שנה לפחות | S29: בראש הקבוצה עומד מנהל מוסקלי העומד בדרישות | T29: פועל ברמה אמנותית נאותה | U29: מעלה הפקה מוסיקלית חדשה אחת לפחות בשנה | X29: הוועדה המליצה מתן הקלות למוסד לפי סעיף 9ב' והמוסד אינו קיבל הקלות אלו בשנה קודמת | Y29: מוסד חדש | Z29: מספר הרצות בישראל | AA29: התקציב השנתי של הקבוצה בשנת התקציב המבוקר | AB29: האם עובר לפי הקלה 80% ממספר ההרצות? | AC29: האם עובר לפי הקלה 80% מהתקציב השנתי? | AD29: ="האם עובר לפי הקלת מוסד שנתמך פעם ראשונה? (תקציב לפחות "&'פרמטרים לקריטריונים'!$C$19&" ₪ ולפחות "&'פרמטרים לקריטריונים'!$D$19&" הרצות)" -> האם עובר לפי הקלת מוסד שנתמך פעם ראשונה? (תקציב לפחות 38071.9500000104 ₪ ולפחות 5 הרצות) | AE29: עומד בתנאים לאור הקלות | AG29: התנאים צפוים להתקיים בשנת התמיכה על פי תכנית עבודה | AH29: במוסד בו מועסקים עובדים ביחסי עבודה, המוסד קבע תקנון למניעת הטרדה מינית ועומד בדרישות תקנה 8 לתקנות חובות מעסיק. המוסד צירף לבקשתו את התקנון ופרטים על ההתאמות בתקנון, פרסומו למסירתו. (במוסד בו אין מתכונת יחסי עבודה - יש לסמן 1 עבור תנאי זה) | AI29: עומד בתנאי סף כלליים אחרים | AK29: מעבר תנאי סף-אישור מיוחד | AL29: ריק | AM29: ריק | AN29: ריק | AO29: מעבר תנאי סף | AP29: הערות | AQ29: בקרה ראשית | AT29: ="בקרת "&G29 -> בקרת מקיים פעילות מוסקלית מקצועית במשך שנתיים | AU29: ="בקרת "&H29 -> בקרת התקציב מנוהל כמשק סגור ובאופן ישיר | AV29: ="בקרת "&I29 -> בקרת מטרות המוסד עולים בקנה אחד עם מטרות התמיכה | AW29: ="בקרת "&J29 -> בקרת עומד בדרישות הנוהל | AX29: ="בקרת "&K29 -> בקרת המוסד מציין בפרסומיו את תמיכת המשרד | AY29: ="בקרת "&L29 -> בקרת המוסד פועל שנתיים כקבוצה מוסקלית | AZ29: ="בקרת "&M29 -> בקרת גוף ביצוע בתחום המוסיקלי הכלית או רב תחומי כולל מוסיקה | BA29: ="בקרת "&N29 -> בקרת אינו מקבל תמיכה במסגרת מבחן גופים כליים | ... CB29: ="בקרת "&AO29 -> בקרת מעבר תנאי סף | CG29: רשימה סגורה | CS29: קריטריון הקלה 1 | CT29: קריטריון הקלה 2 | CU29: קריטריון הקלה 3 | CV29: קריטריון הקלה 4 | CW29: קריטריון הקלה 5 | CX29: עומד בתנאים להקלות
G30: 0/1 | H30: 0/1 | I30: 0/1 | J30: 0/1 | K30: 0/1 | L30: 0/1 | M30: 0/1 | N30: 0/1 | O30: מספר שלם שאינו שלילי | P30: מספר שלם שאינו שלילי | R30: 0/1 | S30: 0/1 | T30: 0/1 | U30: 0/1 | X30: 0/1 | Y30: 0/1 | Z30: מספר שלם שאינו שלילי | AA30: מספר שאינו שלילי | AG30: 0/1 | AH30: 0/1 | AI30: 0/1 | AP30: טקסט | AR30: 0 | AS30: 1 | AT30: =G30 -> 0/1 | AU30: =H30 -> 0/1 | AV30: =I30 -> 0/1 | AW30: =J30 -> 0/1 | AX30: =K30 -> 0/1 | AY30: =L30 -> 0/1 | AZ30: =M30 -> 0/1 | BA30: =N30 -> 0/1 | ... CB30: =AO30 -> 0 | CG30: =AU4 -> 1 | CH30: =AV4 -> 2 | CI30: =AW4 -> 3 | CJ30: =AX4 -> 4 | CK30: =AY4 -> 5 | CL30: =AZ4 -> 6 | CM30: =BA4 -> 7 | CN30: =BB4 -> 8 | ... CP30: =BD4 -> 10
B31: =IF(F31="","",ROW()-30) -> 1 | F31: אנסמבל פרץ אליהו | G31: 1 | H31: 1 | I31: 1 | J31: 1 | K31: 1 | L31: 1 | M31: 1 | N31: 1 | O31: 13 | P31: 11 | Q31: =IF($F31="","",IF(O31<P31,$AR$1,IF(AND(P31>O31*0.5,P31>=$P$5),1,0))) -> 1 | R31: 1 | S31: 1 | T31: 1 | U31: 1 | Z31: 16 | AA31: 159879 | AB31: =IF(F31="","",IF(Z31>=$Z$5*0.8,1,0)) -> 1 | AC31: =IF(F31="","",IF(AA31>=$AA$5*0.8,1,0)) -> 1 | AD31: =IF(G31="","",IF(AND(Z31>='פרמטרים לקריטריונים'!$D$19,AA31>='פרמטרים לקריטריונים'!$C$19),1,0)) -> 1 | AE31: {=IF($F31="","",IF(OR(SUMPRODUCT(--(Z31:AA31>=$Z$5:$AA$5))=COUNTA($Z$29:$AA$29),OR(AND(X31=1,OR(AB31=1,AC31=1)),AND(Y31=1,AD31=1))),1,0))} -> 1 | AF31: {=IF($F31="","",IF(OR(SUMPRODUCT(--(AA31:AB31>=$Z$5:$AA$5))=COUNTA($Z$29:$AA$29),AND(Y31=1,Z31=1,OR(AC31=1,AD31=1,AE31=1))),1,0))} -> 0 | AG31: 1 | AH31: 1 | AI31: 1 | AJ31: =IF(F31="","",IF(G31>=$G$5,1,0)) -> 1 | AO31: =IF($F31="","",IF(AK31=1,1,IF(AQ31<>1,$AR$1,IF(SUMPRODUCT(--(G31:AJ31>=$G$5:$AJ$5)*($G$5:$AJ$5<>"")*($G$4:$AJ$4=1))=COUNTIF($G$4:$AJ$4,1),1,0)))) -> 1 | AP31: עומד בתנאי סף האמנותי ובתנאי הסף הכמותיים כקבוצה מוסיקלית, | AQ31: =IF(OR(SUM(AT31:CB31)<>COUNT(AT31:CB31),SUMPRODUCT(--(G31:AJ31=$AR$1))<>0),0,1) -> 1 | AR31: =IF($F31="","",AR$30) -> 0 | AS31: =IF($F31="","",AS$30) -> 1 | AT31: =IF(OR(G$30="",G$4=99),1,IF(G31="",0,IFERROR(CHOOSE(AT$28,IF(ISNA(MATCH(G31,$AR$30:$AS$30,0)),0,1),IF(ISNUMBER(G31),1,0),IF(G31=TRUNC(G31),1,0),IF(AND(G31*1=G31,G31>=0),1,0),IF(AND(G31=TRUNC(G31),G31>=0),1,0),IF(AND(G31*1=G31,G31>0),1,0),IF(AND(G31=TRUNC(G31),G31>0),1,0),1,IF(ISNA(HLOOKUP(G31,$AU$4:$BD$4,1,0)),0,1)),0))) -> 1 | AU31: =IF(OR(H$30="",H$4=99),1,IF(H31="",0,IFERROR(CHOOSE(AU$28,IF(ISNA(MATCH(H31,$AR$30:$AS$30,0)),0,1),IF(ISNUMBER(H31),1,0),IF(H31=TRUNC(H31),1,0),IF(AND(H31*1=H31,H31>=0),1,0),IF(AND(H31=TRUNC(H31),H31>=0),1,0),IF(AND(H31*1=H31,H31>0),1,0),IF(AND(H31=TRUNC(H31),H31>0),1,0),1,IF(ISNA(HLOOKUP(H31,$AU$4:$BD$4,1,0)),0,1)),0))) -> 1 | AV31: =IF(OR(I$30="",I$4=99),1,IF(I31="",0,IFERROR(CHOOSE(AV$28,IF(ISNA(MATCH(I31,$AR$30:$AS$30,0)),0,1),IF(ISNUMBER(I31),1,0),IF(I31=TRUNC(I31),1,0),IF(AND(I31*1=I31,I31>=0),1,0),IF(AND(I31=TRUNC(I31),I31>=0),1,0),IF(AND(I31*1=I31,I31>0),1,0),IF(AND(I31=TRUNC(I31),I31>0),1,0),1,IF(ISNA(HLOOKUP(I31,$AU$4:$BD$4,1,0)),0,1)),0))) -> 1 | AW31: =IF(OR(J$30="",J$4=99),1,IF(J31="",0,IFERROR(CHOOSE(AW$28,IF(ISNA(MATCH(J31,$AR$30:$AS$30,0)),0,1),IF(ISNUMBER(J31),1,0),IF(J31=TRUNC(J31),1,0),IF(AND(J31*1=J31,J31>=0),1,0),IF(AND(J31=TRUNC(J31),J31>=0),1,0),IF(AND(J31*1=J31,J31>0),1,0),IF(AND(J31=TRUNC(J31),J31>0),1,0),1,IF(ISNA(HLOOKUP(J31,$AU$4:$BD$4,1,0)),0,1)),0))) -> 1 | AX31: =IF(OR(K$30="",K$4=99),1,IF(K31="",0,IFERROR(CHOOSE(AX$28,IF(ISNA(MATCH(K31,$AR$30:$AS$30,0)),0,1),IF(ISNUMBER(K31),1,0),IF(K31=TRUNC(K31),1,0),IF(AND(K31*1=K31,K31>=0),1,0),IF(AND(K31=TRUNC(K31),K31>=0),1,0),IF(AND(K31*1=K31,K31>0),1,0),IF(AND(K31=TRUNC(K31),K31>0),1,0),1,IF(ISNA(HLOOKUP(K31,$AU$4:$BD$4,1,0)),0,1)),0))) -> 1 | AY31: =IF(OR(L$30="",L$4=99),1,IF(L31="",0,IFERROR(CHOOSE(AY$28,IF(ISNA(MATCH(L31,$AR$30:$AS$30,0)),0,1),IF(ISNUMBER(L31),1,0),IF(L31=TRUNC(L31),1,0),IF(AND(L31*1=L31,L31>=0),1,0),IF(AND(L31=TRUNC(L31),L31>=0),1,0),IF(AND(L31*1=L31,L31>0),1,0),IF(AND(L31=TRUNC(L31),L31>0),1,0),1,IF(ISNA(HLOOKUP(L31,$AU$4:$BD$4,1,0)),0,1)),0))) -> 1 | AZ31: =IF(OR(M$30="",M$4=99),1,IF(M31="",0,IFERROR(CHOOSE(AZ$28,IF(ISNA(MATCH(M31,$AR$30:$AS$30,0)),0,1),IF(ISNUMBER(M31),1,0),IF(M31=TRUNC(M31),1,0),IF(AND(M31*1=M31,M31>=0),1,0),IF(AND(M31=TRUNC(M31),M31>=0),1,0),IF(AND(M31*1=M31,M31>0),1,0),IF(AND(M31=TRUNC(M31),M31>0),1,0),1,IF(ISNA(HLOOKUP(M31,$AU$4:$BD$4,1,0)),0,1)),0))) -> 1 | BA31: =IF(OR(N$30="",N$4=99),1,IF(N31="",0,IFERROR(CHOOSE(BA$28,IF(ISNA(MATCH(N31,$AR$30:$AS$30,0)),0,1),IF(ISNUMBER(N31),1,0),IF(N31=TRUNC(N31),1,0),IF(AND(N31*1=N31,N31>=0),1,0),IF(AND(N31=TRUNC(N31),N31>=0),1,0),IF(AND(N31*1=N31,N31>0),1,0),IF(AND(N31=TRUNC(N31),N31>0),1,0),1,IF(ISNA(HLOOKUP(N31,$AU$4:$BD$4,1,0)),0,1)),0))) -> 1 | ... CB31: =IF(OR(AO$30="",AO$4=99),1,IF(AO31="",0,IFERROR(CHOOSE(CB$28,IF(ISNA(MATCH(AO31,$AR$30:$AS$30,0)),0,1),IF(ISNUMBER(AO31),1,0),IF(AO31=TRUNC(AO31),1,0),IF(AND(AO31*1=AO31,AO31>=0),1,0),IF(AND(AO31=TRUNC(AO31),AO31>=0),1,0),IF(AND(AO31*1=AO31,AO31>0),1,0),IF(AND(AO31=TRUNC(AO31),AO31>0),1,0),1,IF(ISNA(HLOOKUP(AO31,$AU$4:$BD$4,1,0)),0,1)),0))) -> 1 | CG31: =IF($F31="","",CG$30) -> 1 | CS31: =Z31>=CS$7 -> TRUE | CT31: =AA31>=CT$7 -> TRUE | CU31: =AB31>=CU$7 -> TRUE | CV31: =AC31>=CV$7 -> TRUE | CW31: =AD31>=CW$7 -> TRUE | CX31: =IF($F31="","",IF(SUMPRODUCT(--(CS31:CW31=TRUE))=COUNTA(CS31:CW31),1,0)) -> 1
B32: =IF(F32="","",ROW()-30) | Q32: =IF($F32="","",IF(O32<P32,$AR$1,IF(AND(P32>O32*0.5,P32>=$P$5),1,0))) | AB32: =IF(F32="","",IF(Z32>=$Z$5*0.8,1,0)) | AC32: =IF(F32="","",IF(AA32>=$AA$5*0.8,1,0)) | AD32: =IF(G32="","",IF(AND(Z32>='פרמטרים לקריטריונים'!$D$19,AA32>='פרמטרים לקריטריונים'!$C$19),1,0)) | AE32: {=IF($F32="","",IF(OR(SUMPRODUCT(--(Z32:AA32>=$Z$5:$AA$5))=COUNTA($Z$29:$AA$29),OR(AND(X32=1,OR(AB32=1,AC32=1)),AND(Y32=1,AD32=1))),1,0))} | AJ32: =IF(F32="","",IF(G32>=$G$5,1,0)) | AO32: =IF($F32="","",IF(AK32=1,1,IF(AQ32<>1,$AR$1,IF(SUMPRODUCT(--(G32:AJ32>=$G$5:$AJ$5)*($G$5:$AJ$5<>"")*($G$4:$AJ$4=1))=COUNTIF($G$4:$AJ$4,1),1,0)))) | AQ32: =IF(OR(SUM(AT32:CB32)<>COUNT(AT32:CB32),SUMPRODUCT(--(G32:AJ32=$AR$1))<>0),0,1) -> 0 | AR32: =IF($F32="","",AR$30) | AS32: =IF($F32="","",AS$30) | AT32: =IF(OR(G$30="",G$4=99),1,IF(G32="",0,IFERROR(CHOOSE(AT$28,IF(ISNA(MATCH(G32,$AR$30:$AS$30,0)),0,1),IF(ISNUMBER(G32),1,0),IF(G32=TRUNC(G32),1,0),IF(AND(G32*1=G32,G32>=0),1,0),IF(AND(G32=TRUNC(G32),G32>=0),1,0),IF(AND(G32*1=G32,G32>0),1,0),IF(AND(G32=TRUNC(G32),G32>0),1,0),1,IF(ISNA(HLOOKUP(G32,$AU$4:$BD$4,1,0)),0,1)),0))) -> 0 | AU32: =IF(OR(H$30="",H$4=99),1,IF(H32="",0,IFERROR(CHOOSE(AU$28,IF(ISNA(MATCH(H32,$AR$30:$AS$30,0)),0,1),IF(ISNUMBER(H32),1,0),IF(H32=TRUNC(H32),1,0),IF(AND(H32*1=H32,H32>=0),1,0),IF(AND(H32=TRUNC(H32),H32>=0),1,0),IF(AND(H32*1=H32,H32>0),1,0),IF(AND(H32=TRUNC(H32),H32>0),1,0),1,IF(ISNA(HLOOKUP(H32,$AU$4:$BD$4,1,0)),0,1)),0))) -> 0 | AV32: =IF(OR(I$30="",I$4=99),1,IF(I32="",0,IFERROR(CHOOSE(AV$28,IF(ISNA(MATCH(I32,$AR$30:$AS$30,0)),0,1),IF(ISNUMBER(I32),1,0),IF(I32=TRUNC(I32),1,0),IF(AND(I32*1=I32,I32>=0),1,0),IF(AND(I32=TRUNC(I32),I32>=0),1,0),IF(AND(I32*1=I32,I32>0),1,0),IF(AND(I32=TRUNC(I32),I32>0),1,0),1,IF(ISNA(HLOOKUP(I32,$AU$4:$BD$4,1,0)),0,1)),0))) -> 0 | AW32: =IF(OR(J$30="",J$4=99),1,IF(J32="",0,IFERROR(CHOOSE(AW$28,IF(ISNA(MATCH(J32,$AR$30:$AS$30,0)),0,1),IF(ISNUMBER(J32),1,0),IF(J32=TRUNC(J32),1,0),IF(AND(J32*1=J32,J32>=0),1,0),IF(AND(J32=TRUNC(J32),J32>=0),1,0),IF(AND(J32*1=J32,J32>0),1,0),IF(AND(J32=TRUNC(J32),J32>0),1,0),1,IF(ISNA(HLOOKUP(J32,$AU$4:$BD$4,1,0)),0,1)),0))) -> 0 | AX32: =IF(OR(K$30="",K$4=99),1,IF(K32="",0,IFERROR(CHOOSE(AX$28,IF(ISNA(MATCH(K32,$AR$30:$AS$30,0)),0,1),IF(ISNUMBER(K32),1,0),IF(K32=TRUNC(K32),1,0),IF(AND(K32*1=K32,K32>=0),1,0),IF(AND(K32=TRUNC(K32),K32>=0),1,0),IF(AND(K32*1=K32,K32>0),1,0),IF(AND(K32=TRUNC(K32),K32>0),1,0),1,IF(ISNA(HLOOKUP(K32,$AU$4:$BD$4,1,0)),0,1)),0))) -> 0 | AY32: =IF(OR(L$30="",L$4=99),1,IF(L32="",0,IFERROR(CHOOSE(AY$28,IF(ISNA(MATCH(L32,$AR$30:$AS$30,0)),0,1),IF(ISNUMBER(L32),1,0),IF(L32=TRUNC(L32),1,0),IF(AND(L32*1=L32,L32>=0),1,0),IF(AND(L32=TRUNC(L32),L32>=0),1,0),IF(AND(L32*1=L32,L32>0),1,0),IF(AND(L32=TRUNC(L32),L32>0),1,0),1,IF(ISNA(HLOOKUP(L32,$AU$4:$BD$4,1,0)),0,1)),0))) -> 0 | AZ32: =IF(OR(M$30="",M$4=99),1,IF(M32="",0,IFERROR(CHOOSE(AZ$28,IF(ISNA(MATCH(M32,$AR$30:$AS$30,0)),0,1),IF(ISNUMBER(M32),1,0),IF(M32=TRUNC(M32),1,0),IF(AND(M32*1=M32,M32>=0),1,0),IF(AND(M32=TRUNC(M32),M32>=0),1,0),IF(AND(M32*1=M32,M32>0),1,0),IF(AND(M32=TRUNC(M32),M32>0),1,0),1,IF(ISNA(HLOOKUP(M32,$AU$4:$BD$4,1,0)),0,1)),0))) -> 0 | BA32: =IF(OR(N$30="",N$4=99),1,IF(N32="",0,IFERROR(CHOOSE(BA$28,IF(ISNA(MATCH(N32,$AR$30:$AS$30,0)),0,1),IF(ISNUMBER(N32),1,0),IF(N32=TRUNC(N32),1,0),IF(AND(N32*1=N32,N32>=0),1,0),IF(AND(N32=TRUNC(N32),N32>=0),1,0),IF(AND(N32*1=N32,N32>0),1,0),IF(AND(N32=TRUNC(N32),N32>0),1,0),1,IF(ISNA(HLOOKUP(N32,$AU$4:$BD$4,1,0)),0,1)),0))) -> 0 | ... CB32: =IF(OR(AO$30="",AO$4=99),1,IF(AO32="",0,IFERROR(CHOOSE(CB$28,IF(ISNA(MATCH(AO32,$AR$30:$AS$30,0)),0,1),IF(ISNUMBER(AO32),1,0),IF(AO32=TRUNC(AO32),1,0),IF(AND(AO32*1=AO32,AO32>=0),1,0),IF(AND(AO32=TRUNC(AO32),AO32>=0),1,0),IF(AND(AO32*1=AO32,AO32>0),1,0),IF(AND(AO32=TRUNC(AO32),AO32>0),1,0),1,IF(ISNA(HLOOKUP(AO32,$AU$4:$BD$4,1,0)),0,1)),0))) -> 1 | CS32: =Z32>=CS$7 -> FALSE | CT32: =AA32>=CT$7 -> FALSE | CU32: =AB32>=CU$7 -> TRUE | CV32: =AC32>=CV$7 -> TRUE | CW32: =AD32>=CW$7 -> TRUE | CX32: =IF($F32="","",IF(SUMPRODUCT(--(CS32:CW32=TRUE))=COUNTA(CS32:CW32),1,0))
B33: =IF(F33="","",ROW()-30) -> 3 | F33: הפתיליה | G33: 1 | H33: 1 | I33: 1 | J33: 1 | K33: 1 | L33: 1 | M33: 1 | N33: 1 | O33: 12 | P33: 9 | Q33: =IF($F33="","",IF(O33<P33,$AR$1,IF(AND(P33>O33*0.5,P33>=$P$5),1,0))) -> 1 | R33: 1 | S33: 1 | T33: 1 | U33: 1 | Z33: 4 | AA33: 253627 | AB33: =IF(F33="","",IF(Z33>=$Z$5*0.8,1,0)) -> 0 | AC33: =IF(F33="","",IF(AA33>=$AA$5*0.8,1,0)) -> 1 | AD33: =IF(G33="","",IF(AND(Z33>='פרמטרים לקריטריונים'!$D$19,AA33>='פרמטרים לקריטריונים'!$C$19),1,0)) -> 0 | AE33: {=IF($F33="","",IF(OR(SUMPRODUCT(--(Z33:AA33>=$Z$5:$AA$5))=COUNTA($Z$29:$AA$29),OR(AND(X33=1,OR(AB33=1,AC33=1)),AND(Y33=1,AD33=1))),1,0))} -> 0 | AG33: 1 | AH33: 1 | AI33: 1 | AJ33: =IF(F33="","",IF(G33>=$G$5,1,0)) -> 1 | AO33: =IF($F33="","",IF(AK33=1,1,IF(AQ33<>1,$AR$1,IF(SUMPRODUCT(--(G33:AJ33>=$G$5:$AJ$5)*($G$5:$AJ$5<>"")*($G$4:$AJ$4=1))=COUNTIF($G$4:$AJ$4,1),1,0)))) -> 0 | AP33: לא עומד בתנאי סף לפי סעיף 9.(א)(9) במבחן התמיכה לפחות 8 הרצות.4 הרצות בבדיקה של שנת הערכה רבעונית, ו 6 הרצות בבדיקת שנת הערכה קלנדרית | AQ33: =IF(OR(SUM(AT33:CB33)<>COUNT(AT33:CB33),SUMPRODUCT(--(G33:AJ33=$AR$1))<>0),0,1) -> 1 | AR33: =IF($F33="","",AR$30) -> 0 | AS33: =IF($F33="","",AS$30) -> 1 | AT33: =IF(OR(G$30="",G$4=99),1,IF(G33="",0,IFERROR(CHOOSE(AT$28,IF(ISNA(MATCH(G33,$AR$30:$AS$30,0)),0,1),IF(ISNUMBER(G33),1,0),IF(G33=TRUNC(G33),1,0),IF(AND(G33*1=G33,G33>=0),1,0),IF(AND(G33=TRUNC(G33),G33>=0),1,0),IF(AND(G33*1=G33,G33>0),1,0),IF(AND(G33=TRUNC(G33),G33>0),1,0),1,IF(ISNA(HLOOKUP(G33,$AU$4:$BD$4,1,0)),0,1)),0))) -> 1 | AU33: =IF(OR(H$30="",H$4=99),1,IF(H33="",0,IFERROR(CHOOSE(AU$28,IF(ISNA(MATCH(H33,$AR$30:$AS$30,0)),0,1),IF(ISNUMBER(H33),1,0),IF(H33=TRUNC(H33),1,0),IF(AND(H33*1=H33,H33>=0),1,0),IF(AND(H33=TRUNC(H33),H33>=0),1,0),IF(AND(H33*1=H33,H33>0),1,0),IF(AND(H33=TRUNC(H33),H33>0),1,0),1,IF(ISNA(HLOOKUP(H33,$AU$4:$BD$4,1,0)),0,1)),0))) -> 1 | AV33: =IF(OR(I$30="",I$4=99),1,IF(I33="",0,IFERROR(CHOOSE(AV$28,IF(ISNA(MATCH(I33,$AR$30:$AS$30,0)),0,1),IF(ISNUMBER(I33),1,0),IF(I33=TRUNC(I33),1,0),IF(AND(I33*1=I33,I33>=0),1,0),IF(AND(I33=TRUNC(I33),I33>=0),1,0),IF(AND(I33*1=I33,I33>0),1,0),IF(AND(I33=TRUNC(I33),I33>0),1,0),1,IF(ISNA(HLOOKUP(I33,$AU$4:$BD$4,1,0)),0,1)),0))) -> 1 | AW33: =IF(OR(J$30="",J$4=99),1,IF(J33="",0,IFERROR(CHOOSE(AW$28,IF(ISNA(MATCH(J33,$AR$30:$AS$30,0)),0,1),IF(ISNUMBER(J33),1,0),IF(J33=TRUNC(J33),1,0),IF(AND(J33*1=J33,J33>=0),1,0),IF(AND(J33=TRUNC(J33),J33>=0),1,0),IF(AND(J33*1=J33,J33>0),1,0),IF(AND(J33=TRUNC(J33),J33>0),1,0),1,IF(ISNA(HLOOKUP(J33,$AU$4:$BD$4,1,0)),0,1)),0))) -> 1 | AX33: =IF(OR(K$30="",K$4=99),1,IF(K33="",0,IFERROR(CHOOSE(AX$28,IF(ISNA(MATCH(K33,$AR$30:$AS$30,0)),0,1),IF(ISNUMBER(K33),1,0),IF(K33=TRUNC(K33),1,0),IF(AND(K33*1=K33,K33>=0),1,0),IF(AND(K33=TRUNC(K33),K33>=0),1,0),IF(AND(K33*1=K33,K33>0),1,0),IF(AND(K33=TRUNC(K33),K33>0),1,0),1,IF(ISNA(HLOOKUP(K33,$AU$4:$BD$4,1,0)),0,1)),0))) -> 1 | AY33: =IF(OR(L$30="",L$4=99),1,IF(L33="",0,IFERROR(CHOOSE(AY$28,IF(ISNA(MATCH(L33,$AR$30:$AS$30,0)),0,1),IF(ISNUMBER(L33),1,0),IF(L33=TRUNC(L33),1,0),IF(AND(L33*1=L33,L33>=0),1,0),IF(AND(L33=TRUNC(L33),L33>=0),1,0),IF(AND(L33*1=L33,L33>0),1,0),IF(AND(L33=TRUNC(L33),L33>0),1,0),1,IF(ISNA(HLOOKUP(L33,$AU$4:$BD$4,1,0)),0,1)),0))) -> 1 | AZ33: =IF(OR(M$30="",M$4=99),1,IF(M33="",0,IFERROR(CHOOSE(AZ$28,IF(ISNA(MATCH(M33,$AR$30:$AS$30,0)),0,1),IF(ISNUMBER(M33),1,0),IF(M33=TRUNC(M33),1,0),IF(AND(M33*1=M33,M33>=0),1,0),IF(AND(M33=TRUNC(M33),M33>=0),1,0),IF(AND(M33*1=M33,M33>0),1,0),IF(AND(M33=TRUNC(M33),M33>0),1,0),1,IF(ISNA(HLOOKUP(M33,$AU$4:$BD$4,1,0)),0,1)),0))) -> 1 | BA33: =IF(OR(N$30="",N$4=99),1,IF(N33="",0,IFERROR(CHOOSE(BA$28,IF(ISNA(MATCH(N33,$AR$30:$AS$30,0)),0,1),IF(ISNUMBER(N33),1,0),IF(N33=TRUNC(N33),1,0),IF(AND(N33*1=N33,N33>=0),1,0),IF(AND(N33=TRUNC(N33),N33>=0),1,0),IF(AND(N33*1=N33,N33>0),1,0),IF(AND(N33=TRUNC(N33),N33>0),1,0),1,IF(ISNA(HLOOKUP(N33,$AU$4:$BD$4,1,0)),0,1)),0))) -> 1 | ... CB33: =IF(OR(AO$30="",AO$4=99),1,IF(AO33="",0,IFERROR(CHOOSE(CB$28,IF(ISNA(MATCH(AO33,$AR$30:$AS$30,0)),0,1),IF(ISNUMBER(AO33),1,0),IF(AO33=TRUNC(AO33),1,0),IF(AND(AO33*1=AO33,AO33>=0),1,0),IF(AND(AO33=TRUNC(AO33),AO33>=0),1,0),IF(AND(AO33*1=AO33,AO33>0),1,0),IF(AND(AO33=TRUNC(AO33),AO33>0),1,0),1,IF(ISNA(HLOOKUP(AO33,$AU$4:$BD$4,1,0)),0,1)),0))) -> 1 | CS33: =Z33>=CS$7 -> FALSE | CT33: =AA33>=CT$7 -> TRUE | CU33: =AB33>=CU$7 -> TRUE | CV33: =AC33>=CV$7 -> TRUE | CW33: =AD33>=CW$7 -> TRUE | CX33: =IF($F33="","",IF(SUMPRODUCT(--(CS33:CW33=TRUE))=COUNTA(CS33:CW33),1,0)) -> 0
B34: =IF(F34="","",ROW()-30) -> 4 | F34: יניב ד'אור - אנסמבל נאיה | G34: 1 | H34: 1 | I34: 1 | J34: 1 | K34: 1 | L34: 1 | M34: 1 | N34: 1 | O34: 7 | P34: 6 | Q34: =IF($F34="","",IF(O34<P34,$AR$1,IF(AND(P34>O34*0.5,P34>=$P$5),1,0))) -> 1 | R34: 1 | S34: 1 | T34: 1 | U34: 1 | Z34: 8 | AA34: 124104 | AB34: =IF(F34="","",IF(Z34>=$Z$5*0.8,1,0)) -> 1 | AC34: =IF(F34="","",IF(AA34>=$AA$5*0.8,1,0)) -> 1 | AD34: =IF(G34="","",IF(AND(Z34>='פרמטרים לקריטריונים'!$D$19,AA34>='פרמטרים לקריטריונים'!$C$19),1,0)) -> 1 | AE34: {=IF($F34="","",IF(OR(SUMPRODUCT(--(Z34:AA34>=$Z$5:$AA$5))=COUNTA($Z$29:$AA$29),OR(AND(X34=1,OR(AB34=1,AC34=1)),AND(Y34=1,AD34=1))),1,0))} -> 1 | AG34: 1 | AH34: 1 | AI34: 1 | AJ34: =IF(F34="","",IF(G34>=$G$5,1,0)) -> 1 | AO34: =IF($F34="","",IF(AK34=1,1,IF(AQ34<>1,$AR$1,IF(SUMPRODUCT(--(G34:AJ34>=$G$5:$AJ$5)*($G$5:$AJ$5<>"")*($G$4:$AJ$4=1))=COUNTIF($G$4:$AJ$4,1),1,0)))) -> 1 | AP34: עומד בתנאי סף האמנותי ובתנאי הסף הכמותיים כקבוצה מוסיקלית. | AQ34: =IF(OR(SUM(AT34:CB34)<>COUNT(AT34:CB34),SUMPRODUCT(--(G34:AJ34=$AR$1))<>0),0,1) -> 1 | AR34: =IF($F34="","",AR$30) -> 0 | AS34: =IF($F34="","",AS$30) -> 1 | AT34: =IF(OR(G$30="",G$4=99),1,IF(G34="",0,IFERROR(CHOOSE(AT$28,IF(ISNA(MATCH(G34,$AR$30:$AS$30,0)),0,1),IF(ISNUMBER(G34),1,0),IF(G34=TRUNC(G34),1,0),IF(AND(G34*1=G34,G34>=0),1,0),IF(AND(G34=TRUNC(G34),G34>=0),1,0),IF(AND(G34*1=G34,G34>0),1,0),IF(AND(G34=TRUNC(G34),G34>0),1,0),1,IF(ISNA(HLOOKUP(G34,$AU$4:$BD$4,1,0)),0,1)),0))) -> 1 | AU34: =IF(OR(H$30="",H$4=99),1,IF(H34="",0,IFERROR(CHOOSE(AU$28,IF(ISNA(MATCH(H34,$AR$30:$AS$30,0)),0,1),IF(ISNUMBER(H34),1,0),IF(H34=TRUNC(H34),1,0),IF(AND(H34*1=H34,H34>=0),1,0),IF(AND(H34=TRUNC(H34),H34>=0),1,0),IF(AND(H34*1=H34,H34>0),1,0),IF(AND(H34=TRUNC(H34),H34>0),1,0),1,IF(ISNA(HLOOKUP(H34,$AU$4:$BD$4,1,0)),0,1)),0))) -> 1 | AV34: =IF(OR(I$30="",I$4=99),1,IF(I34="",0,IFERROR(CHOOSE(AV$28,IF(ISNA(MATCH(I34,$AR$30:$AS$30,0)),0,1),IF(ISNUMBER(I34),1,0),IF(I34=TRUNC(I34),1,0),IF(AND(I34*1=I34,I34>=0),1,0),IF(AND(I34=TRUNC(I34),I34>=0),1,0),IF(AND(I34*1=I34,I34>0),1,0),IF(AND(I34=TRUNC(I34),I34>0),1,0),1,IF(ISNA(HLOOKUP(I34,$AU$4:$BD$4,1,0)),0,1)),0))) -> 1 | AW34: =IF(OR(J$30="",J$4=99),1,IF(J34="",0,IFERROR(CHOOSE(AW$28,IF(ISNA(MATCH(J34,$AR$30:$AS$30,0)),0,1),IF(ISNUMBER(J34),1,0),IF(J34=TRUNC(J34),1,0),IF(AND(J34*1=J34,J34>=0),1,0),IF(AND(J34=TRUNC(J34),J34>=0),1,0),IF(AND(J34*1=J34,J34>0),1,0),IF(AND(J34=TRUNC(J34),J34>0),1,0),1,IF(ISNA(HLOOKUP(J34,$AU$4:$BD$4,1,0)),0,1)),0))) -> 1 | AX34: =IF(OR(K$30="",K$4=99),1,IF(K34="",0,IFERROR(CHOOSE(AX$28,IF(ISNA(MATCH(K34,$AR$30:$AS$30,0)),0,1),IF(ISNUMBER(K34),1,0),IF(K34=TRUNC(K34),1,0),IF(AND(K34*1=K34,K34>=0),1,0),IF(AND(K34=TRUNC(K34),K34>=0),1,0),IF(AND(K34*1=K34,K34>0),1,0),IF(AND(K34=TRUNC(K34),K34>0),1,0),1,IF(ISNA(HLOOKUP(K34,$AU$4:$BD$4,1,0)),0,1)),0))) -> 1 | AY34: =IF(OR(L$30="",L$4=99),1,IF(L34="",0,IFERROR(CHOOSE(AY$28,IF(ISNA(MATCH(L34,$AR$30:$AS$30,0)),0,1),IF(ISNUMBER(L34),1,0),IF(L34=TRUNC(L34),1,0),IF(AND(L34*1=L34,L34>=0),1,0),IF(AND(L34=TRUNC(L34),L34>=0),1,0),IF(AND(L34*1=L34,L34>0),1,0),IF(AND(L34=TRUNC(L34),L34>0),1,0),1,IF(ISNA(HLOOKUP(L34,$AU$4:$BD$4,1,0)),0,1)),0))) -> 1 | AZ34: =IF(OR(M$30="",M$4=99),1,IF(M34="",0,IFERROR(CHOOSE(AZ$28,IF(ISNA(MATCH(M34,$AR$30:$AS$30,0)),0,1),IF(ISNUMBER(M34),1,0),IF(M34=TRUNC(M34),1,0),IF(AND(M34*1=M34,M34>=0),1,0),IF(AND(M34=TRUNC(M34),M34>=0),1,0),IF(AND(M34*1=M34,M34>0),1,0),IF(AND(M34=TRUNC(M34),M34>0),1,0),1,IF(ISNA(HLOOKUP(M34,$AU$4:$BD$4,1,0)),0,1)),0))) -> 1 | BA34: =IF(OR(N$30="",N$4=99),1,IF(N34="",0,IFERROR(CHOOSE(BA$28,IF(ISNA(MATCH(N34,$AR$30:$AS$30,0)),0,1),IF(ISNUMBER(N34),1,0),IF(N34=TRUNC(N34),1,0),IF(AND(N34*1=N34,N34>=0),1,0),IF(AND(N34=TRUNC(N34),N34>=0),1,0),IF(AND(N34*1=N34,N34>0),1,0),IF(AND(N34=TRUNC(N34),N34>0),1,0),1,IF(ISNA(HLOOKUP(N34,$AU$4:$BD$4,1,0)),0,1)),0))) -> 1 | ... CB34: =IF(OR(AO$30="",AO$4=99),1,IF(AO34="",0,IFERROR(CHOOSE(CB$28,IF(ISNA(MATCH(AO34,$AR$30:$AS$30,0)),0,1),IF(ISNUMBER(AO34),1,0),IF(AO34=TRUNC(AO34),1,0),IF(AND(AO34*1=AO34,AO34>=0),1,0),IF(AND(AO34=TRUNC(AO34),AO34>=0),1,0),IF(AND(AO34*1=AO34,AO34>0),1,0),IF(AND(AO34=TRUNC(AO34),AO34>0),1,0),1,IF(ISNA(HLOOKUP(AO34,$AU$4:$BD$4,1,0)),0,1)),0))) -> 1 | CS34: =Z34>=CS$7 -> TRUE | CT34: =AA34>=CT$7 -> TRUE | CU34: =AB34>=CU$7 -> TRUE | CV34: =AC34>=CV$7 -> TRUE | CW34: =AD34>=CW$7 -> TRUE | CX34: =IF($F34="","",IF(SUMPRODUCT(--(CS34:CW34=TRUE))=COUNTA(CS34:CW34),1,0)) -> 1
B35: =IF(F35="","",ROW()-30) | Q35: =IF($F35="","",IF(O35<P35,$AR$1,IF(AND(P35>O35*0.5,P35>=$P$5),1,0))) | AB35: =IF(F35="","",IF(Z35>=$Z$5*0.8,1,0)) | AC35: =IF(F35="","",IF(AA35>=$AA$5*0.8,1,0)) | AD35: =IF(G35="","",IF(AND(Z35>='פרמטרים לקריטריונים'!$D$19,AA35>='פרמטרים לקריטריונים'!$C$19),1,0)) | AE35: {=IF($F35="","",IF(OR(SUMPRODUCT(--(Z35:AA35>=$Z$5:$AA$5))=COUNTA($Z$29:$AA$29),OR(AND(X35=1,OR(AB35=1,AC35=1)),AND(Y35=1,AD35=1))),1,0))} | AJ35: =IF(F35="","",IF(G35>=$G$5,1,0)) | AO35: =IF($F35="","",IF(AK35=1,1,IF(AQ35<>1,$AR$1,IF(SUMPRODUCT(--(G35:AJ35>=$G$5:$AJ$5)*($G$5:$AJ$5<>"")*($G$4:$AJ$4=1))=COUNTIF($G$4:$AJ$4,1),1,0)))) | AQ35: =IF(OR(SUM(AT35:CB35)<>COUNT(AT35:CB35),SUMPRODUCT(--(G35:AJ35=$AR$1))<>0),0,1) -> 0 | AR35: =IF($F35="","",AR$30) | AS35: =IF($F35="","",AS$30) | AT35: =IF(OR(G$30="",G$4=99),1,IF(G35="",0,IFERROR(CHOOSE(AT$28,IF(ISNA(MATCH(G35,$AR$30:$AS$30,0)),0,1),IF(ISNUMBER(G35),1,0),IF(G35=TRUNC(G35),1,0),IF(AND(G35*1=G35,G35>=0),1,0),IF(AND(G35=TRUNC(G35),G35>=0),1,0),IF(AND(G35*1=G35,G35>0),1,0),IF(AND(G35=TRUNC(G35),G35>0),1,0),1,IF(ISNA(HLOOKUP(G35,$AU$4:$BD$4,1,0)),0,1)),0))) -> 0 | AU35: =IF(OR(H$30="",H$4=99),1,IF(H35="",0,IFERROR(CHOOSE(AU$28,IF(ISNA(MATCH(H35,$AR$30:$AS$30,0)),0,1),IF(ISNUMBER(H35),1,0),IF(H35=TRUNC(H35),1,0),IF(AND(H35*1=H35,H35>=0),1,0),IF(AND(H35=TRUNC(H35),H35>=0),1,0),IF(AND(H35*1=H35,H35>0),1,0),IF(AND(H35=TRUNC(H35),H35>0),1,0),1,IF(ISNA(HLOOKUP(H35,$AU$4:$BD$4,1,0)),0,1)),0))) -> 0 | AV35: =IF(OR(I$30="",I$4=99),1,IF(I35="",0,IFERROR(CHOOSE(AV$28,IF(ISNA(MATCH(I35,$AR$30:$AS$30,0)),0,1),IF(ISNUMBER(I35),1,0),IF(I35=TRUNC(I35),1,0),IF(AND(I35*1=I35,I35>=0),1,0),IF(AND(I35=TRUNC(I35),I35>=0),1,0),IF(AND(I35*1=I35,I35>0),1,0),IF(AND(I35=TRUNC(I35),I35>0),1,0),1,IF(ISNA(HLOOKUP(I35,$AU$4:$BD$4,1,0)),0,1)),0))) -> 0 | AW35: =IF(OR(J$30="",J$4=99),1,IF(J35="",0,IFERROR(CHOOSE(AW$28,IF(ISNA(MATCH(J35,$AR$30:$AS$30,0)),0,1),IF(ISNUMBER(J35),1,0),IF(J35=TRUNC(J35),1,0),IF(AND(J35*1=J35,J35>=0),1,0),IF(AND(J35=TRUNC(J35),J35>=0),1,0),IF(AND(J35*1=J35,J35>0),1,0),IF(AND(J35=TRUNC(J35),J35>0),1,0),1,IF(ISNA(HLOOKUP(J35,$AU$4:$BD$4,1,0)),0,1)),0))) -> 0 | AX35: =IF(OR(K$30="",K$4=99),1,IF(K35="",0,IFERROR(CHOOSE(AX$28,IF(ISNA(MATCH(K35,$AR$30:$AS$30,0)),0,1),IF(ISNUMBER(K35),1,0),IF(K35=TRUNC(K35),1,0),IF(AND(K35*1=K35,K35>=0),1,0),IF(AND(K35=TRUNC(K35),K35>=0),1,0),IF(AND(K35*1=K35,K35>0),1,0),IF(AND(K35=TRUNC(K35),K35>0),1,0),1,IF(ISNA(HLOOKUP(K35,$AU$4:$BD$4,1,0)),0,1)),0))) -> 0 | AY35: =IF(OR(L$30="",L$4=99),1,IF(L35="",0,IFERROR(CHOOSE(AY$28,IF(ISNA(MATCH(L35,$AR$30:$AS$30,0)),0,1),IF(ISNUMBER(L35),1,0),IF(L35=TRUNC(L35),1,0),IF(AND(L35*1=L35,L35>=0),1,0),IF(AND(L35=TRUNC(L35),L35>=0),1,0),IF(AND(L35*1=L35,L35>0),1,0),IF(AND(L35=TRUNC(L35),L35>0),1,0),1,IF(ISNA(HLOOKUP(L35,$AU$4:$BD$4,1,0)),0,1)),0))) -> 0 | AZ35: =IF(OR(M$30="",M$4=99),1,IF(M35="",0,IFERROR(CHOOSE(AZ$28,IF(ISNA(MATCH(M35,$AR$30:$AS$30,0)),0,1),IF(ISNUMBER(M35),1,0),IF(M35=TRUNC(M35),1,0),IF(AND(M35*1=M35,M35>=0),1,0),IF(AND(M35=TRUNC(M35),M35>=0),1,0),IF(AND(M35*1=M35,M35>0),1,0),IF(AND(M35=TRUNC(M35),M35>0),1,0),1,IF(ISNA(HLOOKUP(M35,$AU$4:$BD$4,1,0)),0,1)),0))) -> 0 | BA35: =IF(OR(N$30="",N$4=99),1,IF(N35="",0,IFERROR(CHOOSE(BA$28,IF(ISNA(MATCH(N35,$AR$30:$AS$30,0)),0,1),IF(ISNUMBER(N35),1,0),IF(N35=TRUNC(N35),1,0),IF(AND(N35*1=N35,N35>=0),1,0),IF(AND(N35=TRUNC(N35),N35>=0),1,0),IF(AND(N35*1=N35,N35>0),1,0),IF(AND(N35=TRUNC(N35),N35>0),1,0),1,IF(ISNA(HLOOKUP(N35,$AU$4:$BD$4,1,0)),0,1)),0))) -> 0 | ... CB35: =IF(OR(AO$30="",AO$4=99),1,IF(AO35="",0,IFERROR(CHOOSE(CB$28,IF(ISNA(MATCH(AO35,$AR$30:$AS$30,0)),0,1),IF(ISNUMBER(AO35),1,0),IF(AO35=TRUNC(AO35),1,0),IF(AND(AO35*1=AO35,AO35>=0),1,0),IF(AND(AO35=TRUNC(AO35),AO35>=0),1,0),IF(AND(AO35*1=AO35,AO35>0),1,0),IF(AND(AO35=TRUNC(AO35),AO35>0),1,0),1,IF(ISNA(HLOOKUP(AO35,$AU$4:$BD$4,1,0)),0,1)),0))) -> 1 | CS35: =Z35>=CS$7 -> FALSE | CT35: =AA35>=CT$7 -> FALSE | CU35: =AB35>=CU$7 -> TRUE | CV35: =AC35>=CV$7 -> TRUE | CW35: =AD35>=CW$7 -> TRUE | CX35: =IF($F35="","",IF(SUMPRODUCT(--(CS35:CW35=TRUE))=COUNTA(CS35:CW35),1,0))
B36: =IF(F36="","",ROW()-30) -> 6 | F36: הפרויקט הקאמרי הישראלי | G36: 1 | H36: 1 | I36: 1 | J36: 1 | K36: 1 | L36: 1 | M36: 1 | N36: 1 | O36: 18 | P36: 18 | Q36: =IF($F36="","",IF(O36<P36,$AR$1,IF(AND(P36>O36*0.5,P36>=$P$5),1,0))) -> 1 | R36: 1 | S36: 1 | T36: 1 | U36: 1 | Z36: 8 | AA36: 276882 | AB36: =IF(F36="","",IF(Z36>=$Z$5*0.8,1,0)) -> 1 | AC36: =IF(F36="","",IF(AA36>=$AA$5*0.8,1,0)) -> 1 | AD36: =IF(G36="","",IF(AND(Z36>='פרמטרים לקריטריונים'!$D$19,AA36>='פרמטרים לקריטריונים'!$C$19),1,0)) -> 1 | AE36: {=IF($F36="","",IF(OR(SUMPRODUCT(--(Z36:AA36>=$Z$5:$AA$5))=COUNTA($Z$29:$AA$29),OR(AND(X36=1,OR(AB36=1,AC36=1)),AND(Y36=1,AD36=1))),1,0))} -> 1 | AG36: 1 | AH36: 1 | AI36: 1 | AJ36: =IF(F36="","",IF(G36>=$G$5,1,0)) -> 1 | AO36: =IF($F36="","",IF(AK36=1,1,IF(AQ36<>1,$AR$1,IF(SUMPRODUCT(--(G36:AJ36>=$G$5:$AJ$5)*($G$5:$AJ$5<>"")*($G$4:$AJ$4=1))=COUNTIF($G$4:$AJ$4,1),1,0)))) -> 1 | AP36: עומד בתנאי סף האמנותי ובתנאי הסף הכמותיים כקבוצה מוסיקלית. | AQ36: =IF(OR(SUM(AT36:CB36)<>COUNT(AT36:CB36),SUMPRODUCT(--(G36:AJ36=$AR$1))<>0),0,1) -> 1 | AR36: =IF($F36="","",AR$30) -> 0 | AS36: =IF($F36="","",AS$30) -> 1 | AT36: =IF(OR(G$30="",G$4=99),1,IF(G36="",0,IFERROR(CHOOSE(AT$28,IF(ISNA(MATCH(G36,$AR$30:$AS$30,0)),0,1),IF(ISNUMBER(G36),1,0),IF(G36=TRUNC(G36),1,0),IF(AND(G36*1=G36,G36>=0),1,0),IF(AND(G36=TRUNC(G36),G36>=0),1,0),IF(AND(G36*1=G36,G36>0),1,0),IF(AND(G36=TRUNC(G36),G36>0),1,0),1,IF(ISNA(HLOOKUP(G36,$AU$4:$BD$4,1,0)),0,1)),0))) -> 1 | AU36: =IF(OR(H$30="",H$4=99),1,IF(H36="",0,IFERROR(CHOOSE(AU$28,IF(ISNA(MATCH(H36,$AR$30:$AS$30,0)),0,1),IF(ISNUMBER(H36),1,0),IF(H36=TRUNC(H36),1,0),IF(AND(H36*1=H36,H36>=0),1,0),IF(AND(H36=TRUNC(H36),H36>=0),1,0),IF(AND(H36*1=H36,H36>0),1,0),IF(AND(H36=TRUNC(H36),H36>0),1,0),1,IF(ISNA(HLOOKUP(H36,$AU$4:$BD$4,1,0)),0,1)),0))) -> 1 | AV36: =IF(OR(I$30="",I$4=99),1,IF(I36="",0,IFERROR(CHOOSE(AV$28,IF(ISNA(MATCH(I36,$AR$30:$AS$30,0)),0,1),IF(ISNUMBER(I36),1,0),IF(I36=TRUNC(I36),1,0),IF(AND(I36*1=I36,I36>=0),1,0),IF(AND(I36=TRUNC(I36),I36>=0),1,0),IF(AND(I36*1=I36,I36>0),1,0),IF(AND(I36=TRUNC(I36),I36>0),1,0),1,IF(ISNA(HLOOKUP(I36,$AU$4:$BD$4,1,0)),0,1)),0))) -> 1 | AW36: =IF(OR(J$30="",J$4=99),1,IF(J36="",0,IFERROR(CHOOSE(AW$28,IF(ISNA(MATCH(J36,$AR$30:$AS$30,0)),0,1),IF(ISNUMBER(J36),1,0),IF(J36=TRUNC(J36),1,0),IF(AND(J36*1=J36,J36>=0),1,0),IF(AND(J36=TRUNC(J36),J36>=0),1,0),IF(AND(J36*1=J36,J36>0),1,0),IF(AND(J36=TRUNC(J36),J36>0),1,0),1,IF(ISNA(HLOOKUP(J36,$AU$4:$BD$4,1,0)),0,1)),0))) -> 1 | AX36: =IF(OR(K$30="",K$4=99),1,IF(K36="",0,IFERROR(CHOOSE(AX$28,IF(ISNA(MATCH(K36,$AR$30:$AS$30,0)),0,1),IF(ISNUMBER(K36),1,0),IF(K36=TRUNC(K36),1,0),IF(AND(K36*1=K36,K36>=0),1,0),IF(AND(K36=TRUNC(K36),K36>=0),1,0),IF(AND(K36*1=K36,K36>0),1,0),IF(AND(K36=TRUNC(K36),K36>0),1,0),1,IF(ISNA(HLOOKUP(K36,$AU$4:$BD$4,1,0)),0,1)),0))) -> 1 | AY36: =IF(OR(L$30="",L$4=99),1,IF(L36="",0,IFERROR(CHOOSE(AY$28,IF(ISNA(MATCH(L36,$AR$30:$AS$30,0)),0,1),IF(ISNUMBER(L36),1,0),IF(L36=TRUNC(L36),1,0),IF(AND(L36*1=L36,L36>=0),1,0),IF(AND(L36=TRUNC(L36),L36>=0),1,0),IF(AND(L36*1=L36,L36>0),1,0),IF(AND(L36=TRUNC(L36),L36>0),1,0),1,IF(ISNA(HLOOKUP(L36,$AU$4:$BD$4,1,0)),0,1)),0))) -> 1 | AZ36: =IF(OR(M$30="",M$4=99),1,IF(M36="",0,IFERROR(CHOOSE(AZ$28,IF(ISNA(MATCH(M36,$AR$30:$AS$30,0)),0,1),IF(ISNUMBER(M36),1,0),IF(M36=TRUNC(M36),1,0),IF(AND(M36*1=M36,M36>=0),1,0),IF(AND(M36=TRUNC(M36),M36>=0),1,0),IF(AND(M36*1=M36,M36>0),1,0),IF(AND(M36=TRUNC(M36),M36>0),1,0),1,IF(ISNA(HLOOKUP(M36,$AU$4:$BD$4,1,0)),0,1)),0))) -> 1 | BA36: =IF(OR(N$30="",N$4=99),1,IF(N36="",0,IFERROR(CHOOSE(BA$28,IF(ISNA(MATCH(N36,$AR$30:$AS$30,0)),0,1),IF(ISNUMBER(N36),1,0),IF(N36=TRUNC(N36),1,0),IF(AND(N36*1=N36,N36>=0),1,0),IF(AND(N36=TRUNC(N36),N36>=0),1,0),IF(AND(N36*1=N36,N36>0),1,0),IF(AND(N36=TRUNC(N36),N36>0),1,0),1,IF(ISNA(HLOOKUP(N36,$AU$4:$BD$4,1,0)),0,1)),0))) -> 1 | ... CB36: =IF(OR(AO$30="",AO$4=99),1,IF(AO36="",0,IFERROR(CHOOSE(CB$28,IF(ISNA(MATCH(AO36,$AR$30:$AS$30,0)),0,1),IF(ISNUMBER(AO36),1,0),IF(AO36=TRUNC(AO36),1,0),IF(AND(AO36*1=AO36,AO36>=0),1,0),IF(AND(AO36=TRUNC(AO36),AO36>=0),1,0),IF(AND(AO36*1=AO36,AO36>0),1,0),IF(AND(AO36=TRUNC(AO36),AO36>0),1,0),1,IF(ISNA(HLOOKUP(AO36,$AU$4:$BD$4,1,0)),0,1)),0))) -> 1 | CS36: =Z36>=CS$7 -> TRUE | CT36: =AA36>=CT$7 -> TRUE | CU36: =AB36>=CU$7 -> TRUE | CV36: =AC36>=CV$7 -> TRUE | CW36: =AD36>=CW$7 -> TRUE | CX36: =IF($F36="","",IF(SUMPRODUCT(--(CS36:CW36=TRUE))=COUNTA(CS36:CW36),1,0)) -> 1
B37: =IF(F37="","",ROW()-30) -> 7 | F37: מארש דונדורמה | G37: 1 | H37: 1 | I37: 1 | J37: 1 | K37: 1 | L37: 1 | M37: 1 | N37: 1 | O37: 17 | P37: 16 | Q37: =IF($F37="","",IF(O37<P37,$AR$1,IF(AND(P37>O37*0.5,P37>=$P$5),1,0))) -> 1 | R37: 1 | S37: 1 | T37: 1 | U37: 1 | Z37: 29 | AA37: 395082 | AB37: =IF(F37="","",IF(Z37>=$Z$5*0.8,1,0)) -> 1 | AC37: =IF(F37="","",IF(AA37>=$AA$5*0.8,1,0)) -> 1 | AD37: =IF(G37="","",IF(AND(Z37>='פרמטרים לקריטריונים'!$D$19,AA37>='פרמטרים לקריטריונים'!$C$19),1,0)) -> 1 | AE37: {=IF($F37="","",IF(OR(SUMPRODUCT(--(Z37:AA37>=$Z$5:$AA$5))=COUNTA($Z$29:$AA$29),OR(AND(X37=1,OR(AB37=1,AC37=1)),AND(Y37=1,AD37=1))),1,0))} -> 1 | AG37: 1 | AH37: 1 | AI37: 1 | AJ37: =IF(F37="","",IF(G37>=$G$5,1,0)) -> 1 | AO37: =IF($F37="","",IF(AK37=1,1,IF(AQ37<>1,$AR$1,IF(SUMPRODUCT(--(G37:AJ37>=$G$5:$AJ$5)*($G$5:$AJ$5<>"")*($G$4:$AJ$4=1))=COUNTIF($G$4:$AJ$4,1),1,0)))) -> 1 | AP37: עומד בתנאי סף האמנותי ובתנאי הסף הכמותיים כקבוצה מוסיקלית. | AQ37: =IF(OR(SUM(AT37:CB37)<>COUNT(AT37:CB37),SUMPRODUCT(--(G37:AJ37=$AR$1))<>0),0,1) -> 1 | AR37: =IF($F37="","",AR$30) -> 0 | AS37: =IF($F37="","",AS$30) -> 1 | AT37: =IF(OR(G$30="",G$4=99),1,IF(G37="",0,IFERROR(CHOOSE(AT$28,IF(ISNA(MATCH(G37,$AR$30:$AS$30,0)),0,1),IF(ISNUMBER(G37),1,0),IF(G37=TRUNC(G37),1,0),IF(AND(G37*1=G37,G37>=0),1,0),IF(AND(G37=TRUNC(G37),G37>=0),1,0),IF(AND(G37*1=G37,G37>0),1,0),IF(AND(G37=TRUNC(G37),G37>0),1,0),1,IF(ISNA(HLOOKUP(G37,$AU$4:$BD$4,1,0)),0,1)),0))) -> 1 | AU37: =IF(OR(H$30="",H$4=99),1,IF(H37="",0,IFERROR(CHOOSE(AU$28,IF(ISNA(MATCH(H37,$AR$30:$AS$30,0)),0,1),IF(ISNUMBER(H37),1,0),IF(H37=TRUNC(H37),1,0),IF(AND(H37*1=H37,H37>=0),1,0),IF(AND(H37=TRUNC(H37),H37>=0),1,0),IF(AND(H37*1=H37,H37>0),1,0),IF(AND(H37=TRUNC(H37),H37>0),1,0),1,IF(ISNA(HLOOKUP(H37,$AU$4:$BD$4,1,0)),0,1)),0))) -> 1 | AV37: =IF(OR(I$30="",I$4=99),1,IF(I37="",0,IFERROR(CHOOSE(AV$28,IF(ISNA(MATCH(I37,$AR$30:$AS$30,0)),0,1),IF(ISNUMBER(I37),1,0),IF(I37=TRUNC(I37),1,0),IF(AND(I37*1=I37,I37>=0),1,0),IF(AND(I37=TRUNC(I37),I37>=0),1,0),IF(AND(I37*1=I37,I37>0),1,0),IF(AND(I37=TRUNC(I37),I37>0),1,0),1,IF(ISNA(HLOOKUP(I37,$AU$4:$BD$4,1,0)),0,1)),0))) -> 1 | AW37: =IF(OR(J$30="",J$4=99),1,IF(J37="",0,IFERROR(CHOOSE(AW$28,IF(ISNA(MATCH(J37,$AR$30:$AS$30,0)),0,1),IF(ISNUMBER(J37),1,0),IF(J37=TRUNC(J37),1,0),IF(AND(J37*1=J37,J37>=0),1,0),IF(AND(J37=TRUNC(J37),J37>=0),1,0),IF(AND(J37*1=J37,J37>0),1,0),IF(AND(J37=TRUNC(J37),J37>0),1,0),1,IF(ISNA(HLOOKUP(J37,$AU$4:$BD$4,1,0)),0,1)),0))) -> 1 | AX37: =IF(OR(K$30="",K$4=99),1,IF(K37="",0,IFERROR(CHOOSE(AX$28,IF(ISNA(MATCH(K37,$AR$30:$AS$30,0)),0,1),IF(ISNUMBER(K37),1,0),IF(K37=TRUNC(K37),1,0),IF(AND(K37*1=K37,K37>=0),1,0),IF(AND(K37=TRUNC(K37),K37>=0),1,0),IF(AND(K37*1=K37,K37>0),1,0),IF(AND(K37=TRUNC(K37),K37>0),1,0),1,IF(ISNA(HLOOKUP(K37,$AU$4:$BD$4,1,0)),0,1)),0))) -> 1 | AY37: =IF(OR(L$30="",L$4=99),1,IF(L37="",0,IFERROR(CHOOSE(AY$28,IF(ISNA(MATCH(L37,$AR$30:$AS$30,0)),0,1),IF(ISNUMBER(L37),1,0),IF(L37=TRUNC(L37),1,0),IF(AND(L37*1=L37,L37>=0),1,0),IF(AND(L37=TRUNC(L37),L37>=0),1,0),IF(AND(L37*1=L37,L37>0),1,0),IF(AND(L37=TRUNC(L37),L37>0),1,0),1,IF(ISNA(HLOOKUP(L37,$AU$4:$BD$4,1,0)),0,1)),0))) -> 1 | AZ37: =IF(OR(M$30="",M$4=99),1,IF(M37="",0,IFERROR(CHOOSE(AZ$28,IF(ISNA(MATCH(M37,$AR$30:$AS$30,0)),0,1),IF(ISNUMBER(M37),1,0),IF(M37=TRUNC(M37),1,0),IF(AND(M37*1=M37,M37>=0),1,0),IF(AND(M37=TRUNC(M37),M37>=0),1,0),IF(AND(M37*1=M37,M37>0),1,0),IF(AND(M37=TRUNC(M37),M37>0),1,0),1,IF(ISNA(HLOOKUP(M37,$AU$4:$BD$4,1,0)),0,1)),0))) -> 1 | BA37: =IF(OR(N$30="",N$4=99),1,IF(N37="",0,IFERROR(CHOOSE(BA$28,IF(ISNA(MATCH(N37,$AR$30:$AS$30,0)),0,1),IF(ISNUMBER(N37),1,0),IF(N37=TRUNC(N37),1,0),IF(AND(N37*1=N37,N37>=0),1,0),IF(AND(N37=TRUNC(N37),N37>=0),1,0),IF(AND(N37*1=N37,N37>0),1,0),IF(AND(N37=TRUNC(N37),N37>0),1,0),1,IF(ISNA(HLOOKUP(N37,$AU$4:$BD$4,1,0)),0,1)),0))) -> 1 | ... CB37: =IF(OR(AO$30="",AO$4=99),1,IF(AO37="",0,IFERROR(CHOOSE(CB$28,IF(ISNA(MATCH(AO37,$AR$30:$AS$30,0)),0,1),IF(ISNUMBER(AO37),1,0),IF(AO37=TRUNC(AO37),1,0),IF(AND(AO37*1=AO37,AO37>=0),1,0),IF(AND(AO37=TRUNC(AO37),AO37>=0),1,0),IF(AND(AO37*1=AO37,AO37>0),1,0),IF(AND(AO37=TRUNC(AO37),AO37>0),1,0),1,IF(ISNA(HLOOKUP(AO37,$AU$4:$BD$4,1,0)),0,1)),0))) -> 1 | CS37: =Z37>=CS$7 -> TRUE | CT37: =AA37>=CT$7 -> TRUE | CU37: =AB37>=CU$7 -> TRUE | CV37: =AC37>=CV$7 -> TRUE | CW37: =AD37>=CW$7 -> TRUE | CX37: =IF($F37="","",IF(SUMPRODUCT(--(CS37:CW37=TRUE))=COUNTA(CS37:CW37),1,0)) -> 1
B38: =IF(F38="","",ROW()-30) -> 8 | F38: להקת מורין נהדר | G38: 1 | H38: 1 | I38: 1 | J38: 1 | K38: 1 | L38: 1 | M38: 1 | N38: 1 | O38: 11 | P38: 11 | Q38: =IF($F38="","",IF(O38<P38,$AR$1,IF(AND(P38>O38*0.5,P38>=$P$5),1,0))) -> 1 | R38: 1 | S38: 1 | T38: 1 | U38: 1 | X38: 1 | Z38: 13 | AA38: 44838 | AB38: =IF(F38="","",IF(Z38>=$Z$5*0.8,1,0)) -> 1 | AC38: =IF(F38="","",IF(AA38>=$AA$5*0.8,1,0)) -> 1 | AD38: =IF(G38="","",IF(AND(Z38>='פרמטרים לקריטריונים'!$D$19,AA38>='פרמטרים לקריטריונים'!$C$19),1,0)) -> 1 | AE38: {=IF($F38="","",IF(OR(SUMPRODUCT(--(Z38:AA38>=$Z$5:$AA$5))=COUNTA($Z$29:$AA$29),OR(AND(X38=1,OR(AB38=1,AC38=1)),AND(Y38=1,AD38=1))),1,0))} -> 1 | AG38: 1 | AH38: 1 | AI38: 1 | AJ38: =IF(F38="","",IF(G38>=$G$5,1,0)) -> 1 | AO38: =IF($F38="","",IF(AK38=1,1,IF(AQ38<>1,$AR$1,IF(SUMPRODUCT(--(G38:AJ38>=$G$5:$AJ$5)*($G$5:$AJ$5<>"")*($G$4:$AJ$4=1))=COUNTIF($G$4:$AJ$4,1),1,0)))) -> 1 | AP38: עומד בתנאי סף האמנותי. לא עומד בהיקף מינמלי של תקציב 44,838 ₪ במקום 54,389 ₪. המדור המליץ על מתן הקלה לפי סעיף 9.(ב) הואיל ומדובר בהרכב ייחודי והתקציב של ההרכב עומד בשיעור ההקלה של 80%. | AQ38: =IF(OR(SUM(AT38:CB38)<>COUNT(AT38:CB38),SUMPRODUCT(--(G38:AJ38=$AR$1))<>0),0,1) -> 1 | AR38: =IF($F38="","",AR$30) -> 0 | AS38: =IF($F38="","",AS$30) -> 1 | AT38: =IF(OR(G$30="",G$4=99),1,IF(G38="",0,IFERROR(CHOOSE(AT$28,IF(ISNA(MATCH(G38,$AR$30:$AS$30,0)),0,1),IF(ISNUMBER(G38),1,0),IF(G38=TRUNC(G38),1,0),IF(AND(G38*1=G38,G38>=0),1,0),IF(AND(G38=TRUNC(G38),G38>=0),1,0),IF(AND(G38*1=G38,G38>0),1,0),IF(AND(G38=TRUNC(G38),G38>0),1,0),1,IF(ISNA(HLOOKUP(G38,$AU$4:$BD$4,1,0)),0,1)),0))) -> 1 | AU38: =IF(OR(H$30="",H$4=99),1,IF(H38="",0,IFERROR(CHOOSE(AU$28,IF(ISNA(MATCH(H38,$AR$30:$AS$30,0)),0,1),IF(ISNUMBER(H38),1,0),IF(H38=TRUNC(H38),1,0),IF(AND(H38*1=H38,H38>=0),1,0),IF(AND(H38=TRUNC(H38),H38>=0),1,0),IF(AND(H38*1=H38,H38>0),1,0),IF(AND(H38=TRUNC(H38),H38>0),1,0),1,IF(ISNA(HLOOKUP(H38,$AU$4:$BD$4,1,0)),0,1)),0))) -> 1 | AV38: =IF(OR(I$30="",I$4=99),1,IF(I38="",0,IFERROR(CHOOSE(AV$28,IF(ISNA(MATCH(I38,$AR$30:$AS$30,0)),0,1),IF(ISNUMBER(I38),1,0),IF(I38=TRUNC(I38),1,0),IF(AND(I38*1=I38,I38>=0),1,0),IF(AND(I38=TRUNC(I38),I38>=0),1,0),IF(AND(I38*1=I38,I38>0),1,0),IF(AND(I38=TRUNC(I38),I38>0),1,0),1,IF(ISNA(HLOOKUP(I38,$AU$4:$BD$4,1,0)),0,1)),0))) -> 1 | AW38: =IF(OR(J$30="",J$4=99),1,IF(J38="",0,IFERROR(CHOOSE(AW$28,IF(ISNA(MATCH(J38,$AR$30:$AS$30,0)),0,1),IF(ISNUMBER(J38),1,0),IF(J38=TRUNC(J38),1,0),IF(AND(J38*1=J38,J38>=0),1,0),IF(AND(J38=TRUNC(J38),J38>=0),1,0),IF(AND(J38*1=J38,J38>0),1,0),IF(AND(J38=TRUNC(J38),J38>0),1,0),1,IF(ISNA(HLOOKUP(J38,$AU$4:$BD$4,1,0)),0,1)),0))) -> 1 | AX38: =IF(OR(K$30="",K$4=99),1,IF(K38="",0,IFERROR(CHOOSE(AX$28,IF(ISNA(MATCH(K38,$AR$30:$AS$30,0)),0,1),IF(ISNUMBER(K38),1,0),IF(K38=TRUNC(K38),1,0),IF(AND(K38*1=K38,K38>=0),1,0),IF(AND(K38=TRUNC(K38),K38>=0),1,0),IF(AND(K38*1=K38,K38>0),1,0),IF(AND(K38=TRUNC(K38),K38>0),1,0),1,IF(ISNA(HLOOKUP(K38,$AU$4:$BD$4,1,0)),0,1)),0))) -> 1 | AY38: =IF(OR(L$30="",L$4=99),1,IF(L38="",0,IFERROR(CHOOSE(AY$28,IF(ISNA(MATCH(L38,$AR$30:$AS$30,0)),0,1),IF(ISNUMBER(L38),1,0),IF(L38=TRUNC(L38),1,0),IF(AND(L38*1=L38,L38>=0),1,0),IF(AND(L38=TRUNC(L38),L38>=0),1,0),IF(AND(L38*1=L38,L38>0),1,0),IF(AND(L38=TRUNC(L38),L38>0),1,0),1,IF(ISNA(HLOOKUP(L38,$AU$4:$BD$4,1,0)),0,1)),0))) -> 1 | AZ38: =IF(OR(M$30="",M$4=99),1,IF(M38="",0,IFERROR(CHOOSE(AZ$28,IF(ISNA(MATCH(M38,$AR$30:$AS$30,0)),0,1),IF(ISNUMBER(M38),1,0),IF(M38=TRUNC(M38),1,0),IF(AND(M38*1=M38,M38>=0),1,0),IF(AND(M38=TRUNC(M38),M38>=0),1,0),IF(AND(M38*1=M38,M38>0),1,0),IF(AND(M38=TRUNC(M38),M38>0),1,0),1,IF(ISNA(HLOOKUP(M38,$AU$4:$BD$4,1,0)),0,1)),0))) -> 1 | BA38: =IF(OR(N$30="",N$4=99),1,IF(N38="",0,IFERROR(CHOOSE(BA$28,IF(ISNA(MATCH(N38,$AR$30:$AS$30,0)),0,1),IF(ISNUMBER(N38),1,0),IF(N38=TRUNC(N38),1,0),IF(AND(N38*1=N38,N38>=0),1,0),IF(AND(N38=TRUNC(N38),N38>=0),1,0),IF(AND(N38*1=N38,N38>0),1,0),IF(AND(N38=TRUNC(N38),N38>0),1,0),1,IF(ISNA(HLOOKUP(N38,$AU$4:$BD$4,1,0)),0,1)),0))) -> 1 | ... CB38: =IF(OR(AO$30="",AO$4=99),1,IF(AO38="",0,IFERROR(CHOOSE(CB$28,IF(ISNA(MATCH(AO38,$AR$30:$AS$30,0)),0,1),IF(ISNUMBER(AO38),1,0),IF(AO38=TRUNC(AO38),1,0),IF(AND(AO38*1=AO38,AO38>=0),1,0),IF(AND(AO38=TRUNC(AO38),AO38>=0),1,0),IF(AND(AO38*1=AO38,AO38>0),1,0),IF(AND(AO38=TRUNC(AO38),AO38>0),1,0),1,IF(ISNA(HLOOKUP(AO38,$AU$4:$BD$4,1,0)),0,1)),0))) -> 1 | CS38: =Z38>=CS$7 -> TRUE | CT38: =AA38>=CT$7 -> TRUE | CU38: =AB38>=CU$7 -> TRUE | CV38: =AC38>=CV$7 -> TRUE | CW38: =AD38>=CW$7 -> TRUE | CX38: =IF($F38="","",IF(SUMPRODUCT(--(CS38:CW38=TRUE))=COUNTA(CS38:CW38),1,0)) -> 1
B39: =IF(F39="","",ROW()-30) | Q39: =IF($F39="","",IF(O39<P39,$AR$1,IF(AND(P39>O39*0.5,P39>=$P$5),1,0))) | AB39: =IF(F39="","",IF(Z39>=$Z$5*0.8,1,0)) | AC39: =IF(F39="","",IF(AA39>=$AA$5*0.8,1,0)) | AD39: =IF(G39="","",IF(AND(Z39>='פרמטרים לקריטריונים'!$D$19,AA39>='פרמטרים לקריטריונים'!$C$19),1,0)) | AE39: {=IF($F39="","",IF(OR(SUMPRODUCT(--(Z39:AA39>=$Z$5:$AA$5))=COUNTA($Z$29:$AA$29),OR(AND(X39=1,OR(AB39=1,AC39=1)),AND(Y39=1,AD39=1))),1,0))} | AJ39: =IF(F39="","",IF(G39>=$G$5,1,0)) | AO39: =IF($F39="","",IF(AK39=1,1,IF(AQ39<>1,$AR$1,IF(SUMPRODUCT(--(G39:AJ39>=$G$5:$AJ$5)*($G$5:$AJ$5<>"")*($G$4:$AJ$4=1))=COUNTIF($G$4:$AJ$4,1),1,0)))) | AQ39: =IF(OR(SUM(AT39:CB39)<>COUNT(AT39:CB39),SUMPRODUCT(--(G39:AJ39=$AR$1))<>0),0,1) -> 0 | AR39: =IF($F39="","",AR$30) | AS39: =IF($F39="","",AS$30) | AT39: =IF(OR(G$30="",G$4=99),1,IF(G39="",0,IFERROR(CHOOSE(AT$28,IF(ISNA(MATCH(G39,$AR$30:$AS$30,0)),0,1),IF(ISNUMBER(G39),1,0),IF(G39=TRUNC(G39),1,0),IF(AND(G39*1=G39,G39>=0),1,0),IF(AND(G39=TRUNC(G39),G39>=0),1,0),IF(AND(G39*1=G39,G39>0),1,0),IF(AND(G39=TRUNC(G39),G39>0),1,0),1,IF(ISNA(HLOOKUP(G39,$AU$4:$BD$4,1,0)),0,1)),0))) -> 0 | AU39: =IF(OR(H$30="",H$4=99),1,IF(H39="",0,IFERROR(CHOOSE(AU$28,IF(ISNA(MATCH(H39,$AR$30:$AS$30,0)),0,1),IF(ISNUMBER(H39),1,0),IF(H39=TRUNC(H39),1,0),IF(AND(H39*1=H39,H39>=0),1,0),IF(AND(H39=TRUNC(H39),H39>=0),1,0),IF(AND(H39*1=H39,H39>0),1,0),IF(AND(H39=TRUNC(H39),H39>0),1,0),1,IF(ISNA(HLOOKUP(H39,$AU$4:$BD$4,1,0)),0,1)),0))) -> 0 | AV39: =IF(OR(I$30="",I$4=99),1,IF(I39="",0,IFERROR(CHOOSE(AV$28,IF(ISNA(MATCH(I39,$AR$30:$AS$30,0)),0,1),IF(ISNUMBER(I39),1,0),IF(I39=TRUNC(I39),1,0),IF(AND(I39*1=I39,I39>=0),1,0),IF(AND(I39=TRUNC(I39),I39>=0),1,0),IF(AND(I39*1=I39,I39>0),1,0),IF(AND(I39=TRUNC(I39),I39>0),1,0),1,IF(ISNA(HLOOKUP(I39,$AU$4:$BD$4,1,0)),0,1)),0))) -> 0 | AW39: =IF(OR(J$30="",J$4=99),1,IF(J39="",0,IFERROR(CHOOSE(AW$28,IF(ISNA(MATCH(J39,$AR$30:$AS$30,0)),0,1),IF(ISNUMBER(J39),1,0),IF(J39=TRUNC(J39),1,0),IF(AND(J39*1=J39,J39>=0),1,0),IF(AND(J39=TRUNC(J39),J39>=0),1,0),IF(AND(J39*1=J39,J39>0),1,0),IF(AND(J39=TRUNC(J39),J39>0),1,0),1,IF(ISNA(HLOOKUP(J39,$AU$4:$BD$4,1,0)),0,1)),0))) -> 0 | AX39: =IF(OR(K$30="",K$4=99),1,IF(K39="",0,IFERROR(CHOOSE(AX$28,IF(ISNA(MATCH(K39,$AR$30:$AS$30,0)),0,1),IF(ISNUMBER(K39),1,0),IF(K39=TRUNC(K39),1,0),IF(AND(K39*1=K39,K39>=0),1,0),IF(AND(K39=TRUNC(K39),K39>=0),1,0),IF(AND(K39*1=K39,K39>0),1,0),IF(AND(K39=TRUNC(K39),K39>0),1,0),1,IF(ISNA(HLOOKUP(K39,$AU$4:$BD$4,1,0)),0,1)),0))) -> 0 | AY39: =IF(OR(L$30="",L$4=99),1,IF(L39="",0,IFERROR(CHOOSE(AY$28,IF(ISNA(MATCH(L39,$AR$30:$AS$30,0)),0,1),IF(ISNUMBER(L39),1,0),IF(L39=TRUNC(L39),1,0),IF(AND(L39*1=L39,L39>=0),1,0),IF(AND(L39=TRUNC(L39),L39>=0),1,0),IF(AND(L39*1=L39,L39>0),1,0),IF(AND(L39=TRUNC(L39),L39>0),1,0),1,IF(ISNA(HLOOKUP(L39,$AU$4:$BD$4,1,0)),0,1)),0))) -> 0 | AZ39: =IF(OR(M$30="",M$4=99),1,IF(M39="",0,IFERROR(CHOOSE(AZ$28,IF(ISNA(MATCH(M39,$AR$30:$AS$30,0)),0,1),IF(ISNUMBER(M39),1,0),IF(M39=TRUNC(M39),1,0),IF(AND(M39*1=M39,M39>=0),1,0),IF(AND(M39=TRUNC(M39),M39>=0),1,0),IF(AND(M39*1=M39,M39>0),1,0),IF(AND(M39=TRUNC(M39),M39>0),1,0),1,IF(ISNA(HLOOKUP(M39,$AU$4:$BD$4,1,0)),0,1)),0))) -> 0 | BA39: =IF(OR(N$30="",N$4=99),1,IF(N39="",0,IFERROR(CHOOSE(BA$28,IF(ISNA(MATCH(N39,$AR$30:$AS$30,0)),0,1),IF(ISNUMBER(N39),1,0),IF(N39=TRUNC(N39),1,0),IF(AND(N39*1=N39,N39>=0),1,0),IF(AND(N39=TRUNC(N39),N39>=0),1,0),IF(AND(N39*1=N39,N39>0),1,0),IF(AND(N39=TRUNC(N39),N39>0),1,0),1,IF(ISNA(HLOOKUP(N39,$AU$4:$BD$4,1,0)),0,1)),0))) -> 0 | ... CB39: =IF(OR(AO$30="",AO$4=99),1,IF(AO39="",0,IFERROR(CHOOSE(CB$28,IF(ISNA(MATCH(AO39,$AR$30:$AS$30,0)),0,1),IF(ISNUMBER(AO39),1,0),IF(AO39=TRUNC(AO39),1,0),IF(AND(AO39*1=AO39,AO39>=0),1,0),IF(AND(AO39=TRUNC(AO39),AO39>=0),1,0),IF(AND(AO39*1=AO39,AO39>0),1,0),IF(AND(AO39=TRUNC(AO39),AO39>0),1,0),1,IF(ISNA(HLOOKUP(AO39,$AU$4:$BD$4,1,0)),0,1)),0))) -> 1 | CS39: =Z39>=CS$7 -> FALSE | CT39: =AA39>=CT$7 -> FALSE | CU39: =AB39>=CU$7 -> TRUE | CV39: =AC39>=CV$7 -> TRUE | CW39: =AD39>=CW$7 -> TRUE | CX39: =IF($F39="","",IF(SUMPRODUCT(--(CS39:CW39=TRUE))=COUNTA(CS39:CW39),1,0))
B40: =IF(F40="","",ROW()-30) -> 10 | F40: אנסמבל גלעד אפרת | G40: 1 | H40: 1 | I40: 1 | J40: 1 | K40: 1 | L40: 1 | M40: 1 | N40: 1 | O40: 23 | P40: 19 | Q40: =IF($F40="","",IF(O40<P40,$AR$1,IF(AND(P40>O40*0.5,P40>=$P$5),1,0))) -> 1 | R40: 1 | S40: 1 | T40: 1 | U40: 1 | X40: 1 | Z40: 7 | AA40: 147011 | AB40: =IF(F40="","",IF(Z40>=$Z$5*0.8,1,0)) -> 1 | AC40: =IF(F40="","",IF(AA40>=$AA$5*0.8,1,0)) -> 1 | AD40: =IF(G40="","",IF(AND(Z40>='פרמטרים לקריטריונים'!$D$19,AA40>='פרמטרים לקריטריונים'!$C$19),1,0)) -> 1 | AE40: {=IF($F40="","",IF(OR(SUMPRODUCT(--(Z40:AA40>=$Z$5:$AA$5))=COUNTA($Z$29:$AA$29),OR(AND(X40=1,OR(AB40=1,AC40=1)),AND(Y40=1,AD40=1))),1,0))} -> 1 | AG40: 1 | AH40: 1 | AI40: 1 | AJ40: =IF(F40="","",IF(G40>=$G$5,1,0)) -> 1 | AO40: =IF($F40="","",IF(AK40=1,1,IF(AQ40<>1,$AR$1,IF(SUMPRODUCT(--(G40:AJ40>=$G$5:$AJ$5)*($G$5:$AJ$5<>"")*($G$4:$AJ$4=1))=COUNTIF($G$4:$AJ$4,1),1,0)))) -> 1 | AP40: עומד בתנאי סף האמנותי .לא עומד במספר ההרצות: 7 במקום 8. המדור המליץ על מתן הקלה לפי סעיף 9.(ב) הואיל ועומד בכל תנאי הסף האחרים. | AQ40: =IF(OR(SUM(AT40:CB40)<>COUNT(AT40:CB40),SUMPRODUCT(--(G40:AJ40=$AR$1))<>0),0,1) -> 1 | AR40: =IF($F40="","",AR$30) -> 0 | AS40: =IF($F40="","",AS$30) -> 1 | AT40: =IF(OR(G$30="",G$4=99),1,IF(G40="",0,IFERROR(CHOOSE(AT$28,IF(ISNA(MATCH(G40,$AR$30:$AS$30,0)),0,1),IF(ISNUMBER(G40),1,0),IF(G40=TRUNC(G40),1,0),IF(AND(G40*1=G40,G40>=0),1,0),IF(AND(G40=TRUNC(G40),G40>=0),1,0),IF(AND(G40*1=G40,G40>0),1,0),IF(AND(G40=TRUNC(G40),G40>0),1,0),1,IF(ISNA(HLOOKUP(G40,$AU$4:$BD$4,1,0)),0,1)),0))) -> 1 | AU40: =IF(OR(H$30="",H$4=99),1,IF(H40="",0,IFERROR(CHOOSE(AU$28,IF(ISNA(MATCH(H40,$AR$30:$AS$30,0)),0,1),IF(ISNUMBER(H40),1,0),IF(H40=TRUNC(H40),1,0),IF(AND(H40*1=H40,H40>=0),1,0),IF(AND(H40=TRUNC(H40),H40>=0),1,0),IF(AND(H40*1=H40,H40>0),1,0),IF(AND(H40=TRUNC(H40),H40>0),1,0),1,IF(ISNA(HLOOKUP(H40,$AU$4:$BD$4,1,0)),0,1)),0))) -> 1 | AV40: =IF(OR(I$30="",I$4=99),1,IF(I40="",0,IFERROR(CHOOSE(AV$28,IF(ISNA(MATCH(I40,$AR$30:$AS$30,0)),0,1),IF(ISNUMBER(I40),1,0),IF(I40=TRUNC(I40),1,0),IF(AND(I40*1=I40,I40>=0),1,0),IF(AND(I40=TRUNC(I40),I40>=0),1,0),IF(AND(I40*1=I40,I40>0),1,0),IF(AND(I40=TRUNC(I40),I40>0),1,0),1,IF(ISNA(HLOOKUP(I40,$AU$4:$BD$4,1,0)),0,1)),0))) -> 1 | AW40: =IF(OR(J$30="",J$4=99),1,IF(J40="",0,IFERROR(CHOOSE(AW$28,IF(ISNA(MATCH(J40,$AR$30:$AS$30,0)),0,1),IF(ISNUMBER(J40),1,0),IF(J40=TRUNC(J40),1,0),IF(AND(J40*1=J40,J40>=0),1,0),IF(AND(J40=TRUNC(J40),J40>=0),1,0),IF(AND(J40*1=J40,J40>0),1,0),IF(AND(J40=TRUNC(J40),J40>0),1,0),1,IF(ISNA(HLOOKUP(J40,$AU$4:$BD$4,1,0)),0,1)),0))) -> 1 | AX40: =IF(OR(K$30="",K$4=99),1,IF(K40="",0,IFERROR(CHOOSE(AX$28,IF(ISNA(MATCH(K40,$AR$30:$AS$30,0)),0,1),IF(ISNUMBER(K40),1,0),IF(K40=TRUNC(K40),1,0),IF(AND(K40*1=K40,K40>=0),1,0),IF(AND(K40=TRUNC(K40),K40>=0),1,0),IF(AND(K40*1=K40,K40>0),1,0),IF(AND(K40=TRUNC(K40),K40>0),1,0),1,IF(ISNA(HLOOKUP(K40,$AU$4:$BD$4,1,0)),0,1)),0))) -> 1 | AY40: =IF(OR(L$30="",L$4=99),1,IF(L40="",0,IFERROR(CHOOSE(AY$28,IF(ISNA(MATCH(L40,$AR$30:$AS$30,0)),0,1),IF(ISNUMBER(L40),1,0),IF(L40=TRUNC(L40),1,0),IF(AND(L40*1=L40,L40>=0),1,0),IF(AND(L40=TRUNC(L40),L40>=0),1,0),IF(AND(L40*1=L40,L40>0),1,0),IF(AND(L40=TRUNC(L40),L40>0),1,0),1,IF(ISNA(HLOOKUP(L40,$AU$4:$BD$4,1,0)),0,1)),0))) -> 1 | AZ40: =IF(OR(M$30="",M$4=99),1,IF(M40="",0,IFERROR(CHOOSE(AZ$28,IF(ISNA(MATCH(M40,$AR$30:$AS$30,0)),0,1),IF(ISNUMBER(M40),1,0),IF(M40=TRUNC(M40),1,0),IF(AND(M40*1=M40,M40>=0),1,0),IF(AND(M40=TRUNC(M40),M40>=0),1,0),IF(AND(M40*1=M40,M40>0),1,0),IF(AND(M40=TRUNC(M40),M40>0),1,0),1,IF(ISNA(HLOOKUP(M40,$AU$4:$BD$4,1,0)),0,1)),0))) -> 1 | BA40: =IF(OR(N$30="",N$4=99),1,IF(N40="",0,IFERROR(CHOOSE(BA$28,IF(ISNA(MATCH(N40,$AR$30:$AS$30,0)),0,1),IF(ISNUMBER(N40),1,0),IF(N40=TRUNC(N40),1,0),IF(AND(N40*1=N40,N40>=0),1,0),IF(AND(N40=TRUNC(N40),N40>=0),1,0),IF(AND(N40*1=N40,N40>0),1,0),IF(AND(N40=TRUNC(N40),N40>0),1,0),1,IF(ISNA(HLOOKUP(N40,$AU$4:$BD$4,1,0)),0,1)),0))) -> 1 | ... CB40: =IF(OR(AO$30="",AO$4=99),1,IF(AO40="",0,IFERROR(CHOOSE(CB$28,IF(ISNA(MATCH(AO40,$AR$30:$AS$30,0)),0,1),IF(ISNUMBER(AO40),1,0),IF(AO40=TRUNC(AO40),1,0),IF(AND(AO40*1=AO40,AO40>=0),1,0),IF(AND(AO40=TRUNC(AO40),AO40>=0),1,0),IF(AND(AO40*1=AO40,AO40>0),1,0),IF(AND(AO40=TRUNC(AO40),AO40>0),1,0),1,IF(ISNA(HLOOKUP(AO40,$AU$4:$BD$4,1,0)),0,1)),0))) -> 1 | CS40: =Z40>=CS$7 -> TRUE | CT40: =AA40>=CT$7 -> TRUE | CU40: =AB40>=CU$7 -> TRUE | CV40: =AC40>=CV$7 -> TRUE | CW40: =AD40>=CW$7 -> TRUE | CX40: =IF($F40="","",IF(SUMPRODUCT(--(CS40:CW40=TRUE))=COUNTA(CS40:CW40),1,0)) -> 1
A41: =ROW()-30 -> 11 | B41: =IF(F41="","",ROW()-30) -> 11 | F41: רביעיית כרמל | G41: 1 | H41: 1 | I41: 1 | J41: 1 | K41: 1 | L41: 1 | M41: 1 | N41: 1 | O41: 10 | P41: 8 | Q41: =IF($F41="","",IF(O41<P41,$AR$1,IF(AND(P41>O41*0.5,P41>=$P$5),1,0))) -> 1 | R41: 1 | S41: 1 | T41: 1 | U41: 1 | Z41: 43 | AA41: 393861 | AB41: =IF(F41="","",IF(Z41>=$Z$5*0.8,1,0)) -> 1 | AC41: =IF(F41="","",IF(AA41>=$AA$5*0.8,1,0)) -> 1 | AD41: =IF(G41="","",IF(AND(Z41>='פרמטרים לקריטריונים'!$D$19,AA41>='פרמטרים לקריטריונים'!$C$19),1,0)) -> 1 | AE41: {=IF($F41="","",IF(OR(SUMPRODUCT(--(Z41:AA41>=$Z$5:$AA$5))=COUNTA($Z$29:$AA$29),OR(AND(X41=1,OR(AB41=1,AC41=1)),AND(Y41=1,AD41=1))),1,0))} -> 1 | AG41: 1 | AH41: 1 | AI41: 1 | AJ41: =IF(F41="","",IF(G41>=$G$5,1,0)) -> 1 | AO41: =IF($F41="","",IF(AK41=1,1,IF(AQ41<>1,$AR$1,IF(SUMPRODUCT(--(G41:AJ41>=$G$5:$AJ$5)*($G$5:$AJ$5<>"")*($G$4:$AJ$4=1))=COUNTIF($G$4:$AJ$4,1),1,0)))) -> 1 | AP41: עומד בתנאי סף האמנותי ובתנאי הסף הכמותיים כקבוצה מוסיקלית. | AQ41: =IF(OR(SUM(AT41:CB41)<>COUNT(AT41:CB41),SUMPRODUCT(--(G41:AJ41=$AR$1))<>0),0,1) -> 1 | AR41: =IF($F41="","",AR$30) -> 0 | AS41: =IF($F41="","",AS$30) -> 1 | AT41: =IF(OR(G$30="",G$4=99),1,IF(G41="",0,IFERROR(CHOOSE(AT$28,IF(ISNA(MATCH(G41,$AR$30:$AS$30,0)),0,1),IF(ISNUMBER(G41),1,0),IF(G41=TRUNC(G41),1,0),IF(AND(G41*1=G41,G41>=0),1,0),IF(AND(G41=TRUNC(G41),G41>=0),1,0),IF(AND(G41*1=G41,G41>0),1,0),IF(AND(G41=TRUNC(G41),G41>0),1,0),1,IF(ISNA(HLOOKUP(G41,$AU$4:$BD$4,1,0)),0,1)),0))) -> 1 | AU41: =IF(OR(H$30="",H$4=99),1,IF(H41="",0,IFERROR(CHOOSE(AU$28,IF(ISNA(MATCH(H41,$AR$30:$AS$30,0)),0,1),IF(ISNUMBER(H41),1,0),IF(H41=TRUNC(H41),1,0),IF(AND(H41*1=H41,H41>=0),1,0),IF(AND(H41=TRUNC(H41),H41>=0),1,0),IF(AND(H41*1=H41,H41>0),1,0),IF(AND(H41=TRUNC(H41),H41>0),1,0),1,IF(ISNA(HLOOKUP(H41,$AU$4:$BD$4,1,0)),0,1)),0))) -> 1 | AV41: =IF(OR(I$30="",I$4=99),1,IF(I41="",0,IFERROR(CHOOSE(AV$28,IF(ISNA(MATCH(I41,$AR$30:$AS$30,0)),0,1),IF(ISNUMBER(I41),1,0),IF(I41=TRUNC(I41),1,0),IF(AND(I41*1=I41,I41>=0),1,0),IF(AND(I41=TRUNC(I41),I41>=0),1,0),IF(AND(I41*1=I41,I41>0),1,0),IF(AND(I41=TRUNC(I41),I41>0),1,0),1,IF(ISNA(HLOOKUP(I41,$AU$4:$BD$4,1,0)),0,1)),0))) -> 1 | AW41: =IF(OR(J$30="",J$4=99),1,IF(J41="",0,IFERROR(CHOOSE(AW$28,IF(ISNA(MATCH(J41,$AR$30:$AS$30,0)),0,1),IF(ISNUMBER(J41),1,0),IF(J41=TRUNC(J41),1,0),IF(AND(J41*1=J41,J41>=0),1,0),IF(AND(J41=TRUNC(J41),J41>=0),1,0),IF(AND(J41*1=J41,J41>0),1,0),IF(AND(J41=TRUNC(J41),J41>0),1,0),1,IF(ISNA(HLOOKUP(J41,$AU$4:$BD$4,1,0)),0,1)),0))) -> 1 | AX41: =IF(OR(K$30="",K$4=99),1,IF(K41="",0,IFERROR(CHOOSE(AX$28,IF(ISNA(MATCH(K41,$AR$30:$AS$30,0)),0,1),IF(ISNUMBER(K41),1,0),IF(K41=TRUNC(K41),1,0),IF(AND(K41*1=K41,K41>=0),1,0),IF(AND(K41=TRUNC(K41),K41>=0),1,0),IF(AND(K41*1=K41,K41>0),1,0),IF(AND(K41=TRUNC(K41),K41>0),1,0),1,IF(ISNA(HLOOKUP(K41,$AU$4:$BD$4,1,0)),0,1)),0))) -> 1 | AY41: =IF(OR(L$30="",L$4=99),1,IF(L41="",0,IFERROR(CHOOSE(AY$28,IF(ISNA(MATCH(L41,$AR$30:$AS$30,0)),0,1),IF(ISNUMBER(L41),1,0),IF(L41=TRUNC(L41),1,0),IF(AND(L41*1=L41,L41>=0),1,0),IF(AND(L41=TRUNC(L41),L41>=0),1,0),IF(AND(L41*1=L41,L41>0),1,0),IF(AND(L41=TRUNC(L41),L41>0),1,0),1,IF(ISNA(HLOOKUP(L41,$AU$4:$BD$4,1,0)),0,1)),0))) -> 1 | AZ41: =IF(OR(M$30="",M$4=99),1,IF(M41="",0,IFERROR(CHOOSE(AZ$28,IF(ISNA(MATCH(M41,$AR$30:$AS$30,0)),0,1),IF(ISNUMBER(M41),1,0),IF(M41=TRUNC(M41),1,0),IF(AND(M41*1=M41,M41>=0),1,0),IF(AND(M41=TRUNC(M41),M41>=0),1,0),IF(AND(M41*1=M41,M41>0),1,0),IF(AND(M41=TRUNC(M41),M41>0),1,0),1,IF(ISNA(HLOOKUP(M41,$AU$4:$BD$4,1,0)),0,1)),0))) -> 1 | BA41: =IF(OR(N$30="",N$4=99),1,IF(N41="",0,IFERROR(CHOOSE(BA$28,IF(ISNA(MATCH(N41,$AR$30:$AS$30,0)),0,1),IF(ISNUMBER(N41),1,0),IF(N41=TRUNC(N41),1,0),IF(AND(N41*1=N41,N41>=0),1,0),IF(AND(N41=TRUNC(N41),N41>=0),1,0),IF(AND(N41*1=N41,N41>0),1,0),IF(AND(N41=TRUNC(N41),N41>0),1,0),1,IF(ISNA(HLOOKUP(N41,$AU$4:$BD$4,1,0)),0,1)),0))) -> 1 | ... CB41: =IF(OR(AO$30="",AO$4=99),1,IF(AO41="",0,IFERROR(CHOOSE(CB$28,IF(ISNA(MATCH(AO41,$AR$30:$AS$30,0)),0,1),IF(ISNUMBER(AO41),1,0),IF(AO41=TRUNC(AO41),1,0),IF(AND(AO41*1=AO41,AO41>=0),1,0),IF(AND(AO41=TRUNC(AO41),AO41>=0),1,0),IF(AND(AO41*1=AO41,AO41>0),1,0),IF(AND(AO41=TRUNC(AO41),AO41>0),1,0),1,IF(ISNA(HLOOKUP(AO41,$AU$4:$BD$4,1,0)),0,1)),0))) -> 1 | CS41: =Z41>=CS$7 -> TRUE | CT41: =AA41>=CT$7 -> TRUE | CU41: =AB41>=CU$7 -> TRUE | CV41: =AC41>=CV$7 -> TRUE | CW41: =AD41>=CW$7 -> TRUE | CX41: =IF($F41="","",IF(SUMPRODUCT(--(CS41:CW41=TRUE))=COUNTA(CS41:CW41),1,0)) -> 1
