Workbook
Name a: #REF!
Name a: #REF!
Name aa: #REF!
Name aa: #REF!
Name b: #REF!
Name b: #REF!
Name DDDD: #REF!
Name DDDD: #REF!
Name ee: #REF!
Name ee: #REF!
Name ngf: #REF!
Name ngf: #REF!

Sheet ProtectSettings
B1: 0.22283572
B2: 45523.457
A6: AllowFilterCheckBox | B6: TRUE
A7: AllowFormattingCheckBox | B7: TRUE
A8: AllowColumnFormattingCheckBox | B8: TRUE
A9: AllowRowFormattingCheckBox | B9: TRUE
B21: 1 | C21: ProtectSettings
B22: 2 | C22: הדרכה למשתמש
B23: 3 | C23: פרמטרים לקריטריונים
B24: 4 | C24: הוראת שעה
B25: 5 | C25: תנאי סף
B26: 6 | C26: סיווג
B27: 7 | C27: מספר הרצות
B28: 8 | C28: מספר מבצעים בתשלום
B29: 9 | C29: מיקום ההרצות
B30: 10 | C30: רמה מקצועית ואמנותית
B31: 11 | C31: מיקום גיאוגרפי
B32: 12 | C32: תקציב
... B48: 28 | C48: סיכום לועדה - תוצאות

Sheet הדרכה למשתמש
B2: הדרכה למשתמש
B4: תאריך בניית המודל | C4: 43615
B5: תאריך עדכון מודל
B7: הערות חשובות: בעת עריכת המודל - חל איסור מוחלט לבצע גזירה והדבקה או העברה של תא ממקום למקום על ידי גרירה. אסור לבצע "הוספה" או "מחיקה" של שורות או עמודות יש לפתוח את המודל בגרסת אקסל 2010 לפחות. חל איסור לשמור את הקובץ בפורמט התואם אקסל 97-2003
B9: הוראת שעה/מעבר: | C9: 2019-2020
B11: הדרכה להזנת נתונים
B12: צבע התא | C12: מטרת התא | D12: דגש
B13: צהוב | C13: הזנת נתונים | D13: נדרש להזין מידע בהתאם להנחיות מבחן התמיכה, אי הזנה של תא יכולה להביא לידי שגיאה בתוצאות במודל. במקומות שבהם מזינים 0/1, אז המשמעות של 0 הוא "לא" ו-1 "כן"
B14: חום | C14: הצגת מידע | D14: תא שאיננו מיועד להזנה. תא זה מציג מידע עפ"י נוסחה קבועה ואין לשנות אותה.
B15: אדום | C15: התראת שגיאה | D15: קיימת שגיאה בהזנת נתונים באחד מהתאים המיועדים להזנה, נדרש להזין את הנתונים הנדרשים לפני קביעת גובה תמיכה סופי.
B17: יש לעדכן את שנת התמיכה והתקציב בגיליון פרמטרים לקריטריונים. את רשימת המוסדות יש להזין בגיליון תנאי סף וכן את כלל הנתונים לגבי תנאי הסף. יש למלא בכל גיליון של משתנה את הנתונים הרלוונטיים. במידה ויש נתון אשר הוזן בגיליון קודם, נתון זה יועבר באופן אוטומטי לגיליונות הרלוונטיים ללא צורך בהזנה חוזרת.
B33: ניהול גרסאות
B34: מספר גרסה | C34: תאריך עדכון גרסה | D34: תאריך גרסה של מבחן תמיכה | E34: התאמות נוספות של מבחן תמיכה

Sheet פרמטרים לקריטריונים
B2: מודל קבוצות מוסיקליות
B4: שנת תקציב | C4: 2025 | I4: מדד בסיס | J4: 131.58302
B5: תקציב התמיכה | C5: 3076367 | I5: מדד מעודכן | J5: 143.13206
B9: הגדרות
B10: הגדרת שנה | C10: תאריך התחלה | D10: תאריך סיום
B11: שנת התמיכה/תקציב | C11: =DATE($C$4,1,1) -> 45658 | D11: =DATE($C$4,12,31) -> 46022
B12: שנת ההערכה | C12: =DATE($C$4-3,10,1) -> 44835 | D12: =DATE($C$4-2,9,30) -> 45199
B13: שנת התקציב המבוקר | C13: =DATE($C$4-3,1,1) -> 44562 | D13: =DATE($C$4-3,12,31) -> 44926
B14: שנה תקציבית קודמת | C14: =DATE($C$4-1,1,1) -> 45292 | D14: =DATE($C$4-1,12,31) -> 45657
B16: קבוצה מוסיקלית
B17: סעיף | C17: תקציב לפחות: | D17: מספר הרצות
B18: קבוצה מוסיקלית | C18: =50000/$J$4*$J$5 -> 54388.5 | D18: 8
B19: קבוצה מוסיקלית חדשה | C19: =35000/$J$4*$J$5 -> 38071.95 | D19: 5
B24: סיווג | I24: מקדם
B25: סיווג | C25: תקציב גבוהה מ: | D25: מבצעים
B26: קטנה | C26: =0/$J$4*$J$5 -> 0 | D26: 0 | I26: 0.5
B27: בינונית | C27: =80000/$J$4*$J$5 -> 87021.6 | D27: 6 | I27: 0.8
B28: גדולה | C28: =120000/$J$4*$J$5 -> 130532.4 | D28: 8 | I28: 1
B30: משקולות קריטריונים
B31: סעיף | C31: משקל | D31: החלת מקדם תלוי משתנה
B32: מספר הרצות | C32: 0.2 | D32: 1
B33: מספר מבצעים בתשלום | C33: 0.2 | D33: 1
B34: מיקום ההרצות | C34: 0.1 | D34: 0
B35: רמה מקצועית ואמנותית | C35: 0.15 | D35: 1
B36: מיקום גיאוגרפי | C36: 0.1 | D36: 0
B37: תקציב | C37: 0.1 | D37: 0
B38: עידוד יצירה ישראלית | C38: 0.1 | D38: 0
B39: תיעוד | C39: 0.05 | D39: 0
D40: 0
D41: 0
D42: 0
D43: 0
D44: 0
D45: 0
B58: סה"כ | C58: =SUM(C32:C57) -> 1
B60: ="פרמטרים לחישוב ניקוד משתנה "&$B$32 -> פרמטרים לחישוב ניקוד משתנה מספר הרצות
B61: סעיף | C61: ניקוד
B62: בעד כל הרצה | C62: 1
B63: שיעור מקס' ניקוד הרצות חו"ל מתוך הרצות בישראל | C63: 0.15
B80: ="פרמטרים לחישוב ניקוד משתנה "&$B$33 -> פרמטרים לחישוב ניקוד משתנה מספר מבצעים בתשלום
B81: סעיף | C81: ניקוד
B82: בעד כל מבצע | C82: 1
B100: ="פרמטרים לחישוב ניקוד משתנה "&$B$34 -> פרמטרים לחישוב ניקוד משתנה מיקום ההרצות
B101: מרחק ממקום פעילות מרכזי | C101: יישוב סיווג למ"ס 1 | D101: יישוב סיווג למ"ס 2
B102: 0 עד 30 ק"מ | C102: 0 | D102: 0.5
B103: מעל 30 ועד 60 ק"מ | C103: 0.5 | D103: 1
B104: מעל 60 ועד 100 ק"מ | C104: 1 | D104: 1.5
B105: מעל 100 ק"מ | C105: 1.5 | D105: 3
B120: ="פרמטרים לחישוב ניקוד משתנה "&$B$35 -> פרמטרים לחישוב ניקוד משתנה רמה מקצועית ואמנותית
B121: רמה מקצועית ואמנותית | C121: ניקוד
B122: נאותה | C122: 2
B123: טובה | C123: 3
B124: טובה מאוד | C124: 4
B125: מצוינת | C125: 5
B140: ="פרמטרים לחישוב ניקוד משתנה "&$B$36 -> פרמטרים לחישוב ניקוד משתנה מיקום גיאוגרפי
B141: מקום פעילות המרכזי | C141: ניקוד
B142: תל אביב והסביבה (עד 30 קילומטר מתל-אביב) | C142: 0
B143: מעל 30 ועד 60 קילומטר מתל-אביב (נתניה חדרה, יבנה, גדרה) | C143: 1
B144: מעל 60 ועד 100 קילומטר מתל-אביב (ירושלים, חיפה) | C144: 1.5
B145: מעל 100 קילומטר מתל-אביב (עכו, באר שבע, טבריה) | C145: 3
B146: בפריפריה | C146: 2
B160: ="פרמטרים לחישוב ניקוד משתנה "&$B$37 -> פרמטרים לחישוב ניקוד משתנה תקציב
B161: שיעור ההכנסות העצמיות מעל: | C161: ניקוד
B162: 0 | C162: 0
B163: 0.2 | C163: 1
B164: 0.4 | C164: 2
B165: 0.5 | C165: 4
B166: 0.6 | C166: 6
B180: ="פרמטרים לחישוב ניקוד משתנה "&$B$38 -> פרמטרים לחישוב ניקוד משתנה עידוד יצירה ישראלית
B181: סעיף | C181: ניקוד
B182: בעד כל יצירה ישראלית | C182: 1
B200: ="פרמטרים לחישוב ניקוד משתנה "&$B$39 -> פרמטרים לחישוב ניקוד משתנה תיעוד
B201: משך התיעוד לפחות (דק') | C201: ניקוד
B202: 30 | C202: 1
B203: 50 | C203: 2
B220: ="פרמטרים לחישוב ניקוד משתנה "&$B$40 -> פרמטרים לחישוב ניקוד משתנה
B221: סעיף | C221: ניקוד
B222: א | C222: 1
B223: ב | C223: 2
B224: ג | C224: 3
B225: ד | C225: 4
B226: ה | C226: 5
B240: ="פרמטרים לחישוב ניקוד משתנה "&$B$41 -> פרמטרים לחישוב ניקוד משתנה
B241: סעיף | C241: ניקוד
B242: א | C242: 1
B243: ב | C243: 2
B244: ג | C244: 3
B245: ד | C245: 4
B246: ה | C246: 5
B260: ="פרמטרים לחישוב ניקוד משתנה "&$B$42 -> פרמטרים לחישוב ניקוד משתנה
B261: סעיף | C261: ניקוד
B262: א | C262: 1
B263: ב | C263: 2
B264: ג | C264: 3
B265: ד | C265: 4
B266: ה | C266: 5
B280: ="פרמטרים לחישוב ניקוד משתנה "&$B$43 -> פרמטרים לחישוב ניקוד משתנה
B281: סעיף | C281: ניקוד
B282: א | C282: 1
B283: ב | C283: 2
...

Sheet הוראת שעה
A4: האם חלה הוראת השעה בשנה הספציפית
A5: שנה | C5: הגנה הוראת שעה | D5: מינימום תמיכה | E5: שיעור הקלה | F5: ניקוד אוטומטי ברמה אמנותיצ
A6: 2019 | B6: מקיים פעילות מוסקלית מקצועית במשך שנתיים או נתמך ב2018 כקבוצה מוסיקלית באמצעות ארגון גג | C6: 0.85 | D6: 20000 | E6: 0.7 | F6: 4
A7: =A6+1 -> 2020 | B7: מקיים פעילות מוסקלית מקצועית במשך שנתיים | C7: 0 | D7: 25000 | E7: 0.7 | F7: 4
A8: =A7+1 -> 2021 | B8: מקיים פעילות מוסקלית מקצועית במשך שנתיים | C8: 0 | D8: 25000 | E8: 0.8 | F8: 0
A9: =A8+1 -> 2022 | B9: מקיים פעילות מוסקלית מקצועית במשך שנתיים | C9: 0 | D9: 25000 | E9: 0.8 | F9: 0
A10: =A9+1 -> 2023 | B10: מקיים פעילות מוסקלית מקצועית במשך שנתיים | C10: 0 | D10: 25000 | E10: 0.8 | F10: 0
A11: =A10+1 -> 2024 | B11: מקיים פעילות מוסקלית מקצועית במשך שנתיים | C11: 0 | D11: 25000 | E11: 0.8 | F11: 0
A12: =A11+1 -> 2025 | B12: מקיים פעילות מוסקלית מקצועית במשך שנתיים | C12: 0 | D12: 25000 | E12: 0.8 | F12: 0
A13: =A12+1 -> 2026 | B13: מקיים פעילות מוסקלית מקצועית במשך שנתיים | C13: 0 | D13: 25000 | E13: 0.8 | F13: 0
A14: =A13+1 -> 2027 | B14: מקיים פעילות מוסקלית מקצועית במשך שנתיים | C14: 0 | D14: 25000 | E14: 0.8 | F14: 0
A15: =A14+1 -> 2028 | B15: מקיים פעילות מוסקלית מקצועית במשך שנתיים | C15: 0 | D15: 25000 | E15: 0.8 | F15: 0
A16: =A15+1 -> 2029 | B16: מקיים פעילות מוסקלית מקצועית במשך שנתיים | C16: 0 | D16: 25000 | E16: 0.8 | F16: 0
A17: =A16+1 -> 2030 | B17: מקיים פעילות מוסקלית מקצועית במשך שנתיים | C17: 0 | D17: 25000 | E17: 0.8 | F17: 0
A18: =A17+1 -> 2031 | B18: מקיים פעילות מוסקלית מקצועית במשך שנתיים | C18: 0 | D18: 25000 | E18: 0.8 | F18: 0
... A20: =A19+1 -> 2033 | B20: מקיים פעילות מוסקלית מקצועית במשך שנתיים | C20: 0 | D20: 25000 | E20: 0.8 | F20: 0

Sheet תנאי סף
B1: =MID(CELL("filename",AS2),FIND("]",CELL("filename",AS2),1)+1,99) -> תנאי סף | AR1: בדוק נתוני הזנה | AT1: סוגי בקרות | AU1: 0/1 | AV1: מספר | AW1: מספר שלם | AX1: מספר שאינו שלילי | AY1: מספר שלם שאינו שלילי | AZ1: מספר חיובי | BA1: מספר שלם חיובי | BB1: טקסט | BC1: טקסט מרשימה סגורה
AO2: ='פרמטרים לקריטריונים'!$B$4 -> שנת תקציב | AP2: ='פרמטרים לקריטריונים'!$C$4 -> 2025 | AU2: =IF(ISNA(MATCH(G31,$AR$30:$AS$30,0)),0,1) -> 1 | AV2: =IF(IFERROR(G31*1,"bad")="bad",0,1) -> 1 | AW2: =IF(IFERROR(IF(G31=TRUNC(G31),1,"bad"),"bad")="bad",0,1) -> 1 | AX2: =IF(AND(IF(IFERROR(G31*1,"bad")="bad",0,1)=1,G31>=0),1,0) -> 1 | AY2: =IF(AND(IF(IFERROR(IF(G31=TRUNC(G31),1,"bad"),"bad")="bad",0,1)=1,G31>=0),1,0) -> 1 | AZ2: =IF(AND(IF(IFERROR(G31*1,"bad")="bad",0,1)=1,G31>0),1,0) -> 1 | BA2: =IF(AND(IF(IFERROR(IF(G31=TRUNC(G31),1,"bad"),"bad")="bad",0,1)=1,G31>0),1,0) -> 1 | BB2: 1 | BC2: =IF(IFERROR(HLOOKUP(G31,$CG$30:$CQ$30,1,0),"bad")="bad",0,1) -> 1
AO3: ='פרמטרים לקריטריונים'!$B$5 -> תקציב התמיכה | AP3: ='פרמטרים לקריטריונים'!$C$5 -> 3076367 | AT3: מספר בקרה | AU3: 1 | AV3: 2 | AW3: 3 | AX3: 4 | AY3: 5 | AZ3: 6 | BA3: 7 | BB3: 8 | BC3: 9
F4: רלוונטי למבחן עמידה בתנאי סף? 1=רלוונטי. 0= לא רלוונטי אבל נדרשת בקרה על הזנת נתונים. 99= לא רלוונטי ולא נדרשת בקה על הזנת נתונים | G4: 1 | H4: 1 | I4: 1 | J4: 1 | K4: 1 | L4: 1 | M4: 1 | N4: 1 | O4: 0 | P4: 0 | Q4: 1 | R4: 1 | S4: 1 | T4: 1 | U4: 1 | X4: 99 | Y4: 99 | Z4: 0 | AA4: 0 | AB4: 0 | AC4: 0 | AD4: 0 | AE4: 1 | AG4: 1 | AH4: 1 | AI4: 1 | AK4: 99 | AT4: רשימה סגורה | AU4: 1 | AV4: 2 | AW4: 3 | AX4: 4 | AY4: 5 | AZ4: 6 | BA4: 7 | BB4: 8 | BC4: 9 | BD4: 10 | CS4: שיעור הקלה | CT4: =INDEX('הוראת שעה'!$E$6:$E$20,MATCH($AP$2,'הוראת שעה'!$A$6:$A$20,1)) -> 0.8
F5: מעבר תנאי סף- במידה ולא רלוונטי להשאיר ריק | G5: 1 | H5: 1 | I5: 1 | J5: 1 | K5: 1 | L5: 1 | M5: 1 | N5: 1 | P5: 3 | Q5: 1 | R5: 1 | S5: 1 | T5: 1 | U5: 1 | Z5: 8 | AA5: ='פרמטרים לקריטריונים'!$C$18 -> 54388.5 | AE5: 1 | AG5: 1 | AH5: 1 | AI5: 1 | CS5: הקלות
CS6: נדרש לפי הקלה
CS7: =ROUNDUP(Z5*$CT$4,0) -> 7 | CT7: =ROUNDUP(AA5*$CT$4,2) -> 43510.81
AQ28: =IF(SUM(AQ31:AQ130)=COUNT(AQ31:AQ130),1,0) -> 0 | AT28: =MATCH(G$30,$AU$1:$BC$1,0) -> 1 | AU28: =MATCH(H$30,$AU$1:$BC$1,0) -> 1 | AV28: =MATCH(I$30,$AU$1:$BC$1,0) -> 1 | AW28: =MATCH(J$30,$AU$1:$BC$1,0) -> 1 | AX28: =MATCH(K$30,$AU$1:$BC$1,0) -> 1 | AY28: =MATCH(L$30,$AU$1:$BC$1,0) -> 1 | AZ28: =MATCH(M$30,$AU$1:$BC$1,0) -> 1 | BA28: =MATCH(N$30,$AU$1:$BC$1,0) -> 1 | ... CB28: =MATCH(AO$30,$AU$1:$BC$1,0) -> #N/A
A29: 100 | B29: מס"ד | C29: =COLUMN() -> 3 | D29: =COLUMN() -> 4 | E29: =COLUMN() -> 5 | F29: שם המוסד | G29: =INDEX('הוראת שעה'!$B$6:$B$20,MATCH($AP$2,'הוראת שעה'!$A$6:$A$20,1)) -> מקיים פעילות מוסקלית מקצועית במשך שנתיים | H29: התקציב מנוהל כמשק סגור ובאופן ישיר | I29: מטרות המוסד עולים בקנה אחד עם מטרות התמיכה | J29: עומד בדרישות הנוהל | K29: המוסד מציין בפרסומיו את תמיכת המשרד | L29: המוסד פועל שנתיים כקבוצה מוסקלית | M29: גוף ביצוע בתחום המוסיקלי הכלית או רב תחומי כולל מוסיקה | N29: אינו מקבל תמיכה במסגרת מבחן גופים כליים | O29: סך מספר המבצעים בקבוצה | P29: מבצעים בקבוצה מתחום המוסיקה הכלית | Q29: עומד בקריטריון מבצעים | R29: כל מבצע סיים הכשרה בתחומי המוסיקה במוסד מוכר או עבד כמוסיקאי במשך שנה לפחות | S29: בראש הקבוצה עומד מנהל מוסקלי העומד בדרישות | T29: פועל ברמה אמנותית נאותה | U29: מעלה הפקה מוסיקלית חדשה אחת לפחות בשנה | X29: הוועדה המליצה מתן הקלות למוסד לפי סעיף 9ב' והמוסד אינו קיבל הקלות אלו בשנה קודמת | Y29: מוסד חדש | Z29: מספר הרצות בישראל | AA29: התקציב השנתי של הקבוצה בשנת התקציב המבוקר | AB29: האם עובר לפי הקלה 80% ממספר ההרצות? | AC29: האם עובר לפי הקלה 80% מהתקציב השנתי? | AD29: ="האם עובר לפי הקלת מוסד שנתמך פעם ראשונה? (תקציב לפחות "&'פרמטרים לקריטריונים'!$C$19&" ₪ ולפחות "&'פרמטרים לקריטריונים'!$D$19&" הרצות)" -> האם עובר לפי הקלת מוסד שנתמך פעם ראשונה? (תקציב לפחות 38071.9500000104 ₪ ולפחות 5 הרצות) | AE29: עומד בתנאים לאור הקלות | AG29: התנאים צפוים להתקיים בשנת התמיכה על פי תכנית עבודה | AH29: במוסד בו מועסקים עובדים ביחסי עבודה, המוסד קבע תקנון למניעת הטרדה מינית ועומד בדרישות תקנה 8 לתקנות חובות מעסיק. המוסד צירף לבקשתו את התקנון ופרטים על ההתאמות בתקנון, פרסומו למסירתו. (במוסד בו אין מתכונת יחסי עבודה - יש לסמן 1 עבור תנאי זה) | AI29: עומד בתנאי סף כלליים אחרים | AK29: מעבר תנאי סף-אישור מיוחד | AL29: ריק | AM29: ריק | AN29: ריק | AO29: מעבר תנאי סף | AP29: הערות | AQ29: בקרה ראשית | AT29: ="בקרת "&G29 -> בקרת מקיים פעילות מוסקלית מקצועית במשך שנתיים | AU29: ="בקרת "&H29 -> בקרת התקציב מנוהל כמשק סגור ובאופן ישיר | AV29: ="בקרת "&I29 -> בקרת מטרות המוסד עולים בקנה אחד עם מטרות התמיכה | AW29: ="בקרת "&J29 -> בקרת עומד בדרישות הנוהל | AX29: ="בקרת "&K29 -> בקרת המוסד מציין בפרסומיו את תמיכת המשרד | AY29: ="בקרת "&L29 -> בקרת המוסד פועל שנתיים כקבוצה מוסקלית | AZ29: ="בקרת "&M29 -> בקרת גוף ביצוע בתחום המוסיקלי הכלית או רב תחומי כולל מוסיקה | BA29: ="בקרת "&N29 -> בקרת אינו מקבל תמיכה במסגרת מבחן גופים כליים | ... CB29: ="בקרת "&AO29 -> בקרת מעבר תנאי סף | CG29: רשימה סגורה | CS29: קריטריון הקלה 1 | CT29: קריטריון הקלה 2 | CU29: קריטריון הקלה 3 | CV29: קריטריון הקלה 4 | CW29: קריטריון הקלה 5 | CX29: עומד בתנאים להקלות
G30: 0/1 | H30: 0/1 | I30: 0/1 | J30: 0/1 | K30: 0/1 | L30: 0/1 | M30: 0/1 | N30: 0/1 | O30: מספר שלם שאינו שלילי | P30: מספר שלם שאינו שלילי | R30: 0/1 | S30: 0/1 | T30: 0/1 | U30: 0/1 | X30: 0/1 | Y30: 0/1 | Z30: מספר שלם שאינו שלילי | AA30: מספר שאינו שלילי | AG30: 0/1 | AH30: 0/1 | AI30: 0/1 | AP30: טקסט | AR30: 0 | AS30: 1 | AT30: =G30 -> 0/1 | AU30: =H30 -> 0/1 | AV30: =I30 -> 0/1 | AW30: =J30 -> 0/1 | AX30: =K30 -> 0/1 | AY30: =L30 -> 0/1 | AZ30: =M30 -> 0/1 | BA30: =N30 -> 0/1 | ... CB30: =AO30 -> 0 | CG30: =AU4 -> 1 | CH30: =AV4 -> 2 | CI30: =AW4 -> 3 | CJ30: =AX4 -> 4 | CK30: =AY4 -> 5 | CL30: =AZ4 -> 6 | CM30: =BA4 -> 7 | CN30: =BB4 -> 8 | ... CP30: =BD4 -> 10
B31: =IF(F31="","",ROW()-30) -> 1 | F31: אנסמבל פרץ אליהו | G31: 1 | H31: 1 | I31: 1 | J31: 1 | K31: 1 | L31: 1 | M31: 1 | N31: 1 | O31: 13 | P31: 11 | Q31: =IF($F31="","",IF(O31<P31,$AR$1,IF(AND(P31>O31*0.5,P31>=$P$5),1,0))) -> 1 | R31: 1 | S31: 1 | T31: 1 | U31: 1 | Z31: 16 | AA31: 159879 | AB31: =IF(F31="","",IF(Z31>=$Z$5*0.8,1,0)) -> 1 | AC31: =IF(F31="","",IF(AA31>=$AA$5*0.8,1,0)) -> 1 | AD31: =IF(G31="","",IF(AND(Z31>='פרמטרים לקריטריונים'!$D$19,AA31>='פרמטרים לקריטריונים'!$C$19),1,0)) -> 1 | AE31: {=IF($F31="","",IF(OR(SUMPRODUCT(--(Z31:AA31>=$Z$5:$AA$5))=COUNTA($Z$29:$AA$29),OR(AND(X31=1,OR(AB31=1,AC31=1)),AND(Y31=1,AD31=1))),1,0))} -> 1 | AF31: {=IF($F31="","",IF(OR(SUMPRODUCT(--(AA31:AB31>=$Z$5:$AA$5))=COUNTA($Z$29:$AA$29),AND(Y31=1,Z31=1,OR(AC31=1,AD31=1,AE31=1))),1,0))} -> 0 | AG31: 1 | AH31: 1 | AI31: 1 | AJ31: =IF(F31="","",IF(G31>=$G$5,1,0)) -> 1 | AO31: =IF($F31="","",IF(AK31=1,1,IF(AQ31<>1,$AR$1,IF(SUMPRODUCT(--(G31:AJ31>=$G$5:$AJ$5)*($G$5:$AJ$5<>"")*($G$4:$AJ$4=1))=COUNTIF($G$4:$AJ$4,1),1,0)))) -> 1 | AP31: עומד בתנאי סף האמנותי ובתנאי הסף הכמותיים כקבוצה מוסיקלית, | AQ31: =IF(OR(SUM(AT31:CB31)<>COUNT(AT31:CB31),SUMPRODUCT(--(G31:AJ31=$AR$1))<>0),0,1) -> 1 | AR31: =IF($F31="","",AR$30) -> 0 | AS31: =IF($F31="","",AS$30) -> 1 | AT31: =IF(OR(G$30="",G$4=99),1,IF(G31="",0,IFERROR(CHOOSE(AT$28,IF(ISNA(MATCH(G31,$AR$30:$AS$30,0)),0,1),IF(ISNUMBER(G31),1,0),IF(G31=TRUNC(G31),1,0),IF(AND(G31*1=G31,G31>=0),1,0),IF(AND(G31=TRUNC(G31),G31>=0),1,0),IF(AND(G31*1=G31,G31>0),1,0),IF(AND(G31=TRUNC(G31),G31>0),1,0),1,IF(ISNA(HLOOKUP(G31,$AU$4:$BD$4,1,0)),0,1)),0))) -> 1 | AU31: =IF(OR(H$30="",H$4=99),1,IF(H31="",0,IFERROR(CHOOSE(AU$28,IF(ISNA(MATCH(H31,$AR$30:$AS$30,0)),0,1),IF(ISNUMBER(H31),1,0),IF(H31=TRUNC(H31),1,0),IF(AND(H31*1=H31,H31>=0),1,0),IF(AND(H31=TRUNC(H31),H31>=0),1,0),IF(AND(H31*1=H31,H31>0),1,0),IF(AND(H31=TRUNC(H31),H31>0),1,0),1,IF(ISNA(HLOOKUP(H31,$AU$4:$BD$4,1,0)),0,1)),0))) -> 1 | AV31: =IF(OR(I$30="",I$4=99),1,IF(I31="",0,IFERROR(CHOOSE(AV$28,IF(ISNA(MATCH(I31,$AR$30:$AS$30,0)),0,1),IF(ISNUMBER(I31),1,0),IF(I31=TRUNC(I31),1,0),IF(AND(I31*1=I31,I31>=0),1,0),IF(AND(I31=TRUNC(I31),I31>=0),1,0),IF(AND(I31*1=I31,I31>0),1,0),IF(AND(I31=TRUNC(I31),I31>0),1,0),1,IF(ISNA(HLOOKUP(I31,$AU$4:$BD$4,1,0)),0,1)),0))) -> 1 | AW31: =IF(OR(J$30="",J$4=99),1,IF(J31="",0,IFERROR(CHOOSE(AW$28,IF(ISNA(MATCH(J31,$AR$30:$AS$30,0)),0,1),IF(ISNUMBER(J31),1,0),IF(J31=TRUNC(J31),1,0),IF(AND(J31*1=J31,J31>=0),1,0),IF(AND(J31=TRUNC(J31),J31>=0),1,0),IF(AND(J31*1=J31,J31>0),1,0),IF(AND(J31=TRUNC(J31),J31>0),1,0),1,IF(ISNA(HLOOKUP(J31,$AU$4:$BD$4,1,0)),0,1)),0))) -> 1 | AX31: =IF(OR(K$30="",K$4=99),1,IF(K31="",0,IFERROR(CHOOSE(AX$28,IF(ISNA(MATCH(K31,$AR$30:$AS$30,0)),0,1),IF(ISNUMBER(K31),1,0),IF(K31=TRUNC(K31),1,0),IF(AND(K31*1=K31,K31>=0),1,0),IF(AND(K31=TRUNC(K31),K31>=0),1,0),IF(AND(K31*1=K31,K31>0),1,0),IF(AND(K31=TRUNC(K31),K31>0),1,0),1,IF(ISNA(HLOOKUP(K31,$AU$4:$BD$4,1,0)),0,1)),0))) -> 1 | AY31: =IF(OR(L$30="",L$4=99),1,IF(L31="",0,IFERROR(CHOOSE(AY$28,IF(ISNA(MATCH(L31,$AR$30:$AS$30,0)),0,1),IF(ISNUMBER(L31),1,0),IF(L31=TRUNC(L31),1,0),IF(AND(L31*1=L31,L31>=0),1,0),IF(AND(L31=TRUNC(L31),L31>=0),1,0),IF(AND(L31*1=L31,L31>0),1,0),IF(AND(L31=TRUNC(L31),L31>0),1,0),1,IF(ISNA(HLOOKUP(L31,$AU$4:$BD$4,1,0)),0,1)),0))) -> 1 | AZ31: =IF(OR(M$30="",M$4=99),1,IF(M31="",0,IFERROR(CHOOSE(AZ$28,IF(ISNA(MATCH(M31,$AR$30:$AS$30,0)),0,1),IF(ISNUMBER(M31),1,0),IF(M31=TRUNC(M31),1,0),IF(AND(M31*1=M31,M31>=0),1,0),IF(AND(M31=TRUNC(M31),M31>=0),1,0),IF(AND(M31*1=M31,M31>0),1,0),IF(AND(M31=TRUNC(M31),M31>0),1,0),1,IF(ISNA(HLOOKUP(M31,$AU$4:$BD$4,1,0)),0,1)),0))) -> 1 | BA31: =IF(OR(N$30="",N$4=99),1,IF(N31="",0,IFERROR(CHOOSE(BA$28,IF(ISNA(MATCH(N31,$AR$30:$AS$30,0)),0,1),IF(ISNUMBER(N31),1,0),IF(N31=TRUNC(N31),1,0),IF(AND(N31*1=N31,N31>=0),1,0),IF(AND(N31=TRUNC(N31),N31>=0),1,0),IF(AND(N31*1=N31,N31>0),1,0),IF(AND(N31=TRUNC(N31),N31>0),1,0),1,IF(ISNA(HLOOKUP(N31,$AU$4:$BD$4,1,0)),0,1)),0))) -> 1 | ... CB31: =IF(OR(AO$30="",AO$4=99),1,IF(AO31="",0,IFERROR(CHOOSE(CB$28,IF(ISNA(MATCH(AO31,$AR$30:$AS$30,0)),0,1),IF(ISNUMBER(AO31),1,0),IF(AO31=TRUNC(AO31),1,0),IF(AND(AO31*1=AO31,AO31>=0),1,0),IF(AND(AO31=TRUNC(AO31),AO31>=0),1,0),IF(AND(AO31*1=AO31,AO31>0),1,0),IF(AND(AO31=TRUNC(AO31),AO31>0),1,0),1,IF(ISNA(HLOOKUP(AO31,$AU$4:$BD$4,1,0)),0,1)),0))) -> 1 | CG31: =IF($F31="","",CG$30) -> 1 | CS31: =Z31>=CS$7 -> TRUE | CT31: =AA31>=CT$7 -> TRUE | CU31: =AB31>=CU$7 -> TRUE | CV31: =AC31>=CV$7 -> TRUE | CW31: =AD31>=CW$7 -> TRUE | CX31: =IF($F31="","",IF(SUMPRODUCT(--(CS31:CW31=TRUE))=COUNTA(CS31:CW31),1,0)) -> 1
B32: =IF(F32="","",ROW()-30) | Q32: =IF($F32="","",IF(O32<P32,$AR$1,IF(AND(P32>O32*0.5,P32>=$P$5),1,0))) | AB32: =IF(F32="","",IF(Z32>=$Z$5*0.8,1,0)) | AC32: =IF(F32="","",IF(AA32>=$AA$5*0.8,1,0)) | AD32: =IF(G32="","",IF(AND(Z32>='פרמטרים לקריטריונים'!$D$19,AA32>='פרמטרים לקריטריונים'!$C$19),1,0)) | AE32: {=IF($F32="","",IF(OR(SUMPRODUCT(--(Z32:AA32>=$Z$5:$AA$5))=COUNTA($Z$29:$AA$29),OR(AND(X32=1,OR(AB32=1,AC32=1)),AND(Y32=1,AD32=1))),1,0))} | AJ32: =IF(F32="","",IF(G32>=$G$5,1,0)) | AO32: =IF($F32="","",IF(AK32=1,1,IF(AQ32<>1,$AR$1,IF(SUMPRODUCT(--(G32:AJ32>=$G$5:$AJ$5)*($G$5:$AJ$5<>"")*($G$4:$AJ$4=1))=COUNTIF($G$4:$AJ$4,1),1,0)))) | AQ32: =IF(OR(SUM(AT32:CB32)<>COUNT(AT32:CB32),SUMPRODUCT(--(G32:AJ32=$AR$1))<>0),0,1) -> 0 | AR32: =IF($F32="","",AR$30) | AS32: =IF($F32="","",AS$30) | AT32: =IF(OR(G$30="",G$4=99),1,IF(G32="",0,IFERROR(CHOOSE(AT$28,IF(ISNA(MATCH(G32,$AR$30:$AS$30,0)),0,1),IF(ISNUMBER(G32),1,0),IF(G32=TRUNC(G32),1,0),IF(AND(G32*1=G32,G32>=0),1,0),IF(AND(G32=TRUNC(G32),G32>=0),1,0),IF(AND(G32*1=G32,G32>0),1,0),IF(AND(G32=TRUNC(G32),G32>0),1,0),1,IF(ISNA(HLOOKUP(G32,$AU$4:$BD$4,1,0)),0,1)),0))) -> 0 | AU32: =IF(OR(H$30="",H$4=99),1,IF(H32="",0,IFERROR(CHOOSE(AU$28,IF(ISNA(MATCH(H32,$AR$30:$AS$30,0)),0,1),IF(ISNUMBER(H32),1,0),IF(H32=TRUNC(H32),1,0),IF(AND(H32*1=H32,H32>=0),1,0),IF(AND(H32=TRUNC(H32),H32>=0),1,0),IF(AND(H32*1=H32,H32>0),1,0),IF(AND(H32=TRUNC(H32),H32>0),1,0),1,IF(ISNA(HLOOKUP(H32,$AU$4:$BD$4,1,0)),0,1)),0))) -> 0 | AV32: =IF(OR(I$30="",I$4=99),1,IF(I32="",0,IFERROR(CHOOSE(AV$28,IF(ISNA(MATCH(I32,$AR$30:$AS$30,0)),0,1),IF(ISNUMBER(I32),1,0),IF(I32=TRUNC(I32),1,0),IF(AND(I32*1=I32,I32>=0),1,0),IF(AND(I32=TRUNC(I32),I32>=0),1,0),IF(AND(I32*1=I32,I32>0),1,0),IF(AND(I32=TRUNC(I32),I32>0),1,0),1,IF(ISNA(HLOOKUP(I32,$AU$4:$BD$4,1,0)),0,1)),0))) -> 0 | AW32: =IF(OR(J$30="",J$4=99),1,IF(J32="",0,IFERROR(CHOOSE(AW$28,IF(ISNA(MATCH(J32,$AR$30:$AS$30,0)),0,1),IF(ISNUMBER(J32),1,0),IF(J32=TRUNC(J32),1,0),IF(AND(J32*1=J32,J32>=0),1,0),IF(AND(J32=TRUNC(J32),J32>=0),1,0),IF(AND(J32*1=J32,J32>0),1,0),IF(AND(J32=TRUNC(J32),J32>0),1,0),1,IF(ISNA(HLOOKUP(J32,$AU$4:$BD$4,1,0)),0,1)),0))) -> 0 | AX32: =IF(OR(K$30="",K$4=99),1,IF(K32="",0,IFERROR(CHOOSE(AX$28,IF(ISNA(MATCH(K32,$AR$30:$AS$30,0)),0,1),IF(ISNUMBER(K32),1,0),IF(K32=TRUNC(K32),1,0),IF(AND(K32*1=K32,K32>=0),1,0),IF(AND(K32=TRUNC(K32),K32>=0),1,0),IF(AND(K32*1=K32,K32>0),1,0),IF(AND(K32=TRUNC(K32),K32>0),1,0),1,IF(ISNA(HLOOKUP(K32,$AU$4:$BD$4,1,0)),0,1)),0))) -> 0 | AY32: =IF(OR(L$30="",L$4=99),1,IF(L32="",0,IFERROR(CHOOSE(AY$28,IF(ISNA(MATCH(L32,$AR$30:$AS$30,0)),0,1),IF(ISNUMBER(L32),1,0),IF(L32=TRUNC(L32),1,0),IF(AND(L32*1=L32,L32>=0),1,0),IF(AND(L32=TRUNC(L32),L32>=0),1,0),IF(AND(L32*1=L32,L32>0),1,0),IF(AND(L32=TRUNC(L32),L32>0),1,0),1,IF(ISNA(HLOOKUP(L32,$AU$4:$BD$4,1,0)),0,1)),0))) -> 0 | AZ32: =IF(OR(M$30="",M$4=99),1,IF(M32="",0,IFERROR(CHOOSE(AZ$28,IF(ISNA(MATCH(M32,$AR$30:$AS$30,0)),0,1),IF(ISNUMBER(M32),1,0),IF(M32=TRUNC(M32),1,0),IF(AND(M32*1=M32,M32>=0),1,0),IF(AND(M32=TRUNC(M32),M32>=0),1,0),IF(AND(M32*1=M32,M32>0),1,0),IF(AND(M32=TRUNC(M32),M32>0),1,0),1,IF(ISNA(HLOOKUP(M32,$AU$4:$BD$4,1,0)),0,1)),0))) -> 0 | BA32: =IF(OR(N$30="",N$4=99),1,IF(N32="",0,IFERROR(CHOOSE(BA$28,IF(ISNA(MATCH(N32,$AR$30:$AS$30,0)),0,1),IF(ISNUMBER(N32),1,0),IF(N32=TRUNC(N32),1,0),IF(AND(N32*1=N32,N32>=0),1,0),IF(AND(N32=TRUNC(N32),N32>=0),1,0),IF(AND(N32*1=N32,N32>0),1,0),IF(AND(N32=TRUNC(N32),N32>0),1,0),1,IF(ISNA(HLOOKUP(N32,$AU$4:$BD$4,1,0)),0,1)),0))) -> 0 | ... CB32: =IF(OR(AO$30="",AO$4=99),1,IF(AO32="",0,IFERROR(CHOOSE(CB$28,IF(ISNA(MATCH(AO32,$AR$30:$AS$30,0)),0,1),IF(ISNUMBER(AO32),1,0),IF(AO32=TRUNC(AO32),1,0),IF(AND(AO32*1=AO32,AO32>=0),1,0),IF(AND(AO32=TRUNC(AO32),AO32>=0),1,0),IF(AND(AO32*1=AO32,AO32>0),1,0),IF(AND(AO32=TRUNC(AO32),AO32>0),1,0),1,IF(ISNA(HLOOKUP(AO32,$AU$4:$BD$4,1,0)),0,1)),0))) -> 1 | CS32: =Z32>=CS$7 -> FALSE | CT32: =AA32>=CT$7 -> FALSE | CU32: =AB32>=CU$7 -> TRUE | CV32: =AC32>=CV$7 -> TRUE | CW32: =AD32>=CW$7 -> TRUE | CX32: =IF($F32="","",IF(SUMPRODUCT(--(CS32:CW32=TRUE))=COUNTA(CS32:CW32),1,0))
B33: =IF(F33="","",ROW()-30) -> 3 | F33: הפתיליה | G33: 1 | H33: 1 | I33: 1 | J33: 1 | K33: 1 | L33: 1 | M33: 1 | N33: 1 | O33: 12 | P33: 9 | Q33: =IF($F33="","",IF(O33<P33,$AR$1,IF(AND(P33>O33*0.5,P33>=$P$5),1,0))) -> 1 | R33: 1 | S33: 1 | T33: 1 | U33: 1 | Z33: 4 | AA33: 253627 | AB33: =IF(F33="","",IF(Z33>=$Z$5*0.8,1,0)) -> 0 | AC33: =IF(F33="","",IF(AA33>=$AA$5*0.8,1,0)) -> 1 | AD33: =IF(G33="","",IF(AND(Z33>='פרמטרים לקריטריונים'!$D$19,AA33>='פרמטרים לקריטריונים'!$C$19),1,0)) -> 0 | AE33: {=IF($F33="","",IF(OR(SUMPRODUCT(--(Z33:AA33>=$Z$5:$AA$5))=COUNTA($Z$29:$AA$29),OR(AND(X33=1,OR(AB33=1,AC33=1)),AND(Y33=1,AD33=1))),1,0))} -> 0 | AG33: 1 | AH33: 1 | AI33: 1 | AJ33: =IF(F33="","",IF(G33>=$G$5,1,0)) -> 1 | AO33: =IF($F33="","",IF(AK33=1,1,IF(AQ33<>1,$AR$1,IF(SUMPRODUCT(--(G33:AJ33>=$G$5:$AJ$5)*($G$5:$AJ$5<>"")*($G$4:$AJ$4=1))=COUNTIF($G$4:$AJ$4,1),1,0)))) -> 0 | AP33: לא עומד בתנאי סף לפי סעיף 9.(א)(9) במבחן התמיכה לפחות 8 הרצות.4 הרצות בבדיקה של שנת הערכה רבעונית, ו 6 הרצות בבדיקת שנת הערכה קלנדרית | AQ33: =IF(OR(SUM(AT33:CB33)<>COUNT(AT33:CB33),SUMPRODUCT(--(G33:AJ33=$AR$1))<>0),0,1) -> 1 | AR33: =IF($F33="","",AR$30) -> 0 | AS33: =IF($F33="","",AS$30) -> 1 | AT33: =IF(OR(G$30="",G$4=99),1,IF(G33="",0,IFERROR(CHOOSE(AT$28,IF(ISNA(MATCH(G33,$AR$30:$AS$30,0)),0,1),IF(ISNUMBER(G33),1,0),IF(G33=TRUNC(G33),1,0),IF(AND(G33*1=G33,G33>=0),1,0),IF(AND(G33=TRUNC(G33),G33>=0),1,0),IF(AND(G33*1=G33,G33>0),1,0),IF(AND(G33=TRUNC(G33),G33>0),1,0),1,IF(ISNA(HLOOKUP(G33,$AU$4:$BD$4,1,0)),0,1)),0))) -> 1 | AU33: =IF(OR(H$30="",H$4=99),1,IF(H33="",0,IFERROR(CHOOSE(AU$28,IF(ISNA(MATCH(H33,$AR$30:$AS$30,0)),0,1),IF(ISNUMBER(H33),1,0),IF(H33=TRUNC(H33),1,0),IF(AND(H33*1=H33,H33>=0),1,0),IF(AND(H33=TRUNC(H33),H33>=0),1,0),IF(AND(H33*1=H33,H33>0),1,0),IF(AND(H33=TRUNC(H33),H33>0),1,0),1,IF(ISNA(HLOOKUP(H33,$AU$4:$BD$4,1,0)),0,1)),0))) -> 1 | AV33: =IF(OR(I$30="",I$4=99),1,IF(I33="",0,IFERROR(CHOOSE(AV$28,IF(ISNA(MATCH(I33,$AR$30:$AS$30,0)),0,1),IF(ISNUMBER(I33),1,0),IF(I33=TRUNC(I33),1,0),IF(AND(I33*1=I33,I33>=0),1,0),IF(AND(I33=TRUNC(I33),I33>=0),1,0),IF(AND(I33*1=I33,I33>0),1,0),IF(AND(I33=TRUNC(I33),I33>0),1,0),1,IF(ISNA(HLOOKUP(I33,$AU$4:$BD$4,1,0)),0,1)),0))) -> 1 | AW33: =IF(OR(J$30="",J$4=99),1,IF(J33="",0,IFERROR(CHOOSE(AW$28,IF(ISNA(MATCH(J33,$AR$30:$AS$30,0)),0,1),IF(ISNUMBER(J33),1,0),IF(J33=TRUNC(J33),1,0),IF(AND(J33*1=J33,J33>=0),1,0),IF(AND(J33=TRUNC(J33),J33>=0),1,0),IF(AND(J33*1=J33,J33>0),1,0),IF(AND(J33=TRUNC(J33),J33>0),1,0),1,IF(ISNA(HLOOKUP(J33,$AU$4:$BD$4,1,0)),0,1)),0))) -> 1 | AX33: =IF(OR(K$30="",K$4=99),1,IF(K33="",0,IFERROR(CHOOSE(AX$28,IF(ISNA(MATCH(K33,$AR$30:$AS$30,0)),0,1),IF(ISNUMBER(K33),1,0),IF(K33=TRUNC(K33),1,0),IF(AND(K33*1=K33,K33>=0),1,0),IF(AND(K33=TRUNC(K33),K33>=0),1,0),IF(AND(K33*1=K33,K33>0),1,0),IF(AND(K33=TRUNC(K33),K33>0),1,0),1,IF(ISNA(HLOOKUP(K33,$AU$4:$BD$4,1,0)),0,1)),0))) -> 1 | AY33: =IF(OR(L$30="",L$4=99),1,IF(L33="",0,IFERROR(CHOOSE(AY$28,IF(ISNA(MATCH(L33,$AR$30:$AS$30,0)),0,1),IF(ISNUMBER(L33),1,0),IF(L33=TRUNC(L33),1,0),IF(AND(L33*1=L33,L33>=0),1,0),IF(AND(L33=TRUNC(L33),L33>=0),1,0),IF(AND(L33*1=L33,L33>0),1,0),IF(AND(L33=TRUNC(L33),L33>0),1,0),1,IF(ISNA(HLOOKUP(L33,$AU$4:$BD$4,1,0)),0,1)),0))) -> 1 | AZ33: =IF(OR(M$30="",M$4=99),1,IF(M33="",0,IFERROR(CHOOSE(AZ$28,IF(ISNA(MATCH(M33,$AR$30:$AS$30,0)),0,1),IF(ISNUMBER(M33),1,0),IF(M33=TRUNC(M33),1,0),IF(AND(M33*1=M33,M33>=0),1,0),IF(AND(M33=TRUNC(M33),M33>=0),1,0),IF(AND(M33*1=M33,M33>0),1,0),IF(AND(M33=TRUNC(M33),M33>0),1,0),1,IF(ISNA(HLOOKUP(M33,$AU$4:$BD$4,1,0)),0,1)),0))) -> 1 | BA33: =IF(OR(N$30="",N$4=99),1,IF(N33="",0,IFERROR(CHOOSE(BA$28,IF(ISNA(MATCH(N33,$AR$30:$AS$30,0)),0,1),IF(ISNUMBER(N33),1,0),IF(N33=TRUNC(N33),1,0),IF(AND(N33*1=N33,N33>=0),1,0),IF(AND(N33=TRUNC(N33),N33>=0),1,0),IF(AND(N33*1=N33,N33>0),1,0),IF(AND(N33=TRUNC(N33),N33>0),1,0),1,IF(ISNA(HLOOKUP(N33,$AU$4:$BD$4,1,0)),0,1)),0))) -> 1 | ... CB33: =IF(OR(AO$30="",AO$4=99),1,IF(AO33="",0,IFERROR(CHOOSE(CB$28,IF(ISNA(MATCH(AO33,$AR$30:$AS$30,0)),0,1),IF(ISNUMBER(AO33),1,0),IF(AO33=TRUNC(AO33),1,0),IF(AND(AO33*1=AO33,AO33>=0),1,0),IF(AND(AO33=TRUNC(AO33),AO33>=0),1,0),IF(AND(AO33*1=AO33,AO33>0),1,0),IF(AND(AO33=TRUNC(AO33),AO33>0),1,0),1,IF(ISNA(HLOOKUP(AO33,$AU$4:$BD$4,1,0)),0,1)),0))) -> 1 | CS33: =Z33>=CS$7 -> FALSE | CT33: =AA33>=CT$7 -> TRUE | CU33: =AB33>=CU$7 -> TRUE | CV33: =AC33>=CV$7 -> TRUE | CW33: =AD33>=CW$7 -> TRUE | CX33: =IF($F33="","",IF(SUMPRODUCT(--(CS33:CW33=TRUE))=COUNTA(CS33:CW33),1,0)) -> 0
B34: =IF(F34="","",ROW()-30) -> 4 | F34: יניב ד'אור - אנסמבל נאיה | G34: 1 | H34: 1 | I34: 1 | J34: 1 | K34: 1 | L34: 1 | M34: 1 | N34: 1 | O34: 7 | P34: 6 | Q34: =IF($F34="","",IF(O34<P34,$AR$1,IF(AND(P34>O34*0.5,P34>=$P$5),1,0))) -> 1 | R34: 1 | S34: 1 | T34: 1 | U34: 1 | Z34: 8 | AA34: 124104 | AB34: =IF(F34="","",IF(Z34>=$Z$5*0.8,1,0)) -> 1 | AC34: =IF(F34="","",IF(AA34>=$AA$5*0.8,1,0)) -> 1 | AD34: =IF(G34="","",IF(AND(Z34>='פרמטרים לקריטריונים'!$D$19,AA34>='פרמטרים לקריטריונים'!$C$19),1,0)) -> 1 | AE34: {=IF($F34="","",IF(OR(SUMPRODUCT(--(Z34:AA34>=$Z$5:$AA$5))=COUNTA($Z$29:$AA$29),OR(AND(X34=1,OR(AB34=1,AC34=1)),AND(Y34=1,AD34=1))),1,0))} -> 1 | AG34: 1 | AH34: 1 | AI34: 1 | AJ34: =IF(F34="","",IF(G34>=$G$5,1,0)) -> 1 | AO34: =IF($F34="","",IF(AK34=1,1,IF(AQ34<>1,$AR$1,IF(SUMPRODUCT(--(G34:AJ34>=$G$5:$AJ$5)*($G$5:$AJ$5<>"")*($G$4:$AJ$4=1))=COUNTIF($G$4:$AJ$4,1),1,0)))) -> 1 | AP34: עומד בתנאי סף האמנותי ובתנאי הסף הכמותיים כקבוצה מוסיקלית. | AQ34: =IF(OR(SUM(AT34:CB34)<>COUNT(AT34:CB34),SUMPRODUCT(--(G34:AJ34=$AR$1))<>0),0,1) -> 1 | AR34: =IF($F34="","",AR$30) -> 0 | AS34: =IF($F34="","",AS$30) -> 1 | AT34: =IF(OR(G$30="",G$4=99),1,IF(G34="",0,IFERROR(CHOOSE(AT$28,IF(ISNA(MATCH(G34,$AR$30:$AS$30,0)),0,1),IF(ISNUMBER(G34),1,0),IF(G34=TRUNC(G34),1,0),IF(AND(G34*1=G34,G34>=0),1,0),IF(AND(G34=TRUNC(G34),G34>=0),1,0),IF(AND(G34*1=G34,G34>0),1,0),IF(AND(G34=TRUNC(G34),G34>0),1,0),1,IF(ISNA(HLOOKUP(G34,$AU$4:$BD$4,1,0)),0,1)),0))) -> 1 | AU34: =IF(OR(H$30="",H$4=99),1,IF(H34="",0,IFERROR(CHOOSE(AU$28,IF(ISNA(MATCH(H34,$AR$30:$AS$30,0)),0,1),IF(ISNUMBER(H34),1,0),IF(H34=TRUNC(H34),1,0),IF(AND(H34*1=H34,H34>=0),1,0),IF(AND(H34=TRUNC(H34),H34>=0),1,0),IF(AND(H34*1=H34,H34>0),1,0),IF(AND(H34=TRUNC(H34),H34>0),1,0),1,IF(ISNA(HLOOKUP(H34,$AU$4:$BD$4,1,0)),0,1)),0))) -> 1 | AV34: =IF(OR(I$30="",I$4=99),1,IF(I34="",0,IFERROR(CHOOSE(AV$28,IF(ISNA(MATCH(I34,$AR$30:$AS$30,0)),0,1),IF(ISNUMBER(I34),1,0),IF(I34=TRUNC(I34),1,0),IF(AND(I34*1=I34,I34>=0),1,0),IF(AND(I34=TRUNC(I34),I34>=0),1,0),IF(AND(I34*1=I34,I34>0),1,0),IF(AND(I34=TRUNC(I34),I34>0),1,0),1,IF(ISNA(HLOOKUP(I34,$AU$4:$BD$4,1,0)),0,1)),0))) -> 1 | AW34: =IF(OR(J$30="",J$4=99),1,IF(J34="",0,IFERROR(CHOOSE(AW$28,IF(ISNA(MATCH(J34,$AR$30:$AS$30,0)),0,1),IF(ISNUMBER(J34),1,0),IF(J34=TRUNC(J34),1,0),IF(AND(J34*1=J34,J34>=0),1,0),IF(AND(J34=TRUNC(J34),J34>=0),1,0),IF(AND(J34*1=J34,J34>0),1,0),IF(AND(J34=TRUNC(J34),J34>0),1,0),1,IF(ISNA(HLOOKUP(J34,$AU$4:$BD$4,1,0)),0,1)),0))) -> 1 | AX34: =IF(OR(K$30="",K$4=99),1,IF(K34="",0,IFERROR(CHOOSE(AX$28,IF(ISNA(MATCH(K34,$AR$30:$AS$30,0)),0,1),IF(ISNUMBER(K34),1,0),IF(K34=TRUNC(K34),1,0),IF(AND(K34*1=K34,K34>=0),1,0),IF(AND(K34=TRUNC(K34),K34>=0),1,0),IF(AND(K34*1=K34,K34>0),1,0),IF(AND(K34=TRUNC(K34),K34>0),1,0),1,IF(ISNA(HLOOKUP(K34,$AU$4:$BD$4,1,0)),0,1)),0))) -> 1 | AY34: =IF(OR(L$30="",L$4=99),1,IF(L34="",0,IFERROR(CHOOSE(AY$28,IF(ISNA(MATCH(L34,$AR$30:$AS$30,0)),0,1),IF(ISNUMBER(L34),1,0),IF(L34=TRUNC(L34),1,0),IF(AND(L34*1=L34,L34>=0),1,0),IF(AND(L34=TRUNC(L34),L34>=0),1,0),IF(AND(L34*1=L34,L34>0),1,0),IF(AND(L34=TRUNC(L34),L34>0),1,0),1,IF(ISNA(HLOOKUP(L34,$AU$4:$BD$4,1,0)),0,1)),0))) -> 1 | AZ34: =IF(OR(M$30="",M$4=99),1,IF(M34="",0,IFERROR(CHOOSE(AZ$28,IF(ISNA(MATCH(M34,$AR$30:$AS$30,0)),0,1),IF(ISNUMBER(M34),1,0),IF(M34=TRUNC(M34),1,0),IF(AND(M34*1=M34,M34>=0),1,0),IF(AND(M34=TRUNC(M34),M34>=0),1,0),IF(AND(M34*1=M34,M34>0),1,0),IF(AND(M34=TRUNC(M34),M34>0),1,0),1,IF(ISNA(HLOOKUP(M34,$AU$4:$BD$4,1,0)),0,1)),0))) -> 1 | BA34: =IF(OR(N$30="",N$4=99),1,IF(N34="",0,IFERROR(CHOOSE(BA$28,IF(ISNA(MATCH(N34,$AR$30:$AS$30,0)),0,1),IF(ISNUMBER(N34),1,0),IF(N34=TRUNC(N34),1,0),IF(AND(N34*1=N34,N34>=0),1,0),IF(AND(N34=TRUNC(N34),N34>=0),1,0),IF(AND(N34*1=N34,N34>0),1,0),IF(AND(N34=TRUNC(N34),N34>0),1,0),1,IF(ISNA(HLOOKUP(N34,$AU$4:$BD$4,1,0)),0,1)),0))) -> 1 | ... CB34: =IF(OR(AO$30="",AO$4=99),1,IF(AO34="",0,IFERROR(CHOOSE(CB$28,IF(ISNA(MATCH(AO34,$AR$30:$AS$30,0)),0,1),IF(ISNUMBER(AO34),1,0),IF(AO34=TRUNC(AO34),1,0),IF(AND(AO34*1=AO34,AO34>=0),1,0),IF(AND(AO34=TRUNC(AO34),AO34>=0),1,0),IF(AND(AO34*1=AO34,AO34>0),1,0),IF(AND(AO34=TRUNC(AO34),AO34>0),1,0),1,IF(ISNA(HLOOKUP(AO34,$AU$4:$BD$4,1,0)),0,1)),0))) -> 1 | CS34: =Z34>=CS$7 -> TRUE | CT34: =AA34>=CT$7 -> TRUE | CU34: =AB34>=CU$7 -> TRUE | CV34: =AC34>=CV$7 -> TRUE | CW34: =AD34>=CW$7 -> TRUE | CX34: =IF($F34="","",IF(SUMPRODUCT(--(CS34:CW34=TRUE))=COUNTA(CS34:CW34),1,0)) -> 1
B35: =IF(F35="","",ROW()-30) | Q35: =IF($F35="","",IF(O35<P35,$AR$1,IF(AND(P35>O35*0.5,P35>=$P$5),1,0))) | AB35: =IF(F35="","",IF(Z35>=$Z$5*0.8,1,0)) | AC35: =IF(F35="","",IF(AA35>=$AA$5*0.8,1,0)) | AD35: =IF(G35="","",IF(AND(Z35>='פרמטרים לקריטריונים'!$D$19,AA35>='פרמטרים לקריטריונים'!$C$19),1,0)) | AE35: {=IF($F35="","",IF(OR(SUMPRODUCT(--(Z35:AA35>=$Z$5:$AA$5))=COUNTA($Z$29:$AA$29),OR(AND(X35=1,OR(AB35=1,AC35=1)),AND(Y35=1,AD35=1))),1,0))} | AJ35: =IF(F35="","",IF(G35>=$G$5,1,0)) | AO35: =IF($F35="","",IF(AK35=1,1,IF(AQ35<>1,$AR$1,IF(SUMPRODUCT(--(G35:AJ35>=$G$5:$AJ$5)*($G$5:$AJ$5<>"")*($G$4:$AJ$4=1))=COUNTIF($G$4:$AJ$4,1),1,0)))) | AQ35: =IF(OR(SUM(AT35:CB35)<>COUNT(AT35:CB35),SUMPRODUCT(--(G35:AJ35=$AR$1))<>0),0,1) -> 0 | AR35: =IF($F35="","",AR$30) | AS35: =IF($F35="","",AS$30) | AT35: =IF(OR(G$30="",G$4=99),1,IF(G35="",0,IFERROR(CHOOSE(AT$28,IF(ISNA(MATCH(G35,$AR$30:$AS$30,0)),0,1),IF(ISNUMBER(G35),1,0),IF(G35=TRUNC(G35),1,0),IF(AND(G35*1=G35,G35>=0),1,0),IF(AND(G35=TRUNC(G35),G35>=0),1,0),IF(AND(G35*1=G35,G35>0),1,0),IF(AND(G35=TRUNC(G35),G35>0),1,0),1,IF(ISNA(HLOOKUP(G35,$AU$4:$BD$4,1,0)),0,1)),0))) -> 0 | AU35: =IF(OR(H$30="",H$4=99),1,IF(H35="",0,IFERROR(CHOOSE(AU$28,IF(ISNA(MATCH(H35,$AR$30:$AS$30,0)),0,1),IF(ISNUMBER(H35),1,0),IF(H35=TRUNC(H35),1,0),IF(AND(H35*1=H35,H35>=0),1,0),IF(AND(H35=TRUNC(H35),H35>=0),1,0),IF(AND(H35*1=H35,H35>0),1,0),IF(AND(H35=TRUNC(H35),H35>0),1,0),1,IF(ISNA(HLOOKUP(H35,$AU$4:$BD$4,1,0)),0,1)),0))) -> 0 | AV35: =IF(OR(I$30="",I$4=99),1,IF(I35="",0,IFERROR(CHOOSE(AV$28,IF(ISNA(MATCH(I35,$AR$30:$AS$30,0)),0,1),IF(ISNUMBER(I35),1,0),IF(I35=TRUNC(I35),1,0),IF(AND(I35*1=I35,I35>=0),1,0),IF(AND(I35=TRUNC(I35),I35>=0),1,0),IF(AND(I35*1=I35,I35>0),1,0),IF(AND(I35=TRUNC(I35),I35>0),1,0),1,IF(ISNA(HLOOKUP(I35,$AU$4:$BD$4,1,0)),0,1)),0))) -> 0 | AW35: =IF(OR(J$30="",J$4=99),1,IF(J35="",0,IFERROR(CHOOSE(AW$28,IF(ISNA(MATCH(J35,$AR$30:$AS$30,0)),0,1),IF(ISNUMBER(J35),1,0),IF(J35=TRUNC(J35),1,0),IF(AND(J35*1=J35,J35>=0),1,0),IF(AND(J35=TRUNC(J35),J35>=0),1,0),IF(AND(J35*1=J35,J35>0),1,0),IF(AND(J35=TRUNC(J35),J35>0),1,0),1,IF(ISNA(HLOOKUP(J35,$AU$4:$BD$4,1,0)),0,1)),0))) -> 0 | AX35: =IF(OR(K$30="",K$4=99),1,IF(K35="",0,IFERROR(CHOOSE(AX$28,IF(ISNA(MATCH(K35,$AR$30:$AS$30,0)),0,1),IF(ISNUMBER(K35),1,0),IF(K35=TRUNC(K35),1,0),IF(AND(K35*1=K35,K35>=0),1,0),IF(AND(K35=TRUNC(K35),K35>=0),1,0),IF(AND(K35*1=K35,K35>0),1,0),IF(AND(K35=TRUNC(K35),K35>0),1,0),1,IF(ISNA(HLOOKUP(K35,$AU$4:$BD$4,1,0)),0,1)),0))) -> 0 | AY35: =IF(OR(L$30="",L$4=99),1,IF(L35="",0,IFERROR(CHOOSE(AY$28,IF(ISNA(MATCH(L35,$AR$30:$AS$30,0)),0,1),IF(ISNUMBER(L35),1,0),IF(L35=TRUNC(L35),1,0),IF(AND(L35*1=L35,L35>=0),1,0),IF(AND(L35=TRUNC(L35),L35>=0),1,0),IF(AND(L35*1=L35,L35>0),1,0),IF(AND(L35=TRUNC(L35),L35>0),1,0),1,IF(ISNA(HLOOKUP(L35,$AU$4:$BD$4,1,0)),0,1)),0))) -> 0 | AZ35: =IF(OR(M$30="",M$4=99),1,IF(M35="",0,IFERROR(CHOOSE(AZ$28,IF(ISNA(MATCH(M35,$AR$30:$AS$30,0)),0,1),IF(ISNUMBER(M35),1,0),IF(M35=TRUNC(M35),1,0),IF(AND(M35*1=M35,M35>=0),1,0),IF(AND(M35=TRUNC(M35),M35>=0),1,0),IF(AND(M35*1=M35,M35>0),1,0),IF(AND(M35=TRUNC(M35),M35>0),1,0),1,IF(ISNA(HLOOKUP(M35,$AU$4:$BD$4,1,0)),0,1)),0))) -> 0 | BA35: =IF(OR(N$30="",N$4=99),1,IF(N35="",0,IFERROR(CHOOSE(BA$28,IF(ISNA(MATCH(N35,$AR$30:$AS$30,0)),0,1),IF(ISNUMBER(N35),1,0),IF(N35=TRUNC(N35),1,0),IF(AND(N35*1=N35,N35>=0),1,0),IF(AND(N35=TRUNC(N35),N35>=0),1,0),IF(AND(N35*1=N35,N35>0),1,0),IF(AND(N35=TRUNC(N35),N35>0),1,0),1,IF(ISNA(HLOOKUP(N35,$AU$4:$BD$4,1,0)),0,1)),0))) -> 0 | ... CB35: =IF(OR(AO$30="",AO$4=99),1,IF(AO35="",0,IFERROR(CHOOSE(CB$28,IF(ISNA(MATCH(AO35,$AR$30:$AS$30,0)),0,1),IF(ISNUMBER(AO35),1,0),IF(AO35=TRUNC(AO35),1,0),IF(AND(AO35*1=AO35,AO35>=0),1,0),IF(AND(AO35=TRUNC(AO35),AO35>=0),1,0),IF(AND(AO35*1=AO35,AO35>0),1,0),IF(AND(AO35=TRUNC(AO35),AO35>0),1,0),1,IF(ISNA(HLOOKUP(AO35,$AU$4:$BD$4,1,0)),0,1)),0))) -> 1 | CS35: =Z35>=CS$7 -> FALSE | CT35: =AA35>=CT$7 -> FALSE | CU35: =AB35>=CU$7 -> TRUE | CV35: =AC35>=CV$7 -> TRUE | CW35: =AD35>=CW$7 -> TRUE | CX35: =IF($F35="","",IF(SUMPRODUCT(--(CS35:CW35=TRUE))=COUNTA(CS35:CW35),1,0))
B36: =IF(F36="","",ROW()-30) -> 6 | F36: הפרויקט הקאמרי הישראלי | G36: 1 | H36: 1 | I36: 1 | J36: 1 | K36: 1 | L36: 1 | M36: 1 | N36: 1 | O36: 18 | P36: 18 | Q36: =IF($F36="","",IF(O36<P36,$AR$1,IF(AND(P36>O36*0.5,P36>=$P$5),1,0))) -> 1 | R36: 1 | S36: 1 | T36: 1 | U36: 1 | Z36: 8 | AA36: 276882 | AB36: =IF(F36="","",IF(Z36>=$Z$5*0.8,1,0)) -> 1 | AC36: =IF(F36="","",IF(AA36>=$AA$5*0.8,1,0)) -> 1 | AD36: =IF(G36="","",IF(AND(Z36>='פרמטרים לקריטריונים'!$D$19,AA36>='פרמטרים לקריטריונים'!$C$19),1,0)) -> 1 | AE36: {=IF($F36="","",IF(OR(SUMPRODUCT(--(Z36:AA36>=$Z$5:$AA$5))=COUNTA($Z$29:$AA$29),OR(AND(X36=1,OR(AB36=1,AC36=1)),AND(Y36=1,AD36=1))),1,0))} -> 1 | AG36: 1 | AH36: 1 | AI36: 1 | AJ36: =IF(F36="","",IF(G36>=$G$5,1,0)) -> 1 | AO36: =IF($F36="","",IF(AK36=1,1,IF(AQ36<>1,$AR$1,IF(SUMPRODUCT(--(G36:AJ36>=$G$5:$AJ$5)*($G$5:$AJ$5<>"")*($G$4:$AJ$4=1))=COUNTIF($G$4:$AJ$4,1),1,0)))) -> 1 | AP36: עומד בתנאי סף האמנותי ובתנאי הסף הכמותיים כקבוצה מוסיקלית. | AQ36: =IF(OR(SUM(AT36:CB36)<>COUNT(AT36:CB36),SUMPRODUCT(--(G36:AJ36=$AR$1))<>0),0,1) -> 1 | AR36: =IF($F36="","",AR$30) -> 0 | AS36: =IF($F36="","",AS$30) -> 1 | AT36: =IF(OR(G$30="",G$4=99),1,IF(G36="",0,IFERROR(CHOOSE(AT$28,IF(ISNA(MATCH(G36,$AR$30:$AS$30,0)),0,1),IF(ISNUMBER(G36),1,0),IF(G36=TRUNC(G36),1,0),IF(AND(G36*1=G36,G36>=0),1,0),IF(AND(G36=TRUNC(G36),G36>=0),1,0),IF(AND(G36*1=G36,G36>0),1,0),IF(AND(G36=TRUNC(G36),G36>0),1,0),1,IF(ISNA(HLOOKUP(G36,$AU$4:$BD$4,1,0)),0,1)),0))) -> 1 | AU36: =IF(OR(H$30="",H$4=99),1,IF(H36="",0,IFERROR(CHOOSE(AU$28,IF(ISNA(MATCH(H36,$AR$30:$AS$30,0)),0,1),IF(ISNUMBER(H36),1,0),IF(H36=TRUNC(H36),1,0),IF(AND(H36*1=H36,H36>=0),1,0),IF(AND(H36=TRUNC(H36),H36>=0),1,0),IF(AND(H36*1=H36,H36>0),1,0),IF(AND(H36=TRUNC(H36),H36>0),1,0),1,IF(ISNA(HLOOKUP(H36,$AU$4:$BD$4,1,0)),0,1)),0))) -> 1 | AV36: =IF(OR(I$30="",I$4=99),1,IF(I36="",0,IFERROR(CHOOSE(AV$28,IF(ISNA(MATCH(I36,$AR$30:$AS$30,0)),0,1),IF(ISNUMBER(I36),1,0),IF(I36=TRUNC(I36),1,0),IF(AND(I36*1=I36,I36>=0),1,0),IF(AND(I36=TRUNC(I36),I36>=0),1,0),IF(AND(I36*1=I36,I36>0),1,0),IF(AND(I36=TRUNC(I36),I36>0),1,0),1,IF(ISNA(HLOOKUP(I36,$AU$4:$BD$4,1,0)),0,1)),0))) -> 1 | AW36: =IF(OR(J$30="",J$4=99),1,IF(J36="",0,IFERROR(CHOOSE(AW$28,IF(ISNA(MATCH(J36,$AR$30:$AS$30,0)),0,1),IF(ISNUMBER(J36),1,0),IF(J36=TRUNC(J36),1,0),IF(AND(J36*1=J36,J36>=0),1,0),IF(AND(J36=TRUNC(J36),J36>=0),1,0),IF(AND(J36*1=J36,J36>0),1,0),IF(AND(J36=TRUNC(J36),J36>0),1,0),1,IF(ISNA(HLOOKUP(J36,$AU$4:$BD$4,1,0)),0,1)),0))) -> 1 | AX36: =IF(OR(K$30="",K$4=99),1,IF(K36="",0,IFERROR(CHOOSE(AX$28,IF(ISNA(MATCH(K36,$AR$30:$AS$30,0)),0,1),IF(ISNUMBER(K36),1,0),IF(K36=TRUNC(K36),1,0),IF(AND(K36*1=K36,K36>=0),1,0),IF(AND(K36=TRUNC(K36),K36>=0),1,0),IF(AND(K36*1=K36,K36>0),1,0),IF(AND(K36=TRUNC(K36),K36>0),1,0),1,IF(ISNA(HLOOKUP(K36,$AU$4:$BD$4,1,0)),0,1)),0))) -> 1 | AY36: =IF(OR(L$30="",L$4=99),1,IF(L36="",0,IFERROR(CHOOSE(AY$28,IF(ISNA(MATCH(L36,$AR$30:$AS$30,0)),0,1),IF(ISNUMBER(L36),1,0),IF(L36=TRUNC(L36),1,0),IF(AND(L36*1=L36,L36>=0),1,0),IF(AND(L36=TRUNC(L36),L36>=0),1,0),IF(AND(L36*1=L36,L36>0),1,0),IF(AND(L36=TRUNC(L36),L36>0),1,0),1,IF(ISNA(HLOOKUP(L36,$AU$4:$BD$4,1,0)),0,1)),0))) -> 1 | AZ36: =IF(OR(M$30="",M$4=99),1,IF(M36="",0,IFERROR(CHOOSE(AZ$28,IF(ISNA(MATCH(M36,$AR$30:$AS$30,0)),0,1),IF(ISNUMBER(M36),1,0),IF(M36=TRUNC(M36),1,0),IF(AND(M36*1=M36,M36>=0),1,0),IF(AND(M36=TRUNC(M36),M36>=0),1,0),IF(AND(M36*1=M36,M36>0),1,0),IF(AND(M36=TRUNC(M36),M36>0),1,0),1,IF(ISNA(HLOOKUP(M36,$AU$4:$BD$4,1,0)),0,1)),0))) -> 1 | BA36: =IF(OR(N$30="",N$4=99),1,IF(N36="",0,IFERROR(CHOOSE(BA$28,IF(ISNA(MATCH(N36,$AR$30:$AS$30,0)),0,1),IF(ISNUMBER(N36),1,0),IF(N36=TRUNC(N36),1,0),IF(AND(N36*1=N36,N36>=0),1,0),IF(AND(N36=TRUNC(N36),N36>=0),1,0),IF(AND(N36*1=N36,N36>0),1,0),IF(AND(N36=TRUNC(N36),N36>0),1,0),1,IF(ISNA(HLOOKUP(N36,$AU$4:$BD$4,1,0)),0,1)),0))) -> 1 | ... CB36: =IF(OR(AO$30="",AO$4=99),1,IF(AO36="",0,IFERROR(CHOOSE(CB$28,IF(ISNA(MATCH(AO36,$AR$30:$AS$30,0)),0,1),IF(ISNUMBER(AO36),1,0),IF(AO36=TRUNC(AO36),1,0),IF(AND(AO36*1=AO36,AO36>=0),1,0),IF(AND(AO36=TRUNC(AO36),AO36>=0),1,0),IF(AND(AO36*1=AO36,AO36>0),1,0),IF(AND(AO36=TRUNC(AO36),AO36>0),1,0),1,IF(ISNA(HLOOKUP(AO36,$AU$4:$BD$4,1,0)),0,1)),0))) -> 1 | CS36: =Z36>=CS$7 -> TRUE | CT36: =AA36>=CT$7 -> TRUE | CU36: =AB36>=CU$7 -> TRUE | CV36: =AC36>=CV$7 -> TRUE | CW36: =AD36>=CW$7 -> TRUE | CX36: =IF($F36="","",IF(SUMPRODUCT(--(CS36:CW36=TRUE))=COUNTA(CS36:CW36),1,0)) -> 1
B37: =IF(F37="","",ROW()-30) -> 7 | F37: מארש דונדורמה | G37: 1 | H37: 1 | I37: 1 | J37: 1 | K37: 1 | L37: 1 | M37: 1 | N37: 1 | O37: 17 | P37: 16 | Q37: =IF($F37="","",IF(O37<P37,$AR$1,IF(AND(P37>O37*0.5,P37>=$P$5),1,0))) -> 1 | R37: 1 | S37: 1 | T37: 1 | U37: 1 | Z37: 29 | AA37: 395082 | AB37: =IF(F37="","",IF(Z37>=$Z$5*0.8,1,0)) -> 1 | AC37: =IF(F37="","",IF(AA37>=$AA$5*0.8,1,0)) -> 1 | AD37: =IF(G37="","",IF(AND(Z37>='פרמטרים לקריטריונים'!$D$19,AA37>='פרמטרים לקריטריונים'!$C$19),1,0)) -> 1 | AE37: {=IF($F37="","",IF(OR(SUMPRODUCT(--(Z37:AA37>=$Z$5:$AA$5))=COUNTA($Z$29:$AA$29),OR(AND(X37=1,OR(AB37=1,AC37=1)),AND(Y37=1,AD37=1))),1,0))} -> 1 | AG37: 1 | AH37: 1 | AI37: 1 | AJ37: =IF(F37="","",IF(G37>=$G$5,1,0)) -> 1 | AO37: =IF($F37="","",IF(AK37=1,1,IF(AQ37<>1,$AR$1,IF(SUMPRODUCT(--(G37:AJ37>=$G$5:$AJ$5)*($G$5:$AJ$5<>"")*($G$4:$AJ$4=1))=COUNTIF($G$4:$AJ$4,1),1,0)))) -> 1 | AP37: עומד בתנאי סף האמנותי ובתנאי הסף הכמותיים כקבוצה מוסיקלית. | AQ37: =IF(OR(SUM(AT37:CB37)<>COUNT(AT37:CB37),SUMPRODUCT(--(G37:AJ37=$AR$1))<>0),0,1) -> 1 | AR37: =IF($F37="","",AR$30) -> 0 | AS37: =IF($F37="","",AS$30) -> 1 | AT37: =IF(OR(G$30="",G$4=99),1,IF(G37="",0,IFERROR(CHOOSE(AT$28,IF(ISNA(MATCH(G37,$AR$30:$AS$30,0)),0,1),IF(ISNUMBER(G37),1,0),IF(G37=TRUNC(G37),1,0),IF(AND(G37*1=G37,G37>=0),1,0),IF(AND(G37=TRUNC(G37),G37>=0),1,0),IF(AND(G37*1=G37,G37>0),1,0),IF(AND(G37=TRUNC(G37),G37>0),1,0),1,IF(ISNA(HLOOKUP(G37,$AU$4:$BD$4,1,0)),0,1)),0))) -> 1 | AU37: =IF(OR(H$30="",H$4=99),1,IF(H37="",0,IFERROR(CHOOSE(AU$28,IF(ISNA(MATCH(H37,$AR$30:$AS$30,0)),0,1),IF(ISNUMBER(H37),1,0),IF(H37=TRUNC(H37),1,0),IF(AND(H37*1=H37,H37>=0),1,0),IF(AND(H37=TRUNC(H37),H37>=0),1,0),IF(AND(H37*1=H37,H37>0),1,0),IF(AND(H37=TRUNC(H37),H37>0),1,0),1,IF(ISNA(HLOOKUP(H37,$AU$4:$BD$4,1,0)),0,1)),0))) -> 1 | AV37: =IF(OR(I$30="",I$4=99),1,IF(I37="",0,IFERROR(CHOOSE(AV$28,IF(ISNA(MATCH(I37,$AR$30:$AS$30,0)),0,1),IF(ISNUMBER(I37),1,0),IF(I37=TRUNC(I37),1,0),IF(AND(I37*1=I37,I37>=0),1,0),IF(AND(I37=TRUNC(I37),I37>=0),1,0),IF(AND(I37*1=I37,I37>0),1,0),IF(AND(I37=TRUNC(I37),I37>0),1,0),1,IF(ISNA(HLOOKUP(I37,$AU$4:$BD$4,1,0)),0,1)),0))) -> 1 | AW37: =IF(OR(J$30="",J$4=99),1,IF(J37="",0,IFERROR(CHOOSE(AW$28,IF(ISNA(MATCH(J37,$AR$30:$AS$30,0)),0,1),IF(ISNUMBER(J37),1,0),IF(J37=TRUNC(J37),1,0),IF(AND(J37*1=J37,J37>=0),1,0),IF(AND(J37=TRUNC(J37),J37>=0),1,0),IF(AND(J37*1=J37,J37>0),1,0),IF(AND(J37=TRUNC(J37),J37>0),1,0),1,IF(ISNA(HLOOKUP(J37,$AU$4:$BD$4,1,0)),0,1)),0))) -> 1 | AX37: =IF(OR(K$30="",K$4=99),1,IF(K37="",0,IFERROR(CHOOSE(AX$28,IF(ISNA(MATCH(K37,$AR$30:$AS$30,0)),0,1),IF(ISNUMBER(K37),1,0),IF(K37=TRUNC(K37),1,0),IF(AND(K37*1=K37,K37>=0),1,0),IF(AND(K37=TRUNC(K37),K37>=0),1,0),IF(AND(K37*1=K37,K37>0),1,0),IF(AND(K37=TRUNC(K37),K37>0),1,0),1,IF(ISNA(HLOOKUP(K37,$AU$4:$BD$4,1,0)),0,1)),0))) -> 1 | AY37: =IF(OR(L$30="",L$4=99),1,IF(L37="",0,IFERROR(CHOOSE(AY$28,IF(ISNA(MATCH(L37,$AR$30:$AS$30,0)),0,1),IF(ISNUMBER(L37),1,0),IF(L37=TRUNC(L37),1,0),IF(AND(L37*1=L37,L37>=0),1,0),IF(AND(L37=TRUNC(L37),L37>=0),1,0),IF(AND(L37*1=L37,L37>0),1,0),IF(AND(L37=TRUNC(L37),L37>0),1,0),1,IF(ISNA(HLOOKUP(L37,$AU$4:$BD$4,1,0)),0,1)),0))) -> 1 | AZ37: =IF(OR(M$30="",M$4=99),1,IF(M37="",0,IFERROR(CHOOSE(AZ$28,IF(ISNA(MATCH(M37,$AR$30:$AS$30,0)),0,1),IF(ISNUMBER(M37),1,0),IF(M37=TRUNC(M37),1,0),IF(AND(M37*1=M37,M37>=0),1,0),IF(AND(M37=TRUNC(M37),M37>=0),1,0),IF(AND(M37*1=M37,M37>0),1,0),IF(AND(M37=TRUNC(M37),M37>0),1,0),1,IF(ISNA(HLOOKUP(M37,$AU$4:$BD$4,1,0)),0,1)),0))) -> 1 | BA37: =IF(OR(N$30="",N$4=99),1,IF(N37="",0,IFERROR(CHOOSE(BA$28,IF(ISNA(MATCH(N37,$AR$30:$AS$30,0)),0,1),IF(ISNUMBER(N37),1,0),IF(N37=TRUNC(N37),1,0),IF(AND(N37*1=N37,N37>=0),1,0),IF(AND(N37=TRUNC(N37),N37>=0),1,0),IF(AND(N37*1=N37,N37>0),1,0),IF(AND(N37=TRUNC(N37),N37>0),1,0),1,IF(ISNA(HLOOKUP(N37,$AU$4:$BD$4,1,0)),0,1)),0))) -> 1 | ... CB37: =IF(OR(AO$30="",AO$4=99),1,IF(AO37="",0,IFERROR(CHOOSE(CB$28,IF(ISNA(MATCH(AO37,$AR$30:$AS$30,0)),0,1),IF(ISNUMBER(AO37),1,0),IF(AO37=TRUNC(AO37),1,0),IF(AND(AO37*1=AO37,AO37>=0),1,0),IF(AND(AO37=TRUNC(AO37),AO37>=0),1,0),IF(AND(AO37*1=AO37,AO37>0),1,0),IF(AND(AO37=TRUNC(AO37),AO37>0),1,0),1,IF(ISNA(HLOOKUP(AO37,$AU$4:$BD$4,1,0)),0,1)),0))) -> 1 | CS37: =Z37>=CS$7 -> TRUE | CT37: =AA37>=CT$7 -> TRUE | CU37: =AB37>=CU$7 -> TRUE | CV37: =AC37>=CV$7 -> TRUE | CW37: =AD37>=CW$7 -> TRUE | CX37: =IF($F37="","",IF(SUMPRODUCT(--(CS37:CW37=TRUE))=COUNTA(CS37:CW37),1,0)) -> 1
B38: =IF(F38="","",ROW()-30) -> 8 | F38: להקת מורין נהדר | G38: 1 | H38: 1 | I38: 1 | J38: 1 | K38: 1 | L38: 1 | M38: 1 | N38: 1 | O38: 11 | P38: 11 | Q38: =IF($F38="","",IF(O38<P38,$AR$1,IF(AND(P38>O38*0.5,P38>=$P$5),1,0))) -> 1 | R38: 1 | S38: 1 | T38: 1 | U38: 1 | X38: 1 | Z38: 13 | AA38: 44838 | AB38: =IF(F38="","",IF(Z38>=$Z$5*0.8,1,0)) -> 1 | AC38: =IF(F38="","",IF(AA38>=$AA$5*0.8,1,0)) -> 1 | AD38: =IF(G38="","",IF(AND(Z38>='פרמטרים לקריטריונים'!$D$19,AA38>='פרמטרים לקריטריונים'!$C$19),1,0)) -> 1 | AE38: {=IF($F38="","",IF(OR(SUMPRODUCT(--(Z38:AA38>=$Z$5:$AA$5))=COUNTA($Z$29:$AA$29),OR(AND(X38=1,OR(AB38=1,AC38=1)),AND(Y38=1,AD38=1))),1,0))} -> 1 | AG38: 1 | AH38: 1 | AI38: 1 | AJ38: =IF(F38="","",IF(G38>=$G$5,1,0)) -> 1 | AO38: =IF($F38="","",IF(AK38=1,1,IF(AQ38<>1,$AR$1,IF(SUMPRODUCT(--(G38:AJ38>=$G$5:$AJ$5)*($G$5:$AJ$5<>"")*($G$4:$AJ$4=1))=COUNTIF($G$4:$AJ$4,1),1,0)))) -> 1 | AP38: עומד בתנאי סף האמנותי. לא עומד בהיקף מינמלי של תקציב 44,838 ₪ במקום 54,389 ₪. המדור המליץ על מתן הקלה לפי סעיף 9.(ב) הואיל ומדובר בהרכב ייחודי והתקציב של ההרכב עומד בשיעור ההקלה של 80%. | AQ38: =IF(OR(SUM(AT38:CB38)<>COUNT(AT38:CB38),SUMPRODUCT(--(G38:AJ38=$AR$1))<>0),0,1) -> 1 | AR38: =IF($F38="","",AR$30) -> 0 | AS38: =IF($F38="","",AS$30) -> 1 | AT38: =IF(OR(G$30="",G$4=99),1,IF(G38="",0,IFERROR(CHOOSE(AT$28,IF(ISNA(MATCH(G38,$AR$30:$AS$30,0)),0,1),IF(ISNUMBER(G38),1,0),IF(G38=TRUNC(G38),1,0),IF(AND(G38*1=G38,G38>=0),1,0),IF(AND(G38=TRUNC(G38),G38>=0),1,0),IF(AND(G38*1=G38,G38>0),1,0),IF(AND(G38=TRUNC(G38),G38>0),1,0),1,IF(ISNA(HLOOKUP(G38,$AU$4:$BD$4,1,0)),0,1)),0))) -> 1 | AU38: =IF(OR(H$30="",H$4=99),1,IF(H38="",0,IFERROR(CHOOSE(AU$28,IF(ISNA(MATCH(H38,$AR$30:$AS$30,0)),0,1),IF(ISNUMBER(H38),1,0),IF(H38=TRUNC(H38),1,0),IF(AND(H38*1=H38,H38>=0),1,0),IF(AND(H38=TRUNC(H38),H38>=0),1,0),IF(AND(H38*1=H38,H38>0),1,0),IF(AND(H38=TRUNC(H38),H38>0),1,0),1,IF(ISNA(HLOOKUP(H38,$AU$4:$BD$4,1,0)),0,1)),0))) -> 1 | AV38: =IF(OR(I$30="",I$4=99),1,IF(I38="",0,IFERROR(CHOOSE(AV$28,IF(ISNA(MATCH(I38,$AR$30:$AS$30,0)),0,1),IF(ISNUMBER(I38),1,0),IF(I38=TRUNC(I38),1,0),IF(AND(I38*1=I38,I38>=0),1,0),IF(AND(I38=TRUNC(I38),I38>=0),1,0),IF(AND(I38*1=I38,I38>0),1,0),IF(AND(I38=TRUNC(I38),I38>0),1,0),1,IF(ISNA(HLOOKUP(I38,$AU$4:$BD$4,1,0)),0,1)),0))) -> 1 | AW38: =IF(OR(J$30="",J$4=99),1,IF(J38="",0,IFERROR(CHOOSE(AW$28,IF(ISNA(MATCH(J38,$AR$30:$AS$30,0)),0,1),IF(ISNUMBER(J38),1,0),IF(J38=TRUNC(J38),1,0),IF(AND(J38*1=J38,J38>=0),1,0),IF(AND(J38=TRUNC(J38),J38>=0),1,0),IF(AND(J38*1=J38,J38>0),1,0),IF(AND(J38=TRUNC(J38),J38>0),1,0),1,IF(ISNA(HLOOKUP(J38,$AU$4:$BD$4,1,0)),0,1)),0))) -> 1 | AX38: =IF(OR(K$30="",K$4=99),1,IF(K38="",0,IFERROR(CHOOSE(AX$28,IF(ISNA(MATCH(K38,$AR$30:$AS$30,0)),0,1),IF(ISNUMBER(K38),1,0),IF(K38=TRUNC(K38),1,0),IF(AND(K38*1=K38,K38>=0),1,0),IF(AND(K38=TRUNC(K38),K38>=0),1,0),IF(AND(K38*1=K38,K38>0),1,0),IF(AND(K38=TRUNC(K38),K38>0),1,0),1,IF(ISNA(HLOOKUP(K38,$AU$4:$BD$4,1,0)),0,1)),0))) -> 1 | AY38: =IF(OR(L$30="",L$4=99),1,IF(L38="",0,IFERROR(CHOOSE(AY$28,IF(ISNA(MATCH(L38,$AR$30:$AS$30,0)),0,1),IF(ISNUMBER(L38),1,0),IF(L38=TRUNC(L38),1,0),IF(AND(L38*1=L38,L38>=0),1,0),IF(AND(L38=TRUNC(L38),L38>=0),1,0),IF(AND(L38*1=L38,L38>0),1,0),IF(AND(L38=TRUNC(L38),L38>0),1,0),1,IF(ISNA(HLOOKUP(L38,$AU$4:$BD$4,1,0)),0,1)),0))) -> 1 | AZ38: =IF(OR(M$30="",M$4=99),1,IF(M38="",0,IFERROR(CHOOSE(AZ$28,IF(ISNA(MATCH(M38,$AR$30:$AS$30,0)),0,1),IF(ISNUMBER(M38),1,0),IF(M38=TRUNC(M38),1,0),IF(AND(M38*1=M38,M38>=0),1,0),IF(AND(M38=TRUNC(M38),M38>=0),1,0),IF(AND(M38*1=M38,M38>0),1,0),IF(AND(M38=TRUNC(M38),M38>0),1,0),1,IF(ISNA(HLOOKUP(M38,$AU$4:$BD$4,1,0)),0,1)),0))) -> 1 | BA38: =IF(OR(N$30="",N$4=99),1,IF(N38="",0,IFERROR(CHOOSE(BA$28,IF(ISNA(MATCH(N38,$AR$30:$AS$30,0)),0,1),IF(ISNUMBER(N38),1,0),IF(N38=TRUNC(N38),1,0),IF(AND(N38*1=N38,N38>=0),1,0),IF(AND(N38=TRUNC(N38),N38>=0),1,0),IF(AND(N38*1=N38,N38>0),1,0),IF(AND(N38=TRUNC(N38),N38>0),1,0),1,IF(ISNA(HLOOKUP(N38,$AU$4:$BD$4,1,0)),0,1)),0))) -> 1 | ... CB38: =IF(OR(AO$30="",AO$4=99),1,IF(AO38="",0,IFERROR(CHOOSE(CB$28,IF(ISNA(MATCH(AO38,$AR$30:$AS$30,0)),0,1),IF(ISNUMBER(AO38),1,0),IF(AO38=TRUNC(AO38),1,0),IF(AND(AO38*1=AO38,AO38>=0),1,0),IF(AND(AO38=TRUNC(AO38),AO38>=0),1,0),IF(AND(AO38*1=AO38,AO38>0),1,0),IF(AND(AO38=TRUNC(AO38),AO38>0),1,0),1,IF(ISNA(HLOOKUP(AO38,$AU$4:$BD$4,1,0)),0,1)),0))) -> 1 | CS38: =Z38>=CS$7 -> TRUE | CT38: =AA38>=CT$7 -> TRUE | CU38: =AB38>=CU$7 -> TRUE | CV38: =AC38>=CV$7 -> TRUE | CW38: =AD38>=CW$7 -> TRUE | CX38: =IF($F38="","",IF(SUMPRODUCT(--(CS38:CW38=TRUE))=COUNTA(CS38:CW38),1,0)) -> 1
B39: =IF(F39="","",ROW()-30) | Q39: =IF($F39="","",IF(O39<P39,$AR$1,IF(AND(P39>O39*0.5,P39>=$P$5),1,0))) | AB39: =IF(F39="","",IF(Z39>=$Z$5*0.8,1,0)) | AC39: =IF(F39="","",IF(AA39>=$AA$5*0.8,1,0)) | AD39: =IF(G39="","",IF(AND(Z39>='פרמטרים לקריטריונים'!$D$19,AA39>='פרמטרים לקריטריונים'!$C$19),1,0)) | AE39: {=IF($F39="","",IF(OR(SUMPRODUCT(--(Z39:AA39>=$Z$5:$AA$5))=COUNTA($Z$29:$AA$29),OR(AND(X39=1,OR(AB39=1,AC39=1)),AND(Y39=1,AD39=1))),1,0))} | AJ39: =IF(F39="","",IF(G39>=$G$5,1,0)) | AO39: =IF($F39="","",IF(AK39=1,1,IF(AQ39<>1,$AR$1,IF(SUMPRODUCT(--(G39:AJ39>=$G$5:$AJ$5)*($G$5:$AJ$5<>"")*($G$4:$AJ$4=1))=COUNTIF($G$4:$AJ$4,1),1,0)))) | AQ39: =IF(OR(SUM(AT39:CB39)<>COUNT(AT39:CB39),SUMPRODUCT(--(G39:AJ39=$AR$1))<>0),0,1) -> 0 | AR39: =IF($F39="","",AR$30) | AS39: =IF($F39="","",AS$30) | AT39: =IF(OR(G$30="",G$4=99),1,IF(G39="",0,IFERROR(CHOOSE(AT$28,IF(ISNA(MATCH(G39,$AR$30:$AS$30,0)),0,1),IF(ISNUMBER(G39),1,0),IF(G39=TRUNC(G39),1,0),IF(AND(G39*1=G39,G39>=0),1,0),IF(AND(G39=TRUNC(G39),G39>=0),1,0),IF(AND(G39*1=G39,G39>0),1,0),IF(AND(G39=TRUNC(G39),G39>0),1,0),1,IF(ISNA(HLOOKUP(G39,$AU$4:$BD$4,1,0)),0,1)),0))) -> 0 | AU39: =IF(OR(H$30="",H$4=99),1,IF(H39="",0,IFERROR(CHOOSE(AU$28,IF(ISNA(MATCH(H39,$AR$30:$AS$30,0)),0,1),IF(ISNUMBER(H39),1,0),IF(H39=TRUNC(H39),1,0),IF(AND(H39*1=H39,H39>=0),1,0),IF(AND(H39=TRUNC(H39),H39>=0),1,0),IF(AND(H39*1=H39,H39>0),1,0),IF(AND(H39=TRUNC(H39),H39>0),1,0),1,IF(ISNA(HLOOKUP(H39,$AU$4:$BD$4,1,0)),0,1)),0))) -> 0 | AV39: =IF(OR(I$30="",I$4=99),1,IF(I39="",0,IFERROR(CHOOSE(AV$28,IF(ISNA(MATCH(I39,$AR$30:$AS$30,0)),0,1),IF(ISNUMBER(I39),1,0),IF(I39=TRUNC(I39),1,0),IF(AND(I39*1=I39,I39>=0),1,0),IF(AND(I39=TRUNC(I39),I39>=0),1,0),IF(AND(I39*1=I39,I39>0),1,0),IF(AND(I39=TRUNC(I39),I39>0),1,0),1,IF(ISNA(HLOOKUP(I39,$AU$4:$BD$4,1,0)),0,1)),0))) -> 0 | AW39: =IF(OR(J$30="",J$4=99),1,IF(J39="",0,IFERROR(CHOOSE(AW$28,IF(ISNA(MATCH(J39,$AR$30:$AS$30,0)),0,1),IF(ISNUMBER(J39),1,0),IF(J39=TRUNC(J39),1,0),IF(AND(J39*1=J39,J39>=0),1,0),IF(AND(J39=TRUNC(J39),J39>=0),1,0),IF(AND(J39*1=J39,J39>0),1,0),IF(AND(J39=TRUNC(J39),J39>0),1,0),1,IF(ISNA(HLOOKUP(J39,$AU$4:$BD$4,1,0)),0,1)),0))) -> 0 | AX39: =IF(OR(K$30="",K$4=99),1,IF(K39="",0,IFERROR(CHOOSE(AX$28,IF(ISNA(MATCH(K39,$AR$30:$AS$30,0)),0,1),IF(ISNUMBER(K39),1,0),IF(K39=TRUNC(K39),1,0),IF(AND(K39*1=K39,K39>=0),1,0),IF(AND(K39=TRUNC(K39),K39>=0),1,0),IF(AND(K39*1=K39,K39>0),1,0),IF(AND(K39=TRUNC(K39),K39>0),1,0),1,IF(ISNA(HLOOKUP(K39,$AU$4:$BD$4,1,0)),0,1)),0))) -> 0 | AY39: =IF(OR(L$30="",L$4=99),1,IF(L39="",0,IFERROR(CHOOSE(AY$28,IF(ISNA(MATCH(L39,$AR$30:$AS$30,0)),0,1),IF(ISNUMBER(L39),1,0),IF(L39=TRUNC(L39),1,0),IF(AND(L39*1=L39,L39>=0),1,0),IF(AND(L39=TRUNC(L39),L39>=0),1,0),IF(AND(L39*1=L39,L39>0),1,0),IF(AND(L39=TRUNC(L39),L39>0),1,0),1,IF(ISNA(HLOOKUP(L39,$AU$4:$BD$4,1,0)),0,1)),0))) -> 0 | AZ39: =IF(OR(M$30="",M$4=99),1,IF(M39="",0,IFERROR(CHOOSE(AZ$28,IF(ISNA(MATCH(M39,$AR$30:$AS$30,0)),0,1),IF(ISNUMBER(M39),1,0),IF(M39=TRUNC(M39),1,0),IF(AND(M39*1=M39,M39>=0),1,0),IF(AND(M39=TRUNC(M39),M39>=0),1,0),IF(AND(M39*1=M39,M39>0),1,0),IF(AND(M39=TRUNC(M39),M39>0),1,0),1,IF(ISNA(HLOOKUP(M39,$AU$4:$BD$4,1,0)),0,1)),0))) -> 0 | BA39: =IF(OR(N$30="",N$4=99),1,IF(N39="",0,IFERROR(CHOOSE(BA$28,IF(ISNA(MATCH(N39,$AR$30:$AS$30,0)),0,1),IF(ISNUMBER(N39),1,0),IF(N39=TRUNC(N39),1,0),IF(AND(N39*1=N39,N39>=0),1,0),IF(AND(N39=TRUNC(N39),N39>=0),1,0),IF(AND(N39*1=N39,N39>0),1,0),IF(AND(N39=TRUNC(N39),N39>0),1,0),1,IF(ISNA(HLOOKUP(N39,$AU$4:$BD$4,1,0)),0,1)),0))) -> 0 | ... CB39: =IF(OR(AO$30="",AO$4=99),1,IF(AO39="",0,IFERROR(CHOOSE(CB$28,IF(ISNA(MATCH(AO39,$AR$30:$AS$30,0)),0,1),IF(ISNUMBER(AO39),1,0),IF(AO39=TRUNC(AO39),1,0),IF(AND(AO39*1=AO39,AO39>=0),1,0),IF(AND(AO39=TRUNC(AO39),AO39>=0),1,0),IF(AND(AO39*1=AO39,AO39>0),1,0),IF(AND(AO39=TRUNC(AO39),AO39>0),1,0),1,IF(ISNA(HLOOKUP(AO39,$AU$4:$BD$4,1,0)),0,1)),0))) -> 1 | CS39: =Z39>=CS$7 -> FALSE | CT39: =AA39>=CT$7 -> FALSE | CU39: =AB39>=CU$7 -> TRUE | CV39: =AC39>=CV$7 -> TRUE | CW39: =AD39>=CW$7 -> TRUE | CX39: =IF($F39="","",IF(SUMPRODUCT(--(CS39:CW39=TRUE))=COUNTA(CS39:CW39),1,0))
B40: =IF(F40="","",ROW()-30) -> 10 | F40: אנסמבל גלעד אפרת | G40: 1 | H40: 1 | I40: 1 | J40: 1 | K40: 1 | L40: 1 | M40: 1 | N40: 1 | O40: 23 | P40: 19 | Q40: =IF($F40="","",IF(O40<P40,$AR$1,IF(AND(P40>O40*0.5,P40>=$P$5),1,0))) -> 1 | R40: 1 | S40: 1 | T40: 1 | U40: 1 | X40: 1 | Z40: 7 | AA40: 147011 | AB40: =IF(F40="","",IF(Z40>=$Z$5*0.8,1,0)) -> 1 | AC40: =IF(F40="","",IF(AA40>=$AA$5*0.8,1,0)) -> 1 | AD40: =IF(G40="","",IF(AND(Z40>='פרמטרים לקריטריונים'!$D$19,AA40>='פרמטרים לקריטריונים'!$C$19),1,0)) -> 1 | AE40: {=IF($F40="","",IF(OR(SUMPRODUCT(--(Z40:AA40>=$Z$5:$AA$5))=COUNTA($Z$29:$AA$29),OR(AND(X40=1,OR(AB40=1,AC40=1)),AND(Y40=1,AD40=1))),1,0))} -> 1 | AG40: 1 | AH40: 1 | AI40: 1 | AJ40: =IF(F40="","",IF(G40>=$G$5,1,0)) -> 1 | AO40: =IF($F40="","",IF(AK40=1,1,IF(AQ40<>1,$AR$1,IF(SUMPRODUCT(--(G40:AJ40>=$G$5:$AJ$5)*($G$5:$AJ$5<>"")*($G$4:$AJ$4=1))=COUNTIF($G$4:$AJ$4,1),1,0)))) -> 1 | AP40: עומד בתנאי סף האמנותי .לא עומד במספר ההרצות: 7 במקום 8. המדור המליץ על מתן הקלה לפי סעיף 9.(ב) הואיל ועומד בכל תנאי הסף האחרים. | AQ40: =IF(OR(SUM(AT40:CB40)<>COUNT(AT40:CB40),SUMPRODUCT(--(G40:AJ40=$AR$1))<>0),0,1) -> 1 | AR40: =IF($F40="","",AR$30) -> 0 | AS40: =IF($F40="","",AS$30) -> 1 | AT40: =IF(OR(G$30="",G$4=99),1,IF(G40="",0,IFERROR(CHOOSE(AT$28,IF(ISNA(MATCH(G40,$AR$30:$AS$30,0)),0,1),IF(ISNUMBER(G40),1,0),IF(G40=TRUNC(G40),1,0),IF(AND(G40*1=G40,G40>=0),1,0),IF(AND(G40=TRUNC(G40),G40>=0),1,0),IF(AND(G40*1=G40,G40>0),1,0),IF(AND(G40=TRUNC(G40),G40>0),1,0),1,IF(ISNA(HLOOKUP(G40,$AU$4:$BD$4,1,0)),0,1)),0))) -> 1 | AU40: =IF(OR(H$30="",H$4=99),1,IF(H40="",0,IFERROR(CHOOSE(AU$28,IF(ISNA(MATCH(H40,$AR$30:$AS$30,0)),0,1),IF(ISNUMBER(H40),1,0),IF(H40=TRUNC(H40),1,0),IF(AND(H40*1=H40,H40>=0),1,0),IF(AND(H40=TRUNC(H40),H40>=0),1,0),IF(AND(H40*1=H40,H40>0),1,0),IF(AND(H40=TRUNC(H40),H40>0),1,0),1,IF(ISNA(HLOOKUP(H40,$AU$4:$BD$4,1,0)),0,1)),0))) -> 1 | AV40: =IF(OR(I$30="",I$4=99),1,IF(I40="",0,IFERROR(CHOOSE(AV$28,IF(ISNA(MATCH(I40,$AR$30:$AS$30,0)),0,1),IF(ISNUMBER(I40),1,0),IF(I40=TRUNC(I40),1,0),IF(AND(I40*1=I40,I40>=0),1,0),IF(AND(I40=TRUNC(I40),I40>=0),1,0),IF(AND(I40*1=I40,I40>0),1,0),IF(AND(I40=TRUNC(I40),I40>0),1,0),1,IF(ISNA(HLOOKUP(I40,$AU$4:$BD$4,1,0)),0,1)),0))) -> 1 | AW40: =IF(OR(J$30="",J$4=99),1,IF(J40="",0,IFERROR(CHOOSE(AW$28,IF(ISNA(MATCH(J40,$AR$30:$AS$30,0)),0,1),IF(ISNUMBER(J40),1,0),IF(J40=TRUNC(J40),1,0),IF(AND(J40*1=J40,J40>=0),1,0),IF(AND(J40=TRUNC(J40),J40>=0),1,0),IF(AND(J40*1=J40,J40>0),1,0),IF(AND(J40=TRUNC(J40),J40>0),1,0),1,IF(ISNA(HLOOKUP(J40,$AU$4:$BD$4,1,0)),0,1)),0))) -> 1 | AX40: =IF(OR(K$30="",K$4=99),1,IF(K40="",0,IFERROR(CHOOSE(AX$28,IF(ISNA(MATCH(K40,$AR$30:$AS$30,0)),0,1),IF(ISNUMBER(K40),1,0),IF(K40=TRUNC(K40),1,0),IF(AND(K40*1=K40,K40>=0),1,0),IF(AND(K40=TRUNC(K40),K40>=0),1,0),IF(AND(K40*1=K40,K40>0),1,0),IF(AND(K40=TRUNC(K40),K40>0),1,0),1,IF(ISNA(HLOOKUP(K40,$AU$4:$BD$4,1,0)),0,1)),0))) -> 1 | AY40: =IF(OR(L$30="",L$4=99),1,IF(L40="",0,IFERROR(CHOOSE(AY$28,IF(ISNA(MATCH(L40,$AR$30:$AS$30,0)),0,1),IF(ISNUMBER(L40),1,0),IF(L40=TRUNC(L40),1,0),IF(AND(L40*1=L40,L40>=0),1,0),IF(AND(L40=TRUNC(L40),L40>=0),1,0),IF(AND(L40*1=L40,L40>0),1,0),IF(AND(L40=TRUNC(L40),L40>0),1,0),1,IF(ISNA(HLOOKUP(L40,$AU$4:$BD$4,1,0)),0,1)),0))) -> 1 | AZ40: =IF(OR(M$30="",M$4=99),1,IF(M40="",0,IFERROR(CHOOSE(AZ$28,IF(ISNA(MATCH(M40,$AR$30:$AS$30,0)),0,1),IF(ISNUMBER(M40),1,0),IF(M40=TRUNC(M40),1,0),IF(AND(M40*1=M40,M40>=0),1,0),IF(AND(M40=TRUNC(M40),M40>=0),1,0),IF(AND(M40*1=M40,M40>0),1,0),IF(AND(M40=TRUNC(M40),M40>0),1,0),1,IF(ISNA(HLOOKUP(M40,$AU$4:$BD$4,1,0)),0,1)),0))) -> 1 | BA40: =IF(OR(N$30="",N$4=99),1,IF(N40="",0,IFERROR(CHOOSE(BA$28,IF(ISNA(MATCH(N40,$AR$30:$AS$30,0)),0,1),IF(ISNUMBER(N40),1,0),IF(N40=TRUNC(N40),1,0),IF(AND(N40*1=N40,N40>=0),1,0),IF(AND(N40=TRUNC(N40),N40>=0),1,0),IF(AND(N40*1=N40,N40>0),1,0),IF(AND(N40=TRUNC(N40),N40>0),1,0),1,IF(ISNA(HLOOKUP(N40,$AU$4:$BD$4,1,0)),0,1)),0))) -> 1 | ... CB40: =IF(OR(AO$30="",AO$4=99),1,IF(AO40="",0,IFERROR(CHOOSE(CB$28,IF(ISNA(MATCH(AO40,$AR$30:$AS$30,0)),0,1),IF(ISNUMBER(AO40),1,0),IF(AO40=TRUNC(AO40),1,0),IF(AND(AO40*1=AO40,AO40>=0),1,0),IF(AND(AO40=TRUNC(AO40),AO40>=0),1,0),IF(AND(AO40*1=AO40,AO40>0),1,0),IF(AND(AO40=TRUNC(AO40),AO40>0),1,0),1,IF(ISNA(HLOOKUP(AO40,$AU$4:$BD$4,1,0)),0,1)),0))) -> 1 | CS40: =Z40>=CS$7 -> TRUE | CT40: =AA40>=CT$7 -> TRUE | CU40: =AB40>=CU$7 -> TRUE | CV40: =AC40>=CV$7 -> TRUE | CW40: =AD40>=CW$7 -> TRUE | CX40: =IF($F40="","",IF(SUMPRODUCT(--(CS40:CW40=TRUE))=COUNTA(CS40:CW40),1,0)) -> 1
A41: =ROW()-30 -> 11 | B41: =IF(F41="","",ROW()-30) -> 11 | F41: רביעיית כרמל | G41: 1 | H41: 1 | I41: 1 | J41: 1 | K41: 1 | L41: 1 | M41: 1 | N41: 1 | O41: 10 | P41: 8 | Q41: =IF($F41="","",IF(O41<P41,$AR$1,IF(AND(P41>O41*0.5,P41>=$P$5),1,0))) -> 1 | R41: 1 | S41: 1 | T41: 1 | U41: 1 | Z41: 43 | AA41: 393861 | AB41: =IF(F41="","",IF(Z41>=$Z$5*0.8,1,0)) -> 1 | AC41: =IF(F41="","",IF(AA41>=$AA$5*0.8,1,0)) -> 1 | AD41: =IF(G41="","",IF(AND(Z41>='פרמטרים לקריטריונים'!$D$19,AA41>='פרמטרים לקריטריונים'!$C$19),1,0)) -> 1 | AE41: {=IF($F41="","",IF(OR(SUMPRODUCT(--(Z41:AA41>=$Z$5:$AA$5))=COUNTA($Z$29:$AA$29),OR(AND(X41=1,OR(AB41=1,AC41=1)),AND(Y41=1,AD41=1))),1,0))} -> 1 | AG41: 1 | AH41: 1 | AI41: 1 | AJ41: =IF(F41="","",IF(G41>=$G$5,1,0)) -> 1 | AO41: =IF($F41="","",IF(AK41=1,1,IF(AQ41<>1,$AR$1,IF(SUMPRODUCT(--(G41:AJ41>=$G$5:$AJ$5)*($G$5:$AJ$5<>"")*($G$4:$AJ$4=1))=COUNTIF($G$4:$AJ$4,1),1,0)))) -> 1 | AP41: עומד בתנאי סף האמנותי ובתנאי הסף הכמותיים כקבוצה מוסיקלית. | AQ41: =IF(OR(SUM(AT41:CB41)<>COUNT(AT41:CB41),SUMPRODUCT(--(G41:AJ41=$AR$1))<>0),0,1) -> 1 | AR41: =IF($F41="","",AR$30) -> 0 | AS41: =IF($F41="","",AS$30) -> 1 | AT41: =IF(OR(G$30="",G$4=99),1,IF(G41="",0,IFERROR(CHOOSE(AT$28,IF(ISNA(MATCH(G41,$AR$30:$AS$30,0)),0,1),IF(ISNUMBER(G41),1,0),IF(G41=TRUNC(G41),1,0),IF(AND(G41*1=G41,G41>=0),1,0),IF(AND(G41=TRUNC(G41),G41>=0),1,0),IF(AND(G41*1=G41,G41>0),1,0),IF(AND(G41=TRUNC(G41),G41>0),1,0),1,IF(ISNA(HLOOKUP(G41,$AU$4:$BD$4,1,0)),0,1)),0))) -> 1 | AU41: =IF(OR(H$30="",H$4=99),1,IF(H41="",0,IFERROR(CHOOSE(AU$28,IF(ISNA(MATCH(H41,$AR$30:$AS$30,0)),0,1),IF(ISNUMBER(H41),1,0),IF(H41=TRUNC(H41),1,0),IF(AND(H41*1=H41,H41>=0),1,0),IF(AND(H41=TRUNC(H41),H41>=0),1,0),IF(AND(H41*1=H41,H41>0),1,0),IF(AND(H41=TRUNC(H41),H41>0),1,0),1,IF(ISNA(HLOOKUP(H41,$AU$4:$BD$4,1,0)),0,1)),0))) -> 1 | AV41: =IF(OR(I$30="",I$4=99),1,IF(I41="",0,IFERROR(CHOOSE(AV$28,IF(ISNA(MATCH(I41,$AR$30:$AS$30,0)),0,1),IF(ISNUMBER(I41),1,0),IF(I41=TRUNC(I41),1,0),IF(AND(I41*1=I41,I41>=0),1,0),IF(AND(I41=TRUNC(I41),I41>=0),1,0),IF(AND(I41*1=I41,I41>0),1,0),IF(AND(I41=TRUNC(I41),I41>0),1,0),1,IF(ISNA(HLOOKUP(I41,$AU$4:$BD$4,1,0)),0,1)),0))) -> 1 | AW41: =IF(OR(J$30="",J$4=99),1,IF(J41="",0,IFERROR(CHOOSE(AW$28,IF(ISNA(MATCH(J41,$AR$30:$AS$30,0)),0,1),IF(ISNUMBER(J41),1,0),IF(J41=TRUNC(J41),1,0),IF(AND(J41*1=J41,J41>=0),1,0),IF(AND(J41=TRUNC(J41),J41>=0),1,0),IF(AND(J41*1=J41,J41>0),1,0),IF(AND(J41=TRUNC(J41),J41>0),1,0),1,IF(ISNA(HLOOKUP(J41,$AU$4:$BD$4,1,0)),0,1)),0))) -> 1 | AX41: =IF(OR(K$30="",K$4=99),1,IF(K41="",0,IFERROR(CHOOSE(AX$28,IF(ISNA(MATCH(K41,$AR$30:$AS$30,0)),0,1),IF(ISNUMBER(K41),1,0),IF(K41=TRUNC(K41),1,0),IF(AND(K41*1=K41,K41>=0),1,0),IF(AND(K41=TRUNC(K41),K41>=0),1,0),IF(AND(K41*1=K41,K41>0),1,0),IF(AND(K41=TRUNC(K41),K41>0),1,0),1,IF(ISNA(HLOOKUP(K41,$AU$4:$BD$4,1,0)),0,1)),0))) -> 1 | AY41: =IF(OR(L$30="",L$4=99),1,IF(L41="",0,IFERROR(CHOOSE(AY$28,IF(ISNA(MATCH(L41,$AR$30:$AS$30,0)),0,1),IF(ISNUMBER(L41),1,0),IF(L41=TRUNC(L41),1,0),IF(AND(L41*1=L41,L41>=0),1,0),IF(AND(L41=TRUNC(L41),L41>=0),1,0),IF(AND(L41*1=L41,L41>0),1,0),IF(AND(L41=TRUNC(L41),L41>0),1,0),1,IF(ISNA(HLOOKUP(L41,$AU$4:$BD$4,1,0)),0,1)),0))) -> 1 | AZ41: =IF(OR(M$30="",M$4=99),1,IF(M41="",0,IFERROR(CHOOSE(AZ$28,IF(ISNA(MATCH(M41,$AR$30:$AS$30,0)),0,1),IF(ISNUMBER(M41),1,0),IF(M41=TRUNC(M41),1,0),IF(AND(M41*1=M41,M41>=0),1,0),IF(AND(M41=TRUNC(M41),M41>=0),1,0),IF(AND(M41*1=M41,M41>0),1,0),IF(AND(M41=TRUNC(M41),M41>0),1,0),1,IF(ISNA(HLOOKUP(M41,$AU$4:$BD$4,1,0)),0,1)),0))) -> 1 | BA41: =IF(OR(N$30="",N$4=99),1,IF(N41="",0,IFERROR(CHOOSE(BA$28,IF(ISNA(MATCH(N41,$AR$30:$AS$30,0)),0,1),IF(ISNUMBER(N41),1,0),IF(N41=TRUNC(N41),1,0),IF(AND(N41*1=N41,N41>=0),1,0),IF(AND(N41=TRUNC(N41),N41>=0),1,0),IF(AND(N41*1=N41,N41>0),1,0),IF(AND(N41=TRUNC(N41),N41>0),1,0),1,IF(ISNA(HLOOKUP(N41,$AU$4:$BD$4,1,0)),0,1)),0))) -> 1 | ... CB41: =IF(OR(AO$30="",AO$4=99),1,IF(AO41="",0,IFERROR(CHOOSE(CB$28,IF(ISNA(MATCH(AO41,$AR$30:$AS$30,0)),0,1),IF(ISNUMBER(AO41),1,0),IF(AO41=TRUNC(AO41),1,0),IF(AND(AO41*1=AO41,AO41>=0),1,0),IF(AND(AO41=TRUNC(AO41),AO41>=0),1,0),IF(AND(AO41*1=AO41,AO41>0),1,0),IF(AND(AO41=TRUNC(AO41),AO41>0),1,0),1,IF(ISNA(HLOOKUP(AO41,$AU$4:$BD$4,1,0)),0,1)),0))) -> 1 | CS41: =Z41>=CS$7 -> TRUE | CT41: =AA41>=CT$7 -> TRUE | CU41: =AB41>=CU$7 -> TRUE | CV41: =AC41>=CV$7 -> TRUE | CW41: =AD41>=CW$7 -> TRUE | CX41: =IF($F41="","",IF(SUMPRODUCT(--(CS41:CW41=TRUE))=COUNTA(CS41:CW41),1,0)) -> 1
B42: =IF(F42="","",ROW()-30) -> 12 | F42: שורולה | G42: 1 | H42: 1 | I42: 1 | J42: 1 | K42: 1 | L42: 1 | M42: 1 | N42: 1 | O42: 11 | P42: 11 | Q42: =IF($F42="","",IF(O42<P42,$AR$1,IF(AND(P42>O42*0.5,P42>=$P$5),1,0))) -> 1 | R42: 1 | S42: 1 | T42: 1 | U42: 1 | Z42: 13 | AA42: 81986 | AB42: =IF(F42="","",IF(Z42>=$Z$5*0.8,1,0)) -> 1 | AC42: =IF(F42="","",IF(AA42>=$AA$5*0.8,1,0)) -> 1 | AD42: =IF(G42="","",IF(AND(Z42>='פרמטרים לקריטריונים'!$D$19,AA42>='פרמטרים לקריטריונים'!$C$19),1,0)) -> 1 | AE42: {=IF($F42="","",IF(OR(SUMPRODUCT(--(Z42:AA42>=$Z$5:$AA$5))=COUNTA($Z$29:$AA$29),OR(AND(X42=1,OR(AB42=1,AC42=1)),AND(Y42=1,AD42=1))),1,0))} -> 1 | AG42: 1 | AH42: 1 | AI42: 1 | AJ42: =IF(F42="","",IF(G42>=$G$5,1,0)) -> 1 | AO42: =IF($F42="","",IF(AK42=1,1,IF(AQ42<>1,$AR$1,IF(SUMPRODUCT(--(G42:AJ42>=$G$5:$AJ$5)*($G$5:$AJ$5<>"")*($G$4:$AJ$4=1))=COUNTIF($G$4:$AJ$4,1),1,0)))) -> 1 | AP42: עומד בתנאי סף האמנותי ובתנאי הסף הכמותיים כקבוצה מוסיקלית. | AQ42: =IF(OR(SUM(AT42:CB42)<>COUNT(AT42:CB42),SUMPRODUCT(--(G42:AJ42=$AR$1))<>0),0,1) -> 1 | AR42: =IF($F42="","",AR$30) -> 0 | AS42: =IF($F42="","",AS$30) -> 1 | AT42: =IF(OR(G$30="",G$4=99),1,IF(G42="",0,IFERROR(CHOOSE(AT$28,IF(ISNA(MATCH(G42,$AR$30:$AS$30,0)),0,1),IF(ISNUMBER(G42),1,0),IF(G42=TRUNC(G42),1,0),IF(AND(G42*1=G42,G42>=0),1,0),IF(AND(G42=TRUNC(G42),G42>=0),1,0),IF(AND(G42*1=G42,G42>0),1,0),IF(AND(G42=TRUNC(G42),G42>0),1,0),1,IF(ISNA(HLOOKUP(G42,$AU$4:$BD$4,1,0)),0,1)),0))) -> 1 | AU42: =IF(OR(H$30="",H$4=99),1,IF(H42="",0,IFERROR(CHOOSE(AU$28,IF(ISNA(MATCH(H42,$AR$30:$AS$30,0)),0,1),IF(ISNUMBER(H42),1,0),IF(H42=TRUNC(H42),1,0),IF(AND(H42*1=H42,H42>=0),1,0),IF(AND(H42=TRUNC(H42),H42>=0),1,0),IF(AND(H42*1=H42,H42>0),1,0),IF(AND(H42=TRUNC(H42),H42>0),1,0),1,IF(ISNA(HLOOKUP(H42,$AU$4:$BD$4,1,0)),0,1)),0))) -> 1 | AV42: =IF(OR(I$30="",I$4=99),1,IF(I42="",0,IFERROR(CHOOSE(AV$28,IF(ISNA(MATCH(I42,$AR$30:$AS$30,0)),0,1),IF(ISNUMBER(I42),1,0),IF(I42=TRUNC(I42),1,0),IF(AND(I42*1=I42,I42>=0),1,0),IF(AND(I42=TRUNC(I42),I42>=0),1,0),IF(AND(I42*1=I42,I42>0),1,0),IF(AND(I42=TRUNC(I42),I42>0),1,0),1,IF(ISNA(HLOOKUP(I42,$AU$4:$BD$4,1,0)),0,1)),0))) -> 1 | AW42: =IF(OR(J$30="",J$4=99),1,IF(J42="",0,IFERROR(CHOOSE(AW$28,IF(ISNA(MATCH(J42,$AR$30:$AS$30,0)),0,1),IF(ISNUMBER(J42),1,0),IF(J42=TRUNC(J42),1,0),IF(AND(J42*1=J42,J42>=0),1,0),IF(AND(J42=TRUNC(J42),J42>=0),1,0),IF(AND(J42*1=J42,J42>0),1,0),IF(AND(J42=TRUNC(J42),J42>0),1,0),1,IF(ISNA(HLOOKUP(J42,$AU$4:$BD$4,1,0)),0,1)),0))) -> 1 | AX42: =IF(OR(K$30="",K$4=99),1,IF(K42="",0,IFERROR(CHOOSE(AX$28,IF(ISNA(MATCH(K42,$AR$30:$AS$30,0)),0,1),IF(ISNUMBER(K42),1,0),IF(K42=TRUNC(K42),1,0),IF(AND(K42*1=K42,K42>=0),1,0),IF(AND(K42=TRUNC(K42),K42>=0),1,0),IF(AND(K42*1=K42,K42>0),1,0),IF(AND(K42=TRUNC(K42),K42>0),1,0),1,IF(ISNA(HLOOKUP(K42,$AU$4:$BD$4,1,0)),0,1)),0))) -> 1 | AY42: =IF(OR(L$30="",L$4=99),1,IF(L42="",0,IFERROR(CHOOSE(AY$28,IF(ISNA(MATCH(L42,$AR$30:$AS$30,0)),0,1),IF(ISNUMBER(L42),1,0),IF(L42=TRUNC(L42),1,0),IF(AND(L42*1=L42,L42>=0),1,0),IF(AND(L42=TRUNC(L42),L42>=0),1,0),IF(AND(L42*1=L42,L42>0),1,0),IF(AND(L42=TRUNC(L42),L42>0),1,0),1,IF(ISNA(HLOOKUP(L42,$AU$4:$BD$4,1,0)),0,1)),0))) -> 1 | AZ42: =IF(OR(M$30="",M$4=99),1,IF(M42="",0,IFERROR(CHOOSE(AZ$28,IF(ISNA(MATCH(M42,$AR$30:$AS$30,0)),0,1),IF(ISNUMBER(M42),1,0),IF(M42=TRUNC(M42),1,0),IF(AND(M42*1=M42,M42>=0),1,0),IF(AND(M42=TRUNC(M42),M42>=0),1,0),IF(AND(M42*1=M42,M42>0),1,0),IF(AND(M42=TRUNC(M42),M42>0),1,0),1,IF(ISNA(HLOOKUP(M42,$AU$4:$BD$4,1,0)),0,1)),0))) -> 1 | BA42: =IF(OR(N$30="",N$4=99),1,IF(N42="",0,IFERROR(CHOOSE(BA$28,IF(ISNA(MATCH(N42,$AR$30:$AS$30,0)),0,1),IF(ISNUMBER(N42),1,0),IF(N42=TRUNC(N42),1,0),IF(AND(N42*1=N42,N42>=0),1,0),IF(AND(N42=TRUNC(N42),N42>=0),1,0),IF(AND(N42*1=N42,N42>0),1,0),IF(AND(N42=TRUNC(N42),N42>0),1,0),1,IF(ISNA(HLOOKUP(N42,$AU$4:$BD$4,1,0)),0,1)),0))) -> 1 | ... CB42: =IF(OR(AO$30="",AO$4=99),1,IF(AO42="",0,IFERROR(CHOOSE(CB$28,IF(ISNA(MATCH(AO42,$AR$30:$AS$30,0)),0,1),IF(ISNUMBER(AO42),1,0),IF(AO42=TRUNC(AO42),1,0),IF(AND(AO42*1=AO42,AO42>=0),1,0),IF(AND(AO42=TRUNC(AO42),AO42>=0),1,0),IF(AND(AO42*1=AO42,AO42>0),1,0),IF(AND(AO42=TRUNC(AO42),AO42>0),1,0),1,IF(ISNA(HLOOKUP(AO42,$AU$4:$BD$4,1,0)),0,1)),0))) -> 1 | CS42: =Z42>=CS$7 -> TRUE | CT42: =AA42>=CT$7 -> TRUE | CU42: =AB42>=CU$7 -> TRUE | CV42: =AC42>=CV$7 -> TRUE | CW42: =AD42>=CW$7 -> TRUE | CX42: =IF($F42="","",IF(SUMPRODUCT(--(CS42:CW42=TRUE))=COUNTA(CS42:CW42),1,0)) -> 1
B43: =IF(F43="","",ROW()-30) | Q43: =IF($F43="","",IF(O43<P43,$AR$1,IF(AND(P43>O43*0.5,P43>=$P$5),1,0))) | AB43: =IF(F43="","",IF(Z43>=$Z$5*0.8,1,0)) | AC43: =IF(F43="","",IF(AA43>=$AA$5*0.8,1,0)) | AD43: =IF(G43="","",IF(AND(Z43>='פרמטרים לקריטריונים'!$D$19,AA43>='פרמטרים לקריטריונים'!$C$19),1,0)) | AE43: {=IF($F43="","",IF(OR(SUMPRODUCT(--(Z43:AA43>=$Z$5:$AA$5))=COUNTA($Z$29:$AA$29),OR(AND(X43=1,OR(AB43=1,AC43=1)),AND(Y43=1,AD43=1))),1,0))} | AJ43: =IF(F43="","",IF(G43>=$G$5,1,0)) | AO43: =IF($F43="","",IF(AK43=1,1,IF(AQ43<>1,$AR$1,IF(SUMPRODUCT(--(G43:AJ43>=$G$5:$AJ$5)*($G$5:$AJ$5<>"")*($G$4:$AJ$4=1))=COUNTIF($G$4:$AJ$4,1),1,0)))) | AQ43: =IF(OR(SUM(AT43:CB43)<>COUNT(AT43:CB43),SUMPRODUCT(--(G43:AJ43=$AR$1))<>0),0,1) -> 0 | AR43: =IF($F43="","",AR$30) | AS43: =IF($F43="","",AS$30) | AT43: =IF(OR(G$30="",G$4=99),1,IF(G43="",0,IFERROR(CHOOSE(AT$28,IF(ISNA(MATCH(G43,$AR$30:$AS$30,0)),0,1),IF(ISNUMBER(G43),1,0),IF(G43=TRUNC(G43),1,0),IF(AND(G43*1=G43,G43>=0),1,0),IF(AND(G43=TRUNC(G43),G43>=0),1,0),IF(AND(G43*1=G43,G43>0),1,0),IF(AND(G43=TRUNC(G43),G43>0),1,0),1,IF(ISNA(HLOOKUP(G43,$AU$4:$BD$4,1,0)),0,1)),0))) -> 0 | AU43: =IF(OR(H$30="",H$4=99),1,IF(H43="",0,IFERROR(CHOOSE(AU$28,IF(ISNA(MATCH(H43,$AR$30:$AS$30,0)),0,1),IF(ISNUMBER(H43),1,0),IF(H43=TRUNC(H43),1,0),IF(AND(H43*1=H43,H43>=0),1,0),IF(AND(H43=TRUNC(H43),H43>=0),1,0),IF(AND(H43*1=H43,H43>0),1,0),IF(AND(H43=TRUNC(H43),H43>0),1,0),1,IF(ISNA(HLOOKUP(H43,$AU$4:$BD$4,1,0)),0,1)),0))) -> 0 | AV43: =IF(OR(I$30="",I$4=99),1,IF(I43="",0,IFERROR(CHOOSE(AV$28,IF(ISNA(MATCH(I43,$AR$30:$AS$30,0)),0,1),IF(ISNUMBER(I43),1,0),IF(I43=TRUNC(I43),1,0),IF(AND(I43*1=I43,I43>=0),1,0),IF(AND(I43=TRUNC(I43),I43>=0),1,0),IF(AND(I43*1=I43,I43>0),1,0),IF(AND(I43=TRUNC(I43),I43>0),1,0),1,IF(ISNA(HLOOKUP(I43,$AU$4:$BD$4,1,0)),0,1)),0))) -> 0 | AW43: =IF(OR(J$30="",J$4=99),1,IF(J43="",0,IFERROR(CHOOSE(AW$28,IF(ISNA(MATCH(J43,$AR$30:$AS$30,0)),0,1),IF(ISNUMBER(J43),1,0),IF(J43=TRUNC(J43),1,0),IF(AND(J43*1=J43,J43>=0),1,0),IF(AND(J43=TRUNC(J43),J43>=0),1,0),IF(AND(J43*1=J43,J43>0),1,0),IF(AND(J43=TRUNC(J43),J43>0),1,0),1,IF(ISNA(HLOOKUP(J43,$AU$4:$BD$4,1,0)),0,1)),0))) -> 0 | AX43: =IF(OR(K$30="",K$4=99),1,IF(K43="",0,IFERROR(CHOOSE(AX$28,IF(ISNA(MATCH(K43,$AR$30:$AS$30,0)),0,1),IF(ISNUMBER(K43),1,0),IF(K43=TRUNC(K43),1,0),IF(AND(K43*1=K43,K43>=0),1,0),IF(AND(K43=TRUNC(K43),K43>=0),1,0),IF(AND(K43*1=K43,K43>0),1,0),IF(AND(K43=TRUNC(K43),K43>0),1,0),1,IF(ISNA(HLOOKUP(K43,$AU$4:$BD$4,1,0)),0,1)),0))) -> 0 | AY43: =IF(OR(L$30="",L$4=99),1,IF(L43="",0,IFERROR(CHOOSE(AY$28,IF(ISNA(MATCH(L43,$AR$30:$AS$30,0)),0,1),IF(ISNUMBER(L43),1,0),IF(L43=TRUNC(L43),1,0),IF(AND(L43*1=L43,L43>=0),1,0),IF(AND(L43=TRUNC(L43),L43>=0),1,0),IF(AND(L43*1=L43,L43>0),1,0),IF(AND(L43=TRUNC(L43),L43>0),1,0),1,IF(ISNA(HLOOKUP(L43,$AU$4:$BD$4,1,0)),0,1)),0))) -> 0 | AZ43: =IF(OR(M$30="",M$4=99),1,IF(M43="",0,IFERROR(CHOOSE(AZ$28,IF(ISNA(MATCH(M43,$AR$30:$AS$30,0)),0,1),IF(ISNUMBER(M43),1,0),IF(M43=TRUNC(M43),1,0),IF(AND(M43*1=M43,M43>=0),1,0),IF(AND(M43=TRUNC(M43),M43>=0),1,0),IF(AND(M43*1=M43,M43>0),1,0),IF(AND(M43=TRUNC(M43),M43>0),1,0),1,IF(ISNA(HLOOKUP(M43,$AU$4:$BD$4,1,0)),0,1)),0))) -> 0 | BA43: =IF(OR(N$30="",N$4=99),1,IF(N43="",0,IFERROR(CHOOSE(BA$28,IF(ISNA(MATCH(N43,$AR$30:$AS$30,0)),0,1),IF(ISNUMBER(N43),1,0),IF(N43=TRUNC(N43),1,0),IF(AND(N43*1=N43,N43>=0),1,0),IF(AND(N43=TRUNC(N43),N43>=0),1,0),IF(AND(N43*1=N43,N43>0),1,0),IF(AND(N43=TRUNC(N43),N43>0),1,0),1,IF(ISNA(HLOOKUP(N43,$AU$4:$BD$4,1,0)),0,1)),0))) -> 0 | ... CB43: =IF(OR(AO$30="",AO$4=99),1,IF(AO43="",0,IFERROR(CHOOSE(CB$28,IF(ISNA(MATCH(AO43,$AR$30:$AS$30,0)),0,1),IF(ISNUMBER(AO43),1,0),IF(AO43=TRUNC(AO43),1,0),IF(AND(AO43*1=AO43,AO43>=0),1,0),IF(AND(AO43=TRUNC(AO43),AO43>=0),1,0),IF(AND(AO43*1=AO43,AO43>0),1,0),IF(AND(AO43=TRUNC(AO43),AO43>0),1,0),1,IF(ISNA(HLOOKUP(AO43,$AU$4:$BD$4,1,0)),0,1)),0))) -> 1 | CS43: =Z43>=CS$7 -> FALSE | CT43: =AA43>=CT$7 -> FALSE | CU43: =AB43>=CU$7 -> TRUE | CV43: =AC43>=CV$7 -> TRUE | CW43: =AD43>=CW$7 -> TRUE | CX43: =IF($F43="","",IF(SUMPRODUCT(--(CS43:CW43=TRUE))=COUNTA(CS43:CW43),1,0))
B44: =IF(F44="","",ROW()-30) | Q44: =IF($F44="","",IF(O44<P44,$AR$1,IF(AND(P44>O44*0.5,P44>=$P$5),1,0))) | AB44: =IF(F44="","",IF(Z44>=$Z$5*0.8,1,0)) | AC44: =IF(F44="","",IF(AA44>=$AA$5*0.8,1,0)) | AD44: =IF(G44="","",IF(AND(Z44>='פרמטרים לקריטריונים'!$D$19,AA44>='פרמטרים לקריטריונים'!$C$19),1,0)) | AE44: {=IF($F44="","",IF(OR(SUMPRODUCT(--(Z44:AA44>=$Z$5:$AA$5))=COUNTA($Z$29:$AA$29),OR(AND(X44=1,OR(AB44=1,AC44=1)),AND(Y44=1,AD44=1))),1,0))} | AJ44: =IF(F44="","",IF(G44>=$G$5,1,0)) | AO44: =IF($F44="","",IF(AK44=1,1,IF(AQ44<>1,$AR$1,IF(SUMPRODUCT(--(G44:AJ44>=$G$5:$AJ$5)*($G$5:$AJ$5<>"")*($G$4:$AJ$4=1))=COUNTIF($G$4:$AJ$4,1),1,0)))) | AQ44: =IF(OR(SUM(AT44:CB44)<>COUNT(AT44:CB44),SUMPRODUCT(--(G44:AJ44=$AR$1))<>0),0,1) -> 0 | AR44: =IF($F44="","",AR$30) | AS44: =IF($F44="","",AS$30) | AT44: =IF(OR(G$30="",G$4=99),1,IF(G44="",0,IFERROR(CHOOSE(AT$28,IF(ISNA(MATCH(G44,$AR$30:$AS$30,0)),0,1),IF(ISNUMBER(G44),1,0),IF(G44=TRUNC(G44),1,0),IF(AND(G44*1=G44,G44>=0),1,0),IF(AND(G44=TRUNC(G44),G44>=0),1,0),IF(AND(G44*1=G44,G44>0),1,0),IF(AND(G44=TRUNC(G44),G44>0),1,0),1,IF(ISNA(HLOOKUP(G44,$AU$4:$BD$4,1,0)),0,1)),0))) -> 0 | AU44: =IF(OR(H$30="",H$4=99),1,IF(H44="",0,IFERROR(CHOOSE(AU$28,IF(ISNA(MATCH(H44,$AR$30:$AS$30,0)),0,1),IF(ISNUMBER(H44),1,0),IF(H44=TRUNC(H44),1,0),IF(AND(H44*1=H44,H44>=0),1,0),IF(AND(H44=TRUNC(H44),H44>=0),1,0),IF(AND(H44*1=H44,H44>0),1,0),IF(AND(H44=TRUNC(H44),H44>0),1,0),1,IF(ISNA(HLOOKUP(H44,$AU$4:$BD$4,1,0)),0,1)),0))) -> 0 | AV44: =IF(OR(I$30="",I$4=99),1,IF(I44="",0,IFERROR(CHOOSE(AV$28,IF(ISNA(MATCH(I44,$AR$30:$AS$30,0)),0,1),IF(ISNUMBER(I44),1,0),IF(I44=TRUNC(I44),1,0),IF(AND(I44*1=I44,I44>=0),1,0),IF(AND(I44=TRUNC(I44),I44>=0),1,0),IF(AND(I44*1=I44,I44>0),1,0),IF(AND(I44=TRUNC(I44),I44>0),1,0),1,IF(ISNA(HLOOKUP(I44,$AU$4:$BD$4,1,0)),0,1)),0))) -> 0 | AW44: =IF(OR(J$30="",J$4=99),1,IF(J44="",0,IFERROR(CHOOSE(AW$28,IF(ISNA(MATCH(J44,$AR$30:$AS$30,0)),0,1),IF(ISNUMBER(J44),1,0),IF(J44=TRUNC(J44),1,0),IF(AND(J44*1=J44,J44>=0),1,0),IF(AND(J44=TRUNC(J44),J44>=0),1,0),IF(AND(J44*1=J44,J44>0),1,0),IF(AND(J44=TRUNC(J44),J44>0),1,0),1,IF(ISNA(HLOOKUP(J44,$AU$4:$BD$4,1,0)),0,1)),0))) -> 0 | AX44: =IF(OR(K$30="",K$4=99),1,IF(K44="",0,IFERROR(CHOOSE(AX$28,IF(ISNA(MATCH(K44,$AR$30:$AS$30,0)),0,1),IF(ISNUMBER(K44),1,0),IF(K44=TRUNC(K44),1,0),IF(AND(K44*1=K44,K44>=0),1,0),IF(AND(K44=TRUNC(K44),K44>=0),1,0),IF(AND(K44*1=K44,K44>0),1,0),IF(AND(K44=TRUNC(K44),K44>0),1,0),1,IF(ISNA(HLOOKUP(K44,$AU$4:$BD$4,1,0)),0,1)),0))) -> 0 | AY44: =IF(OR(L$30="",L$4=99),1,IF(L44="",0,IFERROR(CHOOSE(AY$28,IF(ISNA(MATCH(L44,$AR$30:$AS$30,0)),0,1),IF(ISNUMBER(L44),1,0),IF(L44=TRUNC(L44),1,0),IF(AND(L44*1=L44,L44>=0),1,0),IF(AND(L44=TRUNC(L44),L44>=0),1,0),IF(AND(L44*1=L44,L44>0),1,0),IF(AND(L44=TRUNC(L44),L44>0),1,0),1,IF(ISNA(HLOOKUP(L44,$AU$4:$BD$4,1,0)),0,1)),0))) -> 0 | AZ44: =IF(OR(M$30="",M$4=99),1,IF(M44="",0,IFERROR(CHOOSE(AZ$28,IF(ISNA(MATCH(M44,$AR$30:$AS$30,0)),0,1),IF(ISNUMBER(M44),1,0),IF(M44=TRUNC(M44),1,0),IF(AND(M44*1=M44,M44>=0),1,0),IF(AND(M44=TRUNC(M44),M44>=0),1,0),IF(AND(M44*1=M44,M44>0),1,0),IF(AND(M44=TRUNC(M44),M44>0),1,0),1,IF(ISNA(HLOOKUP(M44,$AU$4:$BD$4,1,0)),0,1)),0))) -> 0 | BA44: =IF(OR(N$30="",N$4=99),1,IF(N44="",0,IFERROR(CHOOSE(BA$28,IF(ISNA(MATCH(N44,$AR$30:$AS$30,0)),0,1),IF(ISNUMBER(N44),1,0),IF(N44=TRUNC(N44),1,0),IF(AND(N44*1=N44,N44>=0),1,0),IF(AND(N44=TRUNC(N44),N44>=0),1,0),IF(AND(N44*1=N44,N44>0),1,0),IF(AND(N44=TRUNC(N44),N44>0),1,0),1,IF(ISNA(HLOOKUP(N44,$AU$4:$BD$4,1,0)),0,1)),0))) -> 0 | ... CB44: =IF(OR(AO$30="",AO$4=99),1,IF(AO44="",0,IFERROR(CHOOSE(CB$28,IF(ISNA(MATCH(AO44,$AR$30:$AS$30,0)),0,1),IF(ISNUMBER(AO44),1,0),IF(AO44=TRUNC(AO44),1,0),IF(AND(AO44*1=AO44,AO44>=0),1,0),IF(AND(AO44=TRUNC(AO44),AO44>=0),1,0),IF(AND(AO44*1=AO44,AO44>0),1,0),IF(AND(AO44=TRUNC(AO44),AO44>0),1,0),1,IF(ISNA(HLOOKUP(AO44,$AU$4:$BD$4,1,0)),0,1)),0))) -> 1 | CS44: =Z44>=CS$7 -> FALSE | CT44: =AA44>=CT$7 -> FALSE | CU44: =AB44>=CU$7 -> TRUE | CV44: =AC44>=CV$7 -> TRUE | CW44: =AD44>=CW$7 -> TRUE | CX44: =IF($F44="","",IF(SUMPRODUCT(--(CS44:CW44=TRUE))=COUNTA(CS44:CW44),1,0))
B45: =IF(F45="","",ROW()-30) | Q45: =IF($F45="","",IF(O45<P45,$AR$1,IF(AND(P45>O45*0.5,P45>=$P$5),1,0))) | AB45: =IF(F45="","",IF(Z45>=$Z$5*0.8,1,0)) | AC45: =IF(F45="","",IF(AA45>=$AA$5*0.8,1,0)) | AD45: =IF(G45="","",IF(AND(Z45>='פרמטרים לקריטריונים'!$D$19,AA45>='פרמטרים לקריטריונים'!$C$19),1,0)) | AE45: {=IF($F45="","",IF(OR(SUMPRODUCT(--(Z45:AA45>=$Z$5:$AA$5))=COUNTA($Z$29:$AA$29),OR(AND(X45=1,OR(AB45=1,AC45=1)),AND(Y45=1,AD45=1))),1,0))} | AJ45: =IF(F45="","",IF(G45>=$G$5,1,0)) | AO45: =IF($F45="","",IF(AK45=1,1,IF(AQ45<>1,$AR$1,IF(SUMPRODUCT(--(G45:AJ45>=$G$5:$AJ$5)*($G$5:$AJ$5<>"")*($G$4:$AJ$4=1))=COUNTIF($G$4:$AJ$4,1),1,0)))) | AQ45: =IF(OR(SUM(AT45:CB45)<>COUNT(AT45:CB45),SUMPRODUCT(--(G45:AJ45=$AR$1))<>0),0,1) -> 0 | AR45: =IF($F45="","",AR$30) | AS45: =IF($F45="","",AS$30) | AT45: =IF(OR(G$30="",G$4=99),1,IF(G45="",0,IFERROR(CHOOSE(AT$28,IF(ISNA(MATCH(G45,$AR$30:$AS$30,0)),0,1),IF(ISNUMBER(G45),1,0),IF(G45=TRUNC(G45),1,0),IF(AND(G45*1=G45,G45>=0),1,0),IF(AND(G45=TRUNC(G45),G45>=0),1,0),IF(AND(G45*1=G45,G45>0),1,0),IF(AND(G45=TRUNC(G45),G45>0),1,0),1,IF(ISNA(HLOOKUP(G45,$AU$4:$BD$4,1,0)),0,1)),0))) -> 0 | AU45: =IF(OR(H$30="",H$4=99),1,IF(H45="",0,IFERROR(CHOOSE(AU$28,IF(ISNA(MATCH(H45,$AR$30:$AS$30,0)),0,1),IF(ISNUMBER(H45),1,0),IF(H45=TRUNC(H45),1,0),IF(AND(H45*1=H45,H45>=0),1,0),IF(AND(H45=TRUNC(H45),H45>=0),1,0),IF(AND(H45*1=H45,H45>0),1,0),IF(AND(H45=TRUNC(H45),H45>0),1,0),1,IF(ISNA(HLOOKUP(H45,$AU$4:$BD$4,1,0)),0,1)),0))) -> 0 | AV45: =IF(OR(I$30="",I$4=99),1,IF(I45="",0,IFERROR(CHOOSE(AV$28,IF(ISNA(MATCH(I45,$AR$30:$AS$30,0)),0,1),IF(ISNUMBER(I45),1,0),IF(I45=TRUNC(I45),1,0),IF(AND(I45*1=I45,I45>=0),1,0),IF(AND(I45=TRUNC(I45),I45>=0),1,0),IF(AND(I45*1=I45,I45>0),1,0),IF(AND(I45=TRUNC(I45),I45>0),1,0),1,IF(ISNA(HLOOKUP(I45,$AU$4:$BD$4,1,0)),0,1)),0))) -> 0 | AW45: =IF(OR(J$30="",J$4=99),1,IF(J45="",0,IFERROR(CHOOSE(AW$28,IF(ISNA(MATCH(J45,$AR$30:$AS$30,0)),0,1),IF(ISNUMBER(J45),1,0),IF(J45=TRUNC(J45),1,0),IF(AND(J45*1=J45,J45>=0),1,0),IF(AND(J45=TRUNC(J45),J45>=0),1,0),IF(AND(J45*1=J45,J45>0),1,0),IF(AND(J45=TRUNC(J45),J45>0),1,0),1,IF(ISNA(HLOOKUP(J45,$AU$4:$BD$4,1,0)),0,1)),0))) -> 0 | AX45: =IF(OR(K$30="",K$4=99),1,IF(K45="",0,IFERROR(CHOOSE(AX$28,IF(ISNA(MATCH(K45,$AR$30:$AS$30,0)),0,1),IF(ISNUMBER(K45),1,0),IF(K45=TRUNC(K45),1,0),IF(AND(K45*1=K45,K45>=0),1,0),IF(AND(K45=TRUNC(K45),K45>=0),1,0),IF(AND(K45*1=K45,K45>0),1,0),IF(AND(K45=TRUNC(K45),K45>0),1,0),1,IF(ISNA(HLOOKUP(K45,$AU$4:$BD$4,1,0)),0,1)),0))) -> 0 | AY45: =IF(OR(L$30="",L$4=99),1,IF(L45="",0,IFERROR(CHOOSE(AY$28,IF(ISNA(MATCH(L45,$AR$30:$AS$30,0)),0,1),IF(ISNUMBER(L45),1,0),IF(L45=TRUNC(L45),1,0),IF(AND(L45*1=L45,L45>=0),1,0),IF(AND(L45=TRUNC(L45),L45>=0),1,0),IF(AND(L45*1=L45,L45>0),1,0),IF(AND(L45=TRUNC(L45),L45>0),1,0),1,IF(ISNA(HLOOKUP(L45,$AU$4:$BD$4,1,0)),0,1)),0))) -> 0 | AZ45: =IF(OR(M$30="",M$4=99),1,IF(M45="",0,IFERROR(CHOOSE(AZ$28,IF(ISNA(MATCH(M45,$AR$30:$AS$30,0)),0,1),IF(ISNUMBER(M45),1,0),IF(M45=TRUNC(M45),1,0),IF(AND(M45*1=M45,M45>=0),1,0),IF(AND(M45=TRUNC(M45),M45>=0),1,0),IF(AND(M45*1=M45,M45>0),1,0),IF(AND(M45=TRUNC(M45),M45>0),1,0),1,IF(ISNA(HLOOKUP(M45,$AU$4:$BD$4,1,0)),0,1)),0))) -> 0 | BA45: =IF(OR(N$30="",N$4=99),1,IF(N45="",0,IFERROR(CHOOSE(BA$28,IF(ISNA(MATCH(N45,$AR$30:$AS$30,0)),0,1),IF(ISNUMBER(N45),1,0),IF(N45=TRUNC(N45),1,0),IF(AND(N45*1=N45,N45>=0),1,0),IF(AND(N45=TRUNC(N45),N45>=0),1,0),IF(AND(N45*1=N45,N45>0),1,0),IF(AND(N45=TRUNC(N45),N45>0),1,0),1,IF(ISNA(HLOOKUP(N45,$AU$4:$BD$4,1,0)),0,1)),0))) -> 0 | ... CB45: =IF(OR(AO$30="",AO$4=99),1,IF(AO45="",0,IFERROR(CHOOSE(CB$28,IF(ISNA(MATCH(AO45,$AR$30:$AS$30,0)),0,1),IF(ISNUMBER(AO45),1,0),IF(AO45=TRUNC(AO45),1,0),IF(AND(AO45*1=AO45,AO45>=0),1,0),IF(AND(AO45=TRUNC(AO45),AO45>=0),1,0),IF(AND(AO45*1=AO45,AO45>0),1,0),IF(AND(AO45=TRUNC(AO45),AO45>0),1,0),1,IF(ISNA(HLOOKUP(AO45,$AU$4:$BD$4,1,0)),0,1)),0))) -> 1 | CS45: =Z45>=CS$7 -> FALSE | CT45: =AA45>=CT$7 -> FALSE | CU45: =AB45>=CU$7 -> TRUE | CV45: =AC45>=CV$7 -> TRUE | CW45: =AD45>=CW$7 -> TRUE | CX45: =IF($F45="","",IF(SUMPRODUCT(--(CS45:CW45=TRUE))=COUNTA(CS45:CW45),1,0))
B46: =IF(F46="","",ROW()-30) | Q46: =IF($F46="","",IF(O46<P46,$AR$1,IF(AND(P46>O46*0.5,P46>=$P$5),1,0))) | AB46: =IF(F46="","",IF(Z46>=$Z$5*0.8,1,0)) | AC46: =IF(F46="","",IF(AA46>=$AA$5*0.8,1,0)) | AD46: =IF(G46="","",IF(AND(Z46>='פרמטרים לקריטריונים'!$D$19,AA46>='פרמטרים לקריטריונים'!$C$19),1,0)) | AE46: {=IF($F46="","",IF(OR(SUMPRODUCT(--(Z46:AA46>=$Z$5:$AA$5))=COUNTA($Z$29:$AA$29),OR(AND(X46=1,OR(AB46=1,AC46=1)),AND(Y46=1,AD46=1))),1,0))} | AJ46: =IF(F46="","",IF(G46>=$G$5,1,0)) | AO46: =IF($F46="","",IF(AK46=1,1,IF(AQ46<>1,$AR$1,IF(SUMPRODUCT(--(G46:AJ46>=$G$5:$AJ$5)*($G$5:$AJ$5<>"")*($G$4:$AJ$4=1))=COUNTIF($G$4:$AJ$4,1),1,0)))) | AQ46: =IF(OR(SUM(AT46:CB46)<>COUNT(AT46:CB46),SUMPRODUCT(--(G46:AJ46=$AR$1))<>0),0,1) -> 0 | AR46: =IF($F46="","",AR$30) | AS46: =IF($F46="","",AS$30) | AT46: =IF(OR(G$30="",G$4=99),1,IF(G46="",0,IFERROR(CHOOSE(AT$28,IF(ISNA(MATCH(G46,$AR$30:$AS$30,0)),0,1),IF(ISNUMBER(G46),1,0),IF(G46=TRUNC(G46),1,0),IF(AND(G46*1=G46,G46>=0),1,0),IF(AND(G46=TRUNC(G46),G46>=0),1,0),IF(AND(G46*1=G46,G46>0),1,0),IF(AND(G46=TRUNC(G46),G46>0),1,0),1,IF(ISNA(HLOOKUP(G46,$AU$4:$BD$4,1,0)),0,1)),0))) -> 0 | AU46: =IF(OR(H$30="",H$4=99),1,IF(H46="",0,IFERROR(CHOOSE(AU$28,IF(ISNA(MATCH(H46,$AR$30:$AS$30,0)),0,1),IF(ISNUMBER(H46),1,0),IF(H46=TRUNC(H46),1,0),IF(AND(H46*1=H46,H46>=0),1,0),IF(AND(H46=TRUNC(H46),H46>=0),1,0),IF(AND(H46*1=H46,H46>0),1,0),IF(AND(H46=TRUNC(H46),H46>0),1,0),1,IF(ISNA(HLOOKUP(H46,$AU$4:$BD$4,1,0)),0,1)),0))) -> 0 | AV46: =IF(OR(I$30="",I$4=99),1,IF(I46="",0,IFERROR(CHOOSE(AV$28,IF(ISNA(MATCH(I46,$AR$30:$AS$30,0)),0,1),IF(ISNUMBER(I46),1,0),IF(I46=TRUNC(I46),1,0),IF(AND(I46*1=I46,I46>=0),1,0),IF(AND(I46=TRUNC(I46),I46>=0),1,0),IF(AND(I46*1=I46,I46>0),1,0),IF(AND(I46=TRUNC(I46),I46>0),1,0),1,IF(ISNA(HLOOKUP(I46,$AU$4:$BD$4,1,0)),0,1)),0))) -> 0 | AW46: =IF(OR(J$30="",J$4=99),1,IF(J46="",0,IFERROR(CHOOSE(AW$28,IF(ISNA(MATCH(J46,$AR$30:$AS$30,0)),0,1),IF(ISNUMBER(J46),1,0),IF(J46=TRUNC(J46),1,0),IF(AND(J46*1=J46,J46>=0),1,0),IF(AND(J46=TRUNC(J46),J46>=0),1,0),IF(AND(J46*1=J46,J46>0),1,0),IF(AND(J46=TRUNC(J46),J46>0),1,0),1,IF(ISNA(HLOOKUP(J46,$AU$4:$BD$4,1,0)),0,1)),0))) -> 0 | AX46: =IF(OR(K$30="",K$4=99),1,IF(K46="",0,IFERROR(CHOOSE(AX$28,IF(ISNA(MATCH(K46,$AR$30:$AS$30,0)),0,1),IF(ISNUMBER(K46),1,0),IF(K46=TRUNC(K46),1,0),IF(AND(K46*1=K46,K46>=0),1,0),IF(AND(K46=TRUNC(K46),K46>=0),1,0),IF(AND(K46*1=K46,K46>0),1,0),IF(AND(K46=TRUNC(K46),K46>0),1,0),1,IF(ISNA(HLOOKUP(K46,$AU$4:$BD$4,1,0)),0,1)),0))) -> 0 | AY46: =IF(OR(L$30="",L$4=99),1,IF(L46="",0,IFERROR(CHOOSE(AY$28,IF(ISNA(MATCH(L46,$AR$30:$AS$30,0)),0,1),IF(ISNUMBER(L46),1,0),IF(L46=TRUNC(L46),1,0),IF(AND(L46*1=L46,L46>=0),1,0),IF(AND(L46=TRUNC(L46),L46>=0),1,0),IF(AND(L46*1=L46,L46>0),1,0),IF(AND(L46=TRUNC(L46),L46>0),1,0),1,IF(ISNA(HLOOKUP(L46,$AU$4:$BD$4,1,0)),0,1)),0))) -> 0 | AZ46: =IF(OR(M$30="",M$4=99),1,IF(M46="",0,IFERROR(CHOOSE(AZ$28,IF(ISNA(MATCH(M46,$AR$30:$AS$30,0)),0,1),IF(ISNUMBER(M46),1,0),IF(M46=TRUNC(M46),1,0),IF(AND(M46*1=M46,M46>=0),1,0),IF(AND(M46=TRUNC(M46),M46>=0),1,0),IF(AND(M46*1=M46,M46>0),1,0),IF(AND(M46=TRUNC(M46),M46>0),1,0),1,IF(ISNA(HLOOKUP(M46,$AU$4:$BD$4,1,0)),0,1)),0))) -> 0 | BA46: =IF(OR(N$30="",N$4=99),1,IF(N46="",0,IFERROR(CHOOSE(BA$28,IF(ISNA(MATCH(N46,$AR$30:$AS$30,0)),0,1),IF(ISNUMBER(N46),1,0),IF(N46=TRUNC(N46),1,0),IF(AND(N46*1=N46,N46>=0),1,0),IF(AND(N46=TRUNC(N46),N46>=0),1,0),IF(AND(N46*1=N46,N46>0),1,0),IF(AND(N46=TRUNC(N46),N46>0),1,0),1,IF(ISNA(HLOOKUP(N46,$AU$4:$BD$4,1,0)),0,1)),0))) -> 0 | ... CB46: =IF(OR(AO$30="",AO$4=99),1,IF(AO46="",0,IFERROR(CHOOSE(CB$28,IF(ISNA(MATCH(AO46,$AR$30:$AS$30,0)),0,1),IF(ISNUMBER(AO46),1,0),IF(AO46=TRUNC(AO46),1,0),IF(AND(AO46*1=AO46,AO46>=0),1,0),IF(AND(AO46=TRUNC(AO46),AO46>=0),1,0),IF(AND(AO46*1=AO46,AO46>0),1,0),IF(AND(AO46=TRUNC(AO46),AO46>0),1,0),1,IF(ISNA(HLOOKUP(AO46,$AU$4:$BD$4,1,0)),0,1)),0))) -> 1 | CS46: =Z46>=CS$7 -> FALSE | CT46: =AA46>=CT$7 -> FALSE | CU46: =AB46>=CU$7 -> TRUE | CV46: =AC46>=CV$7 -> TRUE | CW46: =AD46>=CW$7 -> TRUE | CX46: =IF($F46="","",IF(SUMPRODUCT(--(CS46:CW46=TRUE))=COUNTA(CS46:CW46),1,0))
B47: =IF(F47="","",ROW()-30) -> 17 | F47: הרכב עמית פרידמן | G47: 1 | H47: 1 | I47: 1 | J47: 1 | K47: 1 | L47: 1 | M47: 1 | N47: 1 | O47: 21 | P47: 20 | Q47: =IF($F47="","",IF(O47<P47,$AR$1,IF(AND(P47>O47*0.5,P47>=$P$5),1,0))) -> 1 | R47: 1 | S47: 1 | T47: 1 | U47: 1 | Z47: 36 | AA47: 108363 | AB47: =IF(F47="","",IF(Z47>=$Z$5*0.8,1,0)) -> 1 | AC47: =IF(F47="","",IF(AA47>=$AA$5*0.8,1,0)) -> 1 | AD47: =IF(G47="","",IF(AND(Z47>='פרמטרים לקריטריונים'!$D$19,AA47>='פרמטרים לקריטריונים'!$C$19),1,0)) -> 1 | AE47: {=IF($F47="","",IF(OR(SUMPRODUCT(--(Z47:AA47>=$Z$5:$AA$5))=COUNTA($Z$29:$AA$29),OR(AND(X47=1,OR(AB47=1,AC47=1)),AND(Y47=1,AD47=1))),1,0))} -> 1 | AG47: 1 | AH47: 1 | AI47: 1 | AJ47: =IF(F47="","",IF(G47>=$G$5,1,0)) -> 1 | AO47: =IF($F47="","",IF(AK47=1,1,IF(AQ47<>1,$AR$1,IF(SUMPRODUCT(--(G47:AJ47>=$G$5:$AJ$5)*($G$5:$AJ$5<>"")*($G$4:$AJ$4=1))=COUNTIF($G$4:$AJ$4,1),1,0)))) -> 1 | AP47: עומד בתנאי סף האמנותי ובתנאי הסף הכמותיים כקבוצה מוסיקלית. | AQ47: =IF(OR(SUM(AT47:CB47)<>COUNT(AT47:CB47),SUMPRODUCT(--(G47:AJ47=$AR$1))<>0),0,1) -> 1 | AR47: =IF($F47="","",AR$30) -> 0 | AS47: =IF($F47="","",AS$30) -> 1 | AT47: =IF(OR(G$30="",G$4=99),1,IF(G47="",0,IFERROR(CHOOSE(AT$28,IF(ISNA(MATCH(G47,$AR$30:$AS$30,0)),0,1),IF(ISNUMBER(G47),1,0),IF(G47=TRUNC(G47),1,0),IF(AND(G47*1=G47,G47>=0),1,0),IF(AND(G47=TRUNC(G47),G47>=0),1,0),IF(AND(G47*1=G47,G47>0),1,0),IF(AND(G47=TRUNC(G47),G47>0),1,0),1,IF(ISNA(HLOOKUP(G47,$AU$4:$BD$4,1,0)),0,1)),0))) -> 1 | AU47: =IF(OR(H$30="",H$4=99),1,IF(H47="",0,IFERROR(CHOOSE(AU$28,IF(ISNA(MATCH(H47,$AR$30:$AS$30,0)),0,1),IF(ISNUMBER(H47),1,0),IF(H47=TRUNC(H47),1,0),IF(AND(H47*1=H47,H47>=0),1,0),IF(AND(H47=TRUNC(H47),H47>=0),1,0),IF(AND(H47*1=H47,H47>0),1,0),IF(AND(H47=TRUNC(H47),H47>0),1,0),1,IF(ISNA(HLOOKUP(H47,$AU$4:$BD$4,1,0)),0,1)),0))) -> 1 | AV47: =IF(OR(I$30="",I$4=99),1,IF(I47="",0,IFERROR(CHOOSE(AV$28,IF(ISNA(MATCH(I47,$AR$30:$AS$30,0)),0,1),IF(ISNUMBER(I47),1,0),IF(I47=TRUNC(I47),1,0),IF(AND(I47*1=I47,I47>=0),1,0),IF(AND(I47=TRUNC(I47),I47>=0),1,0),IF(AND(I47*1=I47,I47>0),1,0),IF(AND(I47=TRUNC(I47),I47>0),1,0),1,IF(ISNA(HLOOKUP(I47,$AU$4:$BD$4,1,0)),0,1)),0))) -> 1 | AW47: =IF(OR(J$30="",J$4=99),1,IF(J47="",0,IFERROR(CHOOSE(AW$28,IF(ISNA(MATCH(J47,$AR$30:$AS$30,0)),0,1),IF(ISNUMBER(J47),1,0),IF(J47=TRUNC(J47),1,0),IF(AND(J47*1=J47,J47>=0),1,0),IF(AND(J47=TRUNC(J47),J47>=0),1,0),IF(AND(J47*1=J47,J47>0),1,0),IF(AND(J47=TRUNC(J47),J47>0),1,0),1,IF(ISNA(HLOOKUP(J47,$AU$4:$BD$4,1,0)),0,1)),0))) -> 1 | AX47: =IF(OR(K$30="",K$4=99),1,IF(K47="",0,IFERROR(CHOOSE(AX$28,IF(ISNA(MATCH(K47,$AR$30:$AS$30,0)),0,1),IF(ISNUMBER(K47),1,0),IF(K47=TRUNC(K47),1,0),IF(AND(K47*1=K47,K47>=0),1,0),IF(AND(K47=TRUNC(K47),K47>=0),1,0),IF(AND(K47*1=K47,K47>0),1,0),IF(AND(K47=TRUNC(K47),K47>0),1,0),1,IF(ISNA(HLOOKUP(K47,$AU$4:$BD$4,1,0)),0,1)),0))) -> 1 | AY47: =IF(OR(L$30="",L$4=99),1,IF(L47="",0,IFERROR(CHOOSE(AY$28,IF(ISNA(MATCH(L47,$AR$30:$AS$30,0)),0,1),IF(ISNUMBER(L47),1,0),IF(L47=TRUNC(L47),1,0),IF(AND(L47*1=L47,L47>=0),1,0),IF(AND(L47=TRUNC(L47),L47>=0),1,0),IF(AND(L47*1=L47,L47>0),1,0),IF(AND(L47=TRUNC(L47),L47>0),1,0),1,IF(ISNA(HLOOKUP(L47,$AU$4:$BD$4,1,0)),0,1)),0))) -> 1 | AZ47: =IF(OR(M$30="",M$4=99),1,IF(M47="",0,IFERROR(CHOOSE(AZ$28,IF(ISNA(MATCH(M47,$AR$30:$AS$30,0)),0,1),IF(ISNUMBER(M47),1,0),IF(M47=TRUNC(M47),1,0),IF(AND(M47*1=M47,M47>=0),1,0),IF(AND(M47=TRUNC(M47),M47>=0),1,0),IF(AND(M47*1=M47,M47>0),1,0),IF(AND(M47=TRUNC(M47),M47>0),1,0),1,IF(ISNA(HLOOKUP(M47,$AU$4:$BD$4,1,0)),0,1)),0))) -> 1 | BA47: =IF(OR(N$30="",N$4=99),1,IF(N47="",0,IFERROR(CHOOSE(BA$28,IF(ISNA(MATCH(N47,$AR$30:$AS$30,0)),0,1),IF(ISNUMBER(N47),1,0),IF(N47=TRUNC(N47),1,0),IF(AND(N47*1=N47,N47>=0),1,0),IF(AND(N47=TRUNC(N47),N47>=0),1,0),IF(AND(N47*1=N47,N47>0),1,0),IF(AND(N47=TRUNC(N47),N47>0),1,0),1,IF(ISNA(HLOOKUP(N47,$AU$4:$BD$4,1,0)),0,1)),0))) -> 1 | ... CB47: =IF(OR(AO$30="",AO$4=99),1,IF(AO47="",0,IFERROR(CHOOSE(CB$28,IF(ISNA(MATCH(AO47,$AR$30:$AS$30,0)),0,1),IF(ISNUMBER(AO47),1,0),IF(AO47=TRUNC(AO47),1,0),IF(AND(AO47*1=AO47,AO47>=0),1,0),IF(AND(AO47=TRUNC(AO47),AO47>=0),1,0),IF(AND(AO47*1=AO47,AO47>0),1,0),IF(AND(AO47=TRUNC(AO47),AO47>0),1,0),1,IF(ISNA(HLOOKUP(AO47,$AU$4:$BD$4,1,0)),0,1)),0))) -> 1 | CS47: =Z47>=CS$7 -> TRUE | CT47: =AA47>=CT$7 -> TRUE | CU47: =AB47>=CU$7 -> TRUE | CV47: =AC47>=CV$7 -> TRUE | CW47: =AD47>=CW$7 -> TRUE | CX47: =IF($F47="","",IF(SUMPRODUCT(--(CS47:CW47=TRUE))=COUNTA(CS47:CW47),1,0)) -> 1
B48: =IF(F48="","",ROW()-30) | Q48: =IF($F48="","",IF(O48<P48,$AR$1,IF(AND(P48>O48*0.5,P48>=$P$5),1,0))) | AB48: =IF(F48="","",IF(Z48>=$Z$5*0.8,1,0)) | AC48: =IF(F48="","",IF(AA48>=$AA$5*0.8,1,0)) | AD48: =IF(G48="","",IF(AND(Z48>='פרמטרים לקריטריונים'!$D$19,AA48>='פרמטרים לקריטריונים'!$C$19),1,0)) | AE48: {=IF($F48="","",IF(OR(SUMPRODUCT(--(Z48:AA48>=$Z$5:$AA$5))=COUNTA($Z$29:$AA$29),OR(AND(X48=1,OR(AB48=1,AC48=1)),AND(Y48=1,AD48=1))),1,0))} | AJ48: =IF(F48="","",IF(G48>=$G$5,1,0)) | AO48: =IF($F48="","",IF(AK48=1,1,IF(AQ48<>1,$AR$1,IF(SUMPRODUCT(--(G48:AJ48>=$G$5:$AJ$5)*($G$5:$AJ$5<>"")*($G$4:$AJ$4=1))=COUNTIF($G$4:$AJ$4,1),1,0)))) | AQ48: =IF(OR(SUM(AT48:CB48)<>COUNT(AT48:CB48),SUMPRODUCT(--(G48:AJ48=$AR$1))<>0),0,1) -> 0 | AR48: =IF($F48="","",AR$30) | AS48: =IF($F48="","",AS$30) | AT48: =IF(OR(G$30="",G$4=99),1,IF(G48="",0,IFERROR(CHOOSE(AT$28,IF(ISNA(MATCH(G48,$AR$30:$AS$30,0)),0,1),IF(ISNUMBER(G48),1,0),IF(G48=TRUNC(G48),1,0),IF(AND(G48*1=G48,G48>=0),1,0),IF(AND(G48=TRUNC(G48),G48>=0),1,0),IF(AND(G48*1=G48,G48>0),1,0),IF(AND(G48=TRUNC(G48),G48>0),1,0),1,IF(ISNA(HLOOKUP(G48,$AU$4:$BD$4,1,0)),0,1)),0))) -> 0 | AU48: =IF(OR(H$30="",H$4=99),1,IF(H48="",0,IFERROR(CHOOSE(AU$28,IF(ISNA(MATCH(H48,$AR$30:$AS$30,0)),0,1),IF(ISNUMBER(H48),1,0),IF(H48=TRUNC(H48),1,0),IF(AND(H48*1=H48,H48>=0),1,0),IF(AND(H48=TRUNC(H48),H48>=0),1,0),IF(AND(H48*1=H48,H48>0),1,0),IF(AND(H48=TRUNC(H48),H48>0),1,0),1,IF(ISNA(HLOOKUP(H48,$AU$4:$BD$4,1,0)),0,1)),0))) -> 0 | AV48: =IF(OR(I$30="",I$4=99),1,IF(I48="",0,IFERROR(CHOOSE(AV$28,IF(ISNA(MATCH(I48,$AR$30:$AS$30,0)),0,1),IF(ISNUMBER(I48),1,0),IF(I48=TRUNC(I48),1,0),IF(AND(I48*1=I48,I48>=0),1,0),IF(AND(I48=TRUNC(I48),I48>=0),1,0),IF(AND(I48*1=I48,I48>0),1,0),IF(AND(I48=TRUNC(I48),I48>0),1,0),1,IF(ISNA(HLOOKUP(I48,$AU$4:$BD$4,1,0)),0,1)),0))) -> 0 | AW48: =IF(OR(J$30="",J$4=99),1,IF(J48="",0,IFERROR(CHOOSE(AW$28,IF(ISNA(MATCH(J48,$AR$30:$AS$30,0)),0,1),IF(ISNUMBER(J48),1,0),IF(J48=TRUNC(J48),1,0),IF(AND(J48*1=J48,J48>=0),1,0),IF(AND(J48=TRUNC(J48),J48>=0),1,0),IF(AND(J48*1=J48,J48>0),1,0),IF(AND(J48=TRUNC(J48),J48>0),1,0),1,IF(ISNA(HLOOKUP(J48,$AU$4:$BD$4,1,0)),0,1)),0))) -> 0 | AX48: =IF(OR(K$30="",K$4=99),1,IF(K48="",0,IFERROR(CHOOSE(AX$28,IF(ISNA(MATCH(K48,$AR$30:$AS$30,0)),0,1),IF(ISNUMBER(K48),1,0),IF(K48=TRUNC(K48),1,0),IF(AND(K48*1=K48,K48>=0),1,0),IF(AND(K48=TRUNC(K48),K48>=0),1,0),IF(AND(K48*1=K48,K48>0),1,0),IF(AND(K48=TRUNC(K48),K48>0),1,0),1,IF(ISNA(HLOOKUP(K48,$AU$4:$BD$4,1,0)),0,1)),0))) -> 0 | AY48: =IF(OR(L$30="",L$4=99),1,IF(L48="",0,IFERROR(CHOOSE(AY$28,IF(ISNA(MATCH(L48,$AR$30:$AS$30,0)),0,1),IF(ISNUMBER(L48),1,0),IF(L48=TRUNC(L48),1,0),IF(AND(L48*1=L48,L48>=0),1,0),IF(AND(L48=TRUNC(L48),L48>=0),1,0),IF(AND(L48*1=L48,L48>0),1,0),IF(AND(L48=TRUNC(L48),L48>0),1,0),1,IF(ISNA(HLOOKUP(L48,$AU$4:$BD$4,1,0)),0,1)),0))) -> 0 | AZ48: =IF(OR(M$30="",M$4=99),1,IF(M48="",0,IFERROR(CHOOSE(AZ$28,IF(ISNA(MATCH(M48,$AR$30:$AS$30,0)),0,1),IF(ISNUMBER(M48),1,0),IF(M48=TRUNC(M48),1,0),IF(AND(M48*1=M48,M48>=0),1,0),IF(AND(M48=TRUNC(M48),M48>=0),1,0),IF(AND(M48*1=M48,M48>0),1,0),IF(AND(M48=TRUNC(M48),M48>0),1,0),1,IF(ISNA(HLOOKUP(M48,$AU$4:$BD$4,1,0)),0,1)),0))) -> 0 | BA48: =IF(OR(N$30="",N$4=99),1,IF(N48="",0,IFERROR(CHOOSE(BA$28,IF(ISNA(MATCH(N48,$AR$30:$AS$30,0)),0,1),IF(ISNUMBER(N48),1,0),IF(N48=TRUNC(N48),1,0),IF(AND(N48*1=N48,N48>=0),1,0),IF(AND(N48=TRUNC(N48),N48>=0),1,0),IF(AND(N48*1=N48,N48>0),1,0),IF(AND(N48=TRUNC(N48),N48>0),1,0),1,IF(ISNA(HLOOKUP(N48,$AU$4:$BD$4,1,0)),0,1)),0))) -> 0 | ... CB48: =IF(OR(AO$30="",AO$4=99),1,IF(AO48="",0,IFERROR(CHOOSE(CB$28,IF(ISNA(MATCH(AO48,$AR$30:$AS$30,0)),0,1),IF(ISNUMBER(AO48),1,0),IF(AO48=TRUNC(AO48),1,0),IF(AND(AO48*1=AO48,AO48>=0),1,0),IF(AND(AO48=TRUNC(AO48),AO48>=0),1,0),IF(AND(AO48*1=AO48,AO48>0),1,0),IF(AND(AO48=TRUNC(AO48),AO48>0),1,0),1,IF(ISNA(HLOOKUP(AO48,$AU$4:$BD$4,1,0)),0,1)),0))) -> 1 | CS48: =Z48>=CS$7 -> FALSE | CT48: =AA48>=CT$7 -> FALSE | CU48: =AB48>=CU$7 -> TRUE | CV48: =AC48>=CV$7 -> TRUE | CW48: =AD48>=CW$7 -> TRUE | CX48: =IF($F48="","",IF(SUMPRODUCT(--(CS48:CW48=TRUE))=COUNTA(CS48:CW48),1,0))
B49: =IF(F49="","",ROW()-30) | Q49: =IF($F49="","",IF(O49<P49,$AR$1,IF(AND(P49>O49*0.5,P49>=$P$5),1,0))) | AB49: =IF(F49="","",IF(Z49>=$Z$5*0.8,1,0)) | AC49: =IF(F49="","",IF(AA49>=$AA$5*0.8,1,0)) | AD49: =IF(G49="","",IF(AND(Z49>='פרמטרים לקריטריונים'!$D$19,AA49>='פרמטרים לקריטריונים'!$C$19),1,0)) | AE49: {=IF($F49="","",IF(OR(SUMPRODUCT(--(Z49:AA49>=$Z$5:$AA$5))=COUNTA($Z$29:$AA$29),OR(AND(X49=1,OR(AB49=1,AC49=1)),AND(Y49=1,AD49=1))),1,0))} | AJ49: =IF(F49="","",IF(G49>=$G$5,1,0)) | AO49: =IF($F49="","",IF(AK49=1,1,IF(AQ49<>1,$AR$1,IF(SUMPRODUCT(--(G49:AJ49>=$G$5:$AJ$5)*($G$5:$AJ$5<>"")*($G$4:$AJ$4=1))=COUNTIF($G$4:$AJ$4,1),1,0)))) | AQ49: =IF(OR(SUM(AT49:CB49)<>COUNT(AT49:CB49),SUMPRODUCT(--(G49:AJ49=$AR$1))<>0),0,1) -> 0 | AR49: =IF($F49="","",AR$30) | AS49: =IF($F49="","",AS$30) | AT49: =IF(OR(G$30="",G$4=99),1,IF(G49="",0,IFERROR(CHOOSE(AT$28,IF(ISNA(MATCH(G49,$AR$30:$AS$30,0)),0,1),IF(ISNUMBER(G49),1,0),IF(G49=TRUNC(G49),1,0),IF(AND(G49*1=G49,G49>=0),1,0),IF(AND(G49=TRUNC(G49),G49>=0),1,0),IF(AND(G49*1=G49,G49>0),1,0),IF(AND(G49=TRUNC(G49),G49>0),1,0),1,IF(ISNA(HLOOKUP(G49,$AU$4:$BD$4,1,0)),0,1)),0))) -> 0 | AU49: =IF(OR(H$30="",H$4=99),1,IF(H49="",0,IFERROR(CHOOSE(AU$28,IF(ISNA(MATCH(H49,$AR$30:$AS$30,0)),0,1),IF(ISNUMBER(H49),1,0),IF(H49=TRUNC(H49),1,0),IF(AND(H49*1=H49,H49>=0),1,0),IF(AND(H49=TRUNC(H49),H49>=0),1,0),IF(AND(H49*1=H49,H49>0),1,0),IF(AND(H49=TRUNC(H49),H49>0),1,0),1,IF(ISNA(HLOOKUP(H49,$AU$4:$BD$4,1,0)),0,1)),0))) -> 0 | AV49: =IF(OR(I$30="",I$4=99),1,IF(I49="",0,IFERROR(CHOOSE(AV$28,IF(ISNA(MATCH(I49,$AR$30:$AS$30,0)),0,1),IF(ISNUMBER(I49),1,0),IF(I49=TRUNC(I49),1,0),IF(AND(I49*1=I49,I49>=0),1,0),IF(AND(I49=TRUNC(I49),I49>=0),1,0),IF(AND(I49*1=I49,I49>0),1,0),IF(AND(I49=TRUNC(I49),I49>0),1,0),1,IF(ISNA(HLOOKUP(I49,$AU$4:$BD$4,1,0)),0,1)),0))) -> 0 | AW49: =IF(OR(J$30="",J$4=99),1,IF(J49="",0,IFERROR(CHOOSE(AW$28,IF(ISNA(MATCH(J49,$AR$30:$AS$30,0)),0,1),IF(ISNUMBER(J49),1,0),IF(J49=TRUNC(J49),1,0),IF(AND(J49*1=J49,J49>=0),1,0),IF(AND(J49=TRUNC(J49),J49>=0),1,0),IF(AND(J49*1=J49,J49>0),1,0),IF(AND(J49=TRUNC(J49),J49>0),1,0),1,IF(ISNA(HLOOKUP(J49,$AU$4:$BD$4,1,0)),0,1)),0))) -> 0 | AX49: =IF(OR(K$30="",K$4=99),1,IF(K49="",0,IFERROR(CHOOSE(AX$28,IF(ISNA(MATCH(K49,$AR$30:$AS$30,0)),0,1),IF(ISNUMBER(K49),1,0),IF(K49=TRUNC(K49),1,0),IF(AND(K49*1=K49,K49>=0),1,0),IF(AND(K49=TRUNC(K49),K49>=0),1,0),IF(AND(K49*1=K49,K49>0),1,0),IF(AND(K49=TRUNC(K49),K49>0),1,0),1,IF(ISNA(HLOOKUP(K49,$AU$4:$BD$4,1,0)),0,1)),0))) -> 0 | AY49: =IF(OR(L$30="",L$4=99),1,IF(L49="",0,IFERROR(CHOOSE(AY$28,IF(ISNA(MATCH(L49,$AR$30:$AS$30,0)),0,1),IF(ISNUMBER(L49),1,0),IF(L49=TRUNC(L49),1,0),IF(AND(L49*1=L49,L49>=0),1,0),IF(AND(L49=TRUNC(L49),L49>=0),1,0),IF(AND(L49*1=L49,L49>0),1,0),IF(AND(L49=TRUNC(L49),L49>0),1,0),1,IF(ISNA(HLOOKUP(L49,$AU$4:$BD$4,1,0)),0,1)),0))) -> 0 | AZ49: =IF(OR(M$30="",M$4=99),1,IF(M49="",0,IFERROR(CHOOSE(AZ$28,IF(ISNA(MATCH(M49,$AR$30:$AS$30,0)),0,1),IF(ISNUMBER(M49),1,0),IF(M49=TRUNC(M49),1,0),IF(AND(M49*1=M49,M49>=0),1,0),IF(AND(M49=TRUNC(M49),M49>=0),1,0),IF(AND(M49*1=M49,M49>0),1,0),IF(AND(M49=TRUNC(M49),M49>0),1,0),1,IF(ISNA(HLOOKUP(M49,$AU$4:$BD$4,1,0)),0,1)),0))) -> 0 | BA49: =IF(OR(N$30="",N$4=99),1,IF(N49="",0,IFERROR(CHOOSE(BA$28,IF(ISNA(MATCH(N49,$AR$30:$AS$30,0)),0,1),IF(ISNUMBER(N49),1,0),IF(N49=TRUNC(N49),1,0),IF(AND(N49*1=N49,N49>=0),1,0),IF(AND(N49=TRUNC(N49),N49>=0),1,0),IF(AND(N49*1=N49,N49>0),1,0),IF(AND(N49=TRUNC(N49),N49>0),1,0),1,IF(ISNA(HLOOKUP(N49,$AU$4:$BD$4,1,0)),0,1)),0))) -> 0 | ... CB49: =IF(OR(AO$30="",AO$4=99),1,IF(AO49="",0,IFERROR(CHOOSE(CB$28,IF(ISNA(MATCH(AO49,$AR$30:$AS$30,0)),0,1),IF(ISNUMBER(AO49),1,0),IF(AO49=TRUNC(AO49),1,0),IF(AND(AO49*1=AO49,AO49>=0),1,0),IF(AND(AO49=TRUNC(AO49),AO49>=0),1,0),IF(AND(AO49*1=AO49,AO49>0),1,0),IF(AND(AO49=TRUNC(AO49),AO49>0),1,0),1,IF(ISNA(HLOOKUP(AO49,$AU$4:$BD$4,1,0)),0,1)),0))) -> 1 | CS49: =Z49>=CS$7 -> FALSE | CT49: =AA49>=CT$7 -> FALSE | CU49: =AB49>=CU$7 -> TRUE | CV49: =AC49>=CV$7 -> TRUE | CW49: =AD49>=CW$7 -> TRUE | CX49: =IF($F49="","",IF(SUMPRODUCT(--(CS49:CW49=TRUE))=COUNTA(CS49:CW49),1,0))
B50: =IF(F50="","",ROW()-30) | Q50: =IF($F50="","",IF(O50<P50,$AR$1,IF(AND(P50>O50*0.5,P50>=$P$5),1,0))) | AB50: =IF(F50="","",IF(Z50>=$Z$5*0.8,1,0)) | AC50: =IF(F50="","",IF(AA50>=$AA$5*0.8,1,0)) | AD50: =IF(G50="","",IF(AND(Z50>='פרמטרים לקריטריונים'!$D$19,AA50>='פרמטרים לקריטריונים'!$C$19),1,0)) | AE50: {=IF($F50="","",IF(OR(SUMPRODUCT(--(Z50:AA50>=$Z$5:$AA$5))=COUNTA($Z$29:$AA$29),OR(AND(X50=1,OR(AB50=1,AC50=1)),AND(Y50=1,AD50=1))),1,0))} | AJ50: =IF(F50="","",IF(G50>=$G$5,1,0)) | AO50: =IF($F50="","",IF(AK50=1,1,IF(AQ50<>1,$AR$1,IF(SUMPRODUCT(--(G50:AJ50>=$G$5:$AJ$5)*($G$5:$AJ$5<>"")*($G$4:$AJ$4=1))=COUNTIF($G$4:$AJ$4,1),1,0)))) | AQ50: =IF(OR(SUM(AT50:CB50)<>COUNT(AT50:CB50),SUMPRODUCT(--(G50:AJ50=$AR$1))<>0),0,1) -> 0 | AR50: =IF($F50="","",AR$30) | AS50: =IF($F50="","",AS$30) | AT50: =IF(OR(G$30="",G$4=99),1,IF(G50="",0,IFERROR(CHOOSE(AT$28,IF(ISNA(MATCH(G50,$AR$30:$AS$30,0)),0,1),IF(ISNUMBER(G50),1,0),IF(G50=TRUNC(G50),1,0),IF(AND(G50*1=G50,G50>=0),1,0),IF(AND(G50=TRUNC(G50),G50>=0),1,0),IF(AND(G50*1=G50,G50>0),1,0),IF(AND(G50=TRUNC(G50),G50>0),1,0),1,IF(ISNA(HLOOKUP(G50,$AU$4:$BD$4,1,0)),0,1)),0))) -> 0 | AU50: =IF(OR(H$30="",H$4=99),1,IF(H50="",0,IFERROR(CHOOSE(AU$28,IF(ISNA(MATCH(H50,$AR$30:$AS$30,0)),0,1),IF(ISNUMBER(H50),1,0),IF(H50=TRUNC(H50),1,0),IF(AND(H50*1=H50,H50>=0),1,0),IF(AND(H50=TRUNC(H50),H50>=0),1,0),IF(AND(H50*1=H50,H50>0),1,0),IF(AND(H50=TRUNC(H50),H50>0),1,0),1,IF(ISNA(HLOOKUP(H50,$AU$4:$BD$4,1,0)),0,1)),0))) -> 0 | AV50: =IF(OR(I$30="",I$4=99),1,IF(I50="",0,IFERROR(CHOOSE(AV$28,IF(ISNA(MATCH(I50,$AR$30:$AS$30,0)),0,1),IF(ISNUMBER(I50),1,0),IF(I50=TRUNC(I50),1,0),IF(AND(I50*1=I50,I50>=0),1,0),IF(AND(I50=TRUNC(I50),I50>=0),1,0),IF(AND(I50*1=I50,I50>0),1,0),IF(AND(I50=TRUNC(I50),I50>0),1,0),1,IF(ISNA(HLOOKUP(I50,$AU$4:$BD$4,1,0)),0,1)),0))) -> 0 | AW50: =IF(OR(J$30="",J$4=99),1,IF(J50="",0,IFERROR(CHOOSE(AW$28,IF(ISNA(MATCH(J50,$AR$30:$AS$30,0)),0,1),IF(ISNUMBER(J50),1,0),IF(J50=TRUNC(J50),1,0),IF(AND(J50*1=J50,J50>=0),1,0),IF(AND(J50=TRUNC(J50),J50>=0),1,0),IF(AND(J50*1=J50,J50>0),1,0),IF(AND(J50=TRUNC(J50),J50>0),1,0),1,IF(ISNA(HLOOKUP(J50,$AU$4:$BD$4,1,0)),0,1)),0))) -> 0 | AX50: =IF(OR(K$30="",K$4=99),1,IF(K50="",0,IFERROR(CHOOSE(AX$28,IF(ISNA(MATCH(K50,$AR$30:$AS$30,0)),0,1),IF(ISNUMBER(K50),1,0),IF(K50=TRUNC(K50),1,0),IF(AND(K50*1=K50,K50>=0),1,0),IF(AND(K50=TRUNC(K50),K50>=0),1,0),IF(AND(K50*1=K50,K50>0),1,0),IF(AND(K50=TRUNC(K50),K50>0),1,0),1,IF(ISNA(HLOOKUP(K50,$AU$4:$BD$4,1,0)),0,1)),0))) -> 0 | AY50: =IF(OR(L$30="",L$4=99),1,IF(L50="",0,IFERROR(CHOOSE(AY$28,IF(ISNA(MATCH(L50,$AR$30:$AS$30,0)),0,1),IF(ISNUMBER(L50),1,0),IF(L50=TRUNC(L50),1,0),IF(AND(L50*1=L50,L50>=0),1,0),IF(AND(L50=TRUNC(L50),L50>=0),1,0),IF(AND(L50*1=L50,L50>0),1,0),IF(AND(L50=TRUNC(L50),L50>0),1,0),1,IF(ISNA(HLOOKUP(L50,$AU$4:$BD$4,1,0)),0,1)),0))) -> 0 | AZ50: =IF(OR(M$30="",M$4=99),1,IF(M50="",0,IFERROR(CHOOSE(AZ$28,IF(ISNA(MATCH(M50,$AR$30:$AS$30,0)),0,1),IF(ISNUMBER(M50),1,0),IF(M50=TRUNC(M50),1,0),IF(AND(M50*1=M50,M50>=0),1,0),IF(AND(M50=TRUNC(M50),M50>=0),1,0),IF(AND(M50*1=M50,M50>0),1,0),IF(AND(M50=TRUNC(M50),M50>0),1,0),1,IF(ISNA(HLOOKUP(M50,$AU$4:$BD$4,1,0)),0,1)),0))) -> 0 | BA50: =IF(OR(N$30="",N$4=99),1,IF(N50="",0,IFERROR(CHOOSE(BA$28,IF(ISNA(MATCH(N50,$AR$30:$AS$30,0)),0,1),IF(ISNUMBER(N50),1,0),IF(N50=TRUNC(N50),1,0),IF(AND(N50*1=N50,N50>=0),1,0),IF(AND(N50=TRUNC(N50),N50>=0),1,0),IF(AND(N50*1=N50,N50>0),1,0),IF(AND(N50=TRUNC(N50),N50>0),1,0),1,IF(ISNA(HLOOKUP(N50,$AU$4:$BD$4,1,0)),0,1)),0))) -> 0 | ... CB50: =IF(OR(AO$30="",AO$4=99),1,IF(AO50="",0,IFERROR(CHOOSE(CB$28,IF(ISNA(MATCH(AO50,$AR$30:$AS$30,0)),0,1),IF(ISNUMBER(AO50),1,0),IF(AO50=TRUNC(AO50),1,0),IF(AND(AO50*1=AO50,AO50>=0),1,0),IF(AND(AO50=TRUNC(AO50),AO50>=0),1,0),IF(AND(AO50*1=AO50,AO50>0),1,0),IF(AND(AO50=TRUNC(AO50),AO50>0),1,0),1,IF(ISNA(HLOOKUP(AO50,$AU$4:$BD$4,1,0)),0,1)),0))) -> 1 | CS50: =Z50>=CS$7 -> FALSE | CT50: =AA50>=CT$7 -> FALSE | CU50: =AB50>=CU$7 -> TRUE | CV50: =AC50>=CV$7 -> TRUE | CW50: =AD50>=CW$7 -> TRUE | CX50: =IF($F50="","",IF(SUMPRODUCT(--(CS50:CW50=TRUE))=COUNTA(CS50:CW50),1,0))
B51: =IF(F51="","",ROW()-30) -> 21 | F51: חמישיית תל אביב לכלי נשיפה | G51: 1 | H51: 1 | I51: 1 | J51: 1 | K51: 1 | L51: 1 | M51: 1 | N51: 1 | O51: 15 | P51: 15 | Q51: =IF($F51="","",IF(O51<P51,$AR$1,IF(AND(P51>O51*0.5,P51>=$P$5),1,0))) -> 1 | R51: 1 | S51: 1 | T51: 1 | U51: 1 | Z51: 29 | AA51: 321375 | AB51: =IF(F51="","",IF(Z51>=$Z$5*0.8,1,0)) -> 1 | AC51: =IF(F51="","",IF(AA51>=$AA$5*0.8,1,0)) -> 1 | AD51: =IF(G51="","",IF(AND(Z51>='פרמטרים לקריטריונים'!$D$19,AA51>='פרמטרים לקריטריונים'!$C$19),1,0)) -> 1 | AE51: {=IF($F51="","",IF(OR(SUMPRODUCT(--(Z51:AA51>=$Z$5:$AA$5))=COUNTA($Z$29:$AA$29),OR(AND(X51=1,OR(AB51=1,AC51=1)),AND(Y51=1,AD51=1))),1,0))} -> 1 | AG51: 1 | AH51: 1 | AI51: 1 | AJ51: =IF(F51="","",IF(G51>=$G$5,1,0)) -> 1 | AO51: =IF($F51="","",IF(AK51=1,1,IF(AQ51<>1,$AR$1,IF(SUMPRODUCT(--(G51:AJ51>=$G$5:$AJ$5)*($G$5:$AJ$5<>"")*($G$4:$AJ$4=1))=COUNTIF($G$4:$AJ$4,1),1,0)))) -> 1 | AP51: עומד בתנאי סף האמנותי ובתנאי הסף הכמותיים כקבוצה מוסיקלית. | AQ51: =IF(OR(SUM(AT51:CB51)<>COUNT(AT51:CB51),SUMPRODUCT(--(G51:AJ51=$AR$1))<>0),0,1) -> 1 | AR51: =IF($F51="","",AR$30) -> 0 | AS51: =IF($F51="","",AS$30) -> 1 | AT51: =IF(OR(G$30="",G$4=99),1,IF(G51="",0,IFERROR(CHOOSE(AT$28,IF(ISNA(MATCH(G51,$AR$30:$AS$30,0)),0,1),IF(ISNUMBER(G51),1,0),IF(G51=TRUNC(G51),1,0),IF(AND(G51*1=G51,G51>=0),1,0),IF(AND(G51=TRUNC(G51),G51>=0),1,0),IF(AND(G51*1=G51,G51>0),1,0),IF(AND(G51=TRUNC(G51),G51>0),1,0),1,IF(ISNA(HLOOKUP(G51,$AU$4:$BD$4,1,0)),0,1)),0))) -> 1 | AU51: =IF(OR(H$30="",H$4=99),1,IF(H51="",0,IFERROR(CHOOSE(AU$28,IF(ISNA(MATCH(H51,$AR$30:$AS$30,0)),0,1),IF(ISNUMBER(H51),1,0),IF(H51=TRUNC(H51),1,0),IF(AND(H51*1=H51,H51>=0),1,0),IF(AND(H51=TRUNC(H51),H51>=0),1,0),IF(AND(H51*1=H51,H51>0),1,0),IF(AND(H51=TRUNC(H51),H51>0),1,0),1,IF(ISNA(HLOOKUP(H51,$AU$4:$BD$4,1,0)),0,1)),0))) -> 1 | AV51: =IF(OR(I$30="",I$4=99),1,IF(I51="",0,IFERROR(CHOOSE(AV$28,IF(ISNA(MATCH(I51,$AR$30:$AS$30,0)),0,1),IF(ISNUMBER(I51),1,0),IF(I51=TRUNC(I51),1,0),IF(AND(I51*1=I51,I51>=0),1,0),IF(AND(I51=TRUNC(I51),I51>=0),1,0),IF(AND(I51*1=I51,I51>0),1,0),IF(AND(I51=TRUNC(I51),I51>0),1,0),1,IF(ISNA(HLOOKUP(I51,$AU$4:$BD$4,1,0)),0,1)),0))) -> 1 | AW51: =IF(OR(J$30="",J$4=99),1,IF(J51="",0,IFERROR(CHOOSE(AW$28,IF(ISNA(MATCH(J51,$AR$30:$AS$30,0)),0,1),IF(ISNUMBER(J51),1,0),IF(J51=TRUNC(J51),1,0),IF(AND(J51*1=J51,J51>=0),1,0),IF(AND(J51=TRUNC(J51),J51>=0),1,0),IF(AND(J51*1=J51,J51>0),1,0),IF(AND(J51=TRUNC(J51),J51>0),1,0),1,IF(ISNA(HLOOKUP(J51,$AU$4:$BD$4,1,0)),0,1)),0))) -> 1 | AX51: =IF(OR(K$30="",K$4=99),1,IF(K51="",0,IFERROR(CHOOSE(AX$28,IF(ISNA(MATCH(K51,$AR$30:$AS$30,0)),0,1),IF(ISNUMBER(K51),1,0),IF(K51=TRUNC(K51),1,0),IF(AND(K51*1=K51,K51>=0),1,0),IF(AND(K51=TRUNC(K51),K51>=0),1,0),IF(AND(K51*1=K51,K51>0),1,0),IF(AND(K51=TRUNC(K51),K51>0),1,0),1,IF(ISNA(HLOOKUP(K51,$AU$4:$BD$4,1,0)),0,1)),0))) -> 1 | AY51: =IF(OR(L$30="",L$4=99),1,IF(L51="",0,IFERROR(CHOOSE(AY$28,IF(ISNA(MATCH(L51,$AR$30:$AS$30,0)),0,1),IF(ISNUMBER(L51),1,0),IF(L51=TRUNC(L51),1,0),IF(AND(L51*1=L51,L51>=0),1,0),IF(AND(L51=TRUNC(L51),L51>=0),1,0),IF(AND(L51*1=L51,L51>0),1,0),IF(AND(L51=TRUNC(L51),L51>0),1,0),1,IF(ISNA(HLOOKUP(L51,$AU$4:$BD$4,1,0)),0,1)),0))) -> 1 | AZ51: =IF(OR(M$30="",M$4=99),1,IF(M51="",0,IFERROR(CHOOSE(AZ$28,IF(ISNA(MATCH(M51,$AR$30:$AS$30,0)),0,1),IF(ISNUMBER(M51),1,0),IF(M51=TRUNC(M51),1,0),IF(AND(M51*1=M51,M51>=0),1,0),IF(AND(M51=TRUNC(M51),M51>=0),1,0),IF(AND(M51*1=M51,M51>0),1,0),IF(AND(M51=TRUNC(M51),M51>0),1,0),1,IF(ISNA(HLOOKUP(M51,$AU$4:$BD$4,1,0)),0,1)),0))) -> 1 | BA51: =IF(OR(N$30="",N$4=99),1,IF(N51="",0,IFERROR(CHOOSE(BA$28,IF(ISNA(MATCH(N51,$AR$30:$AS$30,0)),0,1),IF(ISNUMBER(N51),1,0),IF(N51=TRUNC(N51),1,0),IF(AND(N51*1=N51,N51>=0),1,0),IF(AND(N51=TRUNC(N51),N51>=0),1,0),IF(AND(N51*1=N51,N51>0),1,0),IF(AND(N51=TRUNC(N51),N51>0),1,0),1,IF(ISNA(HLOOKUP(N51,$AU$4:$BD$4,1,0)),0,1)),0))) -> 1 | ... CB51: =IF(OR(AO$30="",AO$4=99),1,IF(AO51="",0,IFERROR(CHOOSE(CB$28,IF(ISNA(MATCH(AO51,$AR$30:$AS$30,0)),0,1),IF(ISNUMBER(AO51),1,0),IF(AO51=TRUNC(AO51),1,0),IF(AND(AO51*1=AO51,AO51>=0),1,0),IF(AND(AO51=TRUNC(AO51),AO51>=0),1,0),IF(AND(AO51*1=AO51,AO51>0),1,0),IF(AND(AO51=TRUNC(AO51),AO51>0),1,0),1,IF(ISNA(HLOOKUP(AO51,$AU$4:$BD$4,1,0)),0,1)),0))) -> 1 | CS51: =Z51>=CS$7 -> TRUE | CT51: =AA51>=CT$7 -> TRUE | CU51: =AB51>=CU$7 -> TRUE | CV51: =AC51>=CV$7 -> TRUE | CW51: =AD51>=CW$7 -> TRUE | CX51: =IF($F51="","",IF(SUMPRODUCT(--(CS51:CW51=TRUE))=COUNTA(CS51:CW51),1,0)) -> 1
B52: =IF(F52="","",ROW()-30) -> 22 | F52: הרכב אקוט | G52: 1 | H52: 1 | I52: 1 | J52: 1 | K52: 1 | L52: 1 | M52: 1 | N52: 1 | O52: 8 | P52: 7 | Q52: =IF($F52="","",IF(O52<P52,$AR$1,IF(AND(P52>O52*0.5,P52>=$P$5),1,0))) -> 1 | R52: 1 | S52: 1 | T52: 1 | U52: 1 | Z52: 32 | AA52: 290193 | AB52: =IF(F52="","",IF(Z52>=$Z$5*0.8,1,0)) -> 1 | AC52: =IF(F52="","",IF(AA52>=$AA$5*0.8,1,0)) -> 1 | AD52: =IF(G52="","",IF(AND(Z52>='פרמטרים לקריטריונים'!$D$19,AA52>='פרמטרים לקריטריונים'!$C$19),1,0)) -> 1 | AE52: {=IF($F52="","",IF(OR(SUMPRODUCT(--(Z52:AA52>=$Z$5:$AA$5))=COUNTA($Z$29:$AA$29),OR(AND(X52=1,OR(AB52=1,AC52=1)),AND(Y52=1,AD52=1))),1,0))} -> 1 | AG52: 1 | AH52: 1 | AI52: 1 | AJ52: =IF(F52="","",IF(G52>=$G$5,1,0)) -> 1 | AO52: =IF($F52="","",IF(AK52=1,1,IF(AQ52<>1,$AR$1,IF(SUMPRODUCT(--(G52:AJ52>=$G$5:$AJ$5)*($G$5:$AJ$5<>"")*($G$4:$AJ$4=1))=COUNTIF($G$4:$AJ$4,1),1,0)))) -> 1 | AP52: עומד בתנאי סף האמנותי ובתנאי הסף הכמותיים כקבוצה מוסיקלית. | AQ52: =IF(OR(SUM(AT52:CB52)<>COUNT(AT52:CB52),SUMPRODUCT(--(G52:AJ52=$AR$1))<>0),0,1) -> 1 | AR52: =IF($F52="","",AR$30) -> 0 | AS52: =IF($F52="","",AS$30) -> 1 | AT52: =IF(OR(G$30="",G$4=99),1,IF(G52="",0,IFERROR(CHOOSE(AT$28,IF(ISNA(MATCH(G52,$AR$30:$AS$30,0)),0,1),IF(ISNUMBER(G52),1,0),IF(G52=TRUNC(G52),1,0),IF(AND(G52*1=G52,G52>=0),1,0),IF(AND(G52=TRUNC(G52),G52>=0),1,0),IF(AND(G52*1=G52,G52>0),1,0),IF(AND(G52=TRUNC(G52),G52>0),1,0),1,IF(ISNA(HLOOKUP(G52,$AU$4:$BD$4,1,0)),0,1)),0))) -> 1 | AU52: =IF(OR(H$30="",H$4=99),1,IF(H52="",0,IFERROR(CHOOSE(AU$28,IF(ISNA(MATCH(H52,$AR$30:$AS$30,0)),0,1),IF(ISNUMBER(H52),1,0),IF(H52=TRUNC(H52),1,0),IF(AND(H52*1=H52,H52>=0),1,0),IF(AND(H52=TRUNC(H52),H52>=0),1,0),IF(AND(H52*1=H52,H52>0),1,0),IF(AND(H52=TRUNC(H52),H52>0),1,0),1,IF(ISNA(HLOOKUP(H52,$AU$4:$BD$4,1,0)),0,1)),0))) -> 1 | AV52: =IF(OR(I$30="",I$4=99),1,IF(I52="",0,IFERROR(CHOOSE(AV$28,IF(ISNA(MATCH(I52,$AR$30:$AS$30,0)),0,1),IF(ISNUMBER(I52),1,0),IF(I52=TRUNC(I52),1,0),IF(AND(I52*1=I52,I52>=0),1,0),IF(AND(I52=TRUNC(I52),I52>=0),1,0),IF(AND(I52*1=I52,I52>0),1,0),IF(AND(I52=TRUNC(I52),I52>0),1,0),1,IF(ISNA(HLOOKUP(I52,$AU$4:$BD$4,1,0)),0,1)),0))) -> 1 | AW52: =IF(OR(J$30="",J$4=99),1,IF(J52="",0,IFERROR(CHOOSE(AW$28,IF(ISNA(MATCH(J52,$AR$30:$AS$30,0)),0,1),IF(ISNUMBER(J52),1,0),IF(J52=TRUNC(J52),1,0),IF(AND(J52*1=J52,J52>=0),1,0),IF(AND(J52=TRUNC(J52),J52>=0),1,0),IF(AND(J52*1=J52,J52>0),1,0),IF(AND(J52=TRUNC(J52),J52>0),1,0),1,IF(ISNA(HLOOKUP(J52,$AU$4:$BD$4,1,0)),0,1)),0))) -> 1 | AX52: =IF(OR(K$30="",K$4=99),1,IF(K52="",0,IFERROR(CHOOSE(AX$28,IF(ISNA(MATCH(K52,$AR$30:$AS$30,0)),0,1),IF(ISNUMBER(K52),1,0),IF(K52=TRUNC(K52),1,0),IF(AND(K52*1=K52,K52>=0),1,0),IF(AND(K52=TRUNC(K52),K52>=0),1,0),IF(AND(K52*1=K52,K52>0),1,0),IF(AND(K52=TRUNC(K52),K52>0),1,0),1,IF(ISNA(HLOOKUP(K52,$AU$4:$BD$4,1,0)),0,1)),0))) -> 1 | AY52: =IF(OR(L$30="",L$4=99),1,IF(L52="",0,IFERROR(CHOOSE(AY$28,IF(ISNA(MATCH(L52,$AR$30:$AS$30,0)),0,1),IF(ISNUMBER(L52),1,0),IF(L52=TRUNC(L52),1,0),IF(AND(L52*1=L52,L52>=0),1,0),IF(AND(L52=TRUNC(L52),L52>=0),1,0),IF(AND(L52*1=L52,L52>0),1,0),IF(AND(L52=TRUNC(L52),L52>0),1,0),1,IF(ISNA(HLOOKUP(L52,$AU$4:$BD$4,1,0)),0,1)),0))) -> 1 | AZ52: =IF(OR(M$30="",M$4=99),1,IF(M52="",0,IFERROR(CHOOSE(AZ$28,IF(ISNA(MATCH(M52,$AR$30:$AS$30,0)),0,1),IF(ISNUMBER(M52),1,0),IF(M52=TRUNC(M52),1,0),IF(AND(M52*1=M52,M52>=0),1,0),IF(AND(M52=TRUNC(M52),M52>=0),1,0),IF(AND(M52*1=M52,M52>0),1,0),IF(AND(M52=TRUNC(M52),M52>0),1,0),1,IF(ISNA(HLOOKUP(M52,$AU$4:$BD$4,1,0)),0,1)),0))) -> 1 | BA52: =IF(OR(N$30="",N$4=99),1,IF(N52="",0,IFERROR(CHOOSE(BA$28,IF(ISNA(MATCH(N52,$AR$30:$AS$30,0)),0,1),IF(ISNUMBER(N52),1,0),IF(N52=TRUNC(N52),1,0),IF(AND(N52*1=N52,N52>=0),1,0),IF(AND(N52=TRUNC(N52),N52>=0),1,0),IF(AND(N52*1=N52,N52>0),1,0),IF(AND(N52=TRUNC(N52),N52>0),1,0),1,IF(ISNA(HLOOKUP(N52,$AU$4:$BD$4,1,0)),0,1)),0))) -> 1 | ... CB52: =IF(OR(AO$30="",AO$4=99),1,IF(AO52="",0,IFERROR(CHOOSE(CB$28,IF(ISNA(MATCH(AO52,$AR$30:$AS$30,0)),0,1),IF(ISNUMBER(AO52),1,0),IF(AO52=TRUNC(AO52),1,0),IF(AND(AO52*1=AO52,AO52>=0),1,0),IF(AND(AO52=TRUNC(AO52),AO52>=0),1,0),IF(AND(AO52*1=AO52,AO52>0),1,0),IF(AND(AO52=TRUNC(AO52),AO52>0),1,0),1,IF(ISNA(HLOOKUP(AO52,$AU$4:$BD$4,1,0)),0,1)),0))) -> 1 | CS52: =Z52>=CS$7 -> TRUE | CT52: =AA52>=CT$7 -> TRUE | CU52: =AB52>=CU$7 -> TRUE | CV52: =AC52>=CV$7 -> TRUE | CW52: =AD52>=CW$7 -> TRUE | CX52: =IF($F52="","",IF(SUMPRODUCT(--(CS52:CW52=TRUE))=COUNTA(CS52:CW52),1,0)) -> 1
B53: =IF(F53="","",ROW()-30) -> 23 | F53: שלישיית עתר | G53: 1 | H53: 1 | I53: 1 | J53: 1 | K53: 1 | L53: 1 | M53: 1 | N53: 1 | O53: 3 | P53: 3 | Q53: =IF($F53="","",IF(O53<P53,$AR$1,IF(AND(P53>O53*0.5,P53>=$P$5),1,0))) -> 1 | R53: 1 | S53: 1 | T53: 1 | U53: 1 | Z53: 28 | AA53: 83561 | AB53: =IF(F53="","",IF(Z53>=$Z$5*0.8,1,0)) -> 1 | AC53: =IF(F53="","",IF(AA53>=$AA$5*0.8,1,0)) -> 1 | AD53: =IF(G53="","",IF(AND(Z53>='פרמטרים לקריטריונים'!$D$19,AA53>='פרמטרים לקריטריונים'!$C$19),1,0)) -> 1 | AE53: {=IF($F53="","",IF(OR(SUMPRODUCT(--(Z53:AA53>=$Z$5:$AA$5))=COUNTA($Z$29:$AA$29),OR(AND(X53=1,OR(AB53=1,AC53=1)),AND(Y53=1,AD53=1))),1,0))} -> 1 | AG53: 1 | AH53: 1 | AI53: 1 | AJ53: =IF(F53="","",IF(G53>=$G$5,1,0)) -> 1 | AO53: =IF($F53="","",IF(AK53=1,1,IF(AQ53<>1,$AR$1,IF(SUMPRODUCT(--(G53:AJ53>=$G$5:$AJ$5)*($G$5:$AJ$5<>"")*($G$4:$AJ$4=1))=COUNTIF($G$4:$AJ$4,1),1,0)))) -> 1 | AP53: עומד בתנאי סף האמנותי ובתנאי הסף הכמותיים כקבוצה מוסיקלית. | AQ53: =IF(OR(SUM(AT53:CB53)<>COUNT(AT53:CB53),SUMPRODUCT(--(G53:AJ53=$AR$1))<>0),0,1) -> 1 | AR53: =IF($F53="","",AR$30) -> 0 | AS53: =IF($F53="","",AS$30) -> 1 | AT53: =IF(OR(G$30="",G$4=99),1,IF(G53="",0,IFERROR(CHOOSE(AT$28,IF(ISNA(MATCH(G53,$AR$30:$AS$30,0)),0,1),IF(ISNUMBER(G53),1,0),IF(G53=TRUNC(G53),1,0),IF(AND(G53*1=G53,G53>=0),1,0),IF(AND(G53=TRUNC(G53),G53>=0),1,0),IF(AND(G53*1=G53,G53>0),1,0),IF(AND(G53=TRUNC(G53),G53>0),1,0),1,IF(ISNA(HLOOKUP(G53,$AU$4:$BD$4,1,0)),0,1)),0))) -> 1 | AU53: =IF(OR(H$30="",H$4=99),1,IF(H53="",0,IFERROR(CHOOSE(AU$28,IF(ISNA(MATCH(H53,$AR$30:$AS$30,0)),0,1),IF(ISNUMBER(H53),1,0),IF(H53=TRUNC(H53),1,0),IF(AND(H53*1=H53,H53>=0),1,0),IF(AND(H53=TRUNC(H53),H53>=0),1,0),IF(AND(H53*1=H53,H53>0),1,0),IF(AND(H53=TRUNC(H53),H53>0),1,0),1,IF(ISNA(HLOOKUP(H53,$AU$4:$BD$4,1,0)),0,1)),0))) -> 1 | AV53: =IF(OR(I$30="",I$4=99),1,IF(I53="",0,IFERROR(CHOOSE(AV$28,IF(ISNA(MATCH(I53,$AR$30:$AS$30,0)),0,1),IF(ISNUMBER(I53),1,0),IF(I53=TRUNC(I53),1,0),IF(AND(I53*1=I53,I53>=0),1,0),IF(AND(I53=TRUNC(I53),I53>=0),1,0),IF(AND(I53*1=I53,I53>0),1,0),IF(AND(I53=TRUNC(I53),I53>0),1,0),1,IF(ISNA(HLOOKUP(I53,$AU$4:$BD$4,1,0)),0,1)),0))) -> 1 | AW53: =IF(OR(J$30="",J$4=99),1,IF(J53="",0,IFERROR(CHOOSE(AW$28,IF(ISNA(MATCH(J53,$AR$30:$AS$30,0)),0,1),IF(ISNUMBER(J53),1,0),IF(J53=TRUNC(J53),1,0),IF(AND(J53*1=J53,J53>=0),1,0),IF(AND(J53=TRUNC(J53),J53>=0),1,0),IF(AND(J53*1=J53,J53>0),1,0),IF(AND(J53=TRUNC(J53),J53>0),1,0),1,IF(ISNA(HLOOKUP(J53,$AU$4:$BD$4,1,0)),0,1)),0))) -> 1 | AX53: =IF(OR(K$30="",K$4=99),1,IF(K53="",0,IFERROR(CHOOSE(AX$28,IF(ISNA(MATCH(K53,$AR$30:$AS$30,0)),0,1),IF(ISNUMBER(K53),1,0),IF(K53=TRUNC(K53),1,0),IF(AND(K53*1=K53,K53>=0),1,0),IF(AND(K53=TRUNC(K53),K53>=0),1,0),IF(AND(K53*1=K53,K53>0),1,0),IF(AND(K53=TRUNC(K53),K53>0),1,0),1,IF(ISNA(HLOOKUP(K53,$AU$4:$BD$4,1,0)),0,1)),0))) -> 1 | AY53: =IF(OR(L$30="",L$4=99),1,IF(L53="",0,IFERROR(CHOOSE(AY$28,IF(ISNA(MATCH(L53,$AR$30:$AS$30,0)),0,1),IF(ISNUMBER(L53),1,0),IF(L53=TRUNC(L53),1,0),IF(AND(L53*1=L53,L53>=0),1,0),IF(AND(L53=TRUNC(L53),L53>=0),1,0),IF(AND(L53*1=L53,L53>0),1,0),IF(AND(L53=TRUNC(L53),L53>0),1,0),1,IF(ISNA(HLOOKUP(L53,$AU$4:$BD$4,1,0)),0,1)),0))) -> 1 | AZ53: =IF(OR(M$30="",M$4=99),1,IF(M53="",0,IFERROR(CHOOSE(AZ$28,IF(ISNA(MATCH(M53,$AR$30:$AS$30,0)),0,1),IF(ISNUMBER(M53),1,0),IF(M53=TRUNC(M53),1,0),IF(AND(M53*1=M53,M53>=0),1,0),IF(AND(M53=TRUNC(M53),M53>=0),1,0),IF(AND(M53*1=M53,M53>0),1,0),IF(AND(M53=TRUNC(M53),M53>0),1,0),1,IF(ISNA(HLOOKUP(M53,$AU$4:$BD$4,1,0)),0,1)),0))) -> 1 | BA53: =IF(OR(N$30="",N$4=99),1,IF(N53="",0,IFERROR(CHOOSE(BA$28,IF(ISNA(MATCH(N53,$AR$30:$AS$30,0)),0,1),IF(ISNUMBER(N53),1,0),IF(N53=TRUNC(N53),1,0),IF(AND(N53*1=N53,N53>=0),1,0),IF(AND(N53=TRUNC(N53),N53>=0),1,0),IF(AND(N53*1=N53,N53>0),1,0),IF(AND(N53=TRUNC(N53),N53>0),1,0),1,IF(ISNA(HLOOKUP(N53,$AU$4:$BD$4,1,0)),0,1)),0))) -> 1 | ... CB53: =IF(OR(AO$30="",AO$4=99),1,IF(AO53="",0,IFERROR(CHOOSE(CB$28,IF(ISNA(MATCH(AO53,$AR$30:$AS$30,0)),0,1),IF(ISNUMBER(AO53),1,0),IF(AO53=TRUNC(AO53),1,0),IF(AND(AO53*1=AO53,AO53>=0),1,0),IF(AND(AO53=TRUNC(AO53),AO53>=0),1,0),IF(AND(AO53*1=AO53,AO53>0),1,0),IF(AND(AO53=TRUNC(AO53),AO53>0),1,0),1,IF(ISNA(HLOOKUP(AO53,$AU$4:$BD$4,1,0)),0,1)),0))) -> 1 | CS53: =Z53>=CS$7 -> TRUE | CT53: =AA53>=CT$7 -> TRUE | CU53: =AB53>=CU$7 -> TRUE | CV53: =AC53>=CV$7 -> TRUE | CW53: =AD53>=CW$7 -> TRUE | CX53: =IF($F53="","",IF(SUMPRODUCT(--(CS53:CW53=TRUE))=COUNTA(CS53:CW53),1,0)) -> 1
B54: =IF(F54="","",ROW()-30) | Q54: =IF($F54="","",IF(O54<P54,$AR$1,IF(AND(P54>O54*0.5,P54>=$P$5),1,0))) | AB54: =IF(F54="","",IF(Z54>=$Z$5*0.8,1,0)) | AC54: =IF(F54="","",IF(AA54>=$AA$5*0.8,1,0)) | AD54: =IF(G54="","",IF(AND(Z54>='פרמטרים לקריטריונים'!$D$19,AA54>='פרמטרים לקריטריונים'!$C$19),1,0)) | AE54: {=IF($F54="","",IF(OR(SUMPRODUCT(--(Z54:AA54>=$Z$5:$AA$5))=COUNTA($Z$29:$AA$29),OR(AND(X54=1,OR(AB54=1,AC54=1)),AND(Y54=1,AD54=1))),1,0))} | AJ54: =IF(F54="","",IF(G54>=$G$5,1,0)) | AO54: =IF($F54="","",IF(AK54=1,1,IF(AQ54<>1,$AR$1,IF(SUMPRODUCT(--(G54:AJ54>=$G$5:$AJ$5)*($G$5:$AJ$5<>"")*($G$4:$AJ$4=1))=COUNTIF($G$4:$AJ$4,1),1,0)))) | AQ54: =IF(OR(SUM(AT54:CB54)<>COUNT(AT54:CB54),SUMPRODUCT(--(G54:AJ54=$AR$1))<>0),0,1) -> 0 | AR54: =IF($F54="","",AR$30) | AS54: =IF($F54="","",AS$30) | AT54: =IF(OR(G$30="",G$4=99),1,IF(G54="",0,IFERROR(CHOOSE(AT$28,IF(ISNA(MATCH(G54,$AR$30:$AS$30,0)),0,1),IF(ISNUMBER(G54),1,0),IF(G54=TRUNC(G54),1,0),IF(AND(G54*1=G54,G54>=0),1,0),IF(AND(G54=TRUNC(G54),G54>=0),1,0),IF(AND(G54*1=G54,G54>0),1,0),IF(AND(G54=TRUNC(G54),G54>0),1,0),1,IF(ISNA(HLOOKUP(G54,$AU$4:$BD$4,1,0)),0,1)),0))) -> 0 | AU54: =IF(OR(H$30="",H$4=99),1,IF(H54="",0,IFERROR(CHOOSE(AU$28,IF(ISNA(MATCH(H54,$AR$30:$AS$30,0)),0,1),IF(ISNUMBER(H54),1,0),IF(H54=TRUNC(H54),1,0),IF(AND(H54*1=H54,H54>=0),1,0),IF(AND(H54=TRUNC(H54),H54>=0),1,0),IF(AND(H54*1=H54,H54>0),1,0),IF(AND(H54=TRUNC(H54),H54>0),1,0),1,IF(ISNA(HLOOKUP(H54,$AU$4:$BD$4,1,0)),0,1)),0))) -> 0 | AV54: =IF(OR(I$30="",I$4=99),1,IF(I54="",0,IFERROR(CHOOSE(AV$28,IF(ISNA(MATCH(I54,$AR$30:$AS$30,0)),0,1),IF(ISNUMBER(I54),1,0),IF(I54=TRUNC(I54),1,0),IF(AND(I54*1=I54,I54>=0),1,0),IF(AND(I54=TRUNC(I54),I54>=0),1,0),IF(AND(I54*1=I54,I54>0),1,0),IF(AND(I54=TRUNC(I54),I54>0),1,0),1,IF(ISNA(HLOOKUP(I54,$AU$4:$BD$4,1,0)),0,1)),0))) -> 0 | AW54: =IF(OR(J$30="",J$4=99),1,IF(J54="",0,IFERROR(CHOOSE(AW$28,IF(ISNA(MATCH(J54,$AR$30:$AS$30,0)),0,1),IF(ISNUMBER(J54),1,0),IF(J54=TRUNC(J54),1,0),IF(AND(J54*1=J54,J54>=0),1,0),IF(AND(J54=TRUNC(J54),J54>=0),1,0),IF(AND(J54*1=J54,J54>0),1,0),IF(AND(J54=TRUNC(J54),J54>0),1,0),1,IF(ISNA(HLOOKUP(J54,$AU$4:$BD$4,1,0)),0,1)),0))) -> 0 | AX54: =IF(OR(K$30="",K$4=99),1,IF(K54="",0,IFERROR(CHOOSE(AX$28,IF(ISNA(MATCH(K54,$AR$30:$AS$30,0)),0,1),IF(ISNUMBER(K54),1,0),IF(K54=TRUNC(K54),1,0),IF(AND(K54*1=K54,K54>=0),1,0),IF(AND(K54=TRUNC(K54),K54>=0),1,0),IF(AND(K54*1=K54,K54>0),1,0),IF(AND(K54=TRUNC(K54),K54>0),1,0),1,IF(ISNA(HLOOKUP(K54,$AU$4:$BD$4,1,0)),0,1)),0))) -> 0 | AY54: =IF(OR(L$30="",L$4=99),1,IF(L54="",0,IFERROR(CHOOSE(AY$28,IF(ISNA(MATCH(L54,$AR$30:$AS$30,0)),0,1),IF(ISNUMBER(L54),1,0),IF(L54=TRUNC(L54),1,0),IF(AND(L54*1=L54,L54>=0),1,0),IF(AND(L54=TRUNC(L54),L54>=0),1,0),IF(AND(L54*1=L54,L54>0),1,0),IF(AND(L54=TRUNC(L54),L54>0),1,0),1,IF(ISNA(HLOOKUP(L54,$AU$4:$BD$4,1,0)),0,1)),0))) -> 0 | AZ54: =IF(OR(M$30="",M$4=99),1,IF(M54="",0,IFERROR(CHOOSE(AZ$28,IF(ISNA(MATCH(M54,$AR$30:$AS$30,0)),0,1),IF(ISNUMBER(M54),1,0),IF(M54=TRUNC(M54),1,0),IF(AND(M54*1=M54,M54>=0),1,0),IF(AND(M54=TRUNC(M54),M54>=0),1,0),IF(AND(M54*1=M54,M54>0),1,0),IF(AND(M54=TRUNC(M54),M54>0),1,0),1,IF(ISNA(HLOOKUP(M54,$AU$4:$BD$4,1,0)),0,1)),0))) -> 0 | BA54: =IF(OR(N$30="",N$4=99),1,IF(N54="",0,IFERROR(CHOOSE(BA$28,IF(ISNA(MATCH(N54,$AR$30:$AS$30,0)),0,1),IF(ISNUMBER(N54),1,0),IF(N54=TRUNC(N54),1,0),IF(AND(N54*1=N54,N54>=0),1,0),IF(AND(N54=TRUNC(N54),N54>=0),1,0),IF(AND(N54*1=N54,N54>0),1,0),IF(AND(N54=TRUNC(N54),N54>0),1,0),1,IF(ISNA(HLOOKUP(N54,$AU$4:$BD$4,1,0)),0,1)),0))) -> 0 | ... CB54: =IF(OR(AO$30="",AO$4=99),1,IF(AO54="",0,IFERROR(CHOOSE(CB$28,IF(ISNA(MATCH(AO54,$AR$30:$AS$30,0)),0,1),IF(ISNUMBER(AO54),1,0),IF(AO54=TRUNC(AO54),1,0),IF(AND(AO54*1=AO54,AO54>=0),1,0),IF(AND(AO54=TRUNC(AO54),AO54>=0),1,0),IF(AND(AO54*1=AO54,AO54>0),1,0),IF(AND(AO54=TRUNC(AO54),AO54>0),1,0),1,IF(ISNA(HLOOKUP(AO54,$AU$4:$BD$4,1,0)),0,1)),0))) -> 1 | CS54: =Z54>=CS$7 -> FALSE | CT54: =AA54>=CT$7 -> FALSE | CU54: =AB54>=CU$7 -> TRUE | CV54: =AC54>=CV$7 -> TRUE | CW54: =AD54>=CW$7 -> TRUE | CX54: =IF($F54="","",IF(SUMPRODUCT(--(CS54:CW54=TRUE))=COUNTA(CS54:CW54),1,0))
B55: =IF(F55="","",ROW()-30) | Q55: =IF($F55="","",IF(O55<P55,$AR$1,IF(AND(P55>O55*0.5,P55>=$P$5),1,0))) | AB55: =IF(F55="","",IF(Z55>=$Z$5*0.8,1,0)) | AC55: =IF(F55="","",IF(AA55>=$AA$5*0.8,1,0)) | AD55: =IF(G55="","",IF(AND(Z55>='פרמטרים לקריטריונים'!$D$19,AA55>='פרמטרים לקריטריונים'!$C$19),1,0)) | AE55: {=IF($F55="","",IF(OR(SUMPRODUCT(--(Z55:AA55>=$Z$5:$AA$5))=COUNTA($Z$29:$AA$29),OR(AND(X55=1,OR(AB55=1,AC55=1)),AND(Y55=1,AD55=1))),1,0))} | AJ55: =IF(F55="","",IF(G55>=$G$5,1,0)) | AO55: =IF($F55="","",IF(AK55=1,1,IF(AQ55<>1,$AR$1,IF(SUMPRODUCT(--(G55:AJ55>=$G$5:$AJ$5)*($G$5:$AJ$5<>"")*($G$4:$AJ$4=1))=COUNTIF($G$4:$AJ$4,1),1,0)))) | AQ55: =IF(OR(SUM(AT55:CB55)<>COUNT(AT55:CB55),SUMPRODUCT(--(G55:AJ55=$AR$1))<>0),0,1) -> 0 | AR55: =IF($F55="","",AR$30) | AS55: =IF($F55="","",AS$30) | AT55: =IF(OR(G$30="",G$4=99),1,IF(G55="",0,IFERROR(CHOOSE(AT$28,IF(ISNA(MATCH(G55,$AR$30:$AS$30,0)),0,1),IF(ISNUMBER(G55),1,0),IF(G55=TRUNC(G55),1,0),IF(AND(G55*1=G55,G55>=0),1,0),IF(AND(G55=TRUNC(G55),G55>=0),1,0),IF(AND(G55*1=G55,G55>0),1,0),IF(AND(G55=TRUNC(G55),G55>0),1,0),1,IF(ISNA(HLOOKUP(G55,$AU$4:$BD$4,1,0)),0,1)),0))) -> 0 | AU55: =IF(OR(H$30="",H$4=99),1,IF(H55="",0,IFERROR(CHOOSE(AU$28,IF(ISNA(MATCH(H55,$AR$30:$AS$30,0)),0,1),IF(ISNUMBER(H55),1,0),IF(H55=TRUNC(H55),1,0),IF(AND(H55*1=H55,H55>=0),1,0),IF(AND(H55=TRUNC(H55),H55>=0),1,0),IF(AND(H55*1=H55,H55>0),1,0),IF(AND(H55=TRUNC(H55),H55>0),1,0),1,IF(ISNA(HLOOKUP(H55,$AU$4:$BD$4,1,0)),0,1)),0))) -> 0 | AV55: =IF(OR(I$30="",I$4=99),1,IF(I55="",0,IFERROR(CHOOSE(AV$28,IF(ISNA(MATCH(I55,$AR$30:$AS$30,0)),0,1),IF(ISNUMBER(I55),1,0),IF(I55=TRUNC(I55),1,0),IF(AND(I55*1=I55,I55>=0),1,0),IF(AND(I55=TRUNC(I55),I55>=0),1,0),IF(AND(I55*1=I55,I55>0),1,0),IF(AND(I55=TRUNC(I55),I55>0),1,0),1,IF(ISNA(HLOOKUP(I55,$AU$4:$BD$4,1,0)),0,1)),0))) -> 0 | AW55: =IF(OR(J$30="",J$4=99),1,IF(J55="",0,IFERROR(CHOOSE(AW$28,IF(ISNA(MATCH(J55,$AR$30:$AS$30,0)),0,1),IF(ISNUMBER(J55),1,0),IF(J55=TRUNC(J55),1,0),IF(AND(J55*1=J55,J55>=0),1,0),IF(AND(J55=TRUNC(J55),J55>=0),1,0),IF(AND(J55*1=J55,J55>0),1,0),IF(AND(J55=TRUNC(J55),J55>0),1,0),1,IF(ISNA(HLOOKUP(J55,$AU$4:$BD$4,1,0)),0,1)),0))) -> 0 | AX55: =IF(OR(K$30="",K$4=99),1,IF(K55="",0,IFERROR(CHOOSE(AX$28,IF(ISNA(MATCH(K55,$AR$30:$AS$30,0)),0,1),IF(ISNUMBER(K55),1,0),IF(K55=TRUNC(K55),1,0),IF(AND(K55*1=K55,K55>=0),1,0),IF(AND(K55=TRUNC(K55),K55>=0),1,0),IF(AND(K55*1=K55,K55>0),1,0),IF(AND(K55=TRUNC(K55),K55>0),1,0),1,IF(ISNA(HLOOKUP(K55,$AU$4:$BD$4,1,0)),0,1)),0))) -> 0 | AY55: =IF(OR(L$30="",L$4=99),1,IF(L55="",0,IFERROR(CHOOSE(AY$28,IF(ISNA(MATCH(L55,$AR$30:$AS$30,0)),0,1),IF(ISNUMBER(L55),1,0),IF(L55=TRUNC(L55),1,0),IF(AND(L55*1=L55,L55>=0),1,0),IF(AND(L55=TRUNC(L55),L55>=0),1,0),IF(AND(L55*1=L55,L55>0),1,0),IF(AND(L55=TRUNC(L55),L55>0),1,0),1,IF(ISNA(HLOOKUP(L55,$AU$4:$BD$4,1,0)),0,1)),0))) -> 0 | AZ55: =IF(OR(M$30="",M$4=99),1,IF(M55="",0,IFERROR(CHOOSE(AZ$28,IF(ISNA(MATCH(M55,$AR$30:$AS$30,0)),0,1),IF(ISNUMBER(M55),1,0),IF(M55=TRUNC(M55),1,0),IF(AND(M55*1=M55,M55>=0),1,0),IF(AND(M55=TRUNC(M55),M55>=0),1,0),IF(AND(M55*1=M55,M55>0),1,0),IF(AND(M55=TRUNC(M55),M55>0),1,0),1,IF(ISNA(HLOOKUP(M55,$AU$4:$BD$4,1,0)),0,1)),0))) -> 0 | BA55: =IF(OR(N$30="",N$4=99),1,IF(N55="",0,IFERROR(CHOOSE(BA$28,IF(ISNA(MATCH(N55,$AR$30:$AS$30,0)),0,1),IF(ISNUMBER(N55),1,0),IF(N55=TRUNC(N55),1,0),IF(AND(N55*1=N55,N55>=0),1,0),IF(AND(N55=TRUNC(N55),N55>=0),1,0),IF(AND(N55*1=N55,N55>0),1,0),IF(AND(N55=TRUNC(N55),N55>0),1,0),1,IF(ISNA(HLOOKUP(N55,$AU$4:$BD$4,1,0)),0,1)),0))) -> 0 | ... CB55: =IF(OR(AO$30="",AO$4=99),1,IF(AO55="",0,IFERROR(CHOOSE(CB$28,IF(ISNA(MATCH(AO55,$AR$30:$AS$30,0)),0,1),IF(ISNUMBER(AO55),1,0),IF(AO55=TRUNC(AO55),1,0),IF(AND(AO55*1=AO55,AO55>=0),1,0),IF(AND(AO55=TRUNC(AO55),AO55>=0),1,0),IF(AND(AO55*1=AO55,AO55>0),1,0),IF(AND(AO55=TRUNC(AO55),AO55>0),1,0),1,IF(ISNA(HLOOKUP(AO55,$AU$4:$BD$4,1,0)),0,1)),0))) -> 1 | CS55: =Z55>=CS$7 -> FALSE | CT55: =AA55>=CT$7 -> FALSE | CU55: =AB55>=CU$7 -> TRUE | CV55: =AC55>=CV$7 -> TRUE | CW55: =AD55>=CW$7 -> TRUE | CX55: =IF($F55="","",IF(SUMPRODUCT(--(CS55:CW55=TRUE))=COUNTA(CS55:CW55),1,0))
B56: =IF(F56="","",ROW()-30) -> 26 | F56: אנסמבל מצו | G56: 1 | H56: 1 | I56: 1 | J56: 1 | K56: 1 | L56: 1 | M56: 1 | N56: 1 | O56: 31 | P56: 26 | Q56: =IF($F56="","",IF(O56<P56,$AR$1,IF(AND(P56>O56*0.5,P56>=$P$5),1,0))) -> 1 | R56: 1 | S56: 1 | T56: 1 | U56: 1 | Z56: 35 | AA56: 212902 | AB56: =IF(F56="","",IF(Z56>=$Z$5*0.8,1,0)) -> 1 | AC56: =IF(F56="","",IF(AA56>=$AA$5*0.8,1,0)) -> 1 | AD56: =IF(G56="","",IF(AND(Z56>='פרמטרים לקריטריונים'!$D$19,AA56>='פרמטרים לקריטריונים'!$C$19),1,0)) -> 1 | AE56: {=IF($F56="","",IF(OR(SUMPRODUCT(--(Z56:AA56>=$Z$5:$AA$5))=COUNTA($Z$29:$AA$29),OR(AND(X56=1,OR(AB56=1,AC56=1)),AND(Y56=1,AD56=1))),1,0))} -> 1 | AG56: 1 | AH56: 1 | AI56: 1 | AJ56: =IF(F56="","",IF(G56>=$G$5,1,0)) -> 1 | AO56: =IF($F56="","",IF(AK56=1,1,IF(AQ56<>1,$AR$1,IF(SUMPRODUCT(--(G56:AJ56>=$G$5:$AJ$5)*($G$5:$AJ$5<>"")*($G$4:$AJ$4=1))=COUNTIF($G$4:$AJ$4,1),1,0)))) -> 1 | AP56: עומד בתנאי סף האמנותי ובתנאי הסף הכמותיים כקבוצה מוסיקלית. | AQ56: =IF(OR(SUM(AT56:CB56)<>COUNT(AT56:CB56),SUMPRODUCT(--(G56:AJ56=$AR$1))<>0),0,1) -> 1 | AR56: =IF($F56="","",AR$30) -> 0 | AS56: =IF($F56="","",AS$30) -> 1 | AT56: =IF(OR(G$30="",G$4=99),1,IF(G56="",0,IFERROR(CHOOSE(AT$28,IF(ISNA(MATCH(G56,$AR$30:$AS$30,0)),0,1),IF(ISNUMBER(G56),1,0),IF(G56=TRUNC(G56),1,0),IF(AND(G56*1=G56,G56>=0),1,0),IF(AND(G56=TRUNC(G56),G56>=0),1,0),IF(AND(G56*1=G56,G56>0),1,0),IF(AND(G56=TRUNC(G56),G56>0),1,0),1,IF(ISNA(HLOOKUP(G56,$AU$4:$BD$4,1,0)),0,1)),0))) -> 1 | AU56: =IF(OR(H$30="",H$4=99),1,IF(H56="",0,IFERROR(CHOOSE(AU$28,IF(ISNA(MATCH(H56,$AR$30:$AS$30,0)),0,1),IF(ISNUMBER(H56),1,0),IF(H56=TRUNC(H56),1,0),IF(AND(H56*1=H56,H56>=0),1,0),IF(AND(H56=TRUNC(H56),H56>=0),1,0),IF(AND(H56*1=H56,H56>0),1,0),IF(AND(H56=TRUNC(H56),H56>0),1,0),1,IF(ISNA(HLOOKUP(H56,$AU$4:$BD$4,1,0)),0,1)),0))) -> 1 | AV56: =IF(OR(I$30="",I$4=99),1,IF(I56="",0,IFERROR(CHOOSE(AV$28,IF(ISNA(MATCH(I56,$AR$30:$AS$30,0)),0,1),IF(ISNUMBER(I56),1,0),IF(I56=TRUNC(I56),1,0),IF(AND(I56*1=I56,I56>=0),1,0),IF(AND(I56=TRUNC(I56),I56>=0),1,0),IF(AND(I56*1=I56,I56>0),1,0),IF(AND(I56=TRUNC(I56),I56>0),1,0),1,IF(ISNA(HLOOKUP(I56,$AU$4:$BD$4,1,0)),0,1)),0))) -> 1 | AW56: =IF(OR(J$30="",J$4=99),1,IF(J56="",0,IFERROR(CHOOSE(AW$28,IF(ISNA(MATCH(J56,$AR$30:$AS$30,0)),0,1),IF(ISNUMBER(J56),1,0),IF(J56=TRUNC(J56),1,0),IF(AND(J56*1=J56,J56>=0),1,0),IF(AND(J56=TRUNC(J56),J56>=0),1,0),IF(AND(J56*1=J56,J56>0),1,0),IF(AND(J56=TRUNC(J56),J56>0),1,0),1,IF(ISNA(HLOOKUP(J56,$AU$4:$BD$4,1,0)),0,1)),0))) -> 1 | AX56: =IF(OR(K$30="",K$4=99),1,IF(K56="",0,IFERROR(CHOOSE(AX$28,IF(ISNA(MATCH(K56,$AR$30:$AS$30,0)),0,1),IF(ISNUMBER(K56),1,0),IF(K56=TRUNC(K56),1,0),IF(AND(K56*1=K56,K56>=0),1,0),IF(AND(K56=TRUNC(K56),K56>=0),1,0),IF(AND(K56*1=K56,K56>0),1,0),IF(AND(K56=TRUNC(K56),K56>0),1,0),1,IF(ISNA(HLOOKUP(K56,$AU$4:$BD$4,1,0)),0,1)),0))) -> 1 | AY56: =IF(OR(L$30="",L$4=99),1,IF(L56="",0,IFERROR(CHOOSE(AY$28,IF(ISNA(MATCH(L56,$AR$30:$AS$30,0)),0,1),IF(ISNUMBER(L56),1,0),IF(L56=TRUNC(L56),1,0),IF(AND(L56*1=L56,L56>=0),1,0),IF(AND(L56=TRUNC(L56),L56>=0),1,0),IF(AND(L56*1=L56,L56>0),1,0),IF(AND(L56=TRUNC(L56),L56>0),1,0),1,IF(ISNA(HLOOKUP(L56,$AU$4:$BD$4,1,0)),0,1)),0))) -> 1 | AZ56: =IF(OR(M$30="",M$4=99),1,IF(M56="",0,IFERROR(CHOOSE(AZ$28,IF(ISNA(MATCH(M56,$AR$30:$AS$30,0)),0,1),IF(ISNUMBER(M56),1,0),IF(M56=TRUNC(M56),1,0),IF(AND(M56*1=M56,M56>=0),1,0),IF(AND(M56=TRUNC(M56),M56>=0),1,0),IF(AND(M56*1=M56,M56>0),1,0),IF(AND(M56=TRUNC(M56),M56>0),1,0),1,IF(ISNA(HLOOKUP(M56,$AU$4:$BD$4,1,0)),0,1)),0))) -> 1 | BA56: =IF(OR(N$30="",N$4=99),1,IF(N56="",0,IFERROR(CHOOSE(BA$28,IF(ISNA(MATCH(N56,$AR$30:$AS$30,0)),0,1),IF(ISNUMBER(N56),1,0),IF(N56=TRUNC(N56),1,0),IF(AND(N56*1=N56,N56>=0),1,0),IF(AND(N56=TRUNC(N56),N56>=0),1,0),IF(AND(N56*1=N56,N56>0),1,0),IF(AND(N56=TRUNC(N56),N56>0),1,0),1,IF(ISNA(HLOOKUP(N56,$AU$4:$BD$4,1,0)),0,1)),0))) -> 1 | ... CB56: =IF(OR(AO$30="",AO$4=99),1,IF(AO56="",0,IFERROR(CHOOSE(CB$28,IF(ISNA(MATCH(AO56,$AR$30:$AS$30,0)),0,1),IF(ISNUMBER(AO56),1,0),IF(AO56=TRUNC(AO56),1,0),IF(AND(AO56*1=AO56,AO56>=0),1,0),IF(AND(AO56=TRUNC(AO56),AO56>=0),1,0),IF(AND(AO56*1=AO56,AO56>0),1,0),IF(AND(AO56=TRUNC(AO56),AO56>0),1,0),1,IF(ISNA(HLOOKUP(AO56,$AU$4:$BD$4,1,0)),0,1)),0))) -> 1 | CS56: =Z56>=CS$7 -> TRUE | CT56: =AA56>=CT$7 -> TRUE | CU56: =AB56>=CU$7 -> TRUE | CV56: =AC56>=CV$7 -> TRUE | CW56: =AD56>=CW$7 -> TRUE | CX56: =IF($F56="","",IF(SUMPRODUCT(--(CS56:CW56=TRUE))=COUNTA(CS56:CW56),1,0)) -> 1
B57: =IF(F57="","",ROW()-30) -> 27 | F57: תזמורת ארמון בזמן | G57: 1 | H57: 1 | I57: 1 | J57: 0 | K57: 1 | L57: 1 | M57: 1 | N57: 1 | O57: 25 | P57: 24 | Q57: =IF($F57="","",IF(O57<P57,$AR$1,IF(AND(P57>O57*0.5,P57>=$P$5),1,0))) -> 1 | R57: 1 | S57: 1 | T57: 1 | U57: 1 | X57: 1 | Z57: 7 | AA57: 154302 | AB57: =IF(F57="","",IF(Z57>=$Z$5*0.8,1,0)) -> 1 | AC57: =IF(F57="","",IF(AA57>=$AA$5*0.8,1,0)) -> 1 | AD57: =IF(G57="","",IF(AND(Z57>='פרמטרים לקריטריונים'!$D$19,AA57>='פרמטרים לקריטריונים'!$C$19),1,0)) -> 1 | AE57: {=IF($F57="","",IF(OR(SUMPRODUCT(--(Z57:AA57>=$Z$5:$AA$5))=COUNTA($Z$29:$AA$29),OR(AND(X57=1,OR(AB57=1,AC57=1)),AND(Y57=1,AD57=1))),1,0))} -> 1 | AG57: 1 | AH57: 1 | AI57: 0 | AJ57: =IF(F57="","",IF(G57>=$G$5,1,0)) -> 1 | AO57: =IF($F57="","",IF(AK57=1,1,IF(AQ57<>1,$AR$1,IF(SUMPRODUCT(--(G57:AJ57>=$G$5:$AJ$5)*($G$5:$AJ$5<>"")*($G$4:$AJ$4=1))=COUNTIF($G$4:$AJ$4,1),1,0)))) -> 0 | AP57: בקשה כפולה. התזמורת הגישה בקשה תקינה כעמותה עצמאית: העמותה לתרבות רב תחומית | AQ57: =IF(OR(SUM(AT57:CB57)<>COUNT(AT57:CB57),SUMPRODUCT(--(G57:AJ57=$AR$1))<>0),0,1) -> 1 | AR57: =IF($F57="","",AR$30) -> 0 | AS57: =IF($F57="","",AS$30) -> 1 | AT57: =IF(OR(G$30="",G$4=99),1,IF(G57="",0,IFERROR(CHOOSE(AT$28,IF(ISNA(MATCH(G57,$AR$30:$AS$30,0)),0,1),IF(ISNUMBER(G57),1,0),IF(G57=TRUNC(G57),1,0),IF(AND(G57*1=G57,G57>=0),1,0),IF(AND(G57=TRUNC(G57),G57>=0),1,0),IF(AND(G57*1=G57,G57>0),1,0),IF(AND(G57=TRUNC(G57),G57>0),1,0),1,IF(ISNA(HLOOKUP(G57,$AU$4:$BD$4,1,0)),0,1)),0))) -> 1 | AU57: =IF(OR(H$30="",H$4=99),1,IF(H57="",0,IFERROR(CHOOSE(AU$28,IF(ISNA(MATCH(H57,$AR$30:$AS$30,0)),0,1),IF(ISNUMBER(H57),1,0),IF(H57=TRUNC(H57),1,0),IF(AND(H57*1=H57,H57>=0),1,0),IF(AND(H57=TRUNC(H57),H57>=0),1,0),IF(AND(H57*1=H57,H57>0),1,0),IF(AND(H57=TRUNC(H57),H57>0),1,0),1,IF(ISNA(HLOOKUP(H57,$AU$4:$BD$4,1,0)),0,1)),0))) -> 1 | AV57: =IF(OR(I$30="",I$4=99),1,IF(I57="",0,IFERROR(CHOOSE(AV$28,IF(ISNA(MATCH(I57,$AR$30:$AS$30,0)),0,1),IF(ISNUMBER(I57),1,0),IF(I57=TRUNC(I57),1,0),IF(AND(I57*1=I57,I57>=0),1,0),IF(AND(I57=TRUNC(I57),I57>=0),1,0),IF(AND(I57*1=I57,I57>0),1,0),IF(AND(I57=TRUNC(I57),I57>0),1,0),1,IF(ISNA(HLOOKUP(I57,$AU$4:$BD$4,1,0)),0,1)),0))) -> 1 | AW57: =IF(OR(J$30="",J$4=99),1,IF(J57="",0,IFERROR(CHOOSE(AW$28,IF(ISNA(MATCH(J57,$AR$30:$AS$30,0)),0,1),IF(ISNUMBER(J57),1,0),IF(J57=TRUNC(J57),1,0),IF(AND(J57*1=J57,J57>=0),1,0),IF(AND(J57=TRUNC(J57),J57>=0),1,0),IF(AND(J57*1=J57,J57>0),1,0),IF(AND(J57=TRUNC(J57),J57>0),1,0),1,IF(ISNA(HLOOKUP(J57,$AU$4:$BD$4,1,0)),0,1)),0))) -> 1 | AX57: =IF(OR(K$30="",K$4=99),1,IF(K57="",0,IFERROR(CHOOSE(AX$28,IF(ISNA(MATCH(K57,$AR$30:$AS$30,0)),0,1),IF(ISNUMBER(K57),1,0),IF(K57=TRUNC(K57),1,0),IF(AND(K57*1=K57,K57>=0),1,0),IF(AND(K57=TRUNC(K57),K57>=0),1,0),IF(AND(K57*1=K57,K57>0),1,0),IF(AND(K57=TRUNC(K57),K57>0),1,0),1,IF(ISNA(HLOOKUP(K57,$AU$4:$BD$4,1,0)),0,1)),0))) -> 1 | AY57: =IF(OR(L$30="",L$4=99),1,IF(L57="",0,IFERROR(CHOOSE(AY$28,IF(ISNA(MATCH(L57,$AR$30:$AS$30,0)),0,1),IF(ISNUMBER(L57),1,0),IF(L57=TRUNC(L57),1,0),IF(AND(L57*1=L57,L57>=0),1,0),IF(AND(L57=TRUNC(L57),L57>=0),1,0),IF(AND(L57*1=L57,L57>0),1,0),IF(AND(L57=TRUNC(L57),L57>0),1,0),1,IF(ISNA(HLOOKUP(L57,$AU$4:$BD$4,1,0)),0,1)),0))) -> 1 | AZ57: =IF(OR(M$30="",M$4=99),1,IF(M57="",0,IFERROR(CHOOSE(AZ$28,IF(ISNA(MATCH(M57,$AR$30:$AS$30,0)),0,1),IF(ISNUMBER(M57),1,0),IF(M57=TRUNC(M57),1,0),IF(AND(M57*1=M57,M57>=0),1,0),IF(AND(M57=TRUNC(M57),M57>=0),1,0),IF(AND(M57*1=M57,M57>0),1,0),IF(AND(M57=TRUNC(M57),M57>0),1,0),1,IF(ISNA(HLOOKUP(M57,$AU$4:$BD$4,1,0)),0,1)),0))) -> 1 | BA57: =IF(OR(N$30="",N$4=99),1,IF(N57="",0,IFERROR(CHOOSE(BA$28,IF(ISNA(MATCH(N57,$AR$30:$AS$30,0)),0,1),IF(ISNUMBER(N57),1,0),IF(N57=TRUNC(N57),1,0),IF(AND(N57*1=N57,N57>=0),1,0),IF(AND(N57=TRUNC(N57),N57>=0),1,0),IF(AND(N57*1=N57,N57>0),1,0),IF(AND(N57=TRUNC(N57),N57>0),1,0),1,IF(ISNA(HLOOKUP(N57,$AU$4:$BD$4,1,0)),0,1)),0))) -> 1 | ... CB57: =IF(OR(AO$30="",AO$4=99),1,IF(AO57="",0,IFERROR(CHOOSE(CB$28,IF(ISNA(MATCH(AO57,$AR$30:$AS$30,0)),0,1),IF(ISNUMBER(AO57),1,0),IF(AO57=TRUNC(AO57),1,0),IF(AND(AO57*1=AO57,AO57>=0),1,0),IF(AND(AO57=TRUNC(AO57),AO57>=0),1,0),IF(AND(AO57*1=AO57,AO57>0),1,0),IF(AND(AO57=TRUNC(AO57),AO57>0),1,0),1,IF(ISNA(HLOOKUP(AO57,$AU$4:$BD$4,1,0)),0,1)),0))) -> 1 | CS57: =Z57>=CS$7 -> TRUE | CT57: =AA57>=CT$7 -> TRUE | CU57: =AB57>=CU$7 -> TRUE | CV57: =AC57>=CV$7 -> TRUE | CW57: =AD57>=CW$7 -> TRUE | CX57: =IF($F57="","",IF(SUMPRODUCT(--(CS57:CW57=TRUE))=COUNTA(CS57:CW57),1,0)) -> 1
B58: =IF(F58="","",ROW()-30) -> 28 | F58: תמיכה שותפת- קבוצת מוסיקה נובה | G58: 1 | H58: 1 | I58: 1 | J58: 1 | K58: 1 | L58: 1 | M58: 1 | N58: 1 | O58: 14 | P58: 12 | Q58: =IF($F58="","",IF(O58<P58,$AR$1,IF(AND(P58>O58*0.5,P58>=$P$5),1,0))) -> 1 | R58: 1 | S58: 1 | T58: 1 | U58: 1 | Z58: 16 | AA58: 252430 | AB58: =IF(F58="","",IF(Z58>=$Z$5*0.8,1,0)) -> 1 | AC58: =IF(F58="","",IF(AA58>=$AA$5*0.8,1,0)) -> 1 | AD58: =IF(G58="","",IF(AND(Z58>='פרמטרים לקריטריונים'!$D$19,AA58>='פרמטרים לקריטריונים'!$C$19),1,0)) -> 1 | AE58: {=IF($F58="","",IF(OR(SUMPRODUCT(--(Z58:AA58>=$Z$5:$AA$5))=COUNTA($Z$29:$AA$29),OR(AND(X58=1,OR(AB58=1,AC58=1)),AND(Y58=1,AD58=1))),1,0))} -> 1 | AG58: 1 | AH58: 1 | AI58: 1 | AJ58: =IF(F58="","",IF(G58>=$G$5,1,0)) -> 1 | AO58: =IF($F58="","",IF(AK58=1,1,IF(AQ58<>1,$AR$1,IF(SUMPRODUCT(--(G58:AJ58>=$G$5:$AJ$5)*($G$5:$AJ$5<>"")*($G$4:$AJ$4=1))=COUNTIF($G$4:$AJ$4,1),1,0)))) -> 1 | AP58: עומד בתנאי סף האמנותי ובתנאי הסף הכמותיים כקבוצה מוסיקלית. | AQ58: =IF(OR(SUM(AT58:CB58)<>COUNT(AT58:CB58),SUMPRODUCT(--(G58:AJ58=$AR$1))<>0),0,1) -> 1 | AR58: =IF($F58="","",AR$30) -> 0 | AS58: =IF($F58="","",AS$30) -> 1 | AT58: =IF(OR(G$30="",G$4=99),1,IF(G58="",0,IFERROR(CHOOSE(AT$28,IF(ISNA(MATCH(G58,$AR$30:$AS$30,0)),0,1),IF(ISNUMBER(G58),1,0),IF(G58=TRUNC(G58),1,0),IF(AND(G58*1=G58,G58>=0),1,0),IF(AND(G58=TRUNC(G58),G58>=0),1,0),IF(AND(G58*1=G58,G58>0),1,0),IF(AND(G58=TRUNC(G58),G58>0),1,0),1,IF(ISNA(HLOOKUP(G58,$AU$4:$BD$4,1,0)),0,1)),0))) -> 1 | AU58: =IF(OR(H$30="",H$4=99),1,IF(H58="",0,IFERROR(CHOOSE(AU$28,IF(ISNA(MATCH(H58,$AR$30:$AS$30,0)),0,1),IF(ISNUMBER(H58),1,0),IF(H58=TRUNC(H58),1,0),IF(AND(H58*1=H58,H58>=0),1,0),IF(AND(H58=TRUNC(H58),H58>=0),1,0),IF(AND(H58*1=H58,H58>0),1,0),IF(AND(H58=TRUNC(H58),H58>0),1,0),1,IF(ISNA(HLOOKUP(H58,$AU$4:$BD$4,1,0)),0,1)),0))) -> 1 | AV58: =IF(OR(I$30="",I$4=99),1,IF(I58="",0,IFERROR(CHOOSE(AV$28,IF(ISNA(MATCH(I58,$AR$30:$AS$30,0)),0,1),IF(ISNUMBER(I58),1,0),IF(I58=TRUNC(I58),1,0),IF(AND(I58*1=I58,I58>=0),1,0),IF(AND(I58=TRUNC(I58),I58>=0),1,0),IF(AND(I58*1=I58,I58>0),1,0),IF(AND(I58=TRUNC(I58),I58>0),1,0),1,IF(ISNA(HLOOKUP(I58,$AU$4:$BD$4,1,0)),0,1)),0))) -> 1 | AW58: =IF(OR(J$30="",J$4=99),1,IF(J58="",0,IFERROR(CHOOSE(AW$28,IF(ISNA(MATCH(J58,$AR$30:$AS$30,0)),0,1),IF(ISNUMBER(J58),1,0),IF(J58=TRUNC(J58),1,0),IF(AND(J58*1=J58,J58>=0),1,0),IF(AND(J58=TRUNC(J58),J58>=0),1,0),IF(AND(J58*1=J58,J58>0),1,0),IF(AND(J58=TRUNC(J58),J58>0),1,0),1,IF(ISNA(HLOOKUP(J58,$AU$4:$BD$4,1,0)),0,1)),0))) -> 1 | AX58: =IF(OR(K$30="",K$4=99),1,IF(K58="",0,IFERROR(CHOOSE(AX$28,IF(ISNA(MATCH(K58,$AR$30:$AS$30,0)),0,1),IF(ISNUMBER(K58),1,0),IF(K58=TRUNC(K58),1,0),IF(AND(K58*1=K58,K58>=0),1,0),IF(AND(K58=TRUNC(K58),K58>=0),1,0),IF(AND(K58*1=K58,K58>0),1,0),IF(AND(K58=TRUNC(K58),K58>0),1,0),1,IF(ISNA(HLOOKUP(K58,$AU$4:$BD$4,1,0)),0,1)),0))) -> 1 | AY58: =IF(OR(L$30="",L$4=99),1,IF(L58="",0,IFERROR(CHOOSE(AY$28,IF(ISNA(MATCH(L58,$AR$30:$AS$30,0)),0,1),IF(ISNUMBER(L58),1,0),IF(L58=TRUNC(L58),1,0),IF(AND(L58*1=L58,L58>=0),1,0),IF(AND(L58=TRUNC(L58),L58>=0),1,0),IF(AND(L58*1=L58,L58>0),1,0),IF(AND(L58=TRUNC(L58),L58>0),1,0),1,IF(ISNA(HLOOKUP(L58,$AU$4:$BD$4,1,0)),0,1)),0))) -> 1 | AZ58: =IF(OR(M$30="",M$4=99),1,IF(M58="",0,IFERROR(CHOOSE(AZ$28,IF(ISNA(MATCH(M58,$AR$30:$AS$30,0)),0,1),IF(ISNUMBER(M58),1,0),IF(M58=TRUNC(M58),1,0),IF(AND(M58*1=M58,M58>=0),1,0),IF(AND(M58=TRUNC(M58),M58>=0),1,0),IF(AND(M58*1=M58,M58>0),1,0),IF(AND(M58=TRUNC(M58),M58>0),1,0),1,IF(ISNA(HLOOKUP(M58,$AU$4:$BD$4,1,0)),0,1)),0))) -> 1 | BA58: =IF(OR(N$30="",N$4=99),1,IF(N58="",0,IFERROR(CHOOSE(BA$28,IF(ISNA(MATCH(N58,$AR$30:$AS$30,0)),0,1),IF(ISNUMBER(N58),1,0),IF(N58=TRUNC(N58),1,0),IF(AND(N58*1=N58,N58>=0),1,0),IF(AND(N58=TRUNC(N58),N58>=0),1,0),IF(AND(N58*1=N58,N58>0),1,0),IF(AND(N58=TRUNC(N58),N58>0),1,0),1,IF(ISNA(HLOOKUP(N58,$AU$4:$BD$4,1,0)),0,1)),0))) -> 1 | ... CB58: =IF(OR(AO$30="",AO$4=99),1,IF(AO58="",0,IFERROR(CHOOSE(CB$28,IF(ISNA(MATCH(AO58,$AR$30:$AS$30,0)),0,1),IF(ISNUMBER(AO58),1,0),IF(AO58=TRUNC(AO58),1,0),IF(AND(AO58*1=AO58,AO58>=0),1,0),IF(AND(AO58=TRUNC(AO58),AO58>=0),1,0),IF(AND(AO58*1=AO58,AO58>0),1,0),IF(AND(AO58=TRUNC(AO58),AO58>0),1,0),1,IF(ISNA(HLOOKUP(AO58,$AU$4:$BD$4,1,0)),0,1)),0))) -> 1 | CS58: =Z58>=CS$7 -> TRUE | CT58: =AA58>=CT$7 -> TRUE | CU58: =AB58>=CU$7 -> TRUE | CV58: =AC58>=CV$7 -> TRUE | CW58: =AD58>=CW$7 -> TRUE | CX58: =IF($F58="","",IF(SUMPRODUCT(--(CS58:CW58=TRUE))=COUNTA(CS58:CW58),1,0)) -> 1
B59: =IF(F59="","",ROW()-30) | Q59: =IF($F59="","",IF(O59<P59,$AR$1,IF(AND(P59>O59*0.5,P59>=$P$5),1,0))) | AB59: =IF(F59="","",IF(Z59>=$Z$5*0.8,1,0)) | AC59: =IF(F59="","",IF(AA59>=$AA$5*0.8,1,0)) | AD59: =IF(G59="","",IF(AND(Z59>='פרמטרים לקריטריונים'!$D$19,AA59>='פרמטרים לקריטריונים'!$C$19),1,0)) | AE59: {=IF($F59="","",IF(OR(SUMPRODUCT(--(Z59:AA59>=$Z$5:$AA$5))=COUNTA($Z$29:$AA$29),OR(AND(X59=1,OR(AB59=1,AC59=1)),AND(Y59=1,AD59=1))),1,0))} | AJ59: =IF(F59="","",IF(G59>=$G$5,1,0)) | AO59: =IF($F59="","",IF(AK59=1,1,IF(AQ59<>1,$AR$1,IF(SUMPRODUCT(--(G59:AJ59>=$G$5:$AJ$5)*($G$5:$AJ$5<>"")*($G$4:$AJ$4=1))=COUNTIF($G$4:$AJ$4,1),1,0)))) | AQ59: =IF(OR(SUM(AT59:CB59)<>COUNT(AT59:CB59),SUMPRODUCT(--(G59:AJ59=$AR$1))<>0),0,1) -> 0 | AR59: =IF($F59="","",AR$30) | AS59: =IF($F59="","",AS$30) | AT59: =IF(OR(G$30="",G$4=99),1,IF(G59="",0,IFERROR(CHOOSE(AT$28,IF(ISNA(MATCH(G59,$AR$30:$AS$30,0)),0,1),IF(ISNUMBER(G59),1,0),IF(G59=TRUNC(G59),1,0),IF(AND(G59*1=G59,G59>=0),1,0),IF(AND(G59=TRUNC(G59),G59>=0),1,0),IF(AND(G59*1=G59,G59>0),1,0),IF(AND(G59=TRUNC(G59),G59>0),1,0),1,IF(ISNA(HLOOKUP(G59,$AU$4:$BD$4,1,0)),0,1)),0))) -> 0 | AU59: =IF(OR(H$30="",H$4=99),1,IF(H59="",0,IFERROR(CHOOSE(AU$28,IF(ISNA(MATCH(H59,$AR$30:$AS$30,0)),0,1),IF(ISNUMBER(H59),1,0),IF(H59=TRUNC(H59),1,0),IF(AND(H59*1=H59,H59>=0),1,0),IF(AND(H59=TRUNC(H59),H59>=0),1,0),IF(AND(H59*1=H59,H59>0),1,0),IF(AND(H59=TRUNC(H59),H59>0),1,0),1,IF(ISNA(HLOOKUP(H59,$AU$4:$BD$4,1,0)),0,1)),0))) -> 0 | AV59: =IF(OR(I$30="",I$4=99),1,IF(I59="",0,IFERROR(CHOOSE(AV$28,IF(ISNA(MATCH(I59,$AR$30:$AS$30,0)),0,1),IF(ISNUMBER(I59),1,0),IF(I59=TRUNC(I59),1,0),IF(AND(I59*1=I59,I59>=0),1,0),IF(AND(I59=TRUNC(I59),I59>=0),1,0),IF(AND(I59*1=I59,I59>0),1,0),IF(AND(I59=TRUNC(I59),I59>0),1,0),1,IF(ISNA(HLOOKUP(I59,$AU$4:$BD$4,1,0)),0,1)),0))) -> 0 | AW59: =IF(OR(J$30="",J$4=99),1,IF(J59="",0,IFERROR(CHOOSE(AW$28,IF(ISNA(MATCH(J59,$AR$30:$AS$30,0)),0,1),IF(ISNUMBER(J59),1,0),IF(J59=TRUNC(J59),1,0),IF(AND(J59*1=J59,J59>=0),1,0),IF(AND(J59=TRUNC(J59),J59>=0),1,0),IF(AND(J59*1=J59,J59>0),1,0),IF(AND(J59=TRUNC(J59),J59>0),1,0),1,IF(ISNA(HLOOKUP(J59,$AU$4:$BD$4,1,0)),0,1)),0))) -> 0 | AX59: =IF(OR(K$30="",K$4=99),1,IF(K59="",0,IFERROR(CHOOSE(AX$28,IF(ISNA(MATCH(K59,$AR$30:$AS$30,0)),0,1),IF(ISNUMBER(K59),1,0),IF(K59=TRUNC(K59),1,0),IF(AND(K59*1=K59,K59>=0),1,0),IF(AND(K59=TRUNC(K59),K59>=0),1,0),IF(AND(K59*1=K59,K59>0),1,0),IF(AND(K59=TRUNC(K59),K59>0),1,0),1,IF(ISNA(HLOOKUP(K59,$AU$4:$BD$4,1,0)),0,1)),0))) -> 0 | AY59: =IF(OR(L$30="",L$4=99),1,IF(L59="",0,IFERROR(CHOOSE(AY$28,IF(ISNA(MATCH(L59,$AR$30:$AS$30,0)),0,1),IF(ISNUMBER(L59),1,0),IF(L59=TRUNC(L59),1,0),IF(AND(L59*1=L59,L59>=0),1,0),IF(AND(L59=TRUNC(L59),L59>=0),1,0),IF(AND(L59*1=L59,L59>0),1,0),IF(AND(L59=TRUNC(L59),L59>0),1,0),1,IF(ISNA(HLOOKUP(L59,$AU$4:$BD$4,1,0)),0,1)),0))) -> 0 | AZ59: =IF(OR(M$30="",M$4=99),1,IF(M59="",0,IFERROR(CHOOSE(AZ$28,IF(ISNA(MATCH(M59,$AR$30:$AS$30,0)),0,1),IF(ISNUMBER(M59),1,0),IF(M59=TRUNC(M59),1,0),IF(AND(M59*1=M59,M59>=0),1,0),IF(AND(M59=TRUNC(M59),M59>=0),1,0),IF(AND(M59*1=M59,M59>0),1,0),IF(AND(M59=TRUNC(M59),M59>0),1,0),1,IF(ISNA(HLOOKUP(M59,$AU$4:$BD$4,1,0)),0,1)),0))) -> 0 | BA59: =IF(OR(N$30="",N$4=99),1,IF(N59="",0,IFERROR(CHOOSE(BA$28,IF(ISNA(MATCH(N59,$AR$30:$AS$30,0)),0,1),IF(ISNUMBER(N59),1,0),IF(N59=TRUNC(N59),1,0),IF(AND(N59*1=N59,N59>=0),1,0),IF(AND(N59=TRUNC(N59),N59>=0),1,0),IF(AND(N59*1=N59,N59>0),1,0),IF(AND(N59=TRUNC(N59),N59>0),1,0),1,IF(ISNA(HLOOKUP(N59,$AU$4:$BD$4,1,0)),0,1)),0))) -> 0 | ... CB59: =IF(OR(AO$30="",AO$4=99),1,IF(AO59="",0,IFERROR(CHOOSE(CB$28,IF(ISNA(MATCH(AO59,$AR$30:$AS$30,0)),0,1),IF(ISNUMBER(AO59),1,0),IF(AO59=TRUNC(AO59),1,0),IF(AND(AO59*1=AO59,AO59>=0),1,0),IF(AND(AO59=TRUNC(AO59),AO59>=0),1,0),IF(AND(AO59*1=AO59,AO59>0),1,0),IF(AND(AO59=TRUNC(AO59),AO59>0),1,0),1,IF(ISNA(HLOOKUP(AO59,$AU$4:$BD$4,1,0)),0,1)),0))) -> 1 | CS59: =Z59>=CS$7 -> FALSE | CT59: =AA59>=CT$7 -> FALSE | CU59: =AB59>=CU$7 -> TRUE | CV59: =AC59>=CV$7 -> TRUE | CW59: =AD59>=CW$7 -> TRUE | CX59: =IF($F59="","",IF(SUMPRODUCT(--(CS59:CW59=TRUE))=COUNTA(CS59:CW59),1,0))
B60: =IF(F60="","",ROW()-30) | Q60: =IF($F60="","",IF(O60<P60,$AR$1,IF(AND(P60>O60*0.5,P60>=$P$5),1,0))) | AB60: =IF(F60="","",IF(Z60>=$Z$5*0.8,1,0)) | AC60: =IF(F60="","",IF(AA60>=$AA$5*0.8,1,0)) | AD60: =IF(G60="","",IF(AND(Z60>='פרמטרים לקריטריונים'!$D$19,AA60>='פרמטרים לקריטריונים'!$C$19),1,0)) | AE60: {=IF($F60="","",IF(OR(SUMPRODUCT(--(Z60:AA60>=$Z$5:$AA$5))=COUNTA($Z$29:$AA$29),OR(AND(X60=1,OR(AB60=1,AC60=1)),AND(Y60=1,AD60=1))),1,0))} | AJ60: =IF(F60="","",IF(G60>=$G$5,1,0)) | AO60: =IF($F60="","",IF(AK60=1,1,IF(AQ60<>1,$AR$1,IF(SUMPRODUCT(--(G60:AJ60>=$G$5:$AJ$5)*($G$5:$AJ$5<>"")*($G$4:$AJ$4=1))=COUNTIF($G$4:$AJ$4,1),1,0)))) | AQ60: =IF(OR(SUM(AT60:CB60)<>COUNT(AT60:CB60),SUMPRODUCT(--(G60:AJ60=$AR$1))<>0),0,1) -> 0 | AR60: =IF($F60="","",AR$30) | AS60: =IF($F60="","",AS$30) | AT60: =IF(OR(G$30="",G$4=99),1,IF(G60="",0,IFERROR(CHOOSE(AT$28,IF(ISNA(MATCH(G60,$AR$30:$AS$30,0)),0,1),IF(ISNUMBER(G60),1,0),IF(G60=TRUNC(G60),1,0),IF(AND(G60*1=G60,G60>=0),1,0),IF(AND(G60=TRUNC(G60),G60>=0),1,0),IF(AND(G60*1=G60,G60>0),1,0),IF(AND(G60=TRUNC(G60),G60>0),1,0),1,IF(ISNA(HLOOKUP(G60,$AU$4:$BD$4,1,0)),0,1)),0))) -> 0 | AU60: =IF(OR(H$30="",H$4=99),1,IF(H60="",0,IFERROR(CHOOSE(AU$28,IF(ISNA(MATCH(H60,$AR$30:$AS$30,0)),0,1),IF(ISNUMBER(H60),1,0),IF(H60=TRUNC(H60),1,0),IF(AND(H60*1=H60,H60>=0),1,0),IF(AND(H60=TRUNC(H60),H60>=0),1,0),IF(AND(H60*1=H60,H60>0),1,0),IF(AND(H60=TRUNC(H60),H60>0),1,0),1,IF(ISNA(HLOOKUP(H60,$AU$4:$BD$4,1,0)),0,1)),0))) -> 0 | AV60: =IF(OR(I$30="",I$4=99),1,IF(I60="",0,IFERROR(CHOOSE(AV$28,IF(ISNA(MATCH(I60,$AR$30:$AS$30,0)),0,1),IF(ISNUMBER(I60),1,0),IF(I60=TRUNC(I60),1,0),IF(AND(I60*1=I60,I60>=0),1,0),IF(AND(I60=TRUNC(I60),I60>=0),1,0),IF(AND(I60*1=I60,I60>0),1,0),IF(AND(I60=TRUNC(I60),I60>0),1,0),1,IF(ISNA(HLOOKUP(I60,$AU$4:$BD$4,1,0)),0,1)),0))) -> 0 | AW60: =IF(OR(J$30="",J$4=99),1,IF(J60="",0,IFERROR(CHOOSE(AW$28,IF(ISNA(MATCH(J60,$AR$30:$AS$30,0)),0,1),IF(ISNUMBER(J60),1,0),IF(J60=TRUNC(J60),1,0),IF(AND(J60*1=J60,J60>=0),1,0),IF(AND(J60=TRUNC(J60),J60>=0),1,0),IF(AND(J60*1=J60,J60>0),1,0),IF(AND(J60=TRUNC(J60),J60>0),1,0),1,IF(ISNA(HLOOKUP(J60,$AU$4:$BD$4,1,0)),0,1)),0))) -> 0 | AX60: =IF(OR(K$30="",K$4=99),1,IF(K60="",0,IFERROR(CHOOSE(AX$28,IF(ISNA(MATCH(K60,$AR$30:$AS$30,0)),0,1),IF(ISNUMBER(K60),1,0),IF(K60=TRUNC(K60),1,0),IF(AND(K60*1=K60,K60>=0),1,0),IF(AND(K60=TRUNC(K60),K60>=0),1,0),IF(AND(K60*1=K60,K60>0),1,0),IF(AND(K60=TRUNC(K60),K60>0),1,0),1,IF(ISNA(HLOOKUP(K60,$AU$4:$BD$4,1,0)),0,1)),0))) -> 0 | AY60: =IF(OR(L$30="",L$4=99),1,IF(L60="",0,IFERROR(CHOOSE(AY$28,IF(ISNA(MATCH(L60,$AR$30:$AS$30,0)),0,1),IF(ISNUMBER(L60),1,0),IF(L60=TRUNC(L60),1,0),IF(AND(L60*1=L60,L60>=0),1,0),IF(AND(L60=TRUNC(L60),L60>=0),1,0),IF(AND(L60*1=L60,L60>0),1,0),IF(AND(L60=TRUNC(L60),L60>0),1,0),1,IF(ISNA(HLOOKUP(L60,$AU$4:$BD$4,1,0)),0,1)),0))) -> 0 | AZ60: =IF(OR(M$30="",M$4=99),1,IF(M60="",0,IFERROR(CHOOSE(AZ$28,IF(ISNA(MATCH(M60,$AR$30:$AS$30,0)),0,1),IF(ISNUMBER(M60),1,0),IF(M60=TRUNC(M60),1,0),IF(AND(M60*1=M60,M60>=0),1,0),IF(AND(M60=TRUNC(M60),M60>=0),1,0),IF(AND(M60*1=M60,M60>0),1,0),IF(AND(M60=TRUNC(M60),M60>0),1,0),1,IF(ISNA(HLOOKUP(M60,$AU$4:$BD$4,1,0)),0,1)),0))) -> 0 | BA60: =IF(OR(N$30="",N$4=99),1,IF(N60="",0,IFERROR(CHOOSE(BA$28,IF(ISNA(MATCH(N60,$AR$30:$AS$30,0)),0,1),IF(ISNUMBER(N60),1,0),IF(N60=TRUNC(N60),1,0),IF(AND(N60*1=N60,N60>=0),1,0),IF(AND(N60=TRUNC(N60),N60>=0),1,0),IF(AND(N60*1=N60,N60>0),1,0),IF(AND(N60=TRUNC(N60),N60>0),1,0),1,IF(ISNA(HLOOKUP(N60,$AU$4:$BD$4,1,0)),0,1)),0))) -> 0 | ... CB60: =IF(OR(AO$30="",AO$4=99),1,IF(AO60="",0,IFERROR(CHOOSE(CB$28,IF(ISNA(MATCH(AO60,$AR$30:$AS$30,0)),0,1),IF(ISNUMBER(AO60),1,0),IF(AO60=TRUNC(AO60),1,0),IF(AND(AO60*1=AO60,AO60>=0),1,0),IF(AND(AO60=TRUNC(AO60),AO60>=0),1,0),IF(AND(AO60*1=AO60,AO60>0),1,0),IF(AND(AO60=TRUNC(AO60),AO60>0),1,0),1,IF(ISNA(HLOOKUP(AO60,$AU$4:$BD$4,1,0)),0,1)),0))) -> 1 | CS60: =Z60>=CS$7 -> FALSE | CT60: =AA60>=CT$7 -> FALSE | CU60: =AB60>=CU$7 -> TRUE | CV60: =AC60>=CV$7 -> TRUE | CW60: =AD60>=CW$7 -> TRUE | CX60: =IF($F60="","",IF(SUMPRODUCT(--(CS60:CW60=TRUE))=COUNTA(CS60:CW60),1,0))
B61: =IF(F61="","",ROW()-30) | Q61: =IF($F61="","",IF(O61<P61,$AR$1,IF(AND(P61>O61*0.5,P61>=$P$5),1,0))) | AB61: =IF(F61="","",IF(Z61>=$Z$5*0.8,1,0)) | AC61: =IF(F61="","",IF(AA61>=$AA$5*0.8,1,0)) | AD61: =IF(G61="","",IF(AND(Z61>='פרמטרים לקריטריונים'!$D$19,AA61>='פרמטרים לקריטריונים'!$C$19),1,0)) | AE61: {=IF($F61="","",IF(OR(SUMPRODUCT(--(Z61:AA61>=$Z$5:$AA$5))=COUNTA($Z$29:$AA$29),OR(AND(X61=1,OR(AB61=1,AC61=1)),AND(Y61=1,AD61=1))),1,0))} | AJ61: =IF(F61="","",IF(G61>=$G$5,1,0)) | AO61: =IF($F61="","",IF(AK61=1,1,IF(AQ61<>1,$AR$1,IF(SUMPRODUCT(--(G61:AJ61>=$G$5:$AJ$5)*($G$5:$AJ$5<>"")*($G$4:$AJ$4=1))=COUNTIF($G$4:$AJ$4,1),1,0)))) | AQ61: =IF(OR(SUM(AT61:CB61)<>COUNT(AT61:CB61),SUMPRODUCT(--(G61:AJ61=$AR$1))<>0),0,1) -> 0 | AR61: =IF($F61="","",AR$30) | AS61: =IF($F61="","",AS$30) | AT61: =IF(OR(G$30="",G$4=99),1,IF(G61="",0,IFERROR(CHOOSE(AT$28,IF(ISNA(MATCH(G61,$AR$30:$AS$30,0)),0,1),IF(ISNUMBER(G61),1,0),IF(G61=TRUNC(G61),1,0),IF(AND(G61*1=G61,G61>=0),1,0),IF(AND(G61=TRUNC(G61),G61>=0),1,0),IF(AND(G61*1=G61,G61>0),1,0),IF(AND(G61=TRUNC(G61),G61>0),1,0),1,IF(ISNA(HLOOKUP(G61,$AU$4:$BD$4,1,0)),0,1)),0))) -> 0 | AU61: =IF(OR(H$30="",H$4=99),1,IF(H61="",0,IFERROR(CHOOSE(AU$28,IF(ISNA(MATCH(H61,$AR$30:$AS$30,0)),0,1),IF(ISNUMBER(H61),1,0),IF(H61=TRUNC(H61),1,0),IF(AND(H61*1=H61,H61>=0),1,0),IF(AND(H61=TRUNC(H61),H61>=0),1,0),IF(AND(H61*1=H61,H61>0),1,0),IF(AND(H61=TRUNC(H61),H61>0),1,0),1,IF(ISNA(HLOOKUP(H61,$AU$4:$BD$4,1,0)),0,1)),0))) -> 0 | AV61: =IF(OR(I$30="",I$4=99),1,IF(I61="",0,IFERROR(CHOOSE(AV$28,IF(ISNA(MATCH(I61,$AR$30:$AS$30,0)),0,1),IF(ISNUMBER(I61),1,0),IF(I61=TRUNC(I61),1,0),IF(AND(I61*1=I61,I61>=0),1,0),IF(AND(I61=TRUNC(I61),I61>=0),1,0),IF(AND(I61*1=I61,I61>0),1,0),IF(AND(I61=TRUNC(I61),I61>0),1,0),1,IF(ISNA(HLOOKUP(I61,$AU$4:$BD$4,1,0)),0,1)),0))) -> 0 | AW61: =IF(OR(J$30="",J$4=99),1,IF(J61="",0,IFERROR(CHOOSE(AW$28,IF(ISNA(MATCH(J61,$AR$30:$AS$30,0)),0,1),IF(ISNUMBER(J61),1,0),IF(J61=TRUNC(J61),1,0),IF(AND(J61*1=J61,J61>=0),1,0),IF(AND(J61=TRUNC(J61),J61>=0),1,0),IF(AND(J61*1=J61,J61>0),1,0),IF(AND(J61=TRUNC(J61),J61>0),1,0),1,IF(ISNA(HLOOKUP(J61,$AU$4:$BD$4,1,0)),0,1)),0))) -> 0 | AX61: =IF(OR(K$30="",K$4=99),1,IF(K61="",0,IFERROR(CHOOSE(AX$28,IF(ISNA(MATCH(K61,$AR$30:$AS$30,0)),0,1),IF(ISNUMBER(K61),1,0),IF(K61=TRUNC(K61),1,0),IF(AND(K61*1=K61,K61>=0),1,0),IF(AND(K61=TRUNC(K61),K61>=0),1,0),IF(AND(K61*1=K61,K61>0),1,0),IF(AND(K61=TRUNC(K61),K61>0),1,0),1,IF(ISNA(HLOOKUP(K61,$AU$4:$BD$4,1,0)),0,1)),0))) -> 0 | AY61: =IF(OR(L$30="",L$4=99),1,IF(L61="",0,IFERROR(CHOOSE(AY$28,IF(ISNA(MATCH(L61,$AR$30:$AS$30,0)),0,1),IF(ISNUMBER(L61),1,0),IF(L61=TRUNC(L61),1,0),IF(AND(L61*1=L61,L61>=0),1,0),IF(AND(L61=TRUNC(L61),L61>=0),1,0),IF(AND(L61*1=L61,L61>0),1,0),IF(AND(L61=TRUNC(L61),L61>0),1,0),1,IF(ISNA(HLOOKUP(L61,$AU$4:$BD$4,1,0)),0,1)),0))) -> 0 | AZ61: =IF(OR(M$30="",M$4=99),1,IF(M61="",0,IFERROR(CHOOSE(AZ$28,IF(ISNA(MATCH(M61,$AR$30:$AS$30,0)),0,1),IF(ISNUMBER(M61),1,0),IF(M61=TRUNC(M61),1,0),IF(AND(M61*1=M61,M61>=0),1,0),IF(AND(M61=TRUNC(M61),M61>=0),1,0),IF(AND(M61*1=M61,M61>0),1,0),IF(AND(M61=TRUNC(M61),M61>0),1,0),1,IF(ISNA(HLOOKUP(M61,$AU$4:$BD$4,1,0)),0,1)),0))) -> 0 | BA61: =IF(OR(N$30="",N$4=99),1,IF(N61="",0,IFERROR(CHOOSE(BA$28,IF(ISNA(MATCH(N61,$AR$30:$AS$30,0)),0,1),IF(ISNUMBER(N61),1,0),IF(N61=TRUNC(N61),1,0),IF(AND(N61*1=N61,N61>=0),1,0),IF(AND(N61=TRUNC(N61),N61>=0),1,0),IF(AND(N61*1=N61,N61>0),1,0),IF(AND(N61=TRUNC(N61),N61>0),1,0),1,IF(ISNA(HLOOKUP(N61,$AU$4:$BD$4,1,0)),0,1)),0))) -> 0 | ... CB61: =IF(OR(AO$30="",AO$4=99),1,IF(AO61="",0,IFERROR(CHOOSE(CB$28,IF(ISNA(MATCH(AO61,$AR$30:$AS$30,0)),0,1),IF(ISNUMBER(AO61),1,0),IF(AO61=TRUNC(AO61),1,0),IF(AND(AO61*1=AO61,AO61>=0),1,0),IF(AND(AO61=TRUNC(AO61),AO61>=0),1,0),IF(AND(AO61*1=AO61,AO61>0),1,0),IF(AND(AO61=TRUNC(AO61),AO61>0),1,0),1,IF(ISNA(HLOOKUP(AO61,$AU$4:$BD$4,1,0)),0,1)),0))) -> 1 | CS61: =Z61>=CS$7 -> FALSE | CT61: =AA61>=CT$7 -> FALSE | CU61: =AB61>=CU$7 -> TRUE | CV61: =AC61>=CV$7 -> TRUE | CW61: =AD61>=CW$7 -> TRUE | CX61: =IF($F61="","",IF(SUMPRODUCT(--(CS61:CW61=TRUE))=COUNTA(CS61:CW61),1,0))
B62: =IF(F62="","",ROW()-30) | Q62: =IF($F62="","",IF(O62<P62,$AR$1,IF(AND(P62>O62*0.5,P62>=$P$5),1,0))) | AB62: =IF(F62="","",IF(Z62>=$Z$5*0.8,1,0)) | AC62: =IF(F62="","",IF(AA62>=$AA$5*0.8,1,0)) | AD62: =IF(G62="","",IF(AND(Z62>='פרמטרים לקריטריונים'!$D$19,AA62>='פרמטרים לקריטריונים'!$C$19),1,0)) | AE62: {=IF($F62="","",IF(OR(SUMPRODUCT(--(Z62:AA62>=$Z$5:$AA$5))=COUNTA($Z$29:$AA$29),OR(AND(X62=1,OR(AB62=1,AC62=1)),AND(Y62=1,AD62=1))),1,0))} | AJ62: =IF(F62="","",IF(G62>=$G$5,1,0)) | AO62: =IF($F62="","",IF(AK62=1,1,IF(AQ62<>1,$AR$1,IF(SUMPRODUCT(--(G62:AJ62>=$G$5:$AJ$5)*($G$5:$AJ$5<>"")*($G$4:$AJ$4=1))=COUNTIF($G$4:$AJ$4,1),1,0)))) | AQ62: =IF(OR(SUM(AT62:CB62)<>COUNT(AT62:CB62),SUMPRODUCT(--(G62:AJ62=$AR$1))<>0),0,1) -> 0 | AR62: =IF($F62="","",AR$30) | AS62: =IF($F62="","",AS$30) | AT62: =IF(OR(G$30="",G$4=99),1,IF(G62="",0,IFERROR(CHOOSE(AT$28,IF(ISNA(MATCH(G62,$AR$30:$AS$30,0)),0,1),IF(ISNUMBER(G62),1,0),IF(G62=TRUNC(G62),1,0),IF(AND(G62*1=G62,G62>=0),1,0),IF(AND(G62=TRUNC(G62),G62>=0),1,0),IF(AND(G62*1=G62,G62>0),1,0),IF(AND(G62=TRUNC(G62),G62>0),1,0),1,IF(ISNA(HLOOKUP(G62,$AU$4:$BD$4,1,0)),0,1)),0))) -> 0 | AU62: =IF(OR(H$30="",H$4=99),1,IF(H62="",0,IFERROR(CHOOSE(AU$28,IF(ISNA(MATCH(H62,$AR$30:$AS$30,0)),0,1),IF(ISNUMBER(H62),1,0),IF(H62=TRUNC(H62),1,0),IF(AND(H62*1=H62,H62>=0),1,0),IF(AND(H62=TRUNC(H62),H62>=0),1,0),IF(AND(H62*1=H62,H62>0),1,0),IF(AND(H62=TRUNC(H62),H62>0),1,0),1,IF(ISNA(HLOOKUP(H62,$AU$4:$BD$4,1,0)),0,1)),0))) -> 0 | AV62: =IF(OR(I$30="",I$4=99),1,IF(I62="",0,IFERROR(CHOOSE(AV$28,IF(ISNA(MATCH(I62,$AR$30:$AS$30,0)),0,1),IF(ISNUMBER(I62),1,0),IF(I62=TRUNC(I62),1,0),IF(AND(I62*1=I62,I62>=0),1,0),IF(AND(I62=TRUNC(I62),I62>=0),1,0),IF(AND(I62*1=I62,I62>0),1,0),IF(AND(I62=TRUNC(I62),I62>0),1,0),1,IF(ISNA(HLOOKUP(I62,$AU$4:$BD$4,1,0)),0,1)),0))) -> 0 | AW62: =IF(OR(J$30="",J$4=99),1,IF(J62="",0,IFERROR(CHOOSE(AW$28,IF(ISNA(MATCH(J62,$AR$30:$AS$30,0)),0,1),IF(ISNUMBER(J62),1,0),IF(J62=TRUNC(J62),1,0),IF(AND(J62*1=J62,J62>=0),1,0),IF(AND(J62=TRUNC(J62),J62>=0),1,0),IF(AND(J62*1=J62,J62>0),1,0),IF(AND(J62=TRUNC(J62),J62>0),1,0),1,IF(ISNA(HLOOKUP(J62,$AU$4:$BD$4,1,0)),0,1)),0))) -> 0 | AX62: =IF(OR(K$30="",K$4=99),1,IF(K62="",0,IFERROR(CHOOSE(AX$28,IF(ISNA(MATCH(K62,$AR$30:$AS$30,0)),0,1),IF(ISNUMBER(K62),1,0),IF(K62=TRUNC(K62),1,0),IF(AND(K62*1=K62,K62>=0),1,0),IF(AND(K62=TRUNC(K62),K62>=0),1,0),IF(AND(K62*1=K62,K62>0),1,0),IF(AND(K62=TRUNC(K62),K62>0),1,0),1,IF(ISNA(HLOOKUP(K62,$AU$4:$BD$4,1,0)),0,1)),0))) -> 0 | AY62: =IF(OR(L$30="",L$4=99),1,IF(L62="",0,IFERROR(CHOOSE(AY$28,IF(ISNA(MATCH(L62,$AR$30:$AS$30,0)),0,1),IF(ISNUMBER(L62),1,0),IF(L62=TRUNC(L62),1,0),IF(AND(L62*1=L62,L62>=0),1,0),IF(AND(L62=TRUNC(L62),L62>=0),1,0),IF(AND(L62*1=L62,L62>0),1,0),IF(AND(L62=TRUNC(L62),L62>0),1,0),1,IF(ISNA(HLOOKUP(L62,$AU$4:$BD$4,1,0)),0,1)),0))) -> 0 | AZ62: =IF(OR(M$30="",M$4=99),1,IF(M62="",0,IFERROR(CHOOSE(AZ$28,IF(ISNA(MATCH(M62,$AR$30:$AS$30,0)),0,1),IF(ISNUMBER(M62),1,0),IF(M62=TRUNC(M62),1,0),IF(AND(M62*1=M62,M62>=0),1,0),IF(AND(M62=TRUNC(M62),M62>=0),1,0),IF(AND(M62*1=M62,M62>0),1,0),IF(AND(M62=TRUNC(M62),M62>0),1,0),1,IF(ISNA(HLOOKUP(M62,$AU$4:$BD$4,1,0)),0,1)),0))) -> 0 | BA62: =IF(OR(N$30="",N$4=99),1,IF(N62="",0,IFERROR(CHOOSE(BA$28,IF(ISNA(MATCH(N62,$AR$30:$AS$30,0)),0,1),IF(ISNUMBER(N62),1,0),IF(N62=TRUNC(N62),1,0),IF(AND(N62*1=N62,N62>=0),1,0),IF(AND(N62=TRUNC(N62),N62>=0),1,0),IF(AND(N62*1=N62,N62>0),1,0),IF(AND(N62=TRUNC(N62),N62>0),1,0),1,IF(ISNA(HLOOKUP(N62,$AU$4:$BD$4,1,0)),0,1)),0))) -> 0 | ... CB62: =IF(OR(AO$30="",AO$4=99),1,IF(AO62="",0,IFERROR(CHOOSE(CB$28,IF(ISNA(MATCH(AO62,$AR$30:$AS$30,0)),0,1),IF(ISNUMBER(AO62),1,0),IF(AO62=TRUNC(AO62),1,0),IF(AND(AO62*1=AO62,AO62>=0),1,0),IF(AND(AO62=TRUNC(AO62),AO62>=0),1,0),IF(AND(AO62*1=AO62,AO62>0),1,0),IF(AND(AO62=TRUNC(AO62),AO62>0),1,0),1,IF(ISNA(HLOOKUP(AO62,$AU$4:$BD$4,1,0)),0,1)),0))) -> 1 | CS62: =Z62>=CS$7 -> FALSE | CT62: =AA62>=CT$7 -> FALSE | CU62: =AB62>=CU$7 -> TRUE | CV62: =AC62>=CV$7 -> TRUE | CW62: =AD62>=CW$7 -> TRUE | CX62: =IF($F62="","",IF(SUMPRODUCT(--(CS62:CW62=TRUE))=COUNTA(CS62:CW62),1,0))
B63: =IF(F63="","",ROW()-30) | Q63: =IF($F63="","",IF(O63<P63,$AR$1,IF(AND(P63>O63*0.5,P63>=$P$5),1,0))) | AB63: =IF(F63="","",IF(Z63>=$Z$5*0.8,1,0)) | AC63: =IF(F63="","",IF(AA63>=$AA$5*0.8,1,0)) | AD63: =IF(G63="","",IF(AND(Z63>='פרמטרים לקריטריונים'!$D$19,AA63>='פרמטרים לקריטריונים'!$C$19),1,0)) | AE63: {=IF($F63="","",IF(OR(SUMPRODUCT(--(Z63:AA63>=$Z$5:$AA$5))=COUNTA($Z$29:$AA$29),OR(AND(X63=1,OR(AB63=1,AC63=1)),AND(Y63=1,AD63=1))),1,0))} | AJ63: =IF(F63="","",IF(G63>=$G$5,1,0)) | AO63: =IF($F63="","",IF(AK63=1,1,IF(AQ63<>1,$AR$1,IF(SUMPRODUCT(--(G63:AJ63>=$G$5:$AJ$5)*($G$5:$AJ$5<>"")*($G$4:$AJ$4=1))=COUNTIF($G$4:$AJ$4,1),1,0)))) | AQ63: =IF(OR(SUM(AT63:CB63)<>COUNT(AT63:CB63),SUMPRODUCT(--(G63:AJ63=$AR$1))<>0),0,1) -> 0 | AR63: =IF($F63="","",AR$30) | AS63: =IF($F63="","",AS$30) | AT63: =IF(OR(G$30="",G$4=99),1,IF(G63="",0,IFERROR(CHOOSE(AT$28,IF(ISNA(MATCH(G63,$AR$30:$AS$30,0)),0,1),IF(ISNUMBER(G63),1,0),IF(G63=TRUNC(G63),1,0),IF(AND(G63*1=G63,G63>=0),1,0),IF(AND(G63=TRUNC(G63),G63>=0),1,0),IF(AND(G63*1=G63,G63>0),1,0),IF(AND(G63=TRUNC(G63),G63>0),1,0),1,IF(ISNA(HLOOKUP(G63,$AU$4:$BD$4,1,0)),0,1)),0))) -> 0 | AU63: =IF(OR(H$30="",H$4=99),1,IF(H63="",0,IFERROR(CHOOSE(AU$28,IF(ISNA(MATCH(H63,$AR$30:$AS$30,0)),0,1),IF(ISNUMBER(H63),1,0),IF(H63=TRUNC(H63),1,0),IF(AND(H63*1=H63,H63>=0),1,0),IF(AND(H63=TRUNC(H63),H63>=0),1,0),IF(AND(H63*1=H63,H63>0),1,0),IF(AND(H63=TRUNC(H63),H63>0),1,0),1,IF(ISNA(HLOOKUP(H63,$AU$4:$BD$4,1,0)),0,1)),0))) -> 0 | AV63: =IF(OR(I$30="",I$4=99),1,IF(I63="",0,IFERROR(CHOOSE(AV$28,IF(ISNA(MATCH(I63,$AR$30:$AS$30,0)),0,1),IF(ISNUMBER(I63),1,0),IF(I63=TRUNC(I63),1,0),IF(AND(I63*1=I63,I63>=0),1,0),IF(AND(I63=TRUNC(I63),I63>=0),1,0),IF(AND(I63*1=I63,I63>0),1,0),IF(AND(I63=TRUNC(I63),I63>0),1,0),1,IF(ISNA(HLOOKUP(I63,$AU$4:$BD$4,1,0)),0,1)),0))) -> 0 | AW63: =IF(OR(J$30="",J$4=99),1,IF(J63="",0,IFERROR(CHOOSE(AW$28,IF(ISNA(MATCH(J63,$AR$30:$AS$30,0)),0,1),IF(ISNUMBER(J63),1,0),IF(J63=TRUNC(J63),1,0),IF(AND(J63*1=J63,J63>=0),1,0),IF(AND(J63=TRUNC(J63),J63>=0),1,0),IF(AND(J63*1=J63,J63>0),1,0),IF(AND(J63=TRUNC(J63),J63>0),1,0),1,IF(ISNA(HLOOKUP(J63,$AU$4:$BD$4,1,0)),0,1)),0))) -> 0 | AX63: =IF(OR(K$30="",K$4=99),1,IF(K63="",0,IFERROR(CHOOSE(AX$28,IF(ISNA(MATCH(K63,$AR$30:$AS$30,0)),0,1),IF(ISNUMBER(K63),1,0),IF(K63=TRUNC(K63),1,0),IF(AND(K63*1=K63,K63>=0),1,0),IF(AND(K63=TRUNC(K63),K63>=0),1,0),IF(AND(K63*1=K63,K63>0),1,0),IF(AND(K63=TRUNC(K63),K63>0),1,0),1,IF(ISNA(HLOOKUP(K63,$AU$4:$BD$4,1,0)),0,1)),0))) -> 0 | AY63: =IF(OR(L$30="",L$4=99),1,IF(L63="",0,IFERROR(CHOOSE(AY$28,IF(ISNA(MATCH(L63,$AR$30:$AS$30,0)),0,1),IF(ISNUMBER(L63),1,0),IF(L63=TRUNC(L63),1,0),IF(AND(L63*1=L63,L63>=0),1,0),IF(AND(L63=TRUNC(L63),L63>=0),1,0),IF(AND(L63*1=L63,L63>0),1,0),IF(AND(L63=TRUNC(L63),L63>0),1,0),1,IF(ISNA(HLOOKUP(L63,$AU$4:$BD$4,1,0)),0,1)),0))) -> 0 | AZ63: =IF(OR(M$30="",M$4=99),1,IF(M63="",0,IFERROR(CHOOSE(AZ$28,IF(ISNA(MATCH(M63,$AR$30:$AS$30,0)),0,1),IF(ISNUMBER(M63),1,0),IF(M63=TRUNC(M63),1,0),IF(AND(M63*1=M63,M63>=0),1,0),IF(AND(M63=TRUNC(M63),M63>=0),1,0),IF(AND(M63*1=M63,M63>0),1,0),IF(AND(M63=TRUNC(M63),M63>0),1,0),1,IF(ISNA(HLOOKUP(M63,$AU$4:$BD$4,1,0)),0,1)),0))) -> 0 | BA63: =IF(OR(N$30="",N$4=99),1,IF(N63="",0,IFERROR(CHOOSE(BA$28,IF(ISNA(MATCH(N63,$AR$30:$AS$30,0)),0,1),IF(ISNUMBER(N63),1,0),IF(N63=TRUNC(N63),1,0),IF(AND(N63*1=N63,N63>=0),1,0),IF(AND(N63=TRUNC(N63),N63>=0),1,0),IF(AND(N63*1=N63,N63>0),1,0),IF(AND(N63=TRUNC(N63),N63>0),1,0),1,IF(ISNA(HLOOKUP(N63,$AU$4:$BD$4,1,0)),0,1)),0))) -> 0 | ... CB63: =IF(OR(AO$30="",AO$4=99),1,IF(AO63="",0,IFERROR(CHOOSE(CB$28,IF(ISNA(MATCH(AO63,$AR$30:$AS$30,0)),0,1),IF(ISNUMBER(AO63),1,0),IF(AO63=TRUNC(AO63),1,0),IF(AND(AO63*1=AO63,AO63>=0),1,0),IF(AND(AO63=TRUNC(AO63),AO63>=0),1,0),IF(AND(AO63*1=AO63,AO63>0),1,0),IF(AND(AO63=TRUNC(AO63),AO63>0),1,0),1,IF(ISNA(HLOOKUP(AO63,$AU$4:$BD$4,1,0)),0,1)),0))) -> 1 | CS63: =Z63>=CS$7 -> FALSE | CT63: =AA63>=CT$7 -> FALSE | CU63: =AB63>=CU$7 -> TRUE | CV63: =AC63>=CV$7 -> TRUE | CW63: =AD63>=CW$7 -> TRUE | CX63: =IF($F63="","",IF(SUMPRODUCT(--(CS63:CW63=TRUE))=COUNTA(CS63:CW63),1,0))
B64: =IF(F64="","",ROW()-30) | Q64: =IF($F64="","",IF(O64<P64,$AR$1,IF(AND(P64>O64*0.5,P64>=$P$5),1,0))) | AB64: =IF(F64="","",IF(Z64>=$Z$5*0.8,1,0)) | AC64: =IF(F64="","",IF(AA64>=$AA$5*0.8,1,0)) | AD64: =IF(G64="","",IF(AND(Z64>='פרמטרים לקריטריונים'!$D$19,AA64>='פרמטרים לקריטריונים'!$C$19),1,0)) | AE64: {=IF($F64="","",IF(OR(SUMPRODUCT(--(Z64:AA64>=$Z$5:$AA$5))=COUNTA($Z$29:$AA$29),OR(AND(X64=1,OR(AB64=1,AC64=1)),AND(Y64=1,AD64=1))),1,0))} | AJ64: =IF(F64="","",IF(G64>=$G$5,1,0)) | AO64: =IF($F64="","",IF(AK64=1,1,IF(AQ64<>1,$AR$1,IF(SUMPRODUCT(--(G64:AJ64>=$G$5:$AJ$5)*($G$5:$AJ$5<>"")*($G$4:$AJ$4=1))=COUNTIF($G$4:$AJ$4,1),1,0)))) | AQ64: =IF(OR(SUM(AT64:CB64)<>COUNT(AT64:CB64),SUMPRODUCT(--(G64:AJ64=$AR$1))<>0),0,1) -> 0 | AR64: =IF($F64="","",AR$30) | AS64: =IF($F64="","",AS$30) | AT64: =IF(OR(G$30="",G$4=99),1,IF(G64="",0,IFERROR(CHOOSE(AT$28,IF(ISNA(MATCH(G64,$AR$30:$AS$30,0)),0,1),IF(ISNUMBER(G64),1,0),IF(G64=TRUNC(G64),1,0),IF(AND(G64*1=G64,G64>=0),1,0),IF(AND(G64=TRUNC(G64),G64>=0),1,0),IF(AND(G64*1=G64,G64>0),1,0),IF(AND(G64=TRUNC(G64),G64>0),1,0),1,IF(ISNA(HLOOKUP(G64,$AU$4:$BD$4,1,0)),0,1)),0))) -> 0 | AU64: =IF(OR(H$30="",H$4=99),1,IF(H64="",0,IFERROR(CHOOSE(AU$28,IF(ISNA(MATCH(H64,$AR$30:$AS$30,0)),0,1),IF(ISNUMBER(H64),1,0),IF(H64=TRUNC(H64),1,0),IF(AND(H64*1=H64,H64>=0),1,0),IF(AND(H64=TRUNC(H64),H64>=0),1,0),IF(AND(H64*1=H64,H64>0),1,0),IF(AND(H64=TRUNC(H64),H64>0),1,0),1,IF(ISNA(HLOOKUP(H64,$AU$4:$BD$4,1,0)),0,1)),0))) -> 0 | AV64: =IF(OR(I$30="",I$4=99),1,IF(I64="",0,IFERROR(CHOOSE(AV$28,IF(ISNA(MATCH(I64,$AR$30:$AS$30,0)),0,1),IF(ISNUMBER(I64),1,0),IF(I64=TRUNC(I64),1,0),IF(AND(I64*1=I64,I64>=0),1,0),IF(AND(I64=TRUNC(I64),I64>=0),1,0),IF(AND(I64*1=I64,I64>0),1,0),IF(AND(I64=TRUNC(I64),I64>0),1,0),1,IF(ISNA(HLOOKUP(I64,$AU$4:$BD$4,1,0)),0,1)),0))) -> 0 | AW64: =IF(OR(J$30="",J$4=99),1,IF(J64="",0,IFERROR(CHOOSE(AW$28,IF(ISNA(MATCH(J64,$AR$30:$AS$30,0)),0,1),IF(ISNUMBER(J64),1,0),IF(J64=TRUNC(J64),1,0),IF(AND(J64*1=J64,J64>=0),1,0),IF(AND(J64=TRUNC(J64),J64>=0),1,0),IF(AND(J64*1=J64,J64>0),1,0),IF(AND(J64=TRUNC(J64),J64>0),1,0),1,IF(ISNA(HLOOKUP(J64,$AU$4:$BD$4,1,0)),0,1)),0))) -> 0 | AX64: =IF(OR(K$30="",K$4=99),1,IF(K64="",0,IFERROR(CHOOSE(AX$28,IF(ISNA(MATCH(K64,$AR$30:$AS$30,0)),0,1),IF(ISNUMBER(K64),1,0),IF(K64=TRUNC(K64),1,0),IF(AND(K64*1=K64,K64>=0),1,0),IF(AND(K64=TRUNC(K64),K64>=0),1,0),IF(AND(K64*1=K64,K64>0),1,0),IF(AND(K64=TRUNC(K64),K64>0),1,0),1,IF(ISNA(HLOOKUP(K64,$AU$4:$BD$4,1,0)),0,1)),0))) -> 0 | AY64: =IF(OR(L$30="",L$4=99),1,IF(L64="",0,IFERROR(CHOOSE(AY$28,IF(ISNA(MATCH(L64,$AR$30:$AS$30,0)),0,1),IF(ISNUMBER(L64),1,0),IF(L64=TRUNC(L64),1,0),IF(AND(L64*1=L64,L64>=0),1,0),IF(AND(L64=TRUNC(L64),L64>=0),1,0),IF(AND(L64*1=L64,L64>0),1,0),IF(AND(L64=TRUNC(L64),L64>0),1,0),1,IF(ISNA(HLOOKUP(L64,$AU$4:$BD$4,1,0)),0,1)),0))) -> 0 | AZ64: =IF(OR(M$30="",M$4=99),1,IF(M64="",0,IFERROR(CHOOSE(AZ$28,IF(ISNA(MATCH(M64,$AR$30:$AS$30,0)),0,1),IF(ISNUMBER(M64),1,0),IF(M64=TRUNC(M64),1,0),IF(AND(M64*1=M64,M64>=0),1,0),IF(AND(M64=TRUNC(M64),M64>=0),1,0),IF(AND(M64*1=M64,M64>0),1,0),IF(AND(M64=TRUNC(M64),M64>0),1,0),1,IF(ISNA(HLOOKUP(M64,$AU$4:$BD$4,1,0)),0,1)),0))) -> 0 | BA64: =IF(OR(N$30="",N$4=99),1,IF(N64="",0,IFERROR(CHOOSE(BA$28,IF(ISNA(MATCH(N64,$AR$30:$AS$30,0)),0,1),IF(ISNUMBER(N64),1,0),IF(N64=TRUNC(N64),1,0),IF(AND(N64*1=N64,N64>=0),1,0),IF(AND(N64=TRUNC(N64),N64>=0),1,0),IF(AND(N64*1=N64,N64>0),1,0),IF(AND(N64=TRUNC(N64),N64>0),1,0),1,IF(ISNA(HLOOKUP(N64,$AU$4:$BD$4,1,0)),0,1)),0))) -> 0 | ... CB64: =IF(OR(AO$30="",AO$4=99),1,IF(AO64="",0,IFERROR(CHOOSE(CB$28,IF(ISNA(MATCH(AO64,$AR$30:$AS$30,0)),0,1),IF(ISNUMBER(AO64),1,0),IF(AO64=TRUNC(AO64),1,0),IF(AND(AO64*1=AO64,AO64>=0),1,0),IF(AND(AO64=TRUNC(AO64),AO64>=0),1,0),IF(AND(AO64*1=AO64,AO64>0),1,0),IF(AND(AO64=TRUNC(AO64),AO64>0),1,0),1,IF(ISNA(HLOOKUP(AO64,$AU$4:$BD$4,1,0)),0,1)),0))) -> 1 | CS64: =Z64>=CS$7 -> FALSE | CT64: =AA64>=CT$7 -> FALSE | CU64: =AB64>=CU$7 -> TRUE | CV64: =AC64>=CV$7 -> TRUE | CW64: =AD64>=CW$7 -> TRUE | CX64: =IF($F64="","",IF(SUMPRODUCT(--(CS64:CW64=TRUE))=COUNTA(CS64:CW64),1,0))
B65: =IF(F65="","",ROW()-30) -> 35 | F65: אנסמבל מיתר | G65: 1 | H65: 1 | I65: 1 | J65: 1 | K65: 1 | L65: 1 | M65: 1 | N65: 1 | O65: 40 | P65: 26 | Q65: =IF($F65="","",IF(O65<P65,$AR$1,IF(AND(P65>O65*0.5,P65>=$P$5),1,0))) -> 1 | R65: 1 | S65: 1 | T65: 1 | U65: 1 | Z65: 26 | AA65: 552727 | AB65: =IF(F65="","",IF(Z65>=$Z$5*0.8,1,0)) -> 1 | AC65: =IF(F65="","",IF(AA65>=$AA$5*0.8,1,0)) -> 1 | AD65: =IF(G65="","",IF(AND(Z65>='פרמטרים לקריטריונים'!$D$19,AA65>='פרמטרים לקריטריונים'!$C$19),1,0)) -> 1 | AE65: {=IF($F65="","",IF(OR(SUMPRODUCT(--(Z65:AA65>=$Z$5:$AA$5))=COUNTA($Z$29:$AA$29),OR(AND(X65=1,OR(AB65=1,AC65=1)),AND(Y65=1,AD65=1))),1,0))} -> 1 | AG65: 1 | AH65: 1 | AI65: 1 | AJ65: =IF(F65="","",IF(G65>=$G$5,1,0)) -> 1 | AO65: =IF($F65="","",IF(AK65=1,1,IF(AQ65<>1,$AR$1,IF(SUMPRODUCT(--(G65:AJ65>=$G$5:$AJ$5)*($G$5:$AJ$5<>"")*($G$4:$AJ$4=1))=COUNTIF($G$4:$AJ$4,1),1,0)))) -> 1 | AP65: עומד בתנאי סף האמנותי ובתנאי הסף הכמותיים כקבוצה מוסיקלית. | AQ65: =IF(OR(SUM(AT65:CB65)<>COUNT(AT65:CB65),SUMPRODUCT(--(G65:AJ65=$AR$1))<>0),0,1) -> 1 | AR65: =IF($F65="","",AR$30) -> 0 | AS65: =IF($F65="","",AS$30) -> 1 | AT65: =IF(OR(G$30="",G$4=99),1,IF(G65="",0,IFERROR(CHOOSE(AT$28,IF(ISNA(MATCH(G65,$AR$30:$AS$30,0)),0,1),IF(ISNUMBER(G65),1,0),IF(G65=TRUNC(G65),1,0),IF(AND(G65*1=G65,G65>=0),1,0),IF(AND(G65=TRUNC(G65),G65>=0),1,0),IF(AND(G65*1=G65,G65>0),1,0),IF(AND(G65=TRUNC(G65),G65>0),1,0),1,IF(ISNA(HLOOKUP(G65,$AU$4:$BD$4,1,0)),0,1)),0))) -> 1 | AU65: =IF(OR(H$30="",H$4=99),1,IF(H65="",0,IFERROR(CHOOSE(AU$28,IF(ISNA(MATCH(H65,$AR$30:$AS$30,0)),0,1),IF(ISNUMBER(H65),1,0),IF(H65=TRUNC(H65),1,0),IF(AND(H65*1=H65,H65>=0),1,0),IF(AND(H65=TRUNC(H65),H65>=0),1,0),IF(AND(H65*1=H65,H65>0),1,0),IF(AND(H65=TRUNC(H65),H65>0),1,0),1,IF(ISNA(HLOOKUP(H65,$AU$4:$BD$4,1,0)),0,1)),0))) -> 1 | AV65: =IF(OR(I$30="",I$4=99),1,IF(I65="",0,IFERROR(CHOOSE(AV$28,IF(ISNA(MATCH(I65,$AR$30:$AS$30,0)),0,1),IF(ISNUMBER(I65),1,0),IF(I65=TRUNC(I65),1,0),IF(AND(I65*1=I65,I65>=0),1,0),IF(AND(I65=TRUNC(I65),I65>=0),1,0),IF(AND(I65*1=I65,I65>0),1,0),IF(AND(I65=TRUNC(I65),I65>0),1,0),1,IF(ISNA(HLOOKUP(I65,$AU$4:$BD$4,1,0)),0,1)),0))) -> 1 | AW65: =IF(OR(J$30="",J$4=99),1,IF(J65="",0,IFERROR(CHOOSE(AW$28,IF(ISNA(MATCH(J65,$AR$30:$AS$30,0)),0,1),IF(ISNUMBER(J65),1,0),IF(J65=TRUNC(J65),1,0),IF(AND(J65*1=J65,J65>=0),1,0),IF(AND(J65=TRUNC(J65),J65>=0),1,0),IF(AND(J65*1=J65,J65>0),1,0),IF(AND(J65=TRUNC(J65),J65>0),1,0),1,IF(ISNA(HLOOKUP(J65,$AU$4:$BD$4,1,0)),0,1)),0))) -> 1 | AX65: =IF(OR(K$30="",K$4=99),1,IF(K65="",0,IFERROR(CHOOSE(AX$28,IF(ISNA(MATCH(K65,$AR$30:$AS$30,0)),0,1),IF(ISNUMBER(K65),1,0),IF(K65=TRUNC(K65),1,0),IF(AND(K65*1=K65,K65>=0),1,0),IF(AND(K65=TRUNC(K65),K65>=0),1,0),IF(AND(K65*1=K65,K65>0),1,0),IF(AND(K65=TRUNC(K65),K65>0),1,0),1,IF(ISNA(HLOOKUP(K65,$AU$4:$BD$4,1,0)),0,1)),0))) -> 1 | AY65: =IF(OR(L$30="",L$4=99),1,IF(L65="",0,IFERROR(CHOOSE(AY$28,IF(ISNA(MATCH(L65,$AR$30:$AS$30,0)),0,1),IF(ISNUMBER(L65),1,0),IF(L65=TRUNC(L65),1,0),IF(AND(L65*1=L65,L65>=0),1,0),IF(AND(L65=TRUNC(L65),L65>=0),1,0),IF(AND(L65*1=L65,L65>0),1,0),IF(AND(L65=TRUNC(L65),L65>0),1,0),1,IF(ISNA(HLOOKUP(L65,$AU$4:$BD$4,1,0)),0,1)),0))) -> 1 | AZ65: =IF(OR(M$30="",M$4=99),1,IF(M65="",0,IFERROR(CHOOSE(AZ$28,IF(ISNA(MATCH(M65,$AR$30:$AS$30,0)),0,1),IF(ISNUMBER(M65),1,0),IF(M65=TRUNC(M65),1,0),IF(AND(M65*1=M65,M65>=0),1,0),IF(AND(M65=TRUNC(M65),M65>=0),1,0),IF(AND(M65*1=M65,M65>0),1,0),IF(AND(M65=TRUNC(M65),M65>0),1,0),1,IF(ISNA(HLOOKUP(M65,$AU$4:$BD$4,1,0)),0,1)),0))) -> 1 | BA65: =IF(OR(N$30="",N$4=99),1,IF(N65="",0,IFERROR(CHOOSE(BA$28,IF(ISNA(MATCH(N65,$AR$30:$AS$30,0)),0,1),IF(ISNUMBER(N65),1,0),IF(N65=TRUNC(N65),1,0),IF(AND(N65*1=N65,N65>=0),1,0),IF(AND(N65=TRUNC(N65),N65>=0),1,0),IF(AND(N65*1=N65,N65>0),1,0),IF(AND(N65=TRUNC(N65),N65>0),1,0),1,IF(ISNA(HLOOKUP(N65,$AU$4:$BD$4,1,0)),0,1)),0))) -> 1 | ... CB65: =IF(OR(AO$30="",AO$4=99),1,IF(AO65="",0,IFERROR(CHOOSE(CB$28,IF(ISNA(MATCH(AO65,$AR$30:$AS$30,0)),0,1),IF(ISNUMBER(AO65),1,0),IF(AO65=TRUNC(AO65),1,0),IF(AND(AO65*1=AO65,AO65>=0),1,0),IF(AND(AO65=TRUNC(AO65),AO65>=0),1,0),IF(AND(AO65*1=AO65,AO65>0),1,0),IF(AND(AO65=TRUNC(AO65),AO65>0),1,0),1,IF(ISNA(HLOOKUP(AO65,$AU$4:$BD$4,1,0)),0,1)),0))) -> 1 | CS65: =Z65>=CS$7 -> TRUE | CT65: =AA65>=CT$7 -> TRUE | CU65: =AB65>=CU$7 -> TRUE | CV65: =AC65>=CV$7 -> TRUE | CW65: =AD65>=CW$7 -> TRUE | CX65: =IF($F65="","",IF(SUMPRODUCT(--(CS65:CW65=TRUE))=COUNTA(CS65:CW65),1,0)) -> 1
B66: =IF(F66="","",ROW()-30) | Q66: =IF($F66="","",IF(O66<P66,$AR$1,IF(AND(P66>O66*0.5,P66>=$P$5),1,0))) | AB66: =IF(F66="","",IF(Z66>=$Z$5*0.8,1,0)) | AC66: =IF(F66="","",IF(AA66>=$AA$5*0.8,1,0)) | AD66: =IF(G66="","",IF(AND(Z66>='פרמטרים לקריטריונים'!$D$19,AA66>='פרמטרים לקריטריונים'!$C$19),1,0)) | AE66: {=IF($F66="","",IF(OR(SUMPRODUCT(--(Z66:AA66>=$Z$5:$AA$5))=COUNTA($Z$29:$AA$29),OR(AND(X66=1,OR(AB66=1,AC66=1)),AND(Y66=1,AD66=1))),1,0))} | AJ66: =IF(F66="","",IF(G66>=$G$5,1,0)) | AO66: =IF($F66="","",IF(AK66=1,1,IF(AQ66<>1,$AR$1,IF(SUMPRODUCT(--(G66:AJ66>=$G$5:$AJ$5)*($G$5:$AJ$5<>"")*($G$4:$AJ$4=1))=COUNTIF($G$4:$AJ$4,1),1,0)))) | AQ66: =IF(OR(SUM(AT66:CB66)<>COUNT(AT66:CB66),SUMPRODUCT(--(G66:AJ66=$AR$1))<>0),0,1) -> 0 | AR66: =IF($F66="","",AR$30) | AS66: =IF($F66="","",AS$30) | AT66: =IF(OR(G$30="",G$4=99),1,IF(G66="",0,IFERROR(CHOOSE(AT$28,IF(ISNA(MATCH(G66,$AR$30:$AS$30,0)),0,1),IF(ISNUMBER(G66),1,0),IF(G66=TRUNC(G66),1,0),IF(AND(G66*1=G66,G66>=0),1,0),IF(AND(G66=TRUNC(G66),G66>=0),1,0),IF(AND(G66*1=G66,G66>0),1,0),IF(AND(G66=TRUNC(G66),G66>0),1,0),1,IF(ISNA(HLOOKUP(G66,$AU$4:$BD$4,1,0)),0,1)),0))) -> 0 | AU66: =IF(OR(H$30="",H$4=99),1,IF(H66="",0,IFERROR(CHOOSE(AU$28,IF(ISNA(MATCH(H66,$AR$30:$AS$30,0)),0,1),IF(ISNUMBER(H66),1,0),IF(H66=TRUNC(H66),1,0),IF(AND(H66*1=H66,H66>=0),1,0),IF(AND(H66=TRUNC(H66),H66>=0),1,0),IF(AND(H66*1=H66,H66>0),1,0),IF(AND(H66=TRUNC(H66),H66>0),1,0),1,IF(ISNA(HLOOKUP(H66,$AU$4:$BD$4,1,0)),0,1)),0))) -> 0 | AV66: =IF(OR(I$30="",I$4=99),1,IF(I66="",0,IFERROR(CHOOSE(AV$28,IF(ISNA(MATCH(I66,$AR$30:$AS$30,0)),0,1),IF(ISNUMBER(I66),1,0),IF(I66=TRUNC(I66),1,0),IF(AND(I66*1=I66,I66>=0),1,0),IF(AND(I66=TRUNC(I66),I66>=0),1,0),IF(AND(I66*1=I66,I66>0),1,0),IF(AND(I66=TRUNC(I66),I66>0),1,0),1,IF(ISNA(HLOOKUP(I66,$AU$4:$BD$4,1,0)),0,1)),0))) -> 0 | AW66: =IF(OR(J$30="",J$4=99),1,IF(J66="",0,IFERROR(CHOOSE(AW$28,IF(ISNA(MATCH(J66,$AR$30:$AS$30,0)),0,1),IF(ISNUMBER(J66),1,0),IF(J66=TRUNC(J66),1,0),IF(AND(J66*1=J66,J66>=0),1,0),IF(AND(J66=TRUNC(J66),J66>=0),1,0),IF(AND(J66*1=J66,J66>0),1,0),IF(AND(J66=TRUNC(J66),J66>0),1,0),1,IF(ISNA(HLOOKUP(J66,$AU$4:$BD$4,1,0)),0,1)),0))) -> 0 | AX66: =IF(OR(K$30="",K$4=99),1,IF(K66="",0,IFERROR(CHOOSE(AX$28,IF(ISNA(MATCH(K66,$AR$30:$AS$30,0)),0,1),IF(ISNUMBER(K66),1,0),IF(K66=TRUNC(K66),1,0),IF(AND(K66*1=K66,K66>=0),1,0),IF(AND(K66=TRUNC(K66),K66>=0),1,0),IF(AND(K66*1=K66,K66>0),1,0),IF(AND(K66=TRUNC(K66),K66>0),1,0),1,IF(ISNA(HLOOKUP(K66,$AU$4:$BD$4,1,0)),0,1)),0))) -> 0 | AY66: =IF(OR(L$30="",L$4=99),1,IF(L66="",0,IFERROR(CHOOSE(AY$28,IF(ISNA(MATCH(L66,$AR$30:$AS$30,0)),0,1),IF(ISNUMBER(L66),1,0),IF(L66=TRUNC(L66),1,0),IF(AND(L66*1=L66,L66>=0),1,0),IF(AND(L66=TRUNC(L66),L66>=0),1,0),IF(AND(L66*1=L66,L66>0),1,0),IF(AND(L66=TRUNC(L66),L66>0),1,0),1,IF(ISNA(HLOOKUP(L66,$AU$4:$BD$4,1,0)),0,1)),0))) -> 0 | AZ66: =IF(OR(M$30="",M$4=99),1,IF(M66="",0,IFERROR(CHOOSE(AZ$28,IF(ISNA(MATCH(M66,$AR$30:$AS$30,0)),0,1),IF(ISNUMBER(M66),1,0),IF(M66=TRUNC(M66),1,0),IF(AND(M66*1=M66,M66>=0),1,0),IF(AND(M66=TRUNC(M66),M66>=0),1,0),IF(AND(M66*1=M66,M66>0),1,0),IF(AND(M66=TRUNC(M66),M66>0),1,0),1,IF(ISNA(HLOOKUP(M66,$AU$4:$BD$4,1,0)),0,1)),0))) -> 0 | BA66: =IF(OR(N$30="",N$4=99),1,IF(N66="",0,IFERROR(CHOOSE(BA$28,IF(ISNA(MATCH(N66,$AR$30:$AS$30,0)),0,1),IF(ISNUMBER(N66),1,0),IF(N66=TRUNC(N66),1,0),IF(AND(N66*1=N66,N66>=0),1,0),IF(AND(N66=TRUNC(N66),N66>=0),1,0),IF(AND(N66*1=N66,N66>0),1,0),IF(AND(N66=TRUNC(N66),N66>0),1,0),1,IF(ISNA(HLOOKUP(N66,$AU$4:$BD$4,1,0)),0,1)),0))) -> 0 | ... CB66: =IF(OR(AO$30="",AO$4=99),1,IF(AO66="",0,IFERROR(CHOOSE(CB$28,IF(ISNA(MATCH(AO66,$AR$30:$AS$30,0)),0,1),IF(ISNUMBER(AO66),1,0),IF(AO66=TRUNC(AO66),1,0),IF(AND(AO66*1=AO66,AO66>=0),1,0),IF(AND(AO66=TRUNC(AO66),AO66>=0),1,0),IF(AND(AO66*1=AO66,AO66>0),1,0),IF(AND(AO66=TRUNC(AO66),AO66>0),1,0),1,IF(ISNA(HLOOKUP(AO66,$AU$4:$BD$4,1,0)),0,1)),0))) -> 1 | CS66: =Z66>=CS$7 -> FALSE | CT66: =AA66>=CT$7 -> FALSE | CU66: =AB66>=CU$7 -> TRUE | CV66: =AC66>=CV$7 -> TRUE | CW66: =AD66>=CW$7 -> TRUE | CX66: =IF($F66="","",IF(SUMPRODUCT(--(CS66:CW66=TRUE))=COUNTA(CS66:CW66),1,0))
B67: =IF(F67="","",ROW()-30) -> 37 | F67: אנסמבל ארז נטף | G67: 1 | H67: 1 | I67: 1 | J67: 1 | K67: 1 | L67: 1 | M67: 1 | N67: 1 | O67: 15 | P67: 14 | Q67: =IF($F67="","",IF(O67<P67,$AR$1,IF(AND(P67>O67*0.5,P67>=$P$5),1,0))) -> 1 | R67: 1 | S67: 1 | T67: 1 | U67: 1 | Z67: 22 | AA67: 562957 | AB67: =IF(F67="","",IF(Z67>=$Z$5*0.8,1,0)) -> 1 | AC67: =IF(F67="","",IF(AA67>=$AA$5*0.8,1,0)) -> 1 | AD67: =IF(G67="","",IF(AND(Z67>='פרמטרים לקריטריונים'!$D$19,AA67>='פרמטרים לקריטריונים'!$C$19),1,0)) -> 1 | AE67: {=IF($F67="","",IF(OR(SUMPRODUCT(--(Z67:AA67>=$Z$5:$AA$5))=COUNTA($Z$29:$AA$29),OR(AND(X67=1,OR(AB67=1,AC67=1)),AND(Y67=1,AD67=1))),1,0))} -> 1 | AG67: 1 | AH67: 1 | AI67: 1 | AJ67: =IF(F67="","",IF(G67>=$G$5,1,0)) -> 1 | AO67: =IF($F67="","",IF(AK67=1,1,IF(AQ67<>1,$AR$1,IF(SUMPRODUCT(--(G67:AJ67>=$G$5:$AJ$5)*($G$5:$AJ$5<>"")*($G$4:$AJ$4=1))=COUNTIF($G$4:$AJ$4,1),1,0)))) -> 1 | AP67: עומד בתנאי סף האמנותי ובתנאי הסף הכמותיים כקבוצה מוסיקלית. | AQ67: =IF(OR(SUM(AT67:CB67)<>COUNT(AT67:CB67),SUMPRODUCT(--(G67:AJ67=$AR$1))<>0),0,1) -> 1 | AR67: =IF($F67="","",AR$30) -> 0 | AS67: =IF($F67="","",AS$30) -> 1 | AT67: =IF(OR(G$30="",G$4=99),1,IF(G67="",0,IFERROR(CHOOSE(AT$28,IF(ISNA(MATCH(G67,$AR$30:$AS$30,0)),0,1),IF(ISNUMBER(G67),1,0),IF(G67=TRUNC(G67),1,0),IF(AND(G67*1=G67,G67>=0),1,0),IF(AND(G67=TRUNC(G67),G67>=0),1,0),IF(AND(G67*1=G67,G67>0),1,0),IF(AND(G67=TRUNC(G67),G67>0),1,0),1,IF(ISNA(HLOOKUP(G67,$AU$4:$BD$4,1,0)),0,1)),0))) -> 1 | AU67: =IF(OR(H$30="",H$4=99),1,IF(H67="",0,IFERROR(CHOOSE(AU$28,IF(ISNA(MATCH(H67,$AR$30:$AS$30,0)),0,1),IF(ISNUMBER(H67),1,0),IF(H67=TRUNC(H67),1,0),IF(AND(H67*1=H67,H67>=0),1,0),IF(AND(H67=TRUNC(H67),H67>=0),1,0),IF(AND(H67*1=H67,H67>0),1,0),IF(AND(H67=TRUNC(H67),H67>0),1,0),1,IF(ISNA(HLOOKUP(H67,$AU$4:$BD$4,1,0)),0,1)),0))) -> 1 | AV67: =IF(OR(I$30="",I$4=99),1,IF(I67="",0,IFERROR(CHOOSE(AV$28,IF(ISNA(MATCH(I67,$AR$30:$AS$30,0)),0,1),IF(ISNUMBER(I67),1,0),IF(I67=TRUNC(I67),1,0),IF(AND(I67*1=I67,I67>=0),1,0),IF(AND(I67=TRUNC(I67),I67>=0),1,0),IF(AND(I67*1=I67,I67>0),1,0),IF(AND(I67=TRUNC(I67),I67>0),1,0),1,IF(ISNA(HLOOKUP(I67,$AU$4:$BD$4,1,0)),0,1)),0))) -> 1 | AW67: =IF(OR(J$30="",J$4=99),1,IF(J67="",0,IFERROR(CHOOSE(AW$28,IF(ISNA(MATCH(J67,$AR$30:$AS$30,0)),0,1),IF(ISNUMBER(J67),1,0),IF(J67=TRUNC(J67),1,0),IF(AND(J67*1=J67,J67>=0),1,0),IF(AND(J67=TRUNC(J67),J67>=0),1,0),IF(AND(J67*1=J67,J67>0),1,0),IF(AND(J67=TRUNC(J67),J67>0),1,0),1,IF(ISNA(HLOOKUP(J67,$AU$4:$BD$4,1,0)),0,1)),0))) -> 1 | AX67: =IF(OR(K$30="",K$4=99),1,IF(K67="",0,IFERROR(CHOOSE(AX$28,IF(ISNA(MATCH(K67,$AR$30:$AS$30,0)),0,1),IF(ISNUMBER(K67),1,0),IF(K67=TRUNC(K67),1,0),IF(AND(K67*1=K67,K67>=0),1,0),IF(AND(K67=TRUNC(K67),K67>=0),1,0),IF(AND(K67*1=K67,K67>0),1,0),IF(AND(K67=TRUNC(K67),K67>0),1,0),1,IF(ISNA(HLOOKUP(K67,$AU$4:$BD$4,1,0)),0,1)),0))) -> 1 | AY67: =IF(OR(L$30="",L$4=99),1,IF(L67="",0,IFERROR(CHOOSE(AY$28,IF(ISNA(MATCH(L67,$AR$30:$AS$30,0)),0,1),IF(ISNUMBER(L67),1,0),IF(L67=TRUNC(L67),1,0),IF(AND(L67*1=L67,L67>=0),1,0),IF(AND(L67=TRUNC(L67),L67>=0),1,0),IF(AND(L67*1=L67,L67>0),1,0),IF(AND(L67=TRUNC(L67),L67>0),1,0),1,IF(ISNA(HLOOKUP(L67,$AU$4:$BD$4,1,0)),0,1)),0))) -> 1 | AZ67: =IF(OR(M$30="",M$4=99),1,IF(M67="",0,IFERROR(CHOOSE(AZ$28,IF(ISNA(MATCH(M67,$AR$30:$AS$30,0)),0,1),IF(ISNUMBER(M67),1,0),IF(M67=TRUNC(M67),1,0),IF(AND(M67*1=M67,M67>=0),1,0),IF(AND(M67=TRUNC(M67),M67>=0),1,0),IF(AND(M67*1=M67,M67>0),1,0),IF(AND(M67=TRUNC(M67),M67>0),1,0),1,IF(ISNA(HLOOKUP(M67,$AU$4:$BD$4,1,0)),0,1)),0))) -> 1 | BA67: =IF(OR(N$30="",N$4=99),1,IF(N67="",0,IFERROR(CHOOSE(BA$28,IF(ISNA(MATCH(N67,$AR$30:$AS$30,0)),0,1),IF(ISNUMBER(N67),1,0),IF(N67=TRUNC(N67),1,0),IF(AND(N67*1=N67,N67>=0),1,0),IF(AND(N67=TRUNC(N67),N67>=0),1,0),IF(AND(N67*1=N67,N67>0),1,0),IF(AND(N67=TRUNC(N67),N67>0),1,0),1,IF(ISNA(HLOOKUP(N67,$AU$4:$BD$4,1,0)),0,1)),0))) -> 1 | ... CB67: =IF(OR(AO$30="",AO$4=99),1,IF(AO67="",0,IFERROR(CHOOSE(CB$28,IF(ISNA(MATCH(AO67,$AR$30:$AS$30,0)),0,1),IF(ISNUMBER(AO67),1,0),IF(AO67=TRUNC(AO67),1,0),IF(AND(AO67*1=AO67,AO67>=0),1,0),IF(AND(AO67=TRUNC(AO67),AO67>=0),1,0),IF(AND(AO67*1=AO67,AO67>0),1,0),IF(AND(AO67=TRUNC(AO67),AO67>0),1,0),1,IF(ISNA(HLOOKUP(AO67,$AU$4:$BD$4,1,0)),0,1)),0))) -> 1 | CS67: =Z67>=CS$7 -> TRUE | CT67: =AA67>=CT$7 -> TRUE | CU67: =AB67>=CU$7 -> TRUE | CV67: =AC67>=CV$7 -> TRUE | CW67: =AD67>=CW$7 -> TRUE | CX67: =IF($F67="","",IF(SUMPRODUCT(--(CS67:CW67=TRUE))=COUNTA(CS67:CW67),1,0)) -> 1
B68: =IF(F68="","",ROW()-30) | Q68: =IF($F68="","",IF(O68<P68,$AR$1,IF(AND(P68>O68*0.5,P68>=$P$5),1,0))) | AB68: =IF(F68="","",IF(Z68>=$Z$5*0.8,1,0)) | AC68: =IF(F68="","",IF(AA68>=$AA$5*0.8,1,0)) | AD68: =IF(G68="","",IF(AND(Z68>='פרמטרים לקריטריונים'!$D$19,AA68>='פרמטרים לקריטריונים'!$C$19),1,0)) | AE68: {=IF($F68="","",IF(OR(SUMPRODUCT(--(Z68:AA68>=$Z$5:$AA$5))=COUNTA($Z$29:$AA$29),OR(AND(X68=1,OR(AB68=1,AC68=1)),AND(Y68=1,AD68=1))),1,0))} | AJ68: =IF(F68="","",IF(G68>=$G$5,1,0)) | AO68: =IF($F68="","",IF(AK68=1,1,IF(AQ68<>1,$AR$1,IF(SUMPRODUCT(--(G68:AJ68>=$G$5:$AJ$5)*($G$5:$AJ$5<>"")*($G$4:$AJ$4=1))=COUNTIF($G$4:$AJ$4,1),1,0)))) | AQ68: =IF(OR(SUM(AT68:CB68)<>COUNT(AT68:CB68),SUMPRODUCT(--(G68:AJ68=$AR$1))<>0),0,1) -> 0 | AR68: =IF($F68="","",AR$30) | AS68: =IF($F68="","",AS$30) | AT68: =IF(OR(G$30="",G$4=99),1,IF(G68="",0,IFERROR(CHOOSE(AT$28,IF(ISNA(MATCH(G68,$AR$30:$AS$30,0)),0,1),IF(ISNUMBER(G68),1,0),IF(G68=TRUNC(G68),1,0),IF(AND(G68*1=G68,G68>=0),1,0),IF(AND(G68=TRUNC(G68),G68>=0),1,0),IF(AND(G68*1=G68,G68>0),1,0),IF(AND(G68=TRUNC(G68),G68>0),1,0),1,IF(ISNA(HLOOKUP(G68,$AU$4:$BD$4,1,0)),0,1)),0))) -> 0 | AU68: =IF(OR(H$30="",H$4=99),1,IF(H68="",0,IFERROR(CHOOSE(AU$28,IF(ISNA(MATCH(H68,$AR$30:$AS$30,0)),0,1),IF(ISNUMBER(H68),1,0),IF(H68=TRUNC(H68),1,0),IF(AND(H68*1=H68,H68>=0),1,0),IF(AND(H68=TRUNC(H68),H68>=0),1,0),IF(AND(H68*1=H68,H68>0),1,0),IF(AND(H68=TRUNC(H68),H68>0),1,0),1,IF(ISNA(HLOOKUP(H68,$AU$4:$BD$4,1,0)),0,1)),0))) -> 0 | AV68: =IF(OR(I$30="",I$4=99),1,IF(I68="",0,IFERROR(CHOOSE(AV$28,IF(ISNA(MATCH(I68,$AR$30:$AS$30,0)),0,1),IF(ISNUMBER(I68),1,0),IF(I68=TRUNC(I68),1,0),IF(AND(I68*1=I68,I68>=0),1,0),IF(AND(I68=TRUNC(I68),I68>=0),1,0),IF(AND(I68*1=I68,I68>0),1,0),IF(AND(I68=TRUNC(I68),I68>0),1,0),1,IF(ISNA(HLOOKUP(I68,$AU$4:$BD$4,1,0)),0,1)),0))) -> 0 | AW68: =IF(OR(J$30="",J$4=99),1,IF(J68="",0,IFERROR(CHOOSE(AW$28,IF(ISNA(MATCH(J68,$AR$30:$AS$30,0)),0,1),IF(ISNUMBER(J68),1,0),IF(J68=TRUNC(J68),1,0),IF(AND(J68*1=J68,J68>=0),1,0),IF(AND(J68=TRUNC(J68),J68>=0),1,0),IF(AND(J68*1=J68,J68>0),1,0),IF(AND(J68=TRUNC(J68),J68>0),1,0),1,IF(ISNA(HLOOKUP(J68,$AU$4:$BD$4,1,0)),0,1)),0))) -> 0 | AX68: =IF(OR(K$30="",K$4=99),1,IF(K68="",0,IFERROR(CHOOSE(AX$28,IF(ISNA(MATCH(K68,$AR$30:$AS$30,0)),0,1),IF(ISNUMBER(K68),1,0),IF(K68=TRUNC(K68),1,0),IF(AND(K68*1=K68,K68>=0),1,0),IF(AND(K68=TRUNC(K68),K68>=0),1,0),IF(AND(K68*1=K68,K68>0),1,0),IF(AND(K68=TRUNC(K68),K68>0),1,0),1,IF(ISNA(HLOOKUP(K68,$AU$4:$BD$4,1,0)),0,1)),0))) -> 0 | AY68: =IF(OR(L$30="",L$4=99),1,IF(L68="",0,IFERROR(CHOOSE(AY$28,IF(ISNA(MATCH(L68,$AR$30:$AS$30,0)),0,1),IF(ISNUMBER(L68),1,0),IF(L68=TRUNC(L68),1,0),IF(AND(L68*1=L68,L68>=0),1,0),IF(AND(L68=TRUNC(L68),L68>=0),1,0),IF(AND(L68*1=L68,L68>0),1,0),IF(AND(L68=TRUNC(L68),L68>0),1,0),1,IF(ISNA(HLOOKUP(L68,$AU$4:$BD$4,1,0)),0,1)),0))) -> 0 | AZ68: =IF(OR(M$30="",M$4=99),1,IF(M68="",0,IFERROR(CHOOSE(AZ$28,IF(ISNA(MATCH(M68,$AR$30:$AS$30,0)),0,1),IF(ISNUMBER(M68),1,0),IF(M68=TRUNC(M68),1,0),IF(AND(M68*1=M68,M68>=0),1,0),IF(AND(M68=TRUNC(M68),M68>=0),1,0),IF(AND(M68*1=M68,M68>0),1,0),IF(AND(M68=TRUNC(M68),M68>0),1,0),1,IF(ISNA(HLOOKUP(M68,$AU$4:$BD$4,1,0)),0,1)),0))) -> 0 | BA68: =IF(OR(N$30="",N$4=99),1,IF(N68="",0,IFERROR(CHOOSE(BA$28,IF(ISNA(MATCH(N68,$AR$30:$AS$30,0)),0,1),IF(ISNUMBER(N68),1,0),IF(N68=TRUNC(N68),1,0),IF(AND(N68*1=N68,N68>=0),1,0),IF(AND(N68=TRUNC(N68),N68>=0),1,0),IF(AND(N68*1=N68,N68>0),1,0),IF(AND(N68=TRUNC(N68),N68>0),1,0),1,IF(ISNA(HLOOKUP(N68,$AU$4:$BD$4,1,0)),0,1)),0))) -> 0 | ... CB68: =IF(OR(AO$30="",AO$4=99),1,IF(AO68="",0,IFERROR(CHOOSE(CB$28,IF(ISNA(MATCH(AO68,$AR$30:$AS$30,0)),0,1),IF(ISNUMBER(AO68),1,0),IF(AO68=TRUNC(AO68),1,0),IF(AND(AO68*1=AO68,AO68>=0),1,0),IF(AND(AO68=TRUNC(AO68),AO68>=0),1,0),IF(AND(AO68*1=AO68,AO68>0),1,0),IF(AND(AO68=TRUNC(AO68),AO68>0),1,0),1,IF(ISNA(HLOOKUP(AO68,$AU$4:$BD$4,1,0)),0,1)),0))) -> 1 | CS68: =Z68>=CS$7 -> FALSE | CT68: =AA68>=CT$7 -> FALSE | CU68: =AB68>=CU$7 -> TRUE | CV68: =AC68>=CV$7 -> TRUE | CW68: =AD68>=CW$7 -> TRUE | CX68: =IF($F68="","",IF(SUMPRODUCT(--(CS68:CW68=TRUE))=COUNTA(CS68:CW68),1,0))
B69: =IF(F69="","",ROW()-30) | Q69: =IF($F69="","",IF(O69<P69,$AR$1,IF(AND(P69>O69*0.5,P69>=$P$5),1,0))) | AB69: =IF(F69="","",IF(Z69>=$Z$5*0.8,1,0)) | AC69: =IF(F69="","",IF(AA69>=$AA$5*0.8,1,0)) | AD69: =IF(G69="","",IF(AND(Z69>='פרמטרים לקריטריונים'!$D$19,AA69>='פרמטרים לקריטריונים'!$C$19),1,0)) | AE69: {=IF($F69="","",IF(OR(SUMPRODUCT(--(Z69:AA69>=$Z$5:$AA$5))=COUNTA($Z$29:$AA$29),OR(AND(X69=1,OR(AB69=1,AC69=1)),AND(Y69=1,AD69=1))),1,0))} | AJ69: =IF(F69="","",IF(G69>=$G$5,1,0)) | AO69: =IF($F69="","",IF(AK69=1,1,IF(AQ69<>1,$AR$1,IF(SUMPRODUCT(--(G69:AJ69>=$G$5:$AJ$5)*($G$5:$AJ$5<>"")*($G$4:$AJ$4=1))=COUNTIF($G$4:$AJ$4,1),1,0)))) | AQ69: =IF(OR(SUM(AT69:CB69)<>COUNT(AT69:CB69),SUMPRODUCT(--(G69:AJ69=$AR$1))<>0),0,1) -> 0 | AR69: =IF($F69="","",AR$30) | AS69: =IF($F69="","",AS$30) | AT69: =IF(OR(G$30="",G$4=99),1,IF(G69="",0,IFERROR(CHOOSE(AT$28,IF(ISNA(MATCH(G69,$AR$30:$AS$30,0)),0,1),IF(ISNUMBER(G69),1,0),IF(G69=TRUNC(G69),1,0),IF(AND(G69*1=G69,G69>=0),1,0),IF(AND(G69=TRUNC(G69),G69>=0),1,0),IF(AND(G69*1=G69,G69>0),1,0),IF(AND(G69=TRUNC(G69),G69>0),1,0),1,IF(ISNA(HLOOKUP(G69,$AU$4:$BD$4,1,0)),0,1)),0))) -> 0 | AU69: =IF(OR(H$30="",H$4=99),1,IF(H69="",0,IFERROR(CHOOSE(AU$28,IF(ISNA(MATCH(H69,$AR$30:$AS$30,0)),0,1),IF(ISNUMBER(H69),1,0),IF(H69=TRUNC(H69),1,0),IF(AND(H69*1=H69,H69>=0),1,0),IF(AND(H69=TRUNC(H69),H69>=0),1,0),IF(AND(H69*1=H69,H69>0),1,0),IF(AND(H69=TRUNC(H69),H69>0),1,0),1,IF(ISNA(HLOOKUP(H69,$AU$4:$BD$4,1,0)),0,1)),0))) -> 0 | AV69: =IF(OR(I$30="",I$4=99),1,IF(I69="",0,IFERROR(CHOOSE(AV$28,IF(ISNA(MATCH(I69,$AR$30:$AS$30,0)),0,1),IF(ISNUMBER(I69),1,0),IF(I69=TRUNC(I69),1,0),IF(AND(I69*1=I69,I69>=0),1,0),IF(AND(I69=TRUNC(I69),I69>=0),1,0),IF(AND(I69*1=I69,I69>0),1,0),IF(AND(I69=TRUNC(I69),I69>0),1,0),1,IF(ISNA(HLOOKUP(I69,$AU$4:$BD$4,1,0)),0,1)),0))) -> 0 | AW69: =IF(OR(J$30="",J$4=99),1,IF(J69="",0,IFERROR(CHOOSE(AW$28,IF(ISNA(MATCH(J69,$AR$30:$AS$30,0)),0,1),IF(ISNUMBER(J69),1,0),IF(J69=TRUNC(J69),1,0),IF(AND(J69*1=J69,J69>=0),1,0),IF(AND(J69=TRUNC(J69),J69>=0),1,0),IF(AND(J69*1=J69,J69>0),1,0),IF(AND(J69=TRUNC(J69),J69>0),1,0),1,IF(ISNA(HLOOKUP(J69,$AU$4:$BD$4,1,0)),0,1)),0))) -> 0 | AX69: =IF(OR(K$30="",K$4=99),1,IF(K69="",0,IFERROR(CHOOSE(AX$28,IF(ISNA(MATCH(K69,$AR$30:$AS$30,0)),0,1),IF(ISNUMBER(K69),1,0),IF(K69=TRUNC(K69),1,0),IF(AND(K69*1=K69,K69>=0),1,0),IF(AND(K69=TRUNC(K69),K69>=0),1,0),IF(AND(K69*1=K69,K69>0),1,0),IF(AND(K69=TRUNC(K69),K69>0),1,0),1,IF(ISNA(HLOOKUP(K69,$AU$4:$BD$4,1,0)),0,1)),0))) -> 0 | AY69: =IF(OR(L$30="",L$4=99),1,IF(L69="",0,IFERROR(CHOOSE(AY$28,IF(ISNA(MATCH(L69,$AR$30:$AS$30,0)),0,1),IF(ISNUMBER(L69),1,0),IF(L69=TRUNC(L69),1,0),IF(AND(L69*1=L69,L69>=0),1,0),IF(AND(L69=TRUNC(L69),L69>=0),1,0),IF(AND(L69*1=L69,L69>0),1,0),IF(AND(L69=TRUNC(L69),L69>0),1,0),1,IF(ISNA(HLOOKUP(L69,$AU$4:$BD$4,1,0)),0,1)),0))) -> 0 | AZ69: =IF(OR(M$30="",M$4=99),1,IF(M69="",0,IFERROR(CHOOSE(AZ$28,IF(ISNA(MATCH(M69,$AR$30:$AS$30,0)),0,1),IF(ISNUMBER(M69),1,0),IF(M69=TRUNC(M69),1,0),IF(AND(M69*1=M69,M69>=0),1,0),IF(AND(M69=TRUNC(M69),M69>=0),1,0),IF(AND(M69*1=M69,M69>0),1,0),IF(AND(M69=TRUNC(M69),M69>0),1,0),1,IF(ISNA(HLOOKUP(M69,$AU$4:$BD$4,1,0)),0,1)),0))) -> 0 | BA69: =IF(OR(N$30="",N$4=99),1,IF(N69="",0,IFERROR(CHOOSE(BA$28,IF(ISNA(MATCH(N69,$AR$30:$AS$30,0)),0,1),IF(ISNUMBER(N69),1,0),IF(N69=TRUNC(N69),1,0),IF(AND(N69*1=N69,N69>=0),1,0),IF(AND(N69=TRUNC(N69),N69>=0),1,0),IF(AND(N69*1=N69,N69>0),1,0),IF(AND(N69=TRUNC(N69),N69>0),1,0),1,IF(ISNA(HLOOKUP(N69,$AU$4:$BD$4,1,0)),0,1)),0))) -> 0 | ... CB69: =IF(OR(AO$30="",AO$4=99),1,IF(AO69="",0,IFERROR(CHOOSE(CB$28,IF(ISNA(MATCH(AO69,$AR$30:$AS$30,0)),0,1),IF(ISNUMBER(AO69),1,0),IF(AO69=TRUNC(AO69),1,0),IF(AND(AO69*1=AO69,AO69>=0),1,0),IF(AND(AO69=TRUNC(AO69),AO69>=0),1,0),IF(AND(AO69*1=AO69,AO69>0),1,0),IF(AND(AO69=TRUNC(AO69),AO69>0),1,0),1,IF(ISNA(HLOOKUP(AO69,$AU$4:$BD$4,1,0)),0,1)),0))) -> 1 | CS69: =Z69>=CS$7 -> FALSE | CT69: =AA69>=CT$7 -> FALSE | CU69: =AB69>=CU$7 -> TRUE | CV69: =AC69>=CV$7 -> TRUE | CW69: =AD69>=CW$7 -> TRUE | CX69: =IF($F69="","",IF(SUMPRODUCT(--(CS69:CW69=TRUE))=COUNTA(CS69:CW69),1,0))
B70: =IF(F70="","",ROW()-30) -> 40 | F70: תו המשווה (ע"ר) | G70: 1 | H70: 1 | I70: 1 | J70: 1 | K70: 1 | L70: 1 | M70: 1 | N70: 1 | O70: 43 | P70: 30 | Q70: =IF($F70="","",IF(O70<P70,$AR$1,IF(AND(P70>O70*0.5,P70>=$P$5),1,0))) -> 1 | R70: 1 | S70: 1 | T70: 1 | U70: 1 | Z70: 22 | AA70: 258086 | AB70: =IF(F70="","",IF(Z70>=$Z$5*0.8,1,0)) -> 1 | AC70: =IF(F70="","",IF(AA70>=$AA$5*0.8,1,0)) -> 1 | AD70: =IF(G70="","",IF(AND(Z70>='פרמטרים לקריטריונים'!$D$19,AA70>='פרמטרים לקריטריונים'!$C$19),1,0)) -> 1 | AE70: {=IF($F70="","",IF(OR(SUMPRODUCT(--(Z70:AA70>=$Z$5:$AA$5))=COUNTA($Z$29:$AA$29),OR(AND(X70=1,OR(AB70=1,AC70=1)),AND(Y70=1,AD70=1))),1,0))} -> 1 | AG70: 1 | AH70: 1 | AI70: 1 | AJ70: =IF(F70="","",IF(G70>=$G$5,1,0)) -> 1 | AO70: =IF($F70="","",IF(AK70=1,1,IF(AQ70<>1,$AR$1,IF(SUMPRODUCT(--(G70:AJ70>=$G$5:$AJ$5)*($G$5:$AJ$5<>"")*($G$4:$AJ$4=1))=COUNTIF($G$4:$AJ$4,1),1,0)))) -> 1 | AP70: עומד בתנאי סף האמנותי ובתנאי הסף הכמותיים כקבוצה מוסיקלית. | AQ70: =IF(OR(SUM(AT70:CB70)<>COUNT(AT70:CB70),SUMPRODUCT(--(G70:AJ70=$AR$1))<>0),0,1) -> 1 | AR70: =IF($F70="","",AR$30) -> 0 | AS70: =IF($F70="","",AS$30) -> 1 | AT70: =IF(OR(G$30="",G$4=99),1,IF(G70="",0,IFERROR(CHOOSE(AT$28,IF(ISNA(MATCH(G70,$AR$30:$AS$30,0)),0,1),IF(ISNUMBER(G70),1,0),IF(G70=TRUNC(G70),1,0),IF(AND(G70*1=G70,G70>=0),1,0),IF(AND(G70=TRUNC(G70),G70>=0),1,0),IF(AND(G70*1=G70,G70>0),1,0),IF(AND(G70=TRUNC(G70),G70>0),1,0),1,IF(ISNA(HLOOKUP(G70,$AU$4:$BD$4,1,0)),0,1)),0))) -> 1 | AU70: =IF(OR(H$30="",H$4=99),1,IF(H70="",0,IFERROR(CHOOSE(AU$28,IF(ISNA(MATCH(H70,$AR$30:$AS$30,0)),0,1),IF(ISNUMBER(H70),1,0),IF(H70=TRUNC(H70),1,0),IF(AND(H70*1=H70,H70>=0),1,0),IF(AND(H70=TRUNC(H70),H70>=0),1,0),IF(AND(H70*1=H70,H70>0),1,0),IF(AND(H70=TRUNC(H70),H70>0),1,0),1,IF(ISNA(HLOOKUP(H70,$AU$4:$BD$4,1,0)),0,1)),0))) -> 1 | AV70: =IF(OR(I$30="",I$4=99),1,IF(I70="",0,IFERROR(CHOOSE(AV$28,IF(ISNA(MATCH(I70,$AR$30:$AS$30,0)),0,1),IF(ISNUMBER(I70),1,0),IF(I70=TRUNC(I70),1,0),IF(AND(I70*1=I70,I70>=0),1,0),IF(AND(I70=TRUNC(I70),I70>=0),1,0),IF(AND(I70*1=I70,I70>0),1,0),IF(AND(I70=TRUNC(I70),I70>0),1,0),1,IF(ISNA(HLOOKUP(I70,$AU$4:$BD$4,1,0)),0,1)),0))) -> 1 | AW70: =IF(OR(J$30="",J$4=99),1,IF(J70="",0,IFERROR(CHOOSE(AW$28,IF(ISNA(MATCH(J70,$AR$30:$AS$30,0)),0,1),IF(ISNUMBER(J70),1,0),IF(J70=TRUNC(J70),1,0),IF(AND(J70*1=J70,J70>=0),1,0),IF(AND(J70=TRUNC(J70),J70>=0),1,0),IF(AND(J70*1=J70,J70>0),1,0),IF(AND(J70=TRUNC(J70),J70>0),1,0),1,IF(ISNA(HLOOKUP(J70,$AU$4:$BD$4,1,0)),0,1)),0))) -> 1 | AX70: =IF(OR(K$30="",K$4=99),1,IF(K70="",0,IFERROR(CHOOSE(AX$28,IF(ISNA(MATCH(K70,$AR$30:$AS$30,0)),0,1),IF(ISNUMBER(K70),1,0),IF(K70=TRUNC(K70),1,0),IF(AND(K70*1=K70,K70>=0),1,0),IF(AND(K70=TRUNC(K70),K70>=0),1,0),IF(AND(K70*1=K70,K70>0),1,0),IF(AND(K70=TRUNC(K70),K70>0),1,0),1,IF(ISNA(HLOOKUP(K70,$AU$4:$BD$4,1,0)),0,1)),0))) -> 1 | AY70: =IF(OR(L$30="",L$4=99),1,IF(L70="",0,IFERROR(CHOOSE(AY$28,IF(ISNA(MATCH(L70,$AR$30:$AS$30,0)),0,1),IF(ISNUMBER(L70),1,0),IF(L70=TRUNC(L70),1,0),IF(AND(L70*1=L70,L70>=0),1,0),IF(AND(L70=TRUNC(L70),L70>=0),1,0),IF(AND(L70*1=L70,L70>0),1,0),IF(AND(L70=TRUNC(L70),L70>0),1,0),1,IF(ISNA(HLOOKUP(L70,$AU$4:$BD$4,1,0)),0,1)),0))) -> 1 | AZ70: =IF(OR(M$30="",M$4=99),1,IF(M70="",0,IFERROR(CHOOSE(AZ$28,IF(ISNA(MATCH(M70,$AR$30:$AS$30,0)),0,1),IF(ISNUMBER(M70),1,0),IF(M70=TRUNC(M70),1,0),IF(AND(M70*1=M70,M70>=0),1,0),IF(AND(M70=TRUNC(M70),M70>=0),1,0),IF(AND(M70*1=M70,M70>0),1,0),IF(AND(M70=TRUNC(M70),M70>0),1,0),1,IF(ISNA(HLOOKUP(M70,$AU$4:$BD$4,1,0)),0,1)),0))) -> 1 | BA70: =IF(OR(N$30="",N$4=99),1,IF(N70="",0,IFERROR(CHOOSE(BA$28,IF(ISNA(MATCH(N70,$AR$30:$AS$30,0)),0,1),IF(ISNUMBER(N70),1,0),IF(N70=TRUNC(N70),1,0),IF(AND(N70*1=N70,N70>=0),1,0),IF(AND(N70=TRUNC(N70),N70>=0),1,0),IF(AND(N70*1=N70,N70>0),1,0),IF(AND(N70=TRUNC(N70),N70>0),1,0),1,IF(ISNA(HLOOKUP(N70,$AU$4:$BD$4,1,0)),0,1)),0))) -> 1 | ... CB70: =IF(OR(AO$30="",AO$4=99),1,IF(AO70="",0,IFERROR(CHOOSE(CB$28,IF(ISNA(MATCH(AO70,$AR$30:$AS$30,0)),0,1),IF(ISNUMBER(AO70),1,0),IF(AO70=TRUNC(AO70),1,0),IF(AND(AO70*1=AO70,AO70>=0),1,0),IF(AND(AO70=TRUNC(AO70),AO70>=0),1,0),IF(AND(AO70*1=AO70,AO70>0),1,0),IF(AND(AO70=TRUNC(AO70),AO70>0),1,0),1,IF(ISNA(HLOOKUP(AO70,$AU$4:$BD$4,1,0)),0,1)),0))) -> 1 | CS70: =Z70>=CS$7 -> TRUE | CT70: =AA70>=CT$7 -> TRUE | CU70: =AB70>=CU$7 -> TRUE | CV70: =AC70>=CV$7 -> TRUE | CW70: =AD70>=CW$7 -> TRUE | CX70: =IF($F70="","",IF(SUMPRODUCT(--(CS70:CW70=TRUE))=COUNTA(CS70:CW70),1,0)) -> 1
B71: =IF(F71="","",ROW()-30) | Q71: =IF($F71="","",IF(O71<P71,$AR$1,IF(AND(P71>O71*0.5,P71>=$P$5),1,0))) | AB71: =IF(F71="","",IF(Z71>=$Z$5*0.8,1,0)) | AC71: =IF(F71="","",IF(AA71>=$AA$5*0.8,1,0)) | AD71: =IF(G71="","",IF(AND(Z71>='פרמטרים לקריטריונים'!$D$19,AA71>='פרמטרים לקריטריונים'!$C$19),1,0)) | AE71: {=IF($F71="","",IF(OR(SUMPRODUCT(--(Z71:AA71>=$Z$5:$AA$5))=COUNTA($Z$29:$AA$29),OR(AND(X71=1,OR(AB71=1,AC71=1)),AND(Y71=1,AD71=1))),1,0))} | AJ71: =IF(F71="","",IF(G71>=$G$5,1,0)) | AO71: =IF($F71="","",IF(AK71=1,1,IF(AQ71<>1,$AR$1,IF(SUMPRODUCT(--(G71:AJ71>=$G$5:$AJ$5)*($G$5:$AJ$5<>"")*($G$4:$AJ$4=1))=COUNTIF($G$4:$AJ$4,1),1,0)))) | AQ71: =IF(OR(SUM(AT71:CB71)<>COUNT(AT71:CB71),SUMPRODUCT(--(G71:AJ71=$AR$1))<>0),0,1) -> 0 | AR71: =IF($F71="","",AR$30) | AS71: =IF($F71="","",AS$30) | AT71: =IF(OR(G$30="",G$4=99),1,IF(G71="",0,IFERROR(CHOOSE(AT$28,IF(ISNA(MATCH(G71,$AR$30:$AS$30,0)),0,1),IF(ISNUMBER(G71),1,0),IF(G71=TRUNC(G71),1,0),IF(AND(G71*1=G71,G71>=0),1,0),IF(AND(G71=TRUNC(G71),G71>=0),1,0),IF(AND(G71*1=G71,G71>0),1,0),IF(AND(G71=TRUNC(G71),G71>0),1,0),1,IF(ISNA(HLOOKUP(G71,$AU$4:$BD$4,1,0)),0,1)),0))) -> 0 | AU71: =IF(OR(H$30="",H$4=99),1,IF(H71="",0,IFERROR(CHOOSE(AU$28,IF(ISNA(MATCH(H71,$AR$30:$AS$30,0)),0,1),IF(ISNUMBER(H71),1,0),IF(H71=TRUNC(H71),1,0),IF(AND(H71*1=H71,H71>=0),1,0),IF(AND(H71=TRUNC(H71),H71>=0),1,0),IF(AND(H71*1=H71,H71>0),1,0),IF(AND(H71=TRUNC(H71),H71>0),1,0),1,IF(ISNA(HLOOKUP(H71,$AU$4:$BD$4,1,0)),0,1)),0))) -> 0 | AV71: =IF(OR(I$30="",I$4=99),1,IF(I71="",0,IFERROR(CHOOSE(AV$28,IF(ISNA(MATCH(I71,$AR$30:$AS$30,0)),0,1),IF(ISNUMBER(I71),1,0),IF(I71=TRUNC(I71),1,0),IF(AND(I71*1=I71,I71>=0),1,0),IF(AND(I71=TRUNC(I71),I71>=0),1,0),IF(AND(I71*1=I71,I71>0),1,0),IF(AND(I71=TRUNC(I71),I71>0),1,0),1,IF(ISNA(HLOOKUP(I71,$AU$4:$BD$4,1,0)),0,1)),0))) -> 0 | AW71: =IF(OR(J$30="",J$4=99),1,IF(J71="",0,IFERROR(CHOOSE(AW$28,IF(ISNA(MATCH(J71,$AR$30:$AS$30,0)),0,1),IF(ISNUMBER(J71),1,0),IF(J71=TRUNC(J71),1,0),IF(AND(J71*1=J71,J71>=0),1,0),IF(AND(J71=TRUNC(J71),J71>=0),1,0),IF(AND(J71*1=J71,J71>0),1,0),IF(AND(J71=TRUNC(J71),J71>0),1,0),1,IF(ISNA(HLOOKUP(J71,$AU$4:$BD$4,1,0)),0,1)),0))) -> 0 | AX71: =IF(OR(K$30="",K$4=99),1,IF(K71="",0,IFERROR(CHOOSE(AX$28,IF(ISNA(MATCH(K71,$AR$30:$AS$30,0)),0,1),IF(ISNUMBER(K71),1,0),IF(K71=TRUNC(K71),1,0),IF(AND(K71*1=K71,K71>=0),1,0),IF(AND(K71=TRUNC(K71),K71>=0),1,0),IF(AND(K71*1=K71,K71>0),1,0),IF(AND(K71=TRUNC(K71),K71>0),1,0),1,IF(ISNA(HLOOKUP(K71,$AU$4:$BD$4,1,0)),0,1)),0))) -> 0 | AY71: =IF(OR(L$30="",L$4=99),1,IF(L71="",0,IFERROR(CHOOSE(AY$28,IF(ISNA(MATCH(L71,$AR$30:$AS$30,0)),0,1),IF(ISNUMBER(L71),1,0),IF(L71=TRUNC(L71),1,0),IF(AND(L71*1=L71,L71>=0),1,0),IF(AND(L71=TRUNC(L71),L71>=0),1,0),IF(AND(L71*1=L71,L71>0),1,0),IF(AND(L71=TRUNC(L71),L71>0),1,0),1,IF(ISNA(HLOOKUP(L71,$AU$4:$BD$4,1,0)),0,1)),0))) -> 0 | AZ71: =IF(OR(M$30="",M$4=99),1,IF(M71="",0,IFERROR(CHOOSE(AZ$28,IF(ISNA(MATCH(M71,$AR$30:$AS$30,0)),0,1),IF(ISNUMBER(M71),1,0),IF(M71=TRUNC(M71),1,0),IF(AND(M71*1=M71,M71>=0),1,0),IF(AND(M71=TRUNC(M71),M71>=0),1,0),IF(AND(M71*1=M71,M71>0),1,0),IF(AND(M71=TRUNC(M71),M71>0),1,0),1,IF(ISNA(HLOOKUP(M71,$AU$4:$BD$4,1,0)),0,1)),0))) -> 0 | BA71: =IF(OR(N$30="",N$4=99),1,IF(N71="",0,IFERROR(CHOOSE(BA$28,IF(ISNA(MATCH(N71,$AR$30:$AS$30,0)),0,1),IF(ISNUMBER(N71),1,0),IF(N71=TRUNC(N71),1,0),IF(AND(N71*1=N71,N71>=0),1,0),IF(AND(N71=TRUNC(N71),N71>=0),1,0),IF(AND(N71*1=N71,N71>0),1,0),IF(AND(N71=TRUNC(N71),N71>0),1,0),1,IF(ISNA(HLOOKUP(N71,$AU$4:$BD$4,1,0)),0,1)),0))) -> 0 | ... CB71: =IF(OR(AO$30="",AO$4=99),1,IF(AO71="",0,IFERROR(CHOOSE(CB$28,IF(ISNA(MATCH(AO71,$AR$30:$AS$30,0)),0,1),IF(ISNUMBER(AO71),1,0),IF(AO71=TRUNC(AO71),1,0),IF(AND(AO71*1=AO71,AO71>=0),1,0),IF(AND(AO71=TRUNC(AO71),AO71>=0),1,0),IF(AND(AO71*1=AO71,AO71>0),1,0),IF(AND(AO71=TRUNC(AO71),AO71>0),1,0),1,IF(ISNA(HLOOKUP(AO71,$AU$4:$BD$4,1,0)),0,1)),0))) -> 1 | CS71: =Z71>=CS$7 -> FALSE | CT71: =AA71>=CT$7 -> FALSE | CU71: =AB71>=CU$7 -> TRUE | CV71: =AC71>=CV$7 -> TRUE | CW71: =AD71>=CW$7 -> TRUE | CX71: =IF($F71="","",IF(SUMPRODUCT(--(CS71:CW71=TRUE))=COUNTA(CS71:CW71),1,0))
B72: =IF(F72="","",ROW()-30) | Q72: =IF($F72="","",IF(O72<P72,$AR$1,IF(AND(P72>O72*0.5,P72>=$P$5),1,0))) | AB72: =IF(F72="","",IF(Z72>=$Z$5*0.8,1,0)) | AC72: =IF(F72="","",IF(AA72>=$AA$5*0.8,1,0)) | AD72: =IF(G72="","",IF(AND(Z72>='פרמטרים לקריטריונים'!$D$19,AA72>='פרמטרים לקריטריונים'!$C$19),1,0)) | AE72: {=IF($F72="","",IF(OR(SUMPRODUCT(--(Z72:AA72>=$Z$5:$AA$5))=COUNTA($Z$29:$AA$29),OR(AND(X72=1,OR(AB72=1,AC72=1)),AND(Y72=1,AD72=1))),1,0))} | AJ72: =IF(F72="","",IF(G72>=$G$5,1,0)) | AO72: =IF($F72="","",IF(AK72=1,1,IF(AQ72<>1,$AR$1,IF(SUMPRODUCT(--(G72:AJ72>=$G$5:$AJ$5)*($G$5:$AJ$5<>"")*($G$4:$AJ$4=1))=COUNTIF($G$4:$AJ$4,1),1,0)))) | AQ72: =IF(OR(SUM(AT72:CB72)<>COUNT(AT72:CB72),SUMPRODUCT(--(G72:AJ72=$AR$1))<>0),0,1) -> 0 | AR72: =IF($F72="","",AR$30) | AS72: =IF($F72="","",AS$30) | AT72: =IF(OR(G$30="",G$4=99),1,IF(G72="",0,IFERROR(CHOOSE(AT$28,IF(ISNA(MATCH(G72,$AR$30:$AS$30,0)),0,1),IF(ISNUMBER(G72),1,0),IF(G72=TRUNC(G72),1,0),IF(AND(G72*1=G72,G72>=0),1,0),IF(AND(G72=TRUNC(G72),G72>=0),1,0),IF(AND(G72*1=G72,G72>0),1,0),IF(AND(G72=TRUNC(G72),G72>0),1,0),1,IF(ISNA(HLOOKUP(G72,$AU$4:$BD$4,1,0)),0,1)),0))) -> 0 | AU72: =IF(OR(H$30="",H$4=99),1,IF(H72="",0,IFERROR(CHOOSE(AU$28,IF(ISNA(MATCH(H72,$AR$30:$AS$30,0)),0,1),IF(ISNUMBER(H72),1,0),IF(H72=TRUNC(H72),1,0),IF(AND(H72*1=H72,H72>=0),1,0),IF(AND(H72=TRUNC(H72),H72>=0),1,0),IF(AND(H72*1=H72,H72>0),1,0),IF(AND(H72=TRUNC(H72),H72>0),1,0),1,IF(ISNA(HLOOKUP(H72,$AU$4:$BD$4,1,0)),0,1)),0))) -> 0 | AV72: =IF(OR(I$30="",I$4=99),1,IF(I72="",0,IFERROR(CHOOSE(AV$28,IF(ISNA(MATCH(I72,$AR$30:$AS$30,0)),0,1),IF(ISNUMBER(I72),1,0),IF(I72=TRUNC(I72),1,0),IF(AND(I72*1=I72,I72>=0),1,0),IF(AND(I72=TRUNC(I72),I72>=0),1,0),IF(AND(I72*1=I72,I72>0),1,0),IF(AND(I72=TRUNC(I72),I72>0),1,0),1,IF(ISNA(HLOOKUP(I72,$AU$4:$BD$4,1,0)),0,1)),0))) -> 0 | AW72: =IF(OR(J$30="",J$4=99),1,IF(J72="",0,IFERROR(CHOOSE(AW$28,IF(ISNA(MATCH(J72,$AR$30:$AS$30,0)),0,1),IF(ISNUMBER(J72),1,0),IF(J72=TRUNC(J72),1,0),IF(AND(J72*1=J72,J72>=0),1,0),IF(AND(J72=TRUNC(J72),J72>=0),1,0),IF(AND(J72*1=J72,J72>0),1,0),IF(AND(J72=TRUNC(J72),J72>0),1,0),1,IF(ISNA(HLOOKUP(J72,$AU$4:$BD$4,1,0)),0,1)),0))) -> 0 | AX72: =IF(OR(K$30="",K$4=99),1,IF(K72="",0,IFERROR(CHOOSE(AX$28,IF(ISNA(MATCH(K72,$AR$30:$AS$30,0)),0,1),IF(ISNUMBER(K72),1,0),IF(K72=TRUNC(K72),1,0),IF(AND(K72*1=K72,K72>=0),1,0),IF(AND(K72=TRUNC(K72),K72>=0),1,0),IF(AND(K72*1=K72,K72>0),1,0),IF(AND(K72=TRUNC(K72),K72>0),1,0),1,IF(ISNA(HLOOKUP(K72,$AU$4:$BD$4,1,0)),0,1)),0))) -> 0 | AY72: =IF(OR(L$30="",L$4=99),1,IF(L72="",0,IFERROR(CHOOSE(AY$28,IF(ISNA(MATCH(L72,$AR$30:$AS$30,0)),0,1),IF(ISNUMBER(L72),1,0),IF(L72=TRUNC(L72),1,0),IF(AND(L72*1=L72,L72>=0),1,0),IF(AND(L72=TRUNC(L72),L72>=0),1,0),IF(AND(L72*1=L72,L72>0),1,0),IF(AND(L72=TRUNC(L72),L72>0),1,0),1,IF(ISNA(HLOOKUP(L72,$AU$4:$BD$4,1,0)),0,1)),0))) -> 0 | AZ72: =IF(OR(M$30="",M$4=99),1,IF(M72="",0,IFERROR(CHOOSE(AZ$28,IF(ISNA(MATCH(M72,$AR$30:$AS$30,0)),0,1),IF(ISNUMBER(M72),1,0),IF(M72=TRUNC(M72),1,0),IF(AND(M72*1=M72,M72>=0),1,0),IF(AND(M72=TRUNC(M72),M72>=0),1,0),IF(AND(M72*1=M72,M72>0),1,0),IF(AND(M72=TRUNC(M72),M72>0),1,0),1,IF(ISNA(HLOOKUP(M72,$AU$4:$BD$4,1,0)),0,1)),0))) -> 0 | BA72: =IF(OR(N$30="",N$4=99),1,IF(N72="",0,IFERROR(CHOOSE(BA$28,IF(ISNA(MATCH(N72,$AR$30:$AS$30,0)),0,1),IF(ISNUMBER(N72),1,0),IF(N72=TRUNC(N72),1,0),IF(AND(N72*1=N72,N72>=0),1,0),IF(AND(N72=TRUNC(N72),N72>=0),1,0),IF(AND(N72*1=N72,N72>0),1,0),IF(AND(N72=TRUNC(N72),N72>0),1,0),1,IF(ISNA(HLOOKUP(N72,$AU$4:$BD$4,1,0)),0,1)),0))) -> 0 | ... CB72: =IF(OR(AO$30="",AO$4=99),1,IF(AO72="",0,IFERROR(CHOOSE(CB$28,IF(ISNA(MATCH(AO72,$AR$30:$AS$30,0)),0,1),IF(ISNUMBER(AO72),1,0),IF(AO72=TRUNC(AO72),1,0),IF(AND(AO72*1=AO72,AO72>=0),1,0),IF(AND(AO72=TRUNC(AO72),AO72>=0),1,0),IF(AND(AO72*1=AO72,AO72>0),1,0),IF(AND(AO72=TRUNC(AO72),AO72>0),1,0),1,IF(ISNA(HLOOKUP(AO72,$AU$4:$BD$4,1,0)),0,1)),0))) -> 1 | CS72: =Z72>=CS$7 -> FALSE | CT72: =AA72>=CT$7 -> FALSE | CU72: =AB72>=CU$7 -> TRUE | CV72: =AC72>=CV$7 -> TRUE | CW72: =AD72>=CW$7 -> TRUE | CX72: =IF($F72="","",IF(SUMPRODUCT(--(CS72:CW72=TRUE))=COUNTA(CS72:CW72),1,0))
B73: =IF(F73="","",ROW()-30) -> 43 | F73: בר קיימא ואקלקוטנטקט | G73: 1 | H73: 1 | I73: 1 | J73: 1 | K73: 1 | L73: 1 | M73: 1 | N73: 1 | O73: 9 | P73: 9 | Q73: =IF($F73="","",IF(O73<P73,$AR$1,IF(AND(P73>O73*0.5,P73>=$P$5),1,0))) -> 1 | R73: 1 | S73: 1 | T73: 1 | U73: 1 | Z73: 16 | AA73: 128950 | AB73: =IF(F73="","",IF(Z73>=$Z$5*0.8,1,0)) -> 1 | AC73: =IF(F73="","",IF(AA73>=$AA$5*0.8,1,0)) -> 1 | AD73: =IF(G73="","",IF(AND(Z73>='פרמטרים לקריטריונים'!$D$19,AA73>='פרמטרים לקריטריונים'!$C$19),1,0)) -> 1 | AE73: {=IF($F73="","",IF(OR(SUMPRODUCT(--(Z73:AA73>=$Z$5:$AA$5))=COUNTA($Z$29:$AA$29),OR(AND(X73=1,OR(AB73=1,AC73=1)),AND(Y73=1,AD73=1))),1,0))} -> 1 | AG73: 1 | AH73: 1 | AI73: 1 | AJ73: =IF(F73="","",IF(G73>=$G$5,1,0)) -> 1 | AO73: =IF($F73="","",IF(AK73=1,1,IF(AQ73<>1,$AR$1,IF(SUMPRODUCT(--(G73:AJ73>=$G$5:$AJ$5)*($G$5:$AJ$5<>"")*($G$4:$AJ$4=1))=COUNTIF($G$4:$AJ$4,1),1,0)))) -> 1 | AP73: עומד בתנאי סף האמנותי ובתנאי הסף הכמותיים כקבוצה מוסיקלית.. | AQ73: =IF(OR(SUM(AT73:CB73)<>COUNT(AT73:CB73),SUMPRODUCT(--(G73:AJ73=$AR$1))<>0),0,1) -> 1 | AR73: =IF($F73="","",AR$30) -> 0 | AS73: =IF($F73="","",AS$30) -> 1 | AT73: =IF(OR(G$30="",G$4=99),1,IF(G73="",0,IFERROR(CHOOSE(AT$28,IF(ISNA(MATCH(G73,$AR$30:$AS$30,0)),0,1),IF(ISNUMBER(G73),1,0),IF(G73=TRUNC(G73),1,0),IF(AND(G73*1=G73,G73>=0),1,0),IF(AND(G73=TRUNC(G73),G73>=0),1,0),IF(AND(G73*1=G73,G73>0),1,0),IF(AND(G73=TRUNC(G73),G73>0),1,0),1,IF(ISNA(HLOOKUP(G73,$AU$4:$BD$4,1,0)),0,1)),0))) -> 1 | AU73: =IF(OR(H$30="",H$4=99),1,IF(H73="",0,IFERROR(CHOOSE(AU$28,IF(ISNA(MATCH(H73,$AR$30:$AS$30,0)),0,1),IF(ISNUMBER(H73),1,0),IF(H73=TRUNC(H73),1,0),IF(AND(H73*1=H73,H73>=0),1,0),IF(AND(H73=TRUNC(H73),H73>=0),1,0),IF(AND(H73*1=H73,H73>0),1,0),IF(AND(H73=TRUNC(H73),H73>0),1,0),1,IF(ISNA(HLOOKUP(H73,$AU$4:$BD$4,1,0)),0,1)),0))) -> 1 | AV73: =IF(OR(I$30="",I$4=99),1,IF(I73="",0,IFERROR(CHOOSE(AV$28,IF(ISNA(MATCH(I73,$AR$30:$AS$30,0)),0,1),IF(ISNUMBER(I73),1,0),IF(I73=TRUNC(I73),1,0),IF(AND(I73*1=I73,I73>=0),1,0),IF(AND(I73=TRUNC(I73),I73>=0),1,0),IF(AND(I73*1=I73,I73>0),1,0),IF(AND(I73=TRUNC(I73),I73>0),1,0),1,IF(ISNA(HLOOKUP(I73,$AU$4:$BD$4,1,0)),0,1)),0))) -> 1 | AW73: =IF(OR(J$30="",J$4=99),1,IF(J73="",0,IFERROR(CHOOSE(AW$28,IF(ISNA(MATCH(J73,$AR$30:$AS$30,0)),0,1),IF(ISNUMBER(J73),1,0),IF(J73=TRUNC(J73),1,0),IF(AND(J73*1=J73,J73>=0),1,0),IF(AND(J73=TRUNC(J73),J73>=0),1,0),IF(AND(J73*1=J73,J73>0),1,0),IF(AND(J73=TRUNC(J73),J73>0),1,0),1,IF(ISNA(HLOOKUP(J73,$AU$4:$BD$4,1,0)),0,1)),0))) -> 1 | AX73: =IF(OR(K$30="",K$4=99),1,IF(K73="",0,IFERROR(CHOOSE(AX$28,IF(ISNA(MATCH(K73,$AR$30:$AS$30,0)),0,1),IF(ISNUMBER(K73),1,0),IF(K73=TRUNC(K73),1,0),IF(AND(K73*1=K73,K73>=0),1,0),IF(AND(K73=TRUNC(K73),K73>=0),1,0),IF(AND(K73*1=K73,K73>0),1,0),IF(AND(K73=TRUNC(K73),K73>0),1,0),1,IF(ISNA(HLOOKUP(K73,$AU$4:$BD$4,1,0)),0,1)),0))) -> 1 | AY73: =IF(OR(L$30="",L$4=99),1,IF(L73="",0,IFERROR(CHOOSE(AY$28,IF(ISNA(MATCH(L73,$AR$30:$AS$30,0)),0,1),IF(ISNUMBER(L73),1,0),IF(L73=TRUNC(L73),1,0),IF(AND(L73*1=L73,L73>=0),1,0),IF(AND(L73=TRUNC(L73),L73>=0),1,0),IF(AND(L73*1=L73,L73>0),1,0),IF(AND(L73=TRUNC(L73),L73>0),1,0),1,IF(ISNA(HLOOKUP(L73,$AU$4:$BD$4,1,0)),0,1)),0))) -> 1 | AZ73: =IF(OR(M$30="",M$4=99),1,IF(M73="",0,IFERROR(CHOOSE(AZ$28,IF(ISNA(MATCH(M73,$AR$30:$AS$30,0)),0,1),IF(ISNUMBER(M73),1,0),IF(M73=TRUNC(M73),1,0),IF(AND(M73*1=M73,M73>=0),1,0),IF(AND(M73=TRUNC(M73),M73>=0),1,0),IF(AND(M73*1=M73,M73>0),1,0),IF(AND(M73=TRUNC(M73),M73>0),1,0),1,IF(ISNA(HLOOKUP(M73,$AU$4:$BD$4,1,0)),0,1)),0))) -> 1 | BA73: =IF(OR(N$30="",N$4=99),1,IF(N73="",0,IFERROR(CHOOSE(BA$28,IF(ISNA(MATCH(N73,$AR$30:$AS$30,0)),0,1),IF(ISNUMBER(N73),1,0),IF(N73=TRUNC(N73),1,0),IF(AND(N73*1=N73,N73>=0),1,0),IF(AND(N73=TRUNC(N73),N73>=0),1,0),IF(AND(N73*1=N73,N73>0),1,0),IF(AND(N73=TRUNC(N73),N73>0),1,0),1,IF(ISNA(HLOOKUP(N73,$AU$4:$BD$4,1,0)),0,1)),0))) -> 1 | ... CB73: =IF(OR(AO$30="",AO$4=99),1,IF(AO73="",0,IFERROR(CHOOSE(CB$28,IF(ISNA(MATCH(AO73,$AR$30:$AS$30,0)),0,1),IF(ISNUMBER(AO73),1,0),IF(AO73=TRUNC(AO73),1,0),IF(AND(AO73*1=AO73,AO73>=0),1,0),IF(AND(AO73=TRUNC(AO73),AO73>=0),1,0),IF(AND(AO73*1=AO73,AO73>0),1,0),IF(AND(AO73=TRUNC(AO73),AO73>0),1,0),1,IF(ISNA(HLOOKUP(AO73,$AU$4:$BD$4,1,0)),0,1)),0))) -> 1 | CS73: =Z73>=CS$7 -> TRUE | CT73: =AA73>=CT$7 -> TRUE | CU73: =AB73>=CU$7 -> TRUE | CV73: =AC73>=CV$7 -> TRUE | CW73: =AD73>=CW$7 -> TRUE | CX73: =IF($F73="","",IF(SUMPRODUCT(--(CS73:CW73=TRUE))=COUNTA(CS73:CW73),1,0)) -> 1
B74: =IF(F74="","",ROW()-30) | Q74: =IF($F74="","",IF(O74<P74,$AR$1,IF(AND(P74>O74*0.5,P74>=$P$5),1,0))) | AB74: =IF(F74="","",IF(Z74>=$Z$5*0.8,1,0)) | AC74: =IF(F74="","",IF(AA74>=$AA$5*0.8,1,0)) | AD74: =IF(G74="","",IF(AND(Z74>='פרמטרים לקריטריונים'!$D$19,AA74>='פרמטרים לקריטריונים'!$C$19),1,0)) | AE74: {=IF($F74="","",IF(OR(SUMPRODUCT(--(Z74:AA74>=$Z$5:$AA$5))=COUNTA($Z$29:$AA$29),OR(AND(X74=1,OR(AB74=1,AC74=1)),AND(Y74=1,AD74=1))),1,0))} | AJ74: =IF(F74="","",IF(G74>=$G$5,1,0)) | AO74: =IF($F74="","",IF(AK74=1,1,IF(AQ74<>1,$AR$1,IF(SUMPRODUCT(--(G74:AJ74>=$G$5:$AJ$5)*($G$5:$AJ$5<>"")*($G$4:$AJ$4=1))=COUNTIF($G$4:$AJ$4,1),1,0)))) | AQ74: =IF(OR(SUM(AT74:CB74)<>COUNT(AT74:CB74),SUMPRODUCT(--(G74:AJ74=$AR$1))<>0),0,1) -> 0 | AR74: =IF($F74="","",AR$30) | AS74: =IF($F74="","",AS$30) | AT74: =IF(OR(G$30="",G$4=99),1,IF(G74="",0,IFERROR(CHOOSE(AT$28,IF(ISNA(MATCH(G74,$AR$30:$AS$30,0)),0,1),IF(ISNUMBER(G74),1,0),IF(G74=TRUNC(G74),1,0),IF(AND(G74*1=G74,G74>=0),1,0),IF(AND(G74=TRUNC(G74),G74>=0),1,0),IF(AND(G74*1=G74,G74>0),1,0),IF(AND(G74=TRUNC(G74),G74>0),1,0),1,IF(ISNA(HLOOKUP(G74,$AU$4:$BD$4,1,0)),0,1)),0))) -> 0 | AU74: =IF(OR(H$30="",H$4=99),1,IF(H74="",0,IFERROR(CHOOSE(AU$28,IF(ISNA(MATCH(H74,$AR$30:$AS$30,0)),0,1),IF(ISNUMBER(H74),1,0),IF(H74=TRUNC(H74),1,0),IF(AND(H74*1=H74,H74>=0),1,0),IF(AND(H74=TRUNC(H74),H74>=0),1,0),IF(AND(H74*1=H74,H74>0),1,0),IF(AND(H74=TRUNC(H74),H74>0),1,0),1,IF(ISNA(HLOOKUP(H74,$AU$4:$BD$4,1,0)),0,1)),0))) -> 0 | AV74: =IF(OR(I$30="",I$4=99),1,IF(I74="",0,IFERROR(CHOOSE(AV$28,IF(ISNA(MATCH(I74,$AR$30:$AS$30,0)),0,1),IF(ISNUMBER(I74),1,0),IF(I74=TRUNC(I74),1,0),IF(AND(I74*1=I74,I74>=0),1,0),IF(AND(I74=TRUNC(I74),I74>=0),1,0),IF(AND(I74*1=I74,I74>0),1,0),IF(AND(I74=TRUNC(I74),I74>0),1,0),1,IF(ISNA(HLOOKUP(I74,$AU$4:$BD$4,1,0)),0,1)),0))) -> 0 | AW74: =IF(OR(J$30="",J$4=99),1,IF(J74="",0,IFERROR(CHOOSE(AW$28,IF(ISNA(MATCH(J74,$AR$30:$AS$30,0)),0,1),IF(ISNUMBER(J74),1,0),IF(J74=TRUNC(J74),1,0),IF(AND(J74*1=J74,J74>=0),1,0),IF(AND(J74=TRUNC(J74),J74>=0),1,0),IF(AND(J74*1=J74,J74>0),1,0),IF(AND(J74=TRUNC(J74),J74>0),1,0),1,IF(ISNA(HLOOKUP(J74,$AU$4:$BD$4,1,0)),0,1)),0))) -> 0 | AX74: =IF(OR(K$30="",K$4=99),1,IF(K74="",0,IFERROR(CHOOSE(AX$28,IF(ISNA(MATCH(K74,$AR$30:$AS$30,0)),0,1),IF(ISNUMBER(K74),1,0),IF(K74=TRUNC(K74),1,0),IF(AND(K74*1=K74,K74>=0),1,0),IF(AND(K74=TRUNC(K74),K74>=0),1,0),IF(AND(K74*1=K74,K74>0),1,0),IF(AND(K74=TRUNC(K74),K74>0),1,0),1,IF(ISNA(HLOOKUP(K74,$AU$4:$BD$4,1,0)),0,1)),0))) -> 0 | AY74: =IF(OR(L$30="",L$4=99),1,IF(L74="",0,IFERROR(CHOOSE(AY$28,IF(ISNA(MATCH(L74,$AR$30:$AS$30,0)),0,1),IF(ISNUMBER(L74),1,0),IF(L74=TRUNC(L74),1,0),IF(AND(L74*1=L74,L74>=0),1,0),IF(AND(L74=TRUNC(L74),L74>=0),1,0),IF(AND(L74*1=L74,L74>0),1,0),IF(AND(L74=TRUNC(L74),L74>0),1,0),1,IF(ISNA(HLOOKUP(L74,$AU$4:$BD$4,1,0)),0,1)),0))) -> 0 | AZ74: =IF(OR(M$30="",M$4=99),1,IF(M74="",0,IFERROR(CHOOSE(AZ$28,IF(ISNA(MATCH(M74,$AR$30:$AS$30,0)),0,1),IF(ISNUMBER(M74),1,0),IF(M74=TRUNC(M74),1,0),IF(AND(M74*1=M74,M74>=0),1,0),IF(AND(M74=TRUNC(M74),M74>=0),1,0),IF(AND(M74*1=M74,M74>0),1,0),IF(AND(M74=TRUNC(M74),M74>0),1,0),1,IF(ISNA(HLOOKUP(M74,$AU$4:$BD$4,1,0)),0,1)),0))) -> 0 | BA74: =IF(OR(N$30="",N$4=99),1,IF(N74="",0,IFERROR(CHOOSE(BA$28,IF(ISNA(MATCH(N74,$AR$30:$AS$30,0)),0,1),IF(ISNUMBER(N74),1,0),IF(N74=TRUNC(N74),1,0),IF(AND(N74*1=N74,N74>=0),1,0),IF(AND(N74=TRUNC(N74),N74>=0),1,0),IF(AND(N74*1=N74,N74>0),1,0),IF(AND(N74=TRUNC(N74),N74>0),1,0),1,IF(ISNA(HLOOKUP(N74,$AU$4:$BD$4,1,0)),0,1)),0))) -> 0 | ... CB74: =IF(OR(AO$30="",AO$4=99),1,IF(AO74="",0,IFERROR(CHOOSE(CB$28,IF(ISNA(MATCH(AO74,$AR$30:$AS$30,0)),0,1),IF(ISNUMBER(AO74),1,0),IF(AO74=TRUNC(AO74),1,0),IF(AND(AO74*1=AO74,AO74>=0),1,0),IF(AND(AO74=TRUNC(AO74),AO74>=0),1,0),IF(AND(AO74*1=AO74,AO74>0),1,0),IF(AND(AO74=TRUNC(AO74),AO74>0),1,0),1,IF(ISNA(HLOOKUP(AO74,$AU$4:$BD$4,1,0)),0,1)),0))) -> 1 | CS74: =Z74>=CS$7 -> FALSE | CT74: =AA74>=CT$7 -> FALSE | CU74: =AB74>=CU$7 -> TRUE | CV74: =AC74>=CV$7 -> TRUE | CW74: =AD74>=CW$7 -> TRUE | CX74: =IF($F74="","",IF(SUMPRODUCT(--(CS74:CW74=TRUE))=COUNTA(CS74:CW74),1,0))
