Workbook

Sheet ProtectSettings
B1: 0.16412014
B2: 45383.482
A6: AllowFilterCheckBox
A7: AllowFormattingCheckBox
A8: AllowColumnFormattingCheckBox | B8: TRUE
A9: AllowRowFormattingCheckBox | B9: TRUE

Sheet הדרכה למשתמש
B2: הדרכה למשתמש
B4: תאריך בניית המודל | C4: 43282
B5: תאריך עדכון מודל | C5: 44752
B7: הערות חשובות: בעת עריכת המודל - חל איסור מוחלט לבצע גזירה והדבקה או העברה של תא ממקום למקום על ידי גרירה. אסור לבצע "הוספה" או "מחיקה" של שורות או עמודות יש לפתוח את המודל בגרסת אקסל 2010 לפחות. חל איסור לשמור את הקובץ בפורמט התואם אקסל 97-2003
B9: הוראת שעה/מעבר: | C9: 2019-2020
B11: הדרכה להזנת נתונים
B12: צבע התא | C12: מטרת התא | D12: דגש
B13: צהוב | C13: הזנת נתונים | D13: נדרש להזין מידע בהתאם להנחיות מבחן התמיכה, אי הזנה של תא יכולה להביא לידי שגיאה בתוצאות במודל. במקומות שבהם מזינים 0/1, אז המשמעות של 0 הוא "לא" ו-1 "כן"
B14: חום | C14: הצגת מידע | D14: תא שאיננו מיועד להזנה. תא זה מציג מידע עפ"י נוסחה קבועה ואין לשנות אותה.
B15: אדום | C15: התראת שגיאה | D15: קיימת שגיאה בהזנת נתונים באחד מהתאים המיועדים להזנה, נדרש להזין את הנתונים הנדרשים לפני קביעת גובה תמיכה סופי.
B17: את רשימת המוסדות יש להזין בגיליונות השמאליים של הקובץ הממוספרים מ1 עד 10 במקום שם הגיליון , גיליון שממוספר מ1-10 ואינו נמצא בשימוש אין לשנות את שם הגיליון הקיים כברירת מחדל (מספר סידורי). במידה והוחלט לא להשתמש בגיליון לאחר כתיבת השם, נדרש לשנות חזרה את שם הגיליון למספר סידורי
B33: ניהול גרסאות
B34: מספר גרסה | C34: תאריך עדכון גרסה | D34: תאריך גרסה של מבחן תמיכה | E34: התאמות נוספות של מבחן תמיכה

Sheet פרמטרים לקריטריונים
B2: מודל תמיכה - מוסיקה קולית מסורתית
B4: שנת תקציב | C4: 2025
B5: תקציב התמיכה | C5: 4026034
B9: הגדרות
B10: הגדרת שנה | C10: תאריך התחלה | D10: תאריך סיום
B11: שנת התמיכה/תקציב | C11: =DATE($C$4,1,1) -> 45658 | D11: =DATE($C$4,12,31) -> 46022
B12: שנת ההערכה | C12: =DATE($C$4-3,10,1) -> 44835 | D12: =DATE($C$4-2,9,30) -> 45199
B13: שנת התקציב המבוקר | C13: =DATE($C$4-3,1,1) -> 44562 | D13: =DATE($C$4-3,12,31) -> 44926
B14: שנה תקציבית קודמת | C14: =DATE($C$4-1,1,1) -> 45292 | D14: =DATE($C$4-1,12,31) -> 45657
B30: משקולות קריטריונים
B31: סעיף | C31: משקל
B32: משתנה מספר המבצעים | C32: 0.25
B33: משתנה מספר הקונצרטים | C33: 0.25
B34: משתנה רמת הביצוע | C34: 0.1
B35: משתנה מסלולים | C35: 0.2
B36: משתנה הכנסות עצמיות | C36: 0.15
B37: משתנה שימור ותיעוד | C37: 0.05
B58: סה"כ | C58: =SUM(C32:C57) -> 1
B60: ="פרמטרים לחישוב ניקוד משתנה "&$B$32 -> פרמטרים לחישוב ניקוד משתנה משתנה מספר המבצעים | F60: תנאי סף קונצרט
B61: סעיף | C61: ניקוד | F61: סעיף | G61: תנאי
B62: עבור כל מנצח, נגן, חזן או פייטן | C62: 1 | F62: מספר חזנים ופייטנים | G62: 4
B63: סעיף | C63: הגבלה | F63: מספר חזנים | G63: 1
B64: מספר מבצעים מקסימלי לקונצרט | C64: 80 | F64: מספר נגנים | G64: 3
F65: דקות שירה או נגינה | G65: 50
B80: ="פרמטרים לחישוב ניקוד משתנה "&$B$33 -> פרמטרים לחישוב ניקוד משתנה משתנה מספר הקונצרטים
B81: סעיף | C81: ניקוד
B82: עבור כל קונצרט | C82: 1
B83: בעד כל מספר מבצעים | C83: מקדם
B84: 10 | C84: 1.05
B85: סעיף | C85: מקדם
B86: שיעור מקסימלי של ניקוד מקונצרטים בחו"ל | C86: 0.1
B87: סעיף | C87: מקדם
B88: קונצרט עבור גוף שלישי שהמשרד תמך בו | C88: 0.5
B100: ="פרמטרים לחישוב ניקוד משתנה "&$B$34 -> פרמטרים לחישוב ניקוד משתנה משתנה רמת הביצוע
B101: רמת הביצוע | C101: ניקוד
B102: ללא ניקוד | C102: 0
B103: נאותה | C103: 2
B104: טובה | C104: 3
B105: טובה מאוד | C105: 4
B106: מצוינת | C106: 6
...

Sheet הוראת שעה
A4: האם חלה הוראת השעה בשנה הספציפית
A5: שנה | B5: תנאי סף מטרות המוסד | C5: גובה הגנה | D5: כל גוף עובר רמה אמנותית | E5: ניקוד אוטומטי ברמת ביצוע
A6: 2019 | B6: 99 | C6: 0.85 | D6: 99 | E6: 1
A7: =A6+1 -> 2020 | B7: 1 | C7: 0 | D7: 99 | E7: 1
A8: =A7+1 -> 2021 | B8: 1 | C8: 0 | D8: 0 | E8: 0
A9: =A8+1 -> 2022 | B9: 1 | C9: 0 | D9: 0 | E9: 0
A10: =A9+1 -> 2023 | B10: 1 | C10: 0 | D10: 0 | E10: 0
A11: =A10+1 -> 2024 | B11: 1 | C11: 0 | D11: 0 | E11: 0
A12: =A11+1 -> 2025 | B12: 1 | C12: 0 | D12: 0 | E12: 0
A13: =A12+1 -> 2026 | B13: 1 | C13: 0 | D13: 0 | E13: 0
A14: =A13+1 -> 2027 | B14: 1 | C14: 0 | D14: 0 | E14: 0
A15: =A14+1 -> 2028 | B15: 1 | C15: 0 | D15: 0 | E15: 0
A16: =A15+1 -> 2029 | B16: 1 | C16: 0 | D16: 0 | E16: 0
A17: =A16+1 -> 2030 | B17: 1 | C17: 0 | D17: 0 | E17: 0
A18: =A17+1 -> 2031 | B18: 1 | C18: 0 | D18: 0 | E18: 0
... A20: =A19+1 -> 2033 | B20: 1 | C20: 0 | D20: 0 | E20: 0
B22: משפיע על תנאי סף - משנה את הדרישה לקיום תקציב מינימום | C22: משפיע על הגנה בגיליון פרמטרים לעיקרון חישוב התמיכה

Sheet תנאי סף
B1: =MID(CELL("filename",AR2),FIND("]",CELL("filename",AR2),1)+1,99) -> תנאי סף | AQ1: בדוק נתוני הזנה | AS1: סוגי בקרות | AT1: 0/1 | AU1: מספר | AV1: מספר שלם | AW1: מספר שאינו שלילי | AX1: מספר שלם שאינו שלילי | AY1: מספר חיובי | AZ1: מספר שלם חיובי | BA1: טקסט | BB1: טקסט מרשימה סגורה
AN2: ='פרמטרים לקריטריונים'!$B$4 -> שנת תקציב | AO2: ='פרמטרים לקריטריונים'!$C$4 -> 2025 | AT2: =IF(ISNA(MATCH(G31,$AQ$30:$AR$30,0)),0,1) -> 1 | AU2: =IF(IFERROR(G31*1,"bad")="bad",0,1) -> 1 | AV2: =IF(IFERROR(IF(G31=TRUNC(G31),1,"bad"),"bad")="bad",0,1) -> 1 | AW2: =IF(AND(IF(IFERROR(G31*1,"bad")="bad",0,1)=1,G31>=0),1,0) -> 1 | AX2: =IF(AND(IF(IFERROR(IF(G31=TRUNC(G31),1,"bad"),"bad")="bad",0,1)=1,G31>=0),1,0) -> 1 | AY2: =IF(AND(IF(IFERROR(G31*1,"bad")="bad",0,1)=1,G31>0),1,0) -> 1 | AZ2: =IF(AND(IF(IFERROR(IF(G31=TRUNC(G31),1,"bad"),"bad")="bad",0,1)=1,G31>0),1,0) -> 1 | BA2: 1 | BB2: =IF(IFERROR(HLOOKUP(G31,$CE$30:$CO$30,1,0),"bad")="bad",0,1) -> 1 | DA2: שיעור הקלה | DB2: 0.8
AN3: ='פרמטרים לקריטריונים'!$B$5 -> תקציב התמיכה | AO3: ='פרמטרים לקריטריונים'!$C$5 -> 4026034 | AS3: מספר בקרה | AT3: 1 | AU3: 2 | AV3: 3 | AW3: 4 | AX3: 5 | AY3: 6 | AZ3: 7 | BA3: 8 | BB3: 9 | CT3: מספר תנאים | CU3: 3 | DA3: הקלות מותרות | DB3: 1
F4: רלוונטי למבחן עמידה בתנאי סף? 1=רלוונטי. 0= לא רלוונטי אבל נדרשת בקרה על הזנת נתונים. 99= לא רלוונטי ולא נדרשת בקה על הזנת נתונים | G4: 1 | H4: =INDEX('הוראת שעה'!$B$6:$B$20,MATCH($AO$2,'הוראת שעה'!$A$6:$A$20,1)) -> 1 | I4: 1 | J4: 1 | K4: 1 | L4: 1 | M4: 1 | N4: 1 | O4: 1 | P4: 1 | Q4: 1 | R4: 1 | S4: 0 | T4: 0 | V4: =INDEX('הוראת שעה'!$D$6:$D$20,MATCH($AO$2,'הוראת שעה'!$A$6:$A$20,1)) -> 0 | W4: 99 | X4: 0 | Y4: 1 | Z4: 99 | AE4: 1 | AF4: 1 | AG4: 1 | AH4: 1 | AJ4: 99 | AS4: רשימה סגורה | AT4: 1 | AU4: 2 | AV4: 3 | AW4: 4 | AX4: 5 | AY4: 6 | AZ4: 7 | BA4: 8 | BB4: 9 | BC4: 10 | DA4: נדרש לפי הקלה
F5: מעבר תנאי סף- במידה ולא רלוונטי להשאיר ריק | G5: 1 | H5: 1 | I5: 1 | J5: 1 | K5: 1 | L5: 1 | M5: 1 | N5: 1 | O5: 1 | P5: 1 | Q5: 1 | R5: 1 | X5: 100000 | Y5: 1 | AE5: 1 | AF5: 1 | AG5: 1 | AH5: 1 | CT5: 0.6 | CU5: 2 | CV5: =X5 -> 100000 | DA5: =$DB$2*CT5 -> 0.48 | DB5: =$DB$2*CU5 -> 1.6 | DC5: =$DB$2*CV5 -> 80000
U6: תקציב הפותר
U7: 200000
F8: שורה אחרונה משומשת | G8: =SUMPRODUCT(MAX(($B:$B<>"")*(ROW(B:B)))) -> 41
F28: סעיף | G28: 4(א) | H28: 4(ג) | I28: 4(ב) | J28: 4(ד) | K28: 4(ה) | L28: 4(ו) | M28: 4(ז) | N28: 4(ח) | O28: 4(ט) | P28: 4(י) | Q28: 4(יא), (יג) | R28: 4(יב) | S28: 5(א)(1) | T28: 5(א)(1) | U28: 5(א)(1) | V28: 5(א)(2) | W28: 5(ד) | X28: 5(א)(3) | Y28: 5(א)(4) | Z28: 5(ב), (ג) | AG28: 5(ב) | AP28: =IF(SUM(AP31:AP130)=COUNT(AP31:AP130),1,0) -> 0 | AS28: =MATCH(G$30,$AT$1:$BB$1,0) -> 1 | AT28: =MATCH(H$30,$AT$1:$BB$1,0) -> 1 | AU28: =MATCH(I$30,$AT$1:$BB$1,0) -> 1 | AV28: =MATCH(J$30,$AT$1:$BB$1,0) -> 1 | AW28: =MATCH(K$30,$AT$1:$BB$1,0) -> 1 | AX28: =MATCH(L$30,$AT$1:$BB$1,0) -> 1 | AY28: =MATCH(M$30,$AT$1:$BB$1,0) -> 1 | AZ28: =MATCH(N$30,$AT$1:$BB$1,0) -> 1 | ... BZ28: =MATCH(AN$30,$AT$1:$BB$1,0) -> #N/A
A29: 100 | B29: מס"ד | C29: =COLUMN() -> 3 | D29: =COLUMN() -> 4 | E29: =COLUMN() -> 5 | F29: שם המוסד | G29: ="קיים פעילות בתחומי המוסיקה הקולית המסורתית ושירת הקודש היהודית שנתיים לפחות נכון ל-1/1/"&AO2 -> קיים פעילות בתחומי המוסיקה הקולית המסורתית ושירת הקודש היהודית שנתיים לפחות נכון ל-1/1/2025 | H29: מטרות המוסד עולות בקנה אחד עם מטרות התמיכה | I29: תקציב הפעילות מנוהל כמשק סגור | J29: המוסד עומד בדרישות הנוהל | K29: מציין בפרסומיו את תמיכת המשרד | L29: מקיים הוראות הדין | M29: פועל ביעילות ובתקורה מינימלית | N29: משתמש בכספי התמיכה למטרות שלשמן ניתנו | O29: הפעילות אינה חלק מתכנית לימודים | P29: הפעילות אינה ממומנת בדרך אחרת מתקציב המדינה | Q29: הגיש בקשה ודוחות בהתאם לנדרש לפי מבחנים אלה, הנחיות היועץ המשפטי לממשלה והוראות הנוהל | R29: מקיים הוראות החוק, מקפיד על ניהול תקין ושקיפות | S29: סך הוצאות כספיות שאינן הנהלה וכלליות של המוסד | T29: הוצאות כספיות שאינן הנהלה וכלליות ששימשו לביצוע קונצטרים של חזנות | U29: שיעור הוצאות ששימשו לפעילות חזנות | V29: ממוצע ניקוד רמה אמנותית | W29: מסגרת הגוף הקולי המסורתי פועלת כחלק ממוסד העוסק במגוון תחומים מנוהלת כמשק סגור עם הנהלה אמנותית נפרדת | X29: תקציב שנתי בשנת התקציב המבוקר ששימש לקונצרטים של חזנות | Y29: אינו מקבל תמיכה שוטפת בתחום הגופים הקוליים | Z29: הועדה ממליצה מעבר תנאי סף עם הקלה | AA29: קריטריון הקלה 2 | AB29: קריטריון הקלה 3 | AC29: קריטריון הקלה 4 | AD29: קריטריון הקלה 5 | AE29: עומד בתנאים לאור הקלות | AF29: במוסד בו מועסקים עובדים ביחסי עבודה, המוסד קבע תקנון למניעת הטרדה מינית ועומד בדרישות תקנה 8 לתקנות חובות מעסיק. המוסד צירף לבקשתו את התקנון ופרטים על ההתאמות בתקנון, פרסומו למסירתו. (במוסד בו אין מתכונת יחסי עבודה - יש לסמן 1 עבור תנאי זה) | AG29: התנאים צפויים להתקיים בשנת התמיכה על פי תכנית עבודה | AH29: עומד בתנאי סף כלליים אחרים | AJ29: מעבר תנאי סף-אישור מיוחד | AK29: ריק | AL29: ריק | AM29: ריק | AN29: מעבר תנאי סף | AO29: הערות | AP29: בקרה ראשית | AS29: ="בקרת "&G29 -> בקרת קיים פעילות בתחומי המוסיקה הקולית המסורתית ושירת הקודש היהודית שנתיים לפחות נכון ל-1/1/2025 | AT29: ="בקרת "&H29 -> בקרת מטרות המוסד עולות בקנה אחד עם מטרות התמיכה | AU29: ="בקרת "&I29 -> בקרת תקציב הפעילות מנוהל כמשק סגור | AV29: ="בקרת "&J29 -> בקרת המוסד עומד בדרישות הנוהל | AW29: ="בקרת "&K29 -> בקרת מציין בפרסומיו את תמיכת המשרד | AX29: ="בקרת "&L29 -> בקרת מקיים הוראות הדין | AY29: ="בקרת "&M29 -> בקרת פועל ביעילות ובתקורה מינימלית | AZ29: ="בקרת "&N29 -> בקרת משתמש בכספי התמיכה למטרות שלשמן ניתנו | ... BZ29: ="בקרת "&AN29 -> בקרת מעבר תנאי סף | CE29: רשימה סגורה | CT29: קריטריון הקלה 1 | CU29: קריטריון הקלה 2 | CV29: קריטריון הקלה 3 | CW29: קריטריון הקלה 4 | CX29: קריטריון הקלה 5 | DA29: קריטריון הקלה 1 | DB29: קריטריון הקלה 2 | DC29: קריטריון הקלה 3 | DD29: קריטריון הקלה 4 | DE29: קריטריון הקלה 5 | DH29: תנאים עם הקלה | DI29: עומד בתנאים ללא הקלות | DJ29: עומד בתנאים להקלות
G30: 0/1 | H30: 0/1 | I30: 0/1 | J30: 0/1 | K30: 0/1 | L30: 0/1 | M30: 0/1 | N30: 0/1 | O30: 0/1 | P30: 0/1 | Q30: 0/1 | R30: 0/1 | S30: מספר שאינו שלילי | T30: מספר שאינו שלילי | V30: מספר שלם שאינו שלילי | W30: 0/1 | X30: מספר שאינו שלילי | Y30: 0/1 | Z30: 0/1 | AF30: 0/1 | AG30: 0/1 | AH30: 0/1 | AO30: טקסט | AQ30: 0 | AR30: 1 | AS30: =G30 -> 0/1 | AT30: =H30 -> 0/1 | AU30: =I30 -> 0/1 | AV30: =J30 -> 0/1 | AW30: =K30 -> 0/1 | AX30: =L30 -> 0/1 | AY30: =M30 -> 0/1 | AZ30: =N30 -> 0/1 | ... BZ30: =AN30 -> 0 | CE30: =AT4 -> 1 | CF30: =AU4 -> 2 | CG30: =AV4 -> 3 | CH30: =AW4 -> 4 | CI30: =AX4 -> 5 | CJ30: =AY4 -> 6 | CK30: =AZ4 -> 7 | CL30: =BA4 -> 8 | ... CN30: =BC4 -> 10
B31: =IF(F31="","",ROW()-30) -> 1 | F31: =IF('מכון תא לחזנות'!$F$1="1","",'מכון תא לחזנות'!$F$1) -> מכון תא לחזנות | G31: 1 | H31: 1 | I31: 1 | J31: 1 | K31: 1 | L31: 1 | M31: 1 | N31: 1 | O31: 1 | P31: 1 | Q31: 1 | R31: 1 | S31: 926406 | T31: 926406 | U31: =IF($F31="","",IF(T31>S31,$AQ$1,IFERROR(T31/S31,$AQ$1))) -> 1 | V31: 4 | W31: 0 | X31: 425301 | Y31: 1 | AE31: =IF($F31="","",IF(OR(DI31=1,AND(DJ31=1,Z31=1)),1,0)) -> 1 | AF31: 1 | AG31: 1 | AH31: 1 | AI31: =IF(F31="","",IF(G31>=$G$5,1,0)) -> 1 | AN31: =IF($F31="","",IF(AJ31=1,1,IF(AP31<>1,$AQ$1,IF(SUMPRODUCT(--(G31:AI31>=$G$5:$AI$5)*($G$5:$AI$5<>"")*($G$4:$AI$4=1))=COUNTIF($G$4:$AI$4,1),1,0)))) -> 1 | AO31: עומדת בתנאי סף אמנותי ובתנאי הסף הכמותיים | AP31: =IF(OR(SUM(AS31:BZ31)<>COUNT(AS31:BZ31),SUMPRODUCT(--(G31:AI31=$AQ$1))<>0),0,1) -> 1 | AQ31: =IF($F31="","",AQ$30) -> 0 | AR31: =IF($F31="","",AR$30) -> 1 | AS31: =IF(OR(G$30="",G$4=99),1,IF(G31="",0,IFERROR(CHOOSE(AS$28,IF(ISNA(MATCH(G31,$AQ$30:$AR$30,0)),0,1),IF(ISNUMBER(G31),1,0),IF(G31=TRUNC(G31),1,0),IF(AND(G31*1=G31,G31>=0),1,0),IF(AND(G31=TRUNC(G31),G31>=0),1,0),IF(AND(G31*1=G31,G31>0),1,0),IF(AND(G31=TRUNC(G31),G31>0),1,0),1,IF(ISNA(HLOOKUP(G31,$AT$4:$BC$4,1,0)),0,1)),0))) -> 1 | AT31: =IF(OR(H$30="",H$4=99),1,IF(H31="",0,IFERROR(CHOOSE(AT$28,IF(ISNA(MATCH(H31,$AQ$30:$AR$30,0)),0,1),IF(ISNUMBER(H31),1,0),IF(H31=TRUNC(H31),1,0),IF(AND(H31*1=H31,H31>=0),1,0),IF(AND(H31=TRUNC(H31),H31>=0),1,0),IF(AND(H31*1=H31,H31>0),1,0),IF(AND(H31=TRUNC(H31),H31>0),1,0),1,IF(ISNA(HLOOKUP(H31,$AT$4:$BC$4,1,0)),0,1)),0))) -> 1 | AU31: =IF(OR(I$30="",I$4=99),1,IF(I31="",0,IFERROR(CHOOSE(AU$28,IF(ISNA(MATCH(I31,$AQ$30:$AR$30,0)),0,1),IF(ISNUMBER(I31),1,0),IF(I31=TRUNC(I31),1,0),IF(AND(I31*1=I31,I31>=0),1,0),IF(AND(I31=TRUNC(I31),I31>=0),1,0),IF(AND(I31*1=I31,I31>0),1,0),IF(AND(I31=TRUNC(I31),I31>0),1,0),1,IF(ISNA(HLOOKUP(I31,$AT$4:$BC$4,1,0)),0,1)),0))) -> 1 | AV31: =IF(OR(J$30="",J$4=99),1,IF(J31="",0,IFERROR(CHOOSE(AV$28,IF(ISNA(MATCH(J31,$AQ$30:$AR$30,0)),0,1),IF(ISNUMBER(J31),1,0),IF(J31=TRUNC(J31),1,0),IF(AND(J31*1=J31,J31>=0),1,0),IF(AND(J31=TRUNC(J31),J31>=0),1,0),IF(AND(J31*1=J31,J31>0),1,0),IF(AND(J31=TRUNC(J31),J31>0),1,0),1,IF(ISNA(HLOOKUP(J31,$AT$4:$BC$4,1,0)),0,1)),0))) -> 1 | AW31: =IF(OR(K$30="",K$4=99),1,IF(K31="",0,IFERROR(CHOOSE(AW$28,IF(ISNA(MATCH(K31,$AQ$30:$AR$30,0)),0,1),IF(ISNUMBER(K31),1,0),IF(K31=TRUNC(K31),1,0),IF(AND(K31*1=K31,K31>=0),1,0),IF(AND(K31=TRUNC(K31),K31>=0),1,0),IF(AND(K31*1=K31,K31>0),1,0),IF(AND(K31=TRUNC(K31),K31>0),1,0),1,IF(ISNA(HLOOKUP(K31,$AT$4:$BC$4,1,0)),0,1)),0))) -> 1 | AX31: =IF(OR(L$30="",L$4=99),1,IF(L31="",0,IFERROR(CHOOSE(AX$28,IF(ISNA(MATCH(L31,$AQ$30:$AR$30,0)),0,1),IF(ISNUMBER(L31),1,0),IF(L31=TRUNC(L31),1,0),IF(AND(L31*1=L31,L31>=0),1,0),IF(AND(L31=TRUNC(L31),L31>=0),1,0),IF(AND(L31*1=L31,L31>0),1,0),IF(AND(L31=TRUNC(L31),L31>0),1,0),1,IF(ISNA(HLOOKUP(L31,$AT$4:$BC$4,1,0)),0,1)),0))) -> 1 | AY31: =IF(OR(M$30="",M$4=99),1,IF(M31="",0,IFERROR(CHOOSE(AY$28,IF(ISNA(MATCH(M31,$AQ$30:$AR$30,0)),0,1),IF(ISNUMBER(M31),1,0),IF(M31=TRUNC(M31),1,0),IF(AND(M31*1=M31,M31>=0),1,0),IF(AND(M31=TRUNC(M31),M31>=0),1,0),IF(AND(M31*1=M31,M31>0),1,0),IF(AND(M31=TRUNC(M31),M31>0),1,0),1,IF(ISNA(HLOOKUP(M31,$AT$4:$BC$4,1,0)),0,1)),0))) -> 1 | AZ31: =IF(OR(N$30="",N$4=99),1,IF(N31="",0,IFERROR(CHOOSE(AZ$28,IF(ISNA(MATCH(N31,$AQ$30:$AR$30,0)),0,1),IF(ISNUMBER(N31),1,0),IF(N31=TRUNC(N31),1,0),IF(AND(N31*1=N31,N31>=0),1,0),IF(AND(N31=TRUNC(N31),N31>=0),1,0),IF(AND(N31*1=N31,N31>0),1,0),IF(AND(N31=TRUNC(N31),N31>0),1,0),1,IF(ISNA(HLOOKUP(N31,$AT$4:$BC$4,1,0)),0,1)),0))) -> 1 | ... BF31: =IF(OR(T$30="",T$4=99),1,IF(T31="",0,IFERROR(CHOOSE(BF$28,IF(ISNA(MATCH(T31,$AQ$30:$AR$30,0)),0,1),IF(ISNUMBER(T31),1,0),IF(T31=TRUNC(T31),1,0),IF(AND(T31*1=T31,T31>=0),1,0),IF(AND(T31=TRUNC(T31),T31>=0),1,0),IF(AND(T31*1=T31,T31>0),1,0),IF(AND(T31=TRUNC(T31),T31>0),1,0),1,IF(ISNA(HLOOKUP(T31,$AT$4:$BC$4,1,0)),0,1)),0))) -> 1 | BH31: =IF(OR(V$30="",V$4=99),1,IF(V31="",0,IFERROR(CHOOSE(BH$28,IF(ISNA(MATCH(V31,$AQ$30:$AR$30,0)),0,1),IF(ISNUMBER(V31),1,0),IF(V31=TRUNC(V31),1,0),IF(AND(V31*1=V31,V31>=0),1,0),IF(AND(V31=TRUNC(V31),V31>=0),1,0),IF(AND(V31*1=V31,V31>0),1,0),IF(AND(V31=TRUNC(V31),V31>0),1,0),1,IF(ISNA(HLOOKUP(V31,$AT$4:$BC$4,1,0)),0,1)),0))) -> 1 | BI31: =IF(OR(W$30="",W$4=99),1,IF(W31="",0,IFERROR(CHOOSE(BI$28,IF(ISNA(MATCH(W31,$AQ$30:$AR$30,0)),0,1),IF(ISNUMBER(W31),1,0),IF(W31=TRUNC(W31),1,0),IF(AND(W31*1=W31,W31>=0),1,0),IF(AND(W31=TRUNC(W31),W31>=0),1,0),IF(AND(W31*1=W31,W31>0),1,0),IF(AND(W31=TRUNC(W31),W31>0),1,0),1,IF(ISNA(HLOOKUP(W31,$AT$4:$BC$4,1,0)),0,1)),0))) -> 1 | BJ31: =IF(OR(X$30="",X$4=99),1,IF(X31="",0,IFERROR(CHOOSE(BJ$28,IF(ISNA(MATCH(X31,$AQ$30:$AR$30,0)),0,1),IF(ISNUMBER(X31),1,0),IF(X31=TRUNC(X31),1,0),IF(AND(X31*1=X31,X31>=0),1,0),IF(AND(X31=TRUNC(X31),X31>=0),1,0),IF(AND(X31*1=X31,X31>0),1,0),IF(AND(X31=TRUNC(X31),X31>0),1,0),1,IF(ISNA(HLOOKUP(X31,$AT$4:$BC$4,1,0)),0,1)),0))) -> 1 | BK31: =IF(OR(Y$30="",Y$4=99),1,IF(Y31="",0,IFERROR(CHOOSE(BK$28,IF(ISNA(MATCH(Y31,$AQ$30:$AR$30,0)),0,1),IF(ISNUMBER(Y31),1,0),IF(Y31=TRUNC(Y31),1,0),IF(AND(Y31*1=Y31,Y31>=0),1,0),IF(AND(Y31=TRUNC(Y31),Y31>=0),1,0),IF(AND(Y31*1=Y31,Y31>0),1,0),IF(AND(Y31=TRUNC(Y31),Y31>0),1,0),1,IF(ISNA(HLOOKUP(Y31,$AT$4:$BC$4,1,0)),0,1)),0))) -> 1 | BL31: =IF(OR(Z$30="",Z$4=99),1,IF(Z31="",0,IFERROR(CHOOSE(BL$28,IF(ISNA(MATCH(Z31,$AQ$30:$AR$30,0)),0,1),IF(ISNUMBER(Z31),1,0),IF(Z31=TRUNC(Z31),1,0),IF(AND(Z31*1=Z31,Z31>=0),1,0),IF(AND(Z31=TRUNC(Z31),Z31>=0),1,0),IF(AND(Z31*1=Z31,Z31>0),1,0),IF(AND(Z31=TRUNC(Z31),Z31>0),1,0),1,IF(ISNA(HLOOKUP(Z31,$AT$4:$BC$4,1,0)),0,1)),0))) -> 1 | BS31: =IF(OR(AG$30="",AG$4=99),1,IF(AG31="",0,IFERROR(CHOOSE(BS$28,IF(ISNA(MATCH(AG31,$AQ$30:$AR$30,0)),0,1),IF(ISNUMBER(AG31),1,0),IF(AG31=TRUNC(AG31),1,0),IF(AND(AG31*1=AG31,AG31>=0),1,0),IF(AND(AG31=TRUNC(AG31),AG31>=0),1,0),IF(AND(AG31*1=AG31,AG31>0),1,0),IF(AND(AG31=TRUNC(AG31),AG31>0),1,0),1,IF(ISNA(HLOOKUP(AG31,$AT$4:$BC$4,1,0)),0,1)),0))) -> 1 | BT31: =IF(OR(AH$30="",AH$4=99),1,IF(AH31="",0,IFERROR(CHOOSE(BT$28,IF(ISNA(MATCH(AH31,$AQ$30:$AR$30,0)),0,1),IF(ISNUMBER(AH31),1,0),IF(AH31=TRUNC(AH31),1,0),IF(AND(AH31*1=AH31,AH31>=0),1,0),IF(AND(AH31=TRUNC(AH31),AH31>=0),1,0),IF(AND(AH31*1=AH31,AH31>0),1,0),IF(AND(AH31=TRUNC(AH31),AH31>0),1,0),1,IF(ISNA(HLOOKUP(AH31,$AT$4:$BC$4,1,0)),0,1)),0))) -> 1 | CE31: =IF($F31="","",CE$30) -> 1 | CF31: =IF($F31="","",CF$30) -> 2 | CG31: =IF($F31="","",CG$30) -> 3 | CH31: =IF($F31="","",CH$30) -> 4 | CI31: =IF($F31="","",CI$30) -> 5 | CJ31: =IF($F31="","",CJ$30) -> 6 | CK31: =IF($F31="","",CK$30) -> 7 | CL31: =IF($F31="","",CL$30) -> 8 | ... CN31: =IF($F31="","",CN$30) -> 10 | CT31: =OR(U31>=CT$5,X31>=$U$7,W31=1) -> TRUE | CU31: =OR(V31>=CU$5,INDEX('הוראת שעה'!$D$6:$D$20,MATCH($AO$2,'הוראת שעה'!$A$6:$A$20,1))=99) -> TRUE | CV31: =X31>=CV$5 -> TRUE | CZ31: =COUNTIF(CT31:CX31,TRUE) -> 3 | DA31: =OR(Q31>=DA$5,X31>=$U$7,W31=1) -> TRUE | DB31: =OR(V31>=DB$5,Z31=1,INDEX('הוראת שעה'!$D$6:$D$20,MATCH($AO$2,'הוראת שעה'!$A$6:$A$20,1))=99) -> TRUE | DC31: =X31>=DC$5 -> TRUE | DH31: =COUNTIF(DA31:DG31,TRUE) -> 3 | DI31: =IF($F31="","",IF(CZ31=$CU$3,1,0)) -> 1 | DJ31: =IF($F31="","",IF(AND(DH31=$CU$3,DH31-CZ31<=$DB$3),1,0)) -> 1
B32: =IF(F32="","",ROW()-30) -> 2 | F32: =IF('המרכז לתרבות אנדלוסית ולפיוט'!$F$1="2","",'המרכז לתרבות אנדלוסית ולפיוט'!$F$1) -> המרכז לתרבות אנדלוסית ולפיוט | G32: 1 | H32: 1 | I32: 1 | J32: 1 | K32: 1 | L32: 1 | M32: 1 | N32: 1 | O32: 1 | P32: 1 | Q32: 1 | R32: 1 | S32: 11115314 | T32: 834643 | U32: =IF($F32="","",IF(T32>S32,$AQ$1,IFERROR(T32/S32,$AQ$1))) -> 0.075089467 | V32: 3 | W32: 1 | X32: 1169774 | Y32: 1 | AE32: =IF($F32="","",IF(OR(DI32=1,AND(DJ32=1,Z32=1)),1,0)) -> 1 | AF32: 1 | AG32: 1 | AH32: 1 | AI32: =IF(F32="","",IF(G32>=$G$5,1,0)) -> 1 | AN32: =IF($F32="","",IF(AJ32=1,1,IF(AP32<>1,$AQ$1,IF(SUMPRODUCT(--(G32:AI32>=$G$5:$AI$5)*($G$5:$AI$5<>"")*($G$4:$AI$4=1))=COUNTIF($G$4:$AI$4,1),1,0)))) -> 1 | AO32: עומדת בתנאי סף אמנותי ובתנאי הסף הכמותיים | AP32: =IF(OR(SUM(AS32:BZ32)<>COUNT(AS32:BZ32),SUMPRODUCT(--(G32:AI32=$AQ$1))<>0),0,1) -> 1 | AQ32: =IF($F32="","",AQ$30) -> 0 | AR32: =IF($F32="","",AR$30) -> 1 | AS32: =IF(OR(G$30="",G$4=99),1,IF(G32="",0,IFERROR(CHOOSE(AS$28,IF(ISNA(MATCH(G32,$AQ$30:$AR$30,0)),0,1),IF(ISNUMBER(G32),1,0),IF(G32=TRUNC(G32),1,0),IF(AND(G32*1=G32,G32>=0),1,0),IF(AND(G32=TRUNC(G32),G32>=0),1,0),IF(AND(G32*1=G32,G32>0),1,0),IF(AND(G32=TRUNC(G32),G32>0),1,0),1,IF(ISNA(HLOOKUP(G32,$AT$4:$BC$4,1,0)),0,1)),0))) -> 1 | AT32: =IF(OR(H$30="",H$4=99),1,IF(H32="",0,IFERROR(CHOOSE(AT$28,IF(ISNA(MATCH(H32,$AQ$30:$AR$30,0)),0,1),IF(ISNUMBER(H32),1,0),IF(H32=TRUNC(H32),1,0),IF(AND(H32*1=H32,H32>=0),1,0),IF(AND(H32=TRUNC(H32),H32>=0),1,0),IF(AND(H32*1=H32,H32>0),1,0),IF(AND(H32=TRUNC(H32),H32>0),1,0),1,IF(ISNA(HLOOKUP(H32,$AT$4:$BC$4,1,0)),0,1)),0))) -> 1 | AU32: =IF(OR(I$30="",I$4=99),1,IF(I32="",0,IFERROR(CHOOSE(AU$28,IF(ISNA(MATCH(I32,$AQ$30:$AR$30,0)),0,1),IF(ISNUMBER(I32),1,0),IF(I32=TRUNC(I32),1,0),IF(AND(I32*1=I32,I32>=0),1,0),IF(AND(I32=TRUNC(I32),I32>=0),1,0),IF(AND(I32*1=I32,I32>0),1,0),IF(AND(I32=TRUNC(I32),I32>0),1,0),1,IF(ISNA(HLOOKUP(I32,$AT$4:$BC$4,1,0)),0,1)),0))) -> 1 | AV32: =IF(OR(J$30="",J$4=99),1,IF(J32="",0,IFERROR(CHOOSE(AV$28,IF(ISNA(MATCH(J32,$AQ$30:$AR$30,0)),0,1),IF(ISNUMBER(J32),1,0),IF(J32=TRUNC(J32),1,0),IF(AND(J32*1=J32,J32>=0),1,0),IF(AND(J32=TRUNC(J32),J32>=0),1,0),IF(AND(J32*1=J32,J32>0),1,0),IF(AND(J32=TRUNC(J32),J32>0),1,0),1,IF(ISNA(HLOOKUP(J32,$AT$4:$BC$4,1,0)),0,1)),0))) -> 1 | AW32: =IF(OR(K$30="",K$4=99),1,IF(K32="",0,IFERROR(CHOOSE(AW$28,IF(ISNA(MATCH(K32,$AQ$30:$AR$30,0)),0,1),IF(ISNUMBER(K32),1,0),IF(K32=TRUNC(K32),1,0),IF(AND(K32*1=K32,K32>=0),1,0),IF(AND(K32=TRUNC(K32),K32>=0),1,0),IF(AND(K32*1=K32,K32>0),1,0),IF(AND(K32=TRUNC(K32),K32>0),1,0),1,IF(ISNA(HLOOKUP(K32,$AT$4:$BC$4,1,0)),0,1)),0))) -> 1 | AX32: =IF(OR(L$30="",L$4=99),1,IF(L32="",0,IFERROR(CHOOSE(AX$28,IF(ISNA(MATCH(L32,$AQ$30:$AR$30,0)),0,1),IF(ISNUMBER(L32),1,0),IF(L32=TRUNC(L32),1,0),IF(AND(L32*1=L32,L32>=0),1,0),IF(AND(L32=TRUNC(L32),L32>=0),1,0),IF(AND(L32*1=L32,L32>0),1,0),IF(AND(L32=TRUNC(L32),L32>0),1,0),1,IF(ISNA(HLOOKUP(L32,$AT$4:$BC$4,1,0)),0,1)),0))) -> 1 | AY32: =IF(OR(M$30="",M$4=99),1,IF(M32="",0,IFERROR(CHOOSE(AY$28,IF(ISNA(MATCH(M32,$AQ$30:$AR$30,0)),0,1),IF(ISNUMBER(M32),1,0),IF(M32=TRUNC(M32),1,0),IF(AND(M32*1=M32,M32>=0),1,0),IF(AND(M32=TRUNC(M32),M32>=0),1,0),IF(AND(M32*1=M32,M32>0),1,0),IF(AND(M32=TRUNC(M32),M32>0),1,0),1,IF(ISNA(HLOOKUP(M32,$AT$4:$BC$4,1,0)),0,1)),0))) -> 1 | AZ32: =IF(OR(N$30="",N$4=99),1,IF(N32="",0,IFERROR(CHOOSE(AZ$28,IF(ISNA(MATCH(N32,$AQ$30:$AR$30,0)),0,1),IF(ISNUMBER(N32),1,0),IF(N32=TRUNC(N32),1,0),IF(AND(N32*1=N32,N32>=0),1,0),IF(AND(N32=TRUNC(N32),N32>=0),1,0),IF(AND(N32*1=N32,N32>0),1,0),IF(AND(N32=TRUNC(N32),N32>0),1,0),1,IF(ISNA(HLOOKUP(N32,$AT$4:$BC$4,1,0)),0,1)),0))) -> 1 | ... BF32: =IF(OR(T$30="",T$4=99),1,IF(T32="",0,IFERROR(CHOOSE(BF$28,IF(ISNA(MATCH(T32,$AQ$30:$AR$30,0)),0,1),IF(ISNUMBER(T32),1,0),IF(T32=TRUNC(T32),1,0),IF(AND(T32*1=T32,T32>=0),1,0),IF(AND(T32=TRUNC(T32),T32>=0),1,0),IF(AND(T32*1=T32,T32>0),1,0),IF(AND(T32=TRUNC(T32),T32>0),1,0),1,IF(ISNA(HLOOKUP(T32,$AT$4:$BC$4,1,0)),0,1)),0))) -> 1 | BH32: =IF(OR(V$30="",V$4=99),1,IF(V32="",0,IFERROR(CHOOSE(BH$28,IF(ISNA(MATCH(V32,$AQ$30:$AR$30,0)),0,1),IF(ISNUMBER(V32),1,0),IF(V32=TRUNC(V32),1,0),IF(AND(V32*1=V32,V32>=0),1,0),IF(AND(V32=TRUNC(V32),V32>=0),1,0),IF(AND(V32*1=V32,V32>0),1,0),IF(AND(V32=TRUNC(V32),V32>0),1,0),1,IF(ISNA(HLOOKUP(V32,$AT$4:$BC$4,1,0)),0,1)),0))) -> 1 | BI32: =IF(OR(W$30="",W$4=99),1,IF(W32="",0,IFERROR(CHOOSE(BI$28,IF(ISNA(MATCH(W32,$AQ$30:$AR$30,0)),0,1),IF(ISNUMBER(W32),1,0),IF(W32=TRUNC(W32),1,0),IF(AND(W32*1=W32,W32>=0),1,0),IF(AND(W32=TRUNC(W32),W32>=0),1,0),IF(AND(W32*1=W32,W32>0),1,0),IF(AND(W32=TRUNC(W32),W32>0),1,0),1,IF(ISNA(HLOOKUP(W32,$AT$4:$BC$4,1,0)),0,1)),0))) -> 1 | BJ32: =IF(OR(X$30="",X$4=99),1,IF(X32="",0,IFERROR(CHOOSE(BJ$28,IF(ISNA(MATCH(X32,$AQ$30:$AR$30,0)),0,1),IF(ISNUMBER(X32),1,0),IF(X32=TRUNC(X32),1,0),IF(AND(X32*1=X32,X32>=0),1,0),IF(AND(X32=TRUNC(X32),X32>=0),1,0),IF(AND(X32*1=X32,X32>0),1,0),IF(AND(X32=TRUNC(X32),X32>0),1,0),1,IF(ISNA(HLOOKUP(X32,$AT$4:$BC$4,1,0)),0,1)),0))) -> 1 | BK32: =IF(OR(Y$30="",Y$4=99),1,IF(Y32="",0,IFERROR(CHOOSE(BK$28,IF(ISNA(MATCH(Y32,$AQ$30:$AR$30,0)),0,1),IF(ISNUMBER(Y32),1,0),IF(Y32=TRUNC(Y32),1,0),IF(AND(Y32*1=Y32,Y32>=0),1,0),IF(AND(Y32=TRUNC(Y32),Y32>=0),1,0),IF(AND(Y32*1=Y32,Y32>0),1,0),IF(AND(Y32=TRUNC(Y32),Y32>0),1,0),1,IF(ISNA(HLOOKUP(Y32,$AT$4:$BC$4,1,0)),0,1)),0))) -> 1 | BL32: =IF(OR(Z$30="",Z$4=99),1,IF(Z32="",0,IFERROR(CHOOSE(BL$28,IF(ISNA(MATCH(Z32,$AQ$30:$AR$30,0)),0,1),IF(ISNUMBER(Z32),1,0),IF(Z32=TRUNC(Z32),1,0),IF(AND(Z32*1=Z32,Z32>=0),1,0),IF(AND(Z32=TRUNC(Z32),Z32>=0),1,0),IF(AND(Z32*1=Z32,Z32>0),1,0),IF(AND(Z32=TRUNC(Z32),Z32>0),1,0),1,IF(ISNA(HLOOKUP(Z32,$AT$4:$BC$4,1,0)),0,1)),0))) -> 1 | BS32: =IF(OR(AG$30="",AG$4=99),1,IF(AG32="",0,IFERROR(CHOOSE(BS$28,IF(ISNA(MATCH(AG32,$AQ$30:$AR$30,0)),0,1),IF(ISNUMBER(AG32),1,0),IF(AG32=TRUNC(AG32),1,0),IF(AND(AG32*1=AG32,AG32>=0),1,0),IF(AND(AG32=TRUNC(AG32),AG32>=0),1,0),IF(AND(AG32*1=AG32,AG32>0),1,0),IF(AND(AG32=TRUNC(AG32),AG32>0),1,0),1,IF(ISNA(HLOOKUP(AG32,$AT$4:$BC$4,1,0)),0,1)),0))) -> 1 | BT32: =IF(OR(AH$30="",AH$4=99),1,IF(AH32="",0,IFERROR(CHOOSE(BT$28,IF(ISNA(MATCH(AH32,$AQ$30:$AR$30,0)),0,1),IF(ISNUMBER(AH32),1,0),IF(AH32=TRUNC(AH32),1,0),IF(AND(AH32*1=AH32,AH32>=0),1,0),IF(AND(AH32=TRUNC(AH32),AH32>=0),1,0),IF(AND(AH32*1=AH32,AH32>0),1,0),IF(AND(AH32=TRUNC(AH32),AH32>0),1,0),1,IF(ISNA(HLOOKUP(AH32,$AT$4:$BC$4,1,0)),0,1)),0))) -> 1 | CE32: =IF($F32="","",CE$30) -> 1 | CF32: =IF($F32="","",CF$30) -> 2 | CG32: =IF($F32="","",CG$30) -> 3 | CH32: =IF($F32="","",CH$30) -> 4 | CI32: =IF($F32="","",CI$30) -> 5 | CJ32: =IF($F32="","",CJ$30) -> 6 | CK32: =IF($F32="","",CK$30) -> 7 | CL32: =IF($F32="","",CL$30) -> 8 | ... CN32: =IF($F32="","",CN$30) -> 10 | CT32: =OR(U32>=CT$5,X32>=$U$7,W32=1) -> TRUE | CU32: =OR(V32>=CU$5,INDEX('הוראת שעה'!$D$6:$D$20,MATCH($AO$2,'הוראת שעה'!$A$6:$A$20,1))=99) -> TRUE | CV32: =X32>=CV$5 -> TRUE | CZ32: =COUNTIF(CT32:CX32,TRUE) -> 3 | DA32: =OR(Q32>=DA$5,X32>=$U$7,W32=1) -> TRUE | DB32: =OR(V32>=DB$5,Z32=1,INDEX('הוראת שעה'!$D$6:$D$20,MATCH($AO$2,'הוראת שעה'!$A$6:$A$20,1))=99) -> TRUE | DC32: =X32>=DC$5 -> TRUE | DH32: =COUNTIF(DA32:DG32,TRUE) -> 3 | DI32: =IF($F32="","",IF(CZ32=$CU$3,1,0)) -> 1 | DJ32: =IF($F32="","",IF(AND(DH32=$CU$3,DH32-CZ32<=$DB$3),1,0)) -> 1
B33: =IF(F33="","",ROW()-30) -> 3 | F33: =IF('מקהלת החזנים הירושלמית'!$F$1="3","",'מקהלת החזנים הירושלמית'!$F$1) -> מקהלת החזנים הירושלמית | G33: 1 | H33: 1 | I33: 1 | J33: 1 | K33: 1 | L33: 1 | M33: 1 | N33: 1 | O33: 1 | P33: 1 | Q33: 1 | R33: 1 | S33: 547830 | T33: 547830 | U33: =IF($F33="","",IF(T33>S33,$AQ$1,IFERROR(T33/S33,$AQ$1))) -> 1 | V33: 3 | W33: 0 | X33: 549235 | Y33: 1 | AE33: =IF($F33="","",IF(OR(DI33=1,AND(DJ33=1,Z33=1)),1,0)) -> 1 | AF33: 1 | AG33: 1 | AH33: 1 | AI33: =IF(F33="","",IF(G33>=$G$5,1,0)) -> 1 | AN33: =IF($F33="","",IF(AJ33=1,1,IF(AP33<>1,$AQ$1,IF(SUMPRODUCT(--(G33:AI33>=$G$5:$AI$5)*($G$5:$AI$5<>"")*($G$4:$AI$4=1))=COUNTIF($G$4:$AI$4,1),1,0)))) -> 1 | AO33: עומדת בתנאי סף אמנותי ובתנאי הסף הכמותיים | AP33: =IF(OR(SUM(AS33:BZ33)<>COUNT(AS33:BZ33),SUMPRODUCT(--(G33:AI33=$AQ$1))<>0),0,1) -> 1 | AQ33: =IF($F33="","",AQ$30) -> 0 | AR33: =IF($F33="","",AR$30) -> 1 | AS33: =IF(OR(G$30="",G$4=99),1,IF(G33="",0,IFERROR(CHOOSE(AS$28,IF(ISNA(MATCH(G33,$AQ$30:$AR$30,0)),0,1),IF(ISNUMBER(G33),1,0),IF(G33=TRUNC(G33),1,0),IF(AND(G33*1=G33,G33>=0),1,0),IF(AND(G33=TRUNC(G33),G33>=0),1,0),IF(AND(G33*1=G33,G33>0),1,0),IF(AND(G33=TRUNC(G33),G33>0),1,0),1,IF(ISNA(HLOOKUP(G33,$AT$4:$BC$4,1,0)),0,1)),0))) -> 1 | AT33: =IF(OR(H$30="",H$4=99),1,IF(H33="",0,IFERROR(CHOOSE(AT$28,IF(ISNA(MATCH(H33,$AQ$30:$AR$30,0)),0,1),IF(ISNUMBER(H33),1,0),IF(H33=TRUNC(H33),1,0),IF(AND(H33*1=H33,H33>=0),1,0),IF(AND(H33=TRUNC(H33),H33>=0),1,0),IF(AND(H33*1=H33,H33>0),1,0),IF(AND(H33=TRUNC(H33),H33>0),1,0),1,IF(ISNA(HLOOKUP(H33,$AT$4:$BC$4,1,0)),0,1)),0))) -> 1 | AU33: =IF(OR(I$30="",I$4=99),1,IF(I33="",0,IFERROR(CHOOSE(AU$28,IF(ISNA(MATCH(I33,$AQ$30:$AR$30,0)),0,1),IF(ISNUMBER(I33),1,0),IF(I33=TRUNC(I33),1,0),IF(AND(I33*1=I33,I33>=0),1,0),IF(AND(I33=TRUNC(I33),I33>=0),1,0),IF(AND(I33*1=I33,I33>0),1,0),IF(AND(I33=TRUNC(I33),I33>0),1,0),1,IF(ISNA(HLOOKUP(I33,$AT$4:$BC$4,1,0)),0,1)),0))) -> 1 | AV33: =IF(OR(J$30="",J$4=99),1,IF(J33="",0,IFERROR(CHOOSE(AV$28,IF(ISNA(MATCH(J33,$AQ$30:$AR$30,0)),0,1),IF(ISNUMBER(J33),1,0),IF(J33=TRUNC(J33),1,0),IF(AND(J33*1=J33,J33>=0),1,0),IF(AND(J33=TRUNC(J33),J33>=0),1,0),IF(AND(J33*1=J33,J33>0),1,0),IF(AND(J33=TRUNC(J33),J33>0),1,0),1,IF(ISNA(HLOOKUP(J33,$AT$4:$BC$4,1,0)),0,1)),0))) -> 1 | AW33: =IF(OR(K$30="",K$4=99),1,IF(K33="",0,IFERROR(CHOOSE(AW$28,IF(ISNA(MATCH(K33,$AQ$30:$AR$30,0)),0,1),IF(ISNUMBER(K33),1,0),IF(K33=TRUNC(K33),1,0),IF(AND(K33*1=K33,K33>=0),1,0),IF(AND(K33=TRUNC(K33),K33>=0),1,0),IF(AND(K33*1=K33,K33>0),1,0),IF(AND(K33=TRUNC(K33),K33>0),1,0),1,IF(ISNA(HLOOKUP(K33,$AT$4:$BC$4,1,0)),0,1)),0))) -> 1 | AX33: =IF(OR(L$30="",L$4=99),1,IF(L33="",0,IFERROR(CHOOSE(AX$28,IF(ISNA(MATCH(L33,$AQ$30:$AR$30,0)),0,1),IF(ISNUMBER(L33),1,0),IF(L33=TRUNC(L33),1,0),IF(AND(L33*1=L33,L33>=0),1,0),IF(AND(L33=TRUNC(L33),L33>=0),1,0),IF(AND(L33*1=L33,L33>0),1,0),IF(AND(L33=TRUNC(L33),L33>0),1,0),1,IF(ISNA(HLOOKUP(L33,$AT$4:$BC$4,1,0)),0,1)),0))) -> 1 | AY33: =IF(OR(M$30="",M$4=99),1,IF(M33="",0,IFERROR(CHOOSE(AY$28,IF(ISNA(MATCH(M33,$AQ$30:$AR$30,0)),0,1),IF(ISNUMBER(M33),1,0),IF(M33=TRUNC(M33),1,0),IF(AND(M33*1=M33,M33>=0),1,0),IF(AND(M33=TRUNC(M33),M33>=0),1,0),IF(AND(M33*1=M33,M33>0),1,0),IF(AND(M33=TRUNC(M33),M33>0),1,0),1,IF(ISNA(HLOOKUP(M33,$AT$4:$BC$4,1,0)),0,1)),0))) -> 1 | AZ33: =IF(OR(N$30="",N$4=99),1,IF(N33="",0,IFERROR(CHOOSE(AZ$28,IF(ISNA(MATCH(N33,$AQ$30:$AR$30,0)),0,1),IF(ISNUMBER(N33),1,0),IF(N33=TRUNC(N33),1,0),IF(AND(N33*1=N33,N33>=0),1,0),IF(AND(N33=TRUNC(N33),N33>=0),1,0),IF(AND(N33*1=N33,N33>0),1,0),IF(AND(N33=TRUNC(N33),N33>0),1,0),1,IF(ISNA(HLOOKUP(N33,$AT$4:$BC$4,1,0)),0,1)),0))) -> 1 | ... BF33: =IF(OR(T$30="",T$4=99),1,IF(T33="",0,IFERROR(CHOOSE(BF$28,IF(ISNA(MATCH(T33,$AQ$30:$AR$30,0)),0,1),IF(ISNUMBER(T33),1,0),IF(T33=TRUNC(T33),1,0),IF(AND(T33*1=T33,T33>=0),1,0),IF(AND(T33=TRUNC(T33),T33>=0),1,0),IF(AND(T33*1=T33,T33>0),1,0),IF(AND(T33=TRUNC(T33),T33>0),1,0),1,IF(ISNA(HLOOKUP(T33,$AT$4:$BC$4,1,0)),0,1)),0))) -> 1 | BH33: =IF(OR(V$30="",V$4=99),1,IF(V33="",0,IFERROR(CHOOSE(BH$28,IF(ISNA(MATCH(V33,$AQ$30:$AR$30,0)),0,1),IF(ISNUMBER(V33),1,0),IF(V33=TRUNC(V33),1,0),IF(AND(V33*1=V33,V33>=0),1,0),IF(AND(V33=TRUNC(V33),V33>=0),1,0),IF(AND(V33*1=V33,V33>0),1,0),IF(AND(V33=TRUNC(V33),V33>0),1,0),1,IF(ISNA(HLOOKUP(V33,$AT$4:$BC$4,1,0)),0,1)),0))) -> 1 | BI33: =IF(OR(W$30="",W$4=99),1,IF(W33="",0,IFERROR(CHOOSE(BI$28,IF(ISNA(MATCH(W33,$AQ$30:$AR$30,0)),0,1),IF(ISNUMBER(W33),1,0),IF(W33=TRUNC(W33),1,0),IF(AND(W33*1=W33,W33>=0),1,0),IF(AND(W33=TRUNC(W33),W33>=0),1,0),IF(AND(W33*1=W33,W33>0),1,0),IF(AND(W33=TRUNC(W33),W33>0),1,0),1,IF(ISNA(HLOOKUP(W33,$AT$4:$BC$4,1,0)),0,1)),0))) -> 1 | BJ33: =IF(OR(X$30="",X$4=99),1,IF(X33="",0,IFERROR(CHOOSE(BJ$28,IF(ISNA(MATCH(X33,$AQ$30:$AR$30,0)),0,1),IF(ISNUMBER(X33),1,0),IF(X33=TRUNC(X33),1,0),IF(AND(X33*1=X33,X33>=0),1,0),IF(AND(X33=TRUNC(X33),X33>=0),1,0),IF(AND(X33*1=X33,X33>0),1,0),IF(AND(X33=TRUNC(X33),X33>0),1,0),1,IF(ISNA(HLOOKUP(X33,$AT$4:$BC$4,1,0)),0,1)),0))) -> 1 | BK33: =IF(OR(Y$30="",Y$4=99),1,IF(Y33="",0,IFERROR(CHOOSE(BK$28,IF(ISNA(MATCH(Y33,$AQ$30:$AR$30,0)),0,1),IF(ISNUMBER(Y33),1,0),IF(Y33=TRUNC(Y33),1,0),IF(AND(Y33*1=Y33,Y33>=0),1,0),IF(AND(Y33=TRUNC(Y33),Y33>=0),1,0),IF(AND(Y33*1=Y33,Y33>0),1,0),IF(AND(Y33=TRUNC(Y33),Y33>0),1,0),1,IF(ISNA(HLOOKUP(Y33,$AT$4:$BC$4,1,0)),0,1)),0))) -> 1 | BL33: =IF(OR(Z$30="",Z$4=99),1,IF(Z33="",0,IFERROR(CHOOSE(BL$28,IF(ISNA(MATCH(Z33,$AQ$30:$AR$30,0)),0,1),IF(ISNUMBER(Z33),1,0),IF(Z33=TRUNC(Z33),1,0),IF(AND(Z33*1=Z33,Z33>=0),1,0),IF(AND(Z33=TRUNC(Z33),Z33>=0),1,0),IF(AND(Z33*1=Z33,Z33>0),1,0),IF(AND(Z33=TRUNC(Z33),Z33>0),1,0),1,IF(ISNA(HLOOKUP(Z33,$AT$4:$BC$4,1,0)),0,1)),0))) -> 1 | BS33: =IF(OR(AG$30="",AG$4=99),1,IF(AG33="",0,IFERROR(CHOOSE(BS$28,IF(ISNA(MATCH(AG33,$AQ$30:$AR$30,0)),0,1),IF(ISNUMBER(AG33),1,0),IF(AG33=TRUNC(AG33),1,0),IF(AND(AG33*1=AG33,AG33>=0),1,0),IF(AND(AG33=TRUNC(AG33),AG33>=0),1,0),IF(AND(AG33*1=AG33,AG33>0),1,0),IF(AND(AG33=TRUNC(AG33),AG33>0),1,0),1,IF(ISNA(HLOOKUP(AG33,$AT$4:$BC$4,1,0)),0,1)),0))) -> 1 | BT33: =IF(OR(AH$30="",AH$4=99),1,IF(AH33="",0,IFERROR(CHOOSE(BT$28,IF(ISNA(MATCH(AH33,$AQ$30:$AR$30,0)),0,1),IF(ISNUMBER(AH33),1,0),IF(AH33=TRUNC(AH33),1,0),IF(AND(AH33*1=AH33,AH33>=0),1,0),IF(AND(AH33=TRUNC(AH33),AH33>=0),1,0),IF(AND(AH33*1=AH33,AH33>0),1,0),IF(AND(AH33=TRUNC(AH33),AH33>0),1,0),1,IF(ISNA(HLOOKUP(AH33,$AT$4:$BC$4,1,0)),0,1)),0))) -> 1 | CE33: =IF($F33="","",CE$30) -> 1 | CF33: =IF($F33="","",CF$30) -> 2 | CG33: =IF($F33="","",CG$30) -> 3 | CH33: =IF($F33="","",CH$30) -> 4 | CI33: =IF($F33="","",CI$30) -> 5 | CJ33: =IF($F33="","",CJ$30) -> 6 | CK33: =IF($F33="","",CK$30) -> 7 | CL33: =IF($F33="","",CL$30) -> 8 | ... CN33: =IF($F33="","",CN$30) -> 10 | CT33: =OR(U33>=CT$5,X33>=$U$7,W33=1) -> TRUE | CU33: =OR(V33>=CU$5,INDEX('הוראת שעה'!$D$6:$D$20,MATCH($AO$2,'הוראת שעה'!$A$6:$A$20,1))=99) -> TRUE | CV33: =X33>=CV$5 -> TRUE | CZ33: =COUNTIF(CT33:CX33,TRUE) -> 3 | DA33: =OR(Q33>=DA$5,X33>=$U$7,W33=1) -> TRUE | DB33: =OR(V33>=DB$5,Z33=1,INDEX('הוראת שעה'!$D$6:$D$20,MATCH($AO$2,'הוראת שעה'!$A$6:$A$20,1))=99) -> TRUE | DC33: =X33>=DC$5 -> TRUE | DH33: =COUNTIF(DA33:DG33,TRUE) -> 3 | DI33: =IF($F33="","",IF(CZ33=$CU$3,1,0)) -> 1 | DJ33: =IF($F33="","",IF(AND(DH33=$CU$3,DH33-CZ33<=$DB$3),1,0)) -> 1
B34: =IF(F34="","",ROW()-30) -> 4 | F34: =IF('קהילות שרות פיוט וניגון'!$F$1="4","",'קהילות שרות פיוט וניגון'!$F$1) -> קהילות שרות פיוט וניגון | G34: 1 | H34: 1 | I34: 1 | J34: 1 | K34: 1 | L34: 1 | M34: 1 | N34: 1 | O34: 1 | P34: 1 | Q34: 1 | R34: 1 | S34: 1233764 | T34: 754528 | U34: =IF($F34="","",IF(T34>S34,$AQ$1,IFERROR(T34/S34,$AQ$1))) -> 0.61156591 | V34: 4 | W34: 0 | X34: 944161 | Y34: 1 | AE34: =IF($F34="","",IF(OR(DI34=1,AND(DJ34=1,Z34=1)),1,0)) -> 1 | AF34: 1 | AG34: 1 | AH34: 1 | AI34: =IF(F34="","",IF(G34>=$G$5,1,0)) -> 1 | AN34: =IF($F34="","",IF(AJ34=1,1,IF(AP34<>1,$AQ$1,IF(SUMPRODUCT(--(G34:AI34>=$G$5:$AI$5)*($G$5:$AI$5<>"")*($G$4:$AI$4=1))=COUNTIF($G$4:$AI$4,1),1,0)))) -> 1 | AO34: עומד בתנאי סף אמנותי ובתנאי הסף הכמותיים | AP34: =IF(OR(SUM(AS34:BZ34)<>COUNT(AS34:BZ34),SUMPRODUCT(--(G34:AI34=$AQ$1))<>0),0,1) -> 1 | AQ34: =IF($F34="","",AQ$30) -> 0 | AR34: =IF($F34="","",AR$30) -> 1 | AS34: =IF(OR(G$30="",G$4=99),1,IF(G34="",0,IFERROR(CHOOSE(AS$28,IF(ISNA(MATCH(G34,$AQ$30:$AR$30,0)),0,1),IF(ISNUMBER(G34),1,0),IF(G34=TRUNC(G34),1,0),IF(AND(G34*1=G34,G34>=0),1,0),IF(AND(G34=TRUNC(G34),G34>=0),1,0),IF(AND(G34*1=G34,G34>0),1,0),IF(AND(G34=TRUNC(G34),G34>0),1,0),1,IF(ISNA(HLOOKUP(G34,$AT$4:$BC$4,1,0)),0,1)),0))) -> 1 | AT34: =IF(OR(H$30="",H$4=99),1,IF(H34="",0,IFERROR(CHOOSE(AT$28,IF(ISNA(MATCH(H34,$AQ$30:$AR$30,0)),0,1),IF(ISNUMBER(H34),1,0),IF(H34=TRUNC(H34),1,0),IF(AND(H34*1=H34,H34>=0),1,0),IF(AND(H34=TRUNC(H34),H34>=0),1,0),IF(AND(H34*1=H34,H34>0),1,0),IF(AND(H34=TRUNC(H34),H34>0),1,0),1,IF(ISNA(HLOOKUP(H34,$AT$4:$BC$4,1,0)),0,1)),0))) -> 1 | AU34: =IF(OR(I$30="",I$4=99),1,IF(I34="",0,IFERROR(CHOOSE(AU$28,IF(ISNA(MATCH(I34,$AQ$30:$AR$30,0)),0,1),IF(ISNUMBER(I34),1,0),IF(I34=TRUNC(I34),1,0),IF(AND(I34*1=I34,I34>=0),1,0),IF(AND(I34=TRUNC(I34),I34>=0),1,0),IF(AND(I34*1=I34,I34>0),1,0),IF(AND(I34=TRUNC(I34),I34>0),1,0),1,IF(ISNA(HLOOKUP(I34,$AT$4:$BC$4,1,0)),0,1)),0))) -> 1 | AV34: =IF(OR(J$30="",J$4=99),1,IF(J34="",0,IFERROR(CHOOSE(AV$28,IF(ISNA(MATCH(J34,$AQ$30:$AR$30,0)),0,1),IF(ISNUMBER(J34),1,0),IF(J34=TRUNC(J34),1,0),IF(AND(J34*1=J34,J34>=0),1,0),IF(AND(J34=TRUNC(J34),J34>=0),1,0),IF(AND(J34*1=J34,J34>0),1,0),IF(AND(J34=TRUNC(J34),J34>0),1,0),1,IF(ISNA(HLOOKUP(J34,$AT$4:$BC$4,1,0)),0,1)),0))) -> 1 | AW34: =IF(OR(K$30="",K$4=99),1,IF(K34="",0,IFERROR(CHOOSE(AW$28,IF(ISNA(MATCH(K34,$AQ$30:$AR$30,0)),0,1),IF(ISNUMBER(K34),1,0),IF(K34=TRUNC(K34),1,0),IF(AND(K34*1=K34,K34>=0),1,0),IF(AND(K34=TRUNC(K34),K34>=0),1,0),IF(AND(K34*1=K34,K34>0),1,0),IF(AND(K34=TRUNC(K34),K34>0),1,0),1,IF(ISNA(HLOOKUP(K34,$AT$4:$BC$4,1,0)),0,1)),0))) -> 1 | AX34: =IF(OR(L$30="",L$4=99),1,IF(L34="",0,IFERROR(CHOOSE(AX$28,IF(ISNA(MATCH(L34,$AQ$30:$AR$30,0)),0,1),IF(ISNUMBER(L34),1,0),IF(L34=TRUNC(L34),1,0),IF(AND(L34*1=L34,L34>=0),1,0),IF(AND(L34=TRUNC(L34),L34>=0),1,0),IF(AND(L34*1=L34,L34>0),1,0),IF(AND(L34=TRUNC(L34),L34>0),1,0),1,IF(ISNA(HLOOKUP(L34,$AT$4:$BC$4,1,0)),0,1)),0))) -> 1 | AY34: =IF(OR(M$30="",M$4=99),1,IF(M34="",0,IFERROR(CHOOSE(AY$28,IF(ISNA(MATCH(M34,$AQ$30:$AR$30,0)),0,1),IF(ISNUMBER(M34),1,0),IF(M34=TRUNC(M34),1,0),IF(AND(M34*1=M34,M34>=0),1,0),IF(AND(M34=TRUNC(M34),M34>=0),1,0),IF(AND(M34*1=M34,M34>0),1,0),IF(AND(M34=TRUNC(M34),M34>0),1,0),1,IF(ISNA(HLOOKUP(M34,$AT$4:$BC$4,1,0)),0,1)),0))) -> 1 | AZ34: =IF(OR(N$30="",N$4=99),1,IF(N34="",0,IFERROR(CHOOSE(AZ$28,IF(ISNA(MATCH(N34,$AQ$30:$AR$30,0)),0,1),IF(ISNUMBER(N34),1,0),IF(N34=TRUNC(N34),1,0),IF(AND(N34*1=N34,N34>=0),1,0),IF(AND(N34=TRUNC(N34),N34>=0),1,0),IF(AND(N34*1=N34,N34>0),1,0),IF(AND(N34=TRUNC(N34),N34>0),1,0),1,IF(ISNA(HLOOKUP(N34,$AT$4:$BC$4,1,0)),0,1)),0))) -> 1 | ... BF34: =IF(OR(T$30="",T$4=99),1,IF(T34="",0,IFERROR(CHOOSE(BF$28,IF(ISNA(MATCH(T34,$AQ$30:$AR$30,0)),0,1),IF(ISNUMBER(T34),1,0),IF(T34=TRUNC(T34),1,0),IF(AND(T34*1=T34,T34>=0),1,0),IF(AND(T34=TRUNC(T34),T34>=0),1,0),IF(AND(T34*1=T34,T34>0),1,0),IF(AND(T34=TRUNC(T34),T34>0),1,0),1,IF(ISNA(HLOOKUP(T34,$AT$4:$BC$4,1,0)),0,1)),0))) -> 1 | BH34: =IF(OR(V$30="",V$4=99),1,IF(V34="",0,IFERROR(CHOOSE(BH$28,IF(ISNA(MATCH(V34,$AQ$30:$AR$30,0)),0,1),IF(ISNUMBER(V34),1,0),IF(V34=TRUNC(V34),1,0),IF(AND(V34*1=V34,V34>=0),1,0),IF(AND(V34=TRUNC(V34),V34>=0),1,0),IF(AND(V34*1=V34,V34>0),1,0),IF(AND(V34=TRUNC(V34),V34>0),1,0),1,IF(ISNA(HLOOKUP(V34,$AT$4:$BC$4,1,0)),0,1)),0))) -> 1 | BI34: =IF(OR(W$30="",W$4=99),1,IF(W34="",0,IFERROR(CHOOSE(BI$28,IF(ISNA(MATCH(W34,$AQ$30:$AR$30,0)),0,1),IF(ISNUMBER(W34),1,0),IF(W34=TRUNC(W34),1,0),IF(AND(W34*1=W34,W34>=0),1,0),IF(AND(W34=TRUNC(W34),W34>=0),1,0),IF(AND(W34*1=W34,W34>0),1,0),IF(AND(W34=TRUNC(W34),W34>0),1,0),1,IF(ISNA(HLOOKUP(W34,$AT$4:$BC$4,1,0)),0,1)),0))) -> 1 | BJ34: =IF(OR(X$30="",X$4=99),1,IF(X34="",0,IFERROR(CHOOSE(BJ$28,IF(ISNA(MATCH(X34,$AQ$30:$AR$30,0)),0,1),IF(ISNUMBER(X34),1,0),IF(X34=TRUNC(X34),1,0),IF(AND(X34*1=X34,X34>=0),1,0),IF(AND(X34=TRUNC(X34),X34>=0),1,0),IF(AND(X34*1=X34,X34>0),1,0),IF(AND(X34=TRUNC(X34),X34>0),1,0),1,IF(ISNA(HLOOKUP(X34,$AT$4:$BC$4,1,0)),0,1)),0))) -> 1 | BK34: =IF(OR(Y$30="",Y$4=99),1,IF(Y34="",0,IFERROR(CHOOSE(BK$28,IF(ISNA(MATCH(Y34,$AQ$30:$AR$30,0)),0,1),IF(ISNUMBER(Y34),1,0),IF(Y34=TRUNC(Y34),1,0),IF(AND(Y34*1=Y34,Y34>=0),1,0),IF(AND(Y34=TRUNC(Y34),Y34>=0),1,0),IF(AND(Y34*1=Y34,Y34>0),1,0),IF(AND(Y34=TRUNC(Y34),Y34>0),1,0),1,IF(ISNA(HLOOKUP(Y34,$AT$4:$BC$4,1,0)),0,1)),0))) -> 1 | BL34: =IF(OR(Z$30="",Z$4=99),1,IF(Z34="",0,IFERROR(CHOOSE(BL$28,IF(ISNA(MATCH(Z34,$AQ$30:$AR$30,0)),0,1),IF(ISNUMBER(Z34),1,0),IF(Z34=TRUNC(Z34),1,0),IF(AND(Z34*1=Z34,Z34>=0),1,0),IF(AND(Z34=TRUNC(Z34),Z34>=0),1,0),IF(AND(Z34*1=Z34,Z34>0),1,0),IF(AND(Z34=TRUNC(Z34),Z34>0),1,0),1,IF(ISNA(HLOOKUP(Z34,$AT$4:$BC$4,1,0)),0,1)),0))) -> 1 | BS34: =IF(OR(AG$30="",AG$4=99),1,IF(AG34="",0,IFERROR(CHOOSE(BS$28,IF(ISNA(MATCH(AG34,$AQ$30:$AR$30,0)),0,1),IF(ISNUMBER(AG34),1,0),IF(AG34=TRUNC(AG34),1,0),IF(AND(AG34*1=AG34,AG34>=0),1,0),IF(AND(AG34=TRUNC(AG34),AG34>=0),1,0),IF(AND(AG34*1=AG34,AG34>0),1,0),IF(AND(AG34=TRUNC(AG34),AG34>0),1,0),1,IF(ISNA(HLOOKUP(AG34,$AT$4:$BC$4,1,0)),0,1)),0))) -> 1 | BT34: =IF(OR(AH$30="",AH$4=99),1,IF(AH34="",0,IFERROR(CHOOSE(BT$28,IF(ISNA(MATCH(AH34,$AQ$30:$AR$30,0)),0,1),IF(ISNUMBER(AH34),1,0),IF(AH34=TRUNC(AH34),1,0),IF(AND(AH34*1=AH34,AH34>=0),1,0),IF(AND(AH34=TRUNC(AH34),AH34>=0),1,0),IF(AND(AH34*1=AH34,AH34>0),1,0),IF(AND(AH34=TRUNC(AH34),AH34>0),1,0),1,IF(ISNA(HLOOKUP(AH34,$AT$4:$BC$4,1,0)),0,1)),0))) -> 1 | CE34: =IF($F34="","",CE$30) -> 1 | CF34: =IF($F34="","",CF$30) -> 2 | CG34: =IF($F34="","",CG$30) -> 3 | CH34: =IF($F34="","",CH$30) -> 4 | CI34: =IF($F34="","",CI$30) -> 5 | CJ34: =IF($F34="","",CJ$30) -> 6 | CK34: =IF($F34="","",CK$30) -> 7 | CL34: =IF($F34="","",CL$30) -> 8 | ... CN34: =IF($F34="","",CN$30) -> 10 | CT34: =OR(U34>=CT$5,X34>=$U$7,W34=1) -> TRUE | CU34: =OR(V34>=CU$5,INDEX('הוראת שעה'!$D$6:$D$20,MATCH($AO$2,'הוראת שעה'!$A$6:$A$20,1))=99) -> TRUE | CV34: =X34>=CV$5 -> TRUE | CZ34: =COUNTIF(CT34:CX34,TRUE) -> 3 | DA34: =OR(Q34>=DA$5,X34>=$U$7,W34=1) -> TRUE | DB34: =OR(V34>=DB$5,Z34=1,INDEX('הוראת שעה'!$D$6:$D$20,MATCH($AO$2,'הוראת שעה'!$A$6:$A$20,1))=99) -> TRUE | DC34: =X34>=DC$5 -> TRUE | DH34: =COUNTIF(DA34:DG34,TRUE) -> 3 | DI34: =IF($F34="","",IF(CZ34=$CU$3,1,0)) -> 1 | DJ34: =IF($F34="","",IF(AND(DH34=$CU$3,DH34-CZ34<=$DB$3),1,0)) -> 1
B35: =IF(F35="","",ROW()-30) -> 5 | F35: =IF('רננות- המכון למוסיקה יהודית'!$F$1="5","",'רננות- המכון למוסיקה יהודית'!$F$1) -> רננות- המכון למוסיקה יהודית | G35: 1 | H35: 1 | I35: 1 | J35: 1 | K35: 1 | L35: 1 | M35: 1 | N35: 1 | O35: 1 | P35: 1 | Q35: 1 | R35: 1 | S35: 2461852 | T35: 1382537 | U35: =IF($F35="","",IF(T35>S35,$AQ$1,IFERROR(T35/S35,$AQ$1))) -> 0.56158412 | V35: 3 | W35: 1 | X35: 750000 | Y35: 1 | AE35: =IF($F35="","",IF(OR(DI35=1,AND(DJ35=1,Z35=1)),1,0)) -> 1 | AF35: 1 | AG35: 1 | AH35: 1 | AI35: =IF(F35="","",IF(G35>=$G$5,1,0)) -> 1 | AN35: =IF($F35="","",IF(AJ35=1,1,IF(AP35<>1,$AQ$1,IF(SUMPRODUCT(--(G35:AI35>=$G$5:$AI$5)*($G$5:$AI$5<>"")*($G$4:$AI$4=1))=COUNTIF($G$4:$AI$4,1),1,0)))) -> 1 | AO35: עומד בתנאי סף אמנותי ובתנאי הסף הכמותיים | AP35: =IF(OR(SUM(AS35:BZ35)<>COUNT(AS35:BZ35),SUMPRODUCT(--(G35:AI35=$AQ$1))<>0),0,1) -> 1 | AQ35: =IF($F35="","",AQ$30) -> 0 | AR35: =IF($F35="","",AR$30) -> 1 | AS35: =IF(OR(G$30="",G$4=99),1,IF(G35="",0,IFERROR(CHOOSE(AS$28,IF(ISNA(MATCH(G35,$AQ$30:$AR$30,0)),0,1),IF(ISNUMBER(G35),1,0),IF(G35=TRUNC(G35),1,0),IF(AND(G35*1=G35,G35>=0),1,0),IF(AND(G35=TRUNC(G35),G35>=0),1,0),IF(AND(G35*1=G35,G35>0),1,0),IF(AND(G35=TRUNC(G35),G35>0),1,0),1,IF(ISNA(HLOOKUP(G35,$AT$4:$BC$4,1,0)),0,1)),0))) -> 1 | AT35: =IF(OR(H$30="",H$4=99),1,IF(H35="",0,IFERROR(CHOOSE(AT$28,IF(ISNA(MATCH(H35,$AQ$30:$AR$30,0)),0,1),IF(ISNUMBER(H35),1,0),IF(H35=TRUNC(H35),1,0),IF(AND(H35*1=H35,H35>=0),1,0),IF(AND(H35=TRUNC(H35),H35>=0),1,0),IF(AND(H35*1=H35,H35>0),1,0),IF(AND(H35=TRUNC(H35),H35>0),1,0),1,IF(ISNA(HLOOKUP(H35,$AT$4:$BC$4,1,0)),0,1)),0))) -> 1 | AU35: =IF(OR(I$30="",I$4=99),1,IF(I35="",0,IFERROR(CHOOSE(AU$28,IF(ISNA(MATCH(I35,$AQ$30:$AR$30,0)),0,1),IF(ISNUMBER(I35),1,0),IF(I35=TRUNC(I35),1,0),IF(AND(I35*1=I35,I35>=0),1,0),IF(AND(I35=TRUNC(I35),I35>=0),1,0),IF(AND(I35*1=I35,I35>0),1,0),IF(AND(I35=TRUNC(I35),I35>0),1,0),1,IF(ISNA(HLOOKUP(I35,$AT$4:$BC$4,1,0)),0,1)),0))) -> 1 | AV35: =IF(OR(J$30="",J$4=99),1,IF(J35="",0,IFERROR(CHOOSE(AV$28,IF(ISNA(MATCH(J35,$AQ$30:$AR$30,0)),0,1),IF(ISNUMBER(J35),1,0),IF(J35=TRUNC(J35),1,0),IF(AND(J35*1=J35,J35>=0),1,0),IF(AND(J35=TRUNC(J35),J35>=0),1,0),IF(AND(J35*1=J35,J35>0),1,0),IF(AND(J35=TRUNC(J35),J35>0),1,0),1,IF(ISNA(HLOOKUP(J35,$AT$4:$BC$4,1,0)),0,1)),0))) -> 1 | AW35: =IF(OR(K$30="",K$4=99),1,IF(K35="",0,IFERROR(CHOOSE(AW$28,IF(ISNA(MATCH(K35,$AQ$30:$AR$30,0)),0,1),IF(ISNUMBER(K35),1,0),IF(K35=TRUNC(K35),1,0),IF(AND(K35*1=K35,K35>=0),1,0),IF(AND(K35=TRUNC(K35),K35>=0),1,0),IF(AND(K35*1=K35,K35>0),1,0),IF(AND(K35=TRUNC(K35),K35>0),1,0),1,IF(ISNA(HLOOKUP(K35,$AT$4:$BC$4,1,0)),0,1)),0))) -> 1 | AX35: =IF(OR(L$30="",L$4=99),1,IF(L35="",0,IFERROR(CHOOSE(AX$28,IF(ISNA(MATCH(L35,$AQ$30:$AR$30,0)),0,1),IF(ISNUMBER(L35),1,0),IF(L35=TRUNC(L35),1,0),IF(AND(L35*1=L35,L35>=0),1,0),IF(AND(L35=TRUNC(L35),L35>=0),1,0),IF(AND(L35*1=L35,L35>0),1,0),IF(AND(L35=TRUNC(L35),L35>0),1,0),1,IF(ISNA(HLOOKUP(L35,$AT$4:$BC$4,1,0)),0,1)),0))) -> 1 | AY35: =IF(OR(M$30="",M$4=99),1,IF(M35="",0,IFERROR(CHOOSE(AY$28,IF(ISNA(MATCH(M35,$AQ$30:$AR$30,0)),0,1),IF(ISNUMBER(M35),1,0),IF(M35=TRUNC(M35),1,0),IF(AND(M35*1=M35,M35>=0),1,0),IF(AND(M35=TRUNC(M35),M35>=0),1,0),IF(AND(M35*1=M35,M35>0),1,0),IF(AND(M35=TRUNC(M35),M35>0),1,0),1,IF(ISNA(HLOOKUP(M35,$AT$4:$BC$4,1,0)),0,1)),0))) -> 1 | AZ35: =IF(OR(N$30="",N$4=99),1,IF(N35="",0,IFERROR(CHOOSE(AZ$28,IF(ISNA(MATCH(N35,$AQ$30:$AR$30,0)),0,1),IF(ISNUMBER(N35),1,0),IF(N35=TRUNC(N35),1,0),IF(AND(N35*1=N35,N35>=0),1,0),IF(AND(N35=TRUNC(N35),N35>=0),1,0),IF(AND(N35*1=N35,N35>0),1,0),IF(AND(N35=TRUNC(N35),N35>0),1,0),1,IF(ISNA(HLOOKUP(N35,$AT$4:$BC$4,1,0)),0,1)),0))) -> 1 | ... BF35: =IF(OR(T$30="",T$4=99),1,IF(T35="",0,IFERROR(CHOOSE(BF$28,IF(ISNA(MATCH(T35,$AQ$30:$AR$30,0)),0,1),IF(ISNUMBER(T35),1,0),IF(T35=TRUNC(T35),1,0),IF(AND(T35*1=T35,T35>=0),1,0),IF(AND(T35=TRUNC(T35),T35>=0),1,0),IF(AND(T35*1=T35,T35>0),1,0),IF(AND(T35=TRUNC(T35),T35>0),1,0),1,IF(ISNA(HLOOKUP(T35,$AT$4:$BC$4,1,0)),0,1)),0))) -> 1 | BH35: =IF(OR(V$30="",V$4=99),1,IF(V35="",0,IFERROR(CHOOSE(BH$28,IF(ISNA(MATCH(V35,$AQ$30:$AR$30,0)),0,1),IF(ISNUMBER(V35),1,0),IF(V35=TRUNC(V35),1,0),IF(AND(V35*1=V35,V35>=0),1,0),IF(AND(V35=TRUNC(V35),V35>=0),1,0),IF(AND(V35*1=V35,V35>0),1,0),IF(AND(V35=TRUNC(V35),V35>0),1,0),1,IF(ISNA(HLOOKUP(V35,$AT$4:$BC$4,1,0)),0,1)),0))) -> 1 | BI35: =IF(OR(W$30="",W$4=99),1,IF(W35="",0,IFERROR(CHOOSE(BI$28,IF(ISNA(MATCH(W35,$AQ$30:$AR$30,0)),0,1),IF(ISNUMBER(W35),1,0),IF(W35=TRUNC(W35),1,0),IF(AND(W35*1=W35,W35>=0),1,0),IF(AND(W35=TRUNC(W35),W35>=0),1,0),IF(AND(W35*1=W35,W35>0),1,0),IF(AND(W35=TRUNC(W35),W35>0),1,0),1,IF(ISNA(HLOOKUP(W35,$AT$4:$BC$4,1,0)),0,1)),0))) -> 1 | BJ35: =IF(OR(X$30="",X$4=99),1,IF(X35="",0,IFERROR(CHOOSE(BJ$28,IF(ISNA(MATCH(X35,$AQ$30:$AR$30,0)),0,1),IF(ISNUMBER(X35),1,0),IF(X35=TRUNC(X35),1,0),IF(AND(X35*1=X35,X35>=0),1,0),IF(AND(X35=TRUNC(X35),X35>=0),1,0),IF(AND(X35*1=X35,X35>0),1,0),IF(AND(X35=TRUNC(X35),X35>0),1,0),1,IF(ISNA(HLOOKUP(X35,$AT$4:$BC$4,1,0)),0,1)),0))) -> 1 | BK35: =IF(OR(Y$30="",Y$4=99),1,IF(Y35="",0,IFERROR(CHOOSE(BK$28,IF(ISNA(MATCH(Y35,$AQ$30:$AR$30,0)),0,1),IF(ISNUMBER(Y35),1,0),IF(Y35=TRUNC(Y35),1,0),IF(AND(Y35*1=Y35,Y35>=0),1,0),IF(AND(Y35=TRUNC(Y35),Y35>=0),1,0),IF(AND(Y35*1=Y35,Y35>0),1,0),IF(AND(Y35=TRUNC(Y35),Y35>0),1,0),1,IF(ISNA(HLOOKUP(Y35,$AT$4:$BC$4,1,0)),0,1)),0))) -> 1 | BL35: =IF(OR(Z$30="",Z$4=99),1,IF(Z35="",0,IFERROR(CHOOSE(BL$28,IF(ISNA(MATCH(Z35,$AQ$30:$AR$30,0)),0,1),IF(ISNUMBER(Z35),1,0),IF(Z35=TRUNC(Z35),1,0),IF(AND(Z35*1=Z35,Z35>=0),1,0),IF(AND(Z35=TRUNC(Z35),Z35>=0),1,0),IF(AND(Z35*1=Z35,Z35>0),1,0),IF(AND(Z35=TRUNC(Z35),Z35>0),1,0),1,IF(ISNA(HLOOKUP(Z35,$AT$4:$BC$4,1,0)),0,1)),0))) -> 1 | BS35: =IF(OR(AG$30="",AG$4=99),1,IF(AG35="",0,IFERROR(CHOOSE(BS$28,IF(ISNA(MATCH(AG35,$AQ$30:$AR$30,0)),0,1),IF(ISNUMBER(AG35),1,0),IF(AG35=TRUNC(AG35),1,0),IF(AND(AG35*1=AG35,AG35>=0),1,0),IF(AND(AG35=TRUNC(AG35),AG35>=0),1,0),IF(AND(AG35*1=AG35,AG35>0),1,0),IF(AND(AG35=TRUNC(AG35),AG35>0),1,0),1,IF(ISNA(HLOOKUP(AG35,$AT$4:$BC$4,1,0)),0,1)),0))) -> 1 | BT35: =IF(OR(AH$30="",AH$4=99),1,IF(AH35="",0,IFERROR(CHOOSE(BT$28,IF(ISNA(MATCH(AH35,$AQ$30:$AR$30,0)),0,1),IF(ISNUMBER(AH35),1,0),IF(AH35=TRUNC(AH35),1,0),IF(AND(AH35*1=AH35,AH35>=0),1,0),IF(AND(AH35=TRUNC(AH35),AH35>=0),1,0),IF(AND(AH35*1=AH35,AH35>0),1,0),IF(AND(AH35=TRUNC(AH35),AH35>0),1,0),1,IF(ISNA(HLOOKUP(AH35,$AT$4:$BC$4,1,0)),0,1)),0))) -> 1 | CE35: =IF($F35="","",CE$30) -> 1 | CF35: =IF($F35="","",CF$30) -> 2 | CG35: =IF($F35="","",CG$30) -> 3 | CH35: =IF($F35="","",CH$30) -> 4 | CI35: =IF($F35="","",CI$30) -> 5 | CJ35: =IF($F35="","",CJ$30) -> 6 | CK35: =IF($F35="","",CK$30) -> 7 | CL35: =IF($F35="","",CL$30) -> 8 | ... CN35: =IF($F35="","",CN$30) -> 10 | CT35: =OR(U35>=CT$5,X35>=$U$7,W35=1) -> TRUE | CU35: =OR(V35>=CU$5,INDEX('הוראת שעה'!$D$6:$D$20,MATCH($AO$2,'הוראת שעה'!$A$6:$A$20,1))=99) -> TRUE | CV35: =X35>=CV$5 -> TRUE | CZ35: =COUNTIF(CT35:CX35,TRUE) -> 3 | DA35: =OR(Q35>=DA$5,X35>=$U$7,W35=1) -> TRUE | DB35: =OR(V35>=DB$5,Z35=1,INDEX('הוראת שעה'!$D$6:$D$20,MATCH($AO$2,'הוראת שעה'!$A$6:$A$20,1))=99) -> TRUE | DC35: =X35>=DC$5 -> TRUE | DH35: =COUNTIF(DA35:DG35,TRUE) -> 3 | DI35: =IF($F35="","",IF(CZ35=$CU$3,1,0)) -> 1 | DJ35: =IF($F35="","",IF(AND(DH35=$CU$3,DH35-CZ35<=$DB$3),1,0)) -> 1
B36: =IF(F36="","",ROW()-30) -> 6 | F36: =IF('מקהלת זמרתיה'!$F$1="6","",'מקהלת זמרתיה'!$F$1) -> מקהלת זמרתיה | G36: 1 | H36: 1 | I36: 1 | J36: 1 | K36: 1 | L36: 1 | M36: 1 | N36: 1 | O36: 1 | P36: 1 | Q36: 1 | R36: 1 | S36: 331308 | T36: 331308 | U36: =IF($F36="","",IF(T36>S36,$AQ$1,IFERROR(T36/S36,$AQ$1))) -> 1 | V36: 2 | W36: 0 | X36: 329031 | Y36: 1 | AE36: =IF($F36="","",IF(OR(DI36=1,AND(DJ36=1,Z36=1)),1,0)) -> 1 | AF36: 1 | AG36: 1 | AH36: 1 | AI36: =IF(F36="","",IF(G36>=$G$5,1,0)) -> 1 | AN36: =IF($F36="","",IF(AJ36=1,1,IF(AP36<>1,$AQ$1,IF(SUMPRODUCT(--(G36:AI36>=$G$5:$AI$5)*($G$5:$AI$5<>"")*($G$4:$AI$4=1))=COUNTIF($G$4:$AI$4,1),1,0)))) -> 1 | AO36: עומד בתנאי סף אמנותי ובתנאי הסף הכמותיים | AP36: =IF(OR(SUM(AS36:BZ36)<>COUNT(AS36:BZ36),SUMPRODUCT(--(G36:AI36=$AQ$1))<>0),0,1) -> 1 | AQ36: =IF($F36="","",AQ$30) -> 0 | AR36: =IF($F36="","",AR$30) -> 1 | AS36: =IF(OR(G$30="",G$4=99),1,IF(G36="",0,IFERROR(CHOOSE(AS$28,IF(ISNA(MATCH(G36,$AQ$30:$AR$30,0)),0,1),IF(ISNUMBER(G36),1,0),IF(G36=TRUNC(G36),1,0),IF(AND(G36*1=G36,G36>=0),1,0),IF(AND(G36=TRUNC(G36),G36>=0),1,0),IF(AND(G36*1=G36,G36>0),1,0),IF(AND(G36=TRUNC(G36),G36>0),1,0),1,IF(ISNA(HLOOKUP(G36,$AT$4:$BC$4,1,0)),0,1)),0))) -> 1 | AT36: =IF(OR(H$30="",H$4=99),1,IF(H36="",0,IFERROR(CHOOSE(AT$28,IF(ISNA(MATCH(H36,$AQ$30:$AR$30,0)),0,1),IF(ISNUMBER(H36),1,0),IF(H36=TRUNC(H36),1,0),IF(AND(H36*1=H36,H36>=0),1,0),IF(AND(H36=TRUNC(H36),H36>=0),1,0),IF(AND(H36*1=H36,H36>0),1,0),IF(AND(H36=TRUNC(H36),H36>0),1,0),1,IF(ISNA(HLOOKUP(H36,$AT$4:$BC$4,1,0)),0,1)),0))) -> 1 | AU36: =IF(OR(I$30="",I$4=99),1,IF(I36="",0,IFERROR(CHOOSE(AU$28,IF(ISNA(MATCH(I36,$AQ$30:$AR$30,0)),0,1),IF(ISNUMBER(I36),1,0),IF(I36=TRUNC(I36),1,0),IF(AND(I36*1=I36,I36>=0),1,0),IF(AND(I36=TRUNC(I36),I36>=0),1,0),IF(AND(I36*1=I36,I36>0),1,0),IF(AND(I36=TRUNC(I36),I36>0),1,0),1,IF(ISNA(HLOOKUP(I36,$AT$4:$BC$4,1,0)),0,1)),0))) -> 1 | AV36: =IF(OR(J$30="",J$4=99),1,IF(J36="",0,IFERROR(CHOOSE(AV$28,IF(ISNA(MATCH(J36,$AQ$30:$AR$30,0)),0,1),IF(ISNUMBER(J36),1,0),IF(J36=TRUNC(J36),1,0),IF(AND(J36*1=J36,J36>=0),1,0),IF(AND(J36=TRUNC(J36),J36>=0),1,0),IF(AND(J36*1=J36,J36>0),1,0),IF(AND(J36=TRUNC(J36),J36>0),1,0),1,IF(ISNA(HLOOKUP(J36,$AT$4:$BC$4,1,0)),0,1)),0))) -> 1 | AW36: =IF(OR(K$30="",K$4=99),1,IF(K36="",0,IFERROR(CHOOSE(AW$28,IF(ISNA(MATCH(K36,$AQ$30:$AR$30,0)),0,1),IF(ISNUMBER(K36),1,0),IF(K36=TRUNC(K36),1,0),IF(AND(K36*1=K36,K36>=0),1,0),IF(AND(K36=TRUNC(K36),K36>=0),1,0),IF(AND(K36*1=K36,K36>0),1,0),IF(AND(K36=TRUNC(K36),K36>0),1,0),1,IF(ISNA(HLOOKUP(K36,$AT$4:$BC$4,1,0)),0,1)),0))) -> 1 | AX36: =IF(OR(L$30="",L$4=99),1,IF(L36="",0,IFERROR(CHOOSE(AX$28,IF(ISNA(MATCH(L36,$AQ$30:$AR$30,0)),0,1),IF(ISNUMBER(L36),1,0),IF(L36=TRUNC(L36),1,0),IF(AND(L36*1=L36,L36>=0),1,0),IF(AND(L36=TRUNC(L36),L36>=0),1,0),IF(AND(L36*1=L36,L36>0),1,0),IF(AND(L36=TRUNC(L36),L36>0),1,0),1,IF(ISNA(HLOOKUP(L36,$AT$4:$BC$4,1,0)),0,1)),0))) -> 1 | AY36: =IF(OR(M$30="",M$4=99),1,IF(M36="",0,IFERROR(CHOOSE(AY$28,IF(ISNA(MATCH(M36,$AQ$30:$AR$30,0)),0,1),IF(ISNUMBER(M36),1,0),IF(M36=TRUNC(M36),1,0),IF(AND(M36*1=M36,M36>=0),1,0),IF(AND(M36=TRUNC(M36),M36>=0),1,0),IF(AND(M36*1=M36,M36>0),1,0),IF(AND(M36=TRUNC(M36),M36>0),1,0),1,IF(ISNA(HLOOKUP(M36,$AT$4:$BC$4,1,0)),0,1)),0))) -> 1 | AZ36: =IF(OR(N$30="",N$4=99),1,IF(N36="",0,IFERROR(CHOOSE(AZ$28,IF(ISNA(MATCH(N36,$AQ$30:$AR$30,0)),0,1),IF(ISNUMBER(N36),1,0),IF(N36=TRUNC(N36),1,0),IF(AND(N36*1=N36,N36>=0),1,0),IF(AND(N36=TRUNC(N36),N36>=0),1,0),IF(AND(N36*1=N36,N36>0),1,0),IF(AND(N36=TRUNC(N36),N36>0),1,0),1,IF(ISNA(HLOOKUP(N36,$AT$4:$BC$4,1,0)),0,1)),0))) -> 1 | ... BF36: =IF(OR(T$30="",T$4=99),1,IF(T36="",0,IFERROR(CHOOSE(BF$28,IF(ISNA(MATCH(T36,$AQ$30:$AR$30,0)),0,1),IF(ISNUMBER(T36),1,0),IF(T36=TRUNC(T36),1,0),IF(AND(T36*1=T36,T36>=0),1,0),IF(AND(T36=TRUNC(T36),T36>=0),1,0),IF(AND(T36*1=T36,T36>0),1,0),IF(AND(T36=TRUNC(T36),T36>0),1,0),1,IF(ISNA(HLOOKUP(T36,$AT$4:$BC$4,1,0)),0,1)),0))) -> 1 | BH36: =IF(OR(V$30="",V$4=99),1,IF(V36="",0,IFERROR(CHOOSE(BH$28,IF(ISNA(MATCH(V36,$AQ$30:$AR$30,0)),0,1),IF(ISNUMBER(V36),1,0),IF(V36=TRUNC(V36),1,0),IF(AND(V36*1=V36,V36>=0),1,0),IF(AND(V36=TRUNC(V36),V36>=0),1,0),IF(AND(V36*1=V36,V36>0),1,0),IF(AND(V36=TRUNC(V36),V36>0),1,0),1,IF(ISNA(HLOOKUP(V36,$AT$4:$BC$4,1,0)),0,1)),0))) -> 1 | BI36: =IF(OR(W$30="",W$4=99),1,IF(W36="",0,IFERROR(CHOOSE(BI$28,IF(ISNA(MATCH(W36,$AQ$30:$AR$30,0)),0,1),IF(ISNUMBER(W36),1,0),IF(W36=TRUNC(W36),1,0),IF(AND(W36*1=W36,W36>=0),1,0),IF(AND(W36=TRUNC(W36),W36>=0),1,0),IF(AND(W36*1=W36,W36>0),1,0),IF(AND(W36=TRUNC(W36),W36>0),1,0),1,IF(ISNA(HLOOKUP(W36,$AT$4:$BC$4,1,0)),0,1)),0))) -> 1 | BJ36: =IF(OR(X$30="",X$4=99),1,IF(X36="",0,IFERROR(CHOOSE(BJ$28,IF(ISNA(MATCH(X36,$AQ$30:$AR$30,0)),0,1),IF(ISNUMBER(X36),1,0),IF(X36=TRUNC(X36),1,0),IF(AND(X36*1=X36,X36>=0),1,0),IF(AND(X36=TRUNC(X36),X36>=0),1,0),IF(AND(X36*1=X36,X36>0),1,0),IF(AND(X36=TRUNC(X36),X36>0),1,0),1,IF(ISNA(HLOOKUP(X36,$AT$4:$BC$4,1,0)),0,1)),0))) -> 1 | BK36: =IF(OR(Y$30="",Y$4=99),1,IF(Y36="",0,IFERROR(CHOOSE(BK$28,IF(ISNA(MATCH(Y36,$AQ$30:$AR$30,0)),0,1),IF(ISNUMBER(Y36),1,0),IF(Y36=TRUNC(Y36),1,0),IF(AND(Y36*1=Y36,Y36>=0),1,0),IF(AND(Y36=TRUNC(Y36),Y36>=0),1,0),IF(AND(Y36*1=Y36,Y36>0),1,0),IF(AND(Y36=TRUNC(Y36),Y36>0),1,0),1,IF(ISNA(HLOOKUP(Y36,$AT$4:$BC$4,1,0)),0,1)),0))) -> 1 | BL36: =IF(OR(Z$30="",Z$4=99),1,IF(Z36="",0,IFERROR(CHOOSE(BL$28,IF(ISNA(MATCH(Z36,$AQ$30:$AR$30,0)),0,1),IF(ISNUMBER(Z36),1,0),IF(Z36=TRUNC(Z36),1,0),IF(AND(Z36*1=Z36,Z36>=0),1,0),IF(AND(Z36=TRUNC(Z36),Z36>=0),1,0),IF(AND(Z36*1=Z36,Z36>0),1,0),IF(AND(Z36=TRUNC(Z36),Z36>0),1,0),1,IF(ISNA(HLOOKUP(Z36,$AT$4:$BC$4,1,0)),0,1)),0))) -> 1 | BS36: =IF(OR(AG$30="",AG$4=99),1,IF(AG36="",0,IFERROR(CHOOSE(BS$28,IF(ISNA(MATCH(AG36,$AQ$30:$AR$30,0)),0,1),IF(ISNUMBER(AG36),1,0),IF(AG36=TRUNC(AG36),1,0),IF(AND(AG36*1=AG36,AG36>=0),1,0),IF(AND(AG36=TRUNC(AG36),AG36>=0),1,0),IF(AND(AG36*1=AG36,AG36>0),1,0),IF(AND(AG36=TRUNC(AG36),AG36>0),1,0),1,IF(ISNA(HLOOKUP(AG36,$AT$4:$BC$4,1,0)),0,1)),0))) -> 1 | BT36: =IF(OR(AH$30="",AH$4=99),1,IF(AH36="",0,IFERROR(CHOOSE(BT$28,IF(ISNA(MATCH(AH36,$AQ$30:$AR$30,0)),0,1),IF(ISNUMBER(AH36),1,0),IF(AH36=TRUNC(AH36),1,0),IF(AND(AH36*1=AH36,AH36>=0),1,0),IF(AND(AH36=TRUNC(AH36),AH36>=0),1,0),IF(AND(AH36*1=AH36,AH36>0),1,0),IF(AND(AH36=TRUNC(AH36),AH36>0),1,0),1,IF(ISNA(HLOOKUP(AH36,$AT$4:$BC$4,1,0)),0,1)),0))) -> 1 | CE36: =IF($F36="","",CE$30) -> 1 | CF36: =IF($F36="","",CF$30) -> 2 | CG36: =IF($F36="","",CG$30) -> 3 | CH36: =IF($F36="","",CH$30) -> 4 | CI36: =IF($F36="","",CI$30) -> 5 | CJ36: =IF($F36="","",CJ$30) -> 6 | CK36: =IF($F36="","",CK$30) -> 7 | CL36: =IF($F36="","",CL$30) -> 8 | ... CN36: =IF($F36="","",CN$30) -> 10 | CT36: =OR(U36>=CT$5,X36>=$U$7,W36=1) -> TRUE | CU36: =OR(V36>=CU$5,INDEX('הוראת שעה'!$D$6:$D$20,MATCH($AO$2,'הוראת שעה'!$A$6:$A$20,1))=99) -> TRUE | CV36: =X36>=CV$5 -> TRUE | CZ36: =COUNTIF(CT36:CX36,TRUE) -> 3 | DA36: =OR(Q36>=DA$5,X36>=$U$7,W36=1) -> TRUE | DB36: =OR(V36>=DB$5,Z36=1,INDEX('הוראת שעה'!$D$6:$D$20,MATCH($AO$2,'הוראת שעה'!$A$6:$A$20,1))=99) -> TRUE | DC36: =X36>=DC$5 -> TRUE | DH36: =COUNTIF(DA36:DG36,TRUE) -> 3 | DI36: =IF($F36="","",IF(CZ36=$CU$3,1,0)) -> 1 | DJ36: =IF($F36="","",IF(AND(DH36=$CU$3,DH36-CZ36<=$DB$3),1,0)) -> 1
