Workbook

Sheet ProtectSettings
B1: 0.16412014
B2: 45383.482
A6: AllowFilterCheckBox
A7: AllowFormattingCheckBox
A8: AllowColumnFormattingCheckBox | B8: TRUE
A9: AllowRowFormattingCheckBox | B9: TRUE

Sheet הדרכה למשתמש
B2: הדרכה למשתמש
B4: תאריך בניית המודל | C4: 43282
B5: תאריך עדכון מודל | C5: 44752
B7: הערות חשובות: בעת עריכת המודל - חל איסור מוחלט לבצע גזירה והדבקה או העברה של תא ממקום למקום על ידי גרירה. אסור לבצע "הוספה" או "מחיקה" של שורות או עמודות יש לפתוח את המודל בגרסת אקסל 2010 לפחות. חל איסור לשמור את הקובץ בפורמט התואם אקסל 97-2003
B9: הוראת שעה/מעבר: | C9: 2019-2020
B11: הדרכה להזנת נתונים
B12: צבע התא | C12: מטרת התא | D12: דגש
B13: צהוב | C13: הזנת נתונים | D13: נדרש להזין מידע בהתאם להנחיות מבחן התמיכה, אי הזנה של תא יכולה להביא לידי שגיאה בתוצאות במודל. במקומות שבהם מזינים 0/1, אז המשמעות של 0 הוא "לא" ו-1 "כן"
B14: חום | C14: הצגת מידע | D14: תא שאיננו מיועד להזנה. תא זה מציג מידע עפ"י נוסחה קבועה ואין לשנות אותה.
B15: אדום | C15: התראת שגיאה | D15: קיימת שגיאה בהזנת נתונים באחד מהתאים המיועדים להזנה, נדרש להזין את הנתונים הנדרשים לפני קביעת גובה תמיכה סופי.
B17: את רשימת המוסדות יש להזין בגיליונות השמאליים של הקובץ הממוספרים מ1 עד 10 במקום שם הגיליון , גיליון שממוספר מ1-10 ואינו נמצא בשימוש אין לשנות את שם הגיליון הקיים כברירת מחדל (מספר סידורי). במידה והוחלט לא להשתמש בגיליון לאחר כתיבת השם, נדרש לשנות חזרה את שם הגיליון למספר סידורי
B33: ניהול גרסאות
B34: מספר גרסה | C34: תאריך עדכון גרסה | D34: תאריך גרסה של מבחן תמיכה | E34: התאמות נוספות של מבחן תמיכה

Sheet פרמטרים לקריטריונים
B2: מודל תמיכה - מוסיקה קולית מסורתית
B4: שנת תקציב | C4: 2025
B5: תקציב התמיכה | C5: 4026034
B9: הגדרות
B10: הגדרת שנה | C10: תאריך התחלה | D10: תאריך סיום
B11: שנת התמיכה/תקציב | C11: =DATE($C$4,1,1) -> 45658 | D11: =DATE($C$4,12,31) -> 46022
B12: שנת ההערכה | C12: =DATE($C$4-3,10,1) -> 44835 | D12: =DATE($C$4-2,9,30) -> 45199
B13: שנת התקציב המבוקר | C13: =DATE($C$4-3,1,1) -> 44562 | D13: =DATE($C$4-3,12,31) -> 44926
B14: שנה תקציבית קודמת | C14: =DATE($C$4-1,1,1) -> 45292 | D14: =DATE($C$4-1,12,31) -> 45657
B30: משקולות קריטריונים
B31: סעיף | C31: משקל
B32: משתנה מספר המבצעים | C32: 0.25
B33: משתנה מספר הקונצרטים | C33: 0.25
B34: משתנה רמת הביצוע | C34: 0.1
B35: משתנה מסלולים | C35: 0.2
B36: משתנה הכנסות עצמיות | C36: 0.15
B37: משתנה שימור ותיעוד | C37: 0.05
B58: סה"כ | C58: =SUM(C32:C57) -> 1
B60: ="פרמטרים לחישוב ניקוד משתנה "&$B$32 -> פרמטרים לחישוב ניקוד משתנה משתנה מספר המבצעים | F60: תנאי סף קונצרט
B61: סעיף | C61: ניקוד | F61: סעיף | G61: תנאי
B62: עבור כל מנצח, נגן, חזן או פייטן | C62: 1 | F62: מספר חזנים ופייטנים | G62: 4
B63: סעיף | C63: הגבלה | F63: מספר חזנים | G63: 1
B64: מספר מבצעים מקסימלי לקונצרט | C64: 80 | F64: מספר נגנים | G64: 3
F65: דקות שירה או נגינה | G65: 50
B80: ="פרמטרים לחישוב ניקוד משתנה "&$B$33 -> פרמטרים לחישוב ניקוד משתנה משתנה מספר הקונצרטים
B81: סעיף | C81: ניקוד
B82: עבור כל קונצרט | C82: 1
B83: בעד כל מספר מבצעים | C83: מקדם
B84: 10 | C84: 1.05
B85: סעיף | C85: מקדם
B86: שיעור מקסימלי של ניקוד מקונצרטים בחו"ל | C86: 0.1
B87: סעיף | C87: מקדם
B88: קונצרט עבור גוף שלישי שהמשרד תמך בו | C88: 0.5
B100: ="פרמטרים לחישוב ניקוד משתנה "&$B$34 -> פרמטרים לחישוב ניקוד משתנה משתנה רמת הביצוע
B101: רמת הביצוע | C101: ניקוד
B102: ללא ניקוד | C102: 0
B103: נאותה | C103: 2
B104: טובה | C104: 3
B105: טובה מאוד | C105: 4
B106: מצוינת | C106: 6
B120: ="פרמטרים לחישוב ניקוד משתנה "&$B$35 -> פרמטרים לחישוב ניקוד משתנה משתנה מסלולים
B121: מספר שנות לימוד למסלול ההכשרה הינו לפחות | C121: ניקוד
B122: 1 | C122: 1
B123: 2 | C123: 2
B124: 3 | C124: 3
B140: ="פרמטרים לחישוב ניקוד משתנה "&$B$36 -> פרמטרים לחישוב ניקוד משתנה משתנה הכנסות עצמיות
B141: שיעור ההכנסות העצמיות הינו לפחות | C141: ניקוד
B142: 0 | C142: 0
B143: 0.25 | C143: 1
B144: 0.35 | C144: 2
B145: 0.45 | C145: 4
B146: 0.5 | C146: 5
B147: 0.6 | C147: 6
B160: ="פרמטרים לחישוב ניקוד משתנה "&$B$37 -> פרמטרים לחישוב ניקוד משתנה משתנה שימור ותיעוד
B161: בעד כל תיעוד שאורכו | C161: ניקוד
B162: 30 דקות עד 50 דקות | C162: 1
B163: מעל 50 דקות | C163: 2
B180: ="פרמטרים לחישוב ניקוד משתנה "&$B$38 -> פרמטרים לחישוב ניקוד משתנה
B181: סעיף | C181: ניקוד
B182: א | C182: 1
B183: ב | C183: 2
B184: ג | C184: 3
B185: ד | C185: 4
B186: ה | C186: 5
B200: ="פרמטרים לחישוב ניקוד משתנה "&$B$39 -> פרמטרים לחישוב ניקוד משתנה
B201: סעיף | C201: ניקוד
B202: א | C202: 1
B203: ב | C203: 2
B204: ג | C204: 3
B205: ד | C205: 4
B206: ה | C206: 5
B220: ="פרמטרים לחישוב ניקוד משתנה "&$B$40 -> פרמטרים לחישוב ניקוד משתנה
B221: סעיף | C221: ניקוד
B222: א | C222: 1
B223: ב | C223: 2
B224: ג | C224: 3
B225: ד | C225: 4
B226: ה | C226: 5
B240: ="פרמטרים לחישוב ניקוד משתנה "&$B$41 -> פרמטרים לחישוב ניקוד משתנה
B241: סעיף | C241: ניקוד
B242: א | C242: 1
B243: ב | C243: 2
B244: ג | C244: 3
B245: ד | C245: 4
B246: ה | C246: 5
B260: ="פרמטרים לחישוב ניקוד משתנה "&$B$42 -> פרמטרים לחישוב ניקוד משתנה
B261: סעיף | C261: ניקוד
B262: א | C262: 1
B263: ב | C263: 2
B264: ג | C264: 3
B265: ד | C265: 4
B266: ה | C266: 5
B280: ="פרמטרים לחישוב ניקוד משתנה "&$B$43 -> פרמטרים לחישוב ניקוד משתנה
B281: סעיף | C281: ניקוד
B282: א | C282: 1
B283: ב | C283: 2
B284: ג | C284: 3
B285: ד | C285: 4
B286: ה | C286: 5
B300: ="פרמטרים לחישוב ניקוד משתנה "&$B$44 -> פרמטרים לחישוב ניקוד משתנה
...

Sheet הוראת שעה
A4: האם חלה הוראת השעה בשנה הספציפית
A5: שנה | B5: תנאי סף מטרות המוסד | C5: גובה הגנה | D5: כל גוף עובר רמה אמנותית | E5: ניקוד אוטומטי ברמת ביצוע
A6: 2019 | B6: 99 | C6: 0.85 | D6: 99 | E6: 1
A7: =A6+1 -> 2020 | B7: 1 | C7: 0 | D7: 99 | E7: 1
A8: =A7+1 -> 2021 | B8: 1 | C8: 0 | D8: 0 | E8: 0
A9: =A8+1 -> 2022 | B9: 1 | C9: 0 | D9: 0 | E9: 0
A10: =A9+1 -> 2023 | B10: 1 | C10: 0 | D10: 0 | E10: 0
A11: =A10+1 -> 2024 | B11: 1 | C11: 0 | D11: 0 | E11: 0
A12: =A11+1 -> 2025 | B12: 1 | C12: 0 | D12: 0 | E12: 0
A13: =A12+1 -> 2026 | B13: 1 | C13: 0 | D13: 0 | E13: 0
A14: =A13+1 -> 2027 | B14: 1 | C14: 0 | D14: 0 | E14: 0
A15: =A14+1 -> 2028 | B15: 1 | C15: 0 | D15: 0 | E15: 0
A16: =A15+1 -> 2029 | B16: 1 | C16: 0 | D16: 0 | E16: 0
A17: =A16+1 -> 2030 | B17: 1 | C17: 0 | D17: 0 | E17: 0
A18: =A17+1 -> 2031 | B18: 1 | C18: 0 | D18: 0 | E18: 0
... A20: =A19+1 -> 2033 | B20: 1 | C20: 0 | D20: 0 | E20: 0
B22: משפיע על תנאי סף - משנה את הדרישה לקיום תקציב מינימום | C22: משפיע על הגנה בגיליון פרמטרים לעיקרון חישוב התמיכה

Sheet תנאי סף
B1: =MID(CELL("filename",AR2),FIND("]",CELL("filename",AR2),1)+1,99) -> תנאי סף | AQ1: בדוק נתוני הזנה | AS1: סוגי בקרות | AT1: 0/1 | AU1: מספר | AV1: מספר שלם | AW1: מספר שאינו שלילי | AX1: מספר שלם שאינו שלילי | AY1: מספר חיובי | AZ1: מספר שלם חיובי | BA1: טקסט | BB1: טקסט מרשימה סגורה
AN2: ='פרמטרים לקריטריונים'!$B$4 -> שנת תקציב | AO2: ='פרמטרים לקריטריונים'!$C$4 -> 2025 | AT2: =IF(ISNA(MATCH(G31,$AQ$30:$AR$30,0)),0,1) -> 1 | AU2: =IF(IFERROR(G31*1,"bad")="bad",0,1) -> 1 | AV2: =IF(IFERROR(IF(G31=TRUNC(G31),1,"bad"),"bad")="bad",0,1) -> 1 | AW2: =IF(AND(IF(IFERROR(G31*1,"bad")="bad",0,1)=1,G31>=0),1,0) -> 1 | AX2: =IF(AND(IF(IFERROR(IF(G31=TRUNC(G31),1,"bad"),"bad")="bad",0,1)=1,G31>=0),1,0) -> 1 | AY2: =IF(AND(IF(IFERROR(G31*1,"bad")="bad",0,1)=1,G31>0),1,0) -> 1 | AZ2: =IF(AND(IF(IFERROR(IF(G31=TRUNC(G31),1,"bad"),"bad")="bad",0,1)=1,G31>0),1,0) -> 1 | BA2: 1 | BB2: =IF(IFERROR(HLOOKUP(G31,$CE$30:$CO$30,1,0),"bad")="bad",0,1) -> 1 | DA2: שיעור הקלה | DB2: 0.8
AN3: ='פרמטרים לקריטריונים'!$B$5 -> תקציב התמיכה | AO3: ='פרמטרים לקריטריונים'!$C$5 -> 4026034 | AS3: מספר בקרה | AT3: 1 | AU3: 2 | AV3: 3 | AW3: 4 | AX3: 5 | AY3: 6 | AZ3: 7 | BA3: 8 | BB3: 9 | CT3: מספר תנאים | CU3: 3 | DA3: הקלות מותרות | DB3: 1
F4: רלוונטי למבחן עמידה בתנאי סף? 1=רלוונטי. 0= לא רלוונטי אבל נדרשת בקרה על הזנת נתונים. 99= לא רלוונטי ולא נדרשת בקה על הזנת נתונים | G4: 1 | H4: =INDEX('הוראת שעה'!$B$6:$B$20,MATCH($AO$2,'הוראת שעה'!$A$6:$A$20,1)) -> 1 | I4: 1 | J4: 1 | K4: 1 | L4: 1 | M4: 1 | N4: 1 | O4: 1 | P4: 1 | Q4: 1 | R4: 1 | S4: 0 | T4: 0 | V4: =INDEX('הוראת שעה'!$D$6:$D$20,MATCH($AO$2,'הוראת שעה'!$A$6:$A$20,1)) -> 0 | W4: 99 | X4: 0 | Y4: 1 | Z4: 99 | AE4: 1 | AF4: 1 | AG4: 1 | AH4: 1 | AJ4: 99 | AS4: רשימה סגורה | AT4: 1 | AU4: 2 | AV4: 3 | AW4: 4 | AX4: 5 | AY4: 6 | AZ4: 7 | BA4: 8 | BB4: 9 | BC4: 10 | DA4: נדרש לפי הקלה
F5: מעבר תנאי סף- במידה ולא רלוונטי להשאיר ריק | G5: 1 | H5: 1 | I5: 1 | J5: 1 | K5: 1 | L5: 1 | M5: 1 | N5: 1 | O5: 1 | P5: 1 | Q5: 1 | R5: 1 | X5: 100000 | Y5: 1 | AE5: 1 | AF5: 1 | AG5: 1 | AH5: 1 | CT5: 0.6 | CU5: 2 | CV5: =X5 -> 100000 | DA5: =$DB$2*CT5 -> 0.48 | DB5: =$DB$2*CU5 -> 1.6 | DC5: =$DB$2*CV5 -> 80000
U6: תקציב הפותר
U7: 200000
F8: שורה אחרונה משומשת | G8: =SUMPRODUCT(MAX(($B:$B<>"")*(ROW(B:B)))) -> 41
F28: סעיף | G28: 4(א) | H28: 4(ג) | I28: 4(ב) | J28: 4(ד) | K28: 4(ה) | L28: 4(ו) | M28: 4(ז) | N28: 4(ח) | O28: 4(ט) | P28: 4(י) | Q28: 4(יא), (יג) | R28: 4(יב) | S28: 5(א)(1) | T28: 5(א)(1) | U28: 5(א)(1) | V28: 5(א)(2) | W28: 5(ד) | X28: 5(א)(3) | Y28: 5(א)(4) | Z28: 5(ב), (ג) | AG28: 5(ב) | AP28: =IF(SUM(AP31:AP130)=COUNT(AP31:AP130),1,0) -> 0 | AS28: =MATCH(G$30,$AT$1:$BB$1,0) -> 1 | AT28: =MATCH(H$30,$AT$1:$BB$1,0) -> 1 | AU28: =MATCH(I$30,$AT$1:$BB$1,0) -> 1 | AV28: =MATCH(J$30,$AT$1:$BB$1,0) -> 1 | AW28: =MATCH(K$30,$AT$1:$BB$1,0) -> 1 | AX28: =MATCH(L$30,$AT$1:$BB$1,0) -> 1 | AY28: =MATCH(M$30,$AT$1:$BB$1,0) -> 1 | AZ28: =MATCH(N$30,$AT$1:$BB$1,0) -> 1 | ... BZ28: =MATCH(AN$30,$AT$1:$BB$1,0) -> #N/A
A29: 100 | B29: מס"ד | C29: =COLUMN() -> 3 | D29: =COLUMN() -> 4 | E29: =COLUMN() -> 5 | F29: שם המוסד | G29: ="קיים פעילות בתחומי המוסיקה הקולית המסורתית ושירת הקודש היהודית שנתיים לפחות נכון ל-1/1/"&AO2 -> קיים פעילות בתחומי המוסיקה הקולית המסורתית ושירת הקודש היהודית שנתיים לפחות נכון ל-1/1/2025 | H29: מטרות המוסד עולות בקנה אחד עם מטרות התמיכה | I29: תקציב הפעילות מנוהל כמשק סגור | J29: המוסד עומד בדרישות הנוהל | K29: מציין בפרסומיו את תמיכת המשרד | L29: מקיים הוראות הדין | M29: פועל ביעילות ובתקורה מינימלית | N29: משתמש בכספי התמיכה למטרות שלשמן ניתנו | O29: הפעילות אינה חלק מתכנית לימודים | P29: הפעילות אינה ממומנת בדרך אחרת מתקציב המדינה | Q29: הגיש בקשה ודוחות בהתאם לנדרש לפי מבחנים אלה, הנחיות היועץ המשפטי לממשלה והוראות הנוהל | R29: מקיים הוראות החוק, מקפיד על ניהול תקין ושקיפות | S29: סך הוצאות כספיות שאינן הנהלה וכלליות של המוסד | T29: הוצאות כספיות שאינן הנהלה וכלליות ששימשו לביצוע קונצטרים של חזנות | U29: שיעור הוצאות ששימשו לפעילות חזנות | V29: ממוצע ניקוד רמה אמנותית | W29: מסגרת הגוף הקולי המסורתי פועלת כחלק ממוסד העוסק במגוון תחומים מנוהלת כמשק סגור עם הנהלה אמנותית נפרדת | X29: תקציב שנתי בשנת התקציב המבוקר ששימש לקונצרטים של חזנות | Y29: אינו מקבל תמיכה שוטפת בתחום הגופים הקוליים | Z29: הועדה ממליצה מעבר תנאי סף עם הקלה | AA29: קריטריון הקלה 2 | AB29: קריטריון הקלה 3 | AC29: קריטריון הקלה 4 | AD29: קריטריון הקלה 5 | AE29: עומד בתנאים לאור הקלות | AF29: במוסד בו מועסקים עובדים ביחסי עבודה, המוסד קבע תקנון למניעת הטרדה מינית ועומד בדרישות תקנה 8 לתקנות חובות מעסיק. המוסד צירף לבקשתו את התקנון ופרטים על ההתאמות בתקנון, פרסומו למסירתו. (במוסד בו אין מתכונת יחסי עבודה - יש לסמן 1 עבור תנאי זה) | AG29: התנאים צפויים להתקיים בשנת התמיכה על פי תכנית עבודה | AH29: עומד בתנאי סף כלליים אחרים | AJ29: מעבר תנאי סף-אישור מיוחד | AK29: ריק | AL29: ריק | AM29: ריק | AN29: מעבר תנאי סף | AO29: הערות | AP29: בקרה ראשית | AS29: ="בקרת "&G29 -> בקרת קיים פעילות בתחומי המוסיקה הקולית המסורתית ושירת הקודש היהודית שנתיים לפחות נכון ל-1/1/2025 | AT29: ="בקרת "&H29 -> בקרת מטרות המוסד עולות בקנה אחד עם מטרות התמיכה | AU29: ="בקרת "&I29 -> בקרת תקציב הפעילות מנוהל כמשק סגור | AV29: ="בקרת "&J29 -> בקרת המוסד עומד בדרישות הנוהל | AW29: ="בקרת "&K29 -> בקרת מציין בפרסומיו את תמיכת המשרד | AX29: ="בקרת "&L29 -> בקרת מקיים הוראות הדין | AY29: ="בקרת "&M29 -> בקרת פועל ביעילות ובתקורה מינימלית | AZ29: ="בקרת "&N29 -> בקרת משתמש בכספי התמיכה למטרות שלשמן ניתנו | ... BZ29: ="בקרת "&AN29 -> בקרת מעבר תנאי סף | CE29: רשימה סגורה | CT29: קריטריון הקלה 1 | CU29: קריטריון הקלה 2 | CV29: קריטריון הקלה 3 | CW29: קריטריון הקלה 4 | CX29: קריטריון הקלה 5 | DA29: קריטריון הקלה 1 | DB29: קריטריון הקלה 2 | DC29: קריטריון הקלה 3 | DD29: קריטריון הקלה 4 | DE29: קריטריון הקלה 5 | DH29: תנאים עם הקלה | DI29: עומד בתנאים ללא הקלות | DJ29: עומד בתנאים להקלות
G30: 0/1 | H30: 0/1 | I30: 0/1 | J30: 0/1 | K30: 0/1 | L30: 0/1 | M30: 0/1 | N30: 0/1 | O30: 0/1 | P30: 0/1 | Q30: 0/1 | R30: 0/1 | S30: מספר שאינו שלילי | T30: מספר שאינו שלילי | V30: מספר שלם שאינו שלילי | W30: 0/1 | X30: מספר שאינו שלילי | Y30: 0/1 | Z30: 0/1 | AF30: 0/1 | AG30: 0/1 | AH30: 0/1 | AO30: טקסט | AQ30: 0 | AR30: 1 | AS30: =G30 -> 0/1 | AT30: =H30 -> 0/1 | AU30: =I30 -> 0/1 | AV30: =J30 -> 0/1 | AW30: =K30 -> 0/1 | AX30: =L30 -> 0/1 | AY30: =M30 -> 0/1 | AZ30: =N30 -> 0/1 | ... BZ30: =AN30 -> 0 | CE30: =AT4 -> 1 | CF30: =AU4 -> 2 | CG30: =AV4 -> 3 | CH30: =AW4 -> 4 | CI30: =AX4 -> 5 | CJ30: =AY4 -> 6 | CK30: =AZ4 -> 7 | CL30: =BA4 -> 8 | ... CN30: =BC4 -> 10
B31: =IF(F31="","",ROW()-30) -> 1 | F31: =IF('מכון תא לחזנות'!$F$1="1","",'מכון תא לחזנות'!$F$1) -> מכון תא לחזנות | G31: 1 | H31: 1 | I31: 1 | J31: 1 | K31: 1 | L31: 1 | M31: 1 | N31: 1 | O31: 1 | P31: 1 | Q31: 1 | R31: 1 | S31: 926406 | T31: 926406 | U31: =IF($F31="","",IF(T31>S31,$AQ$1,IFERROR(T31/S31,$AQ$1))) -> 1 | V31: 4 | W31: 0 | X31: 425301 | Y31: 1 | AE31: =IF($F31="","",IF(OR(DI31=1,AND(DJ31=1,Z31=1)),1,0)) -> 1 | AF31: 1 | AG31: 1 | AH31: 1 | AI31: =IF(F31="","",IF(G31>=$G$5,1,0)) -> 1 | AN31: =IF($F31="","",IF(AJ31=1,1,IF(AP31<>1,$AQ$1,IF(SUMPRODUCT(--(G31:AI31>=$G$5:$AI$5)*($G$5:$AI$5<>"")*($G$4:$AI$4=1))=COUNTIF($G$4:$AI$4,1),1,0)))) -> 1 | AO31: עומדת בתנאי סף אמנותי ובתנאי הסף הכמותיים | AP31: =IF(OR(SUM(AS31:BZ31)<>COUNT(AS31:BZ31),SUMPRODUCT(--(G31:AI31=$AQ$1))<>0),0,1) -> 1 | AQ31: =IF($F31="","",AQ$30) -> 0 | AR31: =IF($F31="","",AR$30) -> 1 | AS31: =IF(OR(G$30="",G$4=99),1,IF(G31="",0,IFERROR(CHOOSE(AS$28,IF(ISNA(MATCH(G31,$AQ$30:$AR$30,0)),0,1),IF(ISNUMBER(G31),1,0),IF(G31=TRUNC(G31),1,0),IF(AND(G31*1=G31,G31>=0),1,0),IF(AND(G31=TRUNC(G31),G31>=0),1,0),IF(AND(G31*1=G31,G31>0),1,0),IF(AND(G31=TRUNC(G31),G31>0),1,0),1,IF(ISNA(HLOOKUP(G31,$AT$4:$BC$4,1,0)),0,1)),0))) -> 1 | AT31: =IF(OR(H$30="",H$4=99),1,IF(H31="",0,IFERROR(CHOOSE(AT$28,IF(ISNA(MATCH(H31,$AQ$30:$AR$30,0)),0,1),IF(ISNUMBER(H31),1,0),IF(H31=TRUNC(H31),1,0),IF(AND(H31*1=H31,H31>=0),1,0),IF(AND(H31=TRUNC(H31),H31>=0),1,0),IF(AND(H31*1=H31,H31>0),1,0),IF(AND(H31=TRUNC(H31),H31>0),1,0),1,IF(ISNA(HLOOKUP(H31,$AT$4:$BC$4,1,0)),0,1)),0))) -> 1 | AU31: =IF(OR(I$30="",I$4=99),1,IF(I31="",0,IFERROR(CHOOSE(AU$28,IF(ISNA(MATCH(I31,$AQ$30:$AR$30,0)),0,1),IF(ISNUMBER(I31),1,0),IF(I31=TRUNC(I31),1,0),IF(AND(I31*1=I31,I31>=0),1,0),IF(AND(I31=TRUNC(I31),I31>=0),1,0),IF(AND(I31*1=I31,I31>0),1,0),IF(AND(I31=TRUNC(I31),I31>0),1,0),1,IF(ISNA(HLOOKUP(I31,$AT$4:$BC$4,1,0)),0,1)),0))) -> 1 | AV31: =IF(OR(J$30="",J$4=99),1,IF(J31="",0,IFERROR(CHOOSE(AV$28,IF(ISNA(MATCH(J31,$AQ$30:$AR$30,0)),0,1),IF(ISNUMBER(J31),1,0),IF(J31=TRUNC(J31),1,0),IF(AND(J31*1=J31,J31>=0),1,0),IF(AND(J31=TRUNC(J31),J31>=0),1,0),IF(AND(J31*1=J31,J31>0),1,0),IF(AND(J31=TRUNC(J31),J31>0),1,0),1,IF(ISNA(HLOOKUP(J31,$AT$4:$BC$4,1,0)),0,1)),0))) -> 1 | AW31: =IF(OR(K$30="",K$4=99),1,IF(K31="",0,IFERROR(CHOOSE(AW$28,IF(ISNA(MATCH(K31,$AQ$30:$AR$30,0)),0,1),IF(ISNUMBER(K31),1,0),IF(K31=TRUNC(K31),1,0),IF(AND(K31*1=K31,K31>=0),1,0),IF(AND(K31=TRUNC(K31),K31>=0),1,0),IF(AND(K31*1=K31,K31>0),1,0),IF(AND(K31=TRUNC(K31),K31>0),1,0),1,IF(ISNA(HLOOKUP(K31,$AT$4:$BC$4,1,0)),0,1)),0))) -> 1 | AX31: =IF(OR(L$30="",L$4=99),1,IF(L31="",0,IFERROR(CHOOSE(AX$28,IF(ISNA(MATCH(L31,$AQ$30:$AR$30,0)),0,1),IF(ISNUMBER(L31),1,0),IF(L31=TRUNC(L31),1,0),IF(AND(L31*1=L31,L31>=0),1,0),IF(AND(L31=TRUNC(L31),L31>=0),1,0),IF(AND(L31*1=L31,L31>0),1,0),IF(AND(L31=TRUNC(L31),L31>0),1,0),1,IF(ISNA(HLOOKUP(L31,$AT$4:$BC$4,1,0)),0,1)),0))) -> 1 | AY31: =IF(OR(M$30="",M$4=99),1,IF(M31="",0,IFERROR(CHOOSE(AY$28,IF(ISNA(MATCH(M31,$AQ$30:$AR$30,0)),0,1),IF(ISNUMBER(M31),1,0),IF(M31=TRUNC(M31),1,0),IF(AND(M31*1=M31,M31>=0),1,0),IF(AND(M31=TRUNC(M31),M31>=0),1,0),IF(AND(M31*1=M31,M31>0),1,0),IF(AND(M31=TRUNC(M31),M31>0),1,0),1,IF(ISNA(HLOOKUP(M31,$AT$4:$BC$4,1,0)),0,1)),0))) -> 1 | AZ31: =IF(OR(N$30="",N$4=99),1,IF(N31="",0,IFERROR(CHOOSE(AZ$28,IF(ISNA(MATCH(N31,$AQ$30:$AR$30,0)),0,1),IF(ISNUMBER(N31),1,0),IF(N31=TRUNC(N31),1,0),IF(AND(N31*1=N31,N31>=0),1,0),IF(AND(N31=TRUNC(N31),N31>=0),1,0),IF(AND(N31*1=N31,N31>0),1,0),IF(AND(N31=TRUNC(N31),N31>0),1,0),1,IF(ISNA(HLOOKUP(N31,$AT$4:$BC$4,1,0)),0,1)),0))) -> 1 | ... BF31: =IF(OR(T$30="",T$4=99),1,IF(T31="",0,IFERROR(CHOOSE(BF$28,IF(ISNA(MATCH(T31,$AQ$30:$AR$30,0)),0,1),IF(ISNUMBER(T31),1,0),IF(T31=TRUNC(T31),1,0),IF(AND(T31*1=T31,T31>=0),1,0),IF(AND(T31=TRUNC(T31),T31>=0),1,0),IF(AND(T31*1=T31,T31>0),1,0),IF(AND(T31=TRUNC(T31),T31>0),1,0),1,IF(ISNA(HLOOKUP(T31,$AT$4:$BC$4,1,0)),0,1)),0))) -> 1 | BH31: =IF(OR(V$30="",V$4=99),1,IF(V31="",0,IFERROR(CHOOSE(BH$28,IF(ISNA(MATCH(V31,$AQ$30:$AR$30,0)),0,1),IF(ISNUMBER(V31),1,0),IF(V31=TRUNC(V31),1,0),IF(AND(V31*1=V31,V31>=0),1,0),IF(AND(V31=TRUNC(V31),V31>=0),1,0),IF(AND(V31*1=V31,V31>0),1,0),IF(AND(V31=TRUNC(V31),V31>0),1,0),1,IF(ISNA(HLOOKUP(V31,$AT$4:$BC$4,1,0)),0,1)),0))) -> 1 | BI31: =IF(OR(W$30="",W$4=99),1,IF(W31="",0,IFERROR(CHOOSE(BI$28,IF(ISNA(MATCH(W31,$AQ$30:$AR$30,0)),0,1),IF(ISNUMBER(W31),1,0),IF(W31=TRUNC(W31),1,0),IF(AND(W31*1=W31,W31>=0),1,0),IF(AND(W31=TRUNC(W31),W31>=0),1,0),IF(AND(W31*1=W31,W31>0),1,0),IF(AND(W31=TRUNC(W31),W31>0),1,0),1,IF(ISNA(HLOOKUP(W31,$AT$4:$BC$4,1,0)),0,1)),0))) -> 1 | BJ31: =IF(OR(X$30="",X$4=99),1,IF(X31="",0,IFERROR(CHOOSE(BJ$28,IF(ISNA(MATCH(X31,$AQ$30:$AR$30,0)),0,1),IF(ISNUMBER(X31),1,0),IF(X31=TRUNC(X31),1,0),IF(AND(X31*1=X31,X31>=0),1,0),IF(AND(X31=TRUNC(X31),X31>=0),1,0),IF(AND(X31*1=X31,X31>0),1,0),IF(AND(X31=TRUNC(X31),X31>0),1,0),1,IF(ISNA(HLOOKUP(X31,$AT$4:$BC$4,1,0)),0,1)),0))) -> 1 | BK31: =IF(OR(Y$30="",Y$4=99),1,IF(Y31="",0,IFERROR(CHOOSE(BK$28,IF(ISNA(MATCH(Y31,$AQ$30:$AR$30,0)),0,1),IF(ISNUMBER(Y31),1,0),IF(Y31=TRUNC(Y31),1,0),IF(AND(Y31*1=Y31,Y31>=0),1,0),IF(AND(Y31=TRUNC(Y31),Y31>=0),1,0),IF(AND(Y31*1=Y31,Y31>0),1,0),IF(AND(Y31=TRUNC(Y31),Y31>0),1,0),1,IF(ISNA(HLOOKUP(Y31,$AT$4:$BC$4,1,0)),0,1)),0))) -> 1 | BL31: =IF(OR(Z$30="",Z$4=99),1,IF(Z31="",0,IFERROR(CHOOSE(BL$28,IF(ISNA(MATCH(Z31,$AQ$30:$AR$30,0)),0,1),IF(ISNUMBER(Z31),1,0),IF(Z31=TRUNC(Z31),1,0),IF(AND(Z31*1=Z31,Z31>=0),1,0),IF(AND(Z31=TRUNC(Z31),Z31>=0),1,0),IF(AND(Z31*1=Z31,Z31>0),1,0),IF(AND(Z31=TRUNC(Z31),Z31>0),1,0),1,IF(ISNA(HLOOKUP(Z31,$AT$4:$BC$4,1,0)),0,1)),0))) -> 1 | BS31: =IF(OR(AG$30="",AG$4=99),1,IF(AG31="",0,IFERROR(CHOOSE(BS$28,IF(ISNA(MATCH(AG31,$AQ$30:$AR$30,0)),0,1),IF(ISNUMBER(AG31),1,0),IF(AG31=TRUNC(AG31),1,0),IF(AND(AG31*1=AG31,AG31>=0),1,0),IF(AND(AG31=TRUNC(AG31),AG31>=0),1,0),IF(AND(AG31*1=AG31,AG31>0),1,0),IF(AND(AG31=TRUNC(AG31),AG31>0),1,0),1,IF(ISNA(HLOOKUP(AG31,$AT$4:$BC$4,1,0)),0,1)),0))) -> 1 | BT31: =IF(OR(AH$30="",AH$4=99),1,IF(AH31="",0,IFERROR(CHOOSE(BT$28,IF(ISNA(MATCH(AH31,$AQ$30:$AR$30,0)),0,1),IF(ISNUMBER(AH31),1,0),IF(AH31=TRUNC(AH31),1,0),IF(AND(AH31*1=AH31,AH31>=0),1,0),IF(AND(AH31=TRUNC(AH31),AH31>=0),1,0),IF(AND(AH31*1=AH31,AH31>0),1,0),IF(AND(AH31=TRUNC(AH31),AH31>0),1,0),1,IF(ISNA(HLOOKUP(AH31,$AT$4:$BC$4,1,0)),0,1)),0))) -> 1 | CE31: =IF($F31="","",CE$30) -> 1 | CF31: =IF($F31="","",CF$30) -> 2 | CG31: =IF($F31="","",CG$30) -> 3 | CH31: =IF($F31="","",CH$30) -> 4 | CI31: =IF($F31="","",CI$30) -> 5 | CJ31: =IF($F31="","",CJ$30) -> 6 | CK31: =IF($F31="","",CK$30) -> 7 | CL31: =IF($F31="","",CL$30) -> 8 | ... CN31: =IF($F31="","",CN$30) -> 10 | CT31: =OR(U31>=CT$5,X31>=$U$7,W31=1) -> TRUE | CU31: =OR(V31>=CU$5,INDEX('הוראת שעה'!$D$6:$D$20,MATCH($AO$2,'הוראת שעה'!$A$6:$A$20,1))=99) -> TRUE | CV31: =X31>=CV$5 -> TRUE | CZ31: =COUNTIF(CT31:CX31,TRUE) -> 3 | DA31: =OR(Q31>=DA$5,X31>=$U$7,W31=1) -> TRUE | DB31: =OR(V31>=DB$5,Z31=1,INDEX('הוראת שעה'!$D$6:$D$20,MATCH($AO$2,'הוראת שעה'!$A$6:$A$20,1))=99) -> TRUE | DC31: =X31>=DC$5 -> TRUE | DH31: =COUNTIF(DA31:DG31,TRUE) -> 3 | DI31: =IF($F31="","",IF(CZ31=$CU$3,1,0)) -> 1 | DJ31: =IF($F31="","",IF(AND(DH31=$CU$3,DH31-CZ31<=$DB$3),1,0)) -> 1
B32: =IF(F32="","",ROW()-30) -> 2 | F32: =IF('המרכז לתרבות אנדלוסית ולפיוט'!$F$1="2","",'המרכז לתרבות אנדלוסית ולפיוט'!$F$1) -> המרכז לתרבות אנדלוסית ולפיוט | G32: 1 | H32: 1 | I32: 1 | J32: 1 | K32: 1 | L32: 1 | M32: 1 | N32: 1 | O32: 1 | P32: 1 | Q32: 1 | R32: 1 | S32: 11115314 | T32: 834643 | U32: =IF($F32="","",IF(T32>S32,$AQ$1,IFERROR(T32/S32,$AQ$1))) -> 0.075089467 | V32: 3 | W32: 1 | X32: 1169774 | Y32: 1 | AE32: =IF($F32="","",IF(OR(DI32=1,AND(DJ32=1,Z32=1)),1,0)) -> 1 | AF32: 1 | AG32: 1 | AH32: 1 | AI32: =IF(F32="","",IF(G32>=$G$5,1,0)) -> 1 | AN32: =IF($F32="","",IF(AJ32=1,1,IF(AP32<>1,$AQ$1,IF(SUMPRODUCT(--(G32:AI32>=$G$5:$AI$5)*($G$5:$AI$5<>"")*($G$4:$AI$4=1))=COUNTIF($G$4:$AI$4,1),1,0)))) -> 1 | AO32: עומדת בתנאי סף אמנותי ובתנאי הסף הכמותיים | AP32: =IF(OR(SUM(AS32:BZ32)<>COUNT(AS32:BZ32),SUMPRODUCT(--(G32:AI32=$AQ$1))<>0),0,1) -> 1 | AQ32: =IF($F32="","",AQ$30) -> 0 | AR32: =IF($F32="","",AR$30) -> 1 | AS32: =IF(OR(G$30="",G$4=99),1,IF(G32="",0,IFERROR(CHOOSE(AS$28,IF(ISNA(MATCH(G32,$AQ$30:$AR$30,0)),0,1),IF(ISNUMBER(G32),1,0),IF(G32=TRUNC(G32),1,0),IF(AND(G32*1=G32,G32>=0),1,0),IF(AND(G32=TRUNC(G32),G32>=0),1,0),IF(AND(G32*1=G32,G32>0),1,0),IF(AND(G32=TRUNC(G32),G32>0),1,0),1,IF(ISNA(HLOOKUP(G32,$AT$4:$BC$4,1,0)),0,1)),0))) -> 1 | AT32: =IF(OR(H$30="",H$4=99),1,IF(H32="",0,IFERROR(CHOOSE(AT$28,IF(ISNA(MATCH(H32,$AQ$30:$AR$30,0)),0,1),IF(ISNUMBER(H32),1,0),IF(H32=TRUNC(H32),1,0),IF(AND(H32*1=H32,H32>=0),1,0),IF(AND(H32=TRUNC(H32),H32>=0),1,0),IF(AND(H32*1=H32,H32>0),1,0),IF(AND(H32=TRUNC(H32),H32>0),1,0),1,IF(ISNA(HLOOKUP(H32,$AT$4:$BC$4,1,0)),0,1)),0))) -> 1 | AU32: =IF(OR(I$30="",I$4=99),1,IF(I32="",0,IFERROR(CHOOSE(AU$28,IF(ISNA(MATCH(I32,$AQ$30:$AR$30,0)),0,1),IF(ISNUMBER(I32),1,0),IF(I32=TRUNC(I32),1,0),IF(AND(I32*1=I32,I32>=0),1,0),IF(AND(I32=TRUNC(I32),I32>=0),1,0),IF(AND(I32*1=I32,I32>0),1,0),IF(AND(I32=TRUNC(I32),I32>0),1,0),1,IF(ISNA(HLOOKUP(I32,$AT$4:$BC$4,1,0)),0,1)),0))) -> 1 | AV32: =IF(OR(J$30="",J$4=99),1,IF(J32="",0,IFERROR(CHOOSE(AV$28,IF(ISNA(MATCH(J32,$AQ$30:$AR$30,0)),0,1),IF(ISNUMBER(J32),1,0),IF(J32=TRUNC(J32),1,0),IF(AND(J32*1=J32,J32>=0),1,0),IF(AND(J32=TRUNC(J32),J32>=0),1,0),IF(AND(J32*1=J32,J32>0),1,0),IF(AND(J32=TRUNC(J32),J32>0),1,0),1,IF(ISNA(HLOOKUP(J32,$AT$4:$BC$4,1,0)),0,1)),0))) -> 1 | AW32: =IF(OR(K$30="",K$4=99),1,IF(K32="",0,IFERROR(CHOOSE(AW$28,IF(ISNA(MATCH(K32,$AQ$30:$AR$30,0)),0,1),IF(ISNUMBER(K32),1,0),IF(K32=TRUNC(K32),1,0),IF(AND(K32*1=K32,K32>=0),1,0),IF(AND(K32=TRUNC(K32),K32>=0),1,0),IF(AND(K32*1=K32,K32>0),1,0),IF(AND(K32=TRUNC(K32),K32>0),1,0),1,IF(ISNA(HLOOKUP(K32,$AT$4:$BC$4,1,0)),0,1)),0))) -> 1 | AX32: =IF(OR(L$30="",L$4=99),1,IF(L32="",0,IFERROR(CHOOSE(AX$28,IF(ISNA(MATCH(L32,$AQ$30:$AR$30,0)),0,1),IF(ISNUMBER(L32),1,0),IF(L32=TRUNC(L32),1,0),IF(AND(L32*1=L32,L32>=0),1,0),IF(AND(L32=TRUNC(L32),L32>=0),1,0),IF(AND(L32*1=L32,L32>0),1,0),IF(AND(L32=TRUNC(L32),L32>0),1,0),1,IF(ISNA(HLOOKUP(L32,$AT$4:$BC$4,1,0)),0,1)),0))) -> 1 | AY32: =IF(OR(M$30="",M$4=99),1,IF(M32="",0,IFERROR(CHOOSE(AY$28,IF(ISNA(MATCH(M32,$AQ$30:$AR$30,0)),0,1),IF(ISNUMBER(M32),1,0),IF(M32=TRUNC(M32),1,0),IF(AND(M32*1=M32,M32>=0),1,0),IF(AND(M32=TRUNC(M32),M32>=0),1,0),IF(AND(M32*1=M32,M32>0),1,0),IF(AND(M32=TRUNC(M32),M32>0),1,0),1,IF(ISNA(HLOOKUP(M32,$AT$4:$BC$4,1,0)),0,1)),0))) -> 1 | AZ32: =IF(OR(N$30="",N$4=99),1,IF(N32="",0,IFERROR(CHOOSE(AZ$28,IF(ISNA(MATCH(N32,$AQ$30:$AR$30,0)),0,1),IF(ISNUMBER(N32),1,0),IF(N32=TRUNC(N32),1,0),IF(AND(N32*1=N32,N32>=0),1,0),IF(AND(N32=TRUNC(N32),N32>=0),1,0),IF(AND(N32*1=N32,N32>0),1,0),IF(AND(N32=TRUNC(N32),N32>0),1,0),1,IF(ISNA(HLOOKUP(N32,$AT$4:$BC$4,1,0)),0,1)),0))) -> 1 | ... BF32: =IF(OR(T$30="",T$4=99),1,IF(T32="",0,IFERROR(CHOOSE(BF$28,IF(ISNA(MATCH(T32,$AQ$30:$AR$30,0)),0,1),IF(ISNUMBER(T32),1,0),IF(T32=TRUNC(T32),1,0),IF(AND(T32*1=T32,T32>=0),1,0),IF(AND(T32=TRUNC(T32),T32>=0),1,0),IF(AND(T32*1=T32,T32>0),1,0),IF(AND(T32=TRUNC(T32),T32>0),1,0),1,IF(ISNA(HLOOKUP(T32,$AT$4:$BC$4,1,0)),0,1)),0))) -> 1 | BH32: =IF(OR(V$30="",V$4=99),1,IF(V32="",0,IFERROR(CHOOSE(BH$28,IF(ISNA(MATCH(V32,$AQ$30:$AR$30,0)),0,1),IF(ISNUMBER(V32),1,0),IF(V32=TRUNC(V32),1,0),IF(AND(V32*1=V32,V32>=0),1,0),IF(AND(V32=TRUNC(V32),V32>=0),1,0),IF(AND(V32*1=V32,V32>0),1,0),IF(AND(V32=TRUNC(V32),V32>0),1,0),1,IF(ISNA(HLOOKUP(V32,$AT$4:$BC$4,1,0)),0,1)),0))) -> 1 | BI32: =IF(OR(W$30="",W$4=99),1,IF(W32="",0,IFERROR(CHOOSE(BI$28,IF(ISNA(MATCH(W32,$AQ$30:$AR$30,0)),0,1),IF(ISNUMBER(W32),1,0),IF(W32=TRUNC(W32),1,0),IF(AND(W32*1=W32,W32>=0),1,0),IF(AND(W32=TRUNC(W32),W32>=0),1,0),IF(AND(W32*1=W32,W32>0),1,0),IF(AND(W32=TRUNC(W32),W32>0),1,0),1,IF(ISNA(HLOOKUP(W32,$AT$4:$BC$4,1,0)),0,1)),0))) -> 1 | BJ32: =IF(OR(X$30="",X$4=99),1,IF(X32="",0,IFERROR(CHOOSE(BJ$28,IF(ISNA(MATCH(X32,$AQ$30:$AR$30,0)),0,1),IF(ISNUMBER(X32),1,0),IF(X32=TRUNC(X32),1,0),IF(AND(X32*1=X32,X32>=0),1,0),IF(AND(X32=TRUNC(X32),X32>=0),1,0),IF(AND(X32*1=X32,X32>0),1,0),IF(AND(X32=TRUNC(X32),X32>0),1,0),1,IF(ISNA(HLOOKUP(X32,$AT$4:$BC$4,1,0)),0,1)),0))) -> 1 | BK32: =IF(OR(Y$30="",Y$4=99),1,IF(Y32="",0,IFERROR(CHOOSE(BK$28,IF(ISNA(MATCH(Y32,$AQ$30:$AR$30,0)),0,1),IF(ISNUMBER(Y32),1,0),IF(Y32=TRUNC(Y32),1,0),IF(AND(Y32*1=Y32,Y32>=0),1,0),IF(AND(Y32=TRUNC(Y32),Y32>=0),1,0),IF(AND(Y32*1=Y32,Y32>0),1,0),IF(AND(Y32=TRUNC(Y32),Y32>0),1,0),1,IF(ISNA(HLOOKUP(Y32,$AT$4:$BC$4,1,0)),0,1)),0))) -> 1 | BL32: =IF(OR(Z$30="",Z$4=99),1,IF(Z32="",0,IFERROR(CHOOSE(BL$28,IF(ISNA(MATCH(Z32,$AQ$30:$AR$30,0)),0,1),IF(ISNUMBER(Z32),1,0),IF(Z32=TRUNC(Z32),1,0),IF(AND(Z32*1=Z32,Z32>=0),1,0),IF(AND(Z32=TRUNC(Z32),Z32>=0),1,0),IF(AND(Z32*1=Z32,Z32>0),1,0),IF(AND(Z32=TRUNC(Z32),Z32>0),1,0),1,IF(ISNA(HLOOKUP(Z32,$AT$4:$BC$4,1,0)),0,1)),0))) -> 1 | BS32: =IF(OR(AG$30="",AG$4=99),1,IF(AG32="",0,IFERROR(CHOOSE(BS$28,IF(ISNA(MATCH(AG32,$AQ$30:$AR$30,0)),0,1),IF(ISNUMBER(AG32),1,0),IF(AG32=TRUNC(AG32),1,0),IF(AND(AG32*1=AG32,AG32>=0),1,0),IF(AND(AG32=TRUNC(AG32),AG32>=0),1,0),IF(AND(AG32*1=AG32,AG32>0),1,0),IF(AND(AG32=TRUNC(AG32),AG32>0),1,0),1,IF(ISNA(HLOOKUP(AG32,$AT$4:$BC$4,1,0)),0,1)),0))) -> 1 | BT32: =IF(OR(AH$30="",AH$4=99),1,IF(AH32="",0,IFERROR(CHOOSE(BT$28,IF(ISNA(MATCH(AH32,$AQ$30:$AR$30,0)),0,1),IF(ISNUMBER(AH32),1,0),IF(AH32=TRUNC(AH32),1,0),IF(AND(AH32*1=AH32,AH32>=0),1,0),IF(AND(AH32=TRUNC(AH32),AH32>=0),1,0),IF(AND(AH32*1=AH32,AH32>0),1,0),IF(AND(AH32=TRUNC(AH32),AH32>0),1,0),1,IF(ISNA(HLOOKUP(AH32,$AT$4:$BC$4,1,0)),0,1)),0))) -> 1 | CE32: =IF($F32="","",CE$30) -> 1 | CF32: =IF($F32="","",CF$30) -> 2 | CG32: =IF($F32="","",CG$30) -> 3 | CH32: =IF($F32="","",CH$30) -> 4 | CI32: =IF($F32="","",CI$30) -> 5 | CJ32: =IF($F32="","",CJ$30) -> 6 | CK32: =IF($F32="","",CK$30) -> 7 | CL32: =IF($F32="","",CL$30) -> 8 | ... CN32: =IF($F32="","",CN$30) -> 10 | CT32: =OR(U32>=CT$5,X32>=$U$7,W32=1) -> TRUE | CU32: =OR(V32>=CU$5,INDEX('הוראת שעה'!$D$6:$D$20,MATCH($AO$2,'הוראת שעה'!$A$6:$A$20,1))=99) -> TRUE | CV32: =X32>=CV$5 -> TRUE | CZ32: =COUNTIF(CT32:CX32,TRUE) -> 3 | DA32: =OR(Q32>=DA$5,X32>=$U$7,W32=1) -> TRUE | DB32: =OR(V32>=DB$5,Z32=1,INDEX('הוראת שעה'!$D$6:$D$20,MATCH($AO$2,'הוראת שעה'!$A$6:$A$20,1))=99) -> TRUE | DC32: =X32>=DC$5 -> TRUE | DH32: =COUNTIF(DA32:DG32,TRUE) -> 3 | DI32: =IF($F32="","",IF(CZ32=$CU$3,1,0)) -> 1 | DJ32: =IF($F32="","",IF(AND(DH32=$CU$3,DH32-CZ32<=$DB$3),1,0)) -> 1
B33: =IF(F33="","",ROW()-30) -> 3 | F33: =IF('מקהלת החזנים הירושלמית'!$F$1="3","",'מקהלת החזנים הירושלמית'!$F$1) -> מקהלת החזנים הירושלמית | G33: 1 | H33: 1 | I33: 1 | J33: 1 | K33: 1 | L33: 1 | M33: 1 | N33: 1 | O33: 1 | P33: 1 | Q33: 1 | R33: 1 | S33: 547830 | T33: 547830 | U33: =IF($F33="","",IF(T33>S33,$AQ$1,IFERROR(T33/S33,$AQ$1))) -> 1 | V33: 3 | W33: 0 | X33: 549235 | Y33: 1 | AE33: =IF($F33="","",IF(OR(DI33=1,AND(DJ33=1,Z33=1)),1,0)) -> 1 | AF33: 1 | AG33: 1 | AH33: 1 | AI33: =IF(F33="","",IF(G33>=$G$5,1,0)) -> 1 | AN33: =IF($F33="","",IF(AJ33=1,1,IF(AP33<>1,$AQ$1,IF(SUMPRODUCT(--(G33:AI33>=$G$5:$AI$5)*($G$5:$AI$5<>"")*($G$4:$AI$4=1))=COUNTIF($G$4:$AI$4,1),1,0)))) -> 1 | AO33: עומדת בתנאי סף אמנותי ובתנאי הסף הכמותיים | AP33: =IF(OR(SUM(AS33:BZ33)<>COUNT(AS33:BZ33),SUMPRODUCT(--(G33:AI33=$AQ$1))<>0),0,1) -> 1 | AQ33: =IF($F33="","",AQ$30) -> 0 | AR33: =IF($F33="","",AR$30) -> 1 | AS33: =IF(OR(G$30="",G$4=99),1,IF(G33="",0,IFERROR(CHOOSE(AS$28,IF(ISNA(MATCH(G33,$AQ$30:$AR$30,0)),0,1),IF(ISNUMBER(G33),1,0),IF(G33=TRUNC(G33),1,0),IF(AND(G33*1=G33,G33>=0),1,0),IF(AND(G33=TRUNC(G33),G33>=0),1,0),IF(AND(G33*1=G33,G33>0),1,0),IF(AND(G33=TRUNC(G33),G33>0),1,0),1,IF(ISNA(HLOOKUP(G33,$AT$4:$BC$4,1,0)),0,1)),0))) -> 1 | AT33: =IF(OR(H$30="",H$4=99),1,IF(H33="",0,IFERROR(CHOOSE(AT$28,IF(ISNA(MATCH(H33,$AQ$30:$AR$30,0)),0,1),IF(ISNUMBER(H33),1,0),IF(H33=TRUNC(H33),1,0),IF(AND(H33*1=H33,H33>=0),1,0),IF(AND(H33=TRUNC(H33),H33>=0),1,0),IF(AND(H33*1=H33,H33>0),1,0),IF(AND(H33=TRUNC(H33),H33>0),1,0),1,IF(ISNA(HLOOKUP(H33,$AT$4:$BC$4,1,0)),0,1)),0))) -> 1 | AU33: =IF(OR(I$30="",I$4=99),1,IF(I33="",0,IFERROR(CHOOSE(AU$28,IF(ISNA(MATCH(I33,$AQ$30:$AR$30,0)),0,1),IF(ISNUMBER(I33),1,0),IF(I33=TRUNC(I33),1,0),IF(AND(I33*1=I33,I33>=0),1,0),IF(AND(I33=TRUNC(I33),I33>=0),1,0),IF(AND(I33*1=I33,I33>0),1,0),IF(AND(I33=TRUNC(I33),I33>0),1,0),1,IF(ISNA(HLOOKUP(I33,$AT$4:$BC$4,1,0)),0,1)),0))) -> 1 | AV33: =IF(OR(J$30="",J$4=99),1,IF(J33="",0,IFERROR(CHOOSE(AV$28,IF(ISNA(MATCH(J33,$AQ$30:$AR$30,0)),0,1),IF(ISNUMBER(J33),1,0),IF(J33=TRUNC(J33),1,0),IF(AND(J33*1=J33,J33>=0),1,0),IF(AND(J33=TRUNC(J33),J33>=0),1,0),IF(AND(J33*1=J33,J33>0),1,0),IF(AND(J33=TRUNC(J33),J33>0),1,0),1,IF(ISNA(HLOOKUP(J33,$AT$4:$BC$4,1,0)),0,1)),0))) -> 1 | AW33: =IF(OR(K$30="",K$4=99),1,IF(K33="",0,IFERROR(CHOOSE(AW$28,IF(ISNA(MATCH(K33,$AQ$30:$AR$30,0)),0,1),IF(ISNUMBER(K33),1,0),IF(K33=TRUNC(K33),1,0),IF(AND(K33*1=K33,K33>=0),1,0),IF(AND(K33=TRUNC(K33),K33>=0),1,0),IF(AND(K33*1=K33,K33>0),1,0),IF(AND(K33=TRUNC(K33),K33>0),1,0),1,IF(ISNA(HLOOKUP(K33,$AT$4:$BC$4,1,0)),0,1)),0))) -> 1 | AX33: =IF(OR(L$30="",L$4=99),1,IF(L33="",0,IFERROR(CHOOSE(AX$28,IF(ISNA(MATCH(L33,$AQ$30:$AR$30,0)),0,1),IF(ISNUMBER(L33),1,0),IF(L33=TRUNC(L33),1,0),IF(AND(L33*1=L33,L33>=0),1,0),IF(AND(L33=TRUNC(L33),L33>=0),1,0),IF(AND(L33*1=L33,L33>0),1,0),IF(AND(L33=TRUNC(L33),L33>0),1,0),1,IF(ISNA(HLOOKUP(L33,$AT$4:$BC$4,1,0)),0,1)),0))) -> 1 | AY33: =IF(OR(M$30="",M$4=99),1,IF(M33="",0,IFERROR(CHOOSE(AY$28,IF(ISNA(MATCH(M33,$AQ$30:$AR$30,0)),0,1),IF(ISNUMBER(M33),1,0),IF(M33=TRUNC(M33),1,0),IF(AND(M33*1=M33,M33>=0),1,0),IF(AND(M33=TRUNC(M33),M33>=0),1,0),IF(AND(M33*1=M33,M33>0),1,0),IF(AND(M33=TRUNC(M33),M33>0),1,0),1,IF(ISNA(HLOOKUP(M33,$AT$4:$BC$4,1,0)),0,1)),0))) -> 1 | AZ33: =IF(OR(N$30="",N$4=99),1,IF(N33="",0,IFERROR(CHOOSE(AZ$28,IF(ISNA(MATCH(N33,$AQ$30:$AR$30,0)),0,1),IF(ISNUMBER(N33),1,0),IF(N33=TRUNC(N33),1,0),IF(AND(N33*1=N33,N33>=0),1,0),IF(AND(N33=TRUNC(N33),N33>=0),1,0),IF(AND(N33*1=N33,N33>0),1,0),IF(AND(N33=TRUNC(N33),N33>0),1,0),1,IF(ISNA(HLOOKUP(N33,$AT$4:$BC$4,1,0)),0,1)),0))) -> 1 | ... BF33: =IF(OR(T$30="",T$4=99),1,IF(T33="",0,IFERROR(CHOOSE(BF$28,IF(ISNA(MATCH(T33,$AQ$30:$AR$30,0)),0,1),IF(ISNUMBER(T33),1,0),IF(T33=TRUNC(T33),1,0),IF(AND(T33*1=T33,T33>=0),1,0),IF(AND(T33=TRUNC(T33),T33>=0),1,0),IF(AND(T33*1=T33,T33>0),1,0),IF(AND(T33=TRUNC(T33),T33>0),1,0),1,IF(ISNA(HLOOKUP(T33,$AT$4:$BC$4,1,0)),0,1)),0))) -> 1 | BH33: =IF(OR(V$30="",V$4=99),1,IF(V33="",0,IFERROR(CHOOSE(BH$28,IF(ISNA(MATCH(V33,$AQ$30:$AR$30,0)),0,1),IF(ISNUMBER(V33),1,0),IF(V33=TRUNC(V33),1,0),IF(AND(V33*1=V33,V33>=0),1,0),IF(AND(V33=TRUNC(V33),V33>=0),1,0),IF(AND(V33*1=V33,V33>0),1,0),IF(AND(V33=TRUNC(V33),V33>0),1,0),1,IF(ISNA(HLOOKUP(V33,$AT$4:$BC$4,1,0)),0,1)),0))) -> 1 | BI33: =IF(OR(W$30="",W$4=99),1,IF(W33="",0,IFERROR(CHOOSE(BI$28,IF(ISNA(MATCH(W33,$AQ$30:$AR$30,0)),0,1),IF(ISNUMBER(W33),1,0),IF(W33=TRUNC(W33),1,0),IF(AND(W33*1=W33,W33>=0),1,0),IF(AND(W33=TRUNC(W33),W33>=0),1,0),IF(AND(W33*1=W33,W33>0),1,0),IF(AND(W33=TRUNC(W33),W33>0),1,0),1,IF(ISNA(HLOOKUP(W33,$AT$4:$BC$4,1,0)),0,1)),0))) -> 1 | BJ33: =IF(OR(X$30="",X$4=99),1,IF(X33="",0,IFERROR(CHOOSE(BJ$28,IF(ISNA(MATCH(X33,$AQ$30:$AR$30,0)),0,1),IF(ISNUMBER(X33),1,0),IF(X33=TRUNC(X33),1,0),IF(AND(X33*1=X33,X33>=0),1,0),IF(AND(X33=TRUNC(X33),X33>=0),1,0),IF(AND(X33*1=X33,X33>0),1,0),IF(AND(X33=TRUNC(X33),X33>0),1,0),1,IF(ISNA(HLOOKUP(X33,$AT$4:$BC$4,1,0)),0,1)),0))) -> 1 | BK33: =IF(OR(Y$30="",Y$4=99),1,IF(Y33="",0,IFERROR(CHOOSE(BK$28,IF(ISNA(MATCH(Y33,$AQ$30:$AR$30,0)),0,1),IF(ISNUMBER(Y33),1,0),IF(Y33=TRUNC(Y33),1,0),IF(AND(Y33*1=Y33,Y33>=0),1,0),IF(AND(Y33=TRUNC(Y33),Y33>=0),1,0),IF(AND(Y33*1=Y33,Y33>0),1,0),IF(AND(Y33=TRUNC(Y33),Y33>0),1,0),1,IF(ISNA(HLOOKUP(Y33,$AT$4:$BC$4,1,0)),0,1)),0))) -> 1 | BL33: =IF(OR(Z$30="",Z$4=99),1,IF(Z33="",0,IFERROR(CHOOSE(BL$28,IF(ISNA(MATCH(Z33,$AQ$30:$AR$30,0)),0,1),IF(ISNUMBER(Z33),1,0),IF(Z33=TRUNC(Z33),1,0),IF(AND(Z33*1=Z33,Z33>=0),1,0),IF(AND(Z33=TRUNC(Z33),Z33>=0),1,0),IF(AND(Z33*1=Z33,Z33>0),1,0),IF(AND(Z33=TRUNC(Z33),Z33>0),1,0),1,IF(ISNA(HLOOKUP(Z33,$AT$4:$BC$4,1,0)),0,1)),0))) -> 1 | BS33: =IF(OR(AG$30="",AG$4=99),1,IF(AG33="",0,IFERROR(CHOOSE(BS$28,IF(ISNA(MATCH(AG33,$AQ$30:$AR$30,0)),0,1),IF(ISNUMBER(AG33),1,0),IF(AG33=TRUNC(AG33),1,0),IF(AND(AG33*1=AG33,AG33>=0),1,0),IF(AND(AG33=TRUNC(AG33),AG33>=0),1,0),IF(AND(AG33*1=AG33,AG33>0),1,0),IF(AND(AG33=TRUNC(AG33),AG33>0),1,0),1,IF(ISNA(HLOOKUP(AG33,$AT$4:$BC$4,1,0)),0,1)),0))) -> 1 | BT33: =IF(OR(AH$30="",AH$4=99),1,IF(AH33="",0,IFERROR(CHOOSE(BT$28,IF(ISNA(MATCH(AH33,$AQ$30:$AR$30,0)),0,1),IF(ISNUMBER(AH33),1,0),IF(AH33=TRUNC(AH33),1,0),IF(AND(AH33*1=AH33,AH33>=0),1,0),IF(AND(AH33=TRUNC(AH33),AH33>=0),1,0),IF(AND(AH33*1=AH33,AH33>0),1,0),IF(AND(AH33=TRUNC(AH33),AH33>0),1,0),1,IF(ISNA(HLOOKUP(AH33,$AT$4:$BC$4,1,0)),0,1)),0))) -> 1 | CE33: =IF($F33="","",CE$30) -> 1 | CF33: =IF($F33="","",CF$30) -> 2 | CG33: =IF($F33="","",CG$30) -> 3 | CH33: =IF($F33="","",CH$30) -> 4 | CI33: =IF($F33="","",CI$30) -> 5 | CJ33: =IF($F33="","",CJ$30) -> 6 | CK33: =IF($F33="","",CK$30) -> 7 | CL33: =IF($F33="","",CL$30) -> 8 | ... CN33: =IF($F33="","",CN$30) -> 10 | CT33: =OR(U33>=CT$5,X33>=$U$7,W33=1) -> TRUE | CU33: =OR(V33>=CU$5,INDEX('הוראת שעה'!$D$6:$D$20,MATCH($AO$2,'הוראת שעה'!$A$6:$A$20,1))=99) -> TRUE | CV33: =X33>=CV$5 -> TRUE | CZ33: =COUNTIF(CT33:CX33,TRUE) -> 3 | DA33: =OR(Q33>=DA$5,X33>=$U$7,W33=1) -> TRUE | DB33: =OR(V33>=DB$5,Z33=1,INDEX('הוראת שעה'!$D$6:$D$20,MATCH($AO$2,'הוראת שעה'!$A$6:$A$20,1))=99) -> TRUE | DC33: =X33>=DC$5 -> TRUE | DH33: =COUNTIF(DA33:DG33,TRUE) -> 3 | DI33: =IF($F33="","",IF(CZ33=$CU$3,1,0)) -> 1 | DJ33: =IF($F33="","",IF(AND(DH33=$CU$3,DH33-CZ33<=$DB$3),1,0)) -> 1
B34: =IF(F34="","",ROW()-30) -> 4 | F34: =IF('קהילות שרות פיוט וניגון'!$F$1="4","",'קהילות שרות פיוט וניגון'!$F$1) -> קהילות שרות פיוט וניגון | G34: 1 | H34: 1 | I34: 1 | J34: 1 | K34: 1 | L34: 1 | M34: 1 | N34: 1 | O34: 1 | P34: 1 | Q34: 1 | R34: 1 | S34: 1233764 | T34: 754528 | U34: =IF($F34="","",IF(T34>S34,$AQ$1,IFERROR(T34/S34,$AQ$1))) -> 0.61156591 | V34: 4 | W34: 0 | X34: 944161 | Y34: 1 | AE34: =IF($F34="","",IF(OR(DI34=1,AND(DJ34=1,Z34=1)),1,0)) -> 1 | AF34: 1 | AG34: 1 | AH34: 1 | AI34: =IF(F34="","",IF(G34>=$G$5,1,0)) -> 1 | AN34: =IF($F34="","",IF(AJ34=1,1,IF(AP34<>1,$AQ$1,IF(SUMPRODUCT(--(G34:AI34>=$G$5:$AI$5)*($G$5:$AI$5<>"")*($G$4:$AI$4=1))=COUNTIF($G$4:$AI$4,1),1,0)))) -> 1 | AO34: עומד בתנאי סף אמנותי ובתנאי הסף הכמותיים | AP34: =IF(OR(SUM(AS34:BZ34)<>COUNT(AS34:BZ34),SUMPRODUCT(--(G34:AI34=$AQ$1))<>0),0,1) -> 1 | AQ34: =IF($F34="","",AQ$30) -> 0 | AR34: =IF($F34="","",AR$30) -> 1 | AS34: =IF(OR(G$30="",G$4=99),1,IF(G34="",0,IFERROR(CHOOSE(AS$28,IF(ISNA(MATCH(G34,$AQ$30:$AR$30,0)),0,1),IF(ISNUMBER(G34),1,0),IF(G34=TRUNC(G34),1,0),IF(AND(G34*1=G34,G34>=0),1,0),IF(AND(G34=TRUNC(G34),G34>=0),1,0),IF(AND(G34*1=G34,G34>0),1,0),IF(AND(G34=TRUNC(G34),G34>0),1,0),1,IF(ISNA(HLOOKUP(G34,$AT$4:$BC$4,1,0)),0,1)),0))) -> 1 | AT34: =IF(OR(H$30="",H$4=99),1,IF(H34="",0,IFERROR(CHOOSE(AT$28,IF(ISNA(MATCH(H34,$AQ$30:$AR$30,0)),0,1),IF(ISNUMBER(H34),1,0),IF(H34=TRUNC(H34),1,0),IF(AND(H34*1=H34,H34>=0),1,0),IF(AND(H34=TRUNC(H34),H34>=0),1,0),IF(AND(H34*1=H34,H34>0),1,0),IF(AND(H34=TRUNC(H34),H34>0),1,0),1,IF(ISNA(HLOOKUP(H34,$AT$4:$BC$4,1,0)),0,1)),0))) -> 1 | AU34: =IF(OR(I$30="",I$4=99),1,IF(I34="",0,IFERROR(CHOOSE(AU$28,IF(ISNA(MATCH(I34,$AQ$30:$AR$30,0)),0,1),IF(ISNUMBER(I34),1,0),IF(I34=TRUNC(I34),1,0),IF(AND(I34*1=I34,I34>=0),1,0),IF(AND(I34=TRUNC(I34),I34>=0),1,0),IF(AND(I34*1=I34,I34>0),1,0),IF(AND(I34=TRUNC(I34),I34>0),1,0),1,IF(ISNA(HLOOKUP(I34,$AT$4:$BC$4,1,0)),0,1)),0))) -> 1 | AV34: =IF(OR(J$30="",J$4=99),1,IF(J34="",0,IFERROR(CHOOSE(AV$28,IF(ISNA(MATCH(J34,$AQ$30:$AR$30,0)),0,1),IF(ISNUMBER(J34),1,0),IF(J34=TRUNC(J34),1,0),IF(AND(J34*1=J34,J34>=0),1,0),IF(AND(J34=TRUNC(J34),J34>=0),1,0),IF(AND(J34*1=J34,J34>0),1,0),IF(AND(J34=TRUNC(J34),J34>0),1,0),1,IF(ISNA(HLOOKUP(J34,$AT$4:$BC$4,1,0)),0,1)),0))) -> 1 | AW34: =IF(OR(K$30="",K$4=99),1,IF(K34="",0,IFERROR(CHOOSE(AW$28,IF(ISNA(MATCH(K34,$AQ$30:$AR$30,0)),0,1),IF(ISNUMBER(K34),1,0),IF(K34=TRUNC(K34),1,0),IF(AND(K34*1=K34,K34>=0),1,0),IF(AND(K34=TRUNC(K34),K34>=0),1,0),IF(AND(K34*1=K34,K34>0),1,0),IF(AND(K34=TRUNC(K34),K34>0),1,0),1,IF(ISNA(HLOOKUP(K34,$AT$4:$BC$4,1,0)),0,1)),0))) -> 1 | AX34: =IF(OR(L$30="",L$4=99),1,IF(L34="",0,IFERROR(CHOOSE(AX$28,IF(ISNA(MATCH(L34,$AQ$30:$AR$30,0)),0,1),IF(ISNUMBER(L34),1,0),IF(L34=TRUNC(L34),1,0),IF(AND(L34*1=L34,L34>=0),1,0),IF(AND(L34=TRUNC(L34),L34>=0),1,0),IF(AND(L34*1=L34,L34>0),1,0),IF(AND(L34=TRUNC(L34),L34>0),1,0),1,IF(ISNA(HLOOKUP(L34,$AT$4:$BC$4,1,0)),0,1)),0))) -> 1 | AY34: =IF(OR(M$30="",M$4=99),1,IF(M34="",0,IFERROR(CHOOSE(AY$28,IF(ISNA(MATCH(M34,$AQ$30:$AR$30,0)),0,1),IF(ISNUMBER(M34),1,0),IF(M34=TRUNC(M34),1,0),IF(AND(M34*1=M34,M34>=0),1,0),IF(AND(M34=TRUNC(M34),M34>=0),1,0),IF(AND(M34*1=M34,M34>0),1,0),IF(AND(M34=TRUNC(M34),M34>0),1,0),1,IF(ISNA(HLOOKUP(M34,$AT$4:$BC$4,1,0)),0,1)),0))) -> 1 | AZ34: =IF(OR(N$30="",N$4=99),1,IF(N34="",0,IFERROR(CHOOSE(AZ$28,IF(ISNA(MATCH(N34,$AQ$30:$AR$30,0)),0,1),IF(ISNUMBER(N34),1,0),IF(N34=TRUNC(N34),1,0),IF(AND(N34*1=N34,N34>=0),1,0),IF(AND(N34=TRUNC(N34),N34>=0),1,0),IF(AND(N34*1=N34,N34>0),1,0),IF(AND(N34=TRUNC(N34),N34>0),1,0),1,IF(ISNA(HLOOKUP(N34,$AT$4:$BC$4,1,0)),0,1)),0))) -> 1 | ... BF34: =IF(OR(T$30="",T$4=99),1,IF(T34="",0,IFERROR(CHOOSE(BF$28,IF(ISNA(MATCH(T34,$AQ$30:$AR$30,0)),0,1),IF(ISNUMBER(T34),1,0),IF(T34=TRUNC(T34),1,0),IF(AND(T34*1=T34,T34>=0),1,0),IF(AND(T34=TRUNC(T34),T34>=0),1,0),IF(AND(T34*1=T34,T34>0),1,0),IF(AND(T34=TRUNC(T34),T34>0),1,0),1,IF(ISNA(HLOOKUP(T34,$AT$4:$BC$4,1,0)),0,1)),0))) -> 1 | BH34: =IF(OR(V$30="",V$4=99),1,IF(V34="",0,IFERROR(CHOOSE(BH$28,IF(ISNA(MATCH(V34,$AQ$30:$AR$30,0)),0,1),IF(ISNUMBER(V34),1,0),IF(V34=TRUNC(V34),1,0),IF(AND(V34*1=V34,V34>=0),1,0),IF(AND(V34=TRUNC(V34),V34>=0),1,0),IF(AND(V34*1=V34,V34>0),1,0),IF(AND(V34=TRUNC(V34),V34>0),1,0),1,IF(ISNA(HLOOKUP(V34,$AT$4:$BC$4,1,0)),0,1)),0))) -> 1 | BI34: =IF(OR(W$30="",W$4=99),1,IF(W34="",0,IFERROR(CHOOSE(BI$28,IF(ISNA(MATCH(W34,$AQ$30:$AR$30,0)),0,1),IF(ISNUMBER(W34),1,0),IF(W34=TRUNC(W34),1,0),IF(AND(W34*1=W34,W34>=0),1,0),IF(AND(W34=TRUNC(W34),W34>=0),1,0),IF(AND(W34*1=W34,W34>0),1,0),IF(AND(W34=TRUNC(W34),W34>0),1,0),1,IF(ISNA(HLOOKUP(W34,$AT$4:$BC$4,1,0)),0,1)),0))) -> 1 | BJ34: =IF(OR(X$30="",X$4=99),1,IF(X34="",0,IFERROR(CHOOSE(BJ$28,IF(ISNA(MATCH(X34,$AQ$30:$AR$30,0)),0,1),IF(ISNUMBER(X34),1,0),IF(X34=TRUNC(X34),1,0),IF(AND(X34*1=X34,X34>=0),1,0),IF(AND(X34=TRUNC(X34),X34>=0),1,0),IF(AND(X34*1=X34,X34>0),1,0),IF(AND(X34=TRUNC(X34),X34>0),1,0),1,IF(ISNA(HLOOKUP(X34,$AT$4:$BC$4,1,0)),0,1)),0))) -> 1 | BK34: =IF(OR(Y$30="",Y$4=99),1,IF(Y34="",0,IFERROR(CHOOSE(BK$28,IF(ISNA(MATCH(Y34,$AQ$30:$AR$30,0)),0,1),IF(ISNUMBER(Y34),1,0),IF(Y34=TRUNC(Y34),1,0),IF(AND(Y34*1=Y34,Y34>=0),1,0),IF(AND(Y34=TRUNC(Y34),Y34>=0),1,0),IF(AND(Y34*1=Y34,Y34>0),1,0),IF(AND(Y34=TRUNC(Y34),Y34>0),1,0),1,IF(ISNA(HLOOKUP(Y34,$AT$4:$BC$4,1,0)),0,1)),0))) -> 1 | BL34: =IF(OR(Z$30="",Z$4=99),1,IF(Z34="",0,IFERROR(CHOOSE(BL$28,IF(ISNA(MATCH(Z34,$AQ$30:$AR$30,0)),0,1),IF(ISNUMBER(Z34),1,0),IF(Z34=TRUNC(Z34),1,0),IF(AND(Z34*1=Z34,Z34>=0),1,0),IF(AND(Z34=TRUNC(Z34),Z34>=0),1,0),IF(AND(Z34*1=Z34,Z34>0),1,0),IF(AND(Z34=TRUNC(Z34),Z34>0),1,0),1,IF(ISNA(HLOOKUP(Z34,$AT$4:$BC$4,1,0)),0,1)),0))) -> 1 | BS34: =IF(OR(AG$30="",AG$4=99),1,IF(AG34="",0,IFERROR(CHOOSE(BS$28,IF(ISNA(MATCH(AG34,$AQ$30:$AR$30,0)),0,1),IF(ISNUMBER(AG34),1,0),IF(AG34=TRUNC(AG34),1,0),IF(AND(AG34*1=AG34,AG34>=0),1,0),IF(AND(AG34=TRUNC(AG34),AG34>=0),1,0),IF(AND(AG34*1=AG34,AG34>0),1,0),IF(AND(AG34=TRUNC(AG34),AG34>0),1,0),1,IF(ISNA(HLOOKUP(AG34,$AT$4:$BC$4,1,0)),0,1)),0))) -> 1 | BT34: =IF(OR(AH$30="",AH$4=99),1,IF(AH34="",0,IFERROR(CHOOSE(BT$28,IF(ISNA(MATCH(AH34,$AQ$30:$AR$30,0)),0,1),IF(ISNUMBER(AH34),1,0),IF(AH34=TRUNC(AH34),1,0),IF(AND(AH34*1=AH34,AH34>=0),1,0),IF(AND(AH34=TRUNC(AH34),AH34>=0),1,0),IF(AND(AH34*1=AH34,AH34>0),1,0),IF(AND(AH34=TRUNC(AH34),AH34>0),1,0),1,IF(ISNA(HLOOKUP(AH34,$AT$4:$BC$4,1,0)),0,1)),0))) -> 1 | CE34: =IF($F34="","",CE$30) -> 1 | CF34: =IF($F34="","",CF$30) -> 2 | CG34: =IF($F34="","",CG$30) -> 3 | CH34: =IF($F34="","",CH$30) -> 4 | CI34: =IF($F34="","",CI$30) -> 5 | CJ34: =IF($F34="","",CJ$30) -> 6 | CK34: =IF($F34="","",CK$30) -> 7 | CL34: =IF($F34="","",CL$30) -> 8 | ... CN34: =IF($F34="","",CN$30) -> 10 | CT34: =OR(U34>=CT$5,X34>=$U$7,W34=1) -> TRUE | CU34: =OR(V34>=CU$5,INDEX('הוראת שעה'!$D$6:$D$20,MATCH($AO$2,'הוראת שעה'!$A$6:$A$20,1))=99) -> TRUE | CV34: =X34>=CV$5 -> TRUE | CZ34: =COUNTIF(CT34:CX34,TRUE) -> 3 | DA34: =OR(Q34>=DA$5,X34>=$U$7,W34=1) -> TRUE | DB34: =OR(V34>=DB$5,Z34=1,INDEX('הוראת שעה'!$D$6:$D$20,MATCH($AO$2,'הוראת שעה'!$A$6:$A$20,1))=99) -> TRUE | DC34: =X34>=DC$5 -> TRUE | DH34: =COUNTIF(DA34:DG34,TRUE) -> 3 | DI34: =IF($F34="","",IF(CZ34=$CU$3,1,0)) -> 1 | DJ34: =IF($F34="","",IF(AND(DH34=$CU$3,DH34-CZ34<=$DB$3),1,0)) -> 1
B35: =IF(F35="","",ROW()-30) -> 5 | F35: =IF('רננות- המכון למוסיקה יהודית'!$F$1="5","",'רננות- המכון למוסיקה יהודית'!$F$1) -> רננות- המכון למוסיקה יהודית | G35: 1 | H35: 1 | I35: 1 | J35: 1 | K35: 1 | L35: 1 | M35: 1 | N35: 1 | O35: 1 | P35: 1 | Q35: 1 | R35: 1 | S35: 2461852 | T35: 1382537 | U35: =IF($F35="","",IF(T35>S35,$AQ$1,IFERROR(T35/S35,$AQ$1))) -> 0.56158412 | V35: 3 | W35: 1 | X35: 750000 | Y35: 1 | AE35: =IF($F35="","",IF(OR(DI35=1,AND(DJ35=1,Z35=1)),1,0)) -> 1 | AF35: 1 | AG35: 1 | AH35: 1 | AI35: =IF(F35="","",IF(G35>=$G$5,1,0)) -> 1 | AN35: =IF($F35="","",IF(AJ35=1,1,IF(AP35<>1,$AQ$1,IF(SUMPRODUCT(--(G35:AI35>=$G$5:$AI$5)*($G$5:$AI$5<>"")*($G$4:$AI$4=1))=COUNTIF($G$4:$AI$4,1),1,0)))) -> 1 | AO35: עומד בתנאי סף אמנותי ובתנאי הסף הכמותיים | AP35: =IF(OR(SUM(AS35:BZ35)<>COUNT(AS35:BZ35),SUMPRODUCT(--(G35:AI35=$AQ$1))<>0),0,1) -> 1 | AQ35: =IF($F35="","",AQ$30) -> 0 | AR35: =IF($F35="","",AR$30) -> 1 | AS35: =IF(OR(G$30="",G$4=99),1,IF(G35="",0,IFERROR(CHOOSE(AS$28,IF(ISNA(MATCH(G35,$AQ$30:$AR$30,0)),0,1),IF(ISNUMBER(G35),1,0),IF(G35=TRUNC(G35),1,0),IF(AND(G35*1=G35,G35>=0),1,0),IF(AND(G35=TRUNC(G35),G35>=0),1,0),IF(AND(G35*1=G35,G35>0),1,0),IF(AND(G35=TRUNC(G35),G35>0),1,0),1,IF(ISNA(HLOOKUP(G35,$AT$4:$BC$4,1,0)),0,1)),0))) -> 1 | AT35: =IF(OR(H$30="",H$4=99),1,IF(H35="",0,IFERROR(CHOOSE(AT$28,IF(ISNA(MATCH(H35,$AQ$30:$AR$30,0)),0,1),IF(ISNUMBER(H35),1,0),IF(H35=TRUNC(H35),1,0),IF(AND(H35*1=H35,H35>=0),1,0),IF(AND(H35=TRUNC(H35),H35>=0),1,0),IF(AND(H35*1=H35,H35>0),1,0),IF(AND(H35=TRUNC(H35),H35>0),1,0),1,IF(ISNA(HLOOKUP(H35,$AT$4:$BC$4,1,0)),0,1)),0))) -> 1 | AU35: =IF(OR(I$30="",I$4=99),1,IF(I35="",0,IFERROR(CHOOSE(AU$28,IF(ISNA(MATCH(I35,$AQ$30:$AR$30,0)),0,1),IF(ISNUMBER(I35),1,0),IF(I35=TRUNC(I35),1,0),IF(AND(I35*1=I35,I35>=0),1,0),IF(AND(I35=TRUNC(I35),I35>=0),1,0),IF(AND(I35*1=I35,I35>0),1,0),IF(AND(I35=TRUNC(I35),I35>0),1,0),1,IF(ISNA(HLOOKUP(I35,$AT$4:$BC$4,1,0)),0,1)),0))) -> 1 | AV35: =IF(OR(J$30="",J$4=99),1,IF(J35="",0,IFERROR(CHOOSE(AV$28,IF(ISNA(MATCH(J35,$AQ$30:$AR$30,0)),0,1),IF(ISNUMBER(J35),1,0),IF(J35=TRUNC(J35),1,0),IF(AND(J35*1=J35,J35>=0),1,0),IF(AND(J35=TRUNC(J35),J35>=0),1,0),IF(AND(J35*1=J35,J35>0),1,0),IF(AND(J35=TRUNC(J35),J35>0),1,0),1,IF(ISNA(HLOOKUP(J35,$AT$4:$BC$4,1,0)),0,1)),0))) -> 1 | AW35: =IF(OR(K$30="",K$4=99),1,IF(K35="",0,IFERROR(CHOOSE(AW$28,IF(ISNA(MATCH(K35,$AQ$30:$AR$30,0)),0,1),IF(ISNUMBER(K35),1,0),IF(K35=TRUNC(K35),1,0),IF(AND(K35*1=K35,K35>=0),1,0),IF(AND(K35=TRUNC(K35),K35>=0),1,0),IF(AND(K35*1=K35,K35>0),1,0),IF(AND(K35=TRUNC(K35),K35>0),1,0),1,IF(ISNA(HLOOKUP(K35,$AT$4:$BC$4,1,0)),0,1)),0))) -> 1 | AX35: =IF(OR(L$30="",L$4=99),1,IF(L35="",0,IFERROR(CHOOSE(AX$28,IF(ISNA(MATCH(L35,$AQ$30:$AR$30,0)),0,1),IF(ISNUMBER(L35),1,0),IF(L35=TRUNC(L35),1,0),IF(AND(L35*1=L35,L35>=0),1,0),IF(AND(L35=TRUNC(L35),L35>=0),1,0),IF(AND(L35*1=L35,L35>0),1,0),IF(AND(L35=TRUNC(L35),L35>0),1,0),1,IF(ISNA(HLOOKUP(L35,$AT$4:$BC$4,1,0)),0,1)),0))) -> 1 | AY35: =IF(OR(M$30="",M$4=99),1,IF(M35="",0,IFERROR(CHOOSE(AY$28,IF(ISNA(MATCH(M35,$AQ$30:$AR$30,0)),0,1),IF(ISNUMBER(M35),1,0),IF(M35=TRUNC(M35),1,0),IF(AND(M35*1=M35,M35>=0),1,0),IF(AND(M35=TRUNC(M35),M35>=0),1,0),IF(AND(M35*1=M35,M35>0),1,0),IF(AND(M35=TRUNC(M35),M35>0),1,0),1,IF(ISNA(HLOOKUP(M35,$AT$4:$BC$4,1,0)),0,1)),0))) -> 1 | AZ35: =IF(OR(N$30="",N$4=99),1,IF(N35="",0,IFERROR(CHOOSE(AZ$28,IF(ISNA(MATCH(N35,$AQ$30:$AR$30,0)),0,1),IF(ISNUMBER(N35),1,0),IF(N35=TRUNC(N35),1,0),IF(AND(N35*1=N35,N35>=0),1,0),IF(AND(N35=TRUNC(N35),N35>=0),1,0),IF(AND(N35*1=N35,N35>0),1,0),IF(AND(N35=TRUNC(N35),N35>0),1,0),1,IF(ISNA(HLOOKUP(N35,$AT$4:$BC$4,1,0)),0,1)),0))) -> 1 | ... BF35: =IF(OR(T$30="",T$4=99),1,IF(T35="",0,IFERROR(CHOOSE(BF$28,IF(ISNA(MATCH(T35,$AQ$30:$AR$30,0)),0,1),IF(ISNUMBER(T35),1,0),IF(T35=TRUNC(T35),1,0),IF(AND(T35*1=T35,T35>=0),1,0),IF(AND(T35=TRUNC(T35),T35>=0),1,0),IF(AND(T35*1=T35,T35>0),1,0),IF(AND(T35=TRUNC(T35),T35>0),1,0),1,IF(ISNA(HLOOKUP(T35,$AT$4:$BC$4,1,0)),0,1)),0))) -> 1 | BH35: =IF(OR(V$30="",V$4=99),1,IF(V35="",0,IFERROR(CHOOSE(BH$28,IF(ISNA(MATCH(V35,$AQ$30:$AR$30,0)),0,1),IF(ISNUMBER(V35),1,0),IF(V35=TRUNC(V35),1,0),IF(AND(V35*1=V35,V35>=0),1,0),IF(AND(V35=TRUNC(V35),V35>=0),1,0),IF(AND(V35*1=V35,V35>0),1,0),IF(AND(V35=TRUNC(V35),V35>0),1,0),1,IF(ISNA(HLOOKUP(V35,$AT$4:$BC$4,1,0)),0,1)),0))) -> 1 | BI35: =IF(OR(W$30="",W$4=99),1,IF(W35="",0,IFERROR(CHOOSE(BI$28,IF(ISNA(MATCH(W35,$AQ$30:$AR$30,0)),0,1),IF(ISNUMBER(W35),1,0),IF(W35=TRUNC(W35),1,0),IF(AND(W35*1=W35,W35>=0),1,0),IF(AND(W35=TRUNC(W35),W35>=0),1,0),IF(AND(W35*1=W35,W35>0),1,0),IF(AND(W35=TRUNC(W35),W35>0),1,0),1,IF(ISNA(HLOOKUP(W35,$AT$4:$BC$4,1,0)),0,1)),0))) -> 1 | BJ35: =IF(OR(X$30="",X$4=99),1,IF(X35="",0,IFERROR(CHOOSE(BJ$28,IF(ISNA(MATCH(X35,$AQ$30:$AR$30,0)),0,1),IF(ISNUMBER(X35),1,0),IF(X35=TRUNC(X35),1,0),IF(AND(X35*1=X35,X35>=0),1,0),IF(AND(X35=TRUNC(X35),X35>=0),1,0),IF(AND(X35*1=X35,X35>0),1,0),IF(AND(X35=TRUNC(X35),X35>0),1,0),1,IF(ISNA(HLOOKUP(X35,$AT$4:$BC$4,1,0)),0,1)),0))) -> 1 | BK35: =IF(OR(Y$30="",Y$4=99),1,IF(Y35="",0,IFERROR(CHOOSE(BK$28,IF(ISNA(MATCH(Y35,$AQ$30:$AR$30,0)),0,1),IF(ISNUMBER(Y35),1,0),IF(Y35=TRUNC(Y35),1,0),IF(AND(Y35*1=Y35,Y35>=0),1,0),IF(AND(Y35=TRUNC(Y35),Y35>=0),1,0),IF(AND(Y35*1=Y35,Y35>0),1,0),IF(AND(Y35=TRUNC(Y35),Y35>0),1,0),1,IF(ISNA(HLOOKUP(Y35,$AT$4:$BC$4,1,0)),0,1)),0))) -> 1 | BL35: =IF(OR(Z$30="",Z$4=99),1,IF(Z35="",0,IFERROR(CHOOSE(BL$28,IF(ISNA(MATCH(Z35,$AQ$30:$AR$30,0)),0,1),IF(ISNUMBER(Z35),1,0),IF(Z35=TRUNC(Z35),1,0),IF(AND(Z35*1=Z35,Z35>=0),1,0),IF(AND(Z35=TRUNC(Z35),Z35>=0),1,0),IF(AND(Z35*1=Z35,Z35>0),1,0),IF(AND(Z35=TRUNC(Z35),Z35>0),1,0),1,IF(ISNA(HLOOKUP(Z35,$AT$4:$BC$4,1,0)),0,1)),0))) -> 1 | BS35: =IF(OR(AG$30="",AG$4=99),1,IF(AG35="",0,IFERROR(CHOOSE(BS$28,IF(ISNA(MATCH(AG35,$AQ$30:$AR$30,0)),0,1),IF(ISNUMBER(AG35),1,0),IF(AG35=TRUNC(AG35),1,0),IF(AND(AG35*1=AG35,AG35>=0),1,0),IF(AND(AG35=TRUNC(AG35),AG35>=0),1,0),IF(AND(AG35*1=AG35,AG35>0),1,0),IF(AND(AG35=TRUNC(AG35),AG35>0),1,0),1,IF(ISNA(HLOOKUP(AG35,$AT$4:$BC$4,1,0)),0,1)),0))) -> 1 | BT35: =IF(OR(AH$30="",AH$4=99),1,IF(AH35="",0,IFERROR(CHOOSE(BT$28,IF(ISNA(MATCH(AH35,$AQ$30:$AR$30,0)),0,1),IF(ISNUMBER(AH35),1,0),IF(AH35=TRUNC(AH35),1,0),IF(AND(AH35*1=AH35,AH35>=0),1,0),IF(AND(AH35=TRUNC(AH35),AH35>=0),1,0),IF(AND(AH35*1=AH35,AH35>0),1,0),IF(AND(AH35=TRUNC(AH35),AH35>0),1,0),1,IF(ISNA(HLOOKUP(AH35,$AT$4:$BC$4,1,0)),0,1)),0))) -> 1 | CE35: =IF($F35="","",CE$30) -> 1 | CF35: =IF($F35="","",CF$30) -> 2 | CG35: =IF($F35="","",CG$30) -> 3 | CH35: =IF($F35="","",CH$30) -> 4 | CI35: =IF($F35="","",CI$30) -> 5 | CJ35: =IF($F35="","",CJ$30) -> 6 | CK35: =IF($F35="","",CK$30) -> 7 | CL35: =IF($F35="","",CL$30) -> 8 | ... CN35: =IF($F35="","",CN$30) -> 10 | CT35: =OR(U35>=CT$5,X35>=$U$7,W35=1) -> TRUE | CU35: =OR(V35>=CU$5,INDEX('הוראת שעה'!$D$6:$D$20,MATCH($AO$2,'הוראת שעה'!$A$6:$A$20,1))=99) -> TRUE | CV35: =X35>=CV$5 -> TRUE | CZ35: =COUNTIF(CT35:CX35,TRUE) -> 3 | DA35: =OR(Q35>=DA$5,X35>=$U$7,W35=1) -> TRUE | DB35: =OR(V35>=DB$5,Z35=1,INDEX('הוראת שעה'!$D$6:$D$20,MATCH($AO$2,'הוראת שעה'!$A$6:$A$20,1))=99) -> TRUE | DC35: =X35>=DC$5 -> TRUE | DH35: =COUNTIF(DA35:DG35,TRUE) -> 3 | DI35: =IF($F35="","",IF(CZ35=$CU$3,1,0)) -> 1 | DJ35: =IF($F35="","",IF(AND(DH35=$CU$3,DH35-CZ35<=$DB$3),1,0)) -> 1
B36: =IF(F36="","",ROW()-30) -> 6 | F36: =IF('מקהלת זמרתיה'!$F$1="6","",'מקהלת זמרתיה'!$F$1) -> מקהלת זמרתיה | G36: 1 | H36: 1 | I36: 1 | J36: 1 | K36: 1 | L36: 1 | M36: 1 | N36: 1 | O36: 1 | P36: 1 | Q36: 1 | R36: 1 | S36: 331308 | T36: 331308 | U36: =IF($F36="","",IF(T36>S36,$AQ$1,IFERROR(T36/S36,$AQ$1))) -> 1 | V36: 2 | W36: 0 | X36: 329031 | Y36: 1 | AE36: =IF($F36="","",IF(OR(DI36=1,AND(DJ36=1,Z36=1)),1,0)) -> 1 | AF36: 1 | AG36: 1 | AH36: 1 | AI36: =IF(F36="","",IF(G36>=$G$5,1,0)) -> 1 | AN36: =IF($F36="","",IF(AJ36=1,1,IF(AP36<>1,$AQ$1,IF(SUMPRODUCT(--(G36:AI36>=$G$5:$AI$5)*($G$5:$AI$5<>"")*($G$4:$AI$4=1))=COUNTIF($G$4:$AI$4,1),1,0)))) -> 1 | AO36: עומד בתנאי סף אמנותי ובתנאי הסף הכמותיים | AP36: =IF(OR(SUM(AS36:BZ36)<>COUNT(AS36:BZ36),SUMPRODUCT(--(G36:AI36=$AQ$1))<>0),0,1) -> 1 | AQ36: =IF($F36="","",AQ$30) -> 0 | AR36: =IF($F36="","",AR$30) -> 1 | AS36: =IF(OR(G$30="",G$4=99),1,IF(G36="",0,IFERROR(CHOOSE(AS$28,IF(ISNA(MATCH(G36,$AQ$30:$AR$30,0)),0,1),IF(ISNUMBER(G36),1,0),IF(G36=TRUNC(G36),1,0),IF(AND(G36*1=G36,G36>=0),1,0),IF(AND(G36=TRUNC(G36),G36>=0),1,0),IF(AND(G36*1=G36,G36>0),1,0),IF(AND(G36=TRUNC(G36),G36>0),1,0),1,IF(ISNA(HLOOKUP(G36,$AT$4:$BC$4,1,0)),0,1)),0))) -> 1 | AT36: =IF(OR(H$30="",H$4=99),1,IF(H36="",0,IFERROR(CHOOSE(AT$28,IF(ISNA(MATCH(H36,$AQ$30:$AR$30,0)),0,1),IF(ISNUMBER(H36),1,0),IF(H36=TRUNC(H36),1,0),IF(AND(H36*1=H36,H36>=0),1,0),IF(AND(H36=TRUNC(H36),H36>=0),1,0),IF(AND(H36*1=H36,H36>0),1,0),IF(AND(H36=TRUNC(H36),H36>0),1,0),1,IF(ISNA(HLOOKUP(H36,$AT$4:$BC$4,1,0)),0,1)),0))) -> 1 | AU36: =IF(OR(I$30="",I$4=99),1,IF(I36="",0,IFERROR(CHOOSE(AU$28,IF(ISNA(MATCH(I36,$AQ$30:$AR$30,0)),0,1),IF(ISNUMBER(I36),1,0),IF(I36=TRUNC(I36),1,0),IF(AND(I36*1=I36,I36>=0),1,0),IF(AND(I36=TRUNC(I36),I36>=0),1,0),IF(AND(I36*1=I36,I36>0),1,0),IF(AND(I36=TRUNC(I36),I36>0),1,0),1,IF(ISNA(HLOOKUP(I36,$AT$4:$BC$4,1,0)),0,1)),0))) -> 1 | AV36: =IF(OR(J$30="",J$4=99),1,IF(J36="",0,IFERROR(CHOOSE(AV$28,IF(ISNA(MATCH(J36,$AQ$30:$AR$30,0)),0,1),IF(ISNUMBER(J36),1,0),IF(J36=TRUNC(J36),1,0),IF(AND(J36*1=J36,J36>=0),1,0),IF(AND(J36=TRUNC(J36),J36>=0),1,0),IF(AND(J36*1=J36,J36>0),1,0),IF(AND(J36=TRUNC(J36),J36>0),1,0),1,IF(ISNA(HLOOKUP(J36,$AT$4:$BC$4,1,0)),0,1)),0))) -> 1 | AW36: =IF(OR(K$30="",K$4=99),1,IF(K36="",0,IFERROR(CHOOSE(AW$28,IF(ISNA(MATCH(K36,$AQ$30:$AR$30,0)),0,1),IF(ISNUMBER(K36),1,0),IF(K36=TRUNC(K36),1,0),IF(AND(K36*1=K36,K36>=0),1,0),IF(AND(K36=TRUNC(K36),K36>=0),1,0),IF(AND(K36*1=K36,K36>0),1,0),IF(AND(K36=TRUNC(K36),K36>0),1,0),1,IF(ISNA(HLOOKUP(K36,$AT$4:$BC$4,1,0)),0,1)),0))) -> 1 | AX36: =IF(OR(L$30="",L$4=99),1,IF(L36="",0,IFERROR(CHOOSE(AX$28,IF(ISNA(MATCH(L36,$AQ$30:$AR$30,0)),0,1),IF(ISNUMBER(L36),1,0),IF(L36=TRUNC(L36),1,0),IF(AND(L36*1=L36,L36>=0),1,0),IF(AND(L36=TRUNC(L36),L36>=0),1,0),IF(AND(L36*1=L36,L36>0),1,0),IF(AND(L36=TRUNC(L36),L36>0),1,0),1,IF(ISNA(HLOOKUP(L36,$AT$4:$BC$4,1,0)),0,1)),0))) -> 1 | AY36: =IF(OR(M$30="",M$4=99),1,IF(M36="",0,IFERROR(CHOOSE(AY$28,IF(ISNA(MATCH(M36,$AQ$30:$AR$30,0)),0,1),IF(ISNUMBER(M36),1,0),IF(M36=TRUNC(M36),1,0),IF(AND(M36*1=M36,M36>=0),1,0),IF(AND(M36=TRUNC(M36),M36>=0),1,0),IF(AND(M36*1=M36,M36>0),1,0),IF(AND(M36=TRUNC(M36),M36>0),1,0),1,IF(ISNA(HLOOKUP(M36,$AT$4:$BC$4,1,0)),0,1)),0))) -> 1 | AZ36: =IF(OR(N$30="",N$4=99),1,IF(N36="",0,IFERROR(CHOOSE(AZ$28,IF(ISNA(MATCH(N36,$AQ$30:$AR$30,0)),0,1),IF(ISNUMBER(N36),1,0),IF(N36=TRUNC(N36),1,0),IF(AND(N36*1=N36,N36>=0),1,0),IF(AND(N36=TRUNC(N36),N36>=0),1,0),IF(AND(N36*1=N36,N36>0),1,0),IF(AND(N36=TRUNC(N36),N36>0),1,0),1,IF(ISNA(HLOOKUP(N36,$AT$4:$BC$4,1,0)),0,1)),0))) -> 1 | ... BF36: =IF(OR(T$30="",T$4=99),1,IF(T36="",0,IFERROR(CHOOSE(BF$28,IF(ISNA(MATCH(T36,$AQ$30:$AR$30,0)),0,1),IF(ISNUMBER(T36),1,0),IF(T36=TRUNC(T36),1,0),IF(AND(T36*1=T36,T36>=0),1,0),IF(AND(T36=TRUNC(T36),T36>=0),1,0),IF(AND(T36*1=T36,T36>0),1,0),IF(AND(T36=TRUNC(T36),T36>0),1,0),1,IF(ISNA(HLOOKUP(T36,$AT$4:$BC$4,1,0)),0,1)),0))) -> 1 | BH36: =IF(OR(V$30="",V$4=99),1,IF(V36="",0,IFERROR(CHOOSE(BH$28,IF(ISNA(MATCH(V36,$AQ$30:$AR$30,0)),0,1),IF(ISNUMBER(V36),1,0),IF(V36=TRUNC(V36),1,0),IF(AND(V36*1=V36,V36>=0),1,0),IF(AND(V36=TRUNC(V36),V36>=0),1,0),IF(AND(V36*1=V36,V36>0),1,0),IF(AND(V36=TRUNC(V36),V36>0),1,0),1,IF(ISNA(HLOOKUP(V36,$AT$4:$BC$4,1,0)),0,1)),0))) -> 1 | BI36: =IF(OR(W$30="",W$4=99),1,IF(W36="",0,IFERROR(CHOOSE(BI$28,IF(ISNA(MATCH(W36,$AQ$30:$AR$30,0)),0,1),IF(ISNUMBER(W36),1,0),IF(W36=TRUNC(W36),1,0),IF(AND(W36*1=W36,W36>=0),1,0),IF(AND(W36=TRUNC(W36),W36>=0),1,0),IF(AND(W36*1=W36,W36>0),1,0),IF(AND(W36=TRUNC(W36),W36>0),1,0),1,IF(ISNA(HLOOKUP(W36,$AT$4:$BC$4,1,0)),0,1)),0))) -> 1 | BJ36: =IF(OR(X$30="",X$4=99),1,IF(X36="",0,IFERROR(CHOOSE(BJ$28,IF(ISNA(MATCH(X36,$AQ$30:$AR$30,0)),0,1),IF(ISNUMBER(X36),1,0),IF(X36=TRUNC(X36),1,0),IF(AND(X36*1=X36,X36>=0),1,0),IF(AND(X36=TRUNC(X36),X36>=0),1,0),IF(AND(X36*1=X36,X36>0),1,0),IF(AND(X36=TRUNC(X36),X36>0),1,0),1,IF(ISNA(HLOOKUP(X36,$AT$4:$BC$4,1,0)),0,1)),0))) -> 1 | BK36: =IF(OR(Y$30="",Y$4=99),1,IF(Y36="",0,IFERROR(CHOOSE(BK$28,IF(ISNA(MATCH(Y36,$AQ$30:$AR$30,0)),0,1),IF(ISNUMBER(Y36),1,0),IF(Y36=TRUNC(Y36),1,0),IF(AND(Y36*1=Y36,Y36>=0),1,0),IF(AND(Y36=TRUNC(Y36),Y36>=0),1,0),IF(AND(Y36*1=Y36,Y36>0),1,0),IF(AND(Y36=TRUNC(Y36),Y36>0),1,0),1,IF(ISNA(HLOOKUP(Y36,$AT$4:$BC$4,1,0)),0,1)),0))) -> 1 | BL36: =IF(OR(Z$30="",Z$4=99),1,IF(Z36="",0,IFERROR(CHOOSE(BL$28,IF(ISNA(MATCH(Z36,$AQ$30:$AR$30,0)),0,1),IF(ISNUMBER(Z36),1,0),IF(Z36=TRUNC(Z36),1,0),IF(AND(Z36*1=Z36,Z36>=0),1,0),IF(AND(Z36=TRUNC(Z36),Z36>=0),1,0),IF(AND(Z36*1=Z36,Z36>0),1,0),IF(AND(Z36=TRUNC(Z36),Z36>0),1,0),1,IF(ISNA(HLOOKUP(Z36,$AT$4:$BC$4,1,0)),0,1)),0))) -> 1 | BS36: =IF(OR(AG$30="",AG$4=99),1,IF(AG36="",0,IFERROR(CHOOSE(BS$28,IF(ISNA(MATCH(AG36,$AQ$30:$AR$30,0)),0,1),IF(ISNUMBER(AG36),1,0),IF(AG36=TRUNC(AG36),1,0),IF(AND(AG36*1=AG36,AG36>=0),1,0),IF(AND(AG36=TRUNC(AG36),AG36>=0),1,0),IF(AND(AG36*1=AG36,AG36>0),1,0),IF(AND(AG36=TRUNC(AG36),AG36>0),1,0),1,IF(ISNA(HLOOKUP(AG36,$AT$4:$BC$4,1,0)),0,1)),0))) -> 1 | BT36: =IF(OR(AH$30="",AH$4=99),1,IF(AH36="",0,IFERROR(CHOOSE(BT$28,IF(ISNA(MATCH(AH36,$AQ$30:$AR$30,0)),0,1),IF(ISNUMBER(AH36),1,0),IF(AH36=TRUNC(AH36),1,0),IF(AND(AH36*1=AH36,AH36>=0),1,0),IF(AND(AH36=TRUNC(AH36),AH36>=0),1,0),IF(AND(AH36*1=AH36,AH36>0),1,0),IF(AND(AH36=TRUNC(AH36),AH36>0),1,0),1,IF(ISNA(HLOOKUP(AH36,$AT$4:$BC$4,1,0)),0,1)),0))) -> 1 | CE36: =IF($F36="","",CE$30) -> 1 | CF36: =IF($F36="","",CF$30) -> 2 | CG36: =IF($F36="","",CG$30) -> 3 | CH36: =IF($F36="","",CH$30) -> 4 | CI36: =IF($F36="","",CI$30) -> 5 | CJ36: =IF($F36="","",CJ$30) -> 6 | CK36: =IF($F36="","",CK$30) -> 7 | CL36: =IF($F36="","",CL$30) -> 8 | ... CN36: =IF($F36="","",CN$30) -> 10 | CT36: =OR(U36>=CT$5,X36>=$U$7,W36=1) -> TRUE | CU36: =OR(V36>=CU$5,INDEX('הוראת שעה'!$D$6:$D$20,MATCH($AO$2,'הוראת שעה'!$A$6:$A$20,1))=99) -> TRUE | CV36: =X36>=CV$5 -> TRUE | CZ36: =COUNTIF(CT36:CX36,TRUE) -> 3 | DA36: =OR(Q36>=DA$5,X36>=$U$7,W36=1) -> TRUE | DB36: =OR(V36>=DB$5,Z36=1,INDEX('הוראת שעה'!$D$6:$D$20,MATCH($AO$2,'הוראת שעה'!$A$6:$A$20,1))=99) -> TRUE | DC36: =X36>=DC$5 -> TRUE | DH36: =COUNTIF(DA36:DG36,TRUE) -> 3 | DI36: =IF($F36="","",IF(CZ36=$CU$3,1,0)) -> 1 | DJ36: =IF($F36="","",IF(AND(DH36=$CU$3,DH36-CZ36<=$DB$3),1,0)) -> 1
B37: =IF(F37="","",ROW()-30) -> 7 | F37: =IF('יובל - האנסמבל הישראלי לחזנות ו'!$F$1="7","",'יובל - האנסמבל הישראלי לחזנות ו'!$F$1) -> יובל - האנסמבל הישראלי לחזנות ו | G37: 1 | H37: 1 | I37: 1 | J37: 1 | K37: 1 | L37: 1 | M37: 1 | N37: 1 | O37: 1 | P37: 1 | Q37: 1 | R37: 1 | S37: 1201000 | T37: 1185000 | U37: =IF($F37="","",IF(T37>S37,$AQ$1,IFERROR(T37/S37,$AQ$1))) -> 0.98667777 | V37: 4 | W37: 0 | X37: 1309000 | Y37: 1 | AE37: =IF($F37="","",IF(OR(DI37=1,AND(DJ37=1,Z37=1)),1,0)) -> 1 | AF37: 1 | AG37: 1 | AH37: 1 | AI37: =IF(F37="","",IF(G37>=$G$5,1,0)) -> 1 | AN37: =IF($F37="","",IF(AJ37=1,1,IF(AP37<>1,$AQ$1,IF(SUMPRODUCT(--(G37:AI37>=$G$5:$AI$5)*($G$5:$AI$5<>"")*($G$4:$AI$4=1))=COUNTIF($G$4:$AI$4,1),1,0)))) -> 1 | AO37: עומד בתנאי סף אמנותי ובתנאי הסף הכמותיים | AP37: =IF(OR(SUM(AS37:BZ37)<>COUNT(AS37:BZ37),SUMPRODUCT(--(G37:AI37=$AQ$1))<>0),0,1) -> 1 | AQ37: =IF($F37="","",AQ$30) -> 0 | AR37: =IF($F37="","",AR$30) -> 1 | AS37: =IF(OR(G$30="",G$4=99),1,IF(G37="",0,IFERROR(CHOOSE(AS$28,IF(ISNA(MATCH(G37,$AQ$30:$AR$30,0)),0,1),IF(ISNUMBER(G37),1,0),IF(G37=TRUNC(G37),1,0),IF(AND(G37*1=G37,G37>=0),1,0),IF(AND(G37=TRUNC(G37),G37>=0),1,0),IF(AND(G37*1=G37,G37>0),1,0),IF(AND(G37=TRUNC(G37),G37>0),1,0),1,IF(ISNA(HLOOKUP(G37,$AT$4:$BC$4,1,0)),0,1)),0))) -> 1 | AT37: =IF(OR(H$30="",H$4=99),1,IF(H37="",0,IFERROR(CHOOSE(AT$28,IF(ISNA(MATCH(H37,$AQ$30:$AR$30,0)),0,1),IF(ISNUMBER(H37),1,0),IF(H37=TRUNC(H37),1,0),IF(AND(H37*1=H37,H37>=0),1,0),IF(AND(H37=TRUNC(H37),H37>=0),1,0),IF(AND(H37*1=H37,H37>0),1,0),IF(AND(H37=TRUNC(H37),H37>0),1,0),1,IF(ISNA(HLOOKUP(H37,$AT$4:$BC$4,1,0)),0,1)),0))) -> 1 | AU37: =IF(OR(I$30="",I$4=99),1,IF(I37="",0,IFERROR(CHOOSE(AU$28,IF(ISNA(MATCH(I37,$AQ$30:$AR$30,0)),0,1),IF(ISNUMBER(I37),1,0),IF(I37=TRUNC(I37),1,0),IF(AND(I37*1=I37,I37>=0),1,0),IF(AND(I37=TRUNC(I37),I37>=0),1,0),IF(AND(I37*1=I37,I37>0),1,0),IF(AND(I37=TRUNC(I37),I37>0),1,0),1,IF(ISNA(HLOOKUP(I37,$AT$4:$BC$4,1,0)),0,1)),0))) -> 1 | AV37: =IF(OR(J$30="",J$4=99),1,IF(J37="",0,IFERROR(CHOOSE(AV$28,IF(ISNA(MATCH(J37,$AQ$30:$AR$30,0)),0,1),IF(ISNUMBER(J37),1,0),IF(J37=TRUNC(J37),1,0),IF(AND(J37*1=J37,J37>=0),1,0),IF(AND(J37=TRUNC(J37),J37>=0),1,0),IF(AND(J37*1=J37,J37>0),1,0),IF(AND(J37=TRUNC(J37),J37>0),1,0),1,IF(ISNA(HLOOKUP(J37,$AT$4:$BC$4,1,0)),0,1)),0))) -> 1 | AW37: =IF(OR(K$30="",K$4=99),1,IF(K37="",0,IFERROR(CHOOSE(AW$28,IF(ISNA(MATCH(K37,$AQ$30:$AR$30,0)),0,1),IF(ISNUMBER(K37),1,0),IF(K37=TRUNC(K37),1,0),IF(AND(K37*1=K37,K37>=0),1,0),IF(AND(K37=TRUNC(K37),K37>=0),1,0),IF(AND(K37*1=K37,K37>0),1,0),IF(AND(K37=TRUNC(K37),K37>0),1,0),1,IF(ISNA(HLOOKUP(K37,$AT$4:$BC$4,1,0)),0,1)),0))) -> 1 | AX37: =IF(OR(L$30="",L$4=99),1,IF(L37="",0,IFERROR(CHOOSE(AX$28,IF(ISNA(MATCH(L37,$AQ$30:$AR$30,0)),0,1),IF(ISNUMBER(L37),1,0),IF(L37=TRUNC(L37),1,0),IF(AND(L37*1=L37,L37>=0),1,0),IF(AND(L37=TRUNC(L37),L37>=0),1,0),IF(AND(L37*1=L37,L37>0),1,0),IF(AND(L37=TRUNC(L37),L37>0),1,0),1,IF(ISNA(HLOOKUP(L37,$AT$4:$BC$4,1,0)),0,1)),0))) -> 1 | AY37: =IF(OR(M$30="",M$4=99),1,IF(M37="",0,IFERROR(CHOOSE(AY$28,IF(ISNA(MATCH(M37,$AQ$30:$AR$30,0)),0,1),IF(ISNUMBER(M37),1,0),IF(M37=TRUNC(M37),1,0),IF(AND(M37*1=M37,M37>=0),1,0),IF(AND(M37=TRUNC(M37),M37>=0),1,0),IF(AND(M37*1=M37,M37>0),1,0),IF(AND(M37=TRUNC(M37),M37>0),1,0),1,IF(ISNA(HLOOKUP(M37,$AT$4:$BC$4,1,0)),0,1)),0))) -> 1 | AZ37: =IF(OR(N$30="",N$4=99),1,IF(N37="",0,IFERROR(CHOOSE(AZ$28,IF(ISNA(MATCH(N37,$AQ$30:$AR$30,0)),0,1),IF(ISNUMBER(N37),1,0),IF(N37=TRUNC(N37),1,0),IF(AND(N37*1=N37,N37>=0),1,0),IF(AND(N37=TRUNC(N37),N37>=0),1,0),IF(AND(N37*1=N37,N37>0),1,0),IF(AND(N37=TRUNC(N37),N37>0),1,0),1,IF(ISNA(HLOOKUP(N37,$AT$4:$BC$4,1,0)),0,1)),0))) -> 1 | ... BF37: =IF(OR(T$30="",T$4=99),1,IF(T37="",0,IFERROR(CHOOSE(BF$28,IF(ISNA(MATCH(T37,$AQ$30:$AR$30,0)),0,1),IF(ISNUMBER(T37),1,0),IF(T37=TRUNC(T37),1,0),IF(AND(T37*1=T37,T37>=0),1,0),IF(AND(T37=TRUNC(T37),T37>=0),1,0),IF(AND(T37*1=T37,T37>0),1,0),IF(AND(T37=TRUNC(T37),T37>0),1,0),1,IF(ISNA(HLOOKUP(T37,$AT$4:$BC$4,1,0)),0,1)),0))) -> 1 | BH37: =IF(OR(V$30="",V$4=99),1,IF(V37="",0,IFERROR(CHOOSE(BH$28,IF(ISNA(MATCH(V37,$AQ$30:$AR$30,0)),0,1),IF(ISNUMBER(V37),1,0),IF(V37=TRUNC(V37),1,0),IF(AND(V37*1=V37,V37>=0),1,0),IF(AND(V37=TRUNC(V37),V37>=0),1,0),IF(AND(V37*1=V37,V37>0),1,0),IF(AND(V37=TRUNC(V37),V37>0),1,0),1,IF(ISNA(HLOOKUP(V37,$AT$4:$BC$4,1,0)),0,1)),0))) -> 1 | BI37: =IF(OR(W$30="",W$4=99),1,IF(W37="",0,IFERROR(CHOOSE(BI$28,IF(ISNA(MATCH(W37,$AQ$30:$AR$30,0)),0,1),IF(ISNUMBER(W37),1,0),IF(W37=TRUNC(W37),1,0),IF(AND(W37*1=W37,W37>=0),1,0),IF(AND(W37=TRUNC(W37),W37>=0),1,0),IF(AND(W37*1=W37,W37>0),1,0),IF(AND(W37=TRUNC(W37),W37>0),1,0),1,IF(ISNA(HLOOKUP(W37,$AT$4:$BC$4,1,0)),0,1)),0))) -> 1 | BJ37: =IF(OR(X$30="",X$4=99),1,IF(X37="",0,IFERROR(CHOOSE(BJ$28,IF(ISNA(MATCH(X37,$AQ$30:$AR$30,0)),0,1),IF(ISNUMBER(X37),1,0),IF(X37=TRUNC(X37),1,0),IF(AND(X37*1=X37,X37>=0),1,0),IF(AND(X37=TRUNC(X37),X37>=0),1,0),IF(AND(X37*1=X37,X37>0),1,0),IF(AND(X37=TRUNC(X37),X37>0),1,0),1,IF(ISNA(HLOOKUP(X37,$AT$4:$BC$4,1,0)),0,1)),0))) -> 1 | BK37: =IF(OR(Y$30="",Y$4=99),1,IF(Y37="",0,IFERROR(CHOOSE(BK$28,IF(ISNA(MATCH(Y37,$AQ$30:$AR$30,0)),0,1),IF(ISNUMBER(Y37),1,0),IF(Y37=TRUNC(Y37),1,0),IF(AND(Y37*1=Y37,Y37>=0),1,0),IF(AND(Y37=TRUNC(Y37),Y37>=0),1,0),IF(AND(Y37*1=Y37,Y37>0),1,0),IF(AND(Y37=TRUNC(Y37),Y37>0),1,0),1,IF(ISNA(HLOOKUP(Y37,$AT$4:$BC$4,1,0)),0,1)),0))) -> 1 | BL37: =IF(OR(Z$30="",Z$4=99),1,IF(Z37="",0,IFERROR(CHOOSE(BL$28,IF(ISNA(MATCH(Z37,$AQ$30:$AR$30,0)),0,1),IF(ISNUMBER(Z37),1,0),IF(Z37=TRUNC(Z37),1,0),IF(AND(Z37*1=Z37,Z37>=0),1,0),IF(AND(Z37=TRUNC(Z37),Z37>=0),1,0),IF(AND(Z37*1=Z37,Z37>0),1,0),IF(AND(Z37=TRUNC(Z37),Z37>0),1,0),1,IF(ISNA(HLOOKUP(Z37,$AT$4:$BC$4,1,0)),0,1)),0))) -> 1 | BS37: =IF(OR(AG$30="",AG$4=99),1,IF(AG37="",0,IFERROR(CHOOSE(BS$28,IF(ISNA(MATCH(AG37,$AQ$30:$AR$30,0)),0,1),IF(ISNUMBER(AG37),1,0),IF(AG37=TRUNC(AG37),1,0),IF(AND(AG37*1=AG37,AG37>=0),1,0),IF(AND(AG37=TRUNC(AG37),AG37>=0),1,0),IF(AND(AG37*1=AG37,AG37>0),1,0),IF(AND(AG37=TRUNC(AG37),AG37>0),1,0),1,IF(ISNA(HLOOKUP(AG37,$AT$4:$BC$4,1,0)),0,1)),0))) -> 1 | BT37: =IF(OR(AH$30="",AH$4=99),1,IF(AH37="",0,IFERROR(CHOOSE(BT$28,IF(ISNA(MATCH(AH37,$AQ$30:$AR$30,0)),0,1),IF(ISNUMBER(AH37),1,0),IF(AH37=TRUNC(AH37),1,0),IF(AND(AH37*1=AH37,AH37>=0),1,0),IF(AND(AH37=TRUNC(AH37),AH37>=0),1,0),IF(AND(AH37*1=AH37,AH37>0),1,0),IF(AND(AH37=TRUNC(AH37),AH37>0),1,0),1,IF(ISNA(HLOOKUP(AH37,$AT$4:$BC$4,1,0)),0,1)),0))) -> 1 | CE37: =IF($F37="","",CE$30) -> 1 | CF37: =IF($F37="","",CF$30) -> 2 | CG37: =IF($F37="","",CG$30) -> 3 | CH37: =IF($F37="","",CH$30) -> 4 | CI37: =IF($F37="","",CI$30) -> 5 | CJ37: =IF($F37="","",CJ$30) -> 6 | CK37: =IF($F37="","",CK$30) -> 7 | CL37: =IF($F37="","",CL$30) -> 8 | ... CN37: =IF($F37="","",CN$30) -> 10 | CT37: =OR(U37>=CT$5,X37>=$U$7,W37=1) -> TRUE | CU37: =OR(V37>=CU$5,INDEX('הוראת שעה'!$D$6:$D$20,MATCH($AO$2,'הוראת שעה'!$A$6:$A$20,1))=99) -> TRUE | CV37: =X37>=CV$5 -> TRUE | CZ37: =COUNTIF(CT37:CX37,TRUE) -> 3 | DA37: =OR(Q37>=DA$5,X37>=$U$7,W37=1) -> TRUE | DB37: =OR(V37>=DB$5,Z37=1,INDEX('הוראת שעה'!$D$6:$D$20,MATCH($AO$2,'הוראת שעה'!$A$6:$A$20,1))=99) -> TRUE | DC37: =X37>=DC$5 -> TRUE | DH37: =COUNTIF(DA37:DG37,TRUE) -> 3 | DI37: =IF($F37="","",IF(CZ37=$CU$3,1,0)) -> 1 | DJ37: =IF($F37="","",IF(AND(DH37=$CU$3,DH37-CZ37<=$DB$3),1,0)) -> 1
B38: =IF(F38="","",ROW()-30) -> 8 | F38: =IF('האגודה לטיפוח חברה ותרבות'!$F$1="8","",'האגודה לטיפוח חברה ותרבות'!$F$1) -> האגודה לטיפוח חברה ותרבות | G38: 1 | H38: 1 | I38: 1 | J38: 1 | K38: 1 | L38: 1 | M38: 1 | N38: 1 | O38: 1 | P38: 1 | Q38: 1 | R38: 1 | S38: 6919979 | T38: 437060 | U38: =IF($F38="","",IF(T38>S38,$AQ$1,IFERROR(T38/S38,$AQ$1))) -> 0.063159151 | V38: 4 | W38: 1 | X38: 365608 | Y38: 1 | AE38: =IF($F38="","",IF(OR(DI38=1,AND(DJ38=1,Z38=1)),1,0)) -> 1 | AF38: 1 | AG38: 1 | AH38: 1 | AI38: =IF(F38="","",IF(G38>=$G$5,1,0)) -> 1 | AN38: =IF($F38="","",IF(AJ38=1,1,IF(AP38<>1,$AQ$1,IF(SUMPRODUCT(--(G38:AI38>=$G$5:$AI$5)*($G$5:$AI$5<>"")*($G$4:$AI$4=1))=COUNTIF($G$4:$AI$4,1),1,0)))) -> 1 | AO38: עומד בתנאי סף אמנותי ובתנאי הסף הכמותיים | AP38: =IF(OR(SUM(AS38:BZ38)<>COUNT(AS38:BZ38),SUMPRODUCT(--(G38:AI38=$AQ$1))<>0),0,1) -> 1 | AQ38: =IF($F38="","",AQ$30) -> 0 | AR38: =IF($F38="","",AR$30) -> 1 | AS38: =IF(OR(G$30="",G$4=99),1,IF(G38="",0,IFERROR(CHOOSE(AS$28,IF(ISNA(MATCH(G38,$AQ$30:$AR$30,0)),0,1),IF(ISNUMBER(G38),1,0),IF(G38=TRUNC(G38),1,0),IF(AND(G38*1=G38,G38>=0),1,0),IF(AND(G38=TRUNC(G38),G38>=0),1,0),IF(AND(G38*1=G38,G38>0),1,0),IF(AND(G38=TRUNC(G38),G38>0),1,0),1,IF(ISNA(HLOOKUP(G38,$AT$4:$BC$4,1,0)),0,1)),0))) -> 1 | AT38: =IF(OR(H$30="",H$4=99),1,IF(H38="",0,IFERROR(CHOOSE(AT$28,IF(ISNA(MATCH(H38,$AQ$30:$AR$30,0)),0,1),IF(ISNUMBER(H38),1,0),IF(H38=TRUNC(H38),1,0),IF(AND(H38*1=H38,H38>=0),1,0),IF(AND(H38=TRUNC(H38),H38>=0),1,0),IF(AND(H38*1=H38,H38>0),1,0),IF(AND(H38=TRUNC(H38),H38>0),1,0),1,IF(ISNA(HLOOKUP(H38,$AT$4:$BC$4,1,0)),0,1)),0))) -> 1 | AU38: =IF(OR(I$30="",I$4=99),1,IF(I38="",0,IFERROR(CHOOSE(AU$28,IF(ISNA(MATCH(I38,$AQ$30:$AR$30,0)),0,1),IF(ISNUMBER(I38),1,0),IF(I38=TRUNC(I38),1,0),IF(AND(I38*1=I38,I38>=0),1,0),IF(AND(I38=TRUNC(I38),I38>=0),1,0),IF(AND(I38*1=I38,I38>0),1,0),IF(AND(I38=TRUNC(I38),I38>0),1,0),1,IF(ISNA(HLOOKUP(I38,$AT$4:$BC$4,1,0)),0,1)),0))) -> 1 | AV38: =IF(OR(J$30="",J$4=99),1,IF(J38="",0,IFERROR(CHOOSE(AV$28,IF(ISNA(MATCH(J38,$AQ$30:$AR$30,0)),0,1),IF(ISNUMBER(J38),1,0),IF(J38=TRUNC(J38),1,0),IF(AND(J38*1=J38,J38>=0),1,0),IF(AND(J38=TRUNC(J38),J38>=0),1,0),IF(AND(J38*1=J38,J38>0),1,0),IF(AND(J38=TRUNC(J38),J38>0),1,0),1,IF(ISNA(HLOOKUP(J38,$AT$4:$BC$4,1,0)),0,1)),0))) -> 1 | AW38: =IF(OR(K$30="",K$4=99),1,IF(K38="",0,IFERROR(CHOOSE(AW$28,IF(ISNA(MATCH(K38,$AQ$30:$AR$30,0)),0,1),IF(ISNUMBER(K38),1,0),IF(K38=TRUNC(K38),1,0),IF(AND(K38*1=K38,K38>=0),1,0),IF(AND(K38=TRUNC(K38),K38>=0),1,0),IF(AND(K38*1=K38,K38>0),1,0),IF(AND(K38=TRUNC(K38),K38>0),1,0),1,IF(ISNA(HLOOKUP(K38,$AT$4:$BC$4,1,0)),0,1)),0))) -> 1 | AX38: =IF(OR(L$30="",L$4=99),1,IF(L38="",0,IFERROR(CHOOSE(AX$28,IF(ISNA(MATCH(L38,$AQ$30:$AR$30,0)),0,1),IF(ISNUMBER(L38),1,0),IF(L38=TRUNC(L38),1,0),IF(AND(L38*1=L38,L38>=0),1,0),IF(AND(L38=TRUNC(L38),L38>=0),1,0),IF(AND(L38*1=L38,L38>0),1,0),IF(AND(L38=TRUNC(L38),L38>0),1,0),1,IF(ISNA(HLOOKUP(L38,$AT$4:$BC$4,1,0)),0,1)),0))) -> 1 | AY38: =IF(OR(M$30="",M$4=99),1,IF(M38="",0,IFERROR(CHOOSE(AY$28,IF(ISNA(MATCH(M38,$AQ$30:$AR$30,0)),0,1),IF(ISNUMBER(M38),1,0),IF(M38=TRUNC(M38),1,0),IF(AND(M38*1=M38,M38>=0),1,0),IF(AND(M38=TRUNC(M38),M38>=0),1,0),IF(AND(M38*1=M38,M38>0),1,0),IF(AND(M38=TRUNC(M38),M38>0),1,0),1,IF(ISNA(HLOOKUP(M38,$AT$4:$BC$4,1,0)),0,1)),0))) -> 1 | AZ38: =IF(OR(N$30="",N$4=99),1,IF(N38="",0,IFERROR(CHOOSE(AZ$28,IF(ISNA(MATCH(N38,$AQ$30:$AR$30,0)),0,1),IF(ISNUMBER(N38),1,0),IF(N38=TRUNC(N38),1,0),IF(AND(N38*1=N38,N38>=0),1,0),IF(AND(N38=TRUNC(N38),N38>=0),1,0),IF(AND(N38*1=N38,N38>0),1,0),IF(AND(N38=TRUNC(N38),N38>0),1,0),1,IF(ISNA(HLOOKUP(N38,$AT$4:$BC$4,1,0)),0,1)),0))) -> 1 | ... BF38: =IF(OR(T$30="",T$4=99),1,IF(T38="",0,IFERROR(CHOOSE(BF$28,IF(ISNA(MATCH(T38,$AQ$30:$AR$30,0)),0,1),IF(ISNUMBER(T38),1,0),IF(T38=TRUNC(T38),1,0),IF(AND(T38*1=T38,T38>=0),1,0),IF(AND(T38=TRUNC(T38),T38>=0),1,0),IF(AND(T38*1=T38,T38>0),1,0),IF(AND(T38=TRUNC(T38),T38>0),1,0),1,IF(ISNA(HLOOKUP(T38,$AT$4:$BC$4,1,0)),0,1)),0))) -> 1 | BH38: =IF(OR(V$30="",V$4=99),1,IF(V38="",0,IFERROR(CHOOSE(BH$28,IF(ISNA(MATCH(V38,$AQ$30:$AR$30,0)),0,1),IF(ISNUMBER(V38),1,0),IF(V38=TRUNC(V38),1,0),IF(AND(V38*1=V38,V38>=0),1,0),IF(AND(V38=TRUNC(V38),V38>=0),1,0),IF(AND(V38*1=V38,V38>0),1,0),IF(AND(V38=TRUNC(V38),V38>0),1,0),1,IF(ISNA(HLOOKUP(V38,$AT$4:$BC$4,1,0)),0,1)),0))) -> 1 | BI38: =IF(OR(W$30="",W$4=99),1,IF(W38="",0,IFERROR(CHOOSE(BI$28,IF(ISNA(MATCH(W38,$AQ$30:$AR$30,0)),0,1),IF(ISNUMBER(W38),1,0),IF(W38=TRUNC(W38),1,0),IF(AND(W38*1=W38,W38>=0),1,0),IF(AND(W38=TRUNC(W38),W38>=0),1,0),IF(AND(W38*1=W38,W38>0),1,0),IF(AND(W38=TRUNC(W38),W38>0),1,0),1,IF(ISNA(HLOOKUP(W38,$AT$4:$BC$4,1,0)),0,1)),0))) -> 1 | BJ38: =IF(OR(X$30="",X$4=99),1,IF(X38="",0,IFERROR(CHOOSE(BJ$28,IF(ISNA(MATCH(X38,$AQ$30:$AR$30,0)),0,1),IF(ISNUMBER(X38),1,0),IF(X38=TRUNC(X38),1,0),IF(AND(X38*1=X38,X38>=0),1,0),IF(AND(X38=TRUNC(X38),X38>=0),1,0),IF(AND(X38*1=X38,X38>0),1,0),IF(AND(X38=TRUNC(X38),X38>0),1,0),1,IF(ISNA(HLOOKUP(X38,$AT$4:$BC$4,1,0)),0,1)),0))) -> 1 | BK38: =IF(OR(Y$30="",Y$4=99),1,IF(Y38="",0,IFERROR(CHOOSE(BK$28,IF(ISNA(MATCH(Y38,$AQ$30:$AR$30,0)),0,1),IF(ISNUMBER(Y38),1,0),IF(Y38=TRUNC(Y38),1,0),IF(AND(Y38*1=Y38,Y38>=0),1,0),IF(AND(Y38=TRUNC(Y38),Y38>=0),1,0),IF(AND(Y38*1=Y38,Y38>0),1,0),IF(AND(Y38=TRUNC(Y38),Y38>0),1,0),1,IF(ISNA(HLOOKUP(Y38,$AT$4:$BC$4,1,0)),0,1)),0))) -> 1 | BL38: =IF(OR(Z$30="",Z$4=99),1,IF(Z38="",0,IFERROR(CHOOSE(BL$28,IF(ISNA(MATCH(Z38,$AQ$30:$AR$30,0)),0,1),IF(ISNUMBER(Z38),1,0),IF(Z38=TRUNC(Z38),1,0),IF(AND(Z38*1=Z38,Z38>=0),1,0),IF(AND(Z38=TRUNC(Z38),Z38>=0),1,0),IF(AND(Z38*1=Z38,Z38>0),1,0),IF(AND(Z38=TRUNC(Z38),Z38>0),1,0),1,IF(ISNA(HLOOKUP(Z38,$AT$4:$BC$4,1,0)),0,1)),0))) -> 1 | BS38: =IF(OR(AG$30="",AG$4=99),1,IF(AG38="",0,IFERROR(CHOOSE(BS$28,IF(ISNA(MATCH(AG38,$AQ$30:$AR$30,0)),0,1),IF(ISNUMBER(AG38),1,0),IF(AG38=TRUNC(AG38),1,0),IF(AND(AG38*1=AG38,AG38>=0),1,0),IF(AND(AG38=TRUNC(AG38),AG38>=0),1,0),IF(AND(AG38*1=AG38,AG38>0),1,0),IF(AND(AG38=TRUNC(AG38),AG38>0),1,0),1,IF(ISNA(HLOOKUP(AG38,$AT$4:$BC$4,1,0)),0,1)),0))) -> 1 | BT38: =IF(OR(AH$30="",AH$4=99),1,IF(AH38="",0,IFERROR(CHOOSE(BT$28,IF(ISNA(MATCH(AH38,$AQ$30:$AR$30,0)),0,1),IF(ISNUMBER(AH38),1,0),IF(AH38=TRUNC(AH38),1,0),IF(AND(AH38*1=AH38,AH38>=0),1,0),IF(AND(AH38=TRUNC(AH38),AH38>=0),1,0),IF(AND(AH38*1=AH38,AH38>0),1,0),IF(AND(AH38=TRUNC(AH38),AH38>0),1,0),1,IF(ISNA(HLOOKUP(AH38,$AT$4:$BC$4,1,0)),0,1)),0))) -> 1 | CE38: =IF($F38="","",CE$30) -> 1 | CF38: =IF($F38="","",CF$30) -> 2 | CG38: =IF($F38="","",CG$30) -> 3 | CH38: =IF($F38="","",CH$30) -> 4 | CI38: =IF($F38="","",CI$30) -> 5 | CJ38: =IF($F38="","",CJ$30) -> 6 | CK38: =IF($F38="","",CK$30) -> 7 | CL38: =IF($F38="","",CL$30) -> 8 | ... CN38: =IF($F38="","",CN$30) -> 10 | CT38: =OR(U38>=CT$5,X38>=$U$7,W38=1) -> TRUE | CU38: =OR(V38>=CU$5,INDEX('הוראת שעה'!$D$6:$D$20,MATCH($AO$2,'הוראת שעה'!$A$6:$A$20,1))=99) -> TRUE | CV38: =X38>=CV$5 -> TRUE | CZ38: =COUNTIF(CT38:CX38,TRUE) -> 3 | DA38: =OR(Q38>=DA$5,X38>=$U$7,W38=1) -> TRUE | DB38: =OR(V38>=DB$5,Z38=1,INDEX('הוראת שעה'!$D$6:$D$20,MATCH($AO$2,'הוראת שעה'!$A$6:$A$20,1))=99) -> TRUE | DC38: =X38>=DC$5 -> TRUE | DH38: =COUNTIF(DA38:DG38,TRUE) -> 3 | DI38: =IF($F38="","",IF(CZ38=$CU$3,1,0)) -> 1 | DJ38: =IF($F38="","",IF(AND(DH38=$CU$3,DH38-CZ38<=$DB$3),1,0)) -> 1
B39: =IF(F39="","",ROW()-30) -> 9 | F39: =IF('אנסמבל הפיוט מכון בן צבי'!$F$1="9","",'אנסמבל הפיוט מכון בן צבי'!$F$1) -> אנסמבל הפיוט מכון בן צבי | G39: 1 | H39: 1 | I39: 1 | J39: 1 | K39: 1 | L39: 1 | M39: 1 | N39: 1 | O39: 1 | P39: 1 | Q39: 1 | R39: 1 | S39: 758246 | T39: 397898 | U39: =IF($F39="","",IF(T39>S39,$AQ$1,IFERROR(T39/S39,$AQ$1))) -> 0.52476109 | V39: 4 | W39: 0 | X39: 336371 | Y39: 1 | AE39: =IF($F39="","",IF(OR(DI39=1,AND(DJ39=1,Z39=1)),1,0)) -> 1 | AF39: 1 | AG39: 1 | AH39: 1 | AI39: =IF(F39="","",IF(G39>=$G$5,1,0)) -> 1 | AN39: =IF($F39="","",IF(AJ39=1,1,IF(AP39<>1,$AQ$1,IF(SUMPRODUCT(--(G39:AI39>=$G$5:$AI$5)*($G$5:$AI$5<>"")*($G$4:$AI$4=1))=COUNTIF($G$4:$AI$4,1),1,0)))) -> 1 | AO39: עומד בתנאי סף אמנותי ובתנאי הסף הכמותיים | AP39: =IF(OR(SUM(AS39:BZ39)<>COUNT(AS39:BZ39),SUMPRODUCT(--(G39:AI39=$AQ$1))<>0),0,1) -> 1 | AQ39: =IF($F39="","",AQ$30) -> 0 | AR39: =IF($F39="","",AR$30) -> 1 | AS39: =IF(OR(G$30="",G$4=99),1,IF(G39="",0,IFERROR(CHOOSE(AS$28,IF(ISNA(MATCH(G39,$AQ$30:$AR$30,0)),0,1),IF(ISNUMBER(G39),1,0),IF(G39=TRUNC(G39),1,0),IF(AND(G39*1=G39,G39>=0),1,0),IF(AND(G39=TRUNC(G39),G39>=0),1,0),IF(AND(G39*1=G39,G39>0),1,0),IF(AND(G39=TRUNC(G39),G39>0),1,0),1,IF(ISNA(HLOOKUP(G39,$AT$4:$BC$4,1,0)),0,1)),0))) -> 1 | AT39: =IF(OR(H$30="",H$4=99),1,IF(H39="",0,IFERROR(CHOOSE(AT$28,IF(ISNA(MATCH(H39,$AQ$30:$AR$30,0)),0,1),IF(ISNUMBER(H39),1,0),IF(H39=TRUNC(H39),1,0),IF(AND(H39*1=H39,H39>=0),1,0),IF(AND(H39=TRUNC(H39),H39>=0),1,0),IF(AND(H39*1=H39,H39>0),1,0),IF(AND(H39=TRUNC(H39),H39>0),1,0),1,IF(ISNA(HLOOKUP(H39,$AT$4:$BC$4,1,0)),0,1)),0))) -> 1 | AU39: =IF(OR(I$30="",I$4=99),1,IF(I39="",0,IFERROR(CHOOSE(AU$28,IF(ISNA(MATCH(I39,$AQ$30:$AR$30,0)),0,1),IF(ISNUMBER(I39),1,0),IF(I39=TRUNC(I39),1,0),IF(AND(I39*1=I39,I39>=0),1,0),IF(AND(I39=TRUNC(I39),I39>=0),1,0),IF(AND(I39*1=I39,I39>0),1,0),IF(AND(I39=TRUNC(I39),I39>0),1,0),1,IF(ISNA(HLOOKUP(I39,$AT$4:$BC$4,1,0)),0,1)),0))) -> 1 | AV39: =IF(OR(J$30="",J$4=99),1,IF(J39="",0,IFERROR(CHOOSE(AV$28,IF(ISNA(MATCH(J39,$AQ$30:$AR$30,0)),0,1),IF(ISNUMBER(J39),1,0),IF(J39=TRUNC(J39),1,0),IF(AND(J39*1=J39,J39>=0),1,0),IF(AND(J39=TRUNC(J39),J39>=0),1,0),IF(AND(J39*1=J39,J39>0),1,0),IF(AND(J39=TRUNC(J39),J39>0),1,0),1,IF(ISNA(HLOOKUP(J39,$AT$4:$BC$4,1,0)),0,1)),0))) -> 1 | AW39: =IF(OR(K$30="",K$4=99),1,IF(K39="",0,IFERROR(CHOOSE(AW$28,IF(ISNA(MATCH(K39,$AQ$30:$AR$30,0)),0,1),IF(ISNUMBER(K39),1,0),IF(K39=TRUNC(K39),1,0),IF(AND(K39*1=K39,K39>=0),1,0),IF(AND(K39=TRUNC(K39),K39>=0),1,0),IF(AND(K39*1=K39,K39>0),1,0),IF(AND(K39=TRUNC(K39),K39>0),1,0),1,IF(ISNA(HLOOKUP(K39,$AT$4:$BC$4,1,0)),0,1)),0))) -> 1 | AX39: =IF(OR(L$30="",L$4=99),1,IF(L39="",0,IFERROR(CHOOSE(AX$28,IF(ISNA(MATCH(L39,$AQ$30:$AR$30,0)),0,1),IF(ISNUMBER(L39),1,0),IF(L39=TRUNC(L39),1,0),IF(AND(L39*1=L39,L39>=0),1,0),IF(AND(L39=TRUNC(L39),L39>=0),1,0),IF(AND(L39*1=L39,L39>0),1,0),IF(AND(L39=TRUNC(L39),L39>0),1,0),1,IF(ISNA(HLOOKUP(L39,$AT$4:$BC$4,1,0)),0,1)),0))) -> 1 | AY39: =IF(OR(M$30="",M$4=99),1,IF(M39="",0,IFERROR(CHOOSE(AY$28,IF(ISNA(MATCH(M39,$AQ$30:$AR$30,0)),0,1),IF(ISNUMBER(M39),1,0),IF(M39=TRUNC(M39),1,0),IF(AND(M39*1=M39,M39>=0),1,0),IF(AND(M39=TRUNC(M39),M39>=0),1,0),IF(AND(M39*1=M39,M39>0),1,0),IF(AND(M39=TRUNC(M39),M39>0),1,0),1,IF(ISNA(HLOOKUP(M39,$AT$4:$BC$4,1,0)),0,1)),0))) -> 1 | AZ39: =IF(OR(N$30="",N$4=99),1,IF(N39="",0,IFERROR(CHOOSE(AZ$28,IF(ISNA(MATCH(N39,$AQ$30:$AR$30,0)),0,1),IF(ISNUMBER(N39),1,0),IF(N39=TRUNC(N39),1,0),IF(AND(N39*1=N39,N39>=0),1,0),IF(AND(N39=TRUNC(N39),N39>=0),1,0),IF(AND(N39*1=N39,N39>0),1,0),IF(AND(N39=TRUNC(N39),N39>0),1,0),1,IF(ISNA(HLOOKUP(N39,$AT$4:$BC$4,1,0)),0,1)),0))) -> 1 | ... BF39: =IF(OR(T$30="",T$4=99),1,IF(T39="",0,IFERROR(CHOOSE(BF$28,IF(ISNA(MATCH(T39,$AQ$30:$AR$30,0)),0,1),IF(ISNUMBER(T39),1,0),IF(T39=TRUNC(T39),1,0),IF(AND(T39*1=T39,T39>=0),1,0),IF(AND(T39=TRUNC(T39),T39>=0),1,0),IF(AND(T39*1=T39,T39>0),1,0),IF(AND(T39=TRUNC(T39),T39>0),1,0),1,IF(ISNA(HLOOKUP(T39,$AT$4:$BC$4,1,0)),0,1)),0))) -> 1 | BH39: =IF(OR(V$30="",V$4=99),1,IF(V39="",0,IFERROR(CHOOSE(BH$28,IF(ISNA(MATCH(V39,$AQ$30:$AR$30,0)),0,1),IF(ISNUMBER(V39),1,0),IF(V39=TRUNC(V39),1,0),IF(AND(V39*1=V39,V39>=0),1,0),IF(AND(V39=TRUNC(V39),V39>=0),1,0),IF(AND(V39*1=V39,V39>0),1,0),IF(AND(V39=TRUNC(V39),V39>0),1,0),1,IF(ISNA(HLOOKUP(V39,$AT$4:$BC$4,1,0)),0,1)),0))) -> 1 | BI39: =IF(OR(W$30="",W$4=99),1,IF(W39="",0,IFERROR(CHOOSE(BI$28,IF(ISNA(MATCH(W39,$AQ$30:$AR$30,0)),0,1),IF(ISNUMBER(W39),1,0),IF(W39=TRUNC(W39),1,0),IF(AND(W39*1=W39,W39>=0),1,0),IF(AND(W39=TRUNC(W39),W39>=0),1,0),IF(AND(W39*1=W39,W39>0),1,0),IF(AND(W39=TRUNC(W39),W39>0),1,0),1,IF(ISNA(HLOOKUP(W39,$AT$4:$BC$4,1,0)),0,1)),0))) -> 1 | BJ39: =IF(OR(X$30="",X$4=99),1,IF(X39="",0,IFERROR(CHOOSE(BJ$28,IF(ISNA(MATCH(X39,$AQ$30:$AR$30,0)),0,1),IF(ISNUMBER(X39),1,0),IF(X39=TRUNC(X39),1,0),IF(AND(X39*1=X39,X39>=0),1,0),IF(AND(X39=TRUNC(X39),X39>=0),1,0),IF(AND(X39*1=X39,X39>0),1,0),IF(AND(X39=TRUNC(X39),X39>0),1,0),1,IF(ISNA(HLOOKUP(X39,$AT$4:$BC$4,1,0)),0,1)),0))) -> 1 | BK39: =IF(OR(Y$30="",Y$4=99),1,IF(Y39="",0,IFERROR(CHOOSE(BK$28,IF(ISNA(MATCH(Y39,$AQ$30:$AR$30,0)),0,1),IF(ISNUMBER(Y39),1,0),IF(Y39=TRUNC(Y39),1,0),IF(AND(Y39*1=Y39,Y39>=0),1,0),IF(AND(Y39=TRUNC(Y39),Y39>=0),1,0),IF(AND(Y39*1=Y39,Y39>0),1,0),IF(AND(Y39=TRUNC(Y39),Y39>0),1,0),1,IF(ISNA(HLOOKUP(Y39,$AT$4:$BC$4,1,0)),0,1)),0))) -> 1 | BL39: =IF(OR(Z$30="",Z$4=99),1,IF(Z39="",0,IFERROR(CHOOSE(BL$28,IF(ISNA(MATCH(Z39,$AQ$30:$AR$30,0)),0,1),IF(ISNUMBER(Z39),1,0),IF(Z39=TRUNC(Z39),1,0),IF(AND(Z39*1=Z39,Z39>=0),1,0),IF(AND(Z39=TRUNC(Z39),Z39>=0),1,0),IF(AND(Z39*1=Z39,Z39>0),1,0),IF(AND(Z39=TRUNC(Z39),Z39>0),1,0),1,IF(ISNA(HLOOKUP(Z39,$AT$4:$BC$4,1,0)),0,1)),0))) -> 1 | BS39: =IF(OR(AG$30="",AG$4=99),1,IF(AG39="",0,IFERROR(CHOOSE(BS$28,IF(ISNA(MATCH(AG39,$AQ$30:$AR$30,0)),0,1),IF(ISNUMBER(AG39),1,0),IF(AG39=TRUNC(AG39),1,0),IF(AND(AG39*1=AG39,AG39>=0),1,0),IF(AND(AG39=TRUNC(AG39),AG39>=0),1,0),IF(AND(AG39*1=AG39,AG39>0),1,0),IF(AND(AG39=TRUNC(AG39),AG39>0),1,0),1,IF(ISNA(HLOOKUP(AG39,$AT$4:$BC$4,1,0)),0,1)),0))) -> 1 | BT39: =IF(OR(AH$30="",AH$4=99),1,IF(AH39="",0,IFERROR(CHOOSE(BT$28,IF(ISNA(MATCH(AH39,$AQ$30:$AR$30,0)),0,1),IF(ISNUMBER(AH39),1,0),IF(AH39=TRUNC(AH39),1,0),IF(AND(AH39*1=AH39,AH39>=0),1,0),IF(AND(AH39=TRUNC(AH39),AH39>=0),1,0),IF(AND(AH39*1=AH39,AH39>0),1,0),IF(AND(AH39=TRUNC(AH39),AH39>0),1,0),1,IF(ISNA(HLOOKUP(AH39,$AT$4:$BC$4,1,0)),0,1)),0))) -> 1 | CE39: =IF($F39="","",CE$30) -> 1 | CF39: =IF($F39="","",CF$30) -> 2 | CG39: =IF($F39="","",CG$30) -> 3 | CH39: =IF($F39="","",CH$30) -> 4 | CI39: =IF($F39="","",CI$30) -> 5 | CJ39: =IF($F39="","",CJ$30) -> 6 | CK39: =IF($F39="","",CK$30) -> 7 | CL39: =IF($F39="","",CL$30) -> 8 | ... CN39: =IF($F39="","",CN$30) -> 10 | CT39: =OR(U39>=CT$5,X39>=$U$7,W39=1) -> TRUE | CU39: =OR(V39>=CU$5,INDEX('הוראת שעה'!$D$6:$D$20,MATCH($AO$2,'הוראת שעה'!$A$6:$A$20,1))=99) -> TRUE | CV39: =X39>=CV$5 -> TRUE | CZ39: =COUNTIF(CT39:CX39,TRUE) -> 3 | DA39: =OR(Q39>=DA$5,X39>=$U$7,W39=1) -> TRUE | DB39: =OR(V39>=DB$5,Z39=1,INDEX('הוראת שעה'!$D$6:$D$20,MATCH($AO$2,'הוראת שעה'!$A$6:$A$20,1))=99) -> TRUE | DC39: =X39>=DC$5 -> TRUE | DH39: =COUNTIF(DA39:DG39,TRUE) -> 3 | DI39: =IF($F39="","",IF(CZ39=$CU$3,1,0)) -> 1 | DJ39: =IF($F39="","",IF(AND(DH39=$CU$3,DH39-CZ39<=$DB$3),1,0)) -> 1
B40: =IF(F40="","",ROW()-30) -> 10 | F40: =IF('עמותת תמיד'!$F$1="10","",'עמותת תמיד'!$F$1) -> עמותת תמיד | G40: 1 | H40: 1 | I40: 1 | J40: 1 | K40: 1 | L40: 1 | M40: 1 | N40: 1 | O40: 1 | P40: 1 | Q40: 1 | R40: 1 | S40: 1363687 | T40: 225668 | U40: =IF($F40="","",IF(T40>S40,$AQ$1,IFERROR(T40/S40,$AQ$1))) -> 0.16548372 | V40: 3 | W40: 0 | X40: 1392219 | Y40: 1 | AE40: =IF($F40="","",IF(OR(DI40=1,AND(DJ40=1,Z40=1)),1,0)) -> 1 | AF40: 1 | AG40: 1 | AH40: 1 | AI40: =IF(F40="","",IF(G40>=$G$5,1,0)) -> 1 | AN40: =IF($F40="","",IF(AJ40=1,1,IF(AP40<>1,$AQ$1,IF(SUMPRODUCT(--(G40:AI40>=$G$5:$AI$5)*($G$5:$AI$5<>"")*($G$4:$AI$4=1))=COUNTIF($G$4:$AI$4,1),1,0)))) -> 1 | AO40: עומד בתנאי סף אמנותי ובתנאי הסף הכמותיים | AP40: =IF(OR(SUM(AS40:BZ40)<>COUNT(AS40:BZ40),SUMPRODUCT(--(G40:AI40=$AQ$1))<>0),0,1) -> 1 | AQ40: =IF($F40="","",AQ$30) -> 0 | AR40: =IF($F40="","",AR$30) -> 1 | AS40: =IF(OR(G$30="",G$4=99),1,IF(G40="",0,IFERROR(CHOOSE(AS$28,IF(ISNA(MATCH(G40,$AQ$30:$AR$30,0)),0,1),IF(ISNUMBER(G40),1,0),IF(G40=TRUNC(G40),1,0),IF(AND(G40*1=G40,G40>=0),1,0),IF(AND(G40=TRUNC(G40),G40>=0),1,0),IF(AND(G40*1=G40,G40>0),1,0),IF(AND(G40=TRUNC(G40),G40>0),1,0),1,IF(ISNA(HLOOKUP(G40,$AT$4:$BC$4,1,0)),0,1)),0))) -> 1 | AT40: =IF(OR(H$30="",H$4=99),1,IF(H40="",0,IFERROR(CHOOSE(AT$28,IF(ISNA(MATCH(H40,$AQ$30:$AR$30,0)),0,1),IF(ISNUMBER(H40),1,0),IF(H40=TRUNC(H40),1,0),IF(AND(H40*1=H40,H40>=0),1,0),IF(AND(H40=TRUNC(H40),H40>=0),1,0),IF(AND(H40*1=H40,H40>0),1,0),IF(AND(H40=TRUNC(H40),H40>0),1,0),1,IF(ISNA(HLOOKUP(H40,$AT$4:$BC$4,1,0)),0,1)),0))) -> 1 | AU40: =IF(OR(I$30="",I$4=99),1,IF(I40="",0,IFERROR(CHOOSE(AU$28,IF(ISNA(MATCH(I40,$AQ$30:$AR$30,0)),0,1),IF(ISNUMBER(I40),1,0),IF(I40=TRUNC(I40),1,0),IF(AND(I40*1=I40,I40>=0),1,0),IF(AND(I40=TRUNC(I40),I40>=0),1,0),IF(AND(I40*1=I40,I40>0),1,0),IF(AND(I40=TRUNC(I40),I40>0),1,0),1,IF(ISNA(HLOOKUP(I40,$AT$4:$BC$4,1,0)),0,1)),0))) -> 1 | AV40: =IF(OR(J$30="",J$4=99),1,IF(J40="",0,IFERROR(CHOOSE(AV$28,IF(ISNA(MATCH(J40,$AQ$30:$AR$30,0)),0,1),IF(ISNUMBER(J40),1,0),IF(J40=TRUNC(J40),1,0),IF(AND(J40*1=J40,J40>=0),1,0),IF(AND(J40=TRUNC(J40),J40>=0),1,0),IF(AND(J40*1=J40,J40>0),1,0),IF(AND(J40=TRUNC(J40),J40>0),1,0),1,IF(ISNA(HLOOKUP(J40,$AT$4:$BC$4,1,0)),0,1)),0))) -> 1 | AW40: =IF(OR(K$30="",K$4=99),1,IF(K40="",0,IFERROR(CHOOSE(AW$28,IF(ISNA(MATCH(K40,$AQ$30:$AR$30,0)),0,1),IF(ISNUMBER(K40),1,0),IF(K40=TRUNC(K40),1,0),IF(AND(K40*1=K40,K40>=0),1,0),IF(AND(K40=TRUNC(K40),K40>=0),1,0),IF(AND(K40*1=K40,K40>0),1,0),IF(AND(K40=TRUNC(K40),K40>0),1,0),1,IF(ISNA(HLOOKUP(K40,$AT$4:$BC$4,1,0)),0,1)),0))) -> 1 | AX40: =IF(OR(L$30="",L$4=99),1,IF(L40="",0,IFERROR(CHOOSE(AX$28,IF(ISNA(MATCH(L40,$AQ$30:$AR$30,0)),0,1),IF(ISNUMBER(L40),1,0),IF(L40=TRUNC(L40),1,0),IF(AND(L40*1=L40,L40>=0),1,0),IF(AND(L40=TRUNC(L40),L40>=0),1,0),IF(AND(L40*1=L40,L40>0),1,0),IF(AND(L40=TRUNC(L40),L40>0),1,0),1,IF(ISNA(HLOOKUP(L40,$AT$4:$BC$4,1,0)),0,1)),0))) -> 1 | AY40: =IF(OR(M$30="",M$4=99),1,IF(M40="",0,IFERROR(CHOOSE(AY$28,IF(ISNA(MATCH(M40,$AQ$30:$AR$30,0)),0,1),IF(ISNUMBER(M40),1,0),IF(M40=TRUNC(M40),1,0),IF(AND(M40*1=M40,M40>=0),1,0),IF(AND(M40=TRUNC(M40),M40>=0),1,0),IF(AND(M40*1=M40,M40>0),1,0),IF(AND(M40=TRUNC(M40),M40>0),1,0),1,IF(ISNA(HLOOKUP(M40,$AT$4:$BC$4,1,0)),0,1)),0))) -> 1 | AZ40: =IF(OR(N$30="",N$4=99),1,IF(N40="",0,IFERROR(CHOOSE(AZ$28,IF(ISNA(MATCH(N40,$AQ$30:$AR$30,0)),0,1),IF(ISNUMBER(N40),1,0),IF(N40=TRUNC(N40),1,0),IF(AND(N40*1=N40,N40>=0),1,0),IF(AND(N40=TRUNC(N40),N40>=0),1,0),IF(AND(N40*1=N40,N40>0),1,0),IF(AND(N40=TRUNC(N40),N40>0),1,0),1,IF(ISNA(HLOOKUP(N40,$AT$4:$BC$4,1,0)),0,1)),0))) -> 1 | ... BF40: =IF(OR(T$30="",T$4=99),1,IF(T40="",0,IFERROR(CHOOSE(BF$28,IF(ISNA(MATCH(T40,$AQ$30:$AR$30,0)),0,1),IF(ISNUMBER(T40),1,0),IF(T40=TRUNC(T40),1,0),IF(AND(T40*1=T40,T40>=0),1,0),IF(AND(T40=TRUNC(T40),T40>=0),1,0),IF(AND(T40*1=T40,T40>0),1,0),IF(AND(T40=TRUNC(T40),T40>0),1,0),1,IF(ISNA(HLOOKUP(T40,$AT$4:$BC$4,1,0)),0,1)),0))) -> 1 | BH40: =IF(OR(V$30="",V$4=99),1,IF(V40="",0,IFERROR(CHOOSE(BH$28,IF(ISNA(MATCH(V40,$AQ$30:$AR$30,0)),0,1),IF(ISNUMBER(V40),1,0),IF(V40=TRUNC(V40),1,0),IF(AND(V40*1=V40,V40>=0),1,0),IF(AND(V40=TRUNC(V40),V40>=0),1,0),IF(AND(V40*1=V40,V40>0),1,0),IF(AND(V40=TRUNC(V40),V40>0),1,0),1,IF(ISNA(HLOOKUP(V40,$AT$4:$BC$4,1,0)),0,1)),0))) -> 1 | BI40: =IF(OR(W$30="",W$4=99),1,IF(W40="",0,IFERROR(CHOOSE(BI$28,IF(ISNA(MATCH(W40,$AQ$30:$AR$30,0)),0,1),IF(ISNUMBER(W40),1,0),IF(W40=TRUNC(W40),1,0),IF(AND(W40*1=W40,W40>=0),1,0),IF(AND(W40=TRUNC(W40),W40>=0),1,0),IF(AND(W40*1=W40,W40>0),1,0),IF(AND(W40=TRUNC(W40),W40>0),1,0),1,IF(ISNA(HLOOKUP(W40,$AT$4:$BC$4,1,0)),0,1)),0))) -> 1 | BJ40: =IF(OR(X$30="",X$4=99),1,IF(X40="",0,IFERROR(CHOOSE(BJ$28,IF(ISNA(MATCH(X40,$AQ$30:$AR$30,0)),0,1),IF(ISNUMBER(X40),1,0),IF(X40=TRUNC(X40),1,0),IF(AND(X40*1=X40,X40>=0),1,0),IF(AND(X40=TRUNC(X40),X40>=0),1,0),IF(AND(X40*1=X40,X40>0),1,0),IF(AND(X40=TRUNC(X40),X40>0),1,0),1,IF(ISNA(HLOOKUP(X40,$AT$4:$BC$4,1,0)),0,1)),0))) -> 1 | BK40: =IF(OR(Y$30="",Y$4=99),1,IF(Y40="",0,IFERROR(CHOOSE(BK$28,IF(ISNA(MATCH(Y40,$AQ$30:$AR$30,0)),0,1),IF(ISNUMBER(Y40),1,0),IF(Y40=TRUNC(Y40),1,0),IF(AND(Y40*1=Y40,Y40>=0),1,0),IF(AND(Y40=TRUNC(Y40),Y40>=0),1,0),IF(AND(Y40*1=Y40,Y40>0),1,0),IF(AND(Y40=TRUNC(Y40),Y40>0),1,0),1,IF(ISNA(HLOOKUP(Y40,$AT$4:$BC$4,1,0)),0,1)),0))) -> 1 | BL40: =IF(OR(Z$30="",Z$4=99),1,IF(Z40="",0,IFERROR(CHOOSE(BL$28,IF(ISNA(MATCH(Z40,$AQ$30:$AR$30,0)),0,1),IF(ISNUMBER(Z40),1,0),IF(Z40=TRUNC(Z40),1,0),IF(AND(Z40*1=Z40,Z40>=0),1,0),IF(AND(Z40=TRUNC(Z40),Z40>=0),1,0),IF(AND(Z40*1=Z40,Z40>0),1,0),IF(AND(Z40=TRUNC(Z40),Z40>0),1,0),1,IF(ISNA(HLOOKUP(Z40,$AT$4:$BC$4,1,0)),0,1)),0))) -> 1 | BS40: =IF(OR(AG$30="",AG$4=99),1,IF(AG40="",0,IFERROR(CHOOSE(BS$28,IF(ISNA(MATCH(AG40,$AQ$30:$AR$30,0)),0,1),IF(ISNUMBER(AG40),1,0),IF(AG40=TRUNC(AG40),1,0),IF(AND(AG40*1=AG40,AG40>=0),1,0),IF(AND(AG40=TRUNC(AG40),AG40>=0),1,0),IF(AND(AG40*1=AG40,AG40>0),1,0),IF(AND(AG40=TRUNC(AG40),AG40>0),1,0),1,IF(ISNA(HLOOKUP(AG40,$AT$4:$BC$4,1,0)),0,1)),0))) -> 1 | BT40: =IF(OR(AH$30="",AH$4=99),1,IF(AH40="",0,IFERROR(CHOOSE(BT$28,IF(ISNA(MATCH(AH40,$AQ$30:$AR$30,0)),0,1),IF(ISNUMBER(AH40),1,0),IF(AH40=TRUNC(AH40),1,0),IF(AND(AH40*1=AH40,AH40>=0),1,0),IF(AND(AH40=TRUNC(AH40),AH40>=0),1,0),IF(AND(AH40*1=AH40,AH40>0),1,0),IF(AND(AH40=TRUNC(AH40),AH40>0),1,0),1,IF(ISNA(HLOOKUP(AH40,$AT$4:$BC$4,1,0)),0,1)),0))) -> 1 | CE40: =IF($F40="","",CE$30) -> 1 | CF40: =IF($F40="","",CF$30) -> 2 | CG40: =IF($F40="","",CG$30) -> 3 | CH40: =IF($F40="","",CH$30) -> 4 | CI40: =IF($F40="","",CI$30) -> 5 | CJ40: =IF($F40="","",CJ$30) -> 6 | CK40: =IF($F40="","",CK$30) -> 7 | CL40: =IF($F40="","",CL$30) -> 8 | ... CN40: =IF($F40="","",CN$30) -> 10 | CT40: =OR(U40>=CT$5,X40>=$U$7,W40=1) -> TRUE | CU40: =OR(V40>=CU$5,INDEX('הוראת שעה'!$D$6:$D$20,MATCH($AO$2,'הוראת שעה'!$A$6:$A$20,1))=99) -> TRUE | CV40: =X40>=CV$5 -> TRUE | CZ40: =COUNTIF(CT40:CX40,TRUE) -> 3 | DA40: =OR(Q40>=DA$5,X40>=$U$7,W40=1) -> TRUE | DB40: =OR(V40>=DB$5,Z40=1,INDEX('הוראת שעה'!$D$6:$D$20,MATCH($AO$2,'הוראת שעה'!$A$6:$A$20,1))=99) -> TRUE | DC40: =X40>=DC$5 -> TRUE | DH40: =COUNTIF(DA40:DG40,TRUE) -> 3 | DI40: =IF($F40="","",IF(CZ40=$CU$3,1,0)) -> 1 | DJ40: =IF($F40="","",IF(AND(DH40=$CU$3,DH40-CZ40<=$DB$3),1,0)) -> 1
A41: =ROW()-30 -> 11 | B41: =IF(F41="","",ROW()-30) -> 11 | F41: =IF(מטרוז!$F$1="11","",מטרוז!$F$1) -> מטרוז | G41: 1 | H41: 1 | I41: 1 | J41: 1 | K41: 1 | L41: 1 | M41: 1 | N41: 1 | O41: 1 | P41: 1 | Q41: 1 | R41: 1 | S41: 528577 | T41: 528577 | U41: =IF($F41="","",IF(T41>S41,$AQ$1,IFERROR(T41/S41,$AQ$1))) -> 1 | V41: 2 | W41: 1 | X41: 639109 | Y41: 1 | AE41: =IF($F41="","",IF(OR(DI41=1,AND(DJ41=1,Z41=1)),1,0)) -> 1 | AF41: 1 | AG41: 1 | AH41: 1 | AI41: =IF(F41="","",IF(G41>=$G$5,1,0)) -> 1 | AN41: =IF($F41="","",IF(AJ41=1,1,IF(AP41<>1,$AQ$1,IF(SUMPRODUCT(--(G41:AI41>=$G$5:$AI$5)*($G$5:$AI$5<>"")*($G$4:$AI$4=1))=COUNTIF($G$4:$AI$4,1),1,0)))) -> 1 | AO41: עומד בתנאי סף אמנותי ובתנאי הסף הכמותיים | AP41: =IF(OR(SUM(AS41:BZ41)<>COUNT(AS41:BZ41),SUMPRODUCT(--(G41:AI41=$AQ$1))<>0),0,1) -> 1 | AQ41: =IF($F41="","",AQ$30) -> 0 | AR41: =IF($F41="","",AR$30) -> 1 | AS41: =IF(OR(G$30="",G$4=99),1,IF(G41="",0,IFERROR(CHOOSE(AS$28,IF(ISNA(MATCH(G41,$AQ$30:$AR$30,0)),0,1),IF(ISNUMBER(G41),1,0),IF(G41=TRUNC(G41),1,0),IF(AND(G41*1=G41,G41>=0),1,0),IF(AND(G41=TRUNC(G41),G41>=0),1,0),IF(AND(G41*1=G41,G41>0),1,0),IF(AND(G41=TRUNC(G41),G41>0),1,0),1,IF(ISNA(HLOOKUP(G41,$AT$4:$BC$4,1,0)),0,1)),0))) -> 1 | AT41: =IF(OR(H$30="",H$4=99),1,IF(H41="",0,IFERROR(CHOOSE(AT$28,IF(ISNA(MATCH(H41,$AQ$30:$AR$30,0)),0,1),IF(ISNUMBER(H41),1,0),IF(H41=TRUNC(H41),1,0),IF(AND(H41*1=H41,H41>=0),1,0),IF(AND(H41=TRUNC(H41),H41>=0),1,0),IF(AND(H41*1=H41,H41>0),1,0),IF(AND(H41=TRUNC(H41),H41>0),1,0),1,IF(ISNA(HLOOKUP(H41,$AT$4:$BC$4,1,0)),0,1)),0))) -> 1 | AU41: =IF(OR(I$30="",I$4=99),1,IF(I41="",0,IFERROR(CHOOSE(AU$28,IF(ISNA(MATCH(I41,$AQ$30:$AR$30,0)),0,1),IF(ISNUMBER(I41),1,0),IF(I41=TRUNC(I41),1,0),IF(AND(I41*1=I41,I41>=0),1,0),IF(AND(I41=TRUNC(I41),I41>=0),1,0),IF(AND(I41*1=I41,I41>0),1,0),IF(AND(I41=TRUNC(I41),I41>0),1,0),1,IF(ISNA(HLOOKUP(I41,$AT$4:$BC$4,1,0)),0,1)),0))) -> 1 | AV41: =IF(OR(J$30="",J$4=99),1,IF(J41="",0,IFERROR(CHOOSE(AV$28,IF(ISNA(MATCH(J41,$AQ$30:$AR$30,0)),0,1),IF(ISNUMBER(J41),1,0),IF(J41=TRUNC(J41),1,0),IF(AND(J41*1=J41,J41>=0),1,0),IF(AND(J41=TRUNC(J41),J41>=0),1,0),IF(AND(J41*1=J41,J41>0),1,0),IF(AND(J41=TRUNC(J41),J41>0),1,0),1,IF(ISNA(HLOOKUP(J41,$AT$4:$BC$4,1,0)),0,1)),0))) -> 1 | AW41: =IF(OR(K$30="",K$4=99),1,IF(K41="",0,IFERROR(CHOOSE(AW$28,IF(ISNA(MATCH(K41,$AQ$30:$AR$30,0)),0,1),IF(ISNUMBER(K41),1,0),IF(K41=TRUNC(K41),1,0),IF(AND(K41*1=K41,K41>=0),1,0),IF(AND(K41=TRUNC(K41),K41>=0),1,0),IF(AND(K41*1=K41,K41>0),1,0),IF(AND(K41=TRUNC(K41),K41>0),1,0),1,IF(ISNA(HLOOKUP(K41,$AT$4:$BC$4,1,0)),0,1)),0))) -> 1 | AX41: =IF(OR(L$30="",L$4=99),1,IF(L41="",0,IFERROR(CHOOSE(AX$28,IF(ISNA(MATCH(L41,$AQ$30:$AR$30,0)),0,1),IF(ISNUMBER(L41),1,0),IF(L41=TRUNC(L41),1,0),IF(AND(L41*1=L41,L41>=0),1,0),IF(AND(L41=TRUNC(L41),L41>=0),1,0),IF(AND(L41*1=L41,L41>0),1,0),IF(AND(L41=TRUNC(L41),L41>0),1,0),1,IF(ISNA(HLOOKUP(L41,$AT$4:$BC$4,1,0)),0,1)),0))) -> 1 | AY41: =IF(OR(M$30="",M$4=99),1,IF(M41="",0,IFERROR(CHOOSE(AY$28,IF(ISNA(MATCH(M41,$AQ$30:$AR$30,0)),0,1),IF(ISNUMBER(M41),1,0),IF(M41=TRUNC(M41),1,0),IF(AND(M41*1=M41,M41>=0),1,0),IF(AND(M41=TRUNC(M41),M41>=0),1,0),IF(AND(M41*1=M41,M41>0),1,0),IF(AND(M41=TRUNC(M41),M41>0),1,0),1,IF(ISNA(HLOOKUP(M41,$AT$4:$BC$4,1,0)),0,1)),0))) -> 1 | AZ41: =IF(OR(N$30="",N$4=99),1,IF(N41="",0,IFERROR(CHOOSE(AZ$28,IF(ISNA(MATCH(N41,$AQ$30:$AR$30,0)),0,1),IF(ISNUMBER(N41),1,0),IF(N41=TRUNC(N41),1,0),IF(AND(N41*1=N41,N41>=0),1,0),IF(AND(N41=TRUNC(N41),N41>=0),1,0),IF(AND(N41*1=N41,N41>0),1,0),IF(AND(N41=TRUNC(N41),N41>0),1,0),1,IF(ISNA(HLOOKUP(N41,$AT$4:$BC$4,1,0)),0,1)),0))) -> 1 | ... BF41: =IF(OR(T$30="",T$4=99),1,IF(T41="",0,IFERROR(CHOOSE(BF$28,IF(ISNA(MATCH(T41,$AQ$30:$AR$30,0)),0,1),IF(ISNUMBER(T41),1,0),IF(T41=TRUNC(T41),1,0),IF(AND(T41*1=T41,T41>=0),1,0),IF(AND(T41=TRUNC(T41),T41>=0),1,0),IF(AND(T41*1=T41,T41>0),1,0),IF(AND(T41=TRUNC(T41),T41>0),1,0),1,IF(ISNA(HLOOKUP(T41,$AT$4:$BC$4,1,0)),0,1)),0))) -> 1 | BH41: =IF(OR(V$30="",V$4=99),1,IF(V41="",0,IFERROR(CHOOSE(BH$28,IF(ISNA(MATCH(V41,$AQ$30:$AR$30,0)),0,1),IF(ISNUMBER(V41),1,0),IF(V41=TRUNC(V41),1,0),IF(AND(V41*1=V41,V41>=0),1,0),IF(AND(V41=TRUNC(V41),V41>=0),1,0),IF(AND(V41*1=V41,V41>0),1,0),IF(AND(V41=TRUNC(V41),V41>0),1,0),1,IF(ISNA(HLOOKUP(V41,$AT$4:$BC$4,1,0)),0,1)),0))) -> 1 | BI41: =IF(OR(W$30="",W$4=99),1,IF(W41="",0,IFERROR(CHOOSE(BI$28,IF(ISNA(MATCH(W41,$AQ$30:$AR$30,0)),0,1),IF(ISNUMBER(W41),1,0),IF(W41=TRUNC(W41),1,0),IF(AND(W41*1=W41,W41>=0),1,0),IF(AND(W41=TRUNC(W41),W41>=0),1,0),IF(AND(W41*1=W41,W41>0),1,0),IF(AND(W41=TRUNC(W41),W41>0),1,0),1,IF(ISNA(HLOOKUP(W41,$AT$4:$BC$4,1,0)),0,1)),0))) -> 1 | BJ41: =IF(OR(X$30="",X$4=99),1,IF(X41="",0,IFERROR(CHOOSE(BJ$28,IF(ISNA(MATCH(X41,$AQ$30:$AR$30,0)),0,1),IF(ISNUMBER(X41),1,0),IF(X41=TRUNC(X41),1,0),IF(AND(X41*1=X41,X41>=0),1,0),IF(AND(X41=TRUNC(X41),X41>=0),1,0),IF(AND(X41*1=X41,X41>0),1,0),IF(AND(X41=TRUNC(X41),X41>0),1,0),1,IF(ISNA(HLOOKUP(X41,$AT$4:$BC$4,1,0)),0,1)),0))) -> 1 | BK41: =IF(OR(Y$30="",Y$4=99),1,IF(Y41="",0,IFERROR(CHOOSE(BK$28,IF(ISNA(MATCH(Y41,$AQ$30:$AR$30,0)),0,1),IF(ISNUMBER(Y41),1,0),IF(Y41=TRUNC(Y41),1,0),IF(AND(Y41*1=Y41,Y41>=0),1,0),IF(AND(Y41=TRUNC(Y41),Y41>=0),1,0),IF(AND(Y41*1=Y41,Y41>0),1,0),IF(AND(Y41=TRUNC(Y41),Y41>0),1,0),1,IF(ISNA(HLOOKUP(Y41,$AT$4:$BC$4,1,0)),0,1)),0))) -> 1 | BL41: =IF(OR(Z$30="",Z$4=99),1,IF(Z41="",0,IFERROR(CHOOSE(BL$28,IF(ISNA(MATCH(Z41,$AQ$30:$AR$30,0)),0,1),IF(ISNUMBER(Z41),1,0),IF(Z41=TRUNC(Z41),1,0),IF(AND(Z41*1=Z41,Z41>=0),1,0),IF(AND(Z41=TRUNC(Z41),Z41>=0),1,0),IF(AND(Z41*1=Z41,Z41>0),1,0),IF(AND(Z41=TRUNC(Z41),Z41>0),1,0),1,IF(ISNA(HLOOKUP(Z41,$AT$4:$BC$4,1,0)),0,1)),0))) -> 1 | BS41: =IF(OR(AG$30="",AG$4=99),1,IF(AG41="",0,IFERROR(CHOOSE(BS$28,IF(ISNA(MATCH(AG41,$AQ$30:$AR$30,0)),0,1),IF(ISNUMBER(AG41),1,0),IF(AG41=TRUNC(AG41),1,0),IF(AND(AG41*1=AG41,AG41>=0),1,0),IF(AND(AG41=TRUNC(AG41),AG41>=0),1,0),IF(AND(AG41*1=AG41,AG41>0),1,0),IF(AND(AG41=TRUNC(AG41),AG41>0),1,0),1,IF(ISNA(HLOOKUP(AG41,$AT$4:$BC$4,1,0)),0,1)),0))) -> 1 | BT41: =IF(OR(AH$30="",AH$4=99),1,IF(AH41="",0,IFERROR(CHOOSE(BT$28,IF(ISNA(MATCH(AH41,$AQ$30:$AR$30,0)),0,1),IF(ISNUMBER(AH41),1,0),IF(AH41=TRUNC(AH41),1,0),IF(AND(AH41*1=AH41,AH41>=0),1,0),IF(AND(AH41=TRUNC(AH41),AH41>=0),1,0),IF(AND(AH41*1=AH41,AH41>0),1,0),IF(AND(AH41=TRUNC(AH41),AH41>0),1,0),1,IF(ISNA(HLOOKUP(AH41,$AT$4:$BC$4,1,0)),0,1)),0))) -> 1 | CE41: =IF($F41="","",CE$30) -> 1 | CF41: =IF($F41="","",CF$30) -> 2 | CG41: =IF($F41="","",CG$30) -> 3 | CH41: =IF($F41="","",CH$30) -> 4 | CI41: =IF($F41="","",CI$30) -> 5 | CJ41: =IF($F41="","",CJ$30) -> 6 | CK41: =IF($F41="","",CK$30) -> 7 | CL41: =IF($F41="","",CL$30) -> 8 | ... CN41: =IF($F41="","",CN$30) -> 10 | CT41: =OR(U41>=CT$5,X41>=$U$7,W41=1) -> TRUE | CU41: =OR(V41>=CU$5,INDEX('הוראת שעה'!$D$6:$D$20,MATCH($AO$2,'הוראת שעה'!$A$6:$A$20,1))=99) -> TRUE | CV41: =X41>=CV$5 -> TRUE | CZ41: =COUNTIF(CT41:CX41,TRUE) -> 3 | DA41: =OR(Q41>=DA$5,X41>=$U$7,W41=1) -> TRUE | DB41: =OR(V41>=DB$5,Z41=1,INDEX('הוראת שעה'!$D$6:$D$20,MATCH($AO$2,'הוראת שעה'!$A$6:$A$20,1))=99) -> TRUE | DC41: =X41>=DC$5 -> TRUE | DH41: =COUNTIF(DA41:DG41,TRUE) -> 3 | DI41: =IF($F41="","",IF(CZ41=$CU$3,1,0)) -> 1 | DJ41: =IF($F41="","",IF(AND(DH41=$CU$3,DH41-CZ41<=$DB$3),1,0)) -> 1
B42: =IF(F42="","",ROW()-30) | U42: =IF($F42="","",IF(T42>S42,$AQ$1,IFERROR(T42/S42,$AQ$1))) | AE42: =IF($F42="","",IF(OR(DI42=1,AND(DJ42=1,Z42=1)),1,0)) | AI42: =IF(F42="","",IF(G42>=$G$5,1,0)) | AN42: =IF($F42="","",IF(AJ42=1,1,IF(AP42<>1,$AQ$1,IF(SUMPRODUCT(--(G42:AI42>=$G$5:$AI$5)*($G$5:$AI$5<>"")*($G$4:$AI$4=1))=COUNTIF($G$4:$AI$4,1),1,0)))) | AP42: =IF(OR(SUM(AS42:BZ42)<>COUNT(AS42:BZ42),SUMPRODUCT(--(G42:AI42=$AQ$1))<>0),0,1) -> 0 | AQ42: =IF($F42="","",AQ$30) | AR42: =IF($F42="","",AR$30) | AS42: =IF(OR(G$30="",G$4=99),1,IF(G42="",0,IFERROR(CHOOSE(AS$28,IF(ISNA(MATCH(G42,$AQ$30:$AR$30,0)),0,1),IF(ISNUMBER(G42),1,0),IF(G42=TRUNC(G42),1,0),IF(AND(G42*1=G42,G42>=0),1,0),IF(AND(G42=TRUNC(G42),G42>=0),1,0),IF(AND(G42*1=G42,G42>0),1,0),IF(AND(G42=TRUNC(G42),G42>0),1,0),1,IF(ISNA(HLOOKUP(G42,$AT$4:$BC$4,1,0)),0,1)),0))) -> 0 | AT42: =IF(OR(H$30="",H$4=99),1,IF(H42="",0,IFERROR(CHOOSE(AT$28,IF(ISNA(MATCH(H42,$AQ$30:$AR$30,0)),0,1),IF(ISNUMBER(H42),1,0),IF(H42=TRUNC(H42),1,0),IF(AND(H42*1=H42,H42>=0),1,0),IF(AND(H42=TRUNC(H42),H42>=0),1,0),IF(AND(H42*1=H42,H42>0),1,0),IF(AND(H42=TRUNC(H42),H42>0),1,0),1,IF(ISNA(HLOOKUP(H42,$AT$4:$BC$4,1,0)),0,1)),0))) -> 0 | AU42: =IF(OR(I$30="",I$4=99),1,IF(I42="",0,IFERROR(CHOOSE(AU$28,IF(ISNA(MATCH(I42,$AQ$30:$AR$30,0)),0,1),IF(ISNUMBER(I42),1,0),IF(I42=TRUNC(I42),1,0),IF(AND(I42*1=I42,I42>=0),1,0),IF(AND(I42=TRUNC(I42),I42>=0),1,0),IF(AND(I42*1=I42,I42>0),1,0),IF(AND(I42=TRUNC(I42),I42>0),1,0),1,IF(ISNA(HLOOKUP(I42,$AT$4:$BC$4,1,0)),0,1)),0))) -> 0 | AV42: =IF(OR(J$30="",J$4=99),1,IF(J42="",0,IFERROR(CHOOSE(AV$28,IF(ISNA(MATCH(J42,$AQ$30:$AR$30,0)),0,1),IF(ISNUMBER(J42),1,0),IF(J42=TRUNC(J42),1,0),IF(AND(J42*1=J42,J42>=0),1,0),IF(AND(J42=TRUNC(J42),J42>=0),1,0),IF(AND(J42*1=J42,J42>0),1,0),IF(AND(J42=TRUNC(J42),J42>0),1,0),1,IF(ISNA(HLOOKUP(J42,$AT$4:$BC$4,1,0)),0,1)),0))) -> 0 | AW42: =IF(OR(K$30="",K$4=99),1,IF(K42="",0,IFERROR(CHOOSE(AW$28,IF(ISNA(MATCH(K42,$AQ$30:$AR$30,0)),0,1),IF(ISNUMBER(K42),1,0),IF(K42=TRUNC(K42),1,0),IF(AND(K42*1=K42,K42>=0),1,0),IF(AND(K42=TRUNC(K42),K42>=0),1,0),IF(AND(K42*1=K42,K42>0),1,0),IF(AND(K42=TRUNC(K42),K42>0),1,0),1,IF(ISNA(HLOOKUP(K42,$AT$4:$BC$4,1,0)),0,1)),0))) -> 0 | AX42: =IF(OR(L$30="",L$4=99),1,IF(L42="",0,IFERROR(CHOOSE(AX$28,IF(ISNA(MATCH(L42,$AQ$30:$AR$30,0)),0,1),IF(ISNUMBER(L42),1,0),IF(L42=TRUNC(L42),1,0),IF(AND(L42*1=L42,L42>=0),1,0),IF(AND(L42=TRUNC(L42),L42>=0),1,0),IF(AND(L42*1=L42,L42>0),1,0),IF(AND(L42=TRUNC(L42),L42>0),1,0),1,IF(ISNA(HLOOKUP(L42,$AT$4:$BC$4,1,0)),0,1)),0))) -> 0 | AY42: =IF(OR(M$30="",M$4=99),1,IF(M42="",0,IFERROR(CHOOSE(AY$28,IF(ISNA(MATCH(M42,$AQ$30:$AR$30,0)),0,1),IF(ISNUMBER(M42),1,0),IF(M42=TRUNC(M42),1,0),IF(AND(M42*1=M42,M42>=0),1,0),IF(AND(M42=TRUNC(M42),M42>=0),1,0),IF(AND(M42*1=M42,M42>0),1,0),IF(AND(M42=TRUNC(M42),M42>0),1,0),1,IF(ISNA(HLOOKUP(M42,$AT$4:$BC$4,1,0)),0,1)),0))) -> 0 | AZ42: =IF(OR(N$30="",N$4=99),1,IF(N42="",0,IFERROR(CHOOSE(AZ$28,IF(ISNA(MATCH(N42,$AQ$30:$AR$30,0)),0,1),IF(ISNUMBER(N42),1,0),IF(N42=TRUNC(N42),1,0),IF(AND(N42*1=N42,N42>=0),1,0),IF(AND(N42=TRUNC(N42),N42>=0),1,0),IF(AND(N42*1=N42,N42>0),1,0),IF(AND(N42=TRUNC(N42),N42>0),1,0),1,IF(ISNA(HLOOKUP(N42,$AT$4:$BC$4,1,0)),0,1)),0))) -> 0 | ... BF42: =IF(OR(T$30="",T$4=99),1,IF(T42="",0,IFERROR(CHOOSE(BF$28,IF(ISNA(MATCH(T42,$AQ$30:$AR$30,0)),0,1),IF(ISNUMBER(T42),1,0),IF(T42=TRUNC(T42),1,0),IF(AND(T42*1=T42,T42>=0),1,0),IF(AND(T42=TRUNC(T42),T42>=0),1,0),IF(AND(T42*1=T42,T42>0),1,0),IF(AND(T42=TRUNC(T42),T42>0),1,0),1,IF(ISNA(HLOOKUP(T42,$AT$4:$BC$4,1,0)),0,1)),0))) -> 0 | BH42: =IF(OR(V$30="",V$4=99),1,IF(V42="",0,IFERROR(CHOOSE(BH$28,IF(ISNA(MATCH(V42,$AQ$30:$AR$30,0)),0,1),IF(ISNUMBER(V42),1,0),IF(V42=TRUNC(V42),1,0),IF(AND(V42*1=V42,V42>=0),1,0),IF(AND(V42=TRUNC(V42),V42>=0),1,0),IF(AND(V42*1=V42,V42>0),1,0),IF(AND(V42=TRUNC(V42),V42>0),1,0),1,IF(ISNA(HLOOKUP(V42,$AT$4:$BC$4,1,0)),0,1)),0))) -> 0 | BI42: =IF(OR(W$30="",W$4=99),1,IF(W42="",0,IFERROR(CHOOSE(BI$28,IF(ISNA(MATCH(W42,$AQ$30:$AR$30,0)),0,1),IF(ISNUMBER(W42),1,0),IF(W42=TRUNC(W42),1,0),IF(AND(W42*1=W42,W42>=0),1,0),IF(AND(W42=TRUNC(W42),W42>=0),1,0),IF(AND(W42*1=W42,W42>0),1,0),IF(AND(W42=TRUNC(W42),W42>0),1,0),1,IF(ISNA(HLOOKUP(W42,$AT$4:$BC$4,1,0)),0,1)),0))) -> 1 | BJ42: =IF(OR(X$30="",X$4=99),1,IF(X42="",0,IFERROR(CHOOSE(BJ$28,IF(ISNA(MATCH(X42,$AQ$30:$AR$30,0)),0,1),IF(ISNUMBER(X42),1,0),IF(X42=TRUNC(X42),1,0),IF(AND(X42*1=X42,X42>=0),1,0),IF(AND(X42=TRUNC(X42),X42>=0),1,0),IF(AND(X42*1=X42,X42>0),1,0),IF(AND(X42=TRUNC(X42),X42>0),1,0),1,IF(ISNA(HLOOKUP(X42,$AT$4:$BC$4,1,0)),0,1)),0))) -> 0 | BK42: =IF(OR(Y$30="",Y$4=99),1,IF(Y42="",0,IFERROR(CHOOSE(BK$28,IF(ISNA(MATCH(Y42,$AQ$30:$AR$30,0)),0,1),IF(ISNUMBER(Y42),1,0),IF(Y42=TRUNC(Y42),1,0),IF(AND(Y42*1=Y42,Y42>=0),1,0),IF(AND(Y42=TRUNC(Y42),Y42>=0),1,0),IF(AND(Y42*1=Y42,Y42>0),1,0),IF(AND(Y42=TRUNC(Y42),Y42>0),1,0),1,IF(ISNA(HLOOKUP(Y42,$AT$4:$BC$4,1,0)),0,1)),0))) -> 0 | BL42: =IF(OR(Z$30="",Z$4=99),1,IF(Z42="",0,IFERROR(CHOOSE(BL$28,IF(ISNA(MATCH(Z42,$AQ$30:$AR$30,0)),0,1),IF(ISNUMBER(Z42),1,0),IF(Z42=TRUNC(Z42),1,0),IF(AND(Z42*1=Z42,Z42>=0),1,0),IF(AND(Z42=TRUNC(Z42),Z42>=0),1,0),IF(AND(Z42*1=Z42,Z42>0),1,0),IF(AND(Z42=TRUNC(Z42),Z42>0),1,0),1,IF(ISNA(HLOOKUP(Z42,$AT$4:$BC$4,1,0)),0,1)),0))) -> 1 | BS42: =IF(OR(AG$30="",AG$4=99),1,IF(AG42="",0,IFERROR(CHOOSE(BS$28,IF(ISNA(MATCH(AG42,$AQ$30:$AR$30,0)),0,1),IF(ISNUMBER(AG42),1,0),IF(AG42=TRUNC(AG42),1,0),IF(AND(AG42*1=AG42,AG42>=0),1,0),IF(AND(AG42=TRUNC(AG42),AG42>=0),1,0),IF(AND(AG42*1=AG42,AG42>0),1,0),IF(AND(AG42=TRUNC(AG42),AG42>0),1,0),1,IF(ISNA(HLOOKUP(AG42,$AT$4:$BC$4,1,0)),0,1)),0))) -> 0 | BT42: =IF(OR(AH$30="",AH$4=99),1,IF(AH42="",0,IFERROR(CHOOSE(BT$28,IF(ISNA(MATCH(AH42,$AQ$30:$AR$30,0)),0,1),IF(ISNUMBER(AH42),1,0),IF(AH42=TRUNC(AH42),1,0),IF(AND(AH42*1=AH42,AH42>=0),1,0),IF(AND(AH42=TRUNC(AH42),AH42>=0),1,0),IF(AND(AH42*1=AH42,AH42>0),1,0),IF(AND(AH42=TRUNC(AH42),AH42>0),1,0),1,IF(ISNA(HLOOKUP(AH42,$AT$4:$BC$4,1,0)),0,1)),0))) -> 0 | CE42: =IF($F42="","",CE$30) | CF42: =IF($F42="","",CF$30) | CG42: =IF($F42="","",CG$30) | CH42: =IF($F42="","",CH$30) | CI42: =IF($F42="","",CI$30) | CJ42: =IF($F42="","",CJ$30) | CK42: =IF($F42="","",CK$30) | CL42: =IF($F42="","",CL$30) | ... CN42: =IF($F42="","",CN$30) | CT42: =OR(U42>=CT$5,X42>=$U$7,W42=1) -> TRUE | CU42: =OR(V42>=CU$5,INDEX('הוראת שעה'!$D$6:$D$20,MATCH($AO$2,'הוראת שעה'!$A$6:$A$20,1))=99) -> FALSE | CV42: =X42>=CV$5 -> FALSE | CZ42: =COUNTIF(CT42:CX42,TRUE) -> 1 | DA42: =OR(Q42>=DA$5,X42>=$U$7,W42=1) -> FALSE | DB42: =OR(V42>=DB$5,Z42=1,INDEX('הוראת שעה'!$D$6:$D$20,MATCH($AO$2,'הוראת שעה'!$A$6:$A$20,1))=99) -> FALSE | DC42: =X42>=DC$5 -> FALSE | DH42: =COUNTIF(DA42:DG42,TRUE) -> 0 | DI42: =IF($F42="","",IF(CZ42=$CU$3,1,0)) | DJ42: =IF($F42="","",IF(AND(DH42=$CU$3,DH42-CZ42<=$DB$3),1,0))
B43: =IF(F43="","",ROW()-30) | U43: =IF($F43="","",IF(T43>S43,$AQ$1,IFERROR(T43/S43,$AQ$1))) | AE43: =IF($F43="","",IF(OR(DI43=1,AND(DJ43=1,Z43=1)),1,0)) | AI43: =IF(F43="","",IF(G43>=$G$5,1,0)) | AN43: =IF($F43="","",IF(AJ43=1,1,IF(AP43<>1,$AQ$1,IF(SUMPRODUCT(--(G43:AI43>=$G$5:$AI$5)*($G$5:$AI$5<>"")*($G$4:$AI$4=1))=COUNTIF($G$4:$AI$4,1),1,0)))) | AP43: =IF(OR(SUM(AS43:BZ43)<>COUNT(AS43:BZ43),SUMPRODUCT(--(G43:AI43=$AQ$1))<>0),0,1) -> 0 | AQ43: =IF($F43="","",AQ$30) | AR43: =IF($F43="","",AR$30) | AS43: =IF(OR(G$30="",G$4=99),1,IF(G43="",0,IFERROR(CHOOSE(AS$28,IF(ISNA(MATCH(G43,$AQ$30:$AR$30,0)),0,1),IF(ISNUMBER(G43),1,0),IF(G43=TRUNC(G43),1,0),IF(AND(G43*1=G43,G43>=0),1,0),IF(AND(G43=TRUNC(G43),G43>=0),1,0),IF(AND(G43*1=G43,G43>0),1,0),IF(AND(G43=TRUNC(G43),G43>0),1,0),1,IF(ISNA(HLOOKUP(G43,$AT$4:$BC$4,1,0)),0,1)),0))) -> 0 | AT43: =IF(OR(H$30="",H$4=99),1,IF(H43="",0,IFERROR(CHOOSE(AT$28,IF(ISNA(MATCH(H43,$AQ$30:$AR$30,0)),0,1),IF(ISNUMBER(H43),1,0),IF(H43=TRUNC(H43),1,0),IF(AND(H43*1=H43,H43>=0),1,0),IF(AND(H43=TRUNC(H43),H43>=0),1,0),IF(AND(H43*1=H43,H43>0),1,0),IF(AND(H43=TRUNC(H43),H43>0),1,0),1,IF(ISNA(HLOOKUP(H43,$AT$4:$BC$4,1,0)),0,1)),0))) -> 0 | AU43: =IF(OR(I$30="",I$4=99),1,IF(I43="",0,IFERROR(CHOOSE(AU$28,IF(ISNA(MATCH(I43,$AQ$30:$AR$30,0)),0,1),IF(ISNUMBER(I43),1,0),IF(I43=TRUNC(I43),1,0),IF(AND(I43*1=I43,I43>=0),1,0),IF(AND(I43=TRUNC(I43),I43>=0),1,0),IF(AND(I43*1=I43,I43>0),1,0),IF(AND(I43=TRUNC(I43),I43>0),1,0),1,IF(ISNA(HLOOKUP(I43,$AT$4:$BC$4,1,0)),0,1)),0))) -> 0 | AV43: =IF(OR(J$30="",J$4=99),1,IF(J43="",0,IFERROR(CHOOSE(AV$28,IF(ISNA(MATCH(J43,$AQ$30:$AR$30,0)),0,1),IF(ISNUMBER(J43),1,0),IF(J43=TRUNC(J43),1,0),IF(AND(J43*1=J43,J43>=0),1,0),IF(AND(J43=TRUNC(J43),J43>=0),1,0),IF(AND(J43*1=J43,J43>0),1,0),IF(AND(J43=TRUNC(J43),J43>0),1,0),1,IF(ISNA(HLOOKUP(J43,$AT$4:$BC$4,1,0)),0,1)),0))) -> 0 | AW43: =IF(OR(K$30="",K$4=99),1,IF(K43="",0,IFERROR(CHOOSE(AW$28,IF(ISNA(MATCH(K43,$AQ$30:$AR$30,0)),0,1),IF(ISNUMBER(K43),1,0),IF(K43=TRUNC(K43),1,0),IF(AND(K43*1=K43,K43>=0),1,0),IF(AND(K43=TRUNC(K43),K43>=0),1,0),IF(AND(K43*1=K43,K43>0),1,0),IF(AND(K43=TRUNC(K43),K43>0),1,0),1,IF(ISNA(HLOOKUP(K43,$AT$4:$BC$4,1,0)),0,1)),0))) -> 0 | AX43: =IF(OR(L$30="",L$4=99),1,IF(L43="",0,IFERROR(CHOOSE(AX$28,IF(ISNA(MATCH(L43,$AQ$30:$AR$30,0)),0,1),IF(ISNUMBER(L43),1,0),IF(L43=TRUNC(L43),1,0),IF(AND(L43*1=L43,L43>=0),1,0),IF(AND(L43=TRUNC(L43),L43>=0),1,0),IF(AND(L43*1=L43,L43>0),1,0),IF(AND(L43=TRUNC(L43),L43>0),1,0),1,IF(ISNA(HLOOKUP(L43,$AT$4:$BC$4,1,0)),0,1)),0))) -> 0 | AY43: =IF(OR(M$30="",M$4=99),1,IF(M43="",0,IFERROR(CHOOSE(AY$28,IF(ISNA(MATCH(M43,$AQ$30:$AR$30,0)),0,1),IF(ISNUMBER(M43),1,0),IF(M43=TRUNC(M43),1,0),IF(AND(M43*1=M43,M43>=0),1,0),IF(AND(M43=TRUNC(M43),M43>=0),1,0),IF(AND(M43*1=M43,M43>0),1,0),IF(AND(M43=TRUNC(M43),M43>0),1,0),1,IF(ISNA(HLOOKUP(M43,$AT$4:$BC$4,1,0)),0,1)),0))) -> 0 | AZ43: =IF(OR(N$30="",N$4=99),1,IF(N43="",0,IFERROR(CHOOSE(AZ$28,IF(ISNA(MATCH(N43,$AQ$30:$AR$30,0)),0,1),IF(ISNUMBER(N43),1,0),IF(N43=TRUNC(N43),1,0),IF(AND(N43*1=N43,N43>=0),1,0),IF(AND(N43=TRUNC(N43),N43>=0),1,0),IF(AND(N43*1=N43,N43>0),1,0),IF(AND(N43=TRUNC(N43),N43>0),1,0),1,IF(ISNA(HLOOKUP(N43,$AT$4:$BC$4,1,0)),0,1)),0))) -> 0 | ... BF43: =IF(OR(T$30="",T$4=99),1,IF(T43="",0,IFERROR(CHOOSE(BF$28,IF(ISNA(MATCH(T43,$AQ$30:$AR$30,0)),0,1),IF(ISNUMBER(T43),1,0),IF(T43=TRUNC(T43),1,0),IF(AND(T43*1=T43,T43>=0),1,0),IF(AND(T43=TRUNC(T43),T43>=0),1,0),IF(AND(T43*1=T43,T43>0),1,0),IF(AND(T43=TRUNC(T43),T43>0),1,0),1,IF(ISNA(HLOOKUP(T43,$AT$4:$BC$4,1,0)),0,1)),0))) -> 0 | BH43: =IF(OR(V$30="",V$4=99),1,IF(V43="",0,IFERROR(CHOOSE(BH$28,IF(ISNA(MATCH(V43,$AQ$30:$AR$30,0)),0,1),IF(ISNUMBER(V43),1,0),IF(V43=TRUNC(V43),1,0),IF(AND(V43*1=V43,V43>=0),1,0),IF(AND(V43=TRUNC(V43),V43>=0),1,0),IF(AND(V43*1=V43,V43>0),1,0),IF(AND(V43=TRUNC(V43),V43>0),1,0),1,IF(ISNA(HLOOKUP(V43,$AT$4:$BC$4,1,0)),0,1)),0))) -> 0 | BI43: =IF(OR(W$30="",W$4=99),1,IF(W43="",0,IFERROR(CHOOSE(BI$28,IF(ISNA(MATCH(W43,$AQ$30:$AR$30,0)),0,1),IF(ISNUMBER(W43),1,0),IF(W43=TRUNC(W43),1,0),IF(AND(W43*1=W43,W43>=0),1,0),IF(AND(W43=TRUNC(W43),W43>=0),1,0),IF(AND(W43*1=W43,W43>0),1,0),IF(AND(W43=TRUNC(W43),W43>0),1,0),1,IF(ISNA(HLOOKUP(W43,$AT$4:$BC$4,1,0)),0,1)),0))) -> 1 | BJ43: =IF(OR(X$30="",X$4=99),1,IF(X43="",0,IFERROR(CHOOSE(BJ$28,IF(ISNA(MATCH(X43,$AQ$30:$AR$30,0)),0,1),IF(ISNUMBER(X43),1,0),IF(X43=TRUNC(X43),1,0),IF(AND(X43*1=X43,X43>=0),1,0),IF(AND(X43=TRUNC(X43),X43>=0),1,0),IF(AND(X43*1=X43,X43>0),1,0),IF(AND(X43=TRUNC(X43),X43>0),1,0),1,IF(ISNA(HLOOKUP(X43,$AT$4:$BC$4,1,0)),0,1)),0))) -> 0 | BK43: =IF(OR(Y$30="",Y$4=99),1,IF(Y43="",0,IFERROR(CHOOSE(BK$28,IF(ISNA(MATCH(Y43,$AQ$30:$AR$30,0)),0,1),IF(ISNUMBER(Y43),1,0),IF(Y43=TRUNC(Y43),1,0),IF(AND(Y43*1=Y43,Y43>=0),1,0),IF(AND(Y43=TRUNC(Y43),Y43>=0),1,0),IF(AND(Y43*1=Y43,Y43>0),1,0),IF(AND(Y43=TRUNC(Y43),Y43>0),1,0),1,IF(ISNA(HLOOKUP(Y43,$AT$4:$BC$4,1,0)),0,1)),0))) -> 0 | BL43: =IF(OR(Z$30="",Z$4=99),1,IF(Z43="",0,IFERROR(CHOOSE(BL$28,IF(ISNA(MATCH(Z43,$AQ$30:$AR$30,0)),0,1),IF(ISNUMBER(Z43),1,0),IF(Z43=TRUNC(Z43),1,0),IF(AND(Z43*1=Z43,Z43>=0),1,0),IF(AND(Z43=TRUNC(Z43),Z43>=0),1,0),IF(AND(Z43*1=Z43,Z43>0),1,0),IF(AND(Z43=TRUNC(Z43),Z43>0),1,0),1,IF(ISNA(HLOOKUP(Z43,$AT$4:$BC$4,1,0)),0,1)),0))) -> 1 | BS43: =IF(OR(AG$30="",AG$4=99),1,IF(AG43="",0,IFERROR(CHOOSE(BS$28,IF(ISNA(MATCH(AG43,$AQ$30:$AR$30,0)),0,1),IF(ISNUMBER(AG43),1,0),IF(AG43=TRUNC(AG43),1,0),IF(AND(AG43*1=AG43,AG43>=0),1,0),IF(AND(AG43=TRUNC(AG43),AG43>=0),1,0),IF(AND(AG43*1=AG43,AG43>0),1,0),IF(AND(AG43=TRUNC(AG43),AG43>0),1,0),1,IF(ISNA(HLOOKUP(AG43,$AT$4:$BC$4,1,0)),0,1)),0))) -> 0 | BT43: =IF(OR(AH$30="",AH$4=99),1,IF(AH43="",0,IFERROR(CHOOSE(BT$28,IF(ISNA(MATCH(AH43,$AQ$30:$AR$30,0)),0,1),IF(ISNUMBER(AH43),1,0),IF(AH43=TRUNC(AH43),1,0),IF(AND(AH43*1=AH43,AH43>=0),1,0),IF(AND(AH43=TRUNC(AH43),AH43>=0),1,0),IF(AND(AH43*1=AH43,AH43>0),1,0),IF(AND(AH43=TRUNC(AH43),AH43>0),1,0),1,IF(ISNA(HLOOKUP(AH43,$AT$4:$BC$4,1,0)),0,1)),0))) -> 0 | CE43: =IF($F43="","",CE$30) | CF43: =IF($F43="","",CF$30) | CG43: =IF($F43="","",CG$30) | CH43: =IF($F43="","",CH$30) | CI43: =IF($F43="","",CI$30) | CJ43: =IF($F43="","",CJ$30) | CK43: =IF($F43="","",CK$30) | CL43: =IF($F43="","",CL$30) | ... CN43: =IF($F43="","",CN$30) | CT43: =OR(U43>=CT$5,X43>=$U$7,W43=1) -> TRUE | CU43: =OR(V43>=CU$5,INDEX('הוראת שעה'!$D$6:$D$20,MATCH($AO$2,'הוראת שעה'!$A$6:$A$20,1))=99) -> FALSE | CV43: =X43>=CV$5 -> FALSE | CZ43: =COUNTIF(CT43:CX43,TRUE) -> 1 | DA43: =OR(Q43>=DA$5,X43>=$U$7,W43=1) -> FALSE | DB43: =OR(V43>=DB$5,Z43=1,INDEX('הוראת שעה'!$D$6:$D$20,MATCH($AO$2,'הוראת שעה'!$A$6:$A$20,1))=99) -> FALSE | DC43: =X43>=DC$5 -> FALSE | DH43: =COUNTIF(DA43:DG43,TRUE) -> 0 | DI43: =IF($F43="","",IF(CZ43=$CU$3,1,0)) | DJ43: =IF($F43="","",IF(AND(DH43=$CU$3,DH43-CZ43<=$DB$3),1,0))
B44: =IF(F44="","",ROW()-30) | U44: =IF($F44="","",IF(T44>S44,$AQ$1,IFERROR(T44/S44,$AQ$1))) | AE44: =IF($F44="","",IF(OR(DI44=1,AND(DJ44=1,Z44=1)),1,0)) | AI44: =IF(F44="","",IF(G44>=$G$5,1,0)) | AN44: =IF($F44="","",IF(AJ44=1,1,IF(AP44<>1,$AQ$1,IF(SUMPRODUCT(--(G44:AI44>=$G$5:$AI$5)*($G$5:$AI$5<>"")*($G$4:$AI$4=1))=COUNTIF($G$4:$AI$4,1),1,0)))) | AP44: =IF(OR(SUM(AS44:BZ44)<>COUNT(AS44:BZ44),SUMPRODUCT(--(G44:AI44=$AQ$1))<>0),0,1) -> 0 | AQ44: =IF($F44="","",AQ$30) | AR44: =IF($F44="","",AR$30) | AS44: =IF(OR(G$30="",G$4=99),1,IF(G44="",0,IFERROR(CHOOSE(AS$28,IF(ISNA(MATCH(G44,$AQ$30:$AR$30,0)),0,1),IF(ISNUMBER(G44),1,0),IF(G44=TRUNC(G44),1,0),IF(AND(G44*1=G44,G44>=0),1,0),IF(AND(G44=TRUNC(G44),G44>=0),1,0),IF(AND(G44*1=G44,G44>0),1,0),IF(AND(G44=TRUNC(G44),G44>0),1,0),1,IF(ISNA(HLOOKUP(G44,$AT$4:$BC$4,1,0)),0,1)),0))) -> 0 | AT44: =IF(OR(H$30="",H$4=99),1,IF(H44="",0,IFERROR(CHOOSE(AT$28,IF(ISNA(MATCH(H44,$AQ$30:$AR$30,0)),0,1),IF(ISNUMBER(H44),1,0),IF(H44=TRUNC(H44),1,0),IF(AND(H44*1=H44,H44>=0),1,0),IF(AND(H44=TRUNC(H44),H44>=0),1,0),IF(AND(H44*1=H44,H44>0),1,0),IF(AND(H44=TRUNC(H44),H44>0),1,0),1,IF(ISNA(HLOOKUP(H44,$AT$4:$BC$4,1,0)),0,1)),0))) -> 0 | AU44: =IF(OR(I$30="",I$4=99),1,IF(I44="",0,IFERROR(CHOOSE(AU$28,IF(ISNA(MATCH(I44,$AQ$30:$AR$30,0)),0,1),IF(ISNUMBER(I44),1,0),IF(I44=TRUNC(I44),1,0),IF(AND(I44*1=I44,I44>=0),1,0),IF(AND(I44=TRUNC(I44),I44>=0),1,0),IF(AND(I44*1=I44,I44>0),1,0),IF(AND(I44=TRUNC(I44),I44>0),1,0),1,IF(ISNA(HLOOKUP(I44,$AT$4:$BC$4,1,0)),0,1)),0))) -> 0 | AV44: =IF(OR(J$30="",J$4=99),1,IF(J44="",0,IFERROR(CHOOSE(AV$28,IF(ISNA(MATCH(J44,$AQ$30:$AR$30,0)),0,1),IF(ISNUMBER(J44),1,0),IF(J44=TRUNC(J44),1,0),IF(AND(J44*1=J44,J44>=0),1,0),IF(AND(J44=TRUNC(J44),J44>=0),1,0),IF(AND(J44*1=J44,J44>0),1,0),IF(AND(J44=TRUNC(J44),J44>0),1,0),1,IF(ISNA(HLOOKUP(J44,$AT$4:$BC$4,1,0)),0,1)),0))) -> 0 | AW44: =IF(OR(K$30="",K$4=99),1,IF(K44="",0,IFERROR(CHOOSE(AW$28,IF(ISNA(MATCH(K44,$AQ$30:$AR$30,0)),0,1),IF(ISNUMBER(K44),1,0),IF(K44=TRUNC(K44),1,0),IF(AND(K44*1=K44,K44>=0),1,0),IF(AND(K44=TRUNC(K44),K44>=0),1,0),IF(AND(K44*1=K44,K44>0),1,0),IF(AND(K44=TRUNC(K44),K44>0),1,0),1,IF(ISNA(HLOOKUP(K44,$AT$4:$BC$4,1,0)),0,1)),0))) -> 0 | AX44: =IF(OR(L$30="",L$4=99),1,IF(L44="",0,IFERROR(CHOOSE(AX$28,IF(ISNA(MATCH(L44,$AQ$30:$AR$30,0)),0,1),IF(ISNUMBER(L44),1,0),IF(L44=TRUNC(L44),1,0),IF(AND(L44*1=L44,L44>=0),1,0),IF(AND(L44=TRUNC(L44),L44>=0),1,0),IF(AND(L44*1=L44,L44>0),1,0),IF(AND(L44=TRUNC(L44),L44>0),1,0),1,IF(ISNA(HLOOKUP(L44,$AT$4:$BC$4,1,0)),0,1)),0))) -> 0 | AY44: =IF(OR(M$30="",M$4=99),1,IF(M44="",0,IFERROR(CHOOSE(AY$28,IF(ISNA(MATCH(M44,$AQ$30:$AR$30,0)),0,1),IF(ISNUMBER(M44),1,0),IF(M44=TRUNC(M44),1,0),IF(AND(M44*1=M44,M44>=0),1,0),IF(AND(M44=TRUNC(M44),M44>=0),1,0),IF(AND(M44*1=M44,M44>0),1,0),IF(AND(M44=TRUNC(M44),M44>0),1,0),1,IF(ISNA(HLOOKUP(M44,$AT$4:$BC$4,1,0)),0,1)),0))) -> 0 | AZ44: =IF(OR(N$30="",N$4=99),1,IF(N44="",0,IFERROR(CHOOSE(AZ$28,IF(ISNA(MATCH(N44,$AQ$30:$AR$30,0)),0,1),IF(ISNUMBER(N44),1,0),IF(N44=TRUNC(N44),1,0),IF(AND(N44*1=N44,N44>=0),1,0),IF(AND(N44=TRUNC(N44),N44>=0),1,0),IF(AND(N44*1=N44,N44>0),1,0),IF(AND(N44=TRUNC(N44),N44>0),1,0),1,IF(ISNA(HLOOKUP(N44,$AT$4:$BC$4,1,0)),0,1)),0))) -> 0 | ... BF44: =IF(OR(T$30="",T$4=99),1,IF(T44="",0,IFERROR(CHOOSE(BF$28,IF(ISNA(MATCH(T44,$AQ$30:$AR$30,0)),0,1),IF(ISNUMBER(T44),1,0),IF(T44=TRUNC(T44),1,0),IF(AND(T44*1=T44,T44>=0),1,0),IF(AND(T44=TRUNC(T44),T44>=0),1,0),IF(AND(T44*1=T44,T44>0),1,0),IF(AND(T44=TRUNC(T44),T44>0),1,0),1,IF(ISNA(HLOOKUP(T44,$AT$4:$BC$4,1,0)),0,1)),0))) -> 0 | BH44: =IF(OR(V$30="",V$4=99),1,IF(V44="",0,IFERROR(CHOOSE(BH$28,IF(ISNA(MATCH(V44,$AQ$30:$AR$30,0)),0,1),IF(ISNUMBER(V44),1,0),IF(V44=TRUNC(V44),1,0),IF(AND(V44*1=V44,V44>=0),1,0),IF(AND(V44=TRUNC(V44),V44>=0),1,0),IF(AND(V44*1=V44,V44>0),1,0),IF(AND(V44=TRUNC(V44),V44>0),1,0),1,IF(ISNA(HLOOKUP(V44,$AT$4:$BC$4,1,0)),0,1)),0))) -> 0 | BI44: =IF(OR(W$30="",W$4=99),1,IF(W44="",0,IFERROR(CHOOSE(BI$28,IF(ISNA(MATCH(W44,$AQ$30:$AR$30,0)),0,1),IF(ISNUMBER(W44),1,0),IF(W44=TRUNC(W44),1,0),IF(AND(W44*1=W44,W44>=0),1,0),IF(AND(W44=TRUNC(W44),W44>=0),1,0),IF(AND(W44*1=W44,W44>0),1,0),IF(AND(W44=TRUNC(W44),W44>0),1,0),1,IF(ISNA(HLOOKUP(W44,$AT$4:$BC$4,1,0)),0,1)),0))) -> 1 | BJ44: =IF(OR(X$30="",X$4=99),1,IF(X44="",0,IFERROR(CHOOSE(BJ$28,IF(ISNA(MATCH(X44,$AQ$30:$AR$30,0)),0,1),IF(ISNUMBER(X44),1,0),IF(X44=TRUNC(X44),1,0),IF(AND(X44*1=X44,X44>=0),1,0),IF(AND(X44=TRUNC(X44),X44>=0),1,0),IF(AND(X44*1=X44,X44>0),1,0),IF(AND(X44=TRUNC(X44),X44>0),1,0),1,IF(ISNA(HLOOKUP(X44,$AT$4:$BC$4,1,0)),0,1)),0))) -> 0 | BK44: =IF(OR(Y$30="",Y$4=99),1,IF(Y44="",0,IFERROR(CHOOSE(BK$28,IF(ISNA(MATCH(Y44,$AQ$30:$AR$30,0)),0,1),IF(ISNUMBER(Y44),1,0),IF(Y44=TRUNC(Y44),1,0),IF(AND(Y44*1=Y44,Y44>=0),1,0),IF(AND(Y44=TRUNC(Y44),Y44>=0),1,0),IF(AND(Y44*1=Y44,Y44>0),1,0),IF(AND(Y44=TRUNC(Y44),Y44>0),1,0),1,IF(ISNA(HLOOKUP(Y44,$AT$4:$BC$4,1,0)),0,1)),0))) -> 0 | BL44: =IF(OR(Z$30="",Z$4=99),1,IF(Z44="",0,IFERROR(CHOOSE(BL$28,IF(ISNA(MATCH(Z44,$AQ$30:$AR$30,0)),0,1),IF(ISNUMBER(Z44),1,0),IF(Z44=TRUNC(Z44),1,0),IF(AND(Z44*1=Z44,Z44>=0),1,0),IF(AND(Z44=TRUNC(Z44),Z44>=0),1,0),IF(AND(Z44*1=Z44,Z44>0),1,0),IF(AND(Z44=TRUNC(Z44),Z44>0),1,0),1,IF(ISNA(HLOOKUP(Z44,$AT$4:$BC$4,1,0)),0,1)),0))) -> 1 | BS44: =IF(OR(AG$30="",AG$4=99),1,IF(AG44="",0,IFERROR(CHOOSE(BS$28,IF(ISNA(MATCH(AG44,$AQ$30:$AR$30,0)),0,1),IF(ISNUMBER(AG44),1,0),IF(AG44=TRUNC(AG44),1,0),IF(AND(AG44*1=AG44,AG44>=0),1,0),IF(AND(AG44=TRUNC(AG44),AG44>=0),1,0),IF(AND(AG44*1=AG44,AG44>0),1,0),IF(AND(AG44=TRUNC(AG44),AG44>0),1,0),1,IF(ISNA(HLOOKUP(AG44,$AT$4:$BC$4,1,0)),0,1)),0))) -> 0 | BT44: =IF(OR(AH$30="",AH$4=99),1,IF(AH44="",0,IFERROR(CHOOSE(BT$28,IF(ISNA(MATCH(AH44,$AQ$30:$AR$30,0)),0,1),IF(ISNUMBER(AH44),1,0),IF(AH44=TRUNC(AH44),1,0),IF(AND(AH44*1=AH44,AH44>=0),1,0),IF(AND(AH44=TRUNC(AH44),AH44>=0),1,0),IF(AND(AH44*1=AH44,AH44>0),1,0),IF(AND(AH44=TRUNC(AH44),AH44>0),1,0),1,IF(ISNA(HLOOKUP(AH44,$AT$4:$BC$4,1,0)),0,1)),0))) -> 0 | CE44: =IF($F44="","",CE$30) | CF44: =IF($F44="","",CF$30) | CG44: =IF($F44="","",CG$30) | CH44: =IF($F44="","",CH$30) | CI44: =IF($F44="","",CI$30) | CJ44: =IF($F44="","",CJ$30) | CK44: =IF($F44="","",CK$30) | CL44: =IF($F44="","",CL$30) | ... CN44: =IF($F44="","",CN$30) | CT44: =OR(U44>=CT$5,X44>=$U$7,W44=1) -> TRUE | CU44: =OR(V44>=CU$5,INDEX('הוראת שעה'!$D$6:$D$20,MATCH($AO$2,'הוראת שעה'!$A$6:$A$20,1))=99) -> FALSE | CV44: =X44>=CV$5 -> FALSE | CZ44: =COUNTIF(CT44:CX44,TRUE) -> 1 | DA44: =OR(Q44>=DA$5,X44>=$U$7,W44=1) -> FALSE | DB44: =OR(V44>=DB$5,Z44=1,INDEX('הוראת שעה'!$D$6:$D$20,MATCH($AO$2,'הוראת שעה'!$A$6:$A$20,1))=99) -> FALSE | DC44: =X44>=DC$5 -> FALSE | DH44: =COUNTIF(DA44:DG44,TRUE) -> 0 | DI44: =IF($F44="","",IF(CZ44=$CU$3,1,0)) | DJ44: =IF($F44="","",IF(AND(DH44=$CU$3,DH44-CZ44<=$DB$3),1,0))
B45: =IF(F45="","",ROW()-30) | U45: =IF($F45="","",IF(T45>S45,$AQ$1,IFERROR(T45/S45,$AQ$1))) | AE45: =IF($F45="","",IF(OR(DI45=1,AND(DJ45=1,Z45=1)),1,0)) | AI45: =IF(F45="","",IF(G45>=$G$5,1,0)) | AN45: =IF($F45="","",IF(AJ45=1,1,IF(AP45<>1,$AQ$1,IF(SUMPRODUCT(--(G45:AI45>=$G$5:$AI$5)*($G$5:$AI$5<>"")*($G$4:$AI$4=1))=COUNTIF($G$4:$AI$4,1),1,0)))) | AP45: =IF(OR(SUM(AS45:BZ45)<>COUNT(AS45:BZ45),SUMPRODUCT(--(G45:AI45=$AQ$1))<>0),0,1) -> 0 | AQ45: =IF($F45="","",AQ$30) | AR45: =IF($F45="","",AR$30) | AS45: =IF(OR(G$30="",G$4=99),1,IF(G45="",0,IFERROR(CHOOSE(AS$28,IF(ISNA(MATCH(G45,$AQ$30:$AR$30,0)),0,1),IF(ISNUMBER(G45),1,0),IF(G45=TRUNC(G45),1,0),IF(AND(G45*1=G45,G45>=0),1,0),IF(AND(G45=TRUNC(G45),G45>=0),1,0),IF(AND(G45*1=G45,G45>0),1,0),IF(AND(G45=TRUNC(G45),G45>0),1,0),1,IF(ISNA(HLOOKUP(G45,$AT$4:$BC$4,1,0)),0,1)),0))) -> 0 | AT45: =IF(OR(H$30="",H$4=99),1,IF(H45="",0,IFERROR(CHOOSE(AT$28,IF(ISNA(MATCH(H45,$AQ$30:$AR$30,0)),0,1),IF(ISNUMBER(H45),1,0),IF(H45=TRUNC(H45),1,0),IF(AND(H45*1=H45,H45>=0),1,0),IF(AND(H45=TRUNC(H45),H45>=0),1,0),IF(AND(H45*1=H45,H45>0),1,0),IF(AND(H45=TRUNC(H45),H45>0),1,0),1,IF(ISNA(HLOOKUP(H45,$AT$4:$BC$4,1,0)),0,1)),0))) -> 0 | AU45: =IF(OR(I$30="",I$4=99),1,IF(I45="",0,IFERROR(CHOOSE(AU$28,IF(ISNA(MATCH(I45,$AQ$30:$AR$30,0)),0,1),IF(ISNUMBER(I45),1,0),IF(I45=TRUNC(I45),1,0),IF(AND(I45*1=I45,I45>=0),1,0),IF(AND(I45=TRUNC(I45),I45>=0),1,0),IF(AND(I45*1=I45,I45>0),1,0),IF(AND(I45=TRUNC(I45),I45>0),1,0),1,IF(ISNA(HLOOKUP(I45,$AT$4:$BC$4,1,0)),0,1)),0))) -> 0 | AV45: =IF(OR(J$30="",J$4=99),1,IF(J45="",0,IFERROR(CHOOSE(AV$28,IF(ISNA(MATCH(J45,$AQ$30:$AR$30,0)),0,1),IF(ISNUMBER(J45),1,0),IF(J45=TRUNC(J45),1,0),IF(AND(J45*1=J45,J45>=0),1,0),IF(AND(J45=TRUNC(J45),J45>=0),1,0),IF(AND(J45*1=J45,J45>0),1,0),IF(AND(J45=TRUNC(J45),J45>0),1,0),1,IF(ISNA(HLOOKUP(J45,$AT$4:$BC$4,1,0)),0,1)),0))) -> 0 | AW45: =IF(OR(K$30="",K$4=99),1,IF(K45="",0,IFERROR(CHOOSE(AW$28,IF(ISNA(MATCH(K45,$AQ$30:$AR$30,0)),0,1),IF(ISNUMBER(K45),1,0),IF(K45=TRUNC(K45),1,0),IF(AND(K45*1=K45,K45>=0),1,0),IF(AND(K45=TRUNC(K45),K45>=0),1,0),IF(AND(K45*1=K45,K45>0),1,0),IF(AND(K45=TRUNC(K45),K45>0),1,0),1,IF(ISNA(HLOOKUP(K45,$AT$4:$BC$4,1,0)),0,1)),0))) -> 0 | AX45: =IF(OR(L$30="",L$4=99),1,IF(L45="",0,IFERROR(CHOOSE(AX$28,IF(ISNA(MATCH(L45,$AQ$30:$AR$30,0)),0,1),IF(ISNUMBER(L45),1,0),IF(L45=TRUNC(L45),1,0),IF(AND(L45*1=L45,L45>=0),1,0),IF(AND(L45=TRUNC(L45),L45>=0),1,0),IF(AND(L45*1=L45,L45>0),1,0),IF(AND(L45=TRUNC(L45),L45>0),1,0),1,IF(ISNA(HLOOKUP(L45,$AT$4:$BC$4,1,0)),0,1)),0))) -> 0 | AY45: =IF(OR(M$30="",M$4=99),1,IF(M45="",0,IFERROR(CHOOSE(AY$28,IF(ISNA(MATCH(M45,$AQ$30:$AR$30,0)),0,1),IF(ISNUMBER(M45),1,0),IF(M45=TRUNC(M45),1,0),IF(AND(M45*1=M45,M45>=0),1,0),IF(AND(M45=TRUNC(M45),M45>=0),1,0),IF(AND(M45*1=M45,M45>0),1,0),IF(AND(M45=TRUNC(M45),M45>0),1,0),1,IF(ISNA(HLOOKUP(M45,$AT$4:$BC$4,1,0)),0,1)),0))) -> 0 | AZ45: =IF(OR(N$30="",N$4=99),1,IF(N45="",0,IFERROR(CHOOSE(AZ$28,IF(ISNA(MATCH(N45,$AQ$30:$AR$30,0)),0,1),IF(ISNUMBER(N45),1,0),IF(N45=TRUNC(N45),1,0),IF(AND(N45*1=N45,N45>=0),1,0),IF(AND(N45=TRUNC(N45),N45>=0),1,0),IF(AND(N45*1=N45,N45>0),1,0),IF(AND(N45=TRUNC(N45),N45>0),1,0),1,IF(ISNA(HLOOKUP(N45,$AT$4:$BC$4,1,0)),0,1)),0))) -> 0 | ... BF45: =IF(OR(T$30="",T$4=99),1,IF(T45="",0,IFERROR(CHOOSE(BF$28,IF(ISNA(MATCH(T45,$AQ$30:$AR$30,0)),0,1),IF(ISNUMBER(T45),1,0),IF(T45=TRUNC(T45),1,0),IF(AND(T45*1=T45,T45>=0),1,0),IF(AND(T45=TRUNC(T45),T45>=0),1,0),IF(AND(T45*1=T45,T45>0),1,0),IF(AND(T45=TRUNC(T45),T45>0),1,0),1,IF(ISNA(HLOOKUP(T45,$AT$4:$BC$4,1,0)),0,1)),0))) -> 0 | BH45: =IF(OR(V$30="",V$4=99),1,IF(V45="",0,IFERROR(CHOOSE(BH$28,IF(ISNA(MATCH(V45,$AQ$30:$AR$30,0)),0,1),IF(ISNUMBER(V45),1,0),IF(V45=TRUNC(V45),1,0),IF(AND(V45*1=V45,V45>=0),1,0),IF(AND(V45=TRUNC(V45),V45>=0),1,0),IF(AND(V45*1=V45,V45>0),1,0),IF(AND(V45=TRUNC(V45),V45>0),1,0),1,IF(ISNA(HLOOKUP(V45,$AT$4:$BC$4,1,0)),0,1)),0))) -> 0 | BI45: =IF(OR(W$30="",W$4=99),1,IF(W45="",0,IFERROR(CHOOSE(BI$28,IF(ISNA(MATCH(W45,$AQ$30:$AR$30,0)),0,1),IF(ISNUMBER(W45),1,0),IF(W45=TRUNC(W45),1,0),IF(AND(W45*1=W45,W45>=0),1,0),IF(AND(W45=TRUNC(W45),W45>=0),1,0),IF(AND(W45*1=W45,W45>0),1,0),IF(AND(W45=TRUNC(W45),W45>0),1,0),1,IF(ISNA(HLOOKUP(W45,$AT$4:$BC$4,1,0)),0,1)),0))) -> 1 | BJ45: =IF(OR(X$30="",X$4=99),1,IF(X45="",0,IFERROR(CHOOSE(BJ$28,IF(ISNA(MATCH(X45,$AQ$30:$AR$30,0)),0,1),IF(ISNUMBER(X45),1,0),IF(X45=TRUNC(X45),1,0),IF(AND(X45*1=X45,X45>=0),1,0),IF(AND(X45=TRUNC(X45),X45>=0),1,0),IF(AND(X45*1=X45,X45>0),1,0),IF(AND(X45=TRUNC(X45),X45>0),1,0),1,IF(ISNA(HLOOKUP(X45,$AT$4:$BC$4,1,0)),0,1)),0))) -> 0 | BK45: =IF(OR(Y$30="",Y$4=99),1,IF(Y45="",0,IFERROR(CHOOSE(BK$28,IF(ISNA(MATCH(Y45,$AQ$30:$AR$30,0)),0,1),IF(ISNUMBER(Y45),1,0),IF(Y45=TRUNC(Y45),1,0),IF(AND(Y45*1=Y45,Y45>=0),1,0),IF(AND(Y45=TRUNC(Y45),Y45>=0),1,0),IF(AND(Y45*1=Y45,Y45>0),1,0),IF(AND(Y45=TRUNC(Y45),Y45>0),1,0),1,IF(ISNA(HLOOKUP(Y45,$AT$4:$BC$4,1,0)),0,1)),0))) -> 0 | BL45: =IF(OR(Z$30="",Z$4=99),1,IF(Z45="",0,IFERROR(CHOOSE(BL$28,IF(ISNA(MATCH(Z45,$AQ$30:$AR$30,0)),0,1),IF(ISNUMBER(Z45),1,0),IF(Z45=TRUNC(Z45),1,0),IF(AND(Z45*1=Z45,Z45>=0),1,0),IF(AND(Z45=TRUNC(Z45),Z45>=0),1,0),IF(AND(Z45*1=Z45,Z45>0),1,0),IF(AND(Z45=TRUNC(Z45),Z45>0),1,0),1,IF(ISNA(HLOOKUP(Z45,$AT$4:$BC$4,1,0)),0,1)),0))) -> 1 | BS45: =IF(OR(AG$30="",AG$4=99),1,IF(AG45="",0,IFERROR(CHOOSE(BS$28,IF(ISNA(MATCH(AG45,$AQ$30:$AR$30,0)),0,1),IF(ISNUMBER(AG45),1,0),IF(AG45=TRUNC(AG45),1,0),IF(AND(AG45*1=AG45,AG45>=0),1,0),IF(AND(AG45=TRUNC(AG45),AG45>=0),1,0),IF(AND(AG45*1=AG45,AG45>0),1,0),IF(AND(AG45=TRUNC(AG45),AG45>0),1,0),1,IF(ISNA(HLOOKUP(AG45,$AT$4:$BC$4,1,0)),0,1)),0))) -> 0 | BT45: =IF(OR(AH$30="",AH$4=99),1,IF(AH45="",0,IFERROR(CHOOSE(BT$28,IF(ISNA(MATCH(AH45,$AQ$30:$AR$30,0)),0,1),IF(ISNUMBER(AH45),1,0),IF(AH45=TRUNC(AH45),1,0),IF(AND(AH45*1=AH45,AH45>=0),1,0),IF(AND(AH45=TRUNC(AH45),AH45>=0),1,0),IF(AND(AH45*1=AH45,AH45>0),1,0),IF(AND(AH45=TRUNC(AH45),AH45>0),1,0),1,IF(ISNA(HLOOKUP(AH45,$AT$4:$BC$4,1,0)),0,1)),0))) -> 0 | CE45: =IF($F45="","",CE$30) | CF45: =IF($F45="","",CF$30) | CG45: =IF($F45="","",CG$30) | CH45: =IF($F45="","",CH$30) | CI45: =IF($F45="","",CI$30) | CJ45: =IF($F45="","",CJ$30) | CK45: =IF($F45="","",CK$30) | CL45: =IF($F45="","",CL$30) | ... CN45: =IF($F45="","",CN$30) | CT45: =OR(U45>=CT$5,X45>=$U$7,W45=1) -> TRUE | CU45: =OR(V45>=CU$5,INDEX('הוראת שעה'!$D$6:$D$20,MATCH($AO$2,'הוראת שעה'!$A$6:$A$20,1))=99) -> FALSE | CV45: =X45>=CV$5 -> FALSE | CZ45: =COUNTIF(CT45:CX45,TRUE) -> 1 | DA45: =OR(Q45>=DA$5,X45>=$U$7,W45=1) -> FALSE | DB45: =OR(V45>=DB$5,Z45=1,INDEX('הוראת שעה'!$D$6:$D$20,MATCH($AO$2,'הוראת שעה'!$A$6:$A$20,1))=99) -> FALSE | DC45: =X45>=DC$5 -> FALSE | DH45: =COUNTIF(DA45:DG45,TRUE) -> 0 | DI45: =IF($F45="","",IF(CZ45=$CU$3,1,0)) | DJ45: =IF($F45="","",IF(AND(DH45=$CU$3,DH45-CZ45<=$DB$3),1,0))
B46: =IF(F46="","",ROW()-30) | U46: =IF($F46="","",IF(T46>S46,$AQ$1,IFERROR(T46/S46,$AQ$1))) | AE46: =IF($F46="","",IF(OR(DI46=1,AND(DJ46=1,Z46=1)),1,0)) | AI46: =IF(F46="","",IF(G46>=$G$5,1,0)) | AN46: =IF($F46="","",IF(AJ46=1,1,IF(AP46<>1,$AQ$1,IF(SUMPRODUCT(--(G46:AI46>=$G$5:$AI$5)*($G$5:$AI$5<>"")*($G$4:$AI$4=1))=COUNTIF($G$4:$AI$4,1),1,0)))) | AP46: =IF(OR(SUM(AS46:BZ46)<>COUNT(AS46:BZ46),SUMPRODUCT(--(G46:AI46=$AQ$1))<>0),0,1) -> 0 | AQ46: =IF($F46="","",AQ$30) | AR46: =IF($F46="","",AR$30) | AS46: =IF(OR(G$30="",G$4=99),1,IF(G46="",0,IFERROR(CHOOSE(AS$28,IF(ISNA(MATCH(G46,$AQ$30:$AR$30,0)),0,1),IF(ISNUMBER(G46),1,0),IF(G46=TRUNC(G46),1,0),IF(AND(G46*1=G46,G46>=0),1,0),IF(AND(G46=TRUNC(G46),G46>=0),1,0),IF(AND(G46*1=G46,G46>0),1,0),IF(AND(G46=TRUNC(G46),G46>0),1,0),1,IF(ISNA(HLOOKUP(G46,$AT$4:$BC$4,1,0)),0,1)),0))) -> 0 | AT46: =IF(OR(H$30="",H$4=99),1,IF(H46="",0,IFERROR(CHOOSE(AT$28,IF(ISNA(MATCH(H46,$AQ$30:$AR$30,0)),0,1),IF(ISNUMBER(H46),1,0),IF(H46=TRUNC(H46),1,0),IF(AND(H46*1=H46,H46>=0),1,0),IF(AND(H46=TRUNC(H46),H46>=0),1,0),IF(AND(H46*1=H46,H46>0),1,0),IF(AND(H46=TRUNC(H46),H46>0),1,0),1,IF(ISNA(HLOOKUP(H46,$AT$4:$BC$4,1,0)),0,1)),0))) -> 0 | AU46: =IF(OR(I$30="",I$4=99),1,IF(I46="",0,IFERROR(CHOOSE(AU$28,IF(ISNA(MATCH(I46,$AQ$30:$AR$30,0)),0,1),IF(ISNUMBER(I46),1,0),IF(I46=TRUNC(I46),1,0),IF(AND(I46*1=I46,I46>=0),1,0),IF(AND(I46=TRUNC(I46),I46>=0),1,0),IF(AND(I46*1=I46,I46>0),1,0),IF(AND(I46=TRUNC(I46),I46>0),1,0),1,IF(ISNA(HLOOKUP(I46,$AT$4:$BC$4,1,0)),0,1)),0))) -> 0 | AV46: =IF(OR(J$30="",J$4=99),1,IF(J46="",0,IFERROR(CHOOSE(AV$28,IF(ISNA(MATCH(J46,$AQ$30:$AR$30,0)),0,1),IF(ISNUMBER(J46),1,0),IF(J46=TRUNC(J46),1,0),IF(AND(J46*1=J46,J46>=0),1,0),IF(AND(J46=TRUNC(J46),J46>=0),1,0),IF(AND(J46*1=J46,J46>0),1,0),IF(AND(J46=TRUNC(J46),J46>0),1,0),1,IF(ISNA(HLOOKUP(J46,$AT$4:$BC$4,1,0)),0,1)),0))) -> 0 | AW46: =IF(OR(K$30="",K$4=99),1,IF(K46="",0,IFERROR(CHOOSE(AW$28,IF(ISNA(MATCH(K46,$AQ$30:$AR$30,0)),0,1),IF(ISNUMBER(K46),1,0),IF(K46=TRUNC(K46),1,0),IF(AND(K46*1=K46,K46>=0),1,0),IF(AND(K46=TRUNC(K46),K46>=0),1,0),IF(AND(K46*1=K46,K46>0),1,0),IF(AND(K46=TRUNC(K46),K46>0),1,0),1,IF(ISNA(HLOOKUP(K46,$AT$4:$BC$4,1,0)),0,1)),0))) -> 0 | AX46: =IF(OR(L$30="",L$4=99),1,IF(L46="",0,IFERROR(CHOOSE(AX$28,IF(ISNA(MATCH(L46,$AQ$30:$AR$30,0)),0,1),IF(ISNUMBER(L46),1,0),IF(L46=TRUNC(L46),1,0),IF(AND(L46*1=L46,L46>=0),1,0),IF(AND(L46=TRUNC(L46),L46>=0),1,0),IF(AND(L46*1=L46,L46>0),1,0),IF(AND(L46=TRUNC(L46),L46>0),1,0),1,IF(ISNA(HLOOKUP(L46,$AT$4:$BC$4,1,0)),0,1)),0))) -> 0 | AY46: =IF(OR(M$30="",M$4=99),1,IF(M46="",0,IFERROR(CHOOSE(AY$28,IF(ISNA(MATCH(M46,$AQ$30:$AR$30,0)),0,1),IF(ISNUMBER(M46),1,0),IF(M46=TRUNC(M46),1,0),IF(AND(M46*1=M46,M46>=0),1,0),IF(AND(M46=TRUNC(M46),M46>=0),1,0),IF(AND(M46*1=M46,M46>0),1,0),IF(AND(M46=TRUNC(M46),M46>0),1,0),1,IF(ISNA(HLOOKUP(M46,$AT$4:$BC$4,1,0)),0,1)),0))) -> 0 | AZ46: =IF(OR(N$30="",N$4=99),1,IF(N46="",0,IFERROR(CHOOSE(AZ$28,IF(ISNA(MATCH(N46,$AQ$30:$AR$30,0)),0,1),IF(ISNUMBER(N46),1,0),IF(N46=TRUNC(N46),1,0),IF(AND(N46*1=N46,N46>=0),1,0),IF(AND(N46=TRUNC(N46),N46>=0),1,0),IF(AND(N46*1=N46,N46>0),1,0),IF(AND(N46=TRUNC(N46),N46>0),1,0),1,IF(ISNA(HLOOKUP(N46,$AT$4:$BC$4,1,0)),0,1)),0))) -> 0 | ... BF46: =IF(OR(T$30="",T$4=99),1,IF(T46="",0,IFERROR(CHOOSE(BF$28,IF(ISNA(MATCH(T46,$AQ$30:$AR$30,0)),0,1),IF(ISNUMBER(T46),1,0),IF(T46=TRUNC(T46),1,0),IF(AND(T46*1=T46,T46>=0),1,0),IF(AND(T46=TRUNC(T46),T46>=0),1,0),IF(AND(T46*1=T46,T46>0),1,0),IF(AND(T46=TRUNC(T46),T46>0),1,0),1,IF(ISNA(HLOOKUP(T46,$AT$4:$BC$4,1,0)),0,1)),0))) -> 0 | BH46: =IF(OR(V$30="",V$4=99),1,IF(V46="",0,IFERROR(CHOOSE(BH$28,IF(ISNA(MATCH(V46,$AQ$30:$AR$30,0)),0,1),IF(ISNUMBER(V46),1,0),IF(V46=TRUNC(V46),1,0),IF(AND(V46*1=V46,V46>=0),1,0),IF(AND(V46=TRUNC(V46),V46>=0),1,0),IF(AND(V46*1=V46,V46>0),1,0),IF(AND(V46=TRUNC(V46),V46>0),1,0),1,IF(ISNA(HLOOKUP(V46,$AT$4:$BC$4,1,0)),0,1)),0))) -> 0 | BI46: =IF(OR(W$30="",W$4=99),1,IF(W46="",0,IFERROR(CHOOSE(BI$28,IF(ISNA(MATCH(W46,$AQ$30:$AR$30,0)),0,1),IF(ISNUMBER(W46),1,0),IF(W46=TRUNC(W46),1,0),IF(AND(W46*1=W46,W46>=0),1,0),IF(AND(W46=TRUNC(W46),W46>=0),1,0),IF(AND(W46*1=W46,W46>0),1,0),IF(AND(W46=TRUNC(W46),W46>0),1,0),1,IF(ISNA(HLOOKUP(W46,$AT$4:$BC$4,1,0)),0,1)),0))) -> 1 | BJ46: =IF(OR(X$30="",X$4=99),1,IF(X46="",0,IFERROR(CHOOSE(BJ$28,IF(ISNA(MATCH(X46,$AQ$30:$AR$30,0)),0,1),IF(ISNUMBER(X46),1,0),IF(X46=TRUNC(X46),1,0),IF(AND(X46*1=X46,X46>=0),1,0),IF(AND(X46=TRUNC(X46),X46>=0),1,0),IF(AND(X46*1=X46,X46>0),1,0),IF(AND(X46=TRUNC(X46),X46>0),1,0),1,IF(ISNA(HLOOKUP(X46,$AT$4:$BC$4,1,0)),0,1)),0))) -> 0 | BK46: =IF(OR(Y$30="",Y$4=99),1,IF(Y46="",0,IFERROR(CHOOSE(BK$28,IF(ISNA(MATCH(Y46,$AQ$30:$AR$30,0)),0,1),IF(ISNUMBER(Y46),1,0),IF(Y46=TRUNC(Y46),1,0),IF(AND(Y46*1=Y46,Y46>=0),1,0),IF(AND(Y46=TRUNC(Y46),Y46>=0),1,0),IF(AND(Y46*1=Y46,Y46>0),1,0),IF(AND(Y46=TRUNC(Y46),Y46>0),1,0),1,IF(ISNA(HLOOKUP(Y46,$AT$4:$BC$4,1,0)),0,1)),0))) -> 0 | BL46: =IF(OR(Z$30="",Z$4=99),1,IF(Z46="",0,IFERROR(CHOOSE(BL$28,IF(ISNA(MATCH(Z46,$AQ$30:$AR$30,0)),0,1),IF(ISNUMBER(Z46),1,0),IF(Z46=TRUNC(Z46),1,0),IF(AND(Z46*1=Z46,Z46>=0),1,0),IF(AND(Z46=TRUNC(Z46),Z46>=0),1,0),IF(AND(Z46*1=Z46,Z46>0),1,0),IF(AND(Z46=TRUNC(Z46),Z46>0),1,0),1,IF(ISNA(HLOOKUP(Z46,$AT$4:$BC$4,1,0)),0,1)),0))) -> 1 | BS46: =IF(OR(AG$30="",AG$4=99),1,IF(AG46="",0,IFERROR(CHOOSE(BS$28,IF(ISNA(MATCH(AG46,$AQ$30:$AR$30,0)),0,1),IF(ISNUMBER(AG46),1,0),IF(AG46=TRUNC(AG46),1,0),IF(AND(AG46*1=AG46,AG46>=0),1,0),IF(AND(AG46=TRUNC(AG46),AG46>=0),1,0),IF(AND(AG46*1=AG46,AG46>0),1,0),IF(AND(AG46=TRUNC(AG46),AG46>0),1,0),1,IF(ISNA(HLOOKUP(AG46,$AT$4:$BC$4,1,0)),0,1)),0))) -> 0 | BT46: =IF(OR(AH$30="",AH$4=99),1,IF(AH46="",0,IFERROR(CHOOSE(BT$28,IF(ISNA(MATCH(AH46,$AQ$30:$AR$30,0)),0,1),IF(ISNUMBER(AH46),1,0),IF(AH46=TRUNC(AH46),1,0),IF(AND(AH46*1=AH46,AH46>=0),1,0),IF(AND(AH46=TRUNC(AH46),AH46>=0),1,0),IF(AND(AH46*1=AH46,AH46>0),1,0),IF(AND(AH46=TRUNC(AH46),AH46>0),1,0),1,IF(ISNA(HLOOKUP(AH46,$AT$4:$BC$4,1,0)),0,1)),0))) -> 0 | CE46: =IF($F46="","",CE$30) | CF46: =IF($F46="","",CF$30) | CG46: =IF($F46="","",CG$30) | CH46: =IF($F46="","",CH$30) | CI46: =IF($F46="","",CI$30) | CJ46: =IF($F46="","",CJ$30) | CK46: =IF($F46="","",CK$30) | CL46: =IF($F46="","",CL$30) | ... CN46: =IF($F46="","",CN$30) | CT46: =OR(U46>=CT$5,X46>=$U$7,W46=1) -> TRUE | CU46: =OR(V46>=CU$5,INDEX('הוראת שעה'!$D$6:$D$20,MATCH($AO$2,'הוראת שעה'!$A$6:$A$20,1))=99) -> FALSE | CV46: =X46>=CV$5 -> FALSE | CZ46: =COUNTIF(CT46:CX46,TRUE) -> 1 | DA46: =OR(Q46>=DA$5,X46>=$U$7,W46=1) -> FALSE | DB46: =OR(V46>=DB$5,Z46=1,INDEX('הוראת שעה'!$D$6:$D$20,MATCH($AO$2,'הוראת שעה'!$A$6:$A$20,1))=99) -> FALSE | DC46: =X46>=DC$5 -> FALSE | DH46: =COUNTIF(DA46:DG46,TRUE) -> 0 | DI46: =IF($F46="","",IF(CZ46=$CU$3,1,0)) | DJ46: =IF($F46="","",IF(AND(DH46=$CU$3,DH46-CZ46<=$DB$3),1,0))
B47: =IF(F47="","",ROW()-30) | U47: =IF($F47="","",IF(T47>S47,$AQ$1,IFERROR(T47/S47,$AQ$1))) | AE47: =IF($F47="","",IF(OR(DI47=1,AND(DJ47=1,Z47=1)),1,0)) | AI47: =IF(F47="","",IF(G47>=$G$5,1,0)) | AN47: =IF($F47="","",IF(AJ47=1,1,IF(AP47<>1,$AQ$1,IF(SUMPRODUCT(--(G47:AI47>=$G$5:$AI$5)*($G$5:$AI$5<>"")*($G$4:$AI$4=1))=COUNTIF($G$4:$AI$4,1),1,0)))) | AP47: =IF(OR(SUM(AS47:BZ47)<>COUNT(AS47:BZ47),SUMPRODUCT(--(G47:AI47=$AQ$1))<>0),0,1) -> 0 | AQ47: =IF($F47="","",AQ$30) | AR47: =IF($F47="","",AR$30) | AS47: =IF(OR(G$30="",G$4=99),1,IF(G47="",0,IFERROR(CHOOSE(AS$28,IF(ISNA(MATCH(G47,$AQ$30:$AR$30,0)),0,1),IF(ISNUMBER(G47),1,0),IF(G47=TRUNC(G47),1,0),IF(AND(G47*1=G47,G47>=0),1,0),IF(AND(G47=TRUNC(G47),G47>=0),1,0),IF(AND(G47*1=G47,G47>0),1,0),IF(AND(G47=TRUNC(G47),G47>0),1,0),1,IF(ISNA(HLOOKUP(G47,$AT$4:$BC$4,1,0)),0,1)),0))) -> 0 | AT47: =IF(OR(H$30="",H$4=99),1,IF(H47="",0,IFERROR(CHOOSE(AT$28,IF(ISNA(MATCH(H47,$AQ$30:$AR$30,0)),0,1),IF(ISNUMBER(H47),1,0),IF(H47=TRUNC(H47),1,0),IF(AND(H47*1=H47,H47>=0),1,0),IF(AND(H47=TRUNC(H47),H47>=0),1,0),IF(AND(H47*1=H47,H47>0),1,0),IF(AND(H47=TRUNC(H47),H47>0),1,0),1,IF(ISNA(HLOOKUP(H47,$AT$4:$BC$4,1,0)),0,1)),0))) -> 0 | AU47: =IF(OR(I$30="",I$4=99),1,IF(I47="",0,IFERROR(CHOOSE(AU$28,IF(ISNA(MATCH(I47,$AQ$30:$AR$30,0)),0,1),IF(ISNUMBER(I47),1,0),IF(I47=TRUNC(I47),1,0),IF(AND(I47*1=I47,I47>=0),1,0),IF(AND(I47=TRUNC(I47),I47>=0),1,0),IF(AND(I47*1=I47,I47>0),1,0),IF(AND(I47=TRUNC(I47),I47>0),1,0),1,IF(ISNA(HLOOKUP(I47,$AT$4:$BC$4,1,0)),0,1)),0))) -> 0 | AV47: =IF(OR(J$30="",J$4=99),1,IF(J47="",0,IFERROR(CHOOSE(AV$28,IF(ISNA(MATCH(J47,$AQ$30:$AR$30,0)),0,1),IF(ISNUMBER(J47),1,0),IF(J47=TRUNC(J47),1,0),IF(AND(J47*1=J47,J47>=0),1,0),IF(AND(J47=TRUNC(J47),J47>=0),1,0),IF(AND(J47*1=J47,J47>0),1,0),IF(AND(J47=TRUNC(J47),J47>0),1,0),1,IF(ISNA(HLOOKUP(J47,$AT$4:$BC$4,1,0)),0,1)),0))) -> 0 | AW47: =IF(OR(K$30="",K$4=99),1,IF(K47="",0,IFERROR(CHOOSE(AW$28,IF(ISNA(MATCH(K47,$AQ$30:$AR$30,0)),0,1),IF(ISNUMBER(K47),1,0),IF(K47=TRUNC(K47),1,0),IF(AND(K47*1=K47,K47>=0),1,0),IF(AND(K47=TRUNC(K47),K47>=0),1,0),IF(AND(K47*1=K47,K47>0),1,0),IF(AND(K47=TRUNC(K47),K47>0),1,0),1,IF(ISNA(HLOOKUP(K47,$AT$4:$BC$4,1,0)),0,1)),0))) -> 0 | AX47: =IF(OR(L$30="",L$4=99),1,IF(L47="",0,IFERROR(CHOOSE(AX$28,IF(ISNA(MATCH(L47,$AQ$30:$AR$30,0)),0,1),IF(ISNUMBER(L47),1,0),IF(L47=TRUNC(L47),1,0),IF(AND(L47*1=L47,L47>=0),1,0),IF(AND(L47=TRUNC(L47),L47>=0),1,0),IF(AND(L47*1=L47,L47>0),1,0),IF(AND(L47=TRUNC(L47),L47>0),1,0),1,IF(ISNA(HLOOKUP(L47,$AT$4:$BC$4,1,0)),0,1)),0))) -> 0 | AY47: =IF(OR(M$30="",M$4=99),1,IF(M47="",0,IFERROR(CHOOSE(AY$28,IF(ISNA(MATCH(M47,$AQ$30:$AR$30,0)),0,1),IF(ISNUMBER(M47),1,0),IF(M47=TRUNC(M47),1,0),IF(AND(M47*1=M47,M47>=0),1,0),IF(AND(M47=TRUNC(M47),M47>=0),1,0),IF(AND(M47*1=M47,M47>0),1,0),IF(AND(M47=TRUNC(M47),M47>0),1,0),1,IF(ISNA(HLOOKUP(M47,$AT$4:$BC$4,1,0)),0,1)),0))) -> 0 | AZ47: =IF(OR(N$30="",N$4=99),1,IF(N47="",0,IFERROR(CHOOSE(AZ$28,IF(ISNA(MATCH(N47,$AQ$30:$AR$30,0)),0,1),IF(ISNUMBER(N47),1,0),IF(N47=TRUNC(N47),1,0),IF(AND(N47*1=N47,N47>=0),1,0),IF(AND(N47=TRUNC(N47),N47>=0),1,0),IF(AND(N47*1=N47,N47>0),1,0),IF(AND(N47=TRUNC(N47),N47>0),1,0),1,IF(ISNA(HLOOKUP(N47,$AT$4:$BC$4,1,0)),0,1)),0))) -> 0 | ... BF47: =IF(OR(T$30="",T$4=99),1,IF(T47="",0,IFERROR(CHOOSE(BF$28,IF(ISNA(MATCH(T47,$AQ$30:$AR$30,0)),0,1),IF(ISNUMBER(T47),1,0),IF(T47=TRUNC(T47),1,0),IF(AND(T47*1=T47,T47>=0),1,0),IF(AND(T47=TRUNC(T47),T47>=0),1,0),IF(AND(T47*1=T47,T47>0),1,0),IF(AND(T47=TRUNC(T47),T47>0),1,0),1,IF(ISNA(HLOOKUP(T47,$AT$4:$BC$4,1,0)),0,1)),0))) -> 0 | BH47: =IF(OR(V$30="",V$4=99),1,IF(V47="",0,IFERROR(CHOOSE(BH$28,IF(ISNA(MATCH(V47,$AQ$30:$AR$30,0)),0,1),IF(ISNUMBER(V47),1,0),IF(V47=TRUNC(V47),1,0),IF(AND(V47*1=V47,V47>=0),1,0),IF(AND(V47=TRUNC(V47),V47>=0),1,0),IF(AND(V47*1=V47,V47>0),1,0),IF(AND(V47=TRUNC(V47),V47>0),1,0),1,IF(ISNA(HLOOKUP(V47,$AT$4:$BC$4,1,0)),0,1)),0))) -> 0 | BI47: =IF(OR(W$30="",W$4=99),1,IF(W47="",0,IFERROR(CHOOSE(BI$28,IF(ISNA(MATCH(W47,$AQ$30:$AR$30,0)),0,1),IF(ISNUMBER(W47),1,0),IF(W47=TRUNC(W47),1,0),IF(AND(W47*1=W47,W47>=0),1,0),IF(AND(W47=TRUNC(W47),W47>=0),1,0),IF(AND(W47*1=W47,W47>0),1,0),IF(AND(W47=TRUNC(W47),W47>0),1,0),1,IF(ISNA(HLOOKUP(W47,$AT$4:$BC$4,1,0)),0,1)),0))) -> 1 | BJ47: =IF(OR(X$30="",X$4=99),1,IF(X47="",0,IFERROR(CHOOSE(BJ$28,IF(ISNA(MATCH(X47,$AQ$30:$AR$30,0)),0,1),IF(ISNUMBER(X47),1,0),IF(X47=TRUNC(X47),1,0),IF(AND(X47*1=X47,X47>=0),1,0),IF(AND(X47=TRUNC(X47),X47>=0),1,0),IF(AND(X47*1=X47,X47>0),1,0),IF(AND(X47=TRUNC(X47),X47>0),1,0),1,IF(ISNA(HLOOKUP(X47,$AT$4:$BC$4,1,0)),0,1)),0))) -> 0 | BK47: =IF(OR(Y$30="",Y$4=99),1,IF(Y47="",0,IFERROR(CHOOSE(BK$28,IF(ISNA(MATCH(Y47,$AQ$30:$AR$30,0)),0,1),IF(ISNUMBER(Y47),1,0),IF(Y47=TRUNC(Y47),1,0),IF(AND(Y47*1=Y47,Y47>=0),1,0),IF(AND(Y47=TRUNC(Y47),Y47>=0),1,0),IF(AND(Y47*1=Y47,Y47>0),1,0),IF(AND(Y47=TRUNC(Y47),Y47>0),1,0),1,IF(ISNA(HLOOKUP(Y47,$AT$4:$BC$4,1,0)),0,1)),0))) -> 0 | BL47: =IF(OR(Z$30="",Z$4=99),1,IF(Z47="",0,IFERROR(CHOOSE(BL$28,IF(ISNA(MATCH(Z47,$AQ$30:$AR$30,0)),0,1),IF(ISNUMBER(Z47),1,0),IF(Z47=TRUNC(Z47),1,0),IF(AND(Z47*1=Z47,Z47>=0),1,0),IF(AND(Z47=TRUNC(Z47),Z47>=0),1,0),IF(AND(Z47*1=Z47,Z47>0),1,0),IF(AND(Z47=TRUNC(Z47),Z47>0),1,0),1,IF(ISNA(HLOOKUP(Z47,$AT$4:$BC$4,1,0)),0,1)),0))) -> 1 | BS47: =IF(OR(AG$30="",AG$4=99),1,IF(AG47="",0,IFERROR(CHOOSE(BS$28,IF(ISNA(MATCH(AG47,$AQ$30:$AR$30,0)),0,1),IF(ISNUMBER(AG47),1,0),IF(AG47=TRUNC(AG47),1,0),IF(AND(AG47*1=AG47,AG47>=0),1,0),IF(AND(AG47=TRUNC(AG47),AG47>=0),1,0),IF(AND(AG47*1=AG47,AG47>0),1,0),IF(AND(AG47=TRUNC(AG47),AG47>0),1,0),1,IF(ISNA(HLOOKUP(AG47,$AT$4:$BC$4,1,0)),0,1)),0))) -> 0 | BT47: =IF(OR(AH$30="",AH$4=99),1,IF(AH47="",0,IFERROR(CHOOSE(BT$28,IF(ISNA(MATCH(AH47,$AQ$30:$AR$30,0)),0,1),IF(ISNUMBER(AH47),1,0),IF(AH47=TRUNC(AH47),1,0),IF(AND(AH47*1=AH47,AH47>=0),1,0),IF(AND(AH47=TRUNC(AH47),AH47>=0),1,0),IF(AND(AH47*1=AH47,AH47>0),1,0),IF(AND(AH47=TRUNC(AH47),AH47>0),1,0),1,IF(ISNA(HLOOKUP(AH47,$AT$4:$BC$4,1,0)),0,1)),0))) -> 0 | CE47: =IF($F47="","",CE$30) | CF47: =IF($F47="","",CF$30) | CG47: =IF($F47="","",CG$30) | CH47: =IF($F47="","",CH$30) | CI47: =IF($F47="","",CI$30) | CJ47: =IF($F47="","",CJ$30) | CK47: =IF($F47="","",CK$30) | CL47: =IF($F47="","",CL$30) | ... CN47: =IF($F47="","",CN$30) | CT47: =OR(U47>=CT$5,X47>=$U$7,W47=1) -> TRUE | CU47: =OR(V47>=CU$5,INDEX('הוראת שעה'!$D$6:$D$20,MATCH($AO$2,'הוראת שעה'!$A$6:$A$20,1))=99) -> FALSE | CV47: =X47>=CV$5 -> FALSE | CZ47: =COUNTIF(CT47:CX47,TRUE) -> 1 | DA47: =OR(Q47>=DA$5,X47>=$U$7,W47=1) -> FALSE | DB47: =OR(V47>=DB$5,Z47=1,INDEX('הוראת שעה'!$D$6:$D$20,MATCH($AO$2,'הוראת שעה'!$A$6:$A$20,1))=99) -> FALSE | DC47: =X47>=DC$5 -> FALSE | DH47: =COUNTIF(DA47:DG47,TRUE) -> 0 | DI47: =IF($F47="","",IF(CZ47=$CU$3,1,0)) | DJ47: =IF($F47="","",IF(AND(DH47=$CU$3,DH47-CZ47<=$DB$3),1,0))
B48: =IF(F48="","",ROW()-30) | U48: =IF($F48="","",IF(T48>S48,$AQ$1,IFERROR(T48/S48,$AQ$1))) | AE48: =IF($F48="","",IF(OR(DI48=1,AND(DJ48=1,Z48=1)),1,0)) | AI48: =IF(F48="","",IF(G48>=$G$5,1,0)) | AN48: =IF($F48="","",IF(AJ48=1,1,IF(AP48<>1,$AQ$1,IF(SUMPRODUCT(--(G48:AI48>=$G$5:$AI$5)*($G$5:$AI$5<>"")*($G$4:$AI$4=1))=COUNTIF($G$4:$AI$4,1),1,0)))) | AP48: =IF(OR(SUM(AS48:BZ48)<>COUNT(AS48:BZ48),SUMPRODUCT(--(G48:AI48=$AQ$1))<>0),0,1) -> 0 | AQ48: =IF($F48="","",AQ$30) | AR48: =IF($F48="","",AR$30) | AS48: =IF(OR(G$30="",G$4=99),1,IF(G48="",0,IFERROR(CHOOSE(AS$28,IF(ISNA(MATCH(G48,$AQ$30:$AR$30,0)),0,1),IF(ISNUMBER(G48),1,0),IF(G48=TRUNC(G48),1,0),IF(AND(G48*1=G48,G48>=0),1,0),IF(AND(G48=TRUNC(G48),G48>=0),1,0),IF(AND(G48*1=G48,G48>0),1,0),IF(AND(G48=TRUNC(G48),G48>0),1,0),1,IF(ISNA(HLOOKUP(G48,$AT$4:$BC$4,1,0)),0,1)),0))) -> 0 | AT48: =IF(OR(H$30="",H$4=99),1,IF(H48="",0,IFERROR(CHOOSE(AT$28,IF(ISNA(MATCH(H48,$AQ$30:$AR$30,0)),0,1),IF(ISNUMBER(H48),1,0),IF(H48=TRUNC(H48),1,0),IF(AND(H48*1=H48,H48>=0),1,0),IF(AND(H48=TRUNC(H48),H48>=0),1,0),IF(AND(H48*1=H48,H48>0),1,0),IF(AND(H48=TRUNC(H48),H48>0),1,0),1,IF(ISNA(HLOOKUP(H48,$AT$4:$BC$4,1,0)),0,1)),0))) -> 0 | AU48: =IF(OR(I$30="",I$4=99),1,IF(I48="",0,IFERROR(CHOOSE(AU$28,IF(ISNA(MATCH(I48,$AQ$30:$AR$30,0)),0,1),IF(ISNUMBER(I48),1,0),IF(I48=TRUNC(I48),1,0),IF(AND(I48*1=I48,I48>=0),1,0),IF(AND(I48=TRUNC(I48),I48>=0),1,0),IF(AND(I48*1=I48,I48>0),1,0),IF(AND(I48=TRUNC(I48),I48>0),1,0),1,IF(ISNA(HLOOKUP(I48,$AT$4:$BC$4,1,0)),0,1)),0))) -> 0 | AV48: =IF(OR(J$30="",J$4=99),1,IF(J48="",0,IFERROR(CHOOSE(AV$28,IF(ISNA(MATCH(J48,$AQ$30:$AR$30,0)),0,1),IF(ISNUMBER(J48),1,0),IF(J48=TRUNC(J48),1,0),IF(AND(J48*1=J48,J48>=0),1,0),IF(AND(J48=TRUNC(J48),J48>=0),1,0),IF(AND(J48*1=J48,J48>0),1,0),IF(AND(J48=TRUNC(J48),J48>0),1,0),1,IF(ISNA(HLOOKUP(J48,$AT$4:$BC$4,1,0)),0,1)),0))) -> 0 | AW48: =IF(OR(K$30="",K$4=99),1,IF(K48="",0,IFERROR(CHOOSE(AW$28,IF(ISNA(MATCH(K48,$AQ$30:$AR$30,0)),0,1),IF(ISNUMBER(K48),1,0),IF(K48=TRUNC(K48),1,0),IF(AND(K48*1=K48,K48>=0),1,0),IF(AND(K48=TRUNC(K48),K48>=0),1,0),IF(AND(K48*1=K48,K48>0),1,0),IF(AND(K48=TRUNC(K48),K48>0),1,0),1,IF(ISNA(HLOOKUP(K48,$AT$4:$BC$4,1,0)),0,1)),0))) -> 0 | AX48: =IF(OR(L$30="",L$4=99),1,IF(L48="",0,IFERROR(CHOOSE(AX$28,IF(ISNA(MATCH(L48,$AQ$30:$AR$30,0)),0,1),IF(ISNUMBER(L48),1,0),IF(L48=TRUNC(L48),1,0),IF(AND(L48*1=L48,L48>=0),1,0),IF(AND(L48=TRUNC(L48),L48>=0),1,0),IF(AND(L48*1=L48,L48>0),1,0),IF(AND(L48=TRUNC(L48),L48>0),1,0),1,IF(ISNA(HLOOKUP(L48,$AT$4:$BC$4,1,0)),0,1)),0))) -> 0 | AY48: =IF(OR(M$30="",M$4=99),1,IF(M48="",0,IFERROR(CHOOSE(AY$28,IF(ISNA(MATCH(M48,$AQ$30:$AR$30,0)),0,1),IF(ISNUMBER(M48),1,0),IF(M48=TRUNC(M48),1,0),IF(AND(M48*1=M48,M48>=0),1,0),IF(AND(M48=TRUNC(M48),M48>=0),1,0),IF(AND(M48*1=M48,M48>0),1,0),IF(AND(M48=TRUNC(M48),M48>0),1,0),1,IF(ISNA(HLOOKUP(M48,$AT$4:$BC$4,1,0)),0,1)),0))) -> 0 | AZ48: =IF(OR(N$30="",N$4=99),1,IF(N48="",0,IFERROR(CHOOSE(AZ$28,IF(ISNA(MATCH(N48,$AQ$30:$AR$30,0)),0,1),IF(ISNUMBER(N48),1,0),IF(N48=TRUNC(N48),1,0),IF(AND(N48*1=N48,N48>=0),1,0),IF(AND(N48=TRUNC(N48),N48>=0),1,0),IF(AND(N48*1=N48,N48>0),1,0),IF(AND(N48=TRUNC(N48),N48>0),1,0),1,IF(ISNA(HLOOKUP(N48,$AT$4:$BC$4,1,0)),0,1)),0))) -> 0 | ... BF48: =IF(OR(T$30="",T$4=99),1,IF(T48="",0,IFERROR(CHOOSE(BF$28,IF(ISNA(MATCH(T48,$AQ$30:$AR$30,0)),0,1),IF(ISNUMBER(T48),1,0),IF(T48=TRUNC(T48),1,0),IF(AND(T48*1=T48,T48>=0),1,0),IF(AND(T48=TRUNC(T48),T48>=0),1,0),IF(AND(T48*1=T48,T48>0),1,0),IF(AND(T48=TRUNC(T48),T48>0),1,0),1,IF(ISNA(HLOOKUP(T48,$AT$4:$BC$4,1,0)),0,1)),0))) -> 0 | BH48: =IF(OR(V$30="",V$4=99),1,IF(V48="",0,IFERROR(CHOOSE(BH$28,IF(ISNA(MATCH(V48,$AQ$30:$AR$30,0)),0,1),IF(ISNUMBER(V48),1,0),IF(V48=TRUNC(V48),1,0),IF(AND(V48*1=V48,V48>=0),1,0),IF(AND(V48=TRUNC(V48),V48>=0),1,0),IF(AND(V48*1=V48,V48>0),1,0),IF(AND(V48=TRUNC(V48),V48>0),1,0),1,IF(ISNA(HLOOKUP(V48,$AT$4:$BC$4,1,0)),0,1)),0))) -> 0 | BI48: =IF(OR(W$30="",W$4=99),1,IF(W48="",0,IFERROR(CHOOSE(BI$28,IF(ISNA(MATCH(W48,$AQ$30:$AR$30,0)),0,1),IF(ISNUMBER(W48),1,0),IF(W48=TRUNC(W48),1,0),IF(AND(W48*1=W48,W48>=0),1,0),IF(AND(W48=TRUNC(W48),W48>=0),1,0),IF(AND(W48*1=W48,W48>0),1,0),IF(AND(W48=TRUNC(W48),W48>0),1,0),1,IF(ISNA(HLOOKUP(W48,$AT$4:$BC$4,1,0)),0,1)),0))) -> 1 | BJ48: =IF(OR(X$30="",X$4=99),1,IF(X48="",0,IFERROR(CHOOSE(BJ$28,IF(ISNA(MATCH(X48,$AQ$30:$AR$30,0)),0,1),IF(ISNUMBER(X48),1,0),IF(X48=TRUNC(X48),1,0),IF(AND(X48*1=X48,X48>=0),1,0),IF(AND(X48=TRUNC(X48),X48>=0),1,0),IF(AND(X48*1=X48,X48>0),1,0),IF(AND(X48=TRUNC(X48),X48>0),1,0),1,IF(ISNA(HLOOKUP(X48,$AT$4:$BC$4,1,0)),0,1)),0))) -> 0 | BK48: =IF(OR(Y$30="",Y$4=99),1,IF(Y48="",0,IFERROR(CHOOSE(BK$28,IF(ISNA(MATCH(Y48,$AQ$30:$AR$30,0)),0,1),IF(ISNUMBER(Y48),1,0),IF(Y48=TRUNC(Y48),1,0),IF(AND(Y48*1=Y48,Y48>=0),1,0),IF(AND(Y48=TRUNC(Y48),Y48>=0),1,0),IF(AND(Y48*1=Y48,Y48>0),1,0),IF(AND(Y48=TRUNC(Y48),Y48>0),1,0),1,IF(ISNA(HLOOKUP(Y48,$AT$4:$BC$4,1,0)),0,1)),0))) -> 0 | BL48: =IF(OR(Z$30="",Z$4=99),1,IF(Z48="",0,IFERROR(CHOOSE(BL$28,IF(ISNA(MATCH(Z48,$AQ$30:$AR$30,0)),0,1),IF(ISNUMBER(Z48),1,0),IF(Z48=TRUNC(Z48),1,0),IF(AND(Z48*1=Z48,Z48>=0),1,0),IF(AND(Z48=TRUNC(Z48),Z48>=0),1,0),IF(AND(Z48*1=Z48,Z48>0),1,0),IF(AND(Z48=TRUNC(Z48),Z48>0),1,0),1,IF(ISNA(HLOOKUP(Z48,$AT$4:$BC$4,1,0)),0,1)),0))) -> 1 | BS48: =IF(OR(AG$30="",AG$4=99),1,IF(AG48="",0,IFERROR(CHOOSE(BS$28,IF(ISNA(MATCH(AG48,$AQ$30:$AR$30,0)),0,1),IF(ISNUMBER(AG48),1,0),IF(AG48=TRUNC(AG48),1,0),IF(AND(AG48*1=AG48,AG48>=0),1,0),IF(AND(AG48=TRUNC(AG48),AG48>=0),1,0),IF(AND(AG48*1=AG48,AG48>0),1,0),IF(AND(AG48=TRUNC(AG48),AG48>0),1,0),1,IF(ISNA(HLOOKUP(AG48,$AT$4:$BC$4,1,0)),0,1)),0))) -> 0 | BT48: =IF(OR(AH$30="",AH$4=99),1,IF(AH48="",0,IFERROR(CHOOSE(BT$28,IF(ISNA(MATCH(AH48,$AQ$30:$AR$30,0)),0,1),IF(ISNUMBER(AH48),1,0),IF(AH48=TRUNC(AH48),1,0),IF(AND(AH48*1=AH48,AH48>=0),1,0),IF(AND(AH48=TRUNC(AH48),AH48>=0),1,0),IF(AND(AH48*1=AH48,AH48>0),1,0),IF(AND(AH48=TRUNC(AH48),AH48>0),1,0),1,IF(ISNA(HLOOKUP(AH48,$AT$4:$BC$4,1,0)),0,1)),0))) -> 0 | CE48: =IF($F48="","",CE$30) | CF48: =IF($F48="","",CF$30) | CG48: =IF($F48="","",CG$30) | CH48: =IF($F48="","",CH$30) | CI48: =IF($F48="","",CI$30) | CJ48: =IF($F48="","",CJ$30) | CK48: =IF($F48="","",CK$30) | CL48: =IF($F48="","",CL$30) | ... CN48: =IF($F48="","",CN$30) | CT48: =OR(U48>=CT$5,X48>=$U$7,W48=1) -> TRUE | CU48: =OR(V48>=CU$5,INDEX('הוראת שעה'!$D$6:$D$20,MATCH($AO$2,'הוראת שעה'!$A$6:$A$20,1))=99) -> FALSE | CV48: =X48>=CV$5 -> FALSE | CZ48: =COUNTIF(CT48:CX48,TRUE) -> 1 | DA48: =OR(Q48>=DA$5,X48>=$U$7,W48=1) -> FALSE | DB48: =OR(V48>=DB$5,Z48=1,INDEX('הוראת שעה'!$D$6:$D$20,MATCH($AO$2,'הוראת שעה'!$A$6:$A$20,1))=99) -> FALSE | DC48: =X48>=DC$5 -> FALSE | DH48: =COUNTIF(DA48:DG48,TRUE) -> 0 | DI48: =IF($F48="","",IF(CZ48=$CU$3,1,0)) | DJ48: =IF($F48="","",IF(AND(DH48=$CU$3,DH48-CZ48<=$DB$3),1,0))
B49: =IF(F49="","",ROW()-30) | U49: =IF($F49="","",IF(T49>S49,$AQ$1,IFERROR(T49/S49,$AQ$1))) | AE49: =IF($F49="","",IF(OR(DI49=1,AND(DJ49=1,Z49=1)),1,0)) | AI49: =IF(F49="","",IF(G49>=$G$5,1,0)) | AN49: =IF($F49="","",IF(AJ49=1,1,IF(AP49<>1,$AQ$1,IF(SUMPRODUCT(--(G49:AI49>=$G$5:$AI$5)*($G$5:$AI$5<>"")*($G$4:$AI$4=1))=COUNTIF($G$4:$AI$4,1),1,0)))) | AP49: =IF(OR(SUM(AS49:BZ49)<>COUNT(AS49:BZ49),SUMPRODUCT(--(G49:AI49=$AQ$1))<>0),0,1) -> 0 | AQ49: =IF($F49="","",AQ$30) | AR49: =IF($F49="","",AR$30) | AS49: =IF(OR(G$30="",G$4=99),1,IF(G49="",0,IFERROR(CHOOSE(AS$28,IF(ISNA(MATCH(G49,$AQ$30:$AR$30,0)),0,1),IF(ISNUMBER(G49),1,0),IF(G49=TRUNC(G49),1,0),IF(AND(G49*1=G49,G49>=0),1,0),IF(AND(G49=TRUNC(G49),G49>=0),1,0),IF(AND(G49*1=G49,G49>0),1,0),IF(AND(G49=TRUNC(G49),G49>0),1,0),1,IF(ISNA(HLOOKUP(G49,$AT$4:$BC$4,1,0)),0,1)),0))) -> 0 | AT49: =IF(OR(H$30="",H$4=99),1,IF(H49="",0,IFERROR(CHOOSE(AT$28,IF(ISNA(MATCH(H49,$AQ$30:$AR$30,0)),0,1),IF(ISNUMBER(H49),1,0),IF(H49=TRUNC(H49),1,0),IF(AND(H49*1=H49,H49>=0),1,0),IF(AND(H49=TRUNC(H49),H49>=0),1,0),IF(AND(H49*1=H49,H49>0),1,0),IF(AND(H49=TRUNC(H49),H49>0),1,0),1,IF(ISNA(HLOOKUP(H49,$AT$4:$BC$4,1,0)),0,1)),0))) -> 0 | AU49: =IF(OR(I$30="",I$4=99),1,IF(I49="",0,IFERROR(CHOOSE(AU$28,IF(ISNA(MATCH(I49,$AQ$30:$AR$30,0)),0,1),IF(ISNUMBER(I49),1,0),IF(I49=TRUNC(I49),1,0),IF(AND(I49*1=I49,I49>=0),1,0),IF(AND(I49=TRUNC(I49),I49>=0),1,0),IF(AND(I49*1=I49,I49>0),1,0),IF(AND(I49=TRUNC(I49),I49>0),1,0),1,IF(ISNA(HLOOKUP(I49,$AT$4:$BC$4,1,0)),0,1)),0))) -> 0 | AV49: =IF(OR(J$30="",J$4=99),1,IF(J49="",0,IFERROR(CHOOSE(AV$28,IF(ISNA(MATCH(J49,$AQ$30:$AR$30,0)),0,1),IF(ISNUMBER(J49),1,0),IF(J49=TRUNC(J49),1,0),IF(AND(J49*1=J49,J49>=0),1,0),IF(AND(J49=TRUNC(J49),J49>=0),1,0),IF(AND(J49*1=J49,J49>0),1,0),IF(AND(J49=TRUNC(J49),J49>0),1,0),1,IF(ISNA(HLOOKUP(J49,$AT$4:$BC$4,1,0)),0,1)),0))) -> 0 | AW49: =IF(OR(K$30="",K$4=99),1,IF(K49="",0,IFERROR(CHOOSE(AW$28,IF(ISNA(MATCH(K49,$AQ$30:$AR$30,0)),0,1),IF(ISNUMBER(K49),1,0),IF(K49=TRUNC(K49),1,0),IF(AND(K49*1=K49,K49>=0),1,0),IF(AND(K49=TRUNC(K49),K49>=0),1,0),IF(AND(K49*1=K49,K49>0),1,0),IF(AND(K49=TRUNC(K49),K49>0),1,0),1,IF(ISNA(HLOOKUP(K49,$AT$4:$BC$4,1,0)),0,1)),0))) -> 0 | AX49: =IF(OR(L$30="",L$4=99),1,IF(L49="",0,IFERROR(CHOOSE(AX$28,IF(ISNA(MATCH(L49,$AQ$30:$AR$30,0)),0,1),IF(ISNUMBER(L49),1,0),IF(L49=TRUNC(L49),1,0),IF(AND(L49*1=L49,L49>=0),1,0),IF(AND(L49=TRUNC(L49),L49>=0),1,0),IF(AND(L49*1=L49,L49>0),1,0),IF(AND(L49=TRUNC(L49),L49>0),1,0),1,IF(ISNA(HLOOKUP(L49,$AT$4:$BC$4,1,0)),0,1)),0))) -> 0 | AY49: =IF(OR(M$30="",M$4=99),1,IF(M49="",0,IFERROR(CHOOSE(AY$28,IF(ISNA(MATCH(M49,$AQ$30:$AR$30,0)),0,1),IF(ISNUMBER(M49),1,0),IF(M49=TRUNC(M49),1,0),IF(AND(M49*1=M49,M49>=0),1,0),IF(AND(M49=TRUNC(M49),M49>=0),1,0),IF(AND(M49*1=M49,M49>0),1,0),IF(AND(M49=TRUNC(M49),M49>0),1,0),1,IF(ISNA(HLOOKUP(M49,$AT$4:$BC$4,1,0)),0,1)),0))) -> 0 | AZ49: =IF(OR(N$30="",N$4=99),1,IF(N49="",0,IFERROR(CHOOSE(AZ$28,IF(ISNA(MATCH(N49,$AQ$30:$AR$30,0)),0,1),IF(ISNUMBER(N49),1,0),IF(N49=TRUNC(N49),1,0),IF(AND(N49*1=N49,N49>=0),1,0),IF(AND(N49=TRUNC(N49),N49>=0),1,0),IF(AND(N49*1=N49,N49>0),1,0),IF(AND(N49=TRUNC(N49),N49>0),1,0),1,IF(ISNA(HLOOKUP(N49,$AT$4:$BC$4,1,0)),0,1)),0))) -> 0 | ... BF49: =IF(OR(T$30="",T$4=99),1,IF(T49="",0,IFERROR(CHOOSE(BF$28,IF(ISNA(MATCH(T49,$AQ$30:$AR$30,0)),0,1),IF(ISNUMBER(T49),1,0),IF(T49=TRUNC(T49),1,0),IF(AND(T49*1=T49,T49>=0),1,0),IF(AND(T49=TRUNC(T49),T49>=0),1,0),IF(AND(T49*1=T49,T49>0),1,0),IF(AND(T49=TRUNC(T49),T49>0),1,0),1,IF(ISNA(HLOOKUP(T49,$AT$4:$BC$4,1,0)),0,1)),0))) -> 0 | BH49: =IF(OR(V$30="",V$4=99),1,IF(V49="",0,IFERROR(CHOOSE(BH$28,IF(ISNA(MATCH(V49,$AQ$30:$AR$30,0)),0,1),IF(ISNUMBER(V49),1,0),IF(V49=TRUNC(V49),1,0),IF(AND(V49*1=V49,V49>=0),1,0),IF(AND(V49=TRUNC(V49),V49>=0),1,0),IF(AND(V49*1=V49,V49>0),1,0),IF(AND(V49=TRUNC(V49),V49>0),1,0),1,IF(ISNA(HLOOKUP(V49,$AT$4:$BC$4,1,0)),0,1)),0))) -> 0 | BI49: =IF(OR(W$30="",W$4=99),1,IF(W49="",0,IFERROR(CHOOSE(BI$28,IF(ISNA(MATCH(W49,$AQ$30:$AR$30,0)),0,1),IF(ISNUMBER(W49),1,0),IF(W49=TRUNC(W49),1,0),IF(AND(W49*1=W49,W49>=0),1,0),IF(AND(W49=TRUNC(W49),W49>=0),1,0),IF(AND(W49*1=W49,W49>0),1,0),IF(AND(W49=TRUNC(W49),W49>0),1,0),1,IF(ISNA(HLOOKUP(W49,$AT$4:$BC$4,1,0)),0,1)),0))) -> 1 | BJ49: =IF(OR(X$30="",X$4=99),1,IF(X49="",0,IFERROR(CHOOSE(BJ$28,IF(ISNA(MATCH(X49,$AQ$30:$AR$30,0)),0,1),IF(ISNUMBER(X49),1,0),IF(X49=TRUNC(X49),1,0),IF(AND(X49*1=X49,X49>=0),1,0),IF(AND(X49=TRUNC(X49),X49>=0),1,0),IF(AND(X49*1=X49,X49>0),1,0),IF(AND(X49=TRUNC(X49),X49>0),1,0),1,IF(ISNA(HLOOKUP(X49,$AT$4:$BC$4,1,0)),0,1)),0))) -> 0 | BK49: =IF(OR(Y$30="",Y$4=99),1,IF(Y49="",0,IFERROR(CHOOSE(BK$28,IF(ISNA(MATCH(Y49,$AQ$30:$AR$30,0)),0,1),IF(ISNUMBER(Y49),1,0),IF(Y49=TRUNC(Y49),1,0),IF(AND(Y49*1=Y49,Y49>=0),1,0),IF(AND(Y49=TRUNC(Y49),Y49>=0),1,0),IF(AND(Y49*1=Y49,Y49>0),1,0),IF(AND(Y49=TRUNC(Y49),Y49>0),1,0),1,IF(ISNA(HLOOKUP(Y49,$AT$4:$BC$4,1,0)),0,1)),0))) -> 0 | BL49: =IF(OR(Z$30="",Z$4=99),1,IF(Z49="",0,IFERROR(CHOOSE(BL$28,IF(ISNA(MATCH(Z49,$AQ$30:$AR$30,0)),0,1),IF(ISNUMBER(Z49),1,0),IF(Z49=TRUNC(Z49),1,0),IF(AND(Z49*1=Z49,Z49>=0),1,0),IF(AND(Z49=TRUNC(Z49),Z49>=0),1,0),IF(AND(Z49*1=Z49,Z49>0),1,0),IF(AND(Z49=TRUNC(Z49),Z49>0),1,0),1,IF(ISNA(HLOOKUP(Z49,$AT$4:$BC$4,1,0)),0,1)),0))) -> 1 | BS49: =IF(OR(AG$30="",AG$4=99),1,IF(AG49="",0,IFERROR(CHOOSE(BS$28,IF(ISNA(MATCH(AG49,$AQ$30:$AR$30,0)),0,1),IF(ISNUMBER(AG49),1,0),IF(AG49=TRUNC(AG49),1,0),IF(AND(AG49*1=AG49,AG49>=0),1,0),IF(AND(AG49=TRUNC(AG49),AG49>=0),1,0),IF(AND(AG49*1=AG49,AG49>0),1,0),IF(AND(AG49=TRUNC(AG49),AG49>0),1,0),1,IF(ISNA(HLOOKUP(AG49,$AT$4:$BC$4,1,0)),0,1)),0))) -> 0 | BT49: =IF(OR(AH$30="",AH$4=99),1,IF(AH49="",0,IFERROR(CHOOSE(BT$28,IF(ISNA(MATCH(AH49,$AQ$30:$AR$30,0)),0,1),IF(ISNUMBER(AH49),1,0),IF(AH49=TRUNC(AH49),1,0),IF(AND(AH49*1=AH49,AH49>=0),1,0),IF(AND(AH49=TRUNC(AH49),AH49>=0),1,0),IF(AND(AH49*1=AH49,AH49>0),1,0),IF(AND(AH49=TRUNC(AH49),AH49>0),1,0),1,IF(ISNA(HLOOKUP(AH49,$AT$4:$BC$4,1,0)),0,1)),0))) -> 0 | CE49: =IF($F49="","",CE$30) | CF49: =IF($F49="","",CF$30) | CG49: =IF($F49="","",CG$30) | CH49: =IF($F49="","",CH$30) | CI49: =IF($F49="","",CI$30) | CJ49: =IF($F49="","",CJ$30) | CK49: =IF($F49="","",CK$30) | CL49: =IF($F49="","",CL$30) | ... CN49: =IF($F49="","",CN$30) | CT49: =OR(U49>=CT$5,X49>=$U$7,W49=1) -> TRUE | CU49: =OR(V49>=CU$5,INDEX('הוראת שעה'!$D$6:$D$20,MATCH($AO$2,'הוראת שעה'!$A$6:$A$20,1))=99) -> FALSE | CV49: =X49>=CV$5 -> FALSE | CZ49: =COUNTIF(CT49:CX49,TRUE) -> 1 | DA49: =OR(Q49>=DA$5,X49>=$U$7,W49=1) -> FALSE | DB49: =OR(V49>=DB$5,Z49=1,INDEX('הוראת שעה'!$D$6:$D$20,MATCH($AO$2,'הוראת שעה'!$A$6:$A$20,1))=99) -> FALSE | DC49: =X49>=DC$5 -> FALSE | DH49: =COUNTIF(DA49:DG49,TRUE) -> 0 | DI49: =IF($F49="","",IF(CZ49=$CU$3,1,0)) | DJ49: =IF($F49="","",IF(AND(DH49=$CU$3,DH49-CZ49<=$DB$3),1,0))
B50: =IF(F50="","",ROW()-30) | U50: =IF($F50="","",IF(T50>S50,$AQ$1,IFERROR(T50/S50,$AQ$1))) | AE50: =IF($F50="","",IF(OR(DI50=1,AND(DJ50=1,Z50=1)),1,0)) | AI50: =IF(F50="","",IF(G50>=$G$5,1,0)) | AN50: =IF($F50="","",IF(AJ50=1,1,IF(AP50<>1,$AQ$1,IF(SUMPRODUCT(--(G50:AI50>=$G$5:$AI$5)*($G$5:$AI$5<>"")*($G$4:$AI$4=1))=COUNTIF($G$4:$AI$4,1),1,0)))) | AP50: =IF(OR(SUM(AS50:BZ50)<>COUNT(AS50:BZ50),SUMPRODUCT(--(G50:AI50=$AQ$1))<>0),0,1) -> 0 | AQ50: =IF($F50="","",AQ$30) | AR50: =IF($F50="","",AR$30) | AS50: =IF(OR(G$30="",G$4=99),1,IF(G50="",0,IFERROR(CHOOSE(AS$28,IF(ISNA(MATCH(G50,$AQ$30:$AR$30,0)),0,1),IF(ISNUMBER(G50),1,0),IF(G50=TRUNC(G50),1,0),IF(AND(G50*1=G50,G50>=0),1,0),IF(AND(G50=TRUNC(G50),G50>=0),1,0),IF(AND(G50*1=G50,G50>0),1,0),IF(AND(G50=TRUNC(G50),G50>0),1,0),1,IF(ISNA(HLOOKUP(G50,$AT$4:$BC$4,1,0)),0,1)),0))) -> 0 | AT50: =IF(OR(H$30="",H$4=99),1,IF(H50="",0,IFERROR(CHOOSE(AT$28,IF(ISNA(MATCH(H50,$AQ$30:$AR$30,0)),0,1),IF(ISNUMBER(H50),1,0),IF(H50=TRUNC(H50),1,0),IF(AND(H50*1=H50,H50>=0),1,0),IF(AND(H50=TRUNC(H50),H50>=0),1,0),IF(AND(H50*1=H50,H50>0),1,0),IF(AND(H50=TRUNC(H50),H50>0),1,0),1,IF(ISNA(HLOOKUP(H50,$AT$4:$BC$4,1,0)),0,1)),0))) -> 0 | AU50: =IF(OR(I$30="",I$4=99),1,IF(I50="",0,IFERROR(CHOOSE(AU$28,IF(ISNA(MATCH(I50,$AQ$30:$AR$30,0)),0,1),IF(ISNUMBER(I50),1,0),IF(I50=TRUNC(I50),1,0),IF(AND(I50*1=I50,I50>=0),1,0),IF(AND(I50=TRUNC(I50),I50>=0),1,0),IF(AND(I50*1=I50,I50>0),1,0),IF(AND(I50=TRUNC(I50),I50>0),1,0),1,IF(ISNA(HLOOKUP(I50,$AT$4:$BC$4,1,0)),0,1)),0))) -> 0 | AV50: =IF(OR(J$30="",J$4=99),1,IF(J50="",0,IFERROR(CHOOSE(AV$28,IF(ISNA(MATCH(J50,$AQ$30:$AR$30,0)),0,1),IF(ISNUMBER(J50),1,0),IF(J50=TRUNC(J50),1,0),IF(AND(J50*1=J50,J50>=0),1,0),IF(AND(J50=TRUNC(J50),J50>=0),1,0),IF(AND(J50*1=J50,J50>0),1,0),IF(AND(J50=TRUNC(J50),J50>0),1,0),1,IF(ISNA(HLOOKUP(J50,$AT$4:$BC$4,1,0)),0,1)),0))) -> 0 | AW50: =IF(OR(K$30="",K$4=99),1,IF(K50="",0,IFERROR(CHOOSE(AW$28,IF(ISNA(MATCH(K50,$AQ$30:$AR$30,0)),0,1),IF(ISNUMBER(K50),1,0),IF(K50=TRUNC(K50),1,0),IF(AND(K50*1=K50,K50>=0),1,0),IF(AND(K50=TRUNC(K50),K50>=0),1,0),IF(AND(K50*1=K50,K50>0),1,0),IF(AND(K50=TRUNC(K50),K50>0),1,0),1,IF(ISNA(HLOOKUP(K50,$AT$4:$BC$4,1,0)),0,1)),0))) -> 0 | AX50: =IF(OR(L$30="",L$4=99),1,IF(L50="",0,IFERROR(CHOOSE(AX$28,IF(ISNA(MATCH(L50,$AQ$30:$AR$30,0)),0,1),IF(ISNUMBER(L50),1,0),IF(L50=TRUNC(L50),1,0),IF(AND(L50*1=L50,L50>=0),1,0),IF(AND(L50=TRUNC(L50),L50>=0),1,0),IF(AND(L50*1=L50,L50>0),1,0),IF(AND(L50=TRUNC(L50),L50>0),1,0),1,IF(ISNA(HLOOKUP(L50,$AT$4:$BC$4,1,0)),0,1)),0))) -> 0 | AY50: =IF(OR(M$30="",M$4=99),1,IF(M50="",0,IFERROR(CHOOSE(AY$28,IF(ISNA(MATCH(M50,$AQ$30:$AR$30,0)),0,1),IF(ISNUMBER(M50),1,0),IF(M50=TRUNC(M50),1,0),IF(AND(M50*1=M50,M50>=0),1,0),IF(AND(M50=TRUNC(M50),M50>=0),1,0),IF(AND(M50*1=M50,M50>0),1,0),IF(AND(M50=TRUNC(M50),M50>0),1,0),1,IF(ISNA(HLOOKUP(M50,$AT$4:$BC$4,1,0)),0,1)),0))) -> 0 | AZ50: =IF(OR(N$30="",N$4=99),1,IF(N50="",0,IFERROR(CHOOSE(AZ$28,IF(ISNA(MATCH(N50,$AQ$30:$AR$30,0)),0,1),IF(ISNUMBER(N50),1,0),IF(N50=TRUNC(N50),1,0),IF(AND(N50*1=N50,N50>=0),1,0),IF(AND(N50=TRUNC(N50),N50>=0),1,0),IF(AND(N50*1=N50,N50>0),1,0),IF(AND(N50=TRUNC(N50),N50>0),1,0),1,IF(ISNA(HLOOKUP(N50,$AT$4:$BC$4,1,0)),0,1)),0))) -> 0 | ... BF50: =IF(OR(T$30="",T$4=99),1,IF(T50="",0,IFERROR(CHOOSE(BF$28,IF(ISNA(MATCH(T50,$AQ$30:$AR$30,0)),0,1),IF(ISNUMBER(T50),1,0),IF(T50=TRUNC(T50),1,0),IF(AND(T50*1=T50,T50>=0),1,0),IF(AND(T50=TRUNC(T50),T50>=0),1,0),IF(AND(T50*1=T50,T50>0),1,0),IF(AND(T50=TRUNC(T50),T50>0),1,0),1,IF(ISNA(HLOOKUP(T50,$AT$4:$BC$4,1,0)),0,1)),0))) -> 0 | BH50: =IF(OR(V$30="",V$4=99),1,IF(V50="",0,IFERROR(CHOOSE(BH$28,IF(ISNA(MATCH(V50,$AQ$30:$AR$30,0)),0,1),IF(ISNUMBER(V50),1,0),IF(V50=TRUNC(V50),1,0),IF(AND(V50*1=V50,V50>=0),1,0),IF(AND(V50=TRUNC(V50),V50>=0),1,0),IF(AND(V50*1=V50,V50>0),1,0),IF(AND(V50=TRUNC(V50),V50>0),1,0),1,IF(ISNA(HLOOKUP(V50,$AT$4:$BC$4,1,0)),0,1)),0))) -> 0 | BI50: =IF(OR(W$30="",W$4=99),1,IF(W50="",0,IFERROR(CHOOSE(BI$28,IF(ISNA(MATCH(W50,$AQ$30:$AR$30,0)),0,1),IF(ISNUMBER(W50),1,0),IF(W50=TRUNC(W50),1,0),IF(AND(W50*1=W50,W50>=0),1,0),IF(AND(W50=TRUNC(W50),W50>=0),1,0),IF(AND(W50*1=W50,W50>0),1,0),IF(AND(W50=TRUNC(W50),W50>0),1,0),1,IF(ISNA(HLOOKUP(W50,$AT$4:$BC$4,1,0)),0,1)),0))) -> 1 | BJ50: =IF(OR(X$30="",X$4=99),1,IF(X50="",0,IFERROR(CHOOSE(BJ$28,IF(ISNA(MATCH(X50,$AQ$30:$AR$30,0)),0,1),IF(ISNUMBER(X50),1,0),IF(X50=TRUNC(X50),1,0),IF(AND(X50*1=X50,X50>=0),1,0),IF(AND(X50=TRUNC(X50),X50>=0),1,0),IF(AND(X50*1=X50,X50>0),1,0),IF(AND(X50=TRUNC(X50),X50>0),1,0),1,IF(ISNA(HLOOKUP(X50,$AT$4:$BC$4,1,0)),0,1)),0))) -> 0 | BK50: =IF(OR(Y$30="",Y$4=99),1,IF(Y50="",0,IFERROR(CHOOSE(BK$28,IF(ISNA(MATCH(Y50,$AQ$30:$AR$30,0)),0,1),IF(ISNUMBER(Y50),1,0),IF(Y50=TRUNC(Y50),1,0),IF(AND(Y50*1=Y50,Y50>=0),1,0),IF(AND(Y50=TRUNC(Y50),Y50>=0),1,0),IF(AND(Y50*1=Y50,Y50>0),1,0),IF(AND(Y50=TRUNC(Y50),Y50>0),1,0),1,IF(ISNA(HLOOKUP(Y50,$AT$4:$BC$4,1,0)),0,1)),0))) -> 0 | BL50: =IF(OR(Z$30="",Z$4=99),1,IF(Z50="",0,IFERROR(CHOOSE(BL$28,IF(ISNA(MATCH(Z50,$AQ$30:$AR$30,0)),0,1),IF(ISNUMBER(Z50),1,0),IF(Z50=TRUNC(Z50),1,0),IF(AND(Z50*1=Z50,Z50>=0),1,0),IF(AND(Z50=TRUNC(Z50),Z50>=0),1,0),IF(AND(Z50*1=Z50,Z50>0),1,0),IF(AND(Z50=TRUNC(Z50),Z50>0),1,0),1,IF(ISNA(HLOOKUP(Z50,$AT$4:$BC$4,1,0)),0,1)),0))) -> 1 | BS50: =IF(OR(AG$30="",AG$4=99),1,IF(AG50="",0,IFERROR(CHOOSE(BS$28,IF(ISNA(MATCH(AG50,$AQ$30:$AR$30,0)),0,1),IF(ISNUMBER(AG50),1,0),IF(AG50=TRUNC(AG50),1,0),IF(AND(AG50*1=AG50,AG50>=0),1,0),IF(AND(AG50=TRUNC(AG50),AG50>=0),1,0),IF(AND(AG50*1=AG50,AG50>0),1,0),IF(AND(AG50=TRUNC(AG50),AG50>0),1,0),1,IF(ISNA(HLOOKUP(AG50,$AT$4:$BC$4,1,0)),0,1)),0))) -> 0 | BT50: =IF(OR(AH$30="",AH$4=99),1,IF(AH50="",0,IFERROR(CHOOSE(BT$28,IF(ISNA(MATCH(AH50,$AQ$30:$AR$30,0)),0,1),IF(ISNUMBER(AH50),1,0),IF(AH50=TRUNC(AH50),1,0),IF(AND(AH50*1=AH50,AH50>=0),1,0),IF(AND(AH50=TRUNC(AH50),AH50>=0),1,0),IF(AND(AH50*1=AH50,AH50>0),1,0),IF(AND(AH50=TRUNC(AH50),AH50>0),1,0),1,IF(ISNA(HLOOKUP(AH50,$AT$4:$BC$4,1,0)),0,1)),0))) -> 0 | CE50: =IF($F50="","",CE$30) | CF50: =IF($F50="","",CF$30) | CG50: =IF($F50="","",CG$30) | CH50: =IF($F50="","",CH$30) | CI50: =IF($F50="","",CI$30) | CJ50: =IF($F50="","",CJ$30) | CK50: =IF($F50="","",CK$30) | CL50: =IF($F50="","",CL$30) | ... CN50: =IF($F50="","",CN$30) | CT50: =OR(U50>=CT$5,X50>=$U$7,W50=1) -> TRUE | CU50: =OR(V50>=CU$5,INDEX('הוראת שעה'!$D$6:$D$20,MATCH($AO$2,'הוראת שעה'!$A$6:$A$20,1))=99) -> FALSE | CV50: =X50>=CV$5 -> FALSE | CZ50: =COUNTIF(CT50:CX50,TRUE) -> 1 | DA50: =OR(Q50>=DA$5,X50>=$U$7,W50=1) -> FALSE | DB50: =OR(V50>=DB$5,Z50=1,INDEX('הוראת שעה'!$D$6:$D$20,MATCH($AO$2,'הוראת שעה'!$A$6:$A$20,1))=99) -> FALSE | DC50: =X50>=DC$5 -> FALSE | DH50: =COUNTIF(DA50:DG50,TRUE) -> 0 | DI50: =IF($F50="","",IF(CZ50=$CU$3,1,0)) | DJ50: =IF($F50="","",IF(AND(DH50=$CU$3,DH50-CZ50<=$DB$3),1,0))
B51: =IF(F51="","",ROW()-30) | U51: =IF($F51="","",IF(T51>S51,$AQ$1,IFERROR(T51/S51,$AQ$1))) | AE51: =IF($F51="","",IF(OR(DI51=1,AND(DJ51=1,Z51=1)),1,0)) | AI51: =IF(F51="","",IF(G51>=$G$5,1,0)) | AN51: =IF($F51="","",IF(AJ51=1,1,IF(AP51<>1,$AQ$1,IF(SUMPRODUCT(--(G51:AI51>=$G$5:$AI$5)*($G$5:$AI$5<>"")*($G$4:$AI$4=1))=COUNTIF($G$4:$AI$4,1),1,0)))) | AP51: =IF(OR(SUM(AS51:BZ51)<>COUNT(AS51:BZ51),SUMPRODUCT(--(G51:AI51=$AQ$1))<>0),0,1) -> 0 | AQ51: =IF($F51="","",AQ$30) | AR51: =IF($F51="","",AR$30) | AS51: =IF(OR(G$30="",G$4=99),1,IF(G51="",0,IFERROR(CHOOSE(AS$28,IF(ISNA(MATCH(G51,$AQ$30:$AR$30,0)),0,1),IF(ISNUMBER(G51),1,0),IF(G51=TRUNC(G51),1,0),IF(AND(G51*1=G51,G51>=0),1,0),IF(AND(G51=TRUNC(G51),G51>=0),1,0),IF(AND(G51*1=G51,G51>0),1,0),IF(AND(G51=TRUNC(G51),G51>0),1,0),1,IF(ISNA(HLOOKUP(G51,$AT$4:$BC$4,1,0)),0,1)),0))) -> 0 | AT51: =IF(OR(H$30="",H$4=99),1,IF(H51="",0,IFERROR(CHOOSE(AT$28,IF(ISNA(MATCH(H51,$AQ$30:$AR$30,0)),0,1),IF(ISNUMBER(H51),1,0),IF(H51=TRUNC(H51),1,0),IF(AND(H51*1=H51,H51>=0),1,0),IF(AND(H51=TRUNC(H51),H51>=0),1,0),IF(AND(H51*1=H51,H51>0),1,0),IF(AND(H51=TRUNC(H51),H51>0),1,0),1,IF(ISNA(HLOOKUP(H51,$AT$4:$BC$4,1,0)),0,1)),0))) -> 0 | AU51: =IF(OR(I$30="",I$4=99),1,IF(I51="",0,IFERROR(CHOOSE(AU$28,IF(ISNA(MATCH(I51,$AQ$30:$AR$30,0)),0,1),IF(ISNUMBER(I51),1,0),IF(I51=TRUNC(I51),1,0),IF(AND(I51*1=I51,I51>=0),1,0),IF(AND(I51=TRUNC(I51),I51>=0),1,0),IF(AND(I51*1=I51,I51>0),1,0),IF(AND(I51=TRUNC(I51),I51>0),1,0),1,IF(ISNA(HLOOKUP(I51,$AT$4:$BC$4,1,0)),0,1)),0))) -> 0 | AV51: =IF(OR(J$30="",J$4=99),1,IF(J51="",0,IFERROR(CHOOSE(AV$28,IF(ISNA(MATCH(J51,$AQ$30:$AR$30,0)),0,1),IF(ISNUMBER(J51),1,0),IF(J51=TRUNC(J51),1,0),IF(AND(J51*1=J51,J51>=0),1,0),IF(AND(J51=TRUNC(J51),J51>=0),1,0),IF(AND(J51*1=J51,J51>0),1,0),IF(AND(J51=TRUNC(J51),J51>0),1,0),1,IF(ISNA(HLOOKUP(J51,$AT$4:$BC$4,1,0)),0,1)),0))) -> 0 | AW51: =IF(OR(K$30="",K$4=99),1,IF(K51="",0,IFERROR(CHOOSE(AW$28,IF(ISNA(MATCH(K51,$AQ$30:$AR$30,0)),0,1),IF(ISNUMBER(K51),1,0),IF(K51=TRUNC(K51),1,0),IF(AND(K51*1=K51,K51>=0),1,0),IF(AND(K51=TRUNC(K51),K51>=0),1,0),IF(AND(K51*1=K51,K51>0),1,0),IF(AND(K51=TRUNC(K51),K51>0),1,0),1,IF(ISNA(HLOOKUP(K51,$AT$4:$BC$4,1,0)),0,1)),0))) -> 0 | AX51: =IF(OR(L$30="",L$4=99),1,IF(L51="",0,IFERROR(CHOOSE(AX$28,IF(ISNA(MATCH(L51,$AQ$30:$AR$30,0)),0,1),IF(ISNUMBER(L51),1,0),IF(L51=TRUNC(L51),1,0),IF(AND(L51*1=L51,L51>=0),1,0),IF(AND(L51=TRUNC(L51),L51>=0),1,0),IF(AND(L51*1=L51,L51>0),1,0),IF(AND(L51=TRUNC(L51),L51>0),1,0),1,IF(ISNA(HLOOKUP(L51,$AT$4:$BC$4,1,0)),0,1)),0))) -> 0 | AY51: =IF(OR(M$30="",M$4=99),1,IF(M51="",0,IFERROR(CHOOSE(AY$28,IF(ISNA(MATCH(M51,$AQ$30:$AR$30,0)),0,1),IF(ISNUMBER(M51),1,0),IF(M51=TRUNC(M51),1,0),IF(AND(M51*1=M51,M51>=0),1,0),IF(AND(M51=TRUNC(M51),M51>=0),1,0),IF(AND(M51*1=M51,M51>0),1,0),IF(AND(M51=TRUNC(M51),M51>0),1,0),1,IF(ISNA(HLOOKUP(M51,$AT$4:$BC$4,1,0)),0,1)),0))) -> 0 | AZ51: =IF(OR(N$30="",N$4=99),1,IF(N51="",0,IFERROR(CHOOSE(AZ$28,IF(ISNA(MATCH(N51,$AQ$30:$AR$30,0)),0,1),IF(ISNUMBER(N51),1,0),IF(N51=TRUNC(N51),1,0),IF(AND(N51*1=N51,N51>=0),1,0),IF(AND(N51=TRUNC(N51),N51>=0),1,0),IF(AND(N51*1=N51,N51>0),1,0),IF(AND(N51=TRUNC(N51),N51>0),1,0),1,IF(ISNA(HLOOKUP(N51,$AT$4:$BC$4,1,0)),0,1)),0))) -> 0 | ... BF51: =IF(OR(T$30="",T$4=99),1,IF(T51="",0,IFERROR(CHOOSE(BF$28,IF(ISNA(MATCH(T51,$AQ$30:$AR$30,0)),0,1),IF(ISNUMBER(T51),1,0),IF(T51=TRUNC(T51),1,0),IF(AND(T51*1=T51,T51>=0),1,0),IF(AND(T51=TRUNC(T51),T51>=0),1,0),IF(AND(T51*1=T51,T51>0),1,0),IF(AND(T51=TRUNC(T51),T51>0),1,0),1,IF(ISNA(HLOOKUP(T51,$AT$4:$BC$4,1,0)),0,1)),0))) -> 0 | BH51: =IF(OR(V$30="",V$4=99),1,IF(V51="",0,IFERROR(CHOOSE(BH$28,IF(ISNA(MATCH(V51,$AQ$30:$AR$30,0)),0,1),IF(ISNUMBER(V51),1,0),IF(V51=TRUNC(V51),1,0),IF(AND(V51*1=V51,V51>=0),1,0),IF(AND(V51=TRUNC(V51),V51>=0),1,0),IF(AND(V51*1=V51,V51>0),1,0),IF(AND(V51=TRUNC(V51),V51>0),1,0),1,IF(ISNA(HLOOKUP(V51,$AT$4:$BC$4,1,0)),0,1)),0))) -> 0 | BI51: =IF(OR(W$30="",W$4=99),1,IF(W51="",0,IFERROR(CHOOSE(BI$28,IF(ISNA(MATCH(W51,$AQ$30:$AR$30,0)),0,1),IF(ISNUMBER(W51),1,0),IF(W51=TRUNC(W51),1,0),IF(AND(W51*1=W51,W51>=0),1,0),IF(AND(W51=TRUNC(W51),W51>=0),1,0),IF(AND(W51*1=W51,W51>0),1,0),IF(AND(W51=TRUNC(W51),W51>0),1,0),1,IF(ISNA(HLOOKUP(W51,$AT$4:$BC$4,1,0)),0,1)),0))) -> 1 | BJ51: =IF(OR(X$30="",X$4=99),1,IF(X51="",0,IFERROR(CHOOSE(BJ$28,IF(ISNA(MATCH(X51,$AQ$30:$AR$30,0)),0,1),IF(ISNUMBER(X51),1,0),IF(X51=TRUNC(X51),1,0),IF(AND(X51*1=X51,X51>=0),1,0),IF(AND(X51=TRUNC(X51),X51>=0),1,0),IF(AND(X51*1=X51,X51>0),1,0),IF(AND(X51=TRUNC(X51),X51>0),1,0),1,IF(ISNA(HLOOKUP(X51,$AT$4:$BC$4,1,0)),0,1)),0))) -> 0 | BK51: =IF(OR(Y$30="",Y$4=99),1,IF(Y51="",0,IFERROR(CHOOSE(BK$28,IF(ISNA(MATCH(Y51,$AQ$30:$AR$30,0)),0,1),IF(ISNUMBER(Y51),1,0),IF(Y51=TRUNC(Y51),1,0),IF(AND(Y51*1=Y51,Y51>=0),1,0),IF(AND(Y51=TRUNC(Y51),Y51>=0),1,0),IF(AND(Y51*1=Y51,Y51>0),1,0),IF(AND(Y51=TRUNC(Y51),Y51>0),1,0),1,IF(ISNA(HLOOKUP(Y51,$AT$4:$BC$4,1,0)),0,1)),0))) -> 0 | BL51: =IF(OR(Z$30="",Z$4=99),1,IF(Z51="",0,IFERROR(CHOOSE(BL$28,IF(ISNA(MATCH(Z51,$AQ$30:$AR$30,0)),0,1),IF(ISNUMBER(Z51),1,0),IF(Z51=TRUNC(Z51),1,0),IF(AND(Z51*1=Z51,Z51>=0),1,0),IF(AND(Z51=TRUNC(Z51),Z51>=0),1,0),IF(AND(Z51*1=Z51,Z51>0),1,0),IF(AND(Z51=TRUNC(Z51),Z51>0),1,0),1,IF(ISNA(HLOOKUP(Z51,$AT$4:$BC$4,1,0)),0,1)),0))) -> 1 | BS51: =IF(OR(AG$30="",AG$4=99),1,IF(AG51="",0,IFERROR(CHOOSE(BS$28,IF(ISNA(MATCH(AG51,$AQ$30:$AR$30,0)),0,1),IF(ISNUMBER(AG51),1,0),IF(AG51=TRUNC(AG51),1,0),IF(AND(AG51*1=AG51,AG51>=0),1,0),IF(AND(AG51=TRUNC(AG51),AG51>=0),1,0),IF(AND(AG51*1=AG51,AG51>0),1,0),IF(AND(AG51=TRUNC(AG51),AG51>0),1,0),1,IF(ISNA(HLOOKUP(AG51,$AT$4:$BC$4,1,0)),0,1)),0))) -> 0 | BT51: =IF(OR(AH$30="",AH$4=99),1,IF(AH51="",0,IFERROR(CHOOSE(BT$28,IF(ISNA(MATCH(AH51,$AQ$30:$AR$30,0)),0,1),IF(ISNUMBER(AH51),1,0),IF(AH51=TRUNC(AH51),1,0),IF(AND(AH51*1=AH51,AH51>=0),1,0),IF(AND(AH51=TRUNC(AH51),AH51>=0),1,0),IF(AND(AH51*1=AH51,AH51>0),1,0),IF(AND(AH51=TRUNC(AH51),AH51>0),1,0),1,IF(ISNA(HLOOKUP(AH51,$AT$4:$BC$4,1,0)),0,1)),0))) -> 0 | CE51: =IF($F51="","",CE$30) | CF51: =IF($F51="","",CF$30) | CG51: =IF($F51="","",CG$30) | CH51: =IF($F51="","",CH$30) | CI51: =IF($F51="","",CI$30) | CJ51: =IF($F51="","",CJ$30) | CK51: =IF($F51="","",CK$30) | CL51: =IF($F51="","",CL$30) | ... CN51: =IF($F51="","",CN$30) | CT51: =OR(U51>=CT$5,X51>=$U$7,W51=1) -> TRUE | CU51: =OR(V51>=CU$5,INDEX('הוראת שעה'!$D$6:$D$20,MATCH($AO$2,'הוראת שעה'!$A$6:$A$20,1))=99) -> FALSE | CV51: =X51>=CV$5 -> FALSE | CZ51: =COUNTIF(CT51:CX51,TRUE) -> 1 | DA51: =OR(Q51>=DA$5,X51>=$U$7,W51=1) -> FALSE | DB51: =OR(V51>=DB$5,Z51=1,INDEX('הוראת שעה'!$D$6:$D$20,MATCH($AO$2,'הוראת שעה'!$A$6:$A$20,1))=99) -> FALSE | DC51: =X51>=DC$5 -> FALSE | DH51: =COUNTIF(DA51:DG51,TRUE) -> 0 | DI51: =IF($F51="","",IF(CZ51=$CU$3,1,0)) | DJ51: =IF($F51="","",IF(AND(DH51=$CU$3,DH51-CZ51<=$DB$3),1,0))
B52: =IF(F52="","",ROW()-30) | U52: =IF($F52="","",IF(T52>S52,$AQ$1,IFERROR(T52/S52,$AQ$1))) | AE52: =IF($F52="","",IF(OR(DI52=1,AND(DJ52=1,Z52=1)),1,0)) | AI52: =IF(F52="","",IF(G52>=$G$5,1,0)) | AN52: =IF($F52="","",IF(AJ52=1,1,IF(AP52<>1,$AQ$1,IF(SUMPRODUCT(--(G52:AI52>=$G$5:$AI$5)*($G$5:$AI$5<>"")*($G$4:$AI$4=1))=COUNTIF($G$4:$AI$4,1),1,0)))) | AP52: =IF(OR(SUM(AS52:BZ52)<>COUNT(AS52:BZ52),SUMPRODUCT(--(G52:AI52=$AQ$1))<>0),0,1) -> 0 | AQ52: =IF($F52="","",AQ$30) | AR52: =IF($F52="","",AR$30) | AS52: =IF(OR(G$30="",G$4=99),1,IF(G52="",0,IFERROR(CHOOSE(AS$28,IF(ISNA(MATCH(G52,$AQ$30:$AR$30,0)),0,1),IF(ISNUMBER(G52),1,0),IF(G52=TRUNC(G52),1,0),IF(AND(G52*1=G52,G52>=0),1,0),IF(AND(G52=TRUNC(G52),G52>=0),1,0),IF(AND(G52*1=G52,G52>0),1,0),IF(AND(G52=TRUNC(G52),G52>0),1,0),1,IF(ISNA(HLOOKUP(G52,$AT$4:$BC$4,1,0)),0,1)),0))) -> 0 | AT52: =IF(OR(H$30="",H$4=99),1,IF(H52="",0,IFERROR(CHOOSE(AT$28,IF(ISNA(MATCH(H52,$AQ$30:$AR$30,0)),0,1),IF(ISNUMBER(H52),1,0),IF(H52=TRUNC(H52),1,0),IF(AND(H52*1=H52,H52>=0),1,0),IF(AND(H52=TRUNC(H52),H52>=0),1,0),IF(AND(H52*1=H52,H52>0),1,0),IF(AND(H52=TRUNC(H52),H52>0),1,0),1,IF(ISNA(HLOOKUP(H52,$AT$4:$BC$4,1,0)),0,1)),0))) -> 0 | AU52: =IF(OR(I$30="",I$4=99),1,IF(I52="",0,IFERROR(CHOOSE(AU$28,IF(ISNA(MATCH(I52,$AQ$30:$AR$30,0)),0,1),IF(ISNUMBER(I52),1,0),IF(I52=TRUNC(I52),1,0),IF(AND(I52*1=I52,I52>=0),1,0),IF(AND(I52=TRUNC(I52),I52>=0),1,0),IF(AND(I52*1=I52,I52>0),1,0),IF(AND(I52=TRUNC(I52),I52>0),1,0),1,IF(ISNA(HLOOKUP(I52,$AT$4:$BC$4,1,0)),0,1)),0))) -> 0 | AV52: =IF(OR(J$30="",J$4=99),1,IF(J52="",0,IFERROR(CHOOSE(AV$28,IF(ISNA(MATCH(J52,$AQ$30:$AR$30,0)),0,1),IF(ISNUMBER(J52),1,0),IF(J52=TRUNC(J52),1,0),IF(AND(J52*1=J52,J52>=0),1,0),IF(AND(J52=TRUNC(J52),J52>=0),1,0),IF(AND(J52*1=J52,J52>0),1,0),IF(AND(J52=TRUNC(J52),J52>0),1,0),1,IF(ISNA(HLOOKUP(J52,$AT$4:$BC$4,1,0)),0,1)),0))) -> 0 | AW52: =IF(OR(K$30="",K$4=99),1,IF(K52="",0,IFERROR(CHOOSE(AW$28,IF(ISNA(MATCH(K52,$AQ$30:$AR$30,0)),0,1),IF(ISNUMBER(K52),1,0),IF(K52=TRUNC(K52),1,0),IF(AND(K52*1=K52,K52>=0),1,0),IF(AND(K52=TRUNC(K52),K52>=0),1,0),IF(AND(K52*1=K52,K52>0),1,0),IF(AND(K52=TRUNC(K52),K52>0),1,0),1,IF(ISNA(HLOOKUP(K52,$AT$4:$BC$4,1,0)),0,1)),0))) -> 0 | AX52: =IF(OR(L$30="",L$4=99),1,IF(L52="",0,IFERROR(CHOOSE(AX$28,IF(ISNA(MATCH(L52,$AQ$30:$AR$30,0)),0,1),IF(ISNUMBER(L52),1,0),IF(L52=TRUNC(L52),1,0),IF(AND(L52*1=L52,L52>=0),1,0),IF(AND(L52=TRUNC(L52),L52>=0),1,0),IF(AND(L52*1=L52,L52>0),1,0),IF(AND(L52=TRUNC(L52),L52>0),1,0),1,IF(ISNA(HLOOKUP(L52,$AT$4:$BC$4,1,0)),0,1)),0))) -> 0 | AY52: =IF(OR(M$30="",M$4=99),1,IF(M52="",0,IFERROR(CHOOSE(AY$28,IF(ISNA(MATCH(M52,$AQ$30:$AR$30,0)),0,1),IF(ISNUMBER(M52),1,0),IF(M52=TRUNC(M52),1,0),IF(AND(M52*1=M52,M52>=0),1,0),IF(AND(M52=TRUNC(M52),M52>=0),1,0),IF(AND(M52*1=M52,M52>0),1,0),IF(AND(M52=TRUNC(M52),M52>0),1,0),1,IF(ISNA(HLOOKUP(M52,$AT$4:$BC$4,1,0)),0,1)),0))) -> 0 | AZ52: =IF(OR(N$30="",N$4=99),1,IF(N52="",0,IFERROR(CHOOSE(AZ$28,IF(ISNA(MATCH(N52,$AQ$30:$AR$30,0)),0,1),IF(ISNUMBER(N52),1,0),IF(N52=TRUNC(N52),1,0),IF(AND(N52*1=N52,N52>=0),1,0),IF(AND(N52=TRUNC(N52),N52>=0),1,0),IF(AND(N52*1=N52,N52>0),1,0),IF(AND(N52=TRUNC(N52),N52>0),1,0),1,IF(ISNA(HLOOKUP(N52,$AT$4:$BC$4,1,0)),0,1)),0))) -> 0 | ... BF52: =IF(OR(T$30="",T$4=99),1,IF(T52="",0,IFERROR(CHOOSE(BF$28,IF(ISNA(MATCH(T52,$AQ$30:$AR$30,0)),0,1),IF(ISNUMBER(T52),1,0),IF(T52=TRUNC(T52),1,0),IF(AND(T52*1=T52,T52>=0),1,0),IF(AND(T52=TRUNC(T52),T52>=0),1,0),IF(AND(T52*1=T52,T52>0),1,0),IF(AND(T52=TRUNC(T52),T52>0),1,0),1,IF(ISNA(HLOOKUP(T52,$AT$4:$BC$4,1,0)),0,1)),0))) -> 0 | BH52: =IF(OR(V$30="",V$4=99),1,IF(V52="",0,IFERROR(CHOOSE(BH$28,IF(ISNA(MATCH(V52,$AQ$30:$AR$30,0)),0,1),IF(ISNUMBER(V52),1,0),IF(V52=TRUNC(V52),1,0),IF(AND(V52*1=V52,V52>=0),1,0),IF(AND(V52=TRUNC(V52),V52>=0),1,0),IF(AND(V52*1=V52,V52>0),1,0),IF(AND(V52=TRUNC(V52),V52>0),1,0),1,IF(ISNA(HLOOKUP(V52,$AT$4:$BC$4,1,0)),0,1)),0))) -> 0 | BI52: =IF(OR(W$30="",W$4=99),1,IF(W52="",0,IFERROR(CHOOSE(BI$28,IF(ISNA(MATCH(W52,$AQ$30:$AR$30,0)),0,1),IF(ISNUMBER(W52),1,0),IF(W52=TRUNC(W52),1,0),IF(AND(W52*1=W52,W52>=0),1,0),IF(AND(W52=TRUNC(W52),W52>=0),1,0),IF(AND(W52*1=W52,W52>0),1,0),IF(AND(W52=TRUNC(W52),W52>0),1,0),1,IF(ISNA(HLOOKUP(W52,$AT$4:$BC$4,1,0)),0,1)),0))) -> 1 | BJ52: =IF(OR(X$30="",X$4=99),1,IF(X52="",0,IFERROR(CHOOSE(BJ$28,IF(ISNA(MATCH(X52,$AQ$30:$AR$30,0)),0,1),IF(ISNUMBER(X52),1,0),IF(X52=TRUNC(X52),1,0),IF(AND(X52*1=X52,X52>=0),1,0),IF(AND(X52=TRUNC(X52),X52>=0),1,0),IF(AND(X52*1=X52,X52>0),1,0),IF(AND(X52=TRUNC(X52),X52>0),1,0),1,IF(ISNA(HLOOKUP(X52,$AT$4:$BC$4,1,0)),0,1)),0))) -> 0 | BK52: =IF(OR(Y$30="",Y$4=99),1,IF(Y52="",0,IFERROR(CHOOSE(BK$28,IF(ISNA(MATCH(Y52,$AQ$30:$AR$30,0)),0,1),IF(ISNUMBER(Y52),1,0),IF(Y52=TRUNC(Y52),1,0),IF(AND(Y52*1=Y52,Y52>=0),1,0),IF(AND(Y52=TRUNC(Y52),Y52>=0),1,0),IF(AND(Y52*1=Y52,Y52>0),1,0),IF(AND(Y52=TRUNC(Y52),Y52>0),1,0),1,IF(ISNA(HLOOKUP(Y52,$AT$4:$BC$4,1,0)),0,1)),0))) -> 0 | BL52: =IF(OR(Z$30="",Z$4=99),1,IF(Z52="",0,IFERROR(CHOOSE(BL$28,IF(ISNA(MATCH(Z52,$AQ$30:$AR$30,0)),0,1),IF(ISNUMBER(Z52),1,0),IF(Z52=TRUNC(Z52),1,0),IF(AND(Z52*1=Z52,Z52>=0),1,0),IF(AND(Z52=TRUNC(Z52),Z52>=0),1,0),IF(AND(Z52*1=Z52,Z52>0),1,0),IF(AND(Z52=TRUNC(Z52),Z52>0),1,0),1,IF(ISNA(HLOOKUP(Z52,$AT$4:$BC$4,1,0)),0,1)),0))) -> 1 | BS52: =IF(OR(AG$30="",AG$4=99),1,IF(AG52="",0,IFERROR(CHOOSE(BS$28,IF(ISNA(MATCH(AG52,$AQ$30:$AR$30,0)),0,1),IF(ISNUMBER(AG52),1,0),IF(AG52=TRUNC(AG52),1,0),IF(AND(AG52*1=AG52,AG52>=0),1,0),IF(AND(AG52=TRUNC(AG52),AG52>=0),1,0),IF(AND(AG52*1=AG52,AG52>0),1,0),IF(AND(AG52=TRUNC(AG52),AG52>0),1,0),1,IF(ISNA(HLOOKUP(AG52,$AT$4:$BC$4,1,0)),0,1)),0))) -> 0 | BT52: =IF(OR(AH$30="",AH$4=99),1,IF(AH52="",0,IFERROR(CHOOSE(BT$28,IF(ISNA(MATCH(AH52,$AQ$30:$AR$30,0)),0,1),IF(ISNUMBER(AH52),1,0),IF(AH52=TRUNC(AH52),1,0),IF(AND(AH52*1=AH52,AH52>=0),1,0),IF(AND(AH52=TRUNC(AH52),AH52>=0),1,0),IF(AND(AH52*1=AH52,AH52>0),1,0),IF(AND(AH52=TRUNC(AH52),AH52>0),1,0),1,IF(ISNA(HLOOKUP(AH52,$AT$4:$BC$4,1,0)),0,1)),0))) -> 0 | CE52: =IF($F52="","",CE$30) | CF52: =IF($F52="","",CF$30) | CG52: =IF($F52="","",CG$30) | CH52: =IF($F52="","",CH$30) | CI52: =IF($F52="","",CI$30) | CJ52: =IF($F52="","",CJ$30) | CK52: =IF($F52="","",CK$30) | CL52: =IF($F52="","",CL$30) | ... CN52: =IF($F52="","",CN$30) | CT52: =OR(U52>=CT$5,X52>=$U$7,W52=1) -> TRUE | CU52: =OR(V52>=CU$5,INDEX('הוראת שעה'!$D$6:$D$20,MATCH($AO$2,'הוראת שעה'!$A$6:$A$20,1))=99) -> FALSE | CV52: =X52>=CV$5 -> FALSE | CZ52: =COUNTIF(CT52:CX52,TRUE) -> 1 | DA52: =OR(Q52>=DA$5,X52>=$U$7,W52=1) -> FALSE | DB52: =OR(V52>=DB$5,Z52=1,INDEX('הוראת שעה'!$D$6:$D$20,MATCH($AO$2,'הוראת שעה'!$A$6:$A$20,1))=99) -> FALSE | DC52: =X52>=DC$5 -> FALSE | DH52: =COUNTIF(DA52:DG52,TRUE) -> 0 | DI52: =IF($F52="","",IF(CZ52=$CU$3,1,0)) | DJ52: =IF($F52="","",IF(AND(DH52=$CU$3,DH52-CZ52<=$DB$3),1,0))
B53: =IF(F53="","",ROW()-30) | U53: =IF($F53="","",IF(T53>S53,$AQ$1,IFERROR(T53/S53,$AQ$1))) | AE53: =IF($F53="","",IF(OR(DI53=1,AND(DJ53=1,Z53=1)),1,0)) | AI53: =IF(F53="","",IF(G53>=$G$5,1,0)) | AN53: =IF($F53="","",IF(AJ53=1,1,IF(AP53<>1,$AQ$1,IF(SUMPRODUCT(--(G53:AI53>=$G$5:$AI$5)*($G$5:$AI$5<>"")*($G$4:$AI$4=1))=COUNTIF($G$4:$AI$4,1),1,0)))) | AP53: =IF(OR(SUM(AS53:BZ53)<>COUNT(AS53:BZ53),SUMPRODUCT(--(G53:AI53=$AQ$1))<>0),0,1) -> 0 | AQ53: =IF($F53="","",AQ$30) | AR53: =IF($F53="","",AR$30) | AS53: =IF(OR(G$30="",G$4=99),1,IF(G53="",0,IFERROR(CHOOSE(AS$28,IF(ISNA(MATCH(G53,$AQ$30:$AR$30,0)),0,1),IF(ISNUMBER(G53),1,0),IF(G53=TRUNC(G53),1,0),IF(AND(G53*1=G53,G53>=0),1,0),IF(AND(G53=TRUNC(G53),G53>=0),1,0),IF(AND(G53*1=G53,G53>0),1,0),IF(AND(G53=TRUNC(G53),G53>0),1,0),1,IF(ISNA(HLOOKUP(G53,$AT$4:$BC$4,1,0)),0,1)),0))) -> 0 | AT53: =IF(OR(H$30="",H$4=99),1,IF(H53="",0,IFERROR(CHOOSE(AT$28,IF(ISNA(MATCH(H53,$AQ$30:$AR$30,0)),0,1),IF(ISNUMBER(H53),1,0),IF(H53=TRUNC(H53),1,0),IF(AND(H53*1=H53,H53>=0),1,0),IF(AND(H53=TRUNC(H53),H53>=0),1,0),IF(AND(H53*1=H53,H53>0),1,0),IF(AND(H53=TRUNC(H53),H53>0),1,0),1,IF(ISNA(HLOOKUP(H53,$AT$4:$BC$4,1,0)),0,1)),0))) -> 0 | AU53: =IF(OR(I$30="",I$4=99),1,IF(I53="",0,IFERROR(CHOOSE(AU$28,IF(ISNA(MATCH(I53,$AQ$30:$AR$30,0)),0,1),IF(ISNUMBER(I53),1,0),IF(I53=TRUNC(I53),1,0),IF(AND(I53*1=I53,I53>=0),1,0),IF(AND(I53=TRUNC(I53),I53>=0),1,0),IF(AND(I53*1=I53,I53>0),1,0),IF(AND(I53=TRUNC(I53),I53>0),1,0),1,IF(ISNA(HLOOKUP(I53,$AT$4:$BC$4,1,0)),0,1)),0))) -> 0 | AV53: =IF(OR(J$30="",J$4=99),1,IF(J53="",0,IFERROR(CHOOSE(AV$28,IF(ISNA(MATCH(J53,$AQ$30:$AR$30,0)),0,1),IF(ISNUMBER(J53),1,0),IF(J53=TRUNC(J53),1,0),IF(AND(J53*1=J53,J53>=0),1,0),IF(AND(J53=TRUNC(J53),J53>=0),1,0),IF(AND(J53*1=J53,J53>0),1,0),IF(AND(J53=TRUNC(J53),J53>0),1,0),1,IF(ISNA(HLOOKUP(J53,$AT$4:$BC$4,1,0)),0,1)),0))) -> 0 | AW53: =IF(OR(K$30="",K$4=99),1,IF(K53="",0,IFERROR(CHOOSE(AW$28,IF(ISNA(MATCH(K53,$AQ$30:$AR$30,0)),0,1),IF(ISNUMBER(K53),1,0),IF(K53=TRUNC(K53),1,0),IF(AND(K53*1=K53,K53>=0),1,0),IF(AND(K53=TRUNC(K53),K53>=0),1,0),IF(AND(K53*1=K53,K53>0),1,0),IF(AND(K53=TRUNC(K53),K53>0),1,0),1,IF(ISNA(HLOOKUP(K53,$AT$4:$BC$4,1,0)),0,1)),0))) -> 0 | AX53: =IF(OR(L$30="",L$4=99),1,IF(L53="",0,IFERROR(CHOOSE(AX$28,IF(ISNA(MATCH(L53,$AQ$30:$AR$30,0)),0,1),IF(ISNUMBER(L53),1,0),IF(L53=TRUNC(L53),1,0),IF(AND(L53*1=L53,L53>=0),1,0),IF(AND(L53=TRUNC(L53),L53>=0),1,0),IF(AND(L53*1=L53,L53>0),1,0),IF(AND(L53=TRUNC(L53),L53>0),1,0),1,IF(ISNA(HLOOKUP(L53,$AT$4:$BC$4,1,0)),0,1)),0))) -> 0 | AY53: =IF(OR(M$30="",M$4=99),1,IF(M53="",0,IFERROR(CHOOSE(AY$28,IF(ISNA(MATCH(M53,$AQ$30:$AR$30,0)),0,1),IF(ISNUMBER(M53),1,0),IF(M53=TRUNC(M53),1,0),IF(AND(M53*1=M53,M53>=0),1,0),IF(AND(M53=TRUNC(M53),M53>=0),1,0),IF(AND(M53*1=M53,M53>0),1,0),IF(AND(M53=TRUNC(M53),M53>0),1,0),1,IF(ISNA(HLOOKUP(M53,$AT$4:$BC$4,1,0)),0,1)),0))) -> 0 | AZ53: =IF(OR(N$30="",N$4=99),1,IF(N53="",0,IFERROR(CHOOSE(AZ$28,IF(ISNA(MATCH(N53,$AQ$30:$AR$30,0)),0,1),IF(ISNUMBER(N53),1,0),IF(N53=TRUNC(N53),1,0),IF(AND(N53*1=N53,N53>=0),1,0),IF(AND(N53=TRUNC(N53),N53>=0),1,0),IF(AND(N53*1=N53,N53>0),1,0),IF(AND(N53=TRUNC(N53),N53>0),1,0),1,IF(ISNA(HLOOKUP(N53,$AT$4:$BC$4,1,0)),0,1)),0))) -> 0 | ... BF53: =IF(OR(T$30="",T$4=99),1,IF(T53="",0,IFERROR(CHOOSE(BF$28,IF(ISNA(MATCH(T53,$AQ$30:$AR$30,0)),0,1),IF(ISNUMBER(T53),1,0),IF(T53=TRUNC(T53),1,0),IF(AND(T53*1=T53,T53>=0),1,0),IF(AND(T53=TRUNC(T53),T53>=0),1,0),IF(AND(T53*1=T53,T53>0),1,0),IF(AND(T53=TRUNC(T53),T53>0),1,0),1,IF(ISNA(HLOOKUP(T53,$AT$4:$BC$4,1,0)),0,1)),0))) -> 0 | BH53: =IF(OR(V$30="",V$4=99),1,IF(V53="",0,IFERROR(CHOOSE(BH$28,IF(ISNA(MATCH(V53,$AQ$30:$AR$30,0)),0,1),IF(ISNUMBER(V53),1,0),IF(V53=TRUNC(V53),1,0),IF(AND(V53*1=V53,V53>=0),1,0),IF(AND(V53=TRUNC(V53),V53>=0),1,0),IF(AND(V53*1=V53,V53>0),1,0),IF(AND(V53=TRUNC(V53),V53>0),1,0),1,IF(ISNA(HLOOKUP(V53,$AT$4:$BC$4,1,0)),0,1)),0))) -> 0 | BI53: =IF(OR(W$30="",W$4=99),1,IF(W53="",0,IFERROR(CHOOSE(BI$28,IF(ISNA(MATCH(W53,$AQ$30:$AR$30,0)),0,1),IF(ISNUMBER(W53),1,0),IF(W53=TRUNC(W53),1,0),IF(AND(W53*1=W53,W53>=0),1,0),IF(AND(W53=TRUNC(W53),W53>=0),1,0),IF(AND(W53*1=W53,W53>0),1,0),IF(AND(W53=TRUNC(W53),W53>0),1,0),1,IF(ISNA(HLOOKUP(W53,$AT$4:$BC$4,1,0)),0,1)),0))) -> 1 | BJ53: =IF(OR(X$30="",X$4=99),1,IF(X53="",0,IFERROR(CHOOSE(BJ$28,IF(ISNA(MATCH(X53,$AQ$30:$AR$30,0)),0,1),IF(ISNUMBER(X53),1,0),IF(X53=TRUNC(X53),1,0),IF(AND(X53*1=X53,X53>=0),1,0),IF(AND(X53=TRUNC(X53),X53>=0),1,0),IF(AND(X53*1=X53,X53>0),1,0),IF(AND(X53=TRUNC(X53),X53>0),1,0),1,IF(ISNA(HLOOKUP(X53,$AT$4:$BC$4,1,0)),0,1)),0))) -> 0 | BK53: =IF(OR(Y$30="",Y$4=99),1,IF(Y53="",0,IFERROR(CHOOSE(BK$28,IF(ISNA(MATCH(Y53,$AQ$30:$AR$30,0)),0,1),IF(ISNUMBER(Y53),1,0),IF(Y53=TRUNC(Y53),1,0),IF(AND(Y53*1=Y53,Y53>=0),1,0),IF(AND(Y53=TRUNC(Y53),Y53>=0),1,0),IF(AND(Y53*1=Y53,Y53>0),1,0),IF(AND(Y53=TRUNC(Y53),Y53>0),1,0),1,IF(ISNA(HLOOKUP(Y53,$AT$4:$BC$4,1,0)),0,1)),0))) -> 0 | BL53: =IF(OR(Z$30="",Z$4=99),1,IF(Z53="",0,IFERROR(CHOOSE(BL$28,IF(ISNA(MATCH(Z53,$AQ$30:$AR$30,0)),0,1),IF(ISNUMBER(Z53),1,0),IF(Z53=TRUNC(Z53),1,0),IF(AND(Z53*1=Z53,Z53>=0),1,0),IF(AND(Z53=TRUNC(Z53),Z53>=0),1,0),IF(AND(Z53*1=Z53,Z53>0),1,0),IF(AND(Z53=TRUNC(Z53),Z53>0),1,0),1,IF(ISNA(HLOOKUP(Z53,$AT$4:$BC$4,1,0)),0,1)),0))) -> 1 | BS53: =IF(OR(AG$30="",AG$4=99),1,IF(AG53="",0,IFERROR(CHOOSE(BS$28,IF(ISNA(MATCH(AG53,$AQ$30:$AR$30,0)),0,1),IF(ISNUMBER(AG53),1,0),IF(AG53=TRUNC(AG53),1,0),IF(AND(AG53*1=AG53,AG53>=0),1,0),IF(AND(AG53=TRUNC(AG53),AG53>=0),1,0),IF(AND(AG53*1=AG53,AG53>0),1,0),IF(AND(AG53=TRUNC(AG53),AG53>0),1,0),1,IF(ISNA(HLOOKUP(AG53,$AT$4:$BC$4,1,0)),0,1)),0))) -> 0 | BT53: =IF(OR(AH$30="",AH$4=99),1,IF(AH53="",0,IFERROR(CHOOSE(BT$28,IF(ISNA(MATCH(AH53,$AQ$30:$AR$30,0)),0,1),IF(ISNUMBER(AH53),1,0),IF(AH53=TRUNC(AH53),1,0),IF(AND(AH53*1=AH53,AH53>=0),1,0),IF(AND(AH53=TRUNC(AH53),AH53>=0),1,0),IF(AND(AH53*1=AH53,AH53>0),1,0),IF(AND(AH53=TRUNC(AH53),AH53>0),1,0),1,IF(ISNA(HLOOKUP(AH53,$AT$4:$BC$4,1,0)),0,1)),0))) -> 0 | CE53: =IF($F53="","",CE$30) | CF53: =IF($F53="","",CF$30) | CG53: =IF($F53="","",CG$30) | CH53: =IF($F53="","",CH$30) | CI53: =IF($F53="","",CI$30) | CJ53: =IF($F53="","",CJ$30) | CK53: =IF($F53="","",CK$30) | CL53: =IF($F53="","",CL$30) | ... CN53: =IF($F53="","",CN$30) | CT53: =OR(U53>=CT$5,X53>=$U$7,W53=1) -> TRUE | CU53: =OR(V53>=CU$5,INDEX('הוראת שעה'!$D$6:$D$20,MATCH($AO$2,'הוראת שעה'!$A$6:$A$20,1))=99) -> FALSE | CV53: =X53>=CV$5 -> FALSE | CZ53: =COUNTIF(CT53:CX53,TRUE) -> 1 | DA53: =OR(Q53>=DA$5,X53>=$U$7,W53=1) -> FALSE | DB53: =OR(V53>=DB$5,Z53=1,INDEX('הוראת שעה'!$D$6:$D$20,MATCH($AO$2,'הוראת שעה'!$A$6:$A$20,1))=99) -> FALSE | DC53: =X53>=DC$5 -> FALSE | DH53: =COUNTIF(DA53:DG53,TRUE) -> 0 | DI53: =IF($F53="","",IF(CZ53=$CU$3,1,0)) | DJ53: =IF($F53="","",IF(AND(DH53=$CU$3,DH53-CZ53<=$DB$3),1,0))
... B130: =IF(F130="","",ROW()-30) | U130: =IF($F130="","",IF(T130>S130,$AQ$1,IFERROR(T130/S130,$AQ$1))) | AE130: =IF($F130="","",IF(OR(DI130=1,AND(DJ130=1,Z130=1)),1,0)) | AI130: =IF(F130="","",IF(G130>=$G$5,1,0)) | AN130: =IF($F130="","",IF(AJ130=1,1,IF(AP130<>1,$AQ$1,IF(SUMPRODUCT(--(G130:AI130>=$G$5:$AI$5)*($G$5:$AI$5<>"")*($G$4:$AI$4=1))=COUNTIF($G$4:$AI$4,1),1,0)))) | AP130: =IF(OR(SUM(AS130:BZ130)<>COUNT(AS130:BZ130),SUMPRODUCT(--(G130:AI130=$AQ$1))<>0),0,1) -> 0 | AQ130: =IF($F130="","",AQ$30) | AR130: =IF($F130="","",AR$30) | AS130: =IF(OR(G$30="",G$4=99),1,IF(G130="",0,IFERROR(CHOOSE(AS$28,IF(ISNA(MATCH(G130,$AQ$30:$AR$30,0)),0,1),IF(ISNUMBER(G130),1,0),IF(G130=TRUNC(G130),1,0),IF(AND(G130*1=G130,G130>=0),1,0),IF(AND(G130=TRUNC(G130),G130>=0),1,0),IF(AND(G130*1=G130,G130>0),1,0),IF(AND(G130=TRUNC(G130),G130>0),1,0),1,IF(ISNA(HLOOKUP(G130,$AT$4:$BC$4,1,0)),0,1)),0))) -> 0 | AT130: =IF(OR(H$30="",H$4=99),1,IF(H130="",0,IFERROR(CHOOSE(AT$28,IF(ISNA(MATCH(H130,$AQ$30:$AR$30,0)),0,1),IF(ISNUMBER(H130),1,0),IF(H130=TRUNC(H130),1,0),IF(AND(H130*1=H130,H130>=0),1,0),IF(AND(H130=TRUNC(H130),H130>=0),1,0),IF(AND(H130*1=H130,H130>0),1,0),IF(AND(H130=TRUNC(H130),H130>0),1,0),1,IF(ISNA(HLOOKUP(H130,$AT$4:$BC$4,1,0)),0,1)),0))) -> 0 | AU130: =IF(OR(I$30="",I$4=99),1,IF(I130="",0,IFERROR(CHOOSE(AU$28,IF(ISNA(MATCH(I130,$AQ$30:$AR$30,0)),0,1),IF(ISNUMBER(I130),1,0),IF(I130=TRUNC(I130),1,0),IF(AND(I130*1=I130,I130>=0),1,0),IF(AND(I130=TRUNC(I130),I130>=0),1,0),IF(AND(I130*1=I130,I130>0),1,0),IF(AND(I130=TRUNC(I130),I130>0),1,0),1,IF(ISNA(HLOOKUP(I130,$AT$4:$BC$4,1,0)),0,1)),0))) -> 0 | AV130: =IF(OR(J$30="",J$4=99),1,IF(J130="",0,IFERROR(CHOOSE(AV$28,IF(ISNA(MATCH(J130,$AQ$30:$AR$30,0)),0,1),IF(ISNUMBER(J130),1,0),IF(J130=TRUNC(J130),1,0),IF(AND(J130*1=J130,J130>=0),1,0),IF(AND(J130=TRUNC(J130),J130>=0),1,0),IF(AND(J130*1=J130,J130>0),1,0),IF(AND(J130=TRUNC(J130),J130>0),1,0),1,IF(ISNA(HLOOKUP(J130,$AT$4:$BC$4,1,0)),0,1)),0))) -> 0 | AW130: =IF(OR(K$30="",K$4=99),1,IF(K130="",0,IFERROR(CHOOSE(AW$28,IF(ISNA(MATCH(K130,$AQ$30:$AR$30,0)),0,1),IF(ISNUMBER(K130),1,0),IF(K130=TRUNC(K130),1,0),IF(AND(K130*1=K130,K130>=0),1,0),IF(AND(K130=TRUNC(K130),K130>=0),1,0),IF(AND(K130*1=K130,K130>0),1,0),IF(AND(K130=TRUNC(K130),K130>0),1,0),1,IF(ISNA(HLOOKUP(K130,$AT$4:$BC$4,1,0)),0,1)),0))) -> 0 | AX130: =IF(OR(L$30="",L$4=99),1,IF(L130="",0,IFERROR(CHOOSE(AX$28,IF(ISNA(MATCH(L130,$AQ$30:$AR$30,0)),0,1),IF(ISNUMBER(L130),1,0),IF(L130=TRUNC(L130),1,0),IF(AND(L130*1=L130,L130>=0),1,0),IF(AND(L130=TRUNC(L130),L130>=0),1,0),IF(AND(L130*1=L130,L130>0),1,0),IF(AND(L130=TRUNC(L130),L130>0),1,0),1,IF(ISNA(HLOOKUP(L130,$AT$4:$BC$4,1,0)),0,1)),0))) -> 0 | AY130: =IF(OR(M$30="",M$4=99),1,IF(M130="",0,IFERROR(CHOOSE(AY$28,IF(ISNA(MATCH(M130,$AQ$30:$AR$30,0)),0,1),IF(ISNUMBER(M130),1,0),IF(M130=TRUNC(M130),1,0),IF(AND(M130*1=M130,M130>=0),1,0),IF(AND(M130=TRUNC(M130),M130>=0),1,0),IF(AND(M130*1=M130,M130>0),1,0),IF(AND(M130=TRUNC(M130),M130>0),1,0),1,IF(ISNA(HLOOKUP(M130,$AT$4:$BC$4,1,0)),0,1)),0))) -> 0 | AZ130: =IF(OR(N$30="",N$4=99),1,IF(N130="",0,IFERROR(CHOOSE(AZ$28,IF(ISNA(MATCH(N130,$AQ$30:$AR$30,0)),0,1),IF(ISNUMBER(N130),1,0),IF(N130=TRUNC(N130),1,0),IF(AND(N130*1=N130,N130>=0),1,0),IF(AND(N130=TRUNC(N130),N130>=0),1,0),IF(AND(N130*1=N130,N130>0),1,0),IF(AND(N130=TRUNC(N130),N130>0),1,0),1,IF(ISNA(HLOOKUP(N130,$AT$4:$BC$4,1,0)),0,1)),0))) -> 0 | ... BF130: =IF(OR(T$30="",T$4=99),1,IF(T130="",0,IFERROR(CHOOSE(BF$28,IF(ISNA(MATCH(T130,$AQ$30:$AR$30,0)),0,1),IF(ISNUMBER(T130),1,0),IF(T130=TRUNC(T130),1,0),IF(AND(T130*1=T130,T130>=0),1,0),IF(AND(T130=TRUNC(T130),T130>=0),1,0),IF(AND(T130*1=T130,T130>0),1,0),IF(AND(T130=TRUNC(T130),T130>0),1,0),1,IF(ISNA(HLOOKUP(T130,$AT$4:$BC$4,1,0)),0,1)),0))) -> 0 | BH130: =IF(OR(V$30="",V$4=99),1,IF(V130="",0,IFERROR(CHOOSE(BH$28,IF(ISNA(MATCH(V130,$AQ$30:$AR$30,0)),0,1),IF(ISNUMBER(V130),1,0),IF(V130=TRUNC(V130),1,0),IF(AND(V130*1=V130,V130>=0),1,0),IF(AND(V130=TRUNC(V130),V130>=0),1,0),IF(AND(V130*1=V130,V130>0),1,0),IF(AND(V130=TRUNC(V130),V130>0),1,0),1,IF(ISNA(HLOOKUP(V130,$AT$4:$BC$4,1,0)),0,1)),0))) -> 0 | BI130: =IF(OR(W$30="",W$4=99),1,IF(W130="",0,IFERROR(CHOOSE(BI$28,IF(ISNA(MATCH(W130,$AQ$30:$AR$30,0)),0,1),IF(ISNUMBER(W130),1,0),IF(W130=TRUNC(W130),1,0),IF(AND(W130*1=W130,W130>=0),1,0),IF(AND(W130=TRUNC(W130),W130>=0),1,0),IF(AND(W130*1=W130,W130>0),1,0),IF(AND(W130=TRUNC(W130),W130>0),1,0),1,IF(ISNA(HLOOKUP(W130,$AT$4:$BC$4,1,0)),0,1)),0))) -> 1 | BJ130: =IF(OR(X$30="",X$4=99),1,IF(X130="",0,IFERROR(CHOOSE(BJ$28,IF(ISNA(MATCH(X130,$AQ$30:$AR$30,0)),0,1),IF(ISNUMBER(X130),1,0),IF(X130=TRUNC(X130),1,0),IF(AND(X130*1=X130,X130>=0),1,0),IF(AND(X130=TRUNC(X130),X130>=0),1,0),IF(AND(X130*1=X130,X130>0),1,0),IF(AND(X130=TRUNC(X130),X130>0),1,0),1,IF(ISNA(HLOOKUP(X130,$AT$4:$BC$4,1,0)),0,1)),0))) -> 0 | BK130: =IF(OR(Y$30="",Y$4=99),1,IF(Y130="",0,IFERROR(CHOOSE(BK$28,IF(ISNA(MATCH(Y130,$AQ$30:$AR$30,0)),0,1),IF(ISNUMBER(Y130),1,0),IF(Y130=TRUNC(Y130),1,0),IF(AND(Y130*1=Y130,Y130>=0),1,0),IF(AND(Y130=TRUNC(Y130),Y130>=0),1,0),IF(AND(Y130*1=Y130,Y130>0),1,0),IF(AND(Y130=TRUNC(Y130),Y130>0),1,0),1,IF(ISNA(HLOOKUP(Y130,$AT$4:$BC$4,1,0)),0,1)),0))) -> 0 | BL130: =IF(OR(Z$30="",Z$4=99),1,IF(Z130="",0,IFERROR(CHOOSE(BL$28,IF(ISNA(MATCH(Z130,$AQ$30:$AR$30,0)),0,1),IF(ISNUMBER(Z130),1,0),IF(Z130=TRUNC(Z130),1,0),IF(AND(Z130*1=Z130,Z130>=0),1,0),IF(AND(Z130=TRUNC(Z130),Z130>=0),1,0),IF(AND(Z130*1=Z130,Z130>0),1,0),IF(AND(Z130=TRUNC(Z130),Z130>0),1,0),1,IF(ISNA(HLOOKUP(Z130,$AT$4:$BC$4,1,0)),0,1)),0))) -> 1 | BS130: =IF(OR(AG$30="",AG$4=99),1,IF(AG130="",0,IFERROR(CHOOSE(BS$28,IF(ISNA(MATCH(AG130,$AQ$30:$AR$30,0)),0,1),IF(ISNUMBER(AG130),1,0),IF(AG130=TRUNC(AG130),1,0),IF(AND(AG130*1=AG130,AG130>=0),1,0),IF(AND(AG130=TRUNC(AG130),AG130>=0),1,0),IF(AND(AG130*1=AG130,AG130>0),1,0),IF(AND(AG130=TRUNC(AG130),AG130>0),1,0),1,IF(ISNA(HLOOKUP(AG130,$AT$4:$BC$4,1,0)),0,1)),0))) -> 0 | BT130: =IF(OR(AH$30="",AH$4=99),1,IF(AH130="",0,IFERROR(CHOOSE(BT$28,IF(ISNA(MATCH(AH130,$AQ$30:$AR$30,0)),0,1),IF(ISNUMBER(AH130),1,0),IF(AH130=TRUNC(AH130),1,0),IF(AND(AH130*1=AH130,AH130>=0),1,0),IF(AND(AH130=TRUNC(AH130),AH130>=0),1,0),IF(AND(AH130*1=AH130,AH130>0),1,0),IF(AND(AH130=TRUNC(AH130),AH130>0),1,0),1,IF(ISNA(HLOOKUP(AH130,$AT$4:$BC$4,1,0)),0,1)),0))) -> 0 | CE130: =IF($F130="","",CE$30) | CF130: =IF($F130="","",CF$30) | CG130: =IF($F130="","",CG$30) | CH130: =IF($F130="","",CH$30) | CI130: =IF($F130="","",CI$30) | CJ130: =IF($F130="","",CJ$30) | CK130: =IF($F130="","",CK$30) | CL130: =IF($F130="","",CL$30) | ... CN130: =IF($F130="","",CN$30) | CT130: =OR(U130>=CT$5,X130>=$U$7,W130=1) -> TRUE | CU130: =OR(V130>=CU$5,INDEX('הוראת שעה'!$D$6:$D$20,MATCH($AO$2,'הוראת שעה'!$A$6:$A$20,1))=99) -> FALSE | CV130: =X130>=CV$5 -> FALSE | CZ130: =COUNTIF(CT130:CX130,TRUE) -> 1 | DA130: =OR(Q130>=DA$5,X130>=$U$7,W130=1) -> FALSE | DB130: =OR(V130>=DB$5,Z130=1,INDEX('הוראת שעה'!$D$6:$D$20,MATCH($AO$2,'הוראת שעה'!$A$6:$A$20,1))=99) -> FALSE | DC130: =X130>=DC$5 -> FALSE | DH130: =COUNTIF(DA130:DG130,TRUE) -> 0 | DI130: =IF($F130="","",IF(CZ130=$CU$3,1,0)) | DJ130: =IF($F130="","",IF(AND(DH130=$CU$3,DH130-CZ130<=$DB$3),1,0))

Sheet מספר המבצעים
B1: =MID(CELL("filename",AC2),FIND("]",CELL("filename",AC2),1)+1,99) -> מספר המבצעים | AB1: בדוק נתוני הזנה | AD1: סוגי בקרות | AE1: 0/1 | AF1: מספר | AG1: מספר שלם | AH1: מספר שאינו שלילי | AI1: מספר שלם שאינו שלילי | AJ1: מספר חיובי | AK1: מספר שלם חיובי | AL1: טקסט | AM1: טקסט מרשימה סגורה
U2: ='פרמטרים לקריטריונים'!$B$4 -> שנת תקציב | Y2: ='פרמטרים לקריטריונים'!$B$4 -> שנת תקציב | Z2: ='פרמטרים לקריטריונים'!$C$4 -> 2025 | AE2: =IF(ISNA(MATCH(G31,$AB$30:$AC$30,0)),0,1) -> 0 | AF2: =IF(IFERROR(G31*1,"bad")="bad",0,1) -> 1 | AG2: =IF(IFERROR(IF(G31=TRUNC(G31),1,"bad"),"bad")="bad",0,1) -> 1 | AH2: =IF(AND(IF(IFERROR(G31*1,"bad")="bad",0,1)=1,G31>=0),1,0) -> 1 | AI2: =IF(AND(IF(IFERROR(IF(G31=TRUNC(G31),1,"bad"),"bad")="bad",0,1)=1,G31>=0),1,0) -> 1 | AJ2: =IF(AND(IF(IFERROR(G31*1,"bad")="bad",0,1)=1,G31>0),1,0) -> 1 | AK2: =IF(AND(IF(IFERROR(IF(G31=TRUNC(G31),1,"bad"),"bad")="bad",0,1)=1,G31>0),1,0) -> 1 | AL2: 1 | AM2: =IF(IFERROR(HLOOKUP(G31,$BA$30:$BK$30,1,0),"bad")="bad",0,1) -> 0
F3: =IF(SUBTOTAL(102,B$31:B$130)=SUBTOTAL(2,B$31:B$130),"","ישנן שורות מוסתרות") | U3: ='פרמטרים לקריטריונים'!$B$5 -> תקציב התמיכה | Y3: ='פרמטרים לקריטריונים'!$B$5 -> תקציב התמיכה | Z3: ='פרמטרים לקריטריונים'!$C$5 -> 4026034 | AD3: מספר בקרה | AE3: 1 | AF3: 2 | AG3: 3 | AH3: 4 | AI3: 5 | AJ3: 6 | AK3: 7 | AL3: 8 | AM3: 9
F4: ='פרמטרים לקריטריונים'!B61 -> סעיף | G4: ='פרמטרים לקריטריונים'!C61 -> ניקוד | AD4: רשימה סגורה | AE4: א | AF4: ב | AG4: ג | AH4: ד | AI4: ה
F5: ='פרמטרים לקריטריונים'!B62 -> עבור כל מנצח, נגן, חזן או פייטן | G5: ='פרמטרים לקריטריונים'!C62 -> 1
F6: ='פרמטרים לקריטריונים'!B63 -> סעיף | G6: ='פרמטרים לקריטריונים'!C63 -> הגבלה
F7: ='פרמטרים לקריטריונים'!B64 -> מספר מבצעים מקסימלי לקונצרט | G7: ='פרמטרים לקריטריונים'!C64 -> 80
F23: ='פרמטרים לקריטריונים'!$D$31 -> 0 | G23: =VLOOKUP(B1,'פרמטרים לקריטריונים'!$B$32:$D$46,3,0) -> #N/A
AD28: =MATCH(G$30,$AE$1:$AM$1,0) -> #N/A | AE28: =MATCH(H$30,$AE$1:$AM$1,0) -> 2 | AF28: =MATCH(I$30,$AE$1:$AM$1,0) -> 3 | AG28: =MATCH(J$30,$AE$1:$AM$1,0) -> 4 | AH28: =MATCH(K$30,$AE$1:$AM$1,0) -> 5 | AI28: =MATCH(L$30,$AE$1:$AM$1,0) -> 6 | AJ28: =MATCH(M$30,$AE$1:$AM$1,0) -> 7 | AK28: =MATCH(N$30,$AE$1:$AM$1,0) -> 8 | ... AV28: =MATCH(Y$30,$AE$1:$AM$1,0) -> #N/A
A29: 100 | B29: מס"ד | C29: =COLUMN() -> 3 | D29: =COLUMN() -> 4 | E29: =COLUMN() -> 5 | F29: שם המוסד | G29: ='ריכוז גיליונות עזר'!G29:G30 -> סה"כ ניקוד מבצעים | H29: מספר | I29: מספר שלם | J29: מספר שאינו שלילי | K29: מספר שלם שאינו שלילי | L29: מספר חיובי | M29: מספר שלם חיובי | N29: טקסט | O29: טקסט מרשימה סגורה | P29: 0/1 | Q29: =COLUMN() -> 17 | R29: =COLUMN() -> 18 | S29: =COLUMN() -> 19 | T29: =COLUMN() -> 20 | U29: סה"כ ניקוד | V29: נתון למכפיל1 | W29: ניקוד לאחר מכפיל1 | X29: נתון למכפיל1 | Y29: ניקוד לאחר מכפיל2 | Z29: שיעור יחסי | AA29: בקרה ראשית | AD29: ="בקרת "&G29 -> בקרת סה"כ ניקוד מבצעים | AE29: ="בקרת "&H29 -> בקרת מספר | AF29: ="בקרת "&I29 -> בקרת מספר שלם | AG29: ="בקרת "&J29 -> בקרת מספר שאינו שלילי | AH29: ="בקרת "&K29 -> בקרת מספר שלם שאינו שלילי | AI29: ="בקרת "&L29 -> בקרת מספר חיובי | AJ29: ="בקרת "&M29 -> בקרת מספר שלם חיובי | AK29: ="בקרת "&N29 -> בקרת טקסט | ... AV29: ="בקרת "&Y29 -> בקרת ניקוד לאחר מכפיל2 | BA29: רשימה סגורה
H30: מספר | I30: מספר שלם | J30: מספר שאינו שלילי | K30: מספר שלם שאינו שלילי | L30: מספר חיובי | M30: מספר שלם חיובי | N30: טקסט | O30: טקסט מרשימה סגורה | P30: 0/1 | AB30: 0 | AC30: 1 | AD30: =G30 -> 0 | AE30: =H30 -> מספר | AF30: =I30 -> מספר שלם | AG30: =J30 -> מספר שאינו שלילי | AH30: =K30 -> מספר שלם שאינו שלילי | AI30: =L30 -> מספר חיובי | AJ30: =M30 -> מספר שלם חיובי | AK30: =N30 -> טקסט | ... AV30: =Y30 -> 0 | BA30: =AE$4 -> א | BB30: =AF$4 -> ב | BC30: =AG$4 -> ג | BD30: =AH$4 -> ד | BE30: =AI$4 -> ה
B31: =IF(F31="","",ROW()-30) -> 1 | F31: =IF('תנאי סף'!AN31<>1,"",'תנאי סף'!F31) -> מכון תא לחזנות | G31: =IF(F31="","",'ריכוז גיליונות עזר'!$G31) -> 69 | U31: =IF($F31="","",IF($AA31<>1,$AB$1,G31)) -> 69 | V31: 1 | W31: =IF($F31="","",IF($AA31<>1,$AB$1,IFERROR(U31*V31,$AB$1))) -> 69 | X31: 1 | Y31: =IF($F31="","",IF($AA31<>1,$AB$1,IFERROR(W31*X31,$AB$1))) -> 69 | Z31: =IF($F31="","",IF(OR($AA31<>1,Y31=$AB$1),$AB$1,IFERROR(Y31/SUM($Y$31:$Y$130),0))) -> 0.014784658 | AA31: =IF(SUM(AD31:AV31)=COUNT(AD31:AV31),1,0) -> 1 | AB31: =IF($F31="","",AB$30) -> 0 | AC31: =IF($F31="","",AC$30) -> 1 | AD31: =IF(G$30="",1,IF(G31="",0,IFERROR(CHOOSE(AD$28,IF(ISNA(MATCH(G31,$AB$30:$AC$30,0)),0,1),IF(ISNUMBER(G31),1,0),IF(G31=TRUNC(G31),1,0),IF(AND(G31*1=G31,G31>=0),1,0),IF(AND(G31=TRUNC(G31),G31>=0),1,0),IF(AND(G31*1=G31,G31>0),1,0),IF(AND(G31=TRUNC(G31),G31>0),1,0),1,IF(ISNA(HLOOKUP(G31,$AE$4:$AN$4,1,0)),0,1)),0))) -> 1 | BA31: =IF($F31="","",BA$30) -> א | BB31: =IF($F31="","",BB$30) -> ב | BC31: =IF($F31="","",BC$30) -> ג | BD31: =IF($F31="","",BD$30) -> ד | BE31: =IF($F31="","",BE$30) -> ה
B32: =IF(F32="","",ROW()-30) -> 2 | F32: =IF('תנאי סף'!AN32<>1,"",'תנאי סף'!F32) -> המרכז לתרבות אנדלוסית ולפיוט | G32: =IF(F32="","",'ריכוז גיליונות עזר'!$G32) -> 1370 | U32: =IF($F32="","",IF($AA32<>1,$AB$1,G32)) -> 1370 | V32: 1 | W32: =IF($F32="","",IF($AA32<>1,$AB$1,IFERROR(U32*V32,$AB$1))) -> 1370 | X32: 1 | Y32: =IF($F32="","",IF($AA32<>1,$AB$1,IFERROR(W32*X32,$AB$1))) -> 1370 | Z32: =IF($F32="","",IF(OR($AA32<>1,Y32=$AB$1),$AB$1,IFERROR(Y32/SUM($Y$31:$Y$130),0))) -> 0.29355046 | AA32: =IF(SUM(AD32:AV32)=COUNT(AD32:AV32),1,0) -> 1 | AB32: =IF($F32="","",AB$30) -> 0 | AC32: =IF($F32="","",AC$30) -> 1 | AD32: =IF(G$30="",1,IF(G32="",0,IFERROR(CHOOSE(AD$28,IF(ISNA(MATCH(G32,$AB$30:$AC$30,0)),0,1),IF(ISNUMBER(G32),1,0),IF(G32=TRUNC(G32),1,0),IF(AND(G32*1=G32,G32>=0),1,0),IF(AND(G32=TRUNC(G32),G32>=0),1,0),IF(AND(G32*1=G32,G32>0),1,0),IF(AND(G32=TRUNC(G32),G32>0),1,0),1,IF(ISNA(HLOOKUP(G32,$AE$4:$AN$4,1,0)),0,1)),0))) -> 1 | BA32: =IF($F32="","",BA$30) -> א | BB32: =IF($F32="","",BB$30) -> ב | BC32: =IF($F32="","",BC$30) -> ג | BD32: =IF($F32="","",BD$30) -> ד | BE32: =IF($F32="","",BE$30) -> ה
B33: =IF(F33="","",ROW()-30) -> 3 | F33: =IF('תנאי סף'!AN33<>1,"",'תנאי סף'!F33) -> מקהלת החזנים הירושלמית | G33: =IF(F33="","",'ריכוז גיליונות עזר'!$G33) -> 595 | U33: =IF($F33="","",IF($AA33<>1,$AB$1,G33)) -> 595 | V33: 1 | W33: =IF($F33="","",IF($AA33<>1,$AB$1,IFERROR(U33*V33,$AB$1))) -> 595 | X33: 1 | Y33: =IF($F33="","",IF($AA33<>1,$AB$1,IFERROR(W33*X33,$AB$1))) -> 595 | Z33: =IF($F33="","",IF(OR($AA33<>1,Y33=$AB$1),$AB$1,IFERROR(Y33/SUM($Y$31:$Y$130),0))) -> 0.12749089 | AA33: =IF(SUM(AD33:AV33)=COUNT(AD33:AV33),1,0) -> 1 | AB33: =IF($F33="","",AB$30) -> 0 | AC33: =IF($F33="","",AC$30) -> 1 | AD33: =IF(G$30="",1,IF(G33="",0,IFERROR(CHOOSE(AD$28,IF(ISNA(MATCH(G33,$AB$30:$AC$30,0)),0,1),IF(ISNUMBER(G33),1,0),IF(G33=TRUNC(G33),1,0),IF(AND(G33*1=G33,G33>=0),1,0),IF(AND(G33=TRUNC(G33),G33>=0),1,0),IF(AND(G33*1=G33,G33>0),1,0),IF(AND(G33=TRUNC(G33),G33>0),1,0),1,IF(ISNA(HLOOKUP(G33,$AE$4:$AN$4,1,0)),0,1)),0))) -> 1 | BA33: =IF($F33="","",BA$30) -> א | BB33: =IF($F33="","",BB$30) -> ב | BC33: =IF($F33="","",BC$30) -> ג | BD33: =IF($F33="","",BD$30) -> ד | BE33: =IF($F33="","",BE$30) -> ה
B34: =IF(F34="","",ROW()-30) -> 4 | F34: =IF('תנאי סף'!AN34<>1,"",'תנאי סף'!F34) -> קהילות שרות פיוט וניגון | G34: =IF(F34="","",'ריכוז גיליונות עזר'!$G34) -> 606 | U34: =IF($F34="","",IF($AA34<>1,$AB$1,G34)) -> 606 | V34: 1 | W34: =IF($F34="","",IF($AA34<>1,$AB$1,IFERROR(U34*V34,$AB$1))) -> 606 | X34: 1 | Y34: =IF($F34="","",IF($AA34<>1,$AB$1,IFERROR(W34*X34,$AB$1))) -> 606 | Z34: =IF($F34="","",IF(OR($AA34<>1,Y34=$AB$1),$AB$1,IFERROR(Y34/SUM($Y$31:$Y$130),0))) -> 0.12984787 | AA34: =IF(SUM(AD34:AV34)=COUNT(AD34:AV34),1,0) -> 1 | AB34: =IF($F34="","",AB$30) -> 0 | AC34: =IF($F34="","",AC$30) -> 1 | AD34: =IF(G$30="",1,IF(G34="",0,IFERROR(CHOOSE(AD$28,IF(ISNA(MATCH(G34,$AB$30:$AC$30,0)),0,1),IF(ISNUMBER(G34),1,0),IF(G34=TRUNC(G34),1,0),IF(AND(G34*1=G34,G34>=0),1,0),IF(AND(G34=TRUNC(G34),G34>=0),1,0),IF(AND(G34*1=G34,G34>0),1,0),IF(AND(G34=TRUNC(G34),G34>0),1,0),1,IF(ISNA(HLOOKUP(G34,$AE$4:$AN$4,1,0)),0,1)),0))) -> 1 | BA34: =IF($F34="","",BA$30) -> א | BB34: =IF($F34="","",BB$30) -> ב | BC34: =IF($F34="","",BC$30) -> ג | BD34: =IF($F34="","",BD$30) -> ד | BE34: =IF($F34="","",BE$30) -> ה
B35: =IF(F35="","",ROW()-30) -> 5 | F35: =IF('תנאי סף'!AN35<>1,"",'תנאי סף'!F35) -> רננות- המכון למוסיקה יהודית | G35: =IF(F35="","",'ריכוז גיליונות עזר'!$G35) -> 203 | U35: =IF($F35="","",IF($AA35<>1,$AB$1,G35)) -> 203 | V35: 1 | W35: =IF($F35="","",IF($AA35<>1,$AB$1,IFERROR(U35*V35,$AB$1))) -> 203 | X35: 1 | Y35: =IF($F35="","",IF($AA35<>1,$AB$1,IFERROR(W35*X35,$AB$1))) -> 203 | Z35: =IF($F35="","",IF(OR($AA35<>1,Y35=$AB$1),$AB$1,IFERROR(Y35/SUM($Y$31:$Y$130),0))) -> 0.043496893 | AA35: =IF(SUM(AD35:AV35)=COUNT(AD35:AV35),1,0) -> 1 | AB35: =IF($F35="","",AB$30) -> 0 | AC35: =IF($F35="","",AC$30) -> 1 | AD35: =IF(G$30="",1,IF(G35="",0,IFERROR(CHOOSE(AD$28,IF(ISNA(MATCH(G35,$AB$30:$AC$30,0)),0,1),IF(ISNUMBER(G35),1,0),IF(G35=TRUNC(G35),1,0),IF(AND(G35*1=G35,G35>=0),1,0),IF(AND(G35=TRUNC(G35),G35>=0),1,0),IF(AND(G35*1=G35,G35>0),1,0),IF(AND(G35=TRUNC(G35),G35>0),1,0),1,IF(ISNA(HLOOKUP(G35,$AE$4:$AN$4,1,0)),0,1)),0))) -> 1 | BA35: =IF($F35="","",BA$30) -> א | BB35: =IF($F35="","",BB$30) -> ב | BC35: =IF($F35="","",BC$30) -> ג | BD35: =IF($F35="","",BD$30) -> ד | BE35: =IF($F35="","",BE$30) -> ה
B36: =IF(F36="","",ROW()-30) -> 6 | F36: =IF('תנאי סף'!AN36<>1,"",'תנאי סף'!F36) -> מקהלת זמרתיה | G36: =IF(F36="","",'ריכוז גיליונות עזר'!$G36) -> 270 | U36: =IF($F36="","",IF($AA36<>1,$AB$1,G36)) -> 270 | V36: 1 | W36: =IF($F36="","",IF($AA36<>1,$AB$1,IFERROR(U36*V36,$AB$1))) -> 270 | X36: 1 | Y36: =IF($F36="","",IF($AA36<>1,$AB$1,IFERROR(W36*X36,$AB$1))) -> 270 | Z36: =IF($F36="","",IF(OR($AA36<>1,Y36=$AB$1),$AB$1,IFERROR(Y36/SUM($Y$31:$Y$130),0))) -> 0.05785301 | AA36: =IF(SUM(AD36:AV36)=COUNT(AD36:AV36),1,0) -> 1 | AB36: =IF($F36="","",AB$30) -> 0 | AC36: =IF($F36="","",AC$30) -> 1 | AD36: =IF(G$30="",1,IF(G36="",0,IFERROR(CHOOSE(AD$28,IF(ISNA(MATCH(G36,$AB$30:$AC$30,0)),0,1),IF(ISNUMBER(G36),1,0),IF(G36=TRUNC(G36),1,0),IF(AND(G36*1=G36,G36>=0),1,0),IF(AND(G36=TRUNC(G36),G36>=0),1,0),IF(AND(G36*1=G36,G36>0),1,0),IF(AND(G36=TRUNC(G36),G36>0),1,0),1,IF(ISNA(HLOOKUP(G36,$AE$4:$AN$4,1,0)),0,1)),0))) -> 1 | BA36: =IF($F36="","",BA$30) -> א | BB36: =IF($F36="","",BB$30) -> ב | BC36: =IF($F36="","",BC$30) -> ג | BD36: =IF($F36="","",BD$30) -> ד | BE36: =IF($F36="","",BE$30) -> ה
B37: =IF(F37="","",ROW()-30) -> 7 | F37: =IF('תנאי סף'!AN37<>1,"",'תנאי סף'!F37) -> יובל - האנסמבל הישראלי לחזנות ו | G37: =IF(F37="","",'ריכוז גיליונות עזר'!$G37) -> 342 | U37: =IF($F37="","",IF($AA37<>1,$AB$1,G37)) -> 342 | V37: 1 | W37: =IF($F37="","",IF($AA37<>1,$AB$1,IFERROR(U37*V37,$AB$1))) -> 342 | X37: 1 | Y37: =IF($F37="","",IF($AA37<>1,$AB$1,IFERROR(W37*X37,$AB$1))) -> 342 | Z37: =IF($F37="","",IF(OR($AA37<>1,Y37=$AB$1),$AB$1,IFERROR(Y37/SUM($Y$31:$Y$130),0))) -> 0.07328048 | AA37: =IF(SUM(AD37:AV37)=COUNT(AD37:AV37),1,0) -> 1 | AB37: =IF($F37="","",AB$30) -> 0 | AC37: =IF($F37="","",AC$30) -> 1 | AD37: =IF(G$30="",1,IF(G37="",0,IFERROR(CHOOSE(AD$28,IF(ISNA(MATCH(G37,$AB$30:$AC$30,0)),0,1),IF(ISNUMBER(G37),1,0),IF(G37=TRUNC(G37),1,0),IF(AND(G37*1=G37,G37>=0),1,0),IF(AND(G37=TRUNC(G37),G37>=0),1,0),IF(AND(G37*1=G37,G37>0),1,0),IF(AND(G37=TRUNC(G37),G37>0),1,0),1,IF(ISNA(HLOOKUP(G37,$AE$4:$AN$4,1,0)),0,1)),0))) -> 1 | BA37: =IF($F37="","",BA$30) -> א | BB37: =IF($F37="","",BB$30) -> ב | BC37: =IF($F37="","",BC$30) -> ג | BD37: =IF($F37="","",BD$30) -> ד | BE37: =IF($F37="","",BE$30) -> ה
B38: =IF(F38="","",ROW()-30) -> 8 | F38: =IF('תנאי סף'!AN38<>1,"",'תנאי סף'!F38) -> האגודה לטיפוח חברה ותרבות | G38: =IF(F38="","",'ריכוז גיליונות עזר'!$G38) -> 124 | U38: =IF($F38="","",IF($AA38<>1,$AB$1,G38)) -> 124 | V38: 1 | W38: =IF($F38="","",IF($AA38<>1,$AB$1,IFERROR(U38*V38,$AB$1))) -> 124 | X38: 1 | Y38: =IF($F38="","",IF($AA38<>1,$AB$1,IFERROR(W38*X38,$AB$1))) -> 124 | Z38: =IF($F38="","",IF(OR($AA38<>1,Y38=$AB$1),$AB$1,IFERROR(Y38/SUM($Y$31:$Y$130),0))) -> 0.026569531 | AA38: =IF(SUM(AD38:AV38)=COUNT(AD38:AV38),1,0) -> 1 | AB38: =IF($F38="","",AB$30) -> 0 | AC38: =IF($F38="","",AC$30) -> 1 | AD38: =IF(G$30="",1,IF(G38="",0,IFERROR(CHOOSE(AD$28,IF(ISNA(MATCH(G38,$AB$30:$AC$30,0)),0,1),IF(ISNUMBER(G38),1,0),IF(G38=TRUNC(G38),1,0),IF(AND(G38*1=G38,G38>=0),1,0),IF(AND(G38=TRUNC(G38),G38>=0),1,0),IF(AND(G38*1=G38,G38>0),1,0),IF(AND(G38=TRUNC(G38),G38>0),1,0),1,IF(ISNA(HLOOKUP(G38,$AE$4:$AN$4,1,0)),0,1)),0))) -> 1 | BA38: =IF($F38="","",BA$30) -> א | BB38: =IF($F38="","",BB$30) -> ב | BC38: =IF($F38="","",BC$30) -> ג | BD38: =IF($F38="","",BD$30) -> ד | BE38: =IF($F38="","",BE$30) -> ה
B39: =IF(F39="","",ROW()-30) -> 9 | F39: =IF('תנאי סף'!AN39<>1,"",'תנאי סף'!F39) -> אנסמבל הפיוט מכון בן צבי | G39: =IF(F39="","",'ריכוז גיליונות עזר'!$G39) -> 304 | U39: =IF($F39="","",IF($AA39<>1,$AB$1,G39)) -> 304 | V39: 1 | W39: =IF($F39="","",IF($AA39<>1,$AB$1,IFERROR(U39*V39,$AB$1))) -> 304 | X39: 1 | Y39: =IF($F39="","",IF($AA39<>1,$AB$1,IFERROR(W39*X39,$AB$1))) -> 304 | Z39: =IF($F39="","",IF(OR($AA39<>1,Y39=$AB$1),$AB$1,IFERROR(Y39/SUM($Y$31:$Y$130),0))) -> 0.065138204 | AA39: =IF(SUM(AD39:AV39)=COUNT(AD39:AV39),1,0) -> 1 | AB39: =IF($F39="","",AB$30) -> 0 | AC39: =IF($F39="","",AC$30) -> 1 | AD39: =IF(G$30="",1,IF(G39="",0,IFERROR(CHOOSE(AD$28,IF(ISNA(MATCH(G39,$AB$30:$AC$30,0)),0,1),IF(ISNUMBER(G39),1,0),IF(G39=TRUNC(G39),1,0),IF(AND(G39*1=G39,G39>=0),1,0),IF(AND(G39=TRUNC(G39),G39>=0),1,0),IF(AND(G39*1=G39,G39>0),1,0),IF(AND(G39=TRUNC(G39),G39>0),1,0),1,IF(ISNA(HLOOKUP(G39,$AE$4:$AN$4,1,0)),0,1)),0))) -> 1 | BA39: =IF($F39="","",BA$30) -> א | BB39: =IF($F39="","",BB$30) -> ב | BC39: =IF($F39="","",BC$30) -> ג | BD39: =IF($F39="","",BD$30) -> ד | BE39: =IF($F39="","",BE$30) -> ה
B40: =IF(F40="","",ROW()-30) -> 10 | F40: =IF('תנאי סף'!AN40<>1,"",'תנאי סף'!F40) -> עמותת תמיד | G40: =IF(F40="","",'ריכוז גיליונות עזר'!$G40) -> 248 | U40: =IF($F40="","",IF($AA40<>1,$AB$1,G40)) -> 248 | V40: 1 | W40: =IF($F40="","",IF($AA40<>1,$AB$1,IFERROR(U40*V40,$AB$1))) -> 248 | X40: 1 | Y40: =IF($F40="","",IF($AA40<>1,$AB$1,IFERROR(W40*X40,$AB$1))) -> 248 | Z40: =IF($F40="","",IF(OR($AA40<>1,Y40=$AB$1),$AB$1,IFERROR(Y40/SUM($Y$31:$Y$130),0))) -> 0.053139061 | AA40: =IF(SUM(AD40:AV40)=COUNT(AD40:AV40),1,0) -> 1 | AB40: =IF($F40="","",AB$30) -> 0 | AC40: =IF($F40="","",AC$30) -> 1 | AD40: =IF(G$30="",1,IF(G40="",0,IFERROR(CHOOSE(AD$28,IF(ISNA(MATCH(G40,$AB$30:$AC$30,0)),0,1),IF(ISNUMBER(G40),1,0),IF(G40=TRUNC(G40),1,0),IF(AND(G40*1=G40,G40>=0),1,0),IF(AND(G40=TRUNC(G40),G40>=0),1,0),IF(AND(G40*1=G40,G40>0),1,0),IF(AND(G40=TRUNC(G40),G40>0),1,0),1,IF(ISNA(HLOOKUP(G40,$AE$4:$AN$4,1,0)),0,1)),0))) -> 1 | BA40: =IF($F40="","",BA$30) -> א | BB40: =IF($F40="","",BB$30) -> ב | BC40: =IF($F40="","",BC$30) -> ג | BD40: =IF($F40="","",BD$30) -> ד | BE40: =IF($F40="","",BE$30) -> ה
B41: =IF(F41="","",ROW()-30) -> 11 | F41: =IF('תנאי סף'!AN41<>1,"",'תנאי סף'!F41) -> מטרוז | G41: =IF(F41="","",'ריכוז גיליונות עזר'!$G41) -> 536 | U41: =IF($F41="","",IF($AA41<>1,$AB$1,G41)) -> 536 | V41: 1 | W41: =IF($F41="","",IF($AA41<>1,$AB$1,IFERROR(U41*V41,$AB$1))) -> 536 | X41: 1 | Y41: =IF($F41="","",IF($AA41<>1,$AB$1,IFERROR(W41*X41,$AB$1))) -> 536 | Z41: =IF($F41="","",IF(OR($AA41<>1,Y41=$AB$1),$AB$1,IFERROR(Y41/SUM($Y$31:$Y$130),0))) -> 0.11484894 | AA41: =IF(SUM(AD41:AV41)=COUNT(AD41:AV41),1,0) -> 1 | AB41: =IF($F41="","",AB$30) -> 0 | AC41: =IF($F41="","",AC$30) -> 1 | AD41: =IF(G$30="",1,IF(G41="",0,IFERROR(CHOOSE(AD$28,IF(ISNA(MATCH(G41,$AB$30:$AC$30,0)),0,1),IF(ISNUMBER(G41),1,0),IF(G41=TRUNC(G41),1,0),IF(AND(G41*1=G41,G41>=0),1,0),IF(AND(G41=TRUNC(G41),G41>=0),1,0),IF(AND(G41*1=G41,G41>0),1,0),IF(AND(G41=TRUNC(G41),G41>0),1,0),1,IF(ISNA(HLOOKUP(G41,$AE$4:$AN$4,1,0)),0,1)),0))) -> 1 | BA41: =IF($F41="","",BA$30) -> א | BB41: =IF($F41="","",BB$30) -> ב | BC41: =IF($F41="","",BC$30) -> ג | BD41: =IF($F41="","",BD$30) -> ד | BE41: =IF($F41="","",BE$30) -> ה
B42: =IF(F42="","",ROW()-30) | F42: =IF('תנאי סף'!AN42<>1,"",'תנאי סף'!F42) | G42: =IF(F42="","",'ריכוז גיליונות עזר'!$G42) | U42: =IF($F42="","",IF($AA42<>1,$AB$1,G42)) | V42: 1 | W42: =IF($F42="","",IF($AA42<>1,$AB$1,IFERROR(U42*V42,$AB$1))) | X42: 1 | Y42: =IF($F42="","",IF($AA42<>1,$AB$1,IFERROR(W42*X42,$AB$1))) | Z42: =IF($F42="","",IF(OR($AA42<>1,Y42=$AB$1),$AB$1,IFERROR(Y42/SUM($Y$31:$Y$130),0))) | AA42: =IF(SUM(AD42:AV42)=COUNT(AD42:AV42),1,0) -> 1 | AB42: =IF($F42="","",AB$30) | AC42: =IF($F42="","",AC$30) | AD42: =IF(G$30="",1,IF(G42="",0,IFERROR(CHOOSE(AD$28,IF(ISNA(MATCH(G42,$AB$30:$AC$30,0)),0,1),IF(ISNUMBER(G42),1,0),IF(G42=TRUNC(G42),1,0),IF(AND(G42*1=G42,G42>=0),1,0),IF(AND(G42=TRUNC(G42),G42>=0),1,0),IF(AND(G42*1=G42,G42>0),1,0),IF(AND(G42=TRUNC(G42),G42>0),1,0),1,IF(ISNA(HLOOKUP(G42,$AE$4:$AN$4,1,0)),0,1)),0))) -> 1 | BA42: =IF($F42="","",BA$30) | BB42: =IF($F42="","",BB$30) | BC42: =IF($F42="","",BC$30) | BD42: =IF($F42="","",BD$30) | BE42: =IF($F42="","",BE$30)
... B130: =IF(F130="","",ROW()-30) | F130: =IF('תנאי סף'!AN130<>1,"",'תנאי סף'!F130) | G130: =IF(F130="","",'ריכוז גיליונות עזר'!$G130) | U130: =IF($F130="","",IF($AA130<>1,$AB$1,G130)) | V130: 1 | W130: =IF($F130="","",IF($AA130<>1,$AB$1,IFERROR(U130*V130,$AB$1))) | X130: 1 | Y130: =IF($F130="","",IF($AA130<>1,$AB$1,IFERROR(W130*X130,$AB$1))) | Z130: =IF($F130="","",IF(OR($AA130<>1,Y130=$AB$1),$AB$1,IFERROR(Y130/SUM($Y$31:$Y$130),0))) | AA130: =IF(SUM(AD130:AV130)=COUNT(AD130:AV130),1,0) -> 1 | AB130: =IF($F130="","",AB$30) | AC130: =IF($F130="","",AC$30) | AD130: =IF(G$30="",1,IF(G130="",0,IFERROR(CHOOSE(AD$28,IF(ISNA(MATCH(G130,$AB$30:$AC$30,0)),0,1),IF(ISNUMBER(G130),1,0),IF(G130=TRUNC(G130),1,0),IF(AND(G130*1=G130,G130>=0),1,0),IF(AND(G130=TRUNC(G130),G130>=0),1,0),IF(AND(G130*1=G130,G130>0),1,0),IF(AND(G130=TRUNC(G130),G130>0),1,0),1,IF(ISNA(HLOOKUP(G130,$AE$4:$AN$4,1,0)),0,1)),0))) -> 1 | BA130: =IF($F130="","",BA$30) | BB130: =IF($F130="","",BB$30) | BC130: =IF($F130="","",BC$30) | BD130: =IF($F130="","",BD$30) | BE130: =IF($F130="","",BE$30)
B131: סה"כ | G131: =SUM(G31:G130) -> 4667 | H131: =SUM(H31:H130) -> 0 | I131: =SUM(I31:I130) -> 0 | J131: =SUM(J31:J130) -> 0 | K131: =SUM(K31:K130) -> 0 | L131: =SUM(L31:L130) -> 0 | M131: =SUM(M31:M130) -> 0 | N131: =SUM(N31:N130) -> 0 | ... Z131: =SUM(Z31:Z130) -> 1

Sheet מספר הקונצרטים
B1: =MID(CELL("filename",AC2),FIND("]",CELL("filename",AC2),1)+1,99) -> מספר הקונצרטים | AB1: בדוק נתוני הזנה | AD1: סוגי בקרות | AE1: 0/1 | AF1: מספר | AG1: מספר שלם | AH1: מספר שאינו שלילי | AI1: מספר שלם שאינו שלילי | AJ1: מספר חיובי | AK1: מספר שלם חיובי | AL1: טקסט | AM1: טקסט מרשימה סגורה
U2: ='פרמטרים לקריטריונים'!$B$4 -> שנת תקציב | Y2: ='פרמטרים לקריטריונים'!$B$4 -> שנת תקציב | Z2: ='פרמטרים לקריטריונים'!$C$4 -> 2025 | AE2: =IF(ISNA(MATCH(G31,$AB$30:$AC$30,0)),0,1) -> 0 | AF2: =IF(IFERROR(G31*1,"bad")="bad",0,1) -> 1 | AG2: =IF(IFERROR(IF(G31=TRUNC(G31),1,"bad"),"bad")="bad",0,1) -> 0 | AH2: =IF(AND(IF(IFERROR(G31*1,"bad")="bad",0,1)=1,G31>=0),1,0) -> 1 | AI2: =IF(AND(IF(IFERROR(IF(G31=TRUNC(G31),1,"bad"),"bad")="bad",0,1)=1,G31>=0),1,0) -> 0 | AJ2: =IF(AND(IF(IFERROR(G31*1,"bad")="bad",0,1)=1,G31>0),1,0) -> 1 | AK2: =IF(AND(IF(IFERROR(IF(G31=TRUNC(G31),1,"bad"),"bad")="bad",0,1)=1,G31>0),1,0) -> 0 | AL2: 1 | AM2: =IF(IFERROR(HLOOKUP(G31,$BA$30:$BK$30,1,0),"bad")="bad",0,1) -> 0
F3: =IF(SUBTOTAL(102,B$31:B$130)=SUBTOTAL(2,B$31:B$130),"","ישנן שורות מוסתרות") | U3: ='פרמטרים לקריטריונים'!$B$5 -> תקציב התמיכה | Y3: ='פרמטרים לקריטריונים'!$B$5 -> תקציב התמיכה | Z3: ='פרמטרים לקריטריונים'!$C$5 -> 4026034 | AD3: מספר בקרה | AE3: 1 | AF3: 2 | AG3: 3 | AH3: 4 | AI3: 5 | AJ3: 6 | AK3: 7 | AL3: 8 | AM3: 9
F4: ='פרמטרים לקריטריונים'!B81 -> סעיף | G4: ='פרמטרים לקריטריונים'!C81 -> ניקוד | AD4: רשימה סגורה | AE4: 1 | AF4: 2 | AG4: 3 | AH4: 4 | AI4: 5 | AJ4: 6 | AK4: 7 | AL4: 8 | AM4: 9 | AN4: 10
F5: ='פרמטרים לקריטריונים'!B82 -> עבור כל קונצרט | G5: ='פרמטרים לקריטריונים'!C82 -> 1
F6: ='פרמטרים לקריטריונים'!B83 -> בעד כל מספר מבצעים | G6: ='פרמטרים לקריטריונים'!C83 -> מקדם
F7: ='פרמטרים לקריטריונים'!B84 -> 10 | G7: ='פרמטרים לקריטריונים'!C84 -> 1.05
F8: ='פרמטרים לקריטריונים'!B85 -> סעיף | G8: ='פרמטרים לקריטריונים'!C85 -> מקדם
