Workbook
Name a: #REF!
Name a: #REF!
Name a: #REF!
Name a: #REF!
Name a: #REF!
Name a: #REF!
Name a: #REF!
Name a: #REF!
Name a: #REF!
Name a: #REF!
Name a: #REF!
Name a: #REF!
Name a: #REF!
Name aa: #REF!
Name aa: #REF!
Name aa: #REF!
Name aa: #REF!
Name b: #REF!
Name b: #REF!
Name b: #REF!
Name b: #REF!
Name b: #REF!
Name b: #REF!
Name b: #REF!
Name b: #REF!
Name DDDD: #REF!
Name DDDD: #REF!
Name DDDD: #REF!
Name DDDD: #REF!
Name DDDD: #REF!
Name DDDD: #REF!
Name DDDD: #REF!
Name DDDD: #REF!
Name ee: #REF!
Name ee: #REF!
Name ee: #REF!
Name ee: #REF!
Name ee: #REF!
Name ee: #REF!
Name ngf: #REF!
Name ngf: #REF!
Name OLE_LINK1: פרמטרים!$E$2

Sheet ProtectSettings
B1: 0.23780459
B2: 45515.553
A6: AllowFilterCheckBox | B6: TRUE
A7: AllowFormattingCheckBox
A8: AllowColumnFormattingCheckBox | B8: TRUE
A9: AllowRowFormattingCheckBox | B9: TRUE

Sheet הדרכה למשתמש
B2: הדרכה למשתמש
B4: תאריך בניית המודל
B5: תאריך עדכון מודל | C5: 44602
B7: הערה חשובה: בעת עריכת המודל - חל איסור מוחלט לבצע גזירה והדבקה או העברה של תא ממקום למקום על ידי גרירה.
B9: הוראת שעה/מעבר:
B11: הדרכה להזנת נתונים
B12: צבע התא | C12: מטרת התא | D12: דגש
B13: צהוב | C13: הזנת נתונים | D13: נדרש להזין מידע בהתאם להנחיות מבחן התמיכה, אי הזנה של תא יכולה להביא לידי שגיאה בתוצאות במודל. למעט גיליון "ניוד מופעים לפרפירה" בו אי הזנת נתון במספר הרצות משמעו 0 הרצות.
B14: חום | C14: הצגת מידע | D14: תא שאיננו מיועד להזנה. תא זה מציג מידע עפ"י נוסחה קבועה ואין לשנות אותה.
B15: אדום | C15: התראת שגיאה | D15: קיימת שגיאה בהזנת נתונים באחד מהתאים המיועדים להזנה, נדרש להזין את הנתונים הנדרשים לפני קביעת גובה תמיכה סופי.
B17: את רשימת המוסדות יש להזין בגיליונות השמאליים של הקובץ הממוספרים מ1 עד 10 במקום שם הגיליון , גיליון שממוספר מ1-10 ואינו נמצא בשימוש אין לשנות את שם הגיליון הקיים כברירת מחדל (מספר סידורי). במידה והוחלט לא להשתמש בגיליון לאחר כתיבת השם, נדרש לשנות חזרה את שם הגיליון למספר סידורי
B33: ניהול גרסאות
B34: מספר גרסה | C34: תאריך עדכון גרסה | D34: תאריך גרסה של מבחן תמיכה | E34: התאמות נוספות של מבחן תמיכה
C35: 43103 | E35: תיקון נוסחאות בגיליון סיווג על פי ההזנות

Sheet פרמטרים
C1: שנת התקציב | E1: 2025
C2: תקציב | E2: 8082764
B5: סיווג יוצרי מחול עצמאיים | F5: הגדרות
B6: מקדם קבוצתי | F6: הגדרת שנה | G6: תאריך התחלה | H6: תאריך סיום
B7: סוג יוצר | C7: מקדם קבוצתי | F7: שנת התמיכה | G7: =DATE($E$1,1,1) -> 45658 | H7: =DATE($E$1,12,31) -> 46022
B8: יוצר ותיק | C8: 0.33 | F8: שנת ההערכה | G8: =DATE($E$1-3,10,1) -> 44835 | H8: =DATE($E$1-2,9,30) -> 45199
B9: יוצר בראשית דרכו | C9: 0.66 | F9: שנת התקציב המבוקר | G9: =DATE($E$1-3,1,1) -> 44562 | H9: =DATE($E$1-3,12,31) -> 44926
B10: יוצר מנוסה | C10: 1
B12: מקדם יוצר | C12: 1 | D12: סכום מקסימלי למקדם יוצר | E12: 0
B14: מפתח סימול וניקוד מספר רקדנים ומבצעים | O14: מפתח ניקוד
B15: סוג | C15: ניקוד | O15: קריטריון | Q15: ניקוד
B16: רקדנים | C16: 1 | F16: משקל המשתנים בתחשיב הבסיסי | O16: ביטוי משמעותי ליוצרים בתחילת דרכם | Q16: 1
B17: מבצעים | C17: 1 | F17: משתנה | G17: משקל | O17: העשרה מקצועית וסדנאות ליוצרים בתחילת דרכם | Q17: 2
F18: מספר הרצות | G18: 0.3
B19: מפתח סימול וניקוד מספר הרצות | F19: מספר רקדנים ומבצעים בתשלום | G19: 0.2
B20: פרמטר | C20: ניקוד | F20: מיקום ההרצות | G20: 0.1
B21: ניקוד הפקה בשנת ההערכה | C21: 1 | F21: הכנסות עצמיות | G21: 0.2 | O21: פרמטרים לחישוב ניקוד תרומה לקהילה
F22: רמה אומנותית | G22: 0.2 | O22: מפתח ניקוד
F23: סה"כ | G23: =SUM(G18:G22) -> 1 | O23: קריטריון | Q23: ניקוד
O24: תרומה משמעותית | Q24: 1
K25: אתגר יוצא דופן | M25: 2 | O25: תרומה יוצאת דופן | Q25: 2
B39: פרמטרים לחישוב ניקוד מיקום ההרצות
B40: מפתח סימול ניקוד מיקום ההרצות | O40: מפתח ניקוד
B41: מרחק ממקום הפעילות המרכזי | C41: סימול | D41: סיווג | O41: קריטריון | Q41: ניקוד
B42: עד 30 ק"מ | C42: A | D42: 0 | O42: תיאטרון שמרבית הרצותיו הן בשפה שאינה עברית או שמרבית השחקנים והצוות האמנותי שהוא מעסיק הם עולים חדשים המצויים בישראל תקופה שאינה עולה על 20 שנים | Q42: 1
B43: מעל 30 עד 60 ק"מ | C43: B | D43: 0.5
B44: מעל 60 עד 100 ק"מ | C44: C | D44: 1
B45: מעל 100 ק"מ | C45: D | D45: 1.5
O46: פרמטרים לחישוב ניקוד מורכבות ההפקות
O55: מפתח ניקוד
B56: מפתח סימול הכנסות עצמיות | O56: קריטריון | Q56: ניקוד
B57: פרמטר | C57: ניקוד | O57: מורכבות יחודית | Q57: 1
B58: עבור כל 1 ₪ ממכירת כטיסים ומופעים | C58: 1.5
B59: עבור כל 1 ₪ מתרומות או מהכנסות עצמיות | C59: 1
B66: מפתח סימול וניקוד רמה אומנותית
B67: יוצר בראשית דרכו / יוצר מנוסה | D67: יוצר ותיק
B68: קיבל ברמה אומנותית: | C68: ניקוד | D68: קיבל ברמה אומנותית | E68: ניקוד
B70: =IF($E$1<2024,'הוראת שעה'!A27,'הוראת שעה'!E27) -> 5 | C70: =IF($E$1<2024,'הוראת שעה'!B27,'הוראת שעה'!F27) -> 8 | D70: =IF($E$1<2024,'הוראת שעה'!C27,'הוראת שעה'!G27) -> 5 | E70: =IF($E$1<2024,'הוראת שעה'!D27,'הוראת שעה'!H27) -> 8
B71: =IF($E$1<2024,'הוראת שעה'!A28,'הוראת שעה'!E28) -> 4.99 | C71: =IF($E$1<2024,'הוראת שעה'!B28,'הוראת שעה'!F28) -> 5 | D71: =IF($E$1<2024,'הוראת שעה'!C28,'הוראת שעה'!G28) -> 4.99 | E71: =IF($E$1<2024,'הוראת שעה'!D28,'הוראת שעה'!H28) -> 5
B72: =IF($E$1<2024,'הוראת שעה'!A29,'הוראת שעה'!E29) -> 4 | C72: =IF($E$1<2024,'הוראת שעה'!B29,'הוראת שעה'!F29) -> 3 | D72: =IF($E$1<2024,'הוראת שעה'!C29,'הוראת שעה'!G29) -> 4 | E72: =IF($E$1<2024,'הוראת שעה'!D29,'הוראת שעה'!H29) -> 3
B73: =IF($E$1<2024,'הוראת שעה'!A30,'הוראת שעה'!E30) -> 3.5 | C73: =IF($E$1<2024,'הוראת שעה'!B30,'הוראת שעה'!F30) -> 2 | D73: =IF($E$1<2024,'הוראת שעה'!C30,'הוראת שעה'!G30) -> 3.5 | E73: =IF($E$1<2024,'הוראת שעה'!D30,'הוראת שעה'!H30) -> 2
B74: =IF($E$1<2024,'הוראת שעה'!A31,'הוראת שעה'!E31) -> 2.99 | C74: =IF($E$1<2024,'הוראת שעה'!B31,'הוראת שעה'!F31) -> 0 | D74: =IF($E$1<2024,'הוראת שעה'!C31,'הוראת שעה'!G31) -> 1.99 | E74: =IF($E$1<2024,'הוראת שעה'!D31,'הוראת שעה'!H31) -> 0
B76: מפתח סימול וניקוד רמת הכוריאוגרפיה
B77: פרמטר | C77: ניקוד
B78: רמה נאותה | C78: 1
B79: רמה טובה | C79: 3
B80: רמה מעולה | C80: 5
B83: מפתח סימול וניקוד חדשנות וגיוון רפרטוארי
B84: פרמטר | C84: ניקוד
B85: חדשנות וגיוון רפרטוארי טוב | C85: 1
B86: חדשנות וגיוון רפרטוארי מצוין | C86: 3
B89: פרמטרים לחישוב תמיכה לאור שיעור מוסדי ותמיכה ממקורות אחרים
B90: תאגיד מוסדי או מחויבות ממשלתית | E90: תוספת בגין מקורות אחרים
B91: סוג | C91: שיעור תמיכה | D91: סימול | E91: מכפלת השקלים שמזכה בתוספת | F91: התוספת לכל מכפלה
B92: תאגיד מוסדי | C92: 0.5 | D92: 1 | E92: 2 | F92: 1
B93: אינו תאגיד מוסדי | C93: 0.85 | D93: 0
B96: פרמטרים לחישוב מנגנון ההגנה
B97: מנגנון ההגנה
B98: סעיף | C98: ערך
B99: ='הוראת שעה'!B5 -> שיעור פיחות מירבי בתמיכה | C99: =IF($E$1<2023,'הוראת שעה'!B9,'הוראת שעה'!B10) -> 0.2
B100: ='הוראת שעה'!C5 -> שיעור תמיכה מינימלי משנה קודמת | C100: =IF($E$1<2023,'הוראת שעה'!C9,'הוראת שעה'!C10) -> 0.8
A102: לא יפחת שיעור התמיכה של מוסד שנמצא זכאי לתמיכה בשנה הקודמת ביותר מ: | C102: 0.9
B105: סיווג | C105: מספר שנות ותק נכון ליום 1 בינואר של שנת התמיכה | D105: מספר שנות ותק רצופות כיוצר מחול עצמאי | E105: מספר הפקות ב-5 השנים הקודמות (בכל אחת מהן נכללה יצירה חדשה) | F105: מספר הפקות ב-3 השנים הקודמות (בכל אחת מהן נכללה יצירה חדשה) | G105: מספר הרצות בארץ בשנת ההערכה | H105: בעל רמה אמנותית נאותה | I105: בעל מוניטין ותרומה מיוחדת וקיבל תמיכה בשנת הכספים הקודמת ובשנת התקציב המבוקר (0/1) | J105: קיבל תמיכה בשנת הכספים הקודמת ובשנת התקציב המבוקר | K105: העלה לפחות הפקה שכללה יצירה חדשה אחת לפחות שלו
B106: יוצר ותיק | C106: 30 | D106: 0 | E106: 0 | F106: 0 | G106: 2 | H106: 3 | I106: 1 | J106: 1 | K106: 1
B107: יוצר בראשית דרכו | C107: 0 | D107: 2-5 | E107: 0 | F107: 2 | G107: 3 | H107: 3 | I107: 0 | J107: 0 | K107: 0
B108: יוצר מנוסה | C108: 0 | D108: 5 | E108: 3 | F108: 0 | G108: 5 | H108: 3 | I108: 0 | J108: 0 | K108: 0
B109: מקדם | C109: רמה אמנותית מינימלית לקבלת אישור מיוחד של מדור לסיווג כיוצר ותיק
B110: 0.33
B111: 0.66 | C111: 2
B112: 1

Sheet תנאי סף - כלליים
B1: =MID(CELL("filename",AT2),FIND("]",CELL("filename",AT2),1)+1,99) -> תנאי סף - כלליים | AS1: בדוק נתוני הזנה | AU1: סוגי בקרות | AV1: 0/1 | AW1: מספר | AX1: מספר שלם | AY1: מספר שאינו שלילי | AZ1: מספר שלם שאינו שלילי | BA1: מספר חיובי | BB1: מספר שלם חיובי | BC1: טקסט | BD1: טקסט מרשימה סגורה | BH1: כן | BI1: לא
AP2: =פרמטרים!C1 -> שנת התקציב | AQ2: =פרמטרים!E1 -> 2025 | AV2: =IF(ISNA(MATCH(G31,$AS$30:$AT$30,0)),0,1) -> 1 | AW2: =IF(IFERROR(G31*1,"bad")="bad",0,1) -> 1 | AX2: =IF(IFERROR(IF(G31=TRUNC(G31),1,"bad"),"bad")="bad",0,1) -> 1 | AY2: =IF(AND(IF(IFERROR(G31*1,"bad")="bad",0,1)=1,G31>=0),1,0) -> 1 | AZ2: =IF(AND(IF(IFERROR(IF(G31=TRUNC(G31),1,"bad"),"bad")="bad",0,1)=1,G31>=0),1,0) -> 1 | BA2: =IF(AND(IF(IFERROR(G31*1,"bad")="bad",0,1)=1,G31>0),1,0) -> 1 | BB2: =IF(AND(IF(IFERROR(IF(G31=TRUNC(G31),1,"bad"),"bad")="bad",0,1)=1,G31>0),1,0) -> 1 | BC2: 1 | BD2: =IF(IFERROR(HLOOKUP(G31,$CH$30:$CR$30,1,0),"bad")="bad",0,1) -> 1 | DC2: שיעור הקלה | DD2: 0.8
AP3: =פרמטרים!C2 -> תקציב | AQ3: =פרמטרים!E2 -> 8082764 | AU3: מספר בקרה | AV3: 1 | AW3: 2 | AX3: 3 | AY3: 4 | AZ3: 5 | BA3: 6 | BB3: 7 | BC3: 8 | BD3: 9 | CV3: מספר תנאים | CW3: 3 | DC3: הקלות מותרות | DD3: 1
F4: רלוונטי למבחן עמידה בתנאי סף? 1=רלוונטי. 0= לא רלוונטי אבל נדרשת בקרה על הזנת נתונים. 99= לא רלוונטי ולא נדרשת בקה על הזנת נתונים | G4: 1 | H4: 1 | I4: 1 | J4: 1 | K4: 1 | L4: 1 | M4: 1 | N4: 1 | O4: 1 | P4: 1 | Q4: 1 | S4: 0 | T4: 0 | U4: 0 | V4: 0 | W4: 0 | X4: 0 | Y4: 0 | Z4: 1 | AA4: 0 | AB4: 99 | AC4: 99 | AD4: 99 | AE4: 99 | AG4: 1 | AH4: 1 | AL4: 99 | AU4: רשימה סגורה | AV4: 1 | AW4: 2 | AX4: 3 | AY4: 4 | AZ4: 5 | BA4: 6 | BB4: 7 | BC4: 8 | BD4: 9 | BE4: 10 | DC4: נדרש לפי הקלה
F5: מעבר תנאי סף- במידה ולא רלוונטי להשאיר ריק | G5: 1 | H5: 1 | I5: 1 | J5: 1 | K5: 1 | L5: 1 | M5: 1 | N5: 1 | O5: 1 | P5: 1 | Q5: 1 | Z5: 1 | AA5: 1 | AG5: 1 | AH5: 1 | CV5: 0.6 | CW5: 2 | CX5: =Y5 -> 0 | DC5: =$DD$2*CV5 -> 0.48 | DD5: =$DD$2*CW5 -> 1.6 | DE5: =$DD$2*CX5 -> 0
G6: 7 (א) (3) | H6: 7 (א) (5) | I6: 7 (א) (6) | J6: 7 (א) (7) | K6: 7 (א) (8) | L6: 7 (א) (9) | M6: 7 (א) (10) | N6: 7 (א) (11) | O6: 7 (א) (11א) | P6: 7 (א) (12) | Q6: 4(ה) | R6: 7(א) (10א) | S6: 7 (א) (1) | T6: 7 (א) (1) | U6: 7 (א) (1) | V6: 7 (א) (2) | W6: 7 (א) (2) | X6: 7 (א) (4) | Y6: 7 (א) (2) | AA6: 7 (א) (13) (א) | AB6: 7 (א) (13) (א) | AC6: 7 (א) (13) (ב) | AD6: 7 (א) (13) (א) | AE6: 7 (א) (13) (א) | AH6: 7 (א) (13)
F8: שורה אחרונה משומשת | G8: =SUMPRODUCT(MAX(($B:$B<>"")*(ROW(B:B)))) -> 141
S28: יש לסמן 1 בעמודה אחת ו-0 בשניה | U28: בקשה שהוגשה על יד ארגון גג | AR28: =IF(SUM(AR31:AR130)=COUNT(AR31:AR130),1,0) -> 0 | AU28: =MATCH(G$30,$AV$1:$BD$1,0) -> 1 | AV28: =MATCH(H$30,$AV$1:$BD$1,0) -> 1 | AW28: =MATCH(I$30,$AV$1:$BD$1,0) -> 1 | AX28: =MATCH(J$30,$AV$1:$BD$1,0) -> 1 | AY28: =MATCH(K$30,$AV$1:$BD$1,0) -> 1 | AZ28: =MATCH(L$30,$AV$1:$BD$1,0) -> 1 | BA28: =MATCH(M$30,$AV$1:$BD$1,0) -> 1 | BB28: =MATCH(N$30,$AV$1:$BD$1,0) -> 1 | ... BE28: =MATCH(Q$30,$AV$1:$BD$1,0) -> 1 | BF28: =MATCH(S$30,$AV$1:$BD$1,0) -> 1 | BG28: =MATCH(T$30,$AV$1:$BD$1,0) -> 1 | BH28: =MATCH(U$30,$AV$1:$BD$1,0) -> 1 | BI28: =MATCH(V$30,$AV$1:$BD$1,0) -> 1 | BJ28: =MATCH(W$30,$AV$1:$BD$1,0) -> 1 | BK28: =MATCH(X$30,$AV$1:$BD$1,0) -> 1 | BL28: =MATCH(Y$30,$AV$1:$BD$1,0) -> 1 | BM28: =MATCH(Z$30,$AV$1:$BD$1,0) -> #N/A | ... BS28: =MATCH(AF$30,$AV$1:$BD$1,0) -> #N/A | BT28: =MATCH(AH$30,$AV$1:$BD$1,0) -> #N/A | BU28: =MATCH(AI$30,$AV$1:$BD$1,0) -> #N/A | BV28: =MATCH(AJ$30,$AV$1:$BD$1,0) -> #N/A | BW28: =MATCH(AK$30,$AV$1:$BD$1,0) -> #N/A | BX28: =MATCH(AL$30,$AV$1:$BD$1,0) -> #N/A | BY28: =MATCH(AM$30,$AV$1:$BD$1,0) -> #N/A | BZ28: =MATCH(AN$30,$AV$1:$BD$1,0) -> #N/A | CA28: =MATCH(AO$30,$AV$1:$BD$1,0) -> #N/A | CB28: =MATCH(AP$30,$AV$1:$BD$1,0) -> #N/A
A29: 100 | C29: =COLUMN() -> 3 | D29: =COLUMN() -> 4 | E29: =COLUMN() -> 5 | F29: שם המוסד | G29: תקציבה של הפעילות בעדה מבוקשת התמיכה מנוהל כמשק סגור | H29: המוסד עומד בדרישות הנוהל, ובכלל זה יעמיד עצמו לביקורת המשרד להבטחת עמידתו בתנאים למתן תמיכה | I29: מטרות המוסד כמפורט במסמכי היסוד שלו ואופן פעולתו עולים בקנה אחד עם מטרות התמיכה המפורטות במבחנים | J29: המוסד משתמש בכספי התמיכה רק למטרות שלשמן ניתנו | K29: מקיים את הוראות החוק הנוגעות לפעילותו, מקפיד על כללי ניהול תקין ושומר על שקיפות מלאה | L29: המוסד פועל ביעילות ובתקורה מיזערית | M29: =IF(פרמטרים!$E$1<2023,'הוראת שעה'!$E$9,'הוראת שעה'!$E$10) -> המוסד השלים את הגשת כל הדו"חות הנדרשים לצורך ניקודו לפי מבחנים אלה, כשהם מלאים ותקינים, עד יום 1 במרס של שנת הכספים הקודמת | N29: המוסד הגיש תכנית עבודה כללית לשנת התמיכה התואמת את תנאי הסף שנקבעו לתחום פעילותו | O29: המוסד הגיש, במהלך שנת התמיכה, דו"חות ביצוע שוטפים, דוחות פעילות רבעוניים שוטפים ודוחות שנתיים המעידים על עמידתו בתכנית העבודה ובתנאי הזכאות לקבלת התמיכה | P29: צורפה הצהרתו של מנהל המוסד לפיה הנתונים הכלולים בבקשה הם נכונים, שלמים ומדויקים | Q29: הפעילות שבעדה מבוקשת התמיכה אינה ממומנת ע"י משרד ממשלתי אחר | S29: הבקשה הוגשה בידי מוסד ציבור המבצע את הפעילות נושא התמיכה | T29: הבקשה הוגשה בידי ארגון גג שנתמך על ידי מינהל התרבות | U29: מחזור פעילותו השנתי של היוצר או מוסד ציבור בשנת התקציב המבוקר ובשנה שקדמה לה, המגישים את הבקשה באמצעות ארגון גג, לא עלה על 400,000 שקלים חדשים | V29: הבקשה כוללת התייחסות לפעילות נשוא התמיכה בלבד, ולא לפעילויות או תחומי עשייה אחרים של ארגון הגג | W29: הבקשה נחתמה בנוסף בידי הגורם המקצועי המנהל את הפעילות נשוא הבקשה לתמיכה בארגון | X29: ארגון הגג מנהל באופן ישיר את ההוצאות בשל הפעילות, והוא אינו מעביר כספים ליוצרי מחול עצמאיים לשם ביצוע הפעילות | Y29: ארגון הגג לא כלל בבקשה הוצאות שבעדן קיבל תמיכה כארגון גג | Z29: עובר תנאי הגשה בידי מוסד ציבור/ארגון גג | AA29: המוסד קיבל תמיכה ממינהל התרבות בשנת הכספים הקודמת | AB29: האם מגיש הבקשה הוא יוצר עצמאי | AC29: =IF(פרמטרים!$E$1<2023,'הוראת שעה'!$G$9,'הוראת שעה'!$G$10) -> העביר למינהל התרבות, לא יאוחר מיום 1 במרס של שנת הכספים הקודמת, קישור לצפייה דיגיטלית בהפקה או בפעילות שקיים בשנת ההערכה או בשנת הכספים הקודמת | AD29: =IF(פרמטרים!$E$1<2023,'הוראת שעה'!$F$9,'הוראת שעה'!$F$10) -> הודיע למינהל התרבות לא יאוחר מיום 1 בינואר של שנת הכספים הקודמת, על כוונתו להגיש בקשה לתמיכה לפי מבחנים אלה, ונתן לחברי המדור למחול הזדמנות סבירה לצפות בהפקותיו או להתרשם מפעילותו, לפי העניין | AE29: עם מתן הודעה כאמור, יעדכן המוסד את מינהל התרבות, בכתב, על אודות הפקותיו, מועדי ההרצות ומיקומן (להלן בפסקה זו – פעילותו) לתקופה של 21 ימים ממועד מתן ההודעה כאמור וימשיך לעדכן בכתב את המינהל באופן שוטף על אודות פעילותו 21 ימים מראש לפחות | AF29: עומד בתנאים לאור הקלות | AG29: במוסד בו מועסקים עובדים ביחסי עבודה, המוסד קבע תקנון למניעת הטרדה מינית ועומד בדרישות תקנה 8 לתקנות חובות מעסיק. המוסד צירף לבקשתו את התקנון ופרטים על ההתאמות בתקנון, פרסומו למסירתו. (במוסד בו אין מתכונת יחסי עבודה - יש לסמן 1 עבור תנאי זה) | AH29: המוסד לא קיבל תמיכה ממינהל התרבות בשנת הכספים הקודמת אך עומד בסעיפים 7 (א) (13) (א),(ב) | AI29: ריק | AJ29: ריק | AL29: מעבר תנאי סף-אישור מיוחד | AM29: ריק | AN29: ריק | AO29: ריק | AP29: מעבר תנאי סף | AQ29: הערות | AR29: בקרה ראשית | AU29: ="בקרת "&G29 -> בקרת תקציבה של הפעילות בעדה מבוקשת התמיכה מנוהל כמשק סגור | AV29: ="בקרת "&H29 -> בקרת המוסד עומד בדרישות הנוהל, ובכלל זה יעמיד עצמו לביקורת המשרד להבטחת עמידתו בתנאים למתן תמיכה | AW29: ="בקרת "&I29 -> בקרת מטרות המוסד כמפורט במסמכי היסוד שלו ואופן פעולתו עולים בקנה אחד עם מטרות התמיכה המפורטות במבחנים | AX29: ="בקרת "&J29 -> בקרת המוסד משתמש בכספי התמיכה רק למטרות שלשמן ניתנו | AY29: ="בקרת "&K29 -> בקרת מקיים את הוראות החוק הנוגעות לפעילותו, מקפיד על כללי ניהול תקין ושומר על שקיפות מלאה | AZ29: ="בקרת "&L29 -> בקרת המוסד פועל ביעילות ובתקורה מיזערית | BA29: ="בקרת "&M29 -> בקרת המוסד השלים את הגשת כל הדו"חות הנדרשים לצורך ניקודו לפי מבחנים אלה, כשהם מלאים ותקינים, עד יום 1 במרס של שנת הכספים הקודמת | BB29: ="בקרת "&N29 -> בקרת המוסד הגיש תכנית עבודה כללית לשנת התמיכה התואמת את תנאי הסף שנקבעו לתחום פעילותו | ... BT29: ="בקרת "&AF29 -> בקרת עומד בתנאים לאור הקלות | BU29: ="בקרת "&AH29 -> בקרת המוסד לא קיבל תמיכה ממינהל התרבות בשנת הכספים הקודמת אך עומד בסעיפים 7 (א) (13) (א),(ב) | BV29: ="בקרת "&AI29 -> בקרת ריק | BW29: ="בקרת "&AJ29 -> בקרת ריק | BX29: ="בקרת "&AK29 -> בקרת | BY29: ="בקרת "&AL29 -> בקרת מעבר תנאי סף-אישור מיוחד | BZ29: ="בקרת "&AM29 -> בקרת ריק | CA29: ="בקרת "&AN29 -> בקרת ריק | CB29: ="בקרת "&AO29 -> בקרת ריק | CC29: ="בקרת "&AP29 -> בקרת מעבר תנאי סף | CH29: רשימה סגורה | CW29: קריטריון הקלה 1 | CX29: קריטריון הקלה 2 | CY29: קריטריון הקלה 3 | CZ29: קריטריון הקלה 4 | DA29: קריטריון הקלה 5 | DD29: קריטריון הקלה 1 | DE29: קריטריון הקלה 2 | DF29: קריטריון הקלה 3 | DG29: קריטריון הקלה 4 | DH29: קריטריון הקלה 5 | DK29: תנאים עם הקלה | DL29: עומד בתנאים ללא הקלות | DM29: עומד בתנאים להקלות
G30: 0/1 | H30: 0/1 | I30: 0/1 | J30: 0/1 | K30: 0/1 | L30: 0/1 | M30: 0/1 | N30: 0/1 | O30: 0/1 | P30: 0/1 | Q30: 0/1 | R30: 0/1 | S30: 0/1 | T30: 0/1 | U30: 0/1 | V30: 0/1 | W30: 0/1 | X30: 0/1 | Y30: 0/1 | AA30: 0/1 | AB30: טקסט מרשימה סגורה | AC30: 0/1 | AD30: 0/1 | AE30: 0/1 | AG30: 0/1 | AQ30: טקסט | AS30: 0 | AT30: 1 | AU30: =G30 -> 0/1 | AV30: =H30 -> 0/1 | AW30: =I30 -> 0/1 | AX30: =J30 -> 0/1 | AY30: =K30 -> 0/1 | AZ30: =L30 -> 0/1 | BA30: =M30 -> 0/1 | BB30: =N30 -> 0/1 | ... BT30: =AF30 -> 0 | BU30: =AH30 -> 0 | BV30: =AI30 -> 0 | BW30: =AJ30 -> 0 | BX30: =AK30 -> 0 | BY30: =AL30 -> 0 | BZ30: =AM30 -> 0 | CA30: =AN30 -> 0 | CB30: =AO30 -> 0 | CC30: =AP30 -> 0 | CH30: =AV4 -> 1 | CI30: =AW4 -> 2 | CJ30: =AX4 -> 3 | CK30: =AY4 -> 4 | CL30: =AZ4 -> 5 | CM30: =BA4 -> 6 | CN30: =BB4 -> 7 | CO30: =BC4 -> 8 | ... CQ30: =BE4 -> 10
B31: =IF(F31="","",ROW()-30) -> 1 | F31: סילביה דוראן | G31: 1 | H31: 1 | I31: 1 | J31: 1 | K31: 1 | L31: 1 | M31: 1 | N31: 1 | O31: 1 | P31: 1 | Q31: 1 | R31: 1 | S31: 0 | T31: 1 | U31: 1 | V31: 1 | W31: 1 | X31: 1 | Y31: 1 | Z31: =IF(F31="","",IF(AND(S31=1,T31=1),$AS$1,IF(OR(S31=1,AND(T31=1,U31=1,V31=1,W31=1,X31=1,Y31=1)),1,0))) -> 1 | AA31: 1 | AF31: =IF($F31="","",IF(OR(DL31=1,AND(DM31=1,AA31=1)),1,0)) -> 0 | AG31: 1 | AH31: =IF(F31="","",IF(AA31=1,1,IF(AND(AB31="לא",SUM(AC31:AD31)=2),1,IF(AND(AB31="כן",SUM(AC31:AE31)=3),1,0)))) -> 1 | AK31: =IF(F31="","",IF(G31>=$G$5,1,0)) -> 1 | AP31: {=IF($F31="","",IF(AL31=1,1,IF(AR31<>1,$AS$1,IF(SUMPRODUCT(--(G31:AK31>=$G$5:$AK$5)*($G$5:$AK$5<>"")*($G$4:$AK$4=1))=COUNTIF($G$4:$AK$4,1),1,0))))} -> 1 | AR31: =IF(OR(SUM(AU31:CC31)<>COUNT(AU31:CC31),SUMPRODUCT(--(G31:AK31=$AS$1))<>0),0,1) -> 1 | AS31: =IF($F31="","",AS$30) -> 0 | AT31: =IF($F31="","",AT$30) -> 1 | AU31: =IF(OR(G$30="",G$4=99),1,IF(G31="",0,IFERROR(CHOOSE(AU$28,IF(ISNA(MATCH(G31,$AS$30:$AT$30,0)),0,1),IF(ISNUMBER(G31),1,0),IF(G31=TRUNC(G31),1,0),IF(AND(G31*1=G31,G31>=0),1,0),IF(AND(G31=TRUNC(G31),G31>=0),1,0),IF(AND(G31*1=G31,G31>0),1,0),IF(AND(G31=TRUNC(G31),G31>0),1,0),1,IF(ISNA(HLOOKUP(G31,$AV$4:$BE$4,1,0)),0,1)),0))) -> 1 | AV31: =IF(OR(H$30="",H$4=99),1,IF(H31="",0,IFERROR(CHOOSE(AV$28,IF(ISNA(MATCH(H31,$AS$30:$AT$30,0)),0,1),IF(ISNUMBER(H31),1,0),IF(H31=TRUNC(H31),1,0),IF(AND(H31*1=H31,H31>=0),1,0),IF(AND(H31=TRUNC(H31),H31>=0),1,0),IF(AND(H31*1=H31,H31>0),1,0),IF(AND(H31=TRUNC(H31),H31>0),1,0),1,IF(ISNA(HLOOKUP(H31,$AV$4:$BE$4,1,0)),0,1)),0))) -> 1 | AW31: =IF(OR(I$30="",I$4=99),1,IF(I31="",0,IFERROR(CHOOSE(AW$28,IF(ISNA(MATCH(I31,$AS$30:$AT$30,0)),0,1),IF(ISNUMBER(I31),1,0),IF(I31=TRUNC(I31),1,0),IF(AND(I31*1=I31,I31>=0),1,0),IF(AND(I31=TRUNC(I31),I31>=0),1,0),IF(AND(I31*1=I31,I31>0),1,0),IF(AND(I31=TRUNC(I31),I31>0),1,0),1,IF(ISNA(HLOOKUP(I31,$AV$4:$BE$4,1,0)),0,1)),0))) -> 1 | AX31: =IF(OR(J$30="",J$4=99),1,IF(J31="",0,IFERROR(CHOOSE(AX$28,IF(ISNA(MATCH(J31,$AS$30:$AT$30,0)),0,1),IF(ISNUMBER(J31),1,0),IF(J31=TRUNC(J31),1,0),IF(AND(J31*1=J31,J31>=0),1,0),IF(AND(J31=TRUNC(J31),J31>=0),1,0),IF(AND(J31*1=J31,J31>0),1,0),IF(AND(J31=TRUNC(J31),J31>0),1,0),1,IF(ISNA(HLOOKUP(J31,$AV$4:$BE$4,1,0)),0,1)),0))) -> 1 | AY31: =IF(OR(K$30="",K$4=99),1,IF(K31="",0,IFERROR(CHOOSE(AY$28,IF(ISNA(MATCH(K31,$AS$30:$AT$30,0)),0,1),IF(ISNUMBER(K31),1,0),IF(K31=TRUNC(K31),1,0),IF(AND(K31*1=K31,K31>=0),1,0),IF(AND(K31=TRUNC(K31),K31>=0),1,0),IF(AND(K31*1=K31,K31>0),1,0),IF(AND(K31=TRUNC(K31),K31>0),1,0),1,IF(ISNA(HLOOKUP(K31,$AV$4:$BE$4,1,0)),0,1)),0))) -> 1 | AZ31: =IF(OR(L$30="",L$4=99),1,IF(L31="",0,IFERROR(CHOOSE(AZ$28,IF(ISNA(MATCH(L31,$AS$30:$AT$30,0)),0,1),IF(ISNUMBER(L31),1,0),IF(L31=TRUNC(L31),1,0),IF(AND(L31*1=L31,L31>=0),1,0),IF(AND(L31=TRUNC(L31),L31>=0),1,0),IF(AND(L31*1=L31,L31>0),1,0),IF(AND(L31=TRUNC(L31),L31>0),1,0),1,IF(ISNA(HLOOKUP(L31,$AV$4:$BE$4,1,0)),0,1)),0))) -> 1 | BA31: =IF(OR(M$30="",M$4=99),1,IF(M31="",0,IFERROR(CHOOSE(BA$28,IF(ISNA(MATCH(M31,$AS$30:$AT$30,0)),0,1),IF(ISNUMBER(M31),1,0),IF(M31=TRUNC(M31),1,0),IF(AND(M31*1=M31,M31>=0),1,0),IF(AND(M31=TRUNC(M31),M31>=0),1,0),IF(AND(M31*1=M31,M31>0),1,0),IF(AND(M31=TRUNC(M31),M31>0),1,0),1,IF(ISNA(HLOOKUP(M31,$AV$4:$BE$4,1,0)),0,1)),0))) -> 1 | BB31: =IF(OR(N$30="",N$4=99),1,IF(N31="",0,IFERROR(CHOOSE(BB$28,IF(ISNA(MATCH(N31,$AS$30:$AT$30,0)),0,1),IF(ISNUMBER(N31),1,0),IF(N31=TRUNC(N31),1,0),IF(AND(N31*1=N31,N31>=0),1,0),IF(AND(N31=TRUNC(N31),N31>=0),1,0),IF(AND(N31*1=N31,N31>0),1,0),IF(AND(N31=TRUNC(N31),N31>0),1,0),1,IF(ISNA(HLOOKUP(N31,$AV$4:$BE$4,1,0)),0,1)),0))) -> 1 | ... BF31: =IF(OR(R$30="",R$4=99),1,IF(R31="",0,IFERROR(CHOOSE(BF$28,IF(ISNA(MATCH(R31,$AS$30:$AT$30,0)),0,1),IF(ISNUMBER(R31),1,0),IF(R31=TRUNC(R31),1,0),IF(AND(R31*1=R31,R31>=0),1,0),IF(AND(R31=TRUNC(R31),R31>=0),1,0),IF(AND(R31*1=R31,R31>0),1,0),IF(AND(R31=TRUNC(R31),R31>0),1,0),1,IF(ISNA(HLOOKUP(R31,$AV$4:$BE$4,1,0)),0,1)),0))) -> 1 | BG31: =IF(OR(S$30="",S$4=99),1,IF(S31="",0,IFERROR(CHOOSE(BF$28,IF(ISNA(MATCH(S31,$AS$30:$AT$30,0)),0,1),IF(ISNUMBER(S31),1,0),IF(S31=TRUNC(S31),1,0),IF(AND(S31*1=S31,S31>=0),1,0),IF(AND(S31=TRUNC(S31),S31>=0),1,0),IF(AND(S31*1=S31,S31>0),1,0),IF(AND(S31=TRUNC(S31),S31>0),1,0),1,IF(ISNA(HLOOKUP(S31,$AV$4:$BE$4,1,0)),0,1)),0))) -> 1 | BH31: =IF(OR(T$30="",T$4=99),1,IF(T31="",0,IFERROR(CHOOSE(BG$28,IF(ISNA(MATCH(T31,$AS$30:$AT$30,0)),0,1),IF(ISNUMBER(T31),1,0),IF(T31=TRUNC(T31),1,0),IF(AND(T31*1=T31,T31>=0),1,0),IF(AND(T31=TRUNC(T31),T31>=0),1,0),IF(AND(T31*1=T31,T31>0),1,0),IF(AND(T31=TRUNC(T31),T31>0),1,0),1,IF(ISNA(HLOOKUP(T31,$AV$4:$BE$4,1,0)),0,1)),0))) -> 1 | BI31: =IF(OR(U$30="",U$4=99),1,IF(U31="",0,IFERROR(CHOOSE(BH$28,IF(ISNA(MATCH(U31,$AS$30:$AT$30,0)),0,1),IF(ISNUMBER(U31),1,0),IF(U31=TRUNC(U31),1,0),IF(AND(U31*1=U31,U31>=0),1,0),IF(AND(U31=TRUNC(U31),U31>=0),1,0),IF(AND(U31*1=U31,U31>0),1,0),IF(AND(U31=TRUNC(U31),U31>0),1,0),1,IF(ISNA(HLOOKUP(U31,$AV$4:$BE$4,1,0)),0,1)),0))) -> 1 | BJ31: =IF(OR(V$30="",V$4=99),1,IF(V31="",0,IFERROR(CHOOSE(BI$28,IF(ISNA(MATCH(V31,$AS$30:$AT$30,0)),0,1),IF(ISNUMBER(V31),1,0),IF(V31=TRUNC(V31),1,0),IF(AND(V31*1=V31,V31>=0),1,0),IF(AND(V31=TRUNC(V31),V31>=0),1,0),IF(AND(V31*1=V31,V31>0),1,0),IF(AND(V31=TRUNC(V31),V31>0),1,0),1,IF(ISNA(HLOOKUP(V31,$AV$4:$BE$4,1,0)),0,1)),0))) -> 1 | BK31: =IF(OR(W$30="",W$4=99),1,IF(W31="",0,IFERROR(CHOOSE(BJ$28,IF(ISNA(MATCH(W31,$AS$30:$AT$30,0)),0,1),IF(ISNUMBER(W31),1,0),IF(W31=TRUNC(W31),1,0),IF(AND(W31*1=W31,W31>=0),1,0),IF(AND(W31=TRUNC(W31),W31>=0),1,0),IF(AND(W31*1=W31,W31>0),1,0),IF(AND(W31=TRUNC(W31),W31>0),1,0),1,IF(ISNA(HLOOKUP(W31,$AV$4:$BE$4,1,0)),0,1)),0))) -> 1 | BL31: =IF(OR(X$30="",X$4=99),1,IF(X31="",0,IFERROR(CHOOSE(BK$28,IF(ISNA(MATCH(X31,$AS$30:$AT$30,0)),0,1),IF(ISNUMBER(X31),1,0),IF(X31=TRUNC(X31),1,0),IF(AND(X31*1=X31,X31>=0),1,0),IF(AND(X31=TRUNC(X31),X31>=0),1,0),IF(AND(X31*1=X31,X31>0),1,0),IF(AND(X31=TRUNC(X31),X31>0),1,0),1,IF(ISNA(HLOOKUP(X31,$AV$4:$BE$4,1,0)),0,1)),0))) -> 1 | BM31: =IF(OR(Y$30="",Y$4=99),1,IF(Y31="",0,IFERROR(CHOOSE(BL$28,IF(ISNA(MATCH(Y31,$AS$30:$AT$30,0)),0,1),IF(ISNUMBER(Y31),1,0),IF(Y31=TRUNC(Y31),1,0),IF(AND(Y31*1=Y31,Y31>=0),1,0),IF(AND(Y31=TRUNC(Y31),Y31>=0),1,0),IF(AND(Y31*1=Y31,Y31>0),1,0),IF(AND(Y31=TRUNC(Y31),Y31>0),1,0),1,IF(ISNA(HLOOKUP(Y31,$AV$4:$BE$4,1,0)),0,1)),0))) -> 1 | BN31: =IF(OR(Z$30="",Z$4=99),1,IF(Z31="",0,IFERROR(CHOOSE(BM$28,IF(ISNA(MATCH(Z31,$AS$30:$AT$30,0)),0,1),IF(ISNUMBER(Z31),1,0),IF(Z31=TRUNC(Z31),1,0),IF(AND(Z31*1=Z31,Z31>=0),1,0),IF(AND(Z31=TRUNC(Z31),Z31>=0),1,0),IF(AND(Z31*1=Z31,Z31>0),1,0),IF(AND(Z31=TRUNC(Z31),Z31>0),1,0),1,IF(ISNA(HLOOKUP(Z31,$AV$4:$BE$4,1,0)),0,1)),0))) -> 1 | ... BT31: =IF(OR(AF$30="",AF$4=99),1,IF(AF31="",0,IFERROR(CHOOSE(BS$28,IF(ISNA(MATCH(AF31,$AS$30:$AT$30,0)),0,1),IF(ISNUMBER(AF31),1,0),IF(AF31=TRUNC(AF31),1,0),IF(AND(AF31*1=AF31,AF31>=0),1,0),IF(AND(AF31=TRUNC(AF31),AF31>=0),1,0),IF(AND(AF31*1=AF31,AF31>0),1,0),IF(AND(AF31=TRUNC(AF31),AF31>0),1,0),1,IF(ISNA(HLOOKUP(AF31,$AV$4:$BE$4,1,0)),0,1)),0))) -> 1 | BU31: =IF(OR(AH$30="",AH$4=99),1,IF(AH31="",0,IFERROR(CHOOSE(BT$28,IF(ISNA(MATCH(AH31,$AS$30:$AT$30,0)),0,1),IF(ISNUMBER(AH31),1,0),IF(AH31=TRUNC(AH31),1,0),IF(AND(AH31*1=AH31,AH31>=0),1,0),IF(AND(AH31=TRUNC(AH31),AH31>=0),1,0),IF(AND(AH31*1=AH31,AH31>0),1,0),IF(AND(AH31=TRUNC(AH31),AH31>0),1,0),1,IF(ISNA(HLOOKUP(AH31,$AV$4:$BE$4,1,0)),0,1)),0))) -> 1 | BV31: =IF(OR(AI$30="",AI$4=99),1,IF(AI31="",0,IFERROR(CHOOSE(BU$28,IF(ISNA(MATCH(AI31,$AS$30:$AT$30,0)),0,1),IF(ISNUMBER(AI31),1,0),IF(AI31=TRUNC(AI31),1,0),IF(AND(AI31*1=AI31,AI31>=0),1,0),IF(AND(AI31=TRUNC(AI31),AI31>=0),1,0),IF(AND(AI31*1=AI31,AI31>0),1,0),IF(AND(AI31=TRUNC(AI31),AI31>0),1,0),1,IF(ISNA(HLOOKUP(AI31,$AV$4:$BE$4,1,0)),0,1)),0))) -> 1 | BW31: =IF(OR(AJ$30="",AJ$4=99),1,IF(AJ31="",0,IFERROR(CHOOSE(BV$28,IF(ISNA(MATCH(AJ31,$AS$30:$AT$30,0)),0,1),IF(ISNUMBER(AJ31),1,0),IF(AJ31=TRUNC(AJ31),1,0),IF(AND(AJ31*1=AJ31,AJ31>=0),1,0),IF(AND(AJ31=TRUNC(AJ31),AJ31>=0),1,0),IF(AND(AJ31*1=AJ31,AJ31>0),1,0),IF(AND(AJ31=TRUNC(AJ31),AJ31>0),1,0),1,IF(ISNA(HLOOKUP(AJ31,$AV$4:$BE$4,1,0)),0,1)),0))) -> 1 | BX31: =IF(OR(AK$30="",AK$4=99),1,IF(AK31="",0,IFERROR(CHOOSE(BW$28,IF(ISNA(MATCH(AK31,$AS$30:$AT$30,0)),0,1),IF(ISNUMBER(AK31),1,0),IF(AK31=TRUNC(AK31),1,0),IF(AND(AK31*1=AK31,AK31>=0),1,0),IF(AND(AK31=TRUNC(AK31),AK31>=0),1,0),IF(AND(AK31*1=AK31,AK31>0),1,0),IF(AND(AK31=TRUNC(AK31),AK31>0),1,0),1,IF(ISNA(HLOOKUP(AK31,$AV$4:$BE$4,1,0)),0,1)),0))) -> 1 | BY31: =IF(OR(AL$30="",AL$4=99),1,IF(AL31="",0,IFERROR(CHOOSE(BX$28,IF(ISNA(MATCH(AL31,$AS$30:$AT$30,0)),0,1),IF(ISNUMBER(AL31),1,0),IF(AL31=TRUNC(AL31),1,0),IF(AND(AL31*1=AL31,AL31>=0),1,0),IF(AND(AL31=TRUNC(AL31),AL31>=0),1,0),IF(AND(AL31*1=AL31,AL31>0),1,0),IF(AND(AL31=TRUNC(AL31),AL31>0),1,0),1,IF(ISNA(HLOOKUP(AL31,$AV$4:$BE$4,1,0)),0,1)),0))) -> 1 | BZ31: =IF(OR(AM$30="",AM$4=99),1,IF(AM31="",0,IFERROR(CHOOSE(BY$28,IF(ISNA(MATCH(AM31,$AS$30:$AT$30,0)),0,1),IF(ISNUMBER(AM31),1,0),IF(AM31=TRUNC(AM31),1,0),IF(AND(AM31*1=AM31,AM31>=0),1,0),IF(AND(AM31=TRUNC(AM31),AM31>=0),1,0),IF(AND(AM31*1=AM31,AM31>0),1,0),IF(AND(AM31=TRUNC(AM31),AM31>0),1,0),1,IF(ISNA(HLOOKUP(AM31,$AV$4:$BE$4,1,0)),0,1)),0))) -> 1 | CA31: =IF(OR(AN$30="",AN$4=99),1,IF(AN31="",0,IFERROR(CHOOSE(BZ$28,IF(ISNA(MATCH(AN31,$AS$30:$AT$30,0)),0,1),IF(ISNUMBER(AN31),1,0),IF(AN31=TRUNC(AN31),1,0),IF(AND(AN31*1=AN31,AN31>=0),1,0),IF(AND(AN31=TRUNC(AN31),AN31>=0),1,0),IF(AND(AN31*1=AN31,AN31>0),1,0),IF(AND(AN31=TRUNC(AN31),AN31>0),1,0),1,IF(ISNA(HLOOKUP(AN31,$AV$4:$BE$4,1,0)),0,1)),0))) -> 1 | CB31: =IF(OR(AO$30="",AO$4=99),1,IF(AO31="",0,IFERROR(CHOOSE(CA$28,IF(ISNA(MATCH(AO31,$AS$30:$AT$30,0)),0,1),IF(ISNUMBER(AO31),1,0),IF(AO31=TRUNC(AO31),1,0),IF(AND(AO31*1=AO31,AO31>=0),1,0),IF(AND(AO31=TRUNC(AO31),AO31>=0),1,0),IF(AND(AO31*1=AO31,AO31>0),1,0),IF(AND(AO31=TRUNC(AO31),AO31>0),1,0),1,IF(ISNA(HLOOKUP(AO31,$AV$4:$BE$4,1,0)),0,1)),0))) -> 1 | CC31: =IF(OR(AP$30="",AP$4=99),1,IF(AP31="",0,IFERROR(CHOOSE(CB$28,IF(ISNA(MATCH(AP31,$AS$30:$AT$30,0)),0,1),IF(ISNUMBER(AP31),1,0),IF(AP31=TRUNC(AP31),1,0),IF(AND(AP31*1=AP31,AP31>=0),1,0),IF(AND(AP31=TRUNC(AP31),AP31>=0),1,0),IF(AND(AP31*1=AP31,AP31>0),1,0),IF(AND(AP31=TRUNC(AP31),AP31>0),1,0),1,IF(ISNA(HLOOKUP(AP31,$AV$4:$BE$4,1,0)),0,1)),0))) -> 1 | CH31: =IF($F31="","",CH$30) -> 1 | CI31: =IF($F31="","",CI$30) -> 2 | CJ31: =IF($F31="","",CJ$30) -> 3 | CK31: =IF($F31="","",CK$30) -> 4 | CL31: =IF($F31="","",CL$30) -> 5 | CM31: =IF($F31="","",CM$30) -> 6 | CN31: =IF($F31="","",CN$30) -> 7 | CO31: =IF($F31="","",CO$30) -> 8 | ... CQ31: =IF($F31="","",CQ$30) -> 10 | CW31: =W31>=CV$5 -> TRUE | CX31: =X31>=CW$5 -> FALSE | CY31: =Y31>=CX$5 -> TRUE | DC31: =COUNTIF(CW31:DA31,TRUE) -> 2 | DD31: =W31>=DC$5 -> TRUE | DE31: =X31>=DD$5 -> FALSE | DF31: =Y31>=DE$5 -> TRUE | DK31: =COUNTIF(DD31:DJ31,TRUE) -> 2 | DL31: =IF($F31="","",IF(DC31=$CW$3,1,0)) -> 0 | DM31: =IF($F31="","",IF(AND(DK31=$CW$3,DK31-DC31<=$DD$3),1,0)) -> 0
B32: =IF(F32="","",ROW()-30) -> 2 | F32: רנה שינפלד | G32: 1 | H32: 1 | I32: 1 | J32: 1 | K32: 1 | L32: 1 | M32: 1 | N32: 1 | O32: 1 | P32: 1 | Q32: 1 | R32: 1 | S32: 1 | T32: 0 | U32: 0 | V32: 1 | W32: 0 | X32: 0 | Y32: 0 | Z32: =IF(F32="","",IF(AND(S32=1,T32=1),$AS$1,IF(OR(S32=1,AND(T32=1,U32=1,V32=1,W32=1,X32=1,Y32=1)),1,0))) -> 1 | AA32: 1 | AB32: כן | AC32: 1 | AD32: 1 | AE32: 1 | AF32: =IF($F32="","",IF(OR(DL32=1,AND(DM32=1,AA32=1)),1,0)) -> 0 | AG32: 1 | AH32: =IF(F32="","",IF(AA32=1,1,IF(AND(AB32="לא",SUM(AC32:AD32)=2),1,IF(AND(AB32="כן",SUM(AC32:AE32)=3),1,0)))) -> 1 | AK32: =IF(F32="","",IF(G32>=$G$5,1,0)) -> 1 | AP32: =IF($F32="","",IF(AL32=1,1,IF(AR32<>1,$AS$1,IF(SUMPRODUCT(--(G32:AK32>=$G$5:$AK$5)*($G$5:$AK$5<>"")*($G$4:$AK$4=1))=COUNTIF($G$4:$AK$4,1),1,0)))) -> 1 | AR32: =IF(OR(SUM(AU32:CC32)<>COUNT(AU32:CC32),SUMPRODUCT(--(G32:AK32=$AS$1))<>0),0,1) -> 1 | AS32: =IF($F32="","",AS$30) -> 0 | AT32: =IF($F32="","",AT$30) -> 1 | AU32: =IF(OR(G$30="",G$4=99),1,IF(G32="",0,IFERROR(CHOOSE(AU$28,IF(ISNA(MATCH(G32,$AS$30:$AT$30,0)),0,1),IF(ISNUMBER(G32),1,0),IF(G32=TRUNC(G32),1,0),IF(AND(G32*1=G32,G32>=0),1,0),IF(AND(G32=TRUNC(G32),G32>=0),1,0),IF(AND(G32*1=G32,G32>0),1,0),IF(AND(G32=TRUNC(G32),G32>0),1,0),1,IF(ISNA(HLOOKUP(G32,$AV$4:$BE$4,1,0)),0,1)),0))) -> 1 | AV32: =IF(OR(H$30="",H$4=99),1,IF(H32="",0,IFERROR(CHOOSE(AV$28,IF(ISNA(MATCH(H32,$AS$30:$AT$30,0)),0,1),IF(ISNUMBER(H32),1,0),IF(H32=TRUNC(H32),1,0),IF(AND(H32*1=H32,H32>=0),1,0),IF(AND(H32=TRUNC(H32),H32>=0),1,0),IF(AND(H32*1=H32,H32>0),1,0),IF(AND(H32=TRUNC(H32),H32>0),1,0),1,IF(ISNA(HLOOKUP(H32,$AV$4:$BE$4,1,0)),0,1)),0))) -> 1 | AW32: =IF(OR(I$30="",I$4=99),1,IF(I32="",0,IFERROR(CHOOSE(AW$28,IF(ISNA(MATCH(I32,$AS$30:$AT$30,0)),0,1),IF(ISNUMBER(I32),1,0),IF(I32=TRUNC(I32),1,0),IF(AND(I32*1=I32,I32>=0),1,0),IF(AND(I32=TRUNC(I32),I32>=0),1,0),IF(AND(I32*1=I32,I32>0),1,0),IF(AND(I32=TRUNC(I32),I32>0),1,0),1,IF(ISNA(HLOOKUP(I32,$AV$4:$BE$4,1,0)),0,1)),0))) -> 1 | AX32: =IF(OR(J$30="",J$4=99),1,IF(J32="",0,IFERROR(CHOOSE(AX$28,IF(ISNA(MATCH(J32,$AS$30:$AT$30,0)),0,1),IF(ISNUMBER(J32),1,0),IF(J32=TRUNC(J32),1,0),IF(AND(J32*1=J32,J32>=0),1,0),IF(AND(J32=TRUNC(J32),J32>=0),1,0),IF(AND(J32*1=J32,J32>0),1,0),IF(AND(J32=TRUNC(J32),J32>0),1,0),1,IF(ISNA(HLOOKUP(J32,$AV$4:$BE$4,1,0)),0,1)),0))) -> 1 | AY32: =IF(OR(K$30="",K$4=99),1,IF(K32="",0,IFERROR(CHOOSE(AY$28,IF(ISNA(MATCH(K32,$AS$30:$AT$30,0)),0,1),IF(ISNUMBER(K32),1,0),IF(K32=TRUNC(K32),1,0),IF(AND(K32*1=K32,K32>=0),1,0),IF(AND(K32=TRUNC(K32),K32>=0),1,0),IF(AND(K32*1=K32,K32>0),1,0),IF(AND(K32=TRUNC(K32),K32>0),1,0),1,IF(ISNA(HLOOKUP(K32,$AV$4:$BE$4,1,0)),0,1)),0))) -> 1 | AZ32: =IF(OR(L$30="",L$4=99),1,IF(L32="",0,IFERROR(CHOOSE(AZ$28,IF(ISNA(MATCH(L32,$AS$30:$AT$30,0)),0,1),IF(ISNUMBER(L32),1,0),IF(L32=TRUNC(L32),1,0),IF(AND(L32*1=L32,L32>=0),1,0),IF(AND(L32=TRUNC(L32),L32>=0),1,0),IF(AND(L32*1=L32,L32>0),1,0),IF(AND(L32=TRUNC(L32),L32>0),1,0),1,IF(ISNA(HLOOKUP(L32,$AV$4:$BE$4,1,0)),0,1)),0))) -> 1 | BA32: =IF(OR(M$30="",M$4=99),1,IF(M32="",0,IFERROR(CHOOSE(BA$28,IF(ISNA(MATCH(M32,$AS$30:$AT$30,0)),0,1),IF(ISNUMBER(M32),1,0),IF(M32=TRUNC(M32),1,0),IF(AND(M32*1=M32,M32>=0),1,0),IF(AND(M32=TRUNC(M32),M32>=0),1,0),IF(AND(M32*1=M32,M32>0),1,0),IF(AND(M32=TRUNC(M32),M32>0),1,0),1,IF(ISNA(HLOOKUP(M32,$AV$4:$BE$4,1,0)),0,1)),0))) -> 1 | BB32: =IF(OR(N$30="",N$4=99),1,IF(N32="",0,IFERROR(CHOOSE(BB$28,IF(ISNA(MATCH(N32,$AS$30:$AT$30,0)),0,1),IF(ISNUMBER(N32),1,0),IF(N32=TRUNC(N32),1,0),IF(AND(N32*1=N32,N32>=0),1,0),IF(AND(N32=TRUNC(N32),N32>=0),1,0),IF(AND(N32*1=N32,N32>0),1,0),IF(AND(N32=TRUNC(N32),N32>0),1,0),1,IF(ISNA(HLOOKUP(N32,$AV$4:$BE$4,1,0)),0,1)),0))) -> 1 | ... BF32: =IF(OR(R$30="",R$4=99),1,IF(R32="",0,IFERROR(CHOOSE(BF$28,IF(ISNA(MATCH(R32,$AS$30:$AT$30,0)),0,1),IF(ISNUMBER(R32),1,0),IF(R32=TRUNC(R32),1,0),IF(AND(R32*1=R32,R32>=0),1,0),IF(AND(R32=TRUNC(R32),R32>=0),1,0),IF(AND(R32*1=R32,R32>0),1,0),IF(AND(R32=TRUNC(R32),R32>0),1,0),1,IF(ISNA(HLOOKUP(R32,$AV$4:$BE$4,1,0)),0,1)),0))) -> 1 | BG32: =IF(OR(S$30="",S$4=99),1,IF(S32="",0,IFERROR(CHOOSE(BF$28,IF(ISNA(MATCH(S32,$AS$30:$AT$30,0)),0,1),IF(ISNUMBER(S32),1,0),IF(S32=TRUNC(S32),1,0),IF(AND(S32*1=S32,S32>=0),1,0),IF(AND(S32=TRUNC(S32),S32>=0),1,0),IF(AND(S32*1=S32,S32>0),1,0),IF(AND(S32=TRUNC(S32),S32>0),1,0),1,IF(ISNA(HLOOKUP(S32,$AV$4:$BE$4,1,0)),0,1)),0))) -> 1 | BH32: =IF(OR(T$30="",T$4=99),1,IF(T32="",0,IFERROR(CHOOSE(BG$28,IF(ISNA(MATCH(T32,$AS$30:$AT$30,0)),0,1),IF(ISNUMBER(T32),1,0),IF(T32=TRUNC(T32),1,0),IF(AND(T32*1=T32,T32>=0),1,0),IF(AND(T32=TRUNC(T32),T32>=0),1,0),IF(AND(T32*1=T32,T32>0),1,0),IF(AND(T32=TRUNC(T32),T32>0),1,0),1,IF(ISNA(HLOOKUP(T32,$AV$4:$BE$4,1,0)),0,1)),0))) -> 1 | BI32: =IF(OR(U$30="",U$4=99),1,IF(U32="",0,IFERROR(CHOOSE(BH$28,IF(ISNA(MATCH(U32,$AS$30:$AT$30,0)),0,1),IF(ISNUMBER(U32),1,0),IF(U32=TRUNC(U32),1,0),IF(AND(U32*1=U32,U32>=0),1,0),IF(AND(U32=TRUNC(U32),U32>=0),1,0),IF(AND(U32*1=U32,U32>0),1,0),IF(AND(U32=TRUNC(U32),U32>0),1,0),1,IF(ISNA(HLOOKUP(U32,$AV$4:$BE$4,1,0)),0,1)),0))) -> 1 | BJ32: =IF(OR(V$30="",V$4=99),1,IF(V32="",0,IFERROR(CHOOSE(BI$28,IF(ISNA(MATCH(V32,$AS$30:$AT$30,0)),0,1),IF(ISNUMBER(V32),1,0),IF(V32=TRUNC(V32),1,0),IF(AND(V32*1=V32,V32>=0),1,0),IF(AND(V32=TRUNC(V32),V32>=0),1,0),IF(AND(V32*1=V32,V32>0),1,0),IF(AND(V32=TRUNC(V32),V32>0),1,0),1,IF(ISNA(HLOOKUP(V32,$AV$4:$BE$4,1,0)),0,1)),0))) -> 1 | BK32: =IF(OR(W$30="",W$4=99),1,IF(W32="",0,IFERROR(CHOOSE(BJ$28,IF(ISNA(MATCH(W32,$AS$30:$AT$30,0)),0,1),IF(ISNUMBER(W32),1,0),IF(W32=TRUNC(W32),1,0),IF(AND(W32*1=W32,W32>=0),1,0),IF(AND(W32=TRUNC(W32),W32>=0),1,0),IF(AND(W32*1=W32,W32>0),1,0),IF(AND(W32=TRUNC(W32),W32>0),1,0),1,IF(ISNA(HLOOKUP(W32,$AV$4:$BE$4,1,0)),0,1)),0))) -> 1 | BL32: =IF(OR(X$30="",X$4=99),1,IF(X32="",0,IFERROR(CHOOSE(BK$28,IF(ISNA(MATCH(X32,$AS$30:$AT$30,0)),0,1),IF(ISNUMBER(X32),1,0),IF(X32=TRUNC(X32),1,0),IF(AND(X32*1=X32,X32>=0),1,0),IF(AND(X32=TRUNC(X32),X32>=0),1,0),IF(AND(X32*1=X32,X32>0),1,0),IF(AND(X32=TRUNC(X32),X32>0),1,0),1,IF(ISNA(HLOOKUP(X32,$AV$4:$BE$4,1,0)),0,1)),0))) -> 1 | BM32: =IF(OR(Y$30="",Y$4=99),1,IF(Y32="",0,IFERROR(CHOOSE(BL$28,IF(ISNA(MATCH(Y32,$AS$30:$AT$30,0)),0,1),IF(ISNUMBER(Y32),1,0),IF(Y32=TRUNC(Y32),1,0),IF(AND(Y32*1=Y32,Y32>=0),1,0),IF(AND(Y32=TRUNC(Y32),Y32>=0),1,0),IF(AND(Y32*1=Y32,Y32>0),1,0),IF(AND(Y32=TRUNC(Y32),Y32>0),1,0),1,IF(ISNA(HLOOKUP(Y32,$AV$4:$BE$4,1,0)),0,1)),0))) -> 1 | BN32: =IF(OR(Z$30="",Z$4=99),1,IF(Z32="",0,IFERROR(CHOOSE(BM$28,IF(ISNA(MATCH(Z32,$AS$30:$AT$30,0)),0,1),IF(ISNUMBER(Z32),1,0),IF(Z32=TRUNC(Z32),1,0),IF(AND(Z32*1=Z32,Z32>=0),1,0),IF(AND(Z32=TRUNC(Z32),Z32>=0),1,0),IF(AND(Z32*1=Z32,Z32>0),1,0),IF(AND(Z32=TRUNC(Z32),Z32>0),1,0),1,IF(ISNA(HLOOKUP(Z32,$AV$4:$BE$4,1,0)),0,1)),0))) -> 1 | ... BT32: =IF(OR(AF$30="",AF$4=99),1,IF(AF32="",0,IFERROR(CHOOSE(BS$28,IF(ISNA(MATCH(AF32,$AS$30:$AT$30,0)),0,1),IF(ISNUMBER(AF32),1,0),IF(AF32=TRUNC(AF32),1,0),IF(AND(AF32*1=AF32,AF32>=0),1,0),IF(AND(AF32=TRUNC(AF32),AF32>=0),1,0),IF(AND(AF32*1=AF32,AF32>0),1,0),IF(AND(AF32=TRUNC(AF32),AF32>0),1,0),1,IF(ISNA(HLOOKUP(AF32,$AV$4:$BE$4,1,0)),0,1)),0))) -> 1 | BU32: =IF(OR(AH$30="",AH$4=99),1,IF(AH32="",0,IFERROR(CHOOSE(BT$28,IF(ISNA(MATCH(AH32,$AS$30:$AT$30,0)),0,1),IF(ISNUMBER(AH32),1,0),IF(AH32=TRUNC(AH32),1,0),IF(AND(AH32*1=AH32,AH32>=0),1,0),IF(AND(AH32=TRUNC(AH32),AH32>=0),1,0),IF(AND(AH32*1=AH32,AH32>0),1,0),IF(AND(AH32=TRUNC(AH32),AH32>0),1,0),1,IF(ISNA(HLOOKUP(AH32,$AV$4:$BE$4,1,0)),0,1)),0))) -> 1 | BV32: =IF(OR(AI$30="",AI$4=99),1,IF(AI32="",0,IFERROR(CHOOSE(BU$28,IF(ISNA(MATCH(AI32,$AS$30:$AT$30,0)),0,1),IF(ISNUMBER(AI32),1,0),IF(AI32=TRUNC(AI32),1,0),IF(AND(AI32*1=AI32,AI32>=0),1,0),IF(AND(AI32=TRUNC(AI32),AI32>=0),1,0),IF(AND(AI32*1=AI32,AI32>0),1,0),IF(AND(AI32=TRUNC(AI32),AI32>0),1,0),1,IF(ISNA(HLOOKUP(AI32,$AV$4:$BE$4,1,0)),0,1)),0))) -> 1 | BW32: =IF(OR(AJ$30="",AJ$4=99),1,IF(AJ32="",0,IFERROR(CHOOSE(BV$28,IF(ISNA(MATCH(AJ32,$AS$30:$AT$30,0)),0,1),IF(ISNUMBER(AJ32),1,0),IF(AJ32=TRUNC(AJ32),1,0),IF(AND(AJ32*1=AJ32,AJ32>=0),1,0),IF(AND(AJ32=TRUNC(AJ32),AJ32>=0),1,0),IF(AND(AJ32*1=AJ32,AJ32>0),1,0),IF(AND(AJ32=TRUNC(AJ32),AJ32>0),1,0),1,IF(ISNA(HLOOKUP(AJ32,$AV$4:$BE$4,1,0)),0,1)),0))) -> 1 | BX32: =IF(OR(AK$30="",AK$4=99),1,IF(AK32="",0,IFERROR(CHOOSE(BW$28,IF(ISNA(MATCH(AK32,$AS$30:$AT$30,0)),0,1),IF(ISNUMBER(AK32),1,0),IF(AK32=TRUNC(AK32),1,0),IF(AND(AK32*1=AK32,AK32>=0),1,0),IF(AND(AK32=TRUNC(AK32),AK32>=0),1,0),IF(AND(AK32*1=AK32,AK32>0),1,0),IF(AND(AK32=TRUNC(AK32),AK32>0),1,0),1,IF(ISNA(HLOOKUP(AK32,$AV$4:$BE$4,1,0)),0,1)),0))) -> 1 | BY32: =IF(OR(AL$30="",AL$4=99),1,IF(AL32="",0,IFERROR(CHOOSE(BX$28,IF(ISNA(MATCH(AL32,$AS$30:$AT$30,0)),0,1),IF(ISNUMBER(AL32),1,0),IF(AL32=TRUNC(AL32),1,0),IF(AND(AL32*1=AL32,AL32>=0),1,0),IF(AND(AL32=TRUNC(AL32),AL32>=0),1,0),IF(AND(AL32*1=AL32,AL32>0),1,0),IF(AND(AL32=TRUNC(AL32),AL32>0),1,0),1,IF(ISNA(HLOOKUP(AL32,$AV$4:$BE$4,1,0)),0,1)),0))) -> 1 | BZ32: =IF(OR(AM$30="",AM$4=99),1,IF(AM32="",0,IFERROR(CHOOSE(BY$28,IF(ISNA(MATCH(AM32,$AS$30:$AT$30,0)),0,1),IF(ISNUMBER(AM32),1,0),IF(AM32=TRUNC(AM32),1,0),IF(AND(AM32*1=AM32,AM32>=0),1,0),IF(AND(AM32=TRUNC(AM32),AM32>=0),1,0),IF(AND(AM32*1=AM32,AM32>0),1,0),IF(AND(AM32=TRUNC(AM32),AM32>0),1,0),1,IF(ISNA(HLOOKUP(AM32,$AV$4:$BE$4,1,0)),0,1)),0))) -> 1 | CA32: =IF(OR(AN$30="",AN$4=99),1,IF(AN32="",0,IFERROR(CHOOSE(BZ$28,IF(ISNA(MATCH(AN32,$AS$30:$AT$30,0)),0,1),IF(ISNUMBER(AN32),1,0),IF(AN32=TRUNC(AN32),1,0),IF(AND(AN32*1=AN32,AN32>=0),1,0),IF(AND(AN32=TRUNC(AN32),AN32>=0),1,0),IF(AND(AN32*1=AN32,AN32>0),1,0),IF(AND(AN32=TRUNC(AN32),AN32>0),1,0),1,IF(ISNA(HLOOKUP(AN32,$AV$4:$BE$4,1,0)),0,1)),0))) -> 1 | CB32: =IF(OR(AO$30="",AO$4=99),1,IF(AO32="",0,IFERROR(CHOOSE(CA$28,IF(ISNA(MATCH(AO32,$AS$30:$AT$30,0)),0,1),IF(ISNUMBER(AO32),1,0),IF(AO32=TRUNC(AO32),1,0),IF(AND(AO32*1=AO32,AO32>=0),1,0),IF(AND(AO32=TRUNC(AO32),AO32>=0),1,0),IF(AND(AO32*1=AO32,AO32>0),1,0),IF(AND(AO32=TRUNC(AO32),AO32>0),1,0),1,IF(ISNA(HLOOKUP(AO32,$AV$4:$BE$4,1,0)),0,1)),0))) -> 1 | CC32: =IF(OR(AP$30="",AP$4=99),1,IF(AP32="",0,IFERROR(CHOOSE(CB$28,IF(ISNA(MATCH(AP32,$AS$30:$AT$30,0)),0,1),IF(ISNUMBER(AP32),1,0),IF(AP32=TRUNC(AP32),1,0),IF(AND(AP32*1=AP32,AP32>=0),1,0),IF(AND(AP32=TRUNC(AP32),AP32>=0),1,0),IF(AND(AP32*1=AP32,AP32>0),1,0),IF(AND(AP32=TRUNC(AP32),AP32>0),1,0),1,IF(ISNA(HLOOKUP(AP32,$AV$4:$BE$4,1,0)),0,1)),0))) -> 1 | CH32: =IF($F32="","",CH$30) -> 1 | CI32: =IF($F32="","",CI$30) -> 2 | CJ32: =IF($F32="","",CJ$30) -> 3 | CK32: =IF($F32="","",CK$30) -> 4 | CL32: =IF($F32="","",CL$30) -> 5 | CM32: =IF($F32="","",CM$30) -> 6 | CN32: =IF($F32="","",CN$30) -> 7 | CO32: =IF($F32="","",CO$30) -> 8 | ... CQ32: =IF($F32="","",CQ$30) -> 10 | CW32: =W32>=CV$5 -> FALSE | CX32: =X32>=CW$5 -> FALSE | CY32: =Y32>=CX$5 -> TRUE | DC32: =COUNTIF(CW32:DA32,TRUE) -> 1 | DD32: =W32>=DC$5 -> FALSE | DE32: =X32>=DD$5 -> FALSE | DF32: =Y32>=DE$5 -> TRUE | DK32: =COUNTIF(DD32:DJ32,TRUE) -> 1 | DM32: =IF($F32="","",IF(AND(DK32=$CW$3,DK32-DC32<=$DD$3),1,0)) -> 0
B33: =IF(F33="","",ROW()-30) -> 3 | F33: אבי קייזר וסרג'יו אנטוניניו | G33: 1 | H33: 1 | I33: 1 | J33: 1 | K33: 1 | L33: 1 | M33: 1 | N33: 1 | O33: 1 | P33: 1 | Q33: 1 | R33: 1 | S33: 0 | T33: 1 | U33: 1 | V33: 1 | W33: 1 | X33: 1 | Y33: 1 | Z33: =IF(F33="","",IF(AND(S33=1,T33=1),$AS$1,IF(OR(S33=1,AND(T33=1,U33=1,V33=1,W33=1,X33=1,Y33=1)),1,0))) -> 1 | AA33: 1 | AF33: =IF($F33="","",IF(OR(DL33=1,AND(DM33=1,AA33=1)),1,0)) -> 0 | AG33: 1 | AH33: =IF(F33="","",IF(AA33=1,1,IF(AND(AB33="לא",SUM(AC33:AD33)=2),1,IF(AND(AB33="כן",SUM(AC33:AE33)=3),1,0)))) -> 1 | AK33: =IF(F33="","",IF(G33>=$G$5,1,0)) -> 1 | AP33: =IF($F33="","",IF(AL33=1,1,IF(AR33<>1,$AS$1,IF(SUMPRODUCT(--(G33:AK33>=$G$5:$AK$5)*($G$5:$AK$5<>"")*($G$4:$AK$4=1))=COUNTIF($G$4:$AK$4,1),1,0)))) -> 1 | AR33: =IF(OR(SUM(AU33:CC33)<>COUNT(AU33:CC33),SUMPRODUCT(--(G33:AK33=$AS$1))<>0),0,1) -> 1 | AS33: =IF($F33="","",AS$30) -> 0 | AT33: =IF($F33="","",AT$30) -> 1 | AU33: =IF(OR(G$30="",G$4=99),1,IF(G33="",0,IFERROR(CHOOSE(AU$28,IF(ISNA(MATCH(G33,$AS$30:$AT$30,0)),0,1),IF(ISNUMBER(G33),1,0),IF(G33=TRUNC(G33),1,0),IF(AND(G33*1=G33,G33>=0),1,0),IF(AND(G33=TRUNC(G33),G33>=0),1,0),IF(AND(G33*1=G33,G33>0),1,0),IF(AND(G33=TRUNC(G33),G33>0),1,0),1,IF(ISNA(HLOOKUP(G33,$AV$4:$BE$4,1,0)),0,1)),0))) -> 1 | AV33: =IF(OR(H$30="",H$4=99),1,IF(H33="",0,IFERROR(CHOOSE(AV$28,IF(ISNA(MATCH(H33,$AS$30:$AT$30,0)),0,1),IF(ISNUMBER(H33),1,0),IF(H33=TRUNC(H33),1,0),IF(AND(H33*1=H33,H33>=0),1,0),IF(AND(H33=TRUNC(H33),H33>=0),1,0),IF(AND(H33*1=H33,H33>0),1,0),IF(AND(H33=TRUNC(H33),H33>0),1,0),1,IF(ISNA(HLOOKUP(H33,$AV$4:$BE$4,1,0)),0,1)),0))) -> 1 | AW33: =IF(OR(I$30="",I$4=99),1,IF(I33="",0,IFERROR(CHOOSE(AW$28,IF(ISNA(MATCH(I33,$AS$30:$AT$30,0)),0,1),IF(ISNUMBER(I33),1,0),IF(I33=TRUNC(I33),1,0),IF(AND(I33*1=I33,I33>=0),1,0),IF(AND(I33=TRUNC(I33),I33>=0),1,0),IF(AND(I33*1=I33,I33>0),1,0),IF(AND(I33=TRUNC(I33),I33>0),1,0),1,IF(ISNA(HLOOKUP(I33,$AV$4:$BE$4,1,0)),0,1)),0))) -> 1 | AX33: =IF(OR(J$30="",J$4=99),1,IF(J33="",0,IFERROR(CHOOSE(AX$28,IF(ISNA(MATCH(J33,$AS$30:$AT$30,0)),0,1),IF(ISNUMBER(J33),1,0),IF(J33=TRUNC(J33),1,0),IF(AND(J33*1=J33,J33>=0),1,0),IF(AND(J33=TRUNC(J33),J33>=0),1,0),IF(AND(J33*1=J33,J33>0),1,0),IF(AND(J33=TRUNC(J33),J33>0),1,0),1,IF(ISNA(HLOOKUP(J33,$AV$4:$BE$4,1,0)),0,1)),0))) -> 1 | AY33: =IF(OR(K$30="",K$4=99),1,IF(K33="",0,IFERROR(CHOOSE(AY$28,IF(ISNA(MATCH(K33,$AS$30:$AT$30,0)),0,1),IF(ISNUMBER(K33),1,0),IF(K33=TRUNC(K33),1,0),IF(AND(K33*1=K33,K33>=0),1,0),IF(AND(K33=TRUNC(K33),K33>=0),1,0),IF(AND(K33*1=K33,K33>0),1,0),IF(AND(K33=TRUNC(K33),K33>0),1,0),1,IF(ISNA(HLOOKUP(K33,$AV$4:$BE$4,1,0)),0,1)),0))) -> 1 | AZ33: =IF(OR(L$30="",L$4=99),1,IF(L33="",0,IFERROR(CHOOSE(AZ$28,IF(ISNA(MATCH(L33,$AS$30:$AT$30,0)),0,1),IF(ISNUMBER(L33),1,0),IF(L33=TRUNC(L33),1,0),IF(AND(L33*1=L33,L33>=0),1,0),IF(AND(L33=TRUNC(L33),L33>=0),1,0),IF(AND(L33*1=L33,L33>0),1,0),IF(AND(L33=TRUNC(L33),L33>0),1,0),1,IF(ISNA(HLOOKUP(L33,$AV$4:$BE$4,1,0)),0,1)),0))) -> 1 | BA33: =IF(OR(M$30="",M$4=99),1,IF(M33="",0,IFERROR(CHOOSE(BA$28,IF(ISNA(MATCH(M33,$AS$30:$AT$30,0)),0,1),IF(ISNUMBER(M33),1,0),IF(M33=TRUNC(M33),1,0),IF(AND(M33*1=M33,M33>=0),1,0),IF(AND(M33=TRUNC(M33),M33>=0),1,0),IF(AND(M33*1=M33,M33>0),1,0),IF(AND(M33=TRUNC(M33),M33>0),1,0),1,IF(ISNA(HLOOKUP(M33,$AV$4:$BE$4,1,0)),0,1)),0))) -> 1 | BB33: =IF(OR(N$30="",N$4=99),1,IF(N33="",0,IFERROR(CHOOSE(BB$28,IF(ISNA(MATCH(N33,$AS$30:$AT$30,0)),0,1),IF(ISNUMBER(N33),1,0),IF(N33=TRUNC(N33),1,0),IF(AND(N33*1=N33,N33>=0),1,0),IF(AND(N33=TRUNC(N33),N33>=0),1,0),IF(AND(N33*1=N33,N33>0),1,0),IF(AND(N33=TRUNC(N33),N33>0),1,0),1,IF(ISNA(HLOOKUP(N33,$AV$4:$BE$4,1,0)),0,1)),0))) -> 1 | ... BF33: =IF(OR(R$30="",R$4=99),1,IF(R33="",0,IFERROR(CHOOSE(BF$28,IF(ISNA(MATCH(R33,$AS$30:$AT$30,0)),0,1),IF(ISNUMBER(R33),1,0),IF(R33=TRUNC(R33),1,0),IF(AND(R33*1=R33,R33>=0),1,0),IF(AND(R33=TRUNC(R33),R33>=0),1,0),IF(AND(R33*1=R33,R33>0),1,0),IF(AND(R33=TRUNC(R33),R33>0),1,0),1,IF(ISNA(HLOOKUP(R33,$AV$4:$BE$4,1,0)),0,1)),0))) -> 1 | BG33: =IF(OR(S$30="",S$4=99),1,IF(S33="",0,IFERROR(CHOOSE(BF$28,IF(ISNA(MATCH(S33,$AS$30:$AT$30,0)),0,1),IF(ISNUMBER(S33),1,0),IF(S33=TRUNC(S33),1,0),IF(AND(S33*1=S33,S33>=0),1,0),IF(AND(S33=TRUNC(S33),S33>=0),1,0),IF(AND(S33*1=S33,S33>0),1,0),IF(AND(S33=TRUNC(S33),S33>0),1,0),1,IF(ISNA(HLOOKUP(S33,$AV$4:$BE$4,1,0)),0,1)),0))) -> 1 | BH33: =IF(OR(T$30="",T$4=99),1,IF(T33="",0,IFERROR(CHOOSE(BG$28,IF(ISNA(MATCH(T33,$AS$30:$AT$30,0)),0,1),IF(ISNUMBER(T33),1,0),IF(T33=TRUNC(T33),1,0),IF(AND(T33*1=T33,T33>=0),1,0),IF(AND(T33=TRUNC(T33),T33>=0),1,0),IF(AND(T33*1=T33,T33>0),1,0),IF(AND(T33=TRUNC(T33),T33>0),1,0),1,IF(ISNA(HLOOKUP(T33,$AV$4:$BE$4,1,0)),0,1)),0))) -> 1 | BI33: =IF(OR(U$30="",U$4=99),1,IF(U33="",0,IFERROR(CHOOSE(BH$28,IF(ISNA(MATCH(U33,$AS$30:$AT$30,0)),0,1),IF(ISNUMBER(U33),1,0),IF(U33=TRUNC(U33),1,0),IF(AND(U33*1=U33,U33>=0),1,0),IF(AND(U33=TRUNC(U33),U33>=0),1,0),IF(AND(U33*1=U33,U33>0),1,0),IF(AND(U33=TRUNC(U33),U33>0),1,0),1,IF(ISNA(HLOOKUP(U33,$AV$4:$BE$4,1,0)),0,1)),0))) -> 1 | BJ33: =IF(OR(V$30="",V$4=99),1,IF(V33="",0,IFERROR(CHOOSE(BI$28,IF(ISNA(MATCH(V33,$AS$30:$AT$30,0)),0,1),IF(ISNUMBER(V33),1,0),IF(V33=TRUNC(V33),1,0),IF(AND(V33*1=V33,V33>=0),1,0),IF(AND(V33=TRUNC(V33),V33>=0),1,0),IF(AND(V33*1=V33,V33>0),1,0),IF(AND(V33=TRUNC(V33),V33>0),1,0),1,IF(ISNA(HLOOKUP(V33,$AV$4:$BE$4,1,0)),0,1)),0))) -> 1 | BK33: =IF(OR(W$30="",W$4=99),1,IF(W33="",0,IFERROR(CHOOSE(BJ$28,IF(ISNA(MATCH(W33,$AS$30:$AT$30,0)),0,1),IF(ISNUMBER(W33),1,0),IF(W33=TRUNC(W33),1,0),IF(AND(W33*1=W33,W33>=0),1,0),IF(AND(W33=TRUNC(W33),W33>=0),1,0),IF(AND(W33*1=W33,W33>0),1,0),IF(AND(W33=TRUNC(W33),W33>0),1,0),1,IF(ISNA(HLOOKUP(W33,$AV$4:$BE$4,1,0)),0,1)),0))) -> 1 | BL33: =IF(OR(X$30="",X$4=99),1,IF(X33="",0,IFERROR(CHOOSE(BK$28,IF(ISNA(MATCH(X33,$AS$30:$AT$30,0)),0,1),IF(ISNUMBER(X33),1,0),IF(X33=TRUNC(X33),1,0),IF(AND(X33*1=X33,X33>=0),1,0),IF(AND(X33=TRUNC(X33),X33>=0),1,0),IF(AND(X33*1=X33,X33>0),1,0),IF(AND(X33=TRUNC(X33),X33>0),1,0),1,IF(ISNA(HLOOKUP(X33,$AV$4:$BE$4,1,0)),0,1)),0))) -> 1 | BM33: =IF(OR(Y$30="",Y$4=99),1,IF(Y33="",0,IFERROR(CHOOSE(BL$28,IF(ISNA(MATCH(Y33,$AS$30:$AT$30,0)),0,1),IF(ISNUMBER(Y33),1,0),IF(Y33=TRUNC(Y33),1,0),IF(AND(Y33*1=Y33,Y33>=0),1,0),IF(AND(Y33=TRUNC(Y33),Y33>=0),1,0),IF(AND(Y33*1=Y33,Y33>0),1,0),IF(AND(Y33=TRUNC(Y33),Y33>0),1,0),1,IF(ISNA(HLOOKUP(Y33,$AV$4:$BE$4,1,0)),0,1)),0))) -> 1 | BN33: =IF(OR(Z$30="",Z$4=99),1,IF(Z33="",0,IFERROR(CHOOSE(BM$28,IF(ISNA(MATCH(Z33,$AS$30:$AT$30,0)),0,1),IF(ISNUMBER(Z33),1,0),IF(Z33=TRUNC(Z33),1,0),IF(AND(Z33*1=Z33,Z33>=0),1,0),IF(AND(Z33=TRUNC(Z33),Z33>=0),1,0),IF(AND(Z33*1=Z33,Z33>0),1,0),IF(AND(Z33=TRUNC(Z33),Z33>0),1,0),1,IF(ISNA(HLOOKUP(Z33,$AV$4:$BE$4,1,0)),0,1)),0))) -> 1 | ... BT33: =IF(OR(AF$30="",AF$4=99),1,IF(AF33="",0,IFERROR(CHOOSE(BS$28,IF(ISNA(MATCH(AF33,$AS$30:$AT$30,0)),0,1),IF(ISNUMBER(AF33),1,0),IF(AF33=TRUNC(AF33),1,0),IF(AND(AF33*1=AF33,AF33>=0),1,0),IF(AND(AF33=TRUNC(AF33),AF33>=0),1,0),IF(AND(AF33*1=AF33,AF33>0),1,0),IF(AND(AF33=TRUNC(AF33),AF33>0),1,0),1,IF(ISNA(HLOOKUP(AF33,$AV$4:$BE$4,1,0)),0,1)),0))) -> 1 | BU33: =IF(OR(AH$30="",AH$4=99),1,IF(AH33="",0,IFERROR(CHOOSE(BT$28,IF(ISNA(MATCH(AH33,$AS$30:$AT$30,0)),0,1),IF(ISNUMBER(AH33),1,0),IF(AH33=TRUNC(AH33),1,0),IF(AND(AH33*1=AH33,AH33>=0),1,0),IF(AND(AH33=TRUNC(AH33),AH33>=0),1,0),IF(AND(AH33*1=AH33,AH33>0),1,0),IF(AND(AH33=TRUNC(AH33),AH33>0),1,0),1,IF(ISNA(HLOOKUP(AH33,$AV$4:$BE$4,1,0)),0,1)),0))) -> 1 | BV33: =IF(OR(AI$30="",AI$4=99),1,IF(AI33="",0,IFERROR(CHOOSE(BU$28,IF(ISNA(MATCH(AI33,$AS$30:$AT$30,0)),0,1),IF(ISNUMBER(AI33),1,0),IF(AI33=TRUNC(AI33),1,0),IF(AND(AI33*1=AI33,AI33>=0),1,0),IF(AND(AI33=TRUNC(AI33),AI33>=0),1,0),IF(AND(AI33*1=AI33,AI33>0),1,0),IF(AND(AI33=TRUNC(AI33),AI33>0),1,0),1,IF(ISNA(HLOOKUP(AI33,$AV$4:$BE$4,1,0)),0,1)),0))) -> 1 | BW33: =IF(OR(AJ$30="",AJ$4=99),1,IF(AJ33="",0,IFERROR(CHOOSE(BV$28,IF(ISNA(MATCH(AJ33,$AS$30:$AT$30,0)),0,1),IF(ISNUMBER(AJ33),1,0),IF(AJ33=TRUNC(AJ33),1,0),IF(AND(AJ33*1=AJ33,AJ33>=0),1,0),IF(AND(AJ33=TRUNC(AJ33),AJ33>=0),1,0),IF(AND(AJ33*1=AJ33,AJ33>0),1,0),IF(AND(AJ33=TRUNC(AJ33),AJ33>0),1,0),1,IF(ISNA(HLOOKUP(AJ33,$AV$4:$BE$4,1,0)),0,1)),0))) -> 1 | BX33: =IF(OR(AK$30="",AK$4=99),1,IF(AK33="",0,IFERROR(CHOOSE(BW$28,IF(ISNA(MATCH(AK33,$AS$30:$AT$30,0)),0,1),IF(ISNUMBER(AK33),1,0),IF(AK33=TRUNC(AK33),1,0),IF(AND(AK33*1=AK33,AK33>=0),1,0),IF(AND(AK33=TRUNC(AK33),AK33>=0),1,0),IF(AND(AK33*1=AK33,AK33>0),1,0),IF(AND(AK33=TRUNC(AK33),AK33>0),1,0),1,IF(ISNA(HLOOKUP(AK33,$AV$4:$BE$4,1,0)),0,1)),0))) -> 1 | BY33: =IF(OR(AL$30="",AL$4=99),1,IF(AL33="",0,IFERROR(CHOOSE(BX$28,IF(ISNA(MATCH(AL33,$AS$30:$AT$30,0)),0,1),IF(ISNUMBER(AL33),1,0),IF(AL33=TRUNC(AL33),1,0),IF(AND(AL33*1=AL33,AL33>=0),1,0),IF(AND(AL33=TRUNC(AL33),AL33>=0),1,0),IF(AND(AL33*1=AL33,AL33>0),1,0),IF(AND(AL33=TRUNC(AL33),AL33>0),1,0),1,IF(ISNA(HLOOKUP(AL33,$AV$4:$BE$4,1,0)),0,1)),0))) -> 1 | BZ33: =IF(OR(AM$30="",AM$4=99),1,IF(AM33="",0,IFERROR(CHOOSE(BY$28,IF(ISNA(MATCH(AM33,$AS$30:$AT$30,0)),0,1),IF(ISNUMBER(AM33),1,0),IF(AM33=TRUNC(AM33),1,0),IF(AND(AM33*1=AM33,AM33>=0),1,0),IF(AND(AM33=TRUNC(AM33),AM33>=0),1,0),IF(AND(AM33*1=AM33,AM33>0),1,0),IF(AND(AM33=TRUNC(AM33),AM33>0),1,0),1,IF(ISNA(HLOOKUP(AM33,$AV$4:$BE$4,1,0)),0,1)),0))) -> 1 | CA33: =IF(OR(AN$30="",AN$4=99),1,IF(AN33="",0,IFERROR(CHOOSE(BZ$28,IF(ISNA(MATCH(AN33,$AS$30:$AT$30,0)),0,1),IF(ISNUMBER(AN33),1,0),IF(AN33=TRUNC(AN33),1,0),IF(AND(AN33*1=AN33,AN33>=0),1,0),IF(AND(AN33=TRUNC(AN33),AN33>=0),1,0),IF(AND(AN33*1=AN33,AN33>0),1,0),IF(AND(AN33=TRUNC(AN33),AN33>0),1,0),1,IF(ISNA(HLOOKUP(AN33,$AV$4:$BE$4,1,0)),0,1)),0))) -> 1 | CB33: =IF(OR(AO$30="",AO$4=99),1,IF(AO33="",0,IFERROR(CHOOSE(CA$28,IF(ISNA(MATCH(AO33,$AS$30:$AT$30,0)),0,1),IF(ISNUMBER(AO33),1,0),IF(AO33=TRUNC(AO33),1,0),IF(AND(AO33*1=AO33,AO33>=0),1,0),IF(AND(AO33=TRUNC(AO33),AO33>=0),1,0),IF(AND(AO33*1=AO33,AO33>0),1,0),IF(AND(AO33=TRUNC(AO33),AO33>0),1,0),1,IF(ISNA(HLOOKUP(AO33,$AV$4:$BE$4,1,0)),0,1)),0))) -> 1 | CC33: =IF(OR(AP$30="",AP$4=99),1,IF(AP33="",0,IFERROR(CHOOSE(CB$28,IF(ISNA(MATCH(AP33,$AS$30:$AT$30,0)),0,1),IF(ISNUMBER(AP33),1,0),IF(AP33=TRUNC(AP33),1,0),IF(AND(AP33*1=AP33,AP33>=0),1,0),IF(AND(AP33=TRUNC(AP33),AP33>=0),1,0),IF(AND(AP33*1=AP33,AP33>0),1,0),IF(AND(AP33=TRUNC(AP33),AP33>0),1,0),1,IF(ISNA(HLOOKUP(AP33,$AV$4:$BE$4,1,0)),0,1)),0))) -> 1 | CH33: =IF($F33="","",CH$30) -> 1 | CI33: =IF($F33="","",CI$30) -> 2 | CJ33: =IF($F33="","",CJ$30) -> 3 | CK33: =IF($F33="","",CK$30) -> 4 | CL33: =IF($F33="","",CL$30) -> 5 | CM33: =IF($F33="","",CM$30) -> 6 | CN33: =IF($F33="","",CN$30) -> 7 | CO33: =IF($F33="","",CO$30) -> 8 | ... CQ33: =IF($F33="","",CQ$30) -> 10 | CW33: =W33>=CV$5 -> TRUE | CX33: =X33>=CW$5 -> FALSE | CY33: =Y33>=CX$5 -> TRUE | DC33: =COUNTIF(CW33:DA33,TRUE) -> 2 | DD33: =W33>=DC$5 -> TRUE | DE33: =X33>=DD$5 -> FALSE | DF33: =Y33>=DE$5 -> TRUE | DK33: =COUNTIF(DD33:DJ33,TRUE) -> 2 | DM33: =IF($F33="","",IF(AND(DK33=$CW$3,DK33-DC33<=$DD$3),1,0)) -> 0
B34: =IF(F34="","",ROW()-30) | Z34: =IF(F34="","",IF(AND(S34=1,T34=1),$AS$1,IF(OR(S34=1,AND(T34=1,U34=1,V34=1,W34=1,X34=1,Y34=1)),1,0))) | AF34: =IF($F34="","",IF(OR(DL34=1,AND(DM34=1,AA34=1)),1,0)) | AH34: =IF(F34="","",IF(AA34=1,1,IF(AND(AB34="לא",SUM(AC34:AD34)=2),1,IF(AND(AB34="כן",SUM(AC34:AE34)=3),1,0)))) | AK34: =IF(F34="","",IF(G34>=$G$5,1,0)) | AP34: =IF($F34="","",IF(AL34=1,1,IF(AR34<>1,$AS$1,IF(SUMPRODUCT(--(G34:AK34>=$G$5:$AK$5)*($G$5:$AK$5<>"")*($G$4:$AK$4=1))=COUNTIF($G$4:$AK$4,1),1,0)))) | AR34: =IF(OR(SUM(AU34:CC34)<>COUNT(AU34:CC34),SUMPRODUCT(--(G34:AK34=$AS$1))<>0),0,1) -> 0 | AS34: =IF($F34="","",AS$30) | AT34: =IF($F34="","",AT$30) | AU34: =IF(OR(G$30="",G$4=99),1,IF(G34="",0,IFERROR(CHOOSE(AU$28,IF(ISNA(MATCH(G34,$AS$30:$AT$30,0)),0,1),IF(ISNUMBER(G34),1,0),IF(G34=TRUNC(G34),1,0),IF(AND(G34*1=G34,G34>=0),1,0),IF(AND(G34=TRUNC(G34),G34>=0),1,0),IF(AND(G34*1=G34,G34>0),1,0),IF(AND(G34=TRUNC(G34),G34>0),1,0),1,IF(ISNA(HLOOKUP(G34,$AV$4:$BE$4,1,0)),0,1)),0))) -> 0 | AV34: =IF(OR(H$30="",H$4=99),1,IF(H34="",0,IFERROR(CHOOSE(AV$28,IF(ISNA(MATCH(H34,$AS$30:$AT$30,0)),0,1),IF(ISNUMBER(H34),1,0),IF(H34=TRUNC(H34),1,0),IF(AND(H34*1=H34,H34>=0),1,0),IF(AND(H34=TRUNC(H34),H34>=0),1,0),IF(AND(H34*1=H34,H34>0),1,0),IF(AND(H34=TRUNC(H34),H34>0),1,0),1,IF(ISNA(HLOOKUP(H34,$AV$4:$BE$4,1,0)),0,1)),0))) -> 0 | AW34: =IF(OR(I$30="",I$4=99),1,IF(I34="",0,IFERROR(CHOOSE(AW$28,IF(ISNA(MATCH(I34,$AS$30:$AT$30,0)),0,1),IF(ISNUMBER(I34),1,0),IF(I34=TRUNC(I34),1,0),IF(AND(I34*1=I34,I34>=0),1,0),IF(AND(I34=TRUNC(I34),I34>=0),1,0),IF(AND(I34*1=I34,I34>0),1,0),IF(AND(I34=TRUNC(I34),I34>0),1,0),1,IF(ISNA(HLOOKUP(I34,$AV$4:$BE$4,1,0)),0,1)),0))) -> 0 | AX34: =IF(OR(J$30="",J$4=99),1,IF(J34="",0,IFERROR(CHOOSE(AX$28,IF(ISNA(MATCH(J34,$AS$30:$AT$30,0)),0,1),IF(ISNUMBER(J34),1,0),IF(J34=TRUNC(J34),1,0),IF(AND(J34*1=J34,J34>=0),1,0),IF(AND(J34=TRUNC(J34),J34>=0),1,0),IF(AND(J34*1=J34,J34>0),1,0),IF(AND(J34=TRUNC(J34),J34>0),1,0),1,IF(ISNA(HLOOKUP(J34,$AV$4:$BE$4,1,0)),0,1)),0))) -> 0 | AY34: =IF(OR(K$30="",K$4=99),1,IF(K34="",0,IFERROR(CHOOSE(AY$28,IF(ISNA(MATCH(K34,$AS$30:$AT$30,0)),0,1),IF(ISNUMBER(K34),1,0),IF(K34=TRUNC(K34),1,0),IF(AND(K34*1=K34,K34>=0),1,0),IF(AND(K34=TRUNC(K34),K34>=0),1,0),IF(AND(K34*1=K34,K34>0),1,0),IF(AND(K34=TRUNC(K34),K34>0),1,0),1,IF(ISNA(HLOOKUP(K34,$AV$4:$BE$4,1,0)),0,1)),0))) -> 0 | AZ34: =IF(OR(L$30="",L$4=99),1,IF(L34="",0,IFERROR(CHOOSE(AZ$28,IF(ISNA(MATCH(L34,$AS$30:$AT$30,0)),0,1),IF(ISNUMBER(L34),1,0),IF(L34=TRUNC(L34),1,0),IF(AND(L34*1=L34,L34>=0),1,0),IF(AND(L34=TRUNC(L34),L34>=0),1,0),IF(AND(L34*1=L34,L34>0),1,0),IF(AND(L34=TRUNC(L34),L34>0),1,0),1,IF(ISNA(HLOOKUP(L34,$AV$4:$BE$4,1,0)),0,1)),0))) -> 0 | BA34: =IF(OR(M$30="",M$4=99),1,IF(M34="",0,IFERROR(CHOOSE(BA$28,IF(ISNA(MATCH(M34,$AS$30:$AT$30,0)),0,1),IF(ISNUMBER(M34),1,0),IF(M34=TRUNC(M34),1,0),IF(AND(M34*1=M34,M34>=0),1,0),IF(AND(M34=TRUNC(M34),M34>=0),1,0),IF(AND(M34*1=M34,M34>0),1,0),IF(AND(M34=TRUNC(M34),M34>0),1,0),1,IF(ISNA(HLOOKUP(M34,$AV$4:$BE$4,1,0)),0,1)),0))) -> 0 | BB34: =IF(OR(N$30="",N$4=99),1,IF(N34="",0,IFERROR(CHOOSE(BB$28,IF(ISNA(MATCH(N34,$AS$30:$AT$30,0)),0,1),IF(ISNUMBER(N34),1,0),IF(N34=TRUNC(N34),1,0),IF(AND(N34*1=N34,N34>=0),1,0),IF(AND(N34=TRUNC(N34),N34>=0),1,0),IF(AND(N34*1=N34,N34>0),1,0),IF(AND(N34=TRUNC(N34),N34>0),1,0),1,IF(ISNA(HLOOKUP(N34,$AV$4:$BE$4,1,0)),0,1)),0))) -> 0 | ... BF34: =IF(OR(R$30="",R$4=99),1,IF(R34="",0,IFERROR(CHOOSE(BF$28,IF(ISNA(MATCH(R34,$AS$30:$AT$30,0)),0,1),IF(ISNUMBER(R34),1,0),IF(R34=TRUNC(R34),1,0),IF(AND(R34*1=R34,R34>=0),1,0),IF(AND(R34=TRUNC(R34),R34>=0),1,0),IF(AND(R34*1=R34,R34>0),1,0),IF(AND(R34=TRUNC(R34),R34>0),1,0),1,IF(ISNA(HLOOKUP(R34,$AV$4:$BE$4,1,0)),0,1)),0))) -> 0 | BG34: =IF(OR(S$30="",S$4=99),1,IF(S34="",0,IFERROR(CHOOSE(BF$28,IF(ISNA(MATCH(S34,$AS$30:$AT$30,0)),0,1),IF(ISNUMBER(S34),1,0),IF(S34=TRUNC(S34),1,0),IF(AND(S34*1=S34,S34>=0),1,0),IF(AND(S34=TRUNC(S34),S34>=0),1,0),IF(AND(S34*1=S34,S34>0),1,0),IF(AND(S34=TRUNC(S34),S34>0),1,0),1,IF(ISNA(HLOOKUP(S34,$AV$4:$BE$4,1,0)),0,1)),0))) -> 0 | BH34: =IF(OR(T$30="",T$4=99),1,IF(T34="",0,IFERROR(CHOOSE(BG$28,IF(ISNA(MATCH(T34,$AS$30:$AT$30,0)),0,1),IF(ISNUMBER(T34),1,0),IF(T34=TRUNC(T34),1,0),IF(AND(T34*1=T34,T34>=0),1,0),IF(AND(T34=TRUNC(T34),T34>=0),1,0),IF(AND(T34*1=T34,T34>0),1,0),IF(AND(T34=TRUNC(T34),T34>0),1,0),1,IF(ISNA(HLOOKUP(T34,$AV$4:$BE$4,1,0)),0,1)),0))) -> 0 | BI34: =IF(OR(U$30="",U$4=99),1,IF(U34="",0,IFERROR(CHOOSE(BH$28,IF(ISNA(MATCH(U34,$AS$30:$AT$30,0)),0,1),IF(ISNUMBER(U34),1,0),IF(U34=TRUNC(U34),1,0),IF(AND(U34*1=U34,U34>=0),1,0),IF(AND(U34=TRUNC(U34),U34>=0),1,0),IF(AND(U34*1=U34,U34>0),1,0),IF(AND(U34=TRUNC(U34),U34>0),1,0),1,IF(ISNA(HLOOKUP(U34,$AV$4:$BE$4,1,0)),0,1)),0))) -> 0 | BJ34: =IF(OR(V$30="",V$4=99),1,IF(V34="",0,IFERROR(CHOOSE(BI$28,IF(ISNA(MATCH(V34,$AS$30:$AT$30,0)),0,1),IF(ISNUMBER(V34),1,0),IF(V34=TRUNC(V34),1,0),IF(AND(V34*1=V34,V34>=0),1,0),IF(AND(V34=TRUNC(V34),V34>=0),1,0),IF(AND(V34*1=V34,V34>0),1,0),IF(AND(V34=TRUNC(V34),V34>0),1,0),1,IF(ISNA(HLOOKUP(V34,$AV$4:$BE$4,1,0)),0,1)),0))) -> 0 | BK34: =IF(OR(W$30="",W$4=99),1,IF(W34="",0,IFERROR(CHOOSE(BJ$28,IF(ISNA(MATCH(W34,$AS$30:$AT$30,0)),0,1),IF(ISNUMBER(W34),1,0),IF(W34=TRUNC(W34),1,0),IF(AND(W34*1=W34,W34>=0),1,0),IF(AND(W34=TRUNC(W34),W34>=0),1,0),IF(AND(W34*1=W34,W34>0),1,0),IF(AND(W34=TRUNC(W34),W34>0),1,0),1,IF(ISNA(HLOOKUP(W34,$AV$4:$BE$4,1,0)),0,1)),0))) -> 0 | BL34: =IF(OR(X$30="",X$4=99),1,IF(X34="",0,IFERROR(CHOOSE(BK$28,IF(ISNA(MATCH(X34,$AS$30:$AT$30,0)),0,1),IF(ISNUMBER(X34),1,0),IF(X34=TRUNC(X34),1,0),IF(AND(X34*1=X34,X34>=0),1,0),IF(AND(X34=TRUNC(X34),X34>=0),1,0),IF(AND(X34*1=X34,X34>0),1,0),IF(AND(X34=TRUNC(X34),X34>0),1,0),1,IF(ISNA(HLOOKUP(X34,$AV$4:$BE$4,1,0)),0,1)),0))) -> 0 | BM34: =IF(OR(Y$30="",Y$4=99),1,IF(Y34="",0,IFERROR(CHOOSE(BL$28,IF(ISNA(MATCH(Y34,$AS$30:$AT$30,0)),0,1),IF(ISNUMBER(Y34),1,0),IF(Y34=TRUNC(Y34),1,0),IF(AND(Y34*1=Y34,Y34>=0),1,0),IF(AND(Y34=TRUNC(Y34),Y34>=0),1,0),IF(AND(Y34*1=Y34,Y34>0),1,0),IF(AND(Y34=TRUNC(Y34),Y34>0),1,0),1,IF(ISNA(HLOOKUP(Y34,$AV$4:$BE$4,1,0)),0,1)),0))) -> 0 | BN34: =IF(OR(Z$30="",Z$4=99),1,IF(Z34="",0,IFERROR(CHOOSE(BM$28,IF(ISNA(MATCH(Z34,$AS$30:$AT$30,0)),0,1),IF(ISNUMBER(Z34),1,0),IF(Z34=TRUNC(Z34),1,0),IF(AND(Z34*1=Z34,Z34>=0),1,0),IF(AND(Z34=TRUNC(Z34),Z34>=0),1,0),IF(AND(Z34*1=Z34,Z34>0),1,0),IF(AND(Z34=TRUNC(Z34),Z34>0),1,0),1,IF(ISNA(HLOOKUP(Z34,$AV$4:$BE$4,1,0)),0,1)),0))) -> 1 | ... BT34: =IF(OR(AF$30="",AF$4=99),1,IF(AF34="",0,IFERROR(CHOOSE(BS$28,IF(ISNA(MATCH(AF34,$AS$30:$AT$30,0)),0,1),IF(ISNUMBER(AF34),1,0),IF(AF34=TRUNC(AF34),1,0),IF(AND(AF34*1=AF34,AF34>=0),1,0),IF(AND(AF34=TRUNC(AF34),AF34>=0),1,0),IF(AND(AF34*1=AF34,AF34>0),1,0),IF(AND(AF34=TRUNC(AF34),AF34>0),1,0),1,IF(ISNA(HLOOKUP(AF34,$AV$4:$BE$4,1,0)),0,1)),0))) -> 1 | BU34: =IF(OR(AH$30="",AH$4=99),1,IF(AH34="",0,IFERROR(CHOOSE(BT$28,IF(ISNA(MATCH(AH34,$AS$30:$AT$30,0)),0,1),IF(ISNUMBER(AH34),1,0),IF(AH34=TRUNC(AH34),1,0),IF(AND(AH34*1=AH34,AH34>=0),1,0),IF(AND(AH34=TRUNC(AH34),AH34>=0),1,0),IF(AND(AH34*1=AH34,AH34>0),1,0),IF(AND(AH34=TRUNC(AH34),AH34>0),1,0),1,IF(ISNA(HLOOKUP(AH34,$AV$4:$BE$4,1,0)),0,1)),0))) -> 1 | BV34: =IF(OR(AI$30="",AI$4=99),1,IF(AI34="",0,IFERROR(CHOOSE(BU$28,IF(ISNA(MATCH(AI34,$AS$30:$AT$30,0)),0,1),IF(ISNUMBER(AI34),1,0),IF(AI34=TRUNC(AI34),1,0),IF(AND(AI34*1=AI34,AI34>=0),1,0),IF(AND(AI34=TRUNC(AI34),AI34>=0),1,0),IF(AND(AI34*1=AI34,AI34>0),1,0),IF(AND(AI34=TRUNC(AI34),AI34>0),1,0),1,IF(ISNA(HLOOKUP(AI34,$AV$4:$BE$4,1,0)),0,1)),0))) -> 1 | BW34: =IF(OR(AJ$30="",AJ$4=99),1,IF(AJ34="",0,IFERROR(CHOOSE(BV$28,IF(ISNA(MATCH(AJ34,$AS$30:$AT$30,0)),0,1),IF(ISNUMBER(AJ34),1,0),IF(AJ34=TRUNC(AJ34),1,0),IF(AND(AJ34*1=AJ34,AJ34>=0),1,0),IF(AND(AJ34=TRUNC(AJ34),AJ34>=0),1,0),IF(AND(AJ34*1=AJ34,AJ34>0),1,0),IF(AND(AJ34=TRUNC(AJ34),AJ34>0),1,0),1,IF(ISNA(HLOOKUP(AJ34,$AV$4:$BE$4,1,0)),0,1)),0))) -> 1 | BX34: =IF(OR(AK$30="",AK$4=99),1,IF(AK34="",0,IFERROR(CHOOSE(BW$28,IF(ISNA(MATCH(AK34,$AS$30:$AT$30,0)),0,1),IF(ISNUMBER(AK34),1,0),IF(AK34=TRUNC(AK34),1,0),IF(AND(AK34*1=AK34,AK34>=0),1,0),IF(AND(AK34=TRUNC(AK34),AK34>=0),1,0),IF(AND(AK34*1=AK34,AK34>0),1,0),IF(AND(AK34=TRUNC(AK34),AK34>0),1,0),1,IF(ISNA(HLOOKUP(AK34,$AV$4:$BE$4,1,0)),0,1)),0))) -> 1 | BY34: =IF(OR(AL$30="",AL$4=99),1,IF(AL34="",0,IFERROR(CHOOSE(BX$28,IF(ISNA(MATCH(AL34,$AS$30:$AT$30,0)),0,1),IF(ISNUMBER(AL34),1,0),IF(AL34=TRUNC(AL34),1,0),IF(AND(AL34*1=AL34,AL34>=0),1,0),IF(AND(AL34=TRUNC(AL34),AL34>=0),1,0),IF(AND(AL34*1=AL34,AL34>0),1,0),IF(AND(AL34=TRUNC(AL34),AL34>0),1,0),1,IF(ISNA(HLOOKUP(AL34,$AV$4:$BE$4,1,0)),0,1)),0))) -> 1 | BZ34: =IF(OR(AM$30="",AM$4=99),1,IF(AM34="",0,IFERROR(CHOOSE(BY$28,IF(ISNA(MATCH(AM34,$AS$30:$AT$30,0)),0,1),IF(ISNUMBER(AM34),1,0),IF(AM34=TRUNC(AM34),1,0),IF(AND(AM34*1=AM34,AM34>=0),1,0),IF(AND(AM34=TRUNC(AM34),AM34>=0),1,0),IF(AND(AM34*1=AM34,AM34>0),1,0),IF(AND(AM34=TRUNC(AM34),AM34>0),1,0),1,IF(ISNA(HLOOKUP(AM34,$AV$4:$BE$4,1,0)),0,1)),0))) -> 1 | CA34: =IF(OR(AN$30="",AN$4=99),1,IF(AN34="",0,IFERROR(CHOOSE(BZ$28,IF(ISNA(MATCH(AN34,$AS$30:$AT$30,0)),0,1),IF(ISNUMBER(AN34),1,0),IF(AN34=TRUNC(AN34),1,0),IF(AND(AN34*1=AN34,AN34>=0),1,0),IF(AND(AN34=TRUNC(AN34),AN34>=0),1,0),IF(AND(AN34*1=AN34,AN34>0),1,0),IF(AND(AN34=TRUNC(AN34),AN34>0),1,0),1,IF(ISNA(HLOOKUP(AN34,$AV$4:$BE$4,1,0)),0,1)),0))) -> 1 | CB34: =IF(OR(AO$30="",AO$4=99),1,IF(AO34="",0,IFERROR(CHOOSE(CA$28,IF(ISNA(MATCH(AO34,$AS$30:$AT$30,0)),0,1),IF(ISNUMBER(AO34),1,0),IF(AO34=TRUNC(AO34),1,0),IF(AND(AO34*1=AO34,AO34>=0),1,0),IF(AND(AO34=TRUNC(AO34),AO34>=0),1,0),IF(AND(AO34*1=AO34,AO34>0),1,0),IF(AND(AO34=TRUNC(AO34),AO34>0),1,0),1,IF(ISNA(HLOOKUP(AO34,$AV$4:$BE$4,1,0)),0,1)),0))) -> 1 | CC34: =IF(OR(AP$30="",AP$4=99),1,IF(AP34="",0,IFERROR(CHOOSE(CB$28,IF(ISNA(MATCH(AP34,$AS$30:$AT$30,0)),0,1),IF(ISNUMBER(AP34),1,0),IF(AP34=TRUNC(AP34),1,0),IF(AND(AP34*1=AP34,AP34>=0),1,0),IF(AND(AP34=TRUNC(AP34),AP34>=0),1,0),IF(AND(AP34*1=AP34,AP34>0),1,0),IF(AND(AP34=TRUNC(AP34),AP34>0),1,0),1,IF(ISNA(HLOOKUP(AP34,$AV$4:$BE$4,1,0)),0,1)),0))) -> 1 | CH34: =IF($F34="","",CH$30) | CI34: =IF($F34="","",CI$30) | CJ34: =IF($F34="","",CJ$30) | CK34: =IF($F34="","",CK$30) | CL34: =IF($F34="","",CL$30) | CM34: =IF($F34="","",CM$30) | CN34: =IF($F34="","",CN$30) | CO34: =IF($F34="","",CO$30) | ... CQ34: =IF($F34="","",CQ$30) | CW34: =W34>=CV$5 -> FALSE | CX34: =X34>=CW$5 -> FALSE | CY34: =Y34>=CX$5 -> TRUE | DC34: =COUNTIF(CW34:DA34,TRUE) -> 1 | DD34: =W34>=DC$5 -> FALSE | DE34: =X34>=DD$5 -> FALSE | DF34: =Y34>=DE$5 -> TRUE | DK34: =COUNTIF(DD34:DJ34,TRUE) -> 1 | DM34: =IF($F34="","",IF(AND(DK34=$CW$3,DK34-DC34<=$DD$3),1,0))
B35: =IF(F35="","",ROW()-30) -> 5 | F35: אדוה ירמיהו | G35: 1 | H35: 1 | I35: 1 | J35: 1 | K35: 1 | L35: 1 | M35: 1 | N35: 1 | O35: 1 | P35: 1 | Q35: 1 | R35: 1 | S35: 0 | T35: 1 | U35: 1 | V35: 1 | W35: 1 | X35: 1 | Y35: 1 | Z35: =IF(F35="","",IF(AND(S35=1,T35=1),$AS$1,IF(OR(S35=1,AND(T35=1,U35=1,V35=1,W35=1,X35=1,Y35=1)),1,0))) -> 1 | AA35: 1 | AF35: =IF($F35="","",IF(OR(DL35=1,AND(DM35=1,AA35=1)),1,0)) -> 0 | AG35: 1 | AH35: =IF(F35="","",IF(AA35=1,1,IF(AND(AB35="לא",SUM(AC35:AD35)=2),1,IF(AND(AB35="כן",SUM(AC35:AE35)=3),1,0)))) -> 1 | AK35: =IF(F35="","",IF(G35>=$G$5,1,0)) -> 1 | AP35: =IF($F35="","",IF(AL35=1,1,IF(AR35<>1,$AS$1,IF(SUMPRODUCT(--(G35:AK35>=$G$5:$AK$5)*($G$5:$AK$5<>"")*($G$4:$AK$4=1))=COUNTIF($G$4:$AK$4,1),1,0)))) -> 1 | AR35: =IF(OR(SUM(AU35:CC35)<>COUNT(AU35:CC35),SUMPRODUCT(--(G35:AK35=$AS$1))<>0),0,1) -> 1 | AS35: =IF($F35="","",AS$30) -> 0 | AT35: =IF($F35="","",AT$30) -> 1 | AU35: =IF(OR(G$30="",G$4=99),1,IF(G35="",0,IFERROR(CHOOSE(AU$28,IF(ISNA(MATCH(G35,$AS$30:$AT$30,0)),0,1),IF(ISNUMBER(G35),1,0),IF(G35=TRUNC(G35),1,0),IF(AND(G35*1=G35,G35>=0),1,0),IF(AND(G35=TRUNC(G35),G35>=0),1,0),IF(AND(G35*1=G35,G35>0),1,0),IF(AND(G35=TRUNC(G35),G35>0),1,0),1,IF(ISNA(HLOOKUP(G35,$AV$4:$BE$4,1,0)),0,1)),0))) -> 1 | AV35: =IF(OR(H$30="",H$4=99),1,IF(H35="",0,IFERROR(CHOOSE(AV$28,IF(ISNA(MATCH(H35,$AS$30:$AT$30,0)),0,1),IF(ISNUMBER(H35),1,0),IF(H35=TRUNC(H35),1,0),IF(AND(H35*1=H35,H35>=0),1,0),IF(AND(H35=TRUNC(H35),H35>=0),1,0),IF(AND(H35*1=H35,H35>0),1,0),IF(AND(H35=TRUNC(H35),H35>0),1,0),1,IF(ISNA(HLOOKUP(H35,$AV$4:$BE$4,1,0)),0,1)),0))) -> 1 | AW35: =IF(OR(I$30="",I$4=99),1,IF(I35="",0,IFERROR(CHOOSE(AW$28,IF(ISNA(MATCH(I35,$AS$30:$AT$30,0)),0,1),IF(ISNUMBER(I35),1,0),IF(I35=TRUNC(I35),1,0),IF(AND(I35*1=I35,I35>=0),1,0),IF(AND(I35=TRUNC(I35),I35>=0),1,0),IF(AND(I35*1=I35,I35>0),1,0),IF(AND(I35=TRUNC(I35),I35>0),1,0),1,IF(ISNA(HLOOKUP(I35,$AV$4:$BE$4,1,0)),0,1)),0))) -> 1 | AX35: =IF(OR(J$30="",J$4=99),1,IF(J35="",0,IFERROR(CHOOSE(AX$28,IF(ISNA(MATCH(J35,$AS$30:$AT$30,0)),0,1),IF(ISNUMBER(J35),1,0),IF(J35=TRUNC(J35),1,0),IF(AND(J35*1=J35,J35>=0),1,0),IF(AND(J35=TRUNC(J35),J35>=0),1,0),IF(AND(J35*1=J35,J35>0),1,0),IF(AND(J35=TRUNC(J35),J35>0),1,0),1,IF(ISNA(HLOOKUP(J35,$AV$4:$BE$4,1,0)),0,1)),0))) -> 1 | AY35: =IF(OR(K$30="",K$4=99),1,IF(K35="",0,IFERROR(CHOOSE(AY$28,IF(ISNA(MATCH(K35,$AS$30:$AT$30,0)),0,1),IF(ISNUMBER(K35),1,0),IF(K35=TRUNC(K35),1,0),IF(AND(K35*1=K35,K35>=0),1,0),IF(AND(K35=TRUNC(K35),K35>=0),1,0),IF(AND(K35*1=K35,K35>0),1,0),IF(AND(K35=TRUNC(K35),K35>0),1,0),1,IF(ISNA(HLOOKUP(K35,$AV$4:$BE$4,1,0)),0,1)),0))) -> 1 | AZ35: =IF(OR(L$30="",L$4=99),1,IF(L35="",0,IFERROR(CHOOSE(AZ$28,IF(ISNA(MATCH(L35,$AS$30:$AT$30,0)),0,1),IF(ISNUMBER(L35),1,0),IF(L35=TRUNC(L35),1,0),IF(AND(L35*1=L35,L35>=0),1,0),IF(AND(L35=TRUNC(L35),L35>=0),1,0),IF(AND(L35*1=L35,L35>0),1,0),IF(AND(L35=TRUNC(L35),L35>0),1,0),1,IF(ISNA(HLOOKUP(L35,$AV$4:$BE$4,1,0)),0,1)),0))) -> 1 | BA35: =IF(OR(M$30="",M$4=99),1,IF(M35="",0,IFERROR(CHOOSE(BA$28,IF(ISNA(MATCH(M35,$AS$30:$AT$30,0)),0,1),IF(ISNUMBER(M35),1,0),IF(M35=TRUNC(M35),1,0),IF(AND(M35*1=M35,M35>=0),1,0),IF(AND(M35=TRUNC(M35),M35>=0),1,0),IF(AND(M35*1=M35,M35>0),1,0),IF(AND(M35=TRUNC(M35),M35>0),1,0),1,IF(ISNA(HLOOKUP(M35,$AV$4:$BE$4,1,0)),0,1)),0))) -> 1 | BB35: =IF(OR(N$30="",N$4=99),1,IF(N35="",0,IFERROR(CHOOSE(BB$28,IF(ISNA(MATCH(N35,$AS$30:$AT$30,0)),0,1),IF(ISNUMBER(N35),1,0),IF(N35=TRUNC(N35),1,0),IF(AND(N35*1=N35,N35>=0),1,0),IF(AND(N35=TRUNC(N35),N35>=0),1,0),IF(AND(N35*1=N35,N35>0),1,0),IF(AND(N35=TRUNC(N35),N35>0),1,0),1,IF(ISNA(HLOOKUP(N35,$AV$4:$BE$4,1,0)),0,1)),0))) -> 1 | ... BF35: =IF(OR(R$30="",R$4=99),1,IF(R35="",0,IFERROR(CHOOSE(BF$28,IF(ISNA(MATCH(R35,$AS$30:$AT$30,0)),0,1),IF(ISNUMBER(R35),1,0),IF(R35=TRUNC(R35),1,0),IF(AND(R35*1=R35,R35>=0),1,0),IF(AND(R35=TRUNC(R35),R35>=0),1,0),IF(AND(R35*1=R35,R35>0),1,0),IF(AND(R35=TRUNC(R35),R35>0),1,0),1,IF(ISNA(HLOOKUP(R35,$AV$4:$BE$4,1,0)),0,1)),0))) -> 1 | BG35: =IF(OR(S$30="",S$4=99),1,IF(S35="",0,IFERROR(CHOOSE(BF$28,IF(ISNA(MATCH(S35,$AS$30:$AT$30,0)),0,1),IF(ISNUMBER(S35),1,0),IF(S35=TRUNC(S35),1,0),IF(AND(S35*1=S35,S35>=0),1,0),IF(AND(S35=TRUNC(S35),S35>=0),1,0),IF(AND(S35*1=S35,S35>0),1,0),IF(AND(S35=TRUNC(S35),S35>0),1,0),1,IF(ISNA(HLOOKUP(S35,$AV$4:$BE$4,1,0)),0,1)),0))) -> 1 | BH35: =IF(OR(T$30="",T$4=99),1,IF(T35="",0,IFERROR(CHOOSE(BG$28,IF(ISNA(MATCH(T35,$AS$30:$AT$30,0)),0,1),IF(ISNUMBER(T35),1,0),IF(T35=TRUNC(T35),1,0),IF(AND(T35*1=T35,T35>=0),1,0),IF(AND(T35=TRUNC(T35),T35>=0),1,0),IF(AND(T35*1=T35,T35>0),1,0),IF(AND(T35=TRUNC(T35),T35>0),1,0),1,IF(ISNA(HLOOKUP(T35,$AV$4:$BE$4,1,0)),0,1)),0))) -> 1 | BI35: =IF(OR(U$30="",U$4=99),1,IF(U35="",0,IFERROR(CHOOSE(BH$28,IF(ISNA(MATCH(U35,$AS$30:$AT$30,0)),0,1),IF(ISNUMBER(U35),1,0),IF(U35=TRUNC(U35),1,0),IF(AND(U35*1=U35,U35>=0),1,0),IF(AND(U35=TRUNC(U35),U35>=0),1,0),IF(AND(U35*1=U35,U35>0),1,0),IF(AND(U35=TRUNC(U35),U35>0),1,0),1,IF(ISNA(HLOOKUP(U35,$AV$4:$BE$4,1,0)),0,1)),0))) -> 1 | BJ35: =IF(OR(V$30="",V$4=99),1,IF(V35="",0,IFERROR(CHOOSE(BI$28,IF(ISNA(MATCH(V35,$AS$30:$AT$30,0)),0,1),IF(ISNUMBER(V35),1,0),IF(V35=TRUNC(V35),1,0),IF(AND(V35*1=V35,V35>=0),1,0),IF(AND(V35=TRUNC(V35),V35>=0),1,0),IF(AND(V35*1=V35,V35>0),1,0),IF(AND(V35=TRUNC(V35),V35>0),1,0),1,IF(ISNA(HLOOKUP(V35,$AV$4:$BE$4,1,0)),0,1)),0))) -> 1 | BK35: =IF(OR(W$30="",W$4=99),1,IF(W35="",0,IFERROR(CHOOSE(BJ$28,IF(ISNA(MATCH(W35,$AS$30:$AT$30,0)),0,1),IF(ISNUMBER(W35),1,0),IF(W35=TRUNC(W35),1,0),IF(AND(W35*1=W35,W35>=0),1,0),IF(AND(W35=TRUNC(W35),W35>=0),1,0),IF(AND(W35*1=W35,W35>0),1,0),IF(AND(W35=TRUNC(W35),W35>0),1,0),1,IF(ISNA(HLOOKUP(W35,$AV$4:$BE$4,1,0)),0,1)),0))) -> 1 | BL35: =IF(OR(X$30="",X$4=99),1,IF(X35="",0,IFERROR(CHOOSE(BK$28,IF(ISNA(MATCH(X35,$AS$30:$AT$30,0)),0,1),IF(ISNUMBER(X35),1,0),IF(X35=TRUNC(X35),1,0),IF(AND(X35*1=X35,X35>=0),1,0),IF(AND(X35=TRUNC(X35),X35>=0),1,0),IF(AND(X35*1=X35,X35>0),1,0),IF(AND(X35=TRUNC(X35),X35>0),1,0),1,IF(ISNA(HLOOKUP(X35,$AV$4:$BE$4,1,0)),0,1)),0))) -> 1 | BM35: =IF(OR(Y$30="",Y$4=99),1,IF(Y35="",0,IFERROR(CHOOSE(BL$28,IF(ISNA(MATCH(Y35,$AS$30:$AT$30,0)),0,1),IF(ISNUMBER(Y35),1,0),IF(Y35=TRUNC(Y35),1,0),IF(AND(Y35*1=Y35,Y35>=0),1,0),IF(AND(Y35=TRUNC(Y35),Y35>=0),1,0),IF(AND(Y35*1=Y35,Y35>0),1,0),IF(AND(Y35=TRUNC(Y35),Y35>0),1,0),1,IF(ISNA(HLOOKUP(Y35,$AV$4:$BE$4,1,0)),0,1)),0))) -> 1 | BN35: =IF(OR(Z$30="",Z$4=99),1,IF(Z35="",0,IFERROR(CHOOSE(BM$28,IF(ISNA(MATCH(Z35,$AS$30:$AT$30,0)),0,1),IF(ISNUMBER(Z35),1,0),IF(Z35=TRUNC(Z35),1,0),IF(AND(Z35*1=Z35,Z35>=0),1,0),IF(AND(Z35=TRUNC(Z35),Z35>=0),1,0),IF(AND(Z35*1=Z35,Z35>0),1,0),IF(AND(Z35=TRUNC(Z35),Z35>0),1,0),1,IF(ISNA(HLOOKUP(Z35,$AV$4:$BE$4,1,0)),0,1)),0))) -> 1 | ... BT35: =IF(OR(AF$30="",AF$4=99),1,IF(AF35="",0,IFERROR(CHOOSE(BS$28,IF(ISNA(MATCH(AF35,$AS$30:$AT$30,0)),0,1),IF(ISNUMBER(AF35),1,0),IF(AF35=TRUNC(AF35),1,0),IF(AND(AF35*1=AF35,AF35>=0),1,0),IF(AND(AF35=TRUNC(AF35),AF35>=0),1,0),IF(AND(AF35*1=AF35,AF35>0),1,0),IF(AND(AF35=TRUNC(AF35),AF35>0),1,0),1,IF(ISNA(HLOOKUP(AF35,$AV$4:$BE$4,1,0)),0,1)),0))) -> 1 | BU35: =IF(OR(AH$30="",AH$4=99),1,IF(AH35="",0,IFERROR(CHOOSE(BT$28,IF(ISNA(MATCH(AH35,$AS$30:$AT$30,0)),0,1),IF(ISNUMBER(AH35),1,0),IF(AH35=TRUNC(AH35),1,0),IF(AND(AH35*1=AH35,AH35>=0),1,0),IF(AND(AH35=TRUNC(AH35),AH35>=0),1,0),IF(AND(AH35*1=AH35,AH35>0),1,0),IF(AND(AH35=TRUNC(AH35),AH35>0),1,0),1,IF(ISNA(HLOOKUP(AH35,$AV$4:$BE$4,1,0)),0,1)),0))) -> 1 | BV35: =IF(OR(AI$30="",AI$4=99),1,IF(AI35="",0,IFERROR(CHOOSE(BU$28,IF(ISNA(MATCH(AI35,$AS$30:$AT$30,0)),0,1),IF(ISNUMBER(AI35),1,0),IF(AI35=TRUNC(AI35),1,0),IF(AND(AI35*1=AI35,AI35>=0),1,0),IF(AND(AI35=TRUNC(AI35),AI35>=0),1,0),IF(AND(AI35*1=AI35,AI35>0),1,0),IF(AND(AI35=TRUNC(AI35),AI35>0),1,0),1,IF(ISNA(HLOOKUP(AI35,$AV$4:$BE$4,1,0)),0,1)),0))) -> 1 | BW35: =IF(OR(AJ$30="",AJ$4=99),1,IF(AJ35="",0,IFERROR(CHOOSE(BV$28,IF(ISNA(MATCH(AJ35,$AS$30:$AT$30,0)),0,1),IF(ISNUMBER(AJ35),1,0),IF(AJ35=TRUNC(AJ35),1,0),IF(AND(AJ35*1=AJ35,AJ35>=0),1,0),IF(AND(AJ35=TRUNC(AJ35),AJ35>=0),1,0),IF(AND(AJ35*1=AJ35,AJ35>0),1,0),IF(AND(AJ35=TRUNC(AJ35),AJ35>0),1,0),1,IF(ISNA(HLOOKUP(AJ35,$AV$4:$BE$4,1,0)),0,1)),0))) -> 1 | BX35: =IF(OR(AK$30="",AK$4=99),1,IF(AK35="",0,IFERROR(CHOOSE(BW$28,IF(ISNA(MATCH(AK35,$AS$30:$AT$30,0)),0,1),IF(ISNUMBER(AK35),1,0),IF(AK35=TRUNC(AK35),1,0),IF(AND(AK35*1=AK35,AK35>=0),1,0),IF(AND(AK35=TRUNC(AK35),AK35>=0),1,0),IF(AND(AK35*1=AK35,AK35>0),1,0),IF(AND(AK35=TRUNC(AK35),AK35>0),1,0),1,IF(ISNA(HLOOKUP(AK35,$AV$4:$BE$4,1,0)),0,1)),0))) -> 1 | BY35: =IF(OR(AL$30="",AL$4=99),1,IF(AL35="",0,IFERROR(CHOOSE(BX$28,IF(ISNA(MATCH(AL35,$AS$30:$AT$30,0)),0,1),IF(ISNUMBER(AL35),1,0),IF(AL35=TRUNC(AL35),1,0),IF(AND(AL35*1=AL35,AL35>=0),1,0),IF(AND(AL35=TRUNC(AL35),AL35>=0),1,0),IF(AND(AL35*1=AL35,AL35>0),1,0),IF(AND(AL35=TRUNC(AL35),AL35>0),1,0),1,IF(ISNA(HLOOKUP(AL35,$AV$4:$BE$4,1,0)),0,1)),0))) -> 1 | BZ35: =IF(OR(AM$30="",AM$4=99),1,IF(AM35="",0,IFERROR(CHOOSE(BY$28,IF(ISNA(MATCH(AM35,$AS$30:$AT$30,0)),0,1),IF(ISNUMBER(AM35),1,0),IF(AM35=TRUNC(AM35),1,0),IF(AND(AM35*1=AM35,AM35>=0),1,0),IF(AND(AM35=TRUNC(AM35),AM35>=0),1,0),IF(AND(AM35*1=AM35,AM35>0),1,0),IF(AND(AM35=TRUNC(AM35),AM35>0),1,0),1,IF(ISNA(HLOOKUP(AM35,$AV$4:$BE$4,1,0)),0,1)),0))) -> 1 | CA35: =IF(OR(AN$30="",AN$4=99),1,IF(AN35="",0,IFERROR(CHOOSE(BZ$28,IF(ISNA(MATCH(AN35,$AS$30:$AT$30,0)),0,1),IF(ISNUMBER(AN35),1,0),IF(AN35=TRUNC(AN35),1,0),IF(AND(AN35*1=AN35,AN35>=0),1,0),IF(AND(AN35=TRUNC(AN35),AN35>=0),1,0),IF(AND(AN35*1=AN35,AN35>0),1,0),IF(AND(AN35=TRUNC(AN35),AN35>0),1,0),1,IF(ISNA(HLOOKUP(AN35,$AV$4:$BE$4,1,0)),0,1)),0))) -> 1 | CB35: =IF(OR(AO$30="",AO$4=99),1,IF(AO35="",0,IFERROR(CHOOSE(CA$28,IF(ISNA(MATCH(AO35,$AS$30:$AT$30,0)),0,1),IF(ISNUMBER(AO35),1,0),IF(AO35=TRUNC(AO35),1,0),IF(AND(AO35*1=AO35,AO35>=0),1,0),IF(AND(AO35=TRUNC(AO35),AO35>=0),1,0),IF(AND(AO35*1=AO35,AO35>0),1,0),IF(AND(AO35=TRUNC(AO35),AO35>0),1,0),1,IF(ISNA(HLOOKUP(AO35,$AV$4:$BE$4,1,0)),0,1)),0))) -> 1 | CC35: =IF(OR(AP$30="",AP$4=99),1,IF(AP35="",0,IFERROR(CHOOSE(CB$28,IF(ISNA(MATCH(AP35,$AS$30:$AT$30,0)),0,1),IF(ISNUMBER(AP35),1,0),IF(AP35=TRUNC(AP35),1,0),IF(AND(AP35*1=AP35,AP35>=0),1,0),IF(AND(AP35=TRUNC(AP35),AP35>=0),1,0),IF(AND(AP35*1=AP35,AP35>0),1,0),IF(AND(AP35=TRUNC(AP35),AP35>0),1,0),1,IF(ISNA(HLOOKUP(AP35,$AV$4:$BE$4,1,0)),0,1)),0))) -> 1 | CH35: =IF($F35="","",CH$30) -> 1 | CI35: =IF($F35="","",CI$30) -> 2 | CJ35: =IF($F35="","",CJ$30) -> 3 | CK35: =IF($F35="","",CK$30) -> 4 | CL35: =IF($F35="","",CL$30) -> 5 | CM35: =IF($F35="","",CM$30) -> 6 | CN35: =IF($F35="","",CN$30) -> 7 | CO35: =IF($F35="","",CO$30) -> 8 | ... CQ35: =IF($F35="","",CQ$30) -> 10 | CW35: =W35>=CV$5 -> TRUE | CX35: =X35>=CW$5 -> FALSE | CY35: =Y35>=CX$5 -> TRUE | DC35: =COUNTIF(CW35:DA35,TRUE) -> 2 | DD35: =W35>=DC$5 -> TRUE | DE35: =X35>=DD$5 -> FALSE | DF35: =Y35>=DE$5 -> TRUE | DK35: =COUNTIF(DD35:DJ35,TRUE) -> 2 | DM35: =IF($F35="","",IF(AND(DK35=$CW$3,DK35-DC35<=$DD$3),1,0)) -> 0
B36: =IF(F36="","",ROW()-30) -> 6 | F36: אהרונה ישראל | G36: 1 | H36: 1 | I36: 1 | J36: 1 | K36: 1 | L36: 1 | M36: 1 | N36: 1 | O36: 1 | P36: 1 | Q36: 1 | R36: 1 | S36: 0 | T36: 1 | U36: 1 | V36: 1 | W36: 1 | X36: 1 | Y36: 1 | Z36: =IF(F36="","",IF(AND(S36=1,T36=1),$AS$1,IF(OR(S36=1,AND(T36=1,U36=1,V36=1,W36=1,X36=1,Y36=1)),1,0))) -> 1 | AA36: 1 | AB36: לא | AC36: 1 | AD36: 1 | AE36: 1 | AF36: =IF($F36="","",IF(OR(DL36=1,AND(DM36=1,AA36=1)),1,0)) -> 0 | AG36: 1 | AH36: =IF(F36="","",IF(AA36=1,1,IF(AND(AB36="לא",SUM(AC36:AD36)=2),1,IF(AND(AB36="כן",SUM(AC36:AE36)=3),1,0)))) -> 1 | AK36: =IF(F36="","",IF(G36>=$G$5,1,0)) -> 1 | AP36: =IF($F36="","",IF(AL36=1,1,IF(AR36<>1,$AS$1,IF(SUMPRODUCT(--(G36:AK36>=$G$5:$AK$5)*($G$5:$AK$5<>"")*($G$4:$AK$4=1))=COUNTIF($G$4:$AK$4,1),1,0)))) -> 1 | AR36: =IF(OR(SUM(AU36:CC36)<>COUNT(AU36:CC36),SUMPRODUCT(--(G36:AK36=$AS$1))<>0),0,1) -> 1 | AS36: =IF($F36="","",AS$30) -> 0 | AT36: =IF($F36="","",AT$30) -> 1 | AU36: =IF(OR(G$30="",G$4=99),1,IF(G36="",0,IFERROR(CHOOSE(AU$28,IF(ISNA(MATCH(G36,$AS$30:$AT$30,0)),0,1),IF(ISNUMBER(G36),1,0),IF(G36=TRUNC(G36),1,0),IF(AND(G36*1=G36,G36>=0),1,0),IF(AND(G36=TRUNC(G36),G36>=0),1,0),IF(AND(G36*1=G36,G36>0),1,0),IF(AND(G36=TRUNC(G36),G36>0),1,0),1,IF(ISNA(HLOOKUP(G36,$AV$4:$BE$4,1,0)),0,1)),0))) -> 1 | AV36: =IF(OR(H$30="",H$4=99),1,IF(H36="",0,IFERROR(CHOOSE(AV$28,IF(ISNA(MATCH(H36,$AS$30:$AT$30,0)),0,1),IF(ISNUMBER(H36),1,0),IF(H36=TRUNC(H36),1,0),IF(AND(H36*1=H36,H36>=0),1,0),IF(AND(H36=TRUNC(H36),H36>=0),1,0),IF(AND(H36*1=H36,H36>0),1,0),IF(AND(H36=TRUNC(H36),H36>0),1,0),1,IF(ISNA(HLOOKUP(H36,$AV$4:$BE$4,1,0)),0,1)),0))) -> 1 | AW36: =IF(OR(I$30="",I$4=99),1,IF(I36="",0,IFERROR(CHOOSE(AW$28,IF(ISNA(MATCH(I36,$AS$30:$AT$30,0)),0,1),IF(ISNUMBER(I36),1,0),IF(I36=TRUNC(I36),1,0),IF(AND(I36*1=I36,I36>=0),1,0),IF(AND(I36=TRUNC(I36),I36>=0),1,0),IF(AND(I36*1=I36,I36>0),1,0),IF(AND(I36=TRUNC(I36),I36>0),1,0),1,IF(ISNA(HLOOKUP(I36,$AV$4:$BE$4,1,0)),0,1)),0))) -> 1 | AX36: =IF(OR(J$30="",J$4=99),1,IF(J36="",0,IFERROR(CHOOSE(AX$28,IF(ISNA(MATCH(J36,$AS$30:$AT$30,0)),0,1),IF(ISNUMBER(J36),1,0),IF(J36=TRUNC(J36),1,0),IF(AND(J36*1=J36,J36>=0),1,0),IF(AND(J36=TRUNC(J36),J36>=0),1,0),IF(AND(J36*1=J36,J36>0),1,0),IF(AND(J36=TRUNC(J36),J36>0),1,0),1,IF(ISNA(HLOOKUP(J36,$AV$4:$BE$4,1,0)),0,1)),0))) -> 1 | AY36: =IF(OR(K$30="",K$4=99),1,IF(K36="",0,IFERROR(CHOOSE(AY$28,IF(ISNA(MATCH(K36,$AS$30:$AT$30,0)),0,1),IF(ISNUMBER(K36),1,0),IF(K36=TRUNC(K36),1,0),IF(AND(K36*1=K36,K36>=0),1,0),IF(AND(K36=TRUNC(K36),K36>=0),1,0),IF(AND(K36*1=K36,K36>0),1,0),IF(AND(K36=TRUNC(K36),K36>0),1,0),1,IF(ISNA(HLOOKUP(K36,$AV$4:$BE$4,1,0)),0,1)),0))) -> 1 | AZ36: =IF(OR(L$30="",L$4=99),1,IF(L36="",0,IFERROR(CHOOSE(AZ$28,IF(ISNA(MATCH(L36,$AS$30:$AT$30,0)),0,1),IF(ISNUMBER(L36),1,0),IF(L36=TRUNC(L36),1,0),IF(AND(L36*1=L36,L36>=0),1,0),IF(AND(L36=TRUNC(L36),L36>=0),1,0),IF(AND(L36*1=L36,L36>0),1,0),IF(AND(L36=TRUNC(L36),L36>0),1,0),1,IF(ISNA(HLOOKUP(L36,$AV$4:$BE$4,1,0)),0,1)),0))) -> 1 | BA36: =IF(OR(M$30="",M$4=99),1,IF(M36="",0,IFERROR(CHOOSE(BA$28,IF(ISNA(MATCH(M36,$AS$30:$AT$30,0)),0,1),IF(ISNUMBER(M36),1,0),IF(M36=TRUNC(M36),1,0),IF(AND(M36*1=M36,M36>=0),1,0),IF(AND(M36=TRUNC(M36),M36>=0),1,0),IF(AND(M36*1=M36,M36>0),1,0),IF(AND(M36=TRUNC(M36),M36>0),1,0),1,IF(ISNA(HLOOKUP(M36,$AV$4:$BE$4,1,0)),0,1)),0))) -> 1 | BB36: =IF(OR(N$30="",N$4=99),1,IF(N36="",0,IFERROR(CHOOSE(BB$28,IF(ISNA(MATCH(N36,$AS$30:$AT$30,0)),0,1),IF(ISNUMBER(N36),1,0),IF(N36=TRUNC(N36),1,0),IF(AND(N36*1=N36,N36>=0),1,0),IF(AND(N36=TRUNC(N36),N36>=0),1,0),IF(AND(N36*1=N36,N36>0),1,0),IF(AND(N36=TRUNC(N36),N36>0),1,0),1,IF(ISNA(HLOOKUP(N36,$AV$4:$BE$4,1,0)),0,1)),0))) -> 1 | ... BF36: =IF(OR(R$30="",R$4=99),1,IF(R36="",0,IFERROR(CHOOSE(BF$28,IF(ISNA(MATCH(R36,$AS$30:$AT$30,0)),0,1),IF(ISNUMBER(R36),1,0),IF(R36=TRUNC(R36),1,0),IF(AND(R36*1=R36,R36>=0),1,0),IF(AND(R36=TRUNC(R36),R36>=0),1,0),IF(AND(R36*1=R36,R36>0),1,0),IF(AND(R36=TRUNC(R36),R36>0),1,0),1,IF(ISNA(HLOOKUP(R36,$AV$4:$BE$4,1,0)),0,1)),0))) -> 1 | BG36: =IF(OR(S$30="",S$4=99),1,IF(S36="",0,IFERROR(CHOOSE(BF$28,IF(ISNA(MATCH(S36,$AS$30:$AT$30,0)),0,1),IF(ISNUMBER(S36),1,0),IF(S36=TRUNC(S36),1,0),IF(AND(S36*1=S36,S36>=0),1,0),IF(AND(S36=TRUNC(S36),S36>=0),1,0),IF(AND(S36*1=S36,S36>0),1,0),IF(AND(S36=TRUNC(S36),S36>0),1,0),1,IF(ISNA(HLOOKUP(S36,$AV$4:$BE$4,1,0)),0,1)),0))) -> 1 | BH36: =IF(OR(T$30="",T$4=99),1,IF(T36="",0,IFERROR(CHOOSE(BG$28,IF(ISNA(MATCH(T36,$AS$30:$AT$30,0)),0,1),IF(ISNUMBER(T36),1,0),IF(T36=TRUNC(T36),1,0),IF(AND(T36*1=T36,T36>=0),1,0),IF(AND(T36=TRUNC(T36),T36>=0),1,0),IF(AND(T36*1=T36,T36>0),1,0),IF(AND(T36=TRUNC(T36),T36>0),1,0),1,IF(ISNA(HLOOKUP(T36,$AV$4:$BE$4,1,0)),0,1)),0))) -> 1 | BI36: =IF(OR(U$30="",U$4=99),1,IF(U36="",0,IFERROR(CHOOSE(BH$28,IF(ISNA(MATCH(U36,$AS$30:$AT$30,0)),0,1),IF(ISNUMBER(U36),1,0),IF(U36=TRUNC(U36),1,0),IF(AND(U36*1=U36,U36>=0),1,0),IF(AND(U36=TRUNC(U36),U36>=0),1,0),IF(AND(U36*1=U36,U36>0),1,0),IF(AND(U36=TRUNC(U36),U36>0),1,0),1,IF(ISNA(HLOOKUP(U36,$AV$4:$BE$4,1,0)),0,1)),0))) -> 1 | BJ36: =IF(OR(V$30="",V$4=99),1,IF(V36="",0,IFERROR(CHOOSE(BI$28,IF(ISNA(MATCH(V36,$AS$30:$AT$30,0)),0,1),IF(ISNUMBER(V36),1,0),IF(V36=TRUNC(V36),1,0),IF(AND(V36*1=V36,V36>=0),1,0),IF(AND(V36=TRUNC(V36),V36>=0),1,0),IF(AND(V36*1=V36,V36>0),1,0),IF(AND(V36=TRUNC(V36),V36>0),1,0),1,IF(ISNA(HLOOKUP(V36,$AV$4:$BE$4,1,0)),0,1)),0))) -> 1 | BK36: =IF(OR(W$30="",W$4=99),1,IF(W36="",0,IFERROR(CHOOSE(BJ$28,IF(ISNA(MATCH(W36,$AS$30:$AT$30,0)),0,1),IF(ISNUMBER(W36),1,0),IF(W36=TRUNC(W36),1,0),IF(AND(W36*1=W36,W36>=0),1,0),IF(AND(W36=TRUNC(W36),W36>=0),1,0),IF(AND(W36*1=W36,W36>0),1,0),IF(AND(W36=TRUNC(W36),W36>0),1,0),1,IF(ISNA(HLOOKUP(W36,$AV$4:$BE$4,1,0)),0,1)),0))) -> 1 | BL36: =IF(OR(X$30="",X$4=99),1,IF(X36="",0,IFERROR(CHOOSE(BK$28,IF(ISNA(MATCH(X36,$AS$30:$AT$30,0)),0,1),IF(ISNUMBER(X36),1,0),IF(X36=TRUNC(X36),1,0),IF(AND(X36*1=X36,X36>=0),1,0),IF(AND(X36=TRUNC(X36),X36>=0),1,0),IF(AND(X36*1=X36,X36>0),1,0),IF(AND(X36=TRUNC(X36),X36>0),1,0),1,IF(ISNA(HLOOKUP(X36,$AV$4:$BE$4,1,0)),0,1)),0))) -> 1 | BM36: =IF(OR(Y$30="",Y$4=99),1,IF(Y36="",0,IFERROR(CHOOSE(BL$28,IF(ISNA(MATCH(Y36,$AS$30:$AT$30,0)),0,1),IF(ISNUMBER(Y36),1,0),IF(Y36=TRUNC(Y36),1,0),IF(AND(Y36*1=Y36,Y36>=0),1,0),IF(AND(Y36=TRUNC(Y36),Y36>=0),1,0),IF(AND(Y36*1=Y36,Y36>0),1,0),IF(AND(Y36=TRUNC(Y36),Y36>0),1,0),1,IF(ISNA(HLOOKUP(Y36,$AV$4:$BE$4,1,0)),0,1)),0))) -> 1 | BN36: =IF(OR(Z$30="",Z$4=99),1,IF(Z36="",0,IFERROR(CHOOSE(BM$28,IF(ISNA(MATCH(Z36,$AS$30:$AT$30,0)),0,1),IF(ISNUMBER(Z36),1,0),IF(Z36=TRUNC(Z36),1,0),IF(AND(Z36*1=Z36,Z36>=0),1,0),IF(AND(Z36=TRUNC(Z36),Z36>=0),1,0),IF(AND(Z36*1=Z36,Z36>0),1,0),IF(AND(Z36=TRUNC(Z36),Z36>0),1,0),1,IF(ISNA(HLOOKUP(Z36,$AV$4:$BE$4,1,0)),0,1)),0))) -> 1 | ... BT36: =IF(OR(AF$30="",AF$4=99),1,IF(AF36="",0,IFERROR(CHOOSE(BS$28,IF(ISNA(MATCH(AF36,$AS$30:$AT$30,0)),0,1),IF(ISNUMBER(AF36),1,0),IF(AF36=TRUNC(AF36),1,0),IF(AND(AF36*1=AF36,AF36>=0),1,0),IF(AND(AF36=TRUNC(AF36),AF36>=0),1,0),IF(AND(AF36*1=AF36,AF36>0),1,0),IF(AND(AF36=TRUNC(AF36),AF36>0),1,0),1,IF(ISNA(HLOOKUP(AF36,$AV$4:$BE$4,1,0)),0,1)),0))) -> 1 | BU36: =IF(OR(AH$30="",AH$4=99),1,IF(AH36="",0,IFERROR(CHOOSE(BT$28,IF(ISNA(MATCH(AH36,$AS$30:$AT$30,0)),0,1),IF(ISNUMBER(AH36),1,0),IF(AH36=TRUNC(AH36),1,0),IF(AND(AH36*1=AH36,AH36>=0),1,0),IF(AND(AH36=TRUNC(AH36),AH36>=0),1,0),IF(AND(AH36*1=AH36,AH36>0),1,0),IF(AND(AH36=TRUNC(AH36),AH36>0),1,0),1,IF(ISNA(HLOOKUP(AH36,$AV$4:$BE$4,1,0)),0,1)),0))) -> 1 | BV36: =IF(OR(AI$30="",AI$4=99),1,IF(AI36="",0,IFERROR(CHOOSE(BU$28,IF(ISNA(MATCH(AI36,$AS$30:$AT$30,0)),0,1),IF(ISNUMBER(AI36),1,0),IF(AI36=TRUNC(AI36),1,0),IF(AND(AI36*1=AI36,AI36>=0),1,0),IF(AND(AI36=TRUNC(AI36),AI36>=0),1,0),IF(AND(AI36*1=AI36,AI36>0),1,0),IF(AND(AI36=TRUNC(AI36),AI36>0),1,0),1,IF(ISNA(HLOOKUP(AI36,$AV$4:$BE$4,1,0)),0,1)),0))) -> 1 | BW36: =IF(OR(AJ$30="",AJ$4=99),1,IF(AJ36="",0,IFERROR(CHOOSE(BV$28,IF(ISNA(MATCH(AJ36,$AS$30:$AT$30,0)),0,1),IF(ISNUMBER(AJ36),1,0),IF(AJ36=TRUNC(AJ36),1,0),IF(AND(AJ36*1=AJ36,AJ36>=0),1,0),IF(AND(AJ36=TRUNC(AJ36),AJ36>=0),1,0),IF(AND(AJ36*1=AJ36,AJ36>0),1,0),IF(AND(AJ36=TRUNC(AJ36),AJ36>0),1,0),1,IF(ISNA(HLOOKUP(AJ36,$AV$4:$BE$4,1,0)),0,1)),0))) -> 1 | BX36: =IF(OR(AK$30="",AK$4=99),1,IF(AK36="",0,IFERROR(CHOOSE(BW$28,IF(ISNA(MATCH(AK36,$AS$30:$AT$30,0)),0,1),IF(ISNUMBER(AK36),1,0),IF(AK36=TRUNC(AK36),1,0),IF(AND(AK36*1=AK36,AK36>=0),1,0),IF(AND(AK36=TRUNC(AK36),AK36>=0),1,0),IF(AND(AK36*1=AK36,AK36>0),1,0),IF(AND(AK36=TRUNC(AK36),AK36>0),1,0),1,IF(ISNA(HLOOKUP(AK36,$AV$4:$BE$4,1,0)),0,1)),0))) -> 1 | BY36: =IF(OR(AL$30="",AL$4=99),1,IF(AL36="",0,IFERROR(CHOOSE(BX$28,IF(ISNA(MATCH(AL36,$AS$30:$AT$30,0)),0,1),IF(ISNUMBER(AL36),1,0),IF(AL36=TRUNC(AL36),1,0),IF(AND(AL36*1=AL36,AL36>=0),1,0),IF(AND(AL36=TRUNC(AL36),AL36>=0),1,0),IF(AND(AL36*1=AL36,AL36>0),1,0),IF(AND(AL36=TRUNC(AL36),AL36>0),1,0),1,IF(ISNA(HLOOKUP(AL36,$AV$4:$BE$4,1,0)),0,1)),0))) -> 1 | BZ36: =IF(OR(AM$30="",AM$4=99),1,IF(AM36="",0,IFERROR(CHOOSE(BY$28,IF(ISNA(MATCH(AM36,$AS$30:$AT$30,0)),0,1),IF(ISNUMBER(AM36),1,0),IF(AM36=TRUNC(AM36),1,0),IF(AND(AM36*1=AM36,AM36>=0),1,0),IF(AND(AM36=TRUNC(AM36),AM36>=0),1,0),IF(AND(AM36*1=AM36,AM36>0),1,0),IF(AND(AM36=TRUNC(AM36),AM36>0),1,0),1,IF(ISNA(HLOOKUP(AM36,$AV$4:$BE$4,1,0)),0,1)),0))) -> 1 | CA36: =IF(OR(AN$30="",AN$4=99),1,IF(AN36="",0,IFERROR(CHOOSE(BZ$28,IF(ISNA(MATCH(AN36,$AS$30:$AT$30,0)),0,1),IF(ISNUMBER(AN36),1,0),IF(AN36=TRUNC(AN36),1,0),IF(AND(AN36*1=AN36,AN36>=0),1,0),IF(AND(AN36=TRUNC(AN36),AN36>=0),1,0),IF(AND(AN36*1=AN36,AN36>0),1,0),IF(AND(AN36=TRUNC(AN36),AN36>0),1,0),1,IF(ISNA(HLOOKUP(AN36,$AV$4:$BE$4,1,0)),0,1)),0))) -> 1 | CB36: =IF(OR(AO$30="",AO$4=99),1,IF(AO36="",0,IFERROR(CHOOSE(CA$28,IF(ISNA(MATCH(AO36,$AS$30:$AT$30,0)),0,1),IF(ISNUMBER(AO36),1,0),IF(AO36=TRUNC(AO36),1,0),IF(AND(AO36*1=AO36,AO36>=0),1,0),IF(AND(AO36=TRUNC(AO36),AO36>=0),1,0),IF(AND(AO36*1=AO36,AO36>0),1,0),IF(AND(AO36=TRUNC(AO36),AO36>0),1,0),1,IF(ISNA(HLOOKUP(AO36,$AV$4:$BE$4,1,0)),0,1)),0))) -> 1 | CC36: =IF(OR(AP$30="",AP$4=99),1,IF(AP36="",0,IFERROR(CHOOSE(CB$28,IF(ISNA(MATCH(AP36,$AS$30:$AT$30,0)),0,1),IF(ISNUMBER(AP36),1,0),IF(AP36=TRUNC(AP36),1,0),IF(AND(AP36*1=AP36,AP36>=0),1,0),IF(AND(AP36=TRUNC(AP36),AP36>=0),1,0),IF(AND(AP36*1=AP36,AP36>0),1,0),IF(AND(AP36=TRUNC(AP36),AP36>0),1,0),1,IF(ISNA(HLOOKUP(AP36,$AV$4:$BE$4,1,0)),0,1)),0))) -> 1 | CH36: =IF($F36="","",CH$30) -> 1 | CI36: =IF($F36="","",CI$30) -> 2 | CJ36: =IF($F36="","",CJ$30) -> 3 | CK36: =IF($F36="","",CK$30) -> 4 | CL36: =IF($F36="","",CL$30) -> 5 | CM36: =IF($F36="","",CM$30) -> 6 | CN36: =IF($F36="","",CN$30) -> 7 | CO36: =IF($F36="","",CO$30) -> 8 | ... CQ36: =IF($F36="","",CQ$30) -> 10 | CW36: =W36>=CV$5 -> TRUE | CX36: =X36>=CW$5 -> FALSE | CY36: =Y36>=CX$5 -> TRUE | DC36: =COUNTIF(CW36:DA36,TRUE) -> 2 | DD36: =W36>=DC$5 -> TRUE | DE36: =X36>=DD$5 -> FALSE | DF36: =Y36>=DE$5 -> TRUE | DK36: =COUNTIF(DD36:DJ36,TRUE) -> 2 | DM36: =IF($F36="","",IF(AND(DK36=$CW$3,DK36-DC36<=$DD$3),1,0)) -> 0
B37: =IF(F37="","",ROW()-30) -> 7 | F37: אופיר יודילביץ | G37: 1 | H37: 1 | I37: 1 | J37: 1 | K37: 1 | L37: 1 | M37: 1 | N37: 1 | O37: 1 | P37: 1 | Q37: 1 | R37: 1 | S37: 0 | T37: 1 | U37: 1 | V37: 1 | W37: 1 | X37: 1 | Y37: 1 | Z37: =IF(F37="","",IF(AND(S37=1,T37=1),$AS$1,IF(OR(S37=1,AND(T37=1,U37=1,V37=1,W37=1,X37=1,Y37=1)),1,0))) -> 1 | AA37: 1 | AF37: =IF($F37="","",IF(OR(DL37=1,AND(DM37=1,AA37=1)),1,0)) -> 0 | AG37: 1 | AH37: =IF(F37="","",IF(AA37=1,1,IF(AND(AB37="לא",SUM(AC37:AD37)=2),1,IF(AND(AB37="כן",SUM(AC37:AE37)=3),1,0)))) -> 1 | AK37: =IF(F37="","",IF(G37>=$G$5,1,0)) -> 1 | AP37: =IF($F37="","",IF(AL37=1,1,IF(AR37<>1,$AS$1,IF(SUMPRODUCT(--(G37:AK37>=$G$5:$AK$5)*($G$5:$AK$5<>"")*($G$4:$AK$4=1))=COUNTIF($G$4:$AK$4,1),1,0)))) -> 1 | AR37: =IF(OR(SUM(AU37:CC37)<>COUNT(AU37:CC37),SUMPRODUCT(--(G37:AK37=$AS$1))<>0),0,1) -> 1 | AS37: =IF($F37="","",AS$30) -> 0 | AT37: =IF($F37="","",AT$30) -> 1 | AU37: =IF(OR(G$30="",G$4=99),1,IF(G37="",0,IFERROR(CHOOSE(AU$28,IF(ISNA(MATCH(G37,$AS$30:$AT$30,0)),0,1),IF(ISNUMBER(G37),1,0),IF(G37=TRUNC(G37),1,0),IF(AND(G37*1=G37,G37>=0),1,0),IF(AND(G37=TRUNC(G37),G37>=0),1,0),IF(AND(G37*1=G37,G37>0),1,0),IF(AND(G37=TRUNC(G37),G37>0),1,0),1,IF(ISNA(HLOOKUP(G37,$AV$4:$BE$4,1,0)),0,1)),0))) -> 1 | AV37: =IF(OR(H$30="",H$4=99),1,IF(H37="",0,IFERROR(CHOOSE(AV$28,IF(ISNA(MATCH(H37,$AS$30:$AT$30,0)),0,1),IF(ISNUMBER(H37),1,0),IF(H37=TRUNC(H37),1,0),IF(AND(H37*1=H37,H37>=0),1,0),IF(AND(H37=TRUNC(H37),H37>=0),1,0),IF(AND(H37*1=H37,H37>0),1,0),IF(AND(H37=TRUNC(H37),H37>0),1,0),1,IF(ISNA(HLOOKUP(H37,$AV$4:$BE$4,1,0)),0,1)),0))) -> 1 | AW37: =IF(OR(I$30="",I$4=99),1,IF(I37="",0,IFERROR(CHOOSE(AW$28,IF(ISNA(MATCH(I37,$AS$30:$AT$30,0)),0,1),IF(ISNUMBER(I37),1,0),IF(I37=TRUNC(I37),1,0),IF(AND(I37*1=I37,I37>=0),1,0),IF(AND(I37=TRUNC(I37),I37>=0),1,0),IF(AND(I37*1=I37,I37>0),1,0),IF(AND(I37=TRUNC(I37),I37>0),1,0),1,IF(ISNA(HLOOKUP(I37,$AV$4:$BE$4,1,0)),0,1)),0))) -> 1 | AX37: =IF(OR(J$30="",J$4=99),1,IF(J37="",0,IFERROR(CHOOSE(AX$28,IF(ISNA(MATCH(J37,$AS$30:$AT$30,0)),0,1),IF(ISNUMBER(J37),1,0),IF(J37=TRUNC(J37),1,0),IF(AND(J37*1=J37,J37>=0),1,0),IF(AND(J37=TRUNC(J37),J37>=0),1,0),IF(AND(J37*1=J37,J37>0),1,0),IF(AND(J37=TRUNC(J37),J37>0),1,0),1,IF(ISNA(HLOOKUP(J37,$AV$4:$BE$4,1,0)),0,1)),0))) -> 1 | AY37: =IF(OR(K$30="",K$4=99),1,IF(K37="",0,IFERROR(CHOOSE(AY$28,IF(ISNA(MATCH(K37,$AS$30:$AT$30,0)),0,1),IF(ISNUMBER(K37),1,0),IF(K37=TRUNC(K37),1,0),IF(AND(K37*1=K37,K37>=0),1,0),IF(AND(K37=TRUNC(K37),K37>=0),1,0),IF(AND(K37*1=K37,K37>0),1,0),IF(AND(K37=TRUNC(K37),K37>0),1,0),1,IF(ISNA(HLOOKUP(K37,$AV$4:$BE$4,1,0)),0,1)),0))) -> 1 | AZ37: =IF(OR(L$30="",L$4=99),1,IF(L37="",0,IFERROR(CHOOSE(AZ$28,IF(ISNA(MATCH(L37,$AS$30:$AT$30,0)),0,1),IF(ISNUMBER(L37),1,0),IF(L37=TRUNC(L37),1,0),IF(AND(L37*1=L37,L37>=0),1,0),IF(AND(L37=TRUNC(L37),L37>=0),1,0),IF(AND(L37*1=L37,L37>0),1,0),IF(AND(L37=TRUNC(L37),L37>0),1,0),1,IF(ISNA(HLOOKUP(L37,$AV$4:$BE$4,1,0)),0,1)),0))) -> 1 | BA37: =IF(OR(M$30="",M$4=99),1,IF(M37="",0,IFERROR(CHOOSE(BA$28,IF(ISNA(MATCH(M37,$AS$30:$AT$30,0)),0,1),IF(ISNUMBER(M37),1,0),IF(M37=TRUNC(M37),1,0),IF(AND(M37*1=M37,M37>=0),1,0),IF(AND(M37=TRUNC(M37),M37>=0),1,0),IF(AND(M37*1=M37,M37>0),1,0),IF(AND(M37=TRUNC(M37),M37>0),1,0),1,IF(ISNA(HLOOKUP(M37,$AV$4:$BE$4,1,0)),0,1)),0))) -> 1 | BB37: =IF(OR(N$30="",N$4=99),1,IF(N37="",0,IFERROR(CHOOSE(BB$28,IF(ISNA(MATCH(N37,$AS$30:$AT$30,0)),0,1),IF(ISNUMBER(N37),1,0),IF(N37=TRUNC(N37),1,0),IF(AND(N37*1=N37,N37>=0),1,0),IF(AND(N37=TRUNC(N37),N37>=0),1,0),IF(AND(N37*1=N37,N37>0),1,0),IF(AND(N37=TRUNC(N37),N37>0),1,0),1,IF(ISNA(HLOOKUP(N37,$AV$4:$BE$4,1,0)),0,1)),0))) -> 1 | ... BF37: =IF(OR(R$30="",R$4=99),1,IF(R37="",0,IFERROR(CHOOSE(BF$28,IF(ISNA(MATCH(R37,$AS$30:$AT$30,0)),0,1),IF(ISNUMBER(R37),1,0),IF(R37=TRUNC(R37),1,0),IF(AND(R37*1=R37,R37>=0),1,0),IF(AND(R37=TRUNC(R37),R37>=0),1,0),IF(AND(R37*1=R37,R37>0),1,0),IF(AND(R37=TRUNC(R37),R37>0),1,0),1,IF(ISNA(HLOOKUP(R37,$AV$4:$BE$4,1,0)),0,1)),0))) -> 1 | BG37: =IF(OR(S$30="",S$4=99),1,IF(S37="",0,IFERROR(CHOOSE(BF$28,IF(ISNA(MATCH(S37,$AS$30:$AT$30,0)),0,1),IF(ISNUMBER(S37),1,0),IF(S37=TRUNC(S37),1,0),IF(AND(S37*1=S37,S37>=0),1,0),IF(AND(S37=TRUNC(S37),S37>=0),1,0),IF(AND(S37*1=S37,S37>0),1,0),IF(AND(S37=TRUNC(S37),S37>0),1,0),1,IF(ISNA(HLOOKUP(S37,$AV$4:$BE$4,1,0)),0,1)),0))) -> 1 | BH37: =IF(OR(T$30="",T$4=99),1,IF(T37="",0,IFERROR(CHOOSE(BG$28,IF(ISNA(MATCH(T37,$AS$30:$AT$30,0)),0,1),IF(ISNUMBER(T37),1,0),IF(T37=TRUNC(T37),1,0),IF(AND(T37*1=T37,T37>=0),1,0),IF(AND(T37=TRUNC(T37),T37>=0),1,0),IF(AND(T37*1=T37,T37>0),1,0),IF(AND(T37=TRUNC(T37),T37>0),1,0),1,IF(ISNA(HLOOKUP(T37,$AV$4:$BE$4,1,0)),0,1)),0))) -> 1 | BI37: =IF(OR(U$30="",U$4=99),1,IF(U37="",0,IFERROR(CHOOSE(BH$28,IF(ISNA(MATCH(U37,$AS$30:$AT$30,0)),0,1),IF(ISNUMBER(U37),1,0),IF(U37=TRUNC(U37),1,0),IF(AND(U37*1=U37,U37>=0),1,0),IF(AND(U37=TRUNC(U37),U37>=0),1,0),IF(AND(U37*1=U37,U37>0),1,0),IF(AND(U37=TRUNC(U37),U37>0),1,0),1,IF(ISNA(HLOOKUP(U37,$AV$4:$BE$4,1,0)),0,1)),0))) -> 1 | BJ37: =IF(OR(V$30="",V$4=99),1,IF(V37="",0,IFERROR(CHOOSE(BI$28,IF(ISNA(MATCH(V37,$AS$30:$AT$30,0)),0,1),IF(ISNUMBER(V37),1,0),IF(V37=TRUNC(V37),1,0),IF(AND(V37*1=V37,V37>=0),1,0),IF(AND(V37=TRUNC(V37),V37>=0),1,0),IF(AND(V37*1=V37,V37>0),1,0),IF(AND(V37=TRUNC(V37),V37>0),1,0),1,IF(ISNA(HLOOKUP(V37,$AV$4:$BE$4,1,0)),0,1)),0))) -> 1 | BK37: =IF(OR(W$30="",W$4=99),1,IF(W37="",0,IFERROR(CHOOSE(BJ$28,IF(ISNA(MATCH(W37,$AS$30:$AT$30,0)),0,1),IF(ISNUMBER(W37),1,0),IF(W37=TRUNC(W37),1,0),IF(AND(W37*1=W37,W37>=0),1,0),IF(AND(W37=TRUNC(W37),W37>=0),1,0),IF(AND(W37*1=W37,W37>0),1,0),IF(AND(W37=TRUNC(W37),W37>0),1,0),1,IF(ISNA(HLOOKUP(W37,$AV$4:$BE$4,1,0)),0,1)),0))) -> 1 | BL37: =IF(OR(X$30="",X$4=99),1,IF(X37="",0,IFERROR(CHOOSE(BK$28,IF(ISNA(MATCH(X37,$AS$30:$AT$30,0)),0,1),IF(ISNUMBER(X37),1,0),IF(X37=TRUNC(X37),1,0),IF(AND(X37*1=X37,X37>=0),1,0),IF(AND(X37=TRUNC(X37),X37>=0),1,0),IF(AND(X37*1=X37,X37>0),1,0),IF(AND(X37=TRUNC(X37),X37>0),1,0),1,IF(ISNA(HLOOKUP(X37,$AV$4:$BE$4,1,0)),0,1)),0))) -> 1 | BM37: =IF(OR(Y$30="",Y$4=99),1,IF(Y37="",0,IFERROR(CHOOSE(BL$28,IF(ISNA(MATCH(Y37,$AS$30:$AT$30,0)),0,1),IF(ISNUMBER(Y37),1,0),IF(Y37=TRUNC(Y37),1,0),IF(AND(Y37*1=Y37,Y37>=0),1,0),IF(AND(Y37=TRUNC(Y37),Y37>=0),1,0),IF(AND(Y37*1=Y37,Y37>0),1,0),IF(AND(Y37=TRUNC(Y37),Y37>0),1,0),1,IF(ISNA(HLOOKUP(Y37,$AV$4:$BE$4,1,0)),0,1)),0))) -> 1 | BN37: =IF(OR(Z$30="",Z$4=99),1,IF(Z37="",0,IFERROR(CHOOSE(BM$28,IF(ISNA(MATCH(Z37,$AS$30:$AT$30,0)),0,1),IF(ISNUMBER(Z37),1,0),IF(Z37=TRUNC(Z37),1,0),IF(AND(Z37*1=Z37,Z37>=0),1,0),IF(AND(Z37=TRUNC(Z37),Z37>=0),1,0),IF(AND(Z37*1=Z37,Z37>0),1,0),IF(AND(Z37=TRUNC(Z37),Z37>0),1,0),1,IF(ISNA(HLOOKUP(Z37,$AV$4:$BE$4,1,0)),0,1)),0))) -> 1 | ... BT37: =IF(OR(AF$30="",AF$4=99),1,IF(AF37="",0,IFERROR(CHOOSE(BS$28,IF(ISNA(MATCH(AF37,$AS$30:$AT$30,0)),0,1),IF(ISNUMBER(AF37),1,0),IF(AF37=TRUNC(AF37),1,0),IF(AND(AF37*1=AF37,AF37>=0),1,0),IF(AND(AF37=TRUNC(AF37),AF37>=0),1,0),IF(AND(AF37*1=AF37,AF37>0),1,0),IF(AND(AF37=TRUNC(AF37),AF37>0),1,0),1,IF(ISNA(HLOOKUP(AF37,$AV$4:$BE$4,1,0)),0,1)),0))) -> 1 | BU37: =IF(OR(AH$30="",AH$4=99),1,IF(AH37="",0,IFERROR(CHOOSE(BT$28,IF(ISNA(MATCH(AH37,$AS$30:$AT$30,0)),0,1),IF(ISNUMBER(AH37),1,0),IF(AH37=TRUNC(AH37),1,0),IF(AND(AH37*1=AH37,AH37>=0),1,0),IF(AND(AH37=TRUNC(AH37),AH37>=0),1,0),IF(AND(AH37*1=AH37,AH37>0),1,0),IF(AND(AH37=TRUNC(AH37),AH37>0),1,0),1,IF(ISNA(HLOOKUP(AH37,$AV$4:$BE$4,1,0)),0,1)),0))) -> 1 | BV37: =IF(OR(AI$30="",AI$4=99),1,IF(AI37="",0,IFERROR(CHOOSE(BU$28,IF(ISNA(MATCH(AI37,$AS$30:$AT$30,0)),0,1),IF(ISNUMBER(AI37),1,0),IF(AI37=TRUNC(AI37),1,0),IF(AND(AI37*1=AI37,AI37>=0),1,0),IF(AND(AI37=TRUNC(AI37),AI37>=0),1,0),IF(AND(AI37*1=AI37,AI37>0),1,0),IF(AND(AI37=TRUNC(AI37),AI37>0),1,0),1,IF(ISNA(HLOOKUP(AI37,$AV$4:$BE$4,1,0)),0,1)),0))) -> 1 | BW37: =IF(OR(AJ$30="",AJ$4=99),1,IF(AJ37="",0,IFERROR(CHOOSE(BV$28,IF(ISNA(MATCH(AJ37,$AS$30:$AT$30,0)),0,1),IF(ISNUMBER(AJ37),1,0),IF(AJ37=TRUNC(AJ37),1,0),IF(AND(AJ37*1=AJ37,AJ37>=0),1,0),IF(AND(AJ37=TRUNC(AJ37),AJ37>=0),1,0),IF(AND(AJ37*1=AJ37,AJ37>0),1,0),IF(AND(AJ37=TRUNC(AJ37),AJ37>0),1,0),1,IF(ISNA(HLOOKUP(AJ37,$AV$4:$BE$4,1,0)),0,1)),0))) -> 1 | BX37: =IF(OR(AK$30="",AK$4=99),1,IF(AK37="",0,IFERROR(CHOOSE(BW$28,IF(ISNA(MATCH(AK37,$AS$30:$AT$30,0)),0,1),IF(ISNUMBER(AK37),1,0),IF(AK37=TRUNC(AK37),1,0),IF(AND(AK37*1=AK37,AK37>=0),1,0),IF(AND(AK37=TRUNC(AK37),AK37>=0),1,0),IF(AND(AK37*1=AK37,AK37>0),1,0),IF(AND(AK37=TRUNC(AK37),AK37>0),1,0),1,IF(ISNA(HLOOKUP(AK37,$AV$4:$BE$4,1,0)),0,1)),0))) -> 1 | BY37: =IF(OR(AL$30="",AL$4=99),1,IF(AL37="",0,IFERROR(CHOOSE(BX$28,IF(ISNA(MATCH(AL37,$AS$30:$AT$30,0)),0,1),IF(ISNUMBER(AL37),1,0),IF(AL37=TRUNC(AL37),1,0),IF(AND(AL37*1=AL37,AL37>=0),1,0),IF(AND(AL37=TRUNC(AL37),AL37>=0),1,0),IF(AND(AL37*1=AL37,AL37>0),1,0),IF(AND(AL37=TRUNC(AL37),AL37>0),1,0),1,IF(ISNA(HLOOKUP(AL37,$AV$4:$BE$4,1,0)),0,1)),0))) -> 1 | BZ37: =IF(OR(AM$30="",AM$4=99),1,IF(AM37="",0,IFERROR(CHOOSE(BY$28,IF(ISNA(MATCH(AM37,$AS$30:$AT$30,0)),0,1),IF(ISNUMBER(AM37),1,0),IF(AM37=TRUNC(AM37),1,0),IF(AND(AM37*1=AM37,AM37>=0),1,0),IF(AND(AM37=TRUNC(AM37),AM37>=0),1,0),IF(AND(AM37*1=AM37,AM37>0),1,0),IF(AND(AM37=TRUNC(AM37),AM37>0),1,0),1,IF(ISNA(HLOOKUP(AM37,$AV$4:$BE$4,1,0)),0,1)),0))) -> 1 | CA37: =IF(OR(AN$30="",AN$4=99),1,IF(AN37="",0,IFERROR(CHOOSE(BZ$28,IF(ISNA(MATCH(AN37,$AS$30:$AT$30,0)),0,1),IF(ISNUMBER(AN37),1,0),IF(AN37=TRUNC(AN37),1,0),IF(AND(AN37*1=AN37,AN37>=0),1,0),IF(AND(AN37=TRUNC(AN37),AN37>=0),1,0),IF(AND(AN37*1=AN37,AN37>0),1,0),IF(AND(AN37=TRUNC(AN37),AN37>0),1,0),1,IF(ISNA(HLOOKUP(AN37,$AV$4:$BE$4,1,0)),0,1)),0))) -> 1 | CB37: =IF(OR(AO$30="",AO$4=99),1,IF(AO37="",0,IFERROR(CHOOSE(CA$28,IF(ISNA(MATCH(AO37,$AS$30:$AT$30,0)),0,1),IF(ISNUMBER(AO37),1,0),IF(AO37=TRUNC(AO37),1,0),IF(AND(AO37*1=AO37,AO37>=0),1,0),IF(AND(AO37=TRUNC(AO37),AO37>=0),1,0),IF(AND(AO37*1=AO37,AO37>0),1,0),IF(AND(AO37=TRUNC(AO37),AO37>0),1,0),1,IF(ISNA(HLOOKUP(AO37,$AV$4:$BE$4,1,0)),0,1)),0))) -> 1 | CC37: =IF(OR(AP$30="",AP$4=99),1,IF(AP37="",0,IFERROR(CHOOSE(CB$28,IF(ISNA(MATCH(AP37,$AS$30:$AT$30,0)),0,1),IF(ISNUMBER(AP37),1,0),IF(AP37=TRUNC(AP37),1,0),IF(AND(AP37*1=AP37,AP37>=0),1,0),IF(AND(AP37=TRUNC(AP37),AP37>=0),1,0),IF(AND(AP37*1=AP37,AP37>0),1,0),IF(AND(AP37=TRUNC(AP37),AP37>0),1,0),1,IF(ISNA(HLOOKUP(AP37,$AV$4:$BE$4,1,0)),0,1)),0))) -> 1 | CH37: =IF($F37="","",CH$30) -> 1 | CI37: =IF($F37="","",CI$30) -> 2 | CJ37: =IF($F37="","",CJ$30) -> 3 | CK37: =IF($F37="","",CK$30) -> 4 | CL37: =IF($F37="","",CL$30) -> 5 | CM37: =IF($F37="","",CM$30) -> 6 | CN37: =IF($F37="","",CN$30) -> 7 | CO37: =IF($F37="","",CO$30) -> 8 | ... CQ37: =IF($F37="","",CQ$30) -> 10 | CW37: =W37>=CV$5 -> TRUE | CX37: =X37>=CW$5 -> FALSE | CY37: =Y37>=CX$5 -> TRUE | DC37: =COUNTIF(CW37:DA37,TRUE) -> 2 | DD37: =W37>=DC$5 -> TRUE | DE37: =X37>=DD$5 -> FALSE | DF37: =Y37>=DE$5 -> TRUE | DK37: =COUNTIF(DD37:DJ37,TRUE) -> 2 | DM37: =IF($F37="","",IF(AND(DK37=$CW$3,DK37-DC37<=$DD$3),1,0)) -> 0
B38: =IF(F38="","",ROW()-30) -> 8 | F38: אור מרין ואורן נחום | G38: 1 | H38: 1 | I38: 1 | J38: 1 | K38: 1 | L38: 1 | M38: 1 | N38: 1 | O38: 1 | P38: 1 | Q38: 1 | R38: 1 | S38: 0 | T38: 1 | U38: 1 | V38: 1 | W38: 1 | X38: 1 | Y38: 1 | Z38: =IF(F38="","",IF(AND(S38=1,T38=1),$AS$1,IF(OR(S38=1,AND(T38=1,U38=1,V38=1,W38=1,X38=1,Y38=1)),1,0))) -> 1 | AA38: 1 | AF38: =IF($F38="","",IF(OR(DL38=1,AND(DM38=1,AA38=1)),1,0)) -> 0 | AG38: 1 | AH38: =IF(F38="","",IF(AA38=1,1,IF(AND(AB38="לא",SUM(AC38:AD38)=2),1,IF(AND(AB38="כן",SUM(AC38:AE38)=3),1,0)))) -> 1 | AK38: =IF(F38="","",IF(G38>=$G$5,1,0)) -> 1 | AP38: =IF($F38="","",IF(AL38=1,1,IF(AR38<>1,$AS$1,IF(SUMPRODUCT(--(G38:AK38>=$G$5:$AK$5)*($G$5:$AK$5<>"")*($G$4:$AK$4=1))=COUNTIF($G$4:$AK$4,1),1,0)))) -> 1 | AR38: =IF(OR(SUM(AU38:CC38)<>COUNT(AU38:CC38),SUMPRODUCT(--(G38:AK38=$AS$1))<>0),0,1) -> 1 | AS38: =IF($F38="","",AS$30) -> 0 | AT38: =IF($F38="","",AT$30) -> 1 | AU38: =IF(OR(G$30="",G$4=99),1,IF(G38="",0,IFERROR(CHOOSE(AU$28,IF(ISNA(MATCH(G38,$AS$30:$AT$30,0)),0,1),IF(ISNUMBER(G38),1,0),IF(G38=TRUNC(G38),1,0),IF(AND(G38*1=G38,G38>=0),1,0),IF(AND(G38=TRUNC(G38),G38>=0),1,0),IF(AND(G38*1=G38,G38>0),1,0),IF(AND(G38=TRUNC(G38),G38>0),1,0),1,IF(ISNA(HLOOKUP(G38,$AV$4:$BE$4,1,0)),0,1)),0))) -> 1 | AV38: =IF(OR(H$30="",H$4=99),1,IF(H38="",0,IFERROR(CHOOSE(AV$28,IF(ISNA(MATCH(H38,$AS$30:$AT$30,0)),0,1),IF(ISNUMBER(H38),1,0),IF(H38=TRUNC(H38),1,0),IF(AND(H38*1=H38,H38>=0),1,0),IF(AND(H38=TRUNC(H38),H38>=0),1,0),IF(AND(H38*1=H38,H38>0),1,0),IF(AND(H38=TRUNC(H38),H38>0),1,0),1,IF(ISNA(HLOOKUP(H38,$AV$4:$BE$4,1,0)),0,1)),0))) -> 1 | AW38: =IF(OR(I$30="",I$4=99),1,IF(I38="",0,IFERROR(CHOOSE(AW$28,IF(ISNA(MATCH(I38,$AS$30:$AT$30,0)),0,1),IF(ISNUMBER(I38),1,0),IF(I38=TRUNC(I38),1,0),IF(AND(I38*1=I38,I38>=0),1,0),IF(AND(I38=TRUNC(I38),I38>=0),1,0),IF(AND(I38*1=I38,I38>0),1,0),IF(AND(I38=TRUNC(I38),I38>0),1,0),1,IF(ISNA(HLOOKUP(I38,$AV$4:$BE$4,1,0)),0,1)),0))) -> 1 | AX38: =IF(OR(J$30="",J$4=99),1,IF(J38="",0,IFERROR(CHOOSE(AX$28,IF(ISNA(MATCH(J38,$AS$30:$AT$30,0)),0,1),IF(ISNUMBER(J38),1,0),IF(J38=TRUNC(J38),1,0),IF(AND(J38*1=J38,J38>=0),1,0),IF(AND(J38=TRUNC(J38),J38>=0),1,0),IF(AND(J38*1=J38,J38>0),1,0),IF(AND(J38=TRUNC(J38),J38>0),1,0),1,IF(ISNA(HLOOKUP(J38,$AV$4:$BE$4,1,0)),0,1)),0))) -> 1 | AY38: =IF(OR(K$30="",K$4=99),1,IF(K38="",0,IFERROR(CHOOSE(AY$28,IF(ISNA(MATCH(K38,$AS$30:$AT$30,0)),0,1),IF(ISNUMBER(K38),1,0),IF(K38=TRUNC(K38),1,0),IF(AND(K38*1=K38,K38>=0),1,0),IF(AND(K38=TRUNC(K38),K38>=0),1,0),IF(AND(K38*1=K38,K38>0),1,0),IF(AND(K38=TRUNC(K38),K38>0),1,0),1,IF(ISNA(HLOOKUP(K38,$AV$4:$BE$4,1,0)),0,1)),0))) -> 1 | AZ38: =IF(OR(L$30="",L$4=99),1,IF(L38="",0,IFERROR(CHOOSE(AZ$28,IF(ISNA(MATCH(L38,$AS$30:$AT$30,0)),0,1),IF(ISNUMBER(L38),1,0),IF(L38=TRUNC(L38),1,0),IF(AND(L38*1=L38,L38>=0),1,0),IF(AND(L38=TRUNC(L38),L38>=0),1,0),IF(AND(L38*1=L38,L38>0),1,0),IF(AND(L38=TRUNC(L38),L38>0),1,0),1,IF(ISNA(HLOOKUP(L38,$AV$4:$BE$4,1,0)),0,1)),0))) -> 1 | BA38: =IF(OR(M$30="",M$4=99),1,IF(M38="",0,IFERROR(CHOOSE(BA$28,IF(ISNA(MATCH(M38,$AS$30:$AT$30,0)),0,1),IF(ISNUMBER(M38),1,0),IF(M38=TRUNC(M38),1,0),IF(AND(M38*1=M38,M38>=0),1,0),IF(AND(M38=TRUNC(M38),M38>=0),1,0),IF(AND(M38*1=M38,M38>0),1,0),IF(AND(M38=TRUNC(M38),M38>0),1,0),1,IF(ISNA(HLOOKUP(M38,$AV$4:$BE$4,1,0)),0,1)),0))) -> 1 | BB38: =IF(OR(N$30="",N$4=99),1,IF(N38="",0,IFERROR(CHOOSE(BB$28,IF(ISNA(MATCH(N38,$AS$30:$AT$30,0)),0,1),IF(ISNUMBER(N38),1,0),IF(N38=TRUNC(N38),1,0),IF(AND(N38*1=N38,N38>=0),1,0),IF(AND(N38=TRUNC(N38),N38>=0),1,0),IF(AND(N38*1=N38,N38>0),1,0),IF(AND(N38=TRUNC(N38),N38>0),1,0),1,IF(ISNA(HLOOKUP(N38,$AV$4:$BE$4,1,0)),0,1)),0))) -> 1 | ... BF38: =IF(OR(R$30="",R$4=99),1,IF(R38="",0,IFERROR(CHOOSE(BF$28,IF(ISNA(MATCH(R38,$AS$30:$AT$30,0)),0,1),IF(ISNUMBER(R38),1,0),IF(R38=TRUNC(R38),1,0),IF(AND(R38*1=R38,R38>=0),1,0),IF(AND(R38=TRUNC(R38),R38>=0),1,0),IF(AND(R38*1=R38,R38>0),1,0),IF(AND(R38=TRUNC(R38),R38>0),1,0),1,IF(ISNA(HLOOKUP(R38,$AV$4:$BE$4,1,0)),0,1)),0))) -> 1 | BG38: =IF(OR(S$30="",S$4=99),1,IF(S38="",0,IFERROR(CHOOSE(BF$28,IF(ISNA(MATCH(S38,$AS$30:$AT$30,0)),0,1),IF(ISNUMBER(S38),1,0),IF(S38=TRUNC(S38),1,0),IF(AND(S38*1=S38,S38>=0),1,0),IF(AND(S38=TRUNC(S38),S38>=0),1,0),IF(AND(S38*1=S38,S38>0),1,0),IF(AND(S38=TRUNC(S38),S38>0),1,0),1,IF(ISNA(HLOOKUP(S38,$AV$4:$BE$4,1,0)),0,1)),0))) -> 1 | BH38: =IF(OR(T$30="",T$4=99),1,IF(T38="",0,IFERROR(CHOOSE(BG$28,IF(ISNA(MATCH(T38,$AS$30:$AT$30,0)),0,1),IF(ISNUMBER(T38),1,0),IF(T38=TRUNC(T38),1,0),IF(AND(T38*1=T38,T38>=0),1,0),IF(AND(T38=TRUNC(T38),T38>=0),1,0),IF(AND(T38*1=T38,T38>0),1,0),IF(AND(T38=TRUNC(T38),T38>0),1,0),1,IF(ISNA(HLOOKUP(T38,$AV$4:$BE$4,1,0)),0,1)),0))) -> 1 | BI38: =IF(OR(U$30="",U$4=99),1,IF(U38="",0,IFERROR(CHOOSE(BH$28,IF(ISNA(MATCH(U38,$AS$30:$AT$30,0)),0,1),IF(ISNUMBER(U38),1,0),IF(U38=TRUNC(U38),1,0),IF(AND(U38*1=U38,U38>=0),1,0),IF(AND(U38=TRUNC(U38),U38>=0),1,0),IF(AND(U38*1=U38,U38>0),1,0),IF(AND(U38=TRUNC(U38),U38>0),1,0),1,IF(ISNA(HLOOKUP(U38,$AV$4:$BE$4,1,0)),0,1)),0))) -> 1 | BJ38: =IF(OR(V$30="",V$4=99),1,IF(V38="",0,IFERROR(CHOOSE(BI$28,IF(ISNA(MATCH(V38,$AS$30:$AT$30,0)),0,1),IF(ISNUMBER(V38),1,0),IF(V38=TRUNC(V38),1,0),IF(AND(V38*1=V38,V38>=0),1,0),IF(AND(V38=TRUNC(V38),V38>=0),1,0),IF(AND(V38*1=V38,V38>0),1,0),IF(AND(V38=TRUNC(V38),V38>0),1,0),1,IF(ISNA(HLOOKUP(V38,$AV$4:$BE$4,1,0)),0,1)),0))) -> 1 | BK38: =IF(OR(W$30="",W$4=99),1,IF(W38="",0,IFERROR(CHOOSE(BJ$28,IF(ISNA(MATCH(W38,$AS$30:$AT$30,0)),0,1),IF(ISNUMBER(W38),1,0),IF(W38=TRUNC(W38),1,0),IF(AND(W38*1=W38,W38>=0),1,0),IF(AND(W38=TRUNC(W38),W38>=0),1,0),IF(AND(W38*1=W38,W38>0),1,0),IF(AND(W38=TRUNC(W38),W38>0),1,0),1,IF(ISNA(HLOOKUP(W38,$AV$4:$BE$4,1,0)),0,1)),0))) -> 1 | BL38: =IF(OR(X$30="",X$4=99),1,IF(X38="",0,IFERROR(CHOOSE(BK$28,IF(ISNA(MATCH(X38,$AS$30:$AT$30,0)),0,1),IF(ISNUMBER(X38),1,0),IF(X38=TRUNC(X38),1,0),IF(AND(X38*1=X38,X38>=0),1,0),IF(AND(X38=TRUNC(X38),X38>=0),1,0),IF(AND(X38*1=X38,X38>0),1,0),IF(AND(X38=TRUNC(X38),X38>0),1,0),1,IF(ISNA(HLOOKUP(X38,$AV$4:$BE$4,1,0)),0,1)),0))) -> 1 | BM38: =IF(OR(Y$30="",Y$4=99),1,IF(Y38="",0,IFERROR(CHOOSE(BL$28,IF(ISNA(MATCH(Y38,$AS$30:$AT$30,0)),0,1),IF(ISNUMBER(Y38),1,0),IF(Y38=TRUNC(Y38),1,0),IF(AND(Y38*1=Y38,Y38>=0),1,0),IF(AND(Y38=TRUNC(Y38),Y38>=0),1,0),IF(AND(Y38*1=Y38,Y38>0),1,0),IF(AND(Y38=TRUNC(Y38),Y38>0),1,0),1,IF(ISNA(HLOOKUP(Y38,$AV$4:$BE$4,1,0)),0,1)),0))) -> 1 | BN38: =IF(OR(Z$30="",Z$4=99),1,IF(Z38="",0,IFERROR(CHOOSE(BM$28,IF(ISNA(MATCH(Z38,$AS$30:$AT$30,0)),0,1),IF(ISNUMBER(Z38),1,0),IF(Z38=TRUNC(Z38),1,0),IF(AND(Z38*1=Z38,Z38>=0),1,0),IF(AND(Z38=TRUNC(Z38),Z38>=0),1,0),IF(AND(Z38*1=Z38,Z38>0),1,0),IF(AND(Z38=TRUNC(Z38),Z38>0),1,0),1,IF(ISNA(HLOOKUP(Z38,$AV$4:$BE$4,1,0)),0,1)),0))) -> 1 | ... BT38: =IF(OR(AF$30="",AF$4=99),1,IF(AF38="",0,IFERROR(CHOOSE(BS$28,IF(ISNA(MATCH(AF38,$AS$30:$AT$30,0)),0,1),IF(ISNUMBER(AF38),1,0),IF(AF38=TRUNC(AF38),1,0),IF(AND(AF38*1=AF38,AF38>=0),1,0),IF(AND(AF38=TRUNC(AF38),AF38>=0),1,0),IF(AND(AF38*1=AF38,AF38>0),1,0),IF(AND(AF38=TRUNC(AF38),AF38>0),1,0),1,IF(ISNA(HLOOKUP(AF38,$AV$4:$BE$4,1,0)),0,1)),0))) -> 1 | BU38: =IF(OR(AH$30="",AH$4=99),1,IF(AH38="",0,IFERROR(CHOOSE(BT$28,IF(ISNA(MATCH(AH38,$AS$30:$AT$30,0)),0,1),IF(ISNUMBER(AH38),1,0),IF(AH38=TRUNC(AH38),1,0),IF(AND(AH38*1=AH38,AH38>=0),1,0),IF(AND(AH38=TRUNC(AH38),AH38>=0),1,0),IF(AND(AH38*1=AH38,AH38>0),1,0),IF(AND(AH38=TRUNC(AH38),AH38>0),1,0),1,IF(ISNA(HLOOKUP(AH38,$AV$4:$BE$4,1,0)),0,1)),0))) -> 1 | BV38: =IF(OR(AI$30="",AI$4=99),1,IF(AI38="",0,IFERROR(CHOOSE(BU$28,IF(ISNA(MATCH(AI38,$AS$30:$AT$30,0)),0,1),IF(ISNUMBER(AI38),1,0),IF(AI38=TRUNC(AI38),1,0),IF(AND(AI38*1=AI38,AI38>=0),1,0),IF(AND(AI38=TRUNC(AI38),AI38>=0),1,0),IF(AND(AI38*1=AI38,AI38>0),1,0),IF(AND(AI38=TRUNC(AI38),AI38>0),1,0),1,IF(ISNA(HLOOKUP(AI38,$AV$4:$BE$4,1,0)),0,1)),0))) -> 1 | BW38: =IF(OR(AJ$30="",AJ$4=99),1,IF(AJ38="",0,IFERROR(CHOOSE(BV$28,IF(ISNA(MATCH(AJ38,$AS$30:$AT$30,0)),0,1),IF(ISNUMBER(AJ38),1,0),IF(AJ38=TRUNC(AJ38),1,0),IF(AND(AJ38*1=AJ38,AJ38>=0),1,0),IF(AND(AJ38=TRUNC(AJ38),AJ38>=0),1,0),IF(AND(AJ38*1=AJ38,AJ38>0),1,0),IF(AND(AJ38=TRUNC(AJ38),AJ38>0),1,0),1,IF(ISNA(HLOOKUP(AJ38,$AV$4:$BE$4,1,0)),0,1)),0))) -> 1 | BX38: =IF(OR(AK$30="",AK$4=99),1,IF(AK38="",0,IFERROR(CHOOSE(BW$28,IF(ISNA(MATCH(AK38,$AS$30:$AT$30,0)),0,1),IF(ISNUMBER(AK38),1,0),IF(AK38=TRUNC(AK38),1,0),IF(AND(AK38*1=AK38,AK38>=0),1,0),IF(AND(AK38=TRUNC(AK38),AK38>=0),1,0),IF(AND(AK38*1=AK38,AK38>0),1,0),IF(AND(AK38=TRUNC(AK38),AK38>0),1,0),1,IF(ISNA(HLOOKUP(AK38,$AV$4:$BE$4,1,0)),0,1)),0))) -> 1 | BY38: =IF(OR(AL$30="",AL$4=99),1,IF(AL38="",0,IFERROR(CHOOSE(BX$28,IF(ISNA(MATCH(AL38,$AS$30:$AT$30,0)),0,1),IF(ISNUMBER(AL38),1,0),IF(AL38=TRUNC(AL38),1,0),IF(AND(AL38*1=AL38,AL38>=0),1,0),IF(AND(AL38=TRUNC(AL38),AL38>=0),1,0),IF(AND(AL38*1=AL38,AL38>0),1,0),IF(AND(AL38=TRUNC(AL38),AL38>0),1,0),1,IF(ISNA(HLOOKUP(AL38,$AV$4:$BE$4,1,0)),0,1)),0))) -> 1 | BZ38: =IF(OR(AM$30="",AM$4=99),1,IF(AM38="",0,IFERROR(CHOOSE(BY$28,IF(ISNA(MATCH(AM38,$AS$30:$AT$30,0)),0,1),IF(ISNUMBER(AM38),1,0),IF(AM38=TRUNC(AM38),1,0),IF(AND(AM38*1=AM38,AM38>=0),1,0),IF(AND(AM38=TRUNC(AM38),AM38>=0),1,0),IF(AND(AM38*1=AM38,AM38>0),1,0),IF(AND(AM38=TRUNC(AM38),AM38>0),1,0),1,IF(ISNA(HLOOKUP(AM38,$AV$4:$BE$4,1,0)),0,1)),0))) -> 1 | CA38: =IF(OR(AN$30="",AN$4=99),1,IF(AN38="",0,IFERROR(CHOOSE(BZ$28,IF(ISNA(MATCH(AN38,$AS$30:$AT$30,0)),0,1),IF(ISNUMBER(AN38),1,0),IF(AN38=TRUNC(AN38),1,0),IF(AND(AN38*1=AN38,AN38>=0),1,0),IF(AND(AN38=TRUNC(AN38),AN38>=0),1,0),IF(AND(AN38*1=AN38,AN38>0),1,0),IF(AND(AN38=TRUNC(AN38),AN38>0),1,0),1,IF(ISNA(HLOOKUP(AN38,$AV$4:$BE$4,1,0)),0,1)),0))) -> 1 | CB38: =IF(OR(AO$30="",AO$4=99),1,IF(AO38="",0,IFERROR(CHOOSE(CA$28,IF(ISNA(MATCH(AO38,$AS$30:$AT$30,0)),0,1),IF(ISNUMBER(AO38),1,0),IF(AO38=TRUNC(AO38),1,0),IF(AND(AO38*1=AO38,AO38>=0),1,0),IF(AND(AO38=TRUNC(AO38),AO38>=0),1,0),IF(AND(AO38*1=AO38,AO38>0),1,0),IF(AND(AO38=TRUNC(AO38),AO38>0),1,0),1,IF(ISNA(HLOOKUP(AO38,$AV$4:$BE$4,1,0)),0,1)),0))) -> 1 | CC38: =IF(OR(AP$30="",AP$4=99),1,IF(AP38="",0,IFERROR(CHOOSE(CB$28,IF(ISNA(MATCH(AP38,$AS$30:$AT$30,0)),0,1),IF(ISNUMBER(AP38),1,0),IF(AP38=TRUNC(AP38),1,0),IF(AND(AP38*1=AP38,AP38>=0),1,0),IF(AND(AP38=TRUNC(AP38),AP38>=0),1,0),IF(AND(AP38*1=AP38,AP38>0),1,0),IF(AND(AP38=TRUNC(AP38),AP38>0),1,0),1,IF(ISNA(HLOOKUP(AP38,$AV$4:$BE$4,1,0)),0,1)),0))) -> 1 | CH38: =IF($F38="","",CH$30) -> 1 | CI38: =IF($F38="","",CI$30) -> 2 | CJ38: =IF($F38="","",CJ$30) -> 3 | CK38: =IF($F38="","",CK$30) -> 4 | CL38: =IF($F38="","",CL$30) -> 5 | CM38: =IF($F38="","",CM$30) -> 6 | CN38: =IF($F38="","",CN$30) -> 7 | CO38: =IF($F38="","",CO$30) -> 8 | ... CQ38: =IF($F38="","",CQ$30) -> 10 | CW38: =W38>=CV$5 -> TRUE | CX38: =X38>=CW$5 -> FALSE | CY38: =Y38>=CX$5 -> TRUE | DC38: =COUNTIF(CW38:DA38,TRUE) -> 2 | DD38: =W38>=DC$5 -> TRUE | DE38: =X38>=DD$5 -> FALSE | DF38: =Y38>=DE$5 -> TRUE | DK38: =COUNTIF(DD38:DJ38,TRUE) -> 2 | DM38: =IF($F38="","",IF(AND(DK38=$CW$3,DK38-DC38<=$DD$3),1,0)) -> 0
B39: =IF(F39="","",ROW()-30) -> 9 | F39: אורי שפיר | G39: 1 | H39: 1 | I39: 1 | J39: 1 | K39: 1 | L39: 1 | M39: 1 | N39: 1 | O39: 1 | P39: 1 | Q39: 1 | R39: 1 | S39: 0 | T39: 1 | U39: 1 | V39: 1 | W39: 1 | X39: 1 | Y39: 1 | Z39: =IF(F39="","",IF(AND(S39=1,T39=1),$AS$1,IF(OR(S39=1,AND(T39=1,U39=1,V39=1,W39=1,X39=1,Y39=1)),1,0))) -> 1 | AA39: 1 | AF39: =IF($F39="","",IF(OR(DL39=1,AND(DM39=1,AA39=1)),1,0)) -> 0 | AG39: 1 | AH39: =IF(F39="","",IF(AA39=1,1,IF(AND(AB39="לא",SUM(AC39:AD39)=2),1,IF(AND(AB39="כן",SUM(AC39:AE39)=3),1,0)))) -> 1 | AK39: =IF(F39="","",IF(G39>=$G$5,1,0)) -> 1 | AP39: =IF($F39="","",IF(AL39=1,1,IF(AR39<>1,$AS$1,IF(SUMPRODUCT(--(G39:AK39>=$G$5:$AK$5)*($G$5:$AK$5<>"")*($G$4:$AK$4=1))=COUNTIF($G$4:$AK$4,1),1,0)))) -> 1 | AR39: =IF(OR(SUM(AU39:CC39)<>COUNT(AU39:CC39),SUMPRODUCT(--(G39:AK39=$AS$1))<>0),0,1) -> 1 | AS39: =IF($F39="","",AS$30) -> 0 | AT39: =IF($F39="","",AT$30) -> 1 | AU39: =IF(OR(G$30="",G$4=99),1,IF(G39="",0,IFERROR(CHOOSE(AU$28,IF(ISNA(MATCH(G39,$AS$30:$AT$30,0)),0,1),IF(ISNUMBER(G39),1,0),IF(G39=TRUNC(G39),1,0),IF(AND(G39*1=G39,G39>=0),1,0),IF(AND(G39=TRUNC(G39),G39>=0),1,0),IF(AND(G39*1=G39,G39>0),1,0),IF(AND(G39=TRUNC(G39),G39>0),1,0),1,IF(ISNA(HLOOKUP(G39,$AV$4:$BE$4,1,0)),0,1)),0))) -> 1 | AV39: =IF(OR(H$30="",H$4=99),1,IF(H39="",0,IFERROR(CHOOSE(AV$28,IF(ISNA(MATCH(H39,$AS$30:$AT$30,0)),0,1),IF(ISNUMBER(H39),1,0),IF(H39=TRUNC(H39),1,0),IF(AND(H39*1=H39,H39>=0),1,0),IF(AND(H39=TRUNC(H39),H39>=0),1,0),IF(AND(H39*1=H39,H39>0),1,0),IF(AND(H39=TRUNC(H39),H39>0),1,0),1,IF(ISNA(HLOOKUP(H39,$AV$4:$BE$4,1,0)),0,1)),0))) -> 1 | AW39: =IF(OR(I$30="",I$4=99),1,IF(I39="",0,IFERROR(CHOOSE(AW$28,IF(ISNA(MATCH(I39,$AS$30:$AT$30,0)),0,1),IF(ISNUMBER(I39),1,0),IF(I39=TRUNC(I39),1,0),IF(AND(I39*1=I39,I39>=0),1,0),IF(AND(I39=TRUNC(I39),I39>=0),1,0),IF(AND(I39*1=I39,I39>0),1,0),IF(AND(I39=TRUNC(I39),I39>0),1,0),1,IF(ISNA(HLOOKUP(I39,$AV$4:$BE$4,1,0)),0,1)),0))) -> 1 | AX39: =IF(OR(J$30="",J$4=99),1,IF(J39="",0,IFERROR(CHOOSE(AX$28,IF(ISNA(MATCH(J39,$AS$30:$AT$30,0)),0,1),IF(ISNUMBER(J39),1,0),IF(J39=TRUNC(J39),1,0),IF(AND(J39*1=J39,J39>=0),1,0),IF(AND(J39=TRUNC(J39),J39>=0),1,0),IF(AND(J39*1=J39,J39>0),1,0),IF(AND(J39=TRUNC(J39),J39>0),1,0),1,IF(ISNA(HLOOKUP(J39,$AV$4:$BE$4,1,0)),0,1)),0))) -> 1 | AY39: =IF(OR(K$30="",K$4=99),1,IF(K39="",0,IFERROR(CHOOSE(AY$28,IF(ISNA(MATCH(K39,$AS$30:$AT$30,0)),0,1),IF(ISNUMBER(K39),1,0),IF(K39=TRUNC(K39),1,0),IF(AND(K39*1=K39,K39>=0),1,0),IF(AND(K39=TRUNC(K39),K39>=0),1,0),IF(AND(K39*1=K39,K39>0),1,0),IF(AND(K39=TRUNC(K39),K39>0),1,0),1,IF(ISNA(HLOOKUP(K39,$AV$4:$BE$4,1,0)),0,1)),0))) -> 1 | AZ39: =IF(OR(L$30="",L$4=99),1,IF(L39="",0,IFERROR(CHOOSE(AZ$28,IF(ISNA(MATCH(L39,$AS$30:$AT$30,0)),0,1),IF(ISNUMBER(L39),1,0),IF(L39=TRUNC(L39),1,0),IF(AND(L39*1=L39,L39>=0),1,0),IF(AND(L39=TRUNC(L39),L39>=0),1,0),IF(AND(L39*1=L39,L39>0),1,0),IF(AND(L39=TRUNC(L39),L39>0),1,0),1,IF(ISNA(HLOOKUP(L39,$AV$4:$BE$4,1,0)),0,1)),0))) -> 1 | BA39: =IF(OR(M$30="",M$4=99),1,IF(M39="",0,IFERROR(CHOOSE(BA$28,IF(ISNA(MATCH(M39,$AS$30:$AT$30,0)),0,1),IF(ISNUMBER(M39),1,0),IF(M39=TRUNC(M39),1,0),IF(AND(M39*1=M39,M39>=0),1,0),IF(AND(M39=TRUNC(M39),M39>=0),1,0),IF(AND(M39*1=M39,M39>0),1,0),IF(AND(M39=TRUNC(M39),M39>0),1,0),1,IF(ISNA(HLOOKUP(M39,$AV$4:$BE$4,1,0)),0,1)),0))) -> 1 | BB39: =IF(OR(N$30="",N$4=99),1,IF(N39="",0,IFERROR(CHOOSE(BB$28,IF(ISNA(MATCH(N39,$AS$30:$AT$30,0)),0,1),IF(ISNUMBER(N39),1,0),IF(N39=TRUNC(N39),1,0),IF(AND(N39*1=N39,N39>=0),1,0),IF(AND(N39=TRUNC(N39),N39>=0),1,0),IF(AND(N39*1=N39,N39>0),1,0),IF(AND(N39=TRUNC(N39),N39>0),1,0),1,IF(ISNA(HLOOKUP(N39,$AV$4:$BE$4,1,0)),0,1)),0))) -> 1 | ... BF39: =IF(OR(R$30="",R$4=99),1,IF(R39="",0,IFERROR(CHOOSE(BF$28,IF(ISNA(MATCH(R39,$AS$30:$AT$30,0)),0,1),IF(ISNUMBER(R39),1,0),IF(R39=TRUNC(R39),1,0),IF(AND(R39*1=R39,R39>=0),1,0),IF(AND(R39=TRUNC(R39),R39>=0),1,0),IF(AND(R39*1=R39,R39>0),1,0),IF(AND(R39=TRUNC(R39),R39>0),1,0),1,IF(ISNA(HLOOKUP(R39,$AV$4:$BE$4,1,0)),0,1)),0))) -> 1 | BG39: =IF(OR(S$30="",S$4=99),1,IF(S39="",0,IFERROR(CHOOSE(BF$28,IF(ISNA(MATCH(S39,$AS$30:$AT$30,0)),0,1),IF(ISNUMBER(S39),1,0),IF(S39=TRUNC(S39),1,0),IF(AND(S39*1=S39,S39>=0),1,0),IF(AND(S39=TRUNC(S39),S39>=0),1,0),IF(AND(S39*1=S39,S39>0),1,0),IF(AND(S39=TRUNC(S39),S39>0),1,0),1,IF(ISNA(HLOOKUP(S39,$AV$4:$BE$4,1,0)),0,1)),0))) -> 1 | BH39: =IF(OR(T$30="",T$4=99),1,IF(T39="",0,IFERROR(CHOOSE(BG$28,IF(ISNA(MATCH(T39,$AS$30:$AT$30,0)),0,1),IF(ISNUMBER(T39),1,0),IF(T39=TRUNC(T39),1,0),IF(AND(T39*1=T39,T39>=0),1,0),IF(AND(T39=TRUNC(T39),T39>=0),1,0),IF(AND(T39*1=T39,T39>0),1,0),IF(AND(T39=TRUNC(T39),T39>0),1,0),1,IF(ISNA(HLOOKUP(T39,$AV$4:$BE$4,1,0)),0,1)),0))) -> 1 | BI39: =IF(OR(U$30="",U$4=99),1,IF(U39="",0,IFERROR(CHOOSE(BH$28,IF(ISNA(MATCH(U39,$AS$30:$AT$30,0)),0,1),IF(ISNUMBER(U39),1,0),IF(U39=TRUNC(U39),1,0),IF(AND(U39*1=U39,U39>=0),1,0),IF(AND(U39=TRUNC(U39),U39>=0),1,0),IF(AND(U39*1=U39,U39>0),1,0),IF(AND(U39=TRUNC(U39),U39>0),1,0),1,IF(ISNA(HLOOKUP(U39,$AV$4:$BE$4,1,0)),0,1)),0))) -> 1 | BJ39: =IF(OR(V$30="",V$4=99),1,IF(V39="",0,IFERROR(CHOOSE(BI$28,IF(ISNA(MATCH(V39,$AS$30:$AT$30,0)),0,1),IF(ISNUMBER(V39),1,0),IF(V39=TRUNC(V39),1,0),IF(AND(V39*1=V39,V39>=0),1,0),IF(AND(V39=TRUNC(V39),V39>=0),1,0),IF(AND(V39*1=V39,V39>0),1,0),IF(AND(V39=TRUNC(V39),V39>0),1,0),1,IF(ISNA(HLOOKUP(V39,$AV$4:$BE$4,1,0)),0,1)),0))) -> 1 | BK39: =IF(OR(W$30="",W$4=99),1,IF(W39="",0,IFERROR(CHOOSE(BJ$28,IF(ISNA(MATCH(W39,$AS$30:$AT$30,0)),0,1),IF(ISNUMBER(W39),1,0),IF(W39=TRUNC(W39),1,0),IF(AND(W39*1=W39,W39>=0),1,0),IF(AND(W39=TRUNC(W39),W39>=0),1,0),IF(AND(W39*1=W39,W39>0),1,0),IF(AND(W39=TRUNC(W39),W39>0),1,0),1,IF(ISNA(HLOOKUP(W39,$AV$4:$BE$4,1,0)),0,1)),0))) -> 1 | BL39: =IF(OR(X$30="",X$4=99),1,IF(X39="",0,IFERROR(CHOOSE(BK$28,IF(ISNA(MATCH(X39,$AS$30:$AT$30,0)),0,1),IF(ISNUMBER(X39),1,0),IF(X39=TRUNC(X39),1,0),IF(AND(X39*1=X39,X39>=0),1,0),IF(AND(X39=TRUNC(X39),X39>=0),1,0),IF(AND(X39*1=X39,X39>0),1,0),IF(AND(X39=TRUNC(X39),X39>0),1,0),1,IF(ISNA(HLOOKUP(X39,$AV$4:$BE$4,1,0)),0,1)),0))) -> 1 | BM39: =IF(OR(Y$30="",Y$4=99),1,IF(Y39="",0,IFERROR(CHOOSE(BL$28,IF(ISNA(MATCH(Y39,$AS$30:$AT$30,0)),0,1),IF(ISNUMBER(Y39),1,0),IF(Y39=TRUNC(Y39),1,0),IF(AND(Y39*1=Y39,Y39>=0),1,0),IF(AND(Y39=TRUNC(Y39),Y39>=0),1,0),IF(AND(Y39*1=Y39,Y39>0),1,0),IF(AND(Y39=TRUNC(Y39),Y39>0),1,0),1,IF(ISNA(HLOOKUP(Y39,$AV$4:$BE$4,1,0)),0,1)),0))) -> 1 | BN39: =IF(OR(Z$30="",Z$4=99),1,IF(Z39="",0,IFERROR(CHOOSE(BM$28,IF(ISNA(MATCH(Z39,$AS$30:$AT$30,0)),0,1),IF(ISNUMBER(Z39),1,0),IF(Z39=TRUNC(Z39),1,0),IF(AND(Z39*1=Z39,Z39>=0),1,0),IF(AND(Z39=TRUNC(Z39),Z39>=0),1,0),IF(AND(Z39*1=Z39,Z39>0),1,0),IF(AND(Z39=TRUNC(Z39),Z39>0),1,0),1,IF(ISNA(HLOOKUP(Z39,$AV$4:$BE$4,1,0)),0,1)),0))) -> 1 | ... BT39: =IF(OR(AF$30="",AF$4=99),1,IF(AF39="",0,IFERROR(CHOOSE(BS$28,IF(ISNA(MATCH(AF39,$AS$30:$AT$30,0)),0,1),IF(ISNUMBER(AF39),1,0),IF(AF39=TRUNC(AF39),1,0),IF(AND(AF39*1=AF39,AF39>=0),1,0),IF(AND(AF39=TRUNC(AF39),AF39>=0),1,0),IF(AND(AF39*1=AF39,AF39>0),1,0),IF(AND(AF39=TRUNC(AF39),AF39>0),1,0),1,IF(ISNA(HLOOKUP(AF39,$AV$4:$BE$4,1,0)),0,1)),0))) -> 1 | BU39: =IF(OR(AH$30="",AH$4=99),1,IF(AH39="",0,IFERROR(CHOOSE(BT$28,IF(ISNA(MATCH(AH39,$AS$30:$AT$30,0)),0,1),IF(ISNUMBER(AH39),1,0),IF(AH39=TRUNC(AH39),1,0),IF(AND(AH39*1=AH39,AH39>=0),1,0),IF(AND(AH39=TRUNC(AH39),AH39>=0),1,0),IF(AND(AH39*1=AH39,AH39>0),1,0),IF(AND(AH39=TRUNC(AH39),AH39>0),1,0),1,IF(ISNA(HLOOKUP(AH39,$AV$4:$BE$4,1,0)),0,1)),0))) -> 1 | BV39: =IF(OR(AI$30="",AI$4=99),1,IF(AI39="",0,IFERROR(CHOOSE(BU$28,IF(ISNA(MATCH(AI39,$AS$30:$AT$30,0)),0,1),IF(ISNUMBER(AI39),1,0),IF(AI39=TRUNC(AI39),1,0),IF(AND(AI39*1=AI39,AI39>=0),1,0),IF(AND(AI39=TRUNC(AI39),AI39>=0),1,0),IF(AND(AI39*1=AI39,AI39>0),1,0),IF(AND(AI39=TRUNC(AI39),AI39>0),1,0),1,IF(ISNA(HLOOKUP(AI39,$AV$4:$BE$4,1,0)),0,1)),0))) -> 1 | BW39: =IF(OR(AJ$30="",AJ$4=99),1,IF(AJ39="",0,IFERROR(CHOOSE(BV$28,IF(ISNA(MATCH(AJ39,$AS$30:$AT$30,0)),0,1),IF(ISNUMBER(AJ39),1,0),IF(AJ39=TRUNC(AJ39),1,0),IF(AND(AJ39*1=AJ39,AJ39>=0),1,0),IF(AND(AJ39=TRUNC(AJ39),AJ39>=0),1,0),IF(AND(AJ39*1=AJ39,AJ39>0),1,0),IF(AND(AJ39=TRUNC(AJ39),AJ39>0),1,0),1,IF(ISNA(HLOOKUP(AJ39,$AV$4:$BE$4,1,0)),0,1)),0))) -> 1 | BX39: =IF(OR(AK$30="",AK$4=99),1,IF(AK39="",0,IFERROR(CHOOSE(BW$28,IF(ISNA(MATCH(AK39,$AS$30:$AT$30,0)),0,1),IF(ISNUMBER(AK39),1,0),IF(AK39=TRUNC(AK39),1,0),IF(AND(AK39*1=AK39,AK39>=0),1,0),IF(AND(AK39=TRUNC(AK39),AK39>=0),1,0),IF(AND(AK39*1=AK39,AK39>0),1,0),IF(AND(AK39=TRUNC(AK39),AK39>0),1,0),1,IF(ISNA(HLOOKUP(AK39,$AV$4:$BE$4,1,0)),0,1)),0))) -> 1 | BY39: =IF(OR(AL$30="",AL$4=99),1,IF(AL39="",0,IFERROR(CHOOSE(BX$28,IF(ISNA(MATCH(AL39,$AS$30:$AT$30,0)),0,1),IF(ISNUMBER(AL39),1,0),IF(AL39=TRUNC(AL39),1,0),IF(AND(AL39*1=AL39,AL39>=0),1,0),IF(AND(AL39=TRUNC(AL39),AL39>=0),1,0),IF(AND(AL39*1=AL39,AL39>0),1,0),IF(AND(AL39=TRUNC(AL39),AL39>0),1,0),1,IF(ISNA(HLOOKUP(AL39,$AV$4:$BE$4,1,0)),0,1)),0))) -> 1 | BZ39: =IF(OR(AM$30="",AM$4=99),1,IF(AM39="",0,IFERROR(CHOOSE(BY$28,IF(ISNA(MATCH(AM39,$AS$30:$AT$30,0)),0,1),IF(ISNUMBER(AM39),1,0),IF(AM39=TRUNC(AM39),1,0),IF(AND(AM39*1=AM39,AM39>=0),1,0),IF(AND(AM39=TRUNC(AM39),AM39>=0),1,0),IF(AND(AM39*1=AM39,AM39>0),1,0),IF(AND(AM39=TRUNC(AM39),AM39>0),1,0),1,IF(ISNA(HLOOKUP(AM39,$AV$4:$BE$4,1,0)),0,1)),0))) -> 1 | CA39: =IF(OR(AN$30="",AN$4=99),1,IF(AN39="",0,IFERROR(CHOOSE(BZ$28,IF(ISNA(MATCH(AN39,$AS$30:$AT$30,0)),0,1),IF(ISNUMBER(AN39),1,0),IF(AN39=TRUNC(AN39),1,0),IF(AND(AN39*1=AN39,AN39>=0),1,0),IF(AND(AN39=TRUNC(AN39),AN39>=0),1,0),IF(AND(AN39*1=AN39,AN39>0),1,0),IF(AND(AN39=TRUNC(AN39),AN39>0),1,0),1,IF(ISNA(HLOOKUP(AN39,$AV$4:$BE$4,1,0)),0,1)),0))) -> 1 | CB39: =IF(OR(AO$30="",AO$4=99),1,IF(AO39="",0,IFERROR(CHOOSE(CA$28,IF(ISNA(MATCH(AO39,$AS$30:$AT$30,0)),0,1),IF(ISNUMBER(AO39),1,0),IF(AO39=TRUNC(AO39),1,0),IF(AND(AO39*1=AO39,AO39>=0),1,0),IF(AND(AO39=TRUNC(AO39),AO39>=0),1,0),IF(AND(AO39*1=AO39,AO39>0),1,0),IF(AND(AO39=TRUNC(AO39),AO39>0),1,0),1,IF(ISNA(HLOOKUP(AO39,$AV$4:$BE$4,1,0)),0,1)),0))) -> 1 | CC39: =IF(OR(AP$30="",AP$4=99),1,IF(AP39="",0,IFERROR(CHOOSE(CB$28,IF(ISNA(MATCH(AP39,$AS$30:$AT$30,0)),0,1),IF(ISNUMBER(AP39),1,0),IF(AP39=TRUNC(AP39),1,0),IF(AND(AP39*1=AP39,AP39>=0),1,0),IF(AND(AP39=TRUNC(AP39),AP39>=0),1,0),IF(AND(AP39*1=AP39,AP39>0),1,0),IF(AND(AP39=TRUNC(AP39),AP39>0),1,0),1,IF(ISNA(HLOOKUP(AP39,$AV$4:$BE$4,1,0)),0,1)),0))) -> 1 | CH39: =IF($F39="","",CH$30) -> 1 | CI39: =IF($F39="","",CI$30) -> 2 | CJ39: =IF($F39="","",CJ$30) -> 3 | CK39: =IF($F39="","",CK$30) -> 4 | CL39: =IF($F39="","",CL$30) -> 5 | CM39: =IF($F39="","",CM$30) -> 6 | CN39: =IF($F39="","",CN$30) -> 7 | CO39: =IF($F39="","",CO$30) -> 8 | ... CQ39: =IF($F39="","",CQ$30) -> 10 | CW39: =W39>=CV$5 -> TRUE | CX39: =X39>=CW$5 -> FALSE | CY39: =Y39>=CX$5 -> TRUE | DC39: =COUNTIF(CW39:DA39,TRUE) -> 2 | DD39: =W39>=DC$5 -> TRUE | DE39: =X39>=DD$5 -> FALSE | DF39: =Y39>=DE$5 -> TRUE | DK39: =COUNTIF(DD39:DJ39,TRUE) -> 2 | DM39: =IF($F39="","",IF(AND(DK39=$CW$3,DK39-DC39<=$DD$3),1,0)) -> 0
B40: =IF(F40="","",ROW()-30) -> 10 | F40: אורלי פורטל | G40: 1 | H40: 1 | I40: 1 | J40: 1 | K40: 1 | L40: 1 | M40: 1 | N40: 1 | O40: 1 | P40: 1 | Q40: 1 | R40: 1 | S40: 0 | T40: 1 | U40: 1 | V40: 1 | W40: 1 | X40: 1 | Y40: 1 | Z40: =IF(F40="","",IF(AND(S40=1,T40=1),$AS$1,IF(OR(S40=1,AND(T40=1,U40=1,V40=1,W40=1,X40=1,Y40=1)),1,0))) -> 1 | AA40: 1 | AF40: =IF($F40="","",IF(OR(DL40=1,AND(DM40=1,AA40=1)),1,0)) -> 0 | AG40: 1 | AH40: =IF(F40="","",IF(AA40=1,1,IF(AND(AB40="לא",SUM(AC40:AD40)=2),1,IF(AND(AB40="כן",SUM(AC40:AE40)=3),1,0)))) -> 1 | AK40: =IF(F40="","",IF(G40>=$G$5,1,0)) -> 1 | AP40: =IF($F40="","",IF(AL40=1,1,IF(AR40<>1,$AS$1,IF(SUMPRODUCT(--(G40:AK40>=$G$5:$AK$5)*($G$5:$AK$5<>"")*($G$4:$AK$4=1))=COUNTIF($G$4:$AK$4,1),1,0)))) -> 1 | AR40: =IF(OR(SUM(AU40:CC40)<>COUNT(AU40:CC40),SUMPRODUCT(--(G40:AK40=$AS$1))<>0),0,1) -> 1 | AS40: =IF($F40="","",AS$30) -> 0 | AT40: =IF($F40="","",AT$30) -> 1 | AU40: =IF(OR(G$30="",G$4=99),1,IF(G40="",0,IFERROR(CHOOSE(AU$28,IF(ISNA(MATCH(G40,$AS$30:$AT$30,0)),0,1),IF(ISNUMBER(G40),1,0),IF(G40=TRUNC(G40),1,0),IF(AND(G40*1=G40,G40>=0),1,0),IF(AND(G40=TRUNC(G40),G40>=0),1,0),IF(AND(G40*1=G40,G40>0),1,0),IF(AND(G40=TRUNC(G40),G40>0),1,0),1,IF(ISNA(HLOOKUP(G40,$AV$4:$BE$4,1,0)),0,1)),0))) -> 1 | AV40: =IF(OR(H$30="",H$4=99),1,IF(H40="",0,IFERROR(CHOOSE(AV$28,IF(ISNA(MATCH(H40,$AS$30:$AT$30,0)),0,1),IF(ISNUMBER(H40),1,0),IF(H40=TRUNC(H40),1,0),IF(AND(H40*1=H40,H40>=0),1,0),IF(AND(H40=TRUNC(H40),H40>=0),1,0),IF(AND(H40*1=H40,H40>0),1,0),IF(AND(H40=TRUNC(H40),H40>0),1,0),1,IF(ISNA(HLOOKUP(H40,$AV$4:$BE$4,1,0)),0,1)),0))) -> 1 | AW40: =IF(OR(I$30="",I$4=99),1,IF(I40="",0,IFERROR(CHOOSE(AW$28,IF(ISNA(MATCH(I40,$AS$30:$AT$30,0)),0,1),IF(ISNUMBER(I40),1,0),IF(I40=TRUNC(I40),1,0),IF(AND(I40*1=I40,I40>=0),1,0),IF(AND(I40=TRUNC(I40),I40>=0),1,0),IF(AND(I40*1=I40,I40>0),1,0),IF(AND(I40=TRUNC(I40),I40>0),1,0),1,IF(ISNA(HLOOKUP(I40,$AV$4:$BE$4,1,0)),0,1)),0))) -> 1 | AX40: =IF(OR(J$30="",J$4=99),1,IF(J40="",0,IFERROR(CHOOSE(AX$28,IF(ISNA(MATCH(J40,$AS$30:$AT$30,0)),0,1),IF(ISNUMBER(J40),1,0),IF(J40=TRUNC(J40),1,0),IF(AND(J40*1=J40,J40>=0),1,0),IF(AND(J40=TRUNC(J40),J40>=0),1,0),IF(AND(J40*1=J40,J40>0),1,0),IF(AND(J40=TRUNC(J40),J40>0),1,0),1,IF(ISNA(HLOOKUP(J40,$AV$4:$BE$4,1,0)),0,1)),0))) -> 1 | AY40: =IF(OR(K$30="",K$4=99),1,IF(K40="",0,IFERROR(CHOOSE(AY$28,IF(ISNA(MATCH(K40,$AS$30:$AT$30,0)),0,1),IF(ISNUMBER(K40),1,0),IF(K40=TRUNC(K40),1,0),IF(AND(K40*1=K40,K40>=0),1,0),IF(AND(K40=TRUNC(K40),K40>=0),1,0),IF(AND(K40*1=K40,K40>0),1,0),IF(AND(K40=TRUNC(K40),K40>0),1,0),1,IF(ISNA(HLOOKUP(K40,$AV$4:$BE$4,1,0)),0,1)),0))) -> 1 | AZ40: =IF(OR(L$30="",L$4=99),1,IF(L40="",0,IFERROR(CHOOSE(AZ$28,IF(ISNA(MATCH(L40,$AS$30:$AT$30,0)),0,1),IF(ISNUMBER(L40),1,0),IF(L40=TRUNC(L40),1,0),IF(AND(L40*1=L40,L40>=0),1,0),IF(AND(L40=TRUNC(L40),L40>=0),1,0),IF(AND(L40*1=L40,L40>0),1,0),IF(AND(L40=TRUNC(L40),L40>0),1,0),1,IF(ISNA(HLOOKUP(L40,$AV$4:$BE$4,1,0)),0,1)),0))) -> 1 | BA40: =IF(OR(M$30="",M$4=99),1,IF(M40="",0,IFERROR(CHOOSE(BA$28,IF(ISNA(MATCH(M40,$AS$30:$AT$30,0)),0,1),IF(ISNUMBER(M40),1,0),IF(M40=TRUNC(M40),1,0),IF(AND(M40*1=M40,M40>=0),1,0),IF(AND(M40=TRUNC(M40),M40>=0),1,0),IF(AND(M40*1=M40,M40>0),1,0),IF(AND(M40=TRUNC(M40),M40>0),1,0),1,IF(ISNA(HLOOKUP(M40,$AV$4:$BE$4,1,0)),0,1)),0))) -> 1 | BB40: =IF(OR(N$30="",N$4=99),1,IF(N40="",0,IFERROR(CHOOSE(BB$28,IF(ISNA(MATCH(N40,$AS$30:$AT$30,0)),0,1),IF(ISNUMBER(N40),1,0),IF(N40=TRUNC(N40),1,0),IF(AND(N40*1=N40,N40>=0),1,0),IF(AND(N40=TRUNC(N40),N40>=0),1,0),IF(AND(N40*1=N40,N40>0),1,0),IF(AND(N40=TRUNC(N40),N40>0),1,0),1,IF(ISNA(HLOOKUP(N40,$AV$4:$BE$4,1,0)),0,1)),0))) -> 1 | ... BF40: =IF(OR(R$30="",R$4=99),1,IF(R40="",0,IFERROR(CHOOSE(BF$28,IF(ISNA(MATCH(R40,$AS$30:$AT$30,0)),0,1),IF(ISNUMBER(R40),1,0),IF(R40=TRUNC(R40),1,0),IF(AND(R40*1=R40,R40>=0),1,0),IF(AND(R40=TRUNC(R40),R40>=0),1,0),IF(AND(R40*1=R40,R40>0),1,0),IF(AND(R40=TRUNC(R40),R40>0),1,0),1,IF(ISNA(HLOOKUP(R40,$AV$4:$BE$4,1,0)),0,1)),0))) -> 1 | BG40: =IF(OR(S$30="",S$4=99),1,IF(S40="",0,IFERROR(CHOOSE(BF$28,IF(ISNA(MATCH(S40,$AS$30:$AT$30,0)),0,1),IF(ISNUMBER(S40),1,0),IF(S40=TRUNC(S40),1,0),IF(AND(S40*1=S40,S40>=0),1,0),IF(AND(S40=TRUNC(S40),S40>=0),1,0),IF(AND(S40*1=S40,S40>0),1,0),IF(AND(S40=TRUNC(S40),S40>0),1,0),1,IF(ISNA(HLOOKUP(S40,$AV$4:$BE$4,1,0)),0,1)),0))) -> 1 | BH40: =IF(OR(T$30="",T$4=99),1,IF(T40="",0,IFERROR(CHOOSE(BG$28,IF(ISNA(MATCH(T40,$AS$30:$AT$30,0)),0,1),IF(ISNUMBER(T40),1,0),IF(T40=TRUNC(T40),1,0),IF(AND(T40*1=T40,T40>=0),1,0),IF(AND(T40=TRUNC(T40),T40>=0),1,0),IF(AND(T40*1=T40,T40>0),1,0),IF(AND(T40=TRUNC(T40),T40>0),1,0),1,IF(ISNA(HLOOKUP(T40,$AV$4:$BE$4,1,0)),0,1)),0))) -> 1 | BI40: =IF(OR(U$30="",U$4=99),1,IF(U40="",0,IFERROR(CHOOSE(BH$28,IF(ISNA(MATCH(U40,$AS$30:$AT$30,0)),0,1),IF(ISNUMBER(U40),1,0),IF(U40=TRUNC(U40),1,0),IF(AND(U40*1=U40,U40>=0),1,0),IF(AND(U40=TRUNC(U40),U40>=0),1,0),IF(AND(U40*1=U40,U40>0),1,0),IF(AND(U40=TRUNC(U40),U40>0),1,0),1,IF(ISNA(HLOOKUP(U40,$AV$4:$BE$4,1,0)),0,1)),0))) -> 1 | BJ40: =IF(OR(V$30="",V$4=99),1,IF(V40="",0,IFERROR(CHOOSE(BI$28,IF(ISNA(MATCH(V40,$AS$30:$AT$30,0)),0,1),IF(ISNUMBER(V40),1,0),IF(V40=TRUNC(V40),1,0),IF(AND(V40*1=V40,V40>=0),1,0),IF(AND(V40=TRUNC(V40),V40>=0),1,0),IF(AND(V40*1=V40,V40>0),1,0),IF(AND(V40=TRUNC(V40),V40>0),1,0),1,IF(ISNA(HLOOKUP(V40,$AV$4:$BE$4,1,0)),0,1)),0))) -> 1 | BK40: =IF(OR(W$30="",W$4=99),1,IF(W40="",0,IFERROR(CHOOSE(BJ$28,IF(ISNA(MATCH(W40,$AS$30:$AT$30,0)),0,1),IF(ISNUMBER(W40),1,0),IF(W40=TRUNC(W40),1,0),IF(AND(W40*1=W40,W40>=0),1,0),IF(AND(W40=TRUNC(W40),W40>=0),1,0),IF(AND(W40*1=W40,W40>0),1,0),IF(AND(W40=TRUNC(W40),W40>0),1,0),1,IF(ISNA(HLOOKUP(W40,$AV$4:$BE$4,1,0)),0,1)),0))) -> 1 | BL40: =IF(OR(X$30="",X$4=99),1,IF(X40="",0,IFERROR(CHOOSE(BK$28,IF(ISNA(MATCH(X40,$AS$30:$AT$30,0)),0,1),IF(ISNUMBER(X40),1,0),IF(X40=TRUNC(X40),1,0),IF(AND(X40*1=X40,X40>=0),1,0),IF(AND(X40=TRUNC(X40),X40>=0),1,0),IF(AND(X40*1=X40,X40>0),1,0),IF(AND(X40=TRUNC(X40),X40>0),1,0),1,IF(ISNA(HLOOKUP(X40,$AV$4:$BE$4,1,0)),0,1)),0))) -> 1 | BM40: =IF(OR(Y$30="",Y$4=99),1,IF(Y40="",0,IFERROR(CHOOSE(BL$28,IF(ISNA(MATCH(Y40,$AS$30:$AT$30,0)),0,1),IF(ISNUMBER(Y40),1,0),IF(Y40=TRUNC(Y40),1,0),IF(AND(Y40*1=Y40,Y40>=0),1,0),IF(AND(Y40=TRUNC(Y40),Y40>=0),1,0),IF(AND(Y40*1=Y40,Y40>0),1,0),IF(AND(Y40=TRUNC(Y40),Y40>0),1,0),1,IF(ISNA(HLOOKUP(Y40,$AV$4:$BE$4,1,0)),0,1)),0))) -> 1 | BN40: =IF(OR(Z$30="",Z$4=99),1,IF(Z40="",0,IFERROR(CHOOSE(BM$28,IF(ISNA(MATCH(Z40,$AS$30:$AT$30,0)),0,1),IF(ISNUMBER(Z40),1,0),IF(Z40=TRUNC(Z40),1,0),IF(AND(Z40*1=Z40,Z40>=0),1,0),IF(AND(Z40=TRUNC(Z40),Z40>=0),1,0),IF(AND(Z40*1=Z40,Z40>0),1,0),IF(AND(Z40=TRUNC(Z40),Z40>0),1,0),1,IF(ISNA(HLOOKUP(Z40,$AV$4:$BE$4,1,0)),0,1)),0))) -> 1 | ... BT40: =IF(OR(AF$30="",AF$4=99),1,IF(AF40="",0,IFERROR(CHOOSE(BS$28,IF(ISNA(MATCH(AF40,$AS$30:$AT$30,0)),0,1),IF(ISNUMBER(AF40),1,0),IF(AF40=TRUNC(AF40),1,0),IF(AND(AF40*1=AF40,AF40>=0),1,0),IF(AND(AF40=TRUNC(AF40),AF40>=0),1,0),IF(AND(AF40*1=AF40,AF40>0),1,0),IF(AND(AF40=TRUNC(AF40),AF40>0),1,0),1,IF(ISNA(HLOOKUP(AF40,$AV$4:$BE$4,1,0)),0,1)),0))) -> 1 | BU40: =IF(OR(AH$30="",AH$4=99),1,IF(AH40="",0,IFERROR(CHOOSE(BT$28,IF(ISNA(MATCH(AH40,$AS$30:$AT$30,0)),0,1),IF(ISNUMBER(AH40),1,0),IF(AH40=TRUNC(AH40),1,0),IF(AND(AH40*1=AH40,AH40>=0),1,0),IF(AND(AH40=TRUNC(AH40),AH40>=0),1,0),IF(AND(AH40*1=AH40,AH40>0),1,0),IF(AND(AH40=TRUNC(AH40),AH40>0),1,0),1,IF(ISNA(HLOOKUP(AH40,$AV$4:$BE$4,1,0)),0,1)),0))) -> 1 | BV40: =IF(OR(AI$30="",AI$4=99),1,IF(AI40="",0,IFERROR(CHOOSE(BU$28,IF(ISNA(MATCH(AI40,$AS$30:$AT$30,0)),0,1),IF(ISNUMBER(AI40),1,0),IF(AI40=TRUNC(AI40),1,0),IF(AND(AI40*1=AI40,AI40>=0),1,0),IF(AND(AI40=TRUNC(AI40),AI40>=0),1,0),IF(AND(AI40*1=AI40,AI40>0),1,0),IF(AND(AI40=TRUNC(AI40),AI40>0),1,0),1,IF(ISNA(HLOOKUP(AI40,$AV$4:$BE$4,1,0)),0,1)),0))) -> 1 | BW40: =IF(OR(AJ$30="",AJ$4=99),1,IF(AJ40="",0,IFERROR(CHOOSE(BV$28,IF(ISNA(MATCH(AJ40,$AS$30:$AT$30,0)),0,1),IF(ISNUMBER(AJ40),1,0),IF(AJ40=TRUNC(AJ40),1,0),IF(AND(AJ40*1=AJ40,AJ40>=0),1,0),IF(AND(AJ40=TRUNC(AJ40),AJ40>=0),1,0),IF(AND(AJ40*1=AJ40,AJ40>0),1,0),IF(AND(AJ40=TRUNC(AJ40),AJ40>0),1,0),1,IF(ISNA(HLOOKUP(AJ40,$AV$4:$BE$4,1,0)),0,1)),0))) -> 1 | BX40: =IF(OR(AK$30="",AK$4=99),1,IF(AK40="",0,IFERROR(CHOOSE(BW$28,IF(ISNA(MATCH(AK40,$AS$30:$AT$30,0)),0,1),IF(ISNUMBER(AK40),1,0),IF(AK40=TRUNC(AK40),1,0),IF(AND(AK40*1=AK40,AK40>=0),1,0),IF(AND(AK40=TRUNC(AK40),AK40>=0),1,0),IF(AND(AK40*1=AK40,AK40>0),1,0),IF(AND(AK40=TRUNC(AK40),AK40>0),1,0),1,IF(ISNA(HLOOKUP(AK40,$AV$4:$BE$4,1,0)),0,1)),0))) -> 1 | BY40: =IF(OR(AL$30="",AL$4=99),1,IF(AL40="",0,IFERROR(CHOOSE(BX$28,IF(ISNA(MATCH(AL40,$AS$30:$AT$30,0)),0,1),IF(ISNUMBER(AL40),1,0),IF(AL40=TRUNC(AL40),1,0),IF(AND(AL40*1=AL40,AL40>=0),1,0),IF(AND(AL40=TRUNC(AL40),AL40>=0),1,0),IF(AND(AL40*1=AL40,AL40>0),1,0),IF(AND(AL40=TRUNC(AL40),AL40>0),1,0),1,IF(ISNA(HLOOKUP(AL40,$AV$4:$BE$4,1,0)),0,1)),0))) -> 1 | BZ40: =IF(OR(AM$30="",AM$4=99),1,IF(AM40="",0,IFERROR(CHOOSE(BY$28,IF(ISNA(MATCH(AM40,$AS$30:$AT$30,0)),0,1),IF(ISNUMBER(AM40),1,0),IF(AM40=TRUNC(AM40),1,0),IF(AND(AM40*1=AM40,AM40>=0),1,0),IF(AND(AM40=TRUNC(AM40),AM40>=0),1,0),IF(AND(AM40*1=AM40,AM40>0),1,0),IF(AND(AM40=TRUNC(AM40),AM40>0),1,0),1,IF(ISNA(HLOOKUP(AM40,$AV$4:$BE$4,1,0)),0,1)),0))) -> 1 | CA40: =IF(OR(AN$30="",AN$4=99),1,IF(AN40="",0,IFERROR(CHOOSE(BZ$28,IF(ISNA(MATCH(AN40,$AS$30:$AT$30,0)),0,1),IF(ISNUMBER(AN40),1,0),IF(AN40=TRUNC(AN40),1,0),IF(AND(AN40*1=AN40,AN40>=0),1,0),IF(AND(AN40=TRUNC(AN40),AN40>=0),1,0),IF(AND(AN40*1=AN40,AN40>0),1,0),IF(AND(AN40=TRUNC(AN40),AN40>0),1,0),1,IF(ISNA(HLOOKUP(AN40,$AV$4:$BE$4,1,0)),0,1)),0))) -> 1 | CB40: =IF(OR(AO$30="",AO$4=99),1,IF(AO40="",0,IFERROR(CHOOSE(CA$28,IF(ISNA(MATCH(AO40,$AS$30:$AT$30,0)),0,1),IF(ISNUMBER(AO40),1,0),IF(AO40=TRUNC(AO40),1,0),IF(AND(AO40*1=AO40,AO40>=0),1,0),IF(AND(AO40=TRUNC(AO40),AO40>=0),1,0),IF(AND(AO40*1=AO40,AO40>0),1,0),IF(AND(AO40=TRUNC(AO40),AO40>0),1,0),1,IF(ISNA(HLOOKUP(AO40,$AV$4:$BE$4,1,0)),0,1)),0))) -> 1 | CC40: =IF(OR(AP$30="",AP$4=99),1,IF(AP40="",0,IFERROR(CHOOSE(CB$28,IF(ISNA(MATCH(AP40,$AS$30:$AT$30,0)),0,1),IF(ISNUMBER(AP40),1,0),IF(AP40=TRUNC(AP40),1,0),IF(AND(AP40*1=AP40,AP40>=0),1,0),IF(AND(AP40=TRUNC(AP40),AP40>=0),1,0),IF(AND(AP40*1=AP40,AP40>0),1,0),IF(AND(AP40=TRUNC(AP40),AP40>0),1,0),1,IF(ISNA(HLOOKUP(AP40,$AV$4:$BE$4,1,0)),0,1)),0))) -> 1 | CH40: =IF($F40="","",CH$30) -> 1 | CI40: =IF($F40="","",CI$30) -> 2 | CJ40: =IF($F40="","",CJ$30) -> 3 | CK40: =IF($F40="","",CK$30) -> 4 | CL40: =IF($F40="","",CL$30) -> 5 | CM40: =IF($F40="","",CM$30) -> 6 | CN40: =IF($F40="","",CN$30) -> 7 | CO40: =IF($F40="","",CO$30) -> 8 | ... CQ40: =IF($F40="","",CQ$30) -> 10 | CW40: =W40>=CV$5 -> TRUE | CX40: =X40>=CW$5 -> FALSE | CY40: =Y40>=CX$5 -> TRUE | DC40: =COUNTIF(CW40:DA40,TRUE) -> 2 | DD40: =W40>=DC$5 -> TRUE | DE40: =X40>=DD$5 -> FALSE | DF40: =Y40>=DE$5 -> TRUE | DK40: =COUNTIF(DD40:DJ40,TRUE) -> 2 | DM40: =IF($F40="","",IF(AND(DK40=$CW$3,DK40-DC40<=$DD$3),1,0)) -> 0
A41: =ROW()-30 -> 11 | B41: =IF(F41="","",ROW()-30) | Z41: =IF(F41="","",IF(AND(S41=1,T41=1),$AS$1,IF(OR(S41=1,AND(T41=1,U41=1,V41=1,W41=1,X41=1,Y41=1)),1,0))) | AF41: =IF($F41="","",IF(OR(DL41=1,AND(DM41=1,AA41=1)),1,0)) | AH41: =IF(F41="","",IF(AA41=1,1,IF(AND(AB41="לא",SUM(AC41:AD41)=2),1,IF(AND(AB41="כן",SUM(AC41:AE41)=3),1,0)))) | AK41: =IF(F41="","",IF(G41>=$G$5,1,0)) | AP41: =IF($F41="","",IF(AL41=1,1,IF(AR41<>1,$AS$1,IF(SUMPRODUCT(--(G41:AK41>=$G$5:$AK$5)*($G$5:$AK$5<>"")*($G$4:$AK$4=1))=COUNTIF($G$4:$AK$4,1),1,0)))) | AR41: =IF(OR(SUM(AU41:CC41)<>COUNT(AU41:CC41),SUMPRODUCT(--(G41:AK41=$AS$1))<>0),0,1) -> 0 | AS41: =IF($F41="","",AS$30) | AT41: =IF($F41="","",AT$30) | AU41: =IF(OR(G$30="",G$4=99),1,IF(G41="",0,IFERROR(CHOOSE(AU$28,IF(ISNA(MATCH(G41,$AS$30:$AT$30,0)),0,1),IF(ISNUMBER(G41),1,0),IF(G41=TRUNC(G41),1,0),IF(AND(G41*1=G41,G41>=0),1,0),IF(AND(G41=TRUNC(G41),G41>=0),1,0),IF(AND(G41*1=G41,G41>0),1,0),IF(AND(G41=TRUNC(G41),G41>0),1,0),1,IF(ISNA(HLOOKUP(G41,$AV$4:$BE$4,1,0)),0,1)),0))) -> 0 | AV41: =IF(OR(H$30="",H$4=99),1,IF(H41="",0,IFERROR(CHOOSE(AV$28,IF(ISNA(MATCH(H41,$AS$30:$AT$30,0)),0,1),IF(ISNUMBER(H41),1,0),IF(H41=TRUNC(H41),1,0),IF(AND(H41*1=H41,H41>=0),1,0),IF(AND(H41=TRUNC(H41),H41>=0),1,0),IF(AND(H41*1=H41,H41>0),1,0),IF(AND(H41=TRUNC(H41),H41>0),1,0),1,IF(ISNA(HLOOKUP(H41,$AV$4:$BE$4,1,0)),0,1)),0))) -> 0 | AW41: =IF(OR(I$30="",I$4=99),1,IF(I41="",0,IFERROR(CHOOSE(AW$28,IF(ISNA(MATCH(I41,$AS$30:$AT$30,0)),0,1),IF(ISNUMBER(I41),1,0),IF(I41=TRUNC(I41),1,0),IF(AND(I41*1=I41,I41>=0),1,0),IF(AND(I41=TRUNC(I41),I41>=0),1,0),IF(AND(I41*1=I41,I41>0),1,0),IF(AND(I41=TRUNC(I41),I41>0),1,0),1,IF(ISNA(HLOOKUP(I41,$AV$4:$BE$4,1,0)),0,1)),0))) -> 0 | AX41: =IF(OR(J$30="",J$4=99),1,IF(J41="",0,IFERROR(CHOOSE(AX$28,IF(ISNA(MATCH(J41,$AS$30:$AT$30,0)),0,1),IF(ISNUMBER(J41),1,0),IF(J41=TRUNC(J41),1,0),IF(AND(J41*1=J41,J41>=0),1,0),IF(AND(J41=TRUNC(J41),J41>=0),1,0),IF(AND(J41*1=J41,J41>0),1,0),IF(AND(J41=TRUNC(J41),J41>0),1,0),1,IF(ISNA(HLOOKUP(J41,$AV$4:$BE$4,1,0)),0,1)),0))) -> 0 | AY41: =IF(OR(K$30="",K$4=99),1,IF(K41="",0,IFERROR(CHOOSE(AY$28,IF(ISNA(MATCH(K41,$AS$30:$AT$30,0)),0,1),IF(ISNUMBER(K41),1,0),IF(K41=TRUNC(K41),1,0),IF(AND(K41*1=K41,K41>=0),1,0),IF(AND(K41=TRUNC(K41),K41>=0),1,0),IF(AND(K41*1=K41,K41>0),1,0),IF(AND(K41=TRUNC(K41),K41>0),1,0),1,IF(ISNA(HLOOKUP(K41,$AV$4:$BE$4,1,0)),0,1)),0))) -> 0 | AZ41: =IF(OR(L$30="",L$4=99),1,IF(L41="",0,IFERROR(CHOOSE(AZ$28,IF(ISNA(MATCH(L41,$AS$30:$AT$30,0)),0,1),IF(ISNUMBER(L41),1,0),IF(L41=TRUNC(L41),1,0),IF(AND(L41*1=L41,L41>=0),1,0),IF(AND(L41=TRUNC(L41),L41>=0),1,0),IF(AND(L41*1=L41,L41>0),1,0),IF(AND(L41=TRUNC(L41),L41>0),1,0),1,IF(ISNA(HLOOKUP(L41,$AV$4:$BE$4,1,0)),0,1)),0))) -> 0 | BA41: =IF(OR(M$30="",M$4=99),1,IF(M41="",0,IFERROR(CHOOSE(BA$28,IF(ISNA(MATCH(M41,$AS$30:$AT$30,0)),0,1),IF(ISNUMBER(M41),1,0),IF(M41=TRUNC(M41),1,0),IF(AND(M41*1=M41,M41>=0),1,0),IF(AND(M41=TRUNC(M41),M41>=0),1,0),IF(AND(M41*1=M41,M41>0),1,0),IF(AND(M41=TRUNC(M41),M41>0),1,0),1,IF(ISNA(HLOOKUP(M41,$AV$4:$BE$4,1,0)),0,1)),0))) -> 0 | BB41: =IF(OR(N$30="",N$4=99),1,IF(N41="",0,IFERROR(CHOOSE(BB$28,IF(ISNA(MATCH(N41,$AS$30:$AT$30,0)),0,1),IF(ISNUMBER(N41),1,0),IF(N41=TRUNC(N41),1,0),IF(AND(N41*1=N41,N41>=0),1,0),IF(AND(N41=TRUNC(N41),N41>=0),1,0),IF(AND(N41*1=N41,N41>0),1,0),IF(AND(N41=TRUNC(N41),N41>0),1,0),1,IF(ISNA(HLOOKUP(N41,$AV$4:$BE$4,1,0)),0,1)),0))) -> 0 | ... BF41: =IF(OR(R$30="",R$4=99),1,IF(R41="",0,IFERROR(CHOOSE(BF$28,IF(ISNA(MATCH(R41,$AS$30:$AT$30,0)),0,1),IF(ISNUMBER(R41),1,0),IF(R41=TRUNC(R41),1,0),IF(AND(R41*1=R41,R41>=0),1,0),IF(AND(R41=TRUNC(R41),R41>=0),1,0),IF(AND(R41*1=R41,R41>0),1,0),IF(AND(R41=TRUNC(R41),R41>0),1,0),1,IF(ISNA(HLOOKUP(R41,$AV$4:$BE$4,1,0)),0,1)),0))) -> 0 | BG41: =IF(OR(S$30="",S$4=99),1,IF(S41="",0,IFERROR(CHOOSE(BF$28,IF(ISNA(MATCH(S41,$AS$30:$AT$30,0)),0,1),IF(ISNUMBER(S41),1,0),IF(S41=TRUNC(S41),1,0),IF(AND(S41*1=S41,S41>=0),1,0),IF(AND(S41=TRUNC(S41),S41>=0),1,0),IF(AND(S41*1=S41,S41>0),1,0),IF(AND(S41=TRUNC(S41),S41>0),1,0),1,IF(ISNA(HLOOKUP(S41,$AV$4:$BE$4,1,0)),0,1)),0))) -> 0 | BH41: =IF(OR(T$30="",T$4=99),1,IF(T41="",0,IFERROR(CHOOSE(BG$28,IF(ISNA(MATCH(T41,$AS$30:$AT$30,0)),0,1),IF(ISNUMBER(T41),1,0),IF(T41=TRUNC(T41),1,0),IF(AND(T41*1=T41,T41>=0),1,0),IF(AND(T41=TRUNC(T41),T41>=0),1,0),IF(AND(T41*1=T41,T41>0),1,0),IF(AND(T41=TRUNC(T41),T41>0),1,0),1,IF(ISNA(HLOOKUP(T41,$AV$4:$BE$4,1,0)),0,1)),0))) -> 0 | BI41: =IF(OR(U$30="",U$4=99),1,IF(U41="",0,IFERROR(CHOOSE(BH$28,IF(ISNA(MATCH(U41,$AS$30:$AT$30,0)),0,1),IF(ISNUMBER(U41),1,0),IF(U41=TRUNC(U41),1,0),IF(AND(U41*1=U41,U41>=0),1,0),IF(AND(U41=TRUNC(U41),U41>=0),1,0),IF(AND(U41*1=U41,U41>0),1,0),IF(AND(U41=TRUNC(U41),U41>0),1,0),1,IF(ISNA(HLOOKUP(U41,$AV$4:$BE$4,1,0)),0,1)),0))) -> 0 | BJ41: =IF(OR(V$30="",V$4=99),1,IF(V41="",0,IFERROR(CHOOSE(BI$28,IF(ISNA(MATCH(V41,$AS$30:$AT$30,0)),0,1),IF(ISNUMBER(V41),1,0),IF(V41=TRUNC(V41),1,0),IF(AND(V41*1=V41,V41>=0),1,0),IF(AND(V41=TRUNC(V41),V41>=0),1,0),IF(AND(V41*1=V41,V41>0),1,0),IF(AND(V41=TRUNC(V41),V41>0),1,0),1,IF(ISNA(HLOOKUP(V41,$AV$4:$BE$4,1,0)),0,1)),0))) -> 0 | BK41: =IF(OR(W$30="",W$4=99),1,IF(W41="",0,IFERROR(CHOOSE(BJ$28,IF(ISNA(MATCH(W41,$AS$30:$AT$30,0)),0,1),IF(ISNUMBER(W41),1,0),IF(W41=TRUNC(W41),1,0),IF(AND(W41*1=W41,W41>=0),1,0),IF(AND(W41=TRUNC(W41),W41>=0),1,0),IF(AND(W41*1=W41,W41>0),1,0),IF(AND(W41=TRUNC(W41),W41>0),1,0),1,IF(ISNA(HLOOKUP(W41,$AV$4:$BE$4,1,0)),0,1)),0))) -> 0 | BL41: =IF(OR(X$30="",X$4=99),1,IF(X41="",0,IFERROR(CHOOSE(BK$28,IF(ISNA(MATCH(X41,$AS$30:$AT$30,0)),0,1),IF(ISNUMBER(X41),1,0),IF(X41=TRUNC(X41),1,0),IF(AND(X41*1=X41,X41>=0),1,0),IF(AND(X41=TRUNC(X41),X41>=0),1,0),IF(AND(X41*1=X41,X41>0),1,0),IF(AND(X41=TRUNC(X41),X41>0),1,0),1,IF(ISNA(HLOOKUP(X41,$AV$4:$BE$4,1,0)),0,1)),0))) -> 0 | BM41: =IF(OR(Y$30="",Y$4=99),1,IF(Y41="",0,IFERROR(CHOOSE(BL$28,IF(ISNA(MATCH(Y41,$AS$30:$AT$30,0)),0,1),IF(ISNUMBER(Y41),1,0),IF(Y41=TRUNC(Y41),1,0),IF(AND(Y41*1=Y41,Y41>=0),1,0),IF(AND(Y41=TRUNC(Y41),Y41>=0),1,0),IF(AND(Y41*1=Y41,Y41>0),1,0),IF(AND(Y41=TRUNC(Y41),Y41>0),1,0),1,IF(ISNA(HLOOKUP(Y41,$AV$4:$BE$4,1,0)),0,1)),0))) -> 0 | BN41: =IF(OR(Z$30="",Z$4=99),1,IF(Z41="",0,IFERROR(CHOOSE(BM$28,IF(ISNA(MATCH(Z41,$AS$30:$AT$30,0)),0,1),IF(ISNUMBER(Z41),1,0),IF(Z41=TRUNC(Z41),1,0),IF(AND(Z41*1=Z41,Z41>=0),1,0),IF(AND(Z41=TRUNC(Z41),Z41>=0),1,0),IF(AND(Z41*1=Z41,Z41>0),1,0),IF(AND(Z41=TRUNC(Z41),Z41>0),1,0),1,IF(ISNA(HLOOKUP(Z41,$AV$4:$BE$4,1,0)),0,1)),0))) -> 1 | ... BT41: =IF(OR(AF$30="",AF$4=99),1,IF(AF41="",0,IFERROR(CHOOSE(BS$28,IF(ISNA(MATCH(AF41,$AS$30:$AT$30,0)),0,1),IF(ISNUMBER(AF41),1,0),IF(AF41=TRUNC(AF41),1,0),IF(AND(AF41*1=AF41,AF41>=0),1,0),IF(AND(AF41=TRUNC(AF41),AF41>=0),1,0),IF(AND(AF41*1=AF41,AF41>0),1,0),IF(AND(AF41=TRUNC(AF41),AF41>0),1,0),1,IF(ISNA(HLOOKUP(AF41,$AV$4:$BE$4,1,0)),0,1)),0))) -> 1 | BU41: =IF(OR(AH$30="",AH$4=99),1,IF(AH41="",0,IFERROR(CHOOSE(BT$28,IF(ISNA(MATCH(AH41,$AS$30:$AT$30,0)),0,1),IF(ISNUMBER(AH41),1,0),IF(AH41=TRUNC(AH41),1,0),IF(AND(AH41*1=AH41,AH41>=0),1,0),IF(AND(AH41=TRUNC(AH41),AH41>=0),1,0),IF(AND(AH41*1=AH41,AH41>0),1,0),IF(AND(AH41=TRUNC(AH41),AH41>0),1,0),1,IF(ISNA(HLOOKUP(AH41,$AV$4:$BE$4,1,0)),0,1)),0))) -> 1 | BV41: =IF(OR(AI$30="",AI$4=99),1,IF(AI41="",0,IFERROR(CHOOSE(BU$28,IF(ISNA(MATCH(AI41,$AS$30:$AT$30,0)),0,1),IF(ISNUMBER(AI41),1,0),IF(AI41=TRUNC(AI41),1,0),IF(AND(AI41*1=AI41,AI41>=0),1,0),IF(AND(AI41=TRUNC(AI41),AI41>=0),1,0),IF(AND(AI41*1=AI41,AI41>0),1,0),IF(AND(AI41=TRUNC(AI41),AI41>0),1,0),1,IF(ISNA(HLOOKUP(AI41,$AV$4:$BE$4,1,0)),0,1)),0))) -> 1 | BW41: =IF(OR(AJ$30="",AJ$4=99),1,IF(AJ41="",0,IFERROR(CHOOSE(BV$28,IF(ISNA(MATCH(AJ41,$AS$30:$AT$30,0)),0,1),IF(ISNUMBER(AJ41),1,0),IF(AJ41=TRUNC(AJ41),1,0),IF(AND(AJ41*1=AJ41,AJ41>=0),1,0),IF(AND(AJ41=TRUNC(AJ41),AJ41>=0),1,0),IF(AND(AJ41*1=AJ41,AJ41>0),1,0),IF(AND(AJ41=TRUNC(AJ41),AJ41>0),1,0),1,IF(ISNA(HLOOKUP(AJ41,$AV$4:$BE$4,1,0)),0,1)),0))) -> 1 | BX41: =IF(OR(AK$30="",AK$4=99),1,IF(AK41="",0,IFERROR(CHOOSE(BW$28,IF(ISNA(MATCH(AK41,$AS$30:$AT$30,0)),0,1),IF(ISNUMBER(AK41),1,0),IF(AK41=TRUNC(AK41),1,0),IF(AND(AK41*1=AK41,AK41>=0),1,0),IF(AND(AK41=TRUNC(AK41),AK41>=0),1,0),IF(AND(AK41*1=AK41,AK41>0),1,0),IF(AND(AK41=TRUNC(AK41),AK41>0),1,0),1,IF(ISNA(HLOOKUP(AK41,$AV$4:$BE$4,1,0)),0,1)),0))) -> 1 | BY41: =IF(OR(AL$30="",AL$4=99),1,IF(AL41="",0,IFERROR(CHOOSE(BX$28,IF(ISNA(MATCH(AL41,$AS$30:$AT$30,0)),0,1),IF(ISNUMBER(AL41),1,0),IF(AL41=TRUNC(AL41),1,0),IF(AND(AL41*1=AL41,AL41>=0),1,0),IF(AND(AL41=TRUNC(AL41),AL41>=0),1,0),IF(AND(AL41*1=AL41,AL41>0),1,0),IF(AND(AL41=TRUNC(AL41),AL41>0),1,0),1,IF(ISNA(HLOOKUP(AL41,$AV$4:$BE$4,1,0)),0,1)),0))) -> 1 | BZ41: =IF(OR(AM$30="",AM$4=99),1,IF(AM41="",0,IFERROR(CHOOSE(BY$28,IF(ISNA(MATCH(AM41,$AS$30:$AT$30,0)),0,1),IF(ISNUMBER(AM41),1,0),IF(AM41=TRUNC(AM41),1,0),IF(AND(AM41*1=AM41,AM41>=0),1,0),IF(AND(AM41=TRUNC(AM41),AM41>=0),1,0),IF(AND(AM41*1=AM41,AM41>0),1,0),IF(AND(AM41=TRUNC(AM41),AM41>0),1,0),1,IF(ISNA(HLOOKUP(AM41,$AV$4:$BE$4,1,0)),0,1)),0))) -> 1 | CA41: =IF(OR(AN$30="",AN$4=99),1,IF(AN41="",0,IFERROR(CHOOSE(BZ$28,IF(ISNA(MATCH(AN41,$AS$30:$AT$30,0)),0,1),IF(ISNUMBER(AN41),1,0),IF(AN41=TRUNC(AN41),1,0),IF(AND(AN41*1=AN41,AN41>=0),1,0),IF(AND(AN41=TRUNC(AN41),AN41>=0),1,0),IF(AND(AN41*1=AN41,AN41>0),1,0),IF(AND(AN41=TRUNC(AN41),AN41>0),1,0),1,IF(ISNA(HLOOKUP(AN41,$AV$4:$BE$4,1,0)),0,1)),0))) -> 1 | CB41: =IF(OR(AO$30="",AO$4=99),1,IF(AO41="",0,IFERROR(CHOOSE(CA$28,IF(ISNA(MATCH(AO41,$AS$30:$AT$30,0)),0,1),IF(ISNUMBER(AO41),1,0),IF(AO41=TRUNC(AO41),1,0),IF(AND(AO41*1=AO41,AO41>=0),1,0),IF(AND(AO41=TRUNC(AO41),AO41>=0),1,0),IF(AND(AO41*1=AO41,AO41>0),1,0),IF(AND(AO41=TRUNC(AO41),AO41>0),1,0),1,IF(ISNA(HLOOKUP(AO41,$AV$4:$BE$4,1,0)),0,1)),0))) -> 1 | CC41: =IF(OR(AP$30="",AP$4=99),1,IF(AP41="",0,IFERROR(CHOOSE(CB$28,IF(ISNA(MATCH(AP41,$AS$30:$AT$30,0)),0,1),IF(ISNUMBER(AP41),1,0),IF(AP41=TRUNC(AP41),1,0),IF(AND(AP41*1=AP41,AP41>=0),1,0),IF(AND(AP41=TRUNC(AP41),AP41>=0),1,0),IF(AND(AP41*1=AP41,AP41>0),1,0),IF(AND(AP41=TRUNC(AP41),AP41>0),1,0),1,IF(ISNA(HLOOKUP(AP41,$AV$4:$BE$4,1,0)),0,1)),0))) -> 1 | CH41: =IF($F41="","",CH$30) | CI41: =IF($F41="","",CI$30) | CJ41: =IF($F41="","",CJ$30) | CK41: =IF($F41="","",CK$30) | CL41: =IF($F41="","",CL$30) | CM41: =IF($F41="","",CM$30) | CN41: =IF($F41="","",CN$30) | CO41: =IF($F41="","",CO$30) | ... CQ41: =IF($F41="","",CQ$30) | CW41: =W41>=CV$5 -> FALSE | CX41: =X41>=CW$5 -> FALSE | CY41: =Y41>=CX$5 -> TRUE | DC41: =COUNTIF(CW41:DA41,TRUE) -> 1 | DD41: =W41>=DC$5 -> FALSE | DE41: =X41>=DD$5 -> FALSE | DF41: =Y41>=DE$5 -> TRUE | DK41: =COUNTIF(DD41:DJ41,TRUE) -> 1 | DM41: =IF($F41="","",IF(AND(DK41=$CW$3,DK41-DC41<=$DD$3),1,0))
B42: =IF(F42="","",ROW()-30) -> 12 | F42: אורין יוחנן | G42: 1 | H42: 1 | I42: 1 | J42: 1 | K42: 1 | L42: 1 | M42: 1 | N42: 1 | O42: 1 | P42: 1 | Q42: 1 | R42: 1 | S42: 0 | T42: 1 | U42: 1 | V42: 1 | W42: 1 | X42: 1 | Y42: 1 | Z42: =IF(F42="","",IF(AND(S42=1,T42=1),$AS$1,IF(OR(S42=1,AND(T42=1,U42=1,V42=1,W42=1,X42=1,Y42=1)),1,0))) -> 1 | AA42: 1 | AF42: =IF($F42="","",IF(OR(DL42=1,AND(DM42=1,AA42=1)),1,0)) -> 0 | AG42: 1 | AH42: =IF(F42="","",IF(AA42=1,1,IF(AND(AB42="לא",SUM(AC42:AD42)=2),1,IF(AND(AB42="כן",SUM(AC42:AE42)=3),1,0)))) -> 1 | AK42: =IF(F42="","",IF(G42>=$G$5,1,0)) -> 1 | AP42: =IF($F42="","",IF(AL42=1,1,IF(AR42<>1,$AS$1,IF(SUMPRODUCT(--(G42:AK42>=$G$5:$AK$5)*($G$5:$AK$5<>"")*($G$4:$AK$4=1))=COUNTIF($G$4:$AK$4,1),1,0)))) -> 1 | AR42: =IF(OR(SUM(AU42:CC42)<>COUNT(AU42:CC42),SUMPRODUCT(--(G42:AK42=$AS$1))<>0),0,1) -> 1 | AS42: =IF($F42="","",AS$30) -> 0 | AT42: =IF($F42="","",AT$30) -> 1 | AU42: =IF(OR(G$30="",G$4=99),1,IF(G42="",0,IFERROR(CHOOSE(AU$28,IF(ISNA(MATCH(G42,$AS$30:$AT$30,0)),0,1),IF(ISNUMBER(G42),1,0),IF(G42=TRUNC(G42),1,0),IF(AND(G42*1=G42,G42>=0),1,0),IF(AND(G42=TRUNC(G42),G42>=0),1,0),IF(AND(G42*1=G42,G42>0),1,0),IF(AND(G42=TRUNC(G42),G42>0),1,0),1,IF(ISNA(HLOOKUP(G42,$AV$4:$BE$4,1,0)),0,1)),0))) -> 1 | AV42: =IF(OR(H$30="",H$4=99),1,IF(H42="",0,IFERROR(CHOOSE(AV$28,IF(ISNA(MATCH(H42,$AS$30:$AT$30,0)),0,1),IF(ISNUMBER(H42),1,0),IF(H42=TRUNC(H42),1,0),IF(AND(H42*1=H42,H42>=0),1,0),IF(AND(H42=TRUNC(H42),H42>=0),1,0),IF(AND(H42*1=H42,H42>0),1,0),IF(AND(H42=TRUNC(H42),H42>0),1,0),1,IF(ISNA(HLOOKUP(H42,$AV$4:$BE$4,1,0)),0,1)),0))) -> 1 | AW42: =IF(OR(I$30="",I$4=99),1,IF(I42="",0,IFERROR(CHOOSE(AW$28,IF(ISNA(MATCH(I42,$AS$30:$AT$30,0)),0,1),IF(ISNUMBER(I42),1,0),IF(I42=TRUNC(I42),1,0),IF(AND(I42*1=I42,I42>=0),1,0),IF(AND(I42=TRUNC(I42),I42>=0),1,0),IF(AND(I42*1=I42,I42>0),1,0),IF(AND(I42=TRUNC(I42),I42>0),1,0),1,IF(ISNA(HLOOKUP(I42,$AV$4:$BE$4,1,0)),0,1)),0))) -> 1 | AX42: =IF(OR(J$30="",J$4=99),1,IF(J42="",0,IFERROR(CHOOSE(AX$28,IF(ISNA(MATCH(J42,$AS$30:$AT$30,0)),0,1),IF(ISNUMBER(J42),1,0),IF(J42=TRUNC(J42),1,0),IF(AND(J42*1=J42,J42>=0),1,0),IF(AND(J42=TRUNC(J42),J42>=0),1,0),IF(AND(J42*1=J42,J42>0),1,0),IF(AND(J42=TRUNC(J42),J42>0),1,0),1,IF(ISNA(HLOOKUP(J42,$AV$4:$BE$4,1,0)),0,1)),0))) -> 1 | AY42: =IF(OR(K$30="",K$4=99),1,IF(K42="",0,IFERROR(CHOOSE(AY$28,IF(ISNA(MATCH(K42,$AS$30:$AT$30,0)),0,1),IF(ISNUMBER(K42),1,0),IF(K42=TRUNC(K42),1,0),IF(AND(K42*1=K42,K42>=0),1,0),IF(AND(K42=TRUNC(K42),K42>=0),1,0),IF(AND(K42*1=K42,K42>0),1,0),IF(AND(K42=TRUNC(K42),K42>0),1,0),1,IF(ISNA(HLOOKUP(K42,$AV$4:$BE$4,1,0)),0,1)),0))) -> 1 | AZ42: =IF(OR(L$30="",L$4=99),1,IF(L42="",0,IFERROR(CHOOSE(AZ$28,IF(ISNA(MATCH(L42,$AS$30:$AT$30,0)),0,1),IF(ISNUMBER(L42),1,0),IF(L42=TRUNC(L42),1,0),IF(AND(L42*1=L42,L42>=0),1,0),IF(AND(L42=TRUNC(L42),L42>=0),1,0),IF(AND(L42*1=L42,L42>0),1,0),IF(AND(L42=TRUNC(L42),L42>0),1,0),1,IF(ISNA(HLOOKUP(L42,$AV$4:$BE$4,1,0)),0,1)),0))) -> 1 | BA42: =IF(OR(M$30="",M$4=99),1,IF(M42="",0,IFERROR(CHOOSE(BA$28,IF(ISNA(MATCH(M42,$AS$30:$AT$30,0)),0,1),IF(ISNUMBER(M42),1,0),IF(M42=TRUNC(M42),1,0),IF(AND(M42*1=M42,M42>=0),1,0),IF(AND(M42=TRUNC(M42),M42>=0),1,0),IF(AND(M42*1=M42,M42>0),1,0),IF(AND(M42=TRUNC(M42),M42>0),1,0),1,IF(ISNA(HLOOKUP(M42,$AV$4:$BE$4,1,0)),0,1)),0))) -> 1 | BB42: =IF(OR(N$30="",N$4=99),1,IF(N42="",0,IFERROR(CHOOSE(BB$28,IF(ISNA(MATCH(N42,$AS$30:$AT$30,0)),0,1),IF(ISNUMBER(N42),1,0),IF(N42=TRUNC(N42),1,0),IF(AND(N42*1=N42,N42>=0),1,0),IF(AND(N42=TRUNC(N42),N42>=0),1,0),IF(AND(N42*1=N42,N42>0),1,0),IF(AND(N42=TRUNC(N42),N42>0),1,0),1,IF(ISNA(HLOOKUP(N42,$AV$4:$BE$4,1,0)),0,1)),0))) -> 1 | ... BF42: =IF(OR(R$30="",R$4=99),1,IF(R42="",0,IFERROR(CHOOSE(BF$28,IF(ISNA(MATCH(R42,$AS$30:$AT$30,0)),0,1),IF(ISNUMBER(R42),1,0),IF(R42=TRUNC(R42),1,0),IF(AND(R42*1=R42,R42>=0),1,0),IF(AND(R42=TRUNC(R42),R42>=0),1,0),IF(AND(R42*1=R42,R42>0),1,0),IF(AND(R42=TRUNC(R42),R42>0),1,0),1,IF(ISNA(HLOOKUP(R42,$AV$4:$BE$4,1,0)),0,1)),0))) -> 1 | BG42: =IF(OR(S$30="",S$4=99),1,IF(S42="",0,IFERROR(CHOOSE(BF$28,IF(ISNA(MATCH(S42,$AS$30:$AT$30,0)),0,1),IF(ISNUMBER(S42),1,0),IF(S42=TRUNC(S42),1,0),IF(AND(S42*1=S42,S42>=0),1,0),IF(AND(S42=TRUNC(S42),S42>=0),1,0),IF(AND(S42*1=S42,S42>0),1,0),IF(AND(S42=TRUNC(S42),S42>0),1,0),1,IF(ISNA(HLOOKUP(S42,$AV$4:$BE$4,1,0)),0,1)),0))) -> 1 | BH42: =IF(OR(T$30="",T$4=99),1,IF(T42="",0,IFERROR(CHOOSE(BG$28,IF(ISNA(MATCH(T42,$AS$30:$AT$30,0)),0,1),IF(ISNUMBER(T42),1,0),IF(T42=TRUNC(T42),1,0),IF(AND(T42*1=T42,T42>=0),1,0),IF(AND(T42=TRUNC(T42),T42>=0),1,0),IF(AND(T42*1=T42,T42>0),1,0),IF(AND(T42=TRUNC(T42),T42>0),1,0),1,IF(ISNA(HLOOKUP(T42,$AV$4:$BE$4,1,0)),0,1)),0))) -> 1 | BI42: =IF(OR(U$30="",U$4=99),1,IF(U42="",0,IFERROR(CHOOSE(BH$28,IF(ISNA(MATCH(U42,$AS$30:$AT$30,0)),0,1),IF(ISNUMBER(U42),1,0),IF(U42=TRUNC(U42),1,0),IF(AND(U42*1=U42,U42>=0),1,0),IF(AND(U42=TRUNC(U42),U42>=0),1,0),IF(AND(U42*1=U42,U42>0),1,0),IF(AND(U42=TRUNC(U42),U42>0),1,0),1,IF(ISNA(HLOOKUP(U42,$AV$4:$BE$4,1,0)),0,1)),0))) -> 1 | BJ42: =IF(OR(V$30="",V$4=99),1,IF(V42="",0,IFERROR(CHOOSE(BI$28,IF(ISNA(MATCH(V42,$AS$30:$AT$30,0)),0,1),IF(ISNUMBER(V42),1,0),IF(V42=TRUNC(V42),1,0),IF(AND(V42*1=V42,V42>=0),1,0),IF(AND(V42=TRUNC(V42),V42>=0),1,0),IF(AND(V42*1=V42,V42>0),1,0),IF(AND(V42=TRUNC(V42),V42>0),1,0),1,IF(ISNA(HLOOKUP(V42,$AV$4:$BE$4,1,0)),0,1)),0))) -> 1 | BK42: =IF(OR(W$30="",W$4=99),1,IF(W42="",0,IFERROR(CHOOSE(BJ$28,IF(ISNA(MATCH(W42,$AS$30:$AT$30,0)),0,1),IF(ISNUMBER(W42),1,0),IF(W42=TRUNC(W42),1,0),IF(AND(W42*1=W42,W42>=0),1,0),IF(AND(W42=TRUNC(W42),W42>=0),1,0),IF(AND(W42*1=W42,W42>0),1,0),IF(AND(W42=TRUNC(W42),W42>0),1,0),1,IF(ISNA(HLOOKUP(W42,$AV$4:$BE$4,1,0)),0,1)),0))) -> 1 | BL42: =IF(OR(X$30="",X$4=99),1,IF(X42="",0,IFERROR(CHOOSE(BK$28,IF(ISNA(MATCH(X42,$AS$30:$AT$30,0)),0,1),IF(ISNUMBER(X42),1,0),IF(X42=TRUNC(X42),1,0),IF(AND(X42*1=X42,X42>=0),1,0),IF(AND(X42=TRUNC(X42),X42>=0),1,0),IF(AND(X42*1=X42,X42>0),1,0),IF(AND(X42=TRUNC(X42),X42>0),1,0),1,IF(ISNA(HLOOKUP(X42,$AV$4:$BE$4,1,0)),0,1)),0))) -> 1 | BM42: =IF(OR(Y$30="",Y$4=99),1,IF(Y42="",0,IFERROR(CHOOSE(BL$28,IF(ISNA(MATCH(Y42,$AS$30:$AT$30,0)),0,1),IF(ISNUMBER(Y42),1,0),IF(Y42=TRUNC(Y42),1,0),IF(AND(Y42*1=Y42,Y42>=0),1,0),IF(AND(Y42=TRUNC(Y42),Y42>=0),1,0),IF(AND(Y42*1=Y42,Y42>0),1,0),IF(AND(Y42=TRUNC(Y42),Y42>0),1,0),1,IF(ISNA(HLOOKUP(Y42,$AV$4:$BE$4,1,0)),0,1)),0))) -> 1 | BN42: =IF(OR(Z$30="",Z$4=99),1,IF(Z42="",0,IFERROR(CHOOSE(BM$28,IF(ISNA(MATCH(Z42,$AS$30:$AT$30,0)),0,1),IF(ISNUMBER(Z42),1,0),IF(Z42=TRUNC(Z42),1,0),IF(AND(Z42*1=Z42,Z42>=0),1,0),IF(AND(Z42=TRUNC(Z42),Z42>=0),1,0),IF(AND(Z42*1=Z42,Z42>0),1,0),IF(AND(Z42=TRUNC(Z42),Z42>0),1,0),1,IF(ISNA(HLOOKUP(Z42,$AV$4:$BE$4,1,0)),0,1)),0))) -> 1 | ... BT42: =IF(OR(AF$30="",AF$4=99),1,IF(AF42="",0,IFERROR(CHOOSE(BS$28,IF(ISNA(MATCH(AF42,$AS$30:$AT$30,0)),0,1),IF(ISNUMBER(AF42),1,0),IF(AF42=TRUNC(AF42),1,0),IF(AND(AF42*1=AF42,AF42>=0),1,0),IF(AND(AF42=TRUNC(AF42),AF42>=0),1,0),IF(AND(AF42*1=AF42,AF42>0),1,0),IF(AND(AF42=TRUNC(AF42),AF42>0),1,0),1,IF(ISNA(HLOOKUP(AF42,$AV$4:$BE$4,1,0)),0,1)),0))) -> 1 | BU42: =IF(OR(AH$30="",AH$4=99),1,IF(AH42="",0,IFERROR(CHOOSE(BT$28,IF(ISNA(MATCH(AH42,$AS$30:$AT$30,0)),0,1),IF(ISNUMBER(AH42),1,0),IF(AH42=TRUNC(AH42),1,0),IF(AND(AH42*1=AH42,AH42>=0),1,0),IF(AND(AH42=TRUNC(AH42),AH42>=0),1,0),IF(AND(AH42*1=AH42,AH42>0),1,0),IF(AND(AH42=TRUNC(AH42),AH42>0),1,0),1,IF(ISNA(HLOOKUP(AH42,$AV$4:$BE$4,1,0)),0,1)),0))) -> 1 | BV42: =IF(OR(AI$30="",AI$4=99),1,IF(AI42="",0,IFERROR(CHOOSE(BU$28,IF(ISNA(MATCH(AI42,$AS$30:$AT$30,0)),0,1),IF(ISNUMBER(AI42),1,0),IF(AI42=TRUNC(AI42),1,0),IF(AND(AI42*1=AI42,AI42>=0),1,0),IF(AND(AI42=TRUNC(AI42),AI42>=0),1,0),IF(AND(AI42*1=AI42,AI42>0),1,0),IF(AND(AI42=TRUNC(AI42),AI42>0),1,0),1,IF(ISNA(HLOOKUP(AI42,$AV$4:$BE$4,1,0)),0,1)),0))) -> 1 | BW42: =IF(OR(AJ$30="",AJ$4=99),1,IF(AJ42="",0,IFERROR(CHOOSE(BV$28,IF(ISNA(MATCH(AJ42,$AS$30:$AT$30,0)),0,1),IF(ISNUMBER(AJ42),1,0),IF(AJ42=TRUNC(AJ42),1,0),IF(AND(AJ42*1=AJ42,AJ42>=0),1,0),IF(AND(AJ42=TRUNC(AJ42),AJ42>=0),1,0),IF(AND(AJ42*1=AJ42,AJ42>0),1,0),IF(AND(AJ42=TRUNC(AJ42),AJ42>0),1,0),1,IF(ISNA(HLOOKUP(AJ42,$AV$4:$BE$4,1,0)),0,1)),0))) -> 1 | BX42: =IF(OR(AK$30="",AK$4=99),1,IF(AK42="",0,IFERROR(CHOOSE(BW$28,IF(ISNA(MATCH(AK42,$AS$30:$AT$30,0)),0,1),IF(ISNUMBER(AK42),1,0),IF(AK42=TRUNC(AK42),1,0),IF(AND(AK42*1=AK42,AK42>=0),1,0),IF(AND(AK42=TRUNC(AK42),AK42>=0),1,0),IF(AND(AK42*1=AK42,AK42>0),1,0),IF(AND(AK42=TRUNC(AK42),AK42>0),1,0),1,IF(ISNA(HLOOKUP(AK42,$AV$4:$BE$4,1,0)),0,1)),0))) -> 1 | BY42: =IF(OR(AL$30="",AL$4=99),1,IF(AL42="",0,IFERROR(CHOOSE(BX$28,IF(ISNA(MATCH(AL42,$AS$30:$AT$30,0)),0,1),IF(ISNUMBER(AL42),1,0),IF(AL42=TRUNC(AL42),1,0),IF(AND(AL42*1=AL42,AL42>=0),1,0),IF(AND(AL42=TRUNC(AL42),AL42>=0),1,0),IF(AND(AL42*1=AL42,AL42>0),1,0),IF(AND(AL42=TRUNC(AL42),AL42>0),1,0),1,IF(ISNA(HLOOKUP(AL42,$AV$4:$BE$4,1,0)),0,1)),0))) -> 1 | BZ42: =IF(OR(AM$30="",AM$4=99),1,IF(AM42="",0,IFERROR(CHOOSE(BY$28,IF(ISNA(MATCH(AM42,$AS$30:$AT$30,0)),0,1),IF(ISNUMBER(AM42),1,0),IF(AM42=TRUNC(AM42),1,0),IF(AND(AM42*1=AM42,AM42>=0),1,0),IF(AND(AM42=TRUNC(AM42),AM42>=0),1,0),IF(AND(AM42*1=AM42,AM42>0),1,0),IF(AND(AM42=TRUNC(AM42),AM42>0),1,0),1,IF(ISNA(HLOOKUP(AM42,$AV$4:$BE$4,1,0)),0,1)),0))) -> 1 | CA42: =IF(OR(AN$30="",AN$4=99),1,IF(AN42="",0,IFERROR(CHOOSE(BZ$28,IF(ISNA(MATCH(AN42,$AS$30:$AT$30,0)),0,1),IF(ISNUMBER(AN42),1,0),IF(AN42=TRUNC(AN42),1,0),IF(AND(AN42*1=AN42,AN42>=0),1,0),IF(AND(AN42=TRUNC(AN42),AN42>=0),1,0),IF(AND(AN42*1=AN42,AN42>0),1,0),IF(AND(AN42=TRUNC(AN42),AN42>0),1,0),1,IF(ISNA(HLOOKUP(AN42,$AV$4:$BE$4,1,0)),0,1)),0))) -> 1 | CB42: =IF(OR(AO$30="",AO$4=99),1,IF(AO42="",0,IFERROR(CHOOSE(CA$28,IF(ISNA(MATCH(AO42,$AS$30:$AT$30,0)),0,1),IF(ISNUMBER(AO42),1,0),IF(AO42=TRUNC(AO42),1,0),IF(AND(AO42*1=AO42,AO42>=0),1,0),IF(AND(AO42=TRUNC(AO42),AO42>=0),1,0),IF(AND(AO42*1=AO42,AO42>0),1,0),IF(AND(AO42=TRUNC(AO42),AO42>0),1,0),1,IF(ISNA(HLOOKUP(AO42,$AV$4:$BE$4,1,0)),0,1)),0))) -> 1 | CC42: =IF(OR(AP$30="",AP$4=99),1,IF(AP42="",0,IFERROR(CHOOSE(CB$28,IF(ISNA(MATCH(AP42,$AS$30:$AT$30,0)),0,1),IF(ISNUMBER(AP42),1,0),IF(AP42=TRUNC(AP42),1,0),IF(AND(AP42*1=AP42,AP42>=0),1,0),IF(AND(AP42=TRUNC(AP42),AP42>=0),1,0),IF(AND(AP42*1=AP42,AP42>0),1,0),IF(AND(AP42=TRUNC(AP42),AP42>0),1,0),1,IF(ISNA(HLOOKUP(AP42,$AV$4:$BE$4,1,0)),0,1)),0))) -> 1 | CH42: =IF($F42="","",CH$30) -> 1 | CI42: =IF($F42="","",CI$30) -> 2 | CJ42: =IF($F42="","",CJ$30) -> 3 | CK42: =IF($F42="","",CK$30) -> 4 | CL42: =IF($F42="","",CL$30) -> 5 | CM42: =IF($F42="","",CM$30) -> 6 | CN42: =IF($F42="","",CN$30) -> 7 | CO42: =IF($F42="","",CO$30) -> 8 | ... CQ42: =IF($F42="","",CQ$30) -> 10 | CW42: =W42>=CV$5 -> TRUE | CX42: =X42>=CW$5 -> FALSE | CY42: =Y42>=CX$5 -> TRUE | DC42: =COUNTIF(CW42:DA42,TRUE) -> 2 | DD42: =W42>=DC$5 -> TRUE | DE42: =X42>=DD$5 -> FALSE | DF42: =Y42>=DE$5 -> TRUE | DK42: =COUNTIF(DD42:DJ42,TRUE) -> 2 | DM42: =IF($F42="","",IF(AND(DK42=$CW$3,DK42-DC42<=$DD$3),1,0)) -> 0
B43: =IF(F43="","",ROW()-30) -> 13 | F43: איריס ארז | G43: 1 | H43: 1 | I43: 1 | J43: 1 | K43: 1 | L43: 1 | M43: 1 | N43: 1 | O43: 1 | P43: 1 | Q43: 1 | R43: 1 | S43: 0 | T43: 1 | U43: 1 | V43: 1 | W43: 1 | X43: 1 | Y43: 1 | Z43: =IF(F43="","",IF(AND(S43=1,T43=1),$AS$1,IF(OR(S43=1,AND(T43=1,U43=1,V43=1,W43=1,X43=1,Y43=1)),1,0))) -> 1 | AA43: 1 | AF43: =IF($F43="","",IF(OR(DL43=1,AND(DM43=1,AA43=1)),1,0)) -> 0 | AG43: 1 | AH43: =IF(F43="","",IF(AA43=1,1,IF(AND(AB43="לא",SUM(AC43:AD43)=2),1,IF(AND(AB43="כן",SUM(AC43:AE43)=3),1,0)))) -> 1 | AK43: =IF(F43="","",IF(G43>=$G$5,1,0)) -> 1 | AP43: =IF($F43="","",IF(AL43=1,1,IF(AR43<>1,$AS$1,IF(SUMPRODUCT(--(G43:AK43>=$G$5:$AK$5)*($G$5:$AK$5<>"")*($G$4:$AK$4=1))=COUNTIF($G$4:$AK$4,1),1,0)))) -> 1 | AR43: =IF(OR(SUM(AU43:CC43)<>COUNT(AU43:CC43),SUMPRODUCT(--(G43:AK43=$AS$1))<>0),0,1) -> 1 | AS43: =IF($F43="","",AS$30) -> 0 | AT43: =IF($F43="","",AT$30) -> 1 | AU43: =IF(OR(G$30="",G$4=99),1,IF(G43="",0,IFERROR(CHOOSE(AU$28,IF(ISNA(MATCH(G43,$AS$30:$AT$30,0)),0,1),IF(ISNUMBER(G43),1,0),IF(G43=TRUNC(G43),1,0),IF(AND(G43*1=G43,G43>=0),1,0),IF(AND(G43=TRUNC(G43),G43>=0),1,0),IF(AND(G43*1=G43,G43>0),1,0),IF(AND(G43=TRUNC(G43),G43>0),1,0),1,IF(ISNA(HLOOKUP(G43,$AV$4:$BE$4,1,0)),0,1)),0))) -> 1 | AV43: =IF(OR(H$30="",H$4=99),1,IF(H43="",0,IFERROR(CHOOSE(AV$28,IF(ISNA(MATCH(H43,$AS$30:$AT$30,0)),0,1),IF(ISNUMBER(H43),1,0),IF(H43=TRUNC(H43),1,0),IF(AND(H43*1=H43,H43>=0),1,0),IF(AND(H43=TRUNC(H43),H43>=0),1,0),IF(AND(H43*1=H43,H43>0),1,0),IF(AND(H43=TRUNC(H43),H43>0),1,0),1,IF(ISNA(HLOOKUP(H43,$AV$4:$BE$4,1,0)),0,1)),0))) -> 1 | AW43: =IF(OR(I$30="",I$4=99),1,IF(I43="",0,IFERROR(CHOOSE(AW$28,IF(ISNA(MATCH(I43,$AS$30:$AT$30,0)),0,1),IF(ISNUMBER(I43),1,0),IF(I43=TRUNC(I43),1,0),IF(AND(I43*1=I43,I43>=0),1,0),IF(AND(I43=TRUNC(I43),I43>=0),1,0),IF(AND(I43*1=I43,I43>0),1,0),IF(AND(I43=TRUNC(I43),I43>0),1,0),1,IF(ISNA(HLOOKUP(I43,$AV$4:$BE$4,1,0)),0,1)),0))) -> 1 | AX43: =IF(OR(J$30="",J$4=99),1,IF(J43="",0,IFERROR(CHOOSE(AX$28,IF(ISNA(MATCH(J43,$AS$30:$AT$30,0)),0,1),IF(ISNUMBER(J43),1,0),IF(J43=TRUNC(J43),1,0),IF(AND(J43*1=J43,J43>=0),1,0),IF(AND(J43=TRUNC(J43),J43>=0),1,0),IF(AND(J43*1=J43,J43>0),1,0),IF(AND(J43=TRUNC(J43),J43>0),1,0),1,IF(ISNA(HLOOKUP(J43,$AV$4:$BE$4,1,0)),0,1)),0))) -> 1 | AY43: =IF(OR(K$30="",K$4=99),1,IF(K43="",0,IFERROR(CHOOSE(AY$28,IF(ISNA(MATCH(K43,$AS$30:$AT$30,0)),0,1),IF(ISNUMBER(K43),1,0),IF(K43=TRUNC(K43),1,0),IF(AND(K43*1=K43,K43>=0),1,0),IF(AND(K43=TRUNC(K43),K43>=0),1,0),IF(AND(K43*1=K43,K43>0),1,0),IF(AND(K43=TRUNC(K43),K43>0),1,0),1,IF(ISNA(HLOOKUP(K43,$AV$4:$BE$4,1,0)),0,1)),0))) -> 1 | AZ43: =IF(OR(L$30="",L$4=99),1,IF(L43="",0,IFERROR(CHOOSE(AZ$28,IF(ISNA(MATCH(L43,$AS$30:$AT$30,0)),0,1),IF(ISNUMBER(L43),1,0),IF(L43=TRUNC(L43),1,0),IF(AND(L43*1=L43,L43>=0),1,0),IF(AND(L43=TRUNC(L43),L43>=0),1,0),IF(AND(L43*1=L43,L43>0),1,0),IF(AND(L43=TRUNC(L43),L43>0),1,0),1,IF(ISNA(HLOOKUP(L43,$AV$4:$BE$4,1,0)),0,1)),0))) -> 1 | BA43: =IF(OR(M$30="",M$4=99),1,IF(M43="",0,IFERROR(CHOOSE(BA$28,IF(ISNA(MATCH(M43,$AS$30:$AT$30,0)),0,1),IF(ISNUMBER(M43),1,0),IF(M43=TRUNC(M43),1,0),IF(AND(M43*1=M43,M43>=0),1,0),IF(AND(M43=TRUNC(M43),M43>=0),1,0),IF(AND(M43*1=M43,M43>0),1,0),IF(AND(M43=TRUNC(M43),M43>0),1,0),1,IF(ISNA(HLOOKUP(M43,$AV$4:$BE$4,1,0)),0,1)),0))) -> 1 | BB43: =IF(OR(N$30="",N$4=99),1,IF(N43="",0,IFERROR(CHOOSE(BB$28,IF(ISNA(MATCH(N43,$AS$30:$AT$30,0)),0,1),IF(ISNUMBER(N43),1,0),IF(N43=TRUNC(N43),1,0),IF(AND(N43*1=N43,N43>=0),1,0),IF(AND(N43=TRUNC(N43),N43>=0),1,0),IF(AND(N43*1=N43,N43>0),1,0),IF(AND(N43=TRUNC(N43),N43>0),1,0),1,IF(ISNA(HLOOKUP(N43,$AV$4:$BE$4,1,0)),0,1)),0))) -> 1 | ... BF43: =IF(OR(R$30="",R$4=99),1,IF(R43="",0,IFERROR(CHOOSE(BF$28,IF(ISNA(MATCH(R43,$AS$30:$AT$30,0)),0,1),IF(ISNUMBER(R43),1,0),IF(R43=TRUNC(R43),1,0),IF(AND(R43*1=R43,R43>=0),1,0),IF(AND(R43=TRUNC(R43),R43>=0),1,0),IF(AND(R43*1=R43,R43>0),1,0),IF(AND(R43=TRUNC(R43),R43>0),1,0),1,IF(ISNA(HLOOKUP(R43,$AV$4:$BE$4,1,0)),0,1)),0))) -> 1 | BG43: =IF(OR(S$30="",S$4=99),1,IF(S43="",0,IFERROR(CHOOSE(BF$28,IF(ISNA(MATCH(S43,$AS$30:$AT$30,0)),0,1),IF(ISNUMBER(S43),1,0),IF(S43=TRUNC(S43),1,0),IF(AND(S43*1=S43,S43>=0),1,0),IF(AND(S43=TRUNC(S43),S43>=0),1,0),IF(AND(S43*1=S43,S43>0),1,0),IF(AND(S43=TRUNC(S43),S43>0),1,0),1,IF(ISNA(HLOOKUP(S43,$AV$4:$BE$4,1,0)),0,1)),0))) -> 1 | BH43: =IF(OR(T$30="",T$4=99),1,IF(T43="",0,IFERROR(CHOOSE(BG$28,IF(ISNA(MATCH(T43,$AS$30:$AT$30,0)),0,1),IF(ISNUMBER(T43),1,0),IF(T43=TRUNC(T43),1,0),IF(AND(T43*1=T43,T43>=0),1,0),IF(AND(T43=TRUNC(T43),T43>=0),1,0),IF(AND(T43*1=T43,T43>0),1,0),IF(AND(T43=TRUNC(T43),T43>0),1,0),1,IF(ISNA(HLOOKUP(T43,$AV$4:$BE$4,1,0)),0,1)),0))) -> 1 | BI43: =IF(OR(U$30="",U$4=99),1,IF(U43="",0,IFERROR(CHOOSE(BH$28,IF(ISNA(MATCH(U43,$AS$30:$AT$30,0)),0,1),IF(ISNUMBER(U43),1,0),IF(U43=TRUNC(U43),1,0),IF(AND(U43*1=U43,U43>=0),1,0),IF(AND(U43=TRUNC(U43),U43>=0),1,0),IF(AND(U43*1=U43,U43>0),1,0),IF(AND(U43=TRUNC(U43),U43>0),1,0),1,IF(ISNA(HLOOKUP(U43,$AV$4:$BE$4,1,0)),0,1)),0))) -> 1 | BJ43: =IF(OR(V$30="",V$4=99),1,IF(V43="",0,IFERROR(CHOOSE(BI$28,IF(ISNA(MATCH(V43,$AS$30:$AT$30,0)),0,1),IF(ISNUMBER(V43),1,0),IF(V43=TRUNC(V43),1,0),IF(AND(V43*1=V43,V43>=0),1,0),IF(AND(V43=TRUNC(V43),V43>=0),1,0),IF(AND(V43*1=V43,V43>0),1,0),IF(AND(V43=TRUNC(V43),V43>0),1,0),1,IF(ISNA(HLOOKUP(V43,$AV$4:$BE$4,1,0)),0,1)),0))) -> 1 | BK43: =IF(OR(W$30="",W$4=99),1,IF(W43="",0,IFERROR(CHOOSE(BJ$28,IF(ISNA(MATCH(W43,$AS$30:$AT$30,0)),0,1),IF(ISNUMBER(W43),1,0),IF(W43=TRUNC(W43),1,0),IF(AND(W43*1=W43,W43>=0),1,0),IF(AND(W43=TRUNC(W43),W43>=0),1,0),IF(AND(W43*1=W43,W43>0),1,0),IF(AND(W43=TRUNC(W43),W43>0),1,0),1,IF(ISNA(HLOOKUP(W43,$AV$4:$BE$4,1,0)),0,1)),0))) -> 1 | BL43: =IF(OR(X$30="",X$4=99),1,IF(X43="",0,IFERROR(CHOOSE(BK$28,IF(ISNA(MATCH(X43,$AS$30:$AT$30,0)),0,1),IF(ISNUMBER(X43),1,0),IF(X43=TRUNC(X43),1,0),IF(AND(X43*1=X43,X43>=0),1,0),IF(AND(X43=TRUNC(X43),X43>=0),1,0),IF(AND(X43*1=X43,X43>0),1,0),IF(AND(X43=TRUNC(X43),X43>0),1,0),1,IF(ISNA(HLOOKUP(X43,$AV$4:$BE$4,1,0)),0,1)),0))) -> 1 | BM43: =IF(OR(Y$30="",Y$4=99),1,IF(Y43="",0,IFERROR(CHOOSE(BL$28,IF(ISNA(MATCH(Y43,$AS$30:$AT$30,0)),0,1),IF(ISNUMBER(Y43),1,0),IF(Y43=TRUNC(Y43),1,0),IF(AND(Y43*1=Y43,Y43>=0),1,0),IF(AND(Y43=TRUNC(Y43),Y43>=0),1,0),IF(AND(Y43*1=Y43,Y43>0),1,0),IF(AND(Y43=TRUNC(Y43),Y43>0),1,0),1,IF(ISNA(HLOOKUP(Y43,$AV$4:$BE$4,1,0)),0,1)),0))) -> 1 | BN43: =IF(OR(Z$30="",Z$4=99),1,IF(Z43="",0,IFERROR(CHOOSE(BM$28,IF(ISNA(MATCH(Z43,$AS$30:$AT$30,0)),0,1),IF(ISNUMBER(Z43),1,0),IF(Z43=TRUNC(Z43),1,0),IF(AND(Z43*1=Z43,Z43>=0),1,0),IF(AND(Z43=TRUNC(Z43),Z43>=0),1,0),IF(AND(Z43*1=Z43,Z43>0),1,0),IF(AND(Z43=TRUNC(Z43),Z43>0),1,0),1,IF(ISNA(HLOOKUP(Z43,$AV$4:$BE$4,1,0)),0,1)),0))) -> 1 | ... BT43: =IF(OR(AF$30="",AF$4=99),1,IF(AF43="",0,IFERROR(CHOOSE(BS$28,IF(ISNA(MATCH(AF43,$AS$30:$AT$30,0)),0,1),IF(ISNUMBER(AF43),1,0),IF(AF43=TRUNC(AF43),1,0),IF(AND(AF43*1=AF43,AF43>=0),1,0),IF(AND(AF43=TRUNC(AF43),AF43>=0),1,0),IF(AND(AF43*1=AF43,AF43>0),1,0),IF(AND(AF43=TRUNC(AF43),AF43>0),1,0),1,IF(ISNA(HLOOKUP(AF43,$AV$4:$BE$4,1,0)),0,1)),0))) -> 1 | BU43: =IF(OR(AH$30="",AH$4=99),1,IF(AH43="",0,IFERROR(CHOOSE(BT$28,IF(ISNA(MATCH(AH43,$AS$30:$AT$30,0)),0,1),IF(ISNUMBER(AH43),1,0),IF(AH43=TRUNC(AH43),1,0),IF(AND(AH43*1=AH43,AH43>=0),1,0),IF(AND(AH43=TRUNC(AH43),AH43>=0),1,0),IF(AND(AH43*1=AH43,AH43>0),1,0),IF(AND(AH43=TRUNC(AH43),AH43>0),1,0),1,IF(ISNA(HLOOKUP(AH43,$AV$4:$BE$4,1,0)),0,1)),0))) -> 1 | BV43: =IF(OR(AI$30="",AI$4=99),1,IF(AI43="",0,IFERROR(CHOOSE(BU$28,IF(ISNA(MATCH(AI43,$AS$30:$AT$30,0)),0,1),IF(ISNUMBER(AI43),1,0),IF(AI43=TRUNC(AI43),1,0),IF(AND(AI43*1=AI43,AI43>=0),1,0),IF(AND(AI43=TRUNC(AI43),AI43>=0),1,0),IF(AND(AI43*1=AI43,AI43>0),1,0),IF(AND(AI43=TRUNC(AI43),AI43>0),1,0),1,IF(ISNA(HLOOKUP(AI43,$AV$4:$BE$4,1,0)),0,1)),0))) -> 1 | BW43: =IF(OR(AJ$30="",AJ$4=99),1,IF(AJ43="",0,IFERROR(CHOOSE(BV$28,IF(ISNA(MATCH(AJ43,$AS$30:$AT$30,0)),0,1),IF(ISNUMBER(AJ43),1,0),IF(AJ43=TRUNC(AJ43),1,0),IF(AND(AJ43*1=AJ43,AJ43>=0),1,0),IF(AND(AJ43=TRUNC(AJ43),AJ43>=0),1,0),IF(AND(AJ43*1=AJ43,AJ43>0),1,0),IF(AND(AJ43=TRUNC(AJ43),AJ43>0),1,0),1,IF(ISNA(HLOOKUP(AJ43,$AV$4:$BE$4,1,0)),0,1)),0))) -> 1 | BX43: =IF(OR(AK$30="",AK$4=99),1,IF(AK43="",0,IFERROR(CHOOSE(BW$28,IF(ISNA(MATCH(AK43,$AS$30:$AT$30,0)),0,1),IF(ISNUMBER(AK43),1,0),IF(AK43=TRUNC(AK43),1,0),IF(AND(AK43*1=AK43,AK43>=0),1,0),IF(AND(AK43=TRUNC(AK43),AK43>=0),1,0),IF(AND(AK43*1=AK43,AK43>0),1,0),IF(AND(AK43=TRUNC(AK43),AK43>0),1,0),1,IF(ISNA(HLOOKUP(AK43,$AV$4:$BE$4,1,0)),0,1)),0))) -> 1 | BY43: =IF(OR(AL$30="",AL$4=99),1,IF(AL43="",0,IFERROR(CHOOSE(BX$28,IF(ISNA(MATCH(AL43,$AS$30:$AT$30,0)),0,1),IF(ISNUMBER(AL43),1,0),IF(AL43=TRUNC(AL43),1,0),IF(AND(AL43*1=AL43,AL43>=0),1,0),IF(AND(AL43=TRUNC(AL43),AL43>=0),1,0),IF(AND(AL43*1=AL43,AL43>0),1,0),IF(AND(AL43=TRUNC(AL43),AL43>0),1,0),1,IF(ISNA(HLOOKUP(AL43,$AV$4:$BE$4,1,0)),0,1)),0))) -> 1 | BZ43: =IF(OR(AM$30="",AM$4=99),1,IF(AM43="",0,IFERROR(CHOOSE(BY$28,IF(ISNA(MATCH(AM43,$AS$30:$AT$30,0)),0,1),IF(ISNUMBER(AM43),1,0),IF(AM43=TRUNC(AM43),1,0),IF(AND(AM43*1=AM43,AM43>=0),1,0),IF(AND(AM43=TRUNC(AM43),AM43>=0),1,0),IF(AND(AM43*1=AM43,AM43>0),1,0),IF(AND(AM43=TRUNC(AM43),AM43>0),1,0),1,IF(ISNA(HLOOKUP(AM43,$AV$4:$BE$4,1,0)),0,1)),0))) -> 1 | CA43: =IF(OR(AN$30="",AN$4=99),1,IF(AN43="",0,IFERROR(CHOOSE(BZ$28,IF(ISNA(MATCH(AN43,$AS$30:$AT$30,0)),0,1),IF(ISNUMBER(AN43),1,0),IF(AN43=TRUNC(AN43),1,0),IF(AND(AN43*1=AN43,AN43>=0),1,0),IF(AND(AN43=TRUNC(AN43),AN43>=0),1,0),IF(AND(AN43*1=AN43,AN43>0),1,0),IF(AND(AN43=TRUNC(AN43),AN43>0),1,0),1,IF(ISNA(HLOOKUP(AN43,$AV$4:$BE$4,1,0)),0,1)),0))) -> 1 | CB43: =IF(OR(AO$30="",AO$4=99),1,IF(AO43="",0,IFERROR(CHOOSE(CA$28,IF(ISNA(MATCH(AO43,$AS$30:$AT$30,0)),0,1),IF(ISNUMBER(AO43),1,0),IF(AO43=TRUNC(AO43),1,0),IF(AND(AO43*1=AO43,AO43>=0),1,0),IF(AND(AO43=TRUNC(AO43),AO43>=0),1,0),IF(AND(AO43*1=AO43,AO43>0),1,0),IF(AND(AO43=TRUNC(AO43),AO43>0),1,0),1,IF(ISNA(HLOOKUP(AO43,$AV$4:$BE$4,1,0)),0,1)),0))) -> 1 | CC43: =IF(OR(AP$30="",AP$4=99),1,IF(AP43="",0,IFERROR(CHOOSE(CB$28,IF(ISNA(MATCH(AP43,$AS$30:$AT$30,0)),0,1),IF(ISNUMBER(AP43),1,0),IF(AP43=TRUNC(AP43),1,0),IF(AND(AP43*1=AP43,AP43>=0),1,0),IF(AND(AP43=TRUNC(AP43),AP43>=0),1,0),IF(AND(AP43*1=AP43,AP43>0),1,0),IF(AND(AP43=TRUNC(AP43),AP43>0),1,0),1,IF(ISNA(HLOOKUP(AP43,$AV$4:$BE$4,1,0)),0,1)),0))) -> 1 | CH43: =IF($F43="","",CH$30) -> 1 | CI43: =IF($F43="","",CI$30) -> 2 | CJ43: =IF($F43="","",CJ$30) -> 3 | CK43: =IF($F43="","",CK$30) -> 4 | CL43: =IF($F43="","",CL$30) -> 5 | CM43: =IF($F43="","",CM$30) -> 6 | CN43: =IF($F43="","",CN$30) -> 7 | CO43: =IF($F43="","",CO$30) -> 8 | ... CQ43: =IF($F43="","",CQ$30) -> 10 | CW43: =W43>=CV$5 -> TRUE | CX43: =X43>=CW$5 -> FALSE | CY43: =Y43>=CX$5 -> TRUE | DC43: =COUNTIF(CW43:DA43,TRUE) -> 2 | DD43: =W43>=DC$5 -> TRUE | DE43: =X43>=DD$5 -> FALSE | DF43: =Y43>=DE$5 -> TRUE | DK43: =COUNTIF(DD43:DJ43,TRUE) -> 2 | DM43: =IF($F43="","",IF(AND(DK43=$CW$3,DK43-DC43<=$DD$3),1,0)) -> 0
B44: =IF(F44="","",ROW()-30) | Z44: =IF(F44="","",IF(AND(S44=1,T44=1),$AS$1,IF(OR(S44=1,AND(T44=1,U44=1,V44=1,W44=1,X44=1,Y44=1)),1,0))) | AF44: =IF($F44="","",IF(OR(DL44=1,AND(DM44=1,AA44=1)),1,0)) | AH44: =IF(F44="","",IF(AA44=1,1,IF(AND(AB44="לא",SUM(AC44:AD44)=2),1,IF(AND(AB44="כן",SUM(AC44:AE44)=3),1,0)))) | AK44: =IF(F44="","",IF(G44>=$G$5,1,0)) | AP44: =IF($F44="","",IF(AL44=1,1,IF(AR44<>1,$AS$1,IF(SUMPRODUCT(--(G44:AK44>=$G$5:$AK$5)*($G$5:$AK$5<>"")*($G$4:$AK$4=1))=COUNTIF($G$4:$AK$4,1),1,0)))) | AR44: =IF(OR(SUM(AU44:CC44)<>COUNT(AU44:CC44),SUMPRODUCT(--(G44:AK44=$AS$1))<>0),0,1) -> 0 | AS44: =IF($F44="","",AS$30) | AT44: =IF($F44="","",AT$30) | AU44: =IF(OR(G$30="",G$4=99),1,IF(G44="",0,IFERROR(CHOOSE(AU$28,IF(ISNA(MATCH(G44,$AS$30:$AT$30,0)),0,1),IF(ISNUMBER(G44),1,0),IF(G44=TRUNC(G44),1,0),IF(AND(G44*1=G44,G44>=0),1,0),IF(AND(G44=TRUNC(G44),G44>=0),1,0),IF(AND(G44*1=G44,G44>0),1,0),IF(AND(G44=TRUNC(G44),G44>0),1,0),1,IF(ISNA(HLOOKUP(G44,$AV$4:$BE$4,1,0)),0,1)),0))) -> 0 | AV44: =IF(OR(H$30="",H$4=99),1,IF(H44="",0,IFERROR(CHOOSE(AV$28,IF(ISNA(MATCH(H44,$AS$30:$AT$30,0)),0,1),IF(ISNUMBER(H44),1,0),IF(H44=TRUNC(H44),1,0),IF(AND(H44*1=H44,H44>=0),1,0),IF(AND(H44=TRUNC(H44),H44>=0),1,0),IF(AND(H44*1=H44,H44>0),1,0),IF(AND(H44=TRUNC(H44),H44>0),1,0),1,IF(ISNA(HLOOKUP(H44,$AV$4:$BE$4,1,0)),0,1)),0))) -> 0 | AW44: =IF(OR(I$30="",I$4=99),1,IF(I44="",0,IFERROR(CHOOSE(AW$28,IF(ISNA(MATCH(I44,$AS$30:$AT$30,0)),0,1),IF(ISNUMBER(I44),1,0),IF(I44=TRUNC(I44),1,0),IF(AND(I44*1=I44,I44>=0),1,0),IF(AND(I44=TRUNC(I44),I44>=0),1,0),IF(AND(I44*1=I44,I44>0),1,0),IF(AND(I44=TRUNC(I44),I44>0),1,0),1,IF(ISNA(HLOOKUP(I44,$AV$4:$BE$4,1,0)),0,1)),0))) -> 0 | AX44: =IF(OR(J$30="",J$4=99),1,IF(J44="",0,IFERROR(CHOOSE(AX$28,IF(ISNA(MATCH(J44,$AS$30:$AT$30,0)),0,1),IF(ISNUMBER(J44),1,0),IF(J44=TRUNC(J44),1,0),IF(AND(J44*1=J44,J44>=0),1,0),IF(AND(J44=TRUNC(J44),J44>=0),1,0),IF(AND(J44*1=J44,J44>0),1,0),IF(AND(J44=TRUNC(J44),J44>0),1,0),1,IF(ISNA(HLOOKUP(J44,$AV$4:$BE$4,1,0)),0,1)),0))) -> 0 | AY44: =IF(OR(K$30="",K$4=99),1,IF(K44="",0,IFERROR(CHOOSE(AY$28,IF(ISNA(MATCH(K44,$AS$30:$AT$30,0)),0,1),IF(ISNUMBER(K44),1,0),IF(K44=TRUNC(K44),1,0),IF(AND(K44*1=K44,K44>=0),1,0),IF(AND(K44=TRUNC(K44),K44>=0),1,0),IF(AND(K44*1=K44,K44>0),1,0),IF(AND(K44=TRUNC(K44),K44>0),1,0),1,IF(ISNA(HLOOKUP(K44,$AV$4:$BE$4,1,0)),0,1)),0))) -> 0 | AZ44: =IF(OR(L$30="",L$4=99),1,IF(L44="",0,IFERROR(CHOOSE(AZ$28,IF(ISNA(MATCH(L44,$AS$30:$AT$30,0)),0,1),IF(ISNUMBER(L44),1,0),IF(L44=TRUNC(L44),1,0),IF(AND(L44*1=L44,L44>=0),1,0),IF(AND(L44=TRUNC(L44),L44>=0),1,0),IF(AND(L44*1=L44,L44>0),1,0),IF(AND(L44=TRUNC(L44),L44>0),1,0),1,IF(ISNA(HLOOKUP(L44,$AV$4:$BE$4,1,0)),0,1)),0))) -> 0 | BA44: =IF(OR(M$30="",M$4=99),1,IF(M44="",0,IFERROR(CHOOSE(BA$28,IF(ISNA(MATCH(M44,$AS$30:$AT$30,0)),0,1),IF(ISNUMBER(M44),1,0),IF(M44=TRUNC(M44),1,0),IF(AND(M44*1=M44,M44>=0),1,0),IF(AND(M44=TRUNC(M44),M44>=0),1,0),IF(AND(M44*1=M44,M44>0),1,0),IF(AND(M44=TRUNC(M44),M44>0),1,0),1,IF(ISNA(HLOOKUP(M44,$AV$4:$BE$4,1,0)),0,1)),0))) -> 0 | BB44: =IF(OR(N$30="",N$4=99),1,IF(N44="",0,IFERROR(CHOOSE(BB$28,IF(ISNA(MATCH(N44,$AS$30:$AT$30,0)),0,1),IF(ISNUMBER(N44),1,0),IF(N44=TRUNC(N44),1,0),IF(AND(N44*1=N44,N44>=0),1,0),IF(AND(N44=TRUNC(N44),N44>=0),1,0),IF(AND(N44*1=N44,N44>0),1,0),IF(AND(N44=TRUNC(N44),N44>0),1,0),1,IF(ISNA(HLOOKUP(N44,$AV$4:$BE$4,1,0)),0,1)),0))) -> 0 | ... BF44: =IF(OR(R$30="",R$4=99),1,IF(R44="",0,IFERROR(CHOOSE(BF$28,IF(ISNA(MATCH(R44,$AS$30:$AT$30,0)),0,1),IF(ISNUMBER(R44),1,0),IF(R44=TRUNC(R44),1,0),IF(AND(R44*1=R44,R44>=0),1,0),IF(AND(R44=TRUNC(R44),R44>=0),1,0),IF(AND(R44*1=R44,R44>0),1,0),IF(AND(R44=TRUNC(R44),R44>0),1,0),1,IF(ISNA(HLOOKUP(R44,$AV$4:$BE$4,1,0)),0,1)),0))) -> 0 | BG44: =IF(OR(S$30="",S$4=99),1,IF(S44="",0,IFERROR(CHOOSE(BF$28,IF(ISNA(MATCH(S44,$AS$30:$AT$30,0)),0,1),IF(ISNUMBER(S44),1,0),IF(S44=TRUNC(S44),1,0),IF(AND(S44*1=S44,S44>=0),1,0),IF(AND(S44=TRUNC(S44),S44>=0),1,0),IF(AND(S44*1=S44,S44>0),1,0),IF(AND(S44=TRUNC(S44),S44>0),1,0),1,IF(ISNA(HLOOKUP(S44,$AV$4:$BE$4,1,0)),0,1)),0))) -> 0 | BH44: =IF(OR(T$30="",T$4=99),1,IF(T44="",0,IFERROR(CHOOSE(BG$28,IF(ISNA(MATCH(T44,$AS$30:$AT$30,0)),0,1),IF(ISNUMBER(T44),1,0),IF(T44=TRUNC(T44),1,0),IF(AND(T44*1=T44,T44>=0),1,0),IF(AND(T44=TRUNC(T44),T44>=0),1,0),IF(AND(T44*1=T44,T44>0),1,0),IF(AND(T44=TRUNC(T44),T44>0),1,0),1,IF(ISNA(HLOOKUP(T44,$AV$4:$BE$4,1,0)),0,1)),0))) -> 0 | BI44: =IF(OR(U$30="",U$4=99),1,IF(U44="",0,IFERROR(CHOOSE(BH$28,IF(ISNA(MATCH(U44,$AS$30:$AT$30,0)),0,1),IF(ISNUMBER(U44),1,0),IF(U44=TRUNC(U44),1,0),IF(AND(U44*1=U44,U44>=0),1,0),IF(AND(U44=TRUNC(U44),U44>=0),1,0),IF(AND(U44*1=U44,U44>0),1,0),IF(AND(U44=TRUNC(U44),U44>0),1,0),1,IF(ISNA(HLOOKUP(U44,$AV$4:$BE$4,1,0)),0,1)),0))) -> 0 | BJ44: =IF(OR(V$30="",V$4=99),1,IF(V44="",0,IFERROR(CHOOSE(BI$28,IF(ISNA(MATCH(V44,$AS$30:$AT$30,0)),0,1),IF(ISNUMBER(V44),1,0),IF(V44=TRUNC(V44),1,0),IF(AND(V44*1=V44,V44>=0),1,0),IF(AND(V44=TRUNC(V44),V44>=0),1,0),IF(AND(V44*1=V44,V44>0),1,0),IF(AND(V44=TRUNC(V44),V44>0),1,0),1,IF(ISNA(HLOOKUP(V44,$AV$4:$BE$4,1,0)),0,1)),0))) -> 0 | BK44: =IF(OR(W$30="",W$4=99),1,IF(W44="",0,IFERROR(CHOOSE(BJ$28,IF(ISNA(MATCH(W44,$AS$30:$AT$30,0)),0,1),IF(ISNUMBER(W44),1,0),IF(W44=TRUNC(W44),1,0),IF(AND(W44*1=W44,W44>=0),1,0),IF(AND(W44=TRUNC(W44),W44>=0),1,0),IF(AND(W44*1=W44,W44>0),1,0),IF(AND(W44=TRUNC(W44),W44>0),1,0),1,IF(ISNA(HLOOKUP(W44,$AV$4:$BE$4,1,0)),0,1)),0))) -> 0 | BL44: =IF(OR(X$30="",X$4=99),1,IF(X44="",0,IFERROR(CHOOSE(BK$28,IF(ISNA(MATCH(X44,$AS$30:$AT$30,0)),0,1),IF(ISNUMBER(X44),1,0),IF(X44=TRUNC(X44),1,0),IF(AND(X44*1=X44,X44>=0),1,0),IF(AND(X44=TRUNC(X44),X44>=0),1,0),IF(AND(X44*1=X44,X44>0),1,0),IF(AND(X44=TRUNC(X44),X44>0),1,0),1,IF(ISNA(HLOOKUP(X44,$AV$4:$BE$4,1,0)),0,1)),0))) -> 0 | BM44: =IF(OR(Y$30="",Y$4=99),1,IF(Y44="",0,IFERROR(CHOOSE(BL$28,IF(ISNA(MATCH(Y44,$AS$30:$AT$30,0)),0,1),IF(ISNUMBER(Y44),1,0),IF(Y44=TRUNC(Y44),1,0),IF(AND(Y44*1=Y44,Y44>=0),1,0),IF(AND(Y44=TRUNC(Y44),Y44>=0),1,0),IF(AND(Y44*1=Y44,Y44>0),1,0),IF(AND(Y44=TRUNC(Y44),Y44>0),1,0),1,IF(ISNA(HLOOKUP(Y44,$AV$4:$BE$4,1,0)),0,1)),0))) -> 0 | BN44: =IF(OR(Z$30="",Z$4=99),1,IF(Z44="",0,IFERROR(CHOOSE(BM$28,IF(ISNA(MATCH(Z44,$AS$30:$AT$30,0)),0,1),IF(ISNUMBER(Z44),1,0),IF(Z44=TRUNC(Z44),1,0),IF(AND(Z44*1=Z44,Z44>=0),1,0),IF(AND(Z44=TRUNC(Z44),Z44>=0),1,0),IF(AND(Z44*1=Z44,Z44>0),1,0),IF(AND(Z44=TRUNC(Z44),Z44>0),1,0),1,IF(ISNA(HLOOKUP(Z44,$AV$4:$BE$4,1,0)),0,1)),0))) -> 1 | ... BT44: =IF(OR(AF$30="",AF$4=99),1,IF(AF44="",0,IFERROR(CHOOSE(BS$28,IF(ISNA(MATCH(AF44,$AS$30:$AT$30,0)),0,1),IF(ISNUMBER(AF44),1,0),IF(AF44=TRUNC(AF44),1,0),IF(AND(AF44*1=AF44,AF44>=0),1,0),IF(AND(AF44=TRUNC(AF44),AF44>=0),1,0),IF(AND(AF44*1=AF44,AF44>0),1,0),IF(AND(AF44=TRUNC(AF44),AF44>0),1,0),1,IF(ISNA(HLOOKUP(AF44,$AV$4:$BE$4,1,0)),0,1)),0))) -> 1 | BU44: =IF(OR(AH$30="",AH$4=99),1,IF(AH44="",0,IFERROR(CHOOSE(BT$28,IF(ISNA(MATCH(AH44,$AS$30:$AT$30,0)),0,1),IF(ISNUMBER(AH44),1,0),IF(AH44=TRUNC(AH44),1,0),IF(AND(AH44*1=AH44,AH44>=0),1,0),IF(AND(AH44=TRUNC(AH44),AH44>=0),1,0),IF(AND(AH44*1=AH44,AH44>0),1,0),IF(AND(AH44=TRUNC(AH44),AH44>0),1,0),1,IF(ISNA(HLOOKUP(AH44,$AV$4:$BE$4,1,0)),0,1)),0))) -> 1 | BV44: =IF(OR(AI$30="",AI$4=99),1,IF(AI44="",0,IFERROR(CHOOSE(BU$28,IF(ISNA(MATCH(AI44,$AS$30:$AT$30,0)),0,1),IF(ISNUMBER(AI44),1,0),IF(AI44=TRUNC(AI44),1,0),IF(AND(AI44*1=AI44,AI44>=0),1,0),IF(AND(AI44=TRUNC(AI44),AI44>=0),1,0),IF(AND(AI44*1=AI44,AI44>0),1,0),IF(AND(AI44=TRUNC(AI44),AI44>0),1,0),1,IF(ISNA(HLOOKUP(AI44,$AV$4:$BE$4,1,0)),0,1)),0))) -> 1 | BW44: =IF(OR(AJ$30="",AJ$4=99),1,IF(AJ44="",0,IFERROR(CHOOSE(BV$28,IF(ISNA(MATCH(AJ44,$AS$30:$AT$30,0)),0,1),IF(ISNUMBER(AJ44),1,0),IF(AJ44=TRUNC(AJ44),1,0),IF(AND(AJ44*1=AJ44,AJ44>=0),1,0),IF(AND(AJ44=TRUNC(AJ44),AJ44>=0),1,0),IF(AND(AJ44*1=AJ44,AJ44>0),1,0),IF(AND(AJ44=TRUNC(AJ44),AJ44>0),1,0),1,IF(ISNA(HLOOKUP(AJ44,$AV$4:$BE$4,1,0)),0,1)),0))) -> 1 | BX44: =IF(OR(AK$30="",AK$4=99),1,IF(AK44="",0,IFERROR(CHOOSE(BW$28,IF(ISNA(MATCH(AK44,$AS$30:$AT$30,0)),0,1),IF(ISNUMBER(AK44),1,0),IF(AK44=TRUNC(AK44),1,0),IF(AND(AK44*1=AK44,AK44>=0),1,0),IF(AND(AK44=TRUNC(AK44),AK44>=0),1,0),IF(AND(AK44*1=AK44,AK44>0),1,0),IF(AND(AK44=TRUNC(AK44),AK44>0),1,0),1,IF(ISNA(HLOOKUP(AK44,$AV$4:$BE$4,1,0)),0,1)),0))) -> 1 | BY44: =IF(OR(AL$30="",AL$4=99),1,IF(AL44="",0,IFERROR(CHOOSE(BX$28,IF(ISNA(MATCH(AL44,$AS$30:$AT$30,0)),0,1),IF(ISNUMBER(AL44),1,0),IF(AL44=TRUNC(AL44),1,0),IF(AND(AL44*1=AL44,AL44>=0),1,0),IF(AND(AL44=TRUNC(AL44),AL44>=0),1,0),IF(AND(AL44*1=AL44,AL44>0),1,0),IF(AND(AL44=TRUNC(AL44),AL44>0),1,0),1,IF(ISNA(HLOOKUP(AL44,$AV$4:$BE$4,1,0)),0,1)),0))) -> 1 | BZ44: =IF(OR(AM$30="",AM$4=99),1,IF(AM44="",0,IFERROR(CHOOSE(BY$28,IF(ISNA(MATCH(AM44,$AS$30:$AT$30,0)),0,1),IF(ISNUMBER(AM44),1,0),IF(AM44=TRUNC(AM44),1,0),IF(AND(AM44*1=AM44,AM44>=0),1,0),IF(AND(AM44=TRUNC(AM44),AM44>=0),1,0),IF(AND(AM44*1=AM44,AM44>0),1,0),IF(AND(AM44=TRUNC(AM44),AM44>0),1,0),1,IF(ISNA(HLOOKUP(AM44,$AV$4:$BE$4,1,0)),0,1)),0))) -> 1 | CA44: =IF(OR(AN$30="",AN$4=99),1,IF(AN44="",0,IFERROR(CHOOSE(BZ$28,IF(ISNA(MATCH(AN44,$AS$30:$AT$30,0)),0,1),IF(ISNUMBER(AN44),1,0),IF(AN44=TRUNC(AN44),1,0),IF(AND(AN44*1=AN44,AN44>=0),1,0),IF(AND(AN44=TRUNC(AN44),AN44>=0),1,0),IF(AND(AN44*1=AN44,AN44>0),1,0),IF(AND(AN44=TRUNC(AN44),AN44>0),1,0),1,IF(ISNA(HLOOKUP(AN44,$AV$4:$BE$4,1,0)),0,1)),0))) -> 1 | CB44: =IF(OR(AO$30="",AO$4=99),1,IF(AO44="",0,IFERROR(CHOOSE(CA$28,IF(ISNA(MATCH(AO44,$AS$30:$AT$30,0)),0,1),IF(ISNUMBER(AO44),1,0),IF(AO44=TRUNC(AO44),1,0),IF(AND(AO44*1=AO44,AO44>=0),1,0),IF(AND(AO44=TRUNC(AO44),AO44>=0),1,0),IF(AND(AO44*1=AO44,AO44>0),1,0),IF(AND(AO44=TRUNC(AO44),AO44>0),1,0),1,IF(ISNA(HLOOKUP(AO44,$AV$4:$BE$4,1,0)),0,1)),0))) -> 1 | CC44: =IF(OR(AP$30="",AP$4=99),1,IF(AP44="",0,IFERROR(CHOOSE(CB$28,IF(ISNA(MATCH(AP44,$AS$30:$AT$30,0)),0,1),IF(ISNUMBER(AP44),1,0),IF(AP44=TRUNC(AP44),1,0),IF(AND(AP44*1=AP44,AP44>=0),1,0),IF(AND(AP44=TRUNC(AP44),AP44>=0),1,0),IF(AND(AP44*1=AP44,AP44>0),1,0),IF(AND(AP44=TRUNC(AP44),AP44>0),1,0),1,IF(ISNA(HLOOKUP(AP44,$AV$4:$BE$4,1,0)),0,1)),0))) -> 1 | CH44: =IF($F44="","",CH$30) | CI44: =IF($F44="","",CI$30) | CJ44: =IF($F44="","",CJ$30) | CK44: =IF($F44="","",CK$30) | CL44: =IF($F44="","",CL$30) | CM44: =IF($F44="","",CM$30) | CN44: =IF($F44="","",CN$30) | CO44: =IF($F44="","",CO$30) | ... CQ44: =IF($F44="","",CQ$30) | CW44: =W44>=CV$5 -> FALSE | CX44: =X44>=CW$5 -> FALSE | CY44: =Y44>=CX$5 -> TRUE | DC44: =COUNTIF(CW44:DA44,TRUE) -> 1 | DD44: =W44>=DC$5 -> FALSE | DE44: =X44>=DD$5 -> FALSE | DF44: =Y44>=DE$5 -> TRUE | DK44: =COUNTIF(DD44:DJ44,TRUE) -> 1 | DM44: =IF($F44="","",IF(AND(DK44=$CW$3,DK44-DC44<=$DD$3),1,0))
B45: =IF(F45="","",ROW()-30) -> 15 | F45: ענבל אושמן | G45: 1 | H45: 1 | I45: 1 | J45: 1 | K45: 1 | L45: 1 | M45: 1 | N45: 1 | O45: 1 | P45: 1 | Q45: 1 | R45: 1 | S45: 0 | T45: 1 | U45: 1 | V45: 1 | W45: 1 | X45: 1 | Y45: 1 | Z45: =IF(F45="","",IF(AND(S45=1,T45=1),$AS$1,IF(OR(S45=1,AND(T45=1,U45=1,V45=1,W45=1,X45=1,Y45=1)),1,0))) -> 1 | AA45: 1 | AF45: =IF($F45="","",IF(OR(DL45=1,AND(DM45=1,AA45=1)),1,0)) -> 0 | AG45: 1 | AH45: =IF(F45="","",IF(AA45=1,1,IF(AND(AB45="לא",SUM(AC45:AD45)=2),1,IF(AND(AB45="כן",SUM(AC45:AE45)=3),1,0)))) -> 1 | AK45: =IF(F45="","",IF(G45>=$G$5,1,0)) -> 1 | AP45: =IF($F45="","",IF(AL45=1,1,IF(AR45<>1,$AS$1,IF(SUMPRODUCT(--(G45:AK45>=$G$5:$AK$5)*($G$5:$AK$5<>"")*($G$4:$AK$4=1))=COUNTIF($G$4:$AK$4,1),1,0)))) -> 1 | AR45: =IF(OR(SUM(AU45:CC45)<>COUNT(AU45:CC45),SUMPRODUCT(--(G45:AK45=$AS$1))<>0),0,1) -> 1 | AS45: =IF($F45="","",AS$30) -> 0 | AT45: =IF($F45="","",AT$30) -> 1 | AU45: =IF(OR(G$30="",G$4=99),1,IF(G45="",0,IFERROR(CHOOSE(AU$28,IF(ISNA(MATCH(G45,$AS$30:$AT$30,0)),0,1),IF(ISNUMBER(G45),1,0),IF(G45=TRUNC(G45),1,0),IF(AND(G45*1=G45,G45>=0),1,0),IF(AND(G45=TRUNC(G45),G45>=0),1,0),IF(AND(G45*1=G45,G45>0),1,0),IF(AND(G45=TRUNC(G45),G45>0),1,0),1,IF(ISNA(HLOOKUP(G45,$AV$4:$BE$4,1,0)),0,1)),0))) -> 1 | AV45: =IF(OR(H$30="",H$4=99),1,IF(H45="",0,IFERROR(CHOOSE(AV$28,IF(ISNA(MATCH(H45,$AS$30:$AT$30,0)),0,1),IF(ISNUMBER(H45),1,0),IF(H45=TRUNC(H45),1,0),IF(AND(H45*1=H45,H45>=0),1,0),IF(AND(H45=TRUNC(H45),H45>=0),1,0),IF(AND(H45*1=H45,H45>0),1,0),IF(AND(H45=TRUNC(H45),H45>0),1,0),1,IF(ISNA(HLOOKUP(H45,$AV$4:$BE$4,1,0)),0,1)),0))) -> 1 | AW45: =IF(OR(I$30="",I$4=99),1,IF(I45="",0,IFERROR(CHOOSE(AW$28,IF(ISNA(MATCH(I45,$AS$30:$AT$30,0)),0,1),IF(ISNUMBER(I45),1,0),IF(I45=TRUNC(I45),1,0),IF(AND(I45*1=I45,I45>=0),1,0),IF(AND(I45=TRUNC(I45),I45>=0),1,0),IF(AND(I45*1=I45,I45>0),1,0),IF(AND(I45=TRUNC(I45),I45>0),1,0),1,IF(ISNA(HLOOKUP(I45,$AV$4:$BE$4,1,0)),0,1)),0))) -> 1 | AX45: =IF(OR(J$30="",J$4=99),1,IF(J45="",0,IFERROR(CHOOSE(AX$28,IF(ISNA(MATCH(J45,$AS$30:$AT$30,0)),0,1),IF(ISNUMBER(J45),1,0),IF(J45=TRUNC(J45),1,0),IF(AND(J45*1=J45,J45>=0),1,0),IF(AND(J45=TRUNC(J45),J45>=0),1,0),IF(AND(J45*1=J45,J45>0),1,0),IF(AND(J45=TRUNC(J45),J45>0),1,0),1,IF(ISNA(HLOOKUP(J45,$AV$4:$BE$4,1,0)),0,1)),0))) -> 1 | AY45: =IF(OR(K$30="",K$4=99),1,IF(K45="",0,IFERROR(CHOOSE(AY$28,IF(ISNA(MATCH(K45,$AS$30:$AT$30,0)),0,1),IF(ISNUMBER(K45),1,0),IF(K45=TRUNC(K45),1,0),IF(AND(K45*1=K45,K45>=0),1,0),IF(AND(K45=TRUNC(K45),K45>=0),1,0),IF(AND(K45*1=K45,K45>0),1,0),IF(AND(K45=TRUNC(K45),K45>0),1,0),1,IF(ISNA(HLOOKUP(K45,$AV$4:$BE$4,1,0)),0,1)),0))) -> 1 | AZ45: =IF(OR(L$30="",L$4=99),1,IF(L45="",0,IFERROR(CHOOSE(AZ$28,IF(ISNA(MATCH(L45,$AS$30:$AT$30,0)),0,1),IF(ISNUMBER(L45),1,0),IF(L45=TRUNC(L45),1,0),IF(AND(L45*1=L45,L45>=0),1,0),IF(AND(L45=TRUNC(L45),L45>=0),1,0),IF(AND(L45*1=L45,L45>0),1,0),IF(AND(L45=TRUNC(L45),L45>0),1,0),1,IF(ISNA(HLOOKUP(L45,$AV$4:$BE$4,1,0)),0,1)),0))) -> 1 | BA45: =IF(OR(M$30="",M$4=99),1,IF(M45="",0,IFERROR(CHOOSE(BA$28,IF(ISNA(MATCH(M45,$AS$30:$AT$30,0)),0,1),IF(ISNUMBER(M45),1,0),IF(M45=TRUNC(M45),1,0),IF(AND(M45*1=M45,M45>=0),1,0),IF(AND(M45=TRUNC(M45),M45>=0),1,0),IF(AND(M45*1=M45,M45>0),1,0),IF(AND(M45=TRUNC(M45),M45>0),1,0),1,IF(ISNA(HLOOKUP(M45,$AV$4:$BE$4,1,0)),0,1)),0))) -> 1 | BB45: =IF(OR(N$30="",N$4=99),1,IF(N45="",0,IFERROR(CHOOSE(BB$28,IF(ISNA(MATCH(N45,$AS$30:$AT$30,0)),0,1),IF(ISNUMBER(N45),1,0),IF(N45=TRUNC(N45),1,0),IF(AND(N45*1=N45,N45>=0),1,0),IF(AND(N45=TRUNC(N45),N45>=0),1,0),IF(AND(N45*1=N45,N45>0),1,0),IF(AND(N45=TRUNC(N45),N45>0),1,0),1,IF(ISNA(HLOOKUP(N45,$AV$4:$BE$4,1,0)),0,1)),0))) -> 1 | ... BF45: =IF(OR(R$30="",R$4=99),1,IF(R45="",0,IFERROR(CHOOSE(BF$28,IF(ISNA(MATCH(R45,$AS$30:$AT$30,0)),0,1),IF(ISNUMBER(R45),1,0),IF(R45=TRUNC(R45),1,0),IF(AND(R45*1=R45,R45>=0),1,0),IF(AND(R45=TRUNC(R45),R45>=0),1,0),IF(AND(R45*1=R45,R45>0),1,0),IF(AND(R45=TRUNC(R45),R45>0),1,0),1,IF(ISNA(HLOOKUP(R45,$AV$4:$BE$4,1,0)),0,1)),0))) -> 1 | BG45: =IF(OR(S$30="",S$4=99),1,IF(S45="",0,IFERROR(CHOOSE(BF$28,IF(ISNA(MATCH(S45,$AS$30:$AT$30,0)),0,1),IF(ISNUMBER(S45),1,0),IF(S45=TRUNC(S45),1,0),IF(AND(S45*1=S45,S45>=0),1,0),IF(AND(S45=TRUNC(S45),S45>=0),1,0),IF(AND(S45*1=S45,S45>0),1,0),IF(AND(S45=TRUNC(S45),S45>0),1,0),1,IF(ISNA(HLOOKUP(S45,$AV$4:$BE$4,1,0)),0,1)),0))) -> 1 | BH45: =IF(OR(T$30="",T$4=99),1,IF(T45="",0,IFERROR(CHOOSE(BG$28,IF(ISNA(MATCH(T45,$AS$30:$AT$30,0)),0,1),IF(ISNUMBER(T45),1,0),IF(T45=TRUNC(T45),1,0),IF(AND(T45*1=T45,T45>=0),1,0),IF(AND(T45=TRUNC(T45),T45>=0),1,0),IF(AND(T45*1=T45,T45>0),1,0),IF(AND(T45=TRUNC(T45),T45>0),1,0),1,IF(ISNA(HLOOKUP(T45,$AV$4:$BE$4,1,0)),0,1)),0))) -> 1 | BI45: =IF(OR(U$30="",U$4=99),1,IF(U45="",0,IFERROR(CHOOSE(BH$28,IF(ISNA(MATCH(U45,$AS$30:$AT$30,0)),0,1),IF(ISNUMBER(U45),1,0),IF(U45=TRUNC(U45),1,0),IF(AND(U45*1=U45,U45>=0),1,0),IF(AND(U45=TRUNC(U45),U45>=0),1,0),IF(AND(U45*1=U45,U45>0),1,0),IF(AND(U45=TRUNC(U45),U45>0),1,0),1,IF(ISNA(HLOOKUP(U45,$AV$4:$BE$4,1,0)),0,1)),0))) -> 1 | BJ45: =IF(OR(V$30="",V$4=99),1,IF(V45="",0,IFERROR(CHOOSE(BI$28,IF(ISNA(MATCH(V45,$AS$30:$AT$30,0)),0,1),IF(ISNUMBER(V45),1,0),IF(V45=TRUNC(V45),1,0),IF(AND(V45*1=V45,V45>=0),1,0),IF(AND(V45=TRUNC(V45),V45>=0),1,0),IF(AND(V45*1=V45,V45>0),1,0),IF(AND(V45=TRUNC(V45),V45>0),1,0),1,IF(ISNA(HLOOKUP(V45,$AV$4:$BE$4,1,0)),0,1)),0))) -> 1 | BK45: =IF(OR(W$30="",W$4=99),1,IF(W45="",0,IFERROR(CHOOSE(BJ$28,IF(ISNA(MATCH(W45,$AS$30:$AT$30,0)),0,1),IF(ISNUMBER(W45),1,0),IF(W45=TRUNC(W45),1,0),IF(AND(W45*1=W45,W45>=0),1,0),IF(AND(W45=TRUNC(W45),W45>=0),1,0),IF(AND(W45*1=W45,W45>0),1,0),IF(AND(W45=TRUNC(W45),W45>0),1,0),1,IF(ISNA(HLOOKUP(W45,$AV$4:$BE$4,1,0)),0,1)),0))) -> 1 | BL45: =IF(OR(X$30="",X$4=99),1,IF(X45="",0,IFERROR(CHOOSE(BK$28,IF(ISNA(MATCH(X45,$AS$30:$AT$30,0)),0,1),IF(ISNUMBER(X45),1,0),IF(X45=TRUNC(X45),1,0),IF(AND(X45*1=X45,X45>=0),1,0),IF(AND(X45=TRUNC(X45),X45>=0),1,0),IF(AND(X45*1=X45,X45>0),1,0),IF(AND(X45=TRUNC(X45),X45>0),1,0),1,IF(ISNA(HLOOKUP(X45,$AV$4:$BE$4,1,0)),0,1)),0))) -> 1 | BM45: =IF(OR(Y$30="",Y$4=99),1,IF(Y45="",0,IFERROR(CHOOSE(BL$28,IF(ISNA(MATCH(Y45,$AS$30:$AT$30,0)),0,1),IF(ISNUMBER(Y45),1,0),IF(Y45=TRUNC(Y45),1,0),IF(AND(Y45*1=Y45,Y45>=0),1,0),IF(AND(Y45=TRUNC(Y45),Y45>=0),1,0),IF(AND(Y45*1=Y45,Y45>0),1,0),IF(AND(Y45=TRUNC(Y45),Y45>0),1,0),1,IF(ISNA(HLOOKUP(Y45,$AV$4:$BE$4,1,0)),0,1)),0))) -> 1 | BN45: =IF(OR(Z$30="",Z$4=99),1,IF(Z45="",0,IFERROR(CHOOSE(BM$28,IF(ISNA(MATCH(Z45,$AS$30:$AT$30,0)),0,1),IF(ISNUMBER(Z45),1,0),IF(Z45=TRUNC(Z45),1,0),IF(AND(Z45*1=Z45,Z45>=0),1,0),IF(AND(Z45=TRUNC(Z45),Z45>=0),1,0),IF(AND(Z45*1=Z45,Z45>0),1,0),IF(AND(Z45=TRUNC(Z45),Z45>0),1,0),1,IF(ISNA(HLOOKUP(Z45,$AV$4:$BE$4,1,0)),0,1)),0))) -> 1 | ... BT45: =IF(OR(AF$30="",AF$4=99),1,IF(AF45="",0,IFERROR(CHOOSE(BS$28,IF(ISNA(MATCH(AF45,$AS$30:$AT$30,0)),0,1),IF(ISNUMBER(AF45),1,0),IF(AF45=TRUNC(AF45),1,0),IF(AND(AF45*1=AF45,AF45>=0),1,0),IF(AND(AF45=TRUNC(AF45),AF45>=0),1,0),IF(AND(AF45*1=AF45,AF45>0),1,0),IF(AND(AF45=TRUNC(AF45),AF45>0),1,0),1,IF(ISNA(HLOOKUP(AF45,$AV$4:$BE$4,1,0)),0,1)),0))) -> 1 | BU45: =IF(OR(AH$30="",AH$4=99),1,IF(AH45="",0,IFERROR(CHOOSE(BT$28,IF(ISNA(MATCH(AH45,$AS$30:$AT$30,0)),0,1),IF(ISNUMBER(AH45),1,0),IF(AH45=TRUNC(AH45),1,0),IF(AND(AH45*1=AH45,AH45>=0),1,0),IF(AND(AH45=TRUNC(AH45),AH45>=0),1,0),IF(AND(AH45*1=AH45,AH45>0),1,0),IF(AND(AH45=TRUNC(AH45),AH45>0),1,0),1,IF(ISNA(HLOOKUP(AH45,$AV$4:$BE$4,1,0)),0,1)),0))) -> 1 | BV45: =IF(OR(AI$30="",AI$4=99),1,IF(AI45="",0,IFERROR(CHOOSE(BU$28,IF(ISNA(MATCH(AI45,$AS$30:$AT$30,0)),0,1),IF(ISNUMBER(AI45),1,0),IF(AI45=TRUNC(AI45),1,0),IF(AND(AI45*1=AI45,AI45>=0),1,0),IF(AND(AI45=TRUNC(AI45),AI45>=0),1,0),IF(AND(AI45*1=AI45,AI45>0),1,0),IF(AND(AI45=TRUNC(AI45),AI45>0),1,0),1,IF(ISNA(HLOOKUP(AI45,$AV$4:$BE$4,1,0)),0,1)),0))) -> 1 | BW45: =IF(OR(AJ$30="",AJ$4=99),1,IF(AJ45="",0,IFERROR(CHOOSE(BV$28,IF(ISNA(MATCH(AJ45,$AS$30:$AT$30,0)),0,1),IF(ISNUMBER(AJ45),1,0),IF(AJ45=TRUNC(AJ45),1,0),IF(AND(AJ45*1=AJ45,AJ45>=0),1,0),IF(AND(AJ45=TRUNC(AJ45),AJ45>=0),1,0),IF(AND(AJ45*1=AJ45,AJ45>0),1,0),IF(AND(AJ45=TRUNC(AJ45),AJ45>0),1,0),1,IF(ISNA(HLOOKUP(AJ45,$AV$4:$BE$4,1,0)),0,1)),0))) -> 1 | BX45: =IF(OR(AK$30="",AK$4=99),1,IF(AK45="",0,IFERROR(CHOOSE(BW$28,IF(ISNA(MATCH(AK45,$AS$30:$AT$30,0)),0,1),IF(ISNUMBER(AK45),1,0),IF(AK45=TRUNC(AK45),1,0),IF(AND(AK45*1=AK45,AK45>=0),1,0),IF(AND(AK45=TRUNC(AK45),AK45>=0),1,0),IF(AND(AK45*1=AK45,AK45>0),1,0),IF(AND(AK45=TRUNC(AK45),AK45>0),1,0),1,IF(ISNA(HLOOKUP(AK45,$AV$4:$BE$4,1,0)),0,1)),0))) -> 1 | BY45: =IF(OR(AL$30="",AL$4=99),1,IF(AL45="",0,IFERROR(CHOOSE(BX$28,IF(ISNA(MATCH(AL45,$AS$30:$AT$30,0)),0,1),IF(ISNUMBER(AL45),1,0),IF(AL45=TRUNC(AL45),1,0),IF(AND(AL45*1=AL45,AL45>=0),1,0),IF(AND(AL45=TRUNC(AL45),AL45>=0),1,0),IF(AND(AL45*1=AL45,AL45>0),1,0),IF(AND(AL45=TRUNC(AL45),AL45>0),1,0),1,IF(ISNA(HLOOKUP(AL45,$AV$4:$BE$4,1,0)),0,1)),0))) -> 1 | BZ45: =IF(OR(AM$30="",AM$4=99),1,IF(AM45="",0,IFERROR(CHOOSE(BY$28,IF(ISNA(MATCH(AM45,$AS$30:$AT$30,0)),0,1),IF(ISNUMBER(AM45),1,0),IF(AM45=TRUNC(AM45),1,0),IF(AND(AM45*1=AM45,AM45>=0),1,0),IF(AND(AM45=TRUNC(AM45),AM45>=0),1,0),IF(AND(AM45*1=AM45,AM45>0),1,0),IF(AND(AM45=TRUNC(AM45),AM45>0),1,0),1,IF(ISNA(HLOOKUP(AM45,$AV$4:$BE$4,1,0)),0,1)),0))) -> 1 | CA45: =IF(OR(AN$30="",AN$4=99),1,IF(AN45="",0,IFERROR(CHOOSE(BZ$28,IF(ISNA(MATCH(AN45,$AS$30:$AT$30,0)),0,1),IF(ISNUMBER(AN45),1,0),IF(AN45=TRUNC(AN45),1,0),IF(AND(AN45*1=AN45,AN45>=0),1,0),IF(AND(AN45=TRUNC(AN45),AN45>=0),1,0),IF(AND(AN45*1=AN45,AN45>0),1,0),IF(AND(AN45=TRUNC(AN45),AN45>0),1,0),1,IF(ISNA(HLOOKUP(AN45,$AV$4:$BE$4,1,0)),0,1)),0))) -> 1 | CB45: =IF(OR(AO$30="",AO$4=99),1,IF(AO45="",0,IFERROR(CHOOSE(CA$28,IF(ISNA(MATCH(AO45,$AS$30:$AT$30,0)),0,1),IF(ISNUMBER(AO45),1,0),IF(AO45=TRUNC(AO45),1,0),IF(AND(AO45*1=AO45,AO45>=0),1,0),IF(AND(AO45=TRUNC(AO45),AO45>=0),1,0),IF(AND(AO45*1=AO45,AO45>0),1,0),IF(AND(AO45=TRUNC(AO45),AO45>0),1,0),1,IF(ISNA(HLOOKUP(AO45,$AV$4:$BE$4,1,0)),0,1)),0))) -> 1 | CC45: =IF(OR(AP$30="",AP$4=99),1,IF(AP45="",0,IFERROR(CHOOSE(CB$28,IF(ISNA(MATCH(AP45,$AS$30:$AT$30,0)),0,1),IF(ISNUMBER(AP45),1,0),IF(AP45=TRUNC(AP45),1,0),IF(AND(AP45*1=AP45,AP45>=0),1,0),IF(AND(AP45=TRUNC(AP45),AP45>=0),1,0),IF(AND(AP45*1=AP45,AP45>0),1,0),IF(AND(AP45=TRUNC(AP45),AP45>0),1,0),1,IF(ISNA(HLOOKUP(AP45,$AV$4:$BE$4,1,0)),0,1)),0))) -> 1 | CH45: =IF($F45="","",CH$30) -> 1 | CI45: =IF($F45="","",CI$30) -> 2 | CJ45: =IF($F45="","",CJ$30) -> 3 | CK45: =IF($F45="","",CK$30) -> 4 | CL45: =IF($F45="","",CL$30) -> 5 | CM45: =IF($F45="","",CM$30) -> 6 | CN45: =IF($F45="","",CN$30) -> 7 | CO45: =IF($F45="","",CO$30) -> 8 | ... CQ45: =IF($F45="","",CQ$30) -> 10 | CW45: =W45>=CV$5 -> TRUE | CX45: =X45>=CW$5 -> FALSE | CY45: =Y45>=CX$5 -> TRUE | DC45: =COUNTIF(CW45:DA45,TRUE) -> 2 | DD45: =W45>=DC$5 -> TRUE | DE45: =X45>=DD$5 -> FALSE | DF45: =Y45>=DE$5 -> TRUE | DK45: =COUNTIF(DD45:DJ45,TRUE) -> 2 | DM45: =IF($F45="","",IF(AND(DK45=$CW$3,DK45-DC45<=$DD$3),1,0)) -> 0
B46: =IF(F46="","",ROW()-30) -> 16 | F46: אנדריאה מרטיני | G46: 1 | H46: 1 | I46: 1 | J46: 1 | K46: 1 | L46: 1 | M46: 1 | N46: 1 | O46: 1 | P46: 1 | Q46: 1 | R46: 1 | S46: 0 | T46: 1 | U46: 1 | V46: 1 | W46: 1 | X46: 1 | Y46: 1 | Z46: =IF(F46="","",IF(AND(S46=1,T46=1),$AS$1,IF(OR(S46=1,AND(T46=1,U46=1,V46=1,W46=1,X46=1,Y46=1)),1,0))) -> 1 | AA46: 1 | AF46: =IF($F46="","",IF(OR(DL46=1,AND(DM46=1,AA46=1)),1,0)) -> 0 | AG46: 1 | AH46: =IF(F46="","",IF(AA46=1,1,IF(AND(AB46="לא",SUM(AC46:AD46)=2),1,IF(AND(AB46="כן",SUM(AC46:AE46)=3),1,0)))) -> 1 | AK46: =IF(F46="","",IF(G46>=$G$5,1,0)) -> 1 | AP46: =IF($F46="","",IF(AL46=1,1,IF(AR46<>1,$AS$1,IF(SUMPRODUCT(--(G46:AK46>=$G$5:$AK$5)*($G$5:$AK$5<>"")*($G$4:$AK$4=1))=COUNTIF($G$4:$AK$4,1),1,0)))) -> 1 | AR46: =IF(OR(SUM(AU46:CC46)<>COUNT(AU46:CC46),SUMPRODUCT(--(G46:AK46=$AS$1))<>0),0,1) -> 1 | AS46: =IF($F46="","",AS$30) -> 0 | AT46: =IF($F46="","",AT$30) -> 1 | AU46: =IF(OR(G$30="",G$4=99),1,IF(G46="",0,IFERROR(CHOOSE(AU$28,IF(ISNA(MATCH(G46,$AS$30:$AT$30,0)),0,1),IF(ISNUMBER(G46),1,0),IF(G46=TRUNC(G46),1,0),IF(AND(G46*1=G46,G46>=0),1,0),IF(AND(G46=TRUNC(G46),G46>=0),1,0),IF(AND(G46*1=G46,G46>0),1,0),IF(AND(G46=TRUNC(G46),G46>0),1,0),1,IF(ISNA(HLOOKUP(G46,$AV$4:$BE$4,1,0)),0,1)),0))) -> 1 | AV46: =IF(OR(H$30="",H$4=99),1,IF(H46="",0,IFERROR(CHOOSE(AV$28,IF(ISNA(MATCH(H46,$AS$30:$AT$30,0)),0,1),IF(ISNUMBER(H46),1,0),IF(H46=TRUNC(H46),1,0),IF(AND(H46*1=H46,H46>=0),1,0),IF(AND(H46=TRUNC(H46),H46>=0),1,0),IF(AND(H46*1=H46,H46>0),1,0),IF(AND(H46=TRUNC(H46),H46>0),1,0),1,IF(ISNA(HLOOKUP(H46,$AV$4:$BE$4,1,0)),0,1)),0))) -> 1 | AW46: =IF(OR(I$30="",I$4=99),1,IF(I46="",0,IFERROR(CHOOSE(AW$28,IF(ISNA(MATCH(I46,$AS$30:$AT$30,0)),0,1),IF(ISNUMBER(I46),1,0),IF(I46=TRUNC(I46),1,0),IF(AND(I46*1=I46,I46>=0),1,0),IF(AND(I46=TRUNC(I46),I46>=0),1,0),IF(AND(I46*1=I46,I46>0),1,0),IF(AND(I46=TRUNC(I46),I46>0),1,0),1,IF(ISNA(HLOOKUP(I46,$AV$4:$BE$4,1,0)),0,1)),0))) -> 1 | AX46: =IF(OR(J$30="",J$4=99),1,IF(J46="",0,IFERROR(CHOOSE(AX$28,IF(ISNA(MATCH(J46,$AS$30:$AT$30,0)),0,1),IF(ISNUMBER(J46),1,0),IF(J46=TRUNC(J46),1,0),IF(AND(J46*1=J46,J46>=0),1,0),IF(AND(J46=TRUNC(J46),J46>=0),1,0),IF(AND(J46*1=J46,J46>0),1,0),IF(AND(J46=TRUNC(J46),J46>0),1,0),1,IF(ISNA(HLOOKUP(J46,$AV$4:$BE$4,1,0)),0,1)),0))) -> 1 | AY46: =IF(OR(K$30="",K$4=99),1,IF(K46="",0,IFERROR(CHOOSE(AY$28,IF(ISNA(MATCH(K46,$AS$30:$AT$30,0)),0,1),IF(ISNUMBER(K46),1,0),IF(K46=TRUNC(K46),1,0),IF(AND(K46*1=K46,K46>=0),1,0),IF(AND(K46=TRUNC(K46),K46>=0),1,0),IF(AND(K46*1=K46,K46>0),1,0),IF(AND(K46=TRUNC(K46),K46>0),1,0),1,IF(ISNA(HLOOKUP(K46,$AV$4:$BE$4,1,0)),0,1)),0))) -> 1 | AZ46: =IF(OR(L$30="",L$4=99),1,IF(L46="",0,IFERROR(CHOOSE(AZ$28,IF(ISNA(MATCH(L46,$AS$30:$AT$30,0)),0,1),IF(ISNUMBER(L46),1,0),IF(L46=TRUNC(L46),1,0),IF(AND(L46*1=L46,L46>=0),1,0),IF(AND(L46=TRUNC(L46),L46>=0),1,0),IF(AND(L46*1=L46,L46>0),1,0),IF(AND(L46=TRUNC(L46),L46>0),1,0),1,IF(ISNA(HLOOKUP(L46,$AV$4:$BE$4,1,0)),0,1)),0))) -> 1 | BA46: =IF(OR(M$30="",M$4=99),1,IF(M46="",0,IFERROR(CHOOSE(BA$28,IF(ISNA(MATCH(M46,$AS$30:$AT$30,0)),0,1),IF(ISNUMBER(M46),1,0),IF(M46=TRUNC(M46),1,0),IF(AND(M46*1=M46,M46>=0),1,0),IF(AND(M46=TRUNC(M46),M46>=0),1,0),IF(AND(M46*1=M46,M46>0),1,0),IF(AND(M46=TRUNC(M46),M46>0),1,0),1,IF(ISNA(HLOOKUP(M46,$AV$4:$BE$4,1,0)),0,1)),0))) -> 1 | BB46: =IF(OR(N$30="",N$4=99),1,IF(N46="",0,IFERROR(CHOOSE(BB$28,IF(ISNA(MATCH(N46,$AS$30:$AT$30,0)),0,1),IF(ISNUMBER(N46),1,0),IF(N46=TRUNC(N46),1,0),IF(AND(N46*1=N46,N46>=0),1,0),IF(AND(N46=TRUNC(N46),N46>=0),1,0),IF(AND(N46*1=N46,N46>0),1,0),IF(AND(N46=TRUNC(N46),N46>0),1,0),1,IF(ISNA(HLOOKUP(N46,$AV$4:$BE$4,1,0)),0,1)),0))) -> 1 | ... BF46: =IF(OR(R$30="",R$4=99),1,IF(R46="",0,IFERROR(CHOOSE(BF$28,IF(ISNA(MATCH(R46,$AS$30:$AT$30,0)),0,1),IF(ISNUMBER(R46),1,0),IF(R46=TRUNC(R46),1,0),IF(AND(R46*1=R46,R46>=0),1,0),IF(AND(R46=TRUNC(R46),R46>=0),1,0),IF(AND(R46*1=R46,R46>0),1,0),IF(AND(R46=TRUNC(R46),R46>0),1,0),1,IF(ISNA(HLOOKUP(R46,$AV$4:$BE$4,1,0)),0,1)),0))) -> 1 | BG46: =IF(OR(S$30="",S$4=99),1,IF(S46="",0,IFERROR(CHOOSE(BF$28,IF(ISNA(MATCH(S46,$AS$30:$AT$30,0)),0,1),IF(ISNUMBER(S46),1,0),IF(S46=TRUNC(S46),1,0),IF(AND(S46*1=S46,S46>=0),1,0),IF(AND(S46=TRUNC(S46),S46>=0),1,0),IF(AND(S46*1=S46,S46>0),1,0),IF(AND(S46=TRUNC(S46),S46>0),1,0),1,IF(ISNA(HLOOKUP(S46,$AV$4:$BE$4,1,0)),0,1)),0))) -> 1 | BH46: =IF(OR(T$30="",T$4=99),1,IF(T46="",0,IFERROR(CHOOSE(BG$28,IF(ISNA(MATCH(T46,$AS$30:$AT$30,0)),0,1),IF(ISNUMBER(T46),1,0),IF(T46=TRUNC(T46),1,0),IF(AND(T46*1=T46,T46>=0),1,0),IF(AND(T46=TRUNC(T46),T46>=0),1,0),IF(AND(T46*1=T46,T46>0),1,0),IF(AND(T46=TRUNC(T46),T46>0),1,0),1,IF(ISNA(HLOOKUP(T46,$AV$4:$BE$4,1,0)),0,1)),0))) -> 1 | BI46: =IF(OR(U$30="",U$4=99),1,IF(U46="",0,IFERROR(CHOOSE(BH$28,IF(ISNA(MATCH(U46,$AS$30:$AT$30,0)),0,1),IF(ISNUMBER(U46),1,0),IF(U46=TRUNC(U46),1,0),IF(AND(U46*1=U46,U46>=0),1,0),IF(AND(U46=TRUNC(U46),U46>=0),1,0),IF(AND(U46*1=U46,U46>0),1,0),IF(AND(U46=TRUNC(U46),U46>0),1,0),1,IF(ISNA(HLOOKUP(U46,$AV$4:$BE$4,1,0)),0,1)),0))) -> 1 | BJ46: =IF(OR(V$30="",V$4=99),1,IF(V46="",0,IFERROR(CHOOSE(BI$28,IF(ISNA(MATCH(V46,$AS$30:$AT$30,0)),0,1),IF(ISNUMBER(V46),1,0),IF(V46=TRUNC(V46),1,0),IF(AND(V46*1=V46,V46>=0),1,0),IF(AND(V46=TRUNC(V46),V46>=0),1,0),IF(AND(V46*1=V46,V46>0),1,0),IF(AND(V46=TRUNC(V46),V46>0),1,0),1,IF(ISNA(HLOOKUP(V46,$AV$4:$BE$4,1,0)),0,1)),0))) -> 1 | BK46: =IF(OR(W$30="",W$4=99),1,IF(W46="",0,IFERROR(CHOOSE(BJ$28,IF(ISNA(MATCH(W46,$AS$30:$AT$30,0)),0,1),IF(ISNUMBER(W46),1,0),IF(W46=TRUNC(W46),1,0),IF(AND(W46*1=W46,W46>=0),1,0),IF(AND(W46=TRUNC(W46),W46>=0),1,0),IF(AND(W46*1=W46,W46>0),1,0),IF(AND(W46=TRUNC(W46),W46>0),1,0),1,IF(ISNA(HLOOKUP(W46,$AV$4:$BE$4,1,0)),0,1)),0))) -> 1 | BL46: =IF(OR(X$30="",X$4=99),1,IF(X46="",0,IFERROR(CHOOSE(BK$28,IF(ISNA(MATCH(X46,$AS$30:$AT$30,0)),0,1),IF(ISNUMBER(X46),1,0),IF(X46=TRUNC(X46),1,0),IF(AND(X46*1=X46,X46>=0),1,0),IF(AND(X46=TRUNC(X46),X46>=0),1,0),IF(AND(X46*1=X46,X46>0),1,0),IF(AND(X46=TRUNC(X46),X46>0),1,0),1,IF(ISNA(HLOOKUP(X46,$AV$4:$BE$4,1,0)),0,1)),0))) -> 1 | BM46: =IF(OR(Y$30="",Y$4=99),1,IF(Y46="",0,IFERROR(CHOOSE(BL$28,IF(ISNA(MATCH(Y46,$AS$30:$AT$30,0)),0,1),IF(ISNUMBER(Y46),1,0),IF(Y46=TRUNC(Y46),1,0),IF(AND(Y46*1=Y46,Y46>=0),1,0),IF(AND(Y46=TRUNC(Y46),Y46>=0),1,0),IF(AND(Y46*1=Y46,Y46>0),1,0),IF(AND(Y46=TRUNC(Y46),Y46>0),1,0),1,IF(ISNA(HLOOKUP(Y46,$AV$4:$BE$4,1,0)),0,1)),0))) -> 1 | BN46: =IF(OR(Z$30="",Z$4=99),1,IF(Z46="",0,IFERROR(CHOOSE(BM$28,IF(ISNA(MATCH(Z46,$AS$30:$AT$30,0)),0,1),IF(ISNUMBER(Z46),1,0),IF(Z46=TRUNC(Z46),1,0),IF(AND(Z46*1=Z46,Z46>=0),1,0),IF(AND(Z46=TRUNC(Z46),Z46>=0),1,0),IF(AND(Z46*1=Z46,Z46>0),1,0),IF(AND(Z46=TRUNC(Z46),Z46>0),1,0),1,IF(ISNA(HLOOKUP(Z46,$AV$4:$BE$4,1,0)),0,1)),0))) -> 1 | ... BT46: =IF(OR(AF$30="",AF$4=99),1,IF(AF46="",0,IFERROR(CHOOSE(BS$28,IF(ISNA(MATCH(AF46,$AS$30:$AT$30,0)),0,1),IF(ISNUMBER(AF46),1,0),IF(AF46=TRUNC(AF46),1,0),IF(AND(AF46*1=AF46,AF46>=0),1,0),IF(AND(AF46=TRUNC(AF46),AF46>=0),1,0),IF(AND(AF46*1=AF46,AF46>0),1,0),IF(AND(AF46=TRUNC(AF46),AF46>0),1,0),1,IF(ISNA(HLOOKUP(AF46,$AV$4:$BE$4,1,0)),0,1)),0))) -> 1 | BU46: =IF(OR(AH$30="",AH$4=99),1,IF(AH46="",0,IFERROR(CHOOSE(BT$28,IF(ISNA(MATCH(AH46,$AS$30:$AT$30,0)),0,1),IF(ISNUMBER(AH46),1,0),IF(AH46=TRUNC(AH46),1,0),IF(AND(AH46*1=AH46,AH46>=0),1,0),IF(AND(AH46=TRUNC(AH46),AH46>=0),1,0),IF(AND(AH46*1=AH46,AH46>0),1,0),IF(AND(AH46=TRUNC(AH46),AH46>0),1,0),1,IF(ISNA(HLOOKUP(AH46,$AV$4:$BE$4,1,0)),0,1)),0))) -> 1 | BV46: =IF(OR(AI$30="",AI$4=99),1,IF(AI46="",0,IFERROR(CHOOSE(BU$28,IF(ISNA(MATCH(AI46,$AS$30:$AT$30,0)),0,1),IF(ISNUMBER(AI46),1,0),IF(AI46=TRUNC(AI46),1,0),IF(AND(AI46*1=AI46,AI46>=0),1,0),IF(AND(AI46=TRUNC(AI46),AI46>=0),1,0),IF(AND(AI46*1=AI46,AI46>0),1,0),IF(AND(AI46=TRUNC(AI46),AI46>0),1,0),1,IF(ISNA(HLOOKUP(AI46,$AV$4:$BE$4,1,0)),0,1)),0))) -> 1 | BW46: =IF(OR(AJ$30="",AJ$4=99),1,IF(AJ46="",0,IFERROR(CHOOSE(BV$28,IF(ISNA(MATCH(AJ46,$AS$30:$AT$30,0)),0,1),IF(ISNUMBER(AJ46),1,0),IF(AJ46=TRUNC(AJ46),1,0),IF(AND(AJ46*1=AJ46,AJ46>=0),1,0),IF(AND(AJ46=TRUNC(AJ46),AJ46>=0),1,0),IF(AND(AJ46*1=AJ46,AJ46>0),1,0),IF(AND(AJ46=TRUNC(AJ46),AJ46>0),1,0),1,IF(ISNA(HLOOKUP(AJ46,$AV$4:$BE$4,1,0)),0,1)),0))) -> 1 | BX46: =IF(OR(AK$30="",AK$4=99),1,IF(AK46="",0,IFERROR(CHOOSE(BW$28,IF(ISNA(MATCH(AK46,$AS$30:$AT$30,0)),0,1),IF(ISNUMBER(AK46),1,0),IF(AK46=TRUNC(AK46),1,0),IF(AND(AK46*1=AK46,AK46>=0),1,0),IF(AND(AK46=TRUNC(AK46),AK46>=0),1,0),IF(AND(AK46*1=AK46,AK46>0),1,0),IF(AND(AK46=TRUNC(AK46),AK46>0),1,0),1,IF(ISNA(HLOOKUP(AK46,$AV$4:$BE$4,1,0)),0,1)),0))) -> 1 | BY46: =IF(OR(AL$30="",AL$4=99),1,IF(AL46="",0,IFERROR(CHOOSE(BX$28,IF(ISNA(MATCH(AL46,$AS$30:$AT$30,0)),0,1),IF(ISNUMBER(AL46),1,0),IF(AL46=TRUNC(AL46),1,0),IF(AND(AL46*1=AL46,AL46>=0),1,0),IF(AND(AL46=TRUNC(AL46),AL46>=0),1,0),IF(AND(AL46*1=AL46,AL46>0),1,0),IF(AND(AL46=TRUNC(AL46),AL46>0),1,0),1,IF(ISNA(HLOOKUP(AL46,$AV$4:$BE$4,1,0)),0,1)),0))) -> 1 | BZ46: =IF(OR(AM$30="",AM$4=99),1,IF(AM46="",0,IFERROR(CHOOSE(BY$28,IF(ISNA(MATCH(AM46,$AS$30:$AT$30,0)),0,1),IF(ISNUMBER(AM46),1,0),IF(AM46=TRUNC(AM46),1,0),IF(AND(AM46*1=AM46,AM46>=0),1,0),IF(AND(AM46=TRUNC(AM46),AM46>=0),1,0),IF(AND(AM46*1=AM46,AM46>0),1,0),IF(AND(AM46=TRUNC(AM46),AM46>0),1,0),1,IF(ISNA(HLOOKUP(AM46,$AV$4:$BE$4,1,0)),0,1)),0))) -> 1 | CA46: =IF(OR(AN$30="",AN$4=99),1,IF(AN46="",0,IFERROR(CHOOSE(BZ$28,IF(ISNA(MATCH(AN46,$AS$30:$AT$30,0)),0,1),IF(ISNUMBER(AN46),1,0),IF(AN46=TRUNC(AN46),1,0),IF(AND(AN46*1=AN46,AN46>=0),1,0),IF(AND(AN46=TRUNC(AN46),AN46>=0),1,0),IF(AND(AN46*1=AN46,AN46>0),1,0),IF(AND(AN46=TRUNC(AN46),AN46>0),1,0),1,IF(ISNA(HLOOKUP(AN46,$AV$4:$BE$4,1,0)),0,1)),0))) -> 1 | CB46: =IF(OR(AO$30="",AO$4=99),1,IF(AO46="",0,IFERROR(CHOOSE(CA$28,IF(ISNA(MATCH(AO46,$AS$30:$AT$30,0)),0,1),IF(ISNUMBER(AO46),1,0),IF(AO46=TRUNC(AO46),1,0),IF(AND(AO46*1=AO46,AO46>=0),1,0),IF(AND(AO46=TRUNC(AO46),AO46>=0),1,0),IF(AND(AO46*1=AO46,AO46>0),1,0),IF(AND(AO46=TRUNC(AO46),AO46>0),1,0),1,IF(ISNA(HLOOKUP(AO46,$AV$4:$BE$4,1,0)),0,1)),0))) -> 1 | CC46: =IF(OR(AP$30="",AP$4=99),1,IF(AP46="",0,IFERROR(CHOOSE(CB$28,IF(ISNA(MATCH(AP46,$AS$30:$AT$30,0)),0,1),IF(ISNUMBER(AP46),1,0),IF(AP46=TRUNC(AP46),1,0),IF(AND(AP46*1=AP46,AP46>=0),1,0),IF(AND(AP46=TRUNC(AP46),AP46>=0),1,0),IF(AND(AP46*1=AP46,AP46>0),1,0),IF(AND(AP46=TRUNC(AP46),AP46>0),1,0),1,IF(ISNA(HLOOKUP(AP46,$AV$4:$BE$4,1,0)),0,1)),0))) -> 1 | CH46: =IF($F46="","",CH$30) -> 1 | CI46: =IF($F46="","",CI$30) -> 2 | CJ46: =IF($F46="","",CJ$30) -> 3 | CK46: =IF($F46="","",CK$30) -> 4 | CL46: =IF($F46="","",CL$30) -> 5 | CM46: =IF($F46="","",CM$30) -> 6 | CN46: =IF($F46="","",CN$30) -> 7 | CO46: =IF($F46="","",CO$30) -> 8 | ... CQ46: =IF($F46="","",CQ$30) -> 10 | CW46: =W46>=CV$5 -> TRUE | CX46: =X46>=CW$5 -> FALSE | CY46: =Y46>=CX$5 -> TRUE | DC46: =COUNTIF(CW46:DA46,TRUE) -> 2 | DD46: =W46>=DC$5 -> TRUE | DE46: =X46>=DD$5 -> FALSE | DF46: =Y46>=DE$5 -> TRUE | DK46: =COUNTIF(DD46:DJ46,TRUE) -> 2 | DM46: =IF($F46="","",IF(AND(DK46=$CW$3,DK46-DC46<=$DD$3),1,0)) -> 0
