Workbook
Name a: #REF!
Name a: #REF!
Name a: #REF!
Name a: #REF!
Name a: #REF!
Name a: #REF!
Name a: #REF!
Name a: #REF!
Name a: #REF!
Name a: #REF!
Name a: #REF!
Name a: #REF!
Name a: #REF!
Name aa: #REF!
Name aa: #REF!
Name aa: #REF!
Name aa: #REF!
Name b: #REF!
Name b: #REF!
Name b: #REF!
Name b: #REF!
Name b: #REF!
Name b: #REF!
Name b: #REF!
Name b: #REF!
Name DDDD: #REF!
Name DDDD: #REF!
Name DDDD: #REF!
Name DDDD: #REF!
Name DDDD: #REF!
Name DDDD: #REF!
Name DDDD: #REF!
Name DDDD: #REF!
Name ee: #REF!
Name ee: #REF!
Name ee: #REF!
Name ee: #REF!
Name ee: #REF!
Name ee: #REF!
Name ngf: #REF!
Name ngf: #REF!
Name OLE_LINK1: פרמטרים!$E$2

Sheet ProtectSettings
B1: 0.23780459
B2: 45515.553
A6: AllowFilterCheckBox | B6: TRUE
A7: AllowFormattingCheckBox
A8: AllowColumnFormattingCheckBox | B8: TRUE
A9: AllowRowFormattingCheckBox | B9: TRUE

Sheet הדרכה למשתמש
B2: הדרכה למשתמש
B4: תאריך בניית המודל
B5: תאריך עדכון מודל | C5: 44602
B7: הערה חשובה: בעת עריכת המודל - חל איסור מוחלט לבצע גזירה והדבקה או העברה של תא ממקום למקום על ידי גרירה.
B9: הוראת שעה/מעבר:
B11: הדרכה להזנת נתונים
B12: צבע התא | C12: מטרת התא | D12: דגש
B13: צהוב | C13: הזנת נתונים | D13: נדרש להזין מידע בהתאם להנחיות מבחן התמיכה, אי הזנה של תא יכולה להביא לידי שגיאה בתוצאות במודל. למעט גיליון "ניוד מופעים לפרפירה" בו אי הזנת נתון במספר הרצות משמעו 0 הרצות.
B14: חום | C14: הצגת מידע | D14: תא שאיננו מיועד להזנה. תא זה מציג מידע עפ"י נוסחה קבועה ואין לשנות אותה.
B15: אדום | C15: התראת שגיאה | D15: קיימת שגיאה בהזנת נתונים באחד מהתאים המיועדים להזנה, נדרש להזין את הנתונים הנדרשים לפני קביעת גובה תמיכה סופי.
B17: את רשימת המוסדות יש להזין בגיליונות השמאליים של הקובץ הממוספרים מ1 עד 10 במקום שם הגיליון , גיליון שממוספר מ1-10 ואינו נמצא בשימוש אין לשנות את שם הגיליון הקיים כברירת מחדל (מספר סידורי). במידה והוחלט לא להשתמש בגיליון לאחר כתיבת השם, נדרש לשנות חזרה את שם הגיליון למספר סידורי
B33: ניהול גרסאות
B34: מספר גרסה | C34: תאריך עדכון גרסה | D34: תאריך גרסה של מבחן תמיכה | E34: התאמות נוספות של מבחן תמיכה
C35: 43103 | E35: תיקון נוסחאות בגיליון סיווג על פי ההזנות

Sheet פרמטרים
C1: שנת התקציב | E1: 2025
C2: תקציב | E2: 8082764
B5: סיווג יוצרי מחול עצמאיים | F5: הגדרות
B6: מקדם קבוצתי | F6: הגדרת שנה | G6: תאריך התחלה | H6: תאריך סיום
B7: סוג יוצר | C7: מקדם קבוצתי | F7: שנת התמיכה | G7: =DATE($E$1,1,1) -> 45658 | H7: =DATE($E$1,12,31) -> 46022
B8: יוצר ותיק | C8: 0.33 | F8: שנת ההערכה | G8: =DATE($E$1-3,10,1) -> 44835 | H8: =DATE($E$1-2,9,30) -> 45199
B9: יוצר בראשית דרכו | C9: 0.66 | F9: שנת התקציב המבוקר | G9: =DATE($E$1-3,1,1) -> 44562 | H9: =DATE($E$1-3,12,31) -> 44926
B10: יוצר מנוסה | C10: 1
B12: מקדם יוצר | C12: 1 | D12: סכום מקסימלי למקדם יוצר | E12: 0
B14: מפתח סימול וניקוד מספר רקדנים ומבצעים | O14: מפתח ניקוד
B15: סוג | C15: ניקוד | O15: קריטריון | Q15: ניקוד
B16: רקדנים | C16: 1 | F16: משקל המשתנים בתחשיב הבסיסי | O16: ביטוי משמעותי ליוצרים בתחילת דרכם | Q16: 1
B17: מבצעים | C17: 1 | F17: משתנה | G17: משקל | O17: העשרה מקצועית וסדנאות ליוצרים בתחילת דרכם | Q17: 2
F18: מספר הרצות | G18: 0.3
B19: מפתח סימול וניקוד מספר הרצות | F19: מספר רקדנים ומבצעים בתשלום | G19: 0.2
B20: פרמטר | C20: ניקוד | F20: מיקום ההרצות | G20: 0.1
B21: ניקוד הפקה בשנת ההערכה | C21: 1 | F21: הכנסות עצמיות | G21: 0.2 | O21: פרמטרים לחישוב ניקוד תרומה לקהילה
F22: רמה אומנותית | G22: 0.2 | O22: מפתח ניקוד
F23: סה"כ | G23: =SUM(G18:G22) -> 1 | O23: קריטריון | Q23: ניקוד
O24: תרומה משמעותית | Q24: 1
K25: אתגר יוצא דופן | M25: 2 | O25: תרומה יוצאת דופן | Q25: 2
B39: פרמטרים לחישוב ניקוד מיקום ההרצות
B40: מפתח סימול ניקוד מיקום ההרצות | O40: מפתח ניקוד
B41: מרחק ממקום הפעילות המרכזי | C41: סימול | D41: סיווג | O41: קריטריון | Q41: ניקוד
B42: עד 30 ק"מ | C42: A | D42: 0 | O42: תיאטרון שמרבית הרצותיו הן בשפה שאינה עברית או שמרבית השחקנים והצוות האמנותי שהוא מעסיק הם עולים חדשים המצויים בישראל תקופה שאינה עולה על 20 שנים | Q42: 1
B43: מעל 30 עד 60 ק"מ | C43: B | D43: 0.5
B44: מעל 60 עד 100 ק"מ | C44: C | D44: 1
B45: מעל 100 ק"מ | C45: D | D45: 1.5
O46: פרמטרים לחישוב ניקוד מורכבות ההפקות
O55: מפתח ניקוד
B56: מפתח סימול הכנסות עצמיות | O56: קריטריון | Q56: ניקוד
B57: פרמטר | C57: ניקוד | O57: מורכבות יחודית | Q57: 1
B58: עבור כל 1 ₪ ממכירת כטיסים ומופעים | C58: 1.5
B59: עבור כל 1 ₪ מתרומות או מהכנסות עצמיות | C59: 1
B66: מפתח סימול וניקוד רמה אומנותית
B67: יוצר בראשית דרכו / יוצר מנוסה | D67: יוצר ותיק
B68: קיבל ברמה אומנותית: | C68: ניקוד | D68: קיבל ברמה אומנותית | E68: ניקוד
B70: =IF($E$1<2024,'הוראת שעה'!A27,'הוראת שעה'!E27) -> 5 | C70: =IF($E$1<2024,'הוראת שעה'!B27,'הוראת שעה'!F27) -> 8 | D70: =IF($E$1<2024,'הוראת שעה'!C27,'הוראת שעה'!G27) -> 5 | E70: =IF($E$1<2024,'הוראת שעה'!D27,'הוראת שעה'!H27) -> 8
B71: =IF($E$1<2024,'הוראת שעה'!A28,'הוראת שעה'!E28) -> 4.99 | C71: =IF($E$1<2024,'הוראת שעה'!B28,'הוראת שעה'!F28) -> 5 | D71: =IF($E$1<2024,'הוראת שעה'!C28,'הוראת שעה'!G28) -> 4.99 | E71: =IF($E$1<2024,'הוראת שעה'!D28,'הוראת שעה'!H28) -> 5
B72: =IF($E$1<2024,'הוראת שעה'!A29,'הוראת שעה'!E29) -> 4 | C72: =IF($E$1<2024,'הוראת שעה'!B29,'הוראת שעה'!F29) -> 3 | D72: =IF($E$1<2024,'הוראת שעה'!C29,'הוראת שעה'!G29) -> 4 | E72: =IF($E$1<2024,'הוראת שעה'!D29,'הוראת שעה'!H29) -> 3
...

Sheet תנאי סף - כלליים
B1: =MID(CELL("filename",AT2),FIND("]",CELL("filename",AT2),1)+1,99) -> תנאי סף - כלליים | AS1: בדוק נתוני הזנה | AU1: סוגי בקרות | AV1: 0/1 | AW1: מספר | AX1: מספר שלם | AY1: מספר שאינו שלילי | AZ1: מספר שלם שאינו שלילי | BA1: מספר חיובי | BB1: מספר שלם חיובי | BC1: טקסט | BD1: טקסט מרשימה סגורה | BH1: כן | BI1: לא
AP2: =פרמטרים!C1 -> שנת התקציב | AQ2: =פרמטרים!E1 -> 2025 | AV2: =IF(ISNA(MATCH(G31,$AS$30:$AT$30,0)),0,1) -> 1 | AW2: =IF(IFERROR(G31*1,"bad")="bad",0,1) -> 1 | AX2: =IF(IFERROR(IF(G31=TRUNC(G31),1,"bad"),"bad")="bad",0,1) -> 1 | AY2: =IF(AND(IF(IFERROR(G31*1,"bad")="bad",0,1)=1,G31>=0),1,0) -> 1 | AZ2: =IF(AND(IF(IFERROR(IF(G31=TRUNC(G31),1,"bad"),"bad")="bad",0,1)=1,G31>=0),1,0) -> 1 | BA2: =IF(AND(IF(IFERROR(G31*1,"bad")="bad",0,1)=1,G31>0),1,0) -> 1 | BB2: =IF(AND(IF(IFERROR(IF(G31=TRUNC(G31),1,"bad"),"bad")="bad",0,1)=1,G31>0),1,0) -> 1 | BC2: 1 | BD2: =IF(IFERROR(HLOOKUP(G31,$CH$30:$CR$30,1,0),"bad")="bad",0,1) -> 1 | DC2: שיעור הקלה | DD2: 0.8
AP3: =פרמטרים!C2 -> תקציב | AQ3: =פרמטרים!E2 -> 8082764 | AU3: מספר בקרה | AV3: 1 | AW3: 2 | AX3: 3 | AY3: 4 | AZ3: 5 | BA3: 6 | BB3: 7 | BC3: 8 | BD3: 9 | CV3: מספר תנאים | CW3: 3 | DC3: הקלות מותרות | DD3: 1
F4: רלוונטי למבחן עמידה בתנאי סף? 1=רלוונטי. 0= לא רלוונטי אבל נדרשת בקרה על הזנת נתונים. 99= לא רלוונטי ולא נדרשת בקה על הזנת נתונים | G4: 1 | H4: 1 | I4: 1 | J4: 1 | K4: 1 | L4: 1 | M4: 1 | N4: 1 | O4: 1 | P4: 1 | Q4: 1 | S4: 0 | T4: 0 | U4: 0 | V4: 0 | W4: 0 | X4: 0 | Y4: 0 | Z4: 1 | AA4: 0 | AB4: 99 | AC4: 99 | AD4: 99 | AE4: 99 | AG4: 1 | AH4: 1 | AL4: 99 | AU4: רשימה סגורה | AV4: 1 | AW4: 2 | AX4: 3 | AY4: 4 | AZ4: 5 | BA4: 6 | BB4: 7 | BC4: 8 | BD4: 9 | BE4: 10 | DC4: נדרש לפי הקלה
F5: מעבר תנאי סף- במידה ולא רלוונטי להשאיר ריק | G5: 1 | H5: 1 | I5: 1 | J5: 1 | K5: 1 | L5: 1 | M5: 1 | N5: 1 | O5: 1 | P5: 1 | Q5: 1 | Z5: 1 | AA5: 1 | AG5: 1 | AH5: 1 | CV5: 0.6 | CW5: 2 | CX5: =Y5 -> 0 | DC5: =$DD$2*CV5 -> 0.48 | DD5: =$DD$2*CW5 -> 1.6 | DE5: =$DD$2*CX5 -> 0
G6: 7 (א) (3) | H6: 7 (א) (5) | I6: 7 (א) (6) | J6: 7 (א) (7) | K6: 7 (א) (8) | L6: 7 (א) (9) | M6: 7 (א) (10) | N6: 7 (א) (11) | O6: 7 (א) (11א) | P6: 7 (א) (12) | Q6: 4(ה) | R6: 7(א) (10א) | S6: 7 (א) (1) | T6: 7 (א) (1) | U6: 7 (א) (1) | V6: 7 (א) (2) | W6: 7 (א) (2) | X6: 7 (א) (4) | Y6: 7 (א) (2) | AA6: 7 (א) (13) (א) | AB6: 7 (א) (13) (א) | AC6: 7 (א) (13) (ב) | AD6: 7 (א) (13) (א) | AE6: 7 (א) (13) (א) | AH6: 7 (א) (13)
F8: שורה אחרונה משומשת | G8: =SUMPRODUCT(MAX(($B:$B<>"")*(ROW(B:B)))) -> 141
S28: יש לסמן 1 בעמודה אחת ו-0 בשניה | U28: בקשה שהוגשה על יד ארגון גג | AR28: =IF(SUM(AR31:AR130)=COUNT(AR31:AR130),1,0) -> 0 | AU28: =MATCH(G$30,$AV$1:$BD$1,0) -> 1 | AV28: =MATCH(H$30,$AV$1:$BD$1,0) -> 1 | AW28: =MATCH(I$30,$AV$1:$BD$1,0) -> 1 | AX28: =MATCH(J$30,$AV$1:$BD$1,0) -> 1 | AY28: =MATCH(K$30,$AV$1:$BD$1,0) -> 1 | AZ28: =MATCH(L$30,$AV$1:$BD$1,0) -> 1 | BA28: =MATCH(M$30,$AV$1:$BD$1,0) -> 1 | BB28: =MATCH(N$30,$AV$1:$BD$1,0) -> 1 | ... BE28: =MATCH(Q$30,$AV$1:$BD$1,0) -> 1 | BF28: =MATCH(S$30,$AV$1:$BD$1,0) -> 1 | BG28: =MATCH(T$30,$AV$1:$BD$1,0) -> 1 | BH28: =MATCH(U$30,$AV$1:$BD$1,0) -> 1 | BI28: =MATCH(V$30,$AV$1:$BD$1,0) -> 1 | BJ28: =MATCH(W$30,$AV$1:$BD$1,0) -> 1 | BK28: =MATCH(X$30,$AV$1:$BD$1,0) -> 1 | BL28: =MATCH(Y$30,$AV$1:$BD$1,0) -> 1 | BM28: =MATCH(Z$30,$AV$1:$BD$1,0) -> #N/A | ... BS28: =MATCH(AF$30,$AV$1:$BD$1,0) -> #N/A | BT28: =MATCH(AH$30,$AV$1:$BD$1,0) -> #N/A | BU28: =MATCH(AI$30,$AV$1:$BD$1,0) -> #N/A | BV28: =MATCH(AJ$30,$AV$1:$BD$1,0) -> #N/A | BW28: =MATCH(AK$30,$AV$1:$BD$1,0) -> #N/A | BX28: =MATCH(AL$30,$AV$1:$BD$1,0) -> #N/A | BY28: =MATCH(AM$30,$AV$1:$BD$1,0) -> #N/A | BZ28: =MATCH(AN$30,$AV$1:$BD$1,0) -> #N/A | CA28: =MATCH(AO$30,$AV$1:$BD$1,0) -> #N/A | CB28: =MATCH(AP$30,$AV$1:$BD$1,0) -> #N/A
A29: 100 | C29: =COLUMN() -> 3 | D29: =COLUMN() -> 4 | E29: =COLUMN() -> 5 | F29: שם המוסד | G29: תקציבה של הפעילות בעדה מבוקשת התמיכה מנוהל כמשק סגור | H29: המוסד עומד בדרישות הנוהל, ובכלל זה יעמיד עצמו לביקורת המשרד להבטחת עמידתו בתנאים למתן תמיכה | I29: מטרות המוסד כמפורט במסמכי היסוד שלו ואופן פעולתו עולים בקנה אחד עם מטרות התמיכה המפורטות במבחנים | J29: המוסד משתמש בכספי התמיכה רק למטרות שלשמן ניתנו | K29: מקיים את הוראות החוק הנוגעות לפעילותו, מקפיד על כללי ניהול תקין ושומר על שקיפות מלאה | L29: המוסד פועל ביעילות ובתקורה מיזערית | M29: =IF(פרמטרים!$E$1<2023,'הוראת שעה'!$E$9,'הוראת שעה'!$E$10) -> המוסד השלים את הגשת כל הדו"חות הנדרשים לצורך ניקודו לפי מבחנים אלה, כשהם מלאים ותקינים, עד יום 1 במרס של שנת הכספים הקודמת | N29: המוסד הגיש תכנית עבודה כללית לשנת התמיכה התואמת את תנאי הסף שנקבעו לתחום פעילותו | O29: המוסד הגיש, במהלך שנת התמיכה, דו"חות ביצוע שוטפים, דוחות פעילות רבעוניים שוטפים ודוחות שנתיים המעידים על עמידתו בתכנית העבודה ובתנאי הזכאות לקבלת התמיכה | P29: צורפה הצהרתו של מנהל המוסד לפיה הנתונים הכלולים בבקשה הם נכונים, שלמים ומדויקים | Q29: הפעילות שבעדה מבוקשת התמיכה אינה ממומנת ע"י משרד ממשלתי אחר | S29: הבקשה הוגשה בידי מוסד ציבור המבצע את הפעילות נושא התמיכה | T29: הבקשה הוגשה בידי ארגון גג שנתמך על ידי מינהל התרבות | U29: מחזור פעילותו השנתי של היוצר או מוסד ציבור בשנת התקציב המבוקר ובשנה שקדמה לה, המגישים את הבקשה באמצעות ארגון גג, לא עלה על 400,000 שקלים חדשים | V29: הבקשה כוללת התייחסות לפעילות נשוא התמיכה בלבד, ולא לפעילויות או תחומי עשייה אחרים של ארגון הגג | W29: הבקשה נחתמה בנוסף בידי הגורם המקצועי המנהל את הפעילות נשוא הבקשה לתמיכה בארגון | X29: ארגון הגג מנהל באופן ישיר את ההוצאות בשל הפעילות, והוא אינו מעביר כספים ליוצרי מחול עצמאיים לשם ביצוע הפעילות | Y29: ארגון הגג לא כלל בבקשה הוצאות שבעדן קיבל תמיכה כארגון גג | Z29: עובר תנאי הגשה בידי מוסד ציבור/ארגון גג | AA29: המוסד קיבל תמיכה ממינהל התרבות בשנת הכספים הקודמת | AB29: האם מגיש הבקשה הוא יוצר עצמאי | AC29: =IF(פרמטרים!$E$1<2023,'הוראת שעה'!$G$9,'הוראת שעה'!$G$10) -> העביר למינהל התרבות, לא יאוחר מיום 1 במרס של שנת הכספים הקודמת, קישור לצפייה דיגיטלית בהפקה או בפעילות שקיים בשנת ההערכה או בשנת הכספים הקודמת | AD29: =IF(פרמטרים!$E$1<2023,'הוראת שעה'!$F$9,'הוראת שעה'!$F$10) -> הודיע למינהל התרבות לא יאוחר מיום 1 בינואר של שנת הכספים הקודמת, על כוונתו להגיש בקשה לתמיכה לפי מבחנים אלה, ונתן לחברי המדור למחול הזדמנות סבירה לצפות בהפקותיו או להתרשם מפעילותו, לפי העניין | AE29: עם מתן הודעה כאמור, יעדכן המוסד את מינהל התרבות, בכתב, על אודות הפקותיו, מועדי ההרצות ומיקומן (להלן בפסקה זו – פעילותו) לתקופה של 21 ימים ממועד מתן ההודעה כאמור וימשיך לעדכן בכתב את המינהל באופן שוטף על אודות פעילותו 21 ימים מראש לפחות | AF29: עומד בתנאים לאור הקלות | AG29: במוסד בו מועסקים עובדים ביחסי עבודה, המוסד קבע תקנון למניעת הטרדה מינית ועומד בדרישות תקנה 8 לתקנות חובות מעסיק. המוסד צירף לבקשתו את התקנון ופרטים על ההתאמות בתקנון, פרסומו למסירתו. (במוסד בו אין מתכונת יחסי עבודה - יש לסמן 1 עבור תנאי זה) | AH29: המוסד לא קיבל תמיכה ממינהל התרבות בשנת הכספים הקודמת אך עומד בסעיפים 7 (א) (13) (א),(ב) | AI29: ריק | AJ29: ריק | AL29: מעבר תנאי סף-אישור מיוחד | AM29: ריק | AN29: ריק | AO29: ריק | AP29: מעבר תנאי סף | AQ29: הערות | AR29: בקרה ראשית | AU29: ="בקרת "&G29 -> בקרת תקציבה של הפעילות בעדה מבוקשת התמיכה מנוהל כמשק סגור | AV29: ="בקרת "&H29 -> בקרת המוסד עומד בדרישות הנוהל, ובכלל זה יעמיד עצמו לביקורת המשרד להבטחת עמידתו בתנאים למתן תמיכה | AW29: ="בקרת "&I29 -> בקרת מטרות המוסד כמפורט במסמכי היסוד שלו ואופן פעולתו עולים בקנה אחד עם מטרות התמיכה המפורטות במבחנים | AX29: ="בקרת "&J29 -> בקרת המוסד משתמש בכספי התמיכה רק למטרות שלשמן ניתנו | AY29: ="בקרת "&K29 -> בקרת מקיים את הוראות החוק הנוגעות לפעילותו, מקפיד על כללי ניהול תקין ושומר על שקיפות מלאה | AZ29: ="בקרת "&L29 -> בקרת המוסד פועל ביעילות ובתקורה מיזערית | BA29: ="בקרת "&M29 -> בקרת המוסד השלים את הגשת כל הדו"חות הנדרשים לצורך ניקודו לפי מבחנים אלה, כשהם מלאים ותקינים, עד יום 1 במרס של שנת הכספים הקודמת | BB29: ="בקרת "&N29 -> בקרת המוסד הגיש תכנית עבודה כללית לשנת התמיכה התואמת את תנאי הסף שנקבעו לתחום פעילותו | ... BT29: ="בקרת "&AF29 -> בקרת עומד בתנאים לאור הקלות | BU29: ="בקרת "&AH29 -> בקרת המוסד לא קיבל תמיכה ממינהל התרבות בשנת הכספים הקודמת אך עומד בסעיפים 7 (א) (13) (א),(ב) | BV29: ="בקרת "&AI29 -> בקרת ריק | BW29: ="בקרת "&AJ29 -> בקרת ריק | BX29: ="בקרת "&AK29 -> בקרת | BY29: ="בקרת "&AL29 -> בקרת מעבר תנאי סף-אישור מיוחד | BZ29: ="בקרת "&AM29 -> בקרת ריק | CA29: ="בקרת "&AN29 -> בקרת ריק | CB29: ="בקרת "&AO29 -> בקרת ריק | CC29: ="בקרת "&AP29 -> בקרת מעבר תנאי סף | CH29: רשימה סגורה | CW29: קריטריון הקלה 1 | CX29: קריטריון הקלה 2 | CY29: קריטריון הקלה 3 | CZ29: קריטריון הקלה 4 | DA29: קריטריון הקלה 5 | DD29: קריטריון הקלה 1 | DE29: קריטריון הקלה 2 | DF29: קריטריון הקלה 3 | DG29: קריטריון הקלה 4 | DH29: קריטריון הקלה 5 | DK29: תנאים עם הקלה | DL29: עומד בתנאים ללא הקלות | DM29: עומד בתנאים להקלות
G30: 0/1 | H30: 0/1 | I30: 0/1 | J30: 0/1 | K30: 0/1 | L30: 0/1 | M30: 0/1 | N30: 0/1 | O30: 0/1 | P30: 0/1 | Q30: 0/1 | R30: 0/1 | S30: 0/1 | T30: 0/1 | U30: 0/1 | V30: 0/1 | W30: 0/1 | X30: 0/1 | Y30: 0/1 | AA30: 0/1 | AB30: טקסט מרשימה סגורה | AC30: 0/1 | AD30: 0/1 | AE30: 0/1 | AG30: 0/1 | AQ30: טקסט | AS30: 0 | AT30: 1 | AU30: =G30 -> 0/1 | AV30: =H30 -> 0/1 | AW30: =I30 -> 0/1 | AX30: =J30 -> 0/1 | AY30: =K30 -> 0/1 | AZ30: =L30 -> 0/1 | BA30: =M30 -> 0/1 | BB30: =N30 -> 0/1 | ... BT30: =AF30 -> 0 | BU30: =AH30 -> 0 | BV30: =AI30 -> 0 | BW30: =AJ30 -> 0 | BX30: =AK30 -> 0 | BY30: =AL30 -> 0 | BZ30: =AM30 -> 0 | CA30: =AN30 -> 0 | CB30: =AO30 -> 0 | CC30: =AP30 -> 0 | CH30: =AV4 -> 1 | CI30: =AW4 -> 2 | CJ30: =AX4 -> 3 | CK30: =AY4 -> 4 | CL30: =AZ4 -> 5 | CM30: =BA4 -> 6 | CN30: =BB4 -> 7 | CO30: =BC4 -> 8 | ... CQ30: =BE4 -> 10
B31: =IF(F31="","",ROW()-30) -> 1 | F31: סילביה דוראן | G31: 1 | H31: 1 | I31: 1 | J31: 1 | K31: 1 | L31: 1 | M31: 1 | N31: 1 | O31: 1 | P31: 1 | Q31: 1 | R31: 1 | S31: 0 | T31: 1 | U31: 1 | V31: 1 | W31: 1 | X31: 1 | Y31: 1 | Z31: =IF(F31="","",IF(AND(S31=1,T31=1),$AS$1,IF(OR(S31=1,AND(T31=1,U31=1,V31=1,W31=1,X31=1,Y31=1)),1,0))) -> 1 | AA31: 1 | AF31: =IF($F31="","",IF(OR(DL31=1,AND(DM31=1,AA31=1)),1,0)) -> 0 | AG31: 1 | AH31: =IF(F31="","",IF(AA31=1,1,IF(AND(AB31="לא",SUM(AC31:AD31)=2),1,IF(AND(AB31="כן",SUM(AC31:AE31)=3),1,0)))) -> 1 | AK31: =IF(F31="","",IF(G31>=$G$5,1,0)) -> 1 | AP31: {=IF($F31="","",IF(AL31=1,1,IF(AR31<>1,$AS$1,IF(SUMPRODUCT(--(G31:AK31>=$G$5:$AK$5)*($G$5:$AK$5<>"")*($G$4:$AK$4=1))=COUNTIF($G$4:$AK$4,1),1,0))))} -> 1 | AR31: =IF(OR(SUM(AU31:CC31)<>COUNT(AU31:CC31),SUMPRODUCT(--(G31:AK31=$AS$1))<>0),0,1) -> 1 | AS31: =IF($F31="","",AS$30) -> 0 | AT31: =IF($F31="","",AT$30) -> 1 | AU31: =IF(OR(G$30="",G$4=99),1,IF(G31="",0,IFERROR(CHOOSE(AU$28,IF(ISNA(MATCH(G31,$AS$30:$AT$30,0)),0,1),IF(ISNUMBER(G31),1,0),IF(G31=TRUNC(G31),1,0),IF(AND(G31*1=G31,G31>=0),1,0),IF(AND(G31=TRUNC(G31),G31>=0),1,0),IF(AND(G31*1=G31,G31>0),1,0),IF(AND(G31=TRUNC(G31),G31>0),1,0),1,IF(ISNA(HLOOKUP(G31,$AV$4:$BE$4,1,0)),0,1)),0))) -> 1 | AV31: =IF(OR(H$30="",H$4=99),1,IF(H31="",0,IFERROR(CHOOSE(AV$28,IF(ISNA(MATCH(H31,$AS$30:$AT$30,0)),0,1),IF(ISNUMBER(H31),1,0),IF(H31=TRUNC(H31),1,0),IF(AND(H31*1=H31,H31>=0),1,0),IF(AND(H31=TRUNC(H31),H31>=0),1,0),IF(AND(H31*1=H31,H31>0),1,0),IF(AND(H31=TRUNC(H31),H31>0),1,0),1,IF(ISNA(HLOOKUP(H31,$AV$4:$BE$4,1,0)),0,1)),0))) -> 1 | AW31: =IF(OR(I$30="",I$4=99),1,IF(I31="",0,IFERROR(CHOOSE(AW$28,IF(ISNA(MATCH(I31,$AS$30:$AT$30,0)),0,1),IF(ISNUMBER(I31),1,0),IF(I31=TRUNC(I31),1,0),IF(AND(I31*1=I31,I31>=0),1,0),IF(AND(I31=TRUNC(I31),I31>=0),1,0),IF(AND(I31*1=I31,I31>0),1,0),IF(AND(I31=TRUNC(I31),I31>0),1,0),1,IF(ISNA(HLOOKUP(I31,$AV$4:$BE$4,1,0)),0,1)),0))) -> 1 | AX31: =IF(OR(J$30="",J$4=99),1,IF(J31="",0,IFERROR(CHOOSE(AX$28,IF(ISNA(MATCH(J31,$AS$30:$AT$30,0)),0,1),IF(ISNUMBER(J31),1,0),IF(J31=TRUNC(J31),1,0),IF(AND(J31*1=J31,J31>=0),1,0),IF(AND(J31=TRUNC(J31),J31>=0),1,0),IF(AND(J31*1=J31,J31>0),1,0),IF(AND(J31=TRUNC(J31),J31>0),1,0),1,IF(ISNA(HLOOKUP(J31,$AV$4:$BE$4,1,0)),0,1)),0))) -> 1 | AY31: =IF(OR(K$30="",K$4=99),1,IF(K31="",0,IFERROR(CHOOSE(AY$28,IF(ISNA(MATCH(K31,$AS$30:$AT$30,0)),0,1),IF(ISNUMBER(K31),1,0),IF(K31=TRUNC(K31),1,0),IF(AND(K31*1=K31,K31>=0),1,0),IF(AND(K31=TRUNC(K31),K31>=0),1,0),IF(AND(K31*1=K31,K31>0),1,0),IF(AND(K31=TRUNC(K31),K31>0),1,0),1,IF(ISNA(HLOOKUP(K31,$AV$4:$BE$4,1,0)),0,1)),0))) -> 1 | AZ31: =IF(OR(L$30="",L$4=99),1,IF(L31="",0,IFERROR(CHOOSE(AZ$28,IF(ISNA(MATCH(L31,$AS$30:$AT$30,0)),0,1),IF(ISNUMBER(L31),1,0),IF(L31=TRUNC(L31),1,0),IF(AND(L31*1=L31,L31>=0),1,0),IF(AND(L31=TRUNC(L31),L31>=0),1,0),IF(AND(L31*1=L31,L31>0),1,0),IF(AND(L31=TRUNC(L31),L31>0),1,0),1,IF(ISNA(HLOOKUP(L31,$AV$4:$BE$4,1,0)),0,1)),0))) -> 1 | BA31: =IF(OR(M$30="",M$4=99),1,IF(M31="",0,IFERROR(CHOOSE(BA$28,IF(ISNA(MATCH(M31,$AS$30:$AT$30,0)),0,1),IF(ISNUMBER(M31),1,0),IF(M31=TRUNC(M31),1,0),IF(AND(M31*1=M31,M31>=0),1,0),IF(AND(M31=TRUNC(M31),M31>=0),1,0),IF(AND(M31*1=M31,M31>0),1,0),IF(AND(M31=TRUNC(M31),M31>0),1,0),1,IF(ISNA(HLOOKUP(M31,$AV$4:$BE$4,1,0)),0,1)),0))) -> 1 | BB31: =IF(OR(N$30="",N$4=99),1,IF(N31="",0,IFERROR(CHOOSE(BB$28,IF(ISNA(MATCH(N31,$AS$30:$AT$30,0)),0,1),IF(ISNUMBER(N31),1,0),IF(N31=TRUNC(N31),1,0),IF(AND(N31*1=N31,N31>=0),1,0),IF(AND(N31=TRUNC(N31),N31>=0),1,0),IF(AND(N31*1=N31,N31>0),1,0),IF(AND(N31=TRUNC(N31),N31>0),1,0),1,IF(ISNA(HLOOKUP(N31,$AV$4:$BE$4,1,0)),0,1)),0))) -> 1 | ... BF31: =IF(OR(R$30="",R$4=99),1,IF(R31="",0,IFERROR(CHOOSE(BF$28,IF(ISNA(MATCH(R31,$AS$30:$AT$30,0)),0,1),IF(ISNUMBER(R31),1,0),IF(R31=TRUNC(R31),1,0),IF(AND(R31*1=R31,R31>=0),1,0),IF(AND(R31=TRUNC(R31),R31>=0),1,0),IF(AND(R31*1=R31,R31>0),1,0),IF(AND(R31=TRUNC(R31),R31>0),1,0),1,IF(ISNA(HLOOKUP(R31,$AV$4:$BE$4,1,0)),0,1)),0))) -> 1 | BG31: =IF(OR(S$30="",S$4=99),1,IF(S31="",0,IFERROR(CHOOSE(BF$28,IF(ISNA(MATCH(S31,$AS$30:$AT$30,0)),0,1),IF(ISNUMBER(S31),1,0),IF(S31=TRUNC(S31),1,0),IF(AND(S31*1=S31,S31>=0),1,0),IF(AND(S31=TRUNC(S31),S31>=0),1,0),IF(AND(S31*1=S31,S31>0),1,0),IF(AND(S31=TRUNC(S31),S31>0),1,0),1,IF(ISNA(HLOOKUP(S31,$AV$4:$BE$4,1,0)),0,1)),0))) -> 1 | BH31: =IF(OR(T$30="",T$4=99),1,IF(T31="",0,IFERROR(CHOOSE(BG$28,IF(ISNA(MATCH(T31,$AS$30:$AT$30,0)),0,1),IF(ISNUMBER(T31),1,0),IF(T31=TRUNC(T31),1,0),IF(AND(T31*1=T31,T31>=0),1,0),IF(AND(T31=TRUNC(T31),T31>=0),1,0),IF(AND(T31*1=T31,T31>0),1,0),IF(AND(T31=TRUNC(T31),T31>0),1,0),1,IF(ISNA(HLOOKUP(T31,$AV$4:$BE$4,1,0)),0,1)),0))) -> 1 | BI31: =IF(OR(U$30="",U$4=99),1,IF(U31="",0,IFERROR(CHOOSE(BH$28,IF(ISNA(MATCH(U31,$AS$30:$AT$30,0)),0,1),IF(ISNUMBER(U31),1,0),IF(U31=TRUNC(U31),1,0),IF(AND(U31*1=U31,U31>=0),1,0),IF(AND(U31=TRUNC(U31),U31>=0),1,0),IF(AND(U31*1=U31,U31>0),1,0),IF(AND(U31=TRUNC(U31),U31>0),1,0),1,IF(ISNA(HLOOKUP(U31,$AV$4:$BE$4,1,0)),0,1)),0))) -> 1 | BJ31: =IF(OR(V$30="",V$4=99),1,IF(V31="",0,IFERROR(CHOOSE(BI$28,IF(ISNA(MATCH(V31,$AS$30:$AT$30,0)),0,1),IF(ISNUMBER(V31),1,0),IF(V31=TRUNC(V31),1,0),IF(AND(V31*1=V31,V31>=0),1,0),IF(AND(V31=TRUNC(V31),V31>=0),1,0),IF(AND(V31*1=V31,V31>0),1,0),IF(AND(V31=TRUNC(V31),V31>0),1,0),1,IF(ISNA(HLOOKUP(V31,$AV$4:$BE$4,1,0)),0,1)),0))) -> 1 | BK31: =IF(OR(W$30="",W$4=99),1,IF(W31="",0,IFERROR(CHOOSE(BJ$28,IF(ISNA(MATCH(W31,$AS$30:$AT$30,0)),0,1),IF(ISNUMBER(W31),1,0),IF(W31=TRUNC(W31),1,0),IF(AND(W31*1=W31,W31>=0),1,0),IF(AND(W31=TRUNC(W31),W31>=0),1,0),IF(AND(W31*1=W31,W31>0),1,0),IF(AND(W31=TRUNC(W31),W31>0),1,0),1,IF(ISNA(HLOOKUP(W31,$AV$4:$BE$4,1,0)),0,1)),0))) -> 1 | BL31: =IF(OR(X$30="",X$4=99),1,IF(X31="",0,IFERROR(CHOOSE(BK$28,IF(ISNA(MATCH(X31,$AS$30:$AT$30,0)),0,1),IF(ISNUMBER(X31),1,0),IF(X31=TRUNC(X31),1,0),IF(AND(X31*1=X31,X31>=0),1,0),IF(AND(X31=TRUNC(X31),X31>=0),1,0),IF(AND(X31*1=X31,X31>0),1,0),IF(AND(X31=TRUNC(X31),X31>0),1,0),1,IF(ISNA(HLOOKUP(X31,$AV$4:$BE$4,1,0)),0,1)),0))) -> 1 | BM31: =IF(OR(Y$30="",Y$4=99),1,IF(Y31="",0,IFERROR(CHOOSE(BL$28,IF(ISNA(MATCH(Y31,$AS$30:$AT$30,0)),0,1),IF(ISNUMBER(Y31),1,0),IF(Y31=TRUNC(Y31),1,0),IF(AND(Y31*1=Y31,Y31>=0),1,0),IF(AND(Y31=TRUNC(Y31),Y31>=0),1,0),IF(AND(Y31*1=Y31,Y31>0),1,0),IF(AND(Y31=TRUNC(Y31),Y31>0),1,0),1,IF(ISNA(HLOOKUP(Y31,$AV$4:$BE$4,1,0)),0,1)),0))) -> 1 | BN31: =IF(OR(Z$30="",Z$4=99),1,IF(Z31="",0,IFERROR(CHOOSE(BM$28,IF(ISNA(MATCH(Z31,$AS$30:$AT$30,0)),0,1),IF(ISNUMBER(Z31),1,0),IF(Z31=TRUNC(Z31),1,0),IF(AND(Z31*1=Z31,Z31>=0),1,0),IF(AND(Z31=TRUNC(Z31),Z31>=0),1,0),IF(AND(Z31*1=Z31,Z31>0),1,0),IF(AND(Z31=TRUNC(Z31),Z31>0),1,0),1,IF(ISNA(HLOOKUP(Z31,$AV$4:$BE$4,1,0)),0,1)),0))) -> 1 | ... BT31: =IF(OR(AF$30="",AF$4=99),1,IF(AF31="",0,IFERROR(CHOOSE(BS$28,IF(ISNA(MATCH(AF31,$AS$30:$AT$30,0)),0,1),IF(ISNUMBER(AF31),1,0),IF(AF31=TRUNC(AF31),1,0),IF(AND(AF31*1=AF31,AF31>=0),1,0),IF(AND(AF31=TRUNC(AF31),AF31>=0),1,0),IF(AND(AF31*1=AF31,AF31>0),1,0),IF(AND(AF31=TRUNC(AF31),AF31>0),1,0),1,IF(ISNA(HLOOKUP(AF31,$AV$4:$BE$4,1,0)),0,1)),0))) -> 1 | BU31: =IF(OR(AH$30="",AH$4=99),1,IF(AH31="",0,IFERROR(CHOOSE(BT$28,IF(ISNA(MATCH(AH31,$AS$30:$AT$30,0)),0,1),IF(ISNUMBER(AH31),1,0),IF(AH31=TRUNC(AH31),1,0),IF(AND(AH31*1=AH31,AH31>=0),1,0),IF(AND(AH31=TRUNC(AH31),AH31>=0),1,0),IF(AND(AH31*1=AH31,AH31>0),1,0),IF(AND(AH31=TRUNC(AH31),AH31>0),1,0),1,IF(ISNA(HLOOKUP(AH31,$AV$4:$BE$4,1,0)),0,1)),0))) -> 1 | BV31: =IF(OR(AI$30="",AI$4=99),1,IF(AI31="",0,IFERROR(CHOOSE(BU$28,IF(ISNA(MATCH(AI31,$AS$30:$AT$30,0)),0,1),IF(ISNUMBER(AI31),1,0),IF(AI31=TRUNC(AI31),1,0),IF(AND(AI31*1=AI31,AI31>=0),1,0),IF(AND(AI31=TRUNC(AI31),AI31>=0),1,0),IF(AND(AI31*1=AI31,AI31>0),1,0),IF(AND(AI31=TRUNC(AI31),AI31>0),1,0),1,IF(ISNA(HLOOKUP(AI31,$AV$4:$BE$4,1,0)),0,1)),0))) -> 1 | BW31: =IF(OR(AJ$30="",AJ$4=99),1,IF(AJ31="",0,IFERROR(CHOOSE(BV$28,IF(ISNA(MATCH(AJ31,$AS$30:$AT$30,0)),0,1),IF(ISNUMBER(AJ31),1,0),IF(AJ31=TRUNC(AJ31),1,0),IF(AND(AJ31*1=AJ31,AJ31>=0),1,0),IF(AND(AJ31=TRUNC(AJ31),AJ31>=0),1,0),IF(AND(AJ31*1=AJ31,AJ31>0),1,0),IF(AND(AJ31=TRUNC(AJ31),AJ31>0),1,0),1,IF(ISNA(HLOOKUP(AJ31,$AV$4:$BE$4,1,0)),0,1)),0))) -> 1 | BX31: =IF(OR(AK$30="",AK$4=99),1,IF(AK31="",0,IFERROR(CHOOSE(BW$28,IF(ISNA(MATCH(AK31,$AS$30:$AT$30,0)),0,1),IF(ISNUMBER(AK31),1,0),IF(AK31=TRUNC(AK31),1,0),IF(AND(AK31*1=AK31,AK31>=0),1,0),IF(AND(AK31=TRUNC(AK31),AK31>=0),1,0),IF(AND(AK31*1=AK31,AK31>0),1,0),IF(AND(AK31=TRUNC(AK31),AK31>0),1,0),1,IF(ISNA(HLOOKUP(AK31,$AV$4:$BE$4,1,0)),0,1)),0))) -> 1 | BY31: =IF(OR(AL$30="",AL$4=99),1,IF(AL31="",0,IFERROR(CHOOSE(BX$28,IF(ISNA(MATCH(AL31,$AS$30:$AT$30,0)),0,1),IF(ISNUMBER(AL31),1,0),IF(AL31=TRUNC(AL31),1,0),IF(AND(AL31*1=AL31,AL31>=0),1,0),IF(AND(AL31=TRUNC(AL31),AL31>=0),1,0),IF(AND(AL31*1=AL31,AL31>0),1,0),IF(AND(AL31=TRUNC(AL31),AL31>0),1,0),1,IF(ISNA(HLOOKUP(AL31,$AV$4:$BE$4,1,0)),0,1)),0))) -> 1 | BZ31: =IF(OR(AM$30="",AM$4=99),1,IF(AM31="",0,IFERROR(CHOOSE(BY$28,IF(ISNA(MATCH(AM31,$AS$30:$AT$30,0)),0,1),IF(ISNUMBER(AM31),1,0),IF(AM31=TRUNC(AM31),1,0),IF(AND(AM31*1=AM31,AM31>=0),1,0),IF(AND(AM31=TRUNC(AM31),AM31>=0),1,0),IF(AND(AM31*1=AM31,AM31>0),1,0),IF(AND(AM31=TRUNC(AM31),AM31>0),1,0),1,IF(ISNA(HLOOKUP(AM31,$AV$4:$BE$4,1,0)),0,1)),0))) -> 1 | CA31: =IF(OR(AN$30="",AN$4=99),1,IF(AN31="",0,IFERROR(CHOOSE(BZ$28,IF(ISNA(MATCH(AN31,$AS$30:$AT$30,0)),0,1),IF(ISNUMBER(AN31),1,0),IF(AN31=TRUNC(AN31),1,0),IF(AND(AN31*1=AN31,AN31>=0),1,0),IF(AND(AN31=TRUNC(AN31),AN31>=0),1,0),IF(AND(AN31*1=AN31,AN31>0),1,0),IF(AND(AN31=TRUNC(AN31),AN31>0),1,0),1,IF(ISNA(HLOOKUP(AN31,$AV$4:$BE$4,1,0)),0,1)),0))) -> 1 | CB31: =IF(OR(AO$30="",AO$4=99),1,IF(AO31="",0,IFERROR(CHOOSE(CA$28,IF(ISNA(MATCH(AO31,$AS$30:$AT$30,0)),0,1),IF(ISNUMBER(AO31),1,0),IF(AO31=TRUNC(AO31),1,0),IF(AND(AO31*1=AO31,AO31>=0),1,0),IF(AND(AO31=TRUNC(AO31),AO31>=0),1,0),IF(AND(AO31*1=AO31,AO31>0),1,0),IF(AND(AO31=TRUNC(AO31),AO31>0),1,0),1,IF(ISNA(HLOOKUP(AO31,$AV$4:$BE$4,1,0)),0,1)),0))) -> 1 | CC31: =IF(OR(AP$30="",AP$4=99),1,IF(AP31="",0,IFERROR(CHOOSE(CB$28,IF(ISNA(MATCH(AP31,$AS$30:$AT$30,0)),0,1),IF(ISNUMBER(AP31),1,0),IF(AP31=TRUNC(AP31),1,0),IF(AND(AP31*1=AP31,AP31>=0),1,0),IF(AND(AP31=TRUNC(AP31),AP31>=0),1,0),IF(AND(AP31*1=AP31,AP31>0),1,0),IF(AND(AP31=TRUNC(AP31),AP31>0),1,0),1,IF(ISNA(HLOOKUP(AP31,$AV$4:$BE$4,1,0)),0,1)),0))) -> 1 | CH31: =IF($F31="","",CH$30) -> 1 | CI31: =IF($F31="","",CI$30) -> 2 | CJ31: =IF($F31="","",CJ$30) -> 3 | CK31: =IF($F31="","",CK$30) -> 4 | CL31: =IF($F31="","",CL$30) -> 5 | CM31: =IF($F31="","",CM$30) -> 6 | CN31: =IF($F31="","",CN$30) -> 7 | CO31: =IF($F31="","",CO$30) -> 8 | ... CQ31: =IF($F31="","",CQ$30) -> 10 | CW31: =W31>=CV$5 -> TRUE | CX31: =X31>=CW$5 -> FALSE | CY31: =Y31>=CX$5 -> TRUE | DC31: =COUNTIF(CW31:DA31,TRUE) -> 2 | DD31: =W31>=DC$5 -> TRUE | DE31: =X31>=DD$5 -> FALSE | DF31: =Y31>=DE$5 -> TRUE | DK31: =COUNTIF(DD31:DJ31,TRUE) -> 2 | DL31: =IF($F31="","",IF(DC31=$CW$3,1,0)) -> 0 | DM31: =IF($F31="","",IF(AND(DK31=$CW$3,DK31-DC31<=$DD$3),1,0)) -> 0
B32: =IF(F32="","",ROW()-30) -> 2 | F32: רנה שינפלד | G32: 1 | H32: 1 | I32: 1 | J32: 1 | K32: 1 | L32: 1 | M32: 1 | N32: 1 | O32: 1 | P32: 1 | Q32: 1 | R32: 1 | S32: 1 | T32: 0 | U32: 0 | V32: 1 | W32: 0 | X32: 0 | Y32: 0 | Z32: =IF(F32="","",IF(AND(S32=1,T32=1),$AS$1,IF(OR(S32=1,AND(T32=1,U32=1,V32=1,W32=1,X32=1,Y32=1)),1,0))) -> 1 | AA32: 1 | AB32: כן | AC32: 1 | AD32: 1 | AE32: 1 | AF32: =IF($F32="","",IF(OR(DL32=1,AND(DM32=1,AA32=1)),1,0)) -> 0 | AG32: 1 | AH32: =IF(F32="","",IF(AA32=1,1,IF(AND(AB32="לא",SUM(AC32:AD32)=2),1,IF(AND(AB32="כן",SUM(AC32:AE32)=3),1,0)))) -> 1 | AK32: =IF(F32="","",IF(G32>=$G$5,1,0)) -> 1 | AP32: =IF($F32="","",IF(AL32=1,1,IF(AR32<>1,$AS$1,IF(SUMPRODUCT(--(G32:AK32>=$G$5:$AK$5)*($G$5:$AK$5<>"")*($G$4:$AK$4=1))=COUNTIF($G$4:$AK$4,1),1,0)))) -> 1 | AR32: =IF(OR(SUM(AU32:CC32)<>COUNT(AU32:CC32),SUMPRODUCT(--(G32:AK32=$AS$1))<>0),0,1) -> 1 | AS32: =IF($F32="","",AS$30) -> 0 | AT32: =IF($F32="","",AT$30) -> 1 | AU32: =IF(OR(G$30="",G$4=99),1,IF(G32="",0,IFERROR(CHOOSE(AU$28,IF(ISNA(MATCH(G32,$AS$30:$AT$30,0)),0,1),IF(ISNUMBER(G32),1,0),IF(G32=TRUNC(G32),1,0),IF(AND(G32*1=G32,G32>=0),1,0),IF(AND(G32=TRUNC(G32),G32>=0),1,0),IF(AND(G32*1=G32,G32>0),1,0),IF(AND(G32=TRUNC(G32),G32>0),1,0),1,IF(ISNA(HLOOKUP(G32,$AV$4:$BE$4,1,0)),0,1)),0))) -> 1 | AV32: =IF(OR(H$30="",H$4=99),1,IF(H32="",0,IFERROR(CHOOSE(AV$28,IF(ISNA(MATCH(H32,$AS$30:$AT$30,0)),0,1),IF(ISNUMBER(H32),1,0),IF(H32=TRUNC(H32),1,0),IF(AND(H32*1=H32,H32>=0),1,0),IF(AND(H32=TRUNC(H32),H32>=0),1,0),IF(AND(H32*1=H32,H32>0),1,0),IF(AND(H32=TRUNC(H32),H32>0),1,0),1,IF(ISNA(HLOOKUP(H32,$AV$4:$BE$4,1,0)),0,1)),0))) -> 1 | AW32: =IF(OR(I$30="",I$4=99),1,IF(I32="",0,IFERROR(CHOOSE(AW$28,IF(ISNA(MATCH(I32,$AS$30:$AT$30,0)),0,1),IF(ISNUMBER(I32),1,0),IF(I32=TRUNC(I32),1,0),IF(AND(I32*1=I32,I32>=0),1,0),IF(AND(I32=TRUNC(I32),I32>=0),1,0),IF(AND(I32*1=I32,I32>0),1,0),IF(AND(I32=TRUNC(I32),I32>0),1,0),1,IF(ISNA(HLOOKUP(I32,$AV$4:$BE$4,1,0)),0,1)),0))) -> 1 | AX32: =IF(OR(J$30="",J$4=99),1,IF(J32="",0,IFERROR(CHOOSE(AX$28,IF(ISNA(MATCH(J32,$AS$30:$AT$30,0)),0,1),IF(ISNUMBER(J32),1,0),IF(J32=TRUNC(J32),1,0),IF(AND(J32*1=J32,J32>=0),1,0),IF(AND(J32=TRUNC(J32),J32>=0),1,0),IF(AND(J32*1=J32,J32>0),1,0),IF(AND(J32=TRUNC(J32),J32>0),1,0),1,IF(ISNA(HLOOKUP(J32,$AV$4:$BE$4,1,0)),0,1)),0))) -> 1 | AY32: =IF(OR(K$30="",K$4=99),1,IF(K32="",0,IFERROR(CHOOSE(AY$28,IF(ISNA(MATCH(K32,$AS$30:$AT$30,0)),0,1),IF(ISNUMBER(K32),1,0),IF(K32=TRUNC(K32),1,0),IF(AND(K32*1=K32,K32>=0),1,0),IF(AND(K32=TRUNC(K32),K32>=0),1,0),IF(AND(K32*1=K32,K32>0),1,0),IF(AND(K32=TRUNC(K32),K32>0),1,0),1,IF(ISNA(HLOOKUP(K32,$AV$4:$BE$4,1,0)),0,1)),0))) -> 1 | AZ32: =IF(OR(L$30="",L$4=99),1,IF(L32="",0,IFERROR(CHOOSE(AZ$28,IF(ISNA(MATCH(L32,$AS$30:$AT$30,0)),0,1),IF(ISNUMBER(L32),1,0),IF(L32=TRUNC(L32),1,0),IF(AND(L32*1=L32,L32>=0),1,0),IF(AND(L32=TRUNC(L32),L32>=0),1,0),IF(AND(L32*1=L32,L32>0),1,0),IF(AND(L32=TRUNC(L32),L32>0),1,0),1,IF(ISNA(HLOOKUP(L32,$AV$4:$BE$4,1,0)),0,1)),0))) -> 1 | BA32: =IF(OR(M$30="",M$4=99),1,IF(M32="",0,IFERROR(CHOOSE(BA$28,IF(ISNA(MATCH(M32,$AS$30:$AT$30,0)),0,1),IF(ISNUMBER(M32),1,0),IF(M32=TRUNC(M32),1,0),IF(AND(M32*1=M32,M32>=0),1,0),IF(AND(M32=TRUNC(M32),M32>=0),1,0),IF(AND(M32*1=M32,M32>0),1,0),IF(AND(M32=TRUNC(M32),M32>0),1,0),1,IF(ISNA(HLOOKUP(M32,$AV$4:$BE$4,1,0)),0,1)),0))) -> 1 | BB32: =IF(OR(N$30="",N$4=99),1,IF(N32="",0,IFERROR(CHOOSE(BB$28,IF(ISNA(MATCH(N32,$AS$30:$AT$30,0)),0,1),IF(ISNUMBER(N32),1,0),IF(N32=TRUNC(N32),1,0),IF(AND(N32*1=N32,N32>=0),1,0),IF(AND(N32=TRUNC(N32),N32>=0),1,0),IF(AND(N32*1=N32,N32>0),1,0),IF(AND(N32=TRUNC(N32),N32>0),1,0),1,IF(ISNA(HLOOKUP(N32,$AV$4:$BE$4,1,0)),0,1)),0))) -> 1 | ... BF32: =IF(OR(R$30="",R$4=99),1,IF(R32="",0,IFERROR(CHOOSE(BF$28,IF(ISNA(MATCH(R32,$AS$30:$AT$30,0)),0,1),IF(ISNUMBER(R32),1,0),IF(R32=TRUNC(R32),1,0),IF(AND(R32*1=R32,R32>=0),1,0),IF(AND(R32=TRUNC(R32),R32>=0),1,0),IF(AND(R32*1=R32,R32>0),1,0),IF(AND(R32=TRUNC(R32),R32>0),1,0),1,IF(ISNA(HLOOKUP(R32,$AV$4:$BE$4,1,0)),0,1)),0))) -> 1 | BG32: =IF(OR(S$30="",S$4=99),1,IF(S32="",0,IFERROR(CHOOSE(BF$28,IF(ISNA(MATCH(S32,$AS$30:$AT$30,0)),0,1),IF(ISNUMBER(S32),1,0),IF(S32=TRUNC(S32),1,0),IF(AND(S32*1=S32,S32>=0),1,0),IF(AND(S32=TRUNC(S32),S32>=0),1,0),IF(AND(S32*1=S32,S32>0),1,0),IF(AND(S32=TRUNC(S32),S32>0),1,0),1,IF(ISNA(HLOOKUP(S32,$AV$4:$BE$4,1,0)),0,1)),0))) -> 1 | BH32: =IF(OR(T$30="",T$4=99),1,IF(T32="",0,IFERROR(CHOOSE(BG$28,IF(ISNA(MATCH(T32,$AS$30:$AT$30,0)),0,1),IF(ISNUMBER(T32),1,0),IF(T32=TRUNC(T32),1,0),IF(AND(T32*1=T32,T32>=0),1,0),IF(AND(T32=TRUNC(T32),T32>=0),1,0),IF(AND(T32*1=T32,T32>0),1,0),IF(AND(T32=TRUNC(T32),T32>0),1,0),1,IF(ISNA(HLOOKUP(T32,$AV$4:$BE$4,1,0)),0,1)),0))) -> 1 | BI32: =IF(OR(U$30="",U$4=99),1,IF(U32="",0,IFERROR(CHOOSE(BH$28,IF(ISNA(MATCH(U32,$AS$30:$AT$30,0)),0,1),IF(ISNUMBER(U32),1,0),IF(U32=TRUNC(U32),1,0),IF(AND(U32*1=U32,U32>=0),1,0),IF(AND(U32=TRUNC(U32),U32>=0),1,0),IF(AND(U32*1=U32,U32>0),1,0),IF(AND(U32=TRUNC(U32),U32>0),1,0),1,IF(ISNA(HLOOKUP(U32,$AV$4:$BE$4,1,0)),0,1)),0))) -> 1 | BJ32: =IF(OR(V$30="",V$4=99),1,IF(V32="",0,IFERROR(CHOOSE(BI$28,IF(ISNA(MATCH(V32,$AS$30:$AT$30,0)),0,1),IF(ISNUMBER(V32),1,0),IF(V32=TRUNC(V32),1,0),IF(AND(V32*1=V32,V32>=0),1,0),IF(AND(V32=TRUNC(V32),V32>=0),1,0),IF(AND(V32*1=V32,V32>0),1,0),IF(AND(V32=TRUNC(V32),V32>0),1,0),1,IF(ISNA(HLOOKUP(V32,$AV$4:$BE$4,1,0)),0,1)),0))) -> 1 | BK32: =IF(OR(W$30="",W$4=99),1,IF(W32="",0,IFERROR(CHOOSE(BJ$28,IF(ISNA(MATCH(W32,$AS$30:$AT$30,0)),0,1),IF(ISNUMBER(W32),1,0),IF(W32=TRUNC(W32),1,0),IF(AND(W32*1=W32,W32>=0),1,0),IF(AND(W32=TRUNC(W32),W32>=0),1,0),IF(AND(W32*1=W32,W32>0),1,0),IF(AND(W32=TRUNC(W32),W32>0),1,0),1,IF(ISNA(HLOOKUP(W32,$AV$4:$BE$4,1,0)),0,1)),0))) -> 1 | BL32: =IF(OR(X$30="",X$4=99),1,IF(X32="",0,IFERROR(CHOOSE(BK$28,IF(ISNA(MATCH(X32,$AS$30:$AT$30,0)),0,1),IF(ISNUMBER(X32),1,0),IF(X32=TRUNC(X32),1,0),IF(AND(X32*1=X32,X32>=0),1,0),IF(AND(X32=TRUNC(X32),X32>=0),1,0),IF(AND(X32*1=X32,X32>0),1,0),IF(AND(X32=TRUNC(X32),X32>0),1,0),1,IF(ISNA(HLOOKUP(X32,$AV$4:$BE$4,1,0)),0,1)),0))) -> 1 | BM32: =IF(OR(Y$30="",Y$4=99),1,IF(Y32="",0,IFERROR(CHOOSE(BL$28,IF(ISNA(MATCH(Y32,$AS$30:$AT$30,0)),0,1),IF(ISNUMBER(Y32),1,0),IF(Y32=TRUNC(Y32),1,0),IF(AND(Y32*1=Y32,Y32>=0),1,0),IF(AND(Y32=TRUNC(Y32),Y32>=0),1,0),IF(AND(Y32*1=Y32,Y32>0),1,0),IF(AND(Y32=TRUNC(Y32),Y32>0),1,0),1,IF(ISNA(HLOOKUP(Y32,$AV$4:$BE$4,1,0)),0,1)),0))) -> 1 | BN32: =IF(OR(Z$30="",Z$4=99),1,IF(Z32="",0,IFERROR(CHOOSE(BM$28,IF(ISNA(MATCH(Z32,$AS$30:$AT$30,0)),0,1),IF(ISNUMBER(Z32),1,0),IF(Z32=TRUNC(Z32),1,0),IF(AND(Z32*1=Z32,Z32>=0),1,0),IF(AND(Z32=TRUNC(Z32),Z32>=0),1,0),IF(AND(Z32*1=Z32,Z32>0),1,0),IF(AND(Z32=TRUNC(Z32),Z32>0),1,0),1,IF(ISNA(HLOOKUP(Z32,$AV$4:$BE$4,1,0)),0,1)),0))) -> 1 | ... BT32: =IF(OR(AF$30="",AF$4=99),1,IF(AF32="",0,IFERROR(CHOOSE(BS$28,IF(ISNA(MATCH(AF32,$AS$30:$AT$30,0)),0,1),IF(ISNUMBER(AF32),1,0),IF(AF32=TRUNC(AF32),1,0),IF(AND(AF32*1=AF32,AF32>=0),1,0),IF(AND(AF32=TRUNC(AF32),AF32>=0),1,0),IF(AND(AF32*1=AF32,AF32>0),1,0),IF(AND(AF32=TRUNC(AF32),AF32>0),1,0),1,IF(ISNA(HLOOKUP(AF32,$AV$4:$BE$4,1,0)),0,1)),0))) -> 1 | BU32: =IF(OR(AH$30="",AH$4=99),1,IF(AH32="",0,IFERROR(CHOOSE(BT$28,IF(ISNA(MATCH(AH32,$AS$30:$AT$30,0)),0,1),IF(ISNUMBER(AH32),1,0),IF(AH32=TRUNC(AH32),1,0),IF(AND(AH32*1=AH32,AH32>=0),1,0),IF(AND(AH32=TRUNC(AH32),AH32>=0),1,0),IF(AND(AH32*1=AH32,AH32>0),1,0),IF(AND(AH32=TRUNC(AH32),AH32>0),1,0),1,IF(ISNA(HLOOKUP(AH32,$AV$4:$BE$4,1,0)),0,1)),0))) -> 1 | BV32: =IF(OR(AI$30="",AI$4=99),1,IF(AI32="",0,IFERROR(CHOOSE(BU$28,IF(ISNA(MATCH(AI32,$AS$30:$AT$30,0)),0,1),IF(ISNUMBER(AI32),1,0),IF(AI32=TRUNC(AI32),1,0),IF(AND(AI32*1=AI32,AI32>=0),1,0),IF(AND(AI32=TRUNC(AI32),AI32>=0),1,0),IF(AND(AI32*1=AI32,AI32>0),1,0),IF(AND(AI32=TRUNC(AI32),AI32>0),1,0),1,IF(ISNA(HLOOKUP(AI32,$AV$4:$BE$4,1,0)),0,1)),0))) -> 1 | BW32: =IF(OR(AJ$30="",AJ$4=99),1,IF(AJ32="",0,IFERROR(CHOOSE(BV$28,IF(ISNA(MATCH(AJ32,$AS$30:$AT$30,0)),0,1),IF(ISNUMBER(AJ32),1,0),IF(AJ32=TRUNC(AJ32),1,0),IF(AND(AJ32*1=AJ32,AJ32>=0),1,0),IF(AND(AJ32=TRUNC(AJ32),AJ32>=0),1,0),IF(AND(AJ32*1=AJ32,AJ32>0),1,0),IF(AND(AJ32=TRUNC(AJ32),AJ32>0),1,0),1,IF(ISNA(HLOOKUP(AJ32,$AV$4:$BE$4,1,0)),0,1)),0))) -> 1 | BX32: =IF(OR(AK$30="",AK$4=99),1,IF(AK32="",0,IFERROR(CHOOSE(BW$28,IF(ISNA(MATCH(AK32,$AS$30:$AT$30,0)),0,1),IF(ISNUMBER(AK32),1,0),IF(AK32=TRUNC(AK32),1,0),IF(AND(AK32*1=AK32,AK32>=0),1,0),IF(AND(AK32=TRUNC(AK32),AK32>=0),1,0),IF(AND(AK32*1=AK32,AK32>0),1,0),IF(AND(AK32=TRUNC(AK32),AK32>0),1,0),1,IF(ISNA(HLOOKUP(AK32,$AV$4:$BE$4,1,0)),0,1)),0))) -> 1 | BY32: =IF(OR(AL$30="",AL$4=99),1,IF(AL32="",0,IFERROR(CHOOSE(BX$28,IF(ISNA(MATCH(AL32,$AS$30:$AT$30,0)),0,1),IF(ISNUMBER(AL32),1,0),IF(AL32=TRUNC(AL32),1,0),IF(AND(AL32*1=AL32,AL32>=0),1,0),IF(AND(AL32=TRUNC(AL32),AL32>=0),1,0),IF(AND(AL32*1=AL32,AL32>0),1,0),IF(AND(AL32=TRUNC(AL32),AL32>0),1,0),1,IF(ISNA(HLOOKUP(AL32,$AV$4:$BE$4,1,0)),0,1)),0))) -> 1 | BZ32: =IF(OR(AM$30="",AM$4=99),1,IF(AM32="",0,IFERROR(CHOOSE(BY$28,IF(ISNA(MATCH(AM32,$AS$30:$AT$30,0)),0,1),IF(ISNUMBER(AM32),1,0),IF(AM32=TRUNC(AM32),1,0),IF(AND(AM32*1=AM32,AM32>=0),1,0),IF(AND(AM32=TRUNC(AM32),AM32>=0),1,0),IF(AND(AM32*1=AM32,AM32>0),1,0),IF(AND(AM32=TRUNC(AM32),AM32>0),1,0),1,IF(ISNA(HLOOKUP(AM32,$AV$4:$BE$4,1,0)),0,1)),0))) -> 1 | CA32: =IF(OR(AN$30="",AN$4=99),1,IF(AN32="",0,IFERROR(CHOOSE(BZ$28,IF(ISNA(MATCH(AN32,$AS$30:$AT$30,0)),0,1),IF(ISNUMBER(AN32),1,0),IF(AN32=TRUNC(AN32),1,0),IF(AND(AN32*1=AN32,AN32>=0),1,0),IF(AND(AN32=TRUNC(AN32),AN32>=0),1,0),IF(AND(AN32*1=AN32,AN32>0),1,0),IF(AND(AN32=TRUNC(AN32),AN32>0),1,0),1,IF(ISNA(HLOOKUP(AN32,$AV$4:$BE$4,1,0)),0,1)),0))) -> 1 | CB32: =IF(OR(AO$30="",AO$4=99),1,IF(AO32="",0,IFERROR(CHOOSE(CA$28,IF(ISNA(MATCH(AO32,$AS$30:$AT$30,0)),0,1),IF(ISNUMBER(AO32),1,0),IF(AO32=TRUNC(AO32),1,0),IF(AND(AO32*1=AO32,AO32>=0),1,0),IF(AND(AO32=TRUNC(AO32),AO32>=0),1,0),IF(AND(AO32*1=AO32,AO32>0),1,0),IF(AND(AO32=TRUNC(AO32),AO32>0),1,0),1,IF(ISNA(HLOOKUP(AO32,$AV$4:$BE$4,1,0)),0,1)),0))) -> 1 | CC32: =IF(OR(AP$30="",AP$4=99),1,IF(AP32="",0,IFERROR(CHOOSE(CB$28,IF(ISNA(MATCH(AP32,$AS$30:$AT$30,0)),0,1),IF(ISNUMBER(AP32),1,0),IF(AP32=TRUNC(AP32),1,0),IF(AND(AP32*1=AP32,AP32>=0),1,0),IF(AND(AP32=TRUNC(AP32),AP32>=0),1,0),IF(AND(AP32*1=AP32,AP32>0),1,0),IF(AND(AP32=TRUNC(AP32),AP32>0),1,0),1,IF(ISNA(HLOOKUP(AP32,$AV$4:$BE$4,1,0)),0,1)),0))) -> 1 | CH32: =IF($F32="","",CH$30) -> 1 | CI32: =IF($F32="","",CI$30) -> 2 | CJ32: =IF($F32="","",CJ$30) -> 3 | CK32: =IF($F32="","",CK$30) -> 4 | CL32: =IF($F32="","",CL$30) -> 5 | CM32: =IF($F32="","",CM$30) -> 6 | CN32: =IF($F32="","",CN$30) -> 7 | CO32: =IF($F32="","",CO$30) -> 8 | ... CQ32: =IF($F32="","",CQ$30) -> 10 | CW32: =W32>=CV$5 -> FALSE | CX32: =X32>=CW$5 -> FALSE | CY32: =Y32>=CX$5 -> TRUE | DC32: =COUNTIF(CW32:DA32,TRUE) -> 1 | DD32: =W32>=DC$5 -> FALSE | DE32: =X32>=DD$5 -> FALSE | DF32: =Y32>=DE$5 -> TRUE | DK32: =COUNTIF(DD32:DJ32,TRUE) -> 1 | DM32: =IF($F32="","",IF(AND(DK32=$CW$3,DK32-DC32<=$DD$3),1,0)) -> 0
B33: =IF(F33="","",ROW()-30) -> 3 | F33: אבי קייזר וסרג'יו אנטוניניו | G33: 1 | H33: 1 | I33: 1 | J33: 1 | K33: 1 | L33: 1 | M33: 1 | N33: 1 | O33: 1 | P33: 1 | Q33: 1 | R33: 1 | S33: 0 | T33: 1 | U33: 1 | V33: 1 | W33: 1 | X33: 1 | Y33: 1 | Z33: =IF(F33="","",IF(AND(S33=1,T33=1),$AS$1,IF(OR(S33=1,AND(T33=1,U33=1,V33=1,W33=1,X33=1,Y33=1)),1,0))) -> 1 | AA33: 1 | AF33: =IF($F33="","",IF(OR(DL33=1,AND(DM33=1,AA33=1)),1,0)) -> 0 | AG33: 1 | AH33: =IF(F33="","",IF(AA33=1,1,IF(AND(AB33="לא",SUM(AC33:AD33)=2),1,IF(AND(AB33="כן",SUM(AC33:AE33)=3),1,0)))) -> 1 | AK33: =IF(F33="","",IF(G33>=$G$5,1,0)) -> 1 | AP33: =IF($F33="","",IF(AL33=1,1,IF(AR33<>1,$AS$1,IF(SUMPRODUCT(--(G33:AK33>=$G$5:$AK$5)*($G$5:$AK$5<>"")*($G$4:$AK$4=1))=COUNTIF($G$4:$AK$4,1),1,0)))) -> 1 | AR33: =IF(OR(SUM(AU33:CC33)<>COUNT(AU33:CC33),SUMPRODUCT(--(G33:AK33=$AS$1))<>0),0,1) -> 1 | AS33: =IF($F33="","",AS$30) -> 0 | AT33: =IF($F33="","",AT$30) -> 1 | AU33: =IF(OR(G$30="",G$4=99),1,IF(G33="",0,IFERROR(CHOOSE(AU$28,IF(ISNA(MATCH(G33,$AS$30:$AT$30,0)),0,1),IF(ISNUMBER(G33),1,0),IF(G33=TRUNC(G33),1,0),IF(AND(G33*1=G33,G33>=0),1,0),IF(AND(G33=TRUNC(G33),G33>=0),1,0),IF(AND(G33*1=G33,G33>0),1,0),IF(AND(G33=TRUNC(G33),G33>0),1,0),1,IF(ISNA(HLOOKUP(G33,$AV$4:$BE$4,1,0)),0,1)),0))) -> 1 | AV33: =IF(OR(H$30="",H$4=99),1,IF(H33="",0,IFERROR(CHOOSE(AV$28,IF(ISNA(MATCH(H33,$AS$30:$AT$30,0)),0,1),IF(ISNUMBER(H33),1,0),IF(H33=TRUNC(H33),1,0),IF(AND(H33*1=H33,H33>=0),1,0),IF(AND(H33=TRUNC(H33),H33>=0),1,0),IF(AND(H33*1=H33,H33>0),1,0),IF(AND(H33=TRUNC(H33),H33>0),1,0),1,IF(ISNA(HLOOKUP(H33,$AV$4:$BE$4,1,0)),0,1)),0))) -> 1 | AW33: =IF(OR(I$30="",I$4=99),1,IF(I33="",0,IFERROR(CHOOSE(AW$28,IF(ISNA(MATCH(I33,$AS$30:$AT$30,0)),0,1),IF(ISNUMBER(I33),1,0),IF(I33=TRUNC(I33),1,0),IF(AND(I33*1=I33,I33>=0),1,0),IF(AND(I33=TRUNC(I33),I33>=0),1,0),IF(AND(I33*1=I33,I33>0),1,0),IF(AND(I33=TRUNC(I33),I33>0),1,0),1,IF(ISNA(HLOOKUP(I33,$AV$4:$BE$4,1,0)),0,1)),0))) -> 1 | AX33: =IF(OR(J$30="",J$4=99),1,IF(J33="",0,IFERROR(CHOOSE(AX$28,IF(ISNA(MATCH(J33,$AS$30:$AT$30,0)),0,1),IF(ISNUMBER(J33),1,0),IF(J33=TRUNC(J33),1,0),IF(AND(J33*1=J33,J33>=0),1,0),IF(AND(J33=TRUNC(J33),J33>=0),1,0),IF(AND(J33*1=J33,J33>0),1,0),IF(AND(J33=TRUNC(J33),J33>0),1,0),1,IF(ISNA(HLOOKUP(J33,$AV$4:$BE$4,1,0)),0,1)),0))) -> 1 | AY33: =IF(OR(K$30="",K$4=99),1,IF(K33="",0,IFERROR(CHOOSE(AY$28,IF(ISNA(MATCH(K33,$AS$30:$AT$30,0)),0,1),IF(ISNUMBER(K33),1,0),IF(K33=TRUNC(K33),1,0),IF(AND(K33*1=K33,K33>=0),1,0),IF(AND(K33=TRUNC(K33),K33>=0),1,0),IF(AND(K33*1=K33,K33>0),1,0),IF(AND(K33=TRUNC(K33),K33>0),1,0),1,IF(ISNA(HLOOKUP(K33,$AV$4:$BE$4,1,0)),0,1)),0))) -> 1 | AZ33: =IF(OR(L$30="",L$4=99),1,IF(L33="",0,IFERROR(CHOOSE(AZ$28,IF(ISNA(MATCH(L33,$AS$30:$AT$30,0)),0,1),IF(ISNUMBER(L33),1,0),IF(L33=TRUNC(L33),1,0),IF(AND(L33*1=L33,L33>=0),1,0),IF(AND(L33=TRUNC(L33),L33>=0),1,0),IF(AND(L33*1=L33,L33>0),1,0),IF(AND(L33=TRUNC(L33),L33>0),1,0),1,IF(ISNA(HLOOKUP(L33,$AV$4:$BE$4,1,0)),0,1)),0))) -> 1 | BA33: =IF(OR(M$30="",M$4=99),1,IF(M33="",0,IFERROR(CHOOSE(BA$28,IF(ISNA(MATCH(M33,$AS$30:$AT$30,0)),0,1),IF(ISNUMBER(M33),1,0),IF(M33=TRUNC(M33),1,0),IF(AND(M33*1=M33,M33>=0),1,0),IF(AND(M33=TRUNC(M33),M33>=0),1,0),IF(AND(M33*1=M33,M33>0),1,0),IF(AND(M33=TRUNC(M33),M33>0),1,0),1,IF(ISNA(HLOOKUP(M33,$AV$4:$BE$4,1,0)),0,1)),0))) -> 1 | BB33: =IF(OR(N$30="",N$4=99),1,IF(N33="",0,IFERROR(CHOOSE(BB$28,IF(ISNA(MATCH(N33,$AS$30:$AT$30,0)),0,1),IF(ISNUMBER(N33),1,0),IF(N33=TRUNC(N33),1,0),IF(AND(N33*1=N33,N33>=0),1,0),IF(AND(N33=TRUNC(N33),N33>=0),1,0),IF(AND(N33*1=N33,N33>0),1,0),IF(AND(N33=TRUNC(N33),N33>0),1,0),1,IF(ISNA(HLOOKUP(N33,$AV$4:$BE$4,1,0)),0,1)),0))) -> 1 | ... BF33: =IF(OR(R$30="",R$4=99),1,IF(R33="",0,IFERROR(CHOOSE(BF$28,IF(ISNA(MATCH(R33,$AS$30:$AT$30,0)),0,1),IF(ISNUMBER(R33),1,0),IF(R33=TRUNC(R33),1,0),IF(AND(R33*1=R33,R33>=0),1,0),IF(AND(R33=TRUNC(R33),R33>=0),1,0),IF(AND(R33*1=R33,R33>0),1,0),IF(AND(R33=TRUNC(R33),R33>0),1,0),1,IF(ISNA(HLOOKUP(R33,$AV$4:$BE$4,1,0)),0,1)),0))) -> 1 | BG33: =IF(OR(S$30="",S$4=99),1,IF(S33="",0,IFERROR(CHOOSE(BF$28,IF(ISNA(MATCH(S33,$AS$30:$AT$30,0)),0,1),IF(ISNUMBER(S33),1,0),IF(S33=TRUNC(S33),1,0),IF(AND(S33*1=S33,S33>=0),1,0),IF(AND(S33=TRUNC(S33),S33>=0),1,0),IF(AND(S33*1=S33,S33>0),1,0),IF(AND(S33=TRUNC(S33),S33>0),1,0),1,IF(ISNA(HLOOKUP(S33,$AV$4:$BE$4,1,0)),0,1)),0))) -> 1 | BH33: =IF(OR(T$30="",T$4=99),1,IF(T33="",0,IFERROR(CHOOSE(BG$28,IF(ISNA(MATCH(T33,$AS$30:$AT$30,0)),0,1),IF(ISNUMBER(T33),1,0),IF(T33=TRUNC(T33),1,0),IF(AND(T33*1=T33,T33>=0),1,0),IF(AND(T33=TRUNC(T33),T33>=0),1,0),IF(AND(T33*1=T33,T33>0),1,0),IF(AND(T33=TRUNC(T33),T33>0),1,0),1,IF(ISNA(HLOOKUP(T33,$AV$4:$BE$4,1,0)),0,1)),0))) -> 1 | BI33: =IF(OR(U$30="",U$4=99),1,IF(U33="",0,IFERROR(CHOOSE(BH$28,IF(ISNA(MATCH(U33,$AS$30:$AT$30,0)),0,1),IF(ISNUMBER(U33),1,0),IF(U33=TRUNC(U33),1,0),IF(AND(U33*1=U33,U33>=0),1,0),IF(AND(U33=TRUNC(U33),U33>=0),1,0),IF(AND(U33*1=U33,U33>0),1,0),IF(AND(U33=TRUNC(U33),U33>0),1,0),1,IF(ISNA(HLOOKUP(U33,$AV$4:$BE$4,1,0)),0,1)),0))) -> 1 | BJ33: =IF(OR(V$30="",V$4=99),1,IF(V33="",0,IFERROR(CHOOSE(BI$28,IF(ISNA(MATCH(V33,$AS$30:$AT$30,0)),0,1),IF(ISNUMBER(V33),1,0),IF(V33=TRUNC(V33),1,0),IF(AND(V33*1=V33,V33>=0),1,0),IF(AND(V33=TRUNC(V33),V33>=0),1,0),IF(AND(V33*1=V33,V33>0),1,0),IF(AND(V33=TRUNC(V33),V33>0),1,0),1,IF(ISNA(HLOOKUP(V33,$AV$4:$BE$4,1,0)),0,1)),0))) -> 1 | BK33: =IF(OR(W$30="",W$4=99),1,IF(W33="",0,IFERROR(CHOOSE(BJ$28,IF(ISNA(MATCH(W33,$AS$30:$AT$30,0)),0,1),IF(ISNUMBER(W33),1,0),IF(W33=TRUNC(W33),1,0),IF(AND(W33*1=W33,W33>=0),1,0),IF(AND(W33=TRUNC(W33),W33>=0),1,0),IF(AND(W33*1=W33,W33>0),1,0),IF(AND(W33=TRUNC(W33),W33>0),1,0),1,IF(ISNA(HLOOKUP(W33,$AV$4:$BE$4,1,0)),0,1)),0))) -> 1 | BL33: =IF(OR(X$30="",X$4=99),1,IF(X33="",0,IFERROR(CHOOSE(BK$28,IF(ISNA(MATCH(X33,$AS$30:$AT$30,0)),0,1),IF(ISNUMBER(X33),1,0),IF(X33=TRUNC(X33),1,0),IF(AND(X33*1=X33,X33>=0),1,0),IF(AND(X33=TRUNC(X33),X33>=0),1,0),IF(AND(X33*1=X33,X33>0),1,0),IF(AND(X33=TRUNC(X33),X33>0),1,0),1,IF(ISNA(HLOOKUP(X33,$AV$4:$BE$4,1,0)),0,1)),0))) -> 1 | BM33: =IF(OR(Y$30="",Y$4=99),1,IF(Y33="",0,IFERROR(CHOOSE(BL$28,IF(ISNA(MATCH(Y33,$AS$30:$AT$30,0)),0,1),IF(ISNUMBER(Y33),1,0),IF(Y33=TRUNC(Y33),1,0),IF(AND(Y33*1=Y33,Y33>=0),1,0),IF(AND(Y33=TRUNC(Y33),Y33>=0),1,0),IF(AND(Y33*1=Y33,Y33>0),1,0),IF(AND(Y33=TRUNC(Y33),Y33>0),1,0),1,IF(ISNA(HLOOKUP(Y33,$AV$4:$BE$4,1,0)),0,1)),0))) -> 1 | BN33: =IF(OR(Z$30="",Z$4=99),1,IF(Z33="",0,IFERROR(CHOOSE(BM$28,IF(ISNA(MATCH(Z33,$AS$30:$AT$30,0)),0,1),IF(ISNUMBER(Z33),1,0),IF(Z33=TRUNC(Z33),1,0),IF(AND(Z33*1=Z33,Z33>=0),1,0),IF(AND(Z33=TRUNC(Z33),Z33>=0),1,0),IF(AND(Z33*1=Z33,Z33>0),1,0),IF(AND(Z33=TRUNC(Z33),Z33>0),1,0),1,IF(ISNA(HLOOKUP(Z33,$AV$4:$BE$4,1,0)),0,1)),0))) -> 1 | ... BT33: =IF(OR(AF$30="",AF$4=99),1,IF(AF33="",0,IFERROR(CHOOSE(BS$28,IF(ISNA(MATCH(AF33,$AS$30:$AT$30,0)),0,1),IF(ISNUMBER(AF33),1,0),IF(AF33=TRUNC(AF33),1,0),IF(AND(AF33*1=AF33,AF33>=0),1,0),IF(AND(AF33=TRUNC(AF33),AF33>=0),1,0),IF(AND(AF33*1=AF33,AF33>0),1,0),IF(AND(AF33=TRUNC(AF33),AF33>0),1,0),1,IF(ISNA(HLOOKUP(AF33,$AV$4:$BE$4,1,0)),0,1)),0))) -> 1 | BU33: =IF(OR(AH$30="",AH$4=99),1,IF(AH33="",0,IFERROR(CHOOSE(BT$28,IF(ISNA(MATCH(AH33,$AS$30:$AT$30,0)),0,1),IF(ISNUMBER(AH33),1,0),IF(AH33=TRUNC(AH33),1,0),IF(AND(AH33*1=AH33,AH33>=0),1,0),IF(AND(AH33=TRUNC(AH33),AH33>=0),1,0),IF(AND(AH33*1=AH33,AH33>0),1,0),IF(AND(AH33=TRUNC(AH33),AH33>0),1,0),1,IF(ISNA(HLOOKUP(AH33,$AV$4:$BE$4,1,0)),0,1)),0))) -> 1 | BV33: =IF(OR(AI$30="",AI$4=99),1,IF(AI33="",0,IFERROR(CHOOSE(BU$28,IF(ISNA(MATCH(AI33,$AS$30:$AT$30,0)),0,1),IF(ISNUMBER(AI33),1,0),IF(AI33=TRUNC(AI33),1,0),IF(AND(AI33*1=AI33,AI33>=0),1,0),IF(AND(AI33=TRUNC(AI33),AI33>=0),1,0),IF(AND(AI33*1=AI33,AI33>0),1,0),IF(AND(AI33=TRUNC(AI33),AI33>0),1,0),1,IF(ISNA(HLOOKUP(AI33,$AV$4:$BE$4,1,0)),0,1)),0))) -> 1 | BW33: =IF(OR(AJ$30="",AJ$4=99),1,IF(AJ33="",0,IFERROR(CHOOSE(BV$28,IF(ISNA(MATCH(AJ33,$AS$30:$AT$30,0)),0,1),IF(ISNUMBER(AJ33),1,0),IF(AJ33=TRUNC(AJ33),1,0),IF(AND(AJ33*1=AJ33,AJ33>=0),1,0),IF(AND(AJ33=TRUNC(AJ33),AJ33>=0),1,0),IF(AND(AJ33*1=AJ33,AJ33>0),1,0),IF(AND(AJ33=TRUNC(AJ33),AJ33>0),1,0),1,IF(ISNA(HLOOKUP(AJ33,$AV$4:$BE$4,1,0)),0,1)),0))) -> 1 | BX33: =IF(OR(AK$30="",AK$4=99),1,IF(AK33="",0,IFERROR(CHOOSE(BW$28,IF(ISNA(MATCH(AK33,$AS$30:$AT$30,0)),0,1),IF(ISNUMBER(AK33),1,0),IF(AK33=TRUNC(AK33),1,0),IF(AND(AK33*1=AK33,AK33>=0),1,0),IF(AND(AK33=TRUNC(AK33),AK33>=0),1,0),IF(AND(AK33*1=AK33,AK33>0),1,0),IF(AND(AK33=TRUNC(AK33),AK33>0),1,0),1,IF(ISNA(HLOOKUP(AK33,$AV$4:$BE$4,1,0)),0,1)),0))) -> 1 | BY33: =IF(OR(AL$30="",AL$4=99),1,IF(AL33="",0,IFERROR(CHOOSE(BX$28,IF(ISNA(MATCH(AL33,$AS$30:$AT$30,0)),0,1),IF(ISNUMBER(AL33),1,0),IF(AL33=TRUNC(AL33),1,0),IF(AND(AL33*1=AL33,AL33>=0),1,0),IF(AND(AL33=TRUNC(AL33),AL33>=0),1,0),IF(AND(AL33*1=AL33,AL33>0),1,0),IF(AND(AL33=TRUNC(AL33),AL33>0),1,0),1,IF(ISNA(HLOOKUP(AL33,$AV$4:$BE$4,1,0)),0,1)),0))) -> 1 | BZ33: =IF(OR(AM$30="",AM$4=99),1,IF(AM33="",0,IFERROR(CHOOSE(BY$28,IF(ISNA(MATCH(AM33,$AS$30:$AT$30,0)),0,1),IF(ISNUMBER(AM33),1,0),IF(AM33=TRUNC(AM33),1,0),IF(AND(AM33*1=AM33,AM33>=0),1,0),IF(AND(AM33=TRUNC(AM33),AM33>=0),1,0),IF(AND(AM33*1=AM33,AM33>0),1,0),IF(AND(AM33=TRUNC(AM33),AM33>0),1,0),1,IF(ISNA(HLOOKUP(AM33,$AV$4:$BE$4,1,0)),0,1)),0))) -> 1 | CA33: =IF(OR(AN$30="",AN$4=99),1,IF(AN33="",0,IFERROR(CHOOSE(BZ$28,IF(ISNA(MATCH(AN33,$AS$30:$AT$30,0)),0,1),IF(ISNUMBER(AN33),1,0),IF(AN33=TRUNC(AN33),1,0),IF(AND(AN33*1=AN33,AN33>=0),1,0),IF(AND(AN33=TRUNC(AN33),AN33>=0),1,0),IF(AND(AN33*1=AN33,AN33>0),1,0),IF(AND(AN33=TRUNC(AN33),AN33>0),1,0),1,IF(ISNA(HLOOKUP(AN33,$AV$4:$BE$4,1,0)),0,1)),0))) -> 1 | CB33: =IF(OR(AO$30="",AO$4=99),1,IF(AO33="",0,IFERROR(CHOOSE(CA$28,IF(ISNA(MATCH(AO33,$AS$30:$AT$30,0)),0,1),IF(ISNUMBER(AO33),1,0),IF(AO33=TRUNC(AO33),1,0),IF(AND(AO33*1=AO33,AO33>=0),1,0),IF(AND(AO33=TRUNC(AO33),AO33>=0),1,0),IF(AND(AO33*1=AO33,AO33>0),1,0),IF(AND(AO33=TRUNC(AO33),AO33>0),1,0),1,IF(ISNA(HLOOKUP(AO33,$AV$4:$BE$4,1,0)),0,1)),0))) -> 1 | CC33: =IF(OR(AP$30="",AP$4=99),1,IF(AP33="",0,IFERROR(CHOOSE(CB$28,IF(ISNA(MATCH(AP33,$AS$30:$AT$30,0)),0,1),IF(ISNUMBER(AP33),1,0),IF(AP33=TRUNC(AP33),1,0),IF(AND(AP33*1=AP33,AP33>=0),1,0),IF(AND(AP33=TRUNC(AP33),AP33>=0),1,0),IF(AND(AP33*1=AP33,AP33>0),1,0),IF(AND(AP33=TRUNC(AP33),AP33>0),1,0),1,IF(ISNA(HLOOKUP(AP33,$AV$4:$BE$4,1,0)),0,1)),0))) -> 1 | CH33: =IF($F33="","",CH$30) -> 1 | CI33: =IF($F33="","",CI$30) -> 2 | CJ33: =IF($F33="","",CJ$30) -> 3 | CK33: =IF($F33="","",CK$30) -> 4 | CL33: =IF($F33="","",CL$30) -> 5 | CM33: =IF($F33="","",CM$30) -> 6 | CN33: =IF($F33="","",CN$30) -> 7 | CO33: =IF($F33="","",CO$30) -> 8 | ... CQ33: =IF($F33="","",CQ$30) -> 10 | CW33: =W33>=CV$5 -> TRUE | CX33: =X33>=CW$5 -> FALSE | CY33: =Y33>=CX$5 -> TRUE | DC33: =COUNTIF(CW33:DA33,TRUE) -> 2 | DD33: =W33>=DC$5 -> TRUE | DE33: =X33>=DD$5 -> FALSE | DF33: =Y33>=DE$5 -> TRUE | DK33: =COUNTIF(DD33:DJ33,TRUE) -> 2 | DM33: =IF($F33="","",IF(AND(DK33=$CW$3,DK33-DC33<=$DD$3),1,0)) -> 0
B34: =IF(F34="","",ROW()-30) | Z34: =IF(F34="","",IF(AND(S34=1,T34=1),$AS$1,IF(OR(S34=1,AND(T34=1,U34=1,V34=1,W34=1,X34=1,Y34=1)),1,0))) | AF34: =IF($F34="","",IF(OR(DL34=1,AND(DM34=1,AA34=1)),1,0)) | AH34: =IF(F34="","",IF(AA34=1,1,IF(AND(AB34="לא",SUM(AC34:AD34)=2),1,IF(AND(AB34="כן",SUM(AC34:AE34)=3),1,0)))) | AK34: =IF(F34="","",IF(G34>=$G$5,1,0)) | AP34: =IF($F34="","",IF(AL34=1,1,IF(AR34<>1,$AS$1,IF(SUMPRODUCT(--(G34:AK34>=$G$5:$AK$5)*($G$5:$AK$5<>"")*($G$4:$AK$4=1))=COUNTIF($G$4:$AK$4,1),1,0)))) | AR34: =IF(OR(SUM(AU34:CC34)<>COUNT(AU34:CC34),SUMPRODUCT(--(G34:AK34=$AS$1))<>0),0,1) -> 0 | AS34: =IF($F34="","",AS$30) | AT34: =IF($F34="","",AT$30) | AU34: =IF(OR(G$30="",G$4=99),1,IF(G34="",0,IFERROR(CHOOSE(AU$28,IF(ISNA(MATCH(G34,$AS$30:$AT$30,0)),0,1),IF(ISNUMBER(G34),1,0),IF(G34=TRUNC(G34),1,0),IF(AND(G34*1=G34,G34>=0),1,0),IF(AND(G34=TRUNC(G34),G34>=0),1,0),IF(AND(G34*1=G34,G34>0),1,0),IF(AND(G34=TRUNC(G34),G34>0),1,0),1,IF(ISNA(HLOOKUP(G34,$AV$4:$BE$4,1,0)),0,1)),0))) -> 0 | AV34: =IF(OR(H$30="",H$4=99),1,IF(H34="",0,IFERROR(CHOOSE(AV$28,IF(ISNA(MATCH(H34,$AS$30:$AT$30,0)),0,1),IF(ISNUMBER(H34),1,0),IF(H34=TRUNC(H34),1,0),IF(AND(H34*1=H34,H34>=0),1,0),IF(AND(H34=TRUNC(H34),H34>=0),1,0),IF(AND(H34*1=H34,H34>0),1,0),IF(AND(H34=TRUNC(H34),H34>0),1,0),1,IF(ISNA(HLOOKUP(H34,$AV$4:$BE$4,1,0)),0,1)),0))) -> 0 | AW34: =IF(OR(I$30="",I$4=99),1,IF(I34="",0,IFERROR(CHOOSE(AW$28,IF(ISNA(MATCH(I34,$AS$30:$AT$30,0)),0,1),IF(ISNUMBER(I34),1,0),IF(I34=TRUNC(I34),1,0),IF(AND(I34*1=I34,I34>=0),1,0),IF(AND(I34=TRUNC(I34),I34>=0),1,0),IF(AND(I34*1=I34,I34>0),1,0),IF(AND(I34=TRUNC(I34),I34>0),1,0),1,IF(ISNA(HLOOKUP(I34,$AV$4:$BE$4,1,0)),0,1)),0))) -> 0 | AX34: =IF(OR(J$30="",J$4=99),1,IF(J34="",0,IFERROR(CHOOSE(AX$28,IF(ISNA(MATCH(J34,$AS$30:$AT$30,0)),0,1),IF(ISNUMBER(J34),1,0),IF(J34=TRUNC(J34),1,0),IF(AND(J34*1=J34,J34>=0),1,0),IF(AND(J34=TRUNC(J34),J34>=0),1,0),IF(AND(J34*1=J34,J34>0),1,0),IF(AND(J34=TRUNC(J34),J34>0),1,0),1,IF(ISNA(HLOOKUP(J34,$AV$4:$BE$4,1,0)),0,1)),0))) -> 0 | AY34: =IF(OR(K$30="",K$4=99),1,IF(K34="",0,IFERROR(CHOOSE(AY$28,IF(ISNA(MATCH(K34,$AS$30:$AT$30,0)),0,1),IF(ISNUMBER(K34),1,0),IF(K34=TRUNC(K34),1,0),IF(AND(K34*1=K34,K34>=0),1,0),IF(AND(K34=TRUNC(K34),K34>=0),1,0),IF(AND(K34*1=K34,K34>0),1,0),IF(AND(K34=TRUNC(K34),K34>0),1,0),1,IF(ISNA(HLOOKUP(K34,$AV$4:$BE$4,1,0)),0,1)),0))) -> 0 | AZ34: =IF(OR(L$30="",L$4=99),1,IF(L34="",0,IFERROR(CHOOSE(AZ$28,IF(ISNA(MATCH(L34,$AS$30:$AT$30,0)),0,1),IF(ISNUMBER(L34),1,0),IF(L34=TRUNC(L34),1,0),IF(AND(L34*1=L34,L34>=0),1,0),IF(AND(L34=TRUNC(L34),L34>=0),1,0),IF(AND(L34*1=L34,L34>0),1,0),IF(AND(L34=TRUNC(L34),L34>0),1,0),1,IF(ISNA(HLOOKUP(L34,$AV$4:$BE$4,1,0)),0,1)),0))) -> 0 | BA34: =IF(OR(M$30="",M$4=99),1,IF(M34="",0,IFERROR(CHOOSE(BA$28,IF(ISNA(MATCH(M34,$AS$30:$AT$30,0)),0,1),IF(ISNUMBER(M34),1,0),IF(M34=TRUNC(M34),1,0),IF(AND(M34*1=M34,M34>=0),1,0),IF(AND(M34=TRUNC(M34),M34>=0),1,0),IF(AND(M34*1=M34,M34>0),1,0),IF(AND(M34=TRUNC(M34),M34>0),1,0),1,IF(ISNA(HLOOKUP(M34,$AV$4:$BE$4,1,0)),0,1)),0))) -> 0 | BB34: =IF(OR(N$30="",N$4=99),1,IF(N34="",0,IFERROR(CHOOSE(BB$28,IF(ISNA(MATCH(N34,$AS$30:$AT$30,0)),0,1),IF(ISNUMBER(N34),1,0),IF(N34=TRUNC(N34),1,0),IF(AND(N34*1=N34,N34>=0),1,0),IF(AND(N34=TRUNC(N34),N34>=0),1,0),IF(AND(N34*1=N34,N34>0),1,0),IF(AND(N34=TRUNC(N34),N34>0),1,0),1,IF(ISNA(HLOOKUP(N34,$AV$4:$BE$4,1,0)),0,1)),0))) -> 0 | ... BF34: =IF(OR(R$30="",R$4=99),1,IF(R34="",0,IFERROR(CHOOSE(BF$28,IF(ISNA(MATCH(R34,$AS$30:$AT$30,0)),0,1),IF(ISNUMBER(R34),1,0),IF(R34=TRUNC(R34),1,0),IF(AND(R34*1=R34,R34>=0),1,0),IF(AND(R34=TRUNC(R34),R34>=0),1,0),IF(AND(R34*1=R34,R34>0),1,0),IF(AND(R34=TRUNC(R34),R34>0),1,0),1,IF(ISNA(HLOOKUP(R34,$AV$4:$BE$4,1,0)),0,1)),0))) -> 0 | BG34: =IF(OR(S$30="",S$4=99),1,IF(S34="",0,IFERROR(CHOOSE(BF$28,IF(ISNA(MATCH(S34,$AS$30:$AT$30,0)),0,1),IF(ISNUMBER(S34),1,0),IF(S34=TRUNC(S34),1,0),IF(AND(S34*1=S34,S34>=0),1,0),IF(AND(S34=TRUNC(S34),S34>=0),1,0),IF(AND(S34*1=S34,S34>0),1,0),IF(AND(S34=TRUNC(S34),S34>0),1,0),1,IF(ISNA(HLOOKUP(S34,$AV$4:$BE$4,1,0)),0,1)),0))) -> 0 | BH34: =IF(OR(T$30="",T$4=99),1,IF(T34="",0,IFERROR(CHOOSE(BG$28,IF(ISNA(MATCH(T34,$AS$30:$AT$30,0)),0,1),IF(ISNUMBER(T34),1,0),IF(T34=TRUNC(T34),1,0),IF(AND(T34*1=T34,T34>=0),1,0),IF(AND(T34=TRUNC(T34),T34>=0),1,0),IF(AND(T34*1=T34,T34>0),1,0),IF(AND(T34=TRUNC(T34),T34>0),1,0),1,IF(ISNA(HLOOKUP(T34,$AV$4:$BE$4,1,0)),0,1)),0))) -> 0 | BI34: =IF(OR(U$30="",U$4=99),1,IF(U34="",0,IFERROR(CHOOSE(BH$28,IF(ISNA(MATCH(U34,$AS$30:$AT$30,0)),0,1),IF(ISNUMBER(U34),1,0),IF(U34=TRUNC(U34),1,0),IF(AND(U34*1=U34,U34>=0),1,0),IF(AND(U34=TRUNC(U34),U34>=0),1,0),IF(AND(U34*1=U34,U34>0),1,0),IF(AND(U34=TRUNC(U34),U34>0),1,0),1,IF(ISNA(HLOOKUP(U34,$AV$4:$BE$4,1,0)),0,1)),0))) -> 0 | BJ34: =IF(OR(V$30="",V$4=99),1,IF(V34="",0,IFERROR(CHOOSE(BI$28,IF(ISNA(MATCH(V34,$AS$30:$AT$30,0)),0,1),IF(ISNUMBER(V34),1,0),IF(V34=TRUNC(V34),1,0),IF(AND(V34*1=V34,V34>=0),1,0),IF(AND(V34=TRUNC(V34),V34>=0),1,0),IF(AND(V34*1=V34,V34>0),1,0),IF(AND(V34=TRUNC(V34),V34>0),1,0),1,IF(ISNA(HLOOKUP(V34,$AV$4:$BE$4,1,0)),0,1)),0))) -> 0 | BK34: =IF(OR(W$30="",W$4=99),1,IF(W34="",0,IFERROR(CHOOSE(BJ$28,IF(ISNA(MATCH(W34,$AS$30:$AT$30,0)),0,1),IF(ISNUMBER(W34),1,0),IF(W34=TRUNC(W34),1,0),IF(AND(W34*1=W34,W34>=0),1,0),IF(AND(W34=TRUNC(W34),W34>=0),1,0),IF(AND(W34*1=W34,W34>0),1,0),IF(AND(W34=TRUNC(W34),W34>0),1,0),1,IF(ISNA(HLOOKUP(W34,$AV$4:$BE$4,1,0)),0,1)),0))) -> 0 | BL34: =IF(OR(X$30="",X$4=99),1,IF(X34="",0,IFERROR(CHOOSE(BK$28,IF(ISNA(MATCH(X34,$AS$30:$AT$30,0)),0,1),IF(ISNUMBER(X34),1,0),IF(X34=TRUNC(X34),1,0),IF(AND(X34*1=X34,X34>=0),1,0),IF(AND(X34=TRUNC(X34),X34>=0),1,0),IF(AND(X34*1=X34,X34>0),1,0),IF(AND(X34=TRUNC(X34),X34>0),1,0),1,IF(ISNA(HLOOKUP(X34,$AV$4:$BE$4,1,0)),0,1)),0))) -> 0 | BM34: =IF(OR(Y$30="",Y$4=99),1,IF(Y34="",0,IFERROR(CHOOSE(BL$28,IF(ISNA(MATCH(Y34,$AS$30:$AT$30,0)),0,1),IF(ISNUMBER(Y34),1,0),IF(Y34=TRUNC(Y34),1,0),IF(AND(Y34*1=Y34,Y34>=0),1,0),IF(AND(Y34=TRUNC(Y34),Y34>=0),1,0),IF(AND(Y34*1=Y34,Y34>0),1,0),IF(AND(Y34=TRUNC(Y34),Y34>0),1,0),1,IF(ISNA(HLOOKUP(Y34,$AV$4:$BE$4,1,0)),0,1)),0))) -> 0 | BN34: =IF(OR(Z$30="",Z$4=99),1,IF(Z34="",0,IFERROR(CHOOSE(BM$28,IF(ISNA(MATCH(Z34,$AS$30:$AT$30,0)),0,1),IF(ISNUMBER(Z34),1,0),IF(Z34=TRUNC(Z34),1,0),IF(AND(Z34*1=Z34,Z34>=0),1,0),IF(AND(Z34=TRUNC(Z34),Z34>=0),1,0),IF(AND(Z34*1=Z34,Z34>0),1,0),IF(AND(Z34=TRUNC(Z34),Z34>0),1,0),1,IF(ISNA(HLOOKUP(Z34,$AV$4:$BE$4,1,0)),0,1)),0))) -> 1 | ... BT34: =IF(OR(AF$30="",AF$4=99),1,IF(AF34="",0,IFERROR(CHOOSE(BS$28,IF(ISNA(MATCH(AF34,$AS$30:$AT$30,0)),0,1),IF(ISNUMBER(AF34),1,0),IF(AF34=TRUNC(AF34),1,0),IF(AND(AF34*1=AF34,AF34>=0),1,0),IF(AND(AF34=TRUNC(AF34),AF34>=0),1,0),IF(AND(AF34*1=AF34,AF34>0),1,0),IF(AND(AF34=TRUNC(AF34),AF34>0),1,0),1,IF(ISNA(HLOOKUP(AF34,$AV$4:$BE$4,1,0)),0,1)),0))) -> 1 | BU34: =IF(OR(AH$30="",AH$4=99),1,IF(AH34="",0,IFERROR(CHOOSE(BT$28,IF(ISNA(MATCH(AH34,$AS$30:$AT$30,0)),0,1),IF(ISNUMBER(AH34),1,0),IF(AH34=TRUNC(AH34),1,0),IF(AND(AH34*1=AH34,AH34>=0),1,0),IF(AND(AH34=TRUNC(AH34),AH34>=0),1,0),IF(AND(AH34*1=AH34,AH34>0),1,0),IF(AND(AH34=TRUNC(AH34),AH34>0),1,0),1,IF(ISNA(HLOOKUP(AH34,$AV$4:$BE$4,1,0)),0,1)),0))) -> 1 | BV34: =IF(OR(AI$30="",AI$4=99),1,IF(AI34="",0,IFERROR(CHOOSE(BU$28,IF(ISNA(MATCH(AI34,$AS$30:$AT$30,0)),0,1),IF(ISNUMBER(AI34),1,0),IF(AI34=TRUNC(AI34),1,0),IF(AND(AI34*1=AI34,AI34>=0),1,0),IF(AND(AI34=TRUNC(AI34),AI34>=0),1,0),IF(AND(AI34*1=AI34,AI34>0),1,0),IF(AND(AI34=TRUNC(AI34),AI34>0),1,0),1,IF(ISNA(HLOOKUP(AI34,$AV$4:$BE$4,1,0)),0,1)),0))) -> 1 | BW34: =IF(OR(AJ$30="",AJ$4=99),1,IF(AJ34="",0,IFERROR(CHOOSE(BV$28,IF(ISNA(MATCH(AJ34,$AS$30:$AT$30,0)),0,1),IF(ISNUMBER(AJ34),1,0),IF(AJ34=TRUNC(AJ34),1,0),IF(AND(AJ34*1=AJ34,AJ34>=0),1,0),IF(AND(AJ34=TRUNC(AJ34),AJ34>=0),1,0),IF(AND(AJ34*1=AJ34,AJ34>0),1,0),IF(AND(AJ34=TRUNC(AJ34),AJ34>0),1,0),1,IF(ISNA(HLOOKUP(AJ34,$AV$4:$BE$4,1,0)),0,1)),0))) -> 1 | BX34: =IF(OR(AK$30="",AK$4=99),1,IF(AK34="",0,IFERROR(CHOOSE(BW$28,IF(ISNA(MATCH(AK34,$AS$30:$AT$30,0)),0,1),IF(ISNUMBER(AK34),1,0),IF(AK34=TRUNC(AK34),1,0),IF(AND(AK34*1=AK34,AK34>=0),1,0),IF(AND(AK34=TRUNC(AK34),AK34>=0),1,0),IF(AND(AK34*1=AK34,AK34>0),1,0),IF(AND(AK34=TRUNC(AK34),AK34>0),1,0),1,IF(ISNA(HLOOKUP(AK34,$AV$4:$BE$4,1,0)),0,1)),0))) -> 1 | BY34: =IF(OR(AL$30="",AL$4=99),1,IF(AL34="",0,IFERROR(CHOOSE(BX$28,IF(ISNA(MATCH(AL34,$AS$30:$AT$30,0)),0,1),IF(ISNUMBER(AL34),1,0),IF(AL34=TRUNC(AL34),1,0),IF(AND(AL34*1=AL34,AL34>=0),1,0),IF(AND(AL34=TRUNC(AL34),AL34>=0),1,0),IF(AND(AL34*1=AL34,AL34>0),1,0),IF(AND(AL34=TRUNC(AL34),AL34>0),1,0),1,IF(ISNA(HLOOKUP(AL34,$AV$4:$BE$4,1,0)),0,1)),0))) -> 1 | BZ34: =IF(OR(AM$30="",AM$4=99),1,IF(AM34="",0,IFERROR(CHOOSE(BY$28,IF(ISNA(MATCH(AM34,$AS$30:$AT$30,0)),0,1),IF(ISNUMBER(AM34),1,0),IF(AM34=TRUNC(AM34),1,0),IF(AND(AM34*1=AM34,AM34>=0),1,0),IF(AND(AM34=TRUNC(AM34),AM34>=0),1,0),IF(AND(AM34*1=AM34,AM34>0),1,0),IF(AND(AM34=TRUNC(AM34),AM34>0),1,0),1,IF(ISNA(HLOOKUP(AM34,$AV$4:$BE$4,1,0)),0,1)),0))) -> 1 | CA34: =IF(OR(AN$30="",AN$4=99),1,IF(AN34="",0,IFERROR(CHOOSE(BZ$28,IF(ISNA(MATCH(AN34,$AS$30:$AT$30,0)),0,1),IF(ISNUMBER(AN34),1,0),IF(AN34=TRUNC(AN34),1,0),IF(AND(AN34*1=AN34,AN34>=0),1,0),IF(AND(AN34=TRUNC(AN34),AN34>=0),1,0),IF(AND(AN34*1=AN34,AN34>0),1,0),IF(AND(AN34=TRUNC(AN34),AN34>0),1,0),1,IF(ISNA(HLOOKUP(AN34,$AV$4:$BE$4,1,0)),0,1)),0))) -> 1 | CB34: =IF(OR(AO$30="",AO$4=99),1,IF(AO34="",0,IFERROR(CHOOSE(CA$28,IF(ISNA(MATCH(AO34,$AS$30:$AT$30,0)),0,1),IF(ISNUMBER(AO34),1,0),IF(AO34=TRUNC(AO34),1,0),IF(AND(AO34*1=AO34,AO34>=0),1,0),IF(AND(AO34=TRUNC(AO34),AO34>=0),1,0),IF(AND(AO34*1=AO34,AO34>0),1,0),IF(AND(AO34=TRUNC(AO34),AO34>0),1,0),1,IF(ISNA(HLOOKUP(AO34,$AV$4:$BE$4,1,0)),0,1)),0))) -> 1 | CC34: =IF(OR(AP$30="",AP$4=99),1,IF(AP34="",0,IFERROR(CHOOSE(CB$28,IF(ISNA(MATCH(AP34,$AS$30:$AT$30,0)),0,1),IF(ISNUMBER(AP34),1,0),IF(AP34=TRUNC(AP34),1,0),IF(AND(AP34*1=AP34,AP34>=0),1,0),IF(AND(AP34=TRUNC(AP34),AP34>=0),1,0),IF(AND(AP34*1=AP34,AP34>0),1,0),IF(AND(AP34=TRUNC(AP34),AP34>0),1,0),1,IF(ISNA(HLOOKUP(AP34,$AV$4:$BE$4,1,0)),0,1)),0))) -> 1 | CH34: =IF($F34="","",CH$30) | CI34: =IF($F34="","",CI$30) | CJ34: =IF($F34="","",CJ$30) | CK34: =IF($F34="","",CK$30) | CL34: =IF($F34="","",CL$30) | CM34: =IF($F34="","",CM$30) | CN34: =IF($F34="","",CN$30) | CO34: =IF($F34="","",CO$30) | ... CQ34: =IF($F34="","",CQ$30) | CW34: =W34>=CV$5 -> FALSE | CX34: =X34>=CW$5 -> FALSE | CY34: =Y34>=CX$5 -> TRUE | DC34: =COUNTIF(CW34:DA34,TRUE) -> 1 | DD34: =W34>=DC$5 -> FALSE | DE34: =X34>=DD$5 -> FALSE | DF34: =Y34>=DE$5 -> TRUE | DK34: =COUNTIF(DD34:DJ34,TRUE) -> 1 | DM34: =IF($F34="","",IF(AND(DK34=$CW$3,DK34-DC34<=$DD$3),1,0))
