Workbook
Name a: #REF!
Name a: #REF!
Name a: #REF!
Name a: #REF!
Name a: #REF!
Name a: #REF!
Name a: #REF!
Name aa: #REF!
Name b: #REF!
Name DDDD: #REF!
Name ee: #REF!
Name ngf: #REF!

Sheet ProtectSettings
B1: 0.0022241473
B2: 45481.512
A6: AllowFilterCheckBox
A7: AllowFormattingCheckBox
A8: AllowColumnFormattingCheckBox | B8: TRUE
A9: AllowRowFormattingCheckBox | B9: TRUE

Sheet הדרכה למשתמש
B2: הדרכה למשתמש
B4: תאריך בניית המודל | C4: 44643
B5: תאריך עדכון מודל | C5: 44780
B7: הערה חשובה: בעת עריכת המודל - חל איסור מוחלט לבצע גזירה והדבקה או העברה של תא ממקום למקום על ידי גרירה. אסור לבצע "הוספה" או "מחיקה" של שורות או עמודות
B9: הוראת שעה/מעבר:
B11: הדרכה להזנת נתונים
B12: צבע התא | C12: מטרת התא | D12: דגש
B13: צהוב | C13: הזנת נתונים | D13: נדרש להזין מידע בהתאם להנחיות מבחן התמיכה, אי הזנה של תא יכולה להביא לידי שגיאה בתוצאות במודל. במקומות שבהם מזינים 0/1, אז המשמעות של 0 הוא "לא" ו-1 "כן"
B14: חום | C14: הצגת מידע | D14: תא שאיננו מיועד להזנה. תא זה מציג מידע עפ"י נוסחה קבועה ואין לשנות אותה.
B15: אדום | C15: התראת שגיאה | D15: קיימת שגיאה בהזנת נתונים באחד מהתאים המיועדים להזנה, נדרש להזין את הנתונים הנדרשים לפני קביעת גובה תמיכה סופי.
B17: יש לעדכן את שנת התמיכה והתקציב בגיליון פרמטרים לקריטריונים. את רשימת כל ההוצאות לאור של חוברות כתב העת יש להזין בגיליונות העזר. את רשימת המוסדות יש להזין בגיליונות השמאליים של הקובץ הממוספרים מ-1 עד 40 במקום שם הגיליון. במידה והוחלט לא להשתמש בגיליון לאחר כתיבת השם, נדרש לשנות חזרה את שם הגיליון למספרו הסידורי. יש למלא בכל גיליון של משתנה את הנתונים הרלוונטיים. במידה ויש נתון אשר הוזן בגיליון קודם, נתון זה יועבר באופן אוטומטי לגיליונות הרלוונטיים ללא צורך בהזנה חוזרת.

Sheet פרמטרים
B1: שנת התקציב | C1: 2025
B2: תקציב | C2: 1906914
A4: פרמטרים לחישוב ניקוד מספר החוברות | F4: הגדרות
A5: 6 | F5: הגדרת שנה | G5: תאריך התחלה | H5: תאריך סיום
A6: סימול | B6: מספר העמודים | D6: ניקוד | F6: שנת התמיכה | G6: =DATE($C$1,1,1) -> 45658 | H6: =DATE($C$1,12,31) -> 46022
B7: מ- | C7: עד - | F7: שנת ההערכה | G7: =DATE($C$1-3,10,1) -> 44835 | H7: =DATE($C$1-2,9,30) -> 45199 | J7: 45483
A8: א' | B8: 32 | C8: 47 | D8: 1 | F8: שנת התקציב המבוקר | G8: =DATE($C$1-3,1,1) -> 44562 | H8: =DATE($C$1-2,12,31) -> 45291
A9: ב' | B9: 48 | C9: 63 | D9: 2 | F9: שנת כספים קודמת | G9: =DATE($C$1-1,1,1) -> 45292 | H9: =DATE($C$1-1,12,31) -> 45657
A10: ג' | B10: 64 | C10: 79 | D10: 3
A11: ד' | B11: 80 | C11: 95 | D11: 4
A12: ה' | B12: 96 | C12: 1000000 | D12: 5
A13: מחיר מינימום לחוברת | B13: 15
A15: פרמטרים לחישוב ניקוד הפצה באינטרנט | E15: משקל המשתנים בתחשיב הבסיסי
A16: מפתח ניקוד הפצה באינטרנט | E16: משתנה | F16: משקל
A17: סעיף | B17: ניקוד | E17: =MID(CELL("filename",'היקף החוברות'!A9),FIND("]",CELL("filename",'היקף החוברות'!A9),1)+1,99) -> היקף החוברות | F17: 0.35
A18: ניקוד לחוברת שלפחות 60% מתוכנה הוצג באינטרנט בחינם לכלל הציבור | B18: 1 | E18: =MID(CELL("filename",'רמה הפקתית'!C10),FIND("]",CELL("filename",'רמה הפקתית'!C10),1)+1,99) -> רמה הפקתית | F18: 0.2
A19: מקסימום ניקוד לחוברת שחלק משמעותי מתוכנה הוצג באינטרנט | B19: 6 | E19: =MID(CELL("filename",'תמורה ליוצרים'!C13),FIND("]",CELL("filename",'תמורה ליוצרים'!C13),1)+1,99) -> תמורה ליוצרים | F19: 0.2
A20: מכפיל ניקוד להיקף יוצא דופן או רמה מקצועית גבוהה במיוחד | B20: 1.5 | E20: =MID(CELL("filename",'הפצת כתב העת'!C16),FIND("]",CELL("filename",'הפצת כתב העת'!C16),1)+1,99) -> הפצת כתב העת | F20: 0.25
E21: סה"כ | F21: =SUM(F17:F20) -> 1
E23: מכפיל סיווג כתב העת
E24: קבוצה | F24: מכפיל ניקוד
A25: פרמטרים לחישוב מנגנון ההגנה | E25: רמה אמנותית נאותה | F25: 1
A26: מנגנון ההגנה | E26: רמה אמנותית גבוהה | F26: 1.075
A27: סעיף | B27: ערך | E27: רמה אמנותית גבוהה ובעלת תרומה משמעותית | F27: 1.15
A28: שיעור פיחות מירבי בתמיכה | B28: =1-B29 -> 0.2 | D28: בונוס עבור עמידה במגבלות חריגה תקציבית
A29: שיעור תמיכה מינימלי משנה קודמת | B29: 0.8 | D29: סעיף | E29: שיעור | F29: הערות
D30: גרעון שוטף | E30: 0 | F30: תנאים מצטברים
A31: פרמטרים לחישוב הפחתות בגין חריגות שכר | D31: גרעון מצטבר | E31: 0.2
A32: חריגות שכר | D32: שיעור הבונוס | E32: 0.03
A33: מכפלת חריגה | B33: 5
A36: פרמטרים לחישוב הרכב חברי הוועדה
A37: סעיף | B37: ערך
A38: 30% מכלל חברי הוועדה נשים | B38: 0.02
A41: פרמטרים להגדרת כתב עת
A42: סעיף | B42: התנאי
A43: מס' חוברות שיצאו לאור הינו לפחות: | B43: =IF($C$1=2022,1,2) -> 2
A44: מס' עמודים בכל חוברת הינו לפחות: | B44: 32
A45: מס' עותקים של כל אחת מהחוברות לגביהן מבוקשת תמיכה אשר נמכרה לציבור, או הופצה לחנויות ולמנויים הינו לפחות: | B45: 200
A46: שעור התכנים הנכללים בכלל החוברות לגביהן מבוקשת התמיכה, הם יצירה מקורית שלא פורסמה קודם לכן בכל מסגרת אחרת, בשפה העברית או בשפה אחרת שאושרה על ידי המדור הינו לפחות: | B46: 0.7
A47: מרבית התכנים בכל חוברת עוסקים בעשייה האמנותית והמקצועית באחד או יותר מהתחומים הנתמכים על ידי מינהל התרבות, בהתאם למחלקות השונות, ולרבות בתחום מחקר ומורשת
A48: החוברות הינן בעלות רמה אמנותית נאותה ורמה הפקתית נאותה

Sheet תנאי סף
A1: =פרמטרים!A5 -> 6 | B1: =פרמטרים!B5 -> 0 | C1: =פרמטרים!C5 -> 0 | D1: =פרמטרים!D5 -> 0 | AP1: בדוק נתוני הזנה
A2: =פרמטרים!A6 -> סימול | B2: =פרמטרים!B6 -> מספר העמודים | C2: =פרמטרים!C6 -> 0 | D2: =פרמטרים!D6 -> ניקוד
A3: =פרמטרים!A7 -> 0 | B3: =פרמטרים!B7 -> מ- | C3: =פרמטרים!C7 -> עד - | D3: =פרמטרים!D7 -> 0 | I3: =פרמטרים!B1 -> שנת התקציב | J3: =פרמטרים!C1 -> 2025
A4: =פרמטרים!A8 -> א' | B4: =פרמטרים!B8 -> 32 | C4: =פרמטרים!C8 -> 47 | D4: =פרמטרים!D8 -> 1 | I4: =פרמטרים!B2 -> תקציב | J4: =פרמטרים!C2 -> 1906914
A5: =פרמטרים!A9 -> ב' | B5: =פרמטרים!B9 -> 48 | C5: =פרמטרים!C9 -> 63 | D5: =פרמטרים!D9 -> 2
A6: =פרמטרים!A10 -> ג' | B6: =פרמטרים!B10 -> 64 | C6: =פרמטרים!C10 -> 79 | D6: =פרמטרים!D10 -> 3
A7: =פרמטרים!A11 -> ד' | B7: =פרמטרים!B11 -> 80 | C7: =פרמטרים!C11 -> 95 | D7: =פרמטרים!D11 -> 4
A8: =פרמטרים!A12 -> ה' | B8: =פרמטרים!B12 -> 96 | C8: =פרמטרים!C12 -> 1000000 | D8: =פרמטרים!D12 -> 5
A9: ="בחינת עמידה ב"&MID(CELL("filename",AL9),FIND("]",CELL("filename",AL9),1)+1,99) -> בחינת עמידה בתנאי סף | C9: 4(1) | D9: 4(2) | E9: 4(3) | F9: 4(4) | H9: 4(4ב) | I9: 4(5) | J9: 4(6) | K9: 4(7) | L9: 4(7) | M9: 4(7) | N9: 4(8) | O9: 4(8) | P9: 4(8) | Y9: 5(א)(1) | Z9: 5(א)(2) | AA9: 5(א)(3) | AB9: 5(א)(4) | AC9: 5(ב) | AE9: 5(א)(1) | AF9: 5(ב) | AG9: 5(א)(4) | AH9: 5(א)(5) | AI9: 5(ב) | AJ9: 5(א)(5)
A10: מספר סידורי | B10: שם כתב העת | C10: מועד התחלת הוצאה לאור | D10: מספר שנות ותק | E10: המוסד עומד בדרישות הנוהל ומסר את כל המידע והמסמכים שנתבקש (0/1) | F10: ="המוסד השלים את הגשת כל הדוחות הנדרשים לצורך ניקודו, כשהם מלאים ותקינים, במועד הנדרש "&" (0/1)" -> המוסד השלים את הגשת כל הדוחות הנדרשים לצורך ניקודו, כשהם מלאים ותקינים, במועד הנדרש (0/1) | H10: ="המוסד הגיש תוכנית עבודה כללית לשנת "&YEAR(פרמטרים!$H$6)&" (0/1)" -> המוסד הגיש תוכנית עבודה כללית לשנת 2025 (0/1) | I10: =IF(J3=2022,"המוסד התחייב להוציא לאור חוברת חדשה אחת לפחות בשנת ","המוסד התחייב להוציא לאור 2 חוברות חדשות לפחות בשנת ")&YEAR(פרמטרים!$H$6)&" (0/1)" -> המוסד התחייב להוציא לאור 2 חוברות חדשות לפחות בשנת 2025 (0/1) | J10: המוסד הגיש דוחות ביצוע שוטפים, רבעוניים ושנתיים (0/1) | K10: כתב העת יוצא לאור במסגרת של תאגיד העוסק במגוון תחומים (0/1) | L10: תקציב כתב העת הינו סגור ומובחן מתקציבו הכולל של התאגיד ויש לו הנהלה אמנותית נפרדת (0/1) | M10: עומד בתנאי לעניין מסגרת הוצאת כתב העת (0/1) | N10: שנה ראשונה לקבלת תמיכה (0/1) | O10: ="המוסד הודיע למינהל התרבות על כוונתו להגיש בקשה לא יאוחר מיום 1 במאי "&פרמטרים!$C$1-1&" (0/1)" -> המוסד הודיע למינהל התרבות על כוונתו להגיש בקשה לא יאוחר מיום 1 במאי 2024 (0/1) | P10: עומד בתנאי לעניין הגשה | Y10: עומד בתנאי הוציא לאור מס' חוברות בהיקף מתאים | Z10: מספר החוברות בהן מרבית התכנים בכל חוברת עוסקים בעשייה אומנותית ומקצועית לרבות בתחום מחקר ומורשת, בתחומים הנתמכים על ידי מנהל תרבות | AA10: מספר החוברות בעלות רמה אומנותית והפקתית נאותה | AB10: מספר החוברות בהן מרבית התכנים עוסקים בעשייה אומנותית ומקצועית לרבות בתחום מחקר ומורשת, בתחומים הנתמכים על ידי מנהל תרבות | AC10: אישור מיוחד (0/1) | AD10: סה"כ חוברות העונות להגדרת כתב עת | AE10: מספר חוברות שלא עונות להגדרת כתב עת | AF10: אישור מיוחד (0/1) | AG10: עומד בתנאי כי כל אחת מהחוברות לגביהן מבוקשת תמיכה, נמכרה לציבור, או הופצה לחנויות ולמנויים, ב-200 עותקים לפחות | AH10: שעור משוקלל של יצירה מקורית מהתכנים הנכללים בכל החוברות לגביהן מבוקשת תמיכה | AI10: אישור מיוחד (0/1) | AJ10: עומד בתנאי כי לפחות 70% מהתכנים הנכללים בחוברות הם יצירה מקורית שלא פורסמה קודם לכן במסגרת אחרת | AK10: במוסד בו מועסקים עובדים ביחסי עבודה, המוסד קבע תקנון למניעת הטרדה מינית ועומד בדרישות תקנה 8 לתקנות חובות מעסיק. המוסד צירף לבקשתו את התקנון ופרטים על ההתאמות בתקנון, פרסומו למסירתו. (במוסד בו אין מתכונת יחסי עבודה - יש לסמן 1 עבור תנאי זה) | AL10: עומד בתנאי הסף | AM10: הערות | AU10: ה | AV10: ד | AW10: ג | AX10: ב | AY10: א | AZ10: א | BA10: ב | BB10: ג | BC10: ד | BD10: ה | BE10: 0 | BF10: 1 | BW10: א | BX10: ב | BY10: ג | BZ10: ד | CA10: ה
A11: 1 | B11: =IF('1280 מעלות (אמנים יוצרים)'!$F$1="1","",'1280 מעלות (אמנים יוצרים)'!$F$1) -> 1280 מעלות (אמנים יוצרים) | C11: 36526 | D11: =IF(OR(B11="",C11=""),"",((DATE($J$3,1,1)-C11)/365)) -> 25.019178 | E11: 1 | F11: 1 | H11: 1 | I11: 1 | J11: 1 | K11: 0 | M11: =IF(B11="","",IF(OR(K11=0,AND(K11=1,L11=1)),1,0)) -> 1 | N11: 0 | P11: =IF(B11="","",IF(OR(N11=0,AND(N11=1,O11=1)),1,0)) -> 1 | Y11: =IF(B11="","",IF(AF11=1,1,IF(AND($J$3=2022,Q11=1,AD11>=1),1,IF(AD11>=2,1,0)))) -> 1 | Z11: ='ריכוז גיליונות עזר'!S11 -> 2 | AA11: ='ריכוז גיליונות עזר'!R11 -> 2 | AB11: ='ריכוז גיליונות עזר'!T11 -> 2 | AD11: =IF($B11="","",SUM(INDIRECT("'"&SUBSTITUTE($B11,"'","''")&"'"&"!L2:P2"))) -> 2 | AE11: {=IF($B11="","",IF($F11="","",INDIRECT("'"&SUBSTITUTE($B11,"'","''")&"'"&"!L6")))} -> 0 | AG11: =IF(B11="","",IF(AC11=1,1,IF(AD11+AE11*AF11<=AB11,1,0))) -> 1 | AH11: ='ריכוז גיליונות עזר'!U11 -> 0.93908629 | AJ11: =IF(B11="","",IF(AI11=1,1,IF(AH11>=פרמטרים!$B$46,1,0))) -> 1 | AK11: 1 | AL11: =IFERROR(IF(B11="","",IF(SUM(BG11:BU11)=COUNT(BG11:BU11),1,0)),$AP$1) -> 1 | AP11: =IF(ISERR(ROUND(R11,0)),0,IF(OR(R11<0,$B11="",R11<>ROUND(R11,0)),0,1)) -> 1 | AQ11: =IF(ISERR(ROUND(S11,0)),0,IF(OR(S11<0,$B11="",S11<>ROUND(S11,0)),0,1)) -> 1 | AR11: =IF(ISERR(ROUND(T11,0)),0,IF(OR(T11<0,$B11="",T11<>ROUND(T11,0)),0,1)) -> 1 | AS11: =IF(ISERR(ROUND(U11,0)),0,IF(OR(U11<0,$B11="",U11<>ROUND(U11,0)),0,1)) -> 1 | AT11: {=IF(OR(AP11:AS11=0),0,1)} -> 1 | AU11: =IF(V11<$A$1,V11,$A$1) -> 0 | AV11: =IF(SUM($AU11:AU11)<$A$1,IF(SUM($U11:V11)<$A$1,U11,$A$1-SUM($AU11:AU11)),0) -> 0 | AW11: =IF(SUM($AU11:AV11)<$A$1,IF(SUM($T11:V11)<$A$1,T11,$A$1-SUM($AU11:AV11)),0) -> 0 | AX11: =IF(SUM($AU11:AW11)<$A$1,IF(SUM($S11:V11)<$A$1,S11,$A$1-SUM($AU11:AW11)),0) -> 0 | AY11: =IF(SUM($AU11:AX11)<$A$1,IF(SUM($R11:V11)<$A$1,R11,$A$1-SUM($AU11:AX11)),0) -> 0 | AZ11: =AY11 -> 0 | BA11: =AX11 -> 0 | BB11: =AW11 -> 0 | BC11: =AV11 -> 0 | BD11: =AU11 -> 0 | BE11: =IF($B12="","",BE$10) -> 0 | BF11: =IF($B12="","",BF$10) -> 1 | BG11: =IF(D11="",0,IF(D11<2,0,1)) -> 1 | BH11: =IF(E11="",0,E11) -> 1 | BI11: =IF(F11="",0,F11) -> 1 | BK11: =IF(H11="",0,H11) -> 1 | BL11: =IF(I11="",0,I11) -> 1 | BM11: =IF(J11="",0,J11) -> 1 | BN11: =IF(M11="",0,M11) -> 1 | BO11: =IF(P11="",0,P11) -> 1 | BP11: =IF(Y11="",0,Y11) -> 1 | BQ11: =IF(AC11=1,1,IF(Z11="",0,IF('ריכוז גיליונות עזר'!W11=1,1,0))) -> 1 | BR11: =IF(AC11=1,1,IF(AA11="",0,IF('ריכוז גיליונות עזר'!W11=1,1,0))) -> 1 | BS11: =IF(AG11="",0,AG11) -> 1 | BT11: =IF(AJ11="",0,AJ11) -> 1 | BU11: =IF(AK11="",0,AK11) -> 1 | BW11: =IF(R11*#REF!<200,0,1) -> #REF! | BX11: =IF(S11*#REF!<200,0,1) -> #REF! | BY11: =IF(T11*#REF!<200,0,1) -> #REF! | BZ11: =IF(U11*#REF!<200,0,1) -> #REF! | CA11: =IF(V11*#REF!<200,0,1) -> #REF!
A12: =A11+1 -> 2 | B12: =IF('יהי (אורי צבי גרינברג)'!$F$1="2","",'יהי (אורי צבי גרינברג)'!$F$1) -> יהי (אורי צבי גרינברג) | C12: 43466 | D12: =IF(OR(B12="",C12=""),"",((DATE($J$3,1,1)-C12)/365)) -> 6.0054795 | E12: 1 | F12: 1 | H12: 1 | I12: 1 | J12: 1 | K12: 1 | L12: 1 | M12: =IF(B12="","",IF(OR(K12=0,AND(K12=1,L12=1)),1,0)) -> 1 | N12: 0 | O12: 1 | P12: =IF(B12="","",IF(OR(N12=0,AND(N12=1,O12=1)),1,0)) -> 1 | Y12: =IF(B12="","",IF(AF12=1,1,IF(AND($J$3=2022,Q12=1,AD12>=1),1,IF(AD12>=2,1,0)))) -> 1 | Z12: ='ריכוז גיליונות עזר'!S12 -> 3 | AA12: ='ריכוז גיליונות עזר'!R12 -> 3 | AB12: ='ריכוז גיליונות עזר'!T12 -> 3 | AD12: =IF($B12="","",SUM(INDIRECT("'"&SUBSTITUTE($B12,"'","''")&"'"&"!L2:P2"))) -> 3 | AE12: {=IF($B12="","",IF($F12="","",INDIRECT("'"&SUBSTITUTE($B12,"'","''")&"'"&"!L6")))} -> 0 | AG12: =IF(B12="","",IF(AC12=1,1,IF(SUM(R12:V12)+AE12*AF12<=AB12,1,0))) -> 1 | AH12: ='ריכוז גיליונות עזר'!U12 -> 1 | AJ12: =IF(B12="","",IF(AI12=1,1,IF(AH12>=פרמטרים!$B$46,1,0))) -> 1 | AK12: 1 | AL12: =IFERROR(IF(B12="","",IF(SUM(BG12:BU12)=COUNT(BG12:BU12),1,0)),$AP$1) -> 1 | AP12: =IF(ISERR(ROUND(R12,0)),0,IF(OR(R12<0,$B12="",R12<>ROUND(R12,0)),0,1)) -> 1 | AQ12: =IF(ISERR(ROUND(S12,0)),0,IF(OR(S12<0,$B12="",S12<>ROUND(S12,0)),0,1)) -> 1 | AR12: =IF(ISERR(ROUND(T12,0)),0,IF(OR(T12<0,$B12="",T12<>ROUND(T12,0)),0,1)) -> 1 | AS12: =IF(ISERR(ROUND(U12,0)),0,IF(OR(U12<0,$B12="",U12<>ROUND(U12,0)),0,1)) -> 1 | AT12: {=IF(OR(AP12:AS12=0),0,1)} -> 1 | AU12: =IF(V12<$A$1,V12,$A$1) -> 0 | AV12: =IF(SUM($AU12:AU12)<$A$1,IF(SUM($U12:V12)<$A$1,U12,$A$1-SUM($AU12:AU12)),0) -> 0 | AW12: =IF(SUM($AU12:AV12)<$A$1,IF(SUM($T12:V12)<$A$1,T12,$A$1-SUM($AU12:AV12)),0) -> 0 | AX12: =IF(SUM($AU12:AW12)<$A$1,IF(SUM($S12:V12)<$A$1,S12,$A$1-SUM($AU12:AW12)),0) -> 0 | AY12: =IF(SUM($AU12:AX12)<$A$1,IF(SUM($R12:V12)<$A$1,R12,$A$1-SUM($AU12:AX12)),0) -> 0 | AZ12: =AY12 -> 0 | BA12: =AX12 -> 0 | BB12: =AW12 -> 0 | BC12: =AV12 -> 0 | BD12: =AU12 -> 0 | BE12: =IF($B12="","",BE$10) -> 0 | BF12: =IF($B12="","",BF$10) -> 1 | BG12: =IF(D12="",0,IF(D12<2,0,1)) -> 1 | BH12: =IF(E12="",0,E12) -> 1 | BI12: =IF(F12="",0,F12) -> 1 | BK12: =IF(H12="",0,H12) -> 1 | BL12: =IF(I12="",0,I12) -> 1 | BM12: =IF(J12="",0,J12) -> 1 | BN12: =IF(M12="",0,M12) -> 1 | BO12: =IF(P12="",0,P12) -> 1 | BP12: =IF(Y12="",0,Y12) -> 1 | BQ12: =IF(AC12=1,1,IF(Z12="",0,IF('ריכוז גיליונות עזר'!W12=1,1,0))) -> 1 | BR12: =IF(AC12=1,1,IF(AA12="",0,IF('ריכוז גיליונות עזר'!W12=1,1,0))) -> 1 | BS12: =IF(AG12="",0,AG12) -> 1 | BT12: =IF(AJ12="",0,AJ12) -> 1 | BU12: =IF(AK12="",0,AK12) -> 1 | BW12: =IF(R12*#REF!<200,0,1) -> #REF! | BX12: =IF(S12*#REF!<200,0,1) -> #REF! | BY12: =IF(T12*#REF!<200,0,1) -> #REF! | BZ12: =IF(U12*#REF!<200,0,1) -> #REF! | CA12: =IF(V12*#REF!<200,0,1) -> #REF!
A13: =A12+1 -> 3 | B13: =IF('3'!$F$1="3","",'3'!$F$1) | D13: =IF(OR(B13="",C13=""),"",((DATE($J$3,1,1)-C13)/365)) | M13: =IF(B13="","",IF(OR(K13=0,AND(K13=1,L13=1)),1,0)) | P13: =IF(B13="","",IF(OR(N13=0,AND(N13=1,O13=1)),1,0)) | Y13: =IF(B13="","",IF(AF13=1,1,IF(AND($J$3=2022,Q13=1,AD13>=1),1,IF(AD13>=2,1,0)))) | Z13: ='ריכוז גיליונות עזר'!S13 | AA13: ='ריכוז גיליונות עזר'!R13 | AB13: ='ריכוז גיליונות עזר'!T13 | AD13: =IF($B13="","",SUM(INDIRECT("'"&SUBSTITUTE($B13,"'","''")&"'"&"!L2:P2"))) | AE13: {=IF($B13="","",IF($F13="","",INDIRECT("'"&SUBSTITUTE($B13,"'","''")&"'"&"!L6")))} | AG13: =IF(B13="","",IF(AC13=1,1,IF(SUM(R13:V13)+AE13*AF13<=AB13,1,0))) | AH13: ='ריכוז גיליונות עזר'!U13 | AJ13: =IF(B13="","",IF(AI13=1,1,IF(AH13>=פרמטרים!$B$46,1,0))) | AL13: =IFERROR(IF(B13="","",IF(SUM(BG13:BU13)=COUNT(BG13:BU13),1,0)),$AP$1) | AQ13: =IF(ISERR(ROUND(S13,0)),0,IF(OR(S13<0,$B13="",S13<>ROUND(S13,0)),0,1)) -> 0 | AR13: =IF(ISERR(ROUND(T13,0)),0,IF(OR(T13<0,$B13="",T13<>ROUND(T13,0)),0,1)) -> 0 | AS13: =IF(ISERR(ROUND(U13,0)),0,IF(OR(U13<0,$B13="",U13<>ROUND(U13,0)),0,1)) -> 0 | AT13: {=IF(OR(AP13:AS13=0),0,1)} -> 0 | AU13: =IF(V13<$A$1,V13,$A$1) -> 0 | AV13: =IF(SUM($AU13:AU13)<$A$1,IF(SUM($U13:V13)<$A$1,U13,$A$1-SUM($AU13:AU13)),0) -> 0 | AW13: =IF(SUM($AU13:AV13)<$A$1,IF(SUM($T13:V13)<$A$1,T13,$A$1-SUM($AU13:AV13)),0) -> 0 | AX13: =IF(SUM($AU13:AW13)<$A$1,IF(SUM($S13:V13)<$A$1,S13,$A$1-SUM($AU13:AW13)),0) -> 0 | AY13: =IF(SUM($AU13:AX13)<$A$1,IF(SUM($R13:V13)<$A$1,R13,$A$1-SUM($AU13:AX13)),0) -> 0 | AZ13: =AY13 -> 0 | BA13: =AX13 -> 0 | BB13: =AW13 -> 0 | BC13: =AV13 -> 0 | BD13: =AU13 -> 0 | BE13: =IF($B13="","",BE$10) | BF13: =IF($B13="","",BF$10) | BG13: =IF(D13="",0,IF(D13<2,0,1)) -> 0 | BH13: =IF(E13="",0,E13) -> 0 | BI13: =IF(F13="",0,F13) -> 0 | BK13: =IF(H13="",0,H13) -> 0 | BL13: =IF(I13="",0,I13) -> 0 | BM13: =IF(J13="",0,J13) -> 0 | BN13: =IF(M13="",0,M13) -> 0 | BO13: =IF(P13="",0,P13) -> 0 | BP13: =IF(Y13="",0,Y13) -> 0 | BQ13: =IF(AC13=1,1,IF(Z13="",0,IF('ריכוז גיליונות עזר'!W13=1,1,0))) -> 0 | BR13: =IF(AC13=1,1,IF(AA13="",0,IF('ריכוז גיליונות עזר'!W13=1,1,0))) -> 0 | BS13: =IF(AG13="",0,AG13) -> 0 | BT13: =IF(AJ13="",0,AJ13) -> 0 | BU13: =IF(AK13="",0,AK13) -> 0 | BW13: =IF(R13*#REF!<200,0,1) -> #REF! | BX13: =IF(S13*#REF!<200,0,1) -> #REF! | BY13: =IF(T13*#REF!<200,0,1) -> #REF! | BZ13: =IF(U13*#REF!<200,0,1) -> #REF! | CA13: =IF(V13*#REF!<200,0,1) -> #REF!
A14: =A13+1 -> 4 | B14: =IF('דעות (ברית נאמני תורה ועבודה)'!$F$1="4","",'דעות (ברית נאמני תורה ועבודה)'!$F$1) -> דעות (ברית נאמני תורה ועבודה) | C14: 35796 | D14: =IF(OR(B14="",C14=""),"",((DATE($J$3,1,1)-C14)/365)) -> 27.019178 | E14: 1 | F14: 1 | H14: 1 | I14: 1 | J14: 1 | K14: 0 | M14: =IF(B14="","",IF(OR(K14=0,AND(K14=1,L14=1)),1,0)) -> 1 | N14: 0 | P14: =IF(B14="","",IF(OR(N14=0,AND(N14=1,O14=1)),1,0)) -> 1 | Y14: =IF(B14="","",IF(AF14=1,1,IF(AND($J$3=2022,Q14=1,AD14>=1),1,IF(AD14>=2,1,0)))) -> 1 | Z14: ='ריכוז גיליונות עזר'!S14 -> 3 | AA14: ='ריכוז גיליונות עזר'!R14 -> 3 | AB14: ='ריכוז גיליונות עזר'!T14 -> 3 | AD14: =IF($B14="","",SUM(INDIRECT("'"&SUBSTITUTE($B14,"'","''")&"'"&"!L2:P2"))) -> 3 | AE14: {=IF($B14="","",IF($F14="","",INDIRECT("'"&SUBSTITUTE($B14,"'","''")&"'"&"!L6")))} -> 0 | AG14: =IF(B14="","",IF(AC14=1,1,IF(SUM(R14:V14)+AE14*AF14<=AB14,1,0))) -> 1 | AH14: ='ריכוז גיליונות עזר'!U14 -> 1 | AJ14: =IF(B14="","",IF(AI14=1,1,IF(AH14>=פרמטרים!$B$46,1,0))) -> 1 | AK14: 1 | AL14: =IFERROR(IF(B14="","",IF(SUM(BG14:BU14)=COUNT(BG14:BU14),1,0)),$AP$1) -> 1 | AP14: =IF(ISERR(ROUND(R14,0)),0,IF(OR(R14<0,$B14="",R14<>ROUND(R14,0)),0,1)) -> 1 | AQ14: =IF(ISERR(ROUND(S14,0)),0,IF(OR(S14<0,$B14="",S14<>ROUND(S14,0)),0,1)) -> 1 | AR14: =IF(ISERR(ROUND(T14,0)),0,IF(OR(T14<0,$B14="",T14<>ROUND(T14,0)),0,1)) -> 1 | AS14: =IF(ISERR(ROUND(U14,0)),0,IF(OR(U14<0,$B14="",U14<>ROUND(U14,0)),0,1)) -> 1 | AT14: {=IF(OR(AP14:AS14=0),0,1)} -> 1 | AU14: =IF(V14<$A$1,V14,$A$1) -> 0 | AV14: =IF(SUM($AU14:AU14)<$A$1,IF(SUM($U14:V14)<$A$1,U14,$A$1-SUM($AU14:AU14)),0) -> 0 | AW14: =IF(SUM($AU14:AV14)<$A$1,IF(SUM($T14:V14)<$A$1,T14,$A$1-SUM($AU14:AV14)),0) -> 0 | AX14: =IF(SUM($AU14:AW14)<$A$1,IF(SUM($S14:V14)<$A$1,S14,$A$1-SUM($AU14:AW14)),0) -> 0 | AY14: =IF(SUM($AU14:AX14)<$A$1,IF(SUM($R14:V14)<$A$1,R14,$A$1-SUM($AU14:AX14)),0) -> 0 | AZ14: =AY14 -> 0 | BA14: =AX14 -> 0 | BB14: =AW14 -> 0 | BC14: =AV14 -> 0 | BD14: =AU14 -> 0 | BE14: =IF($B14="","",BE$10) -> 0 | BF14: =IF($B14="","",BF$10) -> 1 | BG14: =IF(D14="",0,IF(D14<2,0,1)) -> 1 | BH14: =IF(E14="",0,E14) -> 1 | BI14: =IF(F14="",0,F14) -> 1 | BK14: =IF(H14="",0,H14) -> 1 | BL14: =IF(I14="",0,I14) -> 1 | BM14: =IF(J14="",0,J14) -> 1 | BN14: =IF(M14="",0,M14) -> 1 | BO14: =IF(P14="",0,P14) -> 1 | BP14: =IF(Y14="",0,Y14) -> 1 | BQ14: =IF(AC14=1,1,IF(Z14="",0,IF('ריכוז גיליונות עזר'!W14=1,1,0))) -> 1 | BR14: =IF(AC14=1,1,IF(AA14="",0,IF('ריכוז גיליונות עזר'!W14=1,1,0))) -> 1 | BS14: =IF(AG14="",0,AG14) -> 1 | BT14: =IF(AJ14="",0,AJ14) -> 1 | BU14: =IF(AK14="",0,AK14) -> 1 | BW14: =IF(R14*#REF!<200,0,1) -> #REF! | BX14: =IF(S14*#REF!<200,0,1) -> #REF! | BY14: =IF(T14*#REF!<200,0,1) -> #REF! | BZ14: =IF(U14*#REF!<200,0,1) -> #REF! | CA14: =IF(V14*#REF!<200,0,1) -> #REF!
A15: =A14+1 -> 5 | B15: =IF(הליקון!$F$1="5","",הליקון!$F$1) -> הליקון | C15: 32874 | D15: =IF(OR(B15="",C15=""),"",((DATE($J$3,1,1)-C15)/365)) -> 35.024658 | E15: 1 | F15: 1 | H15: 1 | I15: 1 | J15: 1 | K15: 1 | L15: 1 | M15: =IF(B15="","",IF(OR(K15=0,AND(K15=1,L15=1)),1,0)) -> 1 | N15: 0 | P15: =IF(B15="","",IF(OR(N15=0,AND(N15=1,O15=1)),1,0)) -> 1 | Y15: =IF(B15="","",IF(AF15=1,1,IF(AND($J$3=2022,Q15=1,AD15>=1),1,IF(AD15>=2,1,0)))) -> 1 | Z15: ='ריכוז גיליונות עזר'!S15 -> 3 | AA15: ='ריכוז גיליונות עזר'!R15 -> 3 | AB15: ='ריכוז גיליונות עזר'!T15 -> 3 | AD15: =IF($B15="","",SUM(INDIRECT("'"&SUBSTITUTE($B15,"'","''")&"'"&"!L2:P2"))) -> 3 | AE15: {=IF($B15="","",IF($F15="","",INDIRECT("'"&SUBSTITUTE($B15,"'","''")&"'"&"!L6")))} -> 0 | AG15: =IF(B15="","",IF(AC15=1,1,IF(SUM(R15:V15)+AE15*AF15<=AB15,1,0))) -> 1 | AH15: ='ריכוז גיליונות עזר'!U15 -> 0.78761062 | AJ15: =IF(B15="","",IF(AI15=1,1,IF(AH15>=פרמטרים!$B$46,1,0))) -> 1 | AK15: 1 | AL15: =IFERROR(IF(B15="","",IF(SUM(BG15:BU15)=COUNT(BG15:BU15),1,0)),$AP$1) -> 1 | AP15: =IF(ISERR(ROUND(R15,0)),0,IF(OR(R15<0,$B15="",R15<>ROUND(R15,0)),0,1)) -> 1 | AQ15: =IF(ISERR(ROUND(S15,0)),0,IF(OR(S15<0,$B15="",S15<>ROUND(S15,0)),0,1)) -> 1 | AR15: =IF(ISERR(ROUND(T15,0)),0,IF(OR(T15<0,$B15="",T15<>ROUND(T15,0)),0,1)) -> 1 | AS15: =IF(ISERR(ROUND(U15,0)),0,IF(OR(U15<0,$B15="",U15<>ROUND(U15,0)),0,1)) -> 1 | AT15: {=IF(OR(AP15:AS15=0),0,1)} -> 1 | AU15: =IF(V15<$A$1,V15,$A$1) -> 0 | AV15: =IF(SUM($AU15:AU15)<$A$1,IF(SUM($U15:V15)<$A$1,U15,$A$1-SUM($AU15:AU15)),0) -> 0 | AW15: =IF(SUM($AU15:AV15)<$A$1,IF(SUM($T15:V15)<$A$1,T15,$A$1-SUM($AU15:AV15)),0) -> 0 | AX15: =IF(SUM($AU15:AW15)<$A$1,IF(SUM($S15:V15)<$A$1,S15,$A$1-SUM($AU15:AW15)),0) -> 0 | AY15: =IF(SUM($AU15:AX15)<$A$1,IF(SUM($R15:V15)<$A$1,R15,$A$1-SUM($AU15:AX15)),0) -> 0 | AZ15: =AY15 -> 0 | BA15: =AX15 -> 0 | BB15: =AW15 -> 0 | BC15: =AV15 -> 0 | BD15: =AU15 -> 0 | BE15: =IF($B15="","",BE$10) -> 0 | BF15: =IF($B15="","",BF$10) -> 1 | BG15: =IF(D15="",0,IF(D15<2,0,1)) -> 1 | BH15: =IF(E15="",0,E15) -> 1 | BI15: =IF(F15="",0,F15) -> 1 | BK15: =IF(H15="",0,H15) -> 1 | BL15: =IF(I15="",0,I15) -> 1 | BM15: =IF(J15="",0,J15) -> 1 | BN15: =IF(M15="",0,M15) -> 1 | BO15: =IF(P15="",0,P15) -> 1 | BP15: =IF(Y15="",0,Y15) -> 1 | BQ15: =IF(AC15=1,1,IF(Z15="",0,IF('ריכוז גיליונות עזר'!W15=1,1,0))) -> 1 | BR15: =IF(AC15=1,1,IF(AA15="",0,IF('ריכוז גיליונות עזר'!W15=1,1,0))) -> 1 | BS15: =IF(AG15="",0,AG15) -> 1 | BT15: =IF(AJ15="",0,AJ15) -> 1 | BU15: =IF(AK15="",0,AK15) -> 1 | BW15: =IF(R15*#REF!<200,0,1) -> #REF! | BX15: =IF(S15*#REF!<200,0,1) -> #REF! | BY15: =IF(T15*#REF!<200,0,1) -> #REF! | BZ15: =IF(U15*#REF!<200,0,1) -> #REF! | CA15: =IF(V15*#REF!<200,0,1) -> #REF!
A16: =A15+1 -> 6 | B16: =IF('6'!$F$1="6","",'6'!$F$1) | D16: =IF(OR(B16="",C16=""),"",((DATE($J$3,1,1)-C16)/365)) | M16: =IF(B16="","",IF(OR(K16=0,AND(K16=1,L16=1)),1,0)) | P16: =IF(B16="","",IF(OR(N16=0,AND(N16=1,O16=1)),1,0)) | Y16: =IF(B16="","",IF(AF16=1,1,IF(AND($J$3=2022,Q16=1,AD16>=1),1,IF(AD16>=2,1,0)))) | Z16: ='ריכוז גיליונות עזר'!S16 | AA16: ='ריכוז גיליונות עזר'!R16 | AB16: ='ריכוז גיליונות עזר'!T16 | AD16: =IF($B16="","",SUM(INDIRECT("'"&SUBSTITUTE($B16,"'","''")&"'"&"!L2:P2"))) | AE16: {=IF($B16="","",IF($F16="","",INDIRECT("'"&SUBSTITUTE($B16,"'","''")&"'"&"!L6")))} | AG16: =IF(B16="","",IF(AC16=1,1,IF(SUM(R16:V16)+AE16*AF16<=AB16,1,0))) | AH16: ='ריכוז גיליונות עזר'!U16 | AJ16: =IF(B16="","",IF(AI16=1,1,IF(AH16>=פרמטרים!$B$46,1,0))) | AL16: =IFERROR(IF(B16="","",IF(SUM(BG16:BU16)=COUNT(BG16:BU16),1,0)),$AP$1) | AP16: =IF(ISERR(ROUND(R16,0)),0,IF(OR(R16<0,$B16="",R16<>ROUND(R16,0)),0,1)) -> 0 | AQ16: =IF(ISERR(ROUND(S16,0)),0,IF(OR(S16<0,$B16="",S16<>ROUND(S16,0)),0,1)) -> 0 | AR16: =IF(ISERR(ROUND(T16,0)),0,IF(OR(T16<0,$B16="",T16<>ROUND(T16,0)),0,1)) -> 0 | AS16: =IF(ISERR(ROUND(U16,0)),0,IF(OR(U16<0,$B16="",U16<>ROUND(U16,0)),0,1)) -> 0 | AT16: {=IF(OR(AP16:AS16=0),0,1)} -> 0 | AU16: =IF(V16<$A$1,V16,$A$1) -> 0 | AV16: =IF(SUM($AU16:AU16)<$A$1,IF(SUM($U16:V16)<$A$1,U16,$A$1-SUM($AU16:AU16)),0) -> 0 | AW16: =IF(SUM($AU16:AV16)<$A$1,IF(SUM($T16:V16)<$A$1,T16,$A$1-SUM($AU16:AV16)),0) -> 0 | AX16: =IF(SUM($AU16:AW16)<$A$1,IF(SUM($S16:V16)<$A$1,S16,$A$1-SUM($AU16:AW16)),0) -> 0 | AY16: =IF(SUM($AU16:AX16)<$A$1,IF(SUM($R16:V16)<$A$1,R16,$A$1-SUM($AU16:AX16)),0) -> 0 | AZ16: =AY16 -> 0 | BA16: =AX16 -> 0 | BB16: =AW16 -> 0 | BC16: =AV16 -> 0 | BD16: =AU16 -> 0 | BE16: =IF($B16="","",BE$10) | BF16: =IF($B16="","",BF$10) | BG16: =IF(D16="",0,IF(D16<2,0,1)) -> 0 | BH16: =IF(E16="",0,E16) -> 0 | BI16: =IF(F16="",0,F16) -> 0 | BK16: =IF(H16="",0,H16) -> 0 | BL16: =IF(I16="",0,I16) -> 0 | BM16: =IF(J16="",0,J16) -> 0 | BN16: =IF(M16="",0,M16) -> 0 | BO16: =IF(P16="",0,P16) -> 0 | BP16: =IF(Y16="",0,Y16) -> 0 | BQ16: =IF(AC16=1,1,IF(Z16="",0,IF('ריכוז גיליונות עזר'!W16=1,1,0))) -> 0 | BR16: =IF(AC16=1,1,IF(AA16="",0,IF('ריכוז גיליונות עזר'!W16=1,1,0))) -> 0 | BS16: =IF(AG16="",0,AG16) -> 0 | BT16: =IF(AJ16="",0,AJ16) -> 0 | BU16: =IF(AK16="",0,AK16) -> 0 | BW16: =IF(R16*#REF!<200,0,1) -> #REF! | BX16: =IF(S16*#REF!<200,0,1) -> #REF! | BY16: =IF(T16*#REF!<200,0,1) -> #REF! | BZ16: =IF(U16*#REF!<200,0,1) -> #REF! | CA16: =IF(V16*#REF!<200,0,1) -> #REF!
A17: =A16+1 -> 7 | B17: =IF('7'!$F$1="7","",'7'!$F$1) | D17: =IF(OR(B17="",C17=""),"",((DATE($J$3,1,1)-C17)/365)) | M17: =IF(B17="","",IF(OR(K17=0,AND(K17=1,L17=1)),1,0)) | P17: =IF(B17="","",IF(OR(N17=0,AND(N17=1,O17=1)),1,0)) | Y17: =IF(B17="","",IF(AF17=1,1,IF(AND($J$3=2022,Q17=1,AD17>=1),1,IF(AD17>=2,1,0)))) | Z17: ='ריכוז גיליונות עזר'!S17 | AA17: ='ריכוז גיליונות עזר'!R17 | AB17: ='ריכוז גיליונות עזר'!T17 | AD17: =IF($B17="","",SUM(INDIRECT("'"&SUBSTITUTE($B17,"'","''")&"'"&"!L2:P2"))) | AE17: {=IF($B17="","",IF($F17="","",INDIRECT("'"&SUBSTITUTE($B17,"'","''")&"'"&"!L6")))} | AG17: =IF(B17="","",IF(AC17=1,1,IF(SUM(R17:V17)+AE17*AF17<=AB17,1,0))) | AH17: ='ריכוז גיליונות עזר'!U17 | AJ17: =IF(B17="","",IF(AI17=1,1,IF(AH17>=פרמטרים!$B$46,1,0))) | AL17: =IFERROR(IF(B17="","",IF(SUM(BG17:BU17)=COUNT(BG17:BU17),1,0)),$AP$1) | AP17: =IF(ISERR(ROUND(R17,0)),0,IF(OR(R17<0,$B17="",R17<>ROUND(R17,0)),0,1)) -> 0 | AQ17: =IF(ISERR(ROUND(S17,0)),0,IF(OR(S17<0,$B17="",S17<>ROUND(S17,0)),0,1)) -> 0 | AR17: =IF(ISERR(ROUND(T17,0)),0,IF(OR(T17<0,$B17="",T17<>ROUND(T17,0)),0,1)) -> 0 | AS17: =IF(ISERR(ROUND(U17,0)),0,IF(OR(U17<0,$B17="",U17<>ROUND(U17,0)),0,1)) -> 0 | AT17: {=IF(OR(AP17:AS17=0),0,1)} -> 0 | AU17: =IF(V17<$A$1,V17,$A$1) -> 0 | AV17: =IF(SUM($AU17:AU17)<$A$1,IF(SUM($U17:V17)<$A$1,U17,$A$1-SUM($AU17:AU17)),0) -> 0 | AW17: =IF(SUM($AU17:AV17)<$A$1,IF(SUM($T17:V17)<$A$1,T17,$A$1-SUM($AU17:AV17)),0) -> 0 | AX17: =IF(SUM($AU17:AW17)<$A$1,IF(SUM($S17:V17)<$A$1,S17,$A$1-SUM($AU17:AW17)),0) -> 0 | AY17: =IF(SUM($AU17:AX17)<$A$1,IF(SUM($R17:V17)<$A$1,R17,$A$1-SUM($AU17:AX17)),0) -> 0 | AZ17: =AY17 -> 0 | BA17: =AX17 -> 0 | BB17: =AW17 -> 0 | BC17: =AV17 -> 0 | BD17: =AU17 -> 0 | BE17: =IF($B17="","",BE$10) | BF17: =IF($B17="","",BF$10) | BG17: =IF(D17="",0,IF(D17<2,0,1)) -> 0 | BH17: =IF(E17="",0,E17) -> 0 | BI17: =IF(F17="",0,F17) -> 0 | BK17: =IF(H17="",0,H17) -> 0 | BL17: =IF(I17="",0,I17) -> 0 | BM17: =IF(J17="",0,J17) -> 0 | BN17: =IF(M17="",0,M17) -> 0 | BO17: =IF(P17="",0,P17) -> 0 | BP17: =IF(Y17="",0,Y17) -> 0 | BQ17: =IF(AC17=1,1,IF(Z17="",0,IF('ריכוז גיליונות עזר'!W17=1,1,0))) -> 0 | BR17: =IF(AC17=1,1,IF(AA17="",0,IF('ריכוז גיליונות עזר'!W17=1,1,0))) -> 0 | BS17: =IF(AG17="",0,AG17) -> 0 | BT17: =IF(AJ17="",0,AJ17) -> 0 | BU17: =IF(AK17="",0,AK17) -> 0 | BW17: =IF(R17*#REF!<200,0,1) -> #REF! | BX17: =IF(S17*#REF!<200,0,1) -> #REF! | BY17: =IF(T17*#REF!<200,0,1) -> #REF! | BZ17: =IF(U17*#REF!<200,0,1) -> #REF! | CA17: =IF(V17*#REF!<200,0,1) -> #REF!
A18: =A17+1 -> 8 | B18: =IF('ננפואטיקה (עמותת מקום לשירה)'!$F$1="8","",'ננפואטיקה (עמותת מקום לשירה)'!$F$1) -> ננפואטיקה (עמותת מקום לשירה) | C18: 41640 | D18: =IF(OR(B18="",C18=""),"",((DATE($J$3,1,1)-C18)/365)) -> 11.008219 | E18: 1 | F18: 1 | H18: 1 | I18: 1 | J18: 1 | K18: 1 | L18: 1 | M18: =IF(B18="","",IF(OR(K18=0,AND(K18=1,L18=1)),1,0)) -> 1 | N18: 0 | P18: =IF(B18="","",IF(OR(N18=0,AND(N18=1,O18=1)),1,0)) -> 1 | Y18: =IF(B18="","",IF(AF18=1,1,IF(AND($J$3=2022,Q18=1,AD18>=1),1,IF(AD18>=2,1,0)))) -> 1 | Z18: ='ריכוז גיליונות עזר'!S18 -> 5 | AA18: ='ריכוז גיליונות עזר'!R18 -> 5 | AB18: ='ריכוז גיליונות עזר'!T18 -> 5 | AD18: =IF($B18="","",SUM(INDIRECT("'"&SUBSTITUTE($B18,"'","''")&"'"&"!L2:P2"))) -> 5 | AE18: {=IF($B18="","",IF($F18="","",INDIRECT("'"&SUBSTITUTE($B18,"'","''")&"'"&"!L6")))} -> 0 | AG18: =IF(B18="","",IF(AC18=1,1,IF(SUM(R18:V18)+AE18*AF18<=AB18,1,0))) -> 1 | AH18: ='ריכוז גיליונות עזר'!U18 -> 0.97289157 | AJ18: =IF(B18="","",IF(AI18=1,1,IF(AH18>=פרמטרים!$B$46,1,0))) -> 1 | AK18: 1 | AL18: =IFERROR(IF(B18="","",IF(SUM(BG18:BU18)=COUNT(BG18:BU18),1,0)),$AP$1) -> 1 | AP18: =IF(ISERR(ROUND(R18,0)),0,IF(OR(R18<0,$B18="",R18<>ROUND(R18,0)),0,1)) -> 1 | AQ18: =IF(ISERR(ROUND(S18,0)),0,IF(OR(S18<0,$B18="",S18<>ROUND(S18,0)),0,1)) -> 1 | AR18: =IF(ISERR(ROUND(T18,0)),0,IF(OR(T18<0,$B18="",T18<>ROUND(T18,0)),0,1)) -> 1 | AS18: =IF(ISERR(ROUND(U18,0)),0,IF(OR(U18<0,$B18="",U18<>ROUND(U18,0)),0,1)) -> 1 | AT18: {=IF(OR(AP18:AS18=0),0,1)} -> 1 | AU18: =IF(V18<$A$1,V18,$A$1) -> 0 | AV18: =IF(SUM($AU18:AU18)<$A$1,IF(SUM($U18:V18)<$A$1,U18,$A$1-SUM($AU18:AU18)),0) -> 0 | AW18: =IF(SUM($AU18:AV18)<$A$1,IF(SUM($T18:V18)<$A$1,T18,$A$1-SUM($AU18:AV18)),0) -> 0 | AX18: =IF(SUM($AU18:AW18)<$A$1,IF(SUM($S18:V18)<$A$1,S18,$A$1-SUM($AU18:AW18)),0) -> 0 | AY18: =IF(SUM($AU18:AX18)<$A$1,IF(SUM($R18:V18)<$A$1,R18,$A$1-SUM($AU18:AX18)),0) -> 0 | AZ18: =AY18 -> 0 | BA18: =AX18 -> 0 | BB18: =AW18 -> 0 | BC18: =AV18 -> 0 | BD18: =AU18 -> 0 | BE18: =IF($B18="","",BE$10) -> 0 | BF18: =IF($B18="","",BF$10) -> 1 | BG18: =IF(D18="",0,IF(D18<2,0,1)) -> 1 | BH18: =IF(E18="",0,E18) -> 1 | BI18: =IF(F18="",0,F18) -> 1 | BK18: =IF(H18="",0,H18) -> 1 | BL18: =IF(I18="",0,I18) -> 1 | BM18: =IF(J18="",0,J18) -> 1 | BN18: =IF(M18="",0,M18) -> 1 | BO18: =IF(P18="",0,P18) -> 1 | BP18: =IF(Y18="",0,Y18) -> 1 | BQ18: =IF(AC18=1,1,IF(Z18="",0,IF('ריכוז גיליונות עזר'!W18=1,1,0))) -> 1 | BR18: =IF(AC18=1,1,IF(AA18="",0,IF('ריכוז גיליונות עזר'!W18=1,1,0))) -> 1 | BS18: =IF(AG18="",0,AG18) -> 1 | BT18: =IF(AJ18="",0,AJ18) -> 1 | BU18: =IF(AK18="",0,AK18) -> 1 | BW18: =IF(R18*#REF!<200,0,1) -> #REF! | BX18: =IF(S18*#REF!<200,0,1) -> #REF! | BY18: =IF(T18*#REF!<200,0,1) -> #REF! | BZ18: =IF(U18*#REF!<200,0,1) -> #REF! | CA18: =IF(V18*#REF!<200,0,1) -> #REF!
A19: =A18+1 -> 9 | B19: =IF('מאזניים (אגודת הסופרים העבריים)'!$F$1="9","",'מאזניים (אגודת הסופרים העבריים)'!$F$1) -> מאזניים (אגודת הסופרים העבריים) | C19: 10594 | D19: =IF(OR(B19="",C19=""),"",((DATE($J$3,1,1)-C19)/365)) -> 96.065753 | E19: 1 | F19: 1 | H19: 1 | I19: 1 | J19: 1 | K19: 1 | L19: 1 | M19: =IF(B19="","",IF(OR(K19=0,AND(K19=1,L19=1)),1,0)) -> 1 | N19: 0 | P19: =IF(B19="","",IF(OR(N19=0,AND(N19=1,O19=1)),1,0)) -> 1 | Y19: =IF(B19="","",IF(AF19=1,1,IF(AND($J$3=2022,Q19=1,AD19>=1),1,IF(AD19>=2,1,0)))) -> 1 | Z19: ='ריכוז גיליונות עזר'!S19 -> 5 | AA19: ='ריכוז גיליונות עזר'!R19 -> 5 | AB19: ='ריכוז גיליונות עזר'!T19 -> 5 | AD19: =IF($B19="","",SUM(INDIRECT("'"&SUBSTITUTE($B19,"'","''")&"'"&"!L2:P2"))) -> 5 | AE19: {=IF($B19="","",IF($F19="","",INDIRECT("'"&SUBSTITUTE($B19,"'","''")&"'"&"!L6")))} -> 0 | AG19: =IF(B19="","",IF(AC19=1,1,IF(SUM(R19:V19)+AE19*AF19<=AB19,1,0))) -> 1 | AH19: ='ריכוז גיליונות עזר'!U19 -> 0.97237569 | AJ19: =IF(B19="","",IF(AI19=1,1,IF(AH19>=פרמטרים!$B$46,1,0))) -> 1 | AK19: 1 | AL19: =IFERROR(IF(B19="","",IF(SUM(BG19:BU19)=COUNT(BG19:BU19),1,0)),$AP$1) -> 1 | AP19: =IF(ISERR(ROUND(R19,0)),0,IF(OR(R19<0,$B19="",R19<>ROUND(R19,0)),0,1)) -> 1 | AQ19: =IF(ISERR(ROUND(S19,0)),0,IF(OR(S19<0,$B19="",S19<>ROUND(S19,0)),0,1)) -> 1 | AR19: =IF(ISERR(ROUND(T19,0)),0,IF(OR(T19<0,$B19="",T19<>ROUND(T19,0)),0,1)) -> 1 | AS19: =IF(ISERR(ROUND(U19,0)),0,IF(OR(U19<0,$B19="",U19<>ROUND(U19,0)),0,1)) -> 1 | AT19: {=IF(OR(AP19:AS19=0),0,1)} -> 1 | AU19: =IF(V19<$A$1,V19,$A$1) -> 0 | AV19: =IF(SUM($AU19:AU19)<$A$1,IF(SUM($U19:V19)<$A$1,U19,$A$1-SUM($AU19:AU19)),0) -> 0 | AW19: =IF(SUM($AU19:AV19)<$A$1,IF(SUM($T19:V19)<$A$1,T19,$A$1-SUM($AU19:AV19)),0) -> 0 | AX19: =IF(SUM($AU19:AW19)<$A$1,IF(SUM($S19:V19)<$A$1,S19,$A$1-SUM($AU19:AW19)),0) -> 0 | AY19: =IF(SUM($AU19:AX19)<$A$1,IF(SUM($R19:V19)<$A$1,R19,$A$1-SUM($AU19:AX19)),0) -> 0 | AZ19: =AY19 -> 0 | BA19: =AX19 -> 0 | BB19: =AW19 -> 0 | BC19: =AV19 -> 0 | BD19: =AU19 -> 0 | BE19: =IF($B19="","",BE$10) -> 0 | BF19: =IF($B19="","",BF$10) -> 1 | BG19: =IF(D19="",0,IF(D19<2,0,1)) -> 1 | BH19: =IF(E19="",0,E19) -> 1 | BI19: =IF(F19="",0,F19) -> 1 | BK19: =IF(H19="",0,H19) -> 1 | BL19: =IF(I19="",0,I19) -> 1 | BM19: =IF(J19="",0,J19) -> 1 | BN19: =IF(M19="",0,M19) -> 1 | BO19: =IF(P19="",0,P19) -> 1 | BP19: =IF(Y19="",0,Y19) -> 1 | BQ19: =IF(AC19=1,1,IF(Z19="",0,IF('ריכוז גיליונות עזר'!W19=1,1,0))) -> 1 | BR19: =IF(AC19=1,1,IF(AA19="",0,IF('ריכוז גיליונות עזר'!W19=1,1,0))) -> 1 | BS19: =IF(AG19="",0,AG19) -> 1 | BT19: =IF(AJ19="",0,AJ19) -> 1 | BU19: =IF(AK19="",0,AK19) -> 1 | BW19: =IF(R19*#REF!<200,0,1) -> #REF! | BX19: =IF(S19*#REF!<200,0,1) -> #REF! | BY19: =IF(T19*#REF!<200,0,1) -> #REF! | BZ19: =IF(U19*#REF!<200,0,1) -> #REF! | CA19: =IF(V19*#REF!<200,0,1) -> #REF!
A20: =A19+1 -> 10 | B20: =IF('משיב הרוח'!$F$1="10","",'משיב הרוח'!$F$1) -> משיב הרוח | C20: 34335 | D20: =IF(OR(B20="",C20=""),"",((DATE($J$3,1,1)-C20)/365)) -> 31.021918 | E20: 1 | F20: 1 | H20: 1 | I20: 1 | J20: 1 | K20: 1 | L20: 1 | M20: =IF(B20="","",IF(OR(K20=0,AND(K20=1,L20=1)),1,0)) -> 1 | N20: 0 | P20: =IF(B20="","",IF(OR(N20=0,AND(N20=1,O20=1)),1,0)) -> 1 | Y20: =IF(B20="","",IF(AF20=1,1,IF(AND($J$3=2022,Q20=1,AD20>=1),1,IF(AD20>=2,1,0)))) -> 1 | Z20: ='ריכוז גיליונות עזר'!S20 -> 5 | AA20: ='ריכוז גיליונות עזר'!R20 -> 5 | AB20: ='ריכוז גיליונות עזר'!T20 -> 5 | AD20: =IF($B20="","",SUM(INDIRECT("'"&SUBSTITUTE($B20,"'","''")&"'"&"!L2:P2"))) -> 5 | AE20: {=IF($B20="","",IF($F20="","",INDIRECT("'"&SUBSTITUTE($B20,"'","''")&"'"&"!L6")))} -> 0 | AG20: =IF(B20="","",IF(AC20=1,1,IF(SUM(R20:V20)+AE20*AF20<=AB20,1,0))) -> 1 | AH20: ='ריכוז גיליונות עזר'!U20 -> 0.88978495 | AJ20: =IF(B20="","",IF(AI20=1,1,IF(AH20>=פרמטרים!$B$46,1,0))) -> 1 | AK20: 1 | AL20: =IFERROR(IF(B20="","",IF(SUM(BG20:BU20)=COUNT(BG20:BU20),1,0)),$AP$1) -> 1 | AP20: =IF(ISERR(ROUND(R20,0)),0,IF(OR(R20<0,$B20="",R20<>ROUND(R20,0)),0,1)) -> 1 | AQ20: =IF(ISERR(ROUND(S20,0)),0,IF(OR(S20<0,$B20="",S20<>ROUND(S20,0)),0,1)) -> 1 | AR20: =IF(ISERR(ROUND(T20,0)),0,IF(OR(T20<0,$B20="",T20<>ROUND(T20,0)),0,1)) -> 1 | AS20: =IF(ISERR(ROUND(U20,0)),0,IF(OR(U20<0,$B20="",U20<>ROUND(U20,0)),0,1)) -> 1 | AT20: {=IF(OR(AP20:AS20=0),0,1)} -> 1 | AU20: =IF(V20<$A$1,V20,$A$1) -> 0 | AV20: =IF(SUM($AU20:AU20)<$A$1,IF(SUM($U20:V20)<$A$1,U20,$A$1-SUM($AU20:AU20)),0) -> 0 | AW20: =IF(SUM($AU20:AV20)<$A$1,IF(SUM($T20:V20)<$A$1,T20,$A$1-SUM($AU20:AV20)),0) -> 0 | AX20: =IF(SUM($AU20:AW20)<$A$1,IF(SUM($S20:V20)<$A$1,S20,$A$1-SUM($AU20:AW20)),0) -> 0 | AY20: =IF(SUM($AU20:AX20)<$A$1,IF(SUM($R20:V20)<$A$1,R20,$A$1-SUM($AU20:AX20)),0) -> 0 | AZ20: =AY20 -> 0 | BA20: =AX20 -> 0 | BB20: =AW20 -> 0 | BC20: =AV20 -> 0 | BD20: =AU20 -> 0 | BE20: =IF($B20="","",BE$10) -> 0 | BF20: =IF($B20="","",BF$10) -> 1 | BG20: =IF(D20="",0,IF(D20<2,0,1)) -> 1 | BH20: =IF(E20="",0,E20) -> 1 | BI20: =IF(F20="",0,F20) -> 1 | BK20: =IF(H20="",0,H20) -> 1 | BL20: =IF(I20="",0,I20) -> 1 | BM20: =IF(J20="",0,J20) -> 1 | BN20: =IF(M20="",0,M20) -> 1 | BO20: =IF(P20="",0,P20) -> 1 | BP20: =IF(Y20="",0,Y20) -> 1 | BQ20: =IF(AC20=1,1,IF(Z20="",0,IF('ריכוז גיליונות עזר'!W20=1,1,0))) -> 1 | BR20: =IF(AC20=1,1,IF(AA20="",0,IF('ריכוז גיליונות עזר'!W20=1,1,0))) -> 1 | BS20: =IF(AG20="",0,AG20) -> 1 | BT20: =IF(AJ20="",0,AJ20) -> 1 | BU20: =IF(AK20="",0,AK20) -> 1 | BW20: =IF(R20*#REF!<200,0,1) -> #REF! | BX20: =IF(S20*#REF!<200,0,1) -> #REF! | BY20: =IF(T20*#REF!<200,0,1) -> #REF! | BZ20: =IF(U20*#REF!<200,0,1) -> #REF! | CA20: =IF(V20*#REF!<200,0,1) -> #REF!
A21: =A20+1 -> 11 | B21: =IF('עמדה (עמותת מונטן)'!$F$1="11","",'עמדה (עמותת מונטן)'!$F$1) -> עמדה (עמותת מונטן) | C21: 34700 | D21: =IF(OR(B21="",C21=""),"",((DATE($J$3,1,1)-C21)/365)) -> 30.021918 | E21: 1 | F21: 1 | H21: 1 | I21: 1 | J21: 1 | K21: 0 | M21: =IF(B21="","",IF(OR(K21=0,AND(K21=1,L21=1)),1,0)) -> 1 | N21: 0 | P21: =IF(B21="","",IF(OR(N21=0,AND(N21=1,O21=1)),1,0)) -> 1 | Y21: =IF(B21="","",IF(AF21=1,1,IF(AND($J$3=2022,Q21=1,AD21>=1),1,IF(AD21>=2,1,0)))) -> 1 | Z21: ='ריכוז גיליונות עזר'!S21 -> 2 | AA21: ='ריכוז גיליונות עזר'!R21 -> 2 | AB21: ='ריכוז גיליונות עזר'!T21 -> 2 | AD21: =IF($B21="","",SUM(INDIRECT("'"&SUBSTITUTE($B21,"'","''")&"'"&"!L2:P2"))) -> 2 | AE21: {=IF($B21="","",IF($F21="","",INDIRECT("'"&SUBSTITUTE($B21,"'","''")&"'"&"!L6")))} -> 0 | AG21: =IF(B21="","",IF(AC21=1,1,IF(SUM(R21:V21)+AE21*AF21<=AB21,1,0))) -> 1 | AH21: ='ריכוז גיליונות עזר'!U21 -> 1 | AJ21: =IF(B21="","",IF(AI21=1,1,IF(AH21>=פרמטרים!$B$46,1,0))) -> 1 | AK21: 1 | AL21: =IFERROR(IF(B21="","",IF(SUM(BG21:BU21)=COUNT(BG21:BU21),1,0)),$AP$1) -> 1 | AP21: =IF(ISERR(ROUND(R21,0)),0,IF(OR(R21<0,$B21="",R21<>ROUND(R21,0)),0,1)) -> 1 | AQ21: =IF(ISERR(ROUND(S21,0)),0,IF(OR(S21<0,$B21="",S21<>ROUND(S21,0)),0,1)) -> 1 | AR21: =IF(ISERR(ROUND(T21,0)),0,IF(OR(T21<0,$B21="",T21<>ROUND(T21,0)),0,1)) -> 1 | AS21: =IF(ISERR(ROUND(U21,0)),0,IF(OR(U21<0,$B21="",U21<>ROUND(U21,0)),0,1)) -> 1 | AT21: {=IF(OR(AP21:AS21=0),0,1)} -> 1 | AU21: =IF(V21<$A$1,V21,$A$1) -> 0 | AV21: =IF(SUM($AU21:AU21)<$A$1,IF(SUM($U21:V21)<$A$1,U21,$A$1-SUM($AU21:AU21)),0) -> 0 | AW21: =IF(SUM($AU21:AV21)<$A$1,IF(SUM($T21:V21)<$A$1,T21,$A$1-SUM($AU21:AV21)),0) -> 0 | AX21: =IF(SUM($AU21:AW21)<$A$1,IF(SUM($S21:V21)<$A$1,S21,$A$1-SUM($AU21:AW21)),0) -> 0 | AY21: =IF(SUM($AU21:AX21)<$A$1,IF(SUM($R21:V21)<$A$1,R21,$A$1-SUM($AU21:AX21)),0) -> 0 | AZ21: =AY21 -> 0 | BA21: =AX21 -> 0 | BB21: =AW21 -> 0 | BC21: =AV21 -> 0 | BD21: =AU21 -> 0 | BE21: =IF($B21="","",BE$10) -> 0 | BF21: =IF($B21="","",BF$10) -> 1 | BG21: =IF(D21="",0,IF(D21<2,0,1)) -> 1 | BH21: =IF(E21="",0,E21) -> 1 | BI21: =IF(F21="",0,F21) -> 1 | BK21: =IF(H21="",0,H21) -> 1 | BL21: =IF(I21="",0,I21) -> 1 | BM21: =IF(J21="",0,J21) -> 1 | BN21: =IF(M21="",0,M21) -> 1 | BO21: =IF(P21="",0,P21) -> 1 | BP21: =IF(Y21="",0,Y21) -> 1 | BQ21: =IF(AC21=1,1,IF(Z21="",0,IF('ריכוז גיליונות עזר'!W21=1,1,0))) -> 1 | BR21: =IF(AC21=1,1,IF(AA21="",0,IF('ריכוז גיליונות עזר'!W21=1,1,0))) -> 1 | BS21: =IF(AG21="",0,AG21) -> 1 | BT21: =IF(AJ21="",0,AJ21) -> 1 | BU21: =IF(AK21="",0,AK21) -> 1 | BW21: =IF(R21*#REF!<200,0,1) -> #REF! | BX21: =IF(S21*#REF!<200,0,1) -> #REF! | BY21: =IF(T21*#REF!<200,0,1) -> #REF! | BZ21: =IF(U21*#REF!<200,0,1) -> #REF! | CA21: =IF(V21*#REF!<200,0,1) -> #REF!
A22: =A21+1 -> 12 | B22: =IF('עתון 77 (אגודת סופרים ואמנים)'!$F$1="12","",'עתון 77 (אגודת סופרים ואמנים)'!$F$1) -> עתון 77 (אגודת סופרים ואמנים) | C22: 28126 | D22: =IF(OR(B22="",C22=""),"",((DATE($J$3,1,1)-C22)/365)) -> 48.032877 | E22: 1 | F22: 1 | H22: 1 | I22: 1 | J22: 1 | K22: 0 | L22: 0 | M22: =IF(B22="","",IF(OR(K22=0,AND(K22=1,L22=1)),1,0)) -> 1 | N22: 0 | P22: =IF(B22="","",IF(OR(N22=0,AND(N22=1,O22=1)),1,0)) -> 1 | Y22: =IF(B22="","",IF(AF22=1,1,IF(AND($J$3=2022,Q22=1,AD22>=1),1,IF(AD22>=2,1,0)))) -> 1 | Z22: ='ריכוז גיליונות עזר'!S22 -> 6 | AA22: ='ריכוז גיליונות עזר'!R22 -> 6 | AB22: ='ריכוז גיליונות עזר'!T22 -> 6 | AD22: =IF($B22="","",SUM(INDIRECT("'"&SUBSTITUTE($B22,"'","''")&"'"&"!L2:P2"))) -> 6 | AE22: {=IF($B22="","",IF($F22="","",INDIRECT("'"&SUBSTITUTE($B22,"'","''")&"'"&"!L6")))} -> 0 | AG22: =IF(B22="","",IF(AC22=1,1,IF(SUM(R22:V22)+AE22*AF22<=AB22,1,0))) -> 1 | AH22: ='ריכוז גיליונות עזר'!U22 -> 0.86746988 | AJ22: =IF(B22="","",IF(AI22=1,1,IF(AH22>=פרמטרים!$B$46,1,0))) -> 1 | AK22: 1 | AL22: =IFERROR(IF(B22="","",IF(SUM(BG22:BU22)=COUNT(BG22:BU22),1,0)),$AP$1) -> 1 | AP22: =IF(ISERR(ROUND(R22,0)),0,IF(OR(R22<0,$B22="",R22<>ROUND(R22,0)),0,1)) -> 1 | AQ22: =IF(ISERR(ROUND(S22,0)),0,IF(OR(S22<0,$B22="",S22<>ROUND(S22,0)),0,1)) -> 1 | AR22: =IF(ISERR(ROUND(T22,0)),0,IF(OR(T22<0,$B22="",T22<>ROUND(T22,0)),0,1)) -> 1 | AS22: =IF(ISERR(ROUND(U22,0)),0,IF(OR(U22<0,$B22="",U22<>ROUND(U22,0)),0,1)) -> 1 | AT22: {=IF(OR(AP22:AS22=0),0,1)} -> 1 | AU22: =IF(V22<$A$1,V22,$A$1) -> 0 | AV22: =IF(SUM($AU22:AU22)<$A$1,IF(SUM($U22:V22)<$A$1,U22,$A$1-SUM($AU22:AU22)),0) -> 0 | AW22: =IF(SUM($AU22:AV22)<$A$1,IF(SUM($T22:V22)<$A$1,T22,$A$1-SUM($AU22:AV22)),0) -> 0 | AX22: =IF(SUM($AU22:AW22)<$A$1,IF(SUM($S22:V22)<$A$1,S22,$A$1-SUM($AU22:AW22)),0) -> 0 | AY22: =IF(SUM($AU22:AX22)<$A$1,IF(SUM($R22:V22)<$A$1,R22,$A$1-SUM($AU22:AX22)),0) -> 0 | AZ22: =AY22 -> 0 | BA22: =AX22 -> 0 | BB22: =AW22 -> 0 | BC22: =AV22 -> 0 | BD22: =AU22 -> 0 | BE22: =IF($B22="","",BE$10) -> 0 | BF22: =IF($B22="","",BF$10) -> 1 | BG22: =IF(D22="",0,IF(D22<2,0,1)) -> 1 | BH22: =IF(E22="",0,E22) -> 1 | BI22: =IF(F22="",0,F22) -> 1 | BK22: =IF(H22="",0,H22) -> 1 | BL22: =IF(I22="",0,I22) -> 1 | BM22: =IF(J22="",0,J22) -> 1 | BN22: =IF(M22="",0,M22) -> 1 | BO22: =IF(P22="",0,P22) -> 1 | BP22: =IF(Y22="",0,Y22) -> 1 | BQ22: =IF(AC22=1,1,IF(Z22="",0,IF('ריכוז גיליונות עזר'!W22=1,1,0))) -> 1 | BR22: =IF(AC22=1,1,IF(AA22="",0,IF('ריכוז גיליונות עזר'!W22=1,1,0))) -> 1 | BS22: =IF(AG22="",0,AG22) -> 1 | BT22: =IF(AJ22="",0,AJ22) -> 1 | BU22: =IF(AK22="",0,AK22) -> 1 | BW22: =IF(R22*#REF!<200,0,1) -> #REF! | BX22: =IF(S22*#REF!<200,0,1) -> #REF! | BY22: =IF(T22*#REF!<200,0,1) -> #REF! | BZ22: =IF(U22*#REF!<200,0,1) -> #REF! | CA22: =IF(V22*#REF!<200,0,1) -> #REF!
A23: =A22+1 -> 13 | B23: =IF('13'!$F$1="13","",'13'!$F$1) | D23: =IF(OR(B23="",C23=""),"",((DATE($J$3,1,1)-C23)/365)) | M23: =IF(B23="","",IF(OR(K23=0,AND(K23=1,L23=1)),1,0)) | P23: =IF(B23="","",IF(OR(N23=0,AND(N23=1,O23=1)),1,0)) | Y23: =IF(B23="","",IF(AF23=1,1,IF(AND($J$3=2022,Q23=1,AD23>=1),1,IF(AD23>=2,1,0)))) | Z23: ='ריכוז גיליונות עזר'!S23 | AA23: ='ריכוז גיליונות עזר'!R23 | AB23: ='ריכוז גיליונות עזר'!T23 | AD23: =IF($B23="","",SUM(INDIRECT("'"&SUBSTITUTE($B23,"'","''")&"'"&"!L2:P2"))) | AE23: {=IF($B23="","",IF($F23="","",INDIRECT("'"&SUBSTITUTE($B23,"'","''")&"'"&"!L6")))} | AG23: =IF(B23="","",IF(AC23=1,1,IF(SUM(R23:V23)+AE23*AF23<=AB23,1,0))) | AH23: ='ריכוז גיליונות עזר'!U23 | AJ23: =IF(B23="","",IF(AI23=1,1,IF(AH23>=פרמטרים!$B$46,1,0))) | AL23: =IFERROR(IF(B23="","",IF(SUM(BG23:BU23)=COUNT(BG23:BU23),1,0)),$AP$1) | AP23: =IF(ISERR(ROUND(R23,0)),0,IF(OR(R23<0,$B23="",R23<>ROUND(R23,0)),0,1)) -> 0 | AQ23: =IF(ISERR(ROUND(S23,0)),0,IF(OR(S23<0,$B23="",S23<>ROUND(S23,0)),0,1)) -> 0 | AR23: =IF(ISERR(ROUND(T23,0)),0,IF(OR(T23<0,$B23="",T23<>ROUND(T23,0)),0,1)) -> 0 | AS23: =IF(ISERR(ROUND(U23,0)),0,IF(OR(U23<0,$B23="",U23<>ROUND(U23,0)),0,1)) -> 0 | AT23: {=IF(OR(AP23:AS23=0),0,1)} -> 0 | AU23: =IF(V23<$A$1,V23,$A$1) -> 0 | AV23: =IF(SUM($AU23:AU23)<$A$1,IF(SUM($U23:V23)<$A$1,U23,$A$1-SUM($AU23:AU23)),0) -> 0 | AW23: =IF(SUM($AU23:AV23)<$A$1,IF(SUM($T23:V23)<$A$1,T23,$A$1-SUM($AU23:AV23)),0) -> 0 | AX23: =IF(SUM($AU23:AW23)<$A$1,IF(SUM($S23:V23)<$A$1,S23,$A$1-SUM($AU23:AW23)),0) -> 0 | AY23: =IF(SUM($AU23:AX23)<$A$1,IF(SUM($R23:V23)<$A$1,R23,$A$1-SUM($AU23:AX23)),0) -> 0 | AZ23: =AY23 -> 0 | BA23: =AX23 -> 0 | BB23: =AW23 -> 0 | BC23: =AV23 -> 0 | BD23: =AU23 -> 0 | BE23: =IF($B23="","",BE$10) | BF23: =IF($B23="","",BF$10) | BG23: =IF(D23="",0,IF(D23<2,0,1)) -> 0 | BH23: =IF(E23="",0,E23) -> 0 | BI23: =IF(F23="",0,F23) -> 0 | BK23: =IF(H23="",0,H23) -> 0 | BL23: =IF(I23="",0,I23) -> 0 | BM23: =IF(J23="",0,J23) -> 0 | BN23: =IF(M23="",0,M23) -> 0 | BO23: =IF(P23="",0,P23) -> 0 | BP23: =IF(Y23="",0,Y23) -> 0 | BQ23: =IF(AC23=1,1,IF(Z23="",0,IF('ריכוז גיליונות עזר'!W23=1,1,0))) -> 0 | BR23: =IF(AC23=1,1,IF(AA23="",0,IF('ריכוז גיליונות עזר'!W23=1,1,0))) -> 0 | BS23: =IF(AG23="",0,AG23) -> 0 | BT23: =IF(AJ23="",0,AJ23) -> 0 | BU23: =IF(AK23="",0,AK23) -> 0 | BW23: =IF(R23*#REF!<200,0,1) -> #REF! | BX23: =IF(S23*#REF!<200,0,1) -> #REF! | BY23: =IF(T23*#REF!<200,0,1) -> #REF! | BZ23: =IF(U23*#REF!<200,0,1) -> #REF! | CA23: =IF(V23*#REF!<200,0,1) -> #REF!
A24: =A23+1 -> 14 | B24: =IF(פסיפס!$F$1="14","",פסיפס!$F$1) -> פסיפס | C24: 32509 | D24: =IF(OR(B24="",C24=""),"",((DATE($J$3,1,1)-C24)/365)) -> 36.024658 | E24: 1 | F24: 1 | H24: 1 | I24: 1 | J24: 1 | K24: 0 | M24: =IF(B24="","",IF(OR(K24=0,AND(K24=1,L24=1)),1,0)) -> 1 | N24: 0 | P24: =IF(B24="","",IF(OR(N24=0,AND(N24=1,O24=1)),1,0)) -> 1 | Y24: =IF(B24="","",IF(AF24=1,1,IF(AND($J$3=2022,Q24=1,AD24>=1),1,IF(AD24>=2,1,0)))) -> 1 | Z24: ='ריכוז גיליונות עזר'!S24 -> 2 | AA24: ='ריכוז גיליונות עזר'!R24 -> 2 | AB24: ='ריכוז גיליונות עזר'!T24 -> 2 | AD24: =IF($B24="","",SUM(INDIRECT("'"&SUBSTITUTE($B24,"'","''")&"'"&"!L2:P2"))) -> 2 | AE24: {=IF($B24="","",IF($F24="","",INDIRECT("'"&SUBSTITUTE($B24,"'","''")&"'"&"!L6")))} -> 0 | AG24: =IF(B24="","",IF(AC24=1,1,IF(SUM(R24:V24)+AE24*AF24<=AB24,1,0))) -> 1 | AH24: ='ריכוז גיליונות עזר'!U24 -> 1 | AJ24: =IF(B24="","",IF(AI24=1,1,IF(AH24>=פרמטרים!$B$46,1,0))) -> 1 | AK24: 1 | AL24: =IFERROR(IF(B24="","",IF(SUM(BG24:BU24)=COUNT(BG24:BU24),1,0)),$AP$1) -> 1 | AP24: =IF(ISERR(ROUND(R24,0)),0,IF(OR(R24<0,$B24="",R24<>ROUND(R24,0)),0,1)) -> 1 | AQ24: =IF(ISERR(ROUND(S24,0)),0,IF(OR(S24<0,$B24="",S24<>ROUND(S24,0)),0,1)) -> 1 | AR24: =IF(ISERR(ROUND(T24,0)),0,IF(OR(T24<0,$B24="",T24<>ROUND(T24,0)),0,1)) -> 1 | AS24: =IF(ISERR(ROUND(U24,0)),0,IF(OR(U24<0,$B24="",U24<>ROUND(U24,0)),0,1)) -> 1 | AT24: {=IF(OR(AP24:AS24=0),0,1)} -> 1 | AU24: =IF(V24<$A$1,V24,$A$1) -> 0 | AV24: =IF(SUM($AU24:AU24)<$A$1,IF(SUM($U24:V24)<$A$1,U24,$A$1-SUM($AU24:AU24)),0) -> 0 | AW24: =IF(SUM($AU24:AV24)<$A$1,IF(SUM($T24:V24)<$A$1,T24,$A$1-SUM($AU24:AV24)),0) -> 0 | AX24: =IF(SUM($AU24:AW24)<$A$1,IF(SUM($S24:V24)<$A$1,S24,$A$1-SUM($AU24:AW24)),0) -> 0 | AY24: =IF(SUM($AU24:AX24)<$A$1,IF(SUM($R24:V24)<$A$1,R24,$A$1-SUM($AU24:AX24)),0) -> 0 | AZ24: =AY24 -> 0 | BA24: =AX24 -> 0 | BB24: =AW24 -> 0 | BC24: =AV24 -> 0 | BD24: =AU24 -> 0 | BE24: =IF($B24="","",BE$10) -> 0 | BF24: =IF($B24="","",BF$10) -> 1 | BG24: =IF(D24="",0,IF(D24<2,0,1)) -> 1 | BH24: =IF(E24="",0,E24) -> 1 | BI24: =IF(F24="",0,F24) -> 1 | BK24: =IF(H24="",0,H24) -> 1 | BL24: =IF(I24="",0,I24) -> 1 | BM24: =IF(J24="",0,J24) -> 1 | BN24: =IF(M24="",0,M24) -> 1 | BO24: =IF(P24="",0,P24) -> 1 | BP24: =IF(Y24="",0,Y24) -> 1 | BQ24: =IF(AC24=1,1,IF(Z24="",0,IF('ריכוז גיליונות עזר'!W24=1,1,0))) -> 1 | BR24: =IF(AC24=1,1,IF(AA24="",0,IF('ריכוז גיליונות עזר'!W24=1,1,0))) -> 1 | BS24: =IF(AG24="",0,AG24) -> 1 | BT24: =IF(AJ24="",0,AJ24) -> 1 | BU24: =IF(AK24="",0,AK24) -> 1 | BW24: =IF(R24*#REF!<200,0,1) -> #REF! | BX24: =IF(S24*#REF!<200,0,1) -> #REF! | BY24: =IF(T24*#REF!<200,0,1) -> #REF! | BZ24: =IF(U24*#REF!<200,0,1) -> #REF! | CA24: =IF(V24*#REF!<200,0,1) -> #REF!
A25: =A24+1 -> 15 | B25: =IF('קתרזיס ( עמותת מצרף)'!$F$1="15","",'קתרזיס ( עמותת מצרף)'!$F$1) -> קתרזיס ( עמותת מצרף) | C25: 37622 | D25: =IF(OR(B25="",C25=""),"",((DATE($J$3,1,1)-C25)/365)) -> 22.016438 | E25: 1 | F25: 1 | H25: 1 | I25: 1 | J25: 1 | K25: 0 | M25: =IF(B25="","",IF(OR(K25=0,AND(K25=1,L25=1)),1,0)) -> 1 | N25: 0 | P25: =IF(B25="","",IF(OR(N25=0,AND(N25=1,O25=1)),1,0)) -> 1 | Y25: =IF(B25="","",IF(AF25=1,1,IF(AND($J$3=2022,Q25=1,AD25>=1),1,IF(AD25>=2,1,0)))) -> 1 | Z25: ='ריכוז גיליונות עזר'!S25 -> 2 | AA25: ='ריכוז גיליונות עזר'!R25 -> 2 | AB25: ='ריכוז גיליונות עזר'!T25 -> 2 | AD25: =IF($B25="","",SUM(INDIRECT("'"&SUBSTITUTE($B25,"'","''")&"'"&"!L2:P2"))) -> 2 | AE25: {=IF($B25="","",IF($F25="","",INDIRECT("'"&SUBSTITUTE($B25,"'","''")&"'"&"!L6")))} -> 0 | AG25: =IF(B25="","",IF(AC25=1,1,IF(SUM(R25:V25)+AE25*AF25<=AB25,1,0))) -> 1 | AH25: ='ריכוז גיליונות עזר'!U25 -> 0.70588235 | AJ25: =IF(B25="","",IF(AI25=1,1,IF(AH25>=פרמטרים!$B$46,1,0))) -> 1 | AK25: 1 | AL25: =IFERROR(IF(B25="","",IF(SUM(BG25:BU25)=COUNT(BG25:BU25),1,0)),$AP$1) -> 1 | AP25: =IF(ISERR(ROUND(R25,0)),0,IF(OR(R25<0,$B25="",R25<>ROUND(R25,0)),0,1)) -> 1 | AQ25: =IF(ISERR(ROUND(S25,0)),0,IF(OR(S25<0,$B25="",S25<>ROUND(S25,0)),0,1)) -> 1 | AR25: =IF(ISERR(ROUND(T25,0)),0,IF(OR(T25<0,$B25="",T25<>ROUND(T25,0)),0,1)) -> 1 | AS25: =IF(ISERR(ROUND(U25,0)),0,IF(OR(U25<0,$B25="",U25<>ROUND(U25,0)),0,1)) -> 1 | AT25: {=IF(OR(AP25:AS25=0),0,1)} -> 1 | AU25: =IF(V25<$A$1,V25,$A$1) -> 0 | AV25: =IF(SUM($AU25:AU25)<$A$1,IF(SUM($U25:V25)<$A$1,U25,$A$1-SUM($AU25:AU25)),0) -> 0 | AW25: =IF(SUM($AU25:AV25)<$A$1,IF(SUM($T25:V25)<$A$1,T25,$A$1-SUM($AU25:AV25)),0) -> 0 | AX25: =IF(SUM($AU25:AW25)<$A$1,IF(SUM($S25:V25)<$A$1,S25,$A$1-SUM($AU25:AW25)),0) -> 0 | AY25: =IF(SUM($AU25:AX25)<$A$1,IF(SUM($R25:V25)<$A$1,R25,$A$1-SUM($AU25:AX25)),0) -> 0 | AZ25: =AY25 -> 0 | BA25: =AX25 -> 0 | BB25: =AW25 -> 0 | BC25: =AV25 -> 0 | BD25: =AU25 -> 0 | BE25: =IF($B25="","",BE$10) -> 0 | BF25: =IF($B25="","",BF$10) -> 1 | BG25: =IF(D25="",0,IF(D25<2,0,1)) -> 1 | BH25: =IF(E25="",0,E25) -> 1 | BI25: =IF(F25="",0,F25) -> 1 | BK25: =IF(H25="",0,H25) -> 1 | BL25: =IF(I25="",0,I25) -> 1 | BM25: =IF(J25="",0,J25) -> 1 | BN25: =IF(M25="",0,M25) -> 1 | BO25: =IF(P25="",0,P25) -> 1 | BP25: =IF(Y25="",0,Y25) -> 1 | BQ25: =IF(AC25=1,1,IF(Z25="",0,IF('ריכוז גיליונות עזר'!W25=1,1,0))) -> 1 | BR25: =IF(AC25=1,1,IF(AA25="",0,IF('ריכוז גיליונות עזר'!W25=1,1,0))) -> 1 | BS25: =IF(AG25="",0,AG25) -> 1 | BT25: =IF(AJ25="",0,AJ25) -> 1 | BU25: =IF(AK25="",0,AK25) -> 1 | BW25: =IF(R25*#REF!<200,0,1) -> #REF! | BX25: =IF(S25*#REF!<200,0,1) -> #REF! | BY25: =IF(T25*#REF!<200,0,1) -> #REF! | BZ25: =IF(U25*#REF!<200,0,1) -> #REF! | CA25: =IF(V25*#REF!<200,0,1) -> #REF!
A26: =A25+1 -> 16 | B26: =IF('16'!$F$1="16","",'16'!$F$1) | D26: =IF(OR(B26="",C26=""),"",((DATE($J$3,1,1)-C26)/365)) | M26: =IF(B26="","",IF(OR(K26=0,AND(K26=1,L26=1)),1,0)) | P26: =IF(B26="","",IF(OR(N26=0,AND(N26=1,O26=1)),1,0)) | Y26: =IF(B26="","",IF(AF26=1,1,IF(AND($J$3=2022,Q26=1,AD26>=1),1,IF(AD26>=2,1,0)))) | Z26: ='ריכוז גיליונות עזר'!S26 | AA26: ='ריכוז גיליונות עזר'!R26 | AB26: ='ריכוז גיליונות עזר'!T26 | AD26: =IF($B26="","",SUM(INDIRECT("'"&SUBSTITUTE($B26,"'","''")&"'"&"!L2:P2"))) | AE26: {=IF($B26="","",IF($F26="","",INDIRECT("'"&SUBSTITUTE($B26,"'","''")&"'"&"!L6")))} | AG26: =IF(B26="","",IF(AC26=1,1,IF(AB26=0,0,IF(SUM(R26:V26)+AE26*AF26<=AB26,1,0)))) | AH26: ='ריכוז גיליונות עזר'!U26 | AJ26: =IF(B26="","",IF(AI26=1,1,IF(AH26>=פרמטרים!$B$46,1,0))) | AL26: =IFERROR(IF(B26="","",IF(SUM(BG26:BU26)=COUNT(BG26:BU26),1,0)),$AP$1) | AP26: =IF(ISERR(ROUND(R26,0)),0,IF(OR(R26<0,$B26="",R26<>ROUND(R26,0)),0,1)) -> 0 | AQ26: =IF(ISERR(ROUND(S26,0)),0,IF(OR(S26<0,$B26="",S26<>ROUND(S26,0)),0,1)) -> 0 | AR26: =IF(ISERR(ROUND(T26,0)),0,IF(OR(T26<0,$B26="",T26<>ROUND(T26,0)),0,1)) -> 0 | AS26: =IF(ISERR(ROUND(U26,0)),0,IF(OR(U26<0,$B26="",U26<>ROUND(U26,0)),0,1)) -> 0 | AT26: {=IF(OR(AP26:AS26=0),0,1)} -> 0 | AU26: =IF(V26<$A$1,V26,$A$1) -> 0 | AV26: =IF(SUM($AU26:AU26)<$A$1,IF(SUM($U26:V26)<$A$1,U26,$A$1-SUM($AU26:AU26)),0) -> 0 | AW26: =IF(SUM($AU26:AV26)<$A$1,IF(SUM($T26:V26)<$A$1,T26,$A$1-SUM($AU26:AV26)),0) -> 0 | AX26: =IF(SUM($AU26:AW26)<$A$1,IF(SUM($S26:V26)<$A$1,S26,$A$1-SUM($AU26:AW26)),0) -> 0 | AY26: =IF(SUM($AU26:AX26)<$A$1,IF(SUM($R26:V26)<$A$1,R26,$A$1-SUM($AU26:AX26)),0) -> 0 | AZ26: =AY26 -> 0 | BA26: =AX26 -> 0 | BB26: =AW26 -> 0 | BC26: =AV26 -> 0 | BD26: =AU26 -> 0 | BE26: =IF($B26="","",BE$10) | BF26: =IF($B26="","",BF$10) | BG26: =IF(D26="",0,IF(D26<2,0,1)) -> 0 | BH26: =IF(E26="",0,E26) -> 0 | BI26: =IF(F26="",0,F26) -> 0 | BK26: =IF(H26="",0,H26) -> 0 | BL26: =IF(I26="",0,I26) -> 0 | BM26: =IF(J26="",0,J26) -> 0 | BN26: =IF(M26="",0,M26) -> 0 | BO26: =IF(P26="",0,P26) -> 0 | BP26: =IF(Y26="",0,Y26) -> 0 | BQ26: =IF(AC26=1,1,IF(Z26="",0,IF('ריכוז גיליונות עזר'!W26=1,1,0))) -> 0 | BR26: =IF(AC26=1,1,IF(AA26="",0,IF('ריכוז גיליונות עזר'!W26=1,1,0))) -> 0 | BS26: =IF(AG26="",0,AG26) -> 0 | BT26: =IF(AJ26="",0,AJ26) -> 0 | BU26: =IF(AK26="",0,AK26) -> 0 | BW26: =IF(R26*#REF!<200,0,1) -> #REF! | BX26: =IF(S26*#REF!<200,0,1) -> #REF! | BY26: =IF(T26*#REF!<200,0,1) -> #REF! | BZ26: =IF(U26*#REF!<200,0,1) -> #REF! | CA26: =IF(V26*#REF!<200,0,1) -> #REF!
A27: =A26+1 -> 17 | B27: =IF('הכיוון מזרח (עמותת אחותי)'!$F$1="17","",'הכיוון מזרח (עמותת אחותי)'!$F$1) -> הכיוון מזרח (עמותת אחותי) | C27: 36526 | D27: =IF(OR(B27="",C27=""),"",((DATE($J$3,1,1)-C27)/365)) -> 25.019178 | E27: 1 | F27: 1 | H27: 1 | I27: 1 | J27: 1 | K27: 1 | L27: 1 | M27: =IF(B27="","",IF(OR(K27=0,AND(K27=1,L27=1)),1,0)) -> 1 | N27: 0 | P27: =IF(B27="","",IF(OR(N27=0,AND(N27=1,O27=1)),1,0)) -> 1 | Y27: =IF(B27="","",IF(AF27=1,1,IF(AND($J$3=2022,Q27=1,AD27>=1),1,IF(AD27>=2,1,0)))) -> 1 | Z27: ='ריכוז גיליונות עזר'!S27 -> 2 | AA27: ='ריכוז גיליונות עזר'!R27 -> 2 | AB27: ='ריכוז גיליונות עזר'!T27 -> 2 | AD27: =IF($B27="","",SUM(INDIRECT("'"&SUBSTITUTE($B27,"'","''")&"'"&"!L2:P2"))) -> 2 | AE27: {=IF($B27="","",IF($F27="","",INDIRECT("'"&SUBSTITUTE($B27,"'","''")&"'"&"!L6")))} -> 0 | AG27: =IF(B27="","",IF(AC27=1,1,IF(AB27=0,0,IF(SUM(R27:V27)+AE27*AF27<=AB27,1,0)))) -> 1 | AH27: ='ריכוז גיליונות עזר'!U27 -> 0.72794118 | AJ27: =IF(B27="","",IF(AI27=1,1,IF(AH27>=פרמטרים!$B$46,1,0))) -> 1 | AK27: 1 | AL27: =IFERROR(IF(B27="","",IF(SUM(BG27:BU27)=COUNT(BG27:BU27),1,0)),$AP$1) -> 1 | AP27: =IF(ISERR(ROUND(R27,0)),0,IF(OR(R27<0,$B27="",R27<>ROUND(R27,0)),0,1)) -> 1 | AQ27: =IF(ISERR(ROUND(S27,0)),0,IF(OR(S27<0,$B27="",S27<>ROUND(S27,0)),0,1)) -> 1 | AR27: =IF(ISERR(ROUND(T27,0)),0,IF(OR(T27<0,$B27="",T27<>ROUND(T27,0)),0,1)) -> 1 | AS27: =IF(ISERR(ROUND(U27,0)),0,IF(OR(U27<0,$B27="",U27<>ROUND(U27,0)),0,1)) -> 1 | AT27: {=IF(OR(AP27:AS27=0),0,1)} -> 1 | AU27: =IF(V27<$A$1,V27,$A$1) -> 0 | AV27: =IF(SUM($AU27:AU27)<$A$1,IF(SUM($U27:V27)<$A$1,U27,$A$1-SUM($AU27:AU27)),0) -> 0 | AW27: =IF(SUM($AU27:AV27)<$A$1,IF(SUM($T27:V27)<$A$1,T27,$A$1-SUM($AU27:AV27)),0) -> 0 | AX27: =IF(SUM($AU27:AW27)<$A$1,IF(SUM($S27:V27)<$A$1,S27,$A$1-SUM($AU27:AW27)),0) -> 0 | AY27: =IF(SUM($AU27:AX27)<$A$1,IF(SUM($R27:V27)<$A$1,R27,$A$1-SUM($AU27:AX27)),0) -> 0 | AZ27: =AY27 -> 0 | BA27: =AX27 -> 0 | BB27: =AW27 -> 0 | BC27: =AV27 -> 0 | BD27: =AU27 -> 0 | BE27: =IF($B27="","",BE$10) -> 0 | BF27: =IF($B27="","",BF$10) -> 1 | BG27: =IF(D27="",0,IF(D27<2,0,1)) -> 1 | BH27: =IF(E27="",0,E27) -> 1 | BI27: =IF(F27="",0,F27) -> 1 | BK27: =IF(H27="",0,H27) -> 1 | BL27: =IF(I27="",0,I27) -> 1 | BM27: =IF(J27="",0,J27) -> 1 | BN27: =IF(M27="",0,M27) -> 1 | BO27: =IF(P27="",0,P27) -> 1 | BP27: =IF(Y27="",0,Y27) -> 1 | BQ27: =IF(AC27=1,1,IF(Z27="",0,IF('ריכוז גיליונות עזר'!W27=1,1,0))) -> 1 | BR27: =IF(AC27=1,1,IF(AA27="",0,IF('ריכוז גיליונות עזר'!W27=1,1,0))) -> 1 | BS27: =IF(AG27="",0,AG27) -> 1 | BT27: =IF(AJ27="",0,AJ27) -> 1 | BU27: =IF(AK27="",0,AK27) -> 1 | BW27: =IF(R27*#REF!<200,0,1) -> #REF! | BX27: =IF(S27*#REF!<200,0,1) -> #REF! | BY27: =IF(T27*#REF!<200,0,1) -> #REF! | BZ27: =IF(U27*#REF!<200,0,1) -> #REF! | CA27: =IF(V27*#REF!<200,0,1) -> #REF!
A28: =A27+1 -> 18 | B28: =IF('18'!$F$1="18","",'18'!$F$1) | D28: =IF(OR(B28="",C28=""),"",((DATE($J$3,1,1)-C28)/365)) | M28: =IF(B28="","",IF(OR(K28=0,AND(K28=1,L28=1)),1,0)) | P28: =IF(B28="","",IF(OR(N28=0,AND(N28=1,O28=1)),1,0)) | Y28: =IF(B28="","",IF(AF28=1,1,IF(AND($J$3=2022,Q28=1,AD28>=1),1,IF(AD28>=2,1,0)))) | Z28: ='ריכוז גיליונות עזר'!S28 | AA28: ='ריכוז גיליונות עזר'!R28 | AB28: ='ריכוז גיליונות עזר'!T28 | AD28: =IF($B28="","",SUM(INDIRECT("'"&SUBSTITUTE($B28,"'","''")&"'"&"!L2:P2"))) | AE28: {=IF($B28="","",IF($F28="","",INDIRECT("'"&SUBSTITUTE($B28,"'","''")&"'"&"!L6")))} | AG28: =IF(B28="","",IF(AC28=1,1,IF(AB28=0,0,IF(SUM(R28:V28)+AE28*AF28<=AB28,1,0)))) | AH28: ='ריכוז גיליונות עזר'!U28 | AJ28: =IF(B28="","",IF(AI28=1,1,IF(AH28>=פרמטרים!$B$46,1,0))) | AK28: 1 | AL28: =IFERROR(IF(B28="","",IF(SUM(BG28:BU28)=COUNT(BG28:BU28),1,0)),$AP$1) | AP28: =IF(ISERR(ROUND(R28,0)),0,IF(OR(R28<0,$B28="",R28<>ROUND(R28,0)),0,1)) -> 0 | AQ28: =IF(ISERR(ROUND(S28,0)),0,IF(OR(S28<0,$B28="",S28<>ROUND(S28,0)),0,1)) -> 0 | AR28: =IF(ISERR(ROUND(T28,0)),0,IF(OR(T28<0,$B28="",T28<>ROUND(T28,0)),0,1)) -> 0 | AS28: =IF(ISERR(ROUND(U28,0)),0,IF(OR(U28<0,$B28="",U28<>ROUND(U28,0)),0,1)) -> 0 | AT28: {=IF(OR(AP28:AS28=0),0,1)} -> 0 | AU28: =IF(V28<$A$1,V28,$A$1) -> 0 | AV28: =IF(SUM($AU28:AU28)<$A$1,IF(SUM($U28:V28)<$A$1,U28,$A$1-SUM($AU28:AU28)),0) -> 0 | AW28: =IF(SUM($AU28:AV28)<$A$1,IF(SUM($T28:V28)<$A$1,T28,$A$1-SUM($AU28:AV28)),0) -> 0 | AX28: =IF(SUM($AU28:AW28)<$A$1,IF(SUM($S28:V28)<$A$1,S28,$A$1-SUM($AU28:AW28)),0) -> 0 | AY28: =IF(SUM($AU28:AX28)<$A$1,IF(SUM($R28:V28)<$A$1,R28,$A$1-SUM($AU28:AX28)),0) -> 0 | AZ28: =AY28 -> 0 | BA28: =AX28 -> 0 | BB28: =AW28 -> 0 | BC28: =AV28 -> 0 | BD28: =AU28 -> 0 | BE28: =IF($B28="","",BE$10) | BF28: =IF($B28="","",BF$10) | BG28: =IF(D28="",0,IF(D28<2,0,1)) -> 0 | BH28: =IF(E28="",0,E28) -> 0 | BI28: =IF(F28="",0,F28) -> 0 | BK28: =IF(H28="",0,H28) -> 0 | BL28: =IF(I28="",0,I28) -> 0 | BM28: =IF(J28="",0,J28) -> 0 | BN28: =IF(M28="",0,M28) -> 0 | BO28: =IF(P28="",0,P28) -> 0 | BP28: =IF(Y28="",0,Y28) -> 0 | BQ28: =IF(AC28=1,1,IF(Z28="",0,IF('ריכוז גיליונות עזר'!W28=1,1,0))) -> 0 | BR28: =IF(AC28=1,1,IF(AA28="",0,IF('ריכוז גיליונות עזר'!W28=1,1,0))) -> 0 | BS28: =IF(AG28="",0,AG28) -> 0 | BT28: =IF(AJ28="",0,AJ28) -> 0 | BU28: =IF(AK28="",0,AK28) -> 1 | BW28: =IF(R28*#REF!<200,0,1) -> #REF! | BX28: =IF(S28*#REF!<200,0,1) -> #REF! | BY28: =IF(T28*#REF!<200,0,1) -> #REF! | BZ28: =IF(U28*#REF!<200,0,1) -> #REF! | CA28: =IF(V28*#REF!<200,0,1) -> #REF!
A29: =A28+1 -> 19 | B29: =IF(הו!$F$1="19","",הו!$F$1) -> הו | C29: 39083 | D29: =IF(OR(B29="",C29=""),"",((DATE($J$3,1,1)-C29)/365)) -> 18.013699 | E29: 1 | F29: 1 | H29: 1 | I29: 1 | J29: 1 | K29: 1 | L29: 1 | M29: =IF(B29="","",IF(OR(K29=0,AND(K29=1,L29=1)),1,0)) -> 1 | N29: 0 | P29: =IF(B29="","",IF(OR(N29=0,AND(N29=1,O29=1)),1,0)) -> 1 | Y29: =IF(B29="","",IF(AF29=1,1,IF(AND($J$3=2022,Q29=1,AD29>=1),1,IF(AD29>=2,1,0)))) -> 1 | Z29: ='ריכוז גיליונות עזר'!S29 -> 2 | AA29: ='ריכוז גיליונות עזר'!R29 -> 2 | AB29: ='ריכוז גיליונות עזר'!T29 -> 2 | AD29: =IF($B29="","",SUM(INDIRECT("'"&SUBSTITUTE($B29,"'","''")&"'"&"!L2:P2"))) -> 2 | AE29: {=IF($B29="","",IF($F29="","",INDIRECT("'"&SUBSTITUTE($B29,"'","''")&"'"&"!L6")))} -> 0 | AG29: =IF(B29="","",IF(AC29=1,1,IF(AB29=0,0,IF(SUM(R29:V29)+AE29*AF29<=AB29,1,0)))) -> 1 | AH29: ='ריכוז גיליונות עזר'!U29 -> 1 | AJ29: =IF(B29="","",IF(AI29=1,1,IF(AH29>=פרמטרים!$B$46,1,0))) -> 1 | AK29: 1 | AL29: =IFERROR(IF(B29="","",IF(SUM(BG29:BU29)=COUNT(BG29:BU29),1,0)),$AP$1) -> 1 | AP29: =IF(ISERR(ROUND(R29,0)),0,IF(OR(R29<0,$B29="",R29<>ROUND(R29,0)),0,1)) -> 1 | AQ29: =IF(ISERR(ROUND(S29,0)),0,IF(OR(S29<0,$B29="",S29<>ROUND(S29,0)),0,1)) -> 1 | AR29: =IF(ISERR(ROUND(T29,0)),0,IF(OR(T29<0,$B29="",T29<>ROUND(T29,0)),0,1)) -> 1 | AS29: =IF(ISERR(ROUND(U29,0)),0,IF(OR(U29<0,$B29="",U29<>ROUND(U29,0)),0,1)) -> 1 | AT29: {=IF(OR(AP29:AS29=0),0,1)} -> 1 | AU29: =IF(V29<$A$1,V29,$A$1) -> 0 | AV29: =IF(SUM($AU29:AU29)<$A$1,IF(SUM($U29:V29)<$A$1,U29,$A$1-SUM($AU29:AU29)),0) -> 0 | AW29: =IF(SUM($AU29:AV29)<$A$1,IF(SUM($T29:V29)<$A$1,T29,$A$1-SUM($AU29:AV29)),0) -> 0 | AX29: =IF(SUM($AU29:AW29)<$A$1,IF(SUM($S29:V29)<$A$1,S29,$A$1-SUM($AU29:AW29)),0) -> 0 | AY29: =IF(SUM($AU29:AX29)<$A$1,IF(SUM($R29:V29)<$A$1,R29,$A$1-SUM($AU29:AX29)),0) -> 0 | AZ29: =AY29 -> 0 | BA29: =AX29 -> 0 | BB29: =AW29 -> 0 | BC29: =AV29 -> 0 | BD29: =AU29 -> 0 | BE29: =IF($B29="","",BE$10) -> 0 | BF29: =IF($B29="","",BF$10) -> 1 | BG29: =IF(D29="",0,IF(D29<2,0,1)) -> 1 | BH29: =IF(E29="",0,E29) -> 1 | BI29: =IF(F29="",0,F29) -> 1 | BK29: =IF(H29="",0,H29) -> 1 | BL29: =IF(I29="",0,I29) -> 1 | BM29: =IF(J29="",0,J29) -> 1 | BN29: =IF(M29="",0,M29) -> 1 | BO29: =IF(P29="",0,P29) -> 1 | BP29: =IF(Y29="",0,Y29) -> 1 | BQ29: =IF(AC29=1,1,IF(Z29="",0,IF('ריכוז גיליונות עזר'!W29=1,1,0))) -> 1 | BR29: =IF(AC29=1,1,IF(AA29="",0,IF('ריכוז גיליונות עזר'!W29=1,1,0))) -> 1 | BS29: =IF(AG29="",0,AG29) -> 1 | BT29: =IF(AJ29="",0,AJ29) -> 1 | BU29: =IF(AK29="",0,AK29) -> 1 | BW29: =IF(R29*#REF!<200,0,1) -> #REF! | BX29: =IF(S29*#REF!<200,0,1) -> #REF! | BY29: =IF(T29*#REF!<200,0,1) -> #REF! | BZ29: =IF(U29*#REF!<200,0,1) -> #REF! | CA29: =IF(V29*#REF!<200,0,1) -> #REF!
A30: =A29+1 -> 20 | B30: =IF('הבא להבא (עמותת מקום לשירה)'!$F$1="20","",'הבא להבא (עמותת מקום לשירה)'!$F$1) -> הבא להבא (עמותת מקום לשירה) | C30: 40544 | D30: =IF(OR(B30="",C30=""),"",((DATE($J$3,1,1)-C30)/365)) -> 14.010959 | E30: 1 | F30: 1 | H30: 1 | I30: 1 | J30: 1 | K30: 1 | L30: 1 | M30: =IF(B30="","",IF(OR(K30=0,AND(K30=1,L30=1)),1,0)) -> 1 | N30: 0 | P30: =IF(B30="","",IF(OR(N30=0,AND(N30=1,O30=1)),1,0)) -> 1 | Y30: =IF(B30="","",IF(AF30=1,1,IF(AND($J$3=2022,Q30=1,AD30>=1),1,IF(AD30>=2,1,0)))) -> 1 | Z30: ='ריכוז גיליונות עזר'!S30 -> 3 | AA30: ='ריכוז גיליונות עזר'!R30 -> 3 | AB30: ='ריכוז גיליונות עזר'!T30 -> 3 | AD30: =IF($B30="","",SUM(INDIRECT("'"&SUBSTITUTE($B30,"'","''")&"'"&"!L2:P2"))) -> 3 | AE30: {=IF($B30="","",IF($F30="","",INDIRECT("'"&SUBSTITUTE($B30,"'","''")&"'"&"!L6")))} -> 0 | AG30: =IF(B30="","",IF(AC30=1,1,IF(AB30=0,0,IF(SUM(R30:V30)+AE30*AF30<=AB30,1,0)))) -> 1 | AH30: ='ריכוז גיליונות עזר'!U30 -> 0.98734177 | AJ30: =IF(B30="","",IF(AI30=1,1,IF(AH30>=פרמטרים!$B$46,1,0))) -> 1 | AK30: 1 | AL30: =IFERROR(IF(B30="","",IF(SUM(BG30:BU30)=COUNT(BG30:BU30),1,0)),$AP$1) -> 1 | AP30: =IF(ISERR(ROUND(R30,0)),0,IF(OR(R30<0,$B30="",R30<>ROUND(R30,0)),0,1)) -> 1 | AQ30: =IF(ISERR(ROUND(S30,0)),0,IF(OR(S30<0,$B30="",S30<>ROUND(S30,0)),0,1)) -> 1 | AR30: =IF(ISERR(ROUND(T30,0)),0,IF(OR(T30<0,$B30="",T30<>ROUND(T30,0)),0,1)) -> 1 | AS30: =IF(ISERR(ROUND(U30,0)),0,IF(OR(U30<0,$B30="",U30<>ROUND(U30,0)),0,1)) -> 1 | AT30: {=IF(OR(AP30:AS30=0),0,1)} -> 1 | AU30: =IF(V30<$A$1,V30,$A$1) -> 0 | AV30: =IF(SUM($AU30:AU30)<$A$1,IF(SUM($U30:V30)<$A$1,U30,$A$1-SUM($AU30:AU30)),0) -> 0 | AW30: =IF(SUM($AU30:AV30)<$A$1,IF(SUM($T30:V30)<$A$1,T30,$A$1-SUM($AU30:AV30)),0) -> 0 | AX30: =IF(SUM($AU30:AW30)<$A$1,IF(SUM($S30:V30)<$A$1,S30,$A$1-SUM($AU30:AW30)),0) -> 0 | AY30: =IF(SUM($AU30:AX30)<$A$1,IF(SUM($R30:V30)<$A$1,R30,$A$1-SUM($AU30:AX30)),0) -> 0 | AZ30: =AY30 -> 0 | BA30: =AX30 -> 0 | BB30: =AW30 -> 0 | BC30: =AV30 -> 0 | BD30: =AU30 -> 0 | BE30: =IF($B30="","",BE$10) -> 0 | BF30: =IF($B30="","",BF$10) -> 1 | BG30: =IF(D30="",0,IF(D30<2,0,1)) -> 1 | BH30: =IF(E30="",0,E30) -> 1 | BI30: =IF(F30="",0,F30) -> 1 | BK30: =IF(H30="",0,H30) -> 1 | BL30: =IF(I30="",0,I30) -> 1 | BM30: =IF(J30="",0,J30) -> 1 | BN30: =IF(M30="",0,M30) -> 1 | BO30: =IF(P30="",0,P30) -> 1 | BP30: =IF(Y30="",0,Y30) -> 1 | BQ30: =IF(AC30=1,1,IF(Z30="",0,IF('ריכוז גיליונות עזר'!W30=1,1,0))) -> 1 | BR30: =IF(AC30=1,1,IF(AA30="",0,IF('ריכוז גיליונות עזר'!W30=1,1,0))) -> 1 | BS30: =IF(AG30="",0,AG30) -> 1 | BT30: =IF(AJ30="",0,AJ30) -> 1 | BU30: =IF(AK30="",0,AK30) -> 1 | BW30: =IF(R30*#REF!<200,0,1) -> #REF! | BX30: =IF(S30*#REF!<200,0,1) -> #REF! | BY30: =IF(T30*#REF!<200,0,1) -> #REF! | BZ30: =IF(U30*#REF!<200,0,1) -> #REF! | CA30: =IF(V30*#REF!<200,0,1) -> #REF!
A31: =A30+1 -> 21 | B31: =IF('היסטוריה (החברה ההיסטורית הישרא'!$F$1="21","",'היסטוריה (החברה ההיסטורית הישרא'!$F$1) -> היסטוריה (החברה ההיסטורית הישרא | C31: 27030 | D31: =IF(OR(B31="",C31=""),"",((DATE($J$3,1,1)-C31)/365)) -> 51.035616 | E31: 1 | F31: 1 | H31: 1 | I31: 1 | J31: 1 | K31: 1 | L31: 1 | M31: =IF(B31="","",IF(OR(K31=0,AND(K31=1,L31=1)),1,0)) -> 1 | N31: 0 | P31: =IF(B31="","",IF(OR(N31=0,AND(N31=1,O31=1)),1,0)) -> 1 | Y31: =IF(B31="","",IF(AF31=1,1,IF(AND($J$3=2022,Q31=1,AD31>=1),1,IF(AD31>=2,1,0)))) -> 1 | Z31: ='ריכוז גיליונות עזר'!S31 -> 2 | AA31: ='ריכוז גיליונות עזר'!R31 -> 2 | AB31: ='ריכוז גיליונות עזר'!T31 -> 2 | AD31: =IF($B31="","",SUM(INDIRECT("'"&SUBSTITUTE($B31,"'","''")&"'"&"!L2:P2"))) -> 2 | AE31: {=IF($B31="","",IF($F31="","",INDIRECT("'"&SUBSTITUTE($B31,"'","''")&"'"&"!L6")))} -> 0 | AG31: =IF(B31="","",IF(AC31=1,1,IF(AB31=0,0,IF(SUM(R31:V31)+AE31*AF31<=AB31,1,0)))) -> 1 | AH31: ='ריכוז גיליונות עזר'!U31 -> 1 | AJ31: =IF(B31="","",IF(AI31=1,1,IF(AH31>=פרמטרים!$B$46,1,0))) -> 1 | AK31: 1 | AL31: =IFERROR(IF(B31="","",IF(SUM(BG31:BU31)=COUNT(BG31:BU31),1,0)),$AP$1) -> 1 | AP31: =IF(ISERR(ROUND(R31,0)),0,IF(OR(R31<0,$B31="",R31<>ROUND(R31,0)),0,1)) -> 1 | AQ31: =IF(ISERR(ROUND(S31,0)),0,IF(OR(S31<0,$B31="",S31<>ROUND(S31,0)),0,1)) -> 1 | AR31: =IF(ISERR(ROUND(T31,0)),0,IF(OR(T31<0,$B31="",T31<>ROUND(T31,0)),0,1)) -> 1 | AS31: =IF(ISERR(ROUND(U31,0)),0,IF(OR(U31<0,$B31="",U31<>ROUND(U31,0)),0,1)) -> 1 | AT31: {=IF(OR(AP31:AS31=0),0,1)} -> 1 | AU31: =IF(V31<$A$1,V31,$A$1) -> 0 | AV31: =IF(SUM($AU31:AU31)<$A$1,IF(SUM($U31:V31)<$A$1,U31,$A$1-SUM($AU31:AU31)),0) -> 0 | AW31: =IF(SUM($AU31:AV31)<$A$1,IF(SUM($T31:V31)<$A$1,T31,$A$1-SUM($AU31:AV31)),0) -> 0 | AX31: =IF(SUM($AU31:AW31)<$A$1,IF(SUM($S31:V31)<$A$1,S31,$A$1-SUM($AU31:AW31)),0) -> 0 | AY31: =IF(SUM($AU31:AX31)<$A$1,IF(SUM($R31:V31)<$A$1,R31,$A$1-SUM($AU31:AX31)),0) -> 0 | AZ31: =AY31 -> 0 | BA31: =AX31 -> 0 | BB31: =AW31 -> 0 | BC31: =AV31 -> 0 | BD31: =AU31 -> 0 | BE31: =IF($B31="","",BE$10) -> 0 | BF31: =IF($B31="","",BF$10) -> 1 | BG31: =IF(D31="",0,IF(D31<2,0,1)) -> 1 | BH31: =IF(E31="",0,E31) -> 1 | BI31: =IF(F31="",0,F31) -> 1 | BK31: =IF(H31="",0,H31) -> 1 | BL31: =IF(I31="",0,I31) -> 1 | BM31: =IF(J31="",0,J31) -> 1 | BN31: =IF(M31="",0,M31) -> 1 | BO31: =IF(P31="",0,P31) -> 1 | BP31: =IF(Y31="",0,Y31) -> 1 | BQ31: =IF(AC31=1,1,IF(Z31="",0,IF('ריכוז גיליונות עזר'!W31=1,1,0))) -> 1 | BR31: =IF(AC31=1,1,IF(AA31="",0,IF('ריכוז גיליונות עזר'!W31=1,1,0))) -> 1 | BS31: =IF(AG31="",0,AG31) -> 1 | BT31: =IF(AJ31="",0,AJ31) -> 1 | BU31: =IF(AK31="",0,AK31) -> 1 | BW31: =IF(R31*#REF!<200,0,1) -> #REF! | BX31: =IF(S31*#REF!<200,0,1) -> #REF! | BY31: =IF(T31*#REF!<200,0,1) -> #REF! | BZ31: =IF(U31*#REF!<200,0,1) -> #REF! | CA31: =IF(V31*#REF!<200,0,1) -> #REF!
A32: =A31+1 -> 22 | B32: =IF('מחול עכשיו (תמונע)'!$F$1="22","",'מחול עכשיו (תמונע)'!$F$1) -> מחול עכשיו (תמונע) | C32: 39448 | D32: =IF(OR(B32="",C32=""),"",((DATE($J$3,1,1)-C32)/365)) -> 17.013699 | E32: 1 | F32: 1 | H32: 1 | I32: 1 | J32: 1 | K32: 1 | L32: 1 | M32: =IF(B32="","",IF(OR(K32=0,AND(K32=1,L32=1)),1,0)) -> 1 | N32: 0 | P32: =IF(B32="","",IF(OR(N32=0,AND(N32=1,O32=1)),1,0)) -> 1 | Y32: =IF(B32="","",IF(AF32=1,1,IF(AND($J$3=2022,Q32=1,AD32>=1),1,IF(AD32>=2,1,0)))) -> 1 | Z32: ='ריכוז גיליונות עזר'!S32 -> 2 | AA32: ='ריכוז גיליונות עזר'!R32 -> 2 | AB32: ='ריכוז גיליונות עזר'!T32 -> 2 | AD32: =IF($B32="","",SUM(INDIRECT("'"&SUBSTITUTE($B32,"'","''")&"'"&"!L2:P2"))) -> 2 | AE32: {=IF($B32="","",IF($F32="","",INDIRECT("'"&SUBSTITUTE($B32,"'","''")&"'"&"!L6")))} -> 0 | AG32: =IF(B32="","",IF(AC32=1,1,IF(AB32=0,0,IF(SUM(R32:V32)+AE32*AF32<=AB32,1,0)))) -> 1 | AH32: ='ריכוז גיליונות עזר'!U32 -> 1 | AJ32: =IF(B32="","",IF(AI32=1,1,IF(AH32>=פרמטרים!$B$46,1,0))) -> 1 | AK32: 1 | AL32: =IFERROR(IF(B32="","",IF(SUM(BG32:BU32)=COUNT(BG32:BU32),1,0)),$AP$1) -> 1 | AP32: =IF(ISERR(ROUND(R32,0)),0,IF(OR(R32<0,$B32="",R32<>ROUND(R32,0)),0,1)) -> 1 | AQ32: =IF(ISERR(ROUND(S32,0)),0,IF(OR(S32<0,$B32="",S32<>ROUND(S32,0)),0,1)) -> 1 | AR32: =IF(ISERR(ROUND(T32,0)),0,IF(OR(T32<0,$B32="",T32<>ROUND(T32,0)),0,1)) -> 1 | AS32: =IF(ISERR(ROUND(U32,0)),0,IF(OR(U32<0,$B32="",U32<>ROUND(U32,0)),0,1)) -> 1 | AT32: {=IF(OR(AP32:AS32=0),0,1)} -> 1 | AU32: =IF(V32<$A$1,V32,$A$1) -> 0 | AV32: =IF(SUM($AU32:AU32)<$A$1,IF(SUM($U32:V32)<$A$1,U32,$A$1-SUM($AU32:AU32)),0) -> 0 | AW32: =IF(SUM($AU32:AV32)<$A$1,IF(SUM($T32:V32)<$A$1,T32,$A$1-SUM($AU32:AV32)),0) -> 0 | AX32: =IF(SUM($AU32:AW32)<$A$1,IF(SUM($S32:V32)<$A$1,S32,$A$1-SUM($AU32:AW32)),0) -> 0 | AY32: =IF(SUM($AU32:AX32)<$A$1,IF(SUM($R32:V32)<$A$1,R32,$A$1-SUM($AU32:AX32)),0) -> 0 | AZ32: =AY32 -> 0 | BA32: =AX32 -> 0 | BB32: =AW32 -> 0 | BC32: =AV32 -> 0 | BD32: =AU32 -> 0 | BE32: =IF($B32="","",BE$10) -> 0 | BF32: =IF($B32="","",BF$10) -> 1 | BG32: =IF(D32="",0,IF(D32<2,0,1)) -> 1 | BH32: =IF(E32="",0,E32) -> 1 | BI32: =IF(F32="",0,F32) -> 1 | BK32: =IF(H32="",0,H32) -> 1 | BL32: =IF(I32="",0,I32) -> 1 | BM32: =IF(J32="",0,J32) -> 1 | BN32: =IF(M32="",0,M32) -> 1 | BO32: =IF(P32="",0,P32) -> 1 | BP32: =IF(Y32="",0,Y32) -> 1 | BQ32: =IF(AC32=1,1,IF(Z32="",0,IF('ריכוז גיליונות עזר'!W32=1,1,0))) -> 1 | BR32: =IF(AC32=1,1,IF(AA32="",0,IF('ריכוז גיליונות עזר'!W32=1,1,0))) -> 1 | BS32: =IF(AG32="",0,AG32) -> 1 | BT32: =IF(AJ32="",0,AJ32) -> 1 | BU32: =IF(AK32="",0,AK32) -> 1 | BW32: =IF(R32*#REF!<200,0,1) -> #REF! | BX32: =IF(S32*#REF!<200,0,1) -> #REF! | BY32: =IF(T32*#REF!<200,0,1) -> #REF! | BZ32: =IF(U32*#REF!<200,0,1) -> #REF! | CA32: =IF(V32*#REF!<200,0,1) -> #REF!
A33: =A32+1 -> 23 | B33: =IF('קול אישה שירה (תואר)'!$F$1="23","",'קול אישה שירה (תואר)'!$F$1) -> קול אישה שירה (תואר) | C33: 43101 | D33: =IF(OR(B33="",C33=""),"",((DATE($J$3,1,1)-C33)/365)) -> 7.0054795 | E33: 1 | F33: 1 | H33: 1 | I33: 1 | J33: 1 | K33: 1 | L33: 1 | M33: =IF(B33="","",IF(OR(K33=0,AND(K33=1,L33=1)),1,0)) -> 1 | N33: 0 | P33: =IF(B33="","",IF(OR(N33=0,AND(N33=1,O33=1)),1,0)) -> 1 | Y33: =IF(B33="","",IF(AF33=1,1,IF(AND($J$3=2022,Q33=1,AD33>=1),1,IF(AD33>=2,1,0)))) -> 1 | Z33: ='ריכוז גיליונות עזר'!S33 -> 2 | AA33: ='ריכוז גיליונות עזר'!R33 -> 2 | AB33: ='ריכוז גיליונות עזר'!T33 -> 2 | AD33: =IF($B33="","",SUM(INDIRECT("'"&SUBSTITUTE($B33,"'","''")&"'"&"!L2:P2"))) -> 2 | AE33: {=IF($B33="","",IF($F33="","",INDIRECT("'"&SUBSTITUTE($B33,"'","''")&"'"&"!L6")))} -> 0 | AG33: =IF(B33="","",IF(AC33=1,1,IF(AB33=0,0,IF(SUM(R33:V33)+AE33*AF33<=AB33,1,0)))) -> 1 | AH33: ='ריכוז גיליונות עזר'!U33 -> 0.94339623 | AJ33: =IF(B33="","",IF(AI33=1,1,IF(AH33>=פרמטרים!$B$46,1,0))) -> 1 | AK33: 1 | AL33: =IFERROR(IF(B33="","",IF(SUM(BG33:BU33)=COUNT(BG33:BU33),1,0)),$AP$1) -> 1 | AP33: =IF(ISERR(ROUND(R33,0)),0,IF(OR(R33<0,$B33="",R33<>ROUND(R33,0)),0,1)) -> 1 | AQ33: =IF(ISERR(ROUND(S33,0)),0,IF(OR(S33<0,$B33="",S33<>ROUND(S33,0)),0,1)) -> 1 | AR33: =IF(ISERR(ROUND(T33,0)),0,IF(OR(T33<0,$B33="",T33<>ROUND(T33,0)),0,1)) -> 1 | AS33: =IF(ISERR(ROUND(U33,0)),0,IF(OR(U33<0,$B33="",U33<>ROUND(U33,0)),0,1)) -> 1 | AT33: {=IF(OR(AP33:AS33=0),0,1)} -> 1 | AU33: =IF(V33<$A$1,V33,$A$1) -> 0 | AV33: =IF(SUM($AU33:AU33)<$A$1,IF(SUM($U33:V33)<$A$1,U33,$A$1-SUM($AU33:AU33)),0) -> 0 | AW33: =IF(SUM($AU33:AV33)<$A$1,IF(SUM($T33:V33)<$A$1,T33,$A$1-SUM($AU33:AV33)),0) -> 0 | AX33: =IF(SUM($AU33:AW33)<$A$1,IF(SUM($S33:V33)<$A$1,S33,$A$1-SUM($AU33:AW33)),0) -> 0 | AY33: =IF(SUM($AU33:AX33)<$A$1,IF(SUM($R33:V33)<$A$1,R33,$A$1-SUM($AU33:AX33)),0) -> 0 | AZ33: =AY33 -> 0 | BA33: =AX33 -> 0 | BB33: =AW33 -> 0 | BC33: =AV33 -> 0 | BD33: =AU33 -> 0 | BE33: =IF($B33="","",BE$10) -> 0 | BF33: =IF($B33="","",BF$10) -> 1 | BG33: =IF(D33="",0,IF(D33<2,0,1)) -> 1 | BH33: =IF(E33="",0,E33) -> 1 | BI33: =IF(F33="",0,F33) -> 1 | BK33: =IF(H33="",0,H33) -> 1 | BL33: =IF(I33="",0,I33) -> 1 | BM33: =IF(J33="",0,J33) -> 1 | BN33: =IF(M33="",0,M33) -> 1 | BO33: =IF(P33="",0,P33) -> 1 | BP33: =IF(Y33="",0,Y33) -> 1 | BQ33: =IF(AC33=1,1,IF(Z33="",0,IF('ריכוז גיליונות עזר'!W33=1,1,0))) -> 1 | BR33: =IF(AC33=1,1,IF(AA33="",0,IF('ריכוז גיליונות עזר'!W33=1,1,0))) -> 1 | BS33: =IF(AG33="",0,AG33) -> 1 | BT33: =IF(AJ33="",0,AJ33) -> 1 | BU33: =IF(AK33="",0,AK33) -> 1 | BW33: =IF(R33*#REF!<200,0,1) -> #REF! | BX33: =IF(S33*#REF!<200,0,1) -> #REF! | BY33: =IF(T33*#REF!<200,0,1) -> #REF! | BZ33: =IF(U33*#REF!<200,0,1) -> #REF! | CA33: =IF(V33*#REF!<200,0,1) -> #REF!
A34: =A33+1 -> 24 | B34: =IF('האיגוד העולמי למדעי היהדות'!$F$1="24","",'האיגוד העולמי למדעי היהדות'!$F$1) -> האיגוד העולמי למדעי היהדות | C34: 25569 | D34: =IF(OR(B34="",C34=""),"",((DATE($J$3,1,1)-C34)/365)) -> 55.038356 | E34: 1 | F34: 1 | H34: 1 | I34: 1 | J34: 1 | K34: 1 | L34: 1 | M34: =IF(B34="","",IF(OR(K34=0,AND(K34=1,L34=1)),1,0)) -> 1 | N34: 0 | O34: 1 | P34: =IF(B34="","",IF(OR(N34=0,AND(N34=1,O34=1)),1,0)) -> 1 | Y34: =IF(B34="","",IF(AF34=1,1,IF(AND($J$3=2022,Q34=1,AD34>=1),1,IF(AD34>=2,1,0)))) -> 1 | Z34: ='ריכוז גיליונות עזר'!S34 -> 2 | AA34: ='ריכוז גיליונות עזר'!R34 -> 2 | AB34: ='ריכוז גיליונות עזר'!T34 -> 2 | AD34: =IF($B34="","",SUM(INDIRECT("'"&SUBSTITUTE($B34,"'","''")&"'"&"!L2:P2"))) -> 2 | AE34: {=IF($B34="","",IF($F34="","",INDIRECT("'"&SUBSTITUTE($B34,"'","''")&"'"&"!L6")))} -> 0 | AG34: =IF(B34="","",IF(AC34=1,1,IF(AB34=0,0,IF(SUM(R34:V34)+AE34*AF34<=AB34,1,0)))) -> 1 | AH34: ='ריכוז גיליונות עזר'!U34 -> 1 | AJ34: =IF(B34="","",IF(AI34=1,1,IF(AH34>=פרמטרים!$B$46,1,0))) -> 1 | AK34: 1 | AL34: =IFERROR(IF(B34="","",IF(SUM(BG34:BU34)=COUNT(BG34:BU34),1,0)),$AP$1) -> 1 | AP34: =IF(ISERR(ROUND(R34,0)),0,IF(OR(R34<0,$B34="",R34<>ROUND(R34,0)),0,1)) -> 1 | AQ34: =IF(ISERR(ROUND(S34,0)),0,IF(OR(S34<0,$B34="",S34<>ROUND(S34,0)),0,1)) -> 1 | AR34: =IF(ISERR(ROUND(T34,0)),0,IF(OR(T34<0,$B34="",T34<>ROUND(T34,0)),0,1)) -> 1 | AS34: =IF(ISERR(ROUND(U34,0)),0,IF(OR(U34<0,$B34="",U34<>ROUND(U34,0)),0,1)) -> 1 | AT34: {=IF(OR(AP34:AS34=0),0,1)} -> 1 | AU34: =IF(V34<$A$1,V34,$A$1) -> 0 | AV34: =IF(SUM($AU34:AU34)<$A$1,IF(SUM($U34:V34)<$A$1,U34,$A$1-SUM($AU34:AU34)),0) -> 0 | AW34: =IF(SUM($AU34:AV34)<$A$1,IF(SUM($T34:V34)<$A$1,T34,$A$1-SUM($AU34:AV34)),0) -> 0 | AX34: =IF(SUM($AU34:AW34)<$A$1,IF(SUM($S34:V34)<$A$1,S34,$A$1-SUM($AU34:AW34)),0) -> 0 | AY34: =IF(SUM($AU34:AX34)<$A$1,IF(SUM($R34:V34)<$A$1,R34,$A$1-SUM($AU34:AX34)),0) -> 0 | AZ34: =AY34 -> 0 | BA34: =AX34 -> 0 | BB34: =AW34 -> 0 | BC34: =AV34 -> 0 | BD34: =AU34 -> 0 | BE34: =IF($B34="","",BE$10) -> 0 | BF34: =IF($B34="","",BF$10) -> 1 | BG34: =IF(D34="",0,IF(D34<2,0,1)) -> 1 | BH34: =IF(E34="",0,E34) -> 1 | BI34: =IF(F34="",0,F34) -> 1 | BK34: =IF(H34="",0,H34) -> 1 | BL34: =IF(I34="",0,I34) -> 1 | BM34: =IF(J34="",0,J34) -> 1 | BN34: =IF(M34="",0,M34) -> 1 | BO34: =IF(P34="",0,P34) -> 1 | BP34: =IF(Y34="",0,Y34) -> 1 | BQ34: =IF(AC34=1,1,IF(Z34="",0,IF('ריכוז גיליונות עזר'!W34=1,1,0))) -> 1 | BR34: =IF(AC34=1,1,IF(AA34="",0,IF('ריכוז גיליונות עזר'!W34=1,1,0))) -> 1 | BS34: =IF(AG34="",0,AG34) -> 1 | BT34: =IF(AJ34="",0,AJ34) -> 1 | BU34: =IF(AK34="",0,AK34) -> 1 | BW34: =IF(R34*#REF!<200,0,1) -> #REF! | BX34: =IF(S34*#REF!<200,0,1) -> #REF! | BY34: =IF(T34*#REF!<200,0,1) -> #REF! | BZ34: =IF(U34*#REF!<200,0,1) -> #REF! | CA34: =IF(V34*#REF!<200,0,1) -> #REF!
A35: =A34+1 -> 25 | B35: =IF('25'!$F$1="25","",'25'!$F$1) | D35: =IF(OR(B35="",C35=""),"",((DATE($J$3,1,1)-C35)/365)) | M35: =IF(B35="","",IF(OR(K35=0,AND(K35=1,L35=1)),1,0)) | O35: 1 | P35: =IF(B35="","",IF(OR(N35=0,AND(N35=1,O35=1)),1,0)) | Y35: =IF(B35="","",IF(AF35=1,1,IF(AND($J$3=2022,Q35=1,AD35>=1),1,IF(AD35>=2,1,0)))) | Z35: ='ריכוז גיליונות עזר'!S35 | AA35: ='ריכוז גיליונות עזר'!R35 | AB35: ='ריכוז גיליונות עזר'!T35 | AD35: =IF($B35="","",SUM(INDIRECT("'"&SUBSTITUTE($B35,"'","''")&"'"&"!L2:P2"))) | AE35: {=IF($B35="","",IF($F35="","",INDIRECT("'"&SUBSTITUTE($B35,"'","''")&"'"&"!L6")))} | AG35: =IF(B35="","",IF(AC35=1,1,IF(AB35=0,0,IF(SUM(R35:V35)+AE35*AF35<=AB35,1,0)))) | AH35: ='ריכוז גיליונות עזר'!U35 | AJ35: =IF(B35="","",IF(AI35=1,1,IF(AH35>=פרמטרים!$B$46,1,0))) | AL35: =IFERROR(IF(B35="","",IF(SUM(BG35:BU35)=COUNT(BG35:BU35),1,0)),$AP$1) | AP35: =IF(ISERR(ROUND(R35,0)),0,IF(OR(R35<0,$B35="",R35<>ROUND(R35,0)),0,1)) -> 0 | AQ35: =IF(ISERR(ROUND(S35,0)),0,IF(OR(S35<0,$B35="",S35<>ROUND(S35,0)),0,1)) -> 0 | AR35: =IF(ISERR(ROUND(T35,0)),0,IF(OR(T35<0,$B35="",T35<>ROUND(T35,0)),0,1)) -> 0 | AS35: =IF(ISERR(ROUND(U35,0)),0,IF(OR(U35<0,$B35="",U35<>ROUND(U35,0)),0,1)) -> 0 | AT35: {=IF(OR(AP35:AS35=0),0,1)} -> 0 | AU35: =IF(V35<$A$1,V35,$A$1) -> 0 | AV35: =IF(SUM($AU35:AU35)<$A$1,IF(SUM($U35:V35)<$A$1,U35,$A$1-SUM($AU35:AU35)),0) -> 0 | AW35: =IF(SUM($AU35:AV35)<$A$1,IF(SUM($T35:V35)<$A$1,T35,$A$1-SUM($AU35:AV35)),0) -> 0 | AX35: =IF(SUM($AU35:AW35)<$A$1,IF(SUM($S35:V35)<$A$1,S35,$A$1-SUM($AU35:AW35)),0) -> 0 | AY35: =IF(SUM($AU35:AX35)<$A$1,IF(SUM($R35:V35)<$A$1,R35,$A$1-SUM($AU35:AX35)),0) -> 0 | AZ35: =AY35 -> 0 | BA35: =AX35 -> 0 | BB35: =AW35 -> 0 | BC35: =AV35 -> 0 | BD35: =AU35 -> 0 | BE35: =IF($B35="","",BE$10) | BF35: =IF($B35="","",BF$10) | BG35: =IF(D35="",0,IF(D35<2,0,1)) -> 0 | BH35: =IF(E35="",0,E35) -> 0 | BI35: =IF(F35="",0,F35) -> 0 | BK35: =IF(H35="",0,H35) -> 0 | BL35: =IF(I35="",0,I35) -> 0 | BM35: =IF(J35="",0,J35) -> 0 | BN35: =IF(M35="",0,M35) -> 0 | BO35: =IF(P35="",0,P35) -> 0 | BP35: =IF(Y35="",0,Y35) -> 0 | BQ35: =IF(AC35=1,1,IF(Z35="",0,IF('ריכוז גיליונות עזר'!W35=1,1,0))) -> 0 | BR35: =IF(AC35=1,1,IF(AA35="",0,IF('ריכוז גיליונות עזר'!W35=1,1,0))) -> 0 | BS35: =IF(AG35="",0,AG35) -> 0 | BT35: =IF(AJ35="",0,AJ35) -> 0 | BU35: =IF(AK35="",0,AK35) -> 0 | BW35: =IF(R35*#REF!<200,0,1) -> #REF! | BX35: =IF(S35*#REF!<200,0,1) -> #REF! | BY35: =IF(T35*#REF!<200,0,1) -> #REF! | BZ35: =IF(U35*#REF!<200,0,1) -> #REF! | CA35: =IF(V35*#REF!<200,0,1) -> #REF!
A36: =A35+1 -> 26 | B36: =IF('26'!$F$1="26","",'26'!$F$1) | D36: =IF(OR(B36="",C36=""),"",((DATE($J$3,1,1)-C36)/365)) | M36: =IF(B36="","",IF(OR(K36=0,AND(K36=1,L36=1)),1,0)) | P36: =IF(B36="","",IF(OR(N36=0,AND(N36=1,O36=1)),1,0)) | Y36: =IF(B36="","",IF(AF36=1,1,IF(AND($J$3=2022,Q36=1,AD36>=1),1,IF(AD36>=2,1,0)))) | Z36: ='ריכוז גיליונות עזר'!S36 | AA36: ='ריכוז גיליונות עזר'!R36 | AB36: ='ריכוז גיליונות עזר'!T36 | AD36: =IF($B36="","",SUM(INDIRECT("'"&SUBSTITUTE($B36,"'","''")&"'"&"!L2:P2"))) | AE36: {=IF($B36="","",IF($F36="","",INDIRECT("'"&SUBSTITUTE($B36,"'","''")&"'"&"!L6")))} | AG36: =IF(B36="","",IF(AC36=1,1,IF(AB36=0,0,IF(SUM(R36:V36)+AE36*AF36<=AB36,1,0)))) | AH36: ='ריכוז גיליונות עזר'!U36 | AJ36: =IF(B36="","",IF(AI36=1,1,IF(AH36>=פרמטרים!$B$46,1,0))) | AL36: =IFERROR(IF(B36="","",IF(SUM(BG36:BU36)=COUNT(BG36:BU36),1,0)),$AP$1) | AP36: =IF(ISERR(ROUND(R36,0)),0,IF(OR(R36<0,$B36="",R36<>ROUND(R36,0)),0,1)) -> 0 | AQ36: =IF(ISERR(ROUND(S36,0)),0,IF(OR(S36<0,$B36="",S36<>ROUND(S36,0)),0,1)) -> 0 | AR36: =IF(ISERR(ROUND(T36,0)),0,IF(OR(T36<0,$B36="",T36<>ROUND(T36,0)),0,1)) -> 0 | AS36: =IF(ISERR(ROUND(U36,0)),0,IF(OR(U36<0,$B36="",U36<>ROUND(U36,0)),0,1)) -> 0 | AT36: {=IF(OR(AP36:AS36=0),0,1)} -> 0 | AU36: =IF(V36<$A$1,V36,$A$1) -> 0 | AV36: =IF(SUM($AU36:AU36)<$A$1,IF(SUM($U36:V36)<$A$1,U36,$A$1-SUM($AU36:AU36)),0) -> 0 | AW36: =IF(SUM($AU36:AV36)<$A$1,IF(SUM($T36:V36)<$A$1,T36,$A$1-SUM($AU36:AV36)),0) -> 0 | AX36: =IF(SUM($AU36:AW36)<$A$1,IF(SUM($S36:V36)<$A$1,S36,$A$1-SUM($AU36:AW36)),0) -> 0 | AY36: =IF(SUM($AU36:AX36)<$A$1,IF(SUM($R36:V36)<$A$1,R36,$A$1-SUM($AU36:AX36)),0) -> 0 | AZ36: =AY36 -> 0 | BA36: =AX36 -> 0 | BB36: =AW36 -> 0 | BC36: =AV36 -> 0 | BD36: =AU36 -> 0 | BE36: =IF($B36="","",BE$10) | BF36: =IF($B36="","",BF$10) | BG36: =IF(D36="",0,IF(D36<2,0,1)) -> 0 | BH36: =IF(E36="",0,E36) -> 0 | BI36: =IF(F36="",0,F36) -> 0 | BK36: =IF(H36="",0,H36) -> 0 | BL36: =IF(I36="",0,I36) -> 0 | BM36: =IF(J36="",0,J36) -> 0 | BN36: =IF(M36="",0,M36) -> 0 | BO36: =IF(P36="",0,P36) -> 0 | BP36: =IF(Y36="",0,Y36) -> 0 | BQ36: =IF(AC36=1,1,IF(Z36="",0,IF('ריכוז גיליונות עזר'!W36=1,1,0))) -> 0 | BR36: =IF(AC36=1,1,IF(AA36="",0,IF('ריכוז גיליונות עזר'!W36=1,1,0))) -> 0 | BS36: =IF(AG36="",0,AG36) -> 0 | BT36: =IF(AJ36="",0,AJ36) -> 0 | BU36: =IF(AK36="",0,AK36) -> 0 | BW36: =IF(R36*#REF!<200,0,1) -> #REF! | BX36: =IF(S36*#REF!<200,0,1) -> #REF! | BY36: =IF(T36*#REF!<200,0,1) -> #REF! | BZ36: =IF(U36*#REF!<200,0,1) -> #REF! | CA36: =IF(V36*#REF!<200,0,1) -> #REF!
A37: =A36+1 -> 27 | B37: =IF('27'!$F$1="27","",'27'!$F$1) | D37: =IF(OR(B37="",C37=""),"",((DATE($J$3,1,1)-C37)/365)) | M37: =IF(B37="","",IF(OR(K37=0,AND(K37=1,L37=1)),1,0)) | O37: 1 | P37: =IF(B37="","",IF(OR(N37=0,AND(N37=1,O37=1)),1,0)) | Y37: =IF(B37="","",IF(AF37=1,1,IF(AND($J$3=2022,Q37=1,AD37>=1),1,IF(AD37>=2,1,0)))) | Z37: ='ריכוז גיליונות עזר'!S37 | AA37: ='ריכוז גיליונות עזר'!R37 | AB37: ='ריכוז גיליונות עזר'!T37 | AD37: =IF($B37="","",SUM(INDIRECT("'"&SUBSTITUTE($B37,"'","''")&"'"&"!L2:P2"))) | AE37: {=IF($B37="","",IF($F37="","",INDIRECT("'"&SUBSTITUTE($B37,"'","''")&"'"&"!L6")))} | AG37: =IF(B37="","",IF(AC37=1,1,IF(AB37=0,0,IF(SUM(R37:V37)+AE37*AF37<=AB37,1,0)))) | AH37: ='ריכוז גיליונות עזר'!U37 | AJ37: =IF(B37="","",IF(AI37=1,1,IF(AH37>=פרמטרים!$B$46,1,0))) | AL37: =IFERROR(IF(B37="","",IF(SUM(BG37:BU37)=COUNT(BG37:BU37),1,0)),$AP$1) | AP37: =IF(ISERR(ROUND(R37,0)),0,IF(OR(R37<0,$B37="",R37<>ROUND(R37,0)),0,1)) -> 0 | AQ37: =IF(ISERR(ROUND(S37,0)),0,IF(OR(S37<0,$B37="",S37<>ROUND(S37,0)),0,1)) -> 0 | AR37: =IF(ISERR(ROUND(T37,0)),0,IF(OR(T37<0,$B37="",T37<>ROUND(T37,0)),0,1)) -> 0 | AS37: =IF(ISERR(ROUND(U37,0)),0,IF(OR(U37<0,$B37="",U37<>ROUND(U37,0)),0,1)) -> 0 | AT37: {=IF(OR(AP37:AS37=0),0,1)} -> 0 | AU37: =IF(V37<$A$1,V37,$A$1) -> 0 | AV37: =IF(SUM($AU37:AU37)<$A$1,IF(SUM($U37:V37)<$A$1,U37,$A$1-SUM($AU37:AU37)),0) -> 0 | AW37: =IF(SUM($AU37:AV37)<$A$1,IF(SUM($T37:V37)<$A$1,T37,$A$1-SUM($AU37:AV37)),0) -> 0 | AX37: =IF(SUM($AU37:AW37)<$A$1,IF(SUM($S37:V37)<$A$1,S37,$A$1-SUM($AU37:AW37)),0) -> 0 | AY37: =IF(SUM($AU37:AX37)<$A$1,IF(SUM($R37:V37)<$A$1,R37,$A$1-SUM($AU37:AX37)),0) -> 0 | AZ37: =AY37 -> 0 | BA37: =AX37 -> 0 | BB37: =AW37 -> 0 | BC37: =AV37 -> 0 | BD37: =AU37 -> 0 | BE37: =IF($B37="","",BE$10) | BF37: =IF($B37="","",BF$10) | BG37: =IF(D37="",0,IF(D37<2,0,1)) -> 0 | BH37: =IF(E37="",0,E37) -> 0 | BI37: =IF(F37="",0,F37) -> 0 | BK37: =IF(H37="",0,H37) -> 0 | BL37: =IF(I37="",0,I37) -> 0 | BM37: =IF(J37="",0,J37) -> 0 | BN37: =IF(M37="",0,M37) -> 0 | BO37: =IF(P37="",0,P37) -> 0 | BP37: =IF(Y37="",0,Y37) -> 0 | BQ37: =IF(AC37=1,1,IF(Z37="",0,IF('ריכוז גיליונות עזר'!W37=1,1,0))) -> 0 | BR37: =IF(AC37=1,1,IF(AA37="",0,IF('ריכוז גיליונות עזר'!W37=1,1,0))) -> 0 | BS37: =IF(AG37="",0,AG37) -> 0 | BT37: =IF(AJ37="",0,AJ37) -> 0 | BU37: =IF(AK37="",0,AK37) -> 0 | BW37: =IF(R37*#REF!<200,0,1) -> #REF! | BX37: =IF(S37*#REF!<200,0,1) -> #REF! | BY37: =IF(T37*#REF!<200,0,1) -> #REF! | BZ37: =IF(U37*#REF!<200,0,1) -> #REF! | CA37: =IF(V37*#REF!<200,0,1) -> #REF!
A38: =A37+1 -> 28 | B38: =IF('28'!$F$1="28","",'28'!$F$1) | D38: =IF(OR(B38="",C38=""),"",((DATE($J$3,1,1)-C38)/365)) | M38: =IF(B38="","",IF(OR(K38=0,AND(K38=1,L38=1)),1,0)) | P38: =IF(B38="","",IF(OR(N38=0,AND(N38=1,O38=1)),1,0)) | Y38: =IF(B38="","",IF(AF38=1,1,IF(AND($J$3=2022,Q38=1,AD38>=1),1,IF(AD38>=2,1,0)))) | Z38: ='ריכוז גיליונות עזר'!S38 | AA38: ='ריכוז גיליונות עזר'!R38 | AB38: ='ריכוז גיליונות עזר'!T38 | AD38: =IF($B38="","",SUM(INDIRECT("'"&SUBSTITUTE($B38,"'","''")&"'"&"!L2:P2"))) | AE38: {=IF($B38="","",IF($F38="","",INDIRECT("'"&SUBSTITUTE($B38,"'","''")&"'"&"!L6")))} | AG38: =IF(B38="","",IF(AC38=1,1,IF(AB38=0,0,IF(SUM(R38:V38)+AE38*AF38<=AB38,1,0)))) | AH38: ='ריכוז גיליונות עזר'!U38 | AJ38: =IF(B38="","",IF(AI38=1,1,IF(AH38>=פרמטרים!$B$46,1,0))) | AL38: =IFERROR(IF(B38="","",IF(SUM(BG38:BU38)=COUNT(BG38:BU38),1,0)),$AP$1) | AP38: =IF(ISERR(ROUND(R38,0)),0,IF(OR(R38<0,$B38="",R38<>ROUND(R38,0)),0,1)) -> 0 | AQ38: =IF(ISERR(ROUND(S38,0)),0,IF(OR(S38<0,$B38="",S38<>ROUND(S38,0)),0,1)) -> 0 | AR38: =IF(ISERR(ROUND(T38,0)),0,IF(OR(T38<0,$B38="",T38<>ROUND(T38,0)),0,1)) -> 0 | AS38: =IF(ISERR(ROUND(U38,0)),0,IF(OR(U38<0,$B38="",U38<>ROUND(U38,0)),0,1)) -> 0 | AT38: {=IF(OR(AP38:AS38=0),0,1)} -> 0 | AU38: =IF(V38<$A$1,V38,$A$1) -> 0 | AV38: =IF(SUM($AU38:AU38)<$A$1,IF(SUM($U38:V38)<$A$1,U38,$A$1-SUM($AU38:AU38)),0) -> 0 | AW38: =IF(SUM($AU38:AV38)<$A$1,IF(SUM($T38:V38)<$A$1,T38,$A$1-SUM($AU38:AV38)),0) -> 0 | AX38: =IF(SUM($AU38:AW38)<$A$1,IF(SUM($S38:V38)<$A$1,S38,$A$1-SUM($AU38:AW38)),0) -> 0 | AY38: =IF(SUM($AU38:AX38)<$A$1,IF(SUM($R38:V38)<$A$1,R38,$A$1-SUM($AU38:AX38)),0) -> 0 | AZ38: =AY38 -> 0 | BA38: =AX38 -> 0 | BB38: =AW38 -> 0 | BC38: =AV38 -> 0 | BD38: =AU38 -> 0 | BE38: =IF($B38="","",BE$10) | BF38: =IF($B38="","",BF$10) | BG38: =IF(D38="",0,IF(D38<2,0,1)) -> 0 | BH38: =IF(E38="",0,E38) -> 0 | BI38: =IF(F38="",0,F38) -> 0 | BK38: =IF(H38="",0,H38) -> 0 | BL38: =IF(I38="",0,I38) -> 0 | BM38: =IF(J38="",0,J38) -> 0 | BN38: =IF(M38="",0,M38) -> 0 | BO38: =IF(P38="",0,P38) -> 0 | BP38: =IF(Y38="",0,Y38) -> 0 | BQ38: =IF(AC38=1,1,IF(Z38="",0,IF('ריכוז גיליונות עזר'!W38=1,1,0))) -> 0 | BR38: =IF(AC38=1,1,IF(AA38="",0,IF('ריכוז גיליונות עזר'!W38=1,1,0))) -> 0 | BS38: =IF(AG38="",0,AG38) -> 0 | BT38: =IF(AJ38="",0,AJ38) -> 0 | BU38: =IF(AK38="",0,AK38) -> 0 | BW38: =IF(R38*#REF!<200,0,1) -> #REF! | BX38: =IF(S38*#REF!<200,0,1) -> #REF! | BY38: =IF(T38*#REF!<200,0,1) -> #REF! | BZ38: =IF(U38*#REF!<200,0,1) -> #REF! | CA38: =IF(V38*#REF!<200,0,1) -> #REF!
A39: =A38+1 -> 29 | B39: =IF('גופא (נתיב האומן )'!$F$1="29","",'גופא (נתיב האומן )'!$F$1) -> גופא (נתיב האומן ) | C39: 43101 | D39: =IF(OR(B39="",C39=""),"",((DATE($J$3,1,1)-C39)/365)) -> 7.0054795 | E39: 1 | F39: 1 | H39: 1 | I39: 1 | J39: 1 | K39: 0 | M39: =IF(B39="","",IF(OR(K39=0,AND(K39=1,L39=1)),1,0)) -> 1 | N39: 0 | O39: 1 | P39: =IF(B39="","",IF(OR(N39=0,AND(N39=1,O39=1)),1,0)) -> 1 | Y39: =IF(B39="","",IF(AF39=1,1,IF(AND($J$3=2022,Q39=1,AD39>=1),1,IF(AD39>=2,1,0)))) -> 1 | Z39: ='ריכוז גיליונות עזר'!S39 -> 2 | AA39: ='ריכוז גיליונות עזר'!R39 -> 2 | AB39: ='ריכוז גיליונות עזר'!T39 -> 2 | AD39: =IF($B39="","",SUM(INDIRECT("'"&SUBSTITUTE($B39,"'","''")&"'"&"!L2:P2"))) -> 2 | AE39: {=IF($B39="","",IF($F39="","",INDIRECT("'"&SUBSTITUTE($B39,"'","''")&"'"&"!L6")))} -> 0 | AG39: =IF(B39="","",IF(AC39=1,1,IF(AB39=0,0,IF(SUM(R39:V39)+AE39*AF39<=AB39,1,0)))) -> 1 | AH39: ='ריכוז גיליונות עזר'!U39 -> 1 | AJ39: =IF(B39="","",IF(AI39=1,1,IF(AH39>=פרמטרים!$B$46,1,0))) -> 1 | AK39: 1 | AL39: =IFERROR(IF(B39="","",IF(SUM(BG39:BU39)=COUNT(BG39:BU39),1,0)),$AP$1) -> 1 | AP39: =IF(ISERR(ROUND(R39,0)),0,IF(OR(R39<0,$B39="",R39<>ROUND(R39,0)),0,1)) -> 1 | AQ39: =IF(ISERR(ROUND(S39,0)),0,IF(OR(S39<0,$B39="",S39<>ROUND(S39,0)),0,1)) -> 1 | AR39: =IF(ISERR(ROUND(T39,0)),0,IF(OR(T39<0,$B39="",T39<>ROUND(T39,0)),0,1)) -> 1 | AS39: =IF(ISERR(ROUND(U39,0)),0,IF(OR(U39<0,$B39="",U39<>ROUND(U39,0)),0,1)) -> 1 | AT39: {=IF(OR(AP39:AS39=0),0,1)} -> 1 | AU39: =IF(V39<$A$1,V39,$A$1) -> 0 | AV39: =IF(SUM($AU39:AU39)<$A$1,IF(SUM($U39:V39)<$A$1,U39,$A$1-SUM($AU39:AU39)),0) -> 0 | AW39: =IF(SUM($AU39:AV39)<$A$1,IF(SUM($T39:V39)<$A$1,T39,$A$1-SUM($AU39:AV39)),0) -> 0 | AX39: =IF(SUM($AU39:AW39)<$A$1,IF(SUM($S39:V39)<$A$1,S39,$A$1-SUM($AU39:AW39)),0) -> 0 | AY39: =IF(SUM($AU39:AX39)<$A$1,IF(SUM($R39:V39)<$A$1,R39,$A$1-SUM($AU39:AX39)),0) -> 0 | AZ39: =AY39 -> 0 | BA39: =AX39 -> 0 | BB39: =AW39 -> 0 | BC39: =AV39 -> 0 | BD39: =AU39 -> 0 | BE39: =IF($B39="","",BE$10) -> 0 | BF39: =IF($B39="","",BF$10) -> 1 | BG39: =IF(D39="",0,IF(D39<2,0,1)) -> 1 | BH39: =IF(E39="",0,E39) -> 1 | BI39: =IF(F39="",0,F39) -> 1 | BK39: =IF(H39="",0,H39) -> 1 | BL39: =IF(I39="",0,I39) -> 1 | BM39: =IF(J39="",0,J39) -> 1 | BN39: =IF(M39="",0,M39) -> 1 | BO39: =IF(P39="",0,P39) -> 1 | BP39: =IF(Y39="",0,Y39) -> 1 | BQ39: =IF(AC39=1,1,IF(Z39="",0,IF('ריכוז גיליונות עזר'!W39=1,1,0))) -> 1 | BR39: =IF(AC39=1,1,IF(AA39="",0,IF('ריכוז גיליונות עזר'!W39=1,1,0))) -> 1 | BS39: =IF(AG39="",0,AG39) -> 1 | BT39: =IF(AJ39="",0,AJ39) -> 1 | BU39: =IF(AK39="",0,AK39) -> 1 | BW39: =IF(R39*#REF!<200,0,1) -> #REF! | BX39: =IF(S39*#REF!<200,0,1) -> #REF! | BY39: =IF(T39*#REF!<200,0,1) -> #REF! | BZ39: =IF(U39*#REF!<200,0,1) -> #REF! | CA39: =IF(V39*#REF!<200,0,1) -> #REF!
A40: =A39+1 -> 30 | B40: =IF('ערב רב (בר קיימא)'!$F$1="30","",'ערב רב (בר קיימא)'!$F$1) -> ערב רב (בר קיימא) | C40: 44197 | D40: =IF(OR(B40="",C40=""),"",((DATE($J$3,1,1)-C40)/365)) -> 4.0027397 | E40: 1 | F40: 1 | H40: 1 | I40: 1 | J40: 1 | K40: 1 | L40: 1 | M40: =IF(B40="","",IF(OR(K40=0,AND(K40=1,L40=1)),1,0)) -> 1 | N40: 0 | O40: 1 | P40: =IF(B40="","",IF(OR(N40=0,AND(N40=1,O40=1)),1,0)) -> 1 | Y40: =IF(B40="","",IF(AF40=1,1,IF(AND($J$3=2022,Q40=1,AD40>=1),1,IF(AD40>=2,1,0)))) -> 1 | Z40: ='ריכוז גיליונות עזר'!S40 -> 2 | AA40: ='ריכוז גיליונות עזר'!R40 -> 2 | AB40: ='ריכוז גיליונות עזר'!T40 -> 2 | AD40: =IF($B40="","",SUM(INDIRECT("'"&SUBSTITUTE($B40,"'","''")&"'"&"!L2:P2"))) -> 2 | AE40: {=IF($B40="","",IF($F40="","",INDIRECT("'"&SUBSTITUTE($B40,"'","''")&"'"&"!L6")))} -> 0 | AG40: =IF(B40="","",IF(AC40=1,1,IF(AB40=0,0,IF(SUM(R40:V40)+AE40*AF40<=AB40,1,0)))) -> 1 | AH40: ='ריכוז גיליונות עזר'!U40 -> 0.76923077 | AJ40: =IF(B40="","",IF(AI40=1,1,IF(AH40>=פרמטרים!$B$46,1,0))) -> 1 | AK40: 1 | AL40: =IFERROR(IF(B40="","",IF(SUM(BG40:BU40)=COUNT(BG40:BU40),1,0)),$AP$1) -> 1 | AP40: =IF(ISERR(ROUND(R40,0)),0,IF(OR(R40<0,$B40="",R40<>ROUND(R40,0)),0,1)) -> 1 | AQ40: =IF(ISERR(ROUND(S40,0)),0,IF(OR(S40<0,$B40="",S40<>ROUND(S40,0)),0,1)) -> 1 | AR40: =IF(ISERR(ROUND(T40,0)),0,IF(OR(T40<0,$B40="",T40<>ROUND(T40,0)),0,1)) -> 1 | AS40: =IF(ISERR(ROUND(U40,0)),0,IF(OR(U40<0,$B40="",U40<>ROUND(U40,0)),0,1)) -> 1 | AT40: {=IF(OR(AP40:AS40=0),0,1)} -> 1 | AU40: =IF(V40<$A$1,V40,$A$1) -> 0 | AV40: =IF(SUM($AU40:AU40)<$A$1,IF(SUM($U40:V40)<$A$1,U40,$A$1-SUM($AU40:AU40)),0) -> 0 | AW40: =IF(SUM($AU40:AV40)<$A$1,IF(SUM($T40:V40)<$A$1,T40,$A$1-SUM($AU40:AV40)),0) -> 0 | AX40: =IF(SUM($AU40:AW40)<$A$1,IF(SUM($S40:V40)<$A$1,S40,$A$1-SUM($AU40:AW40)),0) -> 0 | AY40: =IF(SUM($AU40:AX40)<$A$1,IF(SUM($R40:V40)<$A$1,R40,$A$1-SUM($AU40:AX40)),0) -> 0 | AZ40: =AY40 -> 0 | BA40: =AX40 -> 0 | BB40: =AW40 -> 0 | BC40: =AV40 -> 0 | BD40: =AU40 -> 0 | BE40: =IF($B40="","",BE$10) -> 0 | BF40: =IF($B40="","",BF$10) -> 1 | BG40: =IF(D40="",0,IF(D40<2,0,1)) -> 1 | BH40: =IF(E40="",0,E40) -> 1 | BI40: =IF(F40="",0,F40) -> 1 | BK40: =IF(H40="",0,H40) -> 1 | BL40: =IF(I40="",0,I40) -> 1 | BM40: =IF(J40="",0,J40) -> 1 | BN40: =IF(M40="",0,M40) -> 1 | BO40: =IF(P40="",0,P40) -> 1 | BP40: =IF(Y40="",0,Y40) -> 1 | BQ40: =IF(AC40=1,1,IF(Z40="",0,IF('ריכוז גיליונות עזר'!W40=1,1,0))) -> 1 | BR40: =IF(AC40=1,1,IF(AA40="",0,IF('ריכוז גיליונות עזר'!W40=1,1,0))) -> 1 | BS40: =IF(AG40="",0,AG40) -> 1 | BT40: =IF(AJ40="",0,AJ40) -> 1 | BU40: =IF(AK40="",0,AK40) -> 1 | BW40: =IF(R40*#REF!<200,0,1) -> #REF! | BX40: =IF(S40*#REF!<200,0,1) -> #REF! | BY40: =IF(T40*#REF!<200,0,1) -> #REF! | BZ40: =IF(U40*#REF!<200,0,1) -> #REF! | CA40: =IF(V40*#REF!<200,0,1) -> #REF!
A41: =A40+1 -> 31 | B41: =IF('31'!$F$1="31","",'31'!$F$1) | D41: =IF(OR(B41="",C41=""),"",((DATE($J$3,1,1)-C41)/365)) | M41: =IF(B41="","",IF(OR(K41=0,AND(K41=1,L41=1)),1,0)) | P41: =IF(B41="","",IF(OR(N41=0,AND(N41=1,O41=1)),1,0)) | Y41: =IF(B41="","",IF(AF41=1,1,IF(AND($J$3=2022,Q41=1,AD41>=1),1,IF(AD41>=2,1,0)))) | Z41: ='ריכוז גיליונות עזר'!S41 | AA41: ='ריכוז גיליונות עזר'!R41 | AB41: ='ריכוז גיליונות עזר'!T41 | AD41: =IF($B41="","",SUM(INDIRECT("'"&SUBSTITUTE($B41,"'","''")&"'"&"!L2:P2"))) | AE41: {=IF($B41="","",IF($F41="","",INDIRECT("'"&SUBSTITUTE($B41,"'","''")&"'"&"!L6")))} | AG41: =IF(B41="","",IF(AC41=1,1,IF(AB41=0,0,IF(SUM(R41:V41)+AE41*AF41<=AB41,1,0)))) | AH41: ='ריכוז גיליונות עזר'!U41 | AJ41: =IF(B41="","",IF(AI41=1,1,IF(AH41>=פרמטרים!$B$46,1,0))) | AL41: =IFERROR(IF(B41="","",IF(SUM(BG41:BU41)=COUNT(BG41:BU41),1,0)),$AP$1) | AP41: =IF(ISERR(ROUND(R41,0)),0,IF(OR(R41<0,$B41="",R41<>ROUND(R41,0)),0,1)) -> 0 | AQ41: =IF(ISERR(ROUND(S41,0)),0,IF(OR(S41<0,$B41="",S41<>ROUND(S41,0)),0,1)) -> 0 | AR41: =IF(ISERR(ROUND(T41,0)),0,IF(OR(T41<0,$B41="",T41<>ROUND(T41,0)),0,1)) -> 0 | AS41: =IF(ISERR(ROUND(U41,0)),0,IF(OR(U41<0,$B41="",U41<>ROUND(U41,0)),0,1)) -> 0 | AT41: {=IF(OR(AP41:AS41=0),0,1)} -> 0 | AU41: =IF(V41<$A$1,V41,$A$1) -> 0 | AV41: =IF(SUM($AU41:AU41)<$A$1,IF(SUM($U41:V41)<$A$1,U41,$A$1-SUM($AU41:AU41)),0) -> 0 | AW41: =IF(SUM($AU41:AV41)<$A$1,IF(SUM($T41:V41)<$A$1,T41,$A$1-SUM($AU41:AV41)),0) -> 0 | AX41: =IF(SUM($AU41:AW41)<$A$1,IF(SUM($S41:V41)<$A$1,S41,$A$1-SUM($AU41:AW41)),0) -> 0 | AY41: =IF(SUM($AU41:AX41)<$A$1,IF(SUM($R41:V41)<$A$1,R41,$A$1-SUM($AU41:AX41)),0) -> 0 | AZ41: =AY41 -> 0 | BA41: =AX41 -> 0 | BB41: =AW41 -> 0 | BC41: =AV41 -> 0 | BD41: =AU41 -> 0 | BE41: =IF($B41="","",BE$10) | BF41: =IF($B41="","",BF$10) | BG41: =IF(D41="",0,IF(D41<2,0,1)) -> 0 | BH41: =IF(E41="",0,E41) -> 0 | BI41: =IF(F41="",0,F41) -> 0 | BK41: =IF(H41="",0,H41) -> 0 | BL41: =IF(I41="",0,I41) -> 0 | BM41: =IF(J41="",0,J41) -> 0 | BN41: =IF(M41="",0,M41) -> 0 | BO41: =IF(P41="",0,P41) -> 0 | BP41: =IF(Y41="",0,Y41) -> 0 | BQ41: =IF(AC41=1,1,IF(Z41="",0,IF('ריכוז גיליונות עזר'!W41=1,1,0))) -> 0 | BR41: =IF(AC41=1,1,IF(AA41="",0,IF('ריכוז גיליונות עזר'!W41=1,1,0))) -> 0 | BS41: =IF(AG41="",0,AG41) -> 0 | BT41: =IF(AJ41="",0,AJ41) -> 0 | BU41: =IF(AK41="",0,AK41) -> 0 | BW41: =IF(R41*#REF!<200,0,1) -> #REF! | BX41: =IF(S41*#REF!<200,0,1) -> #REF! | BY41: =IF(T41*#REF!<200,0,1) -> #REF! | BZ41: =IF(U41*#REF!<200,0,1) -> #REF! | CA41: =IF(V41*#REF!<200,0,1) -> #REF!
A42: =A41+1 -> 32 | B42: =IF(מעלה!$F$1="32","",מעלה!$F$1) -> מעלה | C42: 44197 | D42: =IF(OR(B42="",C42=""),"",((DATE($J$3,1,1)-C42)/365)) -> 4.0027397 | E42: 1 | F42: 1 | H42: 1 | I42: 1 | J42: 1 | K42: 1 | L42: 1 | M42: =IF(B42="","",IF(OR(K42=0,AND(K42=1,L42=1)),1,0)) -> 1 | N42: 0 | O42: 1 | P42: =IF(B42="","",IF(OR(N42=0,AND(N42=1,O42=1)),1,0)) -> 1 | Y42: =IF(B42="","",IF(AF42=1,1,IF(AND($J$3=2022,Q42=1,AD42>=1),1,IF(AD42>=2,1,0)))) -> 1 | Z42: ='ריכוז גיליונות עזר'!S42 -> 4 | AA42: ='ריכוז גיליונות עזר'!R42 -> 4 | AB42: ='ריכוז גיליונות עזר'!T42 -> 4 | AD42: =IF($B42="","",SUM(INDIRECT("'"&SUBSTITUTE($B42,"'","''")&"'"&"!L2:P2"))) -> 4 | AE42: {=IF($B42="","",IF($F42="","",INDIRECT("'"&SUBSTITUTE($B42,"'","''")&"'"&"!L6")))} -> 0 | AG42: =IF(B42="","",IF(AC42=1,1,IF(AB42=0,0,IF(SUM(R42:V42)+AE42*AF42<=AB42,1,0)))) -> 1 | AH42: ='ריכוז גיליונות עזר'!U42 -> 1 | AJ42: =IF(B42="","",IF(AI42=1,1,IF(AH42>=פרמטרים!$B$46,1,0))) -> 1 | AK42: 1 | AL42: =IFERROR(IF(B42="","",IF(SUM(BG42:BU42)=COUNT(BG42:BU42),1,0)),$AP$1) -> 1 | AP42: =IF(ISERR(ROUND(R42,0)),0,IF(OR(R42<0,$B42="",R42<>ROUND(R42,0)),0,1)) -> 1 | AQ42: =IF(ISERR(ROUND(S42,0)),0,IF(OR(S42<0,$B42="",S42<>ROUND(S42,0)),0,1)) -> 1 | AR42: =IF(ISERR(ROUND(T42,0)),0,IF(OR(T42<0,$B42="",T42<>ROUND(T42,0)),0,1)) -> 1 | AS42: =IF(ISERR(ROUND(U42,0)),0,IF(OR(U42<0,$B42="",U42<>ROUND(U42,0)),0,1)) -> 1 | AT42: {=IF(OR(AP42:AS42=0),0,1)} -> 1 | AU42: =IF(V42<$A$1,V42,$A$1) -> 0 | AV42: =IF(SUM($AU42:AU42)<$A$1,IF(SUM($U42:V42)<$A$1,U42,$A$1-SUM($AU42:AU42)),0) -> 0 | AW42: =IF(SUM($AU42:AV42)<$A$1,IF(SUM($T42:V42)<$A$1,T42,$A$1-SUM($AU42:AV42)),0) -> 0 | AX42: =IF(SUM($AU42:AW42)<$A$1,IF(SUM($S42:V42)<$A$1,S42,$A$1-SUM($AU42:AW42)),0) -> 0 | AY42: =IF(SUM($AU42:AX42)<$A$1,IF(SUM($R42:V42)<$A$1,R42,$A$1-SUM($AU42:AX42)),0) -> 0 | AZ42: =AY42 -> 0 | BA42: =AX42 -> 0 | BB42: =AW42 -> 0 | BC42: =AV42 -> 0 | BD42: =AU42 -> 0 | BE42: =IF($B42="","",BE$10) -> 0 | BF42: =IF($B42="","",BF$10) -> 1 | BG42: =IF(D42="",0,IF(D42<2,0,1)) -> 1 | BH42: =IF(E42="",0,E42) -> 1 | BI42: =IF(F42="",0,F42) -> 1 | BK42: =IF(H42="",0,H42) -> 1 | BL42: =IF(I42="",0,I42) -> 1 | BM42: =IF(J42="",0,J42) -> 1 | BN42: =IF(M42="",0,M42) -> 1 | BO42: =IF(P42="",0,P42) -> 1 | BP42: =IF(Y42="",0,Y42) -> 1 | BQ42: =IF(AC42=1,1,IF(Z42="",0,IF('ריכוז גיליונות עזר'!W42=1,1,0))) -> 1 | BR42: =IF(AC42=1,1,IF(AA42="",0,IF('ריכוז גיליונות עזר'!W42=1,1,0))) -> 1 | BS42: =IF(AG42="",0,AG42) -> 1 | BT42: =IF(AJ42="",0,AJ42) -> 1 | BU42: =IF(AK42="",0,AK42) -> 1 | BW42: =IF(R42*#REF!<200,0,1) -> #REF! | BX42: =IF(S42*#REF!<200,0,1) -> #REF! | BY42: =IF(T42*#REF!<200,0,1) -> #REF! | BZ42: =IF(U42*#REF!<200,0,1) -> #REF! | CA42: =IF(V42*#REF!<200,0,1) -> #REF!
A43: =A42+1 -> 33 | B43: =IF('33'!$F$1="33","",'33'!$F$1) | D43: =IF(OR(B43="",C43=""),"",((DATE($J$3,1,1)-C43)/365)) | M43: =IF(B43="","",IF(OR(K43=0,AND(K43=1,L43=1)),1,0)) | P43: =IF(B43="","",IF(OR(N43=0,AND(N43=1,O43=1)),1,0)) | Y43: =IF(B43="","",IF(AF43=1,1,IF(AND($J$3=2022,Q43=1,AD43>=1),1,IF(AD43>=2,1,0)))) | Z43: ='ריכוז גיליונות עזר'!S43 | AA43: ='ריכוז גיליונות עזר'!R43 | AB43: ='ריכוז גיליונות עזר'!T43 | AD43: =IF($B43="","",SUM(INDIRECT("'"&SUBSTITUTE($B43,"'","''")&"'"&"!L2:P2"))) | AE43: {=IF($B43="","",IF($F43="","",INDIRECT("'"&SUBSTITUTE($B43,"'","''")&"'"&"!L6")))} | AG43: =IF(B43="","",IF(AC43=1,1,IF(AB43=0,0,IF(SUM(R43:V43)+AE43*AF43<=AB43,1,0)))) | AH43: ='ריכוז גיליונות עזר'!U43 | AJ43: =IF(B43="","",IF(AI43=1,1,IF(AH43>=פרמטרים!$B$46,1,0))) | AL43: =IFERROR(IF(B43="","",IF(SUM(BG43:BU43)=COUNT(BG43:BU43),1,0)),$AP$1) | AP43: =IF(ISERR(ROUND(R43,0)),0,IF(OR(R43<0,$B43="",R43<>ROUND(R43,0)),0,1)) -> 0 | AQ43: =IF(ISERR(ROUND(S43,0)),0,IF(OR(S43<0,$B43="",S43<>ROUND(S43,0)),0,1)) -> 0 | AR43: =IF(ISERR(ROUND(T43,0)),0,IF(OR(T43<0,$B43="",T43<>ROUND(T43,0)),0,1)) -> 0 | AS43: =IF(ISERR(ROUND(U43,0)),0,IF(OR(U43<0,$B43="",U43<>ROUND(U43,0)),0,1)) -> 0 | AT43: {=IF(OR(AP43:AS43=0),0,1)} -> 0 | AU43: =IF(V43<$A$1,V43,$A$1) -> 0 | AV43: =IF(SUM($AU43:AU43)<$A$1,IF(SUM($U43:V43)<$A$1,U43,$A$1-SUM($AU43:AU43)),0) -> 0 | AW43: =IF(SUM($AU43:AV43)<$A$1,IF(SUM($T43:V43)<$A$1,T43,$A$1-SUM($AU43:AV43)),0) -> 0 | AX43: =IF(SUM($AU43:AW43)<$A$1,IF(SUM($S43:V43)<$A$1,S43,$A$1-SUM($AU43:AW43)),0) -> 0 | AY43: =IF(SUM($AU43:AX43)<$A$1,IF(SUM($R43:V43)<$A$1,R43,$A$1-SUM($AU43:AX43)),0) -> 0 | AZ43: =AY43 -> 0 | BA43: =AX43 -> 0 | BB43: =AW43 -> 0 | BC43: =AV43 -> 0 | BD43: =AU43 -> 0 | BE43: =IF($B43="","",BE$10) | BF43: =IF($B43="","",BF$10) | BG43: =IF(D43="",0,IF(D43<2,0,1)) -> 0 | BH43: =IF(E43="",0,E43) -> 0 | BI43: =IF(F43="",0,F43) -> 0 | BK43: =IF(H43="",0,H43) -> 0 | BL43: =IF(I43="",0,I43) -> 0 | BM43: =IF(J43="",0,J43) -> 0 | BN43: =IF(M43="",0,M43) -> 0 | BO43: =IF(P43="",0,P43) -> 0 | BP43: =IF(Y43="",0,Y43) -> 0 | BQ43: =IF(AC43=1,1,IF(Z43="",0,IF('ריכוז גיליונות עזר'!W43=1,1,0))) -> 0 | BR43: =IF(AC43=1,1,IF(AA43="",0,IF('ריכוז גיליונות עזר'!W43=1,1,0))) -> 0 | BS43: =IF(AG43="",0,AG43) -> 0 | BT43: =IF(AJ43="",0,AJ43) -> 0 | BU43: =IF(AK43="",0,AK43) -> 0 | BW43: =IF(R43*#REF!<200,0,1) -> #REF! | BX43: =IF(S43*#REF!<200,0,1) -> #REF! | BY43: =IF(T43*#REF!<200,0,1) -> #REF! | BZ43: =IF(U43*#REF!<200,0,1) -> #REF! | CA43: =IF(V43*#REF!<200,0,1) -> #REF!
A44: =A43+1 -> 34 | B44: =IF('כתב עת ירושלמי'!$F$1="34","",'כתב עת ירושלמי'!$F$1) -> כתב עת ירושלמי | C44: 32874 | D44: =IF(OR(B44="",C44=""),"",((DATE($J$3,1,1)-C44)/365)) -> 35.024658 | E44: 1 | F44: 1 | H44: 1 | I44: 1 | J44: 1 | K44: 1 | L44: 1 | M44: =IF(B44="","",IF(OR(K44=0,AND(K44=1,L44=1)),1,0)) -> 1 | N44: 0 | O44: 1 | P44: =IF(B44="","",IF(OR(N44=0,AND(N44=1,O44=1)),1,0)) -> 1 | Y44: =IF(B44="","",IF(AF44=1,1,IF(AND($J$3=2022,Q44=1,AD44>=1),1,IF(AD44>=2,1,0)))) -> 1 | Z44: ='ריכוז גיליונות עזר'!S44 -> 2 | AA44: ='ריכוז גיליונות עזר'!R44 -> 2 | AB44: ='ריכוז גיליונות עזר'!T44 -> 2 | AD44: =IF($B44="","",SUM(INDIRECT("'"&SUBSTITUTE($B44,"'","''")&"'"&"!L2:P2"))) -> 2 | AE44: {=IF($B44="","",IF($F44="","",INDIRECT("'"&SUBSTITUTE($B44,"'","''")&"'"&"!L6")))} -> 0 | AG44: =IF(B44="","",IF(AC44=1,1,IF(AB44=0,0,IF(SUM(R44:V44)+AE44*AF44<=AB44,1,0)))) -> 1 | AH44: ='ריכוז גיליונות עזר'!U44 -> 1 | AJ44: =IF(B44="","",IF(AI44=1,1,IF(AH44>=פרמטרים!$B$46,1,0))) -> 1 | AK44: 1 | AL44: =IFERROR(IF(B44="","",IF(SUM(BG44:BU44)=COUNT(BG44:BU44),1,0)),$AP$1) -> 1 | AP44: =IF(ISERR(ROUND(R44,0)),0,IF(OR(R44<0,$B44="",R44<>ROUND(R44,0)),0,1)) -> 1 | AQ44: =IF(ISERR(ROUND(S44,0)),0,IF(OR(S44<0,$B44="",S44<>ROUND(S44,0)),0,1)) -> 1 | AR44: =IF(ISERR(ROUND(T44,0)),0,IF(OR(T44<0,$B44="",T44<>ROUND(T44,0)),0,1)) -> 1 | AS44: =IF(ISERR(ROUND(U44,0)),0,IF(OR(U44<0,$B44="",U44<>ROUND(U44,0)),0,1)) -> 1 | AT44: {=IF(OR(AP44:AS44=0),0,1)} -> 1 | AU44: =IF(V44<$A$1,V44,$A$1) -> 0 | AV44: =IF(SUM($AU44:AU44)<$A$1,IF(SUM($U44:V44)<$A$1,U44,$A$1-SUM($AU44:AU44)),0) -> 0 | AW44: =IF(SUM($AU44:AV44)<$A$1,IF(SUM($T44:V44)<$A$1,T44,$A$1-SUM($AU44:AV44)),0) -> 0 | AX44: =IF(SUM($AU44:AW44)<$A$1,IF(SUM($S44:V44)<$A$1,S44,$A$1-SUM($AU44:AW44)),0) -> 0 | AY44: =IF(SUM($AU44:AX44)<$A$1,IF(SUM($R44:V44)<$A$1,R44,$A$1-SUM($AU44:AX44)),0) -> 0 | AZ44: =AY44 -> 0 | BA44: =AX44 -> 0 | BB44: =AW44 -> 0 | BC44: =AV44 -> 0 | BD44: =AU44 -> 0 | BE44: =IF($B44="","",BE$10) -> 0 | BF44: =IF($B44="","",BF$10) -> 1 | BG44: =IF(D44="",0,IF(D44<2,0,1)) -> 1 | BH44: =IF(E44="",0,E44) -> 1 | BI44: =IF(F44="",0,F44) -> 1 | BK44: =IF(H44="",0,H44) -> 1 | BL44: =IF(I44="",0,I44) -> 1 | BM44: =IF(J44="",0,J44) -> 1 | BN44: =IF(M44="",0,M44) -> 1 | BO44: =IF(P44="",0,P44) -> 1 | BP44: =IF(Y44="",0,Y44) -> 1 | BQ44: =IF(AC44=1,1,IF(Z44="",0,IF('ריכוז גיליונות עזר'!W44=1,1,0))) -> 1 | BR44: =IF(AC44=1,1,IF(AA44="",0,IF('ריכוז גיליונות עזר'!W44=1,1,0))) -> 1 | BS44: =IF(AG44="",0,AG44) -> 1 | BT44: =IF(AJ44="",0,AJ44) -> 1 | BU44: =IF(AK44="",0,AK44) -> 1 | BW44: =IF(R44*#REF!<200,0,1) -> #REF! | BX44: =IF(S44*#REF!<200,0,1) -> #REF! | BY44: =IF(T44*#REF!<200,0,1) -> #REF! | BZ44: =IF(U44*#REF!<200,0,1) -> #REF! | CA44: =IF(V44*#REF!<200,0,1) -> #REF!
A45: =A44+1 -> 35 | B45: =IF('35'!$F$1="35","",'35'!$F$1) | D45: =IF(OR(B45="",C45=""),"",((DATE($J$3,1,1)-C45)/365)) | M45: =IF(B45="","",IF(OR(K45=0,AND(K45=1,L45=1)),1,0)) | P45: =IF(B45="","",IF(OR(N45=0,AND(N45=1,O45=1)),1,0)) | Y45: =IF(B45="","",IF(AF45=1,1,IF(AND($J$3=2022,Q45=1,AD45>=1),1,IF(AD45>=2,1,0)))) | Z45: ='ריכוז גיליונות עזר'!S45 | AA45: ='ריכוז גיליונות עזר'!R45 | AB45: ='ריכוז גיליונות עזר'!T45 | AD45: =IF($B45="","",SUM(INDIRECT("'"&SUBSTITUTE($B45,"'","''")&"'"&"!L2:P2"))) | AE45: {=IF($B45="","",IF($F45="","",INDIRECT("'"&SUBSTITUTE($B45,"'","''")&"'"&"!L6")))} | AG45: =IF(B45="","",IF(AC45=1,1,IF(AB45=0,0,IF(SUM(R45:V45)+AE45*AF45<=AB45,1,0)))) | AH45: ='ריכוז גיליונות עזר'!U45 | AJ45: =IF(B45="","",IF(AI45=1,1,IF(AH45>=פרמטרים!$B$46,1,0))) | AL45: =IFERROR(IF(B45="","",IF(SUM(BG45:BU45)=COUNT(BG45:BU45),1,0)),$AP$1) | AP45: =IF(ISERR(ROUND(R45,0)),0,IF(OR(R45<0,$B45="",R45<>ROUND(R45,0)),0,1)) -> 0 | AQ45: =IF(ISERR(ROUND(S45,0)),0,IF(OR(S45<0,$B45="",S45<>ROUND(S45,0)),0,1)) -> 0 | AR45: =IF(ISERR(ROUND(T45,0)),0,IF(OR(T45<0,$B45="",T45<>ROUND(T45,0)),0,1)) -> 0 | AS45: =IF(ISERR(ROUND(U45,0)),0,IF(OR(U45<0,$B45="",U45<>ROUND(U45,0)),0,1)) -> 0 | AT45: {=IF(OR(AP45:AS45=0),0,1)} -> 0 | AU45: =IF(V45<$A$1,V45,$A$1) -> 0 | AV45: =IF(SUM($AU45:AU45)<$A$1,IF(SUM($U45:V45)<$A$1,U45,$A$1-SUM($AU45:AU45)),0) -> 0 | AW45: =IF(SUM($AU45:AV45)<$A$1,IF(SUM($T45:V45)<$A$1,T45,$A$1-SUM($AU45:AV45)),0) -> 0 | AX45: =IF(SUM($AU45:AW45)<$A$1,IF(SUM($S45:V45)<$A$1,S45,$A$1-SUM($AU45:AW45)),0) -> 0 | AY45: =IF(SUM($AU45:AX45)<$A$1,IF(SUM($R45:V45)<$A$1,R45,$A$1-SUM($AU45:AX45)),0) -> 0 | AZ45: =AY45 -> 0 | BA45: =AX45 -> 0 | BB45: =AW45 -> 0 | BC45: =AV45 -> 0 | BD45: =AU45 -> 0 | BE45: =IF($B45="","",BE$10) | BF45: =IF($B45="","",BF$10) | BG45: =IF(D45="",0,IF(D45<2,0,1)) -> 0 | BH45: =IF(E45="",0,E45) -> 0 | BI45: =IF(F45="",0,F45) -> 0 | BK45: =IF(H45="",0,H45) -> 0 | BL45: =IF(I45="",0,I45) -> 0 | BM45: =IF(J45="",0,J45) -> 0 | BN45: =IF(M45="",0,M45) -> 0 | BO45: =IF(P45="",0,P45) -> 0 | BP45: =IF(Y45="",0,Y45) -> 0 | BQ45: =IF(AC45=1,1,IF(Z45="",0,IF('ריכוז גיליונות עזר'!W45=1,1,0))) -> 0 | BR45: =IF(AC45=1,1,IF(AA45="",0,IF('ריכוז גיליונות עזר'!W45=1,1,0))) -> 0 | BS45: =IF(AG45="",0,AG45) -> 0 | BT45: =IF(AJ45="",0,AJ45) -> 0 | BU45: =IF(AK45="",0,AK45) -> 0 | BW45: =IF(R45*#REF!<200,0,1) -> #REF! | BX45: =IF(S45*#REF!<200,0,1) -> #REF! | BY45: =IF(T45*#REF!<200,0,1) -> #REF! | BZ45: =IF(U45*#REF!<200,0,1) -> #REF! | CA45: =IF(V45*#REF!<200,0,1) -> #REF!
A46: =A45+1 -> 36 | B46: =IF('העמותה ליצירה פנטסטית- אוטופיה'!$F$1="36","",'העמותה ליצירה פנטסטית- אוטופיה'!$F$1) -> העמותה ליצירה פנטסטית- אוטופיה | C46: 44927 | D46: =IF(OR(B46="",C46=""),"",((DATE($J$3,1,1)-C46)/365)) -> 2.0027397 | E46: 1 | F46: 1 | H46: 1 | I46: 1 | J46: 1 | K46: 1 | L46: 1 | M46: =IF(B46="","",IF(OR(K46=0,AND(K46=1,L46=1)),1,0)) -> 1 | N46: 1 | O46: 1 | P46: =IF(B46="","",IF(OR(N46=0,AND(N46=1,O46=1)),1,0)) -> 1 | Y46: =IF(B46="","",IF(AF46=1,1,IF(AND($J$3=2022,Q46=1,AD46>=1),1,IF(AD46>=2,1,0)))) -> 1 | Z46: ='ריכוז גיליונות עזר'!S46 -> 2 | AA46: ='ריכוז גיליונות עזר'!R46 -> 2 | AB46: ='ריכוז גיליונות עזר'!T46 -> 0 | AC46: 1 | AD46: =IF($B46="","",SUM(INDIRECT("'"&SUBSTITUTE($B46,"'","''")&"'"&"!L2:P2"))) -> 0 | AE46: {=IF($B46="","",IF($F46="","",INDIRECT("'"&SUBSTITUTE($B46,"'","''")&"'"&"!L6")))} -> 2 | AF46: 1 | AG46: =IF(B46="","",IF(AC46=1,1,IF(AB46=0,0,IF(SUM(R46:V46)+AE46*AF46<=AB46,1,0)))) -> 1 | AH46: ='ריכוז גיליונות עזר'!U46 -> 0 | AI46: 1 | AJ46: =IF(B46="","",IF(AI46=1,1,IF(AH46>=פרמטרים!$B$46,1,0))) -> 1 | AK46: 1 | AL46: =IFERROR(IF(B46="","",IF(SUM(BG46:BU46)=COUNT(BG46:BU46),1,0)),$AP$1) -> 1 | AP46: =IF(ISERR(ROUND(R46,0)),0,IF(OR(R46<0,$B46="",R46<>ROUND(R46,0)),0,1)) -> 1 | AQ46: =IF(ISERR(ROUND(S46,0)),0,IF(OR(S46<0,$B46="",S46<>ROUND(S46,0)),0,1)) -> 1 | AR46: =IF(ISERR(ROUND(T46,0)),0,IF(OR(T46<0,$B46="",T46<>ROUND(T46,0)),0,1)) -> 1 | AS46: =IF(ISERR(ROUND(U46,0)),0,IF(OR(U46<0,$B46="",U46<>ROUND(U46,0)),0,1)) -> 1 | AT46: {=IF(OR(AP46:AS46=0),0,1)} -> 1 | AU46: =IF(V46<$A$1,V46,$A$1) -> 0 | AV46: =IF(SUM($AU46:AU46)<$A$1,IF(SUM($U46:V46)<$A$1,U46,$A$1-SUM($AU46:AU46)),0) -> 0 | AW46: =IF(SUM($AU46:AV46)<$A$1,IF(SUM($T46:V46)<$A$1,T46,$A$1-SUM($AU46:AV46)),0) -> 0 | AX46: =IF(SUM($AU46:AW46)<$A$1,IF(SUM($S46:V46)<$A$1,S46,$A$1-SUM($AU46:AW46)),0) -> 0 | AY46: =IF(SUM($AU46:AX46)<$A$1,IF(SUM($R46:V46)<$A$1,R46,$A$1-SUM($AU46:AX46)),0) -> 0 | AZ46: =AY46 -> 0 | BA46: =AX46 -> 0 | BB46: =AW46 -> 0 | BC46: =AV46 -> 0 | BD46: =AU46 -> 0 | BE46: =IF($B46="","",BE$10) -> 0 | BF46: =IF($B46="","",BF$10) -> 1 | BG46: =IF(D46="",0,IF(D46<2,0,1)) -> 1 | BH46: =IF(E46="",0,E46) -> 1 | BI46: =IF(F46="",0,F46) -> 1 | BK46: =IF(H46="",0,H46) -> 1 | BL46: =IF(I46="",0,I46) -> 1 | BM46: =IF(J46="",0,J46) -> 1 | BN46: =IF(M46="",0,M46) -> 1 | BO46: =IF(P46="",0,P46) -> 1 | BP46: =IF(Y46="",0,Y46) -> 1 | BQ46: =IF(AC46=1,1,IF(Z46="",0,IF('ריכוז גיליונות עזר'!W46=1,1,0))) -> 1 | BR46: =IF(AC46=1,1,IF(AA46="",0,IF('ריכוז גיליונות עזר'!W46=1,1,0))) -> 1 | BS46: =IF(AG46="",0,AG46) -> 1 | BT46: =IF(AJ46="",0,AJ46) -> 1 | BU46: =IF(AK46="",0,AK46) -> 1 | BW46: =IF(R46*#REF!<200,0,1) -> #REF! | BX46: =IF(S46*#REF!<200,0,1) -> #REF! | BY46: =IF(T46*#REF!<200,0,1) -> #REF! | BZ46: =IF(U46*#REF!<200,0,1) -> #REF! | CA46: =IF(V46*#REF!<200,0,1) -> #REF!
A47: =A46+1 -> 37 | B47: =IF('37'!$F$1="37","",'37'!$F$1) | D47: =IF(OR(B47="",C47=""),"",((DATE($J$3,1,1)-C47)/365)) | M47: =IF(B47="","",IF(OR(K47=0,AND(K47=1,L47=1)),1,0)) | P47: =IF(B47="","",IF(OR(N47=0,AND(N47=1,O47=1)),1,0)) | Y47: =IF(B47="","",IF(AF47=1,1,IF(AND($J$3=2022,Q47=1,AD47>=1),1,IF(AD47>=2,1,0)))) | Z47: ='ריכוז גיליונות עזר'!S47 | AA47: ='ריכוז גיליונות עזר'!R47 | AB47: ='ריכוז גיליונות עזר'!T47 | AD47: =IF($B47="","",SUM(INDIRECT("'"&SUBSTITUTE($B47,"'","''")&"'"&"!L2:P2"))) | AE47: {=IF($B47="","",IF($F47="","",INDIRECT("'"&SUBSTITUTE($B47,"'","''")&"'"&"!L6")))} | AG47: =IF(B47="","",IF(AC47=1,1,IF(AB47=0,0,IF(SUM(R47:V47)+AE47*AF47<=AB47,1,0)))) | AH47: ='ריכוז גיליונות עזר'!U47 | AJ47: =IF(B47="","",IF(AI47=1,1,IF(AH47>=פרמטרים!$B$46,1,0))) | AL47: =IFERROR(IF(B47="","",IF(SUM(BG47:BU47)=COUNT(BG47:BU47),1,0)),$AP$1) | AP47: =IF(ISERR(ROUND(R47,0)),0,IF(OR(R47<0,$B47="",R47<>ROUND(R47,0)),0,1)) -> 0 | AQ47: =IF(ISERR(ROUND(S47,0)),0,IF(OR(S47<0,$B47="",S47<>ROUND(S47,0)),0,1)) -> 0 | AR47: =IF(ISERR(ROUND(T47,0)),0,IF(OR(T47<0,$B47="",T47<>ROUND(T47,0)),0,1)) -> 0 | AS47: =IF(ISERR(ROUND(U47,0)),0,IF(OR(U47<0,$B47="",U47<>ROUND(U47,0)),0,1)) -> 0 | AT47: {=IF(OR(AP47:AS47=0),0,1)} -> 0 | AU47: =IF(V47<$A$1,V47,$A$1) -> 0 | AV47: =IF(SUM($AU47:AU47)<$A$1,IF(SUM($U47:V47)<$A$1,U47,$A$1-SUM($AU47:AU47)),0) -> 0 | AW47: =IF(SUM($AU47:AV47)<$A$1,IF(SUM($T47:V47)<$A$1,T47,$A$1-SUM($AU47:AV47)),0) -> 0 | AX47: =IF(SUM($AU47:AW47)<$A$1,IF(SUM($S47:V47)<$A$1,S47,$A$1-SUM($AU47:AW47)),0) -> 0 | AY47: =IF(SUM($AU47:AX47)<$A$1,IF(SUM($R47:V47)<$A$1,R47,$A$1-SUM($AU47:AX47)),0) -> 0 | AZ47: =AY47 -> 0 | BA47: =AX47 -> 0 | BB47: =AW47 -> 0 | BC47: =AV47 -> 0 | BD47: =AU47 -> 0 | BE47: =IF($B47="","",BE$10) | BF47: =IF($B47="","",BF$10) | BG47: =IF(D47="",0,IF(D47<2,0,1)) -> 0 | BH47: =IF(E47="",0,E47) -> 0 | BI47: =IF(F47="",0,F47) -> 0 | BK47: =IF(H47="",0,H47) -> 0 | BL47: =IF(I47="",0,I47) -> 0 | BM47: =IF(J47="",0,J47) -> 0 | BN47: =IF(M47="",0,M47) -> 0 | BO47: =IF(P47="",0,P47) -> 0 | BP47: =IF(Y47="",0,Y47) -> 0 | BQ47: =IF(AC47=1,1,IF(Z47="",0,IF('ריכוז גיליונות עזר'!W47=1,1,0))) -> 0 | BR47: =IF(AC47=1,1,IF(AA47="",0,IF('ריכוז גיליונות עזר'!W47=1,1,0))) -> 0 | BS47: =IF(AG47="",0,AG47) -> 0 | BT47: =IF(AJ47="",0,AJ47) -> 0 | BU47: =IF(AK47="",0,AK47) -> 0 | BW47: =IF(R47*#REF!<200,0,1) -> #REF! | BX47: =IF(S47*#REF!<200,0,1) -> #REF! | BY47: =IF(T47*#REF!<200,0,1) -> #REF! | BZ47: =IF(U47*#REF!<200,0,1) -> #REF! | CA47: =IF(V47*#REF!<200,0,1) -> #REF!
A48: =A47+1 -> 38 | B48: =IF('38'!$F$1="38","",'38'!$F$1) | D48: =IF(OR(B48="",C48=""),"",((DATE($J$3,1,1)-C48)/365)) | M48: =IF(B48="","",IF(OR(K48=0,AND(K48=1,L48=1)),1,0)) | P48: =IF(B48="","",IF(OR(N48=0,AND(N48=1,O48=1)),1,0)) | Y48: =IF(B48="","",IF(AF48=1,1,IF(AND($J$3=2022,Q48=1,AD48>=1),1,IF(AD48>=2,1,0)))) | Z48: ='ריכוז גיליונות עזר'!S48 | AA48: ='ריכוז גיליונות עזר'!R48 | AB48: ='ריכוז גיליונות עזר'!T48 | AD48: =IF($B48="","",SUM(INDIRECT("'"&SUBSTITUTE($B48,"'","''")&"'"&"!L2:P2"))) | AE48: {=IF($B48="","",IF($F48="","",INDIRECT("'"&SUBSTITUTE($B48,"'","''")&"'"&"!L6")))} | AG48: =IF(B48="","",IF(AC48=1,1,IF(AB48=0,0,IF(SUM(R48:V48)+AE48*AF48<=AB48,1,0)))) | AH48: ='ריכוז גיליונות עזר'!U48 | AJ48: =IF(B48="","",IF(AI48=1,1,IF(AH48>=פרמטרים!$B$46,1,0))) | AL48: =IFERROR(IF(B48="","",IF(SUM(BG48:BU48)=COUNT(BG48:BU48),1,0)),$AP$1) | AP48: =IF(ISERR(ROUND(R48,0)),0,IF(OR(R48<0,$B48="",R48<>ROUND(R48,0)),0,1)) -> 0 | AQ48: =IF(ISERR(ROUND(S48,0)),0,IF(OR(S48<0,$B48="",S48<>ROUND(S48,0)),0,1)) -> 0 | AR48: =IF(ISERR(ROUND(T48,0)),0,IF(OR(T48<0,$B48="",T48<>ROUND(T48,0)),0,1)) -> 0 | AS48: =IF(ISERR(ROUND(U48,0)),0,IF(OR(U48<0,$B48="",U48<>ROUND(U48,0)),0,1)) -> 0 | AT48: {=IF(OR(AP48:AS48=0),0,1)} -> 0 | AU48: =IF(V48<$A$1,V48,$A$1) -> 0 | AV48: =IF(SUM($AU48:AU48)<$A$1,IF(SUM($U48:V48)<$A$1,U48,$A$1-SUM($AU48:AU48)),0) -> 0 | AW48: =IF(SUM($AU48:AV48)<$A$1,IF(SUM($T48:V48)<$A$1,T48,$A$1-SUM($AU48:AV48)),0) -> 0 | AX48: =IF(SUM($AU48:AW48)<$A$1,IF(SUM($S48:V48)<$A$1,S48,$A$1-SUM($AU48:AW48)),0) -> 0 | AY48: =IF(SUM($AU48:AX48)<$A$1,IF(SUM($R48:V48)<$A$1,R48,$A$1-SUM($AU48:AX48)),0) -> 0 | AZ48: =AY48 -> 0 | BA48: =AX48 -> 0 | BB48: =AW48 -> 0 | BC48: =AV48 -> 0 | BD48: =AU48 -> 0 | BE48: =IF($B48="","",BE$10) | BF48: =IF($B48="","",BF$10) | BG48: =IF(D48="",0,IF(D48<2,0,1)) -> 0 | BH48: =IF(E48="",0,E48) -> 0 | BI48: =IF(F48="",0,F48) -> 0 | BK48: =IF(H48="",0,H48) -> 0 | BL48: =IF(I48="",0,I48) -> 0 | BM48: =IF(J48="",0,J48) -> 0 | BN48: =IF(M48="",0,M48) -> 0 | BO48: =IF(P48="",0,P48) -> 0 | BP48: =IF(Y48="",0,Y48) -> 0 | BQ48: =IF(AC48=1,1,IF(Z48="",0,IF('ריכוז גיליונות עזר'!W48=1,1,0))) -> 0 | BR48: =IF(AC48=1,1,IF(AA48="",0,IF('ריכוז גיליונות עזר'!W48=1,1,0))) -> 0 | BS48: =IF(AG48="",0,AG48) -> 0 | BT48: =IF(AJ48="",0,AJ48) -> 0 | BU48: =IF(AK48="",0,AK48) -> 0 | BW48: =IF(R48*#REF!<200,0,1) -> #REF! | BX48: =IF(S48*#REF!<200,0,1) -> #REF! | BY48: =IF(T48*#REF!<200,0,1) -> #REF! | BZ48: =IF(U48*#REF!<200,0,1) -> #REF! | CA48: =IF(V48*#REF!<200,0,1) -> #REF!
A49: =A48+1 -> 39 | B49: =IF('39'!$F$1="39","",'39'!$F$1) | D49: =IF(OR(B49="",C49=""),"",((DATE($J$3,1,1)-C49)/365)) | M49: =IF(B49="","",IF(OR(K49=0,AND(K49=1,L49=1)),1,0)) | P49: =IF(B49="","",IF(OR(N49=0,AND(N49=1,O49=1)),1,0)) | Y49: =IF(B49="","",IF(AF49=1,1,IF(AND($J$3=2022,Q49=1,AD49>=1),1,IF(AD49>=2,1,0)))) | Z49: ='ריכוז גיליונות עזר'!S49 | AA49: ='ריכוז גיליונות עזר'!R49 | AB49: ='ריכוז גיליונות עזר'!T49 | AD49: =IF($B49="","",SUM(INDIRECT("'"&SUBSTITUTE($B49,"'","''")&"'"&"!L2:P2"))) | AG49: =IF(B49="","",IF(AC49=1,1,IF(AB49=0,0,IF(SUM(R49:V49)+AE49*AF49<=AB49,1,0)))) | AH49: ='ריכוז גיליונות עזר'!U49 | AJ49: =IF(B49="","",IF(AI49=1,1,IF(AH49>=פרמטרים!$B$46,1,0))) | AL49: =IFERROR(IF(B49="","",IF(SUM(BG49:BU49)=COUNT(BG49:BU49),1,0)),$AP$1) | AP49: =IF(ISERR(ROUND(R49,0)),0,IF(OR(R49<0,$B49="",R49<>ROUND(R49,0)),0,1)) -> 0 | AQ49: =IF(ISERR(ROUND(S49,0)),0,IF(OR(S49<0,$B49="",S49<>ROUND(S49,0)),0,1)) -> 0 | AR49: =IF(ISERR(ROUND(T49,0)),0,IF(OR(T49<0,$B49="",T49<>ROUND(T49,0)),0,1)) -> 0 | AS49: =IF(ISERR(ROUND(U49,0)),0,IF(OR(U49<0,$B49="",U49<>ROUND(U49,0)),0,1)) -> 0 | AT49: {=IF(OR(AP49:AS49=0),0,1)} -> 0 | AU49: =IF(V49<$A$1,V49,$A$1) -> 0 | AV49: =IF(SUM($AU49:AU49)<$A$1,IF(SUM($U49:V49)<$A$1,U49,$A$1-SUM($AU49:AU49)),0) -> 0 | AW49: =IF(SUM($AU49:AV49)<$A$1,IF(SUM($T49:V49)<$A$1,T49,$A$1-SUM($AU49:AV49)),0) -> 0 | AX49: =IF(SUM($AU49:AW49)<$A$1,IF(SUM($S49:V49)<$A$1,S49,$A$1-SUM($AU49:AW49)),0) -> 0 | AY49: =IF(SUM($AU49:AX49)<$A$1,IF(SUM($R49:V49)<$A$1,R49,$A$1-SUM($AU49:AX49)),0) -> 0 | AZ49: =AY49 -> 0 | BA49: =AX49 -> 0 | BB49: =AW49 -> 0 | BC49: =AV49 -> 0 | BD49: =AU49 -> 0 | BE49: =IF($B49="","",BE$10) | BF49: =IF($B49="","",BF$10) | BG49: =IF(D49="",0,IF(D49<2,0,1)) -> 0 | BH49: =IF(E49="",0,E49) -> 0 | BI49: =IF(F49="",0,F49) -> 0 | BK49: =IF(H49="",0,H49) -> 0 | BL49: =IF(I49="",0,I49) -> 0 | BM49: =IF(J49="",0,J49) -> 0 | BN49: =IF(M49="",0,M49) -> 0 | BO49: =IF(P49="",0,P49) -> 0 | BP49: =IF(Y49="",0,Y49) -> 0 | BQ49: =IF(AC49=1,1,IF(Z49="",0,IF('ריכוז גיליונות עזר'!W49=1,1,0))) -> 0 | BR49: =IF(AC49=1,1,IF(AA49="",0,IF('ריכוז גיליונות עזר'!W49=1,1,0))) -> 0 | BS49: =IF(AG49="",0,AG49) -> 0 | BT49: =IF(AJ49="",0,AJ49) -> 0 | BU49: =IF(AK49="",0,AK49) -> 0 | BW49: =IF(R49*#REF!<200,0,1) -> #REF! | BX49: =IF(S49*#REF!<200,0,1) -> #REF! | BY49: =IF(T49*#REF!<200,0,1) -> #REF! | BZ49: =IF(U49*#REF!<200,0,1) -> #REF! | CA49: =IF(V49*#REF!<200,0,1) -> #REF!
A50: =A49+1 -> 40 | B50: =IF('40'!$F$1="40","",'40'!$F$1) | D50: =IF(OR(B50="",C50=""),"",((DATE($J$3,1,1)-C50)/365)) | M50: =IF(B50="","",IF(OR(K50=0,AND(K50=1,L50=1)),1,0)) | P50: =IF(B50="","",IF(OR(N50=0,AND(N50=1,O50=1)),1,0)) | Y50: =IF(B50="","",IF(AF50=1,1,IF(AND($J$3=2022,Q50=1,AD50>=1),1,IF(AD50>=2,1,0)))) | Z50: ='ריכוז גיליונות עזר'!S50 | AA50: ='ריכוז גיליונות עזר'!R50 | AB50: ='ריכוז גיליונות עזר'!T50 | AD50: =IF($B50="","",SUM(INDIRECT("'"&SUBSTITUTE($B50,"'","''")&"'"&"!L2:P2"))) | AE50: =IF($B$11="","",'ריכוז גיליונות עזר'!L50) -> 0 | AG50: =IF(B50="","",IF(AC50=1,1,IF(AB50=0,0,IF(SUM(R50:V50)+AE50*AF50<=AB50,1,0)))) | AH50: ='ריכוז גיליונות עזר'!U50 | AJ50: =IF(B50="","",IF(AI50=1,1,IF(AH50>=פרמטרים!$B$46,1,0))) | AL50: =IFERROR(IF(B50="","",IF(SUM(BG50:BU50)=COUNT(BG50:BU50),1,0)),$AP$1) | AP50: =IF(ISERR(ROUND(R50,0)),0,IF(OR(R50<0,$B50="",R50<>ROUND(R50,0)),0,1)) -> 0 | AQ50: =IF(ISERR(ROUND(S50,0)),0,IF(OR(S50<0,$B50="",S50<>ROUND(S50,0)),0,1)) -> 0 | AR50: =IF(ISERR(ROUND(T50,0)),0,IF(OR(T50<0,$B50="",T50<>ROUND(T50,0)),0,1)) -> 0 | AS50: =IF(ISERR(ROUND(U50,0)),0,IF(OR(U50<0,$B50="",U50<>ROUND(U50,0)),0,1)) -> 0 | AT50: {=IF(OR(AP50:AS50=0),0,1)} -> 0 | AU50: =IF(V50<$A$1,V50,$A$1) -> 0 | AV50: =IF(SUM($AU50:AU50)<$A$1,IF(SUM($U50:V50)<$A$1,U50,$A$1-SUM($AU50:AU50)),0) -> 0 | AW50: =IF(SUM($AU50:AV50)<$A$1,IF(SUM($T50:V50)<$A$1,T50,$A$1-SUM($AU50:AV50)),0) -> 0 | AX50: =IF(SUM($AU50:AW50)<$A$1,IF(SUM($S50:V50)<$A$1,S50,$A$1-SUM($AU50:AW50)),0) -> 0 | AY50: =IF(SUM($AU50:AX50)<$A$1,IF(SUM($R50:V50)<$A$1,R50,$A$1-SUM($AU50:AX50)),0) -> 0 | AZ50: =AY50 -> 0 | BA50: =AX50 -> 0 | BB50: =AW50 -> 0 | BC50: =AV50 -> 0 | BD50: =AU50 -> 0 | BE50: =IF($B50="","",BE$10) | BF50: =IF($B50="","",BF$10) | BG50: =IF(D50="",0,IF(D50<2,0,1)) -> 0 | BH50: =IF(E50="",0,E50) -> 0 | BI50: =IF(F50="",0,F50) -> 0 | BK50: =IF(H50="",0,H50) -> 0 | BL50: =IF(I50="",0,I50) -> 0 | BM50: =IF(J50="",0,J50) -> 0 | BN50: =IF(M50="",0,M50) -> 0 | BO50: =IF(P50="",0,P50) -> 0 | BP50: =IF(Y50="",0,Y50) -> 0 | BQ50: =IF(AC50=1,1,IF(Z50="",0,IF('ריכוז גיליונות עזר'!W50=1,1,0))) -> 0 | BR50: =IF(AC50=1,1,IF(AA50="",0,IF('ריכוז גיליונות עזר'!W50=1,1,0))) -> 0 | BS50: =IF(AG50="",0,AG50) -> 0 | BT50: =IF(AJ50="",0,AJ50) -> 0 | BU50: =IF(AK50="",0,AK50) -> 0 | BW50: =IF(R50*#REF!<200,0,1) -> #REF! | BX50: =IF(S50*#REF!<200,0,1) -> #REF! | BY50: =IF(T50*#REF!<200,0,1) -> #REF! | BZ50: =IF(U50*#REF!<200,0,1) -> #REF! | CA50: =IF(V50*#REF!<200,0,1) -> #REF!
A51: סה"כ | E51: =SUM(E11:E50) -> 23 | F51: =SUM(F11:F50) -> 23 | G51: =SUM(G11:G50) -> 0 | H51: =SUM(H11:H50) -> 23 | I51: =SUM(I11:I50) -> 23 | J51: =SUM(J11:J50) -> 23 | K51: =SUM(K11:K50) -> 16 | L51: =SUM(L11:L50) -> 16 | ... P51: =SUM(P11:P50) -> 23 | Y51: =SUM(Y11:Y50) -> 23 | Z51: =SUM(Z11:Z50) -> 65 | AA51: =SUM(AA11:AA50) -> 65 | AB51: =SUM(AB11:AB50) -> 63 | AC51: =SUM(AC11:AC50) -> 1 | AE51: =SUM(AE11:AE50) -> 2 | AF51: =SUM(AF11:AF50) -> 1 | AG51: =SUM(AG11:AG50) -> 23 | AH51: =SUM(AH11:AH50) -> 20.563011 | AI51: =SUM(AI11:AI50) -> 1 | AJ51: =SUM(AJ11:AJ50) -> 23 | AK51: =SUM(AK11:AK50) -> 24 | AL51: =SUM(AL11:AL50) -> 23 | AU51: =SUM(AU11:AU50) -> 0 | AV51: =SUM(AV11:AV50) -> 0 | AW51: =SUM(AW11:AW50) -> 0 | AX51: =SUM(AX11:AX50) -> 0 | AY51: =SUM(AY11:AY50) -> 0 | BD51: =AU51 -> 0

Sheet סיווג
B1: =פרמטרים!E23 -> מכפיל סיווג כתב העת | D1: =פרמטרים!B1 -> שנת התקציב | E1: =פרמטרים!C1 -> 2025
B2: =פרמטרים!E24 -> קבוצה | C2: =פרמטרים!F24 -> מכפיל ניקוד | D2: =פרמטרים!B2 -> תקציב | E2: =פרמטרים!C2 -> 1906914
B3: =פרמטרים!E25 -> רמה אמנותית נאותה | C3: =פרמטרים!F25 -> 1 | F3: גבוהה | G3: =C4 -> 1.075
B4: =פרמטרים!E26 -> רמה אמנותית גבוהה | C4: =פרמטרים!F26 -> 1.075 | F4: נאותה | G4: =C3 -> 1
B5: =פרמטרים!E27 -> רמה אמנותית גבוהה ובעלת תרומה משמעותית | C5: =פרמטרים!F27 -> 1.15 | F5: תרומה משמעותית | G5: =C5 -> 1.15
A9: מכפיל סיווג כתב העת
A10: =וותק!A5 -> מספר סידורי | B10: =וותק!B5 -> שם כתב העת | C10: קבוצה (נאותה/גבוהה/תרומה משמעותית) | D10: מכפיל ניקוד
A11: ='היקף החוברות'!A11 -> 1 | B11: =IF('תנאי סף'!B11="","",'תנאי סף'!B11) -> 1280 מעלות (אמנים יוצרים) | C11: תרומה משמעותית | D11: =IF(C11="","",VLOOKUP(C11,$F$3:$G$5,2)) -> 1.15
A12: ='היקף החוברות'!A12 -> 2 | B12: =IF('תנאי סף'!B12="","",'תנאי סף'!B12) -> יהי (אורי צבי גרינברג) | C12: תרומה משמעותית | D12: =IF(C12="","",VLOOKUP(C12,$F$3:$G$5,2)) -> 1.15
A13: ='היקף החוברות'!A13 -> 3 | B13: =IF('תנאי סף'!B13="","",'תנאי סף'!B13) | D13: =IF(C13="","",VLOOKUP(C13,$F$3:$G$5,2))
A14: ='היקף החוברות'!A14 -> 4 | B14: =IF('תנאי סף'!B14="","",'תנאי סף'!B14) -> דעות (ברית נאמני תורה ועבודה) | C14: תרומה משמעותית | D14: =IF(C14="","",VLOOKUP(C14,$F$3:$G$5,2)) -> 1.15
A15: ='היקף החוברות'!A15 -> 5 | B15: =IF('תנאי סף'!B15="","",'תנאי סף'!B15) -> הליקון | C15: תרומה משמעותית | D15: =IF(C15="","",VLOOKUP(C15,$F$3:$G$5,2)) -> 1.15
A16: ='היקף החוברות'!A16 -> 6 | B16: =IF('תנאי סף'!B16="","",'תנאי סף'!B16) | D16: =IF(C16="","",VLOOKUP(C16,$F$3:$G$5,2))
A17: ='היקף החוברות'!A17 -> 7 | B17: =IF('תנאי סף'!B17="","",'תנאי סף'!B17) | D17: =IF(C17="","",VLOOKUP(C17,$F$3:$G$5,2))
A18: ='היקף החוברות'!A18 -> 8 | B18: =IF('תנאי סף'!B18="","",'תנאי סף'!B18) -> ננפואטיקה (עמותת מקום לשירה) | C18: תרומה משמעותית | D18: =IF(C18="","",VLOOKUP(C18,$F$3:$G$5,2)) -> 1.15
A19: ='היקף החוברות'!A19 -> 9 | B19: =IF('תנאי סף'!B19="","",'תנאי סף'!B19) -> מאזניים (אגודת הסופרים העבריים) | C19: תרומה משמעותית | D19: =IF(C19="","",VLOOKUP(C19,$F$3:$G$5,2)) -> 1.15
A20: ='היקף החוברות'!A20 -> 10 | B20: =IF('תנאי סף'!B20="","",'תנאי סף'!B20) -> משיב הרוח | C20: תרומה משמעותית | D20: =IF(C20="","",VLOOKUP(C20,$F$3:$G$5,2)) -> 1.15
A21: ='היקף החוברות'!A21 -> 11 | B21: =IF('תנאי סף'!B21="","",'תנאי סף'!B21) -> עמדה (עמותת מונטן) | C21: גבוהה | D21: =IF(C21="","",VLOOKUP(C21,$F$3:$G$5,2)) -> 1.075
A22: ='היקף החוברות'!A22 -> 12 | B22: =IF('תנאי סף'!B22="","",'תנאי סף'!B22) -> עתון 77 (אגודת סופרים ואמנים) | C22: גבוהה | D22: =IF(C22="","",VLOOKUP(C22,$F$3:$G$5,2)) -> 1.075
A23: ='היקף החוברות'!A23 -> 13 | B23: =IF('תנאי סף'!B23="","",'תנאי סף'!B23) | D23: =IF(C23="","",VLOOKUP(C23,$F$3:$G$5,2))
A24: ='היקף החוברות'!A24 -> 14 | B24: =IF('תנאי סף'!B24="","",'תנאי סף'!B24) -> פסיפס | C24: גבוהה | D24: =IF(C24="","",VLOOKUP(C24,$F$3:$G$5,2)) -> 1.075
A25: ='היקף החוברות'!A25 -> 15 | B25: =IF('תנאי סף'!B25="","",'תנאי סף'!B25) -> קתרזיס ( עמותת מצרף) | C25: גבוהה | D25: =IF(C25="","",VLOOKUP(C25,$F$3:$G$5,2)) -> 1.075
A26: ='היקף החוברות'!A26 -> 16 | B26: =IF('תנאי סף'!B26="","",'תנאי סף'!B26) | D26: =IF(C26="","",VLOOKUP(C26,$F$3:$G$5,2))
A27: ='היקף החוברות'!A27 -> 17 | B27: =IF('תנאי סף'!B27="","",'תנאי סף'!B27) -> הכיוון מזרח (עמותת אחותי) | C27: תרומה משמעותית | D27: =IF(C27="","",VLOOKUP(C27,$F$3:$G$5,2)) -> 1.15
A28: ='היקף החוברות'!A28 -> 18 | B28: =IF('תנאי סף'!B28="","",'תנאי סף'!B28) | D28: =IF(C28="","",VLOOKUP(C28,$F$3:$G$5,2))
A29: ='היקף החוברות'!A29 -> 19 | B29: =IF('תנאי סף'!B29="","",'תנאי סף'!B29) -> הו | C29: תרומה משמעותית | D29: =IF(C29="","",VLOOKUP(C29,$F$3:$G$5,2)) -> 1.15
A30: ='היקף החוברות'!A30 -> 20 | B30: =IF('תנאי סף'!B30="","",'תנאי סף'!B30) -> הבא להבא (עמותת מקום לשירה) | C30: תרומה משמעותית | D30: =IF(C30="","",VLOOKUP(C30,$F$3:$G$5,2)) -> 1.15
A31: ='היקף החוברות'!A31 -> 21 | B31: =IF('תנאי סף'!B31="","",'תנאי סף'!B31) -> היסטוריה (החברה ההיסטורית הישרא | C31: תרומה משמעותית | D31: =IF(C31="","",VLOOKUP(C31,$F$3:$G$5,2)) -> 1.15
A32: ='היקף החוברות'!A32 -> 22 | B32: =IF('תנאי סף'!B32="","",'תנאי סף'!B32) -> מחול עכשיו (תמונע) | C32: תרומה משמעותית | D32: =IF(C32="","",VLOOKUP(C32,$F$3:$G$5,2)) -> 1.15
A33: ='היקף החוברות'!A33 -> 23 | B33: =IF('תנאי סף'!B33="","",'תנאי סף'!B33) -> קול אישה שירה (תואר) | C33: נאותה | D33: =IF(C33="","",VLOOKUP(C33,$F$3:$G$5,2)) -> 1
A34: ='היקף החוברות'!A34 -> 24 | B34: =IF('תנאי סף'!B34="","",'תנאי סף'!B34) -> האיגוד העולמי למדעי היהדות | C34: תרומה משמעותית | D34: =IF(C34="","",VLOOKUP(C34,$F$3:$G$5,2)) -> 1.15
A35: ='היקף החוברות'!A35 -> 25 | B35: =IF('תנאי סף'!B35="","",'תנאי סף'!B35) | D35: =IF(C35="","",VLOOKUP(C35,$F$3:$G$5,2))
A36: ='היקף החוברות'!A36 -> 26 | B36: =IF('תנאי סף'!B36="","",'תנאי סף'!B36) | D36: =IF(C36="","",VLOOKUP(C36,$F$3:$G$5,2))
A37: ='היקף החוברות'!A37 -> 27 | B37: =IF('תנאי סף'!B37="","",'תנאי סף'!B37) | D37: =IF(C37="","",VLOOKUP(C37,$F$3:$G$5,2))
A38: ='היקף החוברות'!A38 -> 28 | B38: =IF('תנאי סף'!B38="","",'תנאי סף'!B38) | D38: =IF(C38="","",VLOOKUP(C38,$F$3:$G$5,2))
A39: ='היקף החוברות'!A39 -> 29 | B39: =IF('תנאי סף'!B39="","",'תנאי סף'!B39) -> גופא (נתיב האומן ) | C39: נאותה | D39: =IF(C39="","",VLOOKUP(C39,$F$3:$G$5,2)) -> 1
A40: ='היקף החוברות'!A40 -> 30 | B40: =IF('תנאי סף'!B40="","",'תנאי סף'!B40) -> ערב רב (בר קיימא) | C40: גבוהה | D40: =IF(C40="","",VLOOKUP(C40,$F$3:$G$5,2)) -> 1.075
A41: ='היקף החוברות'!A41 -> 31 | B41: =IF('תנאי סף'!B41="","",'תנאי סף'!B41) | D41: =IF(C41="","",VLOOKUP(C41,$F$3:$G$5,2))
A42: ='היקף החוברות'!A42 -> 32 | B42: =IF('תנאי סף'!B42="","",'תנאי סף'!B42) -> מעלה | C42: גבוהה | D42: =IF(C42="","",VLOOKUP(C42,$F$3:$G$5,2)) -> 1.075
A43: ='היקף החוברות'!A43 -> 33 | B43: =IF('תנאי סף'!B43="","",'תנאי סף'!B43) | D43: =IF(C43="","",VLOOKUP(C43,$F$3:$G$5,2))
A44: ='היקף החוברות'!A44 -> 34 | B44: =IF('תנאי סף'!B44="","",'תנאי סף'!B44) -> כתב עת ירושלמי | C44: נאותה | D44: =IF(C44="","",VLOOKUP(C44,$F$3:$G$5,2)) -> 1
A45: ='היקף החוברות'!A45 -> 35 | B45: =IF('תנאי סף'!B45="","",'תנאי סף'!B45) | D45: =IF(C45="","",VLOOKUP(C45,$F$3:$G$5,2))
A46: ='היקף החוברות'!A46 -> 36 | B46: =IF('תנאי סף'!B46="","",'תנאי סף'!B46) -> העמותה ליצירה פנטסטית- אוטופיה | C46: נאותה | D46: =IF(C46="","",VLOOKUP(C46,$F$3:$G$5,2)) -> 1
A47: ='היקף החוברות'!A47 -> 37 | B47: =IF('תנאי סף'!B47="","",'תנאי סף'!B47) | D47: =IF(C47="","",VLOOKUP(C47,$F$3:$G$5,2))
A48: ='היקף החוברות'!A48 -> 38 | B48: =IF('תנאי סף'!B48="","",'תנאי סף'!B48) | D48: =IF(C48="","",VLOOKUP(C48,$F$3:$G$5,2))
A49: ='היקף החוברות'!A49 -> 39 | B49: =IF('תנאי סף'!B49="","",'תנאי סף'!B49) | D49: =IF(C49="","",VLOOKUP(C49,$F$3:$G$5,2))
A50: ='היקף החוברות'!A50 -> 40 | B50: =IF('תנאי סף'!B50="","",'תנאי סף'!B50) | D50: =IF(C50="","",VLOOKUP(C50,$F$3:$G$5,2))

Sheet היקף החוברות
A1: =פרמטרים!A5 -> 6
A2: =פרמטרים!A6 -> סימול | B2: =פרמטרים!B6 -> מספר העמודים | D2: =פרמטרים!D6 -> ניקוד
A3: =פרמטרים!A7 -> 0 | B3: =פרמטרים!B7 -> מ- | C3: =פרמטרים!C7 -> עד - | D3: =פרמטרים!D7 -> 0
A4: =פרמטרים!A8 -> א' | B4: =פרמטרים!B8 -> 32 | C4: =פרמטרים!C8 -> 47 | D4: =פרמטרים!D8 -> 1
A5: =פרמטרים!A9 -> ב' | B5: =פרמטרים!B9 -> 48 | C5: =פרמטרים!C9 -> 63 | D5: =פרמטרים!D9 -> 2
A6: =פרמטרים!A10 -> ג' | B6: =פרמטרים!B10 -> 64 | C6: =פרמטרים!C10 -> 79 | D6: =פרמטרים!D10 -> 3
A7: =פרמטרים!A11 -> ד' | B7: =פרמטרים!B11 -> 80 | C7: =פרמטרים!C11 -> 95 | D7: =פרמטרים!D11 -> 4
A8: =פרמטרים!A12 -> ה' | B8: =פרמטרים!B12 -> 96 | C8: =פרמטרים!C12 -> 1000000 | D8: =פרמטרים!D12 -> 5
A9: ="שיעור יחסי במשתנה "&MID(CELL("filename",A9),FIND("]",CELL("filename",A9),1)+1,99) -> שיעור יחסי במשתנה היקף החוברות
A10: מספר סידורי | B10: שם כתב העת | C10: סה"כ ניקוד חוברות לפני מקדם | D10: מכפיל סיווג | E10: ="ניקוד "&MID(CELL("filename",A9),FIND("]",CELL("filename",A9),1)+1,99) -> ניקוד היקף החוברות | F10: שיעור יחסי
A11: 1 | B11: =IF('תנאי סף'!AL11<>1,"",'תנאי סף'!B11) -> 1280 מעלות (אמנים יוצרים) | C11: {=IF($B11="","",SUMPRODUCT((INDIRECT("'"&SUBSTITUTE($B11,"'","''")&"'"&"!L2:P2")),TRANSPOSE($D$4:$D$8)))} -> 7 | D11: =סיווג!D11 -> 1.15 | E11: =IF(OR(B11="",B11=0,'תנאי סף'!AT11<>1,'תנאי סף'!AL11<>1),"",D11*C11) -> 8.05 | F11: =IF(ISERR(E11/$E$51),"",E11/$E$51) -> 0.02991453
A12: =A11+1 -> 2 | B12: =IF('תנאי סף'!AL12<>1,"",'תנאי סף'!B12) -> יהי (אורי צבי גרינברג) | C12: {=IF($B12="","",SUMPRODUCT((INDIRECT("'"&SUBSTITUTE($B12,"'","''")&"'"&"!L2:P2")),TRANSPOSE($D$4:$D$8)))} -> 7 | D12: =סיווג!D12 -> 1.15 | E12: =IF(OR(B12="",B12=0,'תנאי סף'!AT12<>1,'תנאי סף'!AL12<>1),"",D12*C12) -> 8.05 | F12: =IF(ISERR(E12/$E$51),"",E12/$E$51) -> 0.02991453
A13: =A12+1 -> 3 | B13: =IF('תנאי סף'!AL13<>1,"",'תנאי סף'!B13) | C13: {=IF($B13="","",SUMPRODUCT((INDIRECT("'"&SUBSTITUTE($B13,"'","''")&"'"&"!L2:P2")),TRANSPOSE($D$4:$D$8)))} | D13: =סיווג!D13 | E13: =IF(OR(B13="",B13=0,'תנאי סף'!AT13<>1,'תנאי סף'!AL13<>1),"",D13*C13) | F13: =IF(ISERR(E13/$E$51),"",E13/$E$51)
A14: =A13+1 -> 4 | B14: =IF('תנאי סף'!AL14<>1,"",'תנאי סף'!B14) -> דעות (ברית נאמני תורה ועבודה) | C14: {=IF($B14="","",SUMPRODUCT((INDIRECT("'"&SUBSTITUTE($B14,"'","''")&"'"&"!L2:P2")),TRANSPOSE($D$4:$D$8)))} -> 6 | D14: =סיווג!D14 -> 1.15 | E14: =IF(OR(B14="",B14=0,'תנאי סף'!AT14<>1,'תנאי סף'!AL14<>1),"",D14*C14) -> 6.9 | F14: =IF(ISERR(E14/$E$51),"",E14/$E$51) -> 0.025641026
A15: =A14+1 -> 5 | B15: =IF('תנאי סף'!AL15<>1,"",'תנאי סף'!B15) -> הליקון | C15: {=IF($B15="","",SUMPRODUCT((INDIRECT("'"&SUBSTITUTE($B15,"'","''")&"'"&"!L2:P2")),TRANSPOSE($D$4:$D$8)))} -> 15 | D15: =סיווג!D15 -> 1.15 | E15: =IF(OR(B15="",B15=0,'תנאי סף'!AT15<>1,'תנאי סף'!AL15<>1),"",D15*C15) -> 17.25 | F15: =IF(ISERR(E15/$E$51),"",E15/$E$51) -> 0.064102564
A16: =A15+1 -> 6 | B16: =IF('תנאי סף'!AL16<>1,"",'תנאי סף'!B16) | C16: {=IF($B16="","",SUMPRODUCT((INDIRECT("'"&SUBSTITUTE($B16,"'","''")&"'"&"!L2:P2")),TRANSPOSE($D$4:$D$8)))} | D16: =סיווג!D16 | E16: =IF(OR(B16="",B16=0,'תנאי סף'!AT16<>1,'תנאי סף'!AL16<>1),"",D16*C16) | F16: =IF(ISERR(E16/$E$51),"",E16/$E$51)
A17: =A16+1 -> 7 | B17: =IF('תנאי סף'!AL17<>1,"",'תנאי סף'!B17) | C17: {=IF($B17="","",SUMPRODUCT((INDIRECT("'"&SUBSTITUTE($B17,"'","''")&"'"&"!L2:P2")),TRANSPOSE($D$4:$D$8)))} | D17: =סיווג!D17 | E17: =IF(OR(B17="",B17=0,'תנאי סף'!AT17<>1,'תנאי סף'!AL17<>1),"",D17*C17) | F17: =IF(ISERR(E17/$E$51),"",E17/$E$51)
A18: =A17+1 -> 8 | B18: =IF('תנאי סף'!AL18<>1,"",'תנאי סף'!B18) -> ננפואטיקה (עמותת מקום לשירה) | C18: {=IF($B18="","",SUMPRODUCT((INDIRECT("'"&SUBSTITUTE($B18,"'","''")&"'"&"!L2:P2")),TRANSPOSE($D$4:$D$8)))} -> 25 | D18: =סיווג!D18 -> 1.15 | E18: =IF(OR(B18="",B18=0,'תנאי סף'!AT18<>1,'תנאי סף'!AL18<>1),"",D18*C18) -> 28.75 | F18: =IF(ISERR(E18/$E$51),"",E18/$E$51) -> 0.10683761
A19: =A18+1 -> 9 | B19: =IF('תנאי סף'!AL19<>1,"",'תנאי סף'!B19) -> מאזניים (אגודת הסופרים העבריים) | C19: {=IF($B19="","",SUMPRODUCT((INDIRECT("'"&SUBSTITUTE($B19,"'","''")&"'"&"!L2:P2")),TRANSPOSE($D$4:$D$8)))} -> 25 | D19: =סיווג!D19 -> 1.15 | E19: =IF(OR(B19="",B19=0,'תנאי סף'!AT19<>1,'תנאי סף'!AL19<>1),"",D19*C19) -> 28.75 | F19: =IF(ISERR(E19/$E$51),"",E19/$E$51) -> 0.10683761
A20: =A19+1 -> 10 | B20: =IF('תנאי סף'!AL20<>1,"",'תנאי סף'!B20) -> משיב הרוח | C20: {=IF($B20="","",SUMPRODUCT((INDIRECT("'"&SUBSTITUTE($B20,"'","''")&"'"&"!L2:P2")),TRANSPOSE($D$4:$D$8)))} -> 22 | D20: =סיווג!D20 -> 1.15 | E20: =IF(OR(B20="",B20=0,'תנאי סף'!AT20<>1,'תנאי סף'!AL20<>1),"",D20*C20) -> 25.3 | F20: =IF(ISERR(E20/$E$51),"",E20/$E$51) -> 0.094017094
A21: =A20+1 -> 11 | B21: =IF('תנאי סף'!AL21<>1,"",'תנאי סף'!B21) -> עמדה (עמותת מונטן) | C21: {=IF($B21="","",SUMPRODUCT((INDIRECT("'"&SUBSTITUTE($B21,"'","''")&"'"&"!L2:P2")),TRANSPOSE($D$4:$D$8)))} -> 10 | D21: =סיווג!D21 -> 1.075 | E21: =IF(OR(B21="",B21=0,'תנאי סף'!AT21<>1,'תנאי סף'!AL21<>1),"",D21*C21) -> 10.75 | F21: =IF(ISERR(E21/$E$51),"",E21/$E$51) -> 0.039947975
A22: =A21+1 -> 12 | B22: =IF('תנאי סף'!AL22<>1,"",'תנאי סף'!B22) -> עתון 77 (אגודת סופרים ואמנים) | C22: {=IF($B22="","",SUMPRODUCT((INDIRECT("'"&SUBSTITUTE($B22,"'","''")&"'"&"!L2:P2")),TRANSPOSE($D$4:$D$8)))} -> 18 | D22: =סיווג!D22 -> 1.075 | E22: =IF(OR(B22="",B22=0,'תנאי סף'!AT22<>1,'תנאי סף'!AL22<>1),"",D22*C22) -> 19.35 | F22: =IF(ISERR(E22/$E$51),"",E22/$E$51) -> 0.071906355
A23: =A22+1 -> 13 | B23: =IF('תנאי סף'!AL23<>1,"",'תנאי סף'!B23) | C23: {=IF($B23="","",SUMPRODUCT((INDIRECT("'"&SUBSTITUTE($B23,"'","''")&"'"&"!L2:P2")),TRANSPOSE($D$4:$D$8)))} | D23: =סיווג!D23 | E23: =IF(OR(B23="",B23=0,'תנאי סף'!AT23<>1,'תנאי סף'!AL23<>1),"",D23*C23) | F23: =IF(ISERR(E23/$E$51),"",E23/$E$51)
... A50: =A49+1 -> 40 | B50: =IF('תנאי סף'!AL50<>1,"",'תנאי סף'!B50) | C50: {=IF($B50="","",SUMPRODUCT((INDIRECT("'"&SUBSTITUTE($B50,"'","''")&"'"&"!L2:P2")),TRANSPOSE($D$4:$D$8)))} | D50: =סיווג!D50 | E50: =IF(OR(B50="",B50=0,'תנאי סף'!AT50<>1,'תנאי סף'!AL50<>1),"",D50*C50) | F50: =IF(ISERR(E50/$E$51),"",E50/$E$51)
A51: סה"כ | C51: =SUM(C11:C50) -> 240 | E51: =SUM(E11:E50) -> 269.1 | F51: =SUM(F11:F50) -> 1

Sheet רמה הפקתית
B1: =פרמטרים!B1 -> שנת התקציב | C1: =פרמטרים!C1 -> 2025
B2: =פרמטרים!B2 -> תקציב | C2: =פרמטרים!C2 -> 1906914
A9: ="שיעור יחסי במשתנה "&MID(CELL("filename",E9),FIND("]",CELL("filename",E9),1)+1,99) -> שיעור יחסי במשתנה רמה הפקתית
A10: ='היקף החוברות'!A10 -> מספר סידורי | B10: ='היקף החוברות'!B10 -> שם כתב העת | C10: רמה הפקתית 1/2/3 | D10: מכפיל סיווג | E10: ="ניקוד "&MID(CELL("filename",C11),FIND("]",CELL("filename",C11),1)+1,99) -> ניקוד רמה הפקתית | F10: ='היקף החוברות'!F10 -> שיעור יחסי | H10: 1 | I10: 2 | J10: 3
A11: ='היקף החוברות'!A11 -> 1 | B11: ='היקף החוברות'!B11 -> 1280 מעלות (אמנים יוצרים) | C11: 3 | D11: =IF(B11="","",סיווג!D11) -> 1.15 | E11: =IF(OR(G11<>1,'היקף החוברות'!E11=""),"",C11*סיווג!D11) -> 3.45 | F11: =IF(ISERR(E11/$E$51),"",E11/$E$51) -> 0.058178752 | G11: =IF(OR('תנאי סף'!AL11<>1,ISNA(MATCH(C11,$H$10:$J$10,0)),B11=""),0,1) -> 1 | H11: =IF($B11="","",H$10) -> 1 | I11: =IF($B11="","",I$10) -> 2 | J11: =IF($B11="","",J$10) -> 3
A12: ='היקף החוברות'!A12 -> 2 | B12: ='היקף החוברות'!B12 -> יהי (אורי צבי גרינברג) | C12: 3 | D12: =IF(B12="","",סיווג!D12) -> 1.15 | E12: =IF(OR(G12<>1,'היקף החוברות'!E12=""),"",C12*סיווג!D12) -> 3.45 | F12: =IF(ISERR(E12/$E$51),"",E12/$E$51) -> 0.058178752 | G12: =IF(OR('תנאי סף'!AL12<>1,ISNA(MATCH(C12,$H$10:$J$10,0)),B12=""),0,1) -> 1 | H12: =IF($B12="","",H$10) -> 1 | I12: =IF($B12="","",I$10) -> 2 | J12: =IF($B12="","",J$10) -> 3
A13: ='היקף החוברות'!A13 -> 3 | B13: ='היקף החוברות'!B13 | D13: =IF(B13="","",סיווג!D13) | E13: =IF(OR(G13<>1,'היקף החוברות'!E13=""),"",C13*סיווג!D13) | F13: =IF(ISERR(E13/$E$51),"",E13/$E$51) | G13: =IF(OR('תנאי סף'!AL13<>1,ISNA(MATCH(C13,$H$10:$J$10,0)),B13=""),0,1) -> 0 | H13: =IF($B13="","",H$10) | I13: =IF($B13="","",I$10) | J13: =IF($B13="","",J$10)
A14: ='היקף החוברות'!A14 -> 4 | B14: ='היקף החוברות'!B14 -> דעות (ברית נאמני תורה ועבודה) | C14: 3 | D14: =IF(B14="","",סיווג!D14) -> 1.15 | E14: =IF(OR(G14<>1,'היקף החוברות'!E14=""),"",C14*סיווג!D14) -> 3.45 | F14: =IF(ISERR(E14/$E$51),"",E14/$E$51) -> 0.058178752 | G14: =IF(OR('תנאי סף'!AL14<>1,ISNA(MATCH(C14,$H$10:$J$10,0)),B14=""),0,1) -> 1 | H14: =IF($B14="","",H$10) -> 1 | I14: =IF($B14="","",I$10) -> 2 | J14: =IF($B14="","",J$10) -> 3
A15: ='היקף החוברות'!A15 -> 5 | B15: ='היקף החוברות'!B15 -> הליקון | C15: 3 | D15: =IF(B15="","",סיווג!D15) -> 1.15 | E15: =IF(OR(G15<>1,'היקף החוברות'!E15=""),"",C15*סיווג!D15) -> 3.45 | F15: =IF(ISERR(E15/$E$51),"",E15/$E$51) -> 0.058178752 | G15: =IF(OR('תנאי סף'!AL15<>1,ISNA(MATCH(C15,$H$10:$J$10,0)),B15=""),0,1) -> 1 | H15: =IF($B15="","",H$10) -> 1 | I15: =IF($B15="","",I$10) -> 2 | J15: =IF($B15="","",J$10) -> 3
A16: ='היקף החוברות'!A16 -> 6 | B16: ='היקף החוברות'!B16 | D16: =IF(B16="","",סיווג!D16) | E16: =IF(OR(G16<>1,'היקף החוברות'!E16=""),"",C16*סיווג!D16) | F16: =IF(ISERR(E16/$E$51),"",E16/$E$51) | G16: =IF(OR('תנאי סף'!AL16<>1,ISNA(MATCH(C16,$H$10:$J$10,0)),B16=""),0,1) -> 0 | H16: =IF($B16="","",H$10) | I16: =IF($B16="","",I$10) | J16: =IF($B16="","",J$10)
A17: ='היקף החוברות'!A17 -> 7 | B17: ='היקף החוברות'!B17 | D17: =IF(B17="","",סיווג!D17) | E17: =IF(OR(G17<>1,'היקף החוברות'!E17=""),"",C17*סיווג!D17) | F17: =IF(ISERR(E17/$E$51),"",E17/$E$51) | G17: =IF(OR('תנאי סף'!AL17<>1,ISNA(MATCH(C17,$H$10:$J$10,0)),B17=""),0,1) -> 0 | H17: =IF($B17="","",H$10) | I17: =IF($B17="","",I$10) | J17: =IF($B17="","",J$10)
A18: ='היקף החוברות'!A18 -> 8 | B18: ='היקף החוברות'!B18 -> ננפואטיקה (עמותת מקום לשירה) | C18: 2 | D18: =IF(B18="","",סיווג!D18) -> 1.15 | E18: =IF(OR(G18<>1,'היקף החוברות'!E18=""),"",C18*סיווג!D18) -> 2.3 | F18: =IF(ISERR(E18/$E$51),"",E18/$E$51) -> 0.038785835 | G18: =IF(OR('תנאי סף'!AL18<>1,ISNA(MATCH(C18,$H$10:$J$10,0)),B18=""),0,1) -> 1 | H18: =IF($B18="","",H$10) -> 1 | I18: =IF($B18="","",I$10) -> 2 | J18: =IF($B18="","",J$10) -> 3
A19: ='היקף החוברות'!A19 -> 9 | B19: ='היקף החוברות'!B19 -> מאזניים (אגודת הסופרים העבריים) | C19: 3 | D19: =IF(B19="","",סיווג!D19) -> 1.15 | E19: =IF(OR(G19<>1,'היקף החוברות'!E19=""),"",C19*סיווג!D19) -> 3.45 | F19: =IF(ISERR(E19/$E$51),"",E19/$E$51) -> 0.058178752 | G19: =IF(OR('תנאי סף'!AL19<>1,ISNA(MATCH(C19,$H$10:$J$10,0)),B19=""),0,1) -> 1 | H19: =IF($B19="","",H$10) -> 1 | I19: =IF($B19="","",I$10) -> 2 | J19: =IF($B19="","",J$10) -> 3
A20: ='היקף החוברות'!A20 -> 10 | B20: ='היקף החוברות'!B20 -> משיב הרוח | C20: 3 | D20: =IF(B20="","",סיווג!D20) -> 1.15 | E20: =IF(OR(G20<>1,'היקף החוברות'!E20=""),"",C20*סיווג!D20) -> 3.45 | F20: =IF(ISERR(E20/$E$51),"",E20/$E$51) -> 0.058178752 | G20: =IF(OR('תנאי סף'!AL20<>1,ISNA(MATCH(C20,$H$10:$J$10,0)),B20=""),0,1) -> 1 | H20: =IF($B20="","",H$10) -> 1 | I20: =IF($B20="","",I$10) -> 2 | J20: =IF($B20="","",J$10) -> 3
A21: ='היקף החוברות'!A21 -> 11 | B21: ='היקף החוברות'!B21 -> עמדה (עמותת מונטן) | C21: 3 | D21: =IF(B21="","",סיווג!D21) -> 1.075 | E21: =IF(OR(G21<>1,'היקף החוברות'!E21=""),"",C21*סיווג!D21) -> 3.225 | F21: =IF(ISERR(E21/$E$51),"",E21/$E$51) -> 0.054384486 | G21: =IF(OR('תנאי סף'!AL21<>1,ISNA(MATCH(C21,$H$10:$J$10,0)),B21=""),0,1) -> 1 | H21: =IF($B21="","",H$10) -> 1 | I21: =IF($B21="","",I$10) -> 2 | J21: =IF($B21="","",J$10) -> 3
A22: ='היקף החוברות'!A22 -> 12 | B22: ='היקף החוברות'!B22 -> עתון 77 (אגודת סופרים ואמנים) | C22: 2 | D22: =IF(B22="","",סיווג!D22) -> 1.075 | E22: =IF(OR(G22<>1,'היקף החוברות'!E22=""),"",C22*סיווג!D22) -> 2.15 | F22: =IF(ISERR(E22/$E$51),"",E22/$E$51) -> 0.036256324 | G22: =IF(OR('תנאי סף'!AL22<>1,ISNA(MATCH(C22,$H$10:$J$10,0)),B22=""),0,1) -> 1 | H22: =IF($B22="","",H$10) -> 1 | I22: =IF($B22="","",I$10) -> 2 | J22: =IF($B22="","",J$10) -> 3
A23: ='היקף החוברות'!A23 -> 13 | B23: ='היקף החוברות'!B23 | D23: =IF(B23="","",סיווג!D23) | E23: =IF(OR(G23<>1,'היקף החוברות'!E23=""),"",C23*סיווג!D23) | F23: =IF(ISERR(E23/$E$51),"",E23/$E$51) | G23: =IF(OR('תנאי סף'!AL23<>1,ISNA(MATCH(C23,$H$10:$J$10,0)),B23=""),0,1) -> 0 | H23: =IF($B23="","",H$10) | I23: =IF($B23="","",I$10) | J23: =IF($B23="","",J$10)
A24: ='היקף החוברות'!A24 -> 14 | B24: ='היקף החוברות'!B24 -> פסיפס | C24: 1 | D24: =IF(B24="","",סיווג!D24) -> 1.075 | E24: =IF(OR(G24<>1,'היקף החוברות'!E24=""),"",C24*סיווג!D24) -> 1.075 | F24: =IF(ISERR(E24/$E$51),"",E24/$E$51) -> 0.018128162 | G24: =IF(OR('תנאי סף'!AL24<>1,ISNA(MATCH(C24,$H$10:$J$10,0)),B24=""),0,1) -> 1 | H24: =IF($B24="","",H$10) -> 1 | I24: =IF($B24="","",I$10) -> 2 | J24: =IF($B24="","",J$10) -> 3
A25: ='היקף החוברות'!A25 -> 15 | B25: ='היקף החוברות'!B25 -> קתרזיס ( עמותת מצרף) | C25: 1 | D25: =IF(B25="","",סיווג!D25) -> 1.075 | E25: =IF(OR(G25<>1,'היקף החוברות'!E25=""),"",C25*סיווג!D25) -> 1.075 | F25: =IF(ISERR(E25/$E$51),"",E25/$E$51) -> 0.018128162 | G25: =IF(OR('תנאי סף'!AL25<>1,ISNA(MATCH(C25,$H$10:$J$10,0)),B25=""),0,1) -> 1 | H25: =IF($B25="","",H$10) -> 1 | I25: =IF($B25="","",I$10) -> 2 | J25: =IF($B25="","",J$10) -> 3
A26: ='היקף החוברות'!A26 -> 16 | B26: ='היקף החוברות'!B26 | D26: =IF(B26="","",סיווג!D26) | E26: =IF(OR(G26<>1,'היקף החוברות'!E26=""),"",C26*סיווג!D26) | F26: =IF(ISERR(E26/$E$51),"",E26/$E$51) | G26: =IF(OR('תנאי סף'!AL26<>1,ISNA(MATCH(C26,$H$10:$J$10,0)),B26=""),0,1) -> 0 | H26: =IF($B26="","",H$10) | I26: =IF($B26="","",I$10) | J26: =IF($B26="","",J$10)
A27: ='היקף החוברות'!A27 -> 17 | B27: ='היקף החוברות'!B27 -> הכיוון מזרח (עמותת אחותי) | C27: 3 | D27: =IF(B27="","",סיווג!D27) -> 1.15 | E27: =IF(OR(G27<>1,'היקף החוברות'!E27=""),"",C27*סיווג!D27) -> 3.45 | F27: =IF(ISERR(E27/$E$51),"",E27/$E$51) -> 0.058178752 | G27: =IF(OR('תנאי סף'!AL27<>1,ISNA(MATCH(C27,$H$10:$J$10,0)),B27=""),0,1) -> 1 | H27: =IF($B27="","",H$10) -> 1 | I27: =IF($B27="","",I$10) -> 2 | J27: =IF($B27="","",J$10) -> 3
A28: ='היקף החוברות'!A28 -> 18 | B28: ='היקף החוברות'!B28 | D28: =IF(B28="","",סיווג!D28) | E28: =IF(OR(G28<>1,'היקף החוברות'!E28=""),"",C28*סיווג!D28) | F28: =IF(ISERR(E28/$E$51),"",E28/$E$51) | G28: =IF(OR('תנאי סף'!AL28<>1,ISNA(MATCH(C28,$H$10:$J$10,0)),B28=""),0,1) -> 0 | H28: =IF($B28="","",H$10) | I28: =IF($B28="","",I$10) | J28: =IF($B28="","",J$10)
A29: ='היקף החוברות'!A29 -> 19 | B29: ='היקף החוברות'!B29 -> הו | C29: 3 | D29: =IF(B29="","",סיווג!D29) -> 1.15 | E29: =IF(OR(G29<>1,'היקף החוברות'!E29=""),"",C29*סיווג!D29) -> 3.45 | F29: =IF(ISERR(E29/$E$51),"",E29/$E$51) -> 0.058178752 | G29: =IF(OR('תנאי סף'!AL29<>1,ISNA(MATCH(C29,$H$10:$J$10,0)),B29=""),0,1) -> 1 | H29: =IF($B29="","",H$10) -> 1 | I29: =IF($B29="","",I$10) -> 2 | J29: =IF($B29="","",J$10) -> 3
A30: ='היקף החוברות'!A30 -> 20 | B30: ='היקף החוברות'!B30 -> הבא להבא (עמותת מקום לשירה) | C30: 2 | D30: =IF(B30="","",סיווג!D30) -> 1.15 | E30: =IF(OR(G30<>1,'היקף החוברות'!E30=""),"",C30*סיווג!D30) -> 2.3 | F30: =IF(ISERR(E30/$E$51),"",E30/$E$51) -> 0.038785835 | G30: =IF(OR('תנאי סף'!AL30<>1,ISNA(MATCH(C30,$H$10:$J$10,0)),B30=""),0,1) -> 1 | H30: =IF($B30="","",H$10) -> 1 | I30: =IF($B30="","",I$10) -> 2 | J30: =IF($B30="","",J$10) -> 3
A31: ='היקף החוברות'!A31 -> 21 | B31: ='היקף החוברות'!B31 -> היסטוריה (החברה ההיסטורית הישרא | C31: 2 | D31: =IF(B31="","",סיווג!D31) -> 1.15 | E31: =IF(OR(G31<>1,'היקף החוברות'!E31=""),"",C31*סיווג!D31) -> 2.3 | F31: =IF(ISERR(E31/$E$51),"",E31/$E$51) -> 0.038785835 | G31: =IF(OR('תנאי סף'!AL31<>1,ISNA(MATCH(C31,$H$10:$J$10,0)),B31=""),0,1) -> 1 | H31: =IF($B31="","",H$10) -> 1 | I31: =IF($B31="","",I$10) -> 2 | J31: =IF($B31="","",J$10) -> 3
A32: ='היקף החוברות'!A32 -> 22 | B32: ='היקף החוברות'!B32 -> מחול עכשיו (תמונע) | C32: 3 | D32: =IF(B32="","",סיווג!D32) -> 1.15 | E32: =IF(OR(G32<>1,'היקף החוברות'!E32=""),"",C32*סיווג!D32) -> 3.45 | F32: =IF(ISERR(E32/$E$51),"",E32/$E$51) -> 0.058178752 | G32: =IF(OR('תנאי סף'!AL32<>1,ISNA(MATCH(C32,$H$10:$J$10,0)),B32=""),0,1) -> 1 | H32: =IF($B32="","",H$10) -> 1 | I32: =IF($B32="","",I$10) -> 2 | J32: =IF($B32="","",J$10) -> 3
A33: ='היקף החוברות'!A33 -> 23 | B33: ='היקף החוברות'!B33 -> קול אישה שירה (תואר) | C33: 3 | D33: =IF(B33="","",סיווג!D33) -> 1 | E33: =IF(OR(G33<>1,'היקף החוברות'!E33=""),"",C33*סיווג!D33) -> 3 | F33: =IF(ISERR(E33/$E$51),"",E33/$E$51) -> 0.050590219 | G33: =IF(OR('תנאי סף'!AL33<>1,ISNA(MATCH(C33,$H$10:$J$10,0)),B33=""),0,1) -> 1 | H33: =IF($B33="","",H$10) -> 1 | I33: =IF($B33="","",I$10) -> 2 | J33: =IF($B33="","",J$10) -> 3
A34: ='היקף החוברות'!A34 -> 24 | B34: ='היקף החוברות'!B34 -> האיגוד העולמי למדעי היהדות | C34: 3 | D34: =IF(B34="","",סיווג!D34) -> 1.15 | E34: =IF(OR(G34<>1,'היקף החוברות'!E34=""),"",C34*סיווג!D34) -> 3.45 | F34: =IF(ISERR(E34/$E$51),"",E34/$E$51) -> 0.058178752 | G34: =IF(OR('תנאי סף'!AL34<>1,ISNA(MATCH(C34,$H$10:$J$10,0)),B34=""),0,1) -> 1 | H34: =IF($B34="","",H$10) -> 1 | I34: =IF($B34="","",I$10) -> 2 | J34: =IF($B34="","",J$10) -> 3
A35: ='היקף החוברות'!A35 -> 25 | B35: ='היקף החוברות'!B35 | D35: =IF(B35="","",סיווג!D35) | E35: =IF(OR(G35<>1,'היקף החוברות'!E35=""),"",C35*סיווג!D35) | F35: =IF(ISERR(E35/$E$51),"",E35/$E$51) | G35: =IF(OR('תנאי סף'!AL35<>1,ISNA(MATCH(C35,$H$10:$J$10,0)),B35=""),0,1) -> 0 | H35: =IF($B35="","",H$10) | I35: =IF($B35="","",I$10) | J35: =IF($B35="","",J$10)
A36: ='היקף החוברות'!A36 -> 26 | B36: ='היקף החוברות'!B36 | D36: =IF(B36="","",סיווג!D36) | E36: =IF(OR(G36<>1,'היקף החוברות'!E36=""),"",C36*סיווג!D36) | F36: =IF(ISERR(E36/$E$51),"",E36/$E$51) | G36: =IF(OR('תנאי סף'!AL36<>1,ISNA(MATCH(C36,$H$10:$J$10,0)),B36=""),0,1) -> 0 | H36: =IF($B36="","",H$10) | I36: =IF($B36="","",I$10) | J36: =IF($B36="","",J$10)
A37: ='היקף החוברות'!A37 -> 27 | B37: ='היקף החוברות'!B37 | D37: =IF(B37="","",סיווג!D37) | E37: =IF(OR(G37<>1,'היקף החוברות'!E37=""),"",C37*סיווג!D37) | F37: =IF(ISERR(E37/$E$51),"",E37/$E$51) | G37: =IF(OR('תנאי סף'!AL37<>1,ISNA(MATCH(C37,$H$10:$J$10,0)),B37=""),0,1) -> 0 | H37: =IF($B37="","",H$10) | I37: =IF($B37="","",I$10) | J37: =IF($B37="","",J$10)
A38: ='היקף החוברות'!A38 -> 28 | B38: ='היקף החוברות'!B38 | D38: =IF(B38="","",סיווג!D38) | E38: =IF(OR(G38<>1,'היקף החוברות'!E38=""),"",C38*סיווג!D38) | F38: =IF(ISERR(E38/$E$51),"",E38/$E$51) | G38: =IF(OR('תנאי סף'!AL38<>1,ISNA(MATCH(C38,$H$10:$J$10,0)),B38=""),0,1) -> 0 | H38: =IF($B38="","",H$10) | I38: =IF($B38="","",I$10) | J38: =IF($B38="","",J$10)
A39: ='היקף החוברות'!A39 -> 29 | B39: ='היקף החוברות'!B39 -> גופא (נתיב האומן ) | C39: 1 | D39: =IF(B39="","",סיווג!D39) -> 1 | E39: =IF(OR(G39<>1,'היקף החוברות'!E39=""),"",C39*סיווג!D39) -> 1 | F39: =IF(ISERR(E39/$E$51),"",E39/$E$51) -> 0.016863406 | G39: =IF(OR('תנאי סף'!AL39<>1,ISNA(MATCH(C39,$H$10:$J$10,0)),B39=""),0,1) -> 1 | H39: =IF($B39="","",H$10) -> 1 | I39: =IF($B39="","",I$10) -> 2 | J39: =IF($B39="","",J$10) -> 3
A40: ='היקף החוברות'!A40 -> 30 | B40: ='היקף החוברות'!B40 -> ערב רב (בר קיימא) | C40: 2 | D40: =IF(B40="","",סיווג!D40) -> 1.075 | E40: =IF(OR(G40<>1,'היקף החוברות'!E40=""),"",C40*סיווג!D40) -> 2.15 | F40: =IF(ISERR(E40/$E$51),"",E40/$E$51) -> 0.036256324 | G40: =IF(OR('תנאי סף'!AL40<>1,ISNA(MATCH(C40,$H$10:$J$10,0)),B40=""),0,1) -> 1 | H40: =IF($B40="","",H$10) -> 1 | I40: =IF($B40="","",I$10) -> 2 | J40: =IF($B40="","",J$10) -> 3
A41: ='היקף החוברות'!A41 -> 31 | B41: ='היקף החוברות'!B41 | D41: =IF(B41="","",סיווג!D41) | E41: =IF(OR(G41<>1,'היקף החוברות'!E41=""),"",C41*סיווג!D41) | F41: =IF(ISERR(E41/$E$51),"",E41/$E$51) | G41: =IF(OR('תנאי סף'!AL41<>1,ISNA(MATCH(C41,$H$10:$J$10,0)),B41=""),0,1) -> 0 | H41: =IF($B41="","",H$10) | I41: =IF($B41="","",I$10) | J41: =IF($B41="","",J$10)
A42: ='היקף החוברות'!A42 -> 32 | B42: ='היקף החוברות'!B42 -> מעלה | C42: 3 | D42: =IF(B42="","",סיווג!D42) -> 1.075 | E42: =IF(OR(G42<>1,'היקף החוברות'!E42=""),"",C42*סיווג!D42) -> 3.225 | F42: =IF(ISERR(E42/$E$51),"",E42/$E$51) -> 0.054384486 | G42: =IF(OR('תנאי סף'!AL42<>1,ISNA(MATCH(C42,$H$10:$J$10,0)),B42=""),0,1) -> 1 | H42: =IF($B42="","",H$10) -> 1 | I42: =IF($B42="","",I$10) -> 2 | J42: =IF($B42="","",J$10) -> 3
A43: ='היקף החוברות'!A43 -> 33 | B43: ='היקף החוברות'!B43 | D43: =IF(B43="","",סיווג!D43) | E43: =IF(OR(G43<>1,'היקף החוברות'!E43=""),"",C43*סיווג!D43) | F43: =IF(ISERR(E43/$E$51),"",E43/$E$51) | G43: =IF(OR('תנאי סף'!AL43<>1,ISNA(MATCH(C43,$H$10:$J$10,0)),B43=""),0,1) -> 0 | H43: =IF($B43="","",H$10) | I43: =IF($B43="","",I$10) | J43: =IF($B43="","",J$10)
A44: ='היקף החוברות'!A44 -> 34 | B44: ='היקף החוברות'!B44 -> כתב עת ירושלמי | C44: 1 | D44: =IF(B44="","",סיווג!D44) -> 1 | E44: =IF(OR(G44<>1,'היקף החוברות'!E44=""),"",C44*סיווג!D44) -> 1 | F44: =IF(ISERR(E44/$E$51),"",E44/$E$51) -> 0.016863406 | G44: =IF(OR('תנאי סף'!AL44<>1,ISNA(MATCH(C44,$H$10:$J$10,0)),B44=""),0,1) -> 1 | H44: =IF($B44="","",H$10) -> 1 | I44: =IF($B44="","",I$10) -> 2 | J44: =IF($B44="","",J$10) -> 3
A45: ='היקף החוברות'!A45 -> 35 | B45: ='היקף החוברות'!B45 | D45: =IF(B45="","",סיווג!D45) | E45: =IF(OR(G45<>1,'היקף החוברות'!E45=""),"",C45*סיווג!D45) | F45: =IF(ISERR(E45/$E$51),"",E45/$E$51) | G45: =IF(OR('תנאי סף'!AL45<>1,ISNA(MATCH(C45,$H$10:$J$10,0)),B45=""),0,1) -> 0 | H45: =IF($B45="","",H$10) | I45: =IF($B45="","",I$10) | J45: =IF($B45="","",J$10)
A46: ='היקף החוברות'!A46 -> 36 | B46: ='היקף החוברות'!B46 -> העמותה ליצירה פנטסטית- אוטופיה | D46: =IF(B46="","",סיווג!D46) -> 1 | E46: =IF(OR(G46<>1,'היקף החוברות'!E46=""),"",C46*סיווג!D46) | F46: =IF(ISERR(E46/$E$51),"",E46/$E$51) | G46: =IF(OR('תנאי סף'!AL46<>1,ISNA(MATCH(C46,$H$10:$J$10,0)),B46=""),0,1) -> 0 | H46: =IF($B46="","",H$10) -> 1 | I46: =IF($B46="","",I$10) -> 2 | J46: =IF($B46="","",J$10) -> 3
A47: ='היקף החוברות'!A47 -> 37 | B47: ='היקף החוברות'!B47 | D47: =IF(B47="","",סיווג!D47) | E47: =IF(OR(G47<>1,'היקף החוברות'!E47=""),"",C47*סיווג!D47) | F47: =IF(ISERR(E47/$E$51),"",E47/$E$51) | G47: =IF(OR('תנאי סף'!AL47<>1,ISNA(MATCH(C47,$H$10:$J$10,0)),B47=""),0,1) -> 0 | H47: =IF($B47="","",H$10) | I47: =IF($B47="","",I$10) | J47: =IF($B47="","",J$10)
A48: ='היקף החוברות'!A48 -> 38 | B48: ='היקף החוברות'!B48 | D48: =IF(B48="","",סיווג!D48) | E48: =IF(OR(G48<>1,'היקף החוברות'!E48=""),"",C48*סיווג!D48) | F48: =IF(ISERR(E48/$E$51),"",E48/$E$51) | G48: =IF(OR('תנאי סף'!AL48<>1,ISNA(MATCH(C48,$H$10:$J$10,0)),B48=""),0,1) -> 0 | H48: =IF($B48="","",H$10) | I48: =IF($B48="","",I$10) | J48: =IF($B48="","",J$10)
A49: ='היקף החוברות'!A49 -> 39 | B49: ='היקף החוברות'!B49 | D49: =IF(B49="","",סיווג!D49) | E49: =IF(OR(G49<>1,'היקף החוברות'!E49=""),"",C49*סיווג!D49) | F49: =IF(ISERR(E49/$E$51),"",E49/$E$51) | G49: =IF(OR('תנאי סף'!AL49<>1,ISNA(MATCH(C49,$H$10:$J$10,0)),B49=""),0,1) -> 0 | H49: =IF($B49="","",H$10) | I49: =IF($B49="","",I$10) | J49: =IF($B49="","",J$10)
A50: ='היקף החוברות'!A50 -> 40 | B50: ='היקף החוברות'!B50 | D50: =IF(B50="","",סיווג!D50) | E50: =IF(OR(G50<>1,'היקף החוברות'!E50=""),"",C50*סיווג!D50) | F50: =IF(ISERR(E50/$E$51),"",E50/$E$51) | G50: =IF(OR('תנאי סף'!AL50<>1,ISNA(MATCH(C50,$H$10:$J$10,0)),B50=""),0,1) -> 0 | H50: =IF($B50="","",H$10) | I50: =IF($B50="","",I$10) | J50: =IF($B50="","",J$10)
A51: סה"כ | E51: =SUM(E11:E50) -> 59.3 | F51: =SUM(F11:F50) -> 1

Sheet תמורה ליוצרים
B1: =פרמטרים!B1 -> שנת התקציב | C1: =פרמטרים!C1 -> 2025
B2: =פרמטרים!B2 -> תקציב | C2: =פרמטרים!C2 -> 1906914
A9: ="שיעור יחסי במשתנה "&MID(CELL("filename",C11),FIND("]",CELL("filename",C11),1)+1,99) -> שיעור יחסי במשתנה תמורה ליוצרים
A10: ='היקף החוברות'!A10 -> מספר סידורי | B10: ='היקף החוברות'!B10 -> שם כתב העת | C10: סך תמורה ליוצרים או לחוקרים בשנת התקציב המבוקר | D10: תקציב בשנת בשנת התקציב המבוקר | E10: שיעור התשלום ליוצרים או לחוקרים מסך התקציב | F10: ניקוד תמורה ליוצרים | G10: מכפיל סיווג | H10: ניקוד תמורה ליוצרים לאחר מקדם סיווג | I10: ='היקף החוברות'!F10 -> שיעור יחסי | K10: 0 | L10: 1 | M10: 2
A11: ='רמה הפקתית'!A11 -> 1 | B11: ='רמה הפקתית'!B11 -> 1280 מעלות (אמנים יוצרים) | C11: 0 | D11: 94872 | E11: =IF(J11<>1,"",C11/D11) -> 0 | F11: =IF(J11<>1,"",IFERROR(IF(MAX($E$11:$E$50)=E11,10,10*E11/MAX($E$11:$E$50)),"בדוק נתוני הזנה")) -> 0 | G11: =סיווג!D11 -> 1.15 | H11: =IFERROR(F11*G11,"") -> 0 | I11: =IF(ISERR(H11/$H$51),"",H11/$H$51) -> 0 | J11: =IF(OR('תנאי סף'!AL11<>1,B11="",C11="",ISERR(C11/2),C11<0),0,1) -> 1 | K11: =IF($B11="","",K$10) -> 0 | L11: =IF($B11="","",L$10) -> 1 | M11: =IF($B11="","",M$10) -> 2
A12: ='רמה הפקתית'!A12 -> 2 | B12: ='רמה הפקתית'!B12 -> יהי (אורי צבי גרינברג) | C12: 0 | D12: 59565 | E12: =IF(J12<>1,"",C12/D12) -> 0 | F12: =IF(J12<>1,"",IFERROR(IF(MAX($E$11:$E$50)=E12,10,10*E12/MAX($E$11:$E$50)),"בדוק נתוני הזנה")) -> 0 | G12: =סיווג!D12 -> 1.15 | H12: =IFERROR(F12*G12,"") -> 0 | I12: =IF(ISERR(H12/$H$51),"",H12/$H$51) -> 0 | J12: =IF(OR('תנאי סף'!AL12<>1,B12="",C12="",ISERR(C12/2),C12<0),0,1) -> 1 | K12: =IF($B12="","",K$10) -> 0 | L12: =IF($B12="","",L$10) -> 1 | M12: =IF($B12="","",M$10) -> 2
A13: ='רמה הפקתית'!A13 -> 3 | B13: ='רמה הפקתית'!B13 | E13: =IF(J13<>1,"",C13/D13) | F13: =IF(J13<>1,"",IFERROR(IF(MAX($E$11:$E$50)=E13,10,10*E13/MAX($E$11:$E$50)),"בדוק נתוני הזנה")) | G13: =סיווג!D13 | H13: =IFERROR(F13*G13,"") | I13: =IF(ISERR(H13/$H$51),"",H13/$H$51) | J13: =IF(OR('תנאי סף'!AL13<>1,B13="",C13="",ISERR(C13/2),C13<0),0,1) -> 0 | K13: =IF($B13="","",K$10) | L13: =IF($B13="","",L$10) | M13: =IF($B13="","",M$10)
A14: ='רמה הפקתית'!A14 -> 4 | B14: ='רמה הפקתית'!B14 -> דעות (ברית נאמני תורה ועבודה) | C14: 0 | D14: 188803 | E14: =IF(J14<>1,"",C14/D14) -> 0 | F14: =IF(J14<>1,"",IFERROR(IF(MAX($E$11:$E$50)=E14,10,10*E14/MAX($E$11:$E$50)),"בדוק נתוני הזנה")) -> 0 | G14: =סיווג!D14 -> 1.15 | H14: =IFERROR(F14*G14,"") -> 0 | I14: =IF(ISERR(H14/$H$51),"",H14/$H$51) -> 0 | J14: =IF(OR('תנאי סף'!AL14<>1,B14="",C14="",ISERR(C14/2),C14<0),0,1) -> 1 | K14: =IF($B14="","",K$10) -> 0 | L14: =IF($B14="","",L$10) -> 1 | M14: =IF($B14="","",M$10) -> 2
A15: ='רמה הפקתית'!A15 -> 5 | B15: ='רמה הפקתית'!B15 -> הליקון | C15: 3250 | D15: 223294 | E15: =IF(J15<>1,"",C15/D15) -> 0.014554802 | F15: =IF(J15<>1,"",IFERROR(IF(MAX($E$11:$E$50)=E15,10,10*E15/MAX($E$11:$E$50)),"בדוק נתוני הזנה")) -> 0.20146881 | G15: =סיווג!D15 -> 1.15 | H15: =IFERROR(F15*G15,"") -> 0.23168914 | I15: =IF(ISERR(H15/$H$51),"",H15/$H$51) -> 0.0049259435 | J15: =IF(OR('תנאי סף'!AL15<>1,B15="",C15="",ISERR(C15/2),C15<0),0,1) -> 1 | K15: =IF($B15="","",K$10) -> 0 | L15: =IF($B15="","",L$10) -> 1 | M15: =IF($B15="","",M$10) -> 2
A16: ='רמה הפקתית'!A16 -> 6 | B16: ='רמה הפקתית'!B16 | E16: =IF(J16<>1,"",C16/D16) | F16: =IF(J16<>1,"",IFERROR(IF(MAX($E$11:$E$50)=E16,10,10*E16/MAX($E$11:$E$50)),"בדוק נתוני הזנה")) | G16: =סיווג!D16 | H16: =IFERROR(F16*G16,"") | I16: =IF(ISERR(H16/$H$51),"",H16/$H$51) | J16: =IF(OR('תנאי סף'!AL16<>1,B16="",C16="",ISERR(C16/2),C16<0),0,1) -> 0 | K16: =IF($B16="","",K$10) | L16: =IF($B16="","",L$10) | M16: =IF($B16="","",M$10)
A17: ='רמה הפקתית'!A17 -> 7 | B17: ='רמה הפקתית'!B17 | E17: =IF(J17<>1,"",C17/D17) | F17: =IF(J17<>1,"",IFERROR(IF(MAX($E$11:$E$50)=E17,10,10*E17/MAX($E$11:$E$50)),"בדוק נתוני הזנה")) | G17: =סיווג!D17 | H17: =IFERROR(F17*G17,"") | I17: =IF(ISERR(H17/$H$51),"",H17/$H$51) | J17: =IF(OR('תנאי סף'!AL17<>1,B17="",C17="",ISERR(C17/2),C17<0),0,1) -> 0 | K17: =IF($B17="","",K$10) | L17: =IF($B17="","",L$10) | M17: =IF($B17="","",M$10)
A18: ='רמה הפקתית'!A18 -> 8 | B18: ='רמה הפקתית'!B18 -> ננפואטיקה (עמותת מקום לשירה) | C18: 25394 | D18: 181544 | E18: =IF(J18<>1,"",C18/D18) -> 0.13987794 | F18: =IF(J18<>1,"",IFERROR(IF(MAX($E$11:$E$50)=E18,10,10*E18/MAX($E$11:$E$50)),"בדוק נתוני הזנה")) -> 1.9362023 | G18: =סיווג!D18 -> 1.15 | H18: =IFERROR(F18*G18,"") -> 2.2266327 | I18: =IF(ISERR(H18/$H$51),"",H18/$H$51) -> 0.047340444 | J18: =IF(OR('תנאי סף'!AL18<>1,B18="",C18="",ISERR(C18/2),C18<0),0,1) -> 1 | K18: =IF($B18="","",K$10) -> 0 | L18: =IF($B18="","",L$10) -> 1 | M18: =IF($B18="","",M$10) -> 2
A19: ='רמה הפקתית'!A19 -> 9 | B19: ='רמה הפקתית'!B19 -> מאזניים (אגודת הסופרים העבריים) | C19: 7954 | D19: 240791 | E19: =IF(J19<>1,"",C19/D19) -> 0.033032796 | F19: =IF(J19<>1,"",IFERROR(IF(MAX($E$11:$E$50)=E19,10,10*E19/MAX($E$11:$E$50)),"בדוק נתוני הזנה")) -> 0.45724278 | G19: =סיווג!D19 -> 1.15 | H19: =IFERROR(F19*G19,"") -> 0.5258292 | I19: =IF(ISERR(H19/$H$51),"",H19/$H$51) -> 0.011179656 | J19: =IF(OR('תנאי סף'!AL19<>1,B19="",C19="",ISERR(C19/2),C19<0),0,1) -> 1 | K19: =IF($B19="","",K$10) -> 0 | L19: =IF($B19="","",L$10) -> 1 | M19: =IF($B19="","",M$10) -> 2
A20: ='רמה הפקתית'!A20 -> 10 | B20: ='רמה הפקתית'!B20 -> משיב הרוח | C20: 11089 | D20: 217675 | E20: =IF(J20<>1,"",C20/D20) -> 0.050942919 | F20: =IF(J20<>1,"",IFERROR(IF(MAX($E$11:$E$50)=E20,10,10*E20/MAX($E$11:$E$50)),"בדוק נתוני הזנה")) -> 0.70515624 | G20: =סיווג!D20 -> 1.15 | H20: =IFERROR(F20*G20,"") -> 0.81092968 | I20: =IF(ISERR(H20/$H$51),"",H20/$H$51) -> 0.017241178 | J20: =IF(OR('תנאי סף'!AL20<>1,B20="",C20="",ISERR(C20/2),C20<0),0,1) -> 1 | K20: =IF($B20="","",K$10) -> 0 | L20: =IF($B20="","",L$10) -> 1 | M20: =IF($B20="","",M$10) -> 2
A21: ='רמה הפקתית'!A21 -> 11 | B21: ='רמה הפקתית'!B21 -> עמדה (עמותת מונטן) | C21: 0 | D21: 46390 | E21: =IF(J21<>1,"",C21/D21) -> 0 | F21: =IF(J21<>1,"",IFERROR(IF(MAX($E$11:$E$50)=E21,10,10*E21/MAX($E$11:$E$50)),"בדוק נתוני הזנה")) -> 0 | G21: =סיווג!D21 -> 1.075 | H21: =IFERROR(F21*G21,"") -> 0 | I21: =IF(ISERR(H21/$H$51),"",H21/$H$51) -> 0 | J21: =IF(OR('תנאי סף'!AL21<>1,B21="",C21="",ISERR(C21/2),C21<0),0,1) -> 1 | K21: =IF($B21="","",K$10) -> 0 | L21: =IF($B21="","",L$10) -> 1 | M21: =IF($B21="","",M$10) -> 2
A22: ='רמה הפקתית'!A22 -> 12 | B22: ='רמה הפקתית'!B22 -> עתון 77 (אגודת סופרים ואמנים) | C22: 9605 | D22: 287585 | E22: =IF(J22<>1,"",C22/D22) -> 0.033398821 | F22: =IF(J22<>1,"",IFERROR(IF(MAX($E$11:$E$50)=E22,10,10*E22/MAX($E$11:$E$50)),"בדוק נתוני הזנה")) -> 0.46230933 | G22: =סיווג!D22 -> 1.075 | H22: =IFERROR(F22*G22,"") -> 0.49698253 | I22: =IF(ISERR(H22/$H$51),"",H22/$H$51) -> 0.010566347 | J22: =IF(OR('תנאי סף'!AL22<>1,B22="",C22="",ISERR(C22/2),C22<0),0,1) -> 1 | K22: =IF($B22="","",K$10) -> 0 | L22: =IF($B22="","",L$10) -> 1 | M22: =IF($B22="","",M$10) -> 2
A23: ='רמה הפקתית'!A23 -> 13 | B23: ='רמה הפקתית'!B23 | E23: =IF(J23<>1,"",C23/D23) | F23: =IF(J23<>1,"",IFERROR(IF(MAX($E$11:$E$50)=E23,10,10*E23/MAX($E$11:$E$50)),"בדוק נתוני הזנה")) | G23: =סיווג!D23 | H23: =IFERROR(F23*G23,"") | I23: =IF(ISERR(H23/$H$51),"",H23/$H$51) | J23: =IF(OR('תנאי סף'!AL23<>1,B23="",C23="",ISERR(C23/2),C23<0),0,1) -> 0 | K23: =IF($B23="","",K$10) | L23: =IF($B23="","",L$10) | M23: =IF($B23="","",M$10)
A24: ='רמה הפקתית'!A24 -> 14 | B24: ='רמה הפקתית'!B24 -> פסיפס | C24: 0 | D24: 48748 | E24: =IF(J24<>1,"",C24/D24) -> 0 | F24: =IF(J24<>1,"",IFERROR(IF(MAX($E$11:$E$50)=E24,10,10*E24/MAX($E$11:$E$50)),"בדוק נתוני הזנה")) -> 0 | G24: =סיווג!D24 -> 1.075 | H24: =IFERROR(F24*G24,"") -> 0 | I24: =IF(ISERR(H24/$H$51),"",H24/$H$51) -> 0 | J24: =IF(OR('תנאי סף'!AL24<>1,B24="",C24="",ISERR(C24/2),C24<0),0,1) -> 1 | K24: =IF($B24="","",K$10) -> 0 | L24: =IF($B24="","",L$10) -> 1 | M24: =IF($B24="","",M$10) -> 2
A25: ='רמה הפקתית'!A25 -> 15 | B25: ='רמה הפקתית'!B25 -> קתרזיס ( עמותת מצרף) | C25: 0 | D25: 40394 | E25: =IF(J25<>1,"",C25/D25) -> 0 | F25: =IF(J25<>1,"",IFERROR(IF(MAX($E$11:$E$50)=E25,10,10*E25/MAX($E$11:$E$50)),"בדוק נתוני הזנה")) -> 0 | G25: =סיווג!D25 -> 1.075 | H25: =IFERROR(F25*G25,"") -> 0 | I25: =IF(ISERR(H25/$H$51),"",H25/$H$51) -> 0 | J25: =IF(OR('תנאי סף'!AL25<>1,B25="",C25="",ISERR(C25/2),C25<0),0,1) -> 1 | K25: =IF($B25="","",K$10) -> 0 | L25: =IF($B25="","",L$10) -> 1 | M25: =IF($B25="","",M$10) -> 2
A26: ='רמה הפקתית'!A26 -> 16 | B26: ='רמה הפקתית'!B26 | E26: =IF(J26<>1,"",C26/D26) | F26: =IF(J26<>1,"",IFERROR(IF(MAX($E$11:$E$50)=E26,10,10*E26/MAX($E$11:$E$50)),"בדוק נתוני הזנה")) | G26: =סיווג!D26 | H26: =IFERROR(F26*G26,"") | I26: =IF(ISERR(H26/$H$51),"",H26/$H$51) | J26: =IF(OR('תנאי סף'!AL26<>1,B26="",C26="",ISERR(C26/2),C26<0),0,1) -> 0 | K26: =IF($B26="","",K$10) | L26: =IF($B26="","",L$10) | M26: =IF($B26="","",M$10)
A27: ='רמה הפקתית'!A27 -> 17 | B27: ='רמה הפקתית'!B27 -> הכיוון מזרח (עמותת אחותי) | C27: 12785 | D27: 179009 | E27: =IF(J27<>1,"",C27/D27) -> 0.07142099 | F27: =IF(J27<>1,"",IFERROR(IF(MAX($E$11:$E$50)=E27,10,10*E27/MAX($E$11:$E$50)),"בדוק נתוני הזנה")) -> 0.98861544 | G27: =סיווג!D27 -> 1.15 | H27: =IFERROR(F27*G27,"") -> 1.1369078 | I27: =IF(ISERR(H27/$H$51),"",H27/$H$51) -> 0.024171799 | J27: =IF(OR('תנאי סף'!AL27<>1,B27="",C27="",ISERR(C27/2),C27<0),0,1) -> 1 | K27: =IF($B27="","",K$10) -> 0 | L27: =IF($B27="","",L$10) -> 1 | M27: =IF($B27="","",M$10) -> 2
A28: ='רמה הפקתית'!A28 -> 18 | B28: ='רמה הפקתית'!B28 | E28: =IF(J28<>1,"",C28/D28) | F28: =IF(J28<>1,"",IFERROR(IF(MAX($E$11:$E$50)=E28,10,10*E28/MAX($E$11:$E$50)),"בדוק נתוני הזנה")) | G28: =סיווג!D28 | H28: =IFERROR(F28*G28,"") | I28: =IF(ISERR(H28/$H$51),"",H28/$H$51) | J28: =IF(OR('תנאי סף'!AL28<>1,B28="",C28="",ISERR(C28/2),C28<0),0,1) -> 0 | K28: =IF($B28="","",K$10) | L28: =IF($B28="","",L$10) | M28: =IF($B28="","",M$10)
A29: ='רמה הפקתית'!A29 -> 19 | B29: ='רמה הפקתית'!B29 -> הו | C29: 16900 | D29: 180945 | E29: =IF(J29<>1,"",C29/D29) -> 0.093398547 | F29: =IF(J29<>1,"",IFERROR(IF(MAX($E$11:$E$50)=E29,10,10*E29/MAX($E$11:$E$50)),"בדוק נתוני הזנה")) -> 1.2928307 | G29: =סיווג!D29 -> 1.15 | H29: =IFERROR(F29*G29,"") -> 1.4867553 | I29: =IF(ISERR(H29/$H$51),"",H29/$H$51) -> 0.031609908 | J29: =IF(OR('תנאי סף'!AL29<>1,B29="",C29="",ISERR(C29/2),C29<0),0,1) -> 1 | K29: =IF($B29="","",K$10) -> 0 | L29: =IF($B29="","",L$10) -> 1 | M29: =IF($B29="","",M$10) -> 2
A30: ='רמה הפקתית'!A30 -> 20 | B30: ='רמה הפקתית'!B30 -> הבא להבא (עמותת מקום לשירה) | C30: 9659 | D30: 74780 | E30: =IF(J30<>1,"",C30/D30) -> 0.12916555 | F30: =IF(J30<>1,"",IFERROR(IF(MAX($E$11:$E$50)=E30,10,10*E30/MAX($E$11:$E$50)),"בדוק נתוני הזנה")) -> 1.7879206 | G30: =סיווג!D30 -> 1.15 | H30: =IFERROR(F30*G30,"") -> 2.0561087 | I30: =IF(ISERR(H30/$H$51),"",H30/$H$51) -> 0.043714933 | J30: =IF(OR('תנאי סף'!AL30<>1,B30="",C30="",ISERR(C30/2),C30<0),0,1) -> 1 | K30: =IF($B30="","",K$10) -> 0 | L30: =IF($B30="","",L$10) -> 1 | M30: =IF($B30="","",M$10) -> 2
A31: ='רמה הפקתית'!A31 -> 21 | B31: ='רמה הפקתית'!B31 -> היסטוריה (החברה ההיסטורית הישרא | C31: 0 | D31: 123842 | E31: =IF(J31<>1,"",C31/D31) -> 0 | F31: =IF(J31<>1,"",IFERROR(IF(MAX($E$11:$E$50)=E31,10,10*E31/MAX($E$11:$E$50)),"בדוק נתוני הזנה")) -> 0 | G31: =סיווג!D31 -> 1.15 | H31: =IFERROR(F31*G31,"") -> 0 | I31: =IF(ISERR(H31/$H$51),"",H31/$H$51) -> 0 | J31: =IF(OR('תנאי סף'!AL31<>1,B31="",C31="",ISERR(C31/2),C31<0),0,1) -> 1 | K31: =IF($B31="","",K$10) -> 0 | L31: =IF($B31="","",L$10) -> 1 | M31: =IF($B31="","",M$10) -> 2
A32: ='רמה הפקתית'!A32 -> 22 | B32: ='רמה הפקתית'!B32 -> מחול עכשיו (תמונע) | C32: 9106 | D32: 53500 | E32: =IF(J32<>1,"",C32/D32) -> 0.17020561 | F32: =IF(J32<>1,"",IFERROR(IF(MAX($E$11:$E$50)=E32,10,10*E32/MAX($E$11:$E$50)),"בדוק נתוני הזנה")) -> 2.3560006 | G32: =סיווג!D32 -> 1.15 | H32: =IFERROR(F32*G32,"") -> 2.7094006 | I32: =IF(ISERR(H32/$H$51),"",H32/$H$51) -> 0.057604575 | J32: =IF(OR('תנאי סף'!AL32<>1,B32="",C32="",ISERR(C32/2),C32<0),0,1) -> 1 | K32: =IF($B32="","",K$10) -> 0 | L32: =IF($B32="","",L$10) -> 1 | M32: =IF($B32="","",M$10) -> 2
A33: ='רמה הפקתית'!A33 -> 23 | B33: ='רמה הפקתית'!B33 -> קול אישה שירה (תואר) | C33: 20050 | D33: 33350 | E33: =IF(J33<>1,"",C33/D33) -> 0.6011994 | F33: =IF(J33<>1,"",IFERROR(IF(MAX($E$11:$E$50)=E33,10,10*E33/MAX($E$11:$E$50)),"בדוק נתוני הזנה")) -> 8.3218534 | G33: =סיווג!D33 -> 1 | H33: =IFERROR(F33*G33,"") -> 8.3218534 | I33: =IF(ISERR(H33/$H$51),"",H33/$H$51) -> 0.17693095 | J33: =IF(OR('תנאי סף'!AL33<>1,B33="",C33="",ISERR(C33/2),C33<0),0,1) -> 1 | K33: =IF($B33="","",K$10) -> 0 | L33: =IF($B33="","",L$10) -> 1 | M33: =IF($B33="","",M$10) -> 2
A34: ='רמה הפקתית'!A34 -> 24 | B34: ='רמה הפקתית'!B34 -> האיגוד העולמי למדעי היהדות | C34: 0 | D34: 215639 | E34: =IF(J34<>1,"",C34/D34) -> 0 | F34: =IF(J34<>1,"",IFERROR(IF(MAX($E$11:$E$50)=E34,10,10*E34/MAX($E$11:$E$50)),"בדוק נתוני הזנה")) -> 0 | G34: =סיווג!D34 -> 1.15 | H34: =IFERROR(F34*G34,"") -> 0 | I34: =IF(ISERR(H34/$H$51),"",H34/$H$51) -> 0 | J34: =IF(OR('תנאי סף'!AL34<>1,B34="",C34="",ISERR(C34/2),C34<0),0,1) -> 1 | K34: =IF($B34="","",K$10) -> 0 | L34: =IF($B34="","",L$10) -> 1 | M34: =IF($B34="","",M$10) -> 2
A35: ='רמה הפקתית'!A35 -> 25 | B35: ='רמה הפקתית'!B35 | E35: =IF(J35<>1,"",C35/D35) | F35: =IF(J35<>1,"",IFERROR(IF(MAX($E$11:$E$50)=E35,10,10*E35/MAX($E$11:$E$50)),"בדוק נתוני הזנה")) | G35: =סיווג!D35 | H35: =IFERROR(F35*G35,"") | I35: =IF(ISERR(H35/$H$51),"",H35/$H$51) | J35: =IF(OR('תנאי סף'!AL35<>1,B35="",C35="",ISERR(C35/2),C35<0),0,1) -> 0 | K35: =IF($B35="","",K$10) | L35: =IF($B35="","",L$10) | M35: =IF($B35="","",M$10)
A36: ='רמה הפקתית'!A36 -> 26 | B36: ='רמה הפקתית'!B36 | E36: =IF(J36<>1,"",C36/D36) | F36: =IF(J36<>1,"",IFERROR(IF(MAX($E$11:$E$50)=E36,10,10*E36/MAX($E$11:$E$50)),"בדוק נתוני הזנה")) | G36: =סיווג!D36 | H36: =IFERROR(F36*G36,"") | I36: =IF(ISERR(H36/$H$51),"",H36/$H$51) | J36: =IF(OR('תנאי סף'!AL36<>1,B36="",C36="",ISERR(C36/2),C36<0),0,1) -> 0 | K36: =IF($B36="","",K$10) | L36: =IF($B36="","",L$10) | M36: =IF($B36="","",M$10)
A37: ='רמה הפקתית'!A37 -> 27 | B37: ='רמה הפקתית'!B37 | E37: =IF(J37<>1,"",C37/D37) | F37: =IF(J37<>1,"",IFERROR(IF(MAX($E$11:$E$50)=E37,10,10*E37/MAX($E$11:$E$50)),"בדוק נתוני הזנה")) | G37: =סיווג!D37 | H37: =IFERROR(F37*G37,"") | I37: =IF(ISERR(H37/$H$51),"",H37/$H$51) | J37: =IF(OR('תנאי סף'!AL37<>1,B37="",C37="",ISERR(C37/2),C37<0),0,1) -> 0 | K37: =IF($B37="","",K$10) | L37: =IF($B37="","",L$10) | M37: =IF($B37="","",M$10)
A38: ='רמה הפקתית'!A38 -> 28 | B38: ='רמה הפקתית'!B38 | E38: =IF(J38<>1,"",C38/D38) | F38: =IF(J38<>1,"",IFERROR(IF(MAX($E$11:$E$50)=E38,10,10*E38/MAX($E$11:$E$50)),"בדוק נתוני הזנה")) | G38: =סיווג!D38 | H38: =IFERROR(F38*G38,"") | I38: =IF(ISERR(H38/$H$51),"",H38/$H$51) | J38: =IF(OR('תנאי סף'!AL38<>1,B38="",C38="",ISERR(C38/2),C38<0),0,1) -> 0 | K38: =IF($B38="","",K$10) | L38: =IF($B38="","",L$10) | M38: =IF($B38="","",M$10)
A39: ='רמה הפקתית'!A39 -> 29 | B39: ='רמה הפקתית'!B39 -> גופא (נתיב האומן ) | C39: 15264 | D39: 57100 | E39: =IF(J39<>1,"",C39/D39) -> 0.26732049 | F39: =IF(J39<>1,"",IFERROR(IF(MAX($E$11:$E$50)=E39,10,10*E39/MAX($E$11:$E$50)),"בדוק נתוני הזנה")) -> 3.7002731 | G39: =סיווג!D39 -> 1 | H39: =IFERROR(F39*G39,"") -> 3.7002731 | I39: =IF(ISERR(H39/$H$51),"",H39/$H$51) -> 0.078671517 | J39: =IF(OR('תנאי סף'!AL39<>1,B39="",C39="",ISERR(C39/2),C39<0),0,1) -> 1 | K39: =IF($B39="","",K$10) -> 0 | L39: =IF($B39="","",L$10) -> 1 | M39: =IF($B39="","",M$10) -> 2
A40: ='רמה הפקתית'!A40 -> 30 | B40: ='רמה הפקתית'!B40 -> ערב רב (בר קיימא) | C40: 7155 | D40: 91693 | E40: =IF(J40<>1,"",C40/D40) -> 0.078032129 | F40: =IF(J40<>1,"",IFERROR(IF(MAX($E$11:$E$50)=E40,10,10*E40/MAX($E$11:$E$50)),"בדוק נתוני הזנה")) -> 1.0801274 | G40: =סיווג!D40 -> 1.075 | H40: =IFERROR(F40*G40,"") -> 1.1611369 | I40: =IF(ISERR(H40/$H$51),"",H40/$H$51) -> 0.024686936 | J40: =IF(OR('תנאי סף'!AL40<>1,B40="",C40="",ISERR(C40/2),C40<0),0,1) -> 1 | K40: =IF($B40="","",K$10) -> 0 | L40: =IF($B40="","",L$10) -> 1 | M40: =IF($B40="","",M$10) -> 2
A41: ='רמה הפקתית'!A41 -> 31 | B41: ='רמה הפקתית'!B41 | E41: =IF(J41<>1,"",C41/D41) | F41: =IF(J41<>1,"",IFERROR(IF(MAX($E$11:$E$50)=E41,10,10*E41/MAX($E$11:$E$50)),"בדוק נתוני הזנה")) | G41: =סיווג!D41 | H41: =IFERROR(F41*G41,"") | I41: =IF(ISERR(H41/$H$51),"",H41/$H$51) | J41: =IF(OR('תנאי סף'!AL41<>1,B41="",C41="",ISERR(C41/2),C41<0),0,1) -> 0 | K41: =IF($B41="","",K$10) | L41: =IF($B41="","",L$10) | M41: =IF($B41="","",M$10)
A42: ='רמה הפקתית'!A42 -> 32 | B42: ='רמה הפקתית'!B42 -> מעלה | C42: 26470 | D42: 36640 | E42: =IF(J42<>1,"",C42/D42) -> 0.7224345 | F42: =IF(J42<>1,"",IFERROR(IF(MAX($E$11:$E$50)=E42,10,10*E42/MAX($E$11:$E$50)),"בדוק נתוני הזנה")) -> 10 | G42: =סיווג!D42 -> 1.075 | H42: =IFERROR(F42*G42,"") -> 10.75 | I42: =IF(ISERR(H42/$H$51),"",H42/$H$51) -> 0.22855578 | J42: =IF(OR('תנאי סף'!AL42<>1,B42="",C42="",ISERR(C42/2),C42<0),0,1) -> 1 | K42: =IF($B42="","",K$10) -> 0 | L42: =IF($B42="","",L$10) -> 1 | M42: =IF($B42="","",M$10) -> 2
A43: ='רמה הפקתית'!A43 -> 33 | B43: ='רמה הפקתית'!B43 | E43: =IF(J43<>1,"",C43/D43) | F43: =IF(J43<>1,"",IFERROR(IF(MAX($E$11:$E$50)=E43,10,10*E43/MAX($E$11:$E$50)),"בדוק נתוני הזנה")) | G43: =סיווג!D43 | H43: =IFERROR(F43*G43,"") | I43: =IF(ISERR(H43/$H$51),"",H43/$H$51) | J43: =IF(OR('תנאי סף'!AL43<>1,B43="",C43="",ISERR(C43/2),C43<0),0,1) -> 0 | K43: =IF($B43="","",K$10) | L43: =IF($B43="","",L$10) | M43: =IF($B43="","",M$10)
A44: ='רמה הפקתית'!A44 -> 34 | B44: ='רמה הפקתית'!B44 -> כתב עת ירושלמי | C44: 16420 | D44: 110080 | E44: =IF(J44<>1,"",C44/D44) -> 0.14916424 | F44: =IF(J44<>1,"",IFERROR(IF(MAX($E$11:$E$50)=E44,10,10*E44/MAX($E$11:$E$50)),"בדוק נתוני הזנה")) -> 2.0647442 | G44: =סיווג!D44 -> 1 | H44: =IFERROR(F44*G44,"") -> 2.0647442 | I44: =IF(ISERR(H44/$H$51),"",H44/$H$51) -> 0.043898533 | J44: =IF(OR('תנאי סף'!AL44<>1,B44="",C44="",ISERR(C44/2),C44<0),0,1) -> 1 | K44: =IF($B44="","",K$10) -> 0 | L44: =IF($B44="","",L$10) -> 1 | M44: =IF($B44="","",M$10) -> 2
A45: ='רמה הפקתית'!A45 -> 35 | B45: ='רמה הפקתית'!B45 | E45: =IF(J45<>1,"",C45/D45) | F45: =IF(J45<>1,"",IFERROR(IF(MAX($E$11:$E$50)=E45,10,10*E45/MAX($E$11:$E$50)),"בדוק נתוני הזנה")) | G45: =סיווג!D45 | H45: =IFERROR(F45*G45,"") | I45: =IF(ISERR(H45/$H$51),"",H45/$H$51) | J45: =IF(OR('תנאי סף'!AL45<>1,B45="",C45="",ISERR(C45/2),C45<0),0,1) -> 0 | K45: =IF($B45="","",K$10) | L45: =IF($B45="","",L$10) | M45: =IF($B45="","",M$10)
A46: ='רמה הפקתית'!A46 -> 36 | B46: ='רמה הפקתית'!B46 -> העמותה ליצירה פנטסטית- אוטופיה | C46: 22560 | D46: 33380 | E46: =IF(J46<>1,"",C46/D46) -> 0.6758538 | F46: =IF(J46<>1,"",IFERROR(IF(MAX($E$11:$E$50)=E46,10,10*E46/MAX($E$11:$E$50)),"בדוק נתוני הזנה")) -> 9.3552261 | G46: =סיווג!D46 -> 1 | H46: =IFERROR(F46*G46,"") -> 9.3552261 | I46: =IF(ISERR(H46/$H$51),"",H46/$H$51) -> 0.19890149 | J46: =IF(OR('תנאי סף'!AL46<>1,B46="",C46="",ISERR(C46/2),C46<0),0,1) -> 1 | K46: =IF($B46="","",K$10) -> 0 | L46: =IF($B46="","",L$10) -> 1 | M46: =IF($B46="","",M$10) -> 2
A47: ='רמה הפקתית'!A47 -> 37 | B47: ='רמה הפקתית'!B47 | E47: =IF(J47<>1,"",C47/D47) | F47: =IF(J47<>1,"",IFERROR(IF(MAX($E$11:$E$50)=E47,10,10*E47/MAX($E$11:$E$50)),"בדוק נתוני הזנה")) | G47: =סיווג!D47 | H47: =IFERROR(F47*G47,"") | I47: =IF(ISERR(H47/$H$51),"",H47/$H$51) | J47: =IF(OR('תנאי סף'!AL47<>1,B47="",C47="",ISERR(C47/2),C47<0),0,1) -> 0 | K47: =IF($B47="","",K$10) | L47: =IF($B47="","",L$10) | M47: =IF($B47="","",M$10)
A48: ='רמה הפקתית'!A48 -> 38 | B48: ='רמה הפקתית'!B48 | E48: =IF(J48<>1,"",C48/D48) | F48: =IF(J48<>1,"",IFERROR(IF(MAX($E$11:$E$50)=E48,10,10*E48/MAX($E$11:$E$50)),"בדוק נתוני הזנה")) | G48: =סיווג!D48 | H48: =IFERROR(F48*G48,"") | I48: =IF(ISERR(H48/$H$51),"",H48/$H$51) | J48: =IF(OR('תנאי סף'!AL48<>1,B48="",C48="",ISERR(C48/2),C48<0),0,1) -> 0 | K48: =IF($B48="","",K$10) | L48: =IF($B48="","",L$10) | M48: =IF($B48="","",M$10)
A49: ='רמה הפקתית'!A49 -> 39 | B49: ='רמה הפקתית'!B49 | E49: =IF(J49<>1,"",C49/D49) | F49: =IF(J49<>1,"",IFERROR(IF(MAX($E$11:$E$50)=E49,10,10*E49/MAX($E$11:$E$50)),"בדוק נתוני הזנה")) | G49: =סיווג!D49 | H49: =IFERROR(F49*G49,"") | I49: =IF(ISERR(H49/$H$51),"",H49/$H$51) | J49: =IF(OR('תנאי סף'!AL49<>1,B49="",C49="",ISERR(C49/2),C49<0),0,1) -> 0 | K49: =IF($B49="","",K$10) | L49: =IF($B49="","",L$10) | M49: =IF($B49="","",M$10)
A50: ='רמה הפקתית'!A50 -> 40 | B50: ='רמה הפקתית'!B50 | E50: =IF(J50<>1,"",C50/D50) | F50: =IF(J50<>1,"",IFERROR(IF(MAX($E$11:$E$50)=E50,10,10*E50/MAX($E$11:$E$50)),"בדוק נתוני הזנה")) | G50: =סיווג!D50 | H50: =IFERROR(F50*G50,"") | I50: =IF(ISERR(H50/$H$51),"",H50/$H$51) | J50: =IF(OR('תנאי סף'!AL50<>1,B50="",C50="",ISERR(C50/2),C50<0),0,1) -> 0 | K50: =IF($B50="","",K$10) | L50: =IF($B50="","",L$10) | M50: =IF($B50="","",M$10)
A51: סה"כ | F51: =SUM(F11:F50) -> 44.709971 | H51: =SUM(H11:H50) -> 47.034469 | I51: =SUM(I11:I50) -> 1

Sheet הפצת כתב העת
B1: =פרמטרים!A16 -> מפתח ניקוד הפצה באינטרנט | D1: =פרמטרים!B1 -> שנת התקציב | E1: =פרמטרים!C1 -> 2025
B2: =פרמטרים!A17 -> סעיף | C2: =פרמטרים!B17 -> ניקוד | D2: =פרמטרים!B2 -> תקציב | E2: =פרמטרים!C2 -> 1906914
B3: =פרמטרים!A18 -> ניקוד לחוברת שלפחות 60% מתוכנה הוצג באינטרנט בחינם לכלל הציבור | C3: =פרמטרים!B18 -> 1
B4: =פרמטרים!A19 -> מקסימום ניקוד לחוברת שחלק משמעותי מתוכנה הוצג באינטרנט | C4: =פרמטרים!B19 -> 6
B5: =פרמטרים!A20 -> מכפיל ניקוד להיקף יוצא דופן או רמה מקצועית גבוהה במיוחד | C5: =פרמטרים!B20 -> 1.5
A9: ="שיעור יחסי במשתנה "&MID(CELL("filename",C11),FIND("]",CELL("filename",C11),1)+1,99) -> שיעור יחסי במשתנה הפצת כתב העת
A10: =וותק!A5 -> מספר סידורי | B10: =וותק!B5 -> שם כתב העת | C10: מספר החוברות שהופצו באינטרנט שאושרו לניקוד | D10: קיום תכנים יוצאי דופן או שרמתו המקצועית של האתר היא גבוהה במיוחד 0/1 | E10: מספר חוברות של כתב העת שאושרו לניקוד (200 עותקים במחיר שלא יפחת מ- 15 ₪ וחולקו לחברים המשלמים דמי חבר שנתיים) | F10: מכפיל סיווג | G10: ="ניקוד "&MID(CELL("filename",C11),FIND("]",CELL("filename",C11),1)+1,99) -> ניקוד הפצת כתב העת | H10: שיעור יחסי | I10: 1 | J10: 0
A11: ='תמורה ליוצרים'!A11 -> 1 | B11: ='תמורה ליוצרים'!B11 -> 1280 מעלות (אמנים יוצרים) | C11: {=IF(B11="","",INDIRECT("'"&SUBSTITUTE($B11,"'","''")&"'"&"!Q3"))} -> 2 | D11: 0 | E11: =IF($B11="","",SUM(INDIRECT("'"&SUBSTITUTE($B11,"'","''")&"'"&"!L3:P3"))) -> 2 | F11: =IF(B11="","",סיווג!D11) -> 1.15 | G11: =IF(OR(B11="",I11<>1),"",F11*(MIN($C$3*C11,$C$4)*IF(D11>0,$C$5,1)+MIN(IF(E11="",0,E11),$C$4))) -> 4.6 | H11: =IF(ISERR(G11/$G$51),"",G11/$G$51) -> 0.035014272 | I11: =IF(OR('תנאי סף'!AL11<>1,B11="",C11=""),0,1) -> 1
A12: ='תמורה ליוצרים'!A12 -> 2 | B12: ='תמורה ליוצרים'!B12 -> יהי (אורי צבי גרינברג) | C12: {=IF(B12="","",INDIRECT("'"&SUBSTITUTE($B12,"'","''")&"'"&"!Q3"))} -> 2 | D12: 1 | E12: =IF($B12="","",SUM(INDIRECT("'"&SUBSTITUTE($B12,"'","''")&"'"&"!L3:P3"))) -> 2 | F12: =IF(B12="","",סיווג!D12) -> 1.15 | G12: =IF(OR(B12="",I12<>1),"",F12*(MIN($C$3*C12,$C$4)*IF(D12>0,$C$5,1)+MIN(IF(E12="",0,E12),$C$4))) -> 5.75 | H12: =IF(ISERR(G12/$G$51),"",G12/$G$51) -> 0.04376784 | I12: =IF(OR('תנאי סף'!AL12<>1,B12="",C12=""),0,1) -> 1
A13: ='תמורה ליוצרים'!A13 -> 3 | B13: ='תמורה ליוצרים'!B13 | C13: {=IF(B13="","",INDIRECT("'"&SUBSTITUTE($B13,"'","''")&"'"&"!Q3"))} | E13: =IF($B13="","",SUM(INDIRECT("'"&SUBSTITUTE($B13,"'","''")&"'"&"!L3:P3"))) | F13: =IF(B13="","",סיווג!D13) | G13: =IF(OR(B13="",I13<>1),"",F13*(MIN($C$3*C13,$C$4)*IF(D13>0,$C$5,1)+MIN(IF(E13="",0,E13),$C$4))) | H13: =IF(ISERR(G13/$G$51),"",G13/$G$51) | I13: =IF(OR('תנאי סף'!AL13<>1,B13="",C13=""),0,1) -> 0
A14: ='תמורה ליוצרים'!A14 -> 4 | B14: ='תמורה ליוצרים'!B14 -> דעות (ברית נאמני תורה ועבודה) | C14: {=IF(B14="","",INDIRECT("'"&SUBSTITUTE($B14,"'","''")&"'"&"!Q3"))} -> 3 | D14: 1 | E14: =IF($B14="","",SUM(INDIRECT("'"&SUBSTITUTE($B14,"'","''")&"'"&"!L3:P3"))) -> 3 | F14: =IF(B14="","",סיווג!D14) -> 1.15 | G14: =IF(OR(B14="",I14<>1),"",F14*(MIN($C$3*C14,$C$4)*IF(D14>0,$C$5,1)+MIN(IF(E14="",0,E14),$C$4))) -> 8.625 | H14: =IF(ISERR(G14/$G$51),"",G14/$G$51) -> 0.06565176 | I14: =IF(OR('תנאי סף'!AL14<>1,B14="",C14=""),0,1) -> 1
A15: ='תמורה ליוצרים'!A15 -> 5 | B15: ='תמורה ליוצרים'!B15 -> הליקון | C15: {=IF(B15="","",INDIRECT("'"&SUBSTITUTE($B15,"'","''")&"'"&"!Q3"))} -> 3 | D15: 1 | E15: =IF($B15="","",SUM(INDIRECT("'"&SUBSTITUTE($B15,"'","''")&"'"&"!L3:P3"))) -> 0 | F15: =IF(B15="","",סיווג!D15) -> 1.15 | G15: =IF(OR(B15="",I15<>1),"",F15*(MIN($C$3*C15,$C$4)*IF(D15>0,$C$5,1)+MIN(IF(E15="",0,E15),$C$4))) -> 5.175 | H15: =IF(ISERR(G15/$G$51),"",G15/$G$51) -> 0.039391056 | I15: =IF(OR('תנאי סף'!AL15<>1,B15="",C15=""),0,1) -> 1
A16: ='תמורה ליוצרים'!A16 -> 6 | B16: ='תמורה ליוצרים'!B16 | C16: {=IF(B16="","",INDIRECT("'"&SUBSTITUTE($B16,"'","''")&"'"&"!Q3"))} | E16: =IF($B16="","",SUM(INDIRECT("'"&SUBSTITUTE($B16,"'","''")&"'"&"!L3:P3"))) | F16: =IF(B16="","",סיווג!D16) | G16: =IF(OR(B16="",I16<>1),"",F16*(MIN($C$3*C16,$C$4)*IF(D16>0,$C$5,1)+MIN(IF(E16="",0,E16),$C$4))) | H16: =IF(ISERR(G16/$G$51),"",G16/$G$51) | I16: =IF(OR('תנאי סף'!AL16<>1,B16="",C16=""),0,1) -> 0
A17: ='תמורה ליוצרים'!A17 -> 7 | B17: ='תמורה ליוצרים'!B17 | C17: {=IF(B17="","",INDIRECT("'"&SUBSTITUTE($B17,"'","''")&"'"&"!Q3"))} | E17: =IF($B17="","",SUM(INDIRECT("'"&SUBSTITUTE($B17,"'","''")&"'"&"!L3:P3"))) | F17: =IF(B17="","",סיווג!D17) | G17: =IF(OR(B17="",I17<>1),"",F17*(MIN($C$3*C17,$C$4)*IF(D17>0,$C$5,1)+MIN(IF(E17="",0,E17),$C$4))) | H17: =IF(ISERR(G17/$G$51),"",G17/$G$51) | I17: =IF(OR('תנאי סף'!AL17<>1,B17="",C17=""),0,1) -> 0
A18: ='תמורה ליוצרים'!A18 -> 8 | B18: ='תמורה ליוצרים'!B18 -> ננפואטיקה (עמותת מקום לשירה) | C18: {=IF(B18="","",INDIRECT("'"&SUBSTITUTE($B18,"'","''")&"'"&"!Q3"))} -> 5 | D18: 1 | E18: =IF($B18="","",SUM(INDIRECT("'"&SUBSTITUTE($B18,"'","''")&"'"&"!L3:P3"))) -> 5 | F18: =IF(B18="","",סיווג!D18) -> 1.15 | G18: =IF(OR(B18="",I18<>1),"",F18*(MIN($C$3*C18,$C$4)*IF(D18>0,$C$5,1)+MIN(IF(E18="",0,E18),$C$4))) -> 14.375 | H18: =IF(ISERR(G18/$G$51),"",G18/$G$51) -> 0.1094196 | I18: =IF(OR('תנאי סף'!AL18<>1,B18="",C18=""),0,1) -> 1
A19: ='תמורה ליוצרים'!A19 -> 9 | B19: ='תמורה ליוצרים'!B19 -> מאזניים (אגודת הסופרים העבריים) | C19: {=IF(B19="","",INDIRECT("'"&SUBSTITUTE($B19,"'","''")&"'"&"!Q3"))} -> 5 | D19: 1 | E19: =IF($B19="","",SUM(INDIRECT("'"&SUBSTITUTE($B19,"'","''")&"'"&"!L3:P3"))) -> 5 | F19: =IF(B19="","",סיווג!D19) -> 1.15 | G19: =IF(OR(B19="",I19<>1),"",F19*(MIN($C$3*C19,$C$4)*IF(D19>0,$C$5,1)+MIN(IF(E19="",0,E19),$C$4))) -> 14.375 | H19: =IF(ISERR(G19/$G$51),"",G19/$G$51) -> 0.1094196 | I19: =IF(OR('תנאי סף'!AL19<>1,B19="",C19=""),0,1) -> 1
A20: ='תמורה ליוצרים'!A20 -> 10 | B20: ='תמורה ליוצרים'!B20 -> משיב הרוח | C20: {=IF(B20="","",INDIRECT("'"&SUBSTITUTE($B20,"'","''")&"'"&"!Q3"))} -> 5 | D20: 0 | E20: =IF($B20="","",SUM(INDIRECT("'"&SUBSTITUTE($B20,"'","''")&"'"&"!L3:P3"))) -> 5 | F20: =IF(B20="","",סיווג!D20) -> 1.15 | G20: =IF(OR(B20="",I20<>1),"",F20*(MIN($C$3*C20,$C$4)*IF(D20>0,$C$5,1)+MIN(IF(E20="",0,E20),$C$4))) -> 11.5 | H20: =IF(ISERR(G20/$G$51),"",G20/$G$51) -> 0.08753568 | I20: =IF(OR('תנאי סף'!AL20<>1,B20="",C20=""),0,1) -> 1
A21: ='תמורה ליוצרים'!A21 -> 11 | B21: ='תמורה ליוצרים'!B21 -> עמדה (עמותת מונטן) | C21: {=IF(B21="","",INDIRECT("'"&SUBSTITUTE($B21,"'","''")&"'"&"!Q3"))} -> 0 | D21: 0 | E21: =IF($B21="","",SUM(INDIRECT("'"&SUBSTITUTE($B21,"'","''")&"'"&"!L3:P3"))) -> 2 | F21: =IF(B21="","",סיווג!D21) -> 1.075 | G21: =IF(OR(B21="",I21<>1),"",F21*(MIN($C$3*C21,$C$4)*IF(D21>0,$C$5,1)+MIN(IF(E21="",0,E21),$C$4))) -> 2.15 | H21: =IF(ISERR(G21/$G$51),"",G21/$G$51) -> 0.016365366 | I21: =IF(OR('תנאי סף'!AL21<>1,B21="",C21=""),0,1) -> 1
A22: ='תמורה ליוצרים'!A22 -> 12 | B22: ='תמורה ליוצרים'!B22 -> עתון 77 (אגודת סופרים ואמנים) | C22: {=IF(B22="","",INDIRECT("'"&SUBSTITUTE($B22,"'","''")&"'"&"!Q3"))} -> 6 | D22: 1 | E22: =IF($B22="","",SUM(INDIRECT("'"&SUBSTITUTE($B22,"'","''")&"'"&"!L3:P3"))) -> 6 | F22: =IF(B22="","",סיווג!D22) -> 1.075 | G22: =IF(OR(B22="",I22<>1),"",F22*(MIN($C$3*C22,$C$4)*IF(D22>0,$C$5,1)+MIN(IF(E22="",0,E22),$C$4))) -> 16.125 | H22: =IF(ISERR(G22/$G$51),"",G22/$G$51) -> 0.12274025 | I22: =IF(OR('תנאי סף'!AL22<>1,B22="",C22=""),0,1) -> 1
A23: ='תמורה ליוצרים'!A23 -> 13 | B23: ='תמורה ליוצרים'!B23 | C23: {=IF(B23="","",INDIRECT("'"&SUBSTITUTE($B23,"'","''")&"'"&"!Q3"))} | E23: =IF($B23="","",SUM(INDIRECT("'"&SUBSTITUTE($B23,"'","''")&"'"&"!L3:P3"))) | F23: =IF(B23="","",סיווג!D23) | G23: =IF(OR(B23="",I23<>1),"",F23*(MIN($C$3*C23,$C$4)*IF(D23>0,$C$5,1)+MIN(IF(E23="",0,E23),$C$4))) | H23: =IF(ISERR(G23/$G$51),"",G23/$G$51) | I23: =IF(OR('תנאי סף'!AL23<>1,B23="",C23=""),0,1) -> 0
A24: ='תמורה ליוצרים'!A24 -> 14 | B24: ='תמורה ליוצרים'!B24 -> פסיפס | C24: {=IF(B24="","",INDIRECT("'"&SUBSTITUTE($B24,"'","''")&"'"&"!Q3"))} -> 2 | D24: 0 | E24: =IF($B24="","",SUM(INDIRECT("'"&SUBSTITUTE($B24,"'","''")&"'"&"!L3:P3"))) -> 2 | F24: =IF(B24="","",סיווג!D24) -> 1.075 | G24: =IF(OR(B24="",I24<>1),"",F24*(MIN($C$3*C24,$C$4)*IF(D24>0,$C$5,1)+MIN(IF(E24="",0,E24),$C$4))) -> 4.3 | H24: =IF(ISERR(G24/$G$51),"",G24/$G$51) -> 0.032730733 | I24: =IF(OR('תנאי סף'!AL24<>1,B24="",C24=""),0,1) -> 1
A25: ='תמורה ליוצרים'!A25 -> 15 | B25: ='תמורה ליוצרים'!B25 -> קתרזיס ( עמותת מצרף) | C25: {=IF(B25="","",INDIRECT("'"&SUBSTITUTE($B25,"'","''")&"'"&"!Q3"))} -> 2 | D25: 0 | E25: =IF($B25="","",SUM(INDIRECT("'"&SUBSTITUTE($B25,"'","''")&"'"&"!L3:P3"))) -> 0 | F25: =IF(B25="","",סיווג!D25) -> 1.075 | G25: =IF(OR(B25="",I25<>1),"",F25*(MIN($C$3*C25,$C$4)*IF(D25>0,$C$5,1)+MIN(IF(E25="",0,E25),$C$4))) -> 2.15 | H25: =IF(ISERR(G25/$G$51),"",G25/$G$51) -> 0.016365366 | I25: =IF(OR('תנאי סף'!AL25<>1,B25="",C25=""),0,1) -> 1
A26: ='תמורה ליוצרים'!A26 -> 16 | B26: ='תמורה ליוצרים'!B26 | C26: {=IF(B26="","",INDIRECT("'"&SUBSTITUTE($B26,"'","''")&"'"&"!Q3"))} | E26: =IF($B26="","",SUM(INDIRECT("'"&SUBSTITUTE($B26,"'","''")&"'"&"!L3:P3"))) | F26: =IF(B26="","",סיווג!D26) | G26: =IF(OR(B26="",I26<>1),"",F26*(MIN($C$3*C26,$C$4)*IF(D26>0,$C$5,1)+MIN(IF(E26="",0,E26),$C$4))) | H26: =IF(ISERR(G26/$G$51),"",G26/$G$51) | I26: =IF(OR('תנאי סף'!AL26<>1,B26="",C26=""),0,1) -> 0
A27: ='תמורה ליוצרים'!A27 -> 17 | B27: ='תמורה ליוצרים'!B27 -> הכיוון מזרח (עמותת אחותי) | C27: {=IF(B27="","",INDIRECT("'"&SUBSTITUTE($B27,"'","''")&"'"&"!Q3"))} -> 0 | D27: 0 | E27: =IF($B27="","",SUM(INDIRECT("'"&SUBSTITUTE($B27,"'","''")&"'"&"!L3:P3"))) -> 0 | F27: =IF(B27="","",סיווג!D27) -> 1.15 | G27: =IF(OR(B27="",I27<>1),"",F27*(MIN($C$3*C27,$C$4)*IF(D27>0,$C$5,1)+MIN(IF(E27="",0,E27),$C$4))) -> 0 | H27: =IF(ISERR(G27/$G$51),"",G27/$G$51) -> 0 | I27: =IF(OR('תנאי סף'!AL27<>1,B27="",C27=""),0,1) -> 1
A28: ='תמורה ליוצרים'!A28 -> 18 | B28: ='תמורה ליוצרים'!B28 | C28: {=IF(B28="","",INDIRECT("'"&SUBSTITUTE($B28,"'","''")&"'"&"!Q3"))} | E28: =IF($B28="","",SUM(INDIRECT("'"&SUBSTITUTE($B28,"'","''")&"'"&"!L3:P3"))) | F28: =IF(B28="","",סיווג!D28) | G28: =IF(OR(B28="",I28<>1),"",F28*(MIN($C$3*C28,$C$4)*IF(D28>0,$C$5,1)+MIN(IF(E28="",0,E28),$C$4))) | H28: =IF(ISERR(G28/$G$51),"",G28/$G$51) | I28: =IF(OR('תנאי סף'!AL28<>1,B28="",C28=""),0,1) -> 0
A29: ='תמורה ליוצרים'!A29 -> 19 | B29: ='תמורה ליוצרים'!B29 -> הו | C29: {=IF(B29="","",INDIRECT("'"&SUBSTITUTE($B29,"'","''")&"'"&"!Q3"))} -> 2 | D29: 0 | E29: =IF($B29="","",SUM(INDIRECT("'"&SUBSTITUTE($B29,"'","''")&"'"&"!L3:P3"))) -> 2 | F29: =IF(B29="","",סיווג!D29) -> 1.15 | G29: =IF(OR(B29="",I29<>1),"",F29*(MIN($C$3*C29,$C$4)*IF(D29>0,$C$5,1)+MIN(IF(E29="",0,E29),$C$4))) -> 4.6 | H29: =IF(ISERR(G29/$G$51),"",G29/$G$51) -> 0.035014272 | I29: =IF(OR('תנאי סף'!AL29<>1,B29="",C29=""),0,1) -> 1
A30: ='תמורה ליוצרים'!A30 -> 20 | B30: ='תמורה ליוצרים'!B30 -> הבא להבא (עמותת מקום לשירה) | C30: {=IF(B30="","",INDIRECT("'"&SUBSTITUTE($B30,"'","''")&"'"&"!Q3"))} -> 3 | D30: 1 | E30: =IF($B30="","",SUM(INDIRECT("'"&SUBSTITUTE($B30,"'","''")&"'"&"!L3:P3"))) -> 0 | F30: =IF(B30="","",סיווג!D30) -> 1.15 | G30: =IF(OR(B30="",I30<>1),"",F30*(MIN($C$3*C30,$C$4)*IF(D30>0,$C$5,1)+MIN(IF(E30="",0,E30),$C$4))) -> 5.175 | H30: =IF(ISERR(G30/$G$51),"",G30/$G$51) -> 0.039391056 | I30: =IF(OR('תנאי סף'!AL30<>1,B30="",C30=""),0,1) -> 1
A31: ='תמורה ליוצרים'!A31 -> 21 | B31: ='תמורה ליוצרים'!B31 -> היסטוריה (החברה ההיסטורית הישרא | C31: {=IF(B31="","",INDIRECT("'"&SUBSTITUTE($B31,"'","''")&"'"&"!Q3"))} -> 0 | D31: 0 | E31: =IF($B31="","",SUM(INDIRECT("'"&SUBSTITUTE($B31,"'","''")&"'"&"!L3:P3"))) -> 2 | F31: =IF(B31="","",סיווג!D31) -> 1.15 | G31: =IF(OR(B31="",I31<>1),"",F31*(MIN($C$3*C31,$C$4)*IF(D31>0,$C$5,1)+MIN(IF(E31="",0,E31),$C$4))) -> 2.3 | H31: =IF(ISERR(G31/$G$51),"",G31/$G$51) -> 0.017507136 | I31: =IF(OR('תנאי סף'!AL31<>1,B31="",C31=""),0,1) -> 1
A32: ='תמורה ליוצרים'!A32 -> 22 | B32: ='תמורה ליוצרים'!B32 -> מחול עכשיו (תמונע) | C32: {=IF(B32="","",INDIRECT("'"&SUBSTITUTE($B32,"'","''")&"'"&"!Q3"))} -> 2 | D32: 1 | E32: =IF($B32="","",SUM(INDIRECT("'"&SUBSTITUTE($B32,"'","''")&"'"&"!L3:P3"))) -> 0 | F32: =IF(B32="","",סיווג!D32) -> 1.15 | G32: =IF(OR(B32="",I32<>1),"",F32*(MIN($C$3*C32,$C$4)*IF(D32>0,$C$5,1)+MIN(IF(E32="",0,E32),$C$4))) -> 3.45 | H32: =IF(ISERR(G32/$G$51),"",G32/$G$51) -> 0.026260704 | I32: =IF(OR('תנאי סף'!AL32<>1,B32="",C32=""),0,1) -> 1
A33: ='תמורה ליוצרים'!A33 -> 23 | B33: ='תמורה ליוצרים'!B33 -> קול אישה שירה (תואר) | C33: {=IF(B33="","",INDIRECT("'"&SUBSTITUTE($B33,"'","''")&"'"&"!Q3"))} -> 2 | D33: 0 | E33: =IF($B33="","",SUM(INDIRECT("'"&SUBSTITUTE($B33,"'","''")&"'"&"!L3:P3"))) -> 0 | F33: =IF(B33="","",סיווג!D33) -> 1 | G33: =IF(OR(B33="",I33<>1),"",F33*(MIN($C$3*C33,$C$4)*IF(D33>0,$C$5,1)+MIN(IF(E33="",0,E33),$C$4))) -> 2 | H33: =IF(ISERR(G33/$G$51),"",G33/$G$51) -> 0.015223597 | I33: =IF(OR('תנאי סף'!AL33<>1,B33="",C33=""),0,1) -> 1
A34: ='תמורה ליוצרים'!A34 -> 24 | B34: ='תמורה ליוצרים'!B34 -> האיגוד העולמי למדעי היהדות | C34: {=IF(B34="","",INDIRECT("'"&SUBSTITUTE($B34,"'","''")&"'"&"!Q3"))} -> 2 | D34: 0 | E34: =IF($B34="","",SUM(INDIRECT("'"&SUBSTITUTE($B34,"'","''")&"'"&"!L3:P3"))) -> 2 | F34: =IF(B34="","",סיווג!D34) -> 1.15 | G34: =IF(OR(B34="",I34<>1),"",F34*(MIN($C$3*C34,$C$4)*IF(D34>0,$C$5,1)+MIN(IF(E34="",0,E34),$C$4))) -> 4.6 | H34: =IF(ISERR(G34/$G$51),"",G34/$G$51) -> 0.035014272 | I34: =IF(OR('תנאי סף'!AL34<>1,B34="",C34=""),0,1) -> 1
A35: ='תמורה ליוצרים'!A35 -> 25 | B35: ='תמורה ליוצרים'!B35 | C35: {=IF(B35="","",INDIRECT("'"&SUBSTITUTE($B35,"'","''")&"'"&"!Q3"))} | E35: =IF($B35="","",SUM(INDIRECT("'"&SUBSTITUTE($B35,"'","''")&"'"&"!L3:P3"))) | F35: =IF(B35="","",סיווג!D35) | G35: =IF(OR(B35="",I35<>1),"",F35*(MIN($C$3*C35,$C$4)*IF(D35>0,$C$5,1)+MIN(IF(E35="",0,E35),$C$4))) | H35: =IF(ISERR(G35/$G$51),"",G35/$G$51) | I35: =IF(OR('תנאי סף'!AL35<>1,B35="",C35=""),0,1) -> 0
A36: ='תמורה ליוצרים'!A36 -> 26 | B36: ='תמורה ליוצרים'!B36 | C36: {=IF(B36="","",INDIRECT("'"&SUBSTITUTE($B36,"'","''")&"'"&"!Q3"))} | E36: =IF($B36="","",SUM(INDIRECT("'"&SUBSTITUTE($B36,"'","''")&"'"&"!L3:P3"))) | F36: =IF(B36="","",סיווג!D36) | G36: =IF(OR(B36="",I36<>1),"",F36*(MIN($C$3*C36,$C$4)*IF(D36>0,$C$5,1)+MIN(IF(E36="",0,E36),$C$4))) | H36: =IF(ISERR(G36/$G$51),"",G36/$G$51) | I36: =IF(OR('תנאי סף'!AL36<>1,B36="",C36=""),0,1) -> 0
A37: ='תמורה ליוצרים'!A37 -> 27 | B37: ='תמורה ליוצרים'!B37 | C37: {=IF(B37="","",INDIRECT("'"&SUBSTITUTE($B37,"'","''")&"'"&"!Q3"))} | E37: =IF($B37="","",SUM(INDIRECT("'"&SUBSTITUTE($B37,"'","''")&"'"&"!L3:P3"))) | F37: =IF(B37="","",סיווג!D37) | G37: =IF(OR(B37="",I37<>1),"",F37*(MIN($C$3*C37,$C$4)*IF(D37>0,$C$5,1)+MIN(IF(E37="",0,E37),$C$4))) | H37: =IF(ISERR(G37/$G$51),"",G37/$G$51) | I37: =IF(OR('תנאי סף'!AL37<>1,B37="",C37=""),0,1) -> 0
A38: ='תמורה ליוצרים'!A38 -> 28 | B38: ='תמורה ליוצרים'!B38 | C38: {=IF(B38="","",INDIRECT("'"&SUBSTITUTE($B38,"'","''")&"'"&"!Q3"))} | E38: =IF($B38="","",SUM(INDIRECT("'"&SUBSTITUTE($B38,"'","''")&"'"&"!L3:P3"))) | F38: =IF(B38="","",סיווג!D38) | G38: =IF(OR(B38="",I38<>1),"",F38*(MIN($C$3*C38,$C$4)*IF(D38>0,$C$5,1)+MIN(IF(E38="",0,E38),$C$4))) | H38: =IF(ISERR(G38/$G$51),"",G38/$G$51) | I38: =IF(OR('תנאי סף'!AL38<>1,B38="",C38=""),0,1) -> 0
A39: ='תמורה ליוצרים'!A39 -> 29 | B39: ='תמורה ליוצרים'!B39 -> גופא (נתיב האומן ) | C39: {=IF(B39="","",INDIRECT("'"&SUBSTITUTE($B39,"'","''")&"'"&"!Q3"))} -> 2 | D39: 0 | E39: =IF($B39="","",SUM(INDIRECT("'"&SUBSTITUTE($B39,"'","''")&"'"&"!L3:P3"))) -> 0 | F39: =IF(B39="","",סיווג!D39) -> 1 | G39: =IF(OR(B39="",I39<>1),"",F39*(MIN($C$3*C39,$C$4)*IF(D39>0,$C$5,1)+MIN(IF(E39="",0,E39),$C$4))) -> 2 | H39: =IF(ISERR(G39/$G$51),"",G39/$G$51) -> 0.015223597 | I39: =IF(OR('תנאי סף'!AL39<>1,B39="",C39=""),0,1) -> 1
A40: ='תמורה ליוצרים'!A40 -> 30 | B40: ='תמורה ליוצרים'!B40 -> ערב רב (בר קיימא) | C40: {=IF(B40="","",INDIRECT("'"&SUBSTITUTE($B40,"'","''")&"'"&"!Q3"))} -> 2 | D40: 1 | E40: =IF($B40="","",SUM(INDIRECT("'"&SUBSTITUTE($B40,"'","''")&"'"&"!L3:P3"))) -> 2 | F40: =IF(B40="","",סיווג!D40) -> 1.075 | G40: =IF(OR(B40="",I40<>1),"",F40*(MIN($C$3*C40,$C$4)*IF(D40>0,$C$5,1)+MIN(IF(E40="",0,E40),$C$4))) -> 5.375 | H40: =IF(ISERR(G40/$G$51),"",G40/$G$51) -> 0.040913416 | I40: =IF(OR('תנאי סף'!AL40<>1,B40="",C40=""),0,1) -> 1
A41: ='תמורה ליוצרים'!A41 -> 31 | B41: ='תמורה ליוצרים'!B41 | C41: {=IF(B41="","",INDIRECT("'"&SUBSTITUTE($B41,"'","''")&"'"&"!Q3"))} | E41: =IF($B41="","",SUM(INDIRECT("'"&SUBSTITUTE($B41,"'","''")&"'"&"!L3:P3"))) | F41: =IF(B41="","",סיווג!D41) | G41: =IF(OR(B41="",I41<>1),"",F41*(MIN($C$3*C41,$C$4)*IF(D41>0,$C$5,1)+MIN(IF(E41="",0,E41),$C$4))) | H41: =IF(ISERR(G41/$G$51),"",G41/$G$51) | I41: =IF(OR('תנאי סף'!AL41<>1,B41="",C41=""),0,1) -> 0
A42: ='תמורה ליוצרים'!A42 -> 32 | B42: ='תמורה ליוצרים'!B42 -> מעלה | C42: {=IF(B42="","",INDIRECT("'"&SUBSTITUTE($B42,"'","''")&"'"&"!Q3"))} -> 4 | D42: 1 | E42: =IF($B42="","",SUM(INDIRECT("'"&SUBSTITUTE($B42,"'","''")&"'"&"!L3:P3"))) -> 4 | F42: =IF(B42="","",סיווג!D42) -> 1.075 | G42: =IF(OR(B42="",I42<>1),"",F42*(MIN($C$3*C42,$C$4)*IF(D42>0,$C$5,1)+MIN(IF(E42="",0,E42),$C$4))) -> 10.75 | H42: =IF(ISERR(G42/$G$51),"",G42/$G$51) -> 0.081826832 | I42: =IF(OR('תנאי סף'!AL42<>1,B42="",C42=""),0,1) -> 1
A43: ='תמורה ליוצרים'!A43 -> 33 | B43: ='תמורה ליוצרים'!B43 | C43: {=IF(B43="","",INDIRECT("'"&SUBSTITUTE($B43,"'","''")&"'"&"!Q3"))} | E43: =IF($B43="","",SUM(INDIRECT("'"&SUBSTITUTE($B43,"'","''")&"'"&"!L3:P3"))) | F43: =IF(B43="","",סיווג!D43) | G43: =IF(OR(B43="",I43<>1),"",F43*(MIN($C$3*C43,$C$4)*IF(D43>0,$C$5,1)+MIN(IF(E43="",0,E43),$C$4))) | H43: =IF(ISERR(G43/$G$51),"",G43/$G$51) | I43: =IF(OR('תנאי סף'!AL43<>1,B43="",C43=""),0,1) -> 0
A44: ='תמורה ליוצרים'!A44 -> 34 | B44: ='תמורה ליוצרים'!B44 -> כתב עת ירושלמי | C44: {=IF(B44="","",INDIRECT("'"&SUBSTITUTE($B44,"'","''")&"'"&"!Q3"))} -> 1 | D44: 0 | E44: =IF($B44="","",SUM(INDIRECT("'"&SUBSTITUTE($B44,"'","''")&"'"&"!L3:P3"))) -> 1 | F44: =IF(B44="","",סיווג!D44) -> 1 | G44: =IF(OR(B44="",I44<>1),"",F44*(MIN($C$3*C44,$C$4)*IF(D44>0,$C$5,1)+MIN(IF(E44="",0,E44),$C$4))) -> 2 | H44: =IF(ISERR(G44/$G$51),"",G44/$G$51) -> 0.015223597 | I44: =IF(OR('תנאי סף'!AL44<>1,B44="",C44=""),0,1) -> 1
A45: ='תמורה ליוצרים'!A45 -> 35 | B45: ='תמורה ליוצרים'!B45 | C45: {=IF(B45="","",INDIRECT("'"&SUBSTITUTE($B45,"'","''")&"'"&"!Q3"))} | E45: =IF($B45="","",SUM(INDIRECT("'"&SUBSTITUTE($B45,"'","''")&"'"&"!L3:P3"))) | F45: =IF(B45="","",סיווג!D45) | G45: =IF(OR(B45="",I45<>1),"",F45*(MIN($C$3*C45,$C$4)*IF(D45>0,$C$5,1)+MIN(IF(E45="",0,E45),$C$4))) | H45: =IF(ISERR(G45/$G$51),"",G45/$G$51) | I45: =IF(OR('תנאי סף'!AL45<>1,B45="",C45=""),0,1) -> 0
A46: ='תמורה ליוצרים'!A46 -> 36 | B46: ='תמורה ליוצרים'!B46 -> העמותה ליצירה פנטסטית- אוטופיה | C46: {=IF(B46="","",INDIRECT("'"&SUBSTITUTE($B46,"'","''")&"'"&"!Q3"))} -> 0 | D46: 0 | E46: =IF($B46="","",SUM(INDIRECT("'"&SUBSTITUTE($B46,"'","''")&"'"&"!L3:P3"))) -> 0 | F46: =IF(B46="","",סיווג!D46) -> 1 | G46: =IF(OR(B46="",I46<>1),"",F46*(MIN($C$3*C46,$C$4)*IF(D46>0,$C$5,1)+MIN(IF(E46="",0,E46),$C$4))) -> 0 | H46: =IF(ISERR(G46/$G$51),"",G46/$G$51) -> 0 | I46: =IF(OR('תנאי סף'!AL46<>1,B46="",C46=""),0,1) -> 1
A47: ='תמורה ליוצרים'!A47 -> 37 | B47: ='תמורה ליוצרים'!B47 | C47: {=IF(B47="","",INDIRECT("'"&SUBSTITUTE($B47,"'","''")&"'"&"!Q3"))} | E47: =IF($B47="","",SUM(INDIRECT("'"&SUBSTITUTE($B47,"'","''")&"'"&"!L3:P3"))) | F47: =IF(B47="","",סיווג!D47) | G47: =IF(OR(B47="",I47<>1),"",F47*(MIN($C$3*C47,$C$4)*IF(D47>0,$C$5,1)+MIN(IF(E47="",0,E47),$C$4))) | H47: =IF(ISERR(G47/$G$51),"",G47/$G$51) | I47: =IF(OR('תנאי סף'!AL47<>1,B47="",C47=""),0,1) -> 0
A48: ='תמורה ליוצרים'!A48 -> 38 | B48: ='תמורה ליוצרים'!B48 | C48: {=IF(B48="","",INDIRECT("'"&SUBSTITUTE($B48,"'","''")&"'"&"!Q3"))} | E48: =IF($B48="","",SUM(INDIRECT("'"&SUBSTITUTE($B48,"'","''")&"'"&"!L3:P3"))) | F48: =IF(B48="","",סיווג!D48) | G48: =IF(OR(B48="",I48<>1),"",F48*(MIN($C$3*C48,$C$4)*IF(D48>0,$C$5,1)+MIN(IF(E48="",0,E48),$C$4))) | H48: =IF(ISERR(G48/$G$51),"",G48/$G$51) | I48: =IF(OR('תנאי סף'!AL48<>1,B48="",C48=""),0,1) -> 0
A49: ='תמורה ליוצרים'!A49 -> 39 | B49: ='תמורה ליוצרים'!B49 | C49: {=IF(B49="","",INDIRECT("'"&SUBSTITUTE($B49,"'","''")&"'"&"!Q3"))} | E49: =IF($B49="","",SUM(INDIRECT("'"&SUBSTITUTE($B49,"'","''")&"'"&"!L3:P3"))) | F49: =IF(B49="","",סיווג!D49) | G49: =IF(OR(B49="",I49<>1),"",F49*(MIN($C$3*C49,$C$4)*IF(D49>0,$C$5,1)+MIN(IF(E49="",0,E49),$C$4))) | H49: =IF(ISERR(G49/$G$51),"",G49/$G$51) | I49: =IF(OR('תנאי סף'!AL49<>1,B49="",C49=""),0,1) -> 0
A50: ='תמורה ליוצרים'!A50 -> 40 | B50: ='תמורה ליוצרים'!B50 | C50: {=IF(B50="","",INDIRECT("'"&SUBSTITUTE($B50,"'","''")&"'"&"!Q3"))} | E50: =IF($B50="","",SUM(INDIRECT("'"&SUBSTITUTE($B50,"'","''")&"'"&"!L3:P3"))) | F50: =IF(B50="","",סיווג!D50) | G50: =IF(OR(B50="",I50<>1),"",F50*(MIN($C$3*C50,$C$4)*IF(D50>0,$C$5,1)+MIN(IF(E50="",0,E50),$C$4))) | H50: =IF(ISERR(G50/$G$51),"",G50/$G$51) | I50: =IF(OR('תנאי סף'!AL50<>1,B50="",C50=""),0,1) -> 0
A51: סה"כ | G51: =SUM(G11:G50) -> 131.375 | H51: =SUM(H11:H50) -> 1

Sheet הפצה
D2: =פרמטרים!B1 -> שנת התקציב | E2: =פרמטרים!C1 -> 2025
D3: =פרמטרים!B2 -> תקציב | E3: =פרמטרים!C2 -> 1906914
A6: ="שיעור יחסי במשתנה "&MID(CELL("filename",E8),FIND("]",CELL("filename",E8),1)+1,99) -> שיעור יחסי במשתנה הפצה
A7: ='תמורה ליוצרים'!A10 -> מספר סידורי | B7: ='תמורה ליוצרים'!B10 -> שם כתב העת | C7: מספר העותקים שהופצו לספריות ציבוריות באמצעות מרכז ההדרכה | D7: מספר העותקים שנמכרו לספריות ציבוריות במחיר שאינו נמוך ממחצית המחיר לציבור | E7: ="ניקוד "&MID(CELL("filename",E8),FIND("]",CELL("filename",E8),1)+1,99) -> ניקוד הפצה | F7: שיעור יחסי
A8: ='תמורה ליוצרים'!A11 -> 1 | B8: ='תמורה ליוצרים'!B11 -> 1280 מעלות (אמנים יוצרים) | E8: =IF(OR(G8<>1,H8<>1,'רמה הפקתית'!G11<>1),"",(MIN($C$4,C8*$C$3)+D8*$C$5)*'רמה הפקתית'!C11) -> 0 | F8: =IF(ISERR(E8/$E$48),"",E8/$E$48) | G8: =IF(ISERR(C8/2),0,IF(OR($B8="",C8<0,C8<>ROUND(C8,0)),0,1)) -> 1 | H8: =IF(ISERR(D8/2),0,IF(OR($B8="",D8<0,D8<>ROUND(D8,0)),0,1)) -> 1
A9: ='תמורה ליוצרים'!A12 -> 2 | B9: ='תמורה ליוצרים'!B12 -> יהי (אורי צבי גרינברג) | E9: =IF(OR(G9<>1,H9<>1,'רמה הפקתית'!G12<>1),"",(MIN($C$4,C9*$C$3)+D9*$C$5)*'רמה הפקתית'!C12) -> 0 | F9: =IF(ISERR(E9/$E$48),"",E9/$E$48) | G9: =IF(ISERR(C9/2),0,IF(OR($B9="",C9<0,C9<>ROUND(C9,0)),0,1)) -> 1 | H9: =IF(ISERR(D9/2),0,IF(OR($B9="",D9<0,D9<>ROUND(D9,0)),0,1)) -> 1
A10: ='תמורה ליוצרים'!A13 -> 3 | B10: ='תמורה ליוצרים'!B13 | E10: =IF(OR(G10<>1,H10<>1,'רמה הפקתית'!G13<>1),"",(MIN($C$4,C10*$C$3)+D10*$C$5)*'רמה הפקתית'!C13) | F10: =IF(ISERR(E10/$E$48),"",E10/$E$48) | G10: =IF(ISERR(C10/2),0,IF(OR($B10="",C10<0,C10<>ROUND(C10,0)),0,1)) -> 0 | H10: =IF(ISERR(D10/2),0,IF(OR($B10="",D10<0,D10<>ROUND(D10,0)),0,1)) -> 0
A11: ='תמורה ליוצרים'!A14 -> 4 | B11: ='תמורה ליוצרים'!B14 -> דעות (ברית נאמני תורה ועבודה) | E11: =IF(OR(G11<>1,H11<>1,'רמה הפקתית'!G14<>1),"",(MIN($C$4,C11*$C$3)+D11*$C$5)*'רמה הפקתית'!C14) -> 0 | F11: =IF(ISERR(E11/$E$48),"",E11/$E$48) | G11: =IF(ISERR(C11/2),0,IF(OR($B11="",C11<0,C11<>ROUND(C11,0)),0,1)) -> 1 | H11: =IF(ISERR(D11/2),0,IF(OR($B11="",D11<0,D11<>ROUND(D11,0)),0,1)) -> 1
A12: ='תמורה ליוצרים'!A15 -> 5 | B12: ='תמורה ליוצרים'!B15 -> הליקון | E12: =IF(OR(G12<>1,H12<>1,'רמה הפקתית'!G15<>1),"",(MIN($C$4,C12*$C$3)+D12*$C$5)*'רמה הפקתית'!C15) -> 0 | F12: =IF(ISERR(E12/$E$48),"",E12/$E$48) | G12: =IF(ISERR(C12/2),0,IF(OR($B12="",C12<0,C12<>ROUND(C12,0)),0,1)) -> 1 | H12: =IF(ISERR(D12/2),0,IF(OR($B12="",D12<0,D12<>ROUND(D12,0)),0,1)) -> 1
A13: ='תמורה ליוצרים'!A16 -> 6 | B13: ='תמורה ליוצרים'!B16 | E13: =IF(OR(G13<>1,H13<>1,'רמה הפקתית'!G16<>1),"",(MIN($C$4,C13*$C$3)+D13*$C$5)*'רמה הפקתית'!C16) | F13: =IF(ISERR(E13/$E$48),"",E13/$E$48) | G13: =IF(ISERR(C13/2),0,IF(OR($B13="",C13<0,C13<>ROUND(C13,0)),0,1)) -> 0 | H13: =IF(ISERR(D13/2),0,IF(OR($B13="",D13<0,D13<>ROUND(D13,0)),0,1)) -> 0
A14: ='תמורה ליוצרים'!A17 -> 7 | B14: ='תמורה ליוצרים'!B17 | E14: =IF(OR(G14<>1,H14<>1,'רמה הפקתית'!G17<>1),"",(MIN($C$4,C14*$C$3)+D14*$C$5)*'רמה הפקתית'!C17) | F14: =IF(ISERR(E14/$E$48),"",E14/$E$48) | G14: =IF(ISERR(C14/2),0,IF(OR($B14="",C14<0,C14<>ROUND(C14,0)),0,1)) -> 0 | H14: =IF(ISERR(D14/2),0,IF(OR($B14="",D14<0,D14<>ROUND(D14,0)),0,1)) -> 0
A15: ='תמורה ליוצרים'!A18 -> 8 | B15: ='תמורה ליוצרים'!B18 -> ננפואטיקה (עמותת מקום לשירה) | E15: =IF(OR(G15<>1,H15<>1,'רמה הפקתית'!G18<>1),"",(MIN($C$4,C15*$C$3)+D15*$C$5)*'רמה הפקתית'!C18) -> 0 | F15: =IF(ISERR(E15/$E$48),"",E15/$E$48) | G15: =IF(ISERR(C15/2),0,IF(OR($B15="",C15<0,C15<>ROUND(C15,0)),0,1)) -> 1 | H15: =IF(ISERR(D15/2),0,IF(OR($B15="",D15<0,D15<>ROUND(D15,0)),0,1)) -> 1
A16: ='תמורה ליוצרים'!A19 -> 9 | B16: ='תמורה ליוצרים'!B19 -> מאזניים (אגודת הסופרים העבריים) | E16: =IF(OR(G16<>1,H16<>1,'רמה הפקתית'!G19<>1),"",(MIN($C$4,C16*$C$3)+D16*$C$5)*'רמה הפקתית'!C19) -> 0 | F16: =IF(ISERR(E16/$E$48),"",E16/$E$48) | G16: =IF(ISERR(C16/2),0,IF(OR($B16="",C16<0,C16<>ROUND(C16,0)),0,1)) -> 1 | H16: =IF(ISERR(D16/2),0,IF(OR($B16="",D16<0,D16<>ROUND(D16,0)),0,1)) -> 1
A17: ='תמורה ליוצרים'!A20 -> 10 | B17: ='תמורה ליוצרים'!B20 -> משיב הרוח | E17: =IF(OR(G17<>1,H17<>1,'רמה הפקתית'!G20<>1),"",(MIN($C$4,C17*$C$3)+D17*$C$5)*'רמה הפקתית'!C20) -> 0 | F17: =IF(ISERR(E17/$E$48),"",E17/$E$48) | G17: =IF(ISERR(C17/2),0,IF(OR($B17="",C17<0,C17<>ROUND(C17,0)),0,1)) -> 1 | H17: =IF(ISERR(D17/2),0,IF(OR($B17="",D17<0,D17<>ROUND(D17,0)),0,1)) -> 1
A18: ='תמורה ליוצרים'!A21 -> 11 | B18: ='תמורה ליוצרים'!B21 -> עמדה (עמותת מונטן) | E18: =IF(OR(G18<>1,H18<>1,'רמה הפקתית'!G21<>1),"",(MIN($C$4,C18*$C$3)+D18*$C$5)*'רמה הפקתית'!C21) -> 0 | F18: =IF(ISERR(E18/$E$48),"",E18/$E$48) | G18: =IF(ISERR(C18/2),0,IF(OR($B18="",C18<0,C18<>ROUND(C18,0)),0,1)) -> 1 | H18: =IF(ISERR(D18/2),0,IF(OR($B18="",D18<0,D18<>ROUND(D18,0)),0,1)) -> 1
A19: ='תמורה ליוצרים'!A22 -> 12 | B19: ='תמורה ליוצרים'!B22 -> עתון 77 (אגודת סופרים ואמנים) | E19: =IF(OR(G19<>1,H19<>1,'רמה הפקתית'!G22<>1),"",(MIN($C$4,C19*$C$3)+D19*$C$5)*'רמה הפקתית'!C22) -> 0 | F19: =IF(ISERR(E19/$E$48),"",E19/$E$48) | G19: =IF(ISERR(C19/2),0,IF(OR($B19="",C19<0,C19<>ROUND(C19,0)),0,1)) -> 1 | H19: =IF(ISERR(D19/2),0,IF(OR($B19="",D19<0,D19<>ROUND(D19,0)),0,1)) -> 1
... A29: ='תמורה ליוצרים'!A32 -> 22 | B29: ='תמורה ליוצרים'!B32 -> מחול עכשיו (תמונע) | E29: =IF(OR(G29<>1,H29<>1,'רמה הפקתית'!G32<>1),"",(MIN($C$4,C29*$C$3)+D29*$C$5)*'רמה הפקתית'!C32) -> 0 | F29: =IF(ISERR(E29/$E$48),"",E29/$E$48) | G29: =IF(ISERR(C29/2),0,IF(OR($B29="",C29<0,C29<>ROUND(C29,0)),0,1)) -> 1 | H29: =IF(ISERR(D29/2),0,IF(OR($B29="",D29<0,D29<>ROUND(D29,0)),0,1)) -> 1
A30: ='תמורה ליוצרים'!A33 -> 23 | B30: ='תמורה ליוצרים'!B43 | E30: =IF(OR(G30<>1,H30<>1,'רמה הפקתית'!G43<>1),"",(MIN($C$4,C30*$C$3)+D30*$C$5)*'רמה הפקתית'!C43) | F30: =IF(ISERR(E30/$E$48),"",E30/$E$48) | G30: =IF(ISERR(C30/2),0,IF(OR($B30="",C30<0,C30<>ROUND(C30,0)),0,1)) -> 0 | H30: =IF(ISERR(D30/2),0,IF(OR($B30="",D30<0,D30<>ROUND(D30,0)),0,1)) -> 0
A31: ='תמורה ליוצרים'!A34 -> 24
A32: ='תמורה ליוצרים'!A35 -> 25
A33: ='תמורה ליוצרים'!A36 -> 26
A34: ='תמורה ליוצרים'!A37 -> 27
A35: ='תמורה ליוצרים'!A38 -> 28
A36: ='תמורה ליוצרים'!A39 -> 29
A37: ='תמורה ליוצרים'!A40 -> 30
A38: ='תמורה ליוצרים'!A41 -> 31
A39: ='תמורה ליוצרים'!A42 -> 32
A40: ='תמורה ליוצרים'!A43 -> 33
A41: ='תמורה ליוצרים'!A44 -> 34
A42: ='תמורה ליוצרים'!A45 -> 35
... A46: ='תמורה ליוצרים'!A49 -> 39
A47: ='תמורה ליוצרים'!A50 -> 40 | B47: ='תמורה ליוצרים'!B50 | E47: =IF(OR(G47<>1,H47<>1,'רמה הפקתית'!G50<>1),"",(MIN($C$4,C47*$C$3)+D47*$C$5)*'רמה הפקתית'!C50) | F47: =IF(ISERR(E47/$E$48),"",E47/$E$48) | G47: =IF(ISERR(C47/2),0,IF(OR($B47="",C47<0,C47<>ROUND(C47,0)),0,1)) -> 0 | H47: =IF(ISERR(D47/2),0,IF(OR($B47="",D47<0,D47<>ROUND(D47,0)),0,1)) -> 0
A48: סה"כ | E48: =SUM(E8:E47) -> 0 | F48: =SUM(F8:F47) -> 0

Sheet וותק
B1: =פרמטרים!#REF! -> #REF! | D1: =פרמטרים!B1 -> שנת התקציב | E1: =פרמטרים!C1 -> 2025
B2: =פרמטרים!#REF! -> #REF! | C2: =פרמטרים!#REF! -> #REF! | D2: =פרמטרים!B2 -> תקציב | E2: =פרמטרים!C2 -> 1906914
B3: =פרמטרים!#REF! -> #REF! | C3: =פרמטרים!#REF! -> #REF!
A4: ="שיעור יחסי במשתנה "&MID(CELL("filename",C6),FIND("]",CELL("filename",C6),1)+1,99) -> שיעור יחסי במשתנה וותק
A5: =הפצה!A7 -> מספר סידורי | B5: =הפצה!B7 -> שם כתב העת | C5: וותק | D5: ="ניקוד "&MID(CELL("filename",C6),FIND("]",CELL("filename",C6),1)+1,99) -> ניקוד וותק | E5: שיעור יחסי
A6: =הפצה!A8 -> 1 | B6: =הפצה!B8 -> 1280 מעלות (אמנים יוצרים) | D6: =IF(OR(F6<>1,C6=""),"",MIN($C$3,C6)) | E6: =IF(ISERR(D6/$D$46),"",D6/$D$46) | F6: =IF(OR(B6="",ISERR(C6/3),C6<0),0,1) -> 1
A7: =הפצה!A9 -> 2 | B7: =הפצה!B9 -> יהי (אורי צבי גרינברג) | D7: =IF(OR(F7<>1,C7=""),"",MIN($C$3,C7)) | E7: =IF(ISERR(D7/$D$46),"",D7/$D$46) | F7: =IF(OR(B7="",ISERR(C7/3),C7<0),0,1) -> 1
A8: =הפצה!A10 -> 3 | B8: =הפצה!B10 | D8: =IF(OR(F8<>1,C8=""),"",MIN($C$3,C8)) | E8: =IF(ISERR(D8/$D$46),"",D8/$D$46) | F8: =IF(OR(B8="",ISERR(C8/3),C8<0),0,1) -> 0
A9: =הפצה!A11 -> 4 | B9: =הפצה!B11 -> דעות (ברית נאמני תורה ועבודה) | D9: =IF(OR(F9<>1,C9=""),"",MIN($C$3,C9)) | E9: =IF(ISERR(D9/$D$46),"",D9/$D$46) | F9: =IF(OR(B9="",ISERR(C9/3),C9<0),0,1) -> 1
A10: =הפצה!A12 -> 5 | B10: =הפצה!B12 -> הליקון | D10: =IF(OR(F10<>1,C10=""),"",MIN($C$3,C10)) | E10: =IF(ISERR(D10/$D$46),"",D10/$D$46) | F10: =IF(OR(B10="",ISERR(C10/3),C10<0),0,1) -> 1
A11: =הפצה!A13 -> 6 | B11: =הפצה!B13 | D11: =IF(OR(F11<>1,C11=""),"",MIN($C$3,C11)) | E11: =IF(ISERR(D11/$D$46),"",D11/$D$46) | F11: =IF(OR(B11="",ISERR(C11/3),C11<0),0,1) -> 0
A12: =הפצה!A14 -> 7 | B12: =הפצה!B14 | D12: =IF(OR(F12<>1,C12=""),"",MIN($C$3,C12)) | E12: =IF(ISERR(D12/$D$46),"",D12/$D$46) | F12: =IF(OR(B12="",ISERR(C12/3),C12<0),0,1) -> 0
A13: =הפצה!A15 -> 8 | B13: =הפצה!B15 -> ננפואטיקה (עמותת מקום לשירה) | D13: =IF(OR(F13<>1,C13=""),"",MIN($C$3,C13)) | E13: =IF(ISERR(D13/$D$46),"",D13/$D$46) | F13: =IF(OR(B13="",ISERR(C13/3),C13<0),0,1) -> 1
A14: =הפצה!A16 -> 9 | B14: =הפצה!B16 -> מאזניים (אגודת הסופרים העבריים) | D14: =IF(OR(F14<>1,C14=""),"",MIN($C$3,C14)) | E14: =IF(ISERR(D14/$D$46),"",D14/$D$46) | F14: =IF(OR(B14="",ISERR(C14/3),C14<0),0,1) -> 1
A15: =הפצה!A17 -> 10 | B15: =הפצה!B17 -> משיב הרוח | D15: =IF(OR(F15<>1,C15=""),"",MIN($C$3,C15)) | E15: =IF(ISERR(D15/$D$46),"",D15/$D$46) | F15: =IF(OR(B15="",ISERR(C15/3),C15<0),0,1) -> 1
A16: =הפצה!A18 -> 11 | B16: =הפצה!B18 -> עמדה (עמותת מונטן) | D16: =IF(OR(F16<>1,C16=""),"",MIN($C$3,C16)) | E16: =IF(ISERR(D16/$D$46),"",D16/$D$46) | F16: =IF(OR(B16="",ISERR(C16/3),C16<0),0,1) -> 1
A17: =הפצה!A19 -> 12 | B17: =הפצה!B19 -> עתון 77 (אגודת סופרים ואמנים) | D17: =IF(OR(F17<>1,C17=""),"",MIN($C$3,C17)) | E17: =IF(ISERR(D17/$D$46),"",D17/$D$46) | F17: =IF(OR(B17="",ISERR(C17/3),C17<0),0,1) -> 1
... A27: =הפצה!A29 -> 22 | B27: =הפצה!B29 -> מחול עכשיו (תמונע) | D27: =IF(OR(F27<>1,C27=""),"",MIN($C$3,C27)) | E27: =IF(ISERR(D27/$D$46),"",D27/$D$46) | F27: =IF(OR(B27="",ISERR(C27/3),C27<0),0,1) -> 1
A28: =הפצה!A30 -> 23
A29: =הפצה!A31 -> 24
A30: =הפצה!A32 -> 25
A31: =הפצה!A33 -> 26
A32: =הפצה!A34 -> 27
A33: =הפצה!A35 -> 28
A34: =הפצה!A36 -> 29
A35: =הפצה!A37 -> 30
A36: =הפצה!A38 -> 31
A37: =הפצה!A39 -> 32
A38: =הפצה!A40 -> 33
A39: =הפצה!A41 -> 34 | B39: =הפצה!B30 | D39: =IF(OR(F39<>1,C39=""),"",MIN($C$3,C39)) | E39: =IF(ISERR(D39/$D$46),"",D39/$D$46) | F39: =IF(OR(B39="",ISERR(C39/3),C39<0),0,1) -> 0
A40: =הפצה!A42 -> 35
A41: =הפצה!A43 -> 36
A42: =הפצה!A44 -> 37
A43: =הפצה!A45 -> 38
A44: =הפצה!A46 -> 39
A45: =הפצה!A47 -> 40 | B45: =הפצה!B47 | D45: =IF(OR(F45<>1,C45=""),"",MIN($C$3,C45)) | E45: =IF(ISERR(D45/$D$46),"",D45/$D$46) | F45: =IF(OR(B45="",ISERR(C45/3),C45<0),0,1) -> 0
A46: סה"כ | D46: =SUM(D6:D45) -> 0 | E46: =SUM(E6:E45) -> 0

Sheet התחשיב הבסיסי
F1: =פרמטרים!$B$1 -> שנת התקציב | G1: =פרמטרים!$C$1 -> 2025 | K1: =G1 -> 2025
F2: =פרמטרים!$B$2 -> תקציב | G2: =פרמטרים!$C$2 -> 1906914 | K2: =G2 -> 1906914
A8: התחשיב הבסיסי
A9: ='היקף החוברות'!A10 -> מספר סידורי | B9: ='היקף החוברות'!B10 -> שם כתב העת | C9: {=TRANSPOSE(פרמטרים!E17:E21)} -> היקף החוברות | D9: רמה הפקתית | E9: תמורה ליוצרים | F9: הפצת כתב העת | G9: סה"כ | H9: #N/A | I9: #N/A | J9: #N/A | K9: שיעור התמיכה | L9: סכום בסיסי
C10: {=TRANSPOSE(פרמטרים!F17:F20)} -> 0.35 | D10: 0.2 | E10: 0.2 | F10: 0.25 | G10: #N/A | H10: #N/A | I10: #N/A | J10: #N/A | K10: =SUM(C10:F10) -> 1 | L10: =G2 -> 1906914
A11: ='היקף החוברות'!A11 -> 1 | B11: ='הפצת כתב העת'!B11 -> 1280 מעלות (אמנים יוצרים) | C11: ='היקף החוברות'!F11 -> 0.02991453 | D11: ='רמה הפקתית'!F11 -> 0.058178752 | E11: ='תמורה ליוצרים'!I11 -> 0 | F11: ='הפצת כתב העת'!H11 -> 0.035014272 | K11: =IF(B11="","",SUMPRODUCT($C$10:$F$10,C11:F11)) -> 0.030859404 | L11: =IF(K11="","",K11*$L$10) -> 58846.229
A12: ='היקף החוברות'!A12 -> 2 | B12: ='הפצת כתב העת'!B12 -> יהי (אורי צבי גרינברג) | C12: ='היקף החוברות'!F12 -> 0.02991453 | D12: ='רמה הפקתית'!F12 -> 0.058178752 | E12: ='תמורה ליוצרים'!I12 -> 0 | F12: ='הפצת כתב העת'!H12 -> 0.04376784 | K12: =IF(B12="","",SUMPRODUCT($C$10:$F$10,C12:F12)) -> 0.033047796 | L12: =IF(K12="","",K12*$L$10) -> 63019.305
A13: ='היקף החוברות'!A13 -> 3 | B13: ='הפצת כתב העת'!B13 | C13: ='היקף החוברות'!F13 | D13: ='רמה הפקתית'!F13 | E13: ='תמורה ליוצרים'!I13 | F13: ='הפצת כתב העת'!H13 | K13: =IF(B13="","",SUMPRODUCT($C$10:$F$10,C13:F13)) | L13: =IF(K13="","",K13*$L$10)
A14: ='היקף החוברות'!A14 -> 4 | B14: ='הפצת כתב העת'!B14 -> דעות (ברית נאמני תורה ועבודה) | C14: ='היקף החוברות'!F14 -> 0.025641026 | D14: ='רמה הפקתית'!F14 -> 0.058178752 | E14: ='תמורה ליוצרים'!I14 -> 0 | F14: ='הפצת כתב העת'!H14 -> 0.06565176 | K14: =IF(B14="","",SUMPRODUCT($C$10:$F$10,C14:F14)) -> 0.037023049 | L14: =IF(K14="","",K14*$L$10) -> 70599.771
A15: ='היקף החוברות'!A15 -> 5 | B15: ='הפצת כתב העת'!B15 -> הליקון | C15: ='היקף החוברות'!F15 -> 0.064102564 | D15: ='רמה הפקתית'!F15 -> 0.058178752 | E15: ='תמורה ליוצרים'!I15 -> 0.0049259435 | F15: ='הפצת כתב העת'!H15 -> 0.039391056 | K15: =IF(B15="","",SUMPRODUCT($C$10:$F$10,C15:F15)) -> 0.044904601 | L15: =IF(K15="","",K15*$L$10) -> 85629.212
A16: ='היקף החוברות'!A16 -> 6 | B16: ='הפצת כתב העת'!B16 | C16: ='היקף החוברות'!F16 | D16: ='רמה הפקתית'!F16 | E16: ='תמורה ליוצרים'!I16 | F16: ='הפצת כתב העת'!H16 | K16: =IF(B16="","",SUMPRODUCT($C$10:$F$10,C16:F16)) | L16: =IF(K16="","",K16*$L$10)
A17: ='היקף החוברות'!A17 -> 7 | B17: ='הפצת כתב העת'!B17 | C17: ='היקף החוברות'!F17 | D17: ='רמה הפקתית'!F17 | E17: ='תמורה ליוצרים'!I17 | F17: ='הפצת כתב העת'!H17 | K17: =IF(B17="","",SUMPRODUCT($C$10:$F$10,C17:F17)) | L17: =IF(K17="","",K17*$L$10)
A18: ='היקף החוברות'!A18 -> 8 | B18: ='הפצת כתב העת'!B18 -> ננפואטיקה (עמותת מקום לשירה) | C18: ='היקף החוברות'!F18 -> 0.10683761 | D18: ='רמה הפקתית'!F18 -> 0.038785835 | E18: ='תמורה ליוצרים'!I18 -> 0.047340444 | F18: ='הפצת כתב העת'!H18 -> 0.1094196 | K18: =IF(B18="","",SUMPRODUCT($C$10:$F$10,C18:F18)) -> 0.081973318 | L18: =IF(K18="","",K18*$L$10) -> 156316.07
