Workbook
Name a: #REF!
Name a: #REF!
Name a: #REF!
Name a: #REF!
Name a: #REF!
Name a: #REF!
Name a: #REF!
Name aa: #REF!
Name b: #REF!
Name DDDD: #REF!
Name ee: #REF!
Name ngf: #REF!

Sheet ProtectSettings
B1: 0.0022241473
B2: 45481.512
A6: AllowFilterCheckBox
A7: AllowFormattingCheckBox
A8: AllowColumnFormattingCheckBox | B8: TRUE
A9: AllowRowFormattingCheckBox | B9: TRUE

Sheet הדרכה למשתמש
B2: הדרכה למשתמש
B4: תאריך בניית המודל | C4: 44643
B5: תאריך עדכון מודל | C5: 44780
B7: הערה חשובה: בעת עריכת המודל - חל איסור מוחלט לבצע גזירה והדבקה או העברה של תא ממקום למקום על ידי גרירה. אסור לבצע "הוספה" או "מחיקה" של שורות או עמודות
B9: הוראת שעה/מעבר:
B11: הדרכה להזנת נתונים
B12: צבע התא | C12: מטרת התא | D12: דגש
B13: צהוב | C13: הזנת נתונים | D13: נדרש להזין מידע בהתאם להנחיות מבחן התמיכה, אי הזנה של תא יכולה להביא לידי שגיאה בתוצאות במודל. במקומות שבהם מזינים 0/1, אז המשמעות של 0 הוא "לא" ו-1 "כן"
B14: חום | C14: הצגת מידע | D14: תא שאיננו מיועד להזנה. תא זה מציג מידע עפ"י נוסחה קבועה ואין לשנות אותה.
B15: אדום | C15: התראת שגיאה | D15: קיימת שגיאה בהזנת נתונים באחד מהתאים המיועדים להזנה, נדרש להזין את הנתונים הנדרשים לפני קביעת גובה תמיכה סופי.
B17: יש לעדכן את שנת התמיכה והתקציב בגיליון פרמטרים לקריטריונים. את רשימת כל ההוצאות לאור של חוברות כתב העת יש להזין בגיליונות העזר. את רשימת המוסדות יש להזין בגיליונות השמאליים של הקובץ הממוספרים מ-1 עד 40 במקום שם הגיליון. במידה והוחלט לא להשתמש בגיליון לאחר כתיבת השם, נדרש לשנות חזרה את שם הגיליון למספרו הסידורי. יש למלא בכל גיליון של משתנה את הנתונים הרלוונטיים. במידה ויש נתון אשר הוזן בגיליון קודם, נתון זה יועבר באופן אוטומטי לגיליונות הרלוונטיים ללא צורך בהזנה חוזרת.

Sheet פרמטרים
B1: שנת התקציב | C1: 2025
B2: תקציב | C2: 1906914
A4: פרמטרים לחישוב ניקוד מספר החוברות | F4: הגדרות
A5: 6 | F5: הגדרת שנה | G5: תאריך התחלה | H5: תאריך סיום
A6: סימול | B6: מספר העמודים | D6: ניקוד | F6: שנת התמיכה | G6: =DATE($C$1,1,1) -> 45658 | H6: =DATE($C$1,12,31) -> 46022
B7: מ- | C7: עד - | F7: שנת ההערכה | G7: =DATE($C$1-3,10,1) -> 44835 | H7: =DATE($C$1-2,9,30) -> 45199 | J7: 45483
A8: א' | B8: 32 | C8: 47 | D8: 1 | F8: שנת התקציב המבוקר | G8: =DATE($C$1-3,1,1) -> 44562 | H8: =DATE($C$1-2,12,31) -> 45291
A9: ב' | B9: 48 | C9: 63 | D9: 2 | F9: שנת כספים קודמת | G9: =DATE($C$1-1,1,1) -> 45292 | H9: =DATE($C$1-1,12,31) -> 45657
A10: ג' | B10: 64 | C10: 79 | D10: 3
A11: ד' | B11: 80 | C11: 95 | D11: 4
A12: ה' | B12: 96 | C12: 1000000 | D12: 5
A13: מחיר מינימום לחוברת | B13: 15
A15: פרמטרים לחישוב ניקוד הפצה באינטרנט | E15: משקל המשתנים בתחשיב הבסיסי
A16: מפתח ניקוד הפצה באינטרנט | E16: משתנה | F16: משקל
A17: סעיף | B17: ניקוד | E17: =MID(CELL("filename",'היקף החוברות'!A9),FIND("]",CELL("filename",'היקף החוברות'!A9),1)+1,99) -> היקף החוברות | F17: 0.35
A18: ניקוד לחוברת שלפחות 60% מתוכנה הוצג באינטרנט בחינם לכלל הציבור | B18: 1 | E18: =MID(CELL("filename",'רמה הפקתית'!C10),FIND("]",CELL("filename",'רמה הפקתית'!C10),1)+1,99) -> רמה הפקתית | F18: 0.2
A19: מקסימום ניקוד לחוברת שחלק משמעותי מתוכנה הוצג באינטרנט | B19: 6 | E19: =MID(CELL("filename",'תמורה ליוצרים'!C13),FIND("]",CELL("filename",'תמורה ליוצרים'!C13),1)+1,99) -> תמורה ליוצרים | F19: 0.2
A20: מכפיל ניקוד להיקף יוצא דופן או רמה מקצועית גבוהה במיוחד | B20: 1.5 | E20: =MID(CELL("filename",'הפצת כתב העת'!C16),FIND("]",CELL("filename",'הפצת כתב העת'!C16),1)+1,99) -> הפצת כתב העת | F20: 0.25
E21: סה"כ | F21: =SUM(F17:F20) -> 1
E23: מכפיל סיווג כתב העת
E24: קבוצה | F24: מכפיל ניקוד
A25: פרמטרים לחישוב מנגנון ההגנה | E25: רמה אמנותית נאותה | F25: 1
A26: מנגנון ההגנה | E26: רמה אמנותית גבוהה | F26: 1.075
A27: סעיף | B27: ערך | E27: רמה אמנותית גבוהה ובעלת תרומה משמעותית | F27: 1.15
A28: שיעור פיחות מירבי בתמיכה | B28: =1-B29 -> 0.2 | D28: בונוס עבור עמידה במגבלות חריגה תקציבית
A29: שיעור תמיכה מינימלי משנה קודמת | B29: 0.8 | D29: סעיף | E29: שיעור | F29: הערות
D30: גרעון שוטף | E30: 0 | F30: תנאים מצטברים
A31: פרמטרים לחישוב הפחתות בגין חריגות שכר | D31: גרעון מצטבר | E31: 0.2
A32: חריגות שכר | D32: שיעור הבונוס | E32: 0.03
A33: מכפלת חריגה | B33: 5
A36: פרמטרים לחישוב הרכב חברי הוועדה
A37: סעיף | B37: ערך
A38: 30% מכלל חברי הוועדה נשים | B38: 0.02
A41: פרמטרים להגדרת כתב עת
A42: סעיף | B42: התנאי
A43: מס' חוברות שיצאו לאור הינו לפחות: | B43: =IF($C$1=2022,1,2) -> 2
A44: מס' עמודים בכל חוברת הינו לפחות: | B44: 32
A45: מס' עותקים של כל אחת מהחוברות לגביהן מבוקשת תמיכה אשר נמכרה לציבור, או הופצה לחנויות ולמנויים הינו לפחות: | B45: 200
A46: שעור התכנים הנכללים בכלל החוברות לגביהן מבוקשת התמיכה, הם יצירה מקורית שלא פורסמה קודם לכן בכל מסגרת אחרת, בשפה העברית או בשפה אחרת שאושרה על ידי המדור הינו לפחות: | B46: 0.7
A47: מרבית התכנים בכל חוברת עוסקים בעשייה האמנותית והמקצועית באחד או יותר מהתחומים הנתמכים על ידי מינהל התרבות, בהתאם למחלקות השונות, ולרבות בתחום מחקר ומורשת
...

Sheet תנאי סף
A1: =פרמטרים!A5 -> 6 | B1: =פרמטרים!B5 -> 0 | C1: =פרמטרים!C5 -> 0 | D1: =פרמטרים!D5 -> 0 | AP1: בדוק נתוני הזנה
A2: =פרמטרים!A6 -> סימול | B2: =פרמטרים!B6 -> מספר העמודים | C2: =פרמטרים!C6 -> 0 | D2: =פרמטרים!D6 -> ניקוד
A3: =פרמטרים!A7 -> 0 | B3: =פרמטרים!B7 -> מ- | C3: =פרמטרים!C7 -> עד - | D3: =פרמטרים!D7 -> 0 | I3: =פרמטרים!B1 -> שנת התקציב | J3: =פרמטרים!C1 -> 2025
A4: =פרמטרים!A8 -> א' | B4: =פרמטרים!B8 -> 32 | C4: =פרמטרים!C8 -> 47 | D4: =פרמטרים!D8 -> 1 | I4: =פרמטרים!B2 -> תקציב | J4: =פרמטרים!C2 -> 1906914
A5: =פרמטרים!A9 -> ב' | B5: =פרמטרים!B9 -> 48 | C5: =פרמטרים!C9 -> 63 | D5: =פרמטרים!D9 -> 2
A6: =פרמטרים!A10 -> ג' | B6: =פרמטרים!B10 -> 64 | C6: =פרמטרים!C10 -> 79 | D6: =פרמטרים!D10 -> 3
A7: =פרמטרים!A11 -> ד' | B7: =פרמטרים!B11 -> 80 | C7: =פרמטרים!C11 -> 95 | D7: =פרמטרים!D11 -> 4
A8: =פרמטרים!A12 -> ה' | B8: =פרמטרים!B12 -> 96 | C8: =פרמטרים!C12 -> 1000000 | D8: =פרמטרים!D12 -> 5
A9: ="בחינת עמידה ב"&MID(CELL("filename",AL9),FIND("]",CELL("filename",AL9),1)+1,99) -> בחינת עמידה בתנאי סף | C9: 4(1) | D9: 4(2) | E9: 4(3) | F9: 4(4) | H9: 4(4ב) | I9: 4(5) | J9: 4(6) | K9: 4(7) | L9: 4(7) | M9: 4(7) | N9: 4(8) | O9: 4(8) | P9: 4(8) | Y9: 5(א)(1) | Z9: 5(א)(2) | AA9: 5(א)(3) | AB9: 5(א)(4) | AC9: 5(ב) | AE9: 5(א)(1) | AF9: 5(ב) | AG9: 5(א)(4) | AH9: 5(א)(5) | AI9: 5(ב) | AJ9: 5(א)(5)
A10: מספר סידורי | B10: שם כתב העת | C10: מועד התחלת הוצאה לאור | D10: מספר שנות ותק | E10: המוסד עומד בדרישות הנוהל ומסר את כל המידע והמסמכים שנתבקש (0/1) | F10: ="המוסד השלים את הגשת כל הדוחות הנדרשים לצורך ניקודו, כשהם מלאים ותקינים, במועד הנדרש "&" (0/1)" -> המוסד השלים את הגשת כל הדוחות הנדרשים לצורך ניקודו, כשהם מלאים ותקינים, במועד הנדרש (0/1) | H10: ="המוסד הגיש תוכנית עבודה כללית לשנת "&YEAR(פרמטרים!$H$6)&" (0/1)" -> המוסד הגיש תוכנית עבודה כללית לשנת 2025 (0/1) | I10: =IF(J3=2022,"המוסד התחייב להוציא לאור חוברת חדשה אחת לפחות בשנת ","המוסד התחייב להוציא לאור 2 חוברות חדשות לפחות בשנת ")&YEAR(פרמטרים!$H$6)&" (0/1)" -> המוסד התחייב להוציא לאור 2 חוברות חדשות לפחות בשנת 2025 (0/1) | J10: המוסד הגיש דוחות ביצוע שוטפים, רבעוניים ושנתיים (0/1) | K10: כתב העת יוצא לאור במסגרת של תאגיד העוסק במגוון תחומים (0/1) | L10: תקציב כתב העת הינו סגור ומובחן מתקציבו הכולל של התאגיד ויש לו הנהלה אמנותית נפרדת (0/1) | M10: עומד בתנאי לעניין מסגרת הוצאת כתב העת (0/1) | N10: שנה ראשונה לקבלת תמיכה (0/1) | O10: ="המוסד הודיע למינהל התרבות על כוונתו להגיש בקשה לא יאוחר מיום 1 במאי "&פרמטרים!$C$1-1&" (0/1)" -> המוסד הודיע למינהל התרבות על כוונתו להגיש בקשה לא יאוחר מיום 1 במאי 2024 (0/1) | P10: עומד בתנאי לעניין הגשה | Y10: עומד בתנאי הוציא לאור מס' חוברות בהיקף מתאים | Z10: מספר החוברות בהן מרבית התכנים בכל חוברת עוסקים בעשייה אומנותית ומקצועית לרבות בתחום מחקר ומורשת, בתחומים הנתמכים על ידי מנהל תרבות | AA10: מספר החוברות בעלות רמה אומנותית והפקתית נאותה | AB10: מספר החוברות בהן מרבית התכנים עוסקים בעשייה אומנותית ומקצועית לרבות בתחום מחקר ומורשת, בתחומים הנתמכים על ידי מנהל תרבות | AC10: אישור מיוחד (0/1) | AD10: סה"כ חוברות העונות להגדרת כתב עת | AE10: מספר חוברות שלא עונות להגדרת כתב עת | AF10: אישור מיוחד (0/1) | AG10: עומד בתנאי כי כל אחת מהחוברות לגביהן מבוקשת תמיכה, נמכרה לציבור, או הופצה לחנויות ולמנויים, ב-200 עותקים לפחות | AH10: שעור משוקלל של יצירה מקורית מהתכנים הנכללים בכל החוברות לגביהן מבוקשת תמיכה | AI10: אישור מיוחד (0/1) | AJ10: עומד בתנאי כי לפחות 70% מהתכנים הנכללים בחוברות הם יצירה מקורית שלא פורסמה קודם לכן במסגרת אחרת | AK10: במוסד בו מועסקים עובדים ביחסי עבודה, המוסד קבע תקנון למניעת הטרדה מינית ועומד בדרישות תקנה 8 לתקנות חובות מעסיק. המוסד צירף לבקשתו את התקנון ופרטים על ההתאמות בתקנון, פרסומו למסירתו. (במוסד בו אין מתכונת יחסי עבודה - יש לסמן 1 עבור תנאי זה) | AL10: עומד בתנאי הסף | AM10: הערות | AU10: ה | AV10: ד | AW10: ג | AX10: ב | AY10: א | AZ10: א | BA10: ב | BB10: ג | BC10: ד | BD10: ה | BE10: 0 | BF10: 1 | BW10: א | BX10: ב | BY10: ג | BZ10: ד | CA10: ה
A11: 1 | B11: =IF('1280 מעלות (אמנים יוצרים)'!$F$1="1","",'1280 מעלות (אמנים יוצרים)'!$F$1) -> 1280 מעלות (אמנים יוצרים) | C11: 36526 | D11: =IF(OR(B11="",C11=""),"",((DATE($J$3,1,1)-C11)/365)) -> 25.019178 | E11: 1 | F11: 1 | H11: 1 | I11: 1 | J11: 1 | K11: 0 | M11: =IF(B11="","",IF(OR(K11=0,AND(K11=1,L11=1)),1,0)) -> 1 | N11: 0 | P11: =IF(B11="","",IF(OR(N11=0,AND(N11=1,O11=1)),1,0)) -> 1 | Y11: =IF(B11="","",IF(AF11=1,1,IF(AND($J$3=2022,Q11=1,AD11>=1),1,IF(AD11>=2,1,0)))) -> 1 | Z11: ='ריכוז גיליונות עזר'!S11 -> 2 | AA11: ='ריכוז גיליונות עזר'!R11 -> 2 | AB11: ='ריכוז גיליונות עזר'!T11 -> 2 | AD11: =IF($B11="","",SUM(INDIRECT("'"&SUBSTITUTE($B11,"'","''")&"'"&"!L2:P2"))) -> 2 | AE11: {=IF($B11="","",IF($F11="","",INDIRECT("'"&SUBSTITUTE($B11,"'","''")&"'"&"!L6")))} -> 0 | AG11: =IF(B11="","",IF(AC11=1,1,IF(AD11+AE11*AF11<=AB11,1,0))) -> 1 | AH11: ='ריכוז גיליונות עזר'!U11 -> 0.93908629 | AJ11: =IF(B11="","",IF(AI11=1,1,IF(AH11>=פרמטרים!$B$46,1,0))) -> 1 | AK11: 1 | AL11: =IFERROR(IF(B11="","",IF(SUM(BG11:BU11)=COUNT(BG11:BU11),1,0)),$AP$1) -> 1 | AP11: =IF(ISERR(ROUND(R11,0)),0,IF(OR(R11<0,$B11="",R11<>ROUND(R11,0)),0,1)) -> 1 | AQ11: =IF(ISERR(ROUND(S11,0)),0,IF(OR(S11<0,$B11="",S11<>ROUND(S11,0)),0,1)) -> 1 | AR11: =IF(ISERR(ROUND(T11,0)),0,IF(OR(T11<0,$B11="",T11<>ROUND(T11,0)),0,1)) -> 1 | AS11: =IF(ISERR(ROUND(U11,0)),0,IF(OR(U11<0,$B11="",U11<>ROUND(U11,0)),0,1)) -> 1 | AT11: {=IF(OR(AP11:AS11=0),0,1)} -> 1 | AU11: =IF(V11<$A$1,V11,$A$1) -> 0 | AV11: =IF(SUM($AU11:AU11)<$A$1,IF(SUM($U11:V11)<$A$1,U11,$A$1-SUM($AU11:AU11)),0) -> 0 | AW11: =IF(SUM($AU11:AV11)<$A$1,IF(SUM($T11:V11)<$A$1,T11,$A$1-SUM($AU11:AV11)),0) -> 0 | AX11: =IF(SUM($AU11:AW11)<$A$1,IF(SUM($S11:V11)<$A$1,S11,$A$1-SUM($AU11:AW11)),0) -> 0 | AY11: =IF(SUM($AU11:AX11)<$A$1,IF(SUM($R11:V11)<$A$1,R11,$A$1-SUM($AU11:AX11)),0) -> 0 | AZ11: =AY11 -> 0 | BA11: =AX11 -> 0 | BB11: =AW11 -> 0 | BC11: =AV11 -> 0 | BD11: =AU11 -> 0 | BE11: =IF($B12="","",BE$10) -> 0 | BF11: =IF($B12="","",BF$10) -> 1 | BG11: =IF(D11="",0,IF(D11<2,0,1)) -> 1 | BH11: =IF(E11="",0,E11) -> 1 | BI11: =IF(F11="",0,F11) -> 1 | BK11: =IF(H11="",0,H11) -> 1 | BL11: =IF(I11="",0,I11) -> 1 | BM11: =IF(J11="",0,J11) -> 1 | BN11: =IF(M11="",0,M11) -> 1 | BO11: =IF(P11="",0,P11) -> 1 | BP11: =IF(Y11="",0,Y11) -> 1 | BQ11: =IF(AC11=1,1,IF(Z11="",0,IF('ריכוז גיליונות עזר'!W11=1,1,0))) -> 1 | BR11: =IF(AC11=1,1,IF(AA11="",0,IF('ריכוז גיליונות עזר'!W11=1,1,0))) -> 1 | BS11: =IF(AG11="",0,AG11) -> 1 | BT11: =IF(AJ11="",0,AJ11) -> 1 | BU11: =IF(AK11="",0,AK11) -> 1 | BW11: =IF(R11*#REF!<200,0,1) -> #REF! | BX11: =IF(S11*#REF!<200,0,1) -> #REF! | BY11: =IF(T11*#REF!<200,0,1) -> #REF! | BZ11: =IF(U11*#REF!<200,0,1) -> #REF! | CA11: =IF(V11*#REF!<200,0,1) -> #REF!
A12: =A11+1 -> 2 | B12: =IF('יהי (אורי צבי גרינברג)'!$F$1="2","",'יהי (אורי צבי גרינברג)'!$F$1) -> יהי (אורי צבי גרינברג) | C12: 43466 | D12: =IF(OR(B12="",C12=""),"",((DATE($J$3,1,1)-C12)/365)) -> 6.0054795 | E12: 1 | F12: 1 | H12: 1 | I12: 1 | J12: 1 | K12: 1 | L12: 1 | M12: =IF(B12="","",IF(OR(K12=0,AND(K12=1,L12=1)),1,0)) -> 1 | N12: 0 | O12: 1 | P12: =IF(B12="","",IF(OR(N12=0,AND(N12=1,O12=1)),1,0)) -> 1 | Y12: =IF(B12="","",IF(AF12=1,1,IF(AND($J$3=2022,Q12=1,AD12>=1),1,IF(AD12>=2,1,0)))) -> 1 | Z12: ='ריכוז גיליונות עזר'!S12 -> 3 | AA12: ='ריכוז גיליונות עזר'!R12 -> 3 | AB12: ='ריכוז גיליונות עזר'!T12 -> 3 | AD12: =IF($B12="","",SUM(INDIRECT("'"&SUBSTITUTE($B12,"'","''")&"'"&"!L2:P2"))) -> 3 | AE12: {=IF($B12="","",IF($F12="","",INDIRECT("'"&SUBSTITUTE($B12,"'","''")&"'"&"!L6")))} -> 0 | AG12: =IF(B12="","",IF(AC12=1,1,IF(SUM(R12:V12)+AE12*AF12<=AB12,1,0))) -> 1 | AH12: ='ריכוז גיליונות עזר'!U12 -> 1 | AJ12: =IF(B12="","",IF(AI12=1,1,IF(AH12>=פרמטרים!$B$46,1,0))) -> 1 | AK12: 1 | AL12: =IFERROR(IF(B12="","",IF(SUM(BG12:BU12)=COUNT(BG12:BU12),1,0)),$AP$1) -> 1 | AP12: =IF(ISERR(ROUND(R12,0)),0,IF(OR(R12<0,$B12="",R12<>ROUND(R12,0)),0,1)) -> 1 | AQ12: =IF(ISERR(ROUND(S12,0)),0,IF(OR(S12<0,$B12="",S12<>ROUND(S12,0)),0,1)) -> 1 | AR12: =IF(ISERR(ROUND(T12,0)),0,IF(OR(T12<0,$B12="",T12<>ROUND(T12,0)),0,1)) -> 1 | AS12: =IF(ISERR(ROUND(U12,0)),0,IF(OR(U12<0,$B12="",U12<>ROUND(U12,0)),0,1)) -> 1 | AT12: {=IF(OR(AP12:AS12=0),0,1)} -> 1 | AU12: =IF(V12<$A$1,V12,$A$1) -> 0 | AV12: =IF(SUM($AU12:AU12)<$A$1,IF(SUM($U12:V12)<$A$1,U12,$A$1-SUM($AU12:AU12)),0) -> 0 | AW12: =IF(SUM($AU12:AV12)<$A$1,IF(SUM($T12:V12)<$A$1,T12,$A$1-SUM($AU12:AV12)),0) -> 0 | AX12: =IF(SUM($AU12:AW12)<$A$1,IF(SUM($S12:V12)<$A$1,S12,$A$1-SUM($AU12:AW12)),0) -> 0 | AY12: =IF(SUM($AU12:AX12)<$A$1,IF(SUM($R12:V12)<$A$1,R12,$A$1-SUM($AU12:AX12)),0) -> 0 | AZ12: =AY12 -> 0 | BA12: =AX12 -> 0 | BB12: =AW12 -> 0 | BC12: =AV12 -> 0 | BD12: =AU12 -> 0 | BE12: =IF($B12="","",BE$10) -> 0 | BF12: =IF($B12="","",BF$10) -> 1 | BG12: =IF(D12="",0,IF(D12<2,0,1)) -> 1 | BH12: =IF(E12="",0,E12) -> 1 | BI12: =IF(F12="",0,F12) -> 1 | BK12: =IF(H12="",0,H12) -> 1 | BL12: =IF(I12="",0,I12) -> 1 | BM12: =IF(J12="",0,J12) -> 1 | BN12: =IF(M12="",0,M12) -> 1 | BO12: =IF(P12="",0,P12) -> 1 | BP12: =IF(Y12="",0,Y12) -> 1 | BQ12: =IF(AC12=1,1,IF(Z12="",0,IF('ריכוז גיליונות עזר'!W12=1,1,0))) -> 1 | BR12: =IF(AC12=1,1,IF(AA12="",0,IF('ריכוז גיליונות עזר'!W12=1,1,0))) -> 1 | BS12: =IF(AG12="",0,AG12) -> 1 | BT12: =IF(AJ12="",0,AJ12) -> 1 | BU12: =IF(AK12="",0,AK12) -> 1 | BW12: =IF(R12*#REF!<200,0,1) -> #REF! | BX12: =IF(S12*#REF!<200,0,1) -> #REF! | BY12: =IF(T12*#REF!<200,0,1) -> #REF! | BZ12: =IF(U12*#REF!<200,0,1) -> #REF! | CA12: =IF(V12*#REF!<200,0,1) -> #REF!
A13: =A12+1 -> 3 | B13: =IF('3'!$F$1="3","",'3'!$F$1) | D13: =IF(OR(B13="",C13=""),"",((DATE($J$3,1,1)-C13)/365)) | M13: =IF(B13="","",IF(OR(K13=0,AND(K13=1,L13=1)),1,0)) | P13: =IF(B13="","",IF(OR(N13=0,AND(N13=1,O13=1)),1,0)) | Y13: =IF(B13="","",IF(AF13=1,1,IF(AND($J$3=2022,Q13=1,AD13>=1),1,IF(AD13>=2,1,0)))) | Z13: ='ריכוז גיליונות עזר'!S13 | AA13: ='ריכוז גיליונות עזר'!R13 | AB13: ='ריכוז גיליונות עזר'!T13 | AD13: =IF($B13="","",SUM(INDIRECT("'"&SUBSTITUTE($B13,"'","''")&"'"&"!L2:P2"))) | AE13: {=IF($B13="","",IF($F13="","",INDIRECT("'"&SUBSTITUTE($B13,"'","''")&"'"&"!L6")))} | AG13: =IF(B13="","",IF(AC13=1,1,IF(SUM(R13:V13)+AE13*AF13<=AB13,1,0))) | AH13: ='ריכוז גיליונות עזר'!U13 | AJ13: =IF(B13="","",IF(AI13=1,1,IF(AH13>=פרמטרים!$B$46,1,0))) | AL13: =IFERROR(IF(B13="","",IF(SUM(BG13:BU13)=COUNT(BG13:BU13),1,0)),$AP$1) | AQ13: =IF(ISERR(ROUND(S13,0)),0,IF(OR(S13<0,$B13="",S13<>ROUND(S13,0)),0,1)) -> 0 | AR13: =IF(ISERR(ROUND(T13,0)),0,IF(OR(T13<0,$B13="",T13<>ROUND(T13,0)),0,1)) -> 0 | AS13: =IF(ISERR(ROUND(U13,0)),0,IF(OR(U13<0,$B13="",U13<>ROUND(U13,0)),0,1)) -> 0 | AT13: {=IF(OR(AP13:AS13=0),0,1)} -> 0 | AU13: =IF(V13<$A$1,V13,$A$1) -> 0 | AV13: =IF(SUM($AU13:AU13)<$A$1,IF(SUM($U13:V13)<$A$1,U13,$A$1-SUM($AU13:AU13)),0) -> 0 | AW13: =IF(SUM($AU13:AV13)<$A$1,IF(SUM($T13:V13)<$A$1,T13,$A$1-SUM($AU13:AV13)),0) -> 0 | AX13: =IF(SUM($AU13:AW13)<$A$1,IF(SUM($S13:V13)<$A$1,S13,$A$1-SUM($AU13:AW13)),0) -> 0 | AY13: =IF(SUM($AU13:AX13)<$A$1,IF(SUM($R13:V13)<$A$1,R13,$A$1-SUM($AU13:AX13)),0) -> 0 | AZ13: =AY13 -> 0 | BA13: =AX13 -> 0 | BB13: =AW13 -> 0 | BC13: =AV13 -> 0 | BD13: =AU13 -> 0 | BE13: =IF($B13="","",BE$10) | BF13: =IF($B13="","",BF$10) | BG13: =IF(D13="",0,IF(D13<2,0,1)) -> 0 | BH13: =IF(E13="",0,E13) -> 0 | BI13: =IF(F13="",0,F13) -> 0 | BK13: =IF(H13="",0,H13) -> 0 | BL13: =IF(I13="",0,I13) -> 0 | BM13: =IF(J13="",0,J13) -> 0 | BN13: =IF(M13="",0,M13) -> 0 | BO13: =IF(P13="",0,P13) -> 0 | BP13: =IF(Y13="",0,Y13) -> 0 | BQ13: =IF(AC13=1,1,IF(Z13="",0,IF('ריכוז גיליונות עזר'!W13=1,1,0))) -> 0 | BR13: =IF(AC13=1,1,IF(AA13="",0,IF('ריכוז גיליונות עזר'!W13=1,1,0))) -> 0 | BS13: =IF(AG13="",0,AG13) -> 0 | BT13: =IF(AJ13="",0,AJ13) -> 0 | BU13: =IF(AK13="",0,AK13) -> 0 | BW13: =IF(R13*#REF!<200,0,1) -> #REF! | BX13: =IF(S13*#REF!<200,0,1) -> #REF! | BY13: =IF(T13*#REF!<200,0,1) -> #REF! | BZ13: =IF(U13*#REF!<200,0,1) -> #REF! | CA13: =IF(V13*#REF!<200,0,1) -> #REF!
A14: =A13+1 -> 4 | B14: =IF('דעות (ברית נאמני תורה ועבודה)'!$F$1="4","",'דעות (ברית נאמני תורה ועבודה)'!$F$1) -> דעות (ברית נאמני תורה ועבודה) | C14: 35796 | D14: =IF(OR(B14="",C14=""),"",((DATE($J$3,1,1)-C14)/365)) -> 27.019178 | E14: 1 | F14: 1 | H14: 1 | I14: 1 | J14: 1 | K14: 0 | M14: =IF(B14="","",IF(OR(K14=0,AND(K14=1,L14=1)),1,0)) -> 1 | N14: 0 | P14: =IF(B14="","",IF(OR(N14=0,AND(N14=1,O14=1)),1,0)) -> 1 | Y14: =IF(B14="","",IF(AF14=1,1,IF(AND($J$3=2022,Q14=1,AD14>=1),1,IF(AD14>=2,1,0)))) -> 1 | Z14: ='ריכוז גיליונות עזר'!S14 -> 3 | AA14: ='ריכוז גיליונות עזר'!R14 -> 3 | AB14: ='ריכוז גיליונות עזר'!T14 -> 3 | AD14: =IF($B14="","",SUM(INDIRECT("'"&SUBSTITUTE($B14,"'","''")&"'"&"!L2:P2"))) -> 3 | AE14: {=IF($B14="","",IF($F14="","",INDIRECT("'"&SUBSTITUTE($B14,"'","''")&"'"&"!L6")))} -> 0 | AG14: =IF(B14="","",IF(AC14=1,1,IF(SUM(R14:V14)+AE14*AF14<=AB14,1,0))) -> 1 | AH14: ='ריכוז גיליונות עזר'!U14 -> 1 | AJ14: =IF(B14="","",IF(AI14=1,1,IF(AH14>=פרמטרים!$B$46,1,0))) -> 1 | AK14: 1 | AL14: =IFERROR(IF(B14="","",IF(SUM(BG14:BU14)=COUNT(BG14:BU14),1,0)),$AP$1) -> 1 | AP14: =IF(ISERR(ROUND(R14,0)),0,IF(OR(R14<0,$B14="",R14<>ROUND(R14,0)),0,1)) -> 1 | AQ14: =IF(ISERR(ROUND(S14,0)),0,IF(OR(S14<0,$B14="",S14<>ROUND(S14,0)),0,1)) -> 1 | AR14: =IF(ISERR(ROUND(T14,0)),0,IF(OR(T14<0,$B14="",T14<>ROUND(T14,0)),0,1)) -> 1 | AS14: =IF(ISERR(ROUND(U14,0)),0,IF(OR(U14<0,$B14="",U14<>ROUND(U14,0)),0,1)) -> 1 | AT14: {=IF(OR(AP14:AS14=0),0,1)} -> 1 | AU14: =IF(V14<$A$1,V14,$A$1) -> 0 | AV14: =IF(SUM($AU14:AU14)<$A$1,IF(SUM($U14:V14)<$A$1,U14,$A$1-SUM($AU14:AU14)),0) -> 0 | AW14: =IF(SUM($AU14:AV14)<$A$1,IF(SUM($T14:V14)<$A$1,T14,$A$1-SUM($AU14:AV14)),0) -> 0 | AX14: =IF(SUM($AU14:AW14)<$A$1,IF(SUM($S14:V14)<$A$1,S14,$A$1-SUM($AU14:AW14)),0) -> 0 | AY14: =IF(SUM($AU14:AX14)<$A$1,IF(SUM($R14:V14)<$A$1,R14,$A$1-SUM($AU14:AX14)),0) -> 0 | AZ14: =AY14 -> 0 | BA14: =AX14 -> 0 | BB14: =AW14 -> 0 | BC14: =AV14 -> 0 | BD14: =AU14 -> 0 | BE14: =IF($B14="","",BE$10) -> 0 | BF14: =IF($B14="","",BF$10) -> 1 | BG14: =IF(D14="",0,IF(D14<2,0,1)) -> 1 | BH14: =IF(E14="",0,E14) -> 1 | BI14: =IF(F14="",0,F14) -> 1 | BK14: =IF(H14="",0,H14) -> 1 | BL14: =IF(I14="",0,I14) -> 1 | BM14: =IF(J14="",0,J14) -> 1 | BN14: =IF(M14="",0,M14) -> 1 | BO14: =IF(P14="",0,P14) -> 1 | BP14: =IF(Y14="",0,Y14) -> 1 | BQ14: =IF(AC14=1,1,IF(Z14="",0,IF('ריכוז גיליונות עזר'!W14=1,1,0))) -> 1 | BR14: =IF(AC14=1,1,IF(AA14="",0,IF('ריכוז גיליונות עזר'!W14=1,1,0))) -> 1 | BS14: =IF(AG14="",0,AG14) -> 1 | BT14: =IF(AJ14="",0,AJ14) -> 1 | BU14: =IF(AK14="",0,AK14) -> 1 | BW14: =IF(R14*#REF!<200,0,1) -> #REF! | BX14: =IF(S14*#REF!<200,0,1) -> #REF! | BY14: =IF(T14*#REF!<200,0,1) -> #REF! | BZ14: =IF(U14*#REF!<200,0,1) -> #REF! | CA14: =IF(V14*#REF!<200,0,1) -> #REF!
A15: =A14+1 -> 5 | B15: =IF(הליקון!$F$1="5","",הליקון!$F$1) -> הליקון | C15: 32874 | D15: =IF(OR(B15="",C15=""),"",((DATE($J$3,1,1)-C15)/365)) -> 35.024658 | E15: 1 | F15: 1 | H15: 1 | I15: 1 | J15: 1 | K15: 1 | L15: 1 | M15: =IF(B15="","",IF(OR(K15=0,AND(K15=1,L15=1)),1,0)) -> 1 | N15: 0 | P15: =IF(B15="","",IF(OR(N15=0,AND(N15=1,O15=1)),1,0)) -> 1 | Y15: =IF(B15="","",IF(AF15=1,1,IF(AND($J$3=2022,Q15=1,AD15>=1),1,IF(AD15>=2,1,0)))) -> 1 | Z15: ='ריכוז גיליונות עזר'!S15 -> 3 | AA15: ='ריכוז גיליונות עזר'!R15 -> 3 | AB15: ='ריכוז גיליונות עזר'!T15 -> 3 | AD15: =IF($B15="","",SUM(INDIRECT("'"&SUBSTITUTE($B15,"'","''")&"'"&"!L2:P2"))) -> 3 | AE15: {=IF($B15="","",IF($F15="","",INDIRECT("'"&SUBSTITUTE($B15,"'","''")&"'"&"!L6")))} -> 0 | AG15: =IF(B15="","",IF(AC15=1,1,IF(SUM(R15:V15)+AE15*AF15<=AB15,1,0))) -> 1 | AH15: ='ריכוז גיליונות עזר'!U15 -> 0.78761062 | AJ15: =IF(B15="","",IF(AI15=1,1,IF(AH15>=פרמטרים!$B$46,1,0))) -> 1 | AK15: 1 | AL15: =IFERROR(IF(B15="","",IF(SUM(BG15:BU15)=COUNT(BG15:BU15),1,0)),$AP$1) -> 1 | AP15: =IF(ISERR(ROUND(R15,0)),0,IF(OR(R15<0,$B15="",R15<>ROUND(R15,0)),0,1)) -> 1 | AQ15: =IF(ISERR(ROUND(S15,0)),0,IF(OR(S15<0,$B15="",S15<>ROUND(S15,0)),0,1)) -> 1 | AR15: =IF(ISERR(ROUND(T15,0)),0,IF(OR(T15<0,$B15="",T15<>ROUND(T15,0)),0,1)) -> 1 | AS15: =IF(ISERR(ROUND(U15,0)),0,IF(OR(U15<0,$B15="",U15<>ROUND(U15,0)),0,1)) -> 1 | AT15: {=IF(OR(AP15:AS15=0),0,1)} -> 1 | AU15: =IF(V15<$A$1,V15,$A$1) -> 0 | AV15: =IF(SUM($AU15:AU15)<$A$1,IF(SUM($U15:V15)<$A$1,U15,$A$1-SUM($AU15:AU15)),0) -> 0 | AW15: =IF(SUM($AU15:AV15)<$A$1,IF(SUM($T15:V15)<$A$1,T15,$A$1-SUM($AU15:AV15)),0) -> 0 | AX15: =IF(SUM($AU15:AW15)<$A$1,IF(SUM($S15:V15)<$A$1,S15,$A$1-SUM($AU15:AW15)),0) -> 0 | AY15: =IF(SUM($AU15:AX15)<$A$1,IF(SUM($R15:V15)<$A$1,R15,$A$1-SUM($AU15:AX15)),0) -> 0 | AZ15: =AY15 -> 0 | BA15: =AX15 -> 0 | BB15: =AW15 -> 0 | BC15: =AV15 -> 0 | BD15: =AU15 -> 0 | BE15: =IF($B15="","",BE$10) -> 0 | BF15: =IF($B15="","",BF$10) -> 1 | BG15: =IF(D15="",0,IF(D15<2,0,1)) -> 1 | BH15: =IF(E15="",0,E15) -> 1 | BI15: =IF(F15="",0,F15) -> 1 | BK15: =IF(H15="",0,H15) -> 1 | BL15: =IF(I15="",0,I15) -> 1 | BM15: =IF(J15="",0,J15) -> 1 | BN15: =IF(M15="",0,M15) -> 1 | BO15: =IF(P15="",0,P15) -> 1 | BP15: =IF(Y15="",0,Y15) -> 1 | BQ15: =IF(AC15=1,1,IF(Z15="",0,IF('ריכוז גיליונות עזר'!W15=1,1,0))) -> 1 | BR15: =IF(AC15=1,1,IF(AA15="",0,IF('ריכוז גיליונות עזר'!W15=1,1,0))) -> 1 | BS15: =IF(AG15="",0,AG15) -> 1 | BT15: =IF(AJ15="",0,AJ15) -> 1 | BU15: =IF(AK15="",0,AK15) -> 1 | BW15: =IF(R15*#REF!<200,0,1) -> #REF! | BX15: =IF(S15*#REF!<200,0,1) -> #REF! | BY15: =IF(T15*#REF!<200,0,1) -> #REF! | BZ15: =IF(U15*#REF!<200,0,1) -> #REF! | CA15: =IF(V15*#REF!<200,0,1) -> #REF!
A16: =A15+1 -> 6 | B16: =IF('6'!$F$1="6","",'6'!$F$1) | D16: =IF(OR(B16="",C16=""),"",((DATE($J$3,1,1)-C16)/365)) | M16: =IF(B16="","",IF(OR(K16=0,AND(K16=1,L16=1)),1,0)) | P16: =IF(B16="","",IF(OR(N16=0,AND(N16=1,O16=1)),1,0)) | Y16: =IF(B16="","",IF(AF16=1,1,IF(AND($J$3=2022,Q16=1,AD16>=1),1,IF(AD16>=2,1,0)))) | Z16: ='ריכוז גיליונות עזר'!S16 | AA16: ='ריכוז גיליונות עזר'!R16 | AB16: ='ריכוז גיליונות עזר'!T16 | AD16: =IF($B16="","",SUM(INDIRECT("'"&SUBSTITUTE($B16,"'","''")&"'"&"!L2:P2"))) | AE16: {=IF($B16="","",IF($F16="","",INDIRECT("'"&SUBSTITUTE($B16,"'","''")&"'"&"!L6")))} | AG16: =IF(B16="","",IF(AC16=1,1,IF(SUM(R16:V16)+AE16*AF16<=AB16,1,0))) | AH16: ='ריכוז גיליונות עזר'!U16 | AJ16: =IF(B16="","",IF(AI16=1,1,IF(AH16>=פרמטרים!$B$46,1,0))) | AL16: =IFERROR(IF(B16="","",IF(SUM(BG16:BU16)=COUNT(BG16:BU16),1,0)),$AP$1) | AP16: =IF(ISERR(ROUND(R16,0)),0,IF(OR(R16<0,$B16="",R16<>ROUND(R16,0)),0,1)) -> 0 | AQ16: =IF(ISERR(ROUND(S16,0)),0,IF(OR(S16<0,$B16="",S16<>ROUND(S16,0)),0,1)) -> 0 | AR16: =IF(ISERR(ROUND(T16,0)),0,IF(OR(T16<0,$B16="",T16<>ROUND(T16,0)),0,1)) -> 0 | AS16: =IF(ISERR(ROUND(U16,0)),0,IF(OR(U16<0,$B16="",U16<>ROUND(U16,0)),0,1)) -> 0 | AT16: {=IF(OR(AP16:AS16=0),0,1)} -> 0 | AU16: =IF(V16<$A$1,V16,$A$1) -> 0 | AV16: =IF(SUM($AU16:AU16)<$A$1,IF(SUM($U16:V16)<$A$1,U16,$A$1-SUM($AU16:AU16)),0) -> 0 | AW16: =IF(SUM($AU16:AV16)<$A$1,IF(SUM($T16:V16)<$A$1,T16,$A$1-SUM($AU16:AV16)),0) -> 0 | AX16: =IF(SUM($AU16:AW16)<$A$1,IF(SUM($S16:V16)<$A$1,S16,$A$1-SUM($AU16:AW16)),0) -> 0 | AY16: =IF(SUM($AU16:AX16)<$A$1,IF(SUM($R16:V16)<$A$1,R16,$A$1-SUM($AU16:AX16)),0) -> 0 | AZ16: =AY16 -> 0 | BA16: =AX16 -> 0 | BB16: =AW16 -> 0 | BC16: =AV16 -> 0 | BD16: =AU16 -> 0 | BE16: =IF($B16="","",BE$10) | BF16: =IF($B16="","",BF$10) | BG16: =IF(D16="",0,IF(D16<2,0,1)) -> 0 | BH16: =IF(E16="",0,E16) -> 0 | BI16: =IF(F16="",0,F16) -> 0 | BK16: =IF(H16="",0,H16) -> 0 | BL16: =IF(I16="",0,I16) -> 0 | BM16: =IF(J16="",0,J16) -> 0 | BN16: =IF(M16="",0,M16) -> 0 | BO16: =IF(P16="",0,P16) -> 0 | BP16: =IF(Y16="",0,Y16) -> 0 | BQ16: =IF(AC16=1,1,IF(Z16="",0,IF('ריכוז גיליונות עזר'!W16=1,1,0))) -> 0 | BR16: =IF(AC16=1,1,IF(AA16="",0,IF('ריכוז גיליונות עזר'!W16=1,1,0))) -> 0 | BS16: =IF(AG16="",0,AG16) -> 0 | BT16: =IF(AJ16="",0,AJ16) -> 0 | BU16: =IF(AK16="",0,AK16) -> 0 | BW16: =IF(R16*#REF!<200,0,1) -> #REF! | BX16: =IF(S16*#REF!<200,0,1) -> #REF! | BY16: =IF(T16*#REF!<200,0,1) -> #REF! | BZ16: =IF(U16*#REF!<200,0,1) -> #REF! | CA16: =IF(V16*#REF!<200,0,1) -> #REF!
A17: =A16+1 -> 7 | B17: =IF('7'!$F$1="7","",'7'!$F$1) | D17: =IF(OR(B17="",C17=""),"",((DATE($J$3,1,1)-C17)/365)) | M17: =IF(B17="","",IF(OR(K17=0,AND(K17=1,L17=1)),1,0)) | P17: =IF(B17="","",IF(OR(N17=0,AND(N17=1,O17=1)),1,0)) | Y17: =IF(B17="","",IF(AF17=1,1,IF(AND($J$3=2022,Q17=1,AD17>=1),1,IF(AD17>=2,1,0)))) | Z17: ='ריכוז גיליונות עזר'!S17 | AA17: ='ריכוז גיליונות עזר'!R17 | AB17: ='ריכוז גיליונות עזר'!T17 | AD17: =IF($B17="","",SUM(INDIRECT("'"&SUBSTITUTE($B17,"'","''")&"'"&"!L2:P2"))) | AE17: {=IF($B17="","",IF($F17="","",INDIRECT("'"&SUBSTITUTE($B17,"'","''")&"'"&"!L6")))} | AG17: =IF(B17="","",IF(AC17=1,1,IF(SUM(R17:V17)+AE17*AF17<=AB17,1,0))) | AH17: ='ריכוז גיליונות עזר'!U17 | AJ17: =IF(B17="","",IF(AI17=1,1,IF(AH17>=פרמטרים!$B$46,1,0))) | AL17: =IFERROR(IF(B17="","",IF(SUM(BG17:BU17)=COUNT(BG17:BU17),1,0)),$AP$1) | AP17: =IF(ISERR(ROUND(R17,0)),0,IF(OR(R17<0,$B17="",R17<>ROUND(R17,0)),0,1)) -> 0 | AQ17: =IF(ISERR(ROUND(S17,0)),0,IF(OR(S17<0,$B17="",S17<>ROUND(S17,0)),0,1)) -> 0 | AR17: =IF(ISERR(ROUND(T17,0)),0,IF(OR(T17<0,$B17="",T17<>ROUND(T17,0)),0,1)) -> 0 | AS17: =IF(ISERR(ROUND(U17,0)),0,IF(OR(U17<0,$B17="",U17<>ROUND(U17,0)),0,1)) -> 0 | AT17: {=IF(OR(AP17:AS17=0),0,1)} -> 0 | AU17: =IF(V17<$A$1,V17,$A$1) -> 0 | AV17: =IF(SUM($AU17:AU17)<$A$1,IF(SUM($U17:V17)<$A$1,U17,$A$1-SUM($AU17:AU17)),0) -> 0 | AW17: =IF(SUM($AU17:AV17)<$A$1,IF(SUM($T17:V17)<$A$1,T17,$A$1-SUM($AU17:AV17)),0) -> 0 | AX17: =IF(SUM($AU17:AW17)<$A$1,IF(SUM($S17:V17)<$A$1,S17,$A$1-SUM($AU17:AW17)),0) -> 0 | AY17: =IF(SUM($AU17:AX17)<$A$1,IF(SUM($R17:V17)<$A$1,R17,$A$1-SUM($AU17:AX17)),0) -> 0 | AZ17: =AY17 -> 0 | BA17: =AX17 -> 0 | BB17: =AW17 -> 0 | BC17: =AV17 -> 0 | BD17: =AU17 -> 0 | BE17: =IF($B17="","",BE$10) | BF17: =IF($B17="","",BF$10) | BG17: =IF(D17="",0,IF(D17<2,0,1)) -> 0 | BH17: =IF(E17="",0,E17) -> 0 | BI17: =IF(F17="",0,F17) -> 0 | BK17: =IF(H17="",0,H17) -> 0 | BL17: =IF(I17="",0,I17) -> 0 | BM17: =IF(J17="",0,J17) -> 0 | BN17: =IF(M17="",0,M17) -> 0 | BO17: =IF(P17="",0,P17) -> 0 | BP17: =IF(Y17="",0,Y17) -> 0 | BQ17: =IF(AC17=1,1,IF(Z17="",0,IF('ריכוז גיליונות עזר'!W17=1,1,0))) -> 0 | BR17: =IF(AC17=1,1,IF(AA17="",0,IF('ריכוז גיליונות עזר'!W17=1,1,0))) -> 0 | BS17: =IF(AG17="",0,AG17) -> 0 | BT17: =IF(AJ17="",0,AJ17) -> 0 | BU17: =IF(AK17="",0,AK17) -> 0 | BW17: =IF(R17*#REF!<200,0,1) -> #REF! | BX17: =IF(S17*#REF!<200,0,1) -> #REF! | BY17: =IF(T17*#REF!<200,0,1) -> #REF! | BZ17: =IF(U17*#REF!<200,0,1) -> #REF! | CA17: =IF(V17*#REF!<200,0,1) -> #REF!
A18: =A17+1 -> 8 | B18: =IF('ננפואטיקה (עמותת מקום לשירה)'!$F$1="8","",'ננפואטיקה (עמותת מקום לשירה)'!$F$1) -> ננפואטיקה (עמותת מקום לשירה) | C18: 41640 | D18: =IF(OR(B18="",C18=""),"",((DATE($J$3,1,1)-C18)/365)) -> 11.008219 | E18: 1 | F18: 1 | H18: 1 | I18: 1 | J18: 1 | K18: 1 | L18: 1 | M18: =IF(B18="","",IF(OR(K18=0,AND(K18=1,L18=1)),1,0)) -> 1 | N18: 0 | P18: =IF(B18="","",IF(OR(N18=0,AND(N18=1,O18=1)),1,0)) -> 1 | Y18: =IF(B18="","",IF(AF18=1,1,IF(AND($J$3=2022,Q18=1,AD18>=1),1,IF(AD18>=2,1,0)))) -> 1 | Z18: ='ריכוז גיליונות עזר'!S18 -> 5 | AA18: ='ריכוז גיליונות עזר'!R18 -> 5 | AB18: ='ריכוז גיליונות עזר'!T18 -> 5 | AD18: =IF($B18="","",SUM(INDIRECT("'"&SUBSTITUTE($B18,"'","''")&"'"&"!L2:P2"))) -> 5 | AE18: {=IF($B18="","",IF($F18="","",INDIRECT("'"&SUBSTITUTE($B18,"'","''")&"'"&"!L6")))} -> 0 | AG18: =IF(B18="","",IF(AC18=1,1,IF(SUM(R18:V18)+AE18*AF18<=AB18,1,0))) -> 1 | AH18: ='ריכוז גיליונות עזר'!U18 -> 0.97289157 | AJ18: =IF(B18="","",IF(AI18=1,1,IF(AH18>=פרמטרים!$B$46,1,0))) -> 1 | AK18: 1 | AL18: =IFERROR(IF(B18="","",IF(SUM(BG18:BU18)=COUNT(BG18:BU18),1,0)),$AP$1) -> 1 | AP18: =IF(ISERR(ROUND(R18,0)),0,IF(OR(R18<0,$B18="",R18<>ROUND(R18,0)),0,1)) -> 1 | AQ18: =IF(ISERR(ROUND(S18,0)),0,IF(OR(S18<0,$B18="",S18<>ROUND(S18,0)),0,1)) -> 1 | AR18: =IF(ISERR(ROUND(T18,0)),0,IF(OR(T18<0,$B18="",T18<>ROUND(T18,0)),0,1)) -> 1 | AS18: =IF(ISERR(ROUND(U18,0)),0,IF(OR(U18<0,$B18="",U18<>ROUND(U18,0)),0,1)) -> 1 | AT18: {=IF(OR(AP18:AS18=0),0,1)} -> 1 | AU18: =IF(V18<$A$1,V18,$A$1) -> 0 | AV18: =IF(SUM($AU18:AU18)<$A$1,IF(SUM($U18:V18)<$A$1,U18,$A$1-SUM($AU18:AU18)),0) -> 0 | AW18: =IF(SUM($AU18:AV18)<$A$1,IF(SUM($T18:V18)<$A$1,T18,$A$1-SUM($AU18:AV18)),0) -> 0 | AX18: =IF(SUM($AU18:AW18)<$A$1,IF(SUM($S18:V18)<$A$1,S18,$A$1-SUM($AU18:AW18)),0) -> 0 | AY18: =IF(SUM($AU18:AX18)<$A$1,IF(SUM($R18:V18)<$A$1,R18,$A$1-SUM($AU18:AX18)),0) -> 0 | AZ18: =AY18 -> 0 | BA18: =AX18 -> 0 | BB18: =AW18 -> 0 | BC18: =AV18 -> 0 | BD18: =AU18 -> 0 | BE18: =IF($B18="","",BE$10) -> 0 | BF18: =IF($B18="","",BF$10) -> 1 | BG18: =IF(D18="",0,IF(D18<2,0,1)) -> 1 | BH18: =IF(E18="",0,E18) -> 1 | BI18: =IF(F18="",0,F18) -> 1 | BK18: =IF(H18="",0,H18) -> 1 | BL18: =IF(I18="",0,I18) -> 1 | BM18: =IF(J18="",0,J18) -> 1 | BN18: =IF(M18="",0,M18) -> 1 | BO18: =IF(P18="",0,P18) -> 1 | BP18: =IF(Y18="",0,Y18) -> 1 | BQ18: =IF(AC18=1,1,IF(Z18="",0,IF('ריכוז גיליונות עזר'!W18=1,1,0))) -> 1 | BR18: =IF(AC18=1,1,IF(AA18="",0,IF('ריכוז גיליונות עזר'!W18=1,1,0))) -> 1 | BS18: =IF(AG18="",0,AG18) -> 1 | BT18: =IF(AJ18="",0,AJ18) -> 1 | BU18: =IF(AK18="",0,AK18) -> 1 | BW18: =IF(R18*#REF!<200,0,1) -> #REF! | BX18: =IF(S18*#REF!<200,0,1) -> #REF! | BY18: =IF(T18*#REF!<200,0,1) -> #REF! | BZ18: =IF(U18*#REF!<200,0,1) -> #REF! | CA18: =IF(V18*#REF!<200,0,1) -> #REF!
A19: =A18+1 -> 9 | B19: =IF('מאזניים (אגודת הסופרים העבריים)'!$F$1="9","",'מאזניים (אגודת הסופרים העבריים)'!$F$1) -> מאזניים (אגודת הסופרים העבריים) | C19: 10594 | D19: =IF(OR(B19="",C19=""),"",((DATE($J$3,1,1)-C19)/365)) -> 96.065753 | E19: 1 | F19: 1 | H19: 1 | I19: 1 | J19: 1 | K19: 1 | L19: 1 | M19: =IF(B19="","",IF(OR(K19=0,AND(K19=1,L19=1)),1,0)) -> 1 | N19: 0 | P19: =IF(B19="","",IF(OR(N19=0,AND(N19=1,O19=1)),1,0)) -> 1 | Y19: =IF(B19="","",IF(AF19=1,1,IF(AND($J$3=2022,Q19=1,AD19>=1),1,IF(AD19>=2,1,0)))) -> 1 | Z19: ='ריכוז גיליונות עזר'!S19 -> 5 | AA19: ='ריכוז גיליונות עזר'!R19 -> 5 | AB19: ='ריכוז גיליונות עזר'!T19 -> 5 | AD19: =IF($B19="","",SUM(INDIRECT("'"&SUBSTITUTE($B19,"'","''")&"'"&"!L2:P2"))) -> 5 | AE19: {=IF($B19="","",IF($F19="","",INDIRECT("'"&SUBSTITUTE($B19,"'","''")&"'"&"!L6")))} -> 0 | AG19: =IF(B19="","",IF(AC19=1,1,IF(SUM(R19:V19)+AE19*AF19<=AB19,1,0))) -> 1 | AH19: ='ריכוז גיליונות עזר'!U19 -> 0.97237569 | AJ19: =IF(B19="","",IF(AI19=1,1,IF(AH19>=פרמטרים!$B$46,1,0))) -> 1 | AK19: 1 | AL19: =IFERROR(IF(B19="","",IF(SUM(BG19:BU19)=COUNT(BG19:BU19),1,0)),$AP$1) -> 1 | AP19: =IF(ISERR(ROUND(R19,0)),0,IF(OR(R19<0,$B19="",R19<>ROUND(R19,0)),0,1)) -> 1 | AQ19: =IF(ISERR(ROUND(S19,0)),0,IF(OR(S19<0,$B19="",S19<>ROUND(S19,0)),0,1)) -> 1 | AR19: =IF(ISERR(ROUND(T19,0)),0,IF(OR(T19<0,$B19="",T19<>ROUND(T19,0)),0,1)) -> 1 | AS19: =IF(ISERR(ROUND(U19,0)),0,IF(OR(U19<0,$B19="",U19<>ROUND(U19,0)),0,1)) -> 1 | AT19: {=IF(OR(AP19:AS19=0),0,1)} -> 1 | AU19: =IF(V19<$A$1,V19,$A$1) -> 0 | AV19: =IF(SUM($AU19:AU19)<$A$1,IF(SUM($U19:V19)<$A$1,U19,$A$1-SUM($AU19:AU19)),0) -> 0 | AW19: =IF(SUM($AU19:AV19)<$A$1,IF(SUM($T19:V19)<$A$1,T19,$A$1-SUM($AU19:AV19)),0) -> 0 | AX19: =IF(SUM($AU19:AW19)<$A$1,IF(SUM($S19:V19)<$A$1,S19,$A$1-SUM($AU19:AW19)),0) -> 0 | AY19: =IF(SUM($AU19:AX19)<$A$1,IF(SUM($R19:V19)<$A$1,R19,$A$1-SUM($AU19:AX19)),0) -> 0 | AZ19: =AY19 -> 0 | BA19: =AX19 -> 0 | BB19: =AW19 -> 0 | BC19: =AV19 -> 0 | BD19: =AU19 -> 0 | BE19: =IF($B19="","",BE$10) -> 0 | BF19: =IF($B19="","",BF$10) -> 1 | BG19: =IF(D19="",0,IF(D19<2,0,1)) -> 1 | BH19: =IF(E19="",0,E19) -> 1 | BI19: =IF(F19="",0,F19) -> 1 | BK19: =IF(H19="",0,H19) -> 1 | BL19: =IF(I19="",0,I19) -> 1 | BM19: =IF(J19="",0,J19) -> 1 | BN19: =IF(M19="",0,M19) -> 1 | BO19: =IF(P19="",0,P19) -> 1 | BP19: =IF(Y19="",0,Y19) -> 1 | BQ19: =IF(AC19=1,1,IF(Z19="",0,IF('ריכוז גיליונות עזר'!W19=1,1,0))) -> 1 | BR19: =IF(AC19=1,1,IF(AA19="",0,IF('ריכוז גיליונות עזר'!W19=1,1,0))) -> 1 | BS19: =IF(AG19="",0,AG19) -> 1 | BT19: =IF(AJ19="",0,AJ19) -> 1 | BU19: =IF(AK19="",0,AK19) -> 1 | BW19: =IF(R19*#REF!<200,0,1) -> #REF! | BX19: =IF(S19*#REF!<200,0,1) -> #REF! | BY19: =IF(T19*#REF!<200,0,1) -> #REF! | BZ19: =IF(U19*#REF!<200,0,1) -> #REF! | CA19: =IF(V19*#REF!<200,0,1) -> #REF!
A20: =A19+1 -> 10 | B20: =IF('משיב הרוח'!$F$1="10","",'משיב הרוח'!$F$1) -> משיב הרוח | C20: 34335 | D20: =IF(OR(B20="",C20=""),"",((DATE($J$3,1,1)-C20)/365)) -> 31.021918 | E20: 1 | F20: 1 | H20: 1 | I20: 1 | J20: 1 | K20: 1 | L20: 1 | M20: =IF(B20="","",IF(OR(K20=0,AND(K20=1,L20=1)),1,0)) -> 1 | N20: 0 | P20: =IF(B20="","",IF(OR(N20=0,AND(N20=1,O20=1)),1,0)) -> 1 | Y20: =IF(B20="","",IF(AF20=1,1,IF(AND($J$3=2022,Q20=1,AD20>=1),1,IF(AD20>=2,1,0)))) -> 1 | Z20: ='ריכוז גיליונות עזר'!S20 -> 5 | AA20: ='ריכוז גיליונות עזר'!R20 -> 5 | AB20: ='ריכוז גיליונות עזר'!T20 -> 5 | AD20: =IF($B20="","",SUM(INDIRECT("'"&SUBSTITUTE($B20,"'","''")&"'"&"!L2:P2"))) -> 5 | AE20: {=IF($B20="","",IF($F20="","",INDIRECT("'"&SUBSTITUTE($B20,"'","''")&"'"&"!L6")))} -> 0 | AG20: =IF(B20="","",IF(AC20=1,1,IF(SUM(R20:V20)+AE20*AF20<=AB20,1,0))) -> 1 | AH20: ='ריכוז גיליונות עזר'!U20 -> 0.88978495 | AJ20: =IF(B20="","",IF(AI20=1,1,IF(AH20>=פרמטרים!$B$46,1,0))) -> 1 | AK20: 1 | AL20: =IFERROR(IF(B20="","",IF(SUM(BG20:BU20)=COUNT(BG20:BU20),1,0)),$AP$1) -> 1 | AP20: =IF(ISERR(ROUND(R20,0)),0,IF(OR(R20<0,$B20="",R20<>ROUND(R20,0)),0,1)) -> 1 | AQ20: =IF(ISERR(ROUND(S20,0)),0,IF(OR(S20<0,$B20="",S20<>ROUND(S20,0)),0,1)) -> 1 | AR20: =IF(ISERR(ROUND(T20,0)),0,IF(OR(T20<0,$B20="",T20<>ROUND(T20,0)),0,1)) -> 1 | AS20: =IF(ISERR(ROUND(U20,0)),0,IF(OR(U20<0,$B20="",U20<>ROUND(U20,0)),0,1)) -> 1 | AT20: {=IF(OR(AP20:AS20=0),0,1)} -> 1 | AU20: =IF(V20<$A$1,V20,$A$1) -> 0 | AV20: =IF(SUM($AU20:AU20)<$A$1,IF(SUM($U20:V20)<$A$1,U20,$A$1-SUM($AU20:AU20)),0) -> 0 | AW20: =IF(SUM($AU20:AV20)<$A$1,IF(SUM($T20:V20)<$A$1,T20,$A$1-SUM($AU20:AV20)),0) -> 0 | AX20: =IF(SUM($AU20:AW20)<$A$1,IF(SUM($S20:V20)<$A$1,S20,$A$1-SUM($AU20:AW20)),0) -> 0 | AY20: =IF(SUM($AU20:AX20)<$A$1,IF(SUM($R20:V20)<$A$1,R20,$A$1-SUM($AU20:AX20)),0) -> 0 | AZ20: =AY20 -> 0 | BA20: =AX20 -> 0 | BB20: =AW20 -> 0 | BC20: =AV20 -> 0 | BD20: =AU20 -> 0 | BE20: =IF($B20="","",BE$10) -> 0 | BF20: =IF($B20="","",BF$10) -> 1 | BG20: =IF(D20="",0,IF(D20<2,0,1)) -> 1 | BH20: =IF(E20="",0,E20) -> 1 | BI20: =IF(F20="",0,F20) -> 1 | BK20: =IF(H20="",0,H20) -> 1 | BL20: =IF(I20="",0,I20) -> 1 | BM20: =IF(J20="",0,J20) -> 1 | BN20: =IF(M20="",0,M20) -> 1 | BO20: =IF(P20="",0,P20) -> 1 | BP20: =IF(Y20="",0,Y20) -> 1 | BQ20: =IF(AC20=1,1,IF(Z20="",0,IF('ריכוז גיליונות עזר'!W20=1,1,0))) -> 1 | BR20: =IF(AC20=1,1,IF(AA20="",0,IF('ריכוז גיליונות עזר'!W20=1,1,0))) -> 1 | BS20: =IF(AG20="",0,AG20) -> 1 | BT20: =IF(AJ20="",0,AJ20) -> 1 | BU20: =IF(AK20="",0,AK20) -> 1 | BW20: =IF(R20*#REF!<200,0,1) -> #REF! | BX20: =IF(S20*#REF!<200,0,1) -> #REF! | BY20: =IF(T20*#REF!<200,0,1) -> #REF! | BZ20: =IF(U20*#REF!<200,0,1) -> #REF! | CA20: =IF(V20*#REF!<200,0,1) -> #REF!
A21: =A20+1 -> 11 | B21: =IF('עמדה (עמותת מונטן)'!$F$1="11","",'עמדה (עמותת מונטן)'!$F$1) -> עמדה (עמותת מונטן) | C21: 34700 | D21: =IF(OR(B21="",C21=""),"",((DATE($J$3,1,1)-C21)/365)) -> 30.021918 | E21: 1 | F21: 1 | H21: 1 | I21: 1 | J21: 1 | K21: 0 | M21: =IF(B21="","",IF(OR(K21=0,AND(K21=1,L21=1)),1,0)) -> 1 | N21: 0 | P21: =IF(B21="","",IF(OR(N21=0,AND(N21=1,O21=1)),1,0)) -> 1 | Y21: =IF(B21="","",IF(AF21=1,1,IF(AND($J$3=2022,Q21=1,AD21>=1),1,IF(AD21>=2,1,0)))) -> 1 | Z21: ='ריכוז גיליונות עזר'!S21 -> 2 | AA21: ='ריכוז גיליונות עזר'!R21 -> 2 | AB21: ='ריכוז גיליונות עזר'!T21 -> 2 | AD21: =IF($B21="","",SUM(INDIRECT("'"&SUBSTITUTE($B21,"'","''")&"'"&"!L2:P2"))) -> 2 | AE21: {=IF($B21="","",IF($F21="","",INDIRECT("'"&SUBSTITUTE($B21,"'","''")&"'"&"!L6")))} -> 0 | AG21: =IF(B21="","",IF(AC21=1,1,IF(SUM(R21:V21)+AE21*AF21<=AB21,1,0))) -> 1 | AH21: ='ריכוז גיליונות עזר'!U21 -> 1 | AJ21: =IF(B21="","",IF(AI21=1,1,IF(AH21>=פרמטרים!$B$46,1,0))) -> 1 | AK21: 1 | AL21: =IFERROR(IF(B21="","",IF(SUM(BG21:BU21)=COUNT(BG21:BU21),1,0)),$AP$1) -> 1 | AP21: =IF(ISERR(ROUND(R21,0)),0,IF(OR(R21<0,$B21="",R21<>ROUND(R21,0)),0,1)) -> 1 | AQ21: =IF(ISERR(ROUND(S21,0)),0,IF(OR(S21<0,$B21="",S21<>ROUND(S21,0)),0,1)) -> 1 | AR21: =IF(ISERR(ROUND(T21,0)),0,IF(OR(T21<0,$B21="",T21<>ROUND(T21,0)),0,1)) -> 1 | AS21: =IF(ISERR(ROUND(U21,0)),0,IF(OR(U21<0,$B21="",U21<>ROUND(U21,0)),0,1)) -> 1 | AT21: {=IF(OR(AP21:AS21=0),0,1)} -> 1 | AU21: =IF(V21<$A$1,V21,$A$1) -> 0 | AV21: =IF(SUM($AU21:AU21)<$A$1,IF(SUM($U21:V21)<$A$1,U21,$A$1-SUM($AU21:AU21)),0) -> 0 | AW21: =IF(SUM($AU21:AV21)<$A$1,IF(SUM($T21:V21)<$A$1,T21,$A$1-SUM($AU21:AV21)),0) -> 0 | AX21: =IF(SUM($AU21:AW21)<$A$1,IF(SUM($S21:V21)<$A$1,S21,$A$1-SUM($AU21:AW21)),0) -> 0 | AY21: =IF(SUM($AU21:AX21)<$A$1,IF(SUM($R21:V21)<$A$1,R21,$A$1-SUM($AU21:AX21)),0) -> 0 | AZ21: =AY21 -> 0 | BA21: =AX21 -> 0 | BB21: =AW21 -> 0 | BC21: =AV21 -> 0 | BD21: =AU21 -> 0 | BE21: =IF($B21="","",BE$10) -> 0 | BF21: =IF($B21="","",BF$10) -> 1 | BG21: =IF(D21="",0,IF(D21<2,0,1)) -> 1 | BH21: =IF(E21="",0,E21) -> 1 | BI21: =IF(F21="",0,F21) -> 1 | BK21: =IF(H21="",0,H21) -> 1 | BL21: =IF(I21="",0,I21) -> 1 | BM21: =IF(J21="",0,J21) -> 1 | BN21: =IF(M21="",0,M21) -> 1 | BO21: =IF(P21="",0,P21) -> 1 | BP21: =IF(Y21="",0,Y21) -> 1 | BQ21: =IF(AC21=1,1,IF(Z21="",0,IF('ריכוז גיליונות עזר'!W21=1,1,0))) -> 1 | BR21: =IF(AC21=1,1,IF(AA21="",0,IF('ריכוז גיליונות עזר'!W21=1,1,0))) -> 1 | BS21: =IF(AG21="",0,AG21) -> 1 | BT21: =IF(AJ21="",0,AJ21) -> 1 | BU21: =IF(AK21="",0,AK21) -> 1 | BW21: =IF(R21*#REF!<200,0,1) -> #REF! | BX21: =IF(S21*#REF!<200,0,1) -> #REF! | BY21: =IF(T21*#REF!<200,0,1) -> #REF! | BZ21: =IF(U21*#REF!<200,0,1) -> #REF! | CA21: =IF(V21*#REF!<200,0,1) -> #REF!
A22: =A21+1 -> 12 | B22: =IF('עתון 77 (אגודת סופרים ואמנים)'!$F$1="12","",'עתון 77 (אגודת סופרים ואמנים)'!$F$1) -> עתון 77 (אגודת סופרים ואמנים) | C22: 28126 | D22: =IF(OR(B22="",C22=""),"",((DATE($J$3,1,1)-C22)/365)) -> 48.032877 | E22: 1 | F22: 1 | H22: 1 | I22: 1 | J22: 1 | K22: 0 | L22: 0 | M22: =IF(B22="","",IF(OR(K22=0,AND(K22=1,L22=1)),1,0)) -> 1 | N22: 0 | P22: =IF(B22="","",IF(OR(N22=0,AND(N22=1,O22=1)),1,0)) -> 1 | Y22: =IF(B22="","",IF(AF22=1,1,IF(AND($J$3=2022,Q22=1,AD22>=1),1,IF(AD22>=2,1,0)))) -> 1 | Z22: ='ריכוז גיליונות עזר'!S22 -> 6 | AA22: ='ריכוז גיליונות עזר'!R22 -> 6 | AB22: ='ריכוז גיליונות עזר'!T22 -> 6 | AD22: =IF($B22="","",SUM(INDIRECT("'"&SUBSTITUTE($B22,"'","''")&"'"&"!L2:P2"))) -> 6 | AE22: {=IF($B22="","",IF($F22="","",INDIRECT("'"&SUBSTITUTE($B22,"'","''")&"'"&"!L6")))} -> 0 | AG22: =IF(B22="","",IF(AC22=1,1,IF(SUM(R22:V22)+AE22*AF22<=AB22,1,0))) -> 1 | AH22: ='ריכוז גיליונות עזר'!U22 -> 0.86746988 | AJ22: =IF(B22="","",IF(AI22=1,1,IF(AH22>=פרמטרים!$B$46,1,0))) -> 1 | AK22: 1 | AL22: =IFERROR(IF(B22="","",IF(SUM(BG22:BU22)=COUNT(BG22:BU22),1,0)),$AP$1) -> 1 | AP22: =IF(ISERR(ROUND(R22,0)),0,IF(OR(R22<0,$B22="",R22<>ROUND(R22,0)),0,1)) -> 1 | AQ22: =IF(ISERR(ROUND(S22,0)),0,IF(OR(S22<0,$B22="",S22<>ROUND(S22,0)),0,1)) -> 1 | AR22: =IF(ISERR(ROUND(T22,0)),0,IF(OR(T22<0,$B22="",T22<>ROUND(T22,0)),0,1)) -> 1 | AS22: =IF(ISERR(ROUND(U22,0)),0,IF(OR(U22<0,$B22="",U22<>ROUND(U22,0)),0,1)) -> 1 | AT22: {=IF(OR(AP22:AS22=0),0,1)} -> 1 | AU22: =IF(V22<$A$1,V22,$A$1) -> 0 | AV22: =IF(SUM($AU22:AU22)<$A$1,IF(SUM($U22:V22)<$A$1,U22,$A$1-SUM($AU22:AU22)),0) -> 0 | AW22: =IF(SUM($AU22:AV22)<$A$1,IF(SUM($T22:V22)<$A$1,T22,$A$1-SUM($AU22:AV22)),0) -> 0 | AX22: =IF(SUM($AU22:AW22)<$A$1,IF(SUM($S22:V22)<$A$1,S22,$A$1-SUM($AU22:AW22)),0) -> 0 | AY22: =IF(SUM($AU22:AX22)<$A$1,IF(SUM($R22:V22)<$A$1,R22,$A$1-SUM($AU22:AX22)),0) -> 0 | AZ22: =AY22 -> 0 | BA22: =AX22 -> 0 | BB22: =AW22 -> 0 | BC22: =AV22 -> 0 | BD22: =AU22 -> 0 | BE22: =IF($B22="","",BE$10) -> 0 | BF22: =IF($B22="","",BF$10) -> 1 | BG22: =IF(D22="",0,IF(D22<2,0,1)) -> 1 | BH22: =IF(E22="",0,E22) -> 1 | BI22: =IF(F22="",0,F22) -> 1 | BK22: =IF(H22="",0,H22) -> 1 | BL22: =IF(I22="",0,I22) -> 1 | BM22: =IF(J22="",0,J22) -> 1 | BN22: =IF(M22="",0,M22) -> 1 | BO22: =IF(P22="",0,P22) -> 1 | BP22: =IF(Y22="",0,Y22) -> 1 | BQ22: =IF(AC22=1,1,IF(Z22="",0,IF('ריכוז גיליונות עזר'!W22=1,1,0))) -> 1 | BR22: =IF(AC22=1,1,IF(AA22="",0,IF('ריכוז גיליונות עזר'!W22=1,1,0))) -> 1 | BS22: =IF(AG22="",0,AG22) -> 1 | BT22: =IF(AJ22="",0,AJ22) -> 1 | BU22: =IF(AK22="",0,AK22) -> 1 | BW22: =IF(R22*#REF!<200,0,1) -> #REF! | BX22: =IF(S22*#REF!<200,0,1) -> #REF! | BY22: =IF(T22*#REF!<200,0,1) -> #REF! | BZ22: =IF(U22*#REF!<200,0,1) -> #REF! | CA22: =IF(V22*#REF!<200,0,1) -> #REF!
A23: =A22+1 -> 13 | B23: =IF('13'!$F$1="13","",'13'!$F$1) | D23: =IF(OR(B23="",C23=""),"",((DATE($J$3,1,1)-C23)/365)) | M23: =IF(B23="","",IF(OR(K23=0,AND(K23=1,L23=1)),1,0)) | P23: =IF(B23="","",IF(OR(N23=0,AND(N23=1,O23=1)),1,0)) | Y23: =IF(B23="","",IF(AF23=1,1,IF(AND($J$3=2022,Q23=1,AD23>=1),1,IF(AD23>=2,1,0)))) | Z23: ='ריכוז גיליונות עזר'!S23 | AA23: ='ריכוז גיליונות עזר'!R23 | AB23: ='ריכוז גיליונות עזר'!T23 | AD23: =IF($B23="","",SUM(INDIRECT("'"&SUBSTITUTE($B23,"'","''")&"'"&"!L2:P2"))) | AE23: {=IF($B23="","",IF($F23="","",INDIRECT("'"&SUBSTITUTE($B23,"'","''")&"'"&"!L6")))} | AG23: =IF(B23="","",IF(AC23=1,1,IF(SUM(R23:V23)+AE23*AF23<=AB23,1,0))) | AH23: ='ריכוז גיליונות עזר'!U23 | AJ23: =IF(B23="","",IF(AI23=1,1,IF(AH23>=פרמטרים!$B$46,1,0))) | AL23: =IFERROR(IF(B23="","",IF(SUM(BG23:BU23)=COUNT(BG23:BU23),1,0)),$AP$1) | AP23: =IF(ISERR(ROUND(R23,0)),0,IF(OR(R23<0,$B23="",R23<>ROUND(R23,0)),0,1)) -> 0 | AQ23: =IF(ISERR(ROUND(S23,0)),0,IF(OR(S23<0,$B23="",S23<>ROUND(S23,0)),0,1)) -> 0 | AR23: =IF(ISERR(ROUND(T23,0)),0,IF(OR(T23<0,$B23="",T23<>ROUND(T23,0)),0,1)) -> 0 | AS23: =IF(ISERR(ROUND(U23,0)),0,IF(OR(U23<0,$B23="",U23<>ROUND(U23,0)),0,1)) -> 0 | AT23: {=IF(OR(AP23:AS23=0),0,1)} -> 0 | AU23: =IF(V23<$A$1,V23,$A$1) -> 0 | AV23: =IF(SUM($AU23:AU23)<$A$1,IF(SUM($U23:V23)<$A$1,U23,$A$1-SUM($AU23:AU23)),0) -> 0 | AW23: =IF(SUM($AU23:AV23)<$A$1,IF(SUM($T23:V23)<$A$1,T23,$A$1-SUM($AU23:AV23)),0) -> 0 | AX23: =IF(SUM($AU23:AW23)<$A$1,IF(SUM($S23:V23)<$A$1,S23,$A$1-SUM($AU23:AW23)),0) -> 0 | AY23: =IF(SUM($AU23:AX23)<$A$1,IF(SUM($R23:V23)<$A$1,R23,$A$1-SUM($AU23:AX23)),0) -> 0 | AZ23: =AY23 -> 0 | BA23: =AX23 -> 0 | BB23: =AW23 -> 0 | BC23: =AV23 -> 0 | BD23: =AU23 -> 0 | BE23: =IF($B23="","",BE$10) | BF23: =IF($B23="","",BF$10) | BG23: =IF(D23="",0,IF(D23<2,0,1)) -> 0 | BH23: =IF(E23="",0,E23) -> 0 | BI23: =IF(F23="",0,F23) -> 0 | BK23: =IF(H23="",0,H23) -> 0 | BL23: =IF(I23="",0,I23) -> 0 | BM23: =IF(J23="",0,J23) -> 0 | BN23: =IF(M23="",0,M23) -> 0 | BO23: =IF(P23="",0,P23) -> 0 | BP23: =IF(Y23="",0,Y23) -> 0 | BQ23: =IF(AC23=1,1,IF(Z23="",0,IF('ריכוז גיליונות עזר'!W23=1,1,0))) -> 0 | BR23: =IF(AC23=1,1,IF(AA23="",0,IF('ריכוז גיליונות עזר'!W23=1,1,0))) -> 0 | BS23: =IF(AG23="",0,AG23) -> 0 | BT23: =IF(AJ23="",0,AJ23) -> 0 | BU23: =IF(AK23="",0,AK23) -> 0 | BW23: =IF(R23*#REF!<200,0,1) -> #REF! | BX23: =IF(S23*#REF!<200,0,1) -> #REF! | BY23: =IF(T23*#REF!<200,0,1) -> #REF! | BZ23: =IF(U23*#REF!<200,0,1) -> #REF! | CA23: =IF(V23*#REF!<200,0,1) -> #REF!
A24: =A23+1 -> 14 | B24: =IF(פסיפס!$F$1="14","",פסיפס!$F$1) -> פסיפס | C24: 32509 | D24: =IF(OR(B24="",C24=""),"",((DATE($J$3,1,1)-C24)/365)) -> 36.024658 | E24: 1 | F24: 1 | H24: 1 | I24: 1 | J24: 1 | K24: 0 | M24: =IF(B24="","",IF(OR(K24=0,AND(K24=1,L24=1)),1,0)) -> 1 | N24: 0 | P24: =IF(B24="","",IF(OR(N24=0,AND(N24=1,O24=1)),1,0)) -> 1 | Y24: =IF(B24="","",IF(AF24=1,1,IF(AND($J$3=2022,Q24=1,AD24>=1),1,IF(AD24>=2,1,0)))) -> 1 | Z24: ='ריכוז גיליונות עזר'!S24 -> 2 | AA24: ='ריכוז גיליונות עזר'!R24 -> 2 | AB24: ='ריכוז גיליונות עזר'!T24 -> 2 | AD24: =IF($B24="","",SUM(INDIRECT("'"&SUBSTITUTE($B24,"'","''")&"'"&"!L2:P2"))) -> 2 | AE24: {=IF($B24="","",IF($F24="","",INDIRECT("'"&SUBSTITUTE($B24,"'","''")&"'"&"!L6")))} -> 0 | AG24: =IF(B24="","",IF(AC24=1,1,IF(SUM(R24:V24)+AE24*AF24<=AB24,1,0))) -> 1 | AH24: ='ריכוז גיליונות עזר'!U24 -> 1 | AJ24: =IF(B24="","",IF(AI24=1,1,IF(AH24>=פרמטרים!$B$46,1,0))) -> 1 | AK24: 1 | AL24: =IFERROR(IF(B24="","",IF(SUM(BG24:BU24)=COUNT(BG24:BU24),1,0)),$AP$1) -> 1 | AP24: =IF(ISERR(ROUND(R24,0)),0,IF(OR(R24<0,$B24="",R24<>ROUND(R24,0)),0,1)) -> 1 | AQ24: =IF(ISERR(ROUND(S24,0)),0,IF(OR(S24<0,$B24="",S24<>ROUND(S24,0)),0,1)) -> 1 | AR24: =IF(ISERR(ROUND(T24,0)),0,IF(OR(T24<0,$B24="",T24<>ROUND(T24,0)),0,1)) -> 1 | AS24: =IF(ISERR(ROUND(U24,0)),0,IF(OR(U24<0,$B24="",U24<>ROUND(U24,0)),0,1)) -> 1 | AT24: {=IF(OR(AP24:AS24=0),0,1)} -> 1 | AU24: =IF(V24<$A$1,V24,$A$1) -> 0 | AV24: =IF(SUM($AU24:AU24)<$A$1,IF(SUM($U24:V24)<$A$1,U24,$A$1-SUM($AU24:AU24)),0) -> 0 | AW24: =IF(SUM($AU24:AV24)<$A$1,IF(SUM($T24:V24)<$A$1,T24,$A$1-SUM($AU24:AV24)),0) -> 0 | AX24: =IF(SUM($AU24:AW24)<$A$1,IF(SUM($S24:V24)<$A$1,S24,$A$1-SUM($AU24:AW24)),0) -> 0 | AY24: =IF(SUM($AU24:AX24)<$A$1,IF(SUM($R24:V24)<$A$1,R24,$A$1-SUM($AU24:AX24)),0) -> 0 | AZ24: =AY24 -> 0 | BA24: =AX24 -> 0 | BB24: =AW24 -> 0 | BC24: =AV24 -> 0 | BD24: =AU24 -> 0 | BE24: =IF($B24="","",BE$10) -> 0 | BF24: =IF($B24="","",BF$10) -> 1 | BG24: =IF(D24="",0,IF(D24<2,0,1)) -> 1 | BH24: =IF(E24="",0,E24) -> 1 | BI24: =IF(F24="",0,F24) -> 1 | BK24: =IF(H24="",0,H24) -> 1 | BL24: =IF(I24="",0,I24) -> 1 | BM24: =IF(J24="",0,J24) -> 1 | BN24: =IF(M24="",0,M24) -> 1 | BO24: =IF(P24="",0,P24) -> 1 | BP24: =IF(Y24="",0,Y24) -> 1 | BQ24: =IF(AC24=1,1,IF(Z24="",0,IF('ריכוז גיליונות עזר'!W24=1,1,0))) -> 1 | BR24: =IF(AC24=1,1,IF(AA24="",0,IF('ריכוז גיליונות עזר'!W24=1,1,0))) -> 1 | BS24: =IF(AG24="",0,AG24) -> 1 | BT24: =IF(AJ24="",0,AJ24) -> 1 | BU24: =IF(AK24="",0,AK24) -> 1 | BW24: =IF(R24*#REF!<200,0,1) -> #REF! | BX24: =IF(S24*#REF!<200,0,1) -> #REF! | BY24: =IF(T24*#REF!<200,0,1) -> #REF! | BZ24: =IF(U24*#REF!<200,0,1) -> #REF! | CA24: =IF(V24*#REF!<200,0,1) -> #REF!
A25: =A24+1 -> 15 | B25: =IF('קתרזיס ( עמותת מצרף)'!$F$1="15","",'קתרזיס ( עמותת מצרף)'!$F$1) -> קתרזיס ( עמותת מצרף) | C25: 37622 | D25: =IF(OR(B25="",C25=""),"",((DATE($J$3,1,1)-C25)/365)) -> 22.016438 | E25: 1 | F25: 1 | H25: 1 | I25: 1 | J25: 1 | K25: 0 | M25: =IF(B25="","",IF(OR(K25=0,AND(K25=1,L25=1)),1,0)) -> 1 | N25: 0 | P25: =IF(B25="","",IF(OR(N25=0,AND(N25=1,O25=1)),1,0)) -> 1 | Y25: =IF(B25="","",IF(AF25=1,1,IF(AND($J$3=2022,Q25=1,AD25>=1),1,IF(AD25>=2,1,0)))) -> 1 | Z25: ='ריכוז גיליונות עזר'!S25 -> 2 | AA25: ='ריכוז גיליונות עזר'!R25 -> 2 | AB25: ='ריכוז גיליונות עזר'!T25 -> 2 | AD25: =IF($B25="","",SUM(INDIRECT("'"&SUBSTITUTE($B25,"'","''")&"'"&"!L2:P2"))) -> 2 | AE25: {=IF($B25="","",IF($F25="","",INDIRECT("'"&SUBSTITUTE($B25,"'","''")&"'"&"!L6")))} -> 0 | AG25: =IF(B25="","",IF(AC25=1,1,IF(SUM(R25:V25)+AE25*AF25<=AB25,1,0))) -> 1 | AH25: ='ריכוז גיליונות עזר'!U25 -> 0.70588235 | AJ25: =IF(B25="","",IF(AI25=1,1,IF(AH25>=פרמטרים!$B$46,1,0))) -> 1 | AK25: 1 | AL25: =IFERROR(IF(B25="","",IF(SUM(BG25:BU25)=COUNT(BG25:BU25),1,0)),$AP$1) -> 1 | AP25: =IF(ISERR(ROUND(R25,0)),0,IF(OR(R25<0,$B25="",R25<>ROUND(R25,0)),0,1)) -> 1 | AQ25: =IF(ISERR(ROUND(S25,0)),0,IF(OR(S25<0,$B25="",S25<>ROUND(S25,0)),0,1)) -> 1 | AR25: =IF(ISERR(ROUND(T25,0)),0,IF(OR(T25<0,$B25="",T25<>ROUND(T25,0)),0,1)) -> 1 | AS25: =IF(ISERR(ROUND(U25,0)),0,IF(OR(U25<0,$B25="",U25<>ROUND(U25,0)),0,1)) -> 1 | AT25: {=IF(OR(AP25:AS25=0),0,1)} -> 1 | AU25: =IF(V25<$A$1,V25,$A$1) -> 0 | AV25: =IF(SUM($AU25:AU25)<$A$1,IF(SUM($U25:V25)<$A$1,U25,$A$1-SUM($AU25:AU25)),0) -> 0 | AW25: =IF(SUM($AU25:AV25)<$A$1,IF(SUM($T25:V25)<$A$1,T25,$A$1-SUM($AU25:AV25)),0) -> 0 | AX25: =IF(SUM($AU25:AW25)<$A$1,IF(SUM($S25:V25)<$A$1,S25,$A$1-SUM($AU25:AW25)),0) -> 0 | AY25: =IF(SUM($AU25:AX25)<$A$1,IF(SUM($R25:V25)<$A$1,R25,$A$1-SUM($AU25:AX25)),0) -> 0 | AZ25: =AY25 -> 0 | BA25: =AX25 -> 0 | BB25: =AW25 -> 0 | BC25: =AV25 -> 0 | BD25: =AU25 -> 0 | BE25: =IF($B25="","",BE$10) -> 0 | BF25: =IF($B25="","",BF$10) -> 1 | BG25: =IF(D25="",0,IF(D25<2,0,1)) -> 1 | BH25: =IF(E25="",0,E25) -> 1 | BI25: =IF(F25="",0,F25) -> 1 | BK25: =IF(H25="",0,H25) -> 1 | BL25: =IF(I25="",0,I25) -> 1 | BM25: =IF(J25="",0,J25) -> 1 | BN25: =IF(M25="",0,M25) -> 1 | BO25: =IF(P25="",0,P25) -> 1 | BP25: =IF(Y25="",0,Y25) -> 1 | BQ25: =IF(AC25=1,1,IF(Z25="",0,IF('ריכוז גיליונות עזר'!W25=1,1,0))) -> 1 | BR25: =IF(AC25=1,1,IF(AA25="",0,IF('ריכוז גיליונות עזר'!W25=1,1,0))) -> 1 | BS25: =IF(AG25="",0,AG25) -> 1 | BT25: =IF(AJ25="",0,AJ25) -> 1 | BU25: =IF(AK25="",0,AK25) -> 1 | BW25: =IF(R25*#REF!<200,0,1) -> #REF! | BX25: =IF(S25*#REF!<200,0,1) -> #REF! | BY25: =IF(T25*#REF!<200,0,1) -> #REF! | BZ25: =IF(U25*#REF!<200,0,1) -> #REF! | CA25: =IF(V25*#REF!<200,0,1) -> #REF!
A26: =A25+1 -> 16 | B26: =IF('16'!$F$1="16","",'16'!$F$1) | D26: =IF(OR(B26="",C26=""),"",((DATE($J$3,1,1)-C26)/365)) | M26: =IF(B26="","",IF(OR(K26=0,AND(K26=1,L26=1)),1,0)) | P26: =IF(B26="","",IF(OR(N26=0,AND(N26=1,O26=1)),1,0)) | Y26: =IF(B26="","",IF(AF26=1,1,IF(AND($J$3=2022,Q26=1,AD26>=1),1,IF(AD26>=2,1,0)))) | Z26: ='ריכוז גיליונות עזר'!S26 | AA26: ='ריכוז גיליונות עזר'!R26 | AB26: ='ריכוז גיליונות עזר'!T26 | AD26: =IF($B26="","",SUM(INDIRECT("'"&SUBSTITUTE($B26,"'","''")&"'"&"!L2:P2"))) | AE26: {=IF($B26="","",IF($F26="","",INDIRECT("'"&SUBSTITUTE($B26,"'","''")&"'"&"!L6")))} | AG26: =IF(B26="","",IF(AC26=1,1,IF(AB26=0,0,IF(SUM(R26:V26)+AE26*AF26<=AB26,1,0)))) | AH26: ='ריכוז גיליונות עזר'!U26 | AJ26: =IF(B26="","",IF(AI26=1,1,IF(AH26>=פרמטרים!$B$46,1,0))) | AL26: =IFERROR(IF(B26="","",IF(SUM(BG26:BU26)=COUNT(BG26:BU26),1,0)),$AP$1) | AP26: =IF(ISERR(ROUND(R26,0)),0,IF(OR(R26<0,$B26="",R26<>ROUND(R26,0)),0,1)) -> 0 | AQ26: =IF(ISERR(ROUND(S26,0)),0,IF(OR(S26<0,$B26="",S26<>ROUND(S26,0)),0,1)) -> 0 | AR26: =IF(ISERR(ROUND(T26,0)),0,IF(OR(T26<0,$B26="",T26<>ROUND(T26,0)),0,1)) -> 0 | AS26: =IF(ISERR(ROUND(U26,0)),0,IF(OR(U26<0,$B26="",U26<>ROUND(U26,0)),0,1)) -> 0 | AT26: {=IF(OR(AP26:AS26=0),0,1)} -> 0 | AU26: =IF(V26<$A$1,V26,$A$1) -> 0 | AV26: =IF(SUM($AU26:AU26)<$A$1,IF(SUM($U26:V26)<$A$1,U26,$A$1-SUM($AU26:AU26)),0) -> 0 | AW26: =IF(SUM($AU26:AV26)<$A$1,IF(SUM($T26:V26)<$A$1,T26,$A$1-SUM($AU26:AV26)),0) -> 0 | AX26: =IF(SUM($AU26:AW26)<$A$1,IF(SUM($S26:V26)<$A$1,S26,$A$1-SUM($AU26:AW26)),0) -> 0 | AY26: =IF(SUM($AU26:AX26)<$A$1,IF(SUM($R26:V26)<$A$1,R26,$A$1-SUM($AU26:AX26)),0) -> 0 | AZ26: =AY26 -> 0 | BA26: =AX26 -> 0 | BB26: =AW26 -> 0 | BC26: =AV26 -> 0 | BD26: =AU26 -> 0 | BE26: =IF($B26="","",BE$10) | BF26: =IF($B26="","",BF$10) | BG26: =IF(D26="",0,IF(D26<2,0,1)) -> 0 | BH26: =IF(E26="",0,E26) -> 0 | BI26: =IF(F26="",0,F26) -> 0 | BK26: =IF(H26="",0,H26) -> 0 | BL26: =IF(I26="",0,I26) -> 0 | BM26: =IF(J26="",0,J26) -> 0 | BN26: =IF(M26="",0,M26) -> 0 | BO26: =IF(P26="",0,P26) -> 0 | BP26: =IF(Y26="",0,Y26) -> 0 | BQ26: =IF(AC26=1,1,IF(Z26="",0,IF('ריכוז גיליונות עזר'!W26=1,1,0))) -> 0 | BR26: =IF(AC26=1,1,IF(AA26="",0,IF('ריכוז גיליונות עזר'!W26=1,1,0))) -> 0 | BS26: =IF(AG26="",0,AG26) -> 0 | BT26: =IF(AJ26="",0,AJ26) -> 0 | BU26: =IF(AK26="",0,AK26) -> 0 | BW26: =IF(R26*#REF!<200,0,1) -> #REF! | BX26: =IF(S26*#REF!<200,0,1) -> #REF! | BY26: =IF(T26*#REF!<200,0,1) -> #REF! | BZ26: =IF(U26*#REF!<200,0,1) -> #REF! | CA26: =IF(V26*#REF!<200,0,1) -> #REF!
A27: =A26+1 -> 17 | B27: =IF('הכיוון מזרח (עמותת אחותי)'!$F$1="17","",'הכיוון מזרח (עמותת אחותי)'!$F$1) -> הכיוון מזרח (עמותת אחותי) | C27: 36526 | D27: =IF(OR(B27="",C27=""),"",((DATE($J$3,1,1)-C27)/365)) -> 25.019178 | E27: 1 | F27: 1 | H27: 1 | I27: 1 | J27: 1 | K27: 1 | L27: 1 | M27: =IF(B27="","",IF(OR(K27=0,AND(K27=1,L27=1)),1,0)) -> 1 | N27: 0 | P27: =IF(B27="","",IF(OR(N27=0,AND(N27=1,O27=1)),1,0)) -> 1 | Y27: =IF(B27="","",IF(AF27=1,1,IF(AND($J$3=2022,Q27=1,AD27>=1),1,IF(AD27>=2,1,0)))) -> 1 | Z27: ='ריכוז גיליונות עזר'!S27 -> 2 | AA27: ='ריכוז גיליונות עזר'!R27 -> 2 | AB27: ='ריכוז גיליונות עזר'!T27 -> 2 | AD27: =IF($B27="","",SUM(INDIRECT("'"&SUBSTITUTE($B27,"'","''")&"'"&"!L2:P2"))) -> 2 | AE27: {=IF($B27="","",IF($F27="","",INDIRECT("'"&SUBSTITUTE($B27,"'","''")&"'"&"!L6")))} -> 0 | AG27: =IF(B27="","",IF(AC27=1,1,IF(AB27=0,0,IF(SUM(R27:V27)+AE27*AF27<=AB27,1,0)))) -> 1 | AH27: ='ריכוז גיליונות עזר'!U27 -> 0.72794118 | AJ27: =IF(B27="","",IF(AI27=1,1,IF(AH27>=פרמטרים!$B$46,1,0))) -> 1 | AK27: 1 | AL27: =IFERROR(IF(B27="","",IF(SUM(BG27:BU27)=COUNT(BG27:BU27),1,0)),$AP$1) -> 1 | AP27: =IF(ISERR(ROUND(R27,0)),0,IF(OR(R27<0,$B27="",R27<>ROUND(R27,0)),0,1)) -> 1 | AQ27: =IF(ISERR(ROUND(S27,0)),0,IF(OR(S27<0,$B27="",S27<>ROUND(S27,0)),0,1)) -> 1 | AR27: =IF(ISERR(ROUND(T27,0)),0,IF(OR(T27<0,$B27="",T27<>ROUND(T27,0)),0,1)) -> 1 | AS27: =IF(ISERR(ROUND(U27,0)),0,IF(OR(U27<0,$B27="",U27<>ROUND(U27,0)),0,1)) -> 1 | AT27: {=IF(OR(AP27:AS27=0),0,1)} -> 1 | AU27: =IF(V27<$A$1,V27,$A$1) -> 0 | AV27: =IF(SUM($AU27:AU27)<$A$1,IF(SUM($U27:V27)<$A$1,U27,$A$1-SUM($AU27:AU27)),0) -> 0 | AW27: =IF(SUM($AU27:AV27)<$A$1,IF(SUM($T27:V27)<$A$1,T27,$A$1-SUM($AU27:AV27)),0) -> 0 | AX27: =IF(SUM($AU27:AW27)<$A$1,IF(SUM($S27:V27)<$A$1,S27,$A$1-SUM($AU27:AW27)),0) -> 0 | AY27: =IF(SUM($AU27:AX27)<$A$1,IF(SUM($R27:V27)<$A$1,R27,$A$1-SUM($AU27:AX27)),0) -> 0 | AZ27: =AY27 -> 0 | BA27: =AX27 -> 0 | BB27: =AW27 -> 0 | BC27: =AV27 -> 0 | BD27: =AU27 -> 0 | BE27: =IF($B27="","",BE$10) -> 0 | BF27: =IF($B27="","",BF$10) -> 1 | BG27: =IF(D27="",0,IF(D27<2,0,1)) -> 1 | BH27: =IF(E27="",0,E27) -> 1 | BI27: =IF(F27="",0,F27) -> 1 | BK27: =IF(H27="",0,H27) -> 1 | BL27: =IF(I27="",0,I27) -> 1 | BM27: =IF(J27="",0,J27) -> 1 | BN27: =IF(M27="",0,M27) -> 1 | BO27: =IF(P27="",0,P27) -> 1 | BP27: =IF(Y27="",0,Y27) -> 1 | BQ27: =IF(AC27=1,1,IF(Z27="",0,IF('ריכוז גיליונות עזר'!W27=1,1,0))) -> 1 | BR27: =IF(AC27=1,1,IF(AA27="",0,IF('ריכוז גיליונות עזר'!W27=1,1,0))) -> 1 | BS27: =IF(AG27="",0,AG27) -> 1 | BT27: =IF(AJ27="",0,AJ27) -> 1 | BU27: =IF(AK27="",0,AK27) -> 1 | BW27: =IF(R27*#REF!<200,0,1) -> #REF! | BX27: =IF(S27*#REF!<200,0,1) -> #REF! | BY27: =IF(T27*#REF!<200,0,1) -> #REF! | BZ27: =IF(U27*#REF!<200,0,1) -> #REF! | CA27: =IF(V27*#REF!<200,0,1) -> #REF!
A28: =A27+1 -> 18 | B28: =IF('18'!$F$1="18","",'18'!$F$1) | D28: =IF(OR(B28="",C28=""),"",((DATE($J$3,1,1)-C28)/365)) | M28: =IF(B28="","",IF(OR(K28=0,AND(K28=1,L28=1)),1,0)) | P28: =IF(B28="","",IF(OR(N28=0,AND(N28=1,O28=1)),1,0)) | Y28: =IF(B28="","",IF(AF28=1,1,IF(AND($J$3=2022,Q28=1,AD28>=1),1,IF(AD28>=2,1,0)))) | Z28: ='ריכוז גיליונות עזר'!S28 | AA28: ='ריכוז גיליונות עזר'!R28 | AB28: ='ריכוז גיליונות עזר'!T28 | AD28: =IF($B28="","",SUM(INDIRECT("'"&SUBSTITUTE($B28,"'","''")&"'"&"!L2:P2"))) | AE28: {=IF($B28="","",IF($F28="","",INDIRECT("'"&SUBSTITUTE($B28,"'","''")&"'"&"!L6")))} | AG28: =IF(B28="","",IF(AC28=1,1,IF(AB28=0,0,IF(SUM(R28:V28)+AE28*AF28<=AB28,1,0)))) | AH28: ='ריכוז גיליונות עזר'!U28 | AJ28: =IF(B28="","",IF(AI28=1,1,IF(AH28>=פרמטרים!$B$46,1,0))) | AK28: 1 | AL28: =IFERROR(IF(B28="","",IF(SUM(BG28:BU28)=COUNT(BG28:BU28),1,0)),$AP$1) | AP28: =IF(ISERR(ROUND(R28,0)),0,IF(OR(R28<0,$B28="",R28<>ROUND(R28,0)),0,1)) -> 0 | AQ28: =IF(ISERR(ROUND(S28,0)),0,IF(OR(S28<0,$B28="",S28<>ROUND(S28,0)),0,1)) -> 0 | AR28: =IF(ISERR(ROUND(T28,0)),0,IF(OR(T28<0,$B28="",T28<>ROUND(T28,0)),0,1)) -> 0 | AS28: =IF(ISERR(ROUND(U28,0)),0,IF(OR(U28<0,$B28="",U28<>ROUND(U28,0)),0,1)) -> 0 | AT28: {=IF(OR(AP28:AS28=0),0,1)} -> 0 | AU28: =IF(V28<$A$1,V28,$A$1) -> 0 | AV28: =IF(SUM($AU28:AU28)<$A$1,IF(SUM($U28:V28)<$A$1,U28,$A$1-SUM($AU28:AU28)),0) -> 0 | AW28: =IF(SUM($AU28:AV28)<$A$1,IF(SUM($T28:V28)<$A$1,T28,$A$1-SUM($AU28:AV28)),0) -> 0 | AX28: =IF(SUM($AU28:AW28)<$A$1,IF(SUM($S28:V28)<$A$1,S28,$A$1-SUM($AU28:AW28)),0) -> 0 | AY28: =IF(SUM($AU28:AX28)<$A$1,IF(SUM($R28:V28)<$A$1,R28,$A$1-SUM($AU28:AX28)),0) -> 0 | AZ28: =AY28 -> 0 | BA28: =AX28 -> 0 | BB28: =AW28 -> 0 | BC28: =AV28 -> 0 | BD28: =AU28 -> 0 | BE28: =IF($B28="","",BE$10) | BF28: =IF($B28="","",BF$10) | BG28: =IF(D28="",0,IF(D28<2,0,1)) -> 0 | BH28: =IF(E28="",0,E28) -> 0 | BI28: =IF(F28="",0,F28) -> 0 | BK28: =IF(H28="",0,H28) -> 0 | BL28: =IF(I28="",0,I28) -> 0 | BM28: =IF(J28="",0,J28) -> 0 | BN28: =IF(M28="",0,M28) -> 0 | BO28: =IF(P28="",0,P28) -> 0 | BP28: =IF(Y28="",0,Y28) -> 0 | BQ28: =IF(AC28=1,1,IF(Z28="",0,IF('ריכוז גיליונות עזר'!W28=1,1,0))) -> 0 | BR28: =IF(AC28=1,1,IF(AA28="",0,IF('ריכוז גיליונות עזר'!W28=1,1,0))) -> 0 | BS28: =IF(AG28="",0,AG28) -> 0 | BT28: =IF(AJ28="",0,AJ28) -> 0 | BU28: =IF(AK28="",0,AK28) -> 1 | BW28: =IF(R28*#REF!<200,0,1) -> #REF! | BX28: =IF(S28*#REF!<200,0,1) -> #REF! | BY28: =IF(T28*#REF!<200,0,1) -> #REF! | BZ28: =IF(U28*#REF!<200,0,1) -> #REF! | CA28: =IF(V28*#REF!<200,0,1) -> #REF!
A29: =A28+1 -> 19 | B29: =IF(הו!$F$1="19","",הו!$F$1) -> הו | C29: 39083 | D29: =IF(OR(B29="",C29=""),"",((DATE($J$3,1,1)-C29)/365)) -> 18.013699 | E29: 1 | F29: 1 | H29: 1 | I29: 1 | J29: 1 | K29: 1 | L29: 1 | M29: =IF(B29="","",IF(OR(K29=0,AND(K29=1,L29=1)),1,0)) -> 1 | N29: 0 | P29: =IF(B29="","",IF(OR(N29=0,AND(N29=1,O29=1)),1,0)) -> 1 | Y29: =IF(B29="","",IF(AF29=1,1,IF(AND($J$3=2022,Q29=1,AD29>=1),1,IF(AD29>=2,1,0)))) -> 1 | Z29: ='ריכוז גיליונות עזר'!S29 -> 2 | AA29: ='ריכוז גיליונות עזר'!R29 -> 2 | AB29: ='ריכוז גיליונות עזר'!T29 -> 2 | AD29: =IF($B29="","",SUM(INDIRECT("'"&SUBSTITUTE($B29,"'","''")&"'"&"!L2:P2"))) -> 2 | AE29: {=IF($B29="","",IF($F29="","",INDIRECT("'"&SUBSTITUTE($B29,"'","''")&"'"&"!L6")))} -> 0 | AG29: =IF(B29="","",IF(AC29=1,1,IF(AB29=0,0,IF(SUM(R29:V29)+AE29*AF29<=AB29,1,0)))) -> 1 | AH29: ='ריכוז גיליונות עזר'!U29 -> 1 | AJ29: =IF(B29="","",IF(AI29=1,1,IF(AH29>=פרמטרים!$B$46,1,0))) -> 1 | AK29: 1 | AL29: =IFERROR(IF(B29="","",IF(SUM(BG29:BU29)=COUNT(BG29:BU29),1,0)),$AP$1) -> 1 | AP29: =IF(ISERR(ROUND(R29,0)),0,IF(OR(R29<0,$B29="",R29<>ROUND(R29,0)),0,1)) -> 1 | AQ29: =IF(ISERR(ROUND(S29,0)),0,IF(OR(S29<0,$B29="",S29<>ROUND(S29,0)),0,1)) -> 1 | AR29: =IF(ISERR(ROUND(T29,0)),0,IF(OR(T29<0,$B29="",T29<>ROUND(T29,0)),0,1)) -> 1 | AS29: =IF(ISERR(ROUND(U29,0)),0,IF(OR(U29<0,$B29="",U29<>ROUND(U29,0)),0,1)) -> 1 | AT29: {=IF(OR(AP29:AS29=0),0,1)} -> 1 | AU29: =IF(V29<$A$1,V29,$A$1) -> 0 | AV29: =IF(SUM($AU29:AU29)<$A$1,IF(SUM($U29:V29)<$A$1,U29,$A$1-SUM($AU29:AU29)),0) -> 0 | AW29: =IF(SUM($AU29:AV29)<$A$1,IF(SUM($T29:V29)<$A$1,T29,$A$1-SUM($AU29:AV29)),0) -> 0 | AX29: =IF(SUM($AU29:AW29)<$A$1,IF(SUM($S29:V29)<$A$1,S29,$A$1-SUM($AU29:AW29)),0) -> 0 | AY29: =IF(SUM($AU29:AX29)<$A$1,IF(SUM($R29:V29)<$A$1,R29,$A$1-SUM($AU29:AX29)),0) -> 0 | AZ29: =AY29 -> 0 | BA29: =AX29 -> 0 | BB29: =AW29 -> 0 | BC29: =AV29 -> 0 | BD29: =AU29 -> 0 | BE29: =IF($B29="","",BE$10) -> 0 | BF29: =IF($B29="","",BF$10) -> 1 | BG29: =IF(D29="",0,IF(D29<2,0,1)) -> 1 | BH29: =IF(E29="",0,E29) -> 1 | BI29: =IF(F29="",0,F29) -> 1 | BK29: =IF(H29="",0,H29) -> 1 | BL29: =IF(I29="",0,I29) -> 1 | BM29: =IF(J29="",0,J29) -> 1 | BN29: =IF(M29="",0,M29) -> 1 | BO29: =IF(P29="",0,P29) -> 1 | BP29: =IF(Y29="",0,Y29) -> 1 | BQ29: =IF(AC29=1,1,IF(Z29="",0,IF('ריכוז גיליונות עזר'!W29=1,1,0))) -> 1 | BR29: =IF(AC29=1,1,IF(AA29="",0,IF('ריכוז גיליונות עזר'!W29=1,1,0))) -> 1 | BS29: =IF(AG29="",0,AG29) -> 1 | BT29: =IF(AJ29="",0,AJ29) -> 1 | BU29: =IF(AK29="",0,AK29) -> 1 | BW29: =IF(R29*#REF!<200,0,1) -> #REF! | BX29: =IF(S29*#REF!<200,0,1) -> #REF! | BY29: =IF(T29*#REF!<200,0,1) -> #REF! | BZ29: =IF(U29*#REF!<200,0,1) -> #REF! | CA29: =IF(V29*#REF!<200,0,1) -> #REF!
