Workbook
Name a: #REF!
Name a: #REF!
Name a: #REF!

Sheet ProtectSettings
B1: 0.7760126
B2: 45713.455
A6: AllowFilterCheckBox | B6: FALSE
A7: AllowFormattingCheckBox | B7: FALSE
A8: AllowColumnFormattingCheckBox | B8: TRUE
A9: AllowRowFormattingCheckBox | B9: TRUE

Sheet גיליון עזר
A1: a | B1: b | C1: c | D1: d | E1: e | F1: f | G1: g | H1: h | I1: i | J1: j | K1: k | L1: l | M1: m | N1: n | O1: o | P1: p | Q1: q | R1: r | S1: s | T1: t | U1: u | V1: v | W1: w | X1: x | Y1: y | Z1: z
B3: הזנות ראשויות
B6: כן | C6: לא
B9: נא הזן הכנסות
D19: 1111

Sheet פרמטרים
B2: מודל ספריות המיועדות לעיוורים וללקויי ראיה
B4: מקראה: | C4: נתוני קלט להזנה
C5: נתונים מקובעים (טקסט)
C6: נתוני פלט (לאחר חישוב)
B9: שנת תקציב | C9: 2025
B10: גובה תמיכה | C10: 6500000
B13: תנאי סף
B14: תנאי סף | C14: קריטריון
B15: המוסד משמש כספרייה לעיוורים או משק סגור | C15: כן
B16: המוסד פועל כספרייה במשך שנתיים רצופות | C16: כן
B17: מנהל ספרייה עוסק בהיקף שלא יפחת בחצי משרה | C17: כן
B18: כמה כותרים מונגשים ברשות הספרייה? | C18: 3500
B19: כמה כותרים הספרייה הנגישה בשנת הערכה? | C19: 150
B20: האם המוסד שומר על זכויות יוצרים של הכותרים? | C20: כן
B21: כמה כותרים מונגשים הופקו או נרכשו בשנת ההערכה בשפה הערבית? | C21: 0.15
B22: כמה השאלות של ספרים מונגשים התקיימו בשנת הערכה? | C22: 1500
B23: האם שירותי ההשאלה ניתנים בחינם? | C23: כן
B24: שירותי הספרייה ניתנים לעיוורים וללקויי ראייה בכל הארץ בלא הבדל גזע, דת, מין, לאום השקפה או השתייכות מפלגתית | C24: כן
B25: האם המוסד מקיים מנגנון השאלה טלפוני בהיקף של 16 ש"ש, במשך 4 ימים בשבוע? | C25: כן
B26: כמה מנויים פעילים יש לספרייה? | C26: 400
B29: ניקוד
B31: פרמטר | C31: משקל
B32: מספר ספרים מונגשים שהופקו בשנת ההערכה | C32: 0.15
B33: מספר מנויים פעילים | C33: 0.2
B34: מספר השאלות | C34: 0.35
B35: מספר ספרים מונגשים במלאי | C35: 0.15
B36: מספר ספרים בשפות נוספות | C36: 0.05
B37: השאלה זמינה | C37: 0.05
B38: ריבוי אמצעי הנגשה | C38: 0.05
B41: הגבלה
B43: שיעור התמיכה לא יעלה על %X מסכום עלות הפרויקט המשוער | C43: 0.75
B47: הוראת שעה
B49: שיעור התמיכה לא יפחת משיעור התמיכה בשנת 2013: | C49: 0

Sheet הזנת נתונים
AG29: אינדיקצית שימוש | AI29: אינדיקצית שימוש | AL29: נתון חסר | AM29: =AL29 -> נתון חסר | AN29: =AM29 -> נתון חסר | AO29: =AN29 -> נתון חסר | AP29: =AO29 -> נתון חסר | AQ29: =AP29 -> נתון חסר | AR29: =AQ29 -> נתון חסר | AS29: =AR29 -> נתון חסר | AT29: =AS29 -> נתון חסר | ... BI29: =BH29 -> נתון חסר | BJ29: =BD29 -> נתון חסר | BK29: =BJ29 -> נתון חסר
D30: סעיף | E30: 6 (1) | F30: 6 (2) | G30: 6 (3) | H30: 6 (4) | I30: 6 (5) | J30: 7 (7) | K30: 7 (7) | L30: 7 (7) | M30: 6 (11) | N30: 7 (5) | O30: 6 (6) | P30: 6 (8) | Q30: 6 (9) | R30: 6 (12) | S30: 6 (10) | T30: 7 (6) (א) | U30: 7 (6) (ב) | V30: 7 (6) (ג) | W30: 6 (7) | X30: 6 (13) | Y30: 6 (14) | Z30: 6 (15) | AA30: 6 (16) | AB30: 6 (17) | AC30: 7 (5) | AD30: 6 (11) | AE30: 6 (18) | AL30: הזנה שגויה | AM30: =AL30 -> הזנה שגויה | AN30: =AM30 -> הזנה שגויה | AO30: =AN30 -> הזנה שגויה | AP30: =AO30 -> הזנה שגויה | AQ30: =AP30 -> הזנה שגויה | AR30: =AQ30 -> הזנה שגויה | AS30: =AR30 -> הזנה שגויה | AT30: =AS30 -> הזנה שגויה | ... BI30: =BH30 -> הזנה שגויה | BJ30: =BD30 -> הזנה שגויה | BK30: =BJ30 -> הזנה שגויה
C31: מספר סידורי | D31: שם המוסד | E31: המוסד משמש כספרייה לעיוורים וללקויי ראייה או משק סגור | F31: המוסד פועל כספרייה במשך שנתיים רצופות | G31: מנהל ספרייה עוסק בהיקף שלא יפחת בחצי משרה | H31: כמה כותרים מונגשים ברשות הספרייה? | I31: כמה כותרים הספרייה הנגישה בשנת הערכה? | J31: כמה מתוך הכותרים שהספרייה הנגישה בשנת ההערכה הם בכתב ברייל? | K31: כמה מתוך הכותרים שהספרייה הנגישה בשנת ההערכה הם בשמע? | L31: כמה מתוך הכותרים שהספרייה הנגישה בשנת ההערכה הם באות מוגדלת? | M31: כמה כותרים מונגשים הופקו או נרכשו בשנת ההערכה בשפה הערבית? | N31: כמה כותרים מונגשים הופקו או נרכשו בשנת ההערכה בשפה זרה נוספת מלבד ערבית? | O31: האם המוסד שומר על זכויות יוצרים של הכותרים? | P31: כמה השאלות של ספרים מונגשים התקיימו בשנת הערכה? | Q31: האם שירותי ההשאלה ניתנים בחינם? | R31: =פרמטרים!B24 -> שירותי הספרייה ניתנים לעיוורים וללקויי ראייה בכל הארץ בלא הבדל גזע, דת, מין, לאום השקפה או השתייכות מפלגתית | S31: האם המוסד מקיים מנגנון השאלה טלפוני בהיקף של 16 ש"ש, במשך 4 ימים בשבוע? | T31: עבור לא פחות ממחצית מהספרים המונגשים- האם קיים מנגנון השאלת ספרים על ידי הורדת קבצים מאתר האינטרנט, הפועל בכל שעות היממה? | U31: הקטלוג, הכולל לא פחות ממחצית הספרים המונגשים, מונגש בשמע בטלפון או באינטרנט? | V31: האם קיים שירות המאפשר למנויים להזמין, להשאיל ולהאריך השאלות באמצעות האינטרנט או דואר אלקטרוני? | W31: כמה מנויים פעילים יש לספרייה? | X31: המוסד עומד בדרישות הנוהל, ובכלל זה יעמיד עצמו לביקורת המשרד בהתאם לדינים החלים עליו, הוראות הנוהל והחלטות הממשלה, זאת להבטחת עמידתו בתנאים למתן תמיכה, ובלי לפגוע בחופש היצירה, בחירות האמנותית ובחופש הביטוי; | Y31: מטרות המוסד כמפורט במסמכי היסוד שלו ואופן פעולתו עולים בקנה אחד עם מטרות התמיכה המפורטות במבחנים אלה | Z31: המוסד משתמש בכספי התמיכה רק למטרות שלשמן ניתנו | AA31: המוסד מקיים את הוראות החוק הרלוונטיות לפעילותו, מקפיד על כללי ניהול תקין ושומר על שקיפות מלאה באורחות התנהלותו באופן ההולם את מטרותיו הציבוריות | AB31: המוסד פועל ביעילות ובתקורה מינימלית, שמאפשרת את פעילותו התקינה והראויה, לרבות בהתאם לנוהל ולהנחיות החשב הכללי במשרד האוצר לעניין הוצאות הנהלה וכלליות | AC31: האם רוב הספרים בספרייה הם בשפה הערבית? | AD31: המוסד הפיק או רכש בשנת ההערכה ספרים מונגשים בשפה הערבית, בהיקף שלא יפחת מ15% מתוך כלל הספרים המונגשים שהופקו או נרכשו על ידו בשנת ההערכה | AE31: במוסד בו מועסקים עובדים ביחסי עבודה, המוסד קבע תקנון למניעת הטרדה מינית ועומדת בדרישות תקנה 8 לתקנות חובות מעסיק. המוסד צירף לבקשתו את התקנון ופרטים על ההתאמות בתקנון, פרסומו למסירתו. (במוסד בו אין מתכונת יחסי עבודה - יש לסמן 1 עבור תנאי זה) | AG31: כללי | AI31: כן | AJ31: לא | AL31: =E31 -> המוסד משמש כספרייה לעיוורים וללקויי ראייה או משק סגור | AM31: =F31 -> המוסד פועל כספרייה במשך שנתיים רצופות | AN31: =G31 -> מנהל ספרייה עוסק בהיקף שלא יפחת בחצי משרה | AO31: =H31 -> כמה כותרים מונגשים ברשות הספרייה? | AP31: =I31 -> כמה כותרים הספרייה הנגישה בשנת הערכה? | AQ31: =J31 -> כמה מתוך הכותרים שהספרייה הנגישה בשנת ההערכה הם בכתב ברייל? | AR31: =K31 -> כמה מתוך הכותרים שהספרייה הנגישה בשנת ההערכה הם בשמע? | AS31: =L31 -> כמה מתוך הכותרים שהספרייה הנגישה בשנת ההערכה הם באות מוגדלת? | ... BK31: =AD31 -> המוסד הפיק או רכש בשנת ההערכה ספרים מונגשים בשפה הערבית, בהיקף שלא יפחת מ15% מתוך כלל הספרים המונגשים שהופקו או נרכשו על ידו בשנת ההערכה
E32: כן/לא | F32: כן/לא | G32: כן/לא | H32: מספר יחידות | I32: מספר יחידות | J32: מספר יחידות | K32: מספר יחידות | L32: מספר יחידות | M32: מספר יחידות | N32: מספר יחידות | O32: כן/לא | P32: מספר יחידות | Q32: כן/לא | R32: כן/לא | S32: כן/לא | T32: כן/לא | U32: כן/לא | V32: כן/לא | W32: מספר יחידות | X32: כן/לא | Y32: כן/לא | Z32: כן/לא | AA32: כן/לא | AB32: כן/לא | AC32: כן/לא | AD32: כן/לא | AE32: כן/לא | AL32: =E32 -> כן/לא | AM32: =F32 -> כן/לא | AN32: =G32 -> כן/לא | AO32: =H32 -> מספר יחידות | AP32: =I32 -> מספר יחידות | AQ32: =J32 -> מספר יחידות | AR32: =K32 -> מספר יחידות | AS32: =L32 -> מספר יחידות | ... BK32: =AD32 -> כן/לא
B33: =#REF! -> #REF! | C33: 1 | D33: הספריה המרכזית לעיוורים | E33: כן | F33: כן | G33: כן | H33: 43807 | I33: 3601 | J33: 715 | K33: 1506 | L33: 645 | M33: 620 | N33: 238 | O33: כן | P33: 900092 | Q33: כן | R33: כן | S33: כן | T33: כן | U33: כן | V33: כן | W33: 15506 | X33: כן | Y33: כן | Z33: כן | AA33: כן | AB33: כן | AC33: לא | AD33: =IF(D33="","",IF(IFERROR(M33/I33,0)<15%,"לא","כן")) -> כן | AE33: כן | AG33: =IF(D33="",0,1) -> 1 | AI33: =IF($D33="","",AI$31) -> כן | AJ33: =IF($D33="","",AJ$31) -> לא | AL33: =IF($D33="","",IF(ISERR(MATCH(E33,$AI33:$AJ33)),AL$30,IF(E33="",AL$29,E33))) -> כן | AM33: =IF($D33="","",IF(ISERR(MATCH(F33,$AI33:$AJ33)),AM$30,IF(F33="",AM$29,F33))) -> כן | AN33: =IF($D33="","",IF(ISERR(MATCH(G33,$AI33:$AJ33)),AN$30,IF(G33="",AN$29,G33))) -> כן | AO33: =IF($D33="","",IF(ISERR(H33/3),AO$30,IF(H33="",AO$29,H33))) -> 43807 | AP33: =IF($D33="","",IF(ISERR(I33/3),AP$30,IF(I33="",AP$29,I33))) -> 3601 | AQ33: =IF($D33="","",IF(ISERR(J33/3),AQ$30,IF(J33="",AQ$29,J33))) -> 715 | AR33: =IF($D33="","",IF(ISERR(K33/3),AR$30,IF(K33="",AR$29,K33))) -> 1506 | AS33: =IF($D33="","",IF(ISERR(L33/3),AS$30,IF(L33="",AS$29,L33))) -> 645 | AT33: =IF($D33="","",IF(ISERR(M33/3),AT$30,IF(M33="",AT$29,M33))) -> 620 | AU33: =IF($D33="","",IF(ISERR(N33/3),AU$30,IF(N33="",AU$29,N33))) -> 238 | AV33: =IF($D33="","",IF(ISERR(MATCH(O33,$AI33:$AJ33)),AV$30,IF(O33="",AV$29,O33))) -> כן | AW33: =IF($D33="","",IF(ISERR(P33/3),AW$30,IF(P33="",AW$29,P33))) -> 900092 | AX33: =IF($D33="","",IF(ISERR(MATCH(Q33,$AI33:$AJ33)),AX$30,IF(Q33="",AX$29,Q33))) -> כן | AY33: =IF($D33="","",IF(ISERR(MATCH(R33,$AI33:$AJ33)),AY$30,IF(R33="",AY$29,R33))) -> כן | AZ33: =IF($D33="","",IF(ISERR(MATCH(S33,$AI33:$AJ33)),AZ$30,IF(S33="",AZ$29,S33))) -> כן | BA33: =IF($D33="","",IF(ISERR(MATCH(T33,$AI33:$AJ33)),BA$30,IF(T33="",BA$29,T33))) -> כן | BB33: =IF($D33="","",IF(ISERR(MATCH(U33,$AI33:$AJ33)),BB$30,IF(U33="",BB$29,U33))) -> כן | BC33: =IF($D33="","",IF(ISERR(MATCH(V33,$AI33:$AJ33)),BC$30,IF(V33="",BC$29,V33))) -> כן | BD33: =IF($D33="","",IF(ISERR(W33/3),BD$30,IF(W33="",BD$29,W33))) -> 15506 | BE33: =IF($D33="","",IF(ISERR(MATCH(X33,$AI33:$AJ33)),BE$30,IF(X33="",BE$29,X33))) -> כן | BF33: =IF($D33="","",IF(ISERR(MATCH(Y33,$AI33:$AJ33)),BF$30,IF(Y33="",BF$29,Y33))) -> כן | BG33: =IF($D33="","",IF(ISERR(MATCH(Z33,$AI33:$AJ33)),BG$30,IF(Z33="",BG$29,Z33))) -> כן | BH33: =IF($D33="","",IF(ISERR(MATCH(AA33,$AI33:$AJ33)),BH$30,IF(AA33="",BH$29,AA33))) -> כן | BI33: =IF($D33="","",IF(ISERR(MATCH(AB33,$AI33:$AJ33)),BI$30,IF(AB33="",BI$29,AB33))) -> כן | BJ33: =IF($D33="","",IF(ISERR(MATCH(AC33,$AI33:$AJ33)),BJ$30,IF(AC33="",BJ$29,AC33))) -> לא | BK33: =IF($D33="","",IF(ISERR(MATCH(AD33,$AI33:$AJ33)),BK$30,IF(AD33="",BK$29,AD33))) -> כן
B34: =#REF! -> #REF! | C34: 2 | D34: מסיל"ה | E34: כן | F34: כן | G34: כן | H34: 6701 | I34: 270 | J34: 144 | K34: 0 | L34: 126 | M34: 0 | N34: 20 | O34: כן | P34: 3348 | Q34: כן | R34: כן | S34: כן | T34: לא | U34: כן | V34: כן | W34: 458 | X34: כן | Y34: כן | Z34: כן | AA34: כן | AB34: כן | AC34: לא | AD34: =IF(D34="","",IF(IFERROR(M34/I34,0)<15%,"לא","כן")) -> לא | AE34: כן | AG34: =IF(D34="",0,1) -> 1 | AI34: =IF($D34="","",AI$31) -> כן | AJ34: =IF($D34="","",AJ$31) -> לא | AL34: =IF($D34="","",IF(ISERR(MATCH(E34,$AI34:$AJ34)),AL$30,IF(E34="",AL$29,E34))) -> כן | AM34: =IF($D34="","",IF(ISERR(MATCH(F34,$AI34:$AJ34)),AM$30,IF(F34="",AM$29,F34))) -> כן | AN34: =IF($D34="","",IF(ISERR(MATCH(G34,$AI34:$AJ34)),AN$30,IF(G34="",AN$29,G34))) -> כן | AO34: =IF($D34="","",IF(ISERR(H34/3),AO$30,IF(H34="",AO$29,H34))) -> 6701 | AP34: =IF($D34="","",IF(ISERR(I34/3),AP$30,IF(I34="",AP$29,I34))) -> 270 | AQ34: =IF($D34="","",IF(ISERR(J34/3),AQ$30,IF(J34="",AQ$29,J34))) -> 144 | AR34: =IF($D34="","",IF(ISERR(K34/3),AR$30,IF(K34="",AR$29,K34))) -> 0 | AS34: =IF($D34="","",IF(ISERR(L34/3),AS$30,IF(L34="",AS$29,L34))) -> 126 | AT34: =IF($D34="","",IF(ISERR(M34/3),AT$30,IF(M34="",AT$29,M34))) -> 0 | AU34: =IF($D34="","",IF(ISERR(N34/3),AU$30,IF(N34="",AU$29,N34))) -> 20 | AV34: =IF($D34="","",IF(ISERR(MATCH(O34,$AI34:$AJ34)),AV$30,IF(O34="",AV$29,O34))) -> כן | AW34: =IF($D34="","",IF(ISERR(P34/3),AW$30,IF(P34="",AW$29,P34))) -> 3348 | AX34: =IF($D34="","",IF(ISERR(MATCH(Q34,$AI34:$AJ34)),AX$30,IF(Q34="",AX$29,Q34))) -> כן | AY34: =IF($D34="","",IF(ISERR(MATCH(R34,$AI34:$AJ34)),AY$30,IF(R34="",AY$29,R34))) -> כן | AZ34: =IF($D34="","",IF(ISERR(MATCH(S34,$AI34:$AJ34)),AZ$30,IF(S34="",AZ$29,S34))) -> כן | BA34: =IF($D34="","",IF(ISERR(MATCH(T34,$AI34:$AJ34)),BA$30,IF(T34="",BA$29,T34))) -> לא | BB34: =IF($D34="","",IF(ISERR(MATCH(U34,$AI34:$AJ34)),BB$30,IF(U34="",BB$29,U34))) -> כן | BC34: =IF($D34="","",IF(ISERR(MATCH(V34,$AI34:$AJ34)),BC$30,IF(V34="",BC$29,V34))) -> כן | BD34: =IF($D34="","",IF(ISERR(W34/3),BD$30,IF(W34="",BD$29,W34))) -> 458 | BE34: =IF($D34="","",IF(ISERR(MATCH(X34,$AI34:$AJ34)),BE$30,IF(X34="",BE$29,X34))) -> כן | BF34: =IF($D34="","",IF(ISERR(MATCH(Y34,$AI34:$AJ34)),BF$30,IF(Y34="",BF$29,Y34))) -> כן | BG34: =IF($D34="","",IF(ISERR(MATCH(Z34,$AI34:$AJ34)),BG$30,IF(Z34="",BG$29,Z34))) -> כן | BH34: =IF($D34="","",IF(ISERR(MATCH(AA34,$AI34:$AJ34)),BH$30,IF(AA34="",BH$29,AA34))) -> כן | BI34: =IF($D34="","",IF(ISERR(MATCH(AB34,$AI34:$AJ34)),BI$30,IF(AB34="",BI$29,AB34))) -> כן | BJ34: =IF($D34="","",IF(ISERR(MATCH(AC34,$AI34:$AJ34)),BJ$30,IF(AC34="",BJ$29,AC34))) -> לא | BK34: =IF($D34="","",IF(ISERR(MATCH(AD34,$AI34:$AJ34)),BK$30,IF(AD34="",BK$29,AD34))) -> לא
B35: =#REF! -> #REF! | C35: 3 | D35: עמותת עלה | E35: כן | F35: כן | G35: כן | H35: 6541 | I35: 155 | J35: 55 | K35: 45 | L35: 55 | M35: 40 | N35: 16 | O35: כן | P35: 3557 | Q35: כן | R35: כן | S35: כן | T35: לא | U35: כן | V35: כן | W35: 3049 | X35: כן | Y35: כן | Z35: כן | AA35: כן | AB35: כן | AC35: לא | AD35: =IF(D35="","",IF(IFERROR(M35/I35,0)<15%,"לא","כן")) -> כן | AE35: כן | AG35: =IF(D35="",0,1) -> 1 | AI35: =IF($D35="","",AI$31) -> כן | AJ35: =IF($D35="","",AJ$31) -> לא | AL35: =IF($D35="","",IF(ISERR(MATCH(E35,$AI35:$AJ35)),AL$30,IF(E35="",AL$29,E35))) -> כן | AM35: =IF($D35="","",IF(ISERR(MATCH(F35,$AI35:$AJ35)),AM$30,IF(F35="",AM$29,F35))) -> כן | AN35: =IF($D35="","",IF(ISERR(MATCH(G35,$AI35:$AJ35)),AN$30,IF(G35="",AN$29,G35))) -> כן | AO35: =IF($D35="","",IF(ISERR(H35/3),AO$30,IF(H35="",AO$29,H35))) -> 6541 | AP35: =IF($D35="","",IF(ISERR(I35/3),AP$30,IF(I35="",AP$29,I35))) -> 155 | AQ35: =IF($D35="","",IF(ISERR(J35/3),AQ$30,IF(J35="",AQ$29,J35))) -> 55 | AR35: =IF($D35="","",IF(ISERR(K35/3),AR$30,IF(K35="",AR$29,K35))) -> 45 | AS35: =IF($D35="","",IF(ISERR(L35/3),AS$30,IF(L35="",AS$29,L35))) -> 55 | AT35: =IF($D35="","",IF(ISERR(M35/3),AT$30,IF(M35="",AT$29,M35))) -> 40 | AU35: =IF($D35="","",IF(ISERR(N35/3),AU$30,IF(N35="",AU$29,N35))) -> 16 | AV35: =IF($D35="","",IF(ISERR(MATCH(O35,$AI35:$AJ35)),AV$30,IF(O35="",AV$29,O35))) -> כן | AW35: =IF($D35="","",IF(ISERR(P35/3),AW$30,IF(P35="",AW$29,P35))) -> 3557 | AX35: =IF($D35="","",IF(ISERR(MATCH(Q35,$AI35:$AJ35)),AX$30,IF(Q35="",AX$29,Q35))) -> כן | AY35: =IF($D35="","",IF(ISERR(MATCH(R35,$AI35:$AJ35)),AY$30,IF(R35="",AY$29,R35))) -> כן | AZ35: =IF($D35="","",IF(ISERR(MATCH(S35,$AI35:$AJ35)),AZ$30,IF(S35="",AZ$29,S35))) -> כן | BA35: =IF($D35="","",IF(ISERR(MATCH(T35,$AI35:$AJ35)),BA$30,IF(T35="",BA$29,T35))) -> לא | BB35: =IF($D35="","",IF(ISERR(MATCH(U35,$AI35:$AJ35)),BB$30,IF(U35="",BB$29,U35))) -> כן | BC35: =IF($D35="","",IF(ISERR(MATCH(V35,$AI35:$AJ35)),BC$30,IF(V35="",BC$29,V35))) -> כן | BD35: =IF($D35="","",IF(ISERR(W35/3),BD$30,IF(W35="",BD$29,W35))) -> 3049 | BE35: =IF($D35="","",IF(ISERR(MATCH(X35,$AI35:$AJ35)),BE$30,IF(X35="",BE$29,X35))) -> כן | BF35: =IF($D35="","",IF(ISERR(MATCH(Y35,$AI35:$AJ35)),BF$30,IF(Y35="",BF$29,Y35))) -> כן | BG35: =IF($D35="","",IF(ISERR(MATCH(Z35,$AI35:$AJ35)),BG$30,IF(Z35="",BG$29,Z35))) -> כן | BH35: =IF($D35="","",IF(ISERR(MATCH(AA35,$AI35:$AJ35)),BH$30,IF(AA35="",BH$29,AA35))) -> כן | BI35: =IF($D35="","",IF(ISERR(MATCH(AB35,$AI35:$AJ35)),BI$30,IF(AB35="",BI$29,AB35))) -> כן | BJ35: =IF($D35="","",IF(ISERR(MATCH(AC35,$AI35:$AJ35)),BJ$30,IF(AC35="",BJ$29,AC35))) -> לא | BK35: =IF($D35="","",IF(ISERR(MATCH(AD35,$AI35:$AJ35)),BK$30,IF(AD35="",BK$29,AD35))) -> כן
B36: =#REF! -> #REF! | C36: 4 | D36: עמותת אלמנארה | E36: כן | F36: כן | G36: כן | H36: 14613 | I36: 1628 | J36: 619 | K36: 390 | L36: 619 | M36: 1501 | N36: 127 | O36: כן | P36: 23987 | Q36: כן | R36: כן | S36: כן | T36: כן | U36: כן | V36: כן | W36: 1330 | X36: כן | Y36: כן | Z36: כן | AA36: כן | AB36: כן | AC36: כן | AD36: =IF(D36="","",IF(IFERROR(M36/I36,0)<15%,"לא","כן")) -> כן | AE36: כן | AG36: =IF(D36="",0,1) -> 1 | AI36: =IF($D36="","",AI$31) -> כן | AJ36: =IF($D36="","",AJ$31) -> לא | AL36: =IF($D36="","",IF(ISERR(MATCH(E36,$AI36:$AJ36)),AL$30,IF(E36="",AL$29,E36))) -> כן | AM36: =IF($D36="","",IF(ISERR(MATCH(F36,$AI36:$AJ36)),AM$30,IF(F36="",AM$29,F36))) -> כן | AN36: =IF($D36="","",IF(ISERR(MATCH(G36,$AI36:$AJ36)),AN$30,IF(G36="",AN$29,G36))) -> כן | AO36: =IF($D36="","",IF(ISERR(H36/3),AO$30,IF(H36="",AO$29,H36))) -> 14613 | AP36: =IF($D36="","",IF(ISERR(I36/3),AP$30,IF(I36="",AP$29,I36))) -> 1628 | AQ36: =IF($D36="","",IF(ISERR(J36/3),AQ$30,IF(J36="",AQ$29,J36))) -> 619 | AR36: =IF($D36="","",IF(ISERR(K36/3),AR$30,IF(K36="",AR$29,K36))) -> 390 | AS36: =IF($D36="","",IF(ISERR(L36/3),AS$30,IF(L36="",AS$29,L36))) -> 619 | AT36: =IF($D36="","",IF(ISERR(M36/3),AT$30,IF(M36="",AT$29,M36))) -> 1501 | AU36: =IF($D36="","",IF(ISERR(N36/3),AU$30,IF(N36="",AU$29,N36))) -> 127 | AV36: =IF($D36="","",IF(ISERR(MATCH(O36,$AI36:$AJ36)),AV$30,IF(O36="",AV$29,O36))) -> כן | AW36: =IF($D36="","",IF(ISERR(P36/3),AW$30,IF(P36="",AW$29,P36))) -> 23987 | AX36: =IF($D36="","",IF(ISERR(MATCH(Q36,$AI36:$AJ36)),AX$30,IF(Q36="",AX$29,Q36))) -> כן | AY36: =IF($D36="","",IF(ISERR(MATCH(R36,$AI36:$AJ36)),AY$30,IF(R36="",AY$29,R36))) -> כן | AZ36: =IF($D36="","",IF(ISERR(MATCH(S36,$AI36:$AJ36)),AZ$30,IF(S36="",AZ$29,S36))) -> כן | BA36: =IF($D36="","",IF(ISERR(MATCH(T36,$AI36:$AJ36)),BA$30,IF(T36="",BA$29,T36))) -> כן | BB36: =IF($D36="","",IF(ISERR(MATCH(U36,$AI36:$AJ36)),BB$30,IF(U36="",BB$29,U36))) -> כן | BC36: =IF($D36="","",IF(ISERR(MATCH(V36,$AI36:$AJ36)),BC$30,IF(V36="",BC$29,V36))) -> כן | BD36: =IF($D36="","",IF(ISERR(W36/3),BD$30,IF(W36="",BD$29,W36))) -> 1330 | BE36: =IF($D36="","",IF(ISERR(MATCH(X36,$AI36:$AJ36)),BE$30,IF(X36="",BE$29,X36))) -> כן | BF36: =IF($D36="","",IF(ISERR(MATCH(Y36,$AI36:$AJ36)),BF$30,IF(Y36="",BF$29,Y36))) -> כן | BG36: =IF($D36="","",IF(ISERR(MATCH(Z36,$AI36:$AJ36)),BG$30,IF(Z36="",BG$29,Z36))) -> כן | BH36: =IF($D36="","",IF(ISERR(MATCH(AA36,$AI36:$AJ36)),BH$30,IF(AA36="",BH$29,AA36))) -> כן | BI36: =IF($D36="","",IF(ISERR(MATCH(AB36,$AI36:$AJ36)),BI$30,IF(AB36="",BI$29,AB36))) -> כן | BJ36: =IF($D36="","",IF(ISERR(MATCH(AC36,$AI36:$AJ36)),BJ$30,IF(AC36="",BJ$29,AC36))) -> כן | BK36: =IF($D36="","",IF(ISERR(MATCH(AD36,$AI36:$AJ36)),BK$30,IF(AD36="",BK$29,AD36))) -> כן
B37: =#REF! -> #REF! | C37: 5 | AD37: =IF(D37="","",IF(IFERROR(M37/I37,0)<15%,"לא","כן")) | AG37: =IF(D37="",0,1) -> 0 | AI37: =IF($D37="","",AI$31) | AJ37: =IF($D37="","",AJ$31) | AL37: =IF($D37="","",IF(ISERR(MATCH(E37,$AI37:$AJ37)),AL$30,IF(E37="",AL$29,E37))) | AM37: =IF($D37="","",IF(ISERR(MATCH(F37,$AI37:$AJ37)),AM$30,IF(F37="",AM$29,F37))) | AN37: =IF($D37="","",IF(ISERR(MATCH(G37,$AI37:$AJ37)),AN$30,IF(G37="",AN$29,G37))) | AO37: =IF($D37="","",IF(ISERR(H37/3),AO$30,IF(H37="",AO$29,H37))) | AP37: =IF($D37="","",IF(ISERR(I37/3),AP$30,IF(I37="",AP$29,I37))) | AQ37: =IF($D37="","",IF(ISERR(J37/3),AQ$30,IF(J37="",AQ$29,J37))) | AR37: =IF($D37="","",IF(ISERR(K37/3),AR$30,IF(K37="",AR$29,K37))) | AS37: =IF($D37="","",IF(ISERR(L37/3),AS$30,IF(L37="",AS$29,L37))) | AT37: =IF($D37="","",IF(ISERR(M37/3),AT$30,IF(M37="",AT$29,M37))) | AU37: =IF($D37="","",IF(ISERR(N37/3),AU$30,IF(N37="",AU$29,N37))) | AV37: =IF($D37="","",IF(ISERR(MATCH(O37,$AI37:$AJ37)),AV$30,IF(O37="",AV$29,O37))) | AW37: =IF($D37="","",IF(ISERR(P37/3),AW$30,IF(P37="",AW$29,P37))) | AX37: =IF($D37="","",IF(ISERR(MATCH(Q37,$AI37:$AJ37)),AX$30,IF(Q37="",AX$29,Q37))) | AY37: =IF($D37="","",IF(ISERR(MATCH(R37,$AI37:$AJ37)),AY$30,IF(R37="",AY$29,R37))) | AZ37: =IF($D37="","",IF(ISERR(MATCH(S37,$AI37:$AJ37)),AZ$30,IF(S37="",AZ$29,S37))) | BA37: =IF($D37="","",IF(ISERR(MATCH(T37,$AI37:$AJ37)),BA$30,IF(T37="",BA$29,T37))) | BB37: =IF($D37="","",IF(ISERR(MATCH(U37,$AI37:$AJ37)),BB$30,IF(U37="",BB$29,U37))) | BC37: =IF($D37="","",IF(ISERR(MATCH(V37,$AI37:$AJ37)),BC$30,IF(V37="",BC$29,V37))) | BD37: =IF($D37="","",IF(ISERR(W37/3),BD$30,IF(W37="",BD$29,W37))) | BE37: =IF($D37="","",IF(ISERR(MATCH(X37,$AI37:$AJ37)),BE$30,IF(X37="",BE$29,X37))) | BF37: =IF($D37="","",IF(ISERR(MATCH(Y37,$AI37:$AJ37)),BF$30,IF(Y37="",BF$29,Y37))) | BG37: =IF($D37="","",IF(ISERR(MATCH(Z37,$AI37:$AJ37)),BG$30,IF(Z37="",BG$29,Z37))) | BH37: =IF($D37="","",IF(ISERR(MATCH(AA37,$AI37:$AJ37)),BH$30,IF(AA37="",BH$29,AA37))) | BI37: =IF($D37="","",IF(ISERR(MATCH(AB37,$AI37:$AJ37)),BI$30,IF(AB37="",BI$29,AB37))) | BJ37: =IF($D37="","",IF(ISERR(MATCH(AC37,$AI37:$AJ37)),BJ$30,IF(AC37="",BJ$29,AC37))) | BK37: =IF($D37="","",IF(ISERR(MATCH(AD37,$AI37:$AJ37)),BK$30,IF(AD37="",BK$29,AD37)))
B38: =#REF! -> #REF! | C38: 6 | AD38: =IF(D38="","",IF(IFERROR(M38/I38,0)<15%,"לא","כן")) | AG38: =IF(D38="",0,1) -> 0 | AI38: =IF($D38="","",AI$31) | AJ38: =IF($D38="","",AJ$31) | AL38: =IF($D38="","",IF(ISERR(MATCH(E38,$AI38:$AJ38)),AL$30,IF(E38="",AL$29,E38))) | AM38: =IF($D38="","",IF(ISERR(MATCH(F38,$AI38:$AJ38)),AM$30,IF(F38="",AM$29,F38))) | AN38: =IF($D38="","",IF(ISERR(MATCH(G38,$AI38:$AJ38)),AN$30,IF(G38="",AN$29,G38))) | AO38: =IF($D38="","",IF(ISERR(H38/3),AO$30,IF(H38="",AO$29,H38))) | AP38: =IF($D38="","",IF(ISERR(I38/3),AP$30,IF(I38="",AP$29,I38))) | AQ38: =IF($D38="","",IF(ISERR(J38/3),AQ$30,IF(J38="",AQ$29,J38))) | AR38: =IF($D38="","",IF(ISERR(K38/3),AR$30,IF(K38="",AR$29,K38))) | AS38: =IF($D38="","",IF(ISERR(L38/3),AS$30,IF(L38="",AS$29,L38))) | AT38: =IF($D38="","",IF(ISERR(M38/3),AT$30,IF(M38="",AT$29,M38))) | AU38: =IF($D38="","",IF(ISERR(N38/3),AU$30,IF(N38="",AU$29,N38))) | AV38: =IF($D38="","",IF(ISERR(MATCH(O38,$AI38:$AJ38)),AV$30,IF(O38="",AV$29,O38))) | AW38: =IF($D38="","",IF(ISERR(P38/3),AW$30,IF(P38="",AW$29,P38))) | AX38: =IF($D38="","",IF(ISERR(MATCH(Q38,$AI38:$AJ38)),AX$30,IF(Q38="",AX$29,Q38))) | AY38: =IF($D38="","",IF(ISERR(MATCH(R38,$AI38:$AJ38)),AY$30,IF(R38="",AY$29,R38))) | AZ38: =IF($D38="","",IF(ISERR(MATCH(S38,$AI38:$AJ38)),AZ$30,IF(S38="",AZ$29,S38))) | BA38: =IF($D38="","",IF(ISERR(MATCH(T38,$AI38:$AJ38)),BA$30,IF(T38="",BA$29,T38))) | BB38: =IF($D38="","",IF(ISERR(MATCH(U38,$AI38:$AJ38)),BB$30,IF(U38="",BB$29,U38))) | BC38: =IF($D38="","",IF(ISERR(MATCH(V38,$AI38:$AJ38)),BC$30,IF(V38="",BC$29,V38))) | BD38: =IF($D38="","",IF(ISERR(W38/3),BD$30,IF(W38="",BD$29,W38))) | BE38: =IF($D38="","",IF(ISERR(MATCH(X38,$AI38:$AJ38)),BE$30,IF(X38="",BE$29,X38))) | BF38: =IF($D38="","",IF(ISERR(MATCH(Y38,$AI38:$AJ38)),BF$30,IF(Y38="",BF$29,Y38))) | BG38: =IF($D38="","",IF(ISERR(MATCH(Z38,$AI38:$AJ38)),BG$30,IF(Z38="",BG$29,Z38))) | BH38: =IF($D38="","",IF(ISERR(MATCH(AA38,$AI38:$AJ38)),BH$30,IF(AA38="",BH$29,AA38))) | BI38: =IF($D38="","",IF(ISERR(MATCH(AB38,$AI38:$AJ38)),BI$30,IF(AB38="",BI$29,AB38))) | BJ38: =IF($D38="","",IF(ISERR(MATCH(AC38,$AI38:$AJ38)),BJ$30,IF(AC38="",BJ$29,AC38))) | BK38: =IF($D38="","",IF(ISERR(MATCH(AD38,$AI38:$AJ38)),BK$30,IF(AD38="",BK$29,AD38)))
B39: =#REF! -> #REF! | C39: 7 | AD39: =IF(D39="","",IF(IFERROR(M39/I39,0)<15%,"לא","כן")) | AG39: =IF(D39="",0,1) -> 0 | AI39: =IF($D39="","",AI$31) | AJ39: =IF($D39="","",AJ$31) | AL39: =IF($D39="","",IF(ISERR(MATCH(E39,$AI39:$AJ39)),AL$30,IF(E39="",AL$29,E39))) | AM39: =IF($D39="","",IF(ISERR(MATCH(F39,$AI39:$AJ39)),AM$30,IF(F39="",AM$29,F39))) | AN39: =IF($D39="","",IF(ISERR(MATCH(G39,$AI39:$AJ39)),AN$30,IF(G39="",AN$29,G39))) | AO39: =IF($D39="","",IF(ISERR(H39/3),AO$30,IF(H39="",AO$29,H39))) | AP39: =IF($D39="","",IF(ISERR(I39/3),AP$30,IF(I39="",AP$29,I39))) | AQ39: =IF($D39="","",IF(ISERR(J39/3),AQ$30,IF(J39="",AQ$29,J39))) | AR39: =IF($D39="","",IF(ISERR(K39/3),AR$30,IF(K39="",AR$29,K39))) | AS39: =IF($D39="","",IF(ISERR(L39/3),AS$30,IF(L39="",AS$29,L39))) | AT39: =IF($D39="","",IF(ISERR(M39/3),AT$30,IF(M39="",AT$29,M39))) | AU39: =IF($D39="","",IF(ISERR(N39/3),AU$30,IF(N39="",AU$29,N39))) | AV39: =IF($D39="","",IF(ISERR(MATCH(O39,$AI39:$AJ39)),AV$30,IF(O39="",AV$29,O39))) | AW39: =IF($D39="","",IF(ISERR(P39/3),AW$30,IF(P39="",AW$29,P39))) | AX39: =IF($D39="","",IF(ISERR(MATCH(Q39,$AI39:$AJ39)),AX$30,IF(Q39="",AX$29,Q39))) | AY39: =IF($D39="","",IF(ISERR(MATCH(R39,$AI39:$AJ39)),AY$30,IF(R39="",AY$29,R39))) | AZ39: =IF($D39="","",IF(ISERR(MATCH(S39,$AI39:$AJ39)),AZ$30,IF(S39="",AZ$29,S39))) | BA39: =IF($D39="","",IF(ISERR(MATCH(T39,$AI39:$AJ39)),BA$30,IF(T39="",BA$29,T39))) | BB39: =IF($D39="","",IF(ISERR(MATCH(U39,$AI39:$AJ39)),BB$30,IF(U39="",BB$29,U39))) | BC39: =IF($D39="","",IF(ISERR(MATCH(V39,$AI39:$AJ39)),BC$30,IF(V39="",BC$29,V39))) | BD39: =IF($D39="","",IF(ISERR(W39/3),BD$30,IF(W39="",BD$29,W39))) | BE39: =IF($D39="","",IF(ISERR(MATCH(X39,$AI39:$AJ39)),BE$30,IF(X39="",BE$29,X39))) | BF39: =IF($D39="","",IF(ISERR(MATCH(Y39,$AI39:$AJ39)),BF$30,IF(Y39="",BF$29,Y39))) | BG39: =IF($D39="","",IF(ISERR(MATCH(Z39,$AI39:$AJ39)),BG$30,IF(Z39="",BG$29,Z39))) | BH39: =IF($D39="","",IF(ISERR(MATCH(AA39,$AI39:$AJ39)),BH$30,IF(AA39="",BH$29,AA39))) | BI39: =IF($D39="","",IF(ISERR(MATCH(AB39,$AI39:$AJ39)),BI$30,IF(AB39="",BI$29,AB39))) | BJ39: =IF($D39="","",IF(ISERR(MATCH(AC39,$AI39:$AJ39)),BJ$30,IF(AC39="",BJ$29,AC39))) | BK39: =IF($D39="","",IF(ISERR(MATCH(AD39,$AI39:$AJ39)),BK$30,IF(AD39="",BK$29,AD39)))
B40: =#REF! -> #REF! | C40: 8 | AD40: =IF(D40="","",IF(IFERROR(M40/I40,0)<15%,"לא","כן")) | AG40: =IF(D40="",0,1) -> 0 | AI40: =IF($D40="","",AI$31) | AJ40: =IF($D40="","",AJ$31) | AL40: =IF($D40="","",IF(ISERR(MATCH(E40,$AI40:$AJ40)),AL$30,IF(E40="",AL$29,E40))) | AM40: =IF($D40="","",IF(ISERR(MATCH(F40,$AI40:$AJ40)),AM$30,IF(F40="",AM$29,F40))) | AN40: =IF($D40="","",IF(ISERR(MATCH(G40,$AI40:$AJ40)),AN$30,IF(G40="",AN$29,G40))) | AO40: =IF($D40="","",IF(ISERR(H40/3),AO$30,IF(H40="",AO$29,H40))) | AP40: =IF($D40="","",IF(ISERR(I40/3),AP$30,IF(I40="",AP$29,I40))) | AQ40: =IF($D40="","",IF(ISERR(J40/3),AQ$30,IF(J40="",AQ$29,J40))) | AR40: =IF($D40="","",IF(ISERR(K40/3),AR$30,IF(K40="",AR$29,K40))) | AS40: =IF($D40="","",IF(ISERR(L40/3),AS$30,IF(L40="",AS$29,L40))) | AT40: =IF($D40="","",IF(ISERR(M40/3),AT$30,IF(M40="",AT$29,M40))) | AU40: =IF($D40="","",IF(ISERR(N40/3),AU$30,IF(N40="",AU$29,N40))) | AV40: =IF($D40="","",IF(ISERR(MATCH(O40,$AI40:$AJ40)),AV$30,IF(O40="",AV$29,O40))) | AW40: =IF($D40="","",IF(ISERR(P40/3),AW$30,IF(P40="",AW$29,P40))) | AX40: =IF($D40="","",IF(ISERR(MATCH(Q40,$AI40:$AJ40)),AX$30,IF(Q40="",AX$29,Q40))) | AY40: =IF($D40="","",IF(ISERR(MATCH(R40,$AI40:$AJ40)),AY$30,IF(R40="",AY$29,R40))) | AZ40: =IF($D40="","",IF(ISERR(MATCH(S40,$AI40:$AJ40)),AZ$30,IF(S40="",AZ$29,S40))) | BA40: =IF($D40="","",IF(ISERR(MATCH(T40,$AI40:$AJ40)),BA$30,IF(T40="",BA$29,T40))) | BB40: =IF($D40="","",IF(ISERR(MATCH(U40,$AI40:$AJ40)),BB$30,IF(U40="",BB$29,U40))) | BC40: =IF($D40="","",IF(ISERR(MATCH(V40,$AI40:$AJ40)),BC$30,IF(V40="",BC$29,V40))) | BD40: =IF($D40="","",IF(ISERR(W40/3),BD$30,IF(W40="",BD$29,W40))) | BE40: =IF($D40="","",IF(ISERR(MATCH(X40,$AI40:$AJ40)),BE$30,IF(X40="",BE$29,X40))) | BF40: =IF($D40="","",IF(ISERR(MATCH(Y40,$AI40:$AJ40)),BF$30,IF(Y40="",BF$29,Y40))) | BG40: =IF($D40="","",IF(ISERR(MATCH(Z40,$AI40:$AJ40)),BG$30,IF(Z40="",BG$29,Z40))) | BH40: =IF($D40="","",IF(ISERR(MATCH(AA40,$AI40:$AJ40)),BH$30,IF(AA40="",BH$29,AA40))) | BI40: =IF($D40="","",IF(ISERR(MATCH(AB40,$AI40:$AJ40)),BI$30,IF(AB40="",BI$29,AB40))) | BJ40: =IF($D40="","",IF(ISERR(MATCH(AC40,$AI40:$AJ40)),BJ$30,IF(AC40="",BJ$29,AC40))) | BK40: =IF($D40="","",IF(ISERR(MATCH(AD40,$AI40:$AJ40)),BK$30,IF(AD40="",BK$29,AD40)))
B41: =#REF! -> #REF! | C41: 9 | AD41: =IF(D41="","",IF(IFERROR(M41/I41,0)<15%,"לא","כן")) | AG41: =IF(D41="",0,1) -> 0 | AI41: =IF($D41="","",AI$31) | AJ41: =IF($D41="","",AJ$31) | AL41: =IF($D41="","",IF(ISERR(MATCH(E41,$AI41:$AJ41)),AL$30,IF(E41="",AL$29,E41))) | AM41: =IF($D41="","",IF(ISERR(MATCH(F41,$AI41:$AJ41)),AM$30,IF(F41="",AM$29,F41))) | AN41: =IF($D41="","",IF(ISERR(MATCH(G41,$AI41:$AJ41)),AN$30,IF(G41="",AN$29,G41))) | AO41: =IF($D41="","",IF(ISERR(H41/3),AO$30,IF(H41="",AO$29,H41))) | AP41: =IF($D41="","",IF(ISERR(I41/3),AP$30,IF(I41="",AP$29,I41))) | AQ41: =IF($D41="","",IF(ISERR(J41/3),AQ$30,IF(J41="",AQ$29,J41))) | AR41: =IF($D41="","",IF(ISERR(K41/3),AR$30,IF(K41="",AR$29,K41))) | AS41: =IF($D41="","",IF(ISERR(L41/3),AS$30,IF(L41="",AS$29,L41))) | AT41: =IF($D41="","",IF(ISERR(M41/3),AT$30,IF(M41="",AT$29,M41))) | AU41: =IF($D41="","",IF(ISERR(N41/3),AU$30,IF(N41="",AU$29,N41))) | AV41: =IF($D41="","",IF(ISERR(MATCH(O41,$AI41:$AJ41)),AV$30,IF(O41="",AV$29,O41))) | AW41: =IF($D41="","",IF(ISERR(P41/3),AW$30,IF(P41="",AW$29,P41))) | AX41: =IF($D41="","",IF(ISERR(MATCH(Q41,$AI41:$AJ41)),AX$30,IF(Q41="",AX$29,Q41))) | AY41: =IF($D41="","",IF(ISERR(MATCH(R41,$AI41:$AJ41)),AY$30,IF(R41="",AY$29,R41))) | AZ41: =IF($D41="","",IF(ISERR(MATCH(S41,$AI41:$AJ41)),AZ$30,IF(S41="",AZ$29,S41))) | BA41: =IF($D41="","",IF(ISERR(MATCH(T41,$AI41:$AJ41)),BA$30,IF(T41="",BA$29,T41))) | BB41: =IF($D41="","",IF(ISERR(MATCH(U41,$AI41:$AJ41)),BB$30,IF(U41="",BB$29,U41))) | BC41: =IF($D41="","",IF(ISERR(MATCH(V41,$AI41:$AJ41)),BC$30,IF(V41="",BC$29,V41))) | BD41: =IF($D41="","",IF(ISERR(W41/3),BD$30,IF(W41="",BD$29,W41))) | BE41: =IF($D41="","",IF(ISERR(MATCH(X41,$AI41:$AJ41)),BE$30,IF(X41="",BE$29,X41))) | BF41: =IF($D41="","",IF(ISERR(MATCH(Y41,$AI41:$AJ41)),BF$30,IF(Y41="",BF$29,Y41))) | BG41: =IF($D41="","",IF(ISERR(MATCH(Z41,$AI41:$AJ41)),BG$30,IF(Z41="",BG$29,Z41))) | BH41: =IF($D41="","",IF(ISERR(MATCH(AA41,$AI41:$AJ41)),BH$30,IF(AA41="",BH$29,AA41))) | BI41: =IF($D41="","",IF(ISERR(MATCH(AB41,$AI41:$AJ41)),BI$30,IF(AB41="",BI$29,AB41))) | BJ41: =IF($D41="","",IF(ISERR(MATCH(AC41,$AI41:$AJ41)),BJ$30,IF(AC41="",BJ$29,AC41))) | BK41: =IF($D41="","",IF(ISERR(MATCH(AD41,$AI41:$AJ41)),BK$30,IF(AD41="",BK$29,AD41)))
B42: =#REF! -> #REF! | C42: 10 | AD42: =IF(D42="","",IF(IFERROR(M42/I42,0)<15%,"לא","כן")) | AG42: =IF(D42="",0,1) -> 0 | AI42: =IF($D42="","",AI$31) | AJ42: =IF($D42="","",AJ$31) | AL42: =IF($D42="","",IF(ISERR(MATCH(E42,$AI42:$AJ42)),AL$30,IF(E42="",AL$29,E42))) | AM42: =IF($D42="","",IF(ISERR(MATCH(F42,$AI42:$AJ42)),AM$30,IF(F42="",AM$29,F42))) | AN42: =IF($D42="","",IF(ISERR(MATCH(G42,$AI42:$AJ42)),AN$30,IF(G42="",AN$29,G42))) | AO42: =IF($D42="","",IF(ISERR(H42/3),AO$30,IF(H42="",AO$29,H42))) | AP42: =IF($D42="","",IF(ISERR(I42/3),AP$30,IF(I42="",AP$29,I42))) | AQ42: =IF($D42="","",IF(ISERR(J42/3),AQ$30,IF(J42="",AQ$29,J42))) | AR42: =IF($D42="","",IF(ISERR(K42/3),AR$30,IF(K42="",AR$29,K42))) | AS42: =IF($D42="","",IF(ISERR(L42/3),AS$30,IF(L42="",AS$29,L42))) | AT42: =IF($D42="","",IF(ISERR(M42/3),AT$30,IF(M42="",AT$29,M42))) | AU42: =IF($D42="","",IF(ISERR(N42/3),AU$30,IF(N42="",AU$29,N42))) | AV42: =IF($D42="","",IF(ISERR(MATCH(O42,$AI42:$AJ42)),AV$30,IF(O42="",AV$29,O42))) | AW42: =IF($D42="","",IF(ISERR(P42/3),AW$30,IF(P42="",AW$29,P42))) | AX42: =IF($D42="","",IF(ISERR(MATCH(Q42,$AI42:$AJ42)),AX$30,IF(Q42="",AX$29,Q42))) | AY42: =IF($D42="","",IF(ISERR(MATCH(R42,$AI42:$AJ42)),AY$30,IF(R42="",AY$29,R42))) | AZ42: =IF($D42="","",IF(ISERR(MATCH(S42,$AI42:$AJ42)),AZ$30,IF(S42="",AZ$29,S42))) | BA42: =IF($D42="","",IF(ISERR(MATCH(T42,$AI42:$AJ42)),BA$30,IF(T42="",BA$29,T42))) | BB42: =IF($D42="","",IF(ISERR(MATCH(U42,$AI42:$AJ42)),BB$30,IF(U42="",BB$29,U42))) | BC42: =IF($D42="","",IF(ISERR(MATCH(V42,$AI42:$AJ42)),BC$30,IF(V42="",BC$29,V42))) | BD42: =IF($D42="","",IF(ISERR(W42/3),BD$30,IF(W42="",BD$29,W42))) | BE42: =IF($D42="","",IF(ISERR(MATCH(X42,$AI42:$AJ42)),BE$30,IF(X42="",BE$29,X42))) | BF42: =IF($D42="","",IF(ISERR(MATCH(Y42,$AI42:$AJ42)),BF$30,IF(Y42="",BF$29,Y42))) | BG42: =IF($D42="","",IF(ISERR(MATCH(Z42,$AI42:$AJ42)),BG$30,IF(Z42="",BG$29,Z42))) | BH42: =IF($D42="","",IF(ISERR(MATCH(AA42,$AI42:$AJ42)),BH$30,IF(AA42="",BH$29,AA42))) | BI42: =IF($D42="","",IF(ISERR(MATCH(AB42,$AI42:$AJ42)),BI$30,IF(AB42="",BI$29,AB42))) | BJ42: =IF($D42="","",IF(ISERR(MATCH(AC42,$AI42:$AJ42)),BJ$30,IF(AC42="",BJ$29,AC42))) | BK42: =IF($D42="","",IF(ISERR(MATCH(AD42,$AI42:$AJ42)),BK$30,IF(AD42="",BK$29,AD42)))
B43: =#REF! -> #REF! | C43: 11 | AD43: =IF(D43="","",IF(IFERROR(M43/I43,0)<15%,"לא","כן")) | AG43: =IF(D43="",0,1) -> 0 | AI43: =IF($D43="","",AI$31) | AJ43: =IF($D43="","",AJ$31) | AL43: =IF($D43="","",IF(ISERR(MATCH(E43,$AI43:$AJ43)),AL$30,IF(E43="",AL$29,E43))) | AM43: =IF($D43="","",IF(ISERR(MATCH(F43,$AI43:$AJ43)),AM$30,IF(F43="",AM$29,F43))) | AN43: =IF($D43="","",IF(ISERR(MATCH(G43,$AI43:$AJ43)),AN$30,IF(G43="",AN$29,G43))) | AO43: =IF($D43="","",IF(ISERR(H43/3),AO$30,IF(H43="",AO$29,H43))) | AP43: =IF($D43="","",IF(ISERR(I43/3),AP$30,IF(I43="",AP$29,I43))) | AQ43: =IF($D43="","",IF(ISERR(J43/3),AQ$30,IF(J43="",AQ$29,J43))) | AR43: =IF($D43="","",IF(ISERR(K43/3),AR$30,IF(K43="",AR$29,K43))) | AS43: =IF($D43="","",IF(ISERR(L43/3),AS$30,IF(L43="",AS$29,L43))) | AT43: =IF($D43="","",IF(ISERR(M43/3),AT$30,IF(M43="",AT$29,M43))) | AU43: =IF($D43="","",IF(ISERR(N43/3),AU$30,IF(N43="",AU$29,N43))) | AV43: =IF($D43="","",IF(ISERR(MATCH(O43,$AI43:$AJ43)),AV$30,IF(O43="",AV$29,O43))) | AW43: =IF($D43="","",IF(ISERR(P43/3),AW$30,IF(P43="",AW$29,P43))) | AX43: =IF($D43="","",IF(ISERR(MATCH(Q43,$AI43:$AJ43)),AX$30,IF(Q43="",AX$29,Q43))) | AY43: =IF($D43="","",IF(ISERR(MATCH(R43,$AI43:$AJ43)),AY$30,IF(R43="",AY$29,R43))) | AZ43: =IF($D43="","",IF(ISERR(MATCH(S43,$AI43:$AJ43)),AZ$30,IF(S43="",AZ$29,S43))) | BA43: =IF($D43="","",IF(ISERR(MATCH(T43,$AI43:$AJ43)),BA$30,IF(T43="",BA$29,T43))) | BB43: =IF($D43="","",IF(ISERR(MATCH(U43,$AI43:$AJ43)),BB$30,IF(U43="",BB$29,U43))) | BC43: =IF($D43="","",IF(ISERR(MATCH(V43,$AI43:$AJ43)),BC$30,IF(V43="",BC$29,V43))) | BD43: =IF($D43="","",IF(ISERR(W43/3),BD$30,IF(W43="",BD$29,W43))) | BE43: =IF($D43="","",IF(ISERR(MATCH(X43,$AI43:$AJ43)),BE$30,IF(X43="",BE$29,X43))) | BF43: =IF($D43="","",IF(ISERR(MATCH(Y43,$AI43:$AJ43)),BF$30,IF(Y43="",BF$29,Y43))) | BG43: =IF($D43="","",IF(ISERR(MATCH(Z43,$AI43:$AJ43)),BG$30,IF(Z43="",BG$29,Z43))) | BH43: =IF($D43="","",IF(ISERR(MATCH(AA43,$AI43:$AJ43)),BH$30,IF(AA43="",BH$29,AA43))) | BI43: =IF($D43="","",IF(ISERR(MATCH(AB43,$AI43:$AJ43)),BI$30,IF(AB43="",BI$29,AB43))) | BJ43: =IF($D43="","",IF(ISERR(MATCH(AC43,$AI43:$AJ43)),BJ$30,IF(AC43="",BJ$29,AC43))) | BK43: =IF($D43="","",IF(ISERR(MATCH(AD43,$AI43:$AJ43)),BK$30,IF(AD43="",BK$29,AD43)))
B44: =#REF! -> #REF! | C44: 12 | AD44: =IF(D44="","",IF(IFERROR(M44/I44,0)<15%,"לא","כן")) | AG44: =IF(D44="",0,1) -> 0 | AI44: =IF($D44="","",AI$31) | AJ44: =IF($D44="","",AJ$31) | AL44: =IF($D44="","",IF(ISERR(MATCH(E44,$AI44:$AJ44)),AL$30,IF(E44="",AL$29,E44))) | AM44: =IF($D44="","",IF(ISERR(MATCH(F44,$AI44:$AJ44)),AM$30,IF(F44="",AM$29,F44))) | AN44: =IF($D44="","",IF(ISERR(MATCH(G44,$AI44:$AJ44)),AN$30,IF(G44="",AN$29,G44))) | AO44: =IF($D44="","",IF(ISERR(H44/3),AO$30,IF(H44="",AO$29,H44))) | AP44: =IF($D44="","",IF(ISERR(I44/3),AP$30,IF(I44="",AP$29,I44))) | AQ44: =IF($D44="","",IF(ISERR(J44/3),AQ$30,IF(J44="",AQ$29,J44))) | AR44: =IF($D44="","",IF(ISERR(K44/3),AR$30,IF(K44="",AR$29,K44))) | AS44: =IF($D44="","",IF(ISERR(L44/3),AS$30,IF(L44="",AS$29,L44))) | AT44: =IF($D44="","",IF(ISERR(M44/3),AT$30,IF(M44="",AT$29,M44))) | AU44: =IF($D44="","",IF(ISERR(N44/3),AU$30,IF(N44="",AU$29,N44))) | AV44: =IF($D44="","",IF(ISERR(MATCH(O44,$AI44:$AJ44)),AV$30,IF(O44="",AV$29,O44))) | AW44: =IF($D44="","",IF(ISERR(P44/3),AW$30,IF(P44="",AW$29,P44))) | AX44: =IF($D44="","",IF(ISERR(MATCH(Q44,$AI44:$AJ44)),AX$30,IF(Q44="",AX$29,Q44))) | AY44: =IF($D44="","",IF(ISERR(MATCH(R44,$AI44:$AJ44)),AY$30,IF(R44="",AY$29,R44))) | AZ44: =IF($D44="","",IF(ISERR(MATCH(S44,$AI44:$AJ44)),AZ$30,IF(S44="",AZ$29,S44))) | BA44: =IF($D44="","",IF(ISERR(MATCH(T44,$AI44:$AJ44)),BA$30,IF(T44="",BA$29,T44))) | BB44: =IF($D44="","",IF(ISERR(MATCH(U44,$AI44:$AJ44)),BB$30,IF(U44="",BB$29,U44))) | BC44: =IF($D44="","",IF(ISERR(MATCH(V44,$AI44:$AJ44)),BC$30,IF(V44="",BC$29,V44))) | BD44: =IF($D44="","",IF(ISERR(W44/3),BD$30,IF(W44="",BD$29,W44))) | BE44: =IF($D44="","",IF(ISERR(MATCH(X44,$AI44:$AJ44)),BE$30,IF(X44="",BE$29,X44))) | BF44: =IF($D44="","",IF(ISERR(MATCH(Y44,$AI44:$AJ44)),BF$30,IF(Y44="",BF$29,Y44))) | BG44: =IF($D44="","",IF(ISERR(MATCH(Z44,$AI44:$AJ44)),BG$30,IF(Z44="",BG$29,Z44))) | BH44: =IF($D44="","",IF(ISERR(MATCH(AA44,$AI44:$AJ44)),BH$30,IF(AA44="",BH$29,AA44))) | BI44: =IF($D44="","",IF(ISERR(MATCH(AB44,$AI44:$AJ44)),BI$30,IF(AB44="",BI$29,AB44))) | BJ44: =IF($D44="","",IF(ISERR(MATCH(AC44,$AI44:$AJ44)),BJ$30,IF(AC44="",BJ$29,AC44))) | BK44: =IF($D44="","",IF(ISERR(MATCH(AD44,$AI44:$AJ44)),BK$30,IF(AD44="",BK$29,AD44)))
B45: =#REF! -> #REF! | C45: 13 | AD45: =IF(D45="","",IF(IFERROR(M45/I45,0)<15%,"לא","כן")) | AG45: =IF(D45="",0,1) -> 0 | AI45: =IF($D45="","",AI$31) | AJ45: =IF($D45="","",AJ$31) | AL45: =IF($D45="","",IF(ISERR(MATCH(E45,$AI45:$AJ45)),AL$30,IF(E45="",AL$29,E45))) | AM45: =IF($D45="","",IF(ISERR(MATCH(F45,$AI45:$AJ45)),AM$30,IF(F45="",AM$29,F45))) | AN45: =IF($D45="","",IF(ISERR(MATCH(G45,$AI45:$AJ45)),AN$30,IF(G45="",AN$29,G45))) | AO45: =IF($D45="","",IF(ISERR(H45/3),AO$30,IF(H45="",AO$29,H45))) | AP45: =IF($D45="","",IF(ISERR(I45/3),AP$30,IF(I45="",AP$29,I45))) | AQ45: =IF($D45="","",IF(ISERR(J45/3),AQ$30,IF(J45="",AQ$29,J45))) | AR45: =IF($D45="","",IF(ISERR(K45/3),AR$30,IF(K45="",AR$29,K45))) | AS45: =IF($D45="","",IF(ISERR(L45/3),AS$30,IF(L45="",AS$29,L45))) | AT45: =IF($D45="","",IF(ISERR(M45/3),AT$30,IF(M45="",AT$29,M45))) | AU45: =IF($D45="","",IF(ISERR(N45/3),AU$30,IF(N45="",AU$29,N45))) | AV45: =IF($D45="","",IF(ISERR(MATCH(O45,$AI45:$AJ45)),AV$30,IF(O45="",AV$29,O45))) | AW45: =IF($D45="","",IF(ISERR(P45/3),AW$30,IF(P45="",AW$29,P45))) | AX45: =IF($D45="","",IF(ISERR(MATCH(Q45,$AI45:$AJ45)),AX$30,IF(Q45="",AX$29,Q45))) | AY45: =IF($D45="","",IF(ISERR(MATCH(R45,$AI45:$AJ45)),AY$30,IF(R45="",AY$29,R45))) | AZ45: =IF($D45="","",IF(ISERR(MATCH(S45,$AI45:$AJ45)),AZ$30,IF(S45="",AZ$29,S45))) | BA45: =IF($D45="","",IF(ISERR(MATCH(T45,$AI45:$AJ45)),BA$30,IF(T45="",BA$29,T45))) | BB45: =IF($D45="","",IF(ISERR(MATCH(U45,$AI45:$AJ45)),BB$30,IF(U45="",BB$29,U45))) | BC45: =IF($D45="","",IF(ISERR(MATCH(V45,$AI45:$AJ45)),BC$30,IF(V45="",BC$29,V45))) | BD45: =IF($D45="","",IF(ISERR(W45/3),BD$30,IF(W45="",BD$29,W45))) | BE45: =IF($D45="","",IF(ISERR(MATCH(X45,$AI45:$AJ45)),BE$30,IF(X45="",BE$29,X45))) | BF45: =IF($D45="","",IF(ISERR(MATCH(Y45,$AI45:$AJ45)),BF$30,IF(Y45="",BF$29,Y45))) | BG45: =IF($D45="","",IF(ISERR(MATCH(Z45,$AI45:$AJ45)),BG$30,IF(Z45="",BG$29,Z45))) | BH45: =IF($D45="","",IF(ISERR(MATCH(AA45,$AI45:$AJ45)),BH$30,IF(AA45="",BH$29,AA45))) | BI45: =IF($D45="","",IF(ISERR(MATCH(AB45,$AI45:$AJ45)),BI$30,IF(AB45="",BI$29,AB45))) | BJ45: =IF($D45="","",IF(ISERR(MATCH(AC45,$AI45:$AJ45)),BJ$30,IF(AC45="",BJ$29,AC45))) | BK45: =IF($D45="","",IF(ISERR(MATCH(AD45,$AI45:$AJ45)),BK$30,IF(AD45="",BK$29,AD45)))
B46: =#REF! -> #REF! | C46: 14 | AD46: =IF(D46="","",IF(IFERROR(M46/I46,0)<15%,"לא","כן")) | AG46: =IF(D46="",0,1) -> 0 | AI46: =IF($D46="","",AI$31) | AJ46: =IF($D46="","",AJ$31) | AL46: =IF($D46="","",IF(ISERR(MATCH(E46,$AI46:$AJ46)),AL$30,IF(E46="",AL$29,E46))) | AM46: =IF($D46="","",IF(ISERR(MATCH(F46,$AI46:$AJ46)),AM$30,IF(F46="",AM$29,F46))) | AN46: =IF($D46="","",IF(ISERR(MATCH(G46,$AI46:$AJ46)),AN$30,IF(G46="",AN$29,G46))) | AO46: =IF($D46="","",IF(ISERR(H46/3),AO$30,IF(H46="",AO$29,H46))) | AP46: =IF($D46="","",IF(ISERR(I46/3),AP$30,IF(I46="",AP$29,I46))) | AQ46: =IF($D46="","",IF(ISERR(J46/3),AQ$30,IF(J46="",AQ$29,J46))) | AR46: =IF($D46="","",IF(ISERR(K46/3),AR$30,IF(K46="",AR$29,K46))) | AS46: =IF($D46="","",IF(ISERR(L46/3),AS$30,IF(L46="",AS$29,L46))) | AT46: =IF($D46="","",IF(ISERR(M46/3),AT$30,IF(M46="",AT$29,M46))) | AU46: =IF($D46="","",IF(ISERR(N46/3),AU$30,IF(N46="",AU$29,N46))) | AV46: =IF($D46="","",IF(ISERR(MATCH(O46,$AI46:$AJ46)),AV$30,IF(O46="",AV$29,O46))) | AW46: =IF($D46="","",IF(ISERR(P46/3),AW$30,IF(P46="",AW$29,P46))) | AX46: =IF($D46="","",IF(ISERR(MATCH(Q46,$AI46:$AJ46)),AX$30,IF(Q46="",AX$29,Q46))) | AY46: =IF($D46="","",IF(ISERR(MATCH(R46,$AI46:$AJ46)),AY$30,IF(R46="",AY$29,R46))) | AZ46: =IF($D46="","",IF(ISERR(MATCH(S46,$AI46:$AJ46)),AZ$30,IF(S46="",AZ$29,S46))) | BA46: =IF($D46="","",IF(ISERR(MATCH(T46,$AI46:$AJ46)),BA$30,IF(T46="",BA$29,T46))) | BB46: =IF($D46="","",IF(ISERR(MATCH(U46,$AI46:$AJ46)),BB$30,IF(U46="",BB$29,U46))) | BC46: =IF($D46="","",IF(ISERR(MATCH(V46,$AI46:$AJ46)),BC$30,IF(V46="",BC$29,V46))) | BD46: =IF($D46="","",IF(ISERR(W46/3),BD$30,IF(W46="",BD$29,W46))) | BE46: =IF($D46="","",IF(ISERR(MATCH(X46,$AI46:$AJ46)),BE$30,IF(X46="",BE$29,X46))) | BF46: =IF($D46="","",IF(ISERR(MATCH(Y46,$AI46:$AJ46)),BF$30,IF(Y46="",BF$29,Y46))) | BG46: =IF($D46="","",IF(ISERR(MATCH(Z46,$AI46:$AJ46)),BG$30,IF(Z46="",BG$29,Z46))) | BH46: =IF($D46="","",IF(ISERR(MATCH(AA46,$AI46:$AJ46)),BH$30,IF(AA46="",BH$29,AA46))) | BI46: =IF($D46="","",IF(ISERR(MATCH(AB46,$AI46:$AJ46)),BI$30,IF(AB46="",BI$29,AB46))) | BJ46: =IF($D46="","",IF(ISERR(MATCH(AC46,$AI46:$AJ46)),BJ$30,IF(AC46="",BJ$29,AC46))) | BK46: =IF($D46="","",IF(ISERR(MATCH(AD46,$AI46:$AJ46)),BK$30,IF(AD46="",BK$29,AD46)))
B47: =#REF! -> #REF! | C47: 15 | AD47: =IF(D47="","",IF(IFERROR(M47/I47,0)<15%,"לא","כן")) | AG47: =IF(D47="",0,1) -> 0 | AI47: =IF($D47="","",AI$31) | AJ47: =IF($D47="","",AJ$31) | AL47: =IF($D47="","",IF(ISERR(MATCH(E47,$AI47:$AJ47)),AL$30,IF(E47="",AL$29,E47))) | AM47: =IF($D47="","",IF(ISERR(MATCH(F47,$AI47:$AJ47)),AM$30,IF(F47="",AM$29,F47))) | AN47: =IF($D47="","",IF(ISERR(MATCH(G47,$AI47:$AJ47)),AN$30,IF(G47="",AN$29,G47))) | AO47: =IF($D47="","",IF(ISERR(H47/3),AO$30,IF(H47="",AO$29,H47))) | AP47: =IF($D47="","",IF(ISERR(I47/3),AP$30,IF(I47="",AP$29,I47))) | AQ47: =IF($D47="","",IF(ISERR(J47/3),AQ$30,IF(J47="",AQ$29,J47))) | AR47: =IF($D47="","",IF(ISERR(K47/3),AR$30,IF(K47="",AR$29,K47))) | AS47: =IF($D47="","",IF(ISERR(L47/3),AS$30,IF(L47="",AS$29,L47))) | AT47: =IF($D47="","",IF(ISERR(M47/3),AT$30,IF(M47="",AT$29,M47))) | AU47: =IF($D47="","",IF(ISERR(N47/3),AU$30,IF(N47="",AU$29,N47))) | AV47: =IF($D47="","",IF(ISERR(MATCH(O47,$AI47:$AJ47)),AV$30,IF(O47="",AV$29,O47))) | AW47: =IF($D47="","",IF(ISERR(P47/3),AW$30,IF(P47="",AW$29,P47))) | AX47: =IF($D47="","",IF(ISERR(MATCH(Q47,$AI47:$AJ47)),AX$30,IF(Q47="",AX$29,Q47))) | AY47: =IF($D47="","",IF(ISERR(MATCH(R47,$AI47:$AJ47)),AY$30,IF(R47="",AY$29,R47))) | AZ47: =IF($D47="","",IF(ISERR(MATCH(S47,$AI47:$AJ47)),AZ$30,IF(S47="",AZ$29,S47))) | BA47: =IF($D47="","",IF(ISERR(MATCH(T47,$AI47:$AJ47)),BA$30,IF(T47="",BA$29,T47))) | BB47: =IF($D47="","",IF(ISERR(MATCH(U47,$AI47:$AJ47)),BB$30,IF(U47="",BB$29,U47))) | BC47: =IF($D47="","",IF(ISERR(MATCH(V47,$AI47:$AJ47)),BC$30,IF(V47="",BC$29,V47))) | BD47: =IF($D47="","",IF(ISERR(W47/3),BD$30,IF(W47="",BD$29,W47))) | BE47: =IF($D47="","",IF(ISERR(MATCH(X47,$AI47:$AJ47)),BE$30,IF(X47="",BE$29,X47))) | BF47: =IF($D47="","",IF(ISERR(MATCH(Y47,$AI47:$AJ47)),BF$30,IF(Y47="",BF$29,Y47))) | BG47: =IF($D47="","",IF(ISERR(MATCH(Z47,$AI47:$AJ47)),BG$30,IF(Z47="",BG$29,Z47))) | BH47: =IF($D47="","",IF(ISERR(MATCH(AA47,$AI47:$AJ47)),BH$30,IF(AA47="",BH$29,AA47))) | BI47: =IF($D47="","",IF(ISERR(MATCH(AB47,$AI47:$AJ47)),BI$30,IF(AB47="",BI$29,AB47))) | BJ47: =IF($D47="","",IF(ISERR(MATCH(AC47,$AI47:$AJ47)),BJ$30,IF(AC47="",BJ$29,AC47))) | BK47: =IF($D47="","",IF(ISERR(MATCH(AD47,$AI47:$AJ47)),BK$30,IF(AD47="",BK$29,AD47)))
B48: =#REF! -> #REF! | C48: 16 | AD48: =IF(D48="","",IF(IFERROR(M48/I48,0)<15%,"לא","כן")) | AG48: =IF(D48="",0,1) -> 0 | AI48: =IF($D48="","",AI$31) | AJ48: =IF($D48="","",AJ$31) | AL48: =IF($D48="","",IF(ISERR(MATCH(E48,$AI48:$AJ48)),AL$30,IF(E48="",AL$29,E48))) | AM48: =IF($D48="","",IF(ISERR(MATCH(F48,$AI48:$AJ48)),AM$30,IF(F48="",AM$29,F48))) | AN48: =IF($D48="","",IF(ISERR(MATCH(G48,$AI48:$AJ48)),AN$30,IF(G48="",AN$29,G48))) | AO48: =IF($D48="","",IF(ISERR(H48/3),AO$30,IF(H48="",AO$29,H48))) | AP48: =IF($D48="","",IF(ISERR(I48/3),AP$30,IF(I48="",AP$29,I48))) | AQ48: =IF($D48="","",IF(ISERR(J48/3),AQ$30,IF(J48="",AQ$29,J48))) | AR48: =IF($D48="","",IF(ISERR(K48/3),AR$30,IF(K48="",AR$29,K48))) | AS48: =IF($D48="","",IF(ISERR(L48/3),AS$30,IF(L48="",AS$29,L48))) | AT48: =IF($D48="","",IF(ISERR(M48/3),AT$30,IF(M48="",AT$29,M48))) | AU48: =IF($D48="","",IF(ISERR(N48/3),AU$30,IF(N48="",AU$29,N48))) | AV48: =IF($D48="","",IF(ISERR(MATCH(O48,$AI48:$AJ48)),AV$30,IF(O48="",AV$29,O48))) | AW48: =IF($D48="","",IF(ISERR(P48/3),AW$30,IF(P48="",AW$29,P48))) | AX48: =IF($D48="","",IF(ISERR(MATCH(Q48,$AI48:$AJ48)),AX$30,IF(Q48="",AX$29,Q48))) | AY48: =IF($D48="","",IF(ISERR(MATCH(R48,$AI48:$AJ48)),AY$30,IF(R48="",AY$29,R48))) | AZ48: =IF($D48="","",IF(ISERR(MATCH(S48,$AI48:$AJ48)),AZ$30,IF(S48="",AZ$29,S48))) | BA48: =IF($D48="","",IF(ISERR(MATCH(T48,$AI48:$AJ48)),BA$30,IF(T48="",BA$29,T48))) | BB48: =IF($D48="","",IF(ISERR(MATCH(U48,$AI48:$AJ48)),BB$30,IF(U48="",BB$29,U48))) | BC48: =IF($D48="","",IF(ISERR(MATCH(V48,$AI48:$AJ48)),BC$30,IF(V48="",BC$29,V48))) | BD48: =IF($D48="","",IF(ISERR(W48/3),BD$30,IF(W48="",BD$29,W48))) | BE48: =IF($D48="","",IF(ISERR(MATCH(X48,$AI48:$AJ48)),BE$30,IF(X48="",BE$29,X48))) | BF48: =IF($D48="","",IF(ISERR(MATCH(Y48,$AI48:$AJ48)),BF$30,IF(Y48="",BF$29,Y48))) | BG48: =IF($D48="","",IF(ISERR(MATCH(Z48,$AI48:$AJ48)),BG$30,IF(Z48="",BG$29,Z48))) | BH48: =IF($D48="","",IF(ISERR(MATCH(AA48,$AI48:$AJ48)),BH$30,IF(AA48="",BH$29,AA48))) | BI48: =IF($D48="","",IF(ISERR(MATCH(AB48,$AI48:$AJ48)),BI$30,IF(AB48="",BI$29,AB48))) | BJ48: =IF($D48="","",IF(ISERR(MATCH(AC48,$AI48:$AJ48)),BJ$30,IF(AC48="",BJ$29,AC48))) | BK48: =IF($D48="","",IF(ISERR(MATCH(AD48,$AI48:$AJ48)),BK$30,IF(AD48="",BK$29,AD48)))
... B92: =#REF! -> #REF! | C92: 60 | AD92: =IF(D92="","",IF(IFERROR(M92/I92,0)<15%,"לא","כן")) | AG92: =IF(D92="",0,1) -> 0 | AI92: =IF($D92="","",AI$31) | AJ92: =IF($D92="","",AJ$31) | AL92: =IF($D92="","",IF(ISERR(MATCH(E92,$AI92:$AJ92)),AL$30,IF(E92="",AL$29,E92))) | AM92: =IF($D92="","",IF(ISERR(MATCH(F92,$AI92:$AJ92)),AM$30,IF(F92="",AM$29,F92))) | AN92: =IF($D92="","",IF(ISERR(MATCH(G92,$AI92:$AJ92)),AN$30,IF(G92="",AN$29,G92))) | AO92: =IF($D92="","",IF(ISERR(H92/3),AO$30,IF(H92="",AO$29,H92))) | AP92: =IF($D92="","",IF(ISERR(I92/3),AP$30,IF(I92="",AP$29,I92))) | AQ92: =IF($D92="","",IF(ISERR(J92/3),AQ$30,IF(J92="",AQ$29,J92))) | AR92: =IF($D92="","",IF(ISERR(K92/3),AR$30,IF(K92="",AR$29,K92))) | AS92: =IF($D92="","",IF(ISERR(L92/3),AS$30,IF(L92="",AS$29,L92))) | AT92: =IF($D92="","",IF(ISERR(M92/3),AT$30,IF(M92="",AT$29,M92))) | AU92: =IF($D92="","",IF(ISERR(N92/3),AU$30,IF(N92="",AU$29,N92))) | AV92: =IF($D92="","",IF(ISERR(MATCH(O92,$AI92:$AJ92)),AV$30,IF(O92="",AV$29,O92))) | AW92: =IF($D92="","",IF(ISERR(P92/3),AW$30,IF(P92="",AW$29,P92))) | AX92: =IF($D92="","",IF(ISERR(MATCH(Q92,$AI92:$AJ92)),AX$30,IF(Q92="",AX$29,Q92))) | AY92: =IF($D92="","",IF(ISERR(MATCH(R92,$AI92:$AJ92)),AY$30,IF(R92="",AY$29,R92))) | AZ92: =IF($D92="","",IF(ISERR(MATCH(S92,$AI92:$AJ92)),AZ$30,IF(S92="",AZ$29,S92))) | BA92: =IF($D92="","",IF(ISERR(MATCH(T92,$AI92:$AJ92)),BA$30,IF(T92="",BA$29,T92))) | BB92: =IF($D92="","",IF(ISERR(MATCH(U92,$AI92:$AJ92)),BB$30,IF(U92="",BB$29,U92))) | BC92: =IF($D92="","",IF(ISERR(MATCH(V92,$AI92:$AJ92)),BC$30,IF(V92="",BC$29,V92))) | BD92: =IF($D92="","",IF(ISERR(W92/3),BD$30,IF(W92="",BD$29,W92))) | BE92: =IF($D92="","",IF(ISERR(MATCH(X92,$AI92:$AJ92)),BE$30,IF(X92="",BE$29,X92))) | BF92: =IF($D92="","",IF(ISERR(MATCH(Y92,$AI92:$AJ92)),BF$30,IF(Y92="",BF$29,Y92))) | BG92: =IF($D92="","",IF(ISERR(MATCH(Z92,$AI92:$AJ92)),BG$30,IF(Z92="",BG$29,Z92))) | BH92: =IF($D92="","",IF(ISERR(MATCH(AA92,$AI92:$AJ92)),BH$30,IF(AA92="",BH$29,AA92))) | BI92: =IF($D92="","",IF(ISERR(MATCH(AB92,$AI92:$AJ92)),BI$30,IF(AB92="",BI$29,AB92))) | BJ92: =IF($D92="","",IF(ISERR(MATCH(AC92,$AI92:$AJ92)),BJ$30,IF(AC92="",BJ$29,AC92))) | BK92: =IF($D92="","",IF(ISERR(MATCH(AD92,$AI92:$AJ92)),BK$30,IF(AD92="",BK$29,AD92)))

Sheet תנאי סף
AC27: ='הזנת נתונים'!AL29 -> נתון חסר | AD27: ='הזנת נתונים'!AI31 -> כן
D28: סעיף | E28: 6 (1) | F28: 6 (2) | G28: 6 (3) | H28: 6 (4) | I28: 6 (5) | J28: 6 (6) | K28: 6 (11) | L28: 6 (8) | M28: 6 (9) | N28: 6 (12) | O28: 6 (10) | P28: 6 (7) | Q28: 6 (13) | R28: 6 (14) | S28: 6 (15) | T28: 6 (16) | U28: 6 (17) | V28: 6 (18) | W28: 7 (5) | X28: 6 (11) | AC28: ='הזנת נתונים'!AL30 -> הזנה שגויה | AD28: ='הזנת נתונים'!AJ31 -> לא
C29: מספר סידורי | D29: שם המוסד | E29: נתונים לתנאי סף | Y29: : עמידה בתנאי סף לספריות של ספרות ערבית או ספרות תורנית | Z29: עמידה בתנאי סף | AA29: הערות | AI29: אינדיקצית שימוש | AK29: תנאי הסף: | AL29: {=TRANSPOSE(פרמטרים!C15:C26)} -> כן | AM29: כן | AN29: כן | AO29: 3500 | AP29: 150 | AQ29: כן | AR29: 0.15 | AS29: 1500 | AT29: כן | AU29: כן | AV29: כן | AW29: 400 | AX29: כן | AY29: כן | AZ29: כן | BA29: כן | BB29: כן | BC29: כן | BD29: כן | BE29: כן
E30: {=TRANSPOSE(פרמטרים!B15:B26)} -> המוסד משמש כספרייה לעיוורים או משק סגור | F30: המוסד פועל כספרייה במשך שנתיים רצופות | G30: מנהל ספרייה עוסק בהיקף שלא יפחת בחצי משרה | H30: כמה כותרים מונגשים ברשות הספרייה? | I30: כמה כותרים הספרייה הנגישה בשנת הערכה? | J30: האם המוסד שומר על זכויות יוצרים של הכותרים? | K30: כמה כותרים מונגשים הופקו או נרכשו בשנת ההערכה בשפה הערבית? | L30: כמה השאלות של ספרים מונגשים התקיימו בשנת הערכה? | M30: האם שירותי ההשאלה ניתנים בחינם? | N30: שירותי הספרייה ניתנים לעיוורים וללקויי ראייה בכל הארץ בלא הבדל גזע, דת, מין, לאום השקפה או השתייכות מפלגתית | O30: האם המוסד מקיים מנגנון השאלה טלפוני בהיקף של 16 ש"ש, במשך 4 ימים בשבוע? | P30: כמה מנויים פעילים יש לספרייה? | Q30: ='הזנת נתונים'!X31 -> המוסד עומד בדרישות הנוהל, ובכלל זה יעמיד עצמו לביקורת המשרד בהתאם לדינים החלים עליו, הוראות הנוהל והחלטות הממשלה, זאת להבטחת עמידתו בתנאים למתן תמיכה, ובלי לפגוע בחופש היצירה, בחירות האמנותית ובחופש הביטוי; | R30: ='הזנת נתונים'!Y31 -> מטרות המוסד כמפורט במסמכי היסוד שלו ואופן פעולתו עולים בקנה אחד עם מטרות התמיכה המפורטות במבחנים אלה | S30: ='הזנת נתונים'!Z31 -> המוסד משתמש בכספי התמיכה רק למטרות שלשמן ניתנו | T30: ='הזנת נתונים'!AA31 -> המוסד מקיים את הוראות החוק הרלוונטיות לפעילותו, מקפיד על כללי ניהול תקין ושומר על שקיפות מלאה באורחות התנהלותו באופן ההולם את מטרותיו הציבוריות | U30: ='הזנת נתונים'!AB31 -> המוסד פועל ביעילות ובתקורה מינימלית, שמאפשרת את פעילותו התקינה והראויה, לרבות בהתאם לנוהל ולהנחיות החשב הכללי במשרד האוצר לעניין הוצאות הנהלה וכלליות | V30: ='הזנת נתונים'!AE31 -> במוסד בו מועסקים עובדים ביחסי עבודה, המוסד קבע תקנון למניעת הטרדה מינית ועומדת בדרישות תקנה 8 לתקנות חובות מעסיק. המוסד צירף לבקשתו את התקנון ופרטים על ההתאמות בתקנון, פרסומו למסירתו. (במוסד בו אין מתכונת יחסי עבודה - יש לסמן 1 עבור תנאי זה) | W30: ='הזנת נתונים'!AC31 -> האם רוב הספרים בספרייה הם בשפה הערבית? | X30: ='הזנת נתונים'!AD31 -> המוסד הפיק או רכש בשנת ההערכה ספרים מונגשים בשפה הערבית, בהיקף שלא יפחת מ15% מתוך כלל הספרים המונגשים שהופקו או נרכשו על ידו בשנת ההערכה | AC30: עובר תנאי סף | AD30: לא עובר תנאי סף | AF30: עובר תנאי סף- ספרייה ערבית | AG30: עובר תנאי סף- ספרייה תורנית | AI30: כללי | AL30: =E30 -> המוסד משמש כספרייה לעיוורים או משק סגור | AM30: =F30 -> המוסד פועל כספרייה במשך שנתיים רצופות | AN30: =G30 -> מנהל ספרייה עוסק בהיקף שלא יפחת בחצי משרה | AO30: =H30 -> כמה כותרים מונגשים ברשות הספרייה? | AP30: =I30 -> כמה כותרים הספרייה הנגישה בשנת הערכה? | AQ30: =J30 -> האם המוסד שומר על זכויות יוצרים של הכותרים? | AR30: =K30 -> כמה כותרים מונגשים הופקו או נרכשו בשנת ההערכה בשפה הערבית? | AS30: =L30 -> כמה השאלות של ספרים מונגשים התקיימו בשנת הערכה? | ... BE30: =X30 -> המוסד הפיק או רכש בשנת ההערכה ספרים מונגשים בשפה הערבית, בהיקף שלא יפחת מ15% מתוך כלל הספרים המונגשים שהופקו או נרכשו על ידו בשנת ההערכה
B31: =#REF! -> #REF! | C31: =IF('הזנת נתונים'!$D33="","",'הזנת נתונים'!C33) -> 1 | D31: =IF('הזנת נתונים'!$D33="","",'הזנת נתונים'!D33) -> הספריה המרכזית לעיוורים | E31: =IF($D31="","",'הזנת נתונים'!AL33) -> כן | F31: =IF($D31="","",'הזנת נתונים'!AM33) -> כן | G31: =IF($D31="","",'הזנת נתונים'!AN33) -> כן | H31: =IF($D31="","",'הזנת נתונים'!AO33) -> 43807 | I31: =IF($D31="","",'הזנת נתונים'!AP33) -> 3601 | J31: =IF($D31="","",'הזנת נתונים'!AV33) -> כן | K31: =IF($D31="","",'הזנת נתונים'!AT33) -> 620 | L31: =IF($D31="","",'הזנת נתונים'!AW33) -> 900092 | M31: =IF($D31="","",'הזנת נתונים'!AX33) -> כן | N31: =IF($D31="","",'הזנת נתונים'!AY33) -> כן | O31: =IF($D31="","",'הזנת נתונים'!AZ33) -> כן | P31: =IF($D31="","",'הזנת נתונים'!BD33) -> 15506 | Q31: =IF($D31="","",'הזנת נתונים'!BE33) -> כן | R31: =IF($D31="","",'הזנת נתונים'!BF33) -> כן | S31: =IF($D31="","",'הזנת נתונים'!BG33) -> כן | T31: =IF($D31="","",'הזנת נתונים'!BH33) -> כן | U31: =IF($D31="","",'הזנת נתונים'!BI33) -> כן | V31: =IF($D31="","",'הזנת נתונים'!AE33) -> כן | W31: =IF($D31="","",'הזנת נתונים'!BJ33) -> לא | X31: =IF($D31="","",'הזנת נתונים'!BK33) -> כן | Z31: =IFERROR(IF(OR(Y31=$AF$30,Y31=$AG$30,SUM(AL31:BC31)=18),AC31,AD31),AD31) -> עובר תנאי סף | AC31: =IF($D31="","",AC$30) -> עובר תנאי סף | AD31: =IF($D31="","",AD$30) -> לא עובר תנאי סף | AF31: =IF($D31="","",AF$30) -> עובר תנאי סף- ספרייה ערבית | AG31: =IF($D31="","",AG$30) -> עובר תנאי סף- ספרייה תורנית | AI31: =IF(D31="",0,1) -> 1 | AL31: =IF($D31="","",IF(E31=AL$29,1,0)) -> 1 | AM31: =IF($D31="","",IF(F31=AM$29,1,0)) -> 1 | AN31: =IF($D31="","",IF(G31=AN$29,1,0)) -> 1 | AO31: =IF($D31="","",IF(H31>=AO$29,1,0)) -> 1 | AP31: =IF($D31="","",IF(I31>=AP$29,1,0)) -> 1 | AQ31: =IF($D31="","",IF(J31=AQ$29,1,0)) -> 1 | AR31: =IF($D31="","",IF('הזנת נתונים'!BK33=$AD$27,1,IF(IFERROR(K31/I31,0)>=AR$29,1,0))) -> 1 | AS31: =IF($D31="","",IF(L31>=AS$29,1,0)) -> 1 | AT31: =IF($D31="","",IF(M31=AT$29,1,0)) -> 1 | AU31: =IF($D31="","",IF(N31=AU$29,1,0)) -> 1 | AV31: =IF($D31="","",IF(O31=AV$29,1,0)) -> 1 | AW31: =IF($D31="","",IF(P31>=AW$29,1,0)) -> 1 | AX31: =IF($D31="","",IF(Q31=AX$29,1,0)) -> 1 | AY31: =IF($D31="","",IF(R31=AY$29,1,0)) -> 1 | AZ31: =IF($D31="","",IF(S31=AZ$29,1,0)) -> 1 | BA31: =IF($D31="","",IF(T31=BA$29,1,0)) -> 1 | BB31: =IF($D31="","",IF(U31=BB$29,1,0)) -> 1 | BC31: =IF($D31="","",IF(V31=BC$29,1,0)) -> 1 | BD31: =IF($D31="","",IF(ISERROR(MATCH(W31,$AD$27:$AD$28,0)),0,1)) -> 1 | BE31: =IF($D31="","",IF(ISERROR(MATCH(X31,$AD$27:$AD$28,0)),0,1)) -> 1
B32: =#REF! -> #REF! | C32: =IF('הזנת נתונים'!$D34="","",'הזנת נתונים'!C34) -> 2 | D32: =IF('הזנת נתונים'!$D34="","",'הזנת נתונים'!D34) -> מסיל"ה | E32: =IF($D32="","",'הזנת נתונים'!AL34) -> כן | F32: =IF($D32="","",'הזנת נתונים'!AM34) -> כן | G32: =IF($D32="","",'הזנת נתונים'!AN34) -> כן | H32: =IF($D32="","",'הזנת נתונים'!AO34) -> 6701 | I32: =IF($D32="","",'הזנת נתונים'!AP34) -> 270 | J32: =IF($D32="","",'הזנת נתונים'!AV34) -> כן | K32: =IF($D32="","",'הזנת נתונים'!AT34) -> 0 | L32: =IF($D32="","",'הזנת נתונים'!AW34) -> 3348 | M32: =IF($D32="","",'הזנת נתונים'!AX34) -> כן | N32: =IF($D32="","",'הזנת נתונים'!AY34) -> כן | O32: =IF($D32="","",'הזנת נתונים'!AZ34) -> כן | P32: =IF($D32="","",'הזנת נתונים'!BD34) -> 458 | Q32: =IF($D32="","",'הזנת נתונים'!BE34) -> כן | R32: =IF($D32="","",'הזנת נתונים'!BF34) -> כן | S32: =IF($D32="","",'הזנת נתונים'!BG34) -> כן | T32: =IF($D32="","",'הזנת נתונים'!BH34) -> כן | U32: =IF($D32="","",'הזנת נתונים'!BI34) -> כן | V32: =IF($D32="","",'הזנת נתונים'!AE34) -> כן | W32: =IF($D32="","",'הזנת נתונים'!BJ34) -> לא | X32: =IF($D32="","",'הזנת נתונים'!BK34) -> לא | Y32: עובר תנאי סף- ספרייה תורנית | Z32: =IFERROR(IF(OR(Y32=$AF$30,Y32=$AG$30,SUM(AL32:BC32)=18),AC32,AD32),AD32) -> עובר תנאי סף | AC32: =IF($D32="","",AC$30) -> עובר תנאי סף | AD32: =IF($D32="","",AD$30) -> לא עובר תנאי סף | AF32: =IF($D32="","",AF$30) -> עובר תנאי סף- ספרייה ערבית | AG32: =IF($D32="","",AG$30) -> עובר תנאי סף- ספרייה תורנית | AI32: =IF(D32="",0,1) -> 1 | AL32: =IF($D32="","",IF(E32=AL$29,1,0)) -> 1 | AM32: =IF($D32="","",IF(F32=$AD$27,1,0)) -> 1 | AN32: =IF($D32="","",IF(G32=$AD$27,1,0)) -> 1 | AO32: =IF($D32="","",IF(H32>=AO$29,1,0)) -> 1 | AP32: =IF($D32="","",IF(I32>=AP$29,1,0)) -> 1 | AQ32: =IF($D32="","",IF(J32=$AD$27,1,0)) -> 1 | AR32: =IF($D32="","",IF('הזנת נתונים'!BK34=$AD$27,1,IF(IFERROR(K32/I32,0)>=AR$29,1,0))) -> 0 | AS32: =IF($D32="","",IF(L32>=AS$29,1,0)) -> 1 | AT32: =IF($D32="","",IF(M32=$AD$27,1,0)) -> 1 | AU32: =IF($D32="","",IF(N32=$AD$27,1,0)) -> 1 | AV32: =IF($D32="","",IF(O32=$AD$27,1,0)) -> 1 | AW32: =IF($D32="","",IF(P32>=AW$29,1,0)) -> 1 | AX32: =IF($D32="","",IF(Q32=AX$29,1,0)) -> 1 | AY32: =IF($D32="","",IF(R32=AY$29,1,0)) -> 1 | AZ32: =IF($D32="","",IF(S32=AZ$29,1,0)) -> 1 | BA32: =IF($D32="","",IF(T32=BA$29,1,0)) -> 1 | BB32: =IF($D32="","",IF(U32=BB$29,1,0)) -> 1 | BC32: =IF($D32="","",IF(V32=BC$29,1,0)) -> 1 | BD32: =IF($D32="","",IF(ISERROR(MATCH(W32,$AD$27:$AD$28,0)),0,1)) -> 1 | BE32: =IF($D32="","",IF(ISERROR(MATCH(X32,$AD$27:$AD$28,0)),0,1)) -> 1
B33: =#REF! -> #REF! | C33: =IF('הזנת נתונים'!$D35="","",'הזנת נתונים'!C35) -> 3 | D33: =IF('הזנת נתונים'!$D35="","",'הזנת נתונים'!D35) -> עמותת עלה | E33: =IF($D33="","",'הזנת נתונים'!AL35) -> כן | F33: =IF($D33="","",'הזנת נתונים'!AM35) -> כן | G33: =IF($D33="","",'הזנת נתונים'!AN35) -> כן | H33: =IF($D33="","",'הזנת נתונים'!AO35) -> 6541 | I33: =IF($D33="","",'הזנת נתונים'!AP35) -> 155 | J33: =IF($D33="","",'הזנת נתונים'!AV35) -> כן | K33: =IF($D33="","",'הזנת נתונים'!AT35) -> 40 | L33: =IF($D33="","",'הזנת נתונים'!AW35) -> 3557 | M33: =IF($D33="","",'הזנת נתונים'!AX35) -> כן | N33: =IF($D33="","",'הזנת נתונים'!AY35) -> כן | O33: =IF($D33="","",'הזנת נתונים'!AZ35) -> כן | P33: =IF($D33="","",'הזנת נתונים'!BD35) -> 3049 | Q33: =IF($D33="","",'הזנת נתונים'!BE35) -> כן | R33: =IF($D33="","",'הזנת נתונים'!BF35) -> כן | S33: =IF($D33="","",'הזנת נתונים'!BG35) -> כן | T33: =IF($D33="","",'הזנת נתונים'!BH35) -> כן | U33: =IF($D33="","",'הזנת נתונים'!BI35) -> כן | V33: =IF($D33="","",'הזנת נתונים'!AE35) -> כן | W33: =IF($D33="","",'הזנת נתונים'!BJ35) -> לא | X33: =IF($D33="","",'הזנת נתונים'!BK35) -> כן | Z33: =IFERROR(IF(OR(Y33=$AF$30,Y33=$AG$30,SUM(AL33:BC33)=18),AC33,AD33),AD33) -> עובר תנאי סף | AC33: =IF($D33="","",AC$30) -> עובר תנאי סף | AD33: =IF($D33="","",AD$30) -> לא עובר תנאי סף | AF33: =IF($D33="","",AF$30) -> עובר תנאי סף- ספרייה ערבית | AG33: =IF($D33="","",AG$30) -> עובר תנאי סף- ספרייה תורנית | AI33: =IF(D33="",0,1) -> 1 | AL33: =IF($D33="","",IF(E33=AL$29,1,0)) -> 1 | AM33: =IF($D33="","",IF(F33=$AD$27,1,0)) -> 1 | AN33: =IF($D33="","",IF(G33=$AD$27,1,0)) -> 1 | AO33: =IF($D33="","",IF(H33>=AO$29,1,0)) -> 1 | AP33: =IF($D33="","",IF(I33>=AP$29,1,0)) -> 1 | AQ33: =IF($D33="","",IF(J33=$AD$27,1,0)) -> 1 | AR33: =IF($D33="","",IF('הזנת נתונים'!BK35=$AD$27,1,IF(IFERROR(K33/I33,0)>=AR$29,1,0))) -> 1 | AS33: =IF($D33="","",IF(L33>=AS$29,1,0)) -> 1 | AT33: =IF($D33="","",IF(M33=$AD$27,1,0)) -> 1 | AU33: =IF($D33="","",IF(N33=$AD$27,1,0)) -> 1 | AV33: =IF($D33="","",IF(O33=$AD$27,1,0)) -> 1 | AW33: =IF($D33="","",IF(P33>=AW$29,1,0)) -> 1 | AX33: =IF($D33="","",IF(Q33=AX$29,1,0)) -> 1 | AY33: =IF($D33="","",IF(R33=AY$29,1,0)) -> 1 | AZ33: =IF($D33="","",IF(S33=AZ$29,1,0)) -> 1 | BA33: =IF($D33="","",IF(T33=BA$29,1,0)) -> 1 | BB33: =IF($D33="","",IF(U33=BB$29,1,0)) -> 1 | BC33: =IF($D33="","",IF(V33=BC$29,1,0)) -> 1 | BD33: =IF($D33="","",IF(ISERROR(MATCH(W33,$AD$27:$AD$28,0)),0,1)) -> 1 | BE33: =IF($D33="","",IF(ISERROR(MATCH(X33,$AD$27:$AD$28,0)),0,1)) -> 1
