Workbook
Name a: #REF!
Name a: #REF!
Name a: #REF!

Sheet ProtectSettings
B1: 0.7760126
B2: 45713.455
A6: AllowFilterCheckBox | B6: FALSE
A7: AllowFormattingCheckBox | B7: FALSE
A8: AllowColumnFormattingCheckBox | B8: TRUE
A9: AllowRowFormattingCheckBox | B9: TRUE

Sheet גיליון עזר
A1: a | B1: b | C1: c | D1: d | E1: e | F1: f | G1: g | H1: h | I1: i | J1: j | K1: k | L1: l | M1: m | N1: n | O1: o | P1: p | Q1: q | R1: r | S1: s | T1: t | U1: u | V1: v | W1: w | X1: x | Y1: y | Z1: z
B3: הזנות ראשויות
B6: כן | C6: לא
B9: נא הזן הכנסות
D19: 1111

Sheet פרמטרים
B2: מודל ספריות המיועדות לעיוורים וללקויי ראיה
B4: מקראה: | C4: נתוני קלט להזנה
C5: נתונים מקובעים (טקסט)
C6: נתוני פלט (לאחר חישוב)
B9: שנת תקציב | C9: 2025
B10: גובה תמיכה | C10: 6500000
B13: תנאי סף
B14: תנאי סף | C14: קריטריון
B15: המוסד משמש כספרייה לעיוורים או משק סגור | C15: כן
B16: המוסד פועל כספרייה במשך שנתיים רצופות | C16: כן
B17: מנהל ספרייה עוסק בהיקף שלא יפחת בחצי משרה | C17: כן
B18: כמה כותרים מונגשים ברשות הספרייה? | C18: 3500
B19: כמה כותרים הספרייה הנגישה בשנת הערכה? | C19: 150
B20: האם המוסד שומר על זכויות יוצרים של הכותרים? | C20: כן
B21: כמה כותרים מונגשים הופקו או נרכשו בשנת ההערכה בשפה הערבית? | C21: 0.15
B22: כמה השאלות של ספרים מונגשים התקיימו בשנת הערכה? | C22: 1500
B23: האם שירותי ההשאלה ניתנים בחינם? | C23: כן
B24: שירותי הספרייה ניתנים לעיוורים וללקויי ראייה בכל הארץ בלא הבדל גזע, דת, מין, לאום השקפה או השתייכות מפלגתית | C24: כן
B25: האם המוסד מקיים מנגנון השאלה טלפוני בהיקף של 16 ש"ש, במשך 4 ימים בשבוע? | C25: כן
B26: כמה מנויים פעילים יש לספרייה? | C26: 400
B29: ניקוד
B31: פרמטר | C31: משקל
B32: מספר ספרים מונגשים שהופקו בשנת ההערכה | C32: 0.15
B33: מספר מנויים פעילים | C33: 0.2
B34: מספר השאלות | C34: 0.35
B35: מספר ספרים מונגשים במלאי | C35: 0.15
B36: מספר ספרים בשפות נוספות | C36: 0.05
B37: השאלה זמינה | C37: 0.05
B38: ריבוי אמצעי הנגשה | C38: 0.05
B41: הגבלה
B43: שיעור התמיכה לא יעלה על %X מסכום עלות הפרויקט המשוער | C43: 0.75
B47: הוראת שעה
B49: שיעור התמיכה לא יפחת משיעור התמיכה בשנת 2013: | C49: 0

Sheet הזנת נתונים
AG29: אינדיקצית שימוש | AI29: אינדיקצית שימוש | AL29: נתון חסר | AM29: =AL29 -> נתון חסר | AN29: =AM29 -> נתון חסר | AO29: =AN29 -> נתון חסר | AP29: =AO29 -> נתון חסר | AQ29: =AP29 -> נתון חסר | AR29: =AQ29 -> נתון חסר | AS29: =AR29 -> נתון חסר | AT29: =AS29 -> נתון חסר | ... BI29: =BH29 -> נתון חסר | BJ29: =BD29 -> נתון חסר | BK29: =BJ29 -> נתון חסר
D30: סעיף | E30: 6 (1) | F30: 6 (2) | G30: 6 (3) | H30: 6 (4) | I30: 6 (5) | J30: 7 (7) | K30: 7 (7) | L30: 7 (7) | M30: 6 (11) | N30: 7 (5) | O30: 6 (6) | P30: 6 (8) | Q30: 6 (9) | R30: 6 (12) | S30: 6 (10) | T30: 7 (6) (א) | U30: 7 (6) (ב) | V30: 7 (6) (ג) | W30: 6 (7) | X30: 6 (13) | Y30: 6 (14) | Z30: 6 (15) | AA30: 6 (16) | AB30: 6 (17) | AC30: 7 (5) | AD30: 6 (11) | AE30: 6 (18) | AL30: הזנה שגויה | AM30: =AL30 -> הזנה שגויה | AN30: =AM30 -> הזנה שגויה | AO30: =AN30 -> הזנה שגויה | AP30: =AO30 -> הזנה שגויה | AQ30: =AP30 -> הזנה שגויה | AR30: =AQ30 -> הזנה שגויה | AS30: =AR30 -> הזנה שגויה | AT30: =AS30 -> הזנה שגויה | ... BI30: =BH30 -> הזנה שגויה | BJ30: =BD30 -> הזנה שגויה | BK30: =BJ30 -> הזנה שגויה
C31: מספר סידורי | D31: שם המוסד | E31: המוסד משמש כספרייה לעיוורים וללקויי ראייה או משק סגור | F31: המוסד פועל כספרייה במשך שנתיים רצופות | G31: מנהל ספרייה עוסק בהיקף שלא יפחת בחצי משרה | H31: כמה כותרים מונגשים ברשות הספרייה? | I31: כמה כותרים הספרייה הנגישה בשנת הערכה? | J31: כמה מתוך הכותרים שהספרייה הנגישה בשנת ההערכה הם בכתב ברייל? | K31: כמה מתוך הכותרים שהספרייה הנגישה בשנת ההערכה הם בשמע? | L31: כמה מתוך הכותרים שהספרייה הנגישה בשנת ההערכה הם באות מוגדלת? | M31: כמה כותרים מונגשים הופקו או נרכשו בשנת ההערכה בשפה הערבית? | N31: כמה כותרים מונגשים הופקו או נרכשו בשנת ההערכה בשפה זרה נוספת מלבד ערבית? | O31: האם המוסד שומר על זכויות יוצרים של הכותרים? | P31: כמה השאלות של ספרים מונגשים התקיימו בשנת הערכה? | Q31: האם שירותי ההשאלה ניתנים בחינם? | R31: =פרמטרים!B24 -> שירותי הספרייה ניתנים לעיוורים וללקויי ראייה בכל הארץ בלא הבדל גזע, דת, מין, לאום השקפה או השתייכות מפלגתית | S31: האם המוסד מקיים מנגנון השאלה טלפוני בהיקף של 16 ש"ש, במשך 4 ימים בשבוע? | T31: עבור לא פחות ממחצית מהספרים המונגשים- האם קיים מנגנון השאלת ספרים על ידי הורדת קבצים מאתר האינטרנט, הפועל בכל שעות היממה? | U31: הקטלוג, הכולל לא פחות ממחצית הספרים המונגשים, מונגש בשמע בטלפון או באינטרנט? | V31: האם קיים שירות המאפשר למנויים להזמין, להשאיל ולהאריך השאלות באמצעות האינטרנט או דואר אלקטרוני? | W31: כמה מנויים פעילים יש לספרייה? | X31: המוסד עומד בדרישות הנוהל, ובכלל זה יעמיד עצמו לביקורת המשרד בהתאם לדינים החלים עליו, הוראות הנוהל והחלטות הממשלה, זאת להבטחת עמידתו בתנאים למתן תמיכה, ובלי לפגוע בחופש היצירה, בחירות האמנותית ובחופש הביטוי; | Y31: מטרות המוסד כמפורט במסמכי היסוד שלו ואופן פעולתו עולים בקנה אחד עם מטרות התמיכה המפורטות במבחנים אלה | Z31: המוסד משתמש בכספי התמיכה רק למטרות שלשמן ניתנו | AA31: המוסד מקיים את הוראות החוק הרלוונטיות לפעילותו, מקפיד על כללי ניהול תקין ושומר על שקיפות מלאה באורחות התנהלותו באופן ההולם את מטרותיו הציבוריות | AB31: המוסד פועל ביעילות ובתקורה מינימלית, שמאפשרת את פעילותו התקינה והראויה, לרבות בהתאם לנוהל ולהנחיות החשב הכללי במשרד האוצר לעניין הוצאות הנהלה וכלליות | AC31: האם רוב הספרים בספרייה הם בשפה הערבית? | AD31: המוסד הפיק או רכש בשנת ההערכה ספרים מונגשים בשפה הערבית, בהיקף שלא יפחת מ15% מתוך כלל הספרים המונגשים שהופקו או נרכשו על ידו בשנת ההערכה | AE31: במוסד בו מועסקים עובדים ביחסי עבודה, המוסד קבע תקנון למניעת הטרדה מינית ועומדת בדרישות תקנה 8 לתקנות חובות מעסיק. המוסד צירף לבקשתו את התקנון ופרטים על ההתאמות בתקנון, פרסומו למסירתו. (במוסד בו אין מתכונת יחסי עבודה - יש לסמן 1 עבור תנאי זה) | AG31: כללי | AI31: כן | AJ31: לא | AL31: =E31 -> המוסד משמש כספרייה לעיוורים וללקויי ראייה או משק סגור | AM31: =F31 -> המוסד פועל כספרייה במשך שנתיים רצופות | AN31: =G31 -> מנהל ספרייה עוסק בהיקף שלא יפחת בחצי משרה | AO31: =H31 -> כמה כותרים מונגשים ברשות הספרייה? | AP31: =I31 -> כמה כותרים הספרייה הנגישה בשנת הערכה? | AQ31: =J31 -> כמה מתוך הכותרים שהספרייה הנגישה בשנת ההערכה הם בכתב ברייל? | AR31: =K31 -> כמה מתוך הכותרים שהספרייה הנגישה בשנת ההערכה הם בשמע? | AS31: =L31 -> כמה מתוך הכותרים שהספרייה הנגישה בשנת ההערכה הם באות מוגדלת? | ... BK31: =AD31 -> המוסד הפיק או רכש בשנת ההערכה ספרים מונגשים בשפה הערבית, בהיקף שלא יפחת מ15% מתוך כלל הספרים המונגשים שהופקו או נרכשו על ידו בשנת ההערכה
E32: כן/לא | F32: כן/לא | G32: כן/לא | H32: מספר יחידות | I32: מספר יחידות | J32: מספר יחידות | K32: מספר יחידות | L32: מספר יחידות | M32: מספר יחידות | N32: מספר יחידות | O32: כן/לא | P32: מספר יחידות | Q32: כן/לא | R32: כן/לא | S32: כן/לא | T32: כן/לא | U32: כן/לא | V32: כן/לא | W32: מספר יחידות | X32: כן/לא | Y32: כן/לא | Z32: כן/לא | AA32: כן/לא | AB32: כן/לא | AC32: כן/לא | AD32: כן/לא | AE32: כן/לא | AL32: =E32 -> כן/לא | AM32: =F32 -> כן/לא | AN32: =G32 -> כן/לא | AO32: =H32 -> מספר יחידות | AP32: =I32 -> מספר יחידות | AQ32: =J32 -> מספר יחידות | AR32: =K32 -> מספר יחידות | AS32: =L32 -> מספר יחידות | ... BK32: =AD32 -> כן/לא
B33: =#REF! -> #REF! | C33: 1 | D33: הספריה המרכזית לעיוורים | E33: כן | F33: כן | G33: כן | H33: 43807 | I33: 3601 | J33: 715 | K33: 1506 | L33: 645 | M33: 620 | N33: 238 | O33: כן | P33: 900092 | Q33: כן | R33: כן | S33: כן | T33: כן | U33: כן | V33: כן | W33: 15506 | X33: כן | Y33: כן | Z33: כן | AA33: כן | AB33: כן | AC33: לא | AD33: =IF(D33="","",IF(IFERROR(M33/I33,0)<15%,"לא","כן")) -> כן | AE33: כן | AG33: =IF(D33="",0,1) -> 1 | AI33: =IF($D33="","",AI$31) -> כן | AJ33: =IF($D33="","",AJ$31) -> לא | AL33: =IF($D33="","",IF(ISERR(MATCH(E33,$AI33:$AJ33)),AL$30,IF(E33="",AL$29,E33))) -> כן | AM33: =IF($D33="","",IF(ISERR(MATCH(F33,$AI33:$AJ33)),AM$30,IF(F33="",AM$29,F33))) -> כן | AN33: =IF($D33="","",IF(ISERR(MATCH(G33,$AI33:$AJ33)),AN$30,IF(G33="",AN$29,G33))) -> כן | AO33: =IF($D33="","",IF(ISERR(H33/3),AO$30,IF(H33="",AO$29,H33))) -> 43807 | AP33: =IF($D33="","",IF(ISERR(I33/3),AP$30,IF(I33="",AP$29,I33))) -> 3601 | AQ33: =IF($D33="","",IF(ISERR(J33/3),AQ$30,IF(J33="",AQ$29,J33))) -> 715 | AR33: =IF($D33="","",IF(ISERR(K33/3),AR$30,IF(K33="",AR$29,K33))) -> 1506 | AS33: =IF($D33="","",IF(ISERR(L33/3),AS$30,IF(L33="",AS$29,L33))) -> 645 | AT33: =IF($D33="","",IF(ISERR(M33/3),AT$30,IF(M33="",AT$29,M33))) -> 620 | AU33: =IF($D33="","",IF(ISERR(N33/3),AU$30,IF(N33="",AU$29,N33))) -> 238 | AV33: =IF($D33="","",IF(ISERR(MATCH(O33,$AI33:$AJ33)),AV$30,IF(O33="",AV$29,O33))) -> כן | AW33: =IF($D33="","",IF(ISERR(P33/3),AW$30,IF(P33="",AW$29,P33))) -> 900092 | AX33: =IF($D33="","",IF(ISERR(MATCH(Q33,$AI33:$AJ33)),AX$30,IF(Q33="",AX$29,Q33))) -> כן | AY33: =IF($D33="","",IF(ISERR(MATCH(R33,$AI33:$AJ33)),AY$30,IF(R33="",AY$29,R33))) -> כן | AZ33: =IF($D33="","",IF(ISERR(MATCH(S33,$AI33:$AJ33)),AZ$30,IF(S33="",AZ$29,S33))) -> כן | BA33: =IF($D33="","",IF(ISERR(MATCH(T33,$AI33:$AJ33)),BA$30,IF(T33="",BA$29,T33))) -> כן | BB33: =IF($D33="","",IF(ISERR(MATCH(U33,$AI33:$AJ33)),BB$30,IF(U33="",BB$29,U33))) -> כן | BC33: =IF($D33="","",IF(ISERR(MATCH(V33,$AI33:$AJ33)),BC$30,IF(V33="",BC$29,V33))) -> כן | BD33: =IF($D33="","",IF(ISERR(W33/3),BD$30,IF(W33="",BD$29,W33))) -> 15506 | BE33: =IF($D33="","",IF(ISERR(MATCH(X33,$AI33:$AJ33)),BE$30,IF(X33="",BE$29,X33))) -> כן | BF33: =IF($D33="","",IF(ISERR(MATCH(Y33,$AI33:$AJ33)),BF$30,IF(Y33="",BF$29,Y33))) -> כן | BG33: =IF($D33="","",IF(ISERR(MATCH(Z33,$AI33:$AJ33)),BG$30,IF(Z33="",BG$29,Z33))) -> כן | BH33: =IF($D33="","",IF(ISERR(MATCH(AA33,$AI33:$AJ33)),BH$30,IF(AA33="",BH$29,AA33))) -> כן | BI33: =IF($D33="","",IF(ISERR(MATCH(AB33,$AI33:$AJ33)),BI$30,IF(AB33="",BI$29,AB33))) -> כן | BJ33: =IF($D33="","",IF(ISERR(MATCH(AC33,$AI33:$AJ33)),BJ$30,IF(AC33="",BJ$29,AC33))) -> לא | BK33: =IF($D33="","",IF(ISERR(MATCH(AD33,$AI33:$AJ33)),BK$30,IF(AD33="",BK$29,AD33))) -> כן
B34: =#REF! -> #REF! | C34: 2 | D34: מסיל"ה | E34: כן | F34: כן | G34: כן | H34: 6701 | I34: 270 | J34: 144 | K34: 0 | L34: 126 | M34: 0 | N34: 20 | O34: כן | P34: 3348 | Q34: כן | R34: כן | S34: כן | T34: לא | U34: כן | V34: כן | W34: 458 | X34: כן | Y34: כן | Z34: כן | AA34: כן | AB34: כן | AC34: לא | AD34: =IF(D34="","",IF(IFERROR(M34/I34,0)<15%,"לא","כן")) -> לא | AE34: כן | AG34: =IF(D34="",0,1) -> 1 | AI34: =IF($D34="","",AI$31) -> כן | AJ34: =IF($D34="","",AJ$31) -> לא | AL34: =IF($D34="","",IF(ISERR(MATCH(E34,$AI34:$AJ34)),AL$30,IF(E34="",AL$29,E34))) -> כן | AM34: =IF($D34="","",IF(ISERR(MATCH(F34,$AI34:$AJ34)),AM$30,IF(F34="",AM$29,F34))) -> כן | AN34: =IF($D34="","",IF(ISERR(MATCH(G34,$AI34:$AJ34)),AN$30,IF(G34="",AN$29,G34))) -> כן | AO34: =IF($D34="","",IF(ISERR(H34/3),AO$30,IF(H34="",AO$29,H34))) -> 6701 | AP34: =IF($D34="","",IF(ISERR(I34/3),AP$30,IF(I34="",AP$29,I34))) -> 270 | AQ34: =IF($D34="","",IF(ISERR(J34/3),AQ$30,IF(J34="",AQ$29,J34))) -> 144 | AR34: =IF($D34="","",IF(ISERR(K34/3),AR$30,IF(K34="",AR$29,K34))) -> 0 | AS34: =IF($D34="","",IF(ISERR(L34/3),AS$30,IF(L34="",AS$29,L34))) -> 126 | AT34: =IF($D34="","",IF(ISERR(M34/3),AT$30,IF(M34="",AT$29,M34))) -> 0 | AU34: =IF($D34="","",IF(ISERR(N34/3),AU$30,IF(N34="",AU$29,N34))) -> 20 | AV34: =IF($D34="","",IF(ISERR(MATCH(O34,$AI34:$AJ34)),AV$30,IF(O34="",AV$29,O34))) -> כן | AW34: =IF($D34="","",IF(ISERR(P34/3),AW$30,IF(P34="",AW$29,P34))) -> 3348 | AX34: =IF($D34="","",IF(ISERR(MATCH(Q34,$AI34:$AJ34)),AX$30,IF(Q34="",AX$29,Q34))) -> כן | AY34: =IF($D34="","",IF(ISERR(MATCH(R34,$AI34:$AJ34)),AY$30,IF(R34="",AY$29,R34))) -> כן | AZ34: =IF($D34="","",IF(ISERR(MATCH(S34,$AI34:$AJ34)),AZ$30,IF(S34="",AZ$29,S34))) -> כן | BA34: =IF($D34="","",IF(ISERR(MATCH(T34,$AI34:$AJ34)),BA$30,IF(T34="",BA$29,T34))) -> לא | BB34: =IF($D34="","",IF(ISERR(MATCH(U34,$AI34:$AJ34)),BB$30,IF(U34="",BB$29,U34))) -> כן | BC34: =IF($D34="","",IF(ISERR(MATCH(V34,$AI34:$AJ34)),BC$30,IF(V34="",BC$29,V34))) -> כן | BD34: =IF($D34="","",IF(ISERR(W34/3),BD$30,IF(W34="",BD$29,W34))) -> 458 | BE34: =IF($D34="","",IF(ISERR(MATCH(X34,$AI34:$AJ34)),BE$30,IF(X34="",BE$29,X34))) -> כן | BF34: =IF($D34="","",IF(ISERR(MATCH(Y34,$AI34:$AJ34)),BF$30,IF(Y34="",BF$29,Y34))) -> כן | BG34: =IF($D34="","",IF(ISERR(MATCH(Z34,$AI34:$AJ34)),BG$30,IF(Z34="",BG$29,Z34))) -> כן | BH34: =IF($D34="","",IF(ISERR(MATCH(AA34,$AI34:$AJ34)),BH$30,IF(AA34="",BH$29,AA34))) -> כן | BI34: =IF($D34="","",IF(ISERR(MATCH(AB34,$AI34:$AJ34)),BI$30,IF(AB34="",BI$29,AB34))) -> כן | BJ34: =IF($D34="","",IF(ISERR(MATCH(AC34,$AI34:$AJ34)),BJ$30,IF(AC34="",BJ$29,AC34))) -> לא | BK34: =IF($D34="","",IF(ISERR(MATCH(AD34,$AI34:$AJ34)),BK$30,IF(AD34="",BK$29,AD34))) -> לא
B35: =#REF! -> #REF! | C35: 3 | D35: עמותת עלה | E35: כן | F35: כן | G35: כן | H35: 6541 | I35: 155 | J35: 55 | K35: 45 | L35: 55 | M35: 40 | N35: 16 | O35: כן | P35: 3557 | Q35: כן | R35: כן | S35: כן | T35: לא | U35: כן | V35: כן | W35: 3049 | X35: כן | Y35: כן | Z35: כן | AA35: כן | AB35: כן | AC35: לא | AD35: =IF(D35="","",IF(IFERROR(M35/I35,0)<15%,"לא","כן")) -> כן | AE35: כן | AG35: =IF(D35="",0,1) -> 1 | AI35: =IF($D35="","",AI$31) -> כן | AJ35: =IF($D35="","",AJ$31) -> לא | AL35: =IF($D35="","",IF(ISERR(MATCH(E35,$AI35:$AJ35)),AL$30,IF(E35="",AL$29,E35))) -> כן | AM35: =IF($D35="","",IF(ISERR(MATCH(F35,$AI35:$AJ35)),AM$30,IF(F35="",AM$29,F35))) -> כן | AN35: =IF($D35="","",IF(ISERR(MATCH(G35,$AI35:$AJ35)),AN$30,IF(G35="",AN$29,G35))) -> כן | AO35: =IF($D35="","",IF(ISERR(H35/3),AO$30,IF(H35="",AO$29,H35))) -> 6541 | AP35: =IF($D35="","",IF(ISERR(I35/3),AP$30,IF(I35="",AP$29,I35))) -> 155 | AQ35: =IF($D35="","",IF(ISERR(J35/3),AQ$30,IF(J35="",AQ$29,J35))) -> 55 | AR35: =IF($D35="","",IF(ISERR(K35/3),AR$30,IF(K35="",AR$29,K35))) -> 45 | AS35: =IF($D35="","",IF(ISERR(L35/3),AS$30,IF(L35="",AS$29,L35))) -> 55 | AT35: =IF($D35="","",IF(ISERR(M35/3),AT$30,IF(M35="",AT$29,M35))) -> 40 | AU35: =IF($D35="","",IF(ISERR(N35/3),AU$30,IF(N35="",AU$29,N35))) -> 16 | AV35: =IF($D35="","",IF(ISERR(MATCH(O35,$AI35:$AJ35)),AV$30,IF(O35="",AV$29,O35))) -> כן | AW35: =IF($D35="","",IF(ISERR(P35/3),AW$30,IF(P35="",AW$29,P35))) -> 3557 | AX35: =IF($D35="","",IF(ISERR(MATCH(Q35,$AI35:$AJ35)),AX$30,IF(Q35="",AX$29,Q35))) -> כן | AY35: =IF($D35="","",IF(ISERR(MATCH(R35,$AI35:$AJ35)),AY$30,IF(R35="",AY$29,R35))) -> כן | AZ35: =IF($D35="","",IF(ISERR(MATCH(S35,$AI35:$AJ35)),AZ$30,IF(S35="",AZ$29,S35))) -> כן | BA35: =IF($D35="","",IF(ISERR(MATCH(T35,$AI35:$AJ35)),BA$30,IF(T35="",BA$29,T35))) -> לא | BB35: =IF($D35="","",IF(ISERR(MATCH(U35,$AI35:$AJ35)),BB$30,IF(U35="",BB$29,U35))) -> כן | BC35: =IF($D35="","",IF(ISERR(MATCH(V35,$AI35:$AJ35)),BC$30,IF(V35="",BC$29,V35))) -> כן | BD35: =IF($D35="","",IF(ISERR(W35/3),BD$30,IF(W35="",BD$29,W35))) -> 3049 | BE35: =IF($D35="","",IF(ISERR(MATCH(X35,$AI35:$AJ35)),BE$30,IF(X35="",BE$29,X35))) -> כן | BF35: =IF($D35="","",IF(ISERR(MATCH(Y35,$AI35:$AJ35)),BF$30,IF(Y35="",BF$29,Y35))) -> כן | BG35: =IF($D35="","",IF(ISERR(MATCH(Z35,$AI35:$AJ35)),BG$30,IF(Z35="",BG$29,Z35))) -> כן | BH35: =IF($D35="","",IF(ISERR(MATCH(AA35,$AI35:$AJ35)),BH$30,IF(AA35="",BH$29,AA35))) -> כן | BI35: =IF($D35="","",IF(ISERR(MATCH(AB35,$AI35:$AJ35)),BI$30,IF(AB35="",BI$29,AB35))) -> כן | BJ35: =IF($D35="","",IF(ISERR(MATCH(AC35,$AI35:$AJ35)),BJ$30,IF(AC35="",BJ$29,AC35))) -> לא | BK35: =IF($D35="","",IF(ISERR(MATCH(AD35,$AI35:$AJ35)),BK$30,IF(AD35="",BK$29,AD35))) -> כן
B36: =#REF! -> #REF! | C36: 4 | D36: עמותת אלמנארה | E36: כן | F36: כן | G36: כן | H36: 14613 | I36: 1628 | J36: 619 | K36: 390 | L36: 619 | M36: 1501 | N36: 127 | O36: כן | P36: 23987 | Q36: כן | R36: כן | S36: כן | T36: כן | U36: כן | V36: כן | W36: 1330 | X36: כן | Y36: כן | Z36: כן | AA36: כן | AB36: כן | AC36: כן | AD36: =IF(D36="","",IF(IFERROR(M36/I36,0)<15%,"לא","כן")) -> כן | AE36: כן | AG36: =IF(D36="",0,1) -> 1 | AI36: =IF($D36="","",AI$31) -> כן | AJ36: =IF($D36="","",AJ$31) -> לא | AL36: =IF($D36="","",IF(ISERR(MATCH(E36,$AI36:$AJ36)),AL$30,IF(E36="",AL$29,E36))) -> כן | AM36: =IF($D36="","",IF(ISERR(MATCH(F36,$AI36:$AJ36)),AM$30,IF(F36="",AM$29,F36))) -> כן | AN36: =IF($D36="","",IF(ISERR(MATCH(G36,$AI36:$AJ36)),AN$30,IF(G36="",AN$29,G36))) -> כן | AO36: =IF($D36="","",IF(ISERR(H36/3),AO$30,IF(H36="",AO$29,H36))) -> 14613 | AP36: =IF($D36="","",IF(ISERR(I36/3),AP$30,IF(I36="",AP$29,I36))) -> 1628 | AQ36: =IF($D36="","",IF(ISERR(J36/3),AQ$30,IF(J36="",AQ$29,J36))) -> 619 | AR36: =IF($D36="","",IF(ISERR(K36/3),AR$30,IF(K36="",AR$29,K36))) -> 390 | AS36: =IF($D36="","",IF(ISERR(L36/3),AS$30,IF(L36="",AS$29,L36))) -> 619 | AT36: =IF($D36="","",IF(ISERR(M36/3),AT$30,IF(M36="",AT$29,M36))) -> 1501 | AU36: =IF($D36="","",IF(ISERR(N36/3),AU$30,IF(N36="",AU$29,N36))) -> 127 | AV36: =IF($D36="","",IF(ISERR(MATCH(O36,$AI36:$AJ36)),AV$30,IF(O36="",AV$29,O36))) -> כן | AW36: =IF($D36="","",IF(ISERR(P36/3),AW$30,IF(P36="",AW$29,P36))) -> 23987 | AX36: =IF($D36="","",IF(ISERR(MATCH(Q36,$AI36:$AJ36)),AX$30,IF(Q36="",AX$29,Q36))) -> כן | AY36: =IF($D36="","",IF(ISERR(MATCH(R36,$AI36:$AJ36)),AY$30,IF(R36="",AY$29,R36))) -> כן | AZ36: =IF($D36="","",IF(ISERR(MATCH(S36,$AI36:$AJ36)),AZ$30,IF(S36="",AZ$29,S36))) -> כן | BA36: =IF($D36="","",IF(ISERR(MATCH(T36,$AI36:$AJ36)),BA$30,IF(T36="",BA$29,T36))) -> כן | BB36: =IF($D36="","",IF(ISERR(MATCH(U36,$AI36:$AJ36)),BB$30,IF(U36="",BB$29,U36))) -> כן | BC36: =IF($D36="","",IF(ISERR(MATCH(V36,$AI36:$AJ36)),BC$30,IF(V36="",BC$29,V36))) -> כן | BD36: =IF($D36="","",IF(ISERR(W36/3),BD$30,IF(W36="",BD$29,W36))) -> 1330 | BE36: =IF($D36="","",IF(ISERR(MATCH(X36,$AI36:$AJ36)),BE$30,IF(X36="",BE$29,X36))) -> כן | BF36: =IF($D36="","",IF(ISERR(MATCH(Y36,$AI36:$AJ36)),BF$30,IF(Y36="",BF$29,Y36))) -> כן | BG36: =IF($D36="","",IF(ISERR(MATCH(Z36,$AI36:$AJ36)),BG$30,IF(Z36="",BG$29,Z36))) -> כן | BH36: =IF($D36="","",IF(ISERR(MATCH(AA36,$AI36:$AJ36)),BH$30,IF(AA36="",BH$29,AA36))) -> כן | BI36: =IF($D36="","",IF(ISERR(MATCH(AB36,$AI36:$AJ36)),BI$30,IF(AB36="",BI$29,AB36))) -> כן | BJ36: =IF($D36="","",IF(ISERR(MATCH(AC36,$AI36:$AJ36)),BJ$30,IF(AC36="",BJ$29,AC36))) -> כן | BK36: =IF($D36="","",IF(ISERR(MATCH(AD36,$AI36:$AJ36)),BK$30,IF(AD36="",BK$29,AD36))) -> כן
B37: =#REF! -> #REF! | C37: 5 | AD37: =IF(D37="","",IF(IFERROR(M37/I37,0)<15%,"לא","כן")) | AG37: =IF(D37="",0,1) -> 0 | AI37: =IF($D37="","",AI$31) | AJ37: =IF($D37="","",AJ$31) | AL37: =IF($D37="","",IF(ISERR(MATCH(E37,$AI37:$AJ37)),AL$30,IF(E37="",AL$29,E37))) | AM37: =IF($D37="","",IF(ISERR(MATCH(F37,$AI37:$AJ37)),AM$30,IF(F37="",AM$29,F37))) | AN37: =IF($D37="","",IF(ISERR(MATCH(G37,$AI37:$AJ37)),AN$30,IF(G37="",AN$29,G37))) | AO37: =IF($D37="","",IF(ISERR(H37/3),AO$30,IF(H37="",AO$29,H37))) | AP37: =IF($D37="","",IF(ISERR(I37/3),AP$30,IF(I37="",AP$29,I37))) | AQ37: =IF($D37="","",IF(ISERR(J37/3),AQ$30,IF(J37="",AQ$29,J37))) | AR37: =IF($D37="","",IF(ISERR(K37/3),AR$30,IF(K37="",AR$29,K37))) | AS37: =IF($D37="","",IF(ISERR(L37/3),AS$30,IF(L37="",AS$29,L37))) | AT37: =IF($D37="","",IF(ISERR(M37/3),AT$30,IF(M37="",AT$29,M37))) | AU37: =IF($D37="","",IF(ISERR(N37/3),AU$30,IF(N37="",AU$29,N37))) | AV37: =IF($D37="","",IF(ISERR(MATCH(O37,$AI37:$AJ37)),AV$30,IF(O37="",AV$29,O37))) | AW37: =IF($D37="","",IF(ISERR(P37/3),AW$30,IF(P37="",AW$29,P37))) | AX37: =IF($D37="","",IF(ISERR(MATCH(Q37,$AI37:$AJ37)),AX$30,IF(Q37="",AX$29,Q37))) | AY37: =IF($D37="","",IF(ISERR(MATCH(R37,$AI37:$AJ37)),AY$30,IF(R37="",AY$29,R37))) | AZ37: =IF($D37="","",IF(ISERR(MATCH(S37,$AI37:$AJ37)),AZ$30,IF(S37="",AZ$29,S37))) | BA37: =IF($D37="","",IF(ISERR(MATCH(T37,$AI37:$AJ37)),BA$30,IF(T37="",BA$29,T37))) | BB37: =IF($D37="","",IF(ISERR(MATCH(U37,$AI37:$AJ37)),BB$30,IF(U37="",BB$29,U37))) | BC37: =IF($D37="","",IF(ISERR(MATCH(V37,$AI37:$AJ37)),BC$30,IF(V37="",BC$29,V37))) | BD37: =IF($D37="","",IF(ISERR(W37/3),BD$30,IF(W37="",BD$29,W37))) | BE37: =IF($D37="","",IF(ISERR(MATCH(X37,$AI37:$AJ37)),BE$30,IF(X37="",BE$29,X37))) | BF37: =IF($D37="","",IF(ISERR(MATCH(Y37,$AI37:$AJ37)),BF$30,IF(Y37="",BF$29,Y37))) | BG37: =IF($D37="","",IF(ISERR(MATCH(Z37,$AI37:$AJ37)),BG$30,IF(Z37="",BG$29,Z37))) | BH37: =IF($D37="","",IF(ISERR(MATCH(AA37,$AI37:$AJ37)),BH$30,IF(AA37="",BH$29,AA37))) | BI37: =IF($D37="","",IF(ISERR(MATCH(AB37,$AI37:$AJ37)),BI$30,IF(AB37="",BI$29,AB37))) | BJ37: =IF($D37="","",IF(ISERR(MATCH(AC37,$AI37:$AJ37)),BJ$30,IF(AC37="",BJ$29,AC37))) | BK37: =IF($D37="","",IF(ISERR(MATCH(AD37,$AI37:$AJ37)),BK$30,IF(AD37="",BK$29,AD37)))
B38: =#REF! -> #REF! | C38: 6 | AD38: =IF(D38="","",IF(IFERROR(M38/I38,0)<15%,"לא","כן")) | AG38: =IF(D38="",0,1) -> 0 | AI38: =IF($D38="","",AI$31) | AJ38: =IF($D38="","",AJ$31) | AL38: =IF($D38="","",IF(ISERR(MATCH(E38,$AI38:$AJ38)),AL$30,IF(E38="",AL$29,E38))) | AM38: =IF($D38="","",IF(ISERR(MATCH(F38,$AI38:$AJ38)),AM$30,IF(F38="",AM$29,F38))) | AN38: =IF($D38="","",IF(ISERR(MATCH(G38,$AI38:$AJ38)),AN$30,IF(G38="",AN$29,G38))) | AO38: =IF($D38="","",IF(ISERR(H38/3),AO$30,IF(H38="",AO$29,H38))) | AP38: =IF($D38="","",IF(ISERR(I38/3),AP$30,IF(I38="",AP$29,I38))) | AQ38: =IF($D38="","",IF(ISERR(J38/3),AQ$30,IF(J38="",AQ$29,J38))) | AR38: =IF($D38="","",IF(ISERR(K38/3),AR$30,IF(K38="",AR$29,K38))) | AS38: =IF($D38="","",IF(ISERR(L38/3),AS$30,IF(L38="",AS$29,L38))) | AT38: =IF($D38="","",IF(ISERR(M38/3),AT$30,IF(M38="",AT$29,M38))) | AU38: =IF($D38="","",IF(ISERR(N38/3),AU$30,IF(N38="",AU$29,N38))) | AV38: =IF($D38="","",IF(ISERR(MATCH(O38,$AI38:$AJ38)),AV$30,IF(O38="",AV$29,O38))) | AW38: =IF($D38="","",IF(ISERR(P38/3),AW$30,IF(P38="",AW$29,P38))) | AX38: =IF($D38="","",IF(ISERR(MATCH(Q38,$AI38:$AJ38)),AX$30,IF(Q38="",AX$29,Q38))) | AY38: =IF($D38="","",IF(ISERR(MATCH(R38,$AI38:$AJ38)),AY$30,IF(R38="",AY$29,R38))) | AZ38: =IF($D38="","",IF(ISERR(MATCH(S38,$AI38:$AJ38)),AZ$30,IF(S38="",AZ$29,S38))) | BA38: =IF($D38="","",IF(ISERR(MATCH(T38,$AI38:$AJ38)),BA$30,IF(T38="",BA$29,T38))) | BB38: =IF($D38="","",IF(ISERR(MATCH(U38,$AI38:$AJ38)),BB$30,IF(U38="",BB$29,U38))) | BC38: =IF($D38="","",IF(ISERR(MATCH(V38,$AI38:$AJ38)),BC$30,IF(V38="",BC$29,V38))) | BD38: =IF($D38="","",IF(ISERR(W38/3),BD$30,IF(W38="",BD$29,W38))) | BE38: =IF($D38="","",IF(ISERR(MATCH(X38,$AI38:$AJ38)),BE$30,IF(X38="",BE$29,X38))) | BF38: =IF($D38="","",IF(ISERR(MATCH(Y38,$AI38:$AJ38)),BF$30,IF(Y38="",BF$29,Y38))) | BG38: =IF($D38="","",IF(ISERR(MATCH(Z38,$AI38:$AJ38)),BG$30,IF(Z38="",BG$29,Z38))) | BH38: =IF($D38="","",IF(ISERR(MATCH(AA38,$AI38:$AJ38)),BH$30,IF(AA38="",BH$29,AA38))) | BI38: =IF($D38="","",IF(ISERR(MATCH(AB38,$AI38:$AJ38)),BI$30,IF(AB38="",BI$29,AB38))) | BJ38: =IF($D38="","",IF(ISERR(MATCH(AC38,$AI38:$AJ38)),BJ$30,IF(AC38="",BJ$29,AC38))) | BK38: =IF($D38="","",IF(ISERR(MATCH(AD38,$AI38:$AJ38)),BK$30,IF(AD38="",BK$29,AD38)))
B39: =#REF! -> #REF! | C39: 7 | AD39: =IF(D39="","",IF(IFERROR(M39/I39,0)<15%,"לא","כן")) | AG39: =IF(D39="",0,1) -> 0 | AI39: =IF($D39="","",AI$31) | AJ39: =IF($D39="","",AJ$31) | AL39: =IF($D39="","",IF(ISERR(MATCH(E39,$AI39:$AJ39)),AL$30,IF(E39="",AL$29,E39))) | AM39: =IF($D39="","",IF(ISERR(MATCH(F39,$AI39:$AJ39)),AM$30,IF(F39="",AM$29,F39))) | AN39: =IF($D39="","",IF(ISERR(MATCH(G39,$AI39:$AJ39)),AN$30,IF(G39="",AN$29,G39))) | AO39: =IF($D39="","",IF(ISERR(H39/3),AO$30,IF(H39="",AO$29,H39))) | AP39: =IF($D39="","",IF(ISERR(I39/3),AP$30,IF(I39="",AP$29,I39))) | AQ39: =IF($D39="","",IF(ISERR(J39/3),AQ$30,IF(J39="",AQ$29,J39))) | AR39: =IF($D39="","",IF(ISERR(K39/3),AR$30,IF(K39="",AR$29,K39))) | AS39: =IF($D39="","",IF(ISERR(L39/3),AS$30,IF(L39="",AS$29,L39))) | AT39: =IF($D39="","",IF(ISERR(M39/3),AT$30,IF(M39="",AT$29,M39))) | AU39: =IF($D39="","",IF(ISERR(N39/3),AU$30,IF(N39="",AU$29,N39))) | AV39: =IF($D39="","",IF(ISERR(MATCH(O39,$AI39:$AJ39)),AV$30,IF(O39="",AV$29,O39))) | AW39: =IF($D39="","",IF(ISERR(P39/3),AW$30,IF(P39="",AW$29,P39))) | AX39: =IF($D39="","",IF(ISERR(MATCH(Q39,$AI39:$AJ39)),AX$30,IF(Q39="",AX$29,Q39))) | AY39: =IF($D39="","",IF(ISERR(MATCH(R39,$AI39:$AJ39)),AY$30,IF(R39="",AY$29,R39))) | AZ39: =IF($D39="","",IF(ISERR(MATCH(S39,$AI39:$AJ39)),AZ$30,IF(S39="",AZ$29,S39))) | BA39: =IF($D39="","",IF(ISERR(MATCH(T39,$AI39:$AJ39)),BA$30,IF(T39="",BA$29,T39))) | BB39: =IF($D39="","",IF(ISERR(MATCH(U39,$AI39:$AJ39)),BB$30,IF(U39="",BB$29,U39))) | BC39: =IF($D39="","",IF(ISERR(MATCH(V39,$AI39:$AJ39)),BC$30,IF(V39="",BC$29,V39))) | BD39: =IF($D39="","",IF(ISERR(W39/3),BD$30,IF(W39="",BD$29,W39))) | BE39: =IF($D39="","",IF(ISERR(MATCH(X39,$AI39:$AJ39)),BE$30,IF(X39="",BE$29,X39))) | BF39: =IF($D39="","",IF(ISERR(MATCH(Y39,$AI39:$AJ39)),BF$30,IF(Y39="",BF$29,Y39))) | BG39: =IF($D39="","",IF(ISERR(MATCH(Z39,$AI39:$AJ39)),BG$30,IF(Z39="",BG$29,Z39))) | BH39: =IF($D39="","",IF(ISERR(MATCH(AA39,$AI39:$AJ39)),BH$30,IF(AA39="",BH$29,AA39))) | BI39: =IF($D39="","",IF(ISERR(MATCH(AB39,$AI39:$AJ39)),BI$30,IF(AB39="",BI$29,AB39))) | BJ39: =IF($D39="","",IF(ISERR(MATCH(AC39,$AI39:$AJ39)),BJ$30,IF(AC39="",BJ$29,AC39))) | BK39: =IF($D39="","",IF(ISERR(MATCH(AD39,$AI39:$AJ39)),BK$30,IF(AD39="",BK$29,AD39)))
B40: =#REF! -> #REF! | C40: 8 | AD40: =IF(D40="","",IF(IFERROR(M40/I40,0)<15%,"לא","כן")) | AG40: =IF(D40="",0,1) -> 0 | AI40: =IF($D40="","",AI$31) | AJ40: =IF($D40="","",AJ$31) | AL40: =IF($D40="","",IF(ISERR(MATCH(E40,$AI40:$AJ40)),AL$30,IF(E40="",AL$29,E40))) | AM40: =IF($D40="","",IF(ISERR(MATCH(F40,$AI40:$AJ40)),AM$30,IF(F40="",AM$29,F40))) | AN40: =IF($D40="","",IF(ISERR(MATCH(G40,$AI40:$AJ40)),AN$30,IF(G40="",AN$29,G40))) | AO40: =IF($D40="","",IF(ISERR(H40/3),AO$30,IF(H40="",AO$29,H40))) | AP40: =IF($D40="","",IF(ISERR(I40/3),AP$30,IF(I40="",AP$29,I40))) | AQ40: =IF($D40="","",IF(ISERR(J40/3),AQ$30,IF(J40="",AQ$29,J40))) | AR40: =IF($D40="","",IF(ISERR(K40/3),AR$30,IF(K40="",AR$29,K40))) | AS40: =IF($D40="","",IF(ISERR(L40/3),AS$30,IF(L40="",AS$29,L40))) | AT40: =IF($D40="","",IF(ISERR(M40/3),AT$30,IF(M40="",AT$29,M40))) | AU40: =IF($D40="","",IF(ISERR(N40/3),AU$30,IF(N40="",AU$29,N40))) | AV40: =IF($D40="","",IF(ISERR(MATCH(O40,$AI40:$AJ40)),AV$30,IF(O40="",AV$29,O40))) | AW40: =IF($D40="","",IF(ISERR(P40/3),AW$30,IF(P40="",AW$29,P40))) | AX40: =IF($D40="","",IF(ISERR(MATCH(Q40,$AI40:$AJ40)),AX$30,IF(Q40="",AX$29,Q40))) | AY40: =IF($D40="","",IF(ISERR(MATCH(R40,$AI40:$AJ40)),AY$30,IF(R40="",AY$29,R40))) | AZ40: =IF($D40="","",IF(ISERR(MATCH(S40,$AI40:$AJ40)),AZ$30,IF(S40="",AZ$29,S40))) | BA40: =IF($D40="","",IF(ISERR(MATCH(T40,$AI40:$AJ40)),BA$30,IF(T40="",BA$29,T40))) | BB40: =IF($D40="","",IF(ISERR(MATCH(U40,$AI40:$AJ40)),BB$30,IF(U40="",BB$29,U40))) | BC40: =IF($D40="","",IF(ISERR(MATCH(V40,$AI40:$AJ40)),BC$30,IF(V40="",BC$29,V40))) | BD40: =IF($D40="","",IF(ISERR(W40/3),BD$30,IF(W40="",BD$29,W40))) | BE40: =IF($D40="","",IF(ISERR(MATCH(X40,$AI40:$AJ40)),BE$30,IF(X40="",BE$29,X40))) | BF40: =IF($D40="","",IF(ISERR(MATCH(Y40,$AI40:$AJ40)),BF$30,IF(Y40="",BF$29,Y40))) | BG40: =IF($D40="","",IF(ISERR(MATCH(Z40,$AI40:$AJ40)),BG$30,IF(Z40="",BG$29,Z40))) | BH40: =IF($D40="","",IF(ISERR(MATCH(AA40,$AI40:$AJ40)),BH$30,IF(AA40="",BH$29,AA40))) | BI40: =IF($D40="","",IF(ISERR(MATCH(AB40,$AI40:$AJ40)),BI$30,IF(AB40="",BI$29,AB40))) | BJ40: =IF($D40="","",IF(ISERR(MATCH(AC40,$AI40:$AJ40)),BJ$30,IF(AC40="",BJ$29,AC40))) | BK40: =IF($D40="","",IF(ISERR(MATCH(AD40,$AI40:$AJ40)),BK$30,IF(AD40="",BK$29,AD40)))
B41: =#REF! -> #REF! | C41: 9 | AD41: =IF(D41="","",IF(IFERROR(M41/I41,0)<15%,"לא","כן")) | AG41: =IF(D41="",0,1) -> 0 | AI41: =IF($D41="","",AI$31) | AJ41: =IF($D41="","",AJ$31) | AL41: =IF($D41="","",IF(ISERR(MATCH(E41,$AI41:$AJ41)),AL$30,IF(E41="",AL$29,E41))) | AM41: =IF($D41="","",IF(ISERR(MATCH(F41,$AI41:$AJ41)),AM$30,IF(F41="",AM$29,F41))) | AN41: =IF($D41="","",IF(ISERR(MATCH(G41,$AI41:$AJ41)),AN$30,IF(G41="",AN$29,G41))) | AO41: =IF($D41="","",IF(ISERR(H41/3),AO$30,IF(H41="",AO$29,H41))) | AP41: =IF($D41="","",IF(ISERR(I41/3),AP$30,IF(I41="",AP$29,I41))) | AQ41: =IF($D41="","",IF(ISERR(J41/3),AQ$30,IF(J41="",AQ$29,J41))) | AR41: =IF($D41="","",IF(ISERR(K41/3),AR$30,IF(K41="",AR$29,K41))) | AS41: =IF($D41="","",IF(ISERR(L41/3),AS$30,IF(L41="",AS$29,L41))) | AT41: =IF($D41="","",IF(ISERR(M41/3),AT$30,IF(M41="",AT$29,M41))) | AU41: =IF($D41="","",IF(ISERR(N41/3),AU$30,IF(N41="",AU$29,N41))) | AV41: =IF($D41="","",IF(ISERR(MATCH(O41,$AI41:$AJ41)),AV$30,IF(O41="",AV$29,O41))) | AW41: =IF($D41="","",IF(ISERR(P41/3),AW$30,IF(P41="",AW$29,P41))) | AX41: =IF($D41="","",IF(ISERR(MATCH(Q41,$AI41:$AJ41)),AX$30,IF(Q41="",AX$29,Q41))) | AY41: =IF($D41="","",IF(ISERR(MATCH(R41,$AI41:$AJ41)),AY$30,IF(R41="",AY$29,R41))) | AZ41: =IF($D41="","",IF(ISERR(MATCH(S41,$AI41:$AJ41)),AZ$30,IF(S41="",AZ$29,S41))) | BA41: =IF($D41="","",IF(ISERR(MATCH(T41,$AI41:$AJ41)),BA$30,IF(T41="",BA$29,T41))) | BB41: =IF($D41="","",IF(ISERR(MATCH(U41,$AI41:$AJ41)),BB$30,IF(U41="",BB$29,U41))) | BC41: =IF($D41="","",IF(ISERR(MATCH(V41,$AI41:$AJ41)),BC$30,IF(V41="",BC$29,V41))) | BD41: =IF($D41="","",IF(ISERR(W41/3),BD$30,IF(W41="",BD$29,W41))) | BE41: =IF($D41="","",IF(ISERR(MATCH(X41,$AI41:$AJ41)),BE$30,IF(X41="",BE$29,X41))) | BF41: =IF($D41="","",IF(ISERR(MATCH(Y41,$AI41:$AJ41)),BF$30,IF(Y41="",BF$29,Y41))) | BG41: =IF($D41="","",IF(ISERR(MATCH(Z41,$AI41:$AJ41)),BG$30,IF(Z41="",BG$29,Z41))) | BH41: =IF($D41="","",IF(ISERR(MATCH(AA41,$AI41:$AJ41)),BH$30,IF(AA41="",BH$29,AA41))) | BI41: =IF($D41="","",IF(ISERR(MATCH(AB41,$AI41:$AJ41)),BI$30,IF(AB41="",BI$29,AB41))) | BJ41: =IF($D41="","",IF(ISERR(MATCH(AC41,$AI41:$AJ41)),BJ$30,IF(AC41="",BJ$29,AC41))) | BK41: =IF($D41="","",IF(ISERR(MATCH(AD41,$AI41:$AJ41)),BK$30,IF(AD41="",BK$29,AD41)))
B42: =#REF! -> #REF! | C42: 10 | AD42: =IF(D42="","",IF(IFERROR(M42/I42,0)<15%,"לא","כן")) | AG42: =IF(D42="",0,1) -> 0 | AI42: =IF($D42="","",AI$31) | AJ42: =IF($D42="","",AJ$31) | AL42: =IF($D42="","",IF(ISERR(MATCH(E42,$AI42:$AJ42)),AL$30,IF(E42="",AL$29,E42))) | AM42: =IF($D42="","",IF(ISERR(MATCH(F42,$AI42:$AJ42)),AM$30,IF(F42="",AM$29,F42))) | AN42: =IF($D42="","",IF(ISERR(MATCH(G42,$AI42:$AJ42)),AN$30,IF(G42="",AN$29,G42))) | AO42: =IF($D42="","",IF(ISERR(H42/3),AO$30,IF(H42="",AO$29,H42))) | AP42: =IF($D42="","",IF(ISERR(I42/3),AP$30,IF(I42="",AP$29,I42))) | AQ42: =IF($D42="","",IF(ISERR(J42/3),AQ$30,IF(J42="",AQ$29,J42))) | AR42: =IF($D42="","",IF(ISERR(K42/3),AR$30,IF(K42="",AR$29,K42))) | AS42: =IF($D42="","",IF(ISERR(L42/3),AS$30,IF(L42="",AS$29,L42))) | AT42: =IF($D42="","",IF(ISERR(M42/3),AT$30,IF(M42="",AT$29,M42))) | AU42: =IF($D42="","",IF(ISERR(N42/3),AU$30,IF(N42="",AU$29,N42))) | AV42: =IF($D42="","",IF(ISERR(MATCH(O42,$AI42:$AJ42)),AV$30,IF(O42="",AV$29,O42))) | AW42: =IF($D42="","",IF(ISERR(P42/3),AW$30,IF(P42="",AW$29,P42))) | AX42: =IF($D42="","",IF(ISERR(MATCH(Q42,$AI42:$AJ42)),AX$30,IF(Q42="",AX$29,Q42))) | AY42: =IF($D42="","",IF(ISERR(MATCH(R42,$AI42:$AJ42)),AY$30,IF(R42="",AY$29,R42))) | AZ42: =IF($D42="","",IF(ISERR(MATCH(S42,$AI42:$AJ42)),AZ$30,IF(S42="",AZ$29,S42))) | BA42: =IF($D42="","",IF(ISERR(MATCH(T42,$AI42:$AJ42)),BA$30,IF(T42="",BA$29,T42))) | BB42: =IF($D42="","",IF(ISERR(MATCH(U42,$AI42:$AJ42)),BB$30,IF(U42="",BB$29,U42))) | BC42: =IF($D42="","",IF(ISERR(MATCH(V42,$AI42:$AJ42)),BC$30,IF(V42="",BC$29,V42))) | BD42: =IF($D42="","",IF(ISERR(W42/3),BD$30,IF(W42="",BD$29,W42))) | BE42: =IF($D42="","",IF(ISERR(MATCH(X42,$AI42:$AJ42)),BE$30,IF(X42="",BE$29,X42))) | BF42: =IF($D42="","",IF(ISERR(MATCH(Y42,$AI42:$AJ42)),BF$30,IF(Y42="",BF$29,Y42))) | BG42: =IF($D42="","",IF(ISERR(MATCH(Z42,$AI42:$AJ42)),BG$30,IF(Z42="",BG$29,Z42))) | BH42: =IF($D42="","",IF(ISERR(MATCH(AA42,$AI42:$AJ42)),BH$30,IF(AA42="",BH$29,AA42))) | BI42: =IF($D42="","",IF(ISERR(MATCH(AB42,$AI42:$AJ42)),BI$30,IF(AB42="",BI$29,AB42))) | BJ42: =IF($D42="","",IF(ISERR(MATCH(AC42,$AI42:$AJ42)),BJ$30,IF(AC42="",BJ$29,AC42))) | BK42: =IF($D42="","",IF(ISERR(MATCH(AD42,$AI42:$AJ42)),BK$30,IF(AD42="",BK$29,AD42)))
B43: =#REF! -> #REF! | C43: 11 | AD43: =IF(D43="","",IF(IFERROR(M43/I43,0)<15%,"לא","כן")) | AG43: =IF(D43="",0,1) -> 0 | AI43: =IF($D43="","",AI$31) | AJ43: =IF($D43="","",AJ$31) | AL43: =IF($D43="","",IF(ISERR(MATCH(E43,$AI43:$AJ43)),AL$30,IF(E43="",AL$29,E43))) | AM43: =IF($D43="","",IF(ISERR(MATCH(F43,$AI43:$AJ43)),AM$30,IF(F43="",AM$29,F43))) | AN43: =IF($D43="","",IF(ISERR(MATCH(G43,$AI43:$AJ43)),AN$30,IF(G43="",AN$29,G43))) | AO43: =IF($D43="","",IF(ISERR(H43/3),AO$30,IF(H43="",AO$29,H43))) | AP43: =IF($D43="","",IF(ISERR(I43/3),AP$30,IF(I43="",AP$29,I43))) | AQ43: =IF($D43="","",IF(ISERR(J43/3),AQ$30,IF(J43="",AQ$29,J43))) | AR43: =IF($D43="","",IF(ISERR(K43/3),AR$30,IF(K43="",AR$29,K43))) | AS43: =IF($D43="","",IF(ISERR(L43/3),AS$30,IF(L43="",AS$29,L43))) | AT43: =IF($D43="","",IF(ISERR(M43/3),AT$30,IF(M43="",AT$29,M43))) | AU43: =IF($D43="","",IF(ISERR(N43/3),AU$30,IF(N43="",AU$29,N43))) | AV43: =IF($D43="","",IF(ISERR(MATCH(O43,$AI43:$AJ43)),AV$30,IF(O43="",AV$29,O43))) | AW43: =IF($D43="","",IF(ISERR(P43/3),AW$30,IF(P43="",AW$29,P43))) | AX43: =IF($D43="","",IF(ISERR(MATCH(Q43,$AI43:$AJ43)),AX$30,IF(Q43="",AX$29,Q43))) | AY43: =IF($D43="","",IF(ISERR(MATCH(R43,$AI43:$AJ43)),AY$30,IF(R43="",AY$29,R43))) | AZ43: =IF($D43="","",IF(ISERR(MATCH(S43,$AI43:$AJ43)),AZ$30,IF(S43="",AZ$29,S43))) | BA43: =IF($D43="","",IF(ISERR(MATCH(T43,$AI43:$AJ43)),BA$30,IF(T43="",BA$29,T43))) | BB43: =IF($D43="","",IF(ISERR(MATCH(U43,$AI43:$AJ43)),BB$30,IF(U43="",BB$29,U43))) | BC43: =IF($D43="","",IF(ISERR(MATCH(V43,$AI43:$AJ43)),BC$30,IF(V43="",BC$29,V43))) | BD43: =IF($D43="","",IF(ISERR(W43/3),BD$30,IF(W43="",BD$29,W43))) | BE43: =IF($D43="","",IF(ISERR(MATCH(X43,$AI43:$AJ43)),BE$30,IF(X43="",BE$29,X43))) | BF43: =IF($D43="","",IF(ISERR(MATCH(Y43,$AI43:$AJ43)),BF$30,IF(Y43="",BF$29,Y43))) | BG43: =IF($D43="","",IF(ISERR(MATCH(Z43,$AI43:$AJ43)),BG$30,IF(Z43="",BG$29,Z43))) | BH43: =IF($D43="","",IF(ISERR(MATCH(AA43,$AI43:$AJ43)),BH$30,IF(AA43="",BH$29,AA43))) | BI43: =IF($D43="","",IF(ISERR(MATCH(AB43,$AI43:$AJ43)),BI$30,IF(AB43="",BI$29,AB43))) | BJ43: =IF($D43="","",IF(ISERR(MATCH(AC43,$AI43:$AJ43)),BJ$30,IF(AC43="",BJ$29,AC43))) | BK43: =IF($D43="","",IF(ISERR(MATCH(AD43,$AI43:$AJ43)),BK$30,IF(AD43="",BK$29,AD43)))
B44: =#REF! -> #REF! | C44: 12 | AD44: =IF(D44="","",IF(IFERROR(M44/I44,0)<15%,"לא","כן")) | AG44: =IF(D44="",0,1) -> 0 | AI44: =IF($D44="","",AI$31) | AJ44: =IF($D44="","",AJ$31) | AL44: =IF($D44="","",IF(ISERR(MATCH(E44,$AI44:$AJ44)),AL$30,IF(E44="",AL$29,E44))) | AM44: =IF($D44="","",IF(ISERR(MATCH(F44,$AI44:$AJ44)),AM$30,IF(F44="",AM$29,F44))) | AN44: =IF($D44="","",IF(ISERR(MATCH(G44,$AI44:$AJ44)),AN$30,IF(G44="",AN$29,G44))) | AO44: =IF($D44="","",IF(ISERR(H44/3),AO$30,IF(H44="",AO$29,H44))) | AP44: =IF($D44="","",IF(ISERR(I44/3),AP$30,IF(I44="",AP$29,I44))) | AQ44: =IF($D44="","",IF(ISERR(J44/3),AQ$30,IF(J44="",AQ$29,J44))) | AR44: =IF($D44="","",IF(ISERR(K44/3),AR$30,IF(K44="",AR$29,K44))) | AS44: =IF($D44="","",IF(ISERR(L44/3),AS$30,IF(L44="",AS$29,L44))) | AT44: =IF($D44="","",IF(ISERR(M44/3),AT$30,IF(M44="",AT$29,M44))) | AU44: =IF($D44="","",IF(ISERR(N44/3),AU$30,IF(N44="",AU$29,N44))) | AV44: =IF($D44="","",IF(ISERR(MATCH(O44,$AI44:$AJ44)),AV$30,IF(O44="",AV$29,O44))) | AW44: =IF($D44="","",IF(ISERR(P44/3),AW$30,IF(P44="",AW$29,P44))) | AX44: =IF($D44="","",IF(ISERR(MATCH(Q44,$AI44:$AJ44)),AX$30,IF(Q44="",AX$29,Q44))) | AY44: =IF($D44="","",IF(ISERR(MATCH(R44,$AI44:$AJ44)),AY$30,IF(R44="",AY$29,R44))) | AZ44: =IF($D44="","",IF(ISERR(MATCH(S44,$AI44:$AJ44)),AZ$30,IF(S44="",AZ$29,S44))) | BA44: =IF($D44="","",IF(ISERR(MATCH(T44,$AI44:$AJ44)),BA$30,IF(T44="",BA$29,T44))) | BB44: =IF($D44="","",IF(ISERR(MATCH(U44,$AI44:$AJ44)),BB$30,IF(U44="",BB$29,U44))) | BC44: =IF($D44="","",IF(ISERR(MATCH(V44,$AI44:$AJ44)),BC$30,IF(V44="",BC$29,V44))) | BD44: =IF($D44="","",IF(ISERR(W44/3),BD$30,IF(W44="",BD$29,W44))) | BE44: =IF($D44="","",IF(ISERR(MATCH(X44,$AI44:$AJ44)),BE$30,IF(X44="",BE$29,X44))) | BF44: =IF($D44="","",IF(ISERR(MATCH(Y44,$AI44:$AJ44)),BF$30,IF(Y44="",BF$29,Y44))) | BG44: =IF($D44="","",IF(ISERR(MATCH(Z44,$AI44:$AJ44)),BG$30,IF(Z44="",BG$29,Z44))) | BH44: =IF($D44="","",IF(ISERR(MATCH(AA44,$AI44:$AJ44)),BH$30,IF(AA44="",BH$29,AA44))) | BI44: =IF($D44="","",IF(ISERR(MATCH(AB44,$AI44:$AJ44)),BI$30,IF(AB44="",BI$29,AB44))) | BJ44: =IF($D44="","",IF(ISERR(MATCH(AC44,$AI44:$AJ44)),BJ$30,IF(AC44="",BJ$29,AC44))) | BK44: =IF($D44="","",IF(ISERR(MATCH(AD44,$AI44:$AJ44)),BK$30,IF(AD44="",BK$29,AD44)))
B45: =#REF! -> #REF! | C45: 13 | AD45: =IF(D45="","",IF(IFERROR(M45/I45,0)<15%,"לא","כן")) | AG45: =IF(D45="",0,1) -> 0 | AI45: =IF($D45="","",AI$31) | AJ45: =IF($D45="","",AJ$31) | AL45: =IF($D45="","",IF(ISERR(MATCH(E45,$AI45:$AJ45)),AL$30,IF(E45="",AL$29,E45))) | AM45: =IF($D45="","",IF(ISERR(MATCH(F45,$AI45:$AJ45)),AM$30,IF(F45="",AM$29,F45))) | AN45: =IF($D45="","",IF(ISERR(MATCH(G45,$AI45:$AJ45)),AN$30,IF(G45="",AN$29,G45))) | AO45: =IF($D45="","",IF(ISERR(H45/3),AO$30,IF(H45="",AO$29,H45))) | AP45: =IF($D45="","",IF(ISERR(I45/3),AP$30,IF(I45="",AP$29,I45))) | AQ45: =IF($D45="","",IF(ISERR(J45/3),AQ$30,IF(J45="",AQ$29,J45))) | AR45: =IF($D45="","",IF(ISERR(K45/3),AR$30,IF(K45="",AR$29,K45))) | AS45: =IF($D45="","",IF(ISERR(L45/3),AS$30,IF(L45="",AS$29,L45))) | AT45: =IF($D45="","",IF(ISERR(M45/3),AT$30,IF(M45="",AT$29,M45))) | AU45: =IF($D45="","",IF(ISERR(N45/3),AU$30,IF(N45="",AU$29,N45))) | AV45: =IF($D45="","",IF(ISERR(MATCH(O45,$AI45:$AJ45)),AV$30,IF(O45="",AV$29,O45))) | AW45: =IF($D45="","",IF(ISERR(P45/3),AW$30,IF(P45="",AW$29,P45))) | AX45: =IF($D45="","",IF(ISERR(MATCH(Q45,$AI45:$AJ45)),AX$30,IF(Q45="",AX$29,Q45))) | AY45: =IF($D45="","",IF(ISERR(MATCH(R45,$AI45:$AJ45)),AY$30,IF(R45="",AY$29,R45))) | AZ45: =IF($D45="","",IF(ISERR(MATCH(S45,$AI45:$AJ45)),AZ$30,IF(S45="",AZ$29,S45))) | BA45: =IF($D45="","",IF(ISERR(MATCH(T45,$AI45:$AJ45)),BA$30,IF(T45="",BA$29,T45))) | BB45: =IF($D45="","",IF(ISERR(MATCH(U45,$AI45:$AJ45)),BB$30,IF(U45="",BB$29,U45))) | BC45: =IF($D45="","",IF(ISERR(MATCH(V45,$AI45:$AJ45)),BC$30,IF(V45="",BC$29,V45))) | BD45: =IF($D45="","",IF(ISERR(W45/3),BD$30,IF(W45="",BD$29,W45))) | BE45: =IF($D45="","",IF(ISERR(MATCH(X45,$AI45:$AJ45)),BE$30,IF(X45="",BE$29,X45))) | BF45: =IF($D45="","",IF(ISERR(MATCH(Y45,$AI45:$AJ45)),BF$30,IF(Y45="",BF$29,Y45))) | BG45: =IF($D45="","",IF(ISERR(MATCH(Z45,$AI45:$AJ45)),BG$30,IF(Z45="",BG$29,Z45))) | BH45: =IF($D45="","",IF(ISERR(MATCH(AA45,$AI45:$AJ45)),BH$30,IF(AA45="",BH$29,AA45))) | BI45: =IF($D45="","",IF(ISERR(MATCH(AB45,$AI45:$AJ45)),BI$30,IF(AB45="",BI$29,AB45))) | BJ45: =IF($D45="","",IF(ISERR(MATCH(AC45,$AI45:$AJ45)),BJ$30,IF(AC45="",BJ$29,AC45))) | BK45: =IF($D45="","",IF(ISERR(MATCH(AD45,$AI45:$AJ45)),BK$30,IF(AD45="",BK$29,AD45)))
B46: =#REF! -> #REF! | C46: 14 | AD46: =IF(D46="","",IF(IFERROR(M46/I46,0)<15%,"לא","כן")) | AG46: =IF(D46="",0,1) -> 0 | AI46: =IF($D46="","",AI$31) | AJ46: =IF($D46="","",AJ$31) | AL46: =IF($D46="","",IF(ISERR(MATCH(E46,$AI46:$AJ46)),AL$30,IF(E46="",AL$29,E46))) | AM46: =IF($D46="","",IF(ISERR(MATCH(F46,$AI46:$AJ46)),AM$30,IF(F46="",AM$29,F46))) | AN46: =IF($D46="","",IF(ISERR(MATCH(G46,$AI46:$AJ46)),AN$30,IF(G46="",AN$29,G46))) | AO46: =IF($D46="","",IF(ISERR(H46/3),AO$30,IF(H46="",AO$29,H46))) | AP46: =IF($D46="","",IF(ISERR(I46/3),AP$30,IF(I46="",AP$29,I46))) | AQ46: =IF($D46="","",IF(ISERR(J46/3),AQ$30,IF(J46="",AQ$29,J46))) | AR46: =IF($D46="","",IF(ISERR(K46/3),AR$30,IF(K46="",AR$29,K46))) | AS46: =IF($D46="","",IF(ISERR(L46/3),AS$30,IF(L46="",AS$29,L46))) | AT46: =IF($D46="","",IF(ISERR(M46/3),AT$30,IF(M46="",AT$29,M46))) | AU46: =IF($D46="","",IF(ISERR(N46/3),AU$30,IF(N46="",AU$29,N46))) | AV46: =IF($D46="","",IF(ISERR(MATCH(O46,$AI46:$AJ46)),AV$30,IF(O46="",AV$29,O46))) | AW46: =IF($D46="","",IF(ISERR(P46/3),AW$30,IF(P46="",AW$29,P46))) | AX46: =IF($D46="","",IF(ISERR(MATCH(Q46,$AI46:$AJ46)),AX$30,IF(Q46="",AX$29,Q46))) | AY46: =IF($D46="","",IF(ISERR(MATCH(R46,$AI46:$AJ46)),AY$30,IF(R46="",AY$29,R46))) | AZ46: =IF($D46="","",IF(ISERR(MATCH(S46,$AI46:$AJ46)),AZ$30,IF(S46="",AZ$29,S46))) | BA46: =IF($D46="","",IF(ISERR(MATCH(T46,$AI46:$AJ46)),BA$30,IF(T46="",BA$29,T46))) | BB46: =IF($D46="","",IF(ISERR(MATCH(U46,$AI46:$AJ46)),BB$30,IF(U46="",BB$29,U46))) | BC46: =IF($D46="","",IF(ISERR(MATCH(V46,$AI46:$AJ46)),BC$30,IF(V46="",BC$29,V46))) | BD46: =IF($D46="","",IF(ISERR(W46/3),BD$30,IF(W46="",BD$29,W46))) | BE46: =IF($D46="","",IF(ISERR(MATCH(X46,$AI46:$AJ46)),BE$30,IF(X46="",BE$29,X46))) | BF46: =IF($D46="","",IF(ISERR(MATCH(Y46,$AI46:$AJ46)),BF$30,IF(Y46="",BF$29,Y46))) | BG46: =IF($D46="","",IF(ISERR(MATCH(Z46,$AI46:$AJ46)),BG$30,IF(Z46="",BG$29,Z46))) | BH46: =IF($D46="","",IF(ISERR(MATCH(AA46,$AI46:$AJ46)),BH$30,IF(AA46="",BH$29,AA46))) | BI46: =IF($D46="","",IF(ISERR(MATCH(AB46,$AI46:$AJ46)),BI$30,IF(AB46="",BI$29,AB46))) | BJ46: =IF($D46="","",IF(ISERR(MATCH(AC46,$AI46:$AJ46)),BJ$30,IF(AC46="",BJ$29,AC46))) | BK46: =IF($D46="","",IF(ISERR(MATCH(AD46,$AI46:$AJ46)),BK$30,IF(AD46="",BK$29,AD46)))
B47: =#REF! -> #REF! | C47: 15 | AD47: =IF(D47="","",IF(IFERROR(M47/I47,0)<15%,"לא","כן")) | AG47: =IF(D47="",0,1) -> 0 | AI47: =IF($D47="","",AI$31) | AJ47: =IF($D47="","",AJ$31) | AL47: =IF($D47="","",IF(ISERR(MATCH(E47,$AI47:$AJ47)),AL$30,IF(E47="",AL$29,E47))) | AM47: =IF($D47="","",IF(ISERR(MATCH(F47,$AI47:$AJ47)),AM$30,IF(F47="",AM$29,F47))) | AN47: =IF($D47="","",IF(ISERR(MATCH(G47,$AI47:$AJ47)),AN$30,IF(G47="",AN$29,G47))) | AO47: =IF($D47="","",IF(ISERR(H47/3),AO$30,IF(H47="",AO$29,H47))) | AP47: =IF($D47="","",IF(ISERR(I47/3),AP$30,IF(I47="",AP$29,I47))) | AQ47: =IF($D47="","",IF(ISERR(J47/3),AQ$30,IF(J47="",AQ$29,J47))) | AR47: =IF($D47="","",IF(ISERR(K47/3),AR$30,IF(K47="",AR$29,K47))) | AS47: =IF($D47="","",IF(ISERR(L47/3),AS$30,IF(L47="",AS$29,L47))) | AT47: =IF($D47="","",IF(ISERR(M47/3),AT$30,IF(M47="",AT$29,M47))) | AU47: =IF($D47="","",IF(ISERR(N47/3),AU$30,IF(N47="",AU$29,N47))) | AV47: =IF($D47="","",IF(ISERR(MATCH(O47,$AI47:$AJ47)),AV$30,IF(O47="",AV$29,O47))) | AW47: =IF($D47="","",IF(ISERR(P47/3),AW$30,IF(P47="",AW$29,P47))) | AX47: =IF($D47="","",IF(ISERR(MATCH(Q47,$AI47:$AJ47)),AX$30,IF(Q47="",AX$29,Q47))) | AY47: =IF($D47="","",IF(ISERR(MATCH(R47,$AI47:$AJ47)),AY$30,IF(R47="",AY$29,R47))) | AZ47: =IF($D47="","",IF(ISERR(MATCH(S47,$AI47:$AJ47)),AZ$30,IF(S47="",AZ$29,S47))) | BA47: =IF($D47="","",IF(ISERR(MATCH(T47,$AI47:$AJ47)),BA$30,IF(T47="",BA$29,T47))) | BB47: =IF($D47="","",IF(ISERR(MATCH(U47,$AI47:$AJ47)),BB$30,IF(U47="",BB$29,U47))) | BC47: =IF($D47="","",IF(ISERR(MATCH(V47,$AI47:$AJ47)),BC$30,IF(V47="",BC$29,V47))) | BD47: =IF($D47="","",IF(ISERR(W47/3),BD$30,IF(W47="",BD$29,W47))) | BE47: =IF($D47="","",IF(ISERR(MATCH(X47,$AI47:$AJ47)),BE$30,IF(X47="",BE$29,X47))) | BF47: =IF($D47="","",IF(ISERR(MATCH(Y47,$AI47:$AJ47)),BF$30,IF(Y47="",BF$29,Y47))) | BG47: =IF($D47="","",IF(ISERR(MATCH(Z47,$AI47:$AJ47)),BG$30,IF(Z47="",BG$29,Z47))) | BH47: =IF($D47="","",IF(ISERR(MATCH(AA47,$AI47:$AJ47)),BH$30,IF(AA47="",BH$29,AA47))) | BI47: =IF($D47="","",IF(ISERR(MATCH(AB47,$AI47:$AJ47)),BI$30,IF(AB47="",BI$29,AB47))) | BJ47: =IF($D47="","",IF(ISERR(MATCH(AC47,$AI47:$AJ47)),BJ$30,IF(AC47="",BJ$29,AC47))) | BK47: =IF($D47="","",IF(ISERR(MATCH(AD47,$AI47:$AJ47)),BK$30,IF(AD47="",BK$29,AD47)))
B48: =#REF! -> #REF! | C48: 16 | AD48: =IF(D48="","",IF(IFERROR(M48/I48,0)<15%,"לא","כן")) | AG48: =IF(D48="",0,1) -> 0 | AI48: =IF($D48="","",AI$31) | AJ48: =IF($D48="","",AJ$31) | AL48: =IF($D48="","",IF(ISERR(MATCH(E48,$AI48:$AJ48)),AL$30,IF(E48="",AL$29,E48))) | AM48: =IF($D48="","",IF(ISERR(MATCH(F48,$AI48:$AJ48)),AM$30,IF(F48="",AM$29,F48))) | AN48: =IF($D48="","",IF(ISERR(MATCH(G48,$AI48:$AJ48)),AN$30,IF(G48="",AN$29,G48))) | AO48: =IF($D48="","",IF(ISERR(H48/3),AO$30,IF(H48="",AO$29,H48))) | AP48: =IF($D48="","",IF(ISERR(I48/3),AP$30,IF(I48="",AP$29,I48))) | AQ48: =IF($D48="","",IF(ISERR(J48/3),AQ$30,IF(J48="",AQ$29,J48))) | AR48: =IF($D48="","",IF(ISERR(K48/3),AR$30,IF(K48="",AR$29,K48))) | AS48: =IF($D48="","",IF(ISERR(L48/3),AS$30,IF(L48="",AS$29,L48))) | AT48: =IF($D48="","",IF(ISERR(M48/3),AT$30,IF(M48="",AT$29,M48))) | AU48: =IF($D48="","",IF(ISERR(N48/3),AU$30,IF(N48="",AU$29,N48))) | AV48: =IF($D48="","",IF(ISERR(MATCH(O48,$AI48:$AJ48)),AV$30,IF(O48="",AV$29,O48))) | AW48: =IF($D48="","",IF(ISERR(P48/3),AW$30,IF(P48="",AW$29,P48))) | AX48: =IF($D48="","",IF(ISERR(MATCH(Q48,$AI48:$AJ48)),AX$30,IF(Q48="",AX$29,Q48))) | AY48: =IF($D48="","",IF(ISERR(MATCH(R48,$AI48:$AJ48)),AY$30,IF(R48="",AY$29,R48))) | AZ48: =IF($D48="","",IF(ISERR(MATCH(S48,$AI48:$AJ48)),AZ$30,IF(S48="",AZ$29,S48))) | BA48: =IF($D48="","",IF(ISERR(MATCH(T48,$AI48:$AJ48)),BA$30,IF(T48="",BA$29,T48))) | BB48: =IF($D48="","",IF(ISERR(MATCH(U48,$AI48:$AJ48)),BB$30,IF(U48="",BB$29,U48))) | BC48: =IF($D48="","",IF(ISERR(MATCH(V48,$AI48:$AJ48)),BC$30,IF(V48="",BC$29,V48))) | BD48: =IF($D48="","",IF(ISERR(W48/3),BD$30,IF(W48="",BD$29,W48))) | BE48: =IF($D48="","",IF(ISERR(MATCH(X48,$AI48:$AJ48)),BE$30,IF(X48="",BE$29,X48))) | BF48: =IF($D48="","",IF(ISERR(MATCH(Y48,$AI48:$AJ48)),BF$30,IF(Y48="",BF$29,Y48))) | BG48: =IF($D48="","",IF(ISERR(MATCH(Z48,$AI48:$AJ48)),BG$30,IF(Z48="",BG$29,Z48))) | BH48: =IF($D48="","",IF(ISERR(MATCH(AA48,$AI48:$AJ48)),BH$30,IF(AA48="",BH$29,AA48))) | BI48: =IF($D48="","",IF(ISERR(MATCH(AB48,$AI48:$AJ48)),BI$30,IF(AB48="",BI$29,AB48))) | BJ48: =IF($D48="","",IF(ISERR(MATCH(AC48,$AI48:$AJ48)),BJ$30,IF(AC48="",BJ$29,AC48))) | BK48: =IF($D48="","",IF(ISERR(MATCH(AD48,$AI48:$AJ48)),BK$30,IF(AD48="",BK$29,AD48)))
... B92: =#REF! -> #REF! | C92: 60 | AD92: =IF(D92="","",IF(IFERROR(M92/I92,0)<15%,"לא","כן")) | AG92: =IF(D92="",0,1) -> 0 | AI92: =IF($D92="","",AI$31) | AJ92: =IF($D92="","",AJ$31) | AL92: =IF($D92="","",IF(ISERR(MATCH(E92,$AI92:$AJ92)),AL$30,IF(E92="",AL$29,E92))) | AM92: =IF($D92="","",IF(ISERR(MATCH(F92,$AI92:$AJ92)),AM$30,IF(F92="",AM$29,F92))) | AN92: =IF($D92="","",IF(ISERR(MATCH(G92,$AI92:$AJ92)),AN$30,IF(G92="",AN$29,G92))) | AO92: =IF($D92="","",IF(ISERR(H92/3),AO$30,IF(H92="",AO$29,H92))) | AP92: =IF($D92="","",IF(ISERR(I92/3),AP$30,IF(I92="",AP$29,I92))) | AQ92: =IF($D92="","",IF(ISERR(J92/3),AQ$30,IF(J92="",AQ$29,J92))) | AR92: =IF($D92="","",IF(ISERR(K92/3),AR$30,IF(K92="",AR$29,K92))) | AS92: =IF($D92="","",IF(ISERR(L92/3),AS$30,IF(L92="",AS$29,L92))) | AT92: =IF($D92="","",IF(ISERR(M92/3),AT$30,IF(M92="",AT$29,M92))) | AU92: =IF($D92="","",IF(ISERR(N92/3),AU$30,IF(N92="",AU$29,N92))) | AV92: =IF($D92="","",IF(ISERR(MATCH(O92,$AI92:$AJ92)),AV$30,IF(O92="",AV$29,O92))) | AW92: =IF($D92="","",IF(ISERR(P92/3),AW$30,IF(P92="",AW$29,P92))) | AX92: =IF($D92="","",IF(ISERR(MATCH(Q92,$AI92:$AJ92)),AX$30,IF(Q92="",AX$29,Q92))) | AY92: =IF($D92="","",IF(ISERR(MATCH(R92,$AI92:$AJ92)),AY$30,IF(R92="",AY$29,R92))) | AZ92: =IF($D92="","",IF(ISERR(MATCH(S92,$AI92:$AJ92)),AZ$30,IF(S92="",AZ$29,S92))) | BA92: =IF($D92="","",IF(ISERR(MATCH(T92,$AI92:$AJ92)),BA$30,IF(T92="",BA$29,T92))) | BB92: =IF($D92="","",IF(ISERR(MATCH(U92,$AI92:$AJ92)),BB$30,IF(U92="",BB$29,U92))) | BC92: =IF($D92="","",IF(ISERR(MATCH(V92,$AI92:$AJ92)),BC$30,IF(V92="",BC$29,V92))) | BD92: =IF($D92="","",IF(ISERR(W92/3),BD$30,IF(W92="",BD$29,W92))) | BE92: =IF($D92="","",IF(ISERR(MATCH(X92,$AI92:$AJ92)),BE$30,IF(X92="",BE$29,X92))) | BF92: =IF($D92="","",IF(ISERR(MATCH(Y92,$AI92:$AJ92)),BF$30,IF(Y92="",BF$29,Y92))) | BG92: =IF($D92="","",IF(ISERR(MATCH(Z92,$AI92:$AJ92)),BG$30,IF(Z92="",BG$29,Z92))) | BH92: =IF($D92="","",IF(ISERR(MATCH(AA92,$AI92:$AJ92)),BH$30,IF(AA92="",BH$29,AA92))) | BI92: =IF($D92="","",IF(ISERR(MATCH(AB92,$AI92:$AJ92)),BI$30,IF(AB92="",BI$29,AB92))) | BJ92: =IF($D92="","",IF(ISERR(MATCH(AC92,$AI92:$AJ92)),BJ$30,IF(AC92="",BJ$29,AC92))) | BK92: =IF($D92="","",IF(ISERR(MATCH(AD92,$AI92:$AJ92)),BK$30,IF(AD92="",BK$29,AD92)))

Sheet תנאי סף
AC27: ='הזנת נתונים'!AL29 -> נתון חסר | AD27: ='הזנת נתונים'!AI31 -> כן
D28: סעיף | E28: 6 (1) | F28: 6 (2) | G28: 6 (3) | H28: 6 (4) | I28: 6 (5) | J28: 6 (6) | K28: 6 (11) | L28: 6 (8) | M28: 6 (9) | N28: 6 (12) | O28: 6 (10) | P28: 6 (7) | Q28: 6 (13) | R28: 6 (14) | S28: 6 (15) | T28: 6 (16) | U28: 6 (17) | V28: 6 (18) | W28: 7 (5) | X28: 6 (11) | AC28: ='הזנת נתונים'!AL30 -> הזנה שגויה | AD28: ='הזנת נתונים'!AJ31 -> לא
C29: מספר סידורי | D29: שם המוסד | E29: נתונים לתנאי סף | Y29: : עמידה בתנאי סף לספריות של ספרות ערבית או ספרות תורנית | Z29: עמידה בתנאי סף | AA29: הערות | AI29: אינדיקצית שימוש | AK29: תנאי הסף: | AL29: {=TRANSPOSE(פרמטרים!C15:C26)} -> כן | AM29: כן | AN29: כן | AO29: 3500 | AP29: 150 | AQ29: כן | AR29: 0.15 | AS29: 1500 | AT29: כן | AU29: כן | AV29: כן | AW29: 400 | AX29: כן | AY29: כן | AZ29: כן | BA29: כן | BB29: כן | BC29: כן | BD29: כן | BE29: כן
E30: {=TRANSPOSE(פרמטרים!B15:B26)} -> המוסד משמש כספרייה לעיוורים או משק סגור | F30: המוסד פועל כספרייה במשך שנתיים רצופות | G30: מנהל ספרייה עוסק בהיקף שלא יפחת בחצי משרה | H30: כמה כותרים מונגשים ברשות הספרייה? | I30: כמה כותרים הספרייה הנגישה בשנת הערכה? | J30: האם המוסד שומר על זכויות יוצרים של הכותרים? | K30: כמה כותרים מונגשים הופקו או נרכשו בשנת ההערכה בשפה הערבית? | L30: כמה השאלות של ספרים מונגשים התקיימו בשנת הערכה? | M30: האם שירותי ההשאלה ניתנים בחינם? | N30: שירותי הספרייה ניתנים לעיוורים וללקויי ראייה בכל הארץ בלא הבדל גזע, דת, מין, לאום השקפה או השתייכות מפלגתית | O30: האם המוסד מקיים מנגנון השאלה טלפוני בהיקף של 16 ש"ש, במשך 4 ימים בשבוע? | P30: כמה מנויים פעילים יש לספרייה? | Q30: ='הזנת נתונים'!X31 -> המוסד עומד בדרישות הנוהל, ובכלל זה יעמיד עצמו לביקורת המשרד בהתאם לדינים החלים עליו, הוראות הנוהל והחלטות הממשלה, זאת להבטחת עמידתו בתנאים למתן תמיכה, ובלי לפגוע בחופש היצירה, בחירות האמנותית ובחופש הביטוי; | R30: ='הזנת נתונים'!Y31 -> מטרות המוסד כמפורט במסמכי היסוד שלו ואופן פעולתו עולים בקנה אחד עם מטרות התמיכה המפורטות במבחנים אלה | S30: ='הזנת נתונים'!Z31 -> המוסד משתמש בכספי התמיכה רק למטרות שלשמן ניתנו | T30: ='הזנת נתונים'!AA31 -> המוסד מקיים את הוראות החוק הרלוונטיות לפעילותו, מקפיד על כללי ניהול תקין ושומר על שקיפות מלאה באורחות התנהלותו באופן ההולם את מטרותיו הציבוריות | U30: ='הזנת נתונים'!AB31 -> המוסד פועל ביעילות ובתקורה מינימלית, שמאפשרת את פעילותו התקינה והראויה, לרבות בהתאם לנוהל ולהנחיות החשב הכללי במשרד האוצר לעניין הוצאות הנהלה וכלליות | V30: ='הזנת נתונים'!AE31 -> במוסד בו מועסקים עובדים ביחסי עבודה, המוסד קבע תקנון למניעת הטרדה מינית ועומדת בדרישות תקנה 8 לתקנות חובות מעסיק. המוסד צירף לבקשתו את התקנון ופרטים על ההתאמות בתקנון, פרסומו למסירתו. (במוסד בו אין מתכונת יחסי עבודה - יש לסמן 1 עבור תנאי זה) | W30: ='הזנת נתונים'!AC31 -> האם רוב הספרים בספרייה הם בשפה הערבית? | X30: ='הזנת נתונים'!AD31 -> המוסד הפיק או רכש בשנת ההערכה ספרים מונגשים בשפה הערבית, בהיקף שלא יפחת מ15% מתוך כלל הספרים המונגשים שהופקו או נרכשו על ידו בשנת ההערכה | AC30: עובר תנאי סף | AD30: לא עובר תנאי סף | AF30: עובר תנאי סף- ספרייה ערבית | AG30: עובר תנאי סף- ספרייה תורנית | AI30: כללי | AL30: =E30 -> המוסד משמש כספרייה לעיוורים או משק סגור | AM30: =F30 -> המוסד פועל כספרייה במשך שנתיים רצופות | AN30: =G30 -> מנהל ספרייה עוסק בהיקף שלא יפחת בחצי משרה | AO30: =H30 -> כמה כותרים מונגשים ברשות הספרייה? | AP30: =I30 -> כמה כותרים הספרייה הנגישה בשנת הערכה? | AQ30: =J30 -> האם המוסד שומר על זכויות יוצרים של הכותרים? | AR30: =K30 -> כמה כותרים מונגשים הופקו או נרכשו בשנת ההערכה בשפה הערבית? | AS30: =L30 -> כמה השאלות של ספרים מונגשים התקיימו בשנת הערכה? | ... BE30: =X30 -> המוסד הפיק או רכש בשנת ההערכה ספרים מונגשים בשפה הערבית, בהיקף שלא יפחת מ15% מתוך כלל הספרים המונגשים שהופקו או נרכשו על ידו בשנת ההערכה
B31: =#REF! -> #REF! | C31: =IF('הזנת נתונים'!$D33="","",'הזנת נתונים'!C33) -> 1 | D31: =IF('הזנת נתונים'!$D33="","",'הזנת נתונים'!D33) -> הספריה המרכזית לעיוורים | E31: =IF($D31="","",'הזנת נתונים'!AL33) -> כן | F31: =IF($D31="","",'הזנת נתונים'!AM33) -> כן | G31: =IF($D31="","",'הזנת נתונים'!AN33) -> כן | H31: =IF($D31="","",'הזנת נתונים'!AO33) -> 43807 | I31: =IF($D31="","",'הזנת נתונים'!AP33) -> 3601 | J31: =IF($D31="","",'הזנת נתונים'!AV33) -> כן | K31: =IF($D31="","",'הזנת נתונים'!AT33) -> 620 | L31: =IF($D31="","",'הזנת נתונים'!AW33) -> 900092 | M31: =IF($D31="","",'הזנת נתונים'!AX33) -> כן | N31: =IF($D31="","",'הזנת נתונים'!AY33) -> כן | O31: =IF($D31="","",'הזנת נתונים'!AZ33) -> כן | P31: =IF($D31="","",'הזנת נתונים'!BD33) -> 15506 | Q31: =IF($D31="","",'הזנת נתונים'!BE33) -> כן | R31: =IF($D31="","",'הזנת נתונים'!BF33) -> כן | S31: =IF($D31="","",'הזנת נתונים'!BG33) -> כן | T31: =IF($D31="","",'הזנת נתונים'!BH33) -> כן | U31: =IF($D31="","",'הזנת נתונים'!BI33) -> כן | V31: =IF($D31="","",'הזנת נתונים'!AE33) -> כן | W31: =IF($D31="","",'הזנת נתונים'!BJ33) -> לא | X31: =IF($D31="","",'הזנת נתונים'!BK33) -> כן | Z31: =IFERROR(IF(OR(Y31=$AF$30,Y31=$AG$30,SUM(AL31:BC31)=18),AC31,AD31),AD31) -> עובר תנאי סף | AC31: =IF($D31="","",AC$30) -> עובר תנאי סף | AD31: =IF($D31="","",AD$30) -> לא עובר תנאי סף | AF31: =IF($D31="","",AF$30) -> עובר תנאי סף- ספרייה ערבית | AG31: =IF($D31="","",AG$30) -> עובר תנאי סף- ספרייה תורנית | AI31: =IF(D31="",0,1) -> 1 | AL31: =IF($D31="","",IF(E31=AL$29,1,0)) -> 1 | AM31: =IF($D31="","",IF(F31=AM$29,1,0)) -> 1 | AN31: =IF($D31="","",IF(G31=AN$29,1,0)) -> 1 | AO31: =IF($D31="","",IF(H31>=AO$29,1,0)) -> 1 | AP31: =IF($D31="","",IF(I31>=AP$29,1,0)) -> 1 | AQ31: =IF($D31="","",IF(J31=AQ$29,1,0)) -> 1 | AR31: =IF($D31="","",IF('הזנת נתונים'!BK33=$AD$27,1,IF(IFERROR(K31/I31,0)>=AR$29,1,0))) -> 1 | AS31: =IF($D31="","",IF(L31>=AS$29,1,0)) -> 1 | AT31: =IF($D31="","",IF(M31=AT$29,1,0)) -> 1 | AU31: =IF($D31="","",IF(N31=AU$29,1,0)) -> 1 | AV31: =IF($D31="","",IF(O31=AV$29,1,0)) -> 1 | AW31: =IF($D31="","",IF(P31>=AW$29,1,0)) -> 1 | AX31: =IF($D31="","",IF(Q31=AX$29,1,0)) -> 1 | AY31: =IF($D31="","",IF(R31=AY$29,1,0)) -> 1 | AZ31: =IF($D31="","",IF(S31=AZ$29,1,0)) -> 1 | BA31: =IF($D31="","",IF(T31=BA$29,1,0)) -> 1 | BB31: =IF($D31="","",IF(U31=BB$29,1,0)) -> 1 | BC31: =IF($D31="","",IF(V31=BC$29,1,0)) -> 1 | BD31: =IF($D31="","",IF(ISERROR(MATCH(W31,$AD$27:$AD$28,0)),0,1)) -> 1 | BE31: =IF($D31="","",IF(ISERROR(MATCH(X31,$AD$27:$AD$28,0)),0,1)) -> 1
B32: =#REF! -> #REF! | C32: =IF('הזנת נתונים'!$D34="","",'הזנת נתונים'!C34) -> 2 | D32: =IF('הזנת נתונים'!$D34="","",'הזנת נתונים'!D34) -> מסיל"ה | E32: =IF($D32="","",'הזנת נתונים'!AL34) -> כן | F32: =IF($D32="","",'הזנת נתונים'!AM34) -> כן | G32: =IF($D32="","",'הזנת נתונים'!AN34) -> כן | H32: =IF($D32="","",'הזנת נתונים'!AO34) -> 6701 | I32: =IF($D32="","",'הזנת נתונים'!AP34) -> 270 | J32: =IF($D32="","",'הזנת נתונים'!AV34) -> כן | K32: =IF($D32="","",'הזנת נתונים'!AT34) -> 0 | L32: =IF($D32="","",'הזנת נתונים'!AW34) -> 3348 | M32: =IF($D32="","",'הזנת נתונים'!AX34) -> כן | N32: =IF($D32="","",'הזנת נתונים'!AY34) -> כן | O32: =IF($D32="","",'הזנת נתונים'!AZ34) -> כן | P32: =IF($D32="","",'הזנת נתונים'!BD34) -> 458 | Q32: =IF($D32="","",'הזנת נתונים'!BE34) -> כן | R32: =IF($D32="","",'הזנת נתונים'!BF34) -> כן | S32: =IF($D32="","",'הזנת נתונים'!BG34) -> כן | T32: =IF($D32="","",'הזנת נתונים'!BH34) -> כן | U32: =IF($D32="","",'הזנת נתונים'!BI34) -> כן | V32: =IF($D32="","",'הזנת נתונים'!AE34) -> כן | W32: =IF($D32="","",'הזנת נתונים'!BJ34) -> לא | X32: =IF($D32="","",'הזנת נתונים'!BK34) -> לא | Y32: עובר תנאי סף- ספרייה תורנית | Z32: =IFERROR(IF(OR(Y32=$AF$30,Y32=$AG$30,SUM(AL32:BC32)=18),AC32,AD32),AD32) -> עובר תנאי סף | AC32: =IF($D32="","",AC$30) -> עובר תנאי סף | AD32: =IF($D32="","",AD$30) -> לא עובר תנאי סף | AF32: =IF($D32="","",AF$30) -> עובר תנאי סף- ספרייה ערבית | AG32: =IF($D32="","",AG$30) -> עובר תנאי סף- ספרייה תורנית | AI32: =IF(D32="",0,1) -> 1 | AL32: =IF($D32="","",IF(E32=AL$29,1,0)) -> 1 | AM32: =IF($D32="","",IF(F32=$AD$27,1,0)) -> 1 | AN32: =IF($D32="","",IF(G32=$AD$27,1,0)) -> 1 | AO32: =IF($D32="","",IF(H32>=AO$29,1,0)) -> 1 | AP32: =IF($D32="","",IF(I32>=AP$29,1,0)) -> 1 | AQ32: =IF($D32="","",IF(J32=$AD$27,1,0)) -> 1 | AR32: =IF($D32="","",IF('הזנת נתונים'!BK34=$AD$27,1,IF(IFERROR(K32/I32,0)>=AR$29,1,0))) -> 0 | AS32: =IF($D32="","",IF(L32>=AS$29,1,0)) -> 1 | AT32: =IF($D32="","",IF(M32=$AD$27,1,0)) -> 1 | AU32: =IF($D32="","",IF(N32=$AD$27,1,0)) -> 1 | AV32: =IF($D32="","",IF(O32=$AD$27,1,0)) -> 1 | AW32: =IF($D32="","",IF(P32>=AW$29,1,0)) -> 1 | AX32: =IF($D32="","",IF(Q32=AX$29,1,0)) -> 1 | AY32: =IF($D32="","",IF(R32=AY$29,1,0)) -> 1 | AZ32: =IF($D32="","",IF(S32=AZ$29,1,0)) -> 1 | BA32: =IF($D32="","",IF(T32=BA$29,1,0)) -> 1 | BB32: =IF($D32="","",IF(U32=BB$29,1,0)) -> 1 | BC32: =IF($D32="","",IF(V32=BC$29,1,0)) -> 1 | BD32: =IF($D32="","",IF(ISERROR(MATCH(W32,$AD$27:$AD$28,0)),0,1)) -> 1 | BE32: =IF($D32="","",IF(ISERROR(MATCH(X32,$AD$27:$AD$28,0)),0,1)) -> 1
B33: =#REF! -> #REF! | C33: =IF('הזנת נתונים'!$D35="","",'הזנת נתונים'!C35) -> 3 | D33: =IF('הזנת נתונים'!$D35="","",'הזנת נתונים'!D35) -> עמותת עלה | E33: =IF($D33="","",'הזנת נתונים'!AL35) -> כן | F33: =IF($D33="","",'הזנת נתונים'!AM35) -> כן | G33: =IF($D33="","",'הזנת נתונים'!AN35) -> כן | H33: =IF($D33="","",'הזנת נתונים'!AO35) -> 6541 | I33: =IF($D33="","",'הזנת נתונים'!AP35) -> 155 | J33: =IF($D33="","",'הזנת נתונים'!AV35) -> כן | K33: =IF($D33="","",'הזנת נתונים'!AT35) -> 40 | L33: =IF($D33="","",'הזנת נתונים'!AW35) -> 3557 | M33: =IF($D33="","",'הזנת נתונים'!AX35) -> כן | N33: =IF($D33="","",'הזנת נתונים'!AY35) -> כן | O33: =IF($D33="","",'הזנת נתונים'!AZ35) -> כן | P33: =IF($D33="","",'הזנת נתונים'!BD35) -> 3049 | Q33: =IF($D33="","",'הזנת נתונים'!BE35) -> כן | R33: =IF($D33="","",'הזנת נתונים'!BF35) -> כן | S33: =IF($D33="","",'הזנת נתונים'!BG35) -> כן | T33: =IF($D33="","",'הזנת נתונים'!BH35) -> כן | U33: =IF($D33="","",'הזנת נתונים'!BI35) -> כן | V33: =IF($D33="","",'הזנת נתונים'!AE35) -> כן | W33: =IF($D33="","",'הזנת נתונים'!BJ35) -> לא | X33: =IF($D33="","",'הזנת נתונים'!BK35) -> כן | Z33: =IFERROR(IF(OR(Y33=$AF$30,Y33=$AG$30,SUM(AL33:BC33)=18),AC33,AD33),AD33) -> עובר תנאי סף | AC33: =IF($D33="","",AC$30) -> עובר תנאי סף | AD33: =IF($D33="","",AD$30) -> לא עובר תנאי סף | AF33: =IF($D33="","",AF$30) -> עובר תנאי סף- ספרייה ערבית | AG33: =IF($D33="","",AG$30) -> עובר תנאי סף- ספרייה תורנית | AI33: =IF(D33="",0,1) -> 1 | AL33: =IF($D33="","",IF(E33=AL$29,1,0)) -> 1 | AM33: =IF($D33="","",IF(F33=$AD$27,1,0)) -> 1 | AN33: =IF($D33="","",IF(G33=$AD$27,1,0)) -> 1 | AO33: =IF($D33="","",IF(H33>=AO$29,1,0)) -> 1 | AP33: =IF($D33="","",IF(I33>=AP$29,1,0)) -> 1 | AQ33: =IF($D33="","",IF(J33=$AD$27,1,0)) -> 1 | AR33: =IF($D33="","",IF('הזנת נתונים'!BK35=$AD$27,1,IF(IFERROR(K33/I33,0)>=AR$29,1,0))) -> 1 | AS33: =IF($D33="","",IF(L33>=AS$29,1,0)) -> 1 | AT33: =IF($D33="","",IF(M33=$AD$27,1,0)) -> 1 | AU33: =IF($D33="","",IF(N33=$AD$27,1,0)) -> 1 | AV33: =IF($D33="","",IF(O33=$AD$27,1,0)) -> 1 | AW33: =IF($D33="","",IF(P33>=AW$29,1,0)) -> 1 | AX33: =IF($D33="","",IF(Q33=AX$29,1,0)) -> 1 | AY33: =IF($D33="","",IF(R33=AY$29,1,0)) -> 1 | AZ33: =IF($D33="","",IF(S33=AZ$29,1,0)) -> 1 | BA33: =IF($D33="","",IF(T33=BA$29,1,0)) -> 1 | BB33: =IF($D33="","",IF(U33=BB$29,1,0)) -> 1 | BC33: =IF($D33="","",IF(V33=BC$29,1,0)) -> 1 | BD33: =IF($D33="","",IF(ISERROR(MATCH(W33,$AD$27:$AD$28,0)),0,1)) -> 1 | BE33: =IF($D33="","",IF(ISERROR(MATCH(X33,$AD$27:$AD$28,0)),0,1)) -> 1
B34: =#REF! -> #REF! | C34: =IF('הזנת נתונים'!$D36="","",'הזנת נתונים'!C36) -> 4 | D34: =IF('הזנת נתונים'!$D36="","",'הזנת נתונים'!D36) -> עמותת אלמנארה | E34: =IF($D34="","",'הזנת נתונים'!AL36) -> כן | F34: =IF($D34="","",'הזנת נתונים'!AM36) -> כן | G34: =IF($D34="","",'הזנת נתונים'!AN36) -> כן | H34: =IF($D34="","",'הזנת נתונים'!AO36) -> 14613 | I34: =IF($D34="","",'הזנת נתונים'!AP36) -> 1628 | J34: =IF($D34="","",'הזנת נתונים'!AV36) -> כן | K34: =IF($D34="","",'הזנת נתונים'!AT36) -> 1501 | L34: =IF($D34="","",'הזנת נתונים'!AW36) -> 23987 | M34: =IF($D34="","",'הזנת נתונים'!AX36) -> כן | N34: =IF($D34="","",'הזנת נתונים'!AY36) -> כן | O34: =IF($D34="","",'הזנת נתונים'!AZ36) -> כן | P34: =IF($D34="","",'הזנת נתונים'!BD36) -> 1330 | Q34: =IF($D34="","",'הזנת נתונים'!BE36) -> כן | R34: =IF($D34="","",'הזנת נתונים'!BF36) -> כן | S34: =IF($D34="","",'הזנת נתונים'!BG36) -> כן | T34: =IF($D34="","",'הזנת נתונים'!BH36) -> כן | U34: =IF($D34="","",'הזנת נתונים'!BI36) -> כן | V34: =IF($D34="","",'הזנת נתונים'!AE36) -> כן | W34: =IF($D34="","",'הזנת נתונים'!BJ36) -> כן | X34: =IF($D34="","",'הזנת נתונים'!BK36) -> כן | Z34: =IFERROR(IF(OR(Y34=$AF$30,Y34=$AG$30,SUM(AL34:BC34)=18),AC34,AD34),AD34) -> עובר תנאי סף | AC34: =IF($D34="","",AC$30) -> עובר תנאי סף | AD34: =IF($D34="","",AD$30) -> לא עובר תנאי סף | AF34: =IF($D34="","",AF$30) -> עובר תנאי סף- ספרייה ערבית | AG34: =IF($D34="","",AG$30) -> עובר תנאי סף- ספרייה תורנית | AI34: =IF(D34="",0,1) -> 1 | AL34: =IF($D34="","",IF(E34=AL$29,1,0)) -> 1 | AM34: =IF($D34="","",IF(F34=$AD$27,1,0)) -> 1 | AN34: =IF($D34="","",IF(G34=$AD$27,1,0)) -> 1 | AO34: =IF($D34="","",IF(H34>=AO$29,1,0)) -> 1 | AP34: =IF($D34="","",IF(I34>=AP$29,1,0)) -> 1 | AQ34: =IF($D34="","",IF(J34=$AD$27,1,0)) -> 1 | AR34: =IF($D34="","",IF('הזנת נתונים'!BK36=$AD$27,1,IF(IFERROR(K34/I34,0)>=AR$29,1,0))) -> 1 | AS34: =IF($D34="","",IF(L34>=AS$29,1,0)) -> 1 | AT34: =IF($D34="","",IF(M34=$AD$27,1,0)) -> 1 | AU34: =IF($D34="","",IF(N34=$AD$27,1,0)) -> 1 | AV34: =IF($D34="","",IF(O34=$AD$27,1,0)) -> 1 | AW34: =IF($D34="","",IF(P34>=AW$29,1,0)) -> 1 | AX34: =IF($D34="","",IF(Q34=AX$29,1,0)) -> 1 | AY34: =IF($D34="","",IF(R34=AY$29,1,0)) -> 1 | AZ34: =IF($D34="","",IF(S34=AZ$29,1,0)) -> 1 | BA34: =IF($D34="","",IF(T34=BA$29,1,0)) -> 1 | BB34: =IF($D34="","",IF(U34=BB$29,1,0)) -> 1 | BC34: =IF($D34="","",IF(V34=BC$29,1,0)) -> 1 | BD34: =IF($D34="","",IF(ISERROR(MATCH(W34,$AD$27:$AD$28,0)),0,1)) -> 1 | BE34: =IF($D34="","",IF(ISERROR(MATCH(X34,$AD$27:$AD$28,0)),0,1)) -> 1
B35: =#REF! -> #REF! | C35: =IF('הזנת נתונים'!$D37="","",'הזנת נתונים'!C37) | D35: =IF('הזנת נתונים'!$D37="","",'הזנת נתונים'!D37) | E35: =IF($D35="","",'הזנת נתונים'!AL37) | F35: =IF($D35="","",'הזנת נתונים'!AM37) | G35: =IF($D35="","",'הזנת נתונים'!AN37) | H35: =IF($D35="","",'הזנת נתונים'!AO37) | I35: =IF($D35="","",'הזנת נתונים'!AP37) | J35: =IF($D35="","",'הזנת נתונים'!AV37) | K35: =IF($D35="","",'הזנת נתונים'!AT37) | L35: =IF($D35="","",'הזנת נתונים'!AW37) | M35: =IF($D35="","",'הזנת נתונים'!AX37) | N35: =IF($D35="","",'הזנת נתונים'!AY37) | O35: =IF($D35="","",'הזנת נתונים'!AZ37) | P35: =IF($D35="","",'הזנת נתונים'!BD37) | Q35: =IF($D35="","",'הזנת נתונים'!BE37) | R35: =IF($D35="","",'הזנת נתונים'!BF37) | S35: =IF($D35="","",'הזנת נתונים'!BG37) | T35: =IF($D35="","",'הזנת נתונים'!BH37) | U35: =IF($D35="","",'הזנת נתונים'!BI37) | V35: =IF($D35="","",'הזנת נתונים'!AE37) | W35: =IF($D35="","",'הזנת נתונים'!BJ37) | X35: =IF($D35="","",'הזנת נתונים'!BK37) | Z35: =IFERROR(IF(OR(Y35=$AF$30,Y35=$AG$30,SUM(AL35:BC35)=18),AC35,AD35),AD35) | AC35: =IF($D35="","",AC$30) | AD35: =IF($D35="","",AD$30) | AF35: =IF($D35="","",AF$30) | AG35: =IF($D35="","",AG$30) | AI35: =IF(D35="",0,1) -> 0 | AL35: =IF($D35="","",IF(E35=AL$29,1,0)) | AM35: =IF($D35="","",IF(F35=$AD$27,1,0)) | AN35: =IF($D35="","",IF(G35=$AD$27,1,0)) | AO35: =IF($D35="","",IF(H35>=AO$29,1,0)) | AP35: =IF($D35="","",IF(I35>=AP$29,1,0)) | AQ35: =IF($D35="","",IF(J35=$AD$27,1,0)) | AR35: =IF($D35="","",IF('הזנת נתונים'!BK37=$AD$27,1,IF(IFERROR(K35/I35,0)>=AR$29,1,0))) | AS35: =IF($D35="","",IF(L35>=AS$29,1,0)) | AT35: =IF($D35="","",IF(M35=$AD$27,1,0)) | AU35: =IF($D35="","",IF(N35=$AD$27,1,0)) | AV35: =IF($D35="","",IF(O35=$AD$27,1,0)) | AW35: =IF($D35="","",IF(P35>=AW$29,1,0)) | AX35: =IF($D35="","",IF(Q35=AX$29,1,0)) | AY35: =IF($D35="","",IF(R35=AY$29,1,0)) | AZ35: =IF($D35="","",IF(S35=AZ$29,1,0)) | BA35: =IF($D35="","",IF(T35=BA$29,1,0)) | BB35: =IF($D35="","",IF(U35=BB$29,1,0)) | BD35: =IF($D35="","",IF(ISERROR(MATCH(W35,$AD$27:$AD$28,0)),0,1)) | BE35: =IF($D35="","",IF(ISERROR(MATCH(X35,$AD$27:$AD$28,0)),0,1))
B36: =#REF! -> #REF! | C36: =IF('הזנת נתונים'!$D38="","",'הזנת נתונים'!C38) | D36: =IF('הזנת נתונים'!$D38="","",'הזנת נתונים'!D38) | E36: =IF($D36="","",'הזנת נתונים'!AL38) | F36: =IF($D36="","",'הזנת נתונים'!AM38) | G36: =IF($D36="","",'הזנת נתונים'!AN38) | H36: =IF($D36="","",'הזנת נתונים'!AO38) | I36: =IF($D36="","",'הזנת נתונים'!AP38) | J36: =IF($D36="","",'הזנת נתונים'!AV38) | K36: =IF($D36="","",'הזנת נתונים'!AT38) | L36: =IF($D36="","",'הזנת נתונים'!AW38) | M36: =IF($D36="","",'הזנת נתונים'!AX38) | N36: =IF($D36="","",'הזנת נתונים'!AY38) | O36: =IF($D36="","",'הזנת נתונים'!AZ38) | P36: =IF($D36="","",'הזנת נתונים'!BD38) | Q36: =IF($D36="","",'הזנת נתונים'!BE38) | R36: =IF($D36="","",'הזנת נתונים'!BF38) | S36: =IF($D36="","",'הזנת נתונים'!BG38) | T36: =IF($D36="","",'הזנת נתונים'!BH38) | U36: =IF($D36="","",'הזנת נתונים'!BI38) | V36: =IF($D36="","",'הזנת נתונים'!AE38) | W36: =IF($D36="","",'הזנת נתונים'!BJ38) | X36: =IF($D36="","",'הזנת נתונים'!BK38) | Z36: =IFERROR(IF(OR(Y36=$AF$30,Y36=$AG$30,SUM(AL36:BC36)=18),AC36,AD36),AD36) | AC36: =IF($D36="","",AC$30) | AD36: =IF($D36="","",AD$30) | AF36: =IF($D36="","",AF$30) | AG36: =IF($D36="","",AG$30) | AI36: =IF(D36="",0,1) -> 0 | AL36: =IF($D36="","",IF(E36=AL$29,1,0)) | AM36: =IF($D36="","",IF(F36=$AD$27,1,0)) | AN36: =IF($D36="","",IF(G36=$AD$27,1,0)) | AO36: =IF($D36="","",IF(H36>=AO$29,1,0)) | AP36: =IF($D36="","",IF(I36>=AP$29,1,0)) | AQ36: =IF($D36="","",IF(J36=$AD$27,1,0)) | AR36: =IF($D36="","",IF('הזנת נתונים'!BK38=$AD$27,1,IF(IFERROR(K36/I36,0)>=AR$29,1,0))) | AS36: =IF($D36="","",IF(L36>=AS$29,1,0)) | AT36: =IF($D36="","",IF(M36=$AD$27,1,0)) | AU36: =IF($D36="","",IF(N36=$AD$27,1,0)) | AV36: =IF($D36="","",IF(O36=$AD$27,1,0)) | AW36: =IF($D36="","",IF(P36>=AW$29,1,0)) | AX36: =IF($D36="","",IF(Q36=AX$29,1,0)) | AY36: =IF($D36="","",IF(R36=AY$29,1,0)) | AZ36: =IF($D36="","",IF(S36=AZ$29,1,0)) | BA36: =IF($D36="","",IF(T36=BA$29,1,0)) | BB36: =IF($D36="","",IF(U36=BB$29,1,0)) | BD36: =IF($D36="","",IF(ISERROR(MATCH(W36,$AD$27:$AD$28,0)),0,1)) | BE36: =IF($D36="","",IF(ISERROR(MATCH(X36,$AD$27:$AD$28,0)),0,1))
B37: =#REF! -> #REF! | C37: =IF('הזנת נתונים'!$D39="","",'הזנת נתונים'!C39) | D37: =IF('הזנת נתונים'!$D39="","",'הזנת נתונים'!D39) | E37: =IF($D37="","",'הזנת נתונים'!AL39) | F37: =IF($D37="","",'הזנת נתונים'!AM39) | G37: =IF($D37="","",'הזנת נתונים'!AN39) | H37: =IF($D37="","",'הזנת נתונים'!AO39) | I37: =IF($D37="","",'הזנת נתונים'!AP39) | J37: =IF($D37="","",'הזנת נתונים'!AV39) | K37: =IF($D37="","",'הזנת נתונים'!AT39) | L37: =IF($D37="","",'הזנת נתונים'!AW39) | M37: =IF($D37="","",'הזנת נתונים'!AX39) | N37: =IF($D37="","",'הזנת נתונים'!AY39) | O37: =IF($D37="","",'הזנת נתונים'!AZ39) | P37: =IF($D37="","",'הזנת נתונים'!BD39) | Q37: =IF($D37="","",'הזנת נתונים'!BE39) | R37: =IF($D37="","",'הזנת נתונים'!BF39) | S37: =IF($D37="","",'הזנת נתונים'!BG39) | T37: =IF($D37="","",'הזנת נתונים'!BH39) | U37: =IF($D37="","",'הזנת נתונים'!BI39) | V37: =IF($D37="","",'הזנת נתונים'!AE39) | W37: =IF($D37="","",'הזנת נתונים'!BJ39) | X37: =IF($D37="","",'הזנת נתונים'!BK39) | Z37: =IFERROR(IF(OR(Y37=$AF$30,Y37=$AG$30,SUM(AL37:BC37)=18),AC37,AD37),AD37) | AC37: =IF($D37="","",AC$30) | AD37: =IF($D37="","",AD$30) | AF37: =IF($D37="","",AF$30) | AG37: =IF($D37="","",AG$30) | AI37: =IF(D37="",0,1) -> 0 | AL37: =IF($D37="","",IF(E37=AL$29,1,0)) | AM37: =IF($D37="","",IF(F37=$AD$27,1,0)) | AN37: =IF($D37="","",IF(G37=$AD$27,1,0)) | AO37: =IF($D37="","",IF(H37>=AO$29,1,0)) | AP37: =IF($D37="","",IF(I37>=AP$29,1,0)) | AQ37: =IF($D37="","",IF(J37=$AD$27,1,0)) | AR37: =IF($D37="","",IF('הזנת נתונים'!BK39=$AD$27,1,IF(IFERROR(K37/I37,0)>=AR$29,1,0))) | AS37: =IF($D37="","",IF(L37>=AS$29,1,0)) | AT37: =IF($D37="","",IF(M37=$AD$27,1,0)) | AU37: =IF($D37="","",IF(N37=$AD$27,1,0)) | AV37: =IF($D37="","",IF(O37=$AD$27,1,0)) | AW37: =IF($D37="","",IF(P37>=AW$29,1,0)) | AX37: =IF($D37="","",IF(Q37=AX$29,1,0)) | AY37: =IF($D37="","",IF(R37=AY$29,1,0)) | AZ37: =IF($D37="","",IF(S37=AZ$29,1,0)) | BA37: =IF($D37="","",IF(T37=BA$29,1,0)) | BB37: =IF($D37="","",IF(U37=BB$29,1,0)) | BD37: =IF($D37="","",IF(ISERROR(MATCH(W37,$AD$27:$AD$28,0)),0,1)) | BE37: =IF($D37="","",IF(ISERROR(MATCH(X37,$AD$27:$AD$28,0)),0,1))
B38: =#REF! -> #REF! | C38: =IF('הזנת נתונים'!$D40="","",'הזנת נתונים'!C40) | D38: =IF('הזנת נתונים'!$D40="","",'הזנת נתונים'!D40) | E38: =IF($D38="","",'הזנת נתונים'!AL40) | F38: =IF($D38="","",'הזנת נתונים'!AM40) | G38: =IF($D38="","",'הזנת נתונים'!AN40) | H38: =IF($D38="","",'הזנת נתונים'!AO40) | I38: =IF($D38="","",'הזנת נתונים'!AP40) | J38: =IF($D38="","",'הזנת נתונים'!AV40) | K38: =IF($D38="","",'הזנת נתונים'!AT40) | L38: =IF($D38="","",'הזנת נתונים'!AW40) | M38: =IF($D38="","",'הזנת נתונים'!AX40) | N38: =IF($D38="","",'הזנת נתונים'!AY40) | O38: =IF($D38="","",'הזנת נתונים'!AZ40) | P38: =IF($D38="","",'הזנת נתונים'!BD40) | Q38: =IF($D38="","",'הזנת נתונים'!BE40) | R38: =IF($D38="","",'הזנת נתונים'!BF40) | S38: =IF($D38="","",'הזנת נתונים'!BG40) | T38: =IF($D38="","",'הזנת נתונים'!BH40) | U38: =IF($D38="","",'הזנת נתונים'!BI40) | V38: =IF($D38="","",'הזנת נתונים'!AE40) | W38: =IF($D38="","",'הזנת נתונים'!BJ40) | X38: =IF($D38="","",'הזנת נתונים'!BK40) | Z38: =IFERROR(IF(OR(Y38=$AF$30,Y38=$AG$30,SUM(AL38:BC38)=18),AC38,AD38),AD38) | AC38: =IF($D38="","",AC$30) | AD38: =IF($D38="","",AD$30) | AF38: =IF($D38="","",AF$30) | AG38: =IF($D38="","",AG$30) | AI38: =IF(D38="",0,1) -> 0 | AL38: =IF($D38="","",IF(E38=AL$29,1,0)) | AM38: =IF($D38="","",IF(F38=$AD$27,1,0)) | AN38: =IF($D38="","",IF(G38=$AD$27,1,0)) | AO38: =IF($D38="","",IF(H38>=AO$29,1,0)) | AP38: =IF($D38="","",IF(I38>=AP$29,1,0)) | AQ38: =IF($D38="","",IF(J38=$AD$27,1,0)) | AR38: =IF($D38="","",IF('הזנת נתונים'!BK40=$AD$27,1,IF(IFERROR(K38/I38,0)>=AR$29,1,0))) | AS38: =IF($D38="","",IF(L38>=AS$29,1,0)) | AT38: =IF($D38="","",IF(M38=$AD$27,1,0)) | AU38: =IF($D38="","",IF(N38=$AD$27,1,0)) | AV38: =IF($D38="","",IF(O38=$AD$27,1,0)) | AW38: =IF($D38="","",IF(P38>=AW$29,1,0)) | AX38: =IF($D38="","",IF(Q38=AX$29,1,0)) | AY38: =IF($D38="","",IF(R38=AY$29,1,0)) | AZ38: =IF($D38="","",IF(S38=AZ$29,1,0)) | BA38: =IF($D38="","",IF(T38=BA$29,1,0)) | BB38: =IF($D38="","",IF(U38=BB$29,1,0)) | BD38: =IF($D38="","",IF(ISERROR(MATCH(W38,$AD$27:$AD$28,0)),0,1)) | BE38: =IF($D38="","",IF(ISERROR(MATCH(X38,$AD$27:$AD$28,0)),0,1))
B39: =#REF! -> #REF! | C39: =IF('הזנת נתונים'!$D41="","",'הזנת נתונים'!C41) | D39: =IF('הזנת נתונים'!$D41="","",'הזנת נתונים'!D41) | E39: =IF($D39="","",'הזנת נתונים'!AL41) | F39: =IF($D39="","",'הזנת נתונים'!AM41) | G39: =IF($D39="","",'הזנת נתונים'!AN41) | H39: =IF($D39="","",'הזנת נתונים'!AO41) | I39: =IF($D39="","",'הזנת נתונים'!AP41) | J39: =IF($D39="","",'הזנת נתונים'!AV41) | K39: =IF($D39="","",'הזנת נתונים'!AT41) | L39: =IF($D39="","",'הזנת נתונים'!AW41) | M39: =IF($D39="","",'הזנת נתונים'!AX41) | N39: =IF($D39="","",'הזנת נתונים'!AY41) | O39: =IF($D39="","",'הזנת נתונים'!AZ41) | P39: =IF($D39="","",'הזנת נתונים'!BD41) | Q39: =IF($D39="","",'הזנת נתונים'!BE41) | R39: =IF($D39="","",'הזנת נתונים'!BF41) | S39: =IF($D39="","",'הזנת נתונים'!BG41) | T39: =IF($D39="","",'הזנת נתונים'!BH41) | U39: =IF($D39="","",'הזנת נתונים'!BI41) | V39: =IF($D39="","",'הזנת נתונים'!AE41) | W39: =IF($D39="","",'הזנת נתונים'!BJ41) | X39: =IF($D39="","",'הזנת נתונים'!BK41) | Z39: =IFERROR(IF(OR(Y39=$AF$30,Y39=$AG$30,SUM(AL39:BC39)=18),AC39,AD39),AD39) | AC39: =IF($D39="","",AC$30) | AD39: =IF($D39="","",AD$30) | AF39: =IF($D39="","",AF$30) | AG39: =IF($D39="","",AG$30) | AI39: =IF(D39="",0,1) -> 0 | AL39: =IF($D39="","",IF(E39=AL$29,1,0)) | AM39: =IF($D39="","",IF(F39=$AD$27,1,0)) | AN39: =IF($D39="","",IF(G39=$AD$27,1,0)) | AO39: =IF($D39="","",IF(H39>=AO$29,1,0)) | AP39: =IF($D39="","",IF(I39>=AP$29,1,0)) | AQ39: =IF($D39="","",IF(J39=$AD$27,1,0)) | AR39: =IF($D39="","",IF('הזנת נתונים'!BK41=$AD$27,1,IF(IFERROR(K39/I39,0)>=AR$29,1,0))) | AS39: =IF($D39="","",IF(L39>=AS$29,1,0)) | AT39: =IF($D39="","",IF(M39=$AD$27,1,0)) | AU39: =IF($D39="","",IF(N39=$AD$27,1,0)) | AV39: =IF($D39="","",IF(O39=$AD$27,1,0)) | AW39: =IF($D39="","",IF(P39>=AW$29,1,0)) | AX39: =IF($D39="","",IF(Q39=AX$29,1,0)) | AY39: =IF($D39="","",IF(R39=AY$29,1,0)) | AZ39: =IF($D39="","",IF(S39=AZ$29,1,0)) | BA39: =IF($D39="","",IF(T39=BA$29,1,0)) | BB39: =IF($D39="","",IF(U39=BB$29,1,0)) | BD39: =IF($D39="","",IF(ISERROR(MATCH(W39,$AD$27:$AD$28,0)),0,1)) | BE39: =IF($D39="","",IF(ISERROR(MATCH(X39,$AD$27:$AD$28,0)),0,1))
B40: =#REF! -> #REF! | C40: =IF('הזנת נתונים'!$D42="","",'הזנת נתונים'!C42) | D40: =IF('הזנת נתונים'!$D42="","",'הזנת נתונים'!D42) | E40: =IF($D40="","",'הזנת נתונים'!AL42) | F40: =IF($D40="","",'הזנת נתונים'!AM42) | G40: =IF($D40="","",'הזנת נתונים'!AN42) | H40: =IF($D40="","",'הזנת נתונים'!AO42) | I40: =IF($D40="","",'הזנת נתונים'!AP42) | J40: =IF($D40="","",'הזנת נתונים'!AV42) | K40: =IF($D40="","",'הזנת נתונים'!AT42) | L40: =IF($D40="","",'הזנת נתונים'!AW42) | M40: =IF($D40="","",'הזנת נתונים'!AX42) | N40: =IF($D40="","",'הזנת נתונים'!AY42) | O40: =IF($D40="","",'הזנת נתונים'!AZ42) | P40: =IF($D40="","",'הזנת נתונים'!BD42) | Q40: =IF($D40="","",'הזנת נתונים'!BE42) | R40: =IF($D40="","",'הזנת נתונים'!BF42) | S40: =IF($D40="","",'הזנת נתונים'!BG42) | T40: =IF($D40="","",'הזנת נתונים'!BH42) | U40: =IF($D40="","",'הזנת נתונים'!BI42) | V40: =IF($D40="","",'הזנת נתונים'!AE42) | W40: =IF($D40="","",'הזנת נתונים'!BJ42) | X40: =IF($D40="","",'הזנת נתונים'!BK42) | Z40: =IFERROR(IF(OR(Y40=$AF$30,Y40=$AG$30,SUM(AL40:BC40)=18),AC40,AD40),AD40) | AC40: =IF($D40="","",AC$30) | AD40: =IF($D40="","",AD$30) | AF40: =IF($D40="","",AF$30) | AG40: =IF($D40="","",AG$30) | AI40: =IF(D40="",0,1) -> 0 | AL40: =IF($D40="","",IF(E40=AL$29,1,0)) | AM40: =IF($D40="","",IF(F40=$AD$27,1,0)) | AN40: =IF($D40="","",IF(G40=$AD$27,1,0)) | AO40: =IF($D40="","",IF(H40>=AO$29,1,0)) | AP40: =IF($D40="","",IF(I40>=AP$29,1,0)) | AQ40: =IF($D40="","",IF(J40=$AD$27,1,0)) | AR40: =IF($D40="","",IF('הזנת נתונים'!BK42=$AD$27,1,IF(IFERROR(K40/I40,0)>=AR$29,1,0))) | AS40: =IF($D40="","",IF(L40>=AS$29,1,0)) | AT40: =IF($D40="","",IF(M40=$AD$27,1,0)) | AU40: =IF($D40="","",IF(N40=$AD$27,1,0)) | AV40: =IF($D40="","",IF(O40=$AD$27,1,0)) | AW40: =IF($D40="","",IF(P40>=AW$29,1,0)) | AX40: =IF($D40="","",IF(Q40=AX$29,1,0)) | AY40: =IF($D40="","",IF(R40=AY$29,1,0)) | AZ40: =IF($D40="","",IF(S40=AZ$29,1,0)) | BA40: =IF($D40="","",IF(T40=BA$29,1,0)) | BB40: =IF($D40="","",IF(U40=BB$29,1,0)) | BD40: =IF($D40="","",IF(ISERROR(MATCH(W40,$AD$27:$AD$28,0)),0,1)) | BE40: =IF($D40="","",IF(ISERROR(MATCH(X40,$AD$27:$AD$28,0)),0,1))
B41: =#REF! -> #REF! | C41: =IF('הזנת נתונים'!$D43="","",'הזנת נתונים'!C43) | D41: =IF('הזנת נתונים'!$D43="","",'הזנת נתונים'!D43) | E41: =IF($D41="","",'הזנת נתונים'!AL43) | F41: =IF($D41="","",'הזנת נתונים'!AM43) | G41: =IF($D41="","",'הזנת נתונים'!AN43) | H41: =IF($D41="","",'הזנת נתונים'!AO43) | I41: =IF($D41="","",'הזנת נתונים'!AP43) | J41: =IF($D41="","",'הזנת נתונים'!AV43) | K41: =IF($D41="","",'הזנת נתונים'!AT43) | L41: =IF($D41="","",'הזנת נתונים'!AW43) | M41: =IF($D41="","",'הזנת נתונים'!AX43) | N41: =IF($D41="","",'הזנת נתונים'!AY43) | O41: =IF($D41="","",'הזנת נתונים'!AZ43) | P41: =IF($D41="","",'הזנת נתונים'!BD43) | Q41: =IF($D41="","",'הזנת נתונים'!BE43) | R41: =IF($D41="","",'הזנת נתונים'!BF43) | S41: =IF($D41="","",'הזנת נתונים'!BG43) | T41: =IF($D41="","",'הזנת נתונים'!BH43) | U41: =IF($D41="","",'הזנת נתונים'!BI43) | V41: =IF($D41="","",'הזנת נתונים'!AE43) | W41: =IF($D41="","",'הזנת נתונים'!BJ43) | X41: =IF($D41="","",'הזנת נתונים'!BK43) | Z41: =IFERROR(IF(OR(Y41=$AF$30,Y41=$AG$30,SUM(AL41:BC41)=18),AC41,AD41),AD41) | AC41: =IF($D41="","",AC$30) | AD41: =IF($D41="","",AD$30) | AF41: =IF($D41="","",AF$30) | AG41: =IF($D41="","",AG$30) | AI41: =IF(D41="",0,1) -> 0 | AL41: =IF($D41="","",IF(E41=AL$29,1,0)) | AM41: =IF($D41="","",IF(F41=$AD$27,1,0)) | AN41: =IF($D41="","",IF(G41=$AD$27,1,0)) | AO41: =IF($D41="","",IF(H41>=AO$29,1,0)) | AP41: =IF($D41="","",IF(I41>=AP$29,1,0)) | AQ41: =IF($D41="","",IF(J41=$AD$27,1,0)) | AR41: =IF($D41="","",IF('הזנת נתונים'!BK43=$AD$27,1,IF(IFERROR(K41/I41,0)>=AR$29,1,0))) | AS41: =IF($D41="","",IF(L41>=AS$29,1,0)) | AT41: =IF($D41="","",IF(M41=$AD$27,1,0)) | AU41: =IF($D41="","",IF(N41=$AD$27,1,0)) | AV41: =IF($D41="","",IF(O41=$AD$27,1,0)) | AW41: =IF($D41="","",IF(P41>=AW$29,1,0)) | AX41: =IF($D41="","",IF(Q41=AX$29,1,0)) | AY41: =IF($D41="","",IF(R41=AY$29,1,0)) | AZ41: =IF($D41="","",IF(S41=AZ$29,1,0)) | BA41: =IF($D41="","",IF(T41=BA$29,1,0)) | BB41: =IF($D41="","",IF(U41=BB$29,1,0)) | BD41: =IF($D41="","",IF(ISERROR(MATCH(W41,$AD$27:$AD$28,0)),0,1)) | BE41: =IF($D41="","",IF(ISERROR(MATCH(X41,$AD$27:$AD$28,0)),0,1))
B42: =#REF! -> #REF! | C42: =IF('הזנת נתונים'!$D44="","",'הזנת נתונים'!C44) | D42: =IF('הזנת נתונים'!$D44="","",'הזנת נתונים'!D44) | E42: =IF($D42="","",'הזנת נתונים'!AL44) | F42: =IF($D42="","",'הזנת נתונים'!AM44) | G42: =IF($D42="","",'הזנת נתונים'!AN44) | H42: =IF($D42="","",'הזנת נתונים'!AO44) | I42: =IF($D42="","",'הזנת נתונים'!AP44) | J42: =IF($D42="","",'הזנת נתונים'!AV44) | K42: =IF($D42="","",'הזנת נתונים'!AT44) | L42: =IF($D42="","",'הזנת נתונים'!AW44) | M42: =IF($D42="","",'הזנת נתונים'!AX44) | N42: =IF($D42="","",'הזנת נתונים'!AY44) | O42: =IF($D42="","",'הזנת נתונים'!AZ44) | P42: =IF($D42="","",'הזנת נתונים'!BD44) | Q42: =IF($D42="","",'הזנת נתונים'!BE44) | R42: =IF($D42="","",'הזנת נתונים'!BF44) | S42: =IF($D42="","",'הזנת נתונים'!BG44) | T42: =IF($D42="","",'הזנת נתונים'!BH44) | U42: =IF($D42="","",'הזנת נתונים'!BI44) | V42: =IF($D42="","",'הזנת נתונים'!AE44) | W42: =IF($D42="","",'הזנת נתונים'!BJ44) | X42: =IF($D42="","",'הזנת נתונים'!BK44) | Z42: =IFERROR(IF(OR(Y42=$AF$30,Y42=$AG$30,SUM(AL42:BC42)=18),AC42,AD42),AD42) | AC42: =IF($D42="","",AC$30) | AD42: =IF($D42="","",AD$30) | AF42: =IF($D42="","",AF$30) | AG42: =IF($D42="","",AG$30) | AI42: =IF(D42="",0,1) -> 0 | AL42: =IF($D42="","",IF(E42=AL$29,1,0)) | AM42: =IF($D42="","",IF(F42=$AD$27,1,0)) | AN42: =IF($D42="","",IF(G42=$AD$27,1,0)) | AO42: =IF($D42="","",IF(H42>=AO$29,1,0)) | AP42: =IF($D42="","",IF(I42>=AP$29,1,0)) | AQ42: =IF($D42="","",IF(J42=$AD$27,1,0)) | AR42: =IF($D42="","",IF('הזנת נתונים'!BK44=$AD$27,1,IF(IFERROR(K42/I42,0)>=AR$29,1,0))) | AS42: =IF($D42="","",IF(L42>=AS$29,1,0)) | AT42: =IF($D42="","",IF(M42=$AD$27,1,0)) | AU42: =IF($D42="","",IF(N42=$AD$27,1,0)) | AV42: =IF($D42="","",IF(O42=$AD$27,1,0)) | AW42: =IF($D42="","",IF(P42>=AW$29,1,0)) | AX42: =IF($D42="","",IF(Q42=AX$29,1,0)) | AY42: =IF($D42="","",IF(R42=AY$29,1,0)) | AZ42: =IF($D42="","",IF(S42=AZ$29,1,0)) | BA42: =IF($D42="","",IF(T42=BA$29,1,0)) | BB42: =IF($D42="","",IF(U42=BB$29,1,0)) | BD42: =IF($D42="","",IF(ISERROR(MATCH(W42,$AD$27:$AD$28,0)),0,1)) | BE42: =IF($D42="","",IF(ISERROR(MATCH(X42,$AD$27:$AD$28,0)),0,1))
B43: =#REF! -> #REF! | C43: =IF('הזנת נתונים'!$D45="","",'הזנת נתונים'!C45) | D43: =IF('הזנת נתונים'!$D45="","",'הזנת נתונים'!D45) | E43: =IF($D43="","",'הזנת נתונים'!AL45) | F43: =IF($D43="","",'הזנת נתונים'!AM45) | G43: =IF($D43="","",'הזנת נתונים'!AN45) | H43: =IF($D43="","",'הזנת נתונים'!AO45) | I43: =IF($D43="","",'הזנת נתונים'!AP45) | J43: =IF($D43="","",'הזנת נתונים'!AV45) | K43: =IF($D43="","",'הזנת נתונים'!AT45) | L43: =IF($D43="","",'הזנת נתונים'!AW45) | M43: =IF($D43="","",'הזנת נתונים'!AX45) | N43: =IF($D43="","",'הזנת נתונים'!AY45) | O43: =IF($D43="","",'הזנת נתונים'!AZ45) | P43: =IF($D43="","",'הזנת נתונים'!BD45) | Q43: =IF($D43="","",'הזנת נתונים'!BE45) | R43: =IF($D43="","",'הזנת נתונים'!BF45) | S43: =IF($D43="","",'הזנת נתונים'!BG45) | T43: =IF($D43="","",'הזנת נתונים'!BH45) | U43: =IF($D43="","",'הזנת נתונים'!BI45) | V43: =IF($D43="","",'הזנת נתונים'!AE45) | W43: =IF($D43="","",'הזנת נתונים'!BJ45) | X43: =IF($D43="","",'הזנת נתונים'!BK45) | Z43: =IFERROR(IF(OR(Y43=$AF$30,Y43=$AG$30,SUM(AL43:BC43)=18),AC43,AD43),AD43) | AC43: =IF($D43="","",AC$30) | AD43: =IF($D43="","",AD$30) | AF43: =IF($D43="","",AF$30) | AG43: =IF($D43="","",AG$30) | AI43: =IF(D43="",0,1) -> 0 | AL43: =IF($D43="","",IF(E43=AL$29,1,0)) | AM43: =IF($D43="","",IF(F43=$AD$27,1,0)) | AN43: =IF($D43="","",IF(G43=$AD$27,1,0)) | AO43: =IF($D43="","",IF(H43>=AO$29,1,0)) | AP43: =IF($D43="","",IF(I43>=AP$29,1,0)) | AQ43: =IF($D43="","",IF(J43=$AD$27,1,0)) | AR43: =IF($D43="","",IF('הזנת נתונים'!BK45=$AD$27,1,IF(IFERROR(K43/I43,0)>=AR$29,1,0))) | AS43: =IF($D43="","",IF(L43>=AS$29,1,0)) | AT43: =IF($D43="","",IF(M43=$AD$27,1,0)) | AU43: =IF($D43="","",IF(N43=$AD$27,1,0)) | AV43: =IF($D43="","",IF(O43=$AD$27,1,0)) | AW43: =IF($D43="","",IF(P43>=AW$29,1,0)) | AX43: =IF($D43="","",IF(Q43=AX$29,1,0)) | AY43: =IF($D43="","",IF(R43=AY$29,1,0)) | AZ43: =IF($D43="","",IF(S43=AZ$29,1,0)) | BA43: =IF($D43="","",IF(T43=BA$29,1,0)) | BB43: =IF($D43="","",IF(U43=BB$29,1,0)) | BD43: =IF($D43="","",IF(ISERROR(MATCH(W43,$AD$27:$AD$28,0)),0,1)) | BE43: =IF($D43="","",IF(ISERROR(MATCH(X43,$AD$27:$AD$28,0)),0,1))
B44: =#REF! -> #REF! | C44: =IF('הזנת נתונים'!$D46="","",'הזנת נתונים'!C46) | D44: =IF('הזנת נתונים'!$D46="","",'הזנת נתונים'!D46) | E44: =IF($D44="","",'הזנת נתונים'!AL46) | F44: =IF($D44="","",'הזנת נתונים'!AM46) | G44: =IF($D44="","",'הזנת נתונים'!AN46) | H44: =IF($D44="","",'הזנת נתונים'!AO46) | I44: =IF($D44="","",'הזנת נתונים'!AP46) | J44: =IF($D44="","",'הזנת נתונים'!AV46) | K44: =IF($D44="","",'הזנת נתונים'!AT46) | L44: =IF($D44="","",'הזנת נתונים'!AW46) | M44: =IF($D44="","",'הזנת נתונים'!AX46) | N44: =IF($D44="","",'הזנת נתונים'!AY46) | O44: =IF($D44="","",'הזנת נתונים'!AZ46) | P44: =IF($D44="","",'הזנת נתונים'!BD46) | Q44: =IF($D44="","",'הזנת נתונים'!BE46) | R44: =IF($D44="","",'הזנת נתונים'!BF46) | S44: =IF($D44="","",'הזנת נתונים'!BG46) | T44: =IF($D44="","",'הזנת נתונים'!BH46) | U44: =IF($D44="","",'הזנת נתונים'!BI46) | V44: =IF($D44="","",'הזנת נתונים'!AE46) | W44: =IF($D44="","",'הזנת נתונים'!BJ46) | X44: =IF($D44="","",'הזנת נתונים'!BK46) | Z44: =IFERROR(IF(OR(Y44=$AF$30,Y44=$AG$30,SUM(AL44:BC44)=18),AC44,AD44),AD44) | AC44: =IF($D44="","",AC$30) | AD44: =IF($D44="","",AD$30) | AF44: =IF($D44="","",AF$30) | AG44: =IF($D44="","",AG$30) | AI44: =IF(D44="",0,1) -> 0 | AL44: =IF($D44="","",IF(E44=AL$29,1,0)) | AM44: =IF($D44="","",IF(F44=$AD$27,1,0)) | AN44: =IF($D44="","",IF(G44=$AD$27,1,0)) | AO44: =IF($D44="","",IF(H44>=AO$29,1,0)) | AP44: =IF($D44="","",IF(I44>=AP$29,1,0)) | AQ44: =IF($D44="","",IF(J44=$AD$27,1,0)) | AR44: =IF($D44="","",IF('הזנת נתונים'!BK46=$AD$27,1,IF(IFERROR(K44/I44,0)>=AR$29,1,0))) | AS44: =IF($D44="","",IF(L44>=AS$29,1,0)) | AT44: =IF($D44="","",IF(M44=$AD$27,1,0)) | AU44: =IF($D44="","",IF(N44=$AD$27,1,0)) | AV44: =IF($D44="","",IF(O44=$AD$27,1,0)) | AW44: =IF($D44="","",IF(P44>=AW$29,1,0)) | AX44: =IF($D44="","",IF(Q44=AX$29,1,0)) | AY44: =IF($D44="","",IF(R44=AY$29,1,0)) | AZ44: =IF($D44="","",IF(S44=AZ$29,1,0)) | BA44: =IF($D44="","",IF(T44=BA$29,1,0)) | BB44: =IF($D44="","",IF(U44=BB$29,1,0)) | BD44: =IF($D44="","",IF(ISERROR(MATCH(W44,$AD$27:$AD$28,0)),0,1)) | BE44: =IF($D44="","",IF(ISERROR(MATCH(X44,$AD$27:$AD$28,0)),0,1))
B45: =#REF! -> #REF! | C45: =IF('הזנת נתונים'!$D47="","",'הזנת נתונים'!C47) | D45: =IF('הזנת נתונים'!$D47="","",'הזנת נתונים'!D47) | E45: =IF($D45="","",'הזנת נתונים'!AL47) | F45: =IF($D45="","",'הזנת נתונים'!AM47) | G45: =IF($D45="","",'הזנת נתונים'!AN47) | H45: =IF($D45="","",'הזנת נתונים'!AO47) | I45: =IF($D45="","",'הזנת נתונים'!AP47) | J45: =IF($D45="","",'הזנת נתונים'!AV47) | K45: =IF($D45="","",'הזנת נתונים'!AT47) | L45: =IF($D45="","",'הזנת נתונים'!AW47) | M45: =IF($D45="","",'הזנת נתונים'!AX47) | N45: =IF($D45="","",'הזנת נתונים'!AY47) | O45: =IF($D45="","",'הזנת נתונים'!AZ47) | P45: =IF($D45="","",'הזנת נתונים'!BD47) | Q45: =IF($D45="","",'הזנת נתונים'!BE47) | R45: =IF($D45="","",'הזנת נתונים'!BF47) | S45: =IF($D45="","",'הזנת נתונים'!BG47) | T45: =IF($D45="","",'הזנת נתונים'!BH47) | U45: =IF($D45="","",'הזנת נתונים'!BI47) | V45: =IF($D45="","",'הזנת נתונים'!AE47) | W45: =IF($D45="","",'הזנת נתונים'!BJ47) | X45: =IF($D45="","",'הזנת נתונים'!BK47) | Z45: =IFERROR(IF(OR(Y45=$AF$30,Y45=$AG$30,SUM(AL45:BC45)=18),AC45,AD45),AD45) | AC45: =IF($D45="","",AC$30) | AD45: =IF($D45="","",AD$30) | AF45: =IF($D45="","",AF$30) | AG45: =IF($D45="","",AG$30) | AI45: =IF(D45="",0,1) -> 0 | AL45: =IF($D45="","",IF(E45=AL$29,1,0)) | AM45: =IF($D45="","",IF(F45=$AD$27,1,0)) | AN45: =IF($D45="","",IF(G45=$AD$27,1,0)) | AO45: =IF($D45="","",IF(H45>=AO$29,1,0)) | AP45: =IF($D45="","",IF(I45>=AP$29,1,0)) | AQ45: =IF($D45="","",IF(J45=$AD$27,1,0)) | AR45: =IF($D45="","",IF('הזנת נתונים'!BK47=$AD$27,1,IF(IFERROR(K45/I45,0)>=AR$29,1,0))) | AS45: =IF($D45="","",IF(L45>=AS$29,1,0)) | AT45: =IF($D45="","",IF(M45=$AD$27,1,0)) | AU45: =IF($D45="","",IF(N45=$AD$27,1,0)) | AV45: =IF($D45="","",IF(O45=$AD$27,1,0)) | AW45: =IF($D45="","",IF(P45>=AW$29,1,0)) | AX45: =IF($D45="","",IF(Q45=AX$29,1,0)) | AY45: =IF($D45="","",IF(R45=AY$29,1,0)) | AZ45: =IF($D45="","",IF(S45=AZ$29,1,0)) | BA45: =IF($D45="","",IF(T45=BA$29,1,0)) | BB45: =IF($D45="","",IF(U45=BB$29,1,0)) | BD45: =IF($D45="","",IF(ISERROR(MATCH(W45,$AD$27:$AD$28,0)),0,1)) | BE45: =IF($D45="","",IF(ISERROR(MATCH(X45,$AD$27:$AD$28,0)),0,1))
B46: =#REF! -> #REF! | C46: =IF('הזנת נתונים'!$D48="","",'הזנת נתונים'!C48) | D46: =IF('הזנת נתונים'!$D48="","",'הזנת נתונים'!D48) | E46: =IF($D46="","",'הזנת נתונים'!AL48) | F46: =IF($D46="","",'הזנת נתונים'!AM48) | G46: =IF($D46="","",'הזנת נתונים'!AN48) | H46: =IF($D46="","",'הזנת נתונים'!AO48) | I46: =IF($D46="","",'הזנת נתונים'!AP48) | J46: =IF($D46="","",'הזנת נתונים'!AV48) | K46: =IF($D46="","",'הזנת נתונים'!AT48) | L46: =IF($D46="","",'הזנת נתונים'!AW48) | M46: =IF($D46="","",'הזנת נתונים'!AX48) | N46: =IF($D46="","",'הזנת נתונים'!AY48) | O46: =IF($D46="","",'הזנת נתונים'!AZ48) | P46: =IF($D46="","",'הזנת נתונים'!BD48) | Q46: =IF($D46="","",'הזנת נתונים'!BE48) | R46: =IF($D46="","",'הזנת נתונים'!BF48) | S46: =IF($D46="","",'הזנת נתונים'!BG48) | T46: =IF($D46="","",'הזנת נתונים'!BH48) | U46: =IF($D46="","",'הזנת נתונים'!BI48) | V46: =IF($D46="","",'הזנת נתונים'!AE48) | W46: =IF($D46="","",'הזנת נתונים'!BJ48) | X46: =IF($D46="","",'הזנת נתונים'!BK48) | Z46: =IFERROR(IF(OR(Y46=$AF$30,Y46=$AG$30,SUM(AL46:BC46)=18),AC46,AD46),AD46) | AC46: =IF($D46="","",AC$30) | AD46: =IF($D46="","",AD$30) | AF46: =IF($D46="","",AF$30) | AG46: =IF($D46="","",AG$30) | AI46: =IF(D46="",0,1) -> 0 | AL46: =IF($D46="","",IF(E46=AL$29,1,0)) | AM46: =IF($D46="","",IF(F46=$AD$27,1,0)) | AN46: =IF($D46="","",IF(G46=$AD$27,1,0)) | AO46: =IF($D46="","",IF(H46>=AO$29,1,0)) | AP46: =IF($D46="","",IF(I46>=AP$29,1,0)) | AQ46: =IF($D46="","",IF(J46=$AD$27,1,0)) | AR46: =IF($D46="","",IF('הזנת נתונים'!BK48=$AD$27,1,IF(IFERROR(K46/I46,0)>=AR$29,1,0))) | AS46: =IF($D46="","",IF(L46>=AS$29,1,0)) | AT46: =IF($D46="","",IF(M46=$AD$27,1,0)) | AU46: =IF($D46="","",IF(N46=$AD$27,1,0)) | AV46: =IF($D46="","",IF(O46=$AD$27,1,0)) | AW46: =IF($D46="","",IF(P46>=AW$29,1,0)) | AX46: =IF($D46="","",IF(Q46=AX$29,1,0)) | AY46: =IF($D46="","",IF(R46=AY$29,1,0)) | AZ46: =IF($D46="","",IF(S46=AZ$29,1,0)) | BA46: =IF($D46="","",IF(T46=BA$29,1,0)) | BB46: =IF($D46="","",IF(U46=BB$29,1,0)) | BD46: =IF($D46="","",IF(ISERROR(MATCH(W46,$AD$27:$AD$28,0)),0,1)) | BE46: =IF($D46="","",IF(ISERROR(MATCH(X46,$AD$27:$AD$28,0)),0,1))
... B90: =#REF! -> #REF! | C90: =IF('הזנת נתונים'!$D92="","",'הזנת נתונים'!C92) | D90: =IF('הזנת נתונים'!$D92="","",'הזנת נתונים'!D92) | E90: =IF($D90="","",'הזנת נתונים'!AL92) | F90: =IF($D90="","",'הזנת נתונים'!AM92) | G90: =IF($D90="","",'הזנת נתונים'!AN92) | H90: =IF($D90="","",'הזנת נתונים'!AO92) | I90: =IF($D90="","",'הזנת נתונים'!AP92) | J90: =IF($D90="","",'הזנת נתונים'!AV92) | K90: =IF($D90="","",'הזנת נתונים'!AT92) | L90: =IF($D90="","",'הזנת נתונים'!AW92) | M90: =IF($D90="","",'הזנת נתונים'!AX92) | N90: =IF($D90="","",'הזנת נתונים'!AY92) | O90: =IF($D90="","",'הזנת נתונים'!AZ92) | P90: =IF($D90="","",'הזנת נתונים'!BD92) | Q90: =IF($D90="","",'הזנת נתונים'!BE92) | R90: =IF($D90="","",'הזנת נתונים'!BF92) | S90: =IF($D90="","",'הזנת נתונים'!BG92) | T90: =IF($D90="","",'הזנת נתונים'!BH92) | U90: =IF($D90="","",'הזנת נתונים'!BI92) | V90: =IF($D90="","",'הזנת נתונים'!AE92) | W90: =IF($D90="","",'הזנת נתונים'!BJ92) | X90: =IF($D90="","",'הזנת נתונים'!BK92) | Z90: =IFERROR(IF(OR(Y90=$AF$30,Y90=$AG$30,SUM(AL90:BC90)=18),AC90,AD90),AD90) | AC90: =IF($D90="","",AC$30) | AD90: =IF($D90="","",AD$30) | AF90: =IF($D90="","",AF$30) | AG90: =IF($D90="","",AG$30) | AI90: =IF(D90="",0,1) -> 0 | AL90: =IF($D90="","",IF(E90=AL$29,1,0)) | AM90: =IF($D90="","",IF(F90=$AD$27,1,0)) | AN90: =IF($D90="","",IF(G90=$AD$27,1,0)) | AO90: =IF($D90="","",IF(H90>=AO$29,1,0)) | AP90: =IF($D90="","",IF(I90>=AP$29,1,0)) | AQ90: =IF($D90="","",IF(J90=$AD$27,1,0)) | AR90: =IF($D90="","",IF('הזנת נתונים'!BK92=$AD$27,1,IF(IFERROR(K90/I90,0)>=AR$29,1,0))) | AS90: =IF($D90="","",IF(L90>=AS$29,1,0)) | AT90: =IF($D90="","",IF(M90=$AD$27,1,0)) | AU90: =IF($D90="","",IF(N90=$AD$27,1,0)) | AV90: =IF($D90="","",IF(O90=$AD$27,1,0)) | AW90: =IF($D90="","",IF(P90>=AW$29,1,0)) | AX90: =IF($D90="","",IF(Q90=AX$29,1,0)) | AY90: =IF($D90="","",IF(R90=AY$29,1,0)) | AZ90: =IF($D90="","",IF(S90=AZ$29,1,0)) | BA90: =IF($D90="","",IF(T90=BA$29,1,0)) | BB90: =IF($D90="","",IF(U90=BB$29,1,0)) | BD90: =IF($D90="","",IF(ISERROR(MATCH(W90,$AD$27:$AD$28,0)),0,1)) | BE90: =IF($D90="","",IF(ISERROR(MATCH(X90,$AD$27:$AD$28,0)),0,1))

Sheet נתונים לניקוד
D28: סעיף | E28: 7 (1) | F28: 7 (2) | G28: 7 (3) | H28: 7 (4) | I28: 7 (5) | J28: 7 (5) | K28: 7 (6) (א) | L28: 7 (6) (ב) | M28: 7 (6) (ג) | N28: 7 (7) | O28: 7 (7) | P28: 7 (7) | Q28: 7 (5) | R28: 6 (11) | U28: ='תנאי סף'!AC27 -> נתון חסר | V28: ='תנאי סף'!AD27 -> כן | W28: ='תנאי סף'!AD28 -> לא
C29: מספר סידורי | D29: שם המוסד | E29: נתונים לניקוד | U29: ='תנאי סף'!AC28 -> הזנה שגויה
E30: ='הזנת נתונים'!I31 -> כמה כותרים הספרייה הנגישה בשנת הערכה? | F30: ='הזנת נתונים'!W31 -> כמה מנויים פעילים יש לספרייה? | G30: ='הזנת נתונים'!P31 -> כמה השאלות של ספרים מונגשים התקיימו בשנת הערכה? | H30: ='הזנת נתונים'!H31 -> כמה כותרים מונגשים ברשות הספרייה? | I30: ='הזנת נתונים'!M31 -> כמה כותרים מונגשים הופקו או נרכשו בשנת ההערכה בשפה הערבית? | J30: ='הזנת נתונים'!N31 -> כמה כותרים מונגשים הופקו או נרכשו בשנת ההערכה בשפה זרה נוספת מלבד ערבית? | K30: ='הזנת נתונים'!T31 -> עבור לא פחות ממחצית מהספרים המונגשים- האם קיים מנגנון השאלת ספרים על ידי הורדת קבצים מאתר האינטרנט, הפועל בכל שעות היממה? | L30: ='הזנת נתונים'!U31 -> הקטלוג, הכולל לא פחות ממחצית הספרים המונגשים, מונגש בשמע בטלפון או באינטרנט? | M30: ='הזנת נתונים'!V31 -> האם קיים שירות המאפשר למנויים להזמין, להשאיל ולהאריך השאלות באמצעות האינטרנט או דואר אלקטרוני? | N30: ='הזנת נתונים'!J31 -> כמה מתוך הכותרים שהספרייה הנגישה בשנת ההערכה הם בכתב ברייל? | O30: ='הזנת נתונים'!K31 -> כמה מתוך הכותרים שהספרייה הנגישה בשנת ההערכה הם בשמע? | P30: ='הזנת נתונים'!L31 -> כמה מתוך הכותרים שהספרייה הנגישה בשנת ההערכה הם באות מוגדלת? | Q30: ='הזנת נתונים'!AC31 -> האם רוב הספרים בספרייה הם בשפה הערבית? | R30: ='הזנת נתונים'!AD31 -> המוסד הפיק או רכש בשנת ההערכה ספרים מונגשים בשפה הערבית, בהיקף שלא יפחת מ15% מתוך כלל הספרים המונגשים שהופקו או נרכשו על ידו בשנת ההערכה | U30: =E30 -> כמה כותרים הספרייה הנגישה בשנת הערכה? | V30: =F30 -> כמה מנויים פעילים יש לספרייה? | W30: =G30 -> כמה השאלות של ספרים מונגשים התקיימו בשנת הערכה? | X30: =H30 -> כמה כותרים מונגשים ברשות הספרייה? | Y30: =I30 -> כמה כותרים מונגשים הופקו או נרכשו בשנת ההערכה בשפה הערבית? | Z30: =J30 -> כמה כותרים מונגשים הופקו או נרכשו בשנת ההערכה בשפה זרה נוספת מלבד ערבית? | AA30: =K30 -> עבור לא פחות ממחצית מהספרים המונגשים- האם קיים מנגנון השאלת ספרים על ידי הורדת קבצים מאתר האינטרנט, הפועל בכל שעות היממה? | AB30: =L30 -> הקטלוג, הכולל לא פחות ממחצית הספרים המונגשים, מונגש בשמע בטלפון או באינטרנט? | ... AH30: =R30 -> המוסד הפיק או רכש בשנת ההערכה ספרים מונגשים בשפה הערבית, בהיקף שלא יפחת מ15% מתוך כלל הספרים המונגשים שהופקו או נרכשו על ידו בשנת ההערכה
B31: =#REF! -> #REF! | C31: ='תנאי סף'!C31 -> 1 | D31: =IF('תנאי סף'!Z31='תנאי סף'!$AD$30,"",'תנאי סף'!D31) -> הספריה המרכזית לעיוורים | E31: =IF($D31="","",'הזנת נתונים'!AP33) -> 3601 | F31: =IF($D31="","",'הזנת נתונים'!BD33) -> 15506 | G31: =IF($D31="","",'הזנת נתונים'!AW33) -> 900092 | H31: =IF($D31="","",'הזנת נתונים'!AO33) -> 43807 | I31: =IF($D31="","",'הזנת נתונים'!AT33) -> 620 | J31: =IF($D31="","",'הזנת נתונים'!AU33) -> 238 | K31: =IF($D31="","",'הזנת נתונים'!BA33) -> כן | L31: =IF($D31="","",'הזנת נתונים'!BB33) -> כן | M31: =IF($D31="","",'הזנת נתונים'!BC33) -> כן | N31: =IF($D31="","",'הזנת נתונים'!AQ33) -> 715 | O31: =IF($D31="","",'הזנת נתונים'!AR33) -> 1506 | P31: =IF($D31="","",'הזנת נתונים'!AS33) -> 645 | Q31: =IF($D31="","",'הזנת נתונים'!BJ33) -> לא | R31: =IF($D31="","",'הזנת נתונים'!BK33) -> כן | U31: =IF($D31="","",IF(E31="",$U$28,IF(ISERROR(E31/3),$U$29,E31))) -> 3601 | V31: =IF($D31="","",IF(F31="",$U$28,IF(ISERROR(F31/3),$U$29,F31))) -> 15506 | W31: =IF($D31="","",IF(G31="",$U$28,IF(ISERROR(G31/3),$U$29,G31))) -> 900092 | X31: =IF($D31="","",IF(H31="",$U$28,IF(ISERROR(H31/3),$U$29,H31))) -> 43807 | Y31: =IF($D31="","",IF(I31="",$U$28,IF(ISERROR(I31/3),$U$29,I31))) -> 620 | Z31: =IF($D31="","",IF(J31="",$U$28,IF(ISERROR(J31/3),$U$29,J31))) -> 238 | AA31: =IF($D31="","",IF(K31="",$U$28,IF(ISERROR(MATCH(K31,$V$28:$W$28)),$U$29,K31))) -> כן | AB31: =IF($D31="","",IF(L31="",$U$28,IF(ISERROR(MATCH(L31,$V$28:$W$28)),$U$29,L31))) -> כן | AC31: =IF($D31="","",IF(M31="",$U$28,IF(ISERROR(MATCH(M31,$V$28:$W$28)),$U$29,M31))) -> כן | AD31: =IF($D31="","",IF(N31="",$U$28,IF(ISERROR(N31/3),$U$29,N31))) -> 715 | AE31: =IF($D31="","",IF(O31="",$U$28,IF(ISERROR(O31/3),$U$29,O31))) -> 1506 | AF31: =IF($D31="","",IF(P31="",$U$28,IF(ISERROR(P31/3),$U$29,P31))) -> 645 | AG31: =IF($D31="","",IF(Q31="",$U$28,IF(ISERROR(MATCH(Q31,$V$28:$W$28)),$U$29,Q31))) -> לא | AH31: =IF($D31="","",IF(R31="",$U$28,IF(ISERROR(MATCH(R31,$V$28:$W$28)),$U$29,R31))) -> כן
B32: =#REF! -> #REF! | C32: ='תנאי סף'!C32 -> 2 | D32: =IF('תנאי סף'!Z32='תנאי סף'!$AD$30,"",'תנאי סף'!D32) -> מסיל"ה | E32: =IF($D32="","",'הזנת נתונים'!AP34) -> 270 | F32: =IF($D32="","",'הזנת נתונים'!BD34) -> 458 | G32: =IF($D32="","",'הזנת נתונים'!AW34) -> 3348 | H32: =IF($D32="","",'הזנת נתונים'!AO34) -> 6701 | I32: =IF($D32="","",'הזנת נתונים'!AT34) -> 0 | J32: =IF($D32="","",'הזנת נתונים'!AU34) -> 20 | K32: =IF($D32="","",'הזנת נתונים'!BA34) -> לא | L32: =IF($D32="","",'הזנת נתונים'!BB34) -> כן | M32: =IF($D32="","",'הזנת נתונים'!BC34) -> כן | N32: =IF($D32="","",'הזנת נתונים'!AQ34) -> 144 | O32: =IF($D32="","",'הזנת נתונים'!AR34) -> 0 | P32: =IF($D32="","",'הזנת נתונים'!AS34) -> 126 | Q32: =IF($D32="","",'הזנת נתונים'!BJ34) -> לא | R32: =IF($D32="","",'הזנת נתונים'!BK34) -> לא | U32: =IF($D32="","",IF(E32="",$U$28,IF(ISERROR(E32/3),$U$29,E32))) -> 270 | V32: =IF($D32="","",IF(F32="",$U$28,IF(ISERROR(F32/3),$U$29,F32))) -> 458 | W32: =IF($D32="","",IF(G32="",$U$28,IF(ISERROR(G32/3),$U$29,G32))) -> 3348 | X32: =IF($D32="","",IF(H32="",$U$28,IF(ISERROR(H32/3),$U$29,H32))) -> 6701 | Y32: =IF($D32="","",IF(I32="",$U$28,IF(ISERROR(I32/3),$U$29,I32))) -> 0 | Z32: =IF($D32="","",IF(J32="",$U$28,IF(ISERROR(J32/3),$U$29,J32))) -> 20 | AA32: =IF($D32="","",IF(K32="",$U$28,IF(ISERROR(MATCH(K32,$V$28:$W$28)),$U$29,K32))) -> לא | AB32: =IF($D32="","",IF(L32="",$U$28,IF(ISERROR(MATCH(L32,$V$28:$W$28)),$U$29,L32))) -> כן | AC32: =IF($D32="","",IF(M32="",$U$28,IF(ISERROR(MATCH(M32,$V$28:$W$28)),$U$29,M32))) -> כן | AD32: =IF($D32="","",IF(N32="",$U$28,IF(ISERROR(N32/3),$U$29,N32))) -> 144 | AE32: =IF($D32="","",IF(O32="",$U$28,IF(ISERROR(O32/3),$U$29,O32))) -> 0 | AF32: =IF($D32="","",IF(P32="",$U$28,IF(ISERROR(P32/3),$U$29,P32))) -> 126 | AG32: =IF($D32="","",IF(Q32="",$U$28,IF(ISERROR(MATCH(Q32,$V$28:$W$28)),$U$29,Q32))) -> לא | AH32: =IF($D32="","",IF(R32="",$U$28,IF(ISERROR(MATCH(R32,$V$28:$W$28)),$U$29,R32))) -> לא
B33: =#REF! -> #REF! | C33: ='תנאי סף'!C33 -> 3 | D33: =IF('תנאי סף'!Z33='תנאי סף'!$AD$30,"",'תנאי סף'!D33) -> עמותת עלה | E33: =IF($D33="","",'הזנת נתונים'!AP35) -> 155 | F33: =IF($D33="","",'הזנת נתונים'!BD35) -> 3049 | G33: =IF($D33="","",'הזנת נתונים'!AW35) -> 3557 | H33: =IF($D33="","",'הזנת נתונים'!AO35) -> 6541 | I33: =IF($D33="","",'הזנת נתונים'!AT35) -> 40 | J33: =IF($D33="","",'הזנת נתונים'!AU35) -> 16 | K33: =IF($D33="","",'הזנת נתונים'!BA35) -> לא | L33: =IF($D33="","",'הזנת נתונים'!BB35) -> כן | M33: =IF($D33="","",'הזנת נתונים'!BC35) -> כן | N33: =IF($D33="","",'הזנת נתונים'!AQ35) -> 55 | O33: =IF($D33="","",'הזנת נתונים'!AR35) -> 45 | P33: =IF($D33="","",'הזנת נתונים'!AS35) -> 55 | Q33: =IF($D33="","",'הזנת נתונים'!BJ35) -> לא | R33: =IF($D33="","",'הזנת נתונים'!BK35) -> כן | U33: =IF($D33="","",IF(E33="",$U$28,IF(ISERROR(E33/3),$U$29,E33))) -> 155 | V33: =IF($D33="","",IF(F33="",$U$28,IF(ISERROR(F33/3),$U$29,F33))) -> 3049 | W33: =IF($D33="","",IF(G33="",$U$28,IF(ISERROR(G33/3),$U$29,G33))) -> 3557 | X33: =IF($D33="","",IF(H33="",$U$28,IF(ISERROR(H33/3),$U$29,H33))) -> 6541 | Y33: =IF($D33="","",IF(I33="",$U$28,IF(ISERROR(I33/3),$U$29,I33))) -> 40 | Z33: =IF($D33="","",IF(J33="",$U$28,IF(ISERROR(J33/3),$U$29,J33))) -> 16 | AA33: =IF($D33="","",IF(K33="",$U$28,IF(ISERROR(MATCH(K33,$V$28:$W$28)),$U$29,K33))) -> לא | AB33: =IF($D33="","",IF(L33="",$U$28,IF(ISERROR(MATCH(L33,$V$28:$W$28)),$U$29,L33))) -> כן | AC33: =IF($D33="","",IF(M33="",$U$28,IF(ISERROR(MATCH(M33,$V$28:$W$28)),$U$29,M33))) -> כן | AD33: =IF($D33="","",IF(N33="",$U$28,IF(ISERROR(N33/3),$U$29,N33))) -> 55 | AE33: =IF($D33="","",IF(O33="",$U$28,IF(ISERROR(O33/3),$U$29,O33))) -> 45 | AF33: =IF($D33="","",IF(P33="",$U$28,IF(ISERROR(P33/3),$U$29,P33))) -> 55 | AG33: =IF($D33="","",IF(Q33="",$U$28,IF(ISERROR(MATCH(Q33,$V$28:$W$28)),$U$29,Q33))) -> לא | AH33: =IF($D33="","",IF(R33="",$U$28,IF(ISERROR(MATCH(R33,$V$28:$W$28)),$U$29,R33))) -> כן
B34: =#REF! -> #REF! | C34: ='תנאי סף'!C34 -> 4 | D34: =IF('תנאי סף'!Z34='תנאי סף'!$AD$30,"",'תנאי סף'!D34) -> עמותת אלמנארה | E34: =IF($D34="","",'הזנת נתונים'!AP36) -> 1628 | F34: =IF($D34="","",'הזנת נתונים'!BD36) -> 1330 | G34: =IF($D34="","",'הזנת נתונים'!AW36) -> 23987 | H34: =IF($D34="","",'הזנת נתונים'!AO36) -> 14613 | I34: =IF($D34="","",'הזנת נתונים'!AT36) -> 1501 | J34: =IF($D34="","",'הזנת נתונים'!AU36) -> 127 | K34: =IF($D34="","",'הזנת נתונים'!BA36) -> כן | L34: =IF($D34="","",'הזנת נתונים'!BB36) -> כן | M34: =IF($D34="","",'הזנת נתונים'!BC36) -> כן | N34: =IF($D34="","",'הזנת נתונים'!AQ36) -> 619 | O34: =IF($D34="","",'הזנת נתונים'!AR36) -> 390 | P34: =IF($D34="","",'הזנת נתונים'!AS36) -> 619 | Q34: =IF($D34="","",'הזנת נתונים'!BJ36) -> כן | R34: =IF($D34="","",'הזנת נתונים'!BK36) -> כן | U34: =IF($D34="","",IF(E34="",$U$28,IF(ISERROR(E34/3),$U$29,E34))) -> 1628 | V34: =IF($D34="","",IF(F34="",$U$28,IF(ISERROR(F34/3),$U$29,F34))) -> 1330 | W34: =IF($D34="","",IF(G34="",$U$28,IF(ISERROR(G34/3),$U$29,G34))) -> 23987 | X34: =IF($D34="","",IF(H34="",$U$28,IF(ISERROR(H34/3),$U$29,H34))) -> 14613 | Y34: =IF($D34="","",IF(I34="",$U$28,IF(ISERROR(I34/3),$U$29,I34))) -> 1501 | Z34: =IF($D34="","",IF(J34="",$U$28,IF(ISERROR(J34/3),$U$29,J34))) -> 127 | AA34: =IF($D34="","",IF(K34="",$U$28,IF(ISERROR(MATCH(K34,$V$28:$W$28)),$U$29,K34))) -> כן | AB34: =IF($D34="","",IF(L34="",$U$28,IF(ISERROR(MATCH(L34,$V$28:$W$28)),$U$29,L34))) -> כן | AC34: =IF($D34="","",IF(M34="",$U$28,IF(ISERROR(MATCH(M34,$V$28:$W$28)),$U$29,M34))) -> כן | AD34: =IF($D34="","",IF(N34="",$U$28,IF(ISERROR(N34/3),$U$29,N34))) -> 619 | AE34: =IF($D34="","",IF(O34="",$U$28,IF(ISERROR(O34/3),$U$29,O34))) -> 390 | AF34: =IF($D34="","",IF(P34="",$U$28,IF(ISERROR(P34/3),$U$29,P34))) -> 619 | AG34: =IF($D34="","",IF(Q34="",$U$28,IF(ISERROR(MATCH(Q34,$V$28:$W$28)),$U$29,Q34))) -> כן | AH34: =IF($D34="","",IF(R34="",$U$28,IF(ISERROR(MATCH(R34,$V$28:$W$28)),$U$29,R34))) -> כן
B35: =#REF! -> #REF! | C35: ='תנאי סף'!C35 | D35: =IF('תנאי סף'!Z35='תנאי סף'!$AD$30,"",'תנאי סף'!D35) | E35: =IF($D35="","",'הזנת נתונים'!AP37) | F35: =IF($D35="","",'הזנת נתונים'!BD37) | G35: =IF($D35="","",'הזנת נתונים'!AW37) | H35: =IF($D35="","",'הזנת נתונים'!AO37) | I35: =IF($D35="","",'הזנת נתונים'!AT37) | J35: =IF($D35="","",'הזנת נתונים'!AU37) | K35: =IF($D35="","",'הזנת נתונים'!BA37) | L35: =IF($D35="","",'הזנת נתונים'!BB37) | M35: =IF($D35="","",'הזנת נתונים'!BC37) | N35: =IF($D35="","",'הזנת נתונים'!AQ37) | O35: =IF($D35="","",'הזנת נתונים'!AR37) | P35: =IF($D35="","",'הזנת נתונים'!AS37) | Q35: =IF($D35="","",'הזנת נתונים'!BJ37) | R35: =IF($D35="","",'הזנת נתונים'!BK37) | U35: =IF($D35="","",IF(E35="",$U$28,IF(ISERROR(E35/3),$U$29,E35))) | V35: =IF($D35="","",IF(F35="",$U$28,IF(ISERROR(F35/3),$U$29,F35))) | W35: =IF($D35="","",IF(G35="",$U$28,IF(ISERROR(G35/3),$U$29,G35))) | X35: =IF($D35="","",IF(H35="",$U$28,IF(ISERROR(H35/3),$U$29,H35))) | Y35: =IF($D35="","",IF(I35="",$U$28,IF(ISERROR(I35/3),$U$29,I35))) | Z35: =IF($D35="","",IF(J35="",$U$28,IF(ISERROR(J35/3),$U$29,J35))) | AA35: =IF($D35="","",IF(K35="",$U$28,IF(ISERROR(MATCH(K35,$V$28:$W$28)),$U$29,K35))) | AB35: =IF($D35="","",IF(L35="",$U$28,IF(ISERROR(MATCH(L35,$V$28:$W$28)),$U$29,L35))) | AC35: =IF($D35="","",IF(M35="",$U$28,IF(ISERROR(MATCH(M35,$V$28:$W$28)),$U$29,M35))) | AD35: =IF($D35="","",IF(N35="",$U$28,IF(ISERROR(N35/3),$U$29,N35))) | AE35: =IF($D35="","",IF(O35="",$U$28,IF(ISERROR(O35/3),$U$29,O35))) | AF35: =IF($D35="","",IF(P35="",$U$28,IF(ISERROR(P35/3),$U$29,P35))) | AG35: =IF($D35="","",IF(Q35="",$U$28,IF(ISERROR(MATCH(Q35,$V$28:$W$28)),$U$29,Q35))) | AH35: =IF($D35="","",IF(R35="",$U$28,IF(ISERROR(MATCH(R35,$V$28:$W$28)),$U$29,R35)))
B36: =#REF! -> #REF! | C36: ='תנאי סף'!C36 | D36: =IF('תנאי סף'!Z36='תנאי סף'!$AD$30,"",'תנאי סף'!D36) | E36: =IF($D36="","",'הזנת נתונים'!AP38) | F36: =IF($D36="","",'הזנת נתונים'!BD38) | G36: =IF($D36="","",'הזנת נתונים'!AW38) | H36: =IF($D36="","",'הזנת נתונים'!AO38) | I36: =IF($D36="","",'הזנת נתונים'!AT38) | J36: =IF($D36="","",'הזנת נתונים'!AU38) | K36: =IF($D36="","",'הזנת נתונים'!BA38) | L36: =IF($D36="","",'הזנת נתונים'!BB38) | M36: =IF($D36="","",'הזנת נתונים'!BC38) | N36: =IF($D36="","",'הזנת נתונים'!AQ38) | O36: =IF($D36="","",'הזנת נתונים'!AR38) | P36: =IF($D36="","",'הזנת נתונים'!AS38) | Q36: =IF($D36="","",'הזנת נתונים'!BJ38) | R36: =IF($D36="","",'הזנת נתונים'!BK38) | U36: =IF($D36="","",IF(E36="",$U$28,IF(ISERROR(E36/3),$U$29,E36))) | V36: =IF($D36="","",IF(F36="",$U$28,IF(ISERROR(F36/3),$U$29,F36))) | W36: =IF($D36="","",IF(G36="",$U$28,IF(ISERROR(G36/3),$U$29,G36))) | X36: =IF($D36="","",IF(H36="",$U$28,IF(ISERROR(H36/3),$U$29,H36))) | Y36: =IF($D36="","",IF(I36="",$U$28,IF(ISERROR(I36/3),$U$29,I36))) | Z36: =IF($D36="","",IF(J36="",$U$28,IF(ISERROR(J36/3),$U$29,J36))) | AA36: =IF($D36="","",IF(K36="",$U$28,IF(ISERROR(MATCH(K36,$V$28:$W$28)),$U$29,K36))) | AB36: =IF($D36="","",IF(L36="",$U$28,IF(ISERROR(MATCH(L36,$V$28:$W$28)),$U$29,L36))) | AC36: =IF($D36="","",IF(M36="",$U$28,IF(ISERROR(MATCH(M36,$V$28:$W$28)),$U$29,M36))) | AD36: =IF($D36="","",IF(N36="",$U$28,IF(ISERROR(N36/3),$U$29,N36))) | AE36: =IF($D36="","",IF(O36="",$U$28,IF(ISERROR(O36/3),$U$29,O36))) | AF36: =IF($D36="","",IF(P36="",$U$28,IF(ISERROR(P36/3),$U$29,P36))) | AG36: =IF($D36="","",IF(Q36="",$U$28,IF(ISERROR(MATCH(Q36,$V$28:$W$28)),$U$29,Q36))) | AH36: =IF($D36="","",IF(R36="",$U$28,IF(ISERROR(MATCH(R36,$V$28:$W$28)),$U$29,R36)))
B37: =#REF! -> #REF! | C37: ='תנאי סף'!C37 | D37: =IF('תנאי סף'!Z37='תנאי סף'!$AD$30,"",'תנאי סף'!D37) | E37: =IF($D37="","",'הזנת נתונים'!AP39) | F37: =IF($D37="","",'הזנת נתונים'!BD39) | G37: =IF($D37="","",'הזנת נתונים'!AW39) | H37: =IF($D37="","",'הזנת נתונים'!AO39) | I37: =IF($D37="","",'הזנת נתונים'!AT39) | J37: =IF($D37="","",'הזנת נתונים'!AU39) | K37: =IF($D37="","",'הזנת נתונים'!BA39) | L37: =IF($D37="","",'הזנת נתונים'!BB39) | M37: =IF($D37="","",'הזנת נתונים'!BC39) | N37: =IF($D37="","",'הזנת נתונים'!AQ39) | O37: =IF($D37="","",'הזנת נתונים'!AR39) | P37: =IF($D37="","",'הזנת נתונים'!AS39) | Q37: =IF($D37="","",'הזנת נתונים'!BJ39) | R37: =IF($D37="","",'הזנת נתונים'!BK39) | U37: =IF($D37="","",IF(E37="",$U$28,IF(ISERROR(E37/3),$U$29,E37))) | V37: =IF($D37="","",IF(F37="",$U$28,IF(ISERROR(F37/3),$U$29,F37))) | W37: =IF($D37="","",IF(G37="",$U$28,IF(ISERROR(G37/3),$U$29,G37))) | X37: =IF($D37="","",IF(H37="",$U$28,IF(ISERROR(H37/3),$U$29,H37))) | Y37: =IF($D37="","",IF(I37="",$U$28,IF(ISERROR(I37/3),$U$29,I37))) | Z37: =IF($D37="","",IF(J37="",$U$28,IF(ISERROR(J37/3),$U$29,J37))) | AA37: =IF($D37="","",IF(K37="",$U$28,IF(ISERROR(MATCH(K37,$V$28:$W$28)),$U$29,K37))) | AB37: =IF($D37="","",IF(L37="",$U$28,IF(ISERROR(MATCH(L37,$V$28:$W$28)),$U$29,L37))) | AC37: =IF($D37="","",IF(M37="",$U$28,IF(ISERROR(MATCH(M37,$V$28:$W$28)),$U$29,M37))) | AD37: =IF($D37="","",IF(N37="",$U$28,IF(ISERROR(N37/3),$U$29,N37))) | AE37: =IF($D37="","",IF(O37="",$U$28,IF(ISERROR(O37/3),$U$29,O37))) | AF37: =IF($D37="","",IF(P37="",$U$28,IF(ISERROR(P37/3),$U$29,P37))) | AG37: =IF($D37="","",IF(Q37="",$U$28,IF(ISERROR(MATCH(Q37,$V$28:$W$28)),$U$29,Q37))) | AH37: =IF($D37="","",IF(R37="",$U$28,IF(ISERROR(MATCH(R37,$V$28:$W$28)),$U$29,R37)))
B38: =#REF! -> #REF! | C38: ='תנאי סף'!C38 | D38: =IF('תנאי סף'!Z38='תנאי סף'!$AD$30,"",'תנאי סף'!D38) | E38: =IF($D38="","",'הזנת נתונים'!AP40) | F38: =IF($D38="","",'הזנת נתונים'!BD40) | G38: =IF($D38="","",'הזנת נתונים'!AW40) | H38: =IF($D38="","",'הזנת נתונים'!AO40) | I38: =IF($D38="","",'הזנת נתונים'!AT40) | J38: =IF($D38="","",'הזנת נתונים'!AU40) | K38: =IF($D38="","",'הזנת נתונים'!BA40) | L38: =IF($D38="","",'הזנת נתונים'!BB40) | M38: =IF($D38="","",'הזנת נתונים'!BC40) | N38: =IF($D38="","",'הזנת נתונים'!AQ40) | O38: =IF($D38="","",'הזנת נתונים'!AR40) | P38: =IF($D38="","",'הזנת נתונים'!AS40) | Q38: =IF($D38="","",'הזנת נתונים'!BJ40) | R38: =IF($D38="","",'הזנת נתונים'!BK40) | U38: =IF($D38="","",IF(E38="",$U$28,IF(ISERROR(E38/3),$U$29,E38))) | V38: =IF($D38="","",IF(F38="",$U$28,IF(ISERROR(F38/3),$U$29,F38))) | W38: =IF($D38="","",IF(G38="",$U$28,IF(ISERROR(G38/3),$U$29,G38))) | X38: =IF($D38="","",IF(H38="",$U$28,IF(ISERROR(H38/3),$U$29,H38))) | Y38: =IF($D38="","",IF(I38="",$U$28,IF(ISERROR(I38/3),$U$29,I38))) | Z38: =IF($D38="","",IF(J38="",$U$28,IF(ISERROR(J38/3),$U$29,J38))) | AA38: =IF($D38="","",IF(K38="",$U$28,IF(ISERROR(MATCH(K38,$V$28:$W$28)),$U$29,K38))) | AB38: =IF($D38="","",IF(L38="",$U$28,IF(ISERROR(MATCH(L38,$V$28:$W$28)),$U$29,L38))) | AC38: =IF($D38="","",IF(M38="",$U$28,IF(ISERROR(MATCH(M38,$V$28:$W$28)),$U$29,M38))) | AD38: =IF($D38="","",IF(N38="",$U$28,IF(ISERROR(N38/3),$U$29,N38))) | AE38: =IF($D38="","",IF(O38="",$U$28,IF(ISERROR(O38/3),$U$29,O38))) | AF38: =IF($D38="","",IF(P38="",$U$28,IF(ISERROR(P38/3),$U$29,P38))) | AG38: =IF($D38="","",IF(Q38="",$U$28,IF(ISERROR(MATCH(Q38,$V$28:$W$28)),$U$29,Q38))) | AH38: =IF($D38="","",IF(R38="",$U$28,IF(ISERROR(MATCH(R38,$V$28:$W$28)),$U$29,R38)))
B39: =#REF! -> #REF! | C39: ='תנאי סף'!C39 | D39: =IF('תנאי סף'!Z39='תנאי סף'!$AD$30,"",'תנאי סף'!D39) | E39: =IF($D39="","",'הזנת נתונים'!AP41) | F39: =IF($D39="","",'הזנת נתונים'!BD41) | G39: =IF($D39="","",'הזנת נתונים'!AW41) | H39: =IF($D39="","",'הזנת נתונים'!AO41) | I39: =IF($D39="","",'הזנת נתונים'!AT41) | J39: =IF($D39="","",'הזנת נתונים'!AU41) | K39: =IF($D39="","",'הזנת נתונים'!BA41) | L39: =IF($D39="","",'הזנת נתונים'!BB41) | M39: =IF($D39="","",'הזנת נתונים'!BC41) | N39: =IF($D39="","",'הזנת נתונים'!AQ41) | O39: =IF($D39="","",'הזנת נתונים'!AR41) | P39: =IF($D39="","",'הזנת נתונים'!AS41) | Q39: =IF($D39="","",'הזנת נתונים'!BJ41) | R39: =IF($D39="","",'הזנת נתונים'!BK41) | U39: =IF($D39="","",IF(E39="",$U$28,IF(ISERROR(E39/3),$U$29,E39))) | V39: =IF($D39="","",IF(F39="",$U$28,IF(ISERROR(F39/3),$U$29,F39))) | W39: =IF($D39="","",IF(G39="",$U$28,IF(ISERROR(G39/3),$U$29,G39))) | X39: =IF($D39="","",IF(H39="",$U$28,IF(ISERROR(H39/3),$U$29,H39))) | Y39: =IF($D39="","",IF(I39="",$U$28,IF(ISERROR(I39/3),$U$29,I39))) | Z39: =IF($D39="","",IF(J39="",$U$28,IF(ISERROR(J39/3),$U$29,J39))) | AA39: =IF($D39="","",IF(K39="",$U$28,IF(ISERROR(MATCH(K39,$V$28:$W$28)),$U$29,K39))) | AB39: =IF($D39="","",IF(L39="",$U$28,IF(ISERROR(MATCH(L39,$V$28:$W$28)),$U$29,L39))) | AC39: =IF($D39="","",IF(M39="",$U$28,IF(ISERROR(MATCH(M39,$V$28:$W$28)),$U$29,M39))) | AD39: =IF($D39="","",IF(N39="",$U$28,IF(ISERROR(N39/3),$U$29,N39))) | AE39: =IF($D39="","",IF(O39="",$U$28,IF(ISERROR(O39/3),$U$29,O39))) | AF39: =IF($D39="","",IF(P39="",$U$28,IF(ISERROR(P39/3),$U$29,P39))) | AG39: =IF($D39="","",IF(Q39="",$U$28,IF(ISERROR(MATCH(Q39,$V$28:$W$28)),$U$29,Q39))) | AH39: =IF($D39="","",IF(R39="",$U$28,IF(ISERROR(MATCH(R39,$V$28:$W$28)),$U$29,R39)))
B40: =#REF! -> #REF! | C40: ='תנאי סף'!C40 | D40: =IF('תנאי סף'!Z40='תנאי סף'!$AD$30,"",'תנאי סף'!D40) | E40: =IF($D40="","",'הזנת נתונים'!AP42) | F40: =IF($D40="","",'הזנת נתונים'!BD42) | G40: =IF($D40="","",'הזנת נתונים'!AW42) | H40: =IF($D40="","",'הזנת נתונים'!AO42) | I40: =IF($D40="","",'הזנת נתונים'!AT42) | J40: =IF($D40="","",'הזנת נתונים'!AU42) | K40: =IF($D40="","",'הזנת נתונים'!BA42) | L40: =IF($D40="","",'הזנת נתונים'!BB42) | M40: =IF($D40="","",'הזנת נתונים'!BC42) | N40: =IF($D40="","",'הזנת נתונים'!AQ42) | O40: =IF($D40="","",'הזנת נתונים'!AR42) | P40: =IF($D40="","",'הזנת נתונים'!AS42) | Q40: =IF($D40="","",'הזנת נתונים'!BJ42) | R40: =IF($D40="","",'הזנת נתונים'!BK42) | U40: =IF($D40="","",IF(E40="",$U$28,IF(ISERROR(E40/3),$U$29,E40))) | V40: =IF($D40="","",IF(F40="",$U$28,IF(ISERROR(F40/3),$U$29,F40))) | W40: =IF($D40="","",IF(G40="",$U$28,IF(ISERROR(G40/3),$U$29,G40))) | X40: =IF($D40="","",IF(H40="",$U$28,IF(ISERROR(H40/3),$U$29,H40))) | Y40: =IF($D40="","",IF(I40="",$U$28,IF(ISERROR(I40/3),$U$29,I40))) | Z40: =IF($D40="","",IF(J40="",$U$28,IF(ISERROR(J40/3),$U$29,J40))) | AA40: =IF($D40="","",IF(K40="",$U$28,IF(ISERROR(MATCH(K40,$V$28:$W$28)),$U$29,K40))) | AB40: =IF($D40="","",IF(L40="",$U$28,IF(ISERROR(MATCH(L40,$V$28:$W$28)),$U$29,L40))) | AC40: =IF($D40="","",IF(M40="",$U$28,IF(ISERROR(MATCH(M40,$V$28:$W$28)),$U$29,M40))) | AD40: =IF($D40="","",IF(N40="",$U$28,IF(ISERROR(N40/3),$U$29,N40))) | AE40: =IF($D40="","",IF(O40="",$U$28,IF(ISERROR(O40/3),$U$29,O40))) | AF40: =IF($D40="","",IF(P40="",$U$28,IF(ISERROR(P40/3),$U$29,P40))) | AG40: =IF($D40="","",IF(Q40="",$U$28,IF(ISERROR(MATCH(Q40,$V$28:$W$28)),$U$29,Q40))) | AH40: =IF($D40="","",IF(R40="",$U$28,IF(ISERROR(MATCH(R40,$V$28:$W$28)),$U$29,R40)))
B41: =#REF! -> #REF! | C41: ='תנאי סף'!C41 | D41: =IF('תנאי סף'!Z41='תנאי סף'!$AD$30,"",'תנאי סף'!D41) | E41: =IF($D41="","",'הזנת נתונים'!AP43) | F41: =IF($D41="","",'הזנת נתונים'!BD43) | G41: =IF($D41="","",'הזנת נתונים'!AW43) | H41: =IF($D41="","",'הזנת נתונים'!AO43) | I41: =IF($D41="","",'הזנת נתונים'!AT43) | J41: =IF($D41="","",'הזנת נתונים'!AU43) | K41: =IF($D41="","",'הזנת נתונים'!BA43) | L41: =IF($D41="","",'הזנת נתונים'!BB43) | M41: =IF($D41="","",'הזנת נתונים'!BC43) | N41: =IF($D41="","",'הזנת נתונים'!AQ43) | O41: =IF($D41="","",'הזנת נתונים'!AR43) | P41: =IF($D41="","",'הזנת נתונים'!AS43) | Q41: =IF($D41="","",'הזנת נתונים'!BJ43) | R41: =IF($D41="","",'הזנת נתונים'!BK43) | U41: =IF($D41="","",IF(E41="",$U$28,IF(ISERROR(E41/3),$U$29,E41))) | V41: =IF($D41="","",IF(F41="",$U$28,IF(ISERROR(F41/3),$U$29,F41))) | W41: =IF($D41="","",IF(G41="",$U$28,IF(ISERROR(G41/3),$U$29,G41))) | X41: =IF($D41="","",IF(H41="",$U$28,IF(ISERROR(H41/3),$U$29,H41))) | Y41: =IF($D41="","",IF(I41="",$U$28,IF(ISERROR(I41/3),$U$29,I41))) | Z41: =IF($D41="","",IF(J41="",$U$28,IF(ISERROR(J41/3),$U$29,J41))) | AA41: =IF($D41="","",IF(K41="",$U$28,IF(ISERROR(MATCH(K41,$V$28:$W$28)),$U$29,K41))) | AB41: =IF($D41="","",IF(L41="",$U$28,IF(ISERROR(MATCH(L41,$V$28:$W$28)),$U$29,L41))) | AC41: =IF($D41="","",IF(M41="",$U$28,IF(ISERROR(MATCH(M41,$V$28:$W$28)),$U$29,M41))) | AD41: =IF($D41="","",IF(N41="",$U$28,IF(ISERROR(N41/3),$U$29,N41))) | AE41: =IF($D41="","",IF(O41="",$U$28,IF(ISERROR(O41/3),$U$29,O41))) | AF41: =IF($D41="","",IF(P41="",$U$28,IF(ISERROR(P41/3),$U$29,P41))) | AG41: =IF($D41="","",IF(Q41="",$U$28,IF(ISERROR(MATCH(Q41,$V$28:$W$28)),$U$29,Q41))) | AH41: =IF($D41="","",IF(R41="",$U$28,IF(ISERROR(MATCH(R41,$V$28:$W$28)),$U$29,R41)))
B42: =#REF! -> #REF! | C42: ='תנאי סף'!C42 | D42: =IF('תנאי סף'!Z42='תנאי סף'!$AD$30,"",'תנאי סף'!D42) | E42: =IF($D42="","",'הזנת נתונים'!AP44) | F42: =IF($D42="","",'הזנת נתונים'!BD44) | G42: =IF($D42="","",'הזנת נתונים'!AW44) | H42: =IF($D42="","",'הזנת נתונים'!AO44) | I42: =IF($D42="","",'הזנת נתונים'!AT44) | J42: =IF($D42="","",'הזנת נתונים'!AU44) | K42: =IF($D42="","",'הזנת נתונים'!BA44) | L42: =IF($D42="","",'הזנת נתונים'!BB44) | M42: =IF($D42="","",'הזנת נתונים'!BC44) | N42: =IF($D42="","",'הזנת נתונים'!AQ44) | O42: =IF($D42="","",'הזנת נתונים'!AR44) | P42: =IF($D42="","",'הזנת נתונים'!AS44) | Q42: =IF($D42="","",'הזנת נתונים'!BJ44) | R42: =IF($D42="","",'הזנת נתונים'!BK44) | U42: =IF($D42="","",IF(E42="",$U$28,IF(ISERROR(E42/3),$U$29,E42))) | V42: =IF($D42="","",IF(F42="",$U$28,IF(ISERROR(F42/3),$U$29,F42))) | W42: =IF($D42="","",IF(G42="",$U$28,IF(ISERROR(G42/3),$U$29,G42))) | X42: =IF($D42="","",IF(H42="",$U$28,IF(ISERROR(H42/3),$U$29,H42))) | Y42: =IF($D42="","",IF(I42="",$U$28,IF(ISERROR(I42/3),$U$29,I42))) | Z42: =IF($D42="","",IF(J42="",$U$28,IF(ISERROR(J42/3),$U$29,J42))) | AA42: =IF($D42="","",IF(K42="",$U$28,IF(ISERROR(MATCH(K42,$V$28:$W$28)),$U$29,K42))) | AB42: =IF($D42="","",IF(L42="",$U$28,IF(ISERROR(MATCH(L42,$V$28:$W$28)),$U$29,L42))) | AC42: =IF($D42="","",IF(M42="",$U$28,IF(ISERROR(MATCH(M42,$V$28:$W$28)),$U$29,M42))) | AD42: =IF($D42="","",IF(N42="",$U$28,IF(ISERROR(N42/3),$U$29,N42))) | AE42: =IF($D42="","",IF(O42="",$U$28,IF(ISERROR(O42/3),$U$29,O42))) | AF42: =IF($D42="","",IF(P42="",$U$28,IF(ISERROR(P42/3),$U$29,P42))) | AG42: =IF($D42="","",IF(Q42="",$U$28,IF(ISERROR(MATCH(Q42,$V$28:$W$28)),$U$29,Q42))) | AH42: =IF($D42="","",IF(R42="",$U$28,IF(ISERROR(MATCH(R42,$V$28:$W$28)),$U$29,R42)))
... B90: =#REF! -> #REF! | C90: ='תנאי סף'!C90 | D90: =IF('תנאי סף'!Z90='תנאי סף'!$AD$30,"",'תנאי סף'!D90) | E90: =IF($D90="","",'הזנת נתונים'!AP92) | F90: =IF($D90="","",'הזנת נתונים'!BD92) | G90: =IF($D90="","",'הזנת נתונים'!AW92) | H90: =IF($D90="","",'הזנת נתונים'!AO92) | I90: =IF($D90="","",'הזנת נתונים'!AT92) | J90: =IF($D90="","",'הזנת נתונים'!AU92) | K90: =IF($D90="","",'הזנת נתונים'!BA92) | L90: =IF($D90="","",'הזנת נתונים'!BB92) | M90: =IF($D90="","",'הזנת נתונים'!BC92) | N90: =IF($D90="","",'הזנת נתונים'!AQ92) | O90: =IF($D90="","",'הזנת נתונים'!AR92) | P90: =IF($D90="","",'הזנת נתונים'!AS92) | Q90: =IF($D90="","",'הזנת נתונים'!BJ92) | R90: =IF($D90="","",'הזנת נתונים'!BK92) | U90: =IF($D90="","",IF(E90="",$U$28,IF(ISERROR(E90/3),$U$29,E90))) | V90: =IF($D90="","",IF(F90="",$U$28,IF(ISERROR(F90/3),$U$29,F90))) | W90: =IF($D90="","",IF(G90="",$U$28,IF(ISERROR(G90/3),$U$29,G90))) | X90: =IF($D90="","",IF(H90="",$U$28,IF(ISERROR(H90/3),$U$29,H90))) | Y90: =IF($D90="","",IF(I90="",$U$28,IF(ISERROR(I90/3),$U$29,I90))) | Z90: =IF($D90="","",IF(J90="",$U$28,IF(ISERROR(J90/3),$U$29,J90))) | AA90: =IF($D90="","",IF(K90="",$U$28,IF(ISERROR(MATCH(K90,$V$28:$W$28)),$U$29,K90))) | AB90: =IF($D90="","",IF(L90="",$U$28,IF(ISERROR(MATCH(L90,$V$28:$W$28)),$U$29,L90))) | AC90: =IF($D90="","",IF(M90="",$U$28,IF(ISERROR(MATCH(M90,$V$28:$W$28)),$U$29,M90))) | AD90: =IF($D90="","",IF(N90="",$U$28,IF(ISERROR(N90/3),$U$29,N90))) | AE90: =IF($D90="","",IF(O90="",$U$28,IF(ISERROR(O90/3),$U$29,O90))) | AF90: =IF($D90="","",IF(P90="",$U$28,IF(ISERROR(P90/3),$U$29,P90))) | AG90: =IF($D90="","",IF(Q90="",$U$28,IF(ISERROR(MATCH(Q90,$V$28:$W$28)),$U$29,Q90))) | AH90: =IF($D90="","",IF(R90="",$U$28,IF(ISERROR(MATCH(R90,$V$28:$W$28)),$U$29,R90)))

Sheet מספר ספרים חדשים
B2: =MID(CELL("filename",A1),FIND("]",CELL("filename",A1),1)+1,99) -> מספר ספרים חדשים
B18: ='נתונים לניקוד'!C29 -> מספר סידורי | C18: ='נתונים לניקוד'!D29 -> שם המוסד | D18: =B2 -> מספר ספרים חדשים
D19: ='נתונים לניקוד'!E30 -> כמה כותרים הספרייה הנגישה בשנת הערכה? | E19: ניקוד | F19: ניקוד | G19: שיעור יחסי
B20: ='תנאי סף'!C31 -> 1 | C20: =IF('תנאי סף'!Z31='תנאי סף'!$AD$30,"",'תנאי סף'!D31) -> הספריה המרכזית לעיוורים | D20: ='נתונים לניקוד'!U31 -> 3601 | E20: =D20 -> 3601 | F20: =IFERROR(E20,0) -> 3601 | G20: =IF($C20="","",(F20/SUM($F$20:$F$79))) -> 0.63689423
B21: ='תנאי סף'!C32 -> 2 | C21: =IF('תנאי סף'!Z32='תנאי סף'!$AD$30,"",'תנאי סף'!D32) -> מסיל"ה | D21: ='נתונים לניקוד'!U32 -> 270 | E21: =D21 -> 270 | F21: =IFERROR(E21,0) -> 270 | G21: =IF($C21="","",(F21/SUM($F$20:$F$79))) -> 0.047753803
B22: ='תנאי סף'!C33 -> 3 | C22: =IF('תנאי סף'!Z33='תנאי סף'!$AD$30,"",'תנאי סף'!D33) -> עמותת עלה | D22: ='נתונים לניקוד'!U33 -> 155 | E22: =D22 -> 155 | F22: =IFERROR(E22,0) -> 155 | G22: =IF($C22="","",(F22/SUM($F$20:$F$79))) -> 0.02741422
B23: ='תנאי סף'!C34 -> 4 | C23: =IF('תנאי סף'!Z34='תנאי סף'!$AD$30,"",'תנאי סף'!D34) -> עמותת אלמנארה | D23: ='נתונים לניקוד'!U34 -> 1628 | E23: =D23 -> 1628 | F23: =IFERROR(E23,0) -> 1628 | G23: =IF($C23="","",(F23/SUM($F$20:$F$79))) -> 0.28793774
B24: ='תנאי סף'!C35 | C24: =IF('תנאי סף'!Z35='תנאי סף'!$AD$30,"",'תנאי סף'!D35) | D24: ='נתונים לניקוד'!U35 | E24: =D24 | F24: =IFERROR(E24,0) | G24: =IF($C24="","",(F24/SUM($F$20:$F$79)))
B25: ='תנאי סף'!C36 | C25: =IF('תנאי סף'!Z36='תנאי סף'!$AD$30,"",'תנאי סף'!D36) | D25: ='נתונים לניקוד'!U36 | E25: =D25 | F25: =IFERROR(E25,0) | G25: =IF($C25="","",(F25/SUM($F$20:$F$79)))
B26: ='תנאי סף'!C37 | C26: =IF('תנאי סף'!Z37='תנאי סף'!$AD$30,"",'תנאי סף'!D37) | D26: ='נתונים לניקוד'!U37 | E26: =D26 | F26: =IFERROR(E26,0) | G26: =IF($C26="","",(F26/SUM($F$20:$F$79)))
B27: ='תנאי סף'!C38 | C27: =IF('תנאי סף'!Z38='תנאי סף'!$AD$30,"",'תנאי סף'!D38) | D27: ='נתונים לניקוד'!U38 | E27: =D27 | F27: =IFERROR(E27,0) | G27: =IF($C27="","",(F27/SUM($F$20:$F$79)))
B28: ='תנאי סף'!C39 | C28: =IF('תנאי סף'!Z39='תנאי סף'!$AD$30,"",'תנאי סף'!D39) | D28: ='נתונים לניקוד'!U39 | E28: =D28 | F28: =IFERROR(E28,0) | G28: =IF($C28="","",(F28/SUM($F$20:$F$79)))
B29: ='תנאי סף'!C40 | C29: =IF('תנאי סף'!Z40='תנאי סף'!$AD$30,"",'תנאי סף'!D40) | D29: ='נתונים לניקוד'!U40 | E29: =D29 | F29: =IFERROR(E29,0) | G29: =IF($C29="","",(F29/SUM($F$20:$F$79)))
B30: ='תנאי סף'!C41 | C30: =IF('תנאי סף'!Z41='תנאי סף'!$AD$30,"",'תנאי סף'!D41) | D30: ='נתונים לניקוד'!U41 | E30: =D30 | F30: =IFERROR(E30,0) | G30: =IF($C30="","",(F30/SUM($F$20:$F$79)))
B31: ='תנאי סף'!C42 | C31: =IF('תנאי סף'!Z42='תנאי סף'!$AD$30,"",'תנאי סף'!D42) | D31: ='נתונים לניקוד'!U42 | E31: =D31 | F31: =IFERROR(E31,0) | G31: =IF($C31="","",(F31/SUM($F$20:$F$79)))
... B79: ='תנאי סף'!C90 | C79: =IF('תנאי סף'!Z90='תנאי סף'!$AD$30,"",'תנאי סף'!D90) | D79: ='נתונים לניקוד'!U90 | E79: =D79 | F79: =IFERROR(E79,0) | G79: =IF($C79="","",(F79/SUM($F$20:$F$79)))

Sheet מספר מנויים פעילים
B2: =MID(CELL("filename",A1),FIND("]",CELL("filename",A1),1)+1,99) -> מספר מנויים פעילים
B18: ='נתונים לניקוד'!C29 -> מספר סידורי | C18: ='נתונים לניקוד'!D29 -> שם המוסד | D18: =B2 -> מספר מנויים פעילים
D19: ='נתונים לניקוד'!F30 -> כמה מנויים פעילים יש לספרייה? | E19: ניקוד | F19: ניקוד | G19: שיעור יחסי
B20: ='תנאי סף'!C31 -> 1 | C20: =IF('תנאי סף'!Z31='תנאי סף'!$AD$30,"",'תנאי סף'!D31) -> הספריה המרכזית לעיוורים | D20: ='נתונים לניקוד'!V31 -> 15506 | E20: =D20 -> 15506 | F20: =IFERROR(E20,0) -> 15506 | G20: =IF($C20="","",(F20/SUM($F$20:$F$79))) -> 0.76222779
B21: ='תנאי סף'!C32 -> 2 | C21: =IF('תנאי סף'!Z32='תנאי סף'!$AD$30,"",'תנאי סף'!D32) -> מסיל"ה | D21: ='נתונים לניקוד'!V32 -> 458 | E21: =D21 -> 458 | F21: =IFERROR(E21,0) -> 458 | G21: =IF($C21="","",(F21/SUM($F$20:$F$79))) -> 0.022513887
B22: ='תנאי סף'!C33 -> 3 | C22: =IF('תנאי סף'!Z33='תנאי סף'!$AD$30,"",'תנאי סף'!D33) -> עמותת עלה | D22: ='נתונים לניקוד'!V33 -> 3049 | E22: =D22 -> 3049 | F22: =IFERROR(E22,0) -> 3049 | G22: =IF($C22="","",(F22/SUM($F$20:$F$79))) -> 0.14987957
B23: ='תנאי סף'!C34 -> 4 | C23: =IF('תנאי סף'!Z34='תנאי סף'!$AD$30,"",'תנאי סף'!D34) -> עמותת אלמנארה | D23: ='נתונים לניקוד'!V34 -> 1330 | E23: =D23 -> 1330 | F23: =IFERROR(E23,0) -> 1330 | G23: =IF($C23="","",(F23/SUM($F$20:$F$79))) -> 0.065378754
B24: ='תנאי סף'!C35 | C24: =IF('תנאי סף'!Z35='תנאי סף'!$AD$30,"",'תנאי סף'!D35) | D24: ='נתונים לניקוד'!V35 | E24: =D24 | F24: =IFERROR(E24,0) | G24: =IF($C24="","",(F24/SUM($F$20:$F$79)))
B25: ='תנאי סף'!C36 | C25: =IF('תנאי סף'!Z36='תנאי סף'!$AD$30,"",'תנאי סף'!D36) | D25: ='נתונים לניקוד'!V36 | E25: =D25 | F25: =IFERROR(E25,0) | G25: =IF($C25="","",(F25/SUM($F$20:$F$79)))
B26: ='תנאי סף'!C37 | C26: =IF('תנאי סף'!Z37='תנאי סף'!$AD$30,"",'תנאי סף'!D37) | D26: ='נתונים לניקוד'!V37 | E26: =D26 | F26: =IFERROR(E26,0) | G26: =IF($C26="","",(F26/SUM($F$20:$F$79)))
B27: ='תנאי סף'!C38 | C27: =IF('תנאי סף'!Z38='תנאי סף'!$AD$30,"",'תנאי סף'!D38) | D27: ='נתונים לניקוד'!V38 | E27: =D27 | F27: =IFERROR(E27,0) | G27: =IF($C27="","",(F27/SUM($F$20:$F$79)))
B28: ='תנאי סף'!C39 | C28: =IF('תנאי סף'!Z39='תנאי סף'!$AD$30,"",'תנאי סף'!D39) | D28: ='נתונים לניקוד'!V39 | E28: =D28 | F28: =IFERROR(E28,0) | G28: =IF($C28="","",(F28/SUM($F$20:$F$79)))
B29: ='תנאי סף'!C40 | C29: =IF('תנאי סף'!Z40='תנאי סף'!$AD$30,"",'תנאי סף'!D40) | D29: ='נתונים לניקוד'!V40 | E29: =D29 | F29: =IFERROR(E29,0) | G29: =IF($C29="","",(F29/SUM($F$20:$F$79)))
B30: ='תנאי סף'!C41 | C30: =IF('תנאי סף'!Z41='תנאי סף'!$AD$30,"",'תנאי סף'!D41) | D30: ='נתונים לניקוד'!V41 | E30: =D30 | F30: =IFERROR(E30,0) | G30: =IF($C30="","",(F30/SUM($F$20:$F$79)))
B31: ='תנאי סף'!C42 | C31: =IF('תנאי סף'!Z42='תנאי סף'!$AD$30,"",'תנאי סף'!D42) | D31: ='נתונים לניקוד'!V42 | E31: =D31 | F31: =IFERROR(E31,0) | G31: =IF($C31="","",(F31/SUM($F$20:$F$79)))
... B79: ='תנאי סף'!C90 | C79: =IF('תנאי סף'!Z90='תנאי סף'!$AD$30,"",'תנאי סף'!D90) | D79: ='נתונים לניקוד'!V90 | E79: =D79 | F79: =IFERROR(E79,0) | G79: =IF($C79="","",(F79/SUM($F$20:$F$79)))

Sheet מספר השאלות
B2: =MID(CELL("filename",A1),FIND("]",CELL("filename",A1),1)+1,99) -> מספר השאלות
B18: ='נתונים לניקוד'!C29 -> מספר סידורי | C18: ='נתונים לניקוד'!D29 -> שם המוסד | D18: =B2 -> מספר השאלות
D19: ='נתונים לניקוד'!G30 -> כמה השאלות של ספרים מונגשים התקיימו בשנת הערכה? | E19: ניקוד | F19: ניקוד | G19: שיעור יחסי
B20: ='תנאי סף'!C31 -> 1 | C20: =IF('תנאי סף'!Z31='תנאי סף'!$AD$30,"",'תנאי סף'!D31) -> הספריה המרכזית לעיוורים | D20: ='נתונים לניקוד'!W31 -> 900092 | E20: =D20 -> 900092 | F20: =IFERROR(E20,0) -> 900092 | G20: =IF($C20="","",(F20/SUM($F$20:$F$79))) -> 0.9668179
B21: ='תנאי סף'!C32 -> 2 | C21: =IF('תנאי סף'!Z32='תנאי סף'!$AD$30,"",'תנאי סף'!D32) -> מסיל"ה | D21: ='נתונים לניקוד'!W32 -> 3348 | E21: =D21 -> 3348 | F21: =IFERROR(E21,0) -> 3348 | G21: =IF($C21="","",(F21/SUM($F$20:$F$79))) -> 0.003596195
B22: ='תנאי סף'!C33 -> 3 | C22: =IF('תנאי סף'!Z33='תנאי סף'!$AD$30,"",'תנאי סף'!D33) -> עמותת עלה | D22: ='נתונים לניקוד'!W33 -> 3557 | E22: =D22 -> 3557 | F22: =IFERROR(E22,0) -> 3557 | G22: =IF($C22="","",(F22/SUM($F$20:$F$79))) -> 0.0038206886
B23: ='תנאי סף'!C34 -> 4 | C23: =IF('תנאי סף'!Z34='תנאי סף'!$AD$30,"",'תנאי סף'!D34) -> עמותת אלמנארה | D23: ='נתונים לניקוד'!W34 -> 23987 | E23: =D23 -> 23987 | F23: =IFERROR(E23,0) -> 23987 | G23: =IF($C23="","",(F23/SUM($F$20:$F$79))) -> 0.025765212
B24: ='תנאי סף'!C35 | C24: =IF('תנאי סף'!Z35='תנאי סף'!$AD$30,"",'תנאי סף'!D35) | D24: ='נתונים לניקוד'!W35 | E24: =D24 | F24: =IFERROR(E24,0) | G24: =IF($C24="","",(F24/SUM($F$20:$F$79)))
B25: ='תנאי סף'!C36 | C25: =IF('תנאי סף'!Z36='תנאי סף'!$AD$30,"",'תנאי סף'!D36) | D25: ='נתונים לניקוד'!W36 | E25: =D25 | F25: =IFERROR(E25,0) | G25: =IF($C25="","",(F25/SUM($F$20:$F$79)))
B26: ='תנאי סף'!C37 | C26: =IF('תנאי סף'!Z37='תנאי סף'!$AD$30,"",'תנאי סף'!D37) | D26: ='נתונים לניקוד'!W37 | E26: =D26 | F26: =IFERROR(E26,0) | G26: =IF($C26="","",(F26/SUM($F$20:$F$79)))
B27: ='תנאי סף'!C38 | C27: =IF('תנאי סף'!Z38='תנאי סף'!$AD$30,"",'תנאי סף'!D38) | D27: ='נתונים לניקוד'!W38 | E27: =D27 | F27: =IFERROR(E27,0) | G27: =IF($C27="","",(F27/SUM($F$20:$F$79)))
B28: ='תנאי סף'!C39 | C28: =IF('תנאי סף'!Z39='תנאי סף'!$AD$30,"",'תנאי סף'!D39) | D28: ='נתונים לניקוד'!W39 | E28: =D28 | F28: =IFERROR(E28,0) | G28: =IF($C28="","",(F28/SUM($F$20:$F$79)))
B29: ='תנאי סף'!C40 | C29: =IF('תנאי סף'!Z40='תנאי סף'!$AD$30,"",'תנאי סף'!D40) | D29: ='נתונים לניקוד'!W40 | E29: =D29 | F29: =IFERROR(E29,0) | G29: =IF($C29="","",(F29/SUM($F$20:$F$79)))
B30: ='תנאי סף'!C41 | C30: =IF('תנאי סף'!Z41='תנאי סף'!$AD$30,"",'תנאי סף'!D41) | D30: ='נתונים לניקוד'!W41 | E30: =D30 | F30: =IFERROR(E30,0) | G30: =IF($C30="","",(F30/SUM($F$20:$F$79)))
B31: ='תנאי סף'!C42 | C31: =IF('תנאי סף'!Z42='תנאי סף'!$AD$30,"",'תנאי סף'!D42) | D31: ='נתונים לניקוד'!W42 | E31: =D31 | F31: =IFERROR(E31,0) | G31: =IF($C31="","",(F31/SUM($F$20:$F$79)))
... B79: ='תנאי סף'!C90 | C79: =IF('תנאי סף'!Z90='תנאי סף'!$AD$30,"",'תנאי סף'!D90) | D79: ='נתונים לניקוד'!W90 | E79: =D79 | F79: =IFERROR(E79,0) | G79: =IF($C79="","",(F79/SUM($F$20:$F$79)))

Sheet מספר ספרים מונגשים במלאי
B2: =MID(CELL("filename",A1),FIND("]",CELL("filename",A1),1)+1,99) -> מספר ספרים מונגשים במלאי
B18: ='נתונים לניקוד'!C29 -> מספר סידורי | C18: ='נתונים לניקוד'!D29 -> שם המוסד | D18: =B2 -> מספר ספרים מונגשים במלאי
D19: ='נתונים לניקוד'!H30 -> כמה כותרים מונגשים ברשות הספרייה? | E19: ניקוד | F19: ניקוד | G19: שיעור יחסי
B20: ='תנאי סף'!C31 -> 1 | C20: =IF('תנאי סף'!Z31='תנאי סף'!$AD$30,"",'תנאי סף'!D31) -> הספריה המרכזית לעיוורים | D20: ='נתונים לניקוד'!X31 -> 43807 | E20: =D20 -> 43807 | F20: =IFERROR(E20,0) -> 43807 | G20: =IF($C20="","",(F20/SUM($F$20:$F$79))) -> 0.61130027
B21: ='תנאי סף'!C32 -> 2 | C21: =IF('תנאי סף'!Z32='תנאי סף'!$AD$30,"",'תנאי סף'!D32) -> מסיל"ה | D21: ='נתונים לניקוד'!X32 -> 6701 | E21: =D21 -> 6701 | F21: =IFERROR(E21,0) -> 6701 | G21: =IF($C21="","",(F21/SUM($F$20:$F$79))) -> 0.093508415
B22: ='תנאי סף'!C33 -> 3 | C22: =IF('תנאי סף'!Z33='תנאי סף'!$AD$30,"",'תנאי סף'!D33) -> עמותת עלה | D22: ='נתונים לניקוד'!X33 -> 6541 | E22: =D22 -> 6541 | F22: =IFERROR(E22,0) -> 6541 | G22: =IF($C22="","",(F22/SUM($F$20:$F$79))) -> 0.091275711
B23: ='תנאי סף'!C34 -> 4 | C23: =IF('תנאי סף'!Z34='תנאי סף'!$AD$30,"",'תנאי סף'!D34) -> עמותת אלמנארה | D23: ='נתונים לניקוד'!X34 -> 14613 | E23: =D23 -> 14613 | F23: =IFERROR(E23,0) -> 14613 | G23: =IF($C23="","",(F23/SUM($F$20:$F$79))) -> 0.2039156
B24: ='תנאי סף'!C35 | C24: =IF('תנאי סף'!Z35='תנאי סף'!$AD$30,"",'תנאי סף'!D35) | D24: ='נתונים לניקוד'!X35 | E24: =D24 | F24: =IFERROR(E24,0) | G24: =IF($C24="","",(F24/SUM($F$20:$F$79)))
B25: ='תנאי סף'!C36 | C25: =IF('תנאי סף'!Z36='תנאי סף'!$AD$30,"",'תנאי סף'!D36) | D25: ='נתונים לניקוד'!X36 | E25: =D25 | F25: =IFERROR(E25,0) | G25: =IF($C25="","",(F25/SUM($F$20:$F$79)))
B26: ='תנאי סף'!C37 | C26: =IF('תנאי סף'!Z37='תנאי סף'!$AD$30,"",'תנאי סף'!D37) | D26: ='נתונים לניקוד'!X37 | E26: =D26 | F26: =IFERROR(E26,0) | G26: =IF($C26="","",(F26/SUM($F$20:$F$79)))
B27: ='תנאי סף'!C38 | C27: =IF('תנאי סף'!Z38='תנאי סף'!$AD$30,"",'תנאי סף'!D38) | D27: ='נתונים לניקוד'!X38 | E27: =D27 | F27: =IFERROR(E27,0) | G27: =IF($C27="","",(F27/SUM($F$20:$F$79)))
B28: ='תנאי סף'!C39 | C28: =IF('תנאי סף'!Z39='תנאי סף'!$AD$30,"",'תנאי סף'!D39) | D28: ='נתונים לניקוד'!X39 | E28: =D28 | F28: =IFERROR(E28,0) | G28: =IF($C28="","",(F28/SUM($F$20:$F$79)))
B29: ='תנאי סף'!C40 | C29: =IF('תנאי סף'!Z40='תנאי סף'!$AD$30,"",'תנאי סף'!D40) | D29: ='נתונים לניקוד'!X40 | E29: =D29 | F29: =IFERROR(E29,0) | G29: =IF($C29="","",(F29/SUM($F$20:$F$79)))
B30: ='תנאי סף'!C41 | C30: =IF('תנאי סף'!Z41='תנאי סף'!$AD$30,"",'תנאי סף'!D41) | D30: ='נתונים לניקוד'!X41 | E30: =D30 | F30: =IFERROR(E30,0) | G30: =IF($C30="","",(F30/SUM($F$20:$F$79)))
B31: ='תנאי סף'!C42 | C31: =IF('תנאי סף'!Z42='תנאי סף'!$AD$30,"",'תנאי סף'!D42) | D31: ='נתונים לניקוד'!X42 | E31: =D31 | F31: =IFERROR(E31,0) | G31: =IF($C31="","",(F31/SUM($F$20:$F$79)))
... B79: ='תנאי סף'!C90 | C79: =IF('תנאי סף'!Z90='תנאי סף'!$AD$30,"",'תנאי סף'!D90) | D79: ='נתונים לניקוד'!X90 | E79: =D79 | F79: =IFERROR(E79,0) | G79: =IF($C79="","",(F79/SUM($F$20:$F$79)))

Sheet ספרים בשפות זרות
B2: =MID(CELL("filename",A1),FIND("]",CELL("filename",A1),1)+1,99) -> ספרים בשפות זרות
K4: ='נתונים לניקוד'!V28 -> כן | L4: ='נתונים לניקוד'!W28 -> לא
B18: ='נתונים לניקוד'!C29 -> מספר סידורי | C18: ='נתונים לניקוד'!D29 -> שם המוסד | D18: =B2 -> ספרים בשפות זרות
D19: ='נתונים לניקוד'!AG30 -> האם רוב הספרים בספרייה הם בשפה הערבית? | E19: ='נתונים לניקוד'!I30 -> כמה כותרים מונגשים הופקו או נרכשו בשנת ההערכה בשפה הערבית? | F19: ='נתונים לניקוד'!J30 -> כמה כותרים מונגשים הופקו או נרכשו בשנת ההערכה בשפה זרה נוספת מלבד ערבית? | G19: ניקוד | H19: ניקוד | I19: שיעור יחסי
B20: ='תנאי סף'!C31 -> 1 | C20: =IF('תנאי סף'!Z31='תנאי סף'!$AD$30,"",'תנאי סף'!D31) -> הספריה המרכזית לעיוורים | D20: ='נתונים לניקוד'!AG31 -> לא | E20: ='נתונים לניקוד'!Y31 -> 620 | F20: ='נתונים לניקוד'!Z31 -> 238 | G20: =IF(C20="","",IF(D20=$K$4,F20,E20+F20)) -> 858 | H20: =IFERROR(G20,0) -> 858 | I20: =IF($C20="","",(H20/SUM($H$20:$H$79))) -> 0.80867107
B21: ='תנאי סף'!C32 -> 2 | C21: =IF('תנאי סף'!Z32='תנאי סף'!$AD$30,"",'תנאי סף'!D32) -> מסיל"ה | D21: ='נתונים לניקוד'!AG32 -> לא | E21: ='נתונים לניקוד'!Y32 -> 0 | F21: ='נתונים לניקוד'!Z32 -> 20 | G21: =IF(C21="","",IF(D21=$K$4,F21,E21+F21)) -> 20 | H21: =IFERROR(G21,0) -> 20 | I21: =IF($C21="","",(H21/SUM($H$20:$H$79))) -> 0.018850141
B22: ='תנאי סף'!C33 -> 3 | C22: =IF('תנאי סף'!Z33='תנאי סף'!$AD$30,"",'תנאי סף'!D33) -> עמותת עלה | D22: ='נתונים לניקוד'!AG33 -> לא | E22: ='נתונים לניקוד'!Y33 -> 40 | F22: ='נתונים לניקוד'!Z33 -> 16 | G22: =IF(C22="","",IF(D22=$K$4,F22,E22+F22)) -> 56 | H22: =IFERROR(G22,0) -> 56 | I22: =IF($C22="","",(H22/SUM($H$20:$H$79))) -> 0.052780396
B23: ='תנאי סף'!C34 -> 4 | C23: =IF('תנאי סף'!Z34='תנאי סף'!$AD$30,"",'תנאי סף'!D34) -> עמותת אלמנארה | D23: ='נתונים לניקוד'!AG34 -> כן | E23: ='נתונים לניקוד'!Y34 -> 1501 | F23: ='נתונים לניקוד'!Z34 -> 127 | G23: =IF(C23="","",IF(D23=$K$4,F23,E23+F23)) -> 127 | H23: =IFERROR(G23,0) -> 127 | I23: =IF($C23="","",(H23/SUM($H$20:$H$79))) -> 0.1196984
B24: ='תנאי סף'!C35 | C24: =IF('תנאי סף'!Z35='תנאי סף'!$AD$30,"",'תנאי סף'!D35) | D24: ='נתונים לניקוד'!AG35 | E24: ='נתונים לניקוד'!Y35 | F24: ='נתונים לניקוד'!Z35 | G24: =IF(C24="","",IF(D24=$K$4,F24,E24+F24)) | H24: =IFERROR(G24,0) | I24: =IF($C24="","",(H24/SUM($H$20:$H$79)))
B25: ='תנאי סף'!C36 | C25: =IF('תנאי סף'!Z36='תנאי סף'!$AD$30,"",'תנאי סף'!D36) | D25: ='נתונים לניקוד'!AG36 | E25: ='נתונים לניקוד'!Y36 | F25: ='נתונים לניקוד'!Z36 | G25: =IF(C25="","",IF(D25=$K$4,F25,E25+F25)) | H25: =IFERROR(G25,0) | I25: =IF($C25="","",(H25/SUM($H$20:$H$79)))
B26: ='תנאי סף'!C37 | C26: =IF('תנאי סף'!Z37='תנאי סף'!$AD$30,"",'תנאי סף'!D37) | D26: ='נתונים לניקוד'!AG37 | E26: ='נתונים לניקוד'!Y37 | F26: ='נתונים לניקוד'!Z37 | G26: =IF(C26="","",IF(D26=$K$4,F26,E26+F26)) | H26: =IFERROR(G26,0) | I26: =IF($C26="","",(H26/SUM($H$20:$H$79)))
B27: ='תנאי סף'!C38 | C27: =IF('תנאי סף'!Z38='תנאי סף'!$AD$30,"",'תנאי סף'!D38) | D27: ='נתונים לניקוד'!AG38 | E27: ='נתונים לניקוד'!Y38 | F27: ='נתונים לניקוד'!Z38 | G27: =IF(C27="","",IF(D27=$K$4,F27,E27+F27)) | H27: =IFERROR(G27,0) | I27: =IF($C27="","",(H27/SUM($H$20:$H$79)))
B28: ='תנאי סף'!C39 | C28: =IF('תנאי סף'!Z39='תנאי סף'!$AD$30,"",'תנאי סף'!D39) | D28: ='נתונים לניקוד'!AG39 | E28: ='נתונים לניקוד'!Y39 | F28: ='נתונים לניקוד'!Z39 | G28: =IF(C28="","",IF(D28=$K$4,F28,E28+F28)) | H28: =IFERROR(G28,0) | I28: =IF($C28="","",(H28/SUM($H$20:$H$79)))
B29: ='תנאי סף'!C40 | C29: =IF('תנאי סף'!Z40='תנאי סף'!$AD$30,"",'תנאי סף'!D40) | D29: ='נתונים לניקוד'!AG40 | E29: ='נתונים לניקוד'!Y40 | F29: ='נתונים לניקוד'!Z40 | G29: =IF(C29="","",IF(D29=$K$4,F29,E29+F29)) | H29: =IFERROR(G29,0) | I29: =IF($C29="","",(H29/SUM($H$20:$H$79)))
B30: ='תנאי סף'!C41 | C30: =IF('תנאי סף'!Z41='תנאי סף'!$AD$30,"",'תנאי סף'!D41) | D30: ='נתונים לניקוד'!AG41 | E30: ='נתונים לניקוד'!Y41 | F30: ='נתונים לניקוד'!Z41 | G30: =IF(C30="","",IF(D30=$K$4,F30,E30+F30)) | H30: =IFERROR(G30,0) | I30: =IF($C30="","",(H30/SUM($H$20:$H$79)))
B31: ='תנאי סף'!C42 | C31: =IF('תנאי סף'!Z42='תנאי סף'!$AD$30,"",'תנאי סף'!D42) | D31: ='נתונים לניקוד'!AG42 | E31: ='נתונים לניקוד'!Y42 | F31: ='נתונים לניקוד'!Z42 | G31: =IF(C31="","",IF(D31=$K$4,F31,E31+F31)) | H31: =IFERROR(G31,0) | I31: =IF($C31="","",(H31/SUM($H$20:$H$79)))
... B79: ='תנאי סף'!C90 | C79: =IF('תנאי סף'!Z90='תנאי סף'!$AD$30,"",'תנאי סף'!D90) | D79: ='נתונים לניקוד'!AG90 | E79: ='נתונים לניקוד'!Y90 | F79: ='נתונים לניקוד'!Z90 | G79: =IF(C79="","",IF(D79=$K$4,F79,E79+F79)) | H79: =IFERROR(G79,0) | I79: =IF($C79="","",(H79/SUM($H$20:$H$79)))

Sheet השאלה זמינה
B2: =MID(CELL("filename",A1),FIND("]",CELL("filename",A1),1)+1,99) -> השאלה זמינה
K17: ='נתונים לניקוד'!V28 -> כן | L17: ='נתונים לניקוד'!W28 -> לא
B18: ='נתונים לניקוד'!C29 -> מספר סידורי | C18: ='נתונים לניקוד'!D29 -> שם המוסד | D18: =B2 -> השאלה זמינה | K18: 1 | L18: 0
D19: ='נתונים לניקוד'!AA30 -> עבור לא פחות ממחצית מהספרים המונגשים- האם קיים מנגנון השאלת ספרים על ידי הורדת קבצים מאתר האינטרנט, הפועל בכל שעות היממה? | E19: ='נתונים לניקוד'!AB30 -> הקטלוג, הכולל לא פחות ממחצית הספרים המונגשים, מונגש בשמע בטלפון או באינטרנט? | F19: ='נתונים לניקוד'!AC30 -> האם קיים שירות המאפשר למנויים להזמין, להשאיל ולהאריך השאלות באמצעות האינטרנט או דואר אלקטרוני? | G19: ניקוד | H19: ניקוד | I19: שיעור יחסי
B20: ='תנאי סף'!C31 -> 1 | C20: =IF('תנאי סף'!Z31='תנאי סף'!$AD$30,"",'תנאי סף'!D31) -> הספריה המרכזית לעיוורים | D20: ='נתונים לניקוד'!AA31 -> כן | E20: ='נתונים לניקוד'!AB31 -> כן | F20: ='נתונים לניקוד'!AC31 -> כן | G20: =IF(C20="","",SUM(K20:M20)) -> 3 | H20: =IFERROR(G20,0) -> 3 | I20: =IF($C20="","",(H20/SUM($H$20:$H$79))) -> 0.3 | K20: =IF(D20=$K$17,$K$18,$L$18) -> 1 | L20: =IF(E20=$K$17,$K$18,$L$18) -> 1 | M20: =IF(F20=$K$17,$K$18,$L$18) -> 1
B21: ='תנאי סף'!C32 -> 2 | C21: =IF('תנאי סף'!Z32='תנאי סף'!$AD$30,"",'תנאי סף'!D32) -> מסיל"ה | D21: ='נתונים לניקוד'!AA32 -> לא | E21: ='נתונים לניקוד'!AB32 -> כן | F21: ='נתונים לניקוד'!AC32 -> כן | G21: =IF(C21="","",SUM(K21:M21)) -> 2 | H21: =IFERROR(G21,0) -> 2 | I21: =IF($C21="","",(H21/SUM($H$20:$H$79))) -> 0.2 | K21: =IF(D21=$K$17,$K$18,$L$18) -> 0 | L21: =IF(E21=$K$17,$K$18,$L$18) -> 1 | M21: =IF(F21=$K$17,$K$18,$L$18) -> 1
B22: ='תנאי סף'!C33 -> 3 | C22: =IF('תנאי סף'!Z33='תנאי סף'!$AD$30,"",'תנאי סף'!D33) -> עמותת עלה | D22: ='נתונים לניקוד'!AA33 -> לא | E22: ='נתונים לניקוד'!AB33 -> כן | F22: ='נתונים לניקוד'!AC33 -> כן | G22: =IF(C22="","",SUM(K22:M22)) -> 2 | H22: =IFERROR(G22,0) -> 2 | I22: =IF($C22="","",(H22/SUM($H$20:$H$79))) -> 0.2 | K22: =IF(D22=$K$17,$K$18,$L$18) -> 0 | L22: =IF(E22=$K$17,$K$18,$L$18) -> 1 | M22: =IF(F22=$K$17,$K$18,$L$18) -> 1
B23: ='תנאי סף'!C34 -> 4 | C23: =IF('תנאי סף'!Z34='תנאי סף'!$AD$30,"",'תנאי סף'!D34) -> עמותת אלמנארה | D23: ='נתונים לניקוד'!AA34 -> כן | E23: ='נתונים לניקוד'!AB34 -> כן | F23: ='נתונים לניקוד'!AC34 -> כן | G23: =IF(C23="","",SUM(K23:M23)) -> 3 | H23: =IFERROR(G23,0) -> 3 | I23: =IF($C23="","",(H23/SUM($H$20:$H$79))) -> 0.3 | K23: =IF(D23=$K$17,$K$18,$L$18) -> 1 | L23: =IF(E23=$K$17,$K$18,$L$18) -> 1 | M23: =IF(F23=$K$17,$K$18,$L$18) -> 1
B24: ='תנאי סף'!C35 | C24: =IF('תנאי סף'!Z35='תנאי סף'!$AD$30,"",'תנאי סף'!D35) | D24: ='נתונים לניקוד'!AA35 | E24: ='נתונים לניקוד'!AB35 | F24: ='נתונים לניקוד'!AC35 | G24: =IF(C24="","",SUM(K24:M24)) | H24: =IFERROR(G24,0) | I24: =IF($C24="","",(H24/SUM($H$20:$H$79))) | K24: =IF(D24=$K$17,$K$18,$L$18) -> 0 | L24: =IF(E24=$K$17,$K$18,$L$18) -> 0 | M24: =IF(F24=$K$17,$K$18,$L$18) -> 0
B25: ='תנאי סף'!C36 | C25: =IF('תנאי סף'!Z36='תנאי סף'!$AD$30,"",'תנאי סף'!D36) | D25: ='נתונים לניקוד'!AA36 | E25: ='נתונים לניקוד'!AB36 | F25: ='נתונים לניקוד'!AC36 | G25: =IF(C25="","",SUM(K25:M25)) | H25: =IFERROR(G25,0) | I25: =IF($C25="","",(H25/SUM($H$20:$H$79))) | K25: =IF(D25=$K$17,$K$18,$L$18) -> 0 | L25: =IF(E25=$K$17,$K$18,$L$18) -> 0 | M25: =IF(F25=$K$17,$K$18,$L$18) -> 0
B26: ='תנאי סף'!C37 | C26: =IF('תנאי סף'!Z37='תנאי סף'!$AD$30,"",'תנאי סף'!D37) | D26: ='נתונים לניקוד'!AA37 | E26: ='נתונים לניקוד'!AB37 | F26: ='נתונים לניקוד'!AC37 | G26: =IF(C26="","",SUM(K26:M26)) | H26: =IFERROR(G26,0) | I26: =IF($C26="","",(H26/SUM($H$20:$H$79))) | K26: =IF(D26=$K$17,$K$18,$L$18) -> 0 | L26: =IF(E26=$K$17,$K$18,$L$18) -> 0 | M26: =IF(F26=$K$17,$K$18,$L$18) -> 0
B27: ='תנאי סף'!C38 | C27: =IF('תנאי סף'!Z38='תנאי סף'!$AD$30,"",'תנאי סף'!D38) | D27: ='נתונים לניקוד'!AA38 | E27: ='נתונים לניקוד'!AB38 | F27: ='נתונים לניקוד'!AC38 | G27: =IF(C27="","",SUM(K27:M27)) | H27: =IFERROR(G27,0) | I27: =IF($C27="","",(H27/SUM($H$20:$H$79))) | K27: =IF(D27=$K$17,$K$18,$L$18) -> 0 | L27: =IF(E27=$K$17,$K$18,$L$18) -> 0 | M27: =IF(F27=$K$17,$K$18,$L$18) -> 0
B28: ='תנאי סף'!C39 | C28: =IF('תנאי סף'!Z39='תנאי סף'!$AD$30,"",'תנאי סף'!D39) | D28: ='נתונים לניקוד'!AA39 | E28: ='נתונים לניקוד'!AB39 | F28: ='נתונים לניקוד'!AC39 | G28: =IF(C28="","",SUM(K28:M28)) | H28: =IFERROR(G28,0) | I28: =IF($C28="","",(H28/SUM($H$20:$H$79))) | K28: =IF(D28=$K$17,$K$18,$L$18) -> 0 | L28: =IF(E28=$K$17,$K$18,$L$18) -> 0 | M28: =IF(F28=$K$17,$K$18,$L$18) -> 0
B29: ='תנאי סף'!C40 | C29: =IF('תנאי סף'!Z40='תנאי סף'!$AD$30,"",'תנאי סף'!D40) | D29: ='נתונים לניקוד'!AA40 | E29: ='נתונים לניקוד'!AB40 | F29: ='נתונים לניקוד'!AC40 | G29: =IF(C29="","",SUM(K29:M29)) | H29: =IFERROR(G29,0) | I29: =IF($C29="","",(H29/SUM($H$20:$H$79))) | K29: =IF(D29=$K$17,$K$18,$L$18) -> 0 | L29: =IF(E29=$K$17,$K$18,$L$18) -> 0 | M29: =IF(F29=$K$17,$K$18,$L$18) -> 0
B30: ='תנאי סף'!C41 | C30: =IF('תנאי סף'!Z41='תנאי סף'!$AD$30,"",'תנאי סף'!D41) | D30: ='נתונים לניקוד'!AA41 | E30: ='נתונים לניקוד'!AB41 | F30: ='נתונים לניקוד'!AC41 | G30: =IF(C30="","",SUM(K30:M30)) | H30: =IFERROR(G30,0) | I30: =IF($C30="","",(H30/SUM($H$20:$H$79))) | K30: =IF(D30=$K$17,$K$18,$L$18) -> 0 | L30: =IF(E30=$K$17,$K$18,$L$18) -> 0 | M30: =IF(F30=$K$17,$K$18,$L$18) -> 0
B31: ='תנאי סף'!C42 | C31: =IF('תנאי סף'!Z42='תנאי סף'!$AD$30,"",'תנאי סף'!D42) | D31: ='נתונים לניקוד'!AA42 | E31: ='נתונים לניקוד'!AB42 | F31: ='נתונים לניקוד'!AC42 | G31: =IF(C31="","",SUM(K31:M31)) | H31: =IFERROR(G31,0) | I31: =IF($C31="","",(H31/SUM($H$20:$H$79))) | K31: =IF(D31=$K$17,$K$18,$L$18) -> 0 | L31: =IF(E31=$K$17,$K$18,$L$18) -> 0 | M31: =IF(F31=$K$17,$K$18,$L$18) -> 0
... B79: ='תנאי סף'!C90 | C79: =IF('תנאי סף'!Z90='תנאי סף'!$AD$30,"",'תנאי סף'!D90) | D79: ='נתונים לניקוד'!AA90 | E79: ='נתונים לניקוד'!AB90 | F79: ='נתונים לניקוד'!AC90 | G79: =IF(C79="","",SUM(K79:M79)) | H79: =IFERROR(G79,0) | I79: =IF($C79="","",(H79/SUM($H$20:$H$79))) | K79: =IF(D79=$K$17,$K$18,$L$18) -> 0 | L79: =IF(E79=$K$17,$K$18,$L$18) -> 0 | M79: =IF(F79=$K$17,$K$18,$L$18) -> 0

Sheet אמצעי הנגשה
B2: =MID(CELL("filename",A1),FIND("]",CELL("filename",A1),1)+1,99) -> אמצעי הנגשה
L17: ='נתונים לניקוד'!V28 -> כן | M17: ='נתונים לניקוד'!W28 -> לא
B18: ='נתונים לניקוד'!C29 -> מספר סידורי | C18: ='נתונים לניקוד'!D29 -> שם המוסד | D18: =B2 -> אמצעי הנגשה | L18: 1 | M18: 0
D19: ='נתונים לניקוד'!AD30 -> כמה מתוך הכותרים שהספרייה הנגישה בשנת ההערכה הם בכתב ברייל? | E19: ='נתונים לניקוד'!AE30 -> כמה מתוך הכותרים שהספרייה הנגישה בשנת ההערכה הם בשמע? | F19: ='נתונים לניקוד'!AF30 -> כמה מתוך הכותרים שהספרייה הנגישה בשנת ההערכה הם באות מוגדלת? | G19: אחוז הכותרים בעלי אמצעי הנגשה מתוך סך הכותרים שהופקו | H19: ניקוד | I19: ניקוד | J19: שיעור יחסי
B20: ='תנאי סף'!C31 -> 1 | C20: =IF('תנאי סף'!Z31='תנאי סף'!$AD$30,"",'תנאי סף'!D31) -> הספריה המרכזית לעיוורים | D20: ='נתונים לניקוד'!AD31 -> 715 | E20: ='נתונים לניקוד'!AE31 -> 1506 | F20: ='נתונים לניקוד'!AF31 -> 645 | G20: =IF(C20="","",SUM(D20:F20)/'נתונים לניקוד'!U31) -> 0.79589003 | H20: =IF(C20="","",IF(AND(SUM(L20:N20)=3,SUM(O20:Q20)=3),1,0)) -> 1 | I20: =IFERROR(H20,0) -> 1 | J20: =IF($C20="","",(I20/SUM($I$20:$I$79))) -> 0.33333333 | L20: =IF(AND(D20<>"",D20>0),$L$18,$M$18) -> 1 | M20: =IF(AND(E20<>"",E20>0),$L$18,$M$18) -> 1 | N20: =IF(AND(F20<>"",F20>0),$L$18,$M$18) -> 1 | O20: =IF($C20="","",IF(D20/'נתונים לניקוד'!$U31>=15%,1,0)) -> 1 | P20: =IF($C20="","",IF(E20/'נתונים לניקוד'!$U31>=15%,1,0)) -> 1 | Q20: =IF($C20="","",IF(F20/'נתונים לניקוד'!$U31>=15%,1,0)) -> 1
B21: ='תנאי סף'!C32 -> 2 | C21: =IF('תנאי סף'!Z32='תנאי סף'!$AD$30,"",'תנאי סף'!D32) -> מסיל"ה | D21: ='נתונים לניקוד'!AD32 -> 144 | E21: ='נתונים לניקוד'!AE32 -> 0 | F21: ='נתונים לניקוד'!AF32 -> 126 | G21: =IF(C21="","",SUM(D21:F21)/'נתונים לניקוד'!U32) -> 1 | H21: =IF(C21="","",IF(AND(SUM(L21:N21)=3,SUM(O21:Q21)=3),1,0)) -> 0 | I21: =IFERROR(H21,0) -> 0 | J21: =IF($C21="","",(I21/SUM($I$20:$I$79))) -> 0 | L21: =IF(AND(D21<>"",D21>0),$L$18,$M$18) -> 1 | M21: =IF(AND(E21<>"",E21>0),$L$18,$M$18) -> 0 | N21: =IF(AND(F21<>"",F21>0),$L$18,$M$18) -> 1 | O21: =IF($C21="","",IF(D21/'נתונים לניקוד'!$U32>=15%,1,0)) -> 1 | P21: =IF($C21="","",IF(E21/'נתונים לניקוד'!$U32>=15%,1,0)) -> 0 | Q21: =IF($C21="","",IF(F21/'נתונים לניקוד'!$U32>=15%,1,0)) -> 1
B22: ='תנאי סף'!C33 -> 3 | C22: =IF('תנאי סף'!Z33='תנאי סף'!$AD$30,"",'תנאי סף'!D33) -> עמותת עלה | D22: ='נתונים לניקוד'!AD33 -> 55 | E22: ='נתונים לניקוד'!AE33 -> 45 | F22: ='נתונים לניקוד'!AF33 -> 55 | G22: =IF(C22="","",SUM(D22:F22)/'נתונים לניקוד'!U33) -> 1 | H22: =IF(C22="","",IF(AND(SUM(L22:N22)=3,SUM(O22:Q22)=3),1,0)) -> 1 | I22: =IFERROR(H22,0) -> 1 | J22: =IF($C22="","",(I22/SUM($I$20:$I$79))) -> 0.33333333 | L22: =IF(AND(D22<>"",D22>0),$L$18,$M$18) -> 1 | M22: =IF(AND(E22<>"",E22>0),$L$18,$M$18) -> 1 | N22: =IF(AND(F22<>"",F22>0),$L$18,$M$18) -> 1 | O22: =IF($C22="","",IF(D22/'נתונים לניקוד'!$U33>=15%,1,0)) -> 1 | P22: =IF($C22="","",IF(E22/'נתונים לניקוד'!$U33>=15%,1,0)) -> 1 | Q22: =IF($C22="","",IF(F22/'נתונים לניקוד'!$U33>=15%,1,0)) -> 1
B23: ='תנאי סף'!C34 -> 4 | C23: =IF('תנאי סף'!Z34='תנאי סף'!$AD$30,"",'תנאי סף'!D34) -> עמותת אלמנארה | D23: ='נתונים לניקוד'!AD34 -> 619 | E23: ='נתונים לניקוד'!AE34 -> 390 | F23: ='נתונים לניקוד'!AF34 -> 619 | G23: =IF(C23="","",SUM(D23:F23)/'נתונים לניקוד'!U34) -> 1 | H23: =IF(C23="","",IF(AND(SUM(L23:N23)=3,SUM(O23:Q23)=3),1,0)) -> 1 | I23: =IFERROR(H23,0) -> 1 | J23: =IF($C23="","",(I23/SUM($I$20:$I$79))) -> 0.33333333 | L23: =IF(AND(D23<>"",D23>0),$L$18,$M$18) -> 1 | M23: =IF(AND(E23<>"",E23>0),$L$18,$M$18) -> 1 | N23: =IF(AND(F23<>"",F23>0),$L$18,$M$18) -> 1 | O23: =IF($C23="","",IF(D23/'נתונים לניקוד'!$U34>=15%,1,0)) -> 1 | P23: =IF($C23="","",IF(E23/'נתונים לניקוד'!$U34>=15%,1,0)) -> 1 | Q23: =IF($C23="","",IF(F23/'נתונים לניקוד'!$U34>=15%,1,0)) -> 1
B24: ='תנאי סף'!C35 | C24: =IF('תנאי סף'!Z35='תנאי סף'!$AD$30,"",'תנאי סף'!D35) | D24: ='נתונים לניקוד'!AD35 | E24: ='נתונים לניקוד'!AE35 | F24: ='נתונים לניקוד'!AF35 | G24: =IF(C24="","",SUM(D24:F24)/'נתונים לניקוד'!U35) | H24: =IF(C24="","",IF(AND(SUM(L24:N24)=3,SUM(O24:Q24)=3),1,0)) | I24: =IFERROR(H24,0) | J24: =IF($C24="","",(I24/SUM($I$20:$I$79))) | L24: =IF(AND(D24<>"",D24>0),$L$18,$M$18) -> 0 | M24: =IF(AND(E24<>"",E24>0),$L$18,$M$18) -> 0 | N24: =IF(AND(F24<>"",F24>0),$L$18,$M$18) -> 0 | O24: =IF($C24="","",IF(D24/'נתונים לניקוד'!$U35>=15%,1,0)) | P24: =IF($C24="","",IF(E24/'נתונים לניקוד'!$U35>=15%,1,0)) | Q24: =IF($C24="","",IF(F24/'נתונים לניקוד'!$U35>=15%,1,0))
B25: ='תנאי סף'!C36 | C25: =IF('תנאי סף'!Z36='תנאי סף'!$AD$30,"",'תנאי סף'!D36) | D25: ='נתונים לניקוד'!AD36 | E25: ='נתונים לניקוד'!AE36 | F25: ='נתונים לניקוד'!AF36 | G25: =IF(C25="","",SUM(D25:F25)/'נתונים לניקוד'!U36) | H25: =IF(C25="","",IF(AND(SUM(L25:N25)=3,SUM(O25:Q25)=3),1,0)) | I25: =IFERROR(H25,0) | J25: =IF($C25="","",(I25/SUM($I$20:$I$79))) | L25: =IF(AND(D25<>"",D25>0),$L$18,$M$18) -> 0 | M25: =IF(AND(E25<>"",E25>0),$L$18,$M$18) -> 0 | N25: =IF(AND(F25<>"",F25>0),$L$18,$M$18) -> 0 | O25: =IF($C25="","",IF(D25/'נתונים לניקוד'!$U36>=15%,1,0)) | P25: =IF($C25="","",IF(E25/'נתונים לניקוד'!$U36>=15%,1,0)) | Q25: =IF($C25="","",IF(F25/'נתונים לניקוד'!$U36>=15%,1,0))
B26: ='תנאי סף'!C37 | C26: =IF('תנאי סף'!Z37='תנאי סף'!$AD$30,"",'תנאי סף'!D37) | D26: ='נתונים לניקוד'!AD37 | E26: ='נתונים לניקוד'!AE37 | F26: ='נתונים לניקוד'!AF37 | G26: =IF(C26="","",SUM(D26:F26)/'נתונים לניקוד'!U37) | H26: =IF(C26="","",IF(AND(SUM(L26:N26)=3,SUM(O26:Q26)=3),1,0)) | I26: =IFERROR(H26,0) | J26: =IF($C26="","",(I26/SUM($I$20:$I$79))) | L26: =IF(AND(D26<>"",D26>0),$L$18,$M$18) -> 0 | M26: =IF(AND(E26<>"",E26>0),$L$18,$M$18) -> 0 | N26: =IF(AND(F26<>"",F26>0),$L$18,$M$18) -> 0 | O26: =IF($C26="","",IF(D26/'נתונים לניקוד'!$U37>=15%,1,0)) | P26: =IF($C26="","",IF(E26/'נתונים לניקוד'!$U37>=15%,1,0)) | Q26: =IF($C26="","",IF(F26/'נתונים לניקוד'!$U37>=15%,1,0))
B27: ='תנאי סף'!C38 | C27: =IF('תנאי סף'!Z38='תנאי סף'!$AD$30,"",'תנאי סף'!D38) | D27: ='נתונים לניקוד'!AD38 | E27: ='נתונים לניקוד'!AE38 | F27: ='נתונים לניקוד'!AF38 | G27: =IF(C27="","",SUM(D27:F27)/'נתונים לניקוד'!U38) | H27: =IF(C27="","",IF(AND(SUM(L27:N27)=3,SUM(O27:Q27)=3),1,0)) | I27: =IFERROR(H27,0) | J27: =IF($C27="","",(I27/SUM($I$20:$I$79))) | L27: =IF(AND(D27<>"",D27>0),$L$18,$M$18) -> 0 | M27: =IF(AND(E27<>"",E27>0),$L$18,$M$18) -> 0 | N27: =IF(AND(F27<>"",F27>0),$L$18,$M$18) -> 0 | O27: =IF($C27="","",IF(D27/'נתונים לניקוד'!$U38>=15%,1,0)) | P27: =IF($C27="","",IF(E27/'נתונים לניקוד'!$U38>=15%,1,0)) | Q27: =IF($C27="","",IF(F27/'נתונים לניקוד'!$U38>=15%,1,0))
B28: ='תנאי סף'!C39 | C28: =IF('תנאי סף'!Z39='תנאי סף'!$AD$30,"",'תנאי סף'!D39) | D28: ='נתונים לניקוד'!AD39 | E28: ='נתונים לניקוד'!AE39 | F28: ='נתונים לניקוד'!AF39 | G28: =IF(C28="","",SUM(D28:F28)/'נתונים לניקוד'!U39) | H28: =IF(C28="","",IF(AND(SUM(L28:N28)=3,SUM(O28:Q28)=3),1,0)) | I28: =IFERROR(H28,0) | J28: =IF($C28="","",(I28/SUM($I$20:$I$79))) | L28: =IF(AND(D28<>"",D28>0),$L$18,$M$18) -> 0 | M28: =IF(AND(E28<>"",E28>0),$L$18,$M$18) -> 0 | N28: =IF(AND(F28<>"",F28>0),$L$18,$M$18) -> 0 | O28: =IF($C28="","",IF(D28/'נתונים לניקוד'!$U39>=15%,1,0)) | P28: =IF($C28="","",IF(E28/'נתונים לניקוד'!$U39>=15%,1,0)) | Q28: =IF($C28="","",IF(F28/'נתונים לניקוד'!$U39>=15%,1,0))
B29: ='תנאי סף'!C40 | C29: =IF('תנאי סף'!Z40='תנאי סף'!$AD$30,"",'תנאי סף'!D40) | D29: ='נתונים לניקוד'!AD40 | E29: ='נתונים לניקוד'!AE40 | F29: ='נתונים לניקוד'!AF40 | G29: =IF(C29="","",SUM(D29:F29)/'נתונים לניקוד'!U40) | H29: =IF(C29="","",IF(AND(SUM(L29:N29)=3,SUM(O29:Q29)=3),1,0)) | I29: =IFERROR(H29,0) | J29: =IF($C29="","",(I29/SUM($I$20:$I$79))) | L29: =IF(AND(D29<>"",D29>0),$L$18,$M$18) -> 0 | M29: =IF(AND(E29<>"",E29>0),$L$18,$M$18) -> 0 | N29: =IF(AND(F29<>"",F29>0),$L$18,$M$18) -> 0 | O29: =IF($C29="","",IF(D29/'נתונים לניקוד'!$U40>=15%,1,0)) | P29: =IF($C29="","",IF(E29/'נתונים לניקוד'!$U40>=15%,1,0)) | Q29: =IF($C29="","",IF(F29/'נתונים לניקוד'!$U40>=15%,1,0))
B30: ='תנאי סף'!C41 | C30: =IF('תנאי סף'!Z41='תנאי סף'!$AD$30,"",'תנאי סף'!D41) | D30: ='נתונים לניקוד'!AD41 | E30: ='נתונים לניקוד'!AE41 | F30: ='נתונים לניקוד'!AF41 | G30: =IF(C30="","",SUM(D30:F30)/'נתונים לניקוד'!U41) | H30: =IF(C30="","",IF(AND(SUM(L30:N30)=3,SUM(O30:Q30)=3),1,0)) | I30: =IFERROR(H30,0) | J30: =IF($C30="","",(I30/SUM($I$20:$I$79))) | L30: =IF(AND(D30<>"",D30>0),$L$18,$M$18) -> 0 | M30: =IF(AND(E30<>"",E30>0),$L$18,$M$18) -> 0 | N30: =IF(AND(F30<>"",F30>0),$L$18,$M$18) -> 0 | O30: =IF($C30="","",IF(D30/'נתונים לניקוד'!$U41>=15%,1,0)) | P30: =IF($C30="","",IF(E30/'נתונים לניקוד'!$U41>=15%,1,0)) | Q30: =IF($C30="","",IF(F30/'נתונים לניקוד'!$U41>=15%,1,0))
B31: ='תנאי סף'!C42 | C31: =IF('תנאי סף'!Z42='תנאי סף'!$AD$30,"",'תנאי סף'!D42) | D31: ='נתונים לניקוד'!AD42 | E31: ='נתונים לניקוד'!AE42 | F31: ='נתונים לניקוד'!AF42 | G31: =IF(C31="","",SUM(D31:F31)/'נתונים לניקוד'!U42) | H31: =IF(C31="","",IF(AND(SUM(L31:N31)=3,SUM(O31:Q31)=3),1,0)) | I31: =IFERROR(H31,0) | J31: =IF($C31="","",(I31/SUM($I$20:$I$79))) | L31: =IF(AND(D31<>"",D31>0),$L$18,$M$18) -> 0 | M31: =IF(AND(E31<>"",E31>0),$L$18,$M$18) -> 0 | N31: =IF(AND(F31<>"",F31>0),$L$18,$M$18) -> 0 | O31: =IF($C31="","",IF(D31/'נתונים לניקוד'!$U42>=15%,1,0)) | P31: =IF($C31="","",IF(E31/'נתונים לניקוד'!$U42>=15%,1,0)) | Q31: =IF($C31="","",IF(F31/'נתונים לניקוד'!$U42>=15%,1,0))
... B79: ='תנאי סף'!C90 | C79: =IF('תנאי סף'!Z90='תנאי סף'!$AD$30,"",'תנאי סף'!D90) | D79: ='נתונים לניקוד'!AD90 | E79: ='נתונים לניקוד'!AE90 | F79: ='נתונים לניקוד'!AF90 | G79: =IF(C79="","",SUM(D79:F79)/'נתונים לניקוד'!U90) | H79: =IF(C79="","",IF(AND(SUM(L79:N79)=3,SUM(O79:Q79)=3),1,0)) | I79: =IFERROR(H79,0) | J79: =IF($C79="","",(I79/SUM($I$20:$I$79))) | L79: =IF(AND(D79<>"",D79>0),$L$18,$M$18) -> 0 | M79: =IF(AND(E79<>"",E79>0),$L$18,$M$18) -> 0 | N79: =IF(AND(F79<>"",F79>0),$L$18,$M$18) -> 0 | O79: =IF($C79="","",IF(D79/'נתונים לניקוד'!$U90>=15%,1,0)) | P79: =IF($C79="","",IF(E79/'נתונים לניקוד'!$U90>=15%,1,0)) | Q79: =IF($C79="","",IF(F79/'נתונים לניקוד'!$U90>=15%,1,0))

Sheet תחשיב בסיסי
B2: =פרמטרים!B9 -> שנת תקציב | C2: =פרמטרים!C9 -> 2025
B3: =פרמטרים!B10 -> גובה תמיכה | C3: =פרמטרים!C10 -> 6500000
B14: =MID(CELL("filename",C13),FIND("]",CELL("filename",C13),1)+1,99) -> תחשיב בסיסי
B15: ='אמצעי הנגשה'!B18 -> מספר סידורי | C15: ='אמצעי הנגשה'!C18 -> שם המוסד | D15: {=TRANSPOSE(פרמטרים!B32:B38)} -> מספר ספרים מונגשים שהופקו בשנת ההערכה | E15: מספר מנויים פעילים | F15: מספר השאלות | G15: מספר ספרים מונגשים במלאי | H15: מספר ספרים בשפות נוספות | I15: השאלה זמינה | J15: ריבוי אמצעי הנגשה | K15: שיעור יחסי ראשוני | L15: שיעור יחסי- נתוני עזר | M15: שיעור יחסי מתוקנן | N15: גובה התמיכה
D16: {=TRANSPOSE(פרמטרים!C32:C38)} -> 0.15 | E16: 0.2 | F16: 0.35 | G16: 0.15 | H16: 0.05 | I16: 0.05 | J16: 0.05
B17: ='אמצעי הנגשה'!B20 -> 1 | C17: ='אמצעי הנגשה'!C20 -> הספריה המרכזית לעיוורים | D17: ='מספר ספרים חדשים'!G20 -> 0.63689423 | E17: ='מספר מנויים פעילים'!G20 -> 0.76222779 | F17: ='מספר השאלות'!G20 -> 0.9668179 | G17: ='מספר ספרים מונגשים במלאי'!G20 -> 0.61130027 | H17: ='ספרים בשפות זרות'!I20 -> 0.80867107 | I17: ='השאלה זמינה'!I20 -> 0.3 | J17: ='אמצעי הנגשה'!J20 -> 0.33333333 | K17: =IF(C17="","",SUMPRODUCT($D$16:$J$16,D17:J17)) -> 0.75016122 | L17: =IFERROR(K17,0) -> 0.75016122 | M17: =IF(C17="","",L17/SUM(L$17:L$76)) -> 0.75016122 | N17: =IFERROR(M17*$C$3,"") -> 4876047.9 | O17: =ISERROR(SUM(D17:H17)) -> FALSE
B18: ='אמצעי הנגשה'!B21 -> 2 | C18: ='אמצעי הנגשה'!C21 -> מסיל"ה | D18: ='מספר ספרים חדשים'!G21 -> 0.047753803 | E18: ='מספר מנויים פעילים'!G21 -> 0.022513887 | F18: ='מספר השאלות'!G21 -> 0.003596195 | G18: ='מספר ספרים מונגשים במלאי'!G21 -> 0.093508415 | H18: ='ספרים בשפות זרות'!I21 -> 0.018850141 | I18: ='השאלה זמינה'!I21 -> 0.2 | J18: ='אמצעי הנגשה'!J21 -> 0 | K18: =IF(C18="","",SUMPRODUCT($D$16:$J$16,D18:J18)) -> 0.037893285 | L18: =IFERROR(K18,0) -> 0.037893285 | M18: =IF(C18="","",L18/SUM(L$17:L$76)) -> 0.037893285 | N18: =IFERROR(M18*$C$3,"") -> 246306.35 | O18: =ISERROR(SUM(D18:H18)) -> FALSE
B19: ='אמצעי הנגשה'!B22 -> 3 | C19: ='אמצעי הנגשה'!C22 -> עמותת עלה | D19: ='מספר ספרים חדשים'!G22 -> 0.02741422 | E19: ='מספר מנויים פעילים'!G22 -> 0.14987957 | F19: ='מספר השאלות'!G22 -> 0.0038206886 | G19: ='מספר ספרים מונגשים במלאי'!G22 -> 0.091275711 | H19: ='ספרים בשפות זרות'!I22 -> 0.052780396 | I19: ='השאלה זמינה'!I22 -> 0.2 | J19: ='אמצעי הנגשה'!J22 -> 0.33333333 | K19: =IF(C19="","",SUMPRODUCT($D$16:$J$16,D19:J19)) -> 0.07842233 | L19: =IFERROR(K19,0) -> 0.07842233 | M19: =IF(C19="","",L19/SUM(L$17:L$76)) -> 0.07842233 | N19: =IFERROR(M19*$C$3,"") -> 509745.15 | O19: =ISERROR(SUM(D19:H19)) -> FALSE
B20: ='אמצעי הנגשה'!B23 -> 4 | C20: ='אמצעי הנגשה'!C23 -> עמותת אלמנארה | D20: ='מספר ספרים חדשים'!G23 -> 0.28793774 | E20: ='מספר מנויים פעילים'!G23 -> 0.065378754 | F20: ='מספר השאלות'!G23 -> 0.025765212 | G20: ='מספר ספרים מונגשים במלאי'!G23 -> 0.2039156 | H20: ='ספרים בשפות זרות'!I23 -> 0.1196984 | I20: ='השאלה זמינה'!I23 -> 0.3 | J20: ='אמצעי הנגשה'!J23 -> 0.33333333 | K20: =IF(C20="","",SUMPRODUCT($D$16:$J$16,D20:J20)) -> 0.13352316 | L20: =IFERROR(K20,0) -> 0.13352316 | M20: =IF(C20="","",L20/SUM(L$17:L$76)) -> 0.13352316 | N20: =IFERROR(M20*$C$3,"") -> 867900.56 | O20: =ISERROR(SUM(D20:H20)) -> FALSE
B21: ='אמצעי הנגשה'!B24 | C21: ='אמצעי הנגשה'!C24 | D21: ='מספר ספרים חדשים'!G24 | E21: ='מספר מנויים פעילים'!G24 | F21: ='מספר השאלות'!G24 | G21: ='מספר ספרים מונגשים במלאי'!G24 | H21: ='ספרים בשפות זרות'!I24 | I21: ='השאלה זמינה'!I24 | J21: ='אמצעי הנגשה'!J24 | K21: =IF(C21="","",SUMPRODUCT($D$16:$J$16,D21:J21)) | L21: =IFERROR(K21,0) | M21: =IF(C21="","",L21/SUM(L$17:L$76)) | N21: =IFERROR(M21*$C$3,"") | O21: =ISERROR(SUM(D21:H21)) -> FALSE
B22: ='אמצעי הנגשה'!B25 | C22: ='אמצעי הנגשה'!C25 | D22: ='מספר ספרים חדשים'!G25 | E22: ='מספר מנויים פעילים'!G25 | F22: ='מספר השאלות'!G25 | G22: ='מספר ספרים מונגשים במלאי'!G25 | H22: ='ספרים בשפות זרות'!I25 | I22: ='השאלה זמינה'!I25 | J22: ='אמצעי הנגשה'!J25 | K22: =IF(C22="","",SUMPRODUCT($D$16:$J$16,D22:J22)) | L22: =IFERROR(K22,0) | M22: =IF(C22="","",L22/SUM(L$17:L$76)) | N22: =IFERROR(M22*$C$3,"") | O22: =ISERROR(SUM(D22:H22)) -> FALSE
B23: ='אמצעי הנגשה'!B26 | C23: ='אמצעי הנגשה'!C26 | D23: ='מספר ספרים חדשים'!G26 | E23: ='מספר מנויים פעילים'!G26 | F23: ='מספר השאלות'!G26 | G23: ='מספר ספרים מונגשים במלאי'!G26 | H23: ='ספרים בשפות זרות'!I26 | I23: ='השאלה זמינה'!I26 | J23: ='אמצעי הנגשה'!J26 | K23: =IF(C23="","",SUMPRODUCT($D$16:$J$16,D23:J23)) | L23: =IFERROR(K23,0) | M23: =IF(C23="","",L23/SUM(L$17:L$76)) | N23: =IFERROR(M23*$C$3,"") | O23: =ISERROR(SUM(D23:H23)) -> FALSE
B24: ='אמצעי הנגשה'!B27 | C24: ='אמצעי הנגשה'!C27 | D24: ='מספר ספרים חדשים'!G27 | E24: ='מספר מנויים פעילים'!G27 | F24: ='מספר השאלות'!G27 | G24: ='מספר ספרים מונגשים במלאי'!G27 | H24: ='ספרים בשפות זרות'!I27 | I24: ='השאלה זמינה'!I27 | J24: ='אמצעי הנגשה'!J27 | K24: =IF(C24="","",SUMPRODUCT($D$16:$J$16,D24:J24)) | L24: =IFERROR(K24,0) | M24: =IF(C24="","",L24/SUM(L$17:L$76)) | N24: =IFERROR(M24*$C$3,"") | O24: =ISERROR(SUM(D24:H24)) -> FALSE
B25: ='אמצעי הנגשה'!B28 | C25: ='אמצעי הנגשה'!C28 | D25: ='מספר ספרים חדשים'!G28 | E25: ='מספר מנויים פעילים'!G28 | F25: ='מספר השאלות'!G28 | G25: ='מספר ספרים מונגשים במלאי'!G28 | H25: ='ספרים בשפות זרות'!I28 | I25: ='השאלה זמינה'!I28 | J25: ='אמצעי הנגשה'!J28 | K25: =IF(C25="","",SUMPRODUCT($D$16:$J$16,D25:J25)) | L25: =IFERROR(K25,0) | M25: =IF(C25="","",L25/SUM(L$17:L$76)) | N25: =IFERROR(M25*$C$3,"") | O25: =ISERROR(SUM(D25:H25)) -> FALSE
B26: ='אמצעי הנגשה'!B29 | C26: ='אמצעי הנגשה'!C29 | D26: ='מספר ספרים חדשים'!G29 | E26: ='מספר מנויים פעילים'!G29 | F26: ='מספר השאלות'!G29 | G26: ='מספר ספרים מונגשים במלאי'!G29 | H26: ='ספרים בשפות זרות'!I29 | I26: ='השאלה זמינה'!I29 | J26: ='אמצעי הנגשה'!J29 | K26: =IF(C26="","",SUMPRODUCT($D$16:$J$16,D26:J26)) | L26: =IFERROR(K26,0) | M26: =IF(C26="","",L26/SUM(L$17:L$76)) | N26: =IFERROR(M26*$C$3,"") | O26: =ISERROR(SUM(D26:H26)) -> FALSE
B27: ='אמצעי הנגשה'!B30 | C27: ='אמצעי הנגשה'!C30 | D27: ='מספר ספרים חדשים'!G30 | E27: ='מספר מנויים פעילים'!G30 | F27: ='מספר השאלות'!G30 | G27: ='מספר ספרים מונגשים במלאי'!G30 | H27: ='ספרים בשפות זרות'!I30 | I27: ='השאלה זמינה'!I30 | J27: ='אמצעי הנגשה'!J30 | K27: =IF(C27="","",SUMPRODUCT($D$16:$J$16,D27:J27)) | L27: =IFERROR(K27,0) | M27: =IF(C27="","",L27/SUM(L$17:L$76)) | N27: =IFERROR(M27*$C$3,"") | O27: =ISERROR(SUM(D27:H27)) -> FALSE
B28: ='אמצעי הנגשה'!B31 | C28: ='אמצעי הנגשה'!C31 | D28: ='מספר ספרים חדשים'!G31 | E28: ='מספר מנויים פעילים'!G31 | F28: ='מספר השאלות'!G31 | G28: ='מספר ספרים מונגשים במלאי'!G31 | H28: ='ספרים בשפות זרות'!I31 | I28: ='השאלה זמינה'!I31 | J28: ='אמצעי הנגשה'!J31 | K28: =IF(C28="","",SUMPRODUCT($D$16:$J$16,D28:J28)) | L28: =IFERROR(K28,0) | M28: =IF(C28="","",L28/SUM(L$17:L$76)) | N28: =IFERROR(M28*$C$3,"") | O28: =ISERROR(SUM(D28:H28)) -> FALSE
... B76: ='אמצעי הנגשה'!B79 | C76: ='אמצעי הנגשה'!C79 | D76: ='מספר ספרים חדשים'!G79 | E76: ='מספר מנויים פעילים'!G79 | F76: ='מספר השאלות'!G79 | G76: ='מספר ספרים מונגשים במלאי'!G79 | H76: ='ספרים בשפות זרות'!I79 | I76: ='השאלה זמינה'!I79 | J76: ='אמצעי הנגשה'!J79 | K76: =IF(C76="","",SUMPRODUCT($D$16:$J$16,D76:J76)) | L76: =IFERROR(K76,0) | M76: =IF(C76="","",L76/SUM(L$17:L$76)) | N76: =IFERROR(M76*$C$3,"") | O76: =ISERROR(SUM(D76:H76)) -> FALSE

Sheet הגבלה לסכום מבוקש
B2: =פרמטרים!B9 -> שנת תקציב | C2: =פרמטרים!C9 -> 2025
B3: =פרמטרים!B10 -> גובה תמיכה | C3: =פרמטרים!C10 -> 6500000
B15: מספר סידורי | C15: שם המוסד | D15: הגבלה לסכום מבוקש
D16: גובה התמיכה המבוקש | E16: גובה תמיכה בתחשיב הבסיסי | F16: האם קיימת הגבלה ראשונית? | G16: תמיכה מקסימאלית | H16: תמיכה ראשונית | I16: נתון עזר 2 | J16: תמיכה מקסימאלית 2 | K16: תמיכה 2 | L16: נתון עזר 3 | M16: תמיכה מקסימאלית 3 | N16: תמיכה 3 | O16: נתון עזר 4 | P16: תמיכה מקסימאלית 4 | Q16: תמיכה 4 | R16: נתון עזר 5 | S16: תמיכה מקסימאלית 5 | T16: תמיכה 5 | U16: תמיכה לאחר הגבלה לסכום מבוקש | V16: שיעור תמיכה
B17: ='תחשיב בסיסי'!B17 -> 1 | C17: ='תחשיב בסיסי'!C17 -> הספריה המרכזית לעיוורים | D17: 5000000 | E17: =IF(D17="","",'תחשיב בסיסי'!N17) -> 4876047.9 | F17: =IF(C17="","",IF(E17>$D17,1,0)) -> 0 | G17: =IF($C17="","",MIN(D17:E17)) -> 4876047.9 | H17: =IF($C17="","",IF(F17=1,G17,G17/SUMIF(F$17:F$76,0,G$17:G$76)*($C$3-SUMIF(F$17:F$76,1,G$17:G$76)))) -> 4876047.9 | I17: =IF(OR(H17>$D17,$F17=1),1,0) -> 0 | J17: =IF($C17="","",MIN(H17,$D17)) -> 4876047.9 | K17: =IF($C17="","",IF(I17=1,J17,J17/SUMIF(I$17:I$76,0,J$17:J$76)*($C$3-SUMIF(I$17:I$76,1,J$17:J$76)))) -> 4876047.9 | L17: =IF(OR(K17>$D17,$F17=1,$I17=1),1,0) -> 0 | M17: =IF($C17="","",MIN(K17,$D17)) -> 4876047.9 | N17: =IF($C17="","",IF(L17=1,M17,M17/SUMIF(L$17:L$76,0,M$17:M$76)*($C$3-SUMIF(L$17:L$76,1,M$17:M$76)))) -> 4876047.9 | O17: =IF(OR(N17>$D17,$F17=1,$I17=1,$L17=1),1,0) -> 0 | P17: =IF($C17="","",MIN(N17,$D17)) -> 4876047.9 | Q17: =IF($C17="","",IF(O17=1,P17,P17/SUMIF(O$17:O$76,0,P$17:P$76)*($C$3-SUMIF(O$17:O$76,1,P$17:P$76)))) -> 4876047.9 | R17: =IF(OR(Q17>$D17,$F17=1,$I17=1,$L17=1,$O17=1),1,0) -> 0 | S17: =IF($C17="","",MIN(Q17,$D17)) -> 4876047.9 | T17: =IF($C17="","",IF(R17=1,S17,S17/SUMIF(R$17:R$76,0,S$17:S$76)*($C$3-SUMIF(R$17:R$76,1,S$17:S$76)))) -> 4876047.9 | U17: =T17 -> 4876047.9 | V17: =IF(C17="","",IFERROR(U17/SUMIF($U$17:$U$76,"<>#DIV/0!"),0)) -> 0.75016122
B18: ='תחשיב בסיסי'!B18 -> 2 | C18: ='תחשיב בסיסי'!C18 -> מסיל"ה | D18: 420000 | E18: =IF(D18="","",'תחשיב בסיסי'!N18) -> 246306.35 | F18: =IF(C18="","",IF(E18>$D18,1,0)) -> 0 | G18: =IF($C18="","",MIN(D18:E18)) -> 246306.35 | H18: =IF($C18="","",IF(F18=1,G18,G18/SUMIF(F$17:F$76,0,G$17:G$76)*($C$3-SUMIF(F$17:F$76,1,G$17:G$76)))) -> 246306.35 | I18: =IF(OR(H18>$D18,$F18=1),1,0) -> 0 | J18: =IF($C18="","",MIN(H18,$D18)) -> 246306.35 | K18: =IF($C18="","",IF(I18=1,J18,J18/SUMIF(I$17:I$76,0,J$17:J$76)*($C$3-SUMIF(I$17:I$76,1,J$17:J$76)))) -> 246306.35 | L18: =IF(OR(K18>$D18,$F18=1,$I18=1),1,0) -> 0 | M18: =IF($C18="","",MIN(K18,$D18)) -> 246306.35 | N18: =IF($C18="","",IF(L18=1,M18,M18/SUMIF(L$17:L$76,0,M$17:M$76)*($C$3-SUMIF(L$17:L$76,1,M$17:M$76)))) -> 246306.35 | O18: =IF(OR(N18>$D18,$F18=1,$I18=1,$L18=1),1,0) -> 0 | P18: =IF($C18="","",MIN(N18,$D18)) -> 246306.35 | Q18: =IF($C18="","",IF(O18=1,P18,P18/SUMIF(O$17:O$76,0,P$17:P$76)*($C$3-SUMIF(O$17:O$76,1,P$17:P$76)))) -> 246306.35 | R18: =IF(OR(Q18>$D18,$F18=1,$I18=1,$L18=1,$O18=1),1,0) -> 0 | S18: =IF($C18="","",MIN(Q18,$D18)) -> 246306.35 | T18: =IF($C18="","",IF(R18=1,S18,S18/SUMIF(R$17:R$76,0,S$17:S$76)*($C$3-SUMIF(R$17:R$76,1,S$17:S$76)))) -> 246306.35 | U18: =T18 -> 246306.35 | V18: =IF(C18="","",IFERROR(U18/SUMIF($U$17:$U$76,"<>#DIV/0!"),0)) -> 0.037893285
B19: ='תחשיב בסיסי'!B19 -> 3 | C19: ='תחשיב בסיסי'!C19 -> עמותת עלה | D19: 514000 | E19: =IF(D19="","",'תחשיב בסיסי'!N19) -> 509745.15 | F19: =IF(C19="","",IF(E19>$D19,1,0)) -> 0 | G19: =IF($C19="","",MIN(D19:E19)) -> 509745.15 | H19: =IF($C19="","",IF(F19=1,G19,G19/SUMIF(F$17:F$76,0,G$17:G$76)*($C$3-SUMIF(F$17:F$76,1,G$17:G$76)))) -> 509745.15 | I19: =IF(OR(H19>$D19,$F19=1),1,0) -> 0 | J19: =IF($C19="","",MIN(H19,$D19)) -> 509745.15 | K19: =IF($C19="","",IF(I19=1,J19,J19/SUMIF(I$17:I$76,0,J$17:J$76)*($C$3-SUMIF(I$17:I$76,1,J$17:J$76)))) -> 509745.15 | L19: =IF(OR(K19>$D19,$F19=1,$I19=1),1,0) -> 0 | M19: =IF($C19="","",MIN(K19,$D19)) -> 509745.15 | N19: =IF($C19="","",IF(L19=1,M19,M19/SUMIF(L$17:L$76,0,M$17:M$76)*($C$3-SUMIF(L$17:L$76,1,M$17:M$76)))) -> 509745.15 | O19: =IF(OR(N19>$D19,$F19=1,$I19=1,$L19=1),1,0) -> 0 | P19: =IF($C19="","",MIN(N19,$D19)) -> 509745.15 | Q19: =IF($C19="","",IF(O19=1,P19,P19/SUMIF(O$17:O$76,0,P$17:P$76)*($C$3-SUMIF(O$17:O$76,1,P$17:P$76)))) -> 509745.15 | R19: =IF(OR(Q19>$D19,$F19=1,$I19=1,$L19=1,$O19=1),1,0) -> 0 | S19: =IF($C19="","",MIN(Q19,$D19)) -> 509745.15 | T19: =IF($C19="","",IF(R19=1,S19,S19/SUMIF(R$17:R$76,0,S$17:S$76)*($C$3-SUMIF(R$17:R$76,1,S$17:S$76)))) -> 509745.15 | U19: =T19 -> 509745.15 | V19: =IF(C19="","",IFERROR(U19/SUMIF($U$17:$U$76,"<>#DIV/0!"),0)) -> 0.07842233
B20: ='תחשיב בסיסי'!B20 -> 4 | C20: ='תחשיב בסיסי'!C20 -> עמותת אלמנארה | D20: 2072743 | E20: =IF(D20="","",'תחשיב בסיסי'!N20) -> 867900.56 | F20: =IF(C20="","",IF(E20>$D20,1,0)) -> 0 | G20: =IF($C20="","",MIN(D20:E20)) -> 867900.56 | H20: =IF($C20="","",IF(F20=1,G20,G20/SUMIF(F$17:F$76,0,G$17:G$76)*($C$3-SUMIF(F$17:F$76,1,G$17:G$76)))) -> 867900.56 | I20: =IF(OR(H20>$D20,$F20=1),1,0) -> 0 | J20: =IF($C20="","",MIN(H20,$D20)) -> 867900.56 | K20: =IF($C20="","",IF(I20=1,J20,J20/SUMIF(I$17:I$76,0,J$17:J$76)*($C$3-SUMIF(I$17:I$76,1,J$17:J$76)))) -> 867900.56 | L20: =IF(OR(K20>$D20,$F20=1,$I20=1),1,0) -> 0 | M20: =IF($C20="","",MIN(K20,$D20)) -> 867900.56 | N20: =IF($C20="","",IF(L20=1,M20,M20/SUMIF(L$17:L$76,0,M$17:M$76)*($C$3-SUMIF(L$17:L$76,1,M$17:M$76)))) -> 867900.56 | O20: =IF(OR(N20>$D20,$F20=1,$I20=1,$L20=1),1,0) -> 0 | P20: =IF($C20="","",MIN(N20,$D20)) -> 867900.56 | Q20: =IF($C20="","",IF(O20=1,P20,P20/SUMIF(O$17:O$76,0,P$17:P$76)*($C$3-SUMIF(O$17:O$76,1,P$17:P$76)))) -> 867900.56 | R20: =IF(OR(Q20>$D20,$F20=1,$I20=1,$L20=1,$O20=1),1,0) -> 0 | S20: =IF($C20="","",MIN(Q20,$D20)) -> 867900.56 | T20: =IF($C20="","",IF(R20=1,S20,S20/SUMIF(R$17:R$76,0,S$17:S$76)*($C$3-SUMIF(R$17:R$76,1,S$17:S$76)))) -> 867900.56 | U20: =T20 -> 867900.56 | V20: =IF(C20="","",IFERROR(U20/SUMIF($U$17:$U$76,"<>#DIV/0!"),0)) -> 0.13352316
B21: ='תחשיב בסיסי'!B21 | C21: ='תחשיב בסיסי'!C21 | E21: =IF(D21="","",'תחשיב בסיסי'!N21) | F21: =IF(C21="","",IF(E21>$D21,1,0)) | G21: =IF($C21="","",MIN(D21:E21)) | H21: =IF($C21="","",IF(F21=1,G21,G21/SUMIF(F$17:F$76,0,G$17:G$76)*($C$3-SUMIF(F$17:F$76,1,G$17:G$76)))) | I21: =IF(OR(H21>$D21,$F21=1),1,0) -> 0 | J21: =IF($C21="","",MIN(H21,$D21)) | K21: =IF($C21="","",IF(I21=1,J21,J21/SUMIF(I$17:I$76,0,J$17:J$76)*($C$3-SUMIF(I$17:I$76,1,J$17:J$76)))) | L21: =IF(OR(K21>$D21,$F21=1,$I21=1),1,0) -> 0 | M21: =IF($C21="","",MIN(K21,$D21)) | N21: =IF($C21="","",IF(L21=1,M21,M21/SUMIF(L$17:L$76,0,M$17:M$76)*($C$3-SUMIF(L$17:L$76,1,M$17:M$76)))) | O21: =IF(OR(N21>$D21,$F21=1,$I21=1,$L21=1),1,0) -> 0 | P21: =IF($C21="","",MIN(N21,$D21)) | Q21: =IF($C21="","",IF(O21=1,P21,P21/SUMIF(O$17:O$76,0,P$17:P$76)*($C$3-SUMIF(O$17:O$76,1,P$17:P$76)))) | R21: =IF(OR(Q21>$D21,$F21=1,$I21=1,$L21=1,$O21=1),1,0) -> 0 | S21: =IF($C21="","",MIN(Q21,$D21)) | T21: =IF($C21="","",IF(R21=1,S21,S21/SUMIF(R$17:R$76,0,S$17:S$76)*($C$3-SUMIF(R$17:R$76,1,S$17:S$76)))) | U21: =T21 | V21: =IF(C21="","",IFERROR(U21/SUMIF($U$17:$U$76,"<>#DIV/0!"),0))
B22: ='תחשיב בסיסי'!B22 | C22: ='תחשיב בסיסי'!C22 | E22: =IF(D22="","",'תחשיב בסיסי'!N22) | F22: =IF(C22="","",IF(E22>$D22,1,0)) | G22: =IF($C22="","",MIN(D22:E22)) | H22: =IF($C22="","",IF(F22=1,G22,G22/SUMIF(F$17:F$76,0,G$17:G$76)*($C$3-SUMIF(F$17:F$76,1,G$17:G$76)))) | I22: =IF(OR(H22>$D22,$F22=1),1,0) -> 0 | J22: =IF($C22="","",MIN(H22,$D22)) | K22: =IF($C22="","",IF(I22=1,J22,J22/SUMIF(I$17:I$76,0,J$17:J$76)*($C$3-SUMIF(I$17:I$76,1,J$17:J$76)))) | L22: =IF(OR(K22>$D22,$F22=1,$I22=1),1,0) -> 0 | M22: =IF($C22="","",MIN(K22,$D22)) | N22: =IF($C22="","",IF(L22=1,M22,M22/SUMIF(L$17:L$76,0,M$17:M$76)*($C$3-SUMIF(L$17:L$76,1,M$17:M$76)))) | O22: =IF(OR(N22>$D22,$F22=1,$I22=1,$L22=1),1,0) -> 0 | P22: =IF($C22="","",MIN(N22,$D22)) | Q22: =IF($C22="","",IF(O22=1,P22,P22/SUMIF(O$17:O$76,0,P$17:P$76)*($C$3-SUMIF(O$17:O$76,1,P$17:P$76)))) | R22: =IF(OR(Q22>$D22,$F22=1,$I22=1,$L22=1,$O22=1),1,0) -> 0 | S22: =IF($C22="","",MIN(Q22,$D22)) | T22: =IF($C22="","",IF(R22=1,S22,S22/SUMIF(R$17:R$76,0,S$17:S$76)*($C$3-SUMIF(R$17:R$76,1,S$17:S$76)))) | U22: =T22 | V22: =IF(C22="","",IFERROR(U22/SUMIF($U$17:$U$76,"<>#DIV/0!"),0))
B23: ='תחשיב בסיסי'!B23 | C23: ='תחשיב בסיסי'!C23 | E23: =IF(D23="","",'תחשיב בסיסי'!N23) | F23: =IF(C23="","",IF(E23>$D23,1,0)) | G23: =IF($C23="","",MIN(D23:E23)) | H23: =IF($C23="","",IF(F23=1,G23,G23/SUMIF(F$17:F$76,0,G$17:G$76)*($C$3-SUMIF(F$17:F$76,1,G$17:G$76)))) | I23: =IF(OR(H23>$D23,$F23=1),1,0) -> 0 | J23: =IF($C23="","",MIN(H23,$D23)) | K23: =IF($C23="","",IF(I23=1,J23,J23/SUMIF(I$17:I$76,0,J$17:J$76)*($C$3-SUMIF(I$17:I$76,1,J$17:J$76)))) | L23: =IF(OR(K23>$D23,$F23=1,$I23=1),1,0) -> 0 | M23: =IF($C23="","",MIN(K23,$D23)) | N23: =IF($C23="","",IF(L23=1,M23,M23/SUMIF(L$17:L$76,0,M$17:M$76)*($C$3-SUMIF(L$17:L$76,1,M$17:M$76)))) | O23: =IF(OR(N23>$D23,$F23=1,$I23=1,$L23=1),1,0) -> 0 | P23: =IF($C23="","",MIN(N23,$D23)) | Q23: =IF($C23="","",IF(O23=1,P23,P23/SUMIF(O$17:O$76,0,P$17:P$76)*($C$3-SUMIF(O$17:O$76,1,P$17:P$76)))) | R23: =IF(OR(Q23>$D23,$F23=1,$I23=1,$L23=1,$O23=1),1,0) -> 0 | S23: =IF($C23="","",MIN(Q23,$D23)) | T23: =IF($C23="","",IF(R23=1,S23,S23/SUMIF(R$17:R$76,0,S$17:S$76)*($C$3-SUMIF(R$17:R$76,1,S$17:S$76)))) | U23: =T23 | V23: =IF(C23="","",IFERROR(U23/SUMIF($U$17:$U$76,"<>#DIV/0!"),0))
B24: ='תחשיב בסיסי'!B24 | C24: ='תחשיב בסיסי'!C24 | E24: =IF(D24="","",'תחשיב בסיסי'!N24) | F24: =IF(C24="","",IF(E24>$D24,1,0)) | G24: =IF($C24="","",MIN(D24:E24)) | H24: =IF($C24="","",IF(F24=1,G24,G24/SUMIF(F$17:F$76,0,G$17:G$76)*($C$3-SUMIF(F$17:F$76,1,G$17:G$76)))) | I24: =IF(OR(H24>$D24,$F24=1),1,0) -> 0 | J24: =IF($C24="","",MIN(H24,$D24)) | K24: =IF($C24="","",IF(I24=1,J24,J24/SUMIF(I$17:I$76,0,J$17:J$76)*($C$3-SUMIF(I$17:I$76,1,J$17:J$76)))) | L24: =IF(OR(K24>$D24,$F24=1,$I24=1),1,0) -> 0 | M24: =IF($C24="","",MIN(K24,$D24)) | N24: =IF($C24="","",IF(L24=1,M24,M24/SUMIF(L$17:L$76,0,M$17:M$76)*($C$3-SUMIF(L$17:L$76,1,M$17:M$76)))) | O24: =IF(OR(N24>$D24,$F24=1,$I24=1,$L24=1),1,0) -> 0 | P24: =IF($C24="","",MIN(N24,$D24)) | Q24: =IF($C24="","",IF(O24=1,P24,P24/SUMIF(O$17:O$76,0,P$17:P$76)*($C$3-SUMIF(O$17:O$76,1,P$17:P$76)))) | R24: =IF(OR(Q24>$D24,$F24=1,$I24=1,$L24=1,$O24=1),1,0) -> 0 | S24: =IF($C24="","",MIN(Q24,$D24)) | T24: =IF($C24="","",IF(R24=1,S24,S24/SUMIF(R$17:R$76,0,S$17:S$76)*($C$3-SUMIF(R$17:R$76,1,S$17:S$76)))) | U24: =T24 | V24: =IF(C24="","",IFERROR(U24/SUMIF($U$17:$U$76,"<>#DIV/0!"),0))
B25: ='תחשיב בסיסי'!B25 | C25: ='תחשיב בסיסי'!C25 | E25: =IF(D25="","",'תחשיב בסיסי'!N25) | F25: =IF(C25="","",IF(E25>$D25,1,0)) | G25: =IF($C25="","",MIN(D25:E25)) | H25: =IF($C25="","",IF(F25=1,G25,G25/SUMIF(F$17:F$76,0,G$17:G$76)*($C$3-SUMIF(F$17:F$76,1,G$17:G$76)))) | I25: =IF(OR(H25>$D25,$F25=1),1,0) -> 0 | J25: =IF($C25="","",MIN(H25,$D25)) | K25: =IF($C25="","",IF(I25=1,J25,J25/SUMIF(I$17:I$76,0,J$17:J$76)*($C$3-SUMIF(I$17:I$76,1,J$17:J$76)))) | L25: =IF(OR(K25>$D25,$F25=1,$I25=1),1,0) -> 0 | M25: =IF($C25="","",MIN(K25,$D25)) | N25: =IF($C25="","",IF(L25=1,M25,M25/SUMIF(L$17:L$76,0,M$17:M$76)*($C$3-SUMIF(L$17:L$76,1,M$17:M$76)))) | O25: =IF(OR(N25>$D25,$F25=1,$I25=1,$L25=1),1,0) -> 0 | P25: =IF($C25="","",MIN(N25,$D25)) | Q25: =IF($C25="","",IF(O25=1,P25,P25/SUMIF(O$17:O$76,0,P$17:P$76)*($C$3-SUMIF(O$17:O$76,1,P$17:P$76)))) | R25: =IF(OR(Q25>$D25,$F25=1,$I25=1,$L25=1,$O25=1),1,0) -> 0 | S25: =IF($C25="","",MIN(Q25,$D25)) | T25: =IF($C25="","",IF(R25=1,S25,S25/SUMIF(R$17:R$76,0,S$17:S$76)*($C$3-SUMIF(R$17:R$76,1,S$17:S$76)))) | U25: =T25 | V25: =IF(C25="","",IFERROR(U25/SUMIF($U$17:$U$76,"<>#DIV/0!"),0))
B26: ='תחשיב בסיסי'!B26 | C26: ='תחשיב בסיסי'!C26 | E26: =IF(D26="","",'תחשיב בסיסי'!N26) | F26: =IF(C26="","",IF(E26>$D26,1,0)) | G26: =IF($C26="","",MIN(D26:E26)) | H26: =IF($C26="","",IF(F26=1,G26,G26/SUMIF(F$17:F$76,0,G$17:G$76)*($C$3-SUMIF(F$17:F$76,1,G$17:G$76)))) | I26: =IF(OR(H26>$D26,$F26=1),1,0) -> 0 | J26: =IF($C26="","",MIN(H26,$D26)) | K26: =IF($C26="","",IF(I26=1,J26,J26/SUMIF(I$17:I$76,0,J$17:J$76)*($C$3-SUMIF(I$17:I$76,1,J$17:J$76)))) | L26: =IF(OR(K26>$D26,$F26=1,$I26=1),1,0) -> 0 | M26: =IF($C26="","",MIN(K26,$D26)) | N26: =IF($C26="","",IF(L26=1,M26,M26/SUMIF(L$17:L$76,0,M$17:M$76)*($C$3-SUMIF(L$17:L$76,1,M$17:M$76)))) | O26: =IF(OR(N26>$D26,$F26=1,$I26=1,$L26=1),1,0) -> 0 | P26: =IF($C26="","",MIN(N26,$D26)) | Q26: =IF($C26="","",IF(O26=1,P26,P26/SUMIF(O$17:O$76,0,P$17:P$76)*($C$3-SUMIF(O$17:O$76,1,P$17:P$76)))) | R26: =IF(OR(Q26>$D26,$F26=1,$I26=1,$L26=1,$O26=1),1,0) -> 0 | S26: =IF($C26="","",MIN(Q26,$D26)) | T26: =IF($C26="","",IF(R26=1,S26,S26/SUMIF(R$17:R$76,0,S$17:S$76)*($C$3-SUMIF(R$17:R$76,1,S$17:S$76)))) | U26: =T26 | V26: =IF(C26="","",IFERROR(U26/SUMIF($U$17:$U$76,"<>#DIV/0!"),0))
B27: ='תחשיב בסיסי'!B27 | C27: ='תחשיב בסיסי'!C27 | E27: =IF(D27="","",'תחשיב בסיסי'!N27) | F27: =IF(C27="","",IF(E27>$D27,1,0)) | G27: =IF($C27="","",MIN(D27:E27)) | H27: =IF($C27="","",IF(F27=1,G27,G27/SUMIF(F$17:F$76,0,G$17:G$76)*($C$3-SUMIF(F$17:F$76,1,G$17:G$76)))) | I27: =IF(OR(H27>$D27,$F27=1),1,0) -> 0 | J27: =IF($C27="","",MIN(H27,$D27)) | K27: =IF($C27="","",IF(I27=1,J27,J27/SUMIF(I$17:I$76,0,J$17:J$76)*($C$3-SUMIF(I$17:I$76,1,J$17:J$76)))) | L27: =IF(OR(K27>$D27,$F27=1,$I27=1),1,0) -> 0 | M27: =IF($C27="","",MIN(K27,$D27)) | N27: =IF($C27="","",IF(L27=1,M27,M27/SUMIF(L$17:L$76,0,M$17:M$76)*($C$3-SUMIF(L$17:L$76,1,M$17:M$76)))) | O27: =IF(OR(N27>$D27,$F27=1,$I27=1,$L27=1),1,0) -> 0 | P27: =IF($C27="","",MIN(N27,$D27)) | Q27: =IF($C27="","",IF(O27=1,P27,P27/SUMIF(O$17:O$76,0,P$17:P$76)*($C$3-SUMIF(O$17:O$76,1,P$17:P$76)))) | R27: =IF(OR(Q27>$D27,$F27=1,$I27=1,$L27=1,$O27=1),1,0) -> 0 | S27: =IF($C27="","",MIN(Q27,$D27)) | T27: =IF($C27="","",IF(R27=1,S27,S27/SUMIF(R$17:R$76,0,S$17:S$76)*($C$3-SUMIF(R$17:R$76,1,S$17:S$76)))) | U27: =T27 | V27: =IF(C27="","",IFERROR(U27/SUMIF($U$17:$U$76,"<>#DIV/0!"),0))
B28: ='תחשיב בסיסי'!B28 | C28: ='תחשיב בסיסי'!C28 | E28: =IF(D28="","",'תחשיב בסיסי'!N28) | F28: =IF(C28="","",IF(E28>$D28,1,0)) | G28: =IF($C28="","",MIN(D28:E28)) | H28: =IF($C28="","",IF(F28=1,G28,G28/SUMIF(F$17:F$76,0,G$17:G$76)*($C$3-SUMIF(F$17:F$76,1,G$17:G$76)))) | I28: =IF(OR(H28>$D28,$F28=1),1,0) -> 0 | J28: =IF($C28="","",MIN(H28,$D28)) | K28: =IF($C28="","",IF(I28=1,J28,J28/SUMIF(I$17:I$76,0,J$17:J$76)*($C$3-SUMIF(I$17:I$76,1,J$17:J$76)))) | L28: =IF(OR(K28>$D28,$F28=1,$I28=1),1,0) -> 0 | M28: =IF($C28="","",MIN(K28,$D28)) | N28: =IF($C28="","",IF(L28=1,M28,M28/SUMIF(L$17:L$76,0,M$17:M$76)*($C$3-SUMIF(L$17:L$76,1,M$17:M$76)))) | O28: =IF(OR(N28>$D28,$F28=1,$I28=1,$L28=1),1,0) -> 0 | P28: =IF($C28="","",MIN(N28,$D28)) | Q28: =IF($C28="","",IF(O28=1,P28,P28/SUMIF(O$17:O$76,0,P$17:P$76)*($C$3-SUMIF(O$17:O$76,1,P$17:P$76)))) | R28: =IF(OR(Q28>$D28,$F28=1,$I28=1,$L28=1,$O28=1),1,0) -> 0 | S28: =IF($C28="","",MIN(Q28,$D28)) | T28: =IF($C28="","",IF(R28=1,S28,S28/SUMIF(R$17:R$76,0,S$17:S$76)*($C$3-SUMIF(R$17:R$76,1,S$17:S$76)))) | U28: =T28 | V28: =IF(C28="","",IFERROR(U28/SUMIF($U$17:$U$76,"<>#DIV/0!"),0))
B29: ='תחשיב בסיסי'!B29 | C29: ='תחשיב בסיסי'!C29 | E29: =IF(D29="","",'תחשיב בסיסי'!N29) | F29: =IF(C29="","",IF(E29>$D29,1,0)) | G29: =IF($C29="","",MIN(D29:E29)) | H29: =IF($C29="","",IF(F29=1,G29,G29/SUMIF(F$17:F$76,0,G$17:G$76)*($C$3-SUMIF(F$17:F$76,1,G$17:G$76)))) | I29: =IF(OR(H29>$D29,$F29=1),1,0) -> 0 | J29: =IF($C29="","",MIN(H29,$D29)) | K29: =IF($C29="","",IF(I29=1,J29,J29/SUMIF(I$17:I$76,0,J$17:J$76)*($C$3-SUMIF(I$17:I$76,1,J$17:J$76)))) | L29: =IF(OR(K29>$D29,$F29=1,$I29=1),1,0) -> 0 | M29: =IF($C29="","",MIN(K29,$D29)) | N29: =IF($C29="","",IF(L29=1,M29,M29/SUMIF(L$17:L$76,0,M$17:M$76)*($C$3-SUMIF(L$17:L$76,1,M$17:M$76)))) | O29: =IF(OR(N29>$D29,$F29=1,$I29=1,$L29=1),1,0) -> 0 | P29: =IF($C29="","",MIN(N29,$D29)) | Q29: =IF($C29="","",IF(O29=1,P29,P29/SUMIF(O$17:O$76,0,P$17:P$76)*($C$3-SUMIF(O$17:O$76,1,P$17:P$76)))) | R29: =IF(OR(Q29>$D29,$F29=1,$I29=1,$L29=1,$O29=1),1,0) -> 0 | S29: =IF($C29="","",MIN(Q29,$D29)) | T29: =IF($C29="","",IF(R29=1,S29,S29/SUMIF(R$17:R$76,0,S$17:S$76)*($C$3-SUMIF(R$17:R$76,1,S$17:S$76)))) | U29: =T29 | V29: =IF(C29="","",IFERROR(U29/SUMIF($U$17:$U$76,"<>#DIV/0!"),0))
B30: ='תחשיב בסיסי'!B30 | C30: ='תחשיב בסיסי'!C30 | E30: =IF(D30="","",'תחשיב בסיסי'!N30) | F30: =IF(C30="","",IF(E30>$D30,1,0)) | G30: =IF($C30="","",MIN(D30:E30)) | H30: =IF($C30="","",IF(F30=1,G30,G30/SUMIF(F$17:F$76,0,G$17:G$76)*($C$3-SUMIF(F$17:F$76,1,G$17:G$76)))) | I30: =IF(OR(H30>$D30,$F30=1),1,0) -> 0 | J30: =IF($C30="","",MIN(H30,$D30)) | K30: =IF($C30="","",IF(I30=1,J30,J30/SUMIF(I$17:I$76,0,J$17:J$76)*($C$3-SUMIF(I$17:I$76,1,J$17:J$76)))) | L30: =IF(OR(K30>$D30,$F30=1,$I30=1),1,0) -> 0 | M30: =IF($C30="","",MIN(K30,$D30)) | N30: =IF($C30="","",IF(L30=1,M30,M30/SUMIF(L$17:L$76,0,M$17:M$76)*($C$3-SUMIF(L$17:L$76,1,M$17:M$76)))) | O30: =IF(OR(N30>$D30,$F30=1,$I30=1,$L30=1),1,0) -> 0 | P30: =IF($C30="","",MIN(N30,$D30)) | Q30: =IF($C30="","",IF(O30=1,P30,P30/SUMIF(O$17:O$76,0,P$17:P$76)*($C$3-SUMIF(O$17:O$76,1,P$17:P$76)))) | R30: =IF(OR(Q30>$D30,$F30=1,$I30=1,$L30=1,$O30=1),1,0) -> 0 | S30: =IF($C30="","",MIN(Q30,$D30)) | T30: =IF($C30="","",IF(R30=1,S30,S30/SUMIF(R$17:R$76,0,S$17:S$76)*($C$3-SUMIF(R$17:R$76,1,S$17:S$76)))) | U30: =T30 | V30: =IF(C30="","",IFERROR(U30/SUMIF($U$17:$U$76,"<>#DIV/0!"),0))
B31: ='תחשיב בסיסי'!B31 | C31: ='תחשיב בסיסי'!C31 | E31: =IF(D31="","",'תחשיב בסיסי'!N31) | F31: =IF(C31="","",IF(E31>$D31,1,0)) | G31: =IF($C31="","",MIN(D31:E31)) | H31: =IF($C31="","",IF(F31=1,G31,G31/SUMIF(F$17:F$76,0,G$17:G$76)*($C$3-SUMIF(F$17:F$76,1,G$17:G$76)))) | I31: =IF(OR(H31>$D31,$F31=1),1,0) -> 0 | J31: =IF($C31="","",MIN(H31,$D31)) | K31: =IF($C31="","",IF(I31=1,J31,J31/SUMIF(I$17:I$76,0,J$17:J$76)*($C$3-SUMIF(I$17:I$76,1,J$17:J$76)))) | L31: =IF(OR(K31>$D31,$F31=1,$I31=1),1,0) -> 0 | M31: =IF($C31="","",MIN(K31,$D31)) | N31: =IF($C31="","",IF(L31=1,M31,M31/SUMIF(L$17:L$76,0,M$17:M$76)*($C$3-SUMIF(L$17:L$76,1,M$17:M$76)))) | O31: =IF(OR(N31>$D31,$F31=1,$I31=1,$L31=1),1,0) -> 0 | P31: =IF($C31="","",MIN(N31,$D31)) | Q31: =IF($C31="","",IF(O31=1,P31,P31/SUMIF(O$17:O$76,0,P$17:P$76)*($C$3-SUMIF(O$17:O$76,1,P$17:P$76)))) | R31: =IF(OR(Q31>$D31,$F31=1,$I31=1,$L31=1,$O31=1),1,0) -> 0 | S31: =IF($C31="","",MIN(Q31,$D31)) | T31: =IF($C31="","",IF(R31=1,S31,S31/SUMIF(R$17:R$76,0,S$17:S$76)*($C$3-SUMIF(R$17:R$76,1,S$17:S$76)))) | U31: =T31 | V31: =IF(C31="","",IFERROR(U31/SUMIF($U$17:$U$76,"<>#DIV/0!"),0))
B32: ='תחשיב בסיסי'!B32 | C32: ='תחשיב בסיסי'!C32 | E32: =IF(D32="","",'תחשיב בסיסי'!N32) | F32: =IF(C32="","",IF(E32>$D32,1,0)) | G32: =IF($C32="","",MIN(D32:E32)) | H32: =IF($C32="","",IF(F32=1,G32,G32/SUMIF(F$17:F$76,0,G$17:G$76)*($C$3-SUMIF(F$17:F$76,1,G$17:G$76)))) | I32: =IF(OR(H32>$D32,$F32=1),1,0) -> 0 | J32: =IF($C32="","",MIN(H32,$D32)) | K32: =IF($C32="","",IF(I32=1,J32,J32/SUMIF(I$17:I$76,0,J$17:J$76)*($C$3-SUMIF(I$17:I$76,1,J$17:J$76)))) | L32: =IF(OR(K32>$D32,$F32=1,$I32=1),1,0) -> 0 | M32: =IF($C32="","",MIN(K32,$D32)) | N32: =IF($C32="","",IF(L32=1,M32,M32/SUMIF(L$17:L$76,0,M$17:M$76)*($C$3-SUMIF(L$17:L$76,1,M$17:M$76)))) | O32: =IF(OR(N32>$D32,$F32=1,$I32=1,$L32=1),1,0) -> 0 | P32: =IF($C32="","",MIN(N32,$D32)) | Q32: =IF($C32="","",IF(O32=1,P32,P32/SUMIF(O$17:O$76,0,P$17:P$76)*($C$3-SUMIF(O$17:O$76,1,P$17:P$76)))) | R32: =IF(OR(Q32>$D32,$F32=1,$I32=1,$L32=1,$O32=1),1,0) -> 0 | S32: =IF($C32="","",MIN(Q32,$D32)) | T32: =IF($C32="","",IF(R32=1,S32,S32/SUMIF(R$17:R$76,0,S$17:S$76)*($C$3-SUMIF(R$17:R$76,1,S$17:S$76)))) | U32: =T32 | V32: =IF(C32="","",IFERROR(U32/SUMIF($U$17:$U$76,"<>#DIV/0!"),0))
... B76: ='תחשיב בסיסי'!B76 | C76: ='תחשיב בסיסי'!C76 | E76: =IF(D76="","",'תחשיב בסיסי'!N76) | F76: =IF(C76="","",IF(E76>$D76,1,0)) | G76: =IF($C76="","",MIN(D76:E76)) | H76: =IF($C76="","",IF(F76=1,G76,G76/SUMIF(F$17:F$76,0,G$17:G$76)*($C$3-SUMIF(F$17:F$76,1,G$17:G$76)))) | I76: =IF(OR(H76>$D76,$F76=1),1,0) -> 0 | J76: =IF($C76="","",MIN(H76,$D76)) | K76: =IF($C76="","",IF(I76=1,J76,J76/SUMIF(I$17:I$76,0,J$17:J$76)*($C$3-SUMIF(I$17:I$76,1,J$17:J$76)))) | L76: =IF(OR(K76>$D76,$F76=1,$I76=1),1,0) -> 0 | M76: =IF($C76="","",MIN(K76,$D76)) | N76: =IF($C76="","",IF(L76=1,M76,M76/SUMIF(L$17:L$76,0,M$17:M$76)*($C$3-SUMIF(L$17:L$76,1,M$17:M$76)))) | O76: =IF(OR(N76>$D76,$F76=1,$I76=1,$L76=1),1,0) -> 0 | P76: =IF($C76="","",MIN(N76,$D76)) | Q76: =IF($C76="","",IF(O76=1,P76,P76/SUMIF(O$17:O$76,0,P$17:P$76)*($C$3-SUMIF(O$17:O$76,1,P$17:P$76)))) | R76: =IF(OR(Q76>$D76,$F76=1,$I76=1,$L76=1,$O76=1),1,0) -> 0 | S76: =IF($C76="","",MIN(Q76,$D76)) | T76: =IF($C76="","",IF(R76=1,S76,S76/SUMIF(R$17:R$76,0,S$17:S$76)*($C$3-SUMIF(R$17:R$76,1,S$17:S$76)))) | U76: =T76 | V76: =IF(C76="","",IFERROR(U76/SUMIF($U$17:$U$76,"<>#DIV/0!"),0))
E77: =SUM(E17:E76) -> 6500000 | G77: =SUM(G17:G76) -> 6500000 | H77: =SUM(H17:H76) -> 6500000 | I77: =SUM(I17:I76) -> 0 | J77: =SUM(J17:J76) -> 6500000 | K77: =SUM(K17:K76) -> 6500000 | M77: =SUM(M17:M76) -> 6500000 | N77: =SUM(N17:N76) -> 6500000 | O77: =SUM(O17:O76) -> 0 | P77: =SUM(P17:P76) -> 6500000 | Q77: =SUM(Q17:Q76) -> 6500000 | R77: =SUM(R17:R76) -> 0 | S77: =SUM(S17:S76) -> 6500000 | T77: =SUM(T17:T76) -> 6500000 | ... V77: =SUM(V17:V76) -> 1

Sheet הגבלה לסכום פעילות מתוכננת
B2: =פרמטרים!B9 -> שנת תקציב | C2: =פרמטרים!C9 -> 2025 | F2: =פרמטרים!B43 -> שיעור התמיכה לא יעלה על %X מסכום עלות הפרויקט המשוער | G2: =פרמטרים!C43 -> 0.75
B3: =פרמטרים!B10 -> גובה תמיכה | C3: =פרמטרים!C10 -> 6500000
B15: מספר סידורי | C15: שם המוסד | D15: הגבלה לסכום פעילות
D16: סכום עלות הפרוייקט המשוער | E16: סכום הגבלה בגין עלות הפרוייקט | F16: גובה תמיכה בתחשיב הבסיסי | G16: האם קיימת הגבלה ראשונית? | H16: תמיכה מקסימאלית | I16: תמיכה ראשונית | J16: נתון עזר 2 | K16: תמיכה מקסימאלית 2 | L16: תמיכה 2 | M16: נתון עזר 3 | N16: תמיכה מקסימאלית 3 | O16: תמיכה 3 | P16: נתון עזר 4 | Q16: תמיכה מקסימאלית 4 | R16: תמיכה 4 | S16: נתון עזר 5 | T16: תמיכה מקסימאלית 5 | U16: תמיכה 5 | V16: תמיכה לאחר הגבלה לסכום מבוקש | W16: שיעור תמיכה
B17: ='הגבלה לסכום מבוקש'!B17 -> 1 | C17: ='הגבלה לסכום מבוקש'!C17 -> הספריה המרכזית לעיוורים | D17: 9161956 | E17: =IF(C17="","",IF(D17="",$C$3,MIN('הגבלה לסכום מבוקש'!D17,D17*$G$2))) -> 5000000 | F17: =IF(E17="","",'תחשיב בסיסי'!N17) -> 4876047.9 | G17: =IF(C17="","",IF(F17>$E17,1,0)) -> 0 | H17: =IF($C17="","",MIN(E17:F17)) -> 4876047.9 | I17: =IF($C17="","",IF(G17=1,H17,H17/SUMIF(G$17:G$76,0,H$17:H$76)*($C$3-SUMIF(G$17:G$76,1,H$17:H$76)))) -> 4876047.9 | J17: =IF(OR(I17>$E17,$G17=1),1,0) -> 0 | K17: =IF($C17="","",MIN(I17,$E17)) -> 4876047.9 | L17: =IF($C17="","",IF(J17=1,K17,K17/SUMIF(J$17:J$76,0,K$17:K$76)*($C$3-SUMIF(J$17:J$76,1,K$17:K$76)))) -> 4876047.9 | M17: =IF(OR(L17>$E17,$G17=1,$J17=1),1,0) -> 0 | N17: =IF($C17="","",MIN(L17,$E17)) -> 4876047.9 | O17: =IF($C17="","",IF(M17=1,N17,N17/SUMIF(M$17:M$76,0,N$17:N$76)*($C$3-SUMIF(M$17:M$76,1,N$17:N$76)))) -> 4876047.9 | P17: =IF(OR(O17>$E17,$G17=1,$J17=1,$M17=1),1,0) -> 0 | Q17: =IF($C17="","",MIN(O17,$E17)) -> 4876047.9 | R17: =IF($C17="","",IF(P17=1,Q17,Q17/SUMIF(P$17:P$76,0,Q$17:Q$76)*($C$3-SUMIF(P$17:P$76,1,Q$17:Q$76)))) -> 4876047.9 | S17: =IF(OR(R17>$E17,$G17=1,$J17=1,$M17=1,$P17=1),1,0) -> 0 | T17: =IF($C17="","",MIN(R17,$E17)) -> 4876047.9 | U17: =IF($C17="","",IF(S17=1,T17,T17/SUMIF(S$17:S$76,0,T$17:T$76)*($C$3-SUMIF(S$17:S$76,1,T$17:T$76)))) -> 4876047.9 | V17: =U17 -> 4876047.9 | W17: =IF(C17="","",IFERROR(V17/SUMIF($V$17:$V$76,"<>#DIV/0!"),0)) -> 0.75016122
B18: ='הגבלה לסכום מבוקש'!B18 -> 2 | C18: ='הגבלה לסכום מבוקש'!C18 -> מסיל"ה | D18: 578000 | E18: =IF(C18="","",IF(D18="",$C$3,MIN('הגבלה לסכום מבוקש'!D18,D18*$G$2))) -> 420000 | F18: =IF(E18="","",'תחשיב בסיסי'!N18) -> 246306.35 | G18: =IF(C18="","",IF(F18>$E18,1,0)) -> 0 | H18: =IF($C18="","",MIN(E18:F18)) -> 246306.35 | I18: =IF($C18="","",IF(G18=1,H18,H18/SUMIF(G$17:G$76,0,H$17:H$76)*($C$3-SUMIF(G$17:G$76,1,H$17:H$76)))) -> 246306.35 | J18: =IF(OR(I18>$E18,$G18=1),1,0) -> 0 | K18: =IF($C18="","",MIN(I18,$E18)) -> 246306.35 | L18: =IF($C18="","",IF(J18=1,K18,K18/SUMIF(J$17:J$76,0,K$17:K$76)*($C$3-SUMIF(J$17:J$76,1,K$17:K$76)))) -> 246306.35 | M18: =IF(OR(L18>$E18,$G18=1,$J18=1),1,0) -> 0 | N18: =IF($C18="","",MIN(L18,$E18)) -> 246306.35 | O18: =IF($C18="","",IF(M18=1,N18,N18/SUMIF(M$17:M$76,0,N$17:N$76)*($C$3-SUMIF(M$17:M$76,1,N$17:N$76)))) -> 246306.35 | P18: =IF(OR(O18>$E18,$G18=1,$J18=1,$M18=1),1,0) -> 0 | Q18: =IF($C18="","",MIN(O18,$E18)) -> 246306.35 | R18: =IF($C18="","",IF(P18=1,Q18,Q18/SUMIF(P$17:P$76,0,Q$17:Q$76)*($C$3-SUMIF(P$17:P$76,1,Q$17:Q$76)))) -> 246306.35 | S18: =IF(OR(R18>$E18,$G18=1,$J18=1,$M18=1,$P18=1),1,0) -> 0 | T18: =IF($C18="","",MIN(R18,$E18)) -> 246306.35 | U18: =IF($C18="","",IF(S18=1,T18,T18/SUMIF(S$17:S$76,0,T$17:T$76)*($C$3-SUMIF(S$17:S$76,1,T$17:T$76)))) -> 246306.35 | V18: =U18 -> 246306.35 | W18: =IF(C18="","",IFERROR(V18/SUMIF($V$17:$V$76,"<>#DIV/0!"),0)) -> 0.037893285
B19: ='הגבלה לסכום מבוקש'!B19 -> 3 | C19: ='הגבלה לסכום מבוקש'!C19 -> עמותת עלה | D19: 850000 | E19: =IF(C19="","",IF(D19="",$C$3,MIN('הגבלה לסכום מבוקש'!D19,D19*$G$2))) -> 514000 | F19: =IF(E19="","",'תחשיב בסיסי'!N19) -> 509745.15 | G19: =IF(C19="","",IF(F19>$E19,1,0)) -> 0 | H19: =IF($C19="","",MIN(E19:F19)) -> 509745.15 | I19: =IF($C19="","",IF(G19=1,H19,H19/SUMIF(G$17:G$76,0,H$17:H$76)*($C$3-SUMIF(G$17:G$76,1,H$17:H$76)))) -> 509745.15 | J19: =IF(OR(I19>$E19,$G19=1),1,0) -> 0 | K19: =IF($C19="","",MIN(I19,$E19)) -> 509745.15 | L19: =IF($C19="","",IF(J19=1,K19,K19/SUMIF(J$17:J$76,0,K$17:K$76)*($C$3-SUMIF(J$17:J$76,1,K$17:K$76)))) -> 509745.15 | M19: =IF(OR(L19>$E19,$G19=1,$J19=1),1,0) -> 0 | N19: =IF($C19="","",MIN(L19,$E19)) -> 509745.15 | O19: =IF($C19="","",IF(M19=1,N19,N19/SUMIF(M$17:M$76,0,N$17:N$76)*($C$3-SUMIF(M$17:M$76,1,N$17:N$76)))) -> 509745.15 | P19: =IF(OR(O19>$E19,$G19=1,$J19=1,$M19=1),1,0) -> 0 | Q19: =IF($C19="","",MIN(O19,$E19)) -> 509745.15 | R19: =IF($C19="","",IF(P19=1,Q19,Q19/SUMIF(P$17:P$76,0,Q$17:Q$76)*($C$3-SUMIF(P$17:P$76,1,Q$17:Q$76)))) -> 509745.15 | S19: =IF(OR(R19>$E19,$G19=1,$J19=1,$M19=1,$P19=1),1,0) -> 0 | T19: =IF($C19="","",MIN(R19,$E19)) -> 509745.15 | U19: =IF($C19="","",IF(S19=1,T19,T19/SUMIF(S$17:S$76,0,T$17:T$76)*($C$3-SUMIF(S$17:S$76,1,T$17:T$76)))) -> 509745.15 | V19: =U19 -> 509745.15 | W19: =IF(C19="","",IFERROR(V19/SUMIF($V$17:$V$76,"<>#DIV/0!"),0)) -> 0.07842233
B20: ='הגבלה לסכום מבוקש'!B20 -> 4 | C20: ='הגבלה לסכום מבוקש'!C20 -> עמותת אלמנארה | D20: 1723956 | E20: =IF(C20="","",IF(D20="",$C$3,MIN('הגבלה לסכום מבוקש'!D20,D20*$G$2))) -> 1292967 | F20: =IF(E20="","",'תחשיב בסיסי'!N20) -> 867900.56 | G20: =IF(C20="","",IF(F20>$E20,1,0)) -> 0 | H20: =IF($C20="","",MIN(E20:F20)) -> 867900.56 | I20: =IF($C20="","",IF(G20=1,H20,H20/SUMIF(G$17:G$76,0,H$17:H$76)*($C$3-SUMIF(G$17:G$76,1,H$17:H$76)))) -> 867900.56 | J20: =IF(OR(I20>$E20,$G20=1),1,0) -> 0 | K20: =IF($C20="","",MIN(I20,$E20)) -> 867900.56 | L20: =IF($C20="","",IF(J20=1,K20,K20/SUMIF(J$17:J$76,0,K$17:K$76)*($C$3-SUMIF(J$17:J$76,1,K$17:K$76)))) -> 867900.56 | M20: =IF(OR(L20>$E20,$G20=1,$J20=1),1,0) -> 0 | N20: =IF($C20="","",MIN(L20,$E20)) -> 867900.56 | O20: =IF($C20="","",IF(M20=1,N20,N20/SUMIF(M$17:M$76,0,N$17:N$76)*($C$3-SUMIF(M$17:M$76,1,N$17:N$76)))) -> 867900.56 | P20: =IF(OR(O20>$E20,$G20=1,$J20=1,$M20=1),1,0) -> 0 | Q20: =IF($C20="","",MIN(O20,$E20)) -> 867900.56 | R20: =IF($C20="","",IF(P20=1,Q20,Q20/SUMIF(P$17:P$76,0,Q$17:Q$76)*($C$3-SUMIF(P$17:P$76,1,Q$17:Q$76)))) -> 867900.56 | S20: =IF(OR(R20>$E20,$G20=1,$J20=1,$M20=1,$P20=1),1,0) -> 0 | T20: =IF($C20="","",MIN(R20,$E20)) -> 867900.56 | U20: =IF($C20="","",IF(S20=1,T20,T20/SUMIF(S$17:S$76,0,T$17:T$76)*($C$3-SUMIF(S$17:S$76,1,T$17:T$76)))) -> 867900.56 | V20: =U20 -> 867900.56 | W20: =IF(C20="","",IFERROR(V20/SUMIF($V$17:$V$76,"<>#DIV/0!"),0)) -> 0.13352316
B21: ='הגבלה לסכום מבוקש'!B21 | C21: ='הגבלה לסכום מבוקש'!C21 | E21: =IF(C21="","",IF(D21="",$C$3,MIN('הגבלה לסכום מבוקש'!D21,D21*$G$2))) | F21: =IF(E21="","",'תחשיב בסיסי'!N21) | G21: =IF(C21="","",IF(F21>$E21,1,0)) | H21: =IF($C21="","",MIN(E21:F21)) | I21: =IF($C21="","",IF(G21=1,H21,H21/SUMIF(G$17:G$76,0,H$17:H$76)*($C$3-SUMIF(G$17:G$76,1,H$17:H$76)))) | J21: =IF(OR(I21>$E21,$G21=1),1,0) -> 0 | K21: =IF($C21="","",MIN(I21,$E21)) | L21: =IF($C21="","",IF(J21=1,K21,K21/SUMIF(J$17:J$76,0,K$17:K$76)*($C$3-SUMIF(J$17:J$76,1,K$17:K$76)))) | M21: =IF(OR(L21>$E21,$G21=1,$J21=1),1,0) -> 0 | N21: =IF($C21="","",MIN(L21,$E21)) | O21: =IF($C21="","",IF(M21=1,N21,N21/SUMIF(M$17:M$76,0,N$17:N$76)*($C$3-SUMIF(M$17:M$76,1,N$17:N$76)))) | P21: =IF(OR(O21>$E21,$G21=1,$J21=1,$M21=1),1,0) -> 0 | Q21: =IF($C21="","",MIN(O21,$E21)) | R21: =IF($C21="","",IF(P21=1,Q21,Q21/SUMIF(P$17:P$76,0,Q$17:Q$76)*($C$3-SUMIF(P$17:P$76,1,Q$17:Q$76)))) | S21: =IF(OR(R21>$E21,$G21=1,$J21=1,$M21=1,$P21=1),1,0) -> 0 | T21: =IF($C21="","",MIN(R21,$E21)) | U21: =IF($C21="","",IF(S21=1,T21,T21/SUMIF(S$17:S$76,0,T$17:T$76)*($C$3-SUMIF(S$17:S$76,1,T$17:T$76)))) | V21: =U21 | W21: =IF(C21="","",IFERROR(V21/SUMIF($V$17:$V$76,"<>#DIV/0!"),0))
B22: ='הגבלה לסכום מבוקש'!B22 | C22: ='הגבלה לסכום מבוקש'!C22 | E22: =IF(C22="","",IF(D22="",$C$3,MIN('הגבלה לסכום מבוקש'!D22,D22*$G$2))) | F22: =IF(E22="","",'תחשיב בסיסי'!N22) | G22: =IF(C22="","",IF(F22>$E22,1,0)) | H22: =IF($C22="","",MIN(E22:F22)) | I22: =IF($C22="","",IF(G22=1,H22,H22/SUMIF(G$17:G$76,0,H$17:H$76)*($C$3-SUMIF(G$17:G$76,1,H$17:H$76)))) | J22: =IF(OR(I22>$E22,$G22=1),1,0) -> 0 | K22: =IF($C22="","",MIN(I22,$E22)) | L22: =IF($C22="","",IF(J22=1,K22,K22/SUMIF(J$17:J$76,0,K$17:K$76)*($C$3-SUMIF(J$17:J$76,1,K$17:K$76)))) | M22: =IF(OR(L22>$E22,$G22=1,$J22=1),1,0) -> 0 | N22: =IF($C22="","",MIN(L22,$E22)) | O22: =IF($C22="","",IF(M22=1,N22,N22/SUMIF(M$17:M$76,0,N$17:N$76)*($C$3-SUMIF(M$17:M$76,1,N$17:N$76)))) | P22: =IF(OR(O22>$E22,$G22=1,$J22=1,$M22=1),1,0) -> 0 | Q22: =IF($C22="","",MIN(O22,$E22)) | R22: =IF($C22="","",IF(P22=1,Q22,Q22/SUMIF(P$17:P$76,0,Q$17:Q$76)*($C$3-SUMIF(P$17:P$76,1,Q$17:Q$76)))) | S22: =IF(OR(R22>$E22,$G22=1,$J22=1,$M22=1,$P22=1),1,0) -> 0 | T22: =IF($C22="","",MIN(R22,$E22)) | U22: =IF($C22="","",IF(S22=1,T22,T22/SUMIF(S$17:S$76,0,T$17:T$76)*($C$3-SUMIF(S$17:S$76,1,T$17:T$76)))) | V22: =U22 | W22: =IF(C22="","",IFERROR(V22/SUMIF($V$17:$V$76,"<>#DIV/0!"),0))
B23: ='הגבלה לסכום מבוקש'!B23 | C23: ='הגבלה לסכום מבוקש'!C23 | E23: =IF(C23="","",IF(D23="",$C$3,MIN('הגבלה לסכום מבוקש'!D23,D23*$G$2))) | F23: =IF(E23="","",'תחשיב בסיסי'!N23) | G23: =IF(C23="","",IF(F23>$E23,1,0)) | H23: =IF($C23="","",MIN(E23:F23)) | I23: =IF($C23="","",IF(G23=1,H23,H23/SUMIF(G$17:G$76,0,H$17:H$76)*($C$3-SUMIF(G$17:G$76,1,H$17:H$76)))) | J23: =IF(OR(I23>$E23,$G23=1),1,0) -> 0 | K23: =IF($C23="","",MIN(I23,$E23)) | L23: =IF($C23="","",IF(J23=1,K23,K23/SUMIF(J$17:J$76,0,K$17:K$76)*($C$3-SUMIF(J$17:J$76,1,K$17:K$76)))) | M23: =IF(OR(L23>$E23,$G23=1,$J23=1),1,0) -> 0 | N23: =IF($C23="","",MIN(L23,$E23)) | O23: =IF($C23="","",IF(M23=1,N23,N23/SUMIF(M$17:M$76,0,N$17:N$76)*($C$3-SUMIF(M$17:M$76,1,N$17:N$76)))) | P23: =IF(OR(O23>$E23,$G23=1,$J23=1,$M23=1),1,0) -> 0 | Q23: =IF($C23="","",MIN(O23,$E23)) | R23: =IF($C23="","",IF(P23=1,Q23,Q23/SUMIF(P$17:P$76,0,Q$17:Q$76)*($C$3-SUMIF(P$17:P$76,1,Q$17:Q$76)))) | S23: =IF(OR(R23>$E23,$G23=1,$J23=1,$M23=1,$P23=1),1,0) -> 0 | T23: =IF($C23="","",MIN(R23,$E23)) | U23: =IF($C23="","",IF(S23=1,T23,T23/SUMIF(S$17:S$76,0,T$17:T$76)*($C$3-SUMIF(S$17:S$76,1,T$17:T$76)))) | V23: =U23 | W23: =IF(C23="","",IFERROR(V23/SUMIF($V$17:$V$76,"<>#DIV/0!"),0))
B24: ='הגבלה לסכום מבוקש'!B24 | C24: ='הגבלה לסכום מבוקש'!C24 | E24: =IF(C24="","",IF(D24="",$C$3,MIN('הגבלה לסכום מבוקש'!D24,D24*$G$2))) | F24: =IF(E24="","",'תחשיב בסיסי'!N24) | G24: =IF(C24="","",IF(F24>$E24,1,0)) | H24: =IF($C24="","",MIN(E24:F24)) | I24: =IF($C24="","",IF(G24=1,H24,H24/SUMIF(G$17:G$76,0,H$17:H$76)*($C$3-SUMIF(G$17:G$76,1,H$17:H$76)))) | J24: =IF(OR(I24>$E24,$G24=1),1,0) -> 0 | K24: =IF($C24="","",MIN(I24,$E24)) | L24: =IF($C24="","",IF(J24=1,K24,K24/SUMIF(J$17:J$76,0,K$17:K$76)*($C$3-SUMIF(J$17:J$76,1,K$17:K$76)))) | M24: =IF(OR(L24>$E24,$G24=1,$J24=1),1,0) -> 0 | N24: =IF($C24="","",MIN(L24,$E24)) | O24: =IF($C24="","",IF(M24=1,N24,N24/SUMIF(M$17:M$76,0,N$17:N$76)*($C$3-SUMIF(M$17:M$76,1,N$17:N$76)))) | P24: =IF(OR(O24>$E24,$G24=1,$J24=1,$M24=1),1,0) -> 0 | Q24: =IF($C24="","",MIN(O24,$E24)) | R24: =IF($C24="","",IF(P24=1,Q24,Q24/SUMIF(P$17:P$76,0,Q$17:Q$76)*($C$3-SUMIF(P$17:P$76,1,Q$17:Q$76)))) | S24: =IF(OR(R24>$E24,$G24=1,$J24=1,$M24=1,$P24=1),1,0) -> 0 | T24: =IF($C24="","",MIN(R24,$E24)) | U24: =IF($C24="","",IF(S24=1,T24,T24/SUMIF(S$17:S$76,0,T$17:T$76)*($C$3-SUMIF(S$17:S$76,1,T$17:T$76)))) | V24: =U24 | W24: =IF(C24="","",IFERROR(V24/SUMIF($V$17:$V$76,"<>#DIV/0!"),0))
B25: ='הגבלה לסכום מבוקש'!B25 | C25: ='הגבלה לסכום מבוקש'!C25 | E25: =IF(C25="","",IF(D25="",$C$3,MIN('הגבלה לסכום מבוקש'!D25,D25*$G$2))) | F25: =IF(E25="","",'תחשיב בסיסי'!N25) | G25: =IF(C25="","",IF(F25>$E25,1,0)) | H25: =IF($C25="","",MIN(E25:F25)) | I25: =IF($C25="","",IF(G25=1,H25,H25/SUMIF(G$17:G$76,0,H$17:H$76)*($C$3-SUMIF(G$17:G$76,1,H$17:H$76)))) | J25: =IF(OR(I25>$E25,$G25=1),1,0) -> 0 | K25: =IF($C25="","",MIN(I25,$E25)) | L25: =IF($C25="","",IF(J25=1,K25,K25/SUMIF(J$17:J$76,0,K$17:K$76)*($C$3-SUMIF(J$17:J$76,1,K$17:K$76)))) | M25: =IF(OR(L25>$E25,$G25=1,$J25=1),1,0) -> 0 | N25: =IF($C25="","",MIN(L25,$E25)) | O25: =IF($C25="","",IF(M25=1,N25,N25/SUMIF(M$17:M$76,0,N$17:N$76)*($C$3-SUMIF(M$17:M$76,1,N$17:N$76)))) | P25: =IF(OR(O25>$E25,$G25=1,$J25=1,$M25=1),1,0) -> 0 | Q25: =IF($C25="","",MIN(O25,$E25)) | R25: =IF($C25="","",IF(P25=1,Q25,Q25/SUMIF(P$17:P$76,0,Q$17:Q$76)*($C$3-SUMIF(P$17:P$76,1,Q$17:Q$76)))) | S25: =IF(OR(R25>$E25,$G25=1,$J25=1,$M25=1,$P25=1),1,0) -> 0 | T25: =IF($C25="","",MIN(R25,$E25)) | U25: =IF($C25="","",IF(S25=1,T25,T25/SUMIF(S$17:S$76,0,T$17:T$76)*($C$3-SUMIF(S$17:S$76,1,T$17:T$76)))) | V25: =U25 | W25: =IF(C25="","",IFERROR(V25/SUMIF($V$17:$V$76,"<>#DIV/0!"),0))
B26: ='הגבלה לסכום מבוקש'!B26 | C26: ='הגבלה לסכום מבוקש'!C26 | E26: =IF(C26="","",IF(D26="",$C$3,MIN('הגבלה לסכום מבוקש'!D26,D26*$G$2))) | F26: =IF(E26="","",'תחשיב בסיסי'!N26) | G26: =IF(C26="","",IF(F26>$E26,1,0)) | H26: =IF($C26="","",MIN(E26:F26)) | I26: =IF($C26="","",IF(G26=1,H26,H26/SUMIF(G$17:G$76,0,H$17:H$76)*($C$3-SUMIF(G$17:G$76,1,H$17:H$76)))) | J26: =IF(OR(I26>$E26,$G26=1),1,0) -> 0 | K26: =IF($C26="","",MIN(I26,$E26)) | L26: =IF($C26="","",IF(J26=1,K26,K26/SUMIF(J$17:J$76,0,K$17:K$76)*($C$3-SUMIF(J$17:J$76,1,K$17:K$76)))) | M26: =IF(OR(L26>$E26,$G26=1,$J26=1),1,0) -> 0 | N26: =IF($C26="","",MIN(L26,$E26)) | O26: =IF($C26="","",IF(M26=1,N26,N26/SUMIF(M$17:M$76,0,N$17:N$76)*($C$3-SUMIF(M$17:M$76,1,N$17:N$76)))) | P26: =IF(OR(O26>$E26,$G26=1,$J26=1,$M26=1),1,0) -> 0 | Q26: =IF($C26="","",MIN(O26,$E26)) | R26: =IF($C26="","",IF(P26=1,Q26,Q26/SUMIF(P$17:P$76,0,Q$17:Q$76)*($C$3-SUMIF(P$17:P$76,1,Q$17:Q$76)))) | S26: =IF(OR(R26>$E26,$G26=1,$J26=1,$M26=1,$P26=1),1,0) -> 0 | T26: =IF($C26="","",MIN(R26,$E26)) | U26: =IF($C26="","",IF(S26=1,T26,T26/SUMIF(S$17:S$76,0,T$17:T$76)*($C$3-SUMIF(S$17:S$76,1,T$17:T$76)))) | V26: =U26 | W26: =IF(C26="","",IFERROR(V26/SUMIF($V$17:$V$76,"<>#DIV/0!"),0))
B27: ='הגבלה לסכום מבוקש'!B27 | C27: ='הגבלה לסכום מבוקש'!C27 | E27: =IF(C27="","",IF(D27="",$C$3,MIN('הגבלה לסכום מבוקש'!D27,D27*$G$2))) | F27: =IF(E27="","",'תחשיב בסיסי'!N27) | G27: =IF(C27="","",IF(F27>$E27,1,0)) | H27: =IF($C27="","",MIN(E27:F27)) | I27: =IF($C27="","",IF(G27=1,H27,H27/SUMIF(G$17:G$76,0,H$17:H$76)*($C$3-SUMIF(G$17:G$76,1,H$17:H$76)))) | J27: =IF(OR(I27>$E27,$G27=1),1,0) -> 0 | K27: =IF($C27="","",MIN(I27,$E27)) | L27: =IF($C27="","",IF(J27=1,K27,K27/SUMIF(J$17:J$76,0,K$17:K$76)*($C$3-SUMIF(J$17:J$76,1,K$17:K$76)))) | M27: =IF(OR(L27>$E27,$G27=1,$J27=1),1,0) -> 0 | N27: =IF($C27="","",MIN(L27,$E27)) | O27: =IF($C27="","",IF(M27=1,N27,N27/SUMIF(M$17:M$76,0,N$17:N$76)*($C$3-SUMIF(M$17:M$76,1,N$17:N$76)))) | P27: =IF(OR(O27>$E27,$G27=1,$J27=1,$M27=1),1,0) -> 0 | Q27: =IF($C27="","",MIN(O27,$E27)) | R27: =IF($C27="","",IF(P27=1,Q27,Q27/SUMIF(P$17:P$76,0,Q$17:Q$76)*($C$3-SUMIF(P$17:P$76,1,Q$17:Q$76)))) | S27: =IF(OR(R27>$E27,$G27=1,$J27=1,$M27=1,$P27=1),1,0) -> 0 | T27: =IF($C27="","",MIN(R27,$E27)) | U27: =IF($C27="","",IF(S27=1,T27,T27/SUMIF(S$17:S$76,0,T$17:T$76)*($C$3-SUMIF(S$17:S$76,1,T$17:T$76)))) | V27: =U27 | W27: =IF(C27="","",IFERROR(V27/SUMIF($V$17:$V$76,"<>#DIV/0!"),0))
B28: ='הגבלה לסכום מבוקש'!B28 | C28: ='הגבלה לסכום מבוקש'!C28 | E28: =IF(C28="","",IF(D28="",$C$3,MIN('הגבלה לסכום מבוקש'!D28,D28*$G$2))) | F28: =IF(E28="","",'תחשיב בסיסי'!N28) | G28: =IF(C28="","",IF(F28>$E28,1,0)) | H28: =IF($C28="","",MIN(E28:F28)) | I28: =IF($C28="","",IF(G28=1,H28,H28/SUMIF(G$17:G$76,0,H$17:H$76)*($C$3-SUMIF(G$17:G$76,1,H$17:H$76)))) | J28: =IF(OR(I28>$E28,$G28=1),1,0) -> 0 | K28: =IF($C28="","",MIN(I28,$E28)) | L28: =IF($C28="","",IF(J28=1,K28,K28/SUMIF(J$17:J$76,0,K$17:K$76)*($C$3-SUMIF(J$17:J$76,1,K$17:K$76)))) | M28: =IF(OR(L28>$E28,$G28=1,$J28=1),1,0) -> 0 | N28: =IF($C28="","",MIN(L28,$E28)) | O28: =IF($C28="","",IF(M28=1,N28,N28/SUMIF(M$17:M$76,0,N$17:N$76)*($C$3-SUMIF(M$17:M$76,1,N$17:N$76)))) | P28: =IF(OR(O28>$E28,$G28=1,$J28=1,$M28=1),1,0) -> 0 | Q28: =IF($C28="","",MIN(O28,$E28)) | R28: =IF($C28="","",IF(P28=1,Q28,Q28/SUMIF(P$17:P$76,0,Q$17:Q$76)*($C$3-SUMIF(P$17:P$76,1,Q$17:Q$76)))) | S28: =IF(OR(R28>$E28,$G28=1,$J28=1,$M28=1,$P28=1),1,0) -> 0 | T28: =IF($C28="","",MIN(R28,$E28)) | U28: =IF($C28="","",IF(S28=1,T28,T28/SUMIF(S$17:S$76,0,T$17:T$76)*($C$3-SUMIF(S$17:S$76,1,T$17:T$76)))) | V28: =U28 | W28: =IF(C28="","",IFERROR(V28/SUMIF($V$17:$V$76,"<>#DIV/0!"),0))
B29: ='הגבלה לסכום מבוקש'!B29 | C29: ='הגבלה לסכום מבוקש'!C29 | E29: =IF(C29="","",IF(D29="",$C$3,MIN('הגבלה לסכום מבוקש'!D29,D29*$G$2))) | F29: =IF(E29="","",'תחשיב בסיסי'!N29) | G29: =IF(C29="","",IF(F29>$E29,1,0)) | H29: =IF($C29="","",MIN(E29:F29)) | I29: =IF($C29="","",IF(G29=1,H29,H29/SUMIF(G$17:G$76,0,H$17:H$76)*($C$3-SUMIF(G$17:G$76,1,H$17:H$76)))) | J29: =IF(OR(I29>$E29,$G29=1),1,0) -> 0 | K29: =IF($C29="","",MIN(I29,$E29)) | L29: =IF($C29="","",IF(J29=1,K29,K29/SUMIF(J$17:J$76,0,K$17:K$76)*($C$3-SUMIF(J$17:J$76,1,K$17:K$76)))) | M29: =IF(OR(L29>$E29,$G29=1,$J29=1),1,0) -> 0 | N29: =IF($C29="","",MIN(L29,$E29)) | O29: =IF($C29="","",IF(M29=1,N29,N29/SUMIF(M$17:M$76,0,N$17:N$76)*($C$3-SUMIF(M$17:M$76,1,N$17:N$76)))) | P29: =IF(OR(O29>$E29,$G29=1,$J29=1,$M29=1),1,0) -> 0 | Q29: =IF($C29="","",MIN(O29,$E29)) | R29: =IF($C29="","",IF(P29=1,Q29,Q29/SUMIF(P$17:P$76,0,Q$17:Q$76)*($C$3-SUMIF(P$17:P$76,1,Q$17:Q$76)))) | S29: =IF(OR(R29>$E29,$G29=1,$J29=1,$M29=1,$P29=1),1,0) -> 0 | T29: =IF($C29="","",MIN(R29,$E29)) | U29: =IF($C29="","",IF(S29=1,T29,T29/SUMIF(S$17:S$76,0,T$17:T$76)*($C$3-SUMIF(S$17:S$76,1,T$17:T$76)))) | V29: =U29 | W29: =IF(C29="","",IFERROR(V29/SUMIF($V$17:$V$76,"<>#DIV/0!"),0))
B30: ='הגבלה לסכום מבוקש'!B30 | C30: ='הגבלה לסכום מבוקש'!C30 | E30: =IF(C30="","",IF(D30="",$C$3,MIN('הגבלה לסכום מבוקש'!D30,D30*$G$2))) | F30: =IF(E30="","",'תחשיב בסיסי'!N30) | G30: =IF(C30="","",IF(F30>$E30,1,0)) | H30: =IF($C30="","",MIN(E30:F30)) | I30: =IF($C30="","",IF(G30=1,H30,H30/SUMIF(G$17:G$76,0,H$17:H$76)*($C$3-SUMIF(G$17:G$76,1,H$17:H$76)))) | J30: =IF(OR(I30>$E30,$G30=1),1,0) -> 0 | K30: =IF($C30="","",MIN(I30,$E30)) | L30: =IF($C30="","",IF(J30=1,K30,K30/SUMIF(J$17:J$76,0,K$17:K$76)*($C$3-SUMIF(J$17:J$76,1,K$17:K$76)))) | M30: =IF(OR(L30>$E30,$G30=1,$J30=1),1,0) -> 0 | N30: =IF($C30="","",MIN(L30,$E30)) | O30: =IF($C30="","",IF(M30=1,N30,N30/SUMIF(M$17:M$76,0,N$17:N$76)*($C$3-SUMIF(M$17:M$76,1,N$17:N$76)))) | P30: =IF(OR(O30>$E30,$G30=1,$J30=1,$M30=1),1,0) -> 0 | Q30: =IF($C30="","",MIN(O30,$E30)) | R30: =IF($C30="","",IF(P30=1,Q30,Q30/SUMIF(P$17:P$76,0,Q$17:Q$76)*($C$3-SUMIF(P$17:P$76,1,Q$17:Q$76)))) | S30: =IF(OR(R30>$E30,$G30=1,$J30=1,$M30=1,$P30=1),1,0) -> 0 | T30: =IF($C30="","",MIN(R30,$E30)) | U30: =IF($C30="","",IF(S30=1,T30,T30/SUMIF(S$17:S$76,0,T$17:T$76)*($C$3-SUMIF(S$17:S$76,1,T$17:T$76)))) | V30: =U30 | W30: =IF(C30="","",IFERROR(V30/SUMIF($V$17:$V$76,"<>#DIV/0!"),0))
B31: ='הגבלה לסכום מבוקש'!B31 | C31: ='הגבלה לסכום מבוקש'!C31 | E31: =IF(C31="","",IF(D31="",$C$3,MIN('הגבלה לסכום מבוקש'!D31,D31*$G$2))) | F31: =IF(E31="","",'תחשיב בסיסי'!N31) | G31: =IF(C31="","",IF(F31>$E31,1,0)) | H31: =IF($C31="","",MIN(E31:F31)) | I31: =IF($C31="","",IF(G31=1,H31,H31/SUMIF(G$17:G$76,0,H$17:H$76)*($C$3-SUMIF(G$17:G$76,1,H$17:H$76)))) | J31: =IF(OR(I31>$E31,$G31=1),1,0) -> 0 | K31: =IF($C31="","",MIN(I31,$E31)) | L31: =IF($C31="","",IF(J31=1,K31,K31/SUMIF(J$17:J$76,0,K$17:K$76)*($C$3-SUMIF(J$17:J$76,1,K$17:K$76)))) | M31: =IF(OR(L31>$E31,$G31=1,$J31=1),1,0) -> 0 | N31: =IF($C31="","",MIN(L31,$E31)) | O31: =IF($C31="","",IF(M31=1,N31,N31/SUMIF(M$17:M$76,0,N$17:N$76)*($C$3-SUMIF(M$17:M$76,1,N$17:N$76)))) | P31: =IF(OR(O31>$E31,$G31=1,$J31=1,$M31=1),1,0) -> 0 | Q31: =IF($C31="","",MIN(O31,$E31)) | R31: =IF($C31="","",IF(P31=1,Q31,Q31/SUMIF(P$17:P$76,0,Q$17:Q$76)*($C$3-SUMIF(P$17:P$76,1,Q$17:Q$76)))) | S31: =IF(OR(R31>$E31,$G31=1,$J31=1,$M31=1,$P31=1),1,0) -> 0 | T31: =IF($C31="","",MIN(R31,$E31)) | U31: =IF($C31="","",IF(S31=1,T31,T31/SUMIF(S$17:S$76,0,T$17:T$76)*($C$3-SUMIF(S$17:S$76,1,T$17:T$76)))) | V31: =U31 | W31: =IF(C31="","",IFERROR(V31/SUMIF($V$17:$V$76,"<>#DIV/0!"),0))
B32: ='הגבלה לסכום מבוקש'!B32 | C32: ='הגבלה לסכום מבוקש'!C32 | E32: =IF(C32="","",IF(D32="",$C$3,MIN('הגבלה לסכום מבוקש'!D32,D32*$G$2))) | F32: =IF(E32="","",'תחשיב בסיסי'!N32) | G32: =IF(C32="","",IF(F32>$E32,1,0)) | H32: =IF($C32="","",MIN(E32:F32)) | I32: =IF($C32="","",IF(G32=1,H32,H32/SUMIF(G$17:G$76,0,H$17:H$76)*($C$3-SUMIF(G$17:G$76,1,H$17:H$76)))) | J32: =IF(OR(I32>$E32,$G32=1),1,0) -> 0 | K32: =IF($C32="","",MIN(I32,$E32)) | L32: =IF($C32="","",IF(J32=1,K32,K32/SUMIF(J$17:J$76,0,K$17:K$76)*($C$3-SUMIF(J$17:J$76,1,K$17:K$76)))) | M32: =IF(OR(L32>$E32,$G32=1,$J32=1),1,0) -> 0 | N32: =IF($C32="","",MIN(L32,$E32)) | O32: =IF($C32="","",IF(M32=1,N32,N32/SUMIF(M$17:M$76,0,N$17:N$76)*($C$3-SUMIF(M$17:M$76,1,N$17:N$76)))) | P32: =IF(OR(O32>$E32,$G32=1,$J32=1,$M32=1),1,0) -> 0 | Q32: =IF($C32="","",MIN(O32,$E32)) | R32: =IF($C32="","",IF(P32=1,Q32,Q32/SUMIF(P$17:P$76,0,Q$17:Q$76)*($C$3-SUMIF(P$17:P$76,1,Q$17:Q$76)))) | S32: =IF(OR(R32>$E32,$G32=1,$J32=1,$M32=1,$P32=1),1,0) -> 0 | T32: =IF($C32="","",MIN(R32,$E32)) | U32: =IF($C32="","",IF(S32=1,T32,T32/SUMIF(S$17:S$76,0,T$17:T$76)*($C$3-SUMIF(S$17:S$76,1,T$17:T$76)))) | V32: =U32 | W32: =IF(C32="","",IFERROR(V32/SUMIF($V$17:$V$76,"<>#DIV/0!"),0))
... B76: ='הגבלה לסכום מבוקש'!B76 | C76: ='הגבלה לסכום מבוקש'!C76 | E76: =IF(C76="","",IF(D76="",$C$3,MIN('הגבלה לסכום מבוקש'!D76,D76*$G$2))) | F76: =IF(E76="","",'תחשיב בסיסי'!N76) | G76: =IF(C76="","",IF(F76>$E76,1,0)) | H76: =IF($C76="","",MIN(E76:F76)) | I76: =IF($C76="","",IF(G76=1,H76,H76/SUMIF(G$17:G$76,0,H$17:H$76)*($C$3-SUMIF(G$17:G$76,1,H$17:H$76)))) | J76: =IF(OR(I76>$E76,$G76=1),1,0) -> 0 | K76: =IF($C76="","",MIN(I76,$E76)) | L76: =IF($C76="","",IF(J76=1,K76,K76/SUMIF(J$17:J$76,0,K$17:K$76)*($C$3-SUMIF(J$17:J$76,1,K$17:K$76)))) | M76: =IF(OR(L76>$E76,$G76=1,$J76=1),1,0) -> 0 | N76: =IF($C76="","",MIN(L76,$E76)) | O76: =IF($C76="","",IF(M76=1,N76,N76/SUMIF(M$17:M$76,0,N$17:N$76)*($C$3-SUMIF(M$17:M$76,1,N$17:N$76)))) | P76: =IF(OR(O76>$E76,$G76=1,$J76=1,$M76=1),1,0) -> 0 | Q76: =IF($C76="","",MIN(O76,$E76)) | R76: =IF($C76="","",IF(P76=1,Q76,Q76/SUMIF(P$17:P$76,0,Q$17:Q$76)*($C$3-SUMIF(P$17:P$76,1,Q$17:Q$76)))) | S76: =IF(OR(R76>$E76,$G76=1,$J76=1,$M76=1,$P76=1),1,0) -> 0 | T76: =IF($C76="","",MIN(R76,$E76)) | U76: =IF($C76="","",IF(S76=1,T76,T76/SUMIF(S$17:S$76,0,T$17:T$76)*($C$3-SUMIF(S$17:S$76,1,T$17:T$76)))) | V76: =U76 | W76: =IF(C76="","",IFERROR(V76/SUMIF($V$17:$V$76,"<>#DIV/0!"),0))
F77: =SUM(F17:F76) -> 6500000 | H77: =SUM(H17:H76) -> 6500000 | I77: =SUM(I17:I76) -> 6500000 | J77: =SUM(J17:J76) -> 0 | K77: =SUM(K17:K76) -> 6500000 | L77: =SUM(L17:L76) -> 6500000 | N77: =SUM(N17:N76) -> 6500000 | O77: =SUM(O17:O76) -> 6500000 | P77: =SUM(P17:P76) -> 0 | Q77: =SUM(Q17:Q76) -> 6500000 | R77: =SUM(R17:R76) -> 6500000 | S77: =SUM(S17:S76) -> 0 | T77: =SUM(T17:T76) -> 6500000 | U77: =SUM(U17:U76) -> 6500000 | ... W77: =SUM(W17:W76) -> 1

Sheet סיכום
B2: =פרמטרים!B9 -> שנת תקציב | C2: =פרמטרים!C9 -> 2025
B3: =פרמטרים!B10 -> גובה תמיכה | C3: =פרמטרים!C10 -> 6500000
B14: =MID(CELL("filename",A13),FIND("]",CELL("filename",A13),1)+1,99) -> סיכום
B15: ='ספרים בשפות זרות'!B18 -> מספר סידורי | C15: ='ספרים בשפות זרות'!C18 -> שם המוסד | D15: שיעור תמיכה | E15: גובה תמיכה
B17: ='הגבלה לסכום מבוקש'!B17 -> 1 | C17: ='הגבלה לסכום מבוקש'!C17 -> הספריה המרכזית לעיוורים | D17: ='הגבלה לסכום מבוקש'!V17 -> 0.75016122 | E17: =IF(C17="","",D17*$C$3) -> 4876047.9
B18: ='הגבלה לסכום מבוקש'!B18 -> 2 | C18: ='הגבלה לסכום מבוקש'!C18 -> מסיל"ה | D18: ='הגבלה לסכום מבוקש'!V18 -> 0.037893285 | E18: =IF(C18="","",D18*$C$3) -> 246306.35
B19: ='הגבלה לסכום מבוקש'!B19 -> 3 | C19: ='הגבלה לסכום מבוקש'!C19 -> עמותת עלה | D19: ='הגבלה לסכום מבוקש'!V19 -> 0.07842233 | E19: =IF(C19="","",D19*$C$3) -> 509745.15
B20: ='הגבלה לסכום מבוקש'!B20 -> 4 | C20: ='הגבלה לסכום מבוקש'!C20 -> עמותת אלמנארה | D20: ='הגבלה לסכום מבוקש'!V20 -> 0.13352316 | E20: =IF(C20="","",D20*$C$3) -> 867900.56
B21: ='הגבלה לסכום מבוקש'!B21 | C21: ='הגבלה לסכום מבוקש'!C21 | D21: ='הגבלה לסכום מבוקש'!V21 | E21: =IF(C21="","",D21*$C$3)
B22: ='הגבלה לסכום מבוקש'!B22 | C22: ='הגבלה לסכום מבוקש'!C22 | D22: ='הגבלה לסכום מבוקש'!V22 | E22: =IF(C22="","",D22*$C$3)
B23: ='הגבלה לסכום מבוקש'!B23 | C23: ='הגבלה לסכום מבוקש'!C23 | D23: ='הגבלה לסכום מבוקש'!V23 | E23: =IF(C23="","",D23*$C$3)
B24: ='הגבלה לסכום מבוקש'!B24 | C24: ='הגבלה לסכום מבוקש'!C24 | D24: ='הגבלה לסכום מבוקש'!V24 | E24: =IF(C24="","",D24*$C$3)
B25: ='הגבלה לסכום מבוקש'!B25 | C25: ='הגבלה לסכום מבוקש'!C25 | D25: ='הגבלה לסכום מבוקש'!V25 | E25: =IF(C25="","",D25*$C$3)
B26: ='הגבלה לסכום מבוקש'!B26 | C26: ='הגבלה לסכום מבוקש'!C26 | D26: ='הגבלה לסכום מבוקש'!V26 | E26: =IF(C26="","",D26*$C$3)
B27: ='הגבלה לסכום מבוקש'!B27 | C27: ='הגבלה לסכום מבוקש'!C27 | D27: ='הגבלה לסכום מבוקש'!V27 | E27: =IF(C27="","",D27*$C$3)
