Workbook
Name a: #REF!
Name a: #REF!
Name a: #REF!
Name a: #REF!
Name a: #REF!
Name a: #REF!
Name a: #REF!
Name a: #REF!
Name a: #REF!
Name a: #REF!
Name a: #REF!
Name a: #REF!
Name a: #REF!
Name a: #REF!
Name a: #REF!
Name a: #REF!
Name a: #REF!
Name a: #REF!
Name a: #REF!
Name a: #REF!
Name a: #REF!
Name a: #REF!
Name a: #REF!
Name a: #REF!
Name a: #REF!
Name a: #REF!
Name a: #REF!
Name a: #REF!
Name aa: #REF!
Name aa: #REF!
Name aa: #REF!
Name aa: #REF!
Name aa: #REF!
Name aa: #REF!
Name aa: #REF!
Name aa: #REF!
Name aa: #REF!
Name aa: #REF!
Name aa: #REF!
Name aa: #REF!
Name aa: #REF!
Name aa: #REF!
Name aa: #REF!
Name aa: #REF!
Name aa: #REF!
Name aa: #REF!
Name aa: #REF!
Name aa: #REF!
Name aa: #REF!
Name aa: #REF!
Name aa: #REF!
Name aa: #REF!
Name b: #REF!
Name b: #REF!
Name b: #REF!
Name b: #REF!
Name b: #REF!
Name b: #REF!
Name b: #REF!
Name b: #REF!

Sheet ProtectSettings
B1: 0.69242495
B2: 45441.59
A6: AllowFilterCheckBox
A7: AllowFormattingCheckBox
A8: AllowColumnFormattingCheckBox | B8: TRUE
A9: AllowRowFormattingCheckBox | B9: TRUE
B21: 1 | C21: ProtectSettings
B22: 2 | C22: הדרכה למשתמש
B23: 3 | C23: פרמטרים לקריטריונים
B24: 4 | C24: הוראת שעה
B25: 5 | C25: תנאי סף
B26: 6 | C26: מספר בקשות תמיכה
B27: 7 | C27: ייעוץ ליווי וסיוע חשבונאי
B28: 8 | C28: ייעוץ ליווי וסיוע משפטי
B29: 9 | C29: ייעוץ ליווי וסיוע מקצועי
B30: 10 | C30: פרסום ושיווק
B31: 11 | C31: העמדת חלל לצורכי האמנים
B32: 12 | C32: ניוד מופעים לפריפריה
... B48: 28 | C48: איב
B49: 29 | C49: 4
B50: 30 | C50: הרכב חברי הוועדה-לא רלוונטי
B51: 31 | C51: 5
B52: 32 | C52: 6
B53: 33 | C53: 7
B54: 34 | C54: 8
B55: 35 | C55: 9
B56: 36 | C56: 10
B57: 37 | C57: ריכוז גיליונות עזר

Sheet הדרכה למשתמש
B2: הדרכה למשתמש
B4: תאריך בניית המודל | C4: 42583
B5: תאריך עדכון מודל | C5: 43599
B7: הערות חשובות: בעת עריכת המודל - חל איסור מוחלט לבצע גזירה והדבקה או העברה של תא ממקום למקום על ידי גרירה. אסור לבצע "הוספה" או "מחיקה" של שורות או עמודות יש לפתוח את המודל בגרסת אקסל 2010 לפחות. חל איסור לשמור את הקובץ בפורמט התואם אקסל 97-2003
B9: הוראת שעה/מעבר:
B11: הדרכה להזנת נתונים
B12: צבע התא | C12: מטרת התא | D12: דגש
B13: צהוב הזנה | C13: הזנת נתונים | D13: נדרש להזין מידע בהתאם להנחיות מבחן התמיכה, אי הזנה של תא יכולה להביא לידי שגיאה בתוצאות במודל.
B14: חום | C14: הצגת מידע | D14: תא שאיננו מיועד להזנה. תא זה מציג מידע עפ"י נוסחה קבועה ואין לשנות אותה.
B15: אדום | C15: התראת שגיאה | D15: קיימת שגיאה בהזנת נתונים באחד מהתאים המיועדים להזנה, נדרש להזין את הנתונים הנדרשים לפני קביעת גובה תמיכה סופי.
B16: צהוב אזהרה | C16: התראת שגיאה | D16: קיימת שגיאה בהזנת נתונים באחד מהתאים המיועדים להזנה, אך עדיין מוצגים נתוני גובה התמיכה, נדרש להזין את הנתונים הנדרשים לפני קביעת גובה תמיכה סופי.
B17: את רשימת המוסדות יש להזין בגיליונות השמאליים של הקובץ הממוספרים מ1 עד 10 במקום שם הגיליון , גיליון שממוספר מ1-10 ואינו נמצא בשימוש אין לשנות את שם הגיליון הקיים כברירת מחדל (מספר סידורי). במידה והוחלט לא להשתמש בגיליון לאחר כתיבת השם, נדרש לשנות חזרה את שם הגיליון למספר סידורי
B33: ניהול גרסאות
B34: מספר גרסה | C34: תאריך עדכון גרסה | D34: תאריך גרסה של מבחן תמיכה | E34: התאמות נוספות של מבחן תמיכה
B35: 1 | C35: 42592 | D35: 42578 | E35: א. עדכון משתנה יצירת שיתופי פעולה על פי הנחייה במייל מיום 10.8.16. ב. עדכון גיליון הגנה (2) בהוראת מעבר בהתאם להנחיית וועדת התמיכות כך שיינתן הגנה של 100% לכלל הגופים לפי גובה תמיכה של שנה קודמת. (לפי סכום) בהינתן שגובה תמיכה של השנה השוטפת הוא לפחות התמיכה של שנה קודמת. במידה וקיים תקציב בשנה השוטפת מעבר לקיים בשנה קודמת יש לחלק אותו באופן יחסי בין כל הגופים שנפגעו מההגנה לפי הסכום היחסי שהיה בניהם לפני ההגנה. לאחר שחולק סכום כסף כך שכל הגופים מקבלים את הסכום לפני ההגנה, במידה ועדיין קיים כסף נוסף לחלוקה, הוא יחולק באופן יחסי בין כל הגופים לפי השיעור היחסי הקיים בשלב זה. ג. גיליון הגנה - בהתאם לבקשת כלנית שיעור הייצוב היחסי של שנה קודמת הוא לא אחרי השלב השלישי אלא הסופי.
B36: 2 | C36: 42673 | D36: 42640 | E36: א. בניית גיליונות ייצוב והגנה התואמים להוראות שעה. ב. עדכון כל המוסדות עם פרמטרים חדשים של קיום פעילות מקצועית לרווחת האמנים העצמאיים ולהעשרתם.
B37: 3 | C37: 42845 | D37: =D36 -> 42640 | E37: התאמת גיליונות ייצוב והגנה ל-2017 והלאה (לאחר הוראות שעה)

Sheet פרמטרים לקריטריונים
B2: ארגוני גג
B4: שנת תקציב | C4: 2025
B5: תקציב התמיכה | C5: 2951409
B30: משקולות קריטריונים
B31: סעיף | C31: משקל
B32: מספר בקשות התמיכה שהגיש ארגון הגג למשרד התרבות | C32: 0.15
B33: ייעוץ ליווי וסיוע חשבונאי | C33: 0.1
B34: ייעוץ ליווי וסיוע משפטי | C34: 0.1
B35: ייעוץ ליווי וסיוע מקצועי | C35: 0.15
B36: פרסום, שיווק ויחסי ציבור כללי | C36: 0.1
B37: החזקת או העמדת חללים לצורכי האמנים העצמאיים | C37: 0.1
B38: ניוד מופעים לפריפריה | C38: 0.1
B39: קיום פעילות מקצועית לרווחת האמנים העצמאיים ולהעשרתם | C39: 0.1
B40: יצירת שיתופי פעולה בין האמנים | C40: 0.1
B58: סה"כ | C58: =SUM(C32:C57) -> 1
B60: ="פרמטרים לחישוב ניקוד משתנה "&$B$32 -> פרמטרים לחישוב ניקוד משתנה מספר בקשות התמיכה שהגיש ארגון הגג למשרד התרבות
B61: סעיף | C61: ניקוד
B62: עבור כל הגשת בקשה אחת | C62: 1
B90: ="פרמטרים לחישוב ניקוד משתנה "&$B$33 -> פרמטרים לחישוב ניקוד משתנה ייעוץ ליווי וסיוע חשבונאי
B91: סעיף | C91: ניקוד
B92: עבור כל אמן עצמאי אחד | C92: 1
B120: ="פרמטרים לחישוב ניקוד משתנה "&$B$34 -> פרמטרים לחישוב ניקוד משתנה ייעוץ ליווי וסיוע משפטי
B121: סעיף | C121: סכום סיוע | D121: ניקוד
B122: עבור כל אמן עצמאי אחד | C122: - | D122: 1
B123: היקף סיוע של: | C123: 1000 | D123: 1
B150: ="פרמטרים לחישוב ניקוד משתנה "&$B$35 -> פרמטרים לחישוב ניקוד משתנה ייעוץ ליווי וסיוע מקצועי
B151: סעיף | C151: ניקוד
B152: עבור כל אמן עצמאי אחד | C152: 1
B180: ="פרמטרים לחישוב ניקוד משתנה "&$B$36 -> פרמטרים לחישוב ניקוד משתנה פרסום, שיווק ויחסי ציבור כללי
B181: סעיף | C181: סכום סיוע | D181: ניקוד
B182: עבור כל אמן עצמאי אחד | C182: - | D182: 1
B183: היקף מימון של: | C183: 1000 | D183: 1
B210: ="פרמטרים לחישוב ניקוד משתנה "&$B$37 -> פרמטרים לחישוב ניקוד משתנה החזקת או העמדת חללים לצורכי האמנים העצמאיים
B211: סעיף | C211: ניקוד
B212: כל מ"ר חלל | C212: 1
B213: סעיף | C213: מכפיל
B214: חלל להעלת מופעים/חזרות | C214: 2
B215: חלל לאחסון ציוד ותפאורה | C215: 1
B240: ="פרמטרים לחישוב ניקוד משתנה "&$B$38 -> פרמטרים לחישוב ניקוד משתנה ניוד מופעים לפריפריה
B241: סעיף | C241: ניקוד | D241: סימול
...

Sheet הוראת שעה
B5: האם חלה הוראת השנה בשנה הספציפית
A6: 2019 | B6: =A6=$B$2 -> FALSE | C6: העסיק במהלך השנת התקציבית הקודמת מערך ייעוץ מקצועי הכולל מנהל מוסד ציבור - בעל ניסיון מקצועי ניהולי מוכח של חמש שנים לפחות בתחום המבוקש לתמיכה המועסק במשרה מלאה ואיש כספים המועסק בשליש משרה לפחות
A7: =A6+1 -> 2020 | B7: =A7=$B$2 -> FALSE | C7: העסיק במהלך השנת התקציבית הקודמת מערך ייעוץ מקצועי הכולל מנהל מוסד ציבור - בעל ניסיון מקצועי ניהולי מוכח של חמש שנים לפחות בתחום המבוקש לתמיכה המועסק במשרה מלאה ובנוסף איש כספים המועסק בשליש משרה לפחות; כל משרה - אדם אחר
A8: =A7+1 -> 2021 | B8: =A8=$B$2 -> FALSE | C8: העסיק במהלך השנת התקציבית הקודמת מערך ייעוץ מקצועי הכולל מנהל מוסד ציבור - בעל ניסיון מקצועי ניהולי מוכח של חמש שנים לפחות בתחום המבוקש לתמיכה המועסק במשרה מלאה ובנוסף איש כספים המועסק בשליש משרה לפחות; כל משרה - אדם אחר
A9: =A8+1 -> 2022 | B9: =A9=$B$2 -> FALSE | C9: העסיק במהלך השנת התקציבית הקודמת מערך ייעוץ מקצועי הכולל מנהל מוסד ציבור - בעל ניסיון מקצועי ניהולי מוכח של חמש שנים לפחות בתחום המבוקש לתמיכה המועסק במשרה מלאה ובנוסף איש כספים המועסק בשליש משרה לפחות; כל משרה - אדם אחר
A10: =A9+1 -> 2023 | B10: =A10=$B$2 -> FALSE | C10: העסיק במהלך השנת התקציבית הקודמת מערך ייעוץ מקצועי הכולל מנהל מוסד ציבור - בעל ניסיון מקצועי ניהולי מוכח של חמש שנים לפחות בתחום המבוקש לתמיכה המועסק במשרה מלאה ובנוסף איש כספים המועסק בשליש משרה לפחות; כל משרה - אדם אחר
A11: =A10+1 -> 2024 | B11: =A11=$B$2 -> FALSE | C11: העסיק במהלך השנת התקציבית הקודמת מערך ייעוץ מקצועי הכולל מנהל מוסד ציבור - בעל ניסיון מקצועי ניהולי מוכח של חמש שנים לפחות בתחום המבוקש לתמיכה המועסק במשרה מלאה ובנוסף איש כספים המועסק בשליש משרה לפחות; כל משרה - אדם אחר
A12: =A11+1 -> 2025 | B12: =A12=$B$2 -> FALSE | C12: העסיק במהלך השנת התקציבית הקודמת מערך ייעוץ מקצועי הכולל מנהל מוסד ציבור - בעל ניסיון מקצועי ניהולי מוכח של חמש שנים לפחות בתחום המבוקש לתמיכה המועסק במשרה מלאה ובנוסף איש כספים המועסק בשליש משרה לפחות; כל משרה - אדם אחר
A13: =A12+1 -> 2026 | B13: =A13=$B$2 -> FALSE | C13: העסיק במהלך השנת התקציבית הקודמת מערך ייעוץ מקצועי הכולל מנהל מוסד ציבור - בעל ניסיון מקצועי ניהולי מוכח של חמש שנים לפחות בתחום המבוקש לתמיכה המועסק במשרה מלאה ובנוסף איש כספים המועסק בשליש משרה לפחות; כל משרה - אדם אחר
A14: =A13+1 -> 2027 | B14: =A14=$B$2 -> FALSE | C14: העסיק במהלך השנת התקציבית הקודמת מערך ייעוץ מקצועי הכולל מנהל מוסד ציבור - בעל ניסיון מקצועי ניהולי מוכח של חמש שנים לפחות בתחום המבוקש לתמיכה המועסק במשרה מלאה ובנוסף איש כספים המועסק בשליש משרה לפחות; כל משרה - אדם אחר
A15: =A14+1 -> 2028 | B15: =A15=$B$2 -> FALSE | C15: העסיק במהלך השנת התקציבית הקודמת מערך ייעוץ מקצועי הכולל מנהל מוסד ציבור - בעל ניסיון מקצועי ניהולי מוכח של חמש שנים לפחות בתחום המבוקש לתמיכה המועסק במשרה מלאה ובנוסף איש כספים המועסק בשליש משרה לפחות; כל משרה - אדם אחר
A16: =A15+1 -> 2029 | B16: =A16=$B$2 -> FALSE | C16: העסיק במהלך השנת התקציבית הקודמת מערך ייעוץ מקצועי הכולל מנהל מוסד ציבור - בעל ניסיון מקצועי ניהולי מוכח של חמש שנים לפחות בתחום המבוקש לתמיכה המועסק במשרה מלאה ובנוסף איש כספים המועסק בשליש משרה לפחות; כל משרה - אדם אחר
A17: =A16+1 -> 2030 | B17: =A17=$B$2 -> FALSE | C17: העסיק במהלך השנת התקציבית הקודמת מערך ייעוץ מקצועי הכולל מנהל מוסד ציבור - בעל ניסיון מקצועי ניהולי מוכח של חמש שנים לפחות בתחום המבוקש לתמיכה המועסק במשרה מלאה ובנוסף איש כספים המועסק בשליש משרה לפחות; כל משרה - אדם אחר
A18: =A17+1 -> 2031 | B18: =A18=$B$2 -> FALSE | C18: העסיק במהלך השנת התקציבית הקודמת מערך ייעוץ מקצועי הכולל מנהל מוסד ציבור - בעל ניסיון מקצועי ניהולי מוכח של חמש שנים לפחות בתחום המבוקש לתמיכה המועסק במשרה מלאה ובנוסף איש כספים המועסק בשליש משרה לפחות; כל משרה - אדם אחר
... A20: =A19+1 -> 2033 | B20: =A20=$B$2 -> FALSE | C20: העסיק במהלך השנת התקציבית הקודמת מערך ייעוץ מקצועי הכולל מנהל מוסד ציבור - בעל ניסיון מקצועי ניהולי מוכח של חמש שנים לפחות בתחום המבוקש לתמיכה המועסק במשרה מלאה ובנוסף איש כספים המועסק בשליש משרה לפחות; כל משרה - אדם אחר

Sheet תנאי סף
B1: =MID(CELL("filename",AV2),FIND("]",CELL("filename",AV2),1)+1,99) -> תנאי סף | AU1: בדוק נתוני הזנה | AW1: סוגי בקרות | AX1: 0/1 | AY1: מספר | AZ1: מספר שלם | BA1: מספר שאינו שלילי | BB1: מספר שלם שאינו שלילי | BC1: מספר חיובי | BD1: מספר שלם חיובי | BE1: טקסט | BF1: טקסט מרשימה סגורה
AR2: ='פרמטרים לקריטריונים'!$B$4 -> שנת תקציב | AS2: ='פרמטרים לקריטריונים'!$C$4 -> 2025 | AX2: =IF(ISNA(MATCH(G31,$AU$30:$AV$30,0)),0,1) -> 0 | AY2: =IF(IFERROR(G31*1,"bad")="bad",0,1) -> 1 | AZ2: =IF(IFERROR(IF(G31=TRUNC(G31),1,"bad"),"bad")="bad",0,1) -> 1 | BA2: =IF(AND(IF(IFERROR(G31*1,"bad")="bad",0,1)=1,G31>=0),1,0) -> 1 | BB2: =IF(AND(IF(IFERROR(IF(G31=TRUNC(G31),1,"bad"),"bad")="bad",0,1)=1,G31>=0),1,0) -> 1 | BC2: =IF(AND(IF(IFERROR(G31*1,"bad")="bad",0,1)=1,G31>0),1,0) -> 1 | BD2: =IF(AND(IF(IFERROR(IF(G31=TRUNC(G31),1,"bad"),"bad")="bad",0,1)=1,G31>0),1,0) -> 1 | BE2: 1 | BF2: =IF(IFERROR(HLOOKUP(G31,$CL$30:$CV$30,1,0),"bad")="bad",0,1) -> 0
AR3: ='פרמטרים לקריטריונים'!$B$5 -> תקציב התמיכה | AS3: ='פרמטרים לקריטריונים'!$C$5 -> 2951409 | AV3: =IF(G$30="",1,IF(G31="",0,IF(G$30=$AX$1,11,IF(G$30=$AY$1,12,IF(G$30=$AFP1,13,IF(G$30=$BA$1,14,IF(G$30=$BB$1,15,IF(G$30=$BC$1,16,IF(G$30=$BD$1,17,IF(G$30=$BE$1,18,IF(G$30=$BF$1,19,0))))))))))) -> 15 | AW3: מספר בקרה | AX3: 1 | AY3: 2 | AZ3: 3 | BA3: 4 | BB3: 5 | BC3: 6 | BD3: 7 | BE3: 8 | BF3: 9
F4: רלוונטי למבחן עמידה בתנאי סף? 1=רלוונטי. 0= לא רלוונטי אבל נדרשת בקרה על הזנת נתונים. 99= לא רלוונטי ולא נדרשת בקה על הזנת נתונים | G4: 0 | H4: 0 | I4: 0 | J4: 1 | K4: 1 | L4: 1 | M4: 1 | N4: 1 | O4: 1 | P4: 1 | Q4: 1 | R4: 1 | S4: 1 | T4: 1 | U4: 1 | W4: 1 | X4: 1 | Y4: 1 | Z4: 1 | AA4: 1 | AB4: 1 | AC4: 1 | AD4: 1 | AE4: 1 | AF4: 1 | AG4: 1 | AH4: 1 | AI4: 1 | AJ4: 1 | AK4: 1 | AL4: 1 | AM4: 1 | AW4: רשימה סגורה | AX4: 1 | AY4: 2 | AZ4: 3 | BA4: 4 | BB4: 5 | BC4: 6 | BD4: 7 | BE4: 8 | BF4: 9 | BG4: 10
G5: =G29 -> מספר אמנים עצמאיים | H5: =H29 -> הוצאות המוסד לליווי מקצועי וסיוע מנהלי וניהולי לאמנים עצמאיים בשנת ההערכה | I5: =I29 -> סך הוצאות המוסד בשנת ההערכה | J5: =J29 -> עיקר פעילותו ליווי מקצועי וסיוע מנהלי | K5: =K29 -> העסיק במהלך השנת התקציבית הקודמת מערך ייעוץ מקצועי הכולל מנהל מוסד ציבור - בעל ניסיון מקצועי ניהולי מוכח של חמש שנים לפחות בתחום המבוקש לתמיכה המועסק במשרה מלאה ובנוסף איש כספים המועסק בשליש משרה לפחות; כל משרה - אדם אחר | L5: =L29 -> מפעיל אתר אינטרנט | M5: =M29 -> מציין בפרסומיו כי הפעילות הנתמכת מבוצעת בתמיכת המשרד | N5: =N29 -> פועל באופן משמעותי בתחום עבורו הוא מבקש תמיכה במשך שנתיים לפחות לפני הגשת הבקשה | ... U5: =U29 -> המוסד מגיש בעבור רוב חבריו בקשות לתמיכה מהמשרד באחד או יותר מהתחומים המפורטים במבחן | W5: =W29 -> צפוי לעמוד בתנאי סף בשנת התמיכה על פי תכנית עבודה | X5: =X29 -> חברים בו לכל הפחות 20 אמנים עצמאיים | AN5: =AN29 -> מעבר תנאי סף-אישור מיוחד | AO5: 1 | AP5: 1 | AQ5: 1
F6: מעבר תנאי סף- במידה ולא רלוונטי להשאיר ריק | G6: 20 | J6: 1 | K6: 1 | L6: 1 | M6: 1 | N6: 1 | O6: 1 | P6: 1 | Q6: 1 | R6: 1 | S6: 1 | T6: 1 | U6: 1 | W6: 1 | X6: 1 | Y6: 1 | Z6: 1 | AA6: 1 | AB6: 1 | AC6: 1 | AD6: 1 | AE6: 1 | AF6: 1 | AG6: 1 | AH6: 1 | AI6: 1 | AJ6: 1 | AK6: 1 | AL6: 1 | AM6: 1
AS27: =AVERAGE(AS31:AS130) -> #DIV/0!
AT28: =IF(SUM(AT31:AT130)=COUNT(AT31:AT130),1,0) -> 0
A29: 100 | B29: מס"ד | C29: =COLUMN() -> 3 | D29: =COLUMN() -> 4 | E29: =COLUMN() -> 5 | F29: שם המוסד | G29: מספר אמנים עצמאיים | H29: הוצאות המוסד לליווי מקצועי וסיוע מנהלי וניהולי לאמנים עצמאיים בשנת ההערכה | I29: סך הוצאות המוסד בשנת ההערכה | J29: עיקר פעילותו ליווי מקצועי וסיוע מנהלי | K29: =INDEX('הוראת שעה'!$C$6:$C$20,MATCH('תנאי סף'!$AS$2,'הוראת שעה'!A6:A20,1)) -> העסיק במהלך השנת התקציבית הקודמת מערך ייעוץ מקצועי הכולל מנהל מוסד ציבור - בעל ניסיון מקצועי ניהולי מוכח של חמש שנים לפחות בתחום המבוקש לתמיכה המועסק במשרה מלאה ובנוסף איש כספים המועסק בשליש משרה לפחות; כל משרה - אדם אחר | L29: מפעיל אתר אינטרנט | M29: מציין בפרסומיו כי הפעילות הנתמכת מבוצעת בתמיכת המשרד | N29: פועל באופן משמעותי בתחום עבורו הוא מבקש תמיכה במשך שנתיים לפחות לפני הגשת הבקשה | O29: פועל באופן סדיר ושיטתי במשך שנת התקציב | P29: פועל שלא למטרת רווח | Q29: הפעילות איננה מתבצעת בחו"ל | R29: בשנה שקדמה להגשת בקשת התמיכה פעל בהיקף שלא נופל ממחצית ההיקף המבוקש | S29: המוסד גיבש כללים מקצועיים, ענייניים ושוויוניים העומדים לרשות הפונים אליו ובכלל זה מפורסמים במרשתת | T29: סוג הפעילות איננה ממומנת בדרך אחרת מתקציב המדינה | U29: המוסד מגיש בעבור רוב חבריו בקשות לתמיכה מהמשרד באחד או יותר מהתחומים המפורטים במבחן | W29: צפוי לעמוד בתנאי סף בשנת התמיכה על פי תכנית עבודה | X29: ="חברים בו לכל הפחות "&G6&" אמנים עצמאיים" -> חברים בו לכל הפחות 20 אמנים עצמאיים | Y29: מטרות המוסד ואופן פעולתו עולים בקנה אחד עם מטרות התמיכה | Z29: מקבל את ההחלטות המקצועיות לטובת חבריו ובהתייחס לצורכיהם המקצועיים של האמנים העצמאיים בתחום בו הוא פועל | AA29: הבקשה לתמיכה בארגון גג לפי מבחנים אלה תכלול התייחסות לפעילות ולתחומי העשייה הנתמכים של ארגון הגג בלבד | AB29: הפעילות לא נתמכת באופן אחר על ידי מנהל התרבות | AC29: הגיש תכנית עבודה מפורטת ברמה מקצועית מספקת | AD29: הגיש בקשה לתמיכה כנדרש | AE29: הבקשה לא כוללת בקשה לתמיכה בעד הוצאות שהוצאו בעבור כל פעילות אחרת | AF29: כלל ההוצאות בשל הפעילויות המבוצעות בידי ארגון הגג מנוהלות על ידו ובאמצעותו באופן ישיר, והוא אינו מעביר כספים לאמנים עצמאיים לשם ביצוע הפעילות | AG29: עומד בדרישות הנוהל | AH29: מקיים את הוראות החוק הנוגעות לפעילותו, מקפיד על כללי ניהול תקין, נמנע מניגוד עניינים, ושומר על שקיפות מלאה | AI29: מקבל את המבקשים לפעול במסגרתו ולהיות חברים בו ללא הבדל גזע, מין, שפה, לאום, דת, השקפה פוליטית או אידאולוגיה | AJ29: פועל ביעילות ובתקורה מינימלית | AK29: השלים את הגשת כל המידע הדרוש בזמן הנדרש | AL29: במוסד בו מועסקים עובדים ביחסי עבודה, המוסד קבע תקנון למניעת הטרדה מינית ועומדת בדרישות תקנה 8 לתקנות חובות מעסיק. המוסד צירף לבקשתו את התקנון ופרטים על ההתאמות בתקנון, פרסומו למסירתו. (במוסד בו אין מתכונת יחסי עבודה - יש לסמן 1 עבור תנאי זה) | AM29: פועל לקראת שנת התמיכה ובמהלכה, ככל האפשר, להרחבת היקף התמיכה בו, מעבר לתמיכה הציבורית | AN29: מעבר תנאי סף-אישור מיוחד | AO29: ריק | AP29: ריק | AQ29: ריק | AR29: מעבר תנאי סף | AS29: הערות | AT29: בקרה ראשית | AW29: ="בקרת "&G29 -> בקרת מספר אמנים עצמאיים | AX29: ="בקרת "&H29 -> בקרת הוצאות המוסד לליווי מקצועי וסיוע מנהלי וניהולי לאמנים עצמאיים בשנת ההערכה | AY29: ="בקרת "&I29 -> בקרת סך הוצאות המוסד בשנת ההערכה | AZ29: ="בקרת "&J29 -> בקרת עיקר פעילותו ליווי מקצועי וסיוע מנהלי | BA29: ="בקרת "&K29 -> בקרת העסיק במהלך השנת התקציבית הקודמת מערך ייעוץ מקצועי הכולל מנהל מוסד ציבור - בעל ניסיון מקצועי ניהולי מוכח של חמש שנים לפחות בתחום המבוקש לתמיכה המועסק במשרה מלאה ובנוסף איש כספים המועסק בשליש משרה לפחות; כל משרה - אדם אחר | BB29: ="בקרת "&L29 -> בקרת מפעיל אתר אינטרנט | BC29: ="בקרת "&M29 -> בקרת מציין בפרסומיו כי הפעילות הנתמכת מבוצעת בתמיכת המשרד | BD29: ="בקרת "&N29 -> בקרת פועל באופן משמעותי בתחום עבורו הוא מבקש תמיכה במשך שנתיים לפחות לפני הגשת הבקשה | ... CA29: ="בקרת "&AK29 -> בקרת השלים את הגשת כל המידע הדרוש בזמן הנדרש | CB29: ="בקרת "&AM29 -> בקרת פועל לקראת שנת התמיכה ובמהלכה, ככל האפשר, להרחבת היקף התמיכה בו, מעבר לתמיכה הציבורית | CC29: ="בקרת "&AN29 -> בקרת מעבר תנאי סף-אישור מיוחד | CD29: ="בקרת "&AO29 -> בקרת ריק | CE29: ="בקרת "&AP29 -> בקרת ריק | CF29: ="בקרת "&AQ29 -> בקרת ריק | CG29: ="בקרת "&AR29 -> בקרת מעבר תנאי סף | CL29: רשימה סגורה
G30: מספר שלם שאינו שלילי | H30: מספר שאינו שלילי | I30: מספר שאינו שלילי | K30: 0/1 | L30: 0/1 | M30: 0/1 | N30: 0/1 | O30: 0/1 | P30: 0/1 | Q30: 0/1 | R30: 0/1 | S30: 0/1 | T30: 0/1 | U30: 0/1 | W30: 0/1 | Y30: 0/1 | Z30: 0/1 | AA30: 0/1 | AB30: 0/1 | AC30: 0/1 | AD30: 0/1 | AE30: 0/1 | AF30: 0/1 | AG30: 0/1 | AH30: 0/1 | AI30: 0/1 | AJ30: 0/1 | AK30: 0/1 | AL30: 0/1 | AM30: 0/1 | AN30: 0/1 | AS30: טקסט | AU30: 0 | AV30: 1 | AW30: =G30 -> מספר שלם שאינו שלילי | AX30: =H30 -> מספר שאינו שלילי | AY30: =I30 -> מספר שאינו שלילי | AZ30: =J30 -> 0 | BA30: =K30 -> 0/1 | BB30: =L30 -> 0/1 | BC30: =M30 -> 0/1 | BD30: =N30 -> 0/1 | ... CA30: =AK30 -> 0/1 | CB30: =AM30 -> 0/1 | CC30: =AN30 -> 0/1 | CD30: =AO30 -> 0 | CE30: =AP30 -> 0 | CF30: =AQ30 -> 0 | CG30: =AR30 -> 0 | CL30: =AX4 -> 1 | CM30: =AY4 -> 2 | CN30: =AZ4 -> 3 | CO30: =BA4 -> 4 | CP30: =BB4 -> 5 | CQ30: =BC4 -> 6 | CR30: =BD4 -> 7 | CS30: =BE4 -> 8 | ... CU30: =BG4 -> 10
B31: =IF(F31="","",ROW()-30) -> 1 | F31: =IF(כוריאוגרפים!$F$1="1","",כוריאוגרפים!$F$1) -> כוריאוגרפים | G31: 125 | H31: 5467733 | I31: 5467733 | J31: =IF($F31="","",IFERROR(IF(H31>I31,$AU$1,IF(H31/I31>=0.75,1,0)),$AU$1)) -> 1 | K31: 1 | L31: 1 | M31: 1 | N31: 1 | O31: 1 | P31: 1 | Q31: 1 | R31: 1 | S31: 1 | T31: 1 | U31: 1 | W31: 1 | X31: =IF(F31="","",IF(G31>=$G$6,1,0)) -> 1 | Y31: 1 | Z31: 1 | AA31: 1 | AB31: 1 | AC31: 1 | AD31: 1 | AE31: 1 | AF31: 1 | AG31: 1 | AH31: 1 | AI31: 1 | AJ31: 1 | AK31: 1 | AL31: 1 | AM31: 1 | AR31: =IF($F31="","",IF(AN31=1,1,IF(AT31<>1,$AU$1,IF(SUMIF($G$4:$AM$4,1,G31:AM31)=COUNTIF($G$4:$AM$4,1),1,0)))) -> 1 | AT31: =IF(SUM(AW31:CG31)=COUNT(AW31:CG31),1,0) -> 1 | AU31: =IF($F31="","",AU$30) -> 0 | AV31: =IF($F31="","",AV$30) -> 1 | AW31: =IF(G$30="",1,IF(G$4=99,1,IF(G31="",0,IF(G$30=$AX$1,IF(ISNA(MATCH(G31,$AU$30:$AV$30,0)),0,1),IF(G$30=$AY$1,IF(IFERROR(G31*1,"bad")="bad",0,1),IF(G$30=$AZ$1,IF(IFERROR(IF(G31=TRUNC(G31),1,"bad"),"bad")="bad",0,1),IF(G$30=$BA$1,IF(AND(IF(IFERROR(G31*1,"bad")="bad",0,1)=1,G31>=0),1,0),IF(G$30=$BB$1,IF(AND(IF(IFERROR(IF(G31=TRUNC(G31),1,"bad"),"bad")="bad",0,1)=1,G31>=0),1,0),IF(G$30=$BC$1,IF(AND(IF(IFERROR(G31*1,"bad")="bad",0,1)=1,G31>0),1,0),IF(G$30=$BD$1,IF(AND(IF(IFERROR(IF(G31=TRUNC(G31),1,"bad"),"bad")="bad",0,1)=1,G31>0),1,0),IF(G$30=$BE$1,1,IF(G$30=$BF$1,IF(IFERROR(HLOOKUP(G31,$AX$4:$BG$4,1,0),"bad")="bad",0,1),0)))))))))))) -> 1 | AX31: =IF(H$30="",1,IF(H$4=99,1,IF(H31="",0,IF(H$30=$AX$1,IF(ISNA(MATCH(H31,$AU$30:$AV$30,0)),0,1),IF(H$30=$AY$1,IF(IFERROR(H31*1,"bad")="bad",0,1),IF(H$30=$AZ$1,IF(IFERROR(IF(H31=TRUNC(H31),1,"bad"),"bad")="bad",0,1),IF(H$30=$BA$1,IF(AND(IF(IFERROR(H31*1,"bad")="bad",0,1)=1,H31>=0),1,0),IF(H$30=$BB$1,IF(AND(IF(IFERROR(IF(H31=TRUNC(H31),1,"bad"),"bad")="bad",0,1)=1,H31>=0),1,0),IF(H$30=$BC$1,IF(AND(IF(IFERROR(H31*1,"bad")="bad",0,1)=1,H31>0),1,0),IF(H$30=$BD$1,IF(AND(IF(IFERROR(IF(H31=TRUNC(H31),1,"bad"),"bad")="bad",0,1)=1,H31>0),1,0),IF(H$30=$BE$1,1,IF(H$30=$BF$1,IF(IFERROR(HLOOKUP(H31,$AX$4:$BG$4,1,0),"bad")="bad",0,1),0)))))))))))) -> 1 | AY31: =IF(I$30="",1,IF(I$4=99,1,IF(I31="",0,IF(I$30=$AX$1,IF(ISNA(MATCH(I31,$AU$30:$AV$30,0)),0,1),IF(I$30=$AY$1,IF(IFERROR(I31*1,"bad")="bad",0,1),IF(I$30=$AZ$1,IF(IFERROR(IF(I31=TRUNC(I31),1,"bad"),"bad")="bad",0,1),IF(I$30=$BA$1,IF(AND(IF(IFERROR(I31*1,"bad")="bad",0,1)=1,I31>=0),1,0),IF(I$30=$BB$1,IF(AND(IF(IFERROR(IF(I31=TRUNC(I31),1,"bad"),"bad")="bad",0,1)=1,I31>=0),1,0),IF(I$30=$BC$1,IF(AND(IF(IFERROR(I31*1,"bad")="bad",0,1)=1,I31>0),1,0),IF(I$30=$BD$1,IF(AND(IF(IFERROR(IF(I31=TRUNC(I31),1,"bad"),"bad")="bad",0,1)=1,I31>0),1,0),IF(I$30=$BE$1,1,IF(I$30=$BF$1,IF(IFERROR(HLOOKUP(I31,$AX$4:$BG$4,1,0),"bad")="bad",0,1),0)))))))))))) -> 1 | AZ31: =IF(J$30="",1,IF(J$4=99,1,IF(J31="",0,IF(J$30=$AX$1,IF(ISNA(MATCH(J31,$AU$30:$AV$30,0)),0,1),IF(J$30=$AY$1,IF(IFERROR(J31*1,"bad")="bad",0,1),IF(J$30=$AZ$1,IF(IFERROR(IF(J31=TRUNC(J31),1,"bad"),"bad")="bad",0,1),IF(J$30=$BA$1,IF(AND(IF(IFERROR(J31*1,"bad")="bad",0,1)=1,J31>=0),1,0),IF(J$30=$BB$1,IF(AND(IF(IFERROR(IF(J31=TRUNC(J31),1,"bad"),"bad")="bad",0,1)=1,J31>=0),1,0),IF(J$30=$BC$1,IF(AND(IF(IFERROR(J31*1,"bad")="bad",0,1)=1,J31>0),1,0),IF(J$30=$BD$1,IF(AND(IF(IFERROR(IF(J31=TRUNC(J31),1,"bad"),"bad")="bad",0,1)=1,J31>0),1,0),IF(J$30=$BE$1,1,IF(J$30=$BF$1,IF(IFERROR(HLOOKUP(J31,$AX$4:$BG$4,1,0),"bad")="bad",0,1),0)))))))))))) -> 1 | BA31: =IF(K$30="",1,IF(K$4=99,1,IF(K31="",0,IF(K$30=$AX$1,IF(ISNA(MATCH(K31,$AU$30:$AV$30,0)),0,1),IF(K$30=$AY$1,IF(IFERROR(K31*1,"bad")="bad",0,1),IF(K$30=$AZ$1,IF(IFERROR(IF(K31=TRUNC(K31),1,"bad"),"bad")="bad",0,1),IF(K$30=$BA$1,IF(AND(IF(IFERROR(K31*1,"bad")="bad",0,1)=1,K31>=0),1,0),IF(K$30=$BB$1,IF(AND(IF(IFERROR(IF(K31=TRUNC(K31),1,"bad"),"bad")="bad",0,1)=1,K31>=0),1,0),IF(K$30=$BC$1,IF(AND(IF(IFERROR(K31*1,"bad")="bad",0,1)=1,K31>0),1,0),IF(K$30=$BD$1,IF(AND(IF(IFERROR(IF(K31=TRUNC(K31),1,"bad"),"bad")="bad",0,1)=1,K31>0),1,0),IF(K$30=$BE$1,1,IF(K$30=$BF$1,IF(IFERROR(HLOOKUP(K31,$AX$4:$BG$4,1,0),"bad")="bad",0,1),0)))))))))))) -> 1 | BB31: =IF(L$30="",1,IF(L$4=99,1,IF(L31="",0,IF(L$30=$AX$1,IF(ISNA(MATCH(L31,$AU$30:$AV$30,0)),0,1),IF(L$30=$AY$1,IF(IFERROR(L31*1,"bad")="bad",0,1),IF(L$30=$AZ$1,IF(IFERROR(IF(L31=TRUNC(L31),1,"bad"),"bad")="bad",0,1),IF(L$30=$BA$1,IF(AND(IF(IFERROR(L31*1,"bad")="bad",0,1)=1,L31>=0),1,0),IF(L$30=$BB$1,IF(AND(IF(IFERROR(IF(L31=TRUNC(L31),1,"bad"),"bad")="bad",0,1)=1,L31>=0),1,0),IF(L$30=$BC$1,IF(AND(IF(IFERROR(L31*1,"bad")="bad",0,1)=1,L31>0),1,0),IF(L$30=$BD$1,IF(AND(IF(IFERROR(IF(L31=TRUNC(L31),1,"bad"),"bad")="bad",0,1)=1,L31>0),1,0),IF(L$30=$BE$1,1,IF(L$30=$BF$1,IF(IFERROR(HLOOKUP(L31,$AX$4:$BG$4,1,0),"bad")="bad",0,1),0)))))))))))) -> 1 | BC31: =IF(M$30="",1,IF(M$4=99,1,IF(M31="",0,IF(M$30=$AX$1,IF(ISNA(MATCH(M31,$AU$30:$AV$30,0)),0,1),IF(M$30=$AY$1,IF(IFERROR(M31*1,"bad")="bad",0,1),IF(M$30=$AZ$1,IF(IFERROR(IF(M31=TRUNC(M31),1,"bad"),"bad")="bad",0,1),IF(M$30=$BA$1,IF(AND(IF(IFERROR(M31*1,"bad")="bad",0,1)=1,M31>=0),1,0),IF(M$30=$BB$1,IF(AND(IF(IFERROR(IF(M31=TRUNC(M31),1,"bad"),"bad")="bad",0,1)=1,M31>=0),1,0),IF(M$30=$BC$1,IF(AND(IF(IFERROR(M31*1,"bad")="bad",0,1)=1,M31>0),1,0),IF(M$30=$BD$1,IF(AND(IF(IFERROR(IF(M31=TRUNC(M31),1,"bad"),"bad")="bad",0,1)=1,M31>0),1,0),IF(M$30=$BE$1,1,IF(M$30=$BF$1,IF(IFERROR(HLOOKUP(M31,$AX$4:$BG$4,1,0),"bad")="bad",0,1),0)))))))))))) -> 1 | BD31: =IF(N$30="",1,IF(N$4=99,1,IF(N31="",0,IF(N$30=$AX$1,IF(ISNA(MATCH(N31,$AU$30:$AV$30,0)),0,1),IF(N$30=$AY$1,IF(IFERROR(N31*1,"bad")="bad",0,1),IF(N$30=$AZ$1,IF(IFERROR(IF(N31=TRUNC(N31),1,"bad"),"bad")="bad",0,1),IF(N$30=$BA$1,IF(AND(IF(IFERROR(N31*1,"bad")="bad",0,1)=1,N31>=0),1,0),IF(N$30=$BB$1,IF(AND(IF(IFERROR(IF(N31=TRUNC(N31),1,"bad"),"bad")="bad",0,1)=1,N31>=0),1,0),IF(N$30=$BC$1,IF(AND(IF(IFERROR(N31*1,"bad")="bad",0,1)=1,N31>0),1,0),IF(N$30=$BD$1,IF(AND(IF(IFERROR(IF(N31=TRUNC(N31),1,"bad"),"bad")="bad",0,1)=1,N31>0),1,0),IF(N$30=$BE$1,1,IF(N$30=$BF$1,IF(IFERROR(HLOOKUP(N31,$AX$4:$BG$4,1,0),"bad")="bad",0,1),0)))))))))))) -> 1 | ... CA31: =IF(AK$30="",1,IF(AK$4=99,1,IF(AK31="",0,IF(AK$30=$AX$1,IF(ISNA(MATCH(AK31,$AU$30:$AV$30,0)),0,1),IF(AK$30=$AY$1,IF(IFERROR(AK31*1,"bad")="bad",0,1),IF(AK$30=$AZ$1,IF(IFERROR(IF(AK31=TRUNC(AK31),1,"bad"),"bad")="bad",0,1),IF(AK$30=$BA$1,IF(AND(IF(IFERROR(AK31*1,"bad")="bad",0,1)=1,AK31>=0),1,0),IF(AK$30=$BB$1,IF(AND(IF(IFERROR(IF(AK31=TRUNC(AK31),1,"bad"),"bad")="bad",0,1)=1,AK31>=0),1,0),IF(AK$30=$BC$1,IF(AND(IF(IFERROR(AK31*1,"bad")="bad",0,1)=1,AK31>0),1,0),IF(AK$30=$BD$1,IF(AND(IF(IFERROR(IF(AK31=TRUNC(AK31),1,"bad"),"bad")="bad",0,1)=1,AK31>0),1,0),IF(AK$30=$BE$1,1,IF(AK$30=$BF$1,IF(IFERROR(HLOOKUP(AK31,$AX$4:$BG$4,1,0),"bad")="bad",0,1),0)))))))))))) -> 1 | CB31: =IF(AM$30="",1,IF(AM$4=99,1,IF(AM31="",0,IF(AM$30=$AX$1,IF(ISNA(MATCH(AM31,$AU$30:$AV$30,0)),0,1),IF(AM$30=$AY$1,IF(IFERROR(AM31*1,"bad")="bad",0,1),IF(AM$30=$AZ$1,IF(IFERROR(IF(AM31=TRUNC(AM31),1,"bad"),"bad")="bad",0,1),IF(AM$30=$BA$1,IF(AND(IF(IFERROR(AM31*1,"bad")="bad",0,1)=1,AM31>=0),1,0),IF(AM$30=$BB$1,IF(AND(IF(IFERROR(IF(AM31=TRUNC(AM31),1,"bad"),"bad")="bad",0,1)=1,AM31>=0),1,0),IF(AM$30=$BC$1,IF(AND(IF(IFERROR(AM31*1,"bad")="bad",0,1)=1,AM31>0),1,0),IF(AM$30=$BD$1,IF(AND(IF(IFERROR(IF(AM31=TRUNC(AM31),1,"bad"),"bad")="bad",0,1)=1,AM31>0),1,0),IF(AM$30=$BE$1,1,IF(AM$30=$BF$1,IF(IFERROR(HLOOKUP(AM31,$AX$4:$BG$4,1,0),"bad")="bad",0,1),0)))))))))))) -> 1 | CC31: =IF(ISNA(MATCH(AN31,$AU$30:$AV$30,0)),0,1) -> 1 | CG31: =IF(AR$30="",1,IF(AR31="",0,IF(AR$30=$AX$1,IF(ISNA(MATCH(AR31,$AU$30:$AV$30,0)),0,1),IF(AR$30=$AY$1,IF(IFERROR(AR31*1,"bad")="bad",0,1),IF(AR$30=$AZ$1,IF(IFERROR(IF(AR31=TRUNC(AR31),1,"bad"),"bad")="bad",0,1),IF(AR$30=$BA$1,IF(AND(IF(IFERROR(AR31*1,"bad")="bad",0,1)=1,AR31>=0),1,0),IF(AR$30=$BB$1,IF(AND(IF(IFERROR(IF(AR31=TRUNC(AR31),1,"bad"),"bad")="bad",0,1)=1,AR31>=0),1,0),IF(AR$30=$BC$1,IF(AND(IF(IFERROR(AR31*1,"bad")="bad",0,1)=1,AR31>0),1,0),IF(AR$30=$BD$1,IF(AND(IF(IFERROR(IF(AR31=TRUNC(AR31),1,"bad"),"bad")="bad",0,1)=1,AR31>0),1,0),IF(AR$30=$BE$1,1,IF(AR$30=$BF$1,IF(IFERROR(HLOOKUP(AR31,$AX$4:$BG$4,1,0),"bad")="bad",0,1),0))))))))))) -> 1 | CL31: =IF($F31="","",CL$30) -> 1 | CM31: =IF($F31="","",CM$30) -> 2 | CN31: =IF($F31="","",CN$30) -> 3 | CO31: =IF($F31="","",CO$30) -> 4 | CP31: =IF($F31="","",CP$30) -> 5 | CQ31: =IF($F31="","",CQ$30) -> 6 | CR31: =IF($F31="","",CR$30) -> 7 | CS31: =IF($F31="","",CS$30) -> 8 | ... CU31: =IF($F31="","",CU$30) -> 10
B32: =IF(F32="","",ROW()-30) -> 2 | F32: =IF('פ. בלומנטל'!$F$1="2","",'פ. בלומנטל'!$F$1) -> פ. בלומנטל | G32: 43 | H32: 2423537 | I32: 2971039 | J32: =IF($F32="","",IFERROR(IF(H32>I32,$AU$1,IF(H32/I32>=0.75,1,0)),$AU$1)) -> 1 | K32: 1 | L32: 1 | M32: 1 | N32: 1 | O32: 1 | P32: 1 | Q32: 1 | R32: 1 | S32: 1 | T32: 1 | U32: 1 | W32: 1 | X32: =IF(F32="","",IF(G32>=$G$6,1,0)) -> 1 | Y32: 1 | Z32: 1 | AA32: 1 | AB32: 1 | AC32: 1 | AD32: 1 | AE32: 1 | AF32: 1 | AG32: 1 | AH32: 1 | AI32: 1 | AJ32: 1 | AK32: 1 | AL32: 1 | AM32: 1 | AR32: =IF($F32="","",IF(AN32=1,1,IF(AT32<>1,$AU$1,IF(SUMIF($G$4:$AM$4,1,G32:AM32)=COUNTIF($G$4:$AM$4,1),1,0)))) -> 1 | AT32: =IF(SUM(AW32:CG32)=COUNT(AW32:CG32),1,0) -> 1 | AU32: =IF($F32="","",AU$30) -> 0 | AV32: =IF($F32="","",AV$30) -> 1 | AW32: =IF(G$30="",1,IF(G$4=99,1,IF(G32="",0,IF(G$30=$AX$1,IF(ISNA(MATCH(G32,$AU$30:$AV$30,0)),0,1),IF(G$30=$AY$1,IF(IFERROR(G32*1,"bad")="bad",0,1),IF(G$30=$AZ$1,IF(IFERROR(IF(G32=TRUNC(G32),1,"bad"),"bad")="bad",0,1),IF(G$30=$BA$1,IF(AND(IF(IFERROR(G32*1,"bad")="bad",0,1)=1,G32>=0),1,0),IF(G$30=$BB$1,IF(AND(IF(IFERROR(IF(G32=TRUNC(G32),1,"bad"),"bad")="bad",0,1)=1,G32>=0),1,0),IF(G$30=$BC$1,IF(AND(IF(IFERROR(G32*1,"bad")="bad",0,1)=1,G32>0),1,0),IF(G$30=$BD$1,IF(AND(IF(IFERROR(IF(G32=TRUNC(G32),1,"bad"),"bad")="bad",0,1)=1,G32>0),1,0),IF(G$30=$BE$1,1,IF(G$30=$BF$1,IF(IFERROR(HLOOKUP(G32,$AX$4:$BG$4,1,0),"bad")="bad",0,1),0)))))))))))) -> 1 | AX32: =IF(H$30="",1,IF(H$4=99,1,IF(H32="",0,IF(H$30=$AX$1,IF(ISNA(MATCH(H32,$AU$30:$AV$30,0)),0,1),IF(H$30=$AY$1,IF(IFERROR(H32*1,"bad")="bad",0,1),IF(H$30=$AZ$1,IF(IFERROR(IF(H32=TRUNC(H32),1,"bad"),"bad")="bad",0,1),IF(H$30=$BA$1,IF(AND(IF(IFERROR(H32*1,"bad")="bad",0,1)=1,H32>=0),1,0),IF(H$30=$BB$1,IF(AND(IF(IFERROR(IF(H32=TRUNC(H32),1,"bad"),"bad")="bad",0,1)=1,H32>=0),1,0),IF(H$30=$BC$1,IF(AND(IF(IFERROR(H32*1,"bad")="bad",0,1)=1,H32>0),1,0),IF(H$30=$BD$1,IF(AND(IF(IFERROR(IF(H32=TRUNC(H32),1,"bad"),"bad")="bad",0,1)=1,H32>0),1,0),IF(H$30=$BE$1,1,IF(H$30=$BF$1,IF(IFERROR(HLOOKUP(H32,$AX$4:$BG$4,1,0),"bad")="bad",0,1),0)))))))))))) -> 1 | AY32: =IF(I$30="",1,IF(I$4=99,1,IF(I32="",0,IF(I$30=$AX$1,IF(ISNA(MATCH(I32,$AU$30:$AV$30,0)),0,1),IF(I$30=$AY$1,IF(IFERROR(I32*1,"bad")="bad",0,1),IF(I$30=$AZ$1,IF(IFERROR(IF(I32=TRUNC(I32),1,"bad"),"bad")="bad",0,1),IF(I$30=$BA$1,IF(AND(IF(IFERROR(I32*1,"bad")="bad",0,1)=1,I32>=0),1,0),IF(I$30=$BB$1,IF(AND(IF(IFERROR(IF(I32=TRUNC(I32),1,"bad"),"bad")="bad",0,1)=1,I32>=0),1,0),IF(I$30=$BC$1,IF(AND(IF(IFERROR(I32*1,"bad")="bad",0,1)=1,I32>0),1,0),IF(I$30=$BD$1,IF(AND(IF(IFERROR(IF(I32=TRUNC(I32),1,"bad"),"bad")="bad",0,1)=1,I32>0),1,0),IF(I$30=$BE$1,1,IF(I$30=$BF$1,IF(IFERROR(HLOOKUP(I32,$AX$4:$BG$4,1,0),"bad")="bad",0,1),0)))))))))))) -> 1 | AZ32: =IF(J$30="",1,IF(J$4=99,1,IF(J32="",0,IF(J$30=$AX$1,IF(ISNA(MATCH(J32,$AU$30:$AV$30,0)),0,1),IF(J$30=$AY$1,IF(IFERROR(J32*1,"bad")="bad",0,1),IF(J$30=$AZ$1,IF(IFERROR(IF(J32=TRUNC(J32),1,"bad"),"bad")="bad",0,1),IF(J$30=$BA$1,IF(AND(IF(IFERROR(J32*1,"bad")="bad",0,1)=1,J32>=0),1,0),IF(J$30=$BB$1,IF(AND(IF(IFERROR(IF(J32=TRUNC(J32),1,"bad"),"bad")="bad",0,1)=1,J32>=0),1,0),IF(J$30=$BC$1,IF(AND(IF(IFERROR(J32*1,"bad")="bad",0,1)=1,J32>0),1,0),IF(J$30=$BD$1,IF(AND(IF(IFERROR(IF(J32=TRUNC(J32),1,"bad"),"bad")="bad",0,1)=1,J32>0),1,0),IF(J$30=$BE$1,1,IF(J$30=$BF$1,IF(IFERROR(HLOOKUP(J32,$AX$4:$BG$4,1,0),"bad")="bad",0,1),0)))))))))))) -> 1 | BA32: =IF(K$30="",1,IF(K$4=99,1,IF(K32="",0,IF(K$30=$AX$1,IF(ISNA(MATCH(K32,$AU$30:$AV$30,0)),0,1),IF(K$30=$AY$1,IF(IFERROR(K32*1,"bad")="bad",0,1),IF(K$30=$AZ$1,IF(IFERROR(IF(K32=TRUNC(K32),1,"bad"),"bad")="bad",0,1),IF(K$30=$BA$1,IF(AND(IF(IFERROR(K32*1,"bad")="bad",0,1)=1,K32>=0),1,0),IF(K$30=$BB$1,IF(AND(IF(IFERROR(IF(K32=TRUNC(K32),1,"bad"),"bad")="bad",0,1)=1,K32>=0),1,0),IF(K$30=$BC$1,IF(AND(IF(IFERROR(K32*1,"bad")="bad",0,1)=1,K32>0),1,0),IF(K$30=$BD$1,IF(AND(IF(IFERROR(IF(K32=TRUNC(K32),1,"bad"),"bad")="bad",0,1)=1,K32>0),1,0),IF(K$30=$BE$1,1,IF(K$30=$BF$1,IF(IFERROR(HLOOKUP(K32,$AX$4:$BG$4,1,0),"bad")="bad",0,1),0)))))))))))) -> 1 | BB32: =IF(L$30="",1,IF(L$4=99,1,IF(L32="",0,IF(L$30=$AX$1,IF(ISNA(MATCH(L32,$AU$30:$AV$30,0)),0,1),IF(L$30=$AY$1,IF(IFERROR(L32*1,"bad")="bad",0,1),IF(L$30=$AZ$1,IF(IFERROR(IF(L32=TRUNC(L32),1,"bad"),"bad")="bad",0,1),IF(L$30=$BA$1,IF(AND(IF(IFERROR(L32*1,"bad")="bad",0,1)=1,L32>=0),1,0),IF(L$30=$BB$1,IF(AND(IF(IFERROR(IF(L32=TRUNC(L32),1,"bad"),"bad")="bad",0,1)=1,L32>=0),1,0),IF(L$30=$BC$1,IF(AND(IF(IFERROR(L32*1,"bad")="bad",0,1)=1,L32>0),1,0),IF(L$30=$BD$1,IF(AND(IF(IFERROR(IF(L32=TRUNC(L32),1,"bad"),"bad")="bad",0,1)=1,L32>0),1,0),IF(L$30=$BE$1,1,IF(L$30=$BF$1,IF(IFERROR(HLOOKUP(L32,$AX$4:$BG$4,1,0),"bad")="bad",0,1),0)))))))))))) -> 1 | BC32: =IF(M$30="",1,IF(M$4=99,1,IF(M32="",0,IF(M$30=$AX$1,IF(ISNA(MATCH(M32,$AU$30:$AV$30,0)),0,1),IF(M$30=$AY$1,IF(IFERROR(M32*1,"bad")="bad",0,1),IF(M$30=$AZ$1,IF(IFERROR(IF(M32=TRUNC(M32),1,"bad"),"bad")="bad",0,1),IF(M$30=$BA$1,IF(AND(IF(IFERROR(M32*1,"bad")="bad",0,1)=1,M32>=0),1,0),IF(M$30=$BB$1,IF(AND(IF(IFERROR(IF(M32=TRUNC(M32),1,"bad"),"bad")="bad",0,1)=1,M32>=0),1,0),IF(M$30=$BC$1,IF(AND(IF(IFERROR(M32*1,"bad")="bad",0,1)=1,M32>0),1,0),IF(M$30=$BD$1,IF(AND(IF(IFERROR(IF(M32=TRUNC(M32),1,"bad"),"bad")="bad",0,1)=1,M32>0),1,0),IF(M$30=$BE$1,1,IF(M$30=$BF$1,IF(IFERROR(HLOOKUP(M32,$AX$4:$BG$4,1,0),"bad")="bad",0,1),0)))))))))))) -> 1 | BD32: =IF(N$30="",1,IF(N$4=99,1,IF(N32="",0,IF(N$30=$AX$1,IF(ISNA(MATCH(N32,$AU$30:$AV$30,0)),0,1),IF(N$30=$AY$1,IF(IFERROR(N32*1,"bad")="bad",0,1),IF(N$30=$AZ$1,IF(IFERROR(IF(N32=TRUNC(N32),1,"bad"),"bad")="bad",0,1),IF(N$30=$BA$1,IF(AND(IF(IFERROR(N32*1,"bad")="bad",0,1)=1,N32>=0),1,0),IF(N$30=$BB$1,IF(AND(IF(IFERROR(IF(N32=TRUNC(N32),1,"bad"),"bad")="bad",0,1)=1,N32>=0),1,0),IF(N$30=$BC$1,IF(AND(IF(IFERROR(N32*1,"bad")="bad",0,1)=1,N32>0),1,0),IF(N$30=$BD$1,IF(AND(IF(IFERROR(IF(N32=TRUNC(N32),1,"bad"),"bad")="bad",0,1)=1,N32>0),1,0),IF(N$30=$BE$1,1,IF(N$30=$BF$1,IF(IFERROR(HLOOKUP(N32,$AX$4:$BG$4,1,0),"bad")="bad",0,1),0)))))))))))) -> 1 | ... CA32: =IF(AK$30="",1,IF(AK$4=99,1,IF(AK32="",0,IF(AK$30=$AX$1,IF(ISNA(MATCH(AK32,$AU$30:$AV$30,0)),0,1),IF(AK$30=$AY$1,IF(IFERROR(AK32*1,"bad")="bad",0,1),IF(AK$30=$AZ$1,IF(IFERROR(IF(AK32=TRUNC(AK32),1,"bad"),"bad")="bad",0,1),IF(AK$30=$BA$1,IF(AND(IF(IFERROR(AK32*1,"bad")="bad",0,1)=1,AK32>=0),1,0),IF(AK$30=$BB$1,IF(AND(IF(IFERROR(IF(AK32=TRUNC(AK32),1,"bad"),"bad")="bad",0,1)=1,AK32>=0),1,0),IF(AK$30=$BC$1,IF(AND(IF(IFERROR(AK32*1,"bad")="bad",0,1)=1,AK32>0),1,0),IF(AK$30=$BD$1,IF(AND(IF(IFERROR(IF(AK32=TRUNC(AK32),1,"bad"),"bad")="bad",0,1)=1,AK32>0),1,0),IF(AK$30=$BE$1,1,IF(AK$30=$BF$1,IF(IFERROR(HLOOKUP(AK32,$AX$4:$BG$4,1,0),"bad")="bad",0,1),0)))))))))))) -> 1 | CB32: =IF(AM$30="",1,IF(AM$4=99,1,IF(AM32="",0,IF(AM$30=$AX$1,IF(ISNA(MATCH(AM32,$AU$30:$AV$30,0)),0,1),IF(AM$30=$AY$1,IF(IFERROR(AM32*1,"bad")="bad",0,1),IF(AM$30=$AZ$1,IF(IFERROR(IF(AM32=TRUNC(AM32),1,"bad"),"bad")="bad",0,1),IF(AM$30=$BA$1,IF(AND(IF(IFERROR(AM32*1,"bad")="bad",0,1)=1,AM32>=0),1,0),IF(AM$30=$BB$1,IF(AND(IF(IFERROR(IF(AM32=TRUNC(AM32),1,"bad"),"bad")="bad",0,1)=1,AM32>=0),1,0),IF(AM$30=$BC$1,IF(AND(IF(IFERROR(AM32*1,"bad")="bad",0,1)=1,AM32>0),1,0),IF(AM$30=$BD$1,IF(AND(IF(IFERROR(IF(AM32=TRUNC(AM32),1,"bad"),"bad")="bad",0,1)=1,AM32>0),1,0),IF(AM$30=$BE$1,1,IF(AM$30=$BF$1,IF(IFERROR(HLOOKUP(AM32,$AX$4:$BG$4,1,0),"bad")="bad",0,1),0)))))))))))) -> 1 | CC32: =IF(ISNA(MATCH(AN32,$AU$30:$AV$30,0)),0,1) -> 1 | CG32: =IF(AR$30="",1,IF(AR32="",0,IF(AR$30=$AX$1,IF(ISNA(MATCH(AR32,$AU$30:$AV$30,0)),0,1),IF(AR$30=$AY$1,IF(IFERROR(AR32*1,"bad")="bad",0,1),IF(AR$30=$AZ$1,IF(IFERROR(IF(AR32=TRUNC(AR32),1,"bad"),"bad")="bad",0,1),IF(AR$30=$BA$1,IF(AND(IF(IFERROR(AR32*1,"bad")="bad",0,1)=1,AR32>=0),1,0),IF(AR$30=$BB$1,IF(AND(IF(IFERROR(IF(AR32=TRUNC(AR32),1,"bad"),"bad")="bad",0,1)=1,AR32>=0),1,0),IF(AR$30=$BC$1,IF(AND(IF(IFERROR(AR32*1,"bad")="bad",0,1)=1,AR32>0),1,0),IF(AR$30=$BD$1,IF(AND(IF(IFERROR(IF(AR32=TRUNC(AR32),1,"bad"),"bad")="bad",0,1)=1,AR32>0),1,0),IF(AR$30=$BE$1,1,IF(AR$30=$BF$1,IF(IFERROR(HLOOKUP(AR32,$AX$4:$BG$4,1,0),"bad")="bad",0,1),0))))))))))) -> 1 | CL32: =IF($F32="","",CL$30) -> 1 | CM32: =IF($F32="","",CM$30) -> 2 | CN32: =IF($F32="","",CN$30) -> 3 | CO32: =IF($F32="","",CO$30) -> 4 | CP32: =IF($F32="","",CP$30) -> 5 | CQ32: =IF($F32="","",CQ$30) -> 6 | CR32: =IF($F32="","",CR$30) -> 7 | CS32: =IF($F32="","",CS$30) -> 8 | ... CU32: =IF($F32="","",CU$30) -> 10
B33: =IF(F33="","",ROW()-30) -> 3 | F33: =IF(איב!$F$1="3","",איב!$F$1) -> איב | G33: 63 | H33: 3778309 | I33: 3802525 | J33: =IF($F33="","",IFERROR(IF(H33>I33,$AU$1,IF(H33/I33>=0.75,1,0)),$AU$1)) -> 1 | K33: 1 | L33: 1 | M33: 1 | N33: 1 | O33: 1 | P33: 1 | Q33: 1 | R33: 1 | S33: 1 | T33: 1 | U33: 1 | W33: 1 | X33: =IF(F33="","",IF(G33>=$G$6,1,0)) -> 1 | Y33: 1 | Z33: 1 | AA33: 1 | AB33: 1 | AC33: 1 | AD33: 1 | AE33: 1 | AF33: 1 | AG33: 1 | AH33: 1 | AI33: 1 | AJ33: 1 | AK33: 1 | AL33: 1 | AM33: 1 | AR33: =IF($F33="","",IF(AN33=1,1,IF(AT33<>1,$AU$1,IF(SUMIF($G$4:$AM$4,1,G33:AM33)=COUNTIF($G$4:$AM$4,1),1,0)))) -> 1 | AT33: =IF(SUM(AW33:CG33)=COUNT(AW33:CG33),1,0) -> 1 | AU33: =IF($F33="","",AU$30) -> 0 | AV33: =IF($F33="","",AV$30) -> 1 | AW33: =IF(G$30="",1,IF(G$4=99,1,IF(G33="",0,IF(G$30=$AX$1,IF(ISNA(MATCH(G33,$AU$30:$AV$30,0)),0,1),IF(G$30=$AY$1,IF(IFERROR(G33*1,"bad")="bad",0,1),IF(G$30=$AZ$1,IF(IFERROR(IF(G33=TRUNC(G33),1,"bad"),"bad")="bad",0,1),IF(G$30=$BA$1,IF(AND(IF(IFERROR(G33*1,"bad")="bad",0,1)=1,G33>=0),1,0),IF(G$30=$BB$1,IF(AND(IF(IFERROR(IF(G33=TRUNC(G33),1,"bad"),"bad")="bad",0,1)=1,G33>=0),1,0),IF(G$30=$BC$1,IF(AND(IF(IFERROR(G33*1,"bad")="bad",0,1)=1,G33>0),1,0),IF(G$30=$BD$1,IF(AND(IF(IFERROR(IF(G33=TRUNC(G33),1,"bad"),"bad")="bad",0,1)=1,G33>0),1,0),IF(G$30=$BE$1,1,IF(G$30=$BF$1,IF(IFERROR(HLOOKUP(G33,$AX$4:$BG$4,1,0),"bad")="bad",0,1),0)))))))))))) -> 1 | AX33: =IF(H$30="",1,IF(H$4=99,1,IF(H33="",0,IF(H$30=$AX$1,IF(ISNA(MATCH(H33,$AU$30:$AV$30,0)),0,1),IF(H$30=$AY$1,IF(IFERROR(H33*1,"bad")="bad",0,1),IF(H$30=$AZ$1,IF(IFERROR(IF(H33=TRUNC(H33),1,"bad"),"bad")="bad",0,1),IF(H$30=$BA$1,IF(AND(IF(IFERROR(H33*1,"bad")="bad",0,1)=1,H33>=0),1,0),IF(H$30=$BB$1,IF(AND(IF(IFERROR(IF(H33=TRUNC(H33),1,"bad"),"bad")="bad",0,1)=1,H33>=0),1,0),IF(H$30=$BC$1,IF(AND(IF(IFERROR(H33*1,"bad")="bad",0,1)=1,H33>0),1,0),IF(H$30=$BD$1,IF(AND(IF(IFERROR(IF(H33=TRUNC(H33),1,"bad"),"bad")="bad",0,1)=1,H33>0),1,0),IF(H$30=$BE$1,1,IF(H$30=$BF$1,IF(IFERROR(HLOOKUP(H33,$AX$4:$BG$4,1,0),"bad")="bad",0,1),0)))))))))))) -> 1 | AY33: =IF(I$30="",1,IF(I$4=99,1,IF(I33="",0,IF(I$30=$AX$1,IF(ISNA(MATCH(I33,$AU$30:$AV$30,0)),0,1),IF(I$30=$AY$1,IF(IFERROR(I33*1,"bad")="bad",0,1),IF(I$30=$AZ$1,IF(IFERROR(IF(I33=TRUNC(I33),1,"bad"),"bad")="bad",0,1),IF(I$30=$BA$1,IF(AND(IF(IFERROR(I33*1,"bad")="bad",0,1)=1,I33>=0),1,0),IF(I$30=$BB$1,IF(AND(IF(IFERROR(IF(I33=TRUNC(I33),1,"bad"),"bad")="bad",0,1)=1,I33>=0),1,0),IF(I$30=$BC$1,IF(AND(IF(IFERROR(I33*1,"bad")="bad",0,1)=1,I33>0),1,0),IF(I$30=$BD$1,IF(AND(IF(IFERROR(IF(I33=TRUNC(I33),1,"bad"),"bad")="bad",0,1)=1,I33>0),1,0),IF(I$30=$BE$1,1,IF(I$30=$BF$1,IF(IFERROR(HLOOKUP(I33,$AX$4:$BG$4,1,0),"bad")="bad",0,1),0)))))))))))) -> 1 | AZ33: =IF(J$30="",1,IF(J$4=99,1,IF(J33="",0,IF(J$30=$AX$1,IF(ISNA(MATCH(J33,$AU$30:$AV$30,0)),0,1),IF(J$30=$AY$1,IF(IFERROR(J33*1,"bad")="bad",0,1),IF(J$30=$AZ$1,IF(IFERROR(IF(J33=TRUNC(J33),1,"bad"),"bad")="bad",0,1),IF(J$30=$BA$1,IF(AND(IF(IFERROR(J33*1,"bad")="bad",0,1)=1,J33>=0),1,0),IF(J$30=$BB$1,IF(AND(IF(IFERROR(IF(J33=TRUNC(J33),1,"bad"),"bad")="bad",0,1)=1,J33>=0),1,0),IF(J$30=$BC$1,IF(AND(IF(IFERROR(J33*1,"bad")="bad",0,1)=1,J33>0),1,0),IF(J$30=$BD$1,IF(AND(IF(IFERROR(IF(J33=TRUNC(J33),1,"bad"),"bad")="bad",0,1)=1,J33>0),1,0),IF(J$30=$BE$1,1,IF(J$30=$BF$1,IF(IFERROR(HLOOKUP(J33,$AX$4:$BG$4,1,0),"bad")="bad",0,1),0)))))))))))) -> 1 | BA33: =IF(K$30="",1,IF(K$4=99,1,IF(K33="",0,IF(K$30=$AX$1,IF(ISNA(MATCH(K33,$AU$30:$AV$30,0)),0,1),IF(K$30=$AY$1,IF(IFERROR(K33*1,"bad")="bad",0,1),IF(K$30=$AZ$1,IF(IFERROR(IF(K33=TRUNC(K33),1,"bad"),"bad")="bad",0,1),IF(K$30=$BA$1,IF(AND(IF(IFERROR(K33*1,"bad")="bad",0,1)=1,K33>=0),1,0),IF(K$30=$BB$1,IF(AND(IF(IFERROR(IF(K33=TRUNC(K33),1,"bad"),"bad")="bad",0,1)=1,K33>=0),1,0),IF(K$30=$BC$1,IF(AND(IF(IFERROR(K33*1,"bad")="bad",0,1)=1,K33>0),1,0),IF(K$30=$BD$1,IF(AND(IF(IFERROR(IF(K33=TRUNC(K33),1,"bad"),"bad")="bad",0,1)=1,K33>0),1,0),IF(K$30=$BE$1,1,IF(K$30=$BF$1,IF(IFERROR(HLOOKUP(K33,$AX$4:$BG$4,1,0),"bad")="bad",0,1),0)))))))))))) -> 1 | BB33: =IF(L$30="",1,IF(L$4=99,1,IF(L33="",0,IF(L$30=$AX$1,IF(ISNA(MATCH(L33,$AU$30:$AV$30,0)),0,1),IF(L$30=$AY$1,IF(IFERROR(L33*1,"bad")="bad",0,1),IF(L$30=$AZ$1,IF(IFERROR(IF(L33=TRUNC(L33),1,"bad"),"bad")="bad",0,1),IF(L$30=$BA$1,IF(AND(IF(IFERROR(L33*1,"bad")="bad",0,1)=1,L33>=0),1,0),IF(L$30=$BB$1,IF(AND(IF(IFERROR(IF(L33=TRUNC(L33),1,"bad"),"bad")="bad",0,1)=1,L33>=0),1,0),IF(L$30=$BC$1,IF(AND(IF(IFERROR(L33*1,"bad")="bad",0,1)=1,L33>0),1,0),IF(L$30=$BD$1,IF(AND(IF(IFERROR(IF(L33=TRUNC(L33),1,"bad"),"bad")="bad",0,1)=1,L33>0),1,0),IF(L$30=$BE$1,1,IF(L$30=$BF$1,IF(IFERROR(HLOOKUP(L33,$AX$4:$BG$4,1,0),"bad")="bad",0,1),0)))))))))))) -> 1 | BC33: =IF(M$30="",1,IF(M$4=99,1,IF(M33="",0,IF(M$30=$AX$1,IF(ISNA(MATCH(M33,$AU$30:$AV$30,0)),0,1),IF(M$30=$AY$1,IF(IFERROR(M33*1,"bad")="bad",0,1),IF(M$30=$AZ$1,IF(IFERROR(IF(M33=TRUNC(M33),1,"bad"),"bad")="bad",0,1),IF(M$30=$BA$1,IF(AND(IF(IFERROR(M33*1,"bad")="bad",0,1)=1,M33>=0),1,0),IF(M$30=$BB$1,IF(AND(IF(IFERROR(IF(M33=TRUNC(M33),1,"bad"),"bad")="bad",0,1)=1,M33>=0),1,0),IF(M$30=$BC$1,IF(AND(IF(IFERROR(M33*1,"bad")="bad",0,1)=1,M33>0),1,0),IF(M$30=$BD$1,IF(AND(IF(IFERROR(IF(M33=TRUNC(M33),1,"bad"),"bad")="bad",0,1)=1,M33>0),1,0),IF(M$30=$BE$1,1,IF(M$30=$BF$1,IF(IFERROR(HLOOKUP(M33,$AX$4:$BG$4,1,0),"bad")="bad",0,1),0)))))))))))) -> 1 | BD33: =IF(N$30="",1,IF(N$4=99,1,IF(N33="",0,IF(N$30=$AX$1,IF(ISNA(MATCH(N33,$AU$30:$AV$30,0)),0,1),IF(N$30=$AY$1,IF(IFERROR(N33*1,"bad")="bad",0,1),IF(N$30=$AZ$1,IF(IFERROR(IF(N33=TRUNC(N33),1,"bad"),"bad")="bad",0,1),IF(N$30=$BA$1,IF(AND(IF(IFERROR(N33*1,"bad")="bad",0,1)=1,N33>=0),1,0),IF(N$30=$BB$1,IF(AND(IF(IFERROR(IF(N33=TRUNC(N33),1,"bad"),"bad")="bad",0,1)=1,N33>=0),1,0),IF(N$30=$BC$1,IF(AND(IF(IFERROR(N33*1,"bad")="bad",0,1)=1,N33>0),1,0),IF(N$30=$BD$1,IF(AND(IF(IFERROR(IF(N33=TRUNC(N33),1,"bad"),"bad")="bad",0,1)=1,N33>0),1,0),IF(N$30=$BE$1,1,IF(N$30=$BF$1,IF(IFERROR(HLOOKUP(N33,$AX$4:$BG$4,1,0),"bad")="bad",0,1),0)))))))))))) -> 1 | ... CA33: =IF(AK$30="",1,IF(AK$4=99,1,IF(AK33="",0,IF(AK$30=$AX$1,IF(ISNA(MATCH(AK33,$AU$30:$AV$30,0)),0,1),IF(AK$30=$AY$1,IF(IFERROR(AK33*1,"bad")="bad",0,1),IF(AK$30=$AZ$1,IF(IFERROR(IF(AK33=TRUNC(AK33),1,"bad"),"bad")="bad",0,1),IF(AK$30=$BA$1,IF(AND(IF(IFERROR(AK33*1,"bad")="bad",0,1)=1,AK33>=0),1,0),IF(AK$30=$BB$1,IF(AND(IF(IFERROR(IF(AK33=TRUNC(AK33),1,"bad"),"bad")="bad",0,1)=1,AK33>=0),1,0),IF(AK$30=$BC$1,IF(AND(IF(IFERROR(AK33*1,"bad")="bad",0,1)=1,AK33>0),1,0),IF(AK$30=$BD$1,IF(AND(IF(IFERROR(IF(AK33=TRUNC(AK33),1,"bad"),"bad")="bad",0,1)=1,AK33>0),1,0),IF(AK$30=$BE$1,1,IF(AK$30=$BF$1,IF(IFERROR(HLOOKUP(AK33,$AX$4:$BG$4,1,0),"bad")="bad",0,1),0)))))))))))) -> 1 | CB33: =IF(AM$30="",1,IF(AM$4=99,1,IF(AM33="",0,IF(AM$30=$AX$1,IF(ISNA(MATCH(AM33,$AU$30:$AV$30,0)),0,1),IF(AM$30=$AY$1,IF(IFERROR(AM33*1,"bad")="bad",0,1),IF(AM$30=$AZ$1,IF(IFERROR(IF(AM33=TRUNC(AM33),1,"bad"),"bad")="bad",0,1),IF(AM$30=$BA$1,IF(AND(IF(IFERROR(AM33*1,"bad")="bad",0,1)=1,AM33>=0),1,0),IF(AM$30=$BB$1,IF(AND(IF(IFERROR(IF(AM33=TRUNC(AM33),1,"bad"),"bad")="bad",0,1)=1,AM33>=0),1,0),IF(AM$30=$BC$1,IF(AND(IF(IFERROR(AM33*1,"bad")="bad",0,1)=1,AM33>0),1,0),IF(AM$30=$BD$1,IF(AND(IF(IFERROR(IF(AM33=TRUNC(AM33),1,"bad"),"bad")="bad",0,1)=1,AM33>0),1,0),IF(AM$30=$BE$1,1,IF(AM$30=$BF$1,IF(IFERROR(HLOOKUP(AM33,$AX$4:$BG$4,1,0),"bad")="bad",0,1),0)))))))))))) -> 1 | CC33: =IF(ISNA(MATCH(AN33,$AU$30:$AV$30,0)),0,1) -> 1 | CG33: =IF(AR$30="",1,IF(AR33="",0,IF(AR$30=$AX$1,IF(ISNA(MATCH(AR33,$AU$30:$AV$30,0)),0,1),IF(AR$30=$AY$1,IF(IFERROR(AR33*1,"bad")="bad",0,1),IF(AR$30=$AZ$1,IF(IFERROR(IF(AR33=TRUNC(AR33),1,"bad"),"bad")="bad",0,1),IF(AR$30=$BA$1,IF(AND(IF(IFERROR(AR33*1,"bad")="bad",0,1)=1,AR33>=0),1,0),IF(AR$30=$BB$1,IF(AND(IF(IFERROR(IF(AR33=TRUNC(AR33),1,"bad"),"bad")="bad",0,1)=1,AR33>=0),1,0),IF(AR$30=$BC$1,IF(AND(IF(IFERROR(AR33*1,"bad")="bad",0,1)=1,AR33>0),1,0),IF(AR$30=$BD$1,IF(AND(IF(IFERROR(IF(AR33=TRUNC(AR33),1,"bad"),"bad")="bad",0,1)=1,AR33>0),1,0),IF(AR$30=$BE$1,1,IF(AR$30=$BF$1,IF(IFERROR(HLOOKUP(AR33,$AX$4:$BG$4,1,0),"bad")="bad",0,1),0))))))))))) -> 1 | CL33: =IF($F33="","",CL$30) -> 1 | CM33: =IF($F33="","",CM$30) -> 2 | CN33: =IF($F33="","",CN$30) -> 3 | CO33: =IF($F33="","",CO$30) -> 4 | CP33: =IF($F33="","",CP$30) -> 5 | CQ33: =IF($F33="","",CQ$30) -> 6 | CR33: =IF($F33="","",CR$30) -> 7 | CS33: =IF($F33="","",CS$30) -> 8 | ... CU33: =IF($F33="","",CU$30) -> 10
B34: =IF(F34="","",ROW()-30) | F34: =IF('4'!$F$1="4","",'4'!$F$1) | J34: =IF($F34="","",IFERROR(IF(H34>I34,$AU$1,IF(H34/I34>=0.75,1,0)),$AU$1)) | X34: =IF(F34="","",IF(G34>=$G$6,1,0)) | AR34: =IF($F34="","",IF(AN34=1,1,IF(AT34<>1,$AU$1,IF(SUMIF($G$4:$AM$4,1,G34:AM34)=COUNTIF($G$4:$AM$4,1),1,0)))) | AT34: =IF(SUM(AW34:CG34)=COUNT(AW34:CG34),1,0) -> 0 | AU34: =IF($F34="","",AU$30) | AV34: =IF($F34="","",AV$30) | AW34: =IF(G$30="",1,IF(G$4=99,1,IF(G34="",0,IF(G$30=$AX$1,IF(ISNA(MATCH(G34,$AU$30:$AV$30,0)),0,1),IF(G$30=$AY$1,IF(IFERROR(G34*1,"bad")="bad",0,1),IF(G$30=$AZ$1,IF(IFERROR(IF(G34=TRUNC(G34),1,"bad"),"bad")="bad",0,1),IF(G$30=$BA$1,IF(AND(IF(IFERROR(G34*1,"bad")="bad",0,1)=1,G34>=0),1,0),IF(G$30=$BB$1,IF(AND(IF(IFERROR(IF(G34=TRUNC(G34),1,"bad"),"bad")="bad",0,1)=1,G34>=0),1,0),IF(G$30=$BC$1,IF(AND(IF(IFERROR(G34*1,"bad")="bad",0,1)=1,G34>0),1,0),IF(G$30=$BD$1,IF(AND(IF(IFERROR(IF(G34=TRUNC(G34),1,"bad"),"bad")="bad",0,1)=1,G34>0),1,0),IF(G$30=$BE$1,1,IF(G$30=$BF$1,IF(IFERROR(HLOOKUP(G34,$AX$4:$BG$4,1,0),"bad")="bad",0,1),0)))))))))))) -> 0 | AX34: =IF(H$30="",1,IF(H$4=99,1,IF(H34="",0,IF(H$30=$AX$1,IF(ISNA(MATCH(H34,$AU$30:$AV$30,0)),0,1),IF(H$30=$AY$1,IF(IFERROR(H34*1,"bad")="bad",0,1),IF(H$30=$AZ$1,IF(IFERROR(IF(H34=TRUNC(H34),1,"bad"),"bad")="bad",0,1),IF(H$30=$BA$1,IF(AND(IF(IFERROR(H34*1,"bad")="bad",0,1)=1,H34>=0),1,0),IF(H$30=$BB$1,IF(AND(IF(IFERROR(IF(H34=TRUNC(H34),1,"bad"),"bad")="bad",0,1)=1,H34>=0),1,0),IF(H$30=$BC$1,IF(AND(IF(IFERROR(H34*1,"bad")="bad",0,1)=1,H34>0),1,0),IF(H$30=$BD$1,IF(AND(IF(IFERROR(IF(H34=TRUNC(H34),1,"bad"),"bad")="bad",0,1)=1,H34>0),1,0),IF(H$30=$BE$1,1,IF(H$30=$BF$1,IF(IFERROR(HLOOKUP(H34,$AX$4:$BG$4,1,0),"bad")="bad",0,1),0)))))))))))) -> 0 | AY34: =IF(I$30="",1,IF(I$4=99,1,IF(I34="",0,IF(I$30=$AX$1,IF(ISNA(MATCH(I34,$AU$30:$AV$30,0)),0,1),IF(I$30=$AY$1,IF(IFERROR(I34*1,"bad")="bad",0,1),IF(I$30=$AZ$1,IF(IFERROR(IF(I34=TRUNC(I34),1,"bad"),"bad")="bad",0,1),IF(I$30=$BA$1,IF(AND(IF(IFERROR(I34*1,"bad")="bad",0,1)=1,I34>=0),1,0),IF(I$30=$BB$1,IF(AND(IF(IFERROR(IF(I34=TRUNC(I34),1,"bad"),"bad")="bad",0,1)=1,I34>=0),1,0),IF(I$30=$BC$1,IF(AND(IF(IFERROR(I34*1,"bad")="bad",0,1)=1,I34>0),1,0),IF(I$30=$BD$1,IF(AND(IF(IFERROR(IF(I34=TRUNC(I34),1,"bad"),"bad")="bad",0,1)=1,I34>0),1,0),IF(I$30=$BE$1,1,IF(I$30=$BF$1,IF(IFERROR(HLOOKUP(I34,$AX$4:$BG$4,1,0),"bad")="bad",0,1),0)))))))))))) -> 0 | AZ34: =IF(J$30="",1,IF(J$4=99,1,IF(J34="",0,IF(J$30=$AX$1,IF(ISNA(MATCH(J34,$AU$30:$AV$30,0)),0,1),IF(J$30=$AY$1,IF(IFERROR(J34*1,"bad")="bad",0,1),IF(J$30=$AZ$1,IF(IFERROR(IF(J34=TRUNC(J34),1,"bad"),"bad")="bad",0,1),IF(J$30=$BA$1,IF(AND(IF(IFERROR(J34*1,"bad")="bad",0,1)=1,J34>=0),1,0),IF(J$30=$BB$1,IF(AND(IF(IFERROR(IF(J34=TRUNC(J34),1,"bad"),"bad")="bad",0,1)=1,J34>=0),1,0),IF(J$30=$BC$1,IF(AND(IF(IFERROR(J34*1,"bad")="bad",0,1)=1,J34>0),1,0),IF(J$30=$BD$1,IF(AND(IF(IFERROR(IF(J34=TRUNC(J34),1,"bad"),"bad")="bad",0,1)=1,J34>0),1,0),IF(J$30=$BE$1,1,IF(J$30=$BF$1,IF(IFERROR(HLOOKUP(J34,$AX$4:$BG$4,1,0),"bad")="bad",0,1),0)))))))))))) -> 1 | BA34: =IF(K$30="",1,IF(K$4=99,1,IF(K34="",0,IF(K$30=$AX$1,IF(ISNA(MATCH(K34,$AU$30:$AV$30,0)),0,1),IF(K$30=$AY$1,IF(IFERROR(K34*1,"bad")="bad",0,1),IF(K$30=$AZ$1,IF(IFERROR(IF(K34=TRUNC(K34),1,"bad"),"bad")="bad",0,1),IF(K$30=$BA$1,IF(AND(IF(IFERROR(K34*1,"bad")="bad",0,1)=1,K34>=0),1,0),IF(K$30=$BB$1,IF(AND(IF(IFERROR(IF(K34=TRUNC(K34),1,"bad"),"bad")="bad",0,1)=1,K34>=0),1,0),IF(K$30=$BC$1,IF(AND(IF(IFERROR(K34*1,"bad")="bad",0,1)=1,K34>0),1,0),IF(K$30=$BD$1,IF(AND(IF(IFERROR(IF(K34=TRUNC(K34),1,"bad"),"bad")="bad",0,1)=1,K34>0),1,0),IF(K$30=$BE$1,1,IF(K$30=$BF$1,IF(IFERROR(HLOOKUP(K34,$AX$4:$BG$4,1,0),"bad")="bad",0,1),0)))))))))))) -> 0 | BB34: =IF(L$30="",1,IF(L$4=99,1,IF(L34="",0,IF(L$30=$AX$1,IF(ISNA(MATCH(L34,$AU$30:$AV$30,0)),0,1),IF(L$30=$AY$1,IF(IFERROR(L34*1,"bad")="bad",0,1),IF(L$30=$AZ$1,IF(IFERROR(IF(L34=TRUNC(L34),1,"bad"),"bad")="bad",0,1),IF(L$30=$BA$1,IF(AND(IF(IFERROR(L34*1,"bad")="bad",0,1)=1,L34>=0),1,0),IF(L$30=$BB$1,IF(AND(IF(IFERROR(IF(L34=TRUNC(L34),1,"bad"),"bad")="bad",0,1)=1,L34>=0),1,0),IF(L$30=$BC$1,IF(AND(IF(IFERROR(L34*1,"bad")="bad",0,1)=1,L34>0),1,0),IF(L$30=$BD$1,IF(AND(IF(IFERROR(IF(L34=TRUNC(L34),1,"bad"),"bad")="bad",0,1)=1,L34>0),1,0),IF(L$30=$BE$1,1,IF(L$30=$BF$1,IF(IFERROR(HLOOKUP(L34,$AX$4:$BG$4,1,0),"bad")="bad",0,1),0)))))))))))) -> 0 | BC34: =IF(M$30="",1,IF(M$4=99,1,IF(M34="",0,IF(M$30=$AX$1,IF(ISNA(MATCH(M34,$AU$30:$AV$30,0)),0,1),IF(M$30=$AY$1,IF(IFERROR(M34*1,"bad")="bad",0,1),IF(M$30=$AZ$1,IF(IFERROR(IF(M34=TRUNC(M34),1,"bad"),"bad")="bad",0,1),IF(M$30=$BA$1,IF(AND(IF(IFERROR(M34*1,"bad")="bad",0,1)=1,M34>=0),1,0),IF(M$30=$BB$1,IF(AND(IF(IFERROR(IF(M34=TRUNC(M34),1,"bad"),"bad")="bad",0,1)=1,M34>=0),1,0),IF(M$30=$BC$1,IF(AND(IF(IFERROR(M34*1,"bad")="bad",0,1)=1,M34>0),1,0),IF(M$30=$BD$1,IF(AND(IF(IFERROR(IF(M34=TRUNC(M34),1,"bad"),"bad")="bad",0,1)=1,M34>0),1,0),IF(M$30=$BE$1,1,IF(M$30=$BF$1,IF(IFERROR(HLOOKUP(M34,$AX$4:$BG$4,1,0),"bad")="bad",0,1),0)))))))))))) -> 0 | BD34: =IF(N$30="",1,IF(N$4=99,1,IF(N34="",0,IF(N$30=$AX$1,IF(ISNA(MATCH(N34,$AU$30:$AV$30,0)),0,1),IF(N$30=$AY$1,IF(IFERROR(N34*1,"bad")="bad",0,1),IF(N$30=$AZ$1,IF(IFERROR(IF(N34=TRUNC(N34),1,"bad"),"bad")="bad",0,1),IF(N$30=$BA$1,IF(AND(IF(IFERROR(N34*1,"bad")="bad",0,1)=1,N34>=0),1,0),IF(N$30=$BB$1,IF(AND(IF(IFERROR(IF(N34=TRUNC(N34),1,"bad"),"bad")="bad",0,1)=1,N34>=0),1,0),IF(N$30=$BC$1,IF(AND(IF(IFERROR(N34*1,"bad")="bad",0,1)=1,N34>0),1,0),IF(N$30=$BD$1,IF(AND(IF(IFERROR(IF(N34=TRUNC(N34),1,"bad"),"bad")="bad",0,1)=1,N34>0),1,0),IF(N$30=$BE$1,1,IF(N$30=$BF$1,IF(IFERROR(HLOOKUP(N34,$AX$4:$BG$4,1,0),"bad")="bad",0,1),0)))))))))))) -> 0 | ... CA34: =IF(AK$30="",1,IF(AK$4=99,1,IF(AK34="",0,IF(AK$30=$AX$1,IF(ISNA(MATCH(AK34,$AU$30:$AV$30,0)),0,1),IF(AK$30=$AY$1,IF(IFERROR(AK34*1,"bad")="bad",0,1),IF(AK$30=$AZ$1,IF(IFERROR(IF(AK34=TRUNC(AK34),1,"bad"),"bad")="bad",0,1),IF(AK$30=$BA$1,IF(AND(IF(IFERROR(AK34*1,"bad")="bad",0,1)=1,AK34>=0),1,0),IF(AK$30=$BB$1,IF(AND(IF(IFERROR(IF(AK34=TRUNC(AK34),1,"bad"),"bad")="bad",0,1)=1,AK34>=0),1,0),IF(AK$30=$BC$1,IF(AND(IF(IFERROR(AK34*1,"bad")="bad",0,1)=1,AK34>0),1,0),IF(AK$30=$BD$1,IF(AND(IF(IFERROR(IF(AK34=TRUNC(AK34),1,"bad"),"bad")="bad",0,1)=1,AK34>0),1,0),IF(AK$30=$BE$1,1,IF(AK$30=$BF$1,IF(IFERROR(HLOOKUP(AK34,$AX$4:$BG$4,1,0),"bad")="bad",0,1),0)))))))))))) -> 0 | CB34: =IF(AM$30="",1,IF(AM$4=99,1,IF(AM34="",0,IF(AM$30=$AX$1,IF(ISNA(MATCH(AM34,$AU$30:$AV$30,0)),0,1),IF(AM$30=$AY$1,IF(IFERROR(AM34*1,"bad")="bad",0,1),IF(AM$30=$AZ$1,IF(IFERROR(IF(AM34=TRUNC(AM34),1,"bad"),"bad")="bad",0,1),IF(AM$30=$BA$1,IF(AND(IF(IFERROR(AM34*1,"bad")="bad",0,1)=1,AM34>=0),1,0),IF(AM$30=$BB$1,IF(AND(IF(IFERROR(IF(AM34=TRUNC(AM34),1,"bad"),"bad")="bad",0,1)=1,AM34>=0),1,0),IF(AM$30=$BC$1,IF(AND(IF(IFERROR(AM34*1,"bad")="bad",0,1)=1,AM34>0),1,0),IF(AM$30=$BD$1,IF(AND(IF(IFERROR(IF(AM34=TRUNC(AM34),1,"bad"),"bad")="bad",0,1)=1,AM34>0),1,0),IF(AM$30=$BE$1,1,IF(AM$30=$BF$1,IF(IFERROR(HLOOKUP(AM34,$AX$4:$BG$4,1,0),"bad")="bad",0,1),0)))))))))))) -> 0 | CC34: =IF(ISNA(MATCH(AN34,$AU$30:$AV$30,0)),0,1) -> 1 | CG34: =IF(AR$30="",1,IF(AR34="",0,IF(AR$30=$AX$1,IF(ISNA(MATCH(AR34,$AU$30:$AV$30,0)),0,1),IF(AR$30=$AY$1,IF(IFERROR(AR34*1,"bad")="bad",0,1),IF(AR$30=$AZ$1,IF(IFERROR(IF(AR34=TRUNC(AR34),1,"bad"),"bad")="bad",0,1),IF(AR$30=$BA$1,IF(AND(IF(IFERROR(AR34*1,"bad")="bad",0,1)=1,AR34>=0),1,0),IF(AR$30=$BB$1,IF(AND(IF(IFERROR(IF(AR34=TRUNC(AR34),1,"bad"),"bad")="bad",0,1)=1,AR34>=0),1,0),IF(AR$30=$BC$1,IF(AND(IF(IFERROR(AR34*1,"bad")="bad",0,1)=1,AR34>0),1,0),IF(AR$30=$BD$1,IF(AND(IF(IFERROR(IF(AR34=TRUNC(AR34),1,"bad"),"bad")="bad",0,1)=1,AR34>0),1,0),IF(AR$30=$BE$1,1,IF(AR$30=$BF$1,IF(IFERROR(HLOOKUP(AR34,$AX$4:$BG$4,1,0),"bad")="bad",0,1),0))))))))))) -> 1 | CL34: =IF($F34="","",CL$30) | CM34: =IF($F34="","",CM$30) | CN34: =IF($F34="","",CN$30) | CO34: =IF($F34="","",CO$30) | CP34: =IF($F34="","",CP$30) | CQ34: =IF($F34="","",CQ$30) | CR34: =IF($F34="","",CR$30) | CS34: =IF($F34="","",CS$30) | ... CU34: =IF($F34="","",CU$30)
B35: =IF(F35="","",ROW()-30) | F35: =IF('5'!$F$1="5","",'5'!$F$1) | J35: =IF($F35="","",IFERROR(IF(H35>I35,$AU$1,IF(H35/I35>=0.75,1,0)),$AU$1)) | X35: =IF(F35="","",IF(G35>=$G$6,1,0)) | AR35: =IF($F35="","",IF(AN35=1,1,IF(AT35<>1,$AU$1,IF(SUMIF($G$4:$AM$4,1,G35:AM35)=COUNTIF($G$4:$AM$4,1),1,0)))) | AT35: =IF(SUM(AW35:CG35)=COUNT(AW35:CG35),1,0) -> 0 | AU35: =IF($F35="","",AU$30) | AV35: =IF($F35="","",AV$30) | AW35: =IF(G$30="",1,IF(G$4=99,1,IF(G35="",0,IF(G$30=$AX$1,IF(ISNA(MATCH(G35,$AU$30:$AV$30,0)),0,1),IF(G$30=$AY$1,IF(IFERROR(G35*1,"bad")="bad",0,1),IF(G$30=$AZ$1,IF(IFERROR(IF(G35=TRUNC(G35),1,"bad"),"bad")="bad",0,1),IF(G$30=$BA$1,IF(AND(IF(IFERROR(G35*1,"bad")="bad",0,1)=1,G35>=0),1,0),IF(G$30=$BB$1,IF(AND(IF(IFERROR(IF(G35=TRUNC(G35),1,"bad"),"bad")="bad",0,1)=1,G35>=0),1,0),IF(G$30=$BC$1,IF(AND(IF(IFERROR(G35*1,"bad")="bad",0,1)=1,G35>0),1,0),IF(G$30=$BD$1,IF(AND(IF(IFERROR(IF(G35=TRUNC(G35),1,"bad"),"bad")="bad",0,1)=1,G35>0),1,0),IF(G$30=$BE$1,1,IF(G$30=$BF$1,IF(IFERROR(HLOOKUP(G35,$AX$4:$BG$4,1,0),"bad")="bad",0,1),0)))))))))))) -> 0 | AX35: =IF(H$30="",1,IF(H$4=99,1,IF(H35="",0,IF(H$30=$AX$1,IF(ISNA(MATCH(H35,$AU$30:$AV$30,0)),0,1),IF(H$30=$AY$1,IF(IFERROR(H35*1,"bad")="bad",0,1),IF(H$30=$AZ$1,IF(IFERROR(IF(H35=TRUNC(H35),1,"bad"),"bad")="bad",0,1),IF(H$30=$BA$1,IF(AND(IF(IFERROR(H35*1,"bad")="bad",0,1)=1,H35>=0),1,0),IF(H$30=$BB$1,IF(AND(IF(IFERROR(IF(H35=TRUNC(H35),1,"bad"),"bad")="bad",0,1)=1,H35>=0),1,0),IF(H$30=$BC$1,IF(AND(IF(IFERROR(H35*1,"bad")="bad",0,1)=1,H35>0),1,0),IF(H$30=$BD$1,IF(AND(IF(IFERROR(IF(H35=TRUNC(H35),1,"bad"),"bad")="bad",0,1)=1,H35>0),1,0),IF(H$30=$BE$1,1,IF(H$30=$BF$1,IF(IFERROR(HLOOKUP(H35,$AX$4:$BG$4,1,0),"bad")="bad",0,1),0)))))))))))) -> 0 | AY35: =IF(I$30="",1,IF(I$4=99,1,IF(I35="",0,IF(I$30=$AX$1,IF(ISNA(MATCH(I35,$AU$30:$AV$30,0)),0,1),IF(I$30=$AY$1,IF(IFERROR(I35*1,"bad")="bad",0,1),IF(I$30=$AZ$1,IF(IFERROR(IF(I35=TRUNC(I35),1,"bad"),"bad")="bad",0,1),IF(I$30=$BA$1,IF(AND(IF(IFERROR(I35*1,"bad")="bad",0,1)=1,I35>=0),1,0),IF(I$30=$BB$1,IF(AND(IF(IFERROR(IF(I35=TRUNC(I35),1,"bad"),"bad")="bad",0,1)=1,I35>=0),1,0),IF(I$30=$BC$1,IF(AND(IF(IFERROR(I35*1,"bad")="bad",0,1)=1,I35>0),1,0),IF(I$30=$BD$1,IF(AND(IF(IFERROR(IF(I35=TRUNC(I35),1,"bad"),"bad")="bad",0,1)=1,I35>0),1,0),IF(I$30=$BE$1,1,IF(I$30=$BF$1,IF(IFERROR(HLOOKUP(I35,$AX$4:$BG$4,1,0),"bad")="bad",0,1),0)))))))))))) -> 0 | AZ35: =IF(J$30="",1,IF(J$4=99,1,IF(J35="",0,IF(J$30=$AX$1,IF(ISNA(MATCH(J35,$AU$30:$AV$30,0)),0,1),IF(J$30=$AY$1,IF(IFERROR(J35*1,"bad")="bad",0,1),IF(J$30=$AZ$1,IF(IFERROR(IF(J35=TRUNC(J35),1,"bad"),"bad")="bad",0,1),IF(J$30=$BA$1,IF(AND(IF(IFERROR(J35*1,"bad")="bad",0,1)=1,J35>=0),1,0),IF(J$30=$BB$1,IF(AND(IF(IFERROR(IF(J35=TRUNC(J35),1,"bad"),"bad")="bad",0,1)=1,J35>=0),1,0),IF(J$30=$BC$1,IF(AND(IF(IFERROR(J35*1,"bad")="bad",0,1)=1,J35>0),1,0),IF(J$30=$BD$1,IF(AND(IF(IFERROR(IF(J35=TRUNC(J35),1,"bad"),"bad")="bad",0,1)=1,J35>0),1,0),IF(J$30=$BE$1,1,IF(J$30=$BF$1,IF(IFERROR(HLOOKUP(J35,$AX$4:$BG$4,1,0),"bad")="bad",0,1),0)))))))))))) -> 1 | BA35: =IF(K$30="",1,IF(K$4=99,1,IF(K35="",0,IF(K$30=$AX$1,IF(ISNA(MATCH(K35,$AU$30:$AV$30,0)),0,1),IF(K$30=$AY$1,IF(IFERROR(K35*1,"bad")="bad",0,1),IF(K$30=$AZ$1,IF(IFERROR(IF(K35=TRUNC(K35),1,"bad"),"bad")="bad",0,1),IF(K$30=$BA$1,IF(AND(IF(IFERROR(K35*1,"bad")="bad",0,1)=1,K35>=0),1,0),IF(K$30=$BB$1,IF(AND(IF(IFERROR(IF(K35=TRUNC(K35),1,"bad"),"bad")="bad",0,1)=1,K35>=0),1,0),IF(K$30=$BC$1,IF(AND(IF(IFERROR(K35*1,"bad")="bad",0,1)=1,K35>0),1,0),IF(K$30=$BD$1,IF(AND(IF(IFERROR(IF(K35=TRUNC(K35),1,"bad"),"bad")="bad",0,1)=1,K35>0),1,0),IF(K$30=$BE$1,1,IF(K$30=$BF$1,IF(IFERROR(HLOOKUP(K35,$AX$4:$BG$4,1,0),"bad")="bad",0,1),0)))))))))))) -> 0 | BB35: =IF(L$30="",1,IF(L$4=99,1,IF(L35="",0,IF(L$30=$AX$1,IF(ISNA(MATCH(L35,$AU$30:$AV$30,0)),0,1),IF(L$30=$AY$1,IF(IFERROR(L35*1,"bad")="bad",0,1),IF(L$30=$AZ$1,IF(IFERROR(IF(L35=TRUNC(L35),1,"bad"),"bad")="bad",0,1),IF(L$30=$BA$1,IF(AND(IF(IFERROR(L35*1,"bad")="bad",0,1)=1,L35>=0),1,0),IF(L$30=$BB$1,IF(AND(IF(IFERROR(IF(L35=TRUNC(L35),1,"bad"),"bad")="bad",0,1)=1,L35>=0),1,0),IF(L$30=$BC$1,IF(AND(IF(IFERROR(L35*1,"bad")="bad",0,1)=1,L35>0),1,0),IF(L$30=$BD$1,IF(AND(IF(IFERROR(IF(L35=TRUNC(L35),1,"bad"),"bad")="bad",0,1)=1,L35>0),1,0),IF(L$30=$BE$1,1,IF(L$30=$BF$1,IF(IFERROR(HLOOKUP(L35,$AX$4:$BG$4,1,0),"bad")="bad",0,1),0)))))))))))) -> 0 | BC35: =IF(M$30="",1,IF(M$4=99,1,IF(M35="",0,IF(M$30=$AX$1,IF(ISNA(MATCH(M35,$AU$30:$AV$30,0)),0,1),IF(M$30=$AY$1,IF(IFERROR(M35*1,"bad")="bad",0,1),IF(M$30=$AZ$1,IF(IFERROR(IF(M35=TRUNC(M35),1,"bad"),"bad")="bad",0,1),IF(M$30=$BA$1,IF(AND(IF(IFERROR(M35*1,"bad")="bad",0,1)=1,M35>=0),1,0),IF(M$30=$BB$1,IF(AND(IF(IFERROR(IF(M35=TRUNC(M35),1,"bad"),"bad")="bad",0,1)=1,M35>=0),1,0),IF(M$30=$BC$1,IF(AND(IF(IFERROR(M35*1,"bad")="bad",0,1)=1,M35>0),1,0),IF(M$30=$BD$1,IF(AND(IF(IFERROR(IF(M35=TRUNC(M35),1,"bad"),"bad")="bad",0,1)=1,M35>0),1,0),IF(M$30=$BE$1,1,IF(M$30=$BF$1,IF(IFERROR(HLOOKUP(M35,$AX$4:$BG$4,1,0),"bad")="bad",0,1),0)))))))))))) -> 0 | BD35: =IF(N$30="",1,IF(N$4=99,1,IF(N35="",0,IF(N$30=$AX$1,IF(ISNA(MATCH(N35,$AU$30:$AV$30,0)),0,1),IF(N$30=$AY$1,IF(IFERROR(N35*1,"bad")="bad",0,1),IF(N$30=$AZ$1,IF(IFERROR(IF(N35=TRUNC(N35),1,"bad"),"bad")="bad",0,1),IF(N$30=$BA$1,IF(AND(IF(IFERROR(N35*1,"bad")="bad",0,1)=1,N35>=0),1,0),IF(N$30=$BB$1,IF(AND(IF(IFERROR(IF(N35=TRUNC(N35),1,"bad"),"bad")="bad",0,1)=1,N35>=0),1,0),IF(N$30=$BC$1,IF(AND(IF(IFERROR(N35*1,"bad")="bad",0,1)=1,N35>0),1,0),IF(N$30=$BD$1,IF(AND(IF(IFERROR(IF(N35=TRUNC(N35),1,"bad"),"bad")="bad",0,1)=1,N35>0),1,0),IF(N$30=$BE$1,1,IF(N$30=$BF$1,IF(IFERROR(HLOOKUP(N35,$AX$4:$BG$4,1,0),"bad")="bad",0,1),0)))))))))))) -> 0 | ... CA35: =IF(AK$30="",1,IF(AK$4=99,1,IF(AK35="",0,IF(AK$30=$AX$1,IF(ISNA(MATCH(AK35,$AU$30:$AV$30,0)),0,1),IF(AK$30=$AY$1,IF(IFERROR(AK35*1,"bad")="bad",0,1),IF(AK$30=$AZ$1,IF(IFERROR(IF(AK35=TRUNC(AK35),1,"bad"),"bad")="bad",0,1),IF(AK$30=$BA$1,IF(AND(IF(IFERROR(AK35*1,"bad")="bad",0,1)=1,AK35>=0),1,0),IF(AK$30=$BB$1,IF(AND(IF(IFERROR(IF(AK35=TRUNC(AK35),1,"bad"),"bad")="bad",0,1)=1,AK35>=0),1,0),IF(AK$30=$BC$1,IF(AND(IF(IFERROR(AK35*1,"bad")="bad",0,1)=1,AK35>0),1,0),IF(AK$30=$BD$1,IF(AND(IF(IFERROR(IF(AK35=TRUNC(AK35),1,"bad"),"bad")="bad",0,1)=1,AK35>0),1,0),IF(AK$30=$BE$1,1,IF(AK$30=$BF$1,IF(IFERROR(HLOOKUP(AK35,$AX$4:$BG$4,1,0),"bad")="bad",0,1),0)))))))))))) -> 0 | CB35: =IF(AM$30="",1,IF(AM$4=99,1,IF(AM35="",0,IF(AM$30=$AX$1,IF(ISNA(MATCH(AM35,$AU$30:$AV$30,0)),0,1),IF(AM$30=$AY$1,IF(IFERROR(AM35*1,"bad")="bad",0,1),IF(AM$30=$AZ$1,IF(IFERROR(IF(AM35=TRUNC(AM35),1,"bad"),"bad")="bad",0,1),IF(AM$30=$BA$1,IF(AND(IF(IFERROR(AM35*1,"bad")="bad",0,1)=1,AM35>=0),1,0),IF(AM$30=$BB$1,IF(AND(IF(IFERROR(IF(AM35=TRUNC(AM35),1,"bad"),"bad")="bad",0,1)=1,AM35>=0),1,0),IF(AM$30=$BC$1,IF(AND(IF(IFERROR(AM35*1,"bad")="bad",0,1)=1,AM35>0),1,0),IF(AM$30=$BD$1,IF(AND(IF(IFERROR(IF(AM35=TRUNC(AM35),1,"bad"),"bad")="bad",0,1)=1,AM35>0),1,0),IF(AM$30=$BE$1,1,IF(AM$30=$BF$1,IF(IFERROR(HLOOKUP(AM35,$AX$4:$BG$4,1,0),"bad")="bad",0,1),0)))))))))))) -> 0 | CC35: =IF(ISNA(MATCH(AN35,$AU$30:$AV$30,0)),0,1) -> 1 | CG35: =IF(AR$30="",1,IF(AR35="",0,IF(AR$30=$AX$1,IF(ISNA(MATCH(AR35,$AU$30:$AV$30,0)),0,1),IF(AR$30=$AY$1,IF(IFERROR(AR35*1,"bad")="bad",0,1),IF(AR$30=$AZ$1,IF(IFERROR(IF(AR35=TRUNC(AR35),1,"bad"),"bad")="bad",0,1),IF(AR$30=$BA$1,IF(AND(IF(IFERROR(AR35*1,"bad")="bad",0,1)=1,AR35>=0),1,0),IF(AR$30=$BB$1,IF(AND(IF(IFERROR(IF(AR35=TRUNC(AR35),1,"bad"),"bad")="bad",0,1)=1,AR35>=0),1,0),IF(AR$30=$BC$1,IF(AND(IF(IFERROR(AR35*1,"bad")="bad",0,1)=1,AR35>0),1,0),IF(AR$30=$BD$1,IF(AND(IF(IFERROR(IF(AR35=TRUNC(AR35),1,"bad"),"bad")="bad",0,1)=1,AR35>0),1,0),IF(AR$30=$BE$1,1,IF(AR$30=$BF$1,IF(IFERROR(HLOOKUP(AR35,$AX$4:$BG$4,1,0),"bad")="bad",0,1),0))))))))))) -> 1 | CL35: =IF($F35="","",CL$30) | CM35: =IF($F35="","",CM$30) | CN35: =IF($F35="","",CN$30) | CO35: =IF($F35="","",CO$30) | CP35: =IF($F35="","",CP$30) | CQ35: =IF($F35="","",CQ$30) | CR35: =IF($F35="","",CR$30) | CS35: =IF($F35="","",CS$30) | ... CU35: =IF($F35="","",CU$30)
