Workbook
Name a: #REF!
Name a: #REF!
Name a: #REF!
Name a: #REF!
Name a: #REF!
Name a: #REF!
Name a: #REF!
Name a: #REF!
Name a: #REF!
Name a: #REF!
Name a: #REF!
Name a: #REF!
Name a: #REF!
Name a: #REF!
Name a: #REF!
Name a: #REF!
Name a: #REF!
Name a: #REF!
Name a: #REF!
Name a: #REF!
Name a: #REF!
Name a: #REF!
Name a: #REF!
Name a: #REF!
Name a: #REF!
Name a: #REF!
Name a: #REF!
Name a: #REF!
Name aa: #REF!
Name aa: #REF!
Name aa: #REF!
Name aa: #REF!
Name aa: #REF!
Name aa: #REF!
Name aa: #REF!
Name aa: #REF!
Name aa: #REF!
Name aa: #REF!
Name aa: #REF!
Name aa: #REF!
Name aa: #REF!
Name aa: #REF!
Name aa: #REF!
Name aa: #REF!
Name aa: #REF!
Name aa: #REF!
Name aa: #REF!
Name aa: #REF!
Name aa: #REF!
Name aa: #REF!
Name aa: #REF!
Name aa: #REF!
Name b: #REF!
Name b: #REF!
Name b: #REF!
Name b: #REF!
Name b: #REF!
Name b: #REF!
Name b: #REF!
Name b: #REF!

Sheet ProtectSettings
B1: 0.69242495
B2: 45441.59
A6: AllowFilterCheckBox
A7: AllowFormattingCheckBox
A8: AllowColumnFormattingCheckBox | B8: TRUE
A9: AllowRowFormattingCheckBox | B9: TRUE
B21: 1 | C21: ProtectSettings
B22: 2 | C22: הדרכה למשתמש
B23: 3 | C23: פרמטרים לקריטריונים
B24: 4 | C24: הוראת שעה
B25: 5 | C25: תנאי סף
B26: 6 | C26: מספר בקשות תמיכה
B27: 7 | C27: ייעוץ ליווי וסיוע חשבונאי
B28: 8 | C28: ייעוץ ליווי וסיוע משפטי
B29: 9 | C29: ייעוץ ליווי וסיוע מקצועי
B30: 10 | C30: פרסום ושיווק
B31: 11 | C31: העמדת חלל לצורכי האמנים
B32: 12 | C32: ניוד מופעים לפריפריה
... B48: 28 | C48: איב
B49: 29 | C49: 4
B50: 30 | C50: הרכב חברי הוועדה-לא רלוונטי
B51: 31 | C51: 5
B52: 32 | C52: 6
B53: 33 | C53: 7
B54: 34 | C54: 8
B55: 35 | C55: 9
B56: 36 | C56: 10
B57: 37 | C57: ריכוז גיליונות עזר

Sheet הדרכה למשתמש
B2: הדרכה למשתמש
B4: תאריך בניית המודל | C4: 42583
B5: תאריך עדכון מודל | C5: 43599
B7: הערות חשובות: בעת עריכת המודל - חל איסור מוחלט לבצע גזירה והדבקה או העברה של תא ממקום למקום על ידי גרירה. אסור לבצע "הוספה" או "מחיקה" של שורות או עמודות יש לפתוח את המודל בגרסת אקסל 2010 לפחות. חל איסור לשמור את הקובץ בפורמט התואם אקסל 97-2003
B9: הוראת שעה/מעבר:
B11: הדרכה להזנת נתונים
B12: צבע התא | C12: מטרת התא | D12: דגש
B13: צהוב הזנה | C13: הזנת נתונים | D13: נדרש להזין מידע בהתאם להנחיות מבחן התמיכה, אי הזנה של תא יכולה להביא לידי שגיאה בתוצאות במודל.
B14: חום | C14: הצגת מידע | D14: תא שאיננו מיועד להזנה. תא זה מציג מידע עפ"י נוסחה קבועה ואין לשנות אותה.
B15: אדום | C15: התראת שגיאה | D15: קיימת שגיאה בהזנת נתונים באחד מהתאים המיועדים להזנה, נדרש להזין את הנתונים הנדרשים לפני קביעת גובה תמיכה סופי.
B16: צהוב אזהרה | C16: התראת שגיאה | D16: קיימת שגיאה בהזנת נתונים באחד מהתאים המיועדים להזנה, אך עדיין מוצגים נתוני גובה התמיכה, נדרש להזין את הנתונים הנדרשים לפני קביעת גובה תמיכה סופי.
B17: את רשימת המוסדות יש להזין בגיליונות השמאליים של הקובץ הממוספרים מ1 עד 10 במקום שם הגיליון , גיליון שממוספר מ1-10 ואינו נמצא בשימוש אין לשנות את שם הגיליון הקיים כברירת מחדל (מספר סידורי). במידה והוחלט לא להשתמש בגיליון לאחר כתיבת השם, נדרש לשנות חזרה את שם הגיליון למספר סידורי
B33: ניהול גרסאות
B34: מספר גרסה | C34: תאריך עדכון גרסה | D34: תאריך גרסה של מבחן תמיכה | E34: התאמות נוספות של מבחן תמיכה
B35: 1 | C35: 42592 | D35: 42578 | E35: א. עדכון משתנה יצירת שיתופי פעולה על פי הנחייה במייל מיום 10.8.16. ב. עדכון גיליון הגנה (2) בהוראת מעבר בהתאם להנחיית וועדת התמיכות כך שיינתן הגנה של 100% לכלל הגופים לפי גובה תמיכה של שנה קודמת. (לפי סכום) בהינתן שגובה תמיכה של השנה השוטפת הוא לפחות התמיכה של שנה קודמת. במידה וקיים תקציב בשנה השוטפת מעבר לקיים בשנה קודמת יש לחלק אותו באופן יחסי בין כל הגופים שנפגעו מההגנה לפי הסכום היחסי שהיה בניהם לפני ההגנה. לאחר שחולק סכום כסף כך שכל הגופים מקבלים את הסכום לפני ההגנה, במידה ועדיין קיים כסף נוסף לחלוקה, הוא יחולק באופן יחסי בין כל הגופים לפי השיעור היחסי הקיים בשלב זה. ג. גיליון הגנה - בהתאם לבקשת כלנית שיעור הייצוב היחסי של שנה קודמת הוא לא אחרי השלב השלישי אלא הסופי.
B36: 2 | C36: 42673 | D36: 42640 | E36: א. בניית גיליונות ייצוב והגנה התואמים להוראות שעה. ב. עדכון כל המוסדות עם פרמטרים חדשים של קיום פעילות מקצועית לרווחת האמנים העצמאיים ולהעשרתם.
B37: 3 | C37: 42845 | D37: =D36 -> 42640 | E37: התאמת גיליונות ייצוב והגנה ל-2017 והלאה (לאחר הוראות שעה)

Sheet פרמטרים לקריטריונים
B2: ארגוני גג
B4: שנת תקציב | C4: 2025
B5: תקציב התמיכה | C5: 2951409
B30: משקולות קריטריונים
B31: סעיף | C31: משקל
B32: מספר בקשות התמיכה שהגיש ארגון הגג למשרד התרבות | C32: 0.15
B33: ייעוץ ליווי וסיוע חשבונאי | C33: 0.1
B34: ייעוץ ליווי וסיוע משפטי | C34: 0.1
B35: ייעוץ ליווי וסיוע מקצועי | C35: 0.15
B36: פרסום, שיווק ויחסי ציבור כללי | C36: 0.1
B37: החזקת או העמדת חללים לצורכי האמנים העצמאיים | C37: 0.1
B38: ניוד מופעים לפריפריה | C38: 0.1
B39: קיום פעילות מקצועית לרווחת האמנים העצמאיים ולהעשרתם | C39: 0.1
B40: יצירת שיתופי פעולה בין האמנים | C40: 0.1
B58: סה"כ | C58: =SUM(C32:C57) -> 1
B60: ="פרמטרים לחישוב ניקוד משתנה "&$B$32 -> פרמטרים לחישוב ניקוד משתנה מספר בקשות התמיכה שהגיש ארגון הגג למשרד התרבות
B61: סעיף | C61: ניקוד
B62: עבור כל הגשת בקשה אחת | C62: 1
B90: ="פרמטרים לחישוב ניקוד משתנה "&$B$33 -> פרמטרים לחישוב ניקוד משתנה ייעוץ ליווי וסיוע חשבונאי
B91: סעיף | C91: ניקוד
B92: עבור כל אמן עצמאי אחד | C92: 1
B120: ="פרמטרים לחישוב ניקוד משתנה "&$B$34 -> פרמטרים לחישוב ניקוד משתנה ייעוץ ליווי וסיוע משפטי
B121: סעיף | C121: סכום סיוע | D121: ניקוד
B122: עבור כל אמן עצמאי אחד | C122: - | D122: 1
B123: היקף סיוע של: | C123: 1000 | D123: 1
B150: ="פרמטרים לחישוב ניקוד משתנה "&$B$35 -> פרמטרים לחישוב ניקוד משתנה ייעוץ ליווי וסיוע מקצועי
B151: סעיף | C151: ניקוד
B152: עבור כל אמן עצמאי אחד | C152: 1
B180: ="פרמטרים לחישוב ניקוד משתנה "&$B$36 -> פרמטרים לחישוב ניקוד משתנה פרסום, שיווק ויחסי ציבור כללי
B181: סעיף | C181: סכום סיוע | D181: ניקוד
B182: עבור כל אמן עצמאי אחד | C182: - | D182: 1
B183: היקף מימון של: | C183: 1000 | D183: 1
B210: ="פרמטרים לחישוב ניקוד משתנה "&$B$37 -> פרמטרים לחישוב ניקוד משתנה החזקת או העמדת חללים לצורכי האמנים העצמאיים
B211: סעיף | C211: ניקוד
B212: כל מ"ר חלל | C212: 1
B213: סעיף | C213: מכפיל
B214: חלל להעלת מופעים/חזרות | C214: 2
B215: חלל לאחסון ציוד ותפאורה | C215: 1
B240: ="פרמטרים לחישוב ניקוד משתנה "&$B$38 -> פרמטרים לחישוב ניקוד משתנה ניוד מופעים לפריפריה
B241: סעיף | C241: ניקוד | D241: סימול
B242: עד 30 ק"מ ממקום פעילות מרכזי -סיווג 1 | C242: 0 | D242: A1
B243: עד 30 ק"מ ממקום פעילות מרכזי -סיווג 2 | C243: 0.5 | D243: A2
B244: 30 עד 59 ק"מ ממקום פעילות מרכזי - סיווג 1 | C244: 0.5 | D244: B1
B245: 30 עד 59 ק"מ ממקום פעילות מרכזי - סיווג 2 | C245: 1 | D245: B2
B246: 60 עד 100 ק"מ ממקום פעילות מרכזי - סיווג 1 | C246: 1 | D246: C1
B247: 60 עד 100 ק"מ ממקום פעילות מרכזי - סיווג 2 | C247: 1.5 | D247: C2
B248: מעל 100 ק"מ ממקום פעילות מרכזי - סיווג 1 | C248: 1.5 | D248: D1
B249: מעל 100 ק"מ ממקום פעילות מרכזי - סיווג2 | C249: 3 | D249: D2
B250: סעיף | C250: סכום סיוע | D250: ניקוד
B251: היקף מימון של: | C251: 1000 | D251: 1
B270: ="פרמטרים לחישוב ניקוד משתנה "&$B$39 -> פרמטרים לחישוב ניקוד משתנה קיום פעילות מקצועית לרווחת האמנים העצמאיים ולהעשרתם
B271: חישוב ניקוד מקדם איכות
B272: סעיף | C272: ניקוד
B273: רמה מקצועית בלתי נאותה | C273: 0
B274: רמה מקצועית נאותה | C274: 1
B275: רמה מקצועית טובה מאוד | C275: 1.5
B276: רמה מקצועית מעולה | C276: 2
B290: חישוב ניקוד מקדם שעות פעילות
B291: מספר שעות פעילות לפחות: | C291: ניקוד
B292: 0 | C292: 0
B293: 3 | C293: 1
B294: 6 | C294: 1.2
B295: 11 | C295: 1.3
B300: ="פרמטרים לחישוב ניקוד משתנה "&$B$40 -> פרמטרים לחישוב ניקוד משתנה יצירת שיתופי פעולה בין האמנים
B301: סעיף | C301: ניקוד
B302: עבור שיתוף פעולה אחד | C302: 1
B303: מקסימום ניקוד | C303: 4
B304: מקדם בין לאומי | C304: 1.5

Sheet הוראת שעה
B5: האם חלה הוראת השנה בשנה הספציפית
A6: 2019 | B6: =A6=$B$2 -> FALSE | C6: העסיק במהלך השנת התקציבית הקודמת מערך ייעוץ מקצועי הכולל מנהל מוסד ציבור - בעל ניסיון מקצועי ניהולי מוכח של חמש שנים לפחות בתחום המבוקש לתמיכה המועסק במשרה מלאה ואיש כספים המועסק בשליש משרה לפחות
A7: =A6+1 -> 2020 | B7: =A7=$B$2 -> FALSE | C7: העסיק במהלך השנת התקציבית הקודמת מערך ייעוץ מקצועי הכולל מנהל מוסד ציבור - בעל ניסיון מקצועי ניהולי מוכח של חמש שנים לפחות בתחום המבוקש לתמיכה המועסק במשרה מלאה ובנוסף איש כספים המועסק בשליש משרה לפחות; כל משרה - אדם אחר
A8: =A7+1 -> 2021 | B8: =A8=$B$2 -> FALSE | C8: העסיק במהלך השנת התקציבית הקודמת מערך ייעוץ מקצועי הכולל מנהל מוסד ציבור - בעל ניסיון מקצועי ניהולי מוכח של חמש שנים לפחות בתחום המבוקש לתמיכה המועסק במשרה מלאה ובנוסף איש כספים המועסק בשליש משרה לפחות; כל משרה - אדם אחר
A9: =A8+1 -> 2022 | B9: =A9=$B$2 -> FALSE | C9: העסיק במהלך השנת התקציבית הקודמת מערך ייעוץ מקצועי הכולל מנהל מוסד ציבור - בעל ניסיון מקצועי ניהולי מוכח של חמש שנים לפחות בתחום המבוקש לתמיכה המועסק במשרה מלאה ובנוסף איש כספים המועסק בשליש משרה לפחות; כל משרה - אדם אחר
A10: =A9+1 -> 2023 | B10: =A10=$B$2 -> FALSE | C10: העסיק במהלך השנת התקציבית הקודמת מערך ייעוץ מקצועי הכולל מנהל מוסד ציבור - בעל ניסיון מקצועי ניהולי מוכח של חמש שנים לפחות בתחום המבוקש לתמיכה המועסק במשרה מלאה ובנוסף איש כספים המועסק בשליש משרה לפחות; כל משרה - אדם אחר
A11: =A10+1 -> 2024 | B11: =A11=$B$2 -> FALSE | C11: העסיק במהלך השנת התקציבית הקודמת מערך ייעוץ מקצועי הכולל מנהל מוסד ציבור - בעל ניסיון מקצועי ניהולי מוכח של חמש שנים לפחות בתחום המבוקש לתמיכה המועסק במשרה מלאה ובנוסף איש כספים המועסק בשליש משרה לפחות; כל משרה - אדם אחר
A12: =A11+1 -> 2025 | B12: =A12=$B$2 -> FALSE | C12: העסיק במהלך השנת התקציבית הקודמת מערך ייעוץ מקצועי הכולל מנהל מוסד ציבור - בעל ניסיון מקצועי ניהולי מוכח של חמש שנים לפחות בתחום המבוקש לתמיכה המועסק במשרה מלאה ובנוסף איש כספים המועסק בשליש משרה לפחות; כל משרה - אדם אחר
A13: =A12+1 -> 2026 | B13: =A13=$B$2 -> FALSE | C13: העסיק במהלך השנת התקציבית הקודמת מערך ייעוץ מקצועי הכולל מנהל מוסד ציבור - בעל ניסיון מקצועי ניהולי מוכח של חמש שנים לפחות בתחום המבוקש לתמיכה המועסק במשרה מלאה ובנוסף איש כספים המועסק בשליש משרה לפחות; כל משרה - אדם אחר
A14: =A13+1 -> 2027 | B14: =A14=$B$2 -> FALSE | C14: העסיק במהלך השנת התקציבית הקודמת מערך ייעוץ מקצועי הכולל מנהל מוסד ציבור - בעל ניסיון מקצועי ניהולי מוכח של חמש שנים לפחות בתחום המבוקש לתמיכה המועסק במשרה מלאה ובנוסף איש כספים המועסק בשליש משרה לפחות; כל משרה - אדם אחר
A15: =A14+1 -> 2028 | B15: =A15=$B$2 -> FALSE | C15: העסיק במהלך השנת התקציבית הקודמת מערך ייעוץ מקצועי הכולל מנהל מוסד ציבור - בעל ניסיון מקצועי ניהולי מוכח של חמש שנים לפחות בתחום המבוקש לתמיכה המועסק במשרה מלאה ובנוסף איש כספים המועסק בשליש משרה לפחות; כל משרה - אדם אחר
A16: =A15+1 -> 2029 | B16: =A16=$B$2 -> FALSE | C16: העסיק במהלך השנת התקציבית הקודמת מערך ייעוץ מקצועי הכולל מנהל מוסד ציבור - בעל ניסיון מקצועי ניהולי מוכח של חמש שנים לפחות בתחום המבוקש לתמיכה המועסק במשרה מלאה ובנוסף איש כספים המועסק בשליש משרה לפחות; כל משרה - אדם אחר
A17: =A16+1 -> 2030 | B17: =A17=$B$2 -> FALSE | C17: העסיק במהלך השנת התקציבית הקודמת מערך ייעוץ מקצועי הכולל מנהל מוסד ציבור - בעל ניסיון מקצועי ניהולי מוכח של חמש שנים לפחות בתחום המבוקש לתמיכה המועסק במשרה מלאה ובנוסף איש כספים המועסק בשליש משרה לפחות; כל משרה - אדם אחר
A18: =A17+1 -> 2031 | B18: =A18=$B$2 -> FALSE | C18: העסיק במהלך השנת התקציבית הקודמת מערך ייעוץ מקצועי הכולל מנהל מוסד ציבור - בעל ניסיון מקצועי ניהולי מוכח של חמש שנים לפחות בתחום המבוקש לתמיכה המועסק במשרה מלאה ובנוסף איש כספים המועסק בשליש משרה לפחות; כל משרה - אדם אחר
... A20: =A19+1 -> 2033 | B20: =A20=$B$2 -> FALSE | C20: העסיק במהלך השנת התקציבית הקודמת מערך ייעוץ מקצועי הכולל מנהל מוסד ציבור - בעל ניסיון מקצועי ניהולי מוכח של חמש שנים לפחות בתחום המבוקש לתמיכה המועסק במשרה מלאה ובנוסף איש כספים המועסק בשליש משרה לפחות; כל משרה - אדם אחר

Sheet תנאי סף
B1: =MID(CELL("filename",AV2),FIND("]",CELL("filename",AV2),1)+1,99) -> תנאי סף | AU1: בדוק נתוני הזנה | AW1: סוגי בקרות | AX1: 0/1 | AY1: מספר | AZ1: מספר שלם | BA1: מספר שאינו שלילי | BB1: מספר שלם שאינו שלילי | BC1: מספר חיובי | BD1: מספר שלם חיובי | BE1: טקסט | BF1: טקסט מרשימה סגורה
AR2: ='פרמטרים לקריטריונים'!$B$4 -> שנת תקציב | AS2: ='פרמטרים לקריטריונים'!$C$4 -> 2025 | AX2: =IF(ISNA(MATCH(G31,$AU$30:$AV$30,0)),0,1) -> 0 | AY2: =IF(IFERROR(G31*1,"bad")="bad",0,1) -> 1 | AZ2: =IF(IFERROR(IF(G31=TRUNC(G31),1,"bad"),"bad")="bad",0,1) -> 1 | BA2: =IF(AND(IF(IFERROR(G31*1,"bad")="bad",0,1)=1,G31>=0),1,0) -> 1 | BB2: =IF(AND(IF(IFERROR(IF(G31=TRUNC(G31),1,"bad"),"bad")="bad",0,1)=1,G31>=0),1,0) -> 1 | BC2: =IF(AND(IF(IFERROR(G31*1,"bad")="bad",0,1)=1,G31>0),1,0) -> 1 | BD2: =IF(AND(IF(IFERROR(IF(G31=TRUNC(G31),1,"bad"),"bad")="bad",0,1)=1,G31>0),1,0) -> 1 | BE2: 1 | BF2: =IF(IFERROR(HLOOKUP(G31,$CL$30:$CV$30,1,0),"bad")="bad",0,1) -> 0
AR3: ='פרמטרים לקריטריונים'!$B$5 -> תקציב התמיכה | AS3: ='פרמטרים לקריטריונים'!$C$5 -> 2951409 | AV3: =IF(G$30="",1,IF(G31="",0,IF(G$30=$AX$1,11,IF(G$30=$AY$1,12,IF(G$30=$AFP1,13,IF(G$30=$BA$1,14,IF(G$30=$BB$1,15,IF(G$30=$BC$1,16,IF(G$30=$BD$1,17,IF(G$30=$BE$1,18,IF(G$30=$BF$1,19,0))))))))))) -> 15 | AW3: מספר בקרה | AX3: 1 | AY3: 2 | AZ3: 3 | BA3: 4 | BB3: 5 | BC3: 6 | BD3: 7 | BE3: 8 | BF3: 9
F4: רלוונטי למבחן עמידה בתנאי סף? 1=רלוונטי. 0= לא רלוונטי אבל נדרשת בקרה על הזנת נתונים. 99= לא רלוונטי ולא נדרשת בקה על הזנת נתונים | G4: 0 | H4: 0 | I4: 0 | J4: 1 | K4: 1 | L4: 1 | M4: 1 | N4: 1 | O4: 1 | P4: 1 | Q4: 1 | R4: 1 | S4: 1 | T4: 1 | U4: 1 | W4: 1 | X4: 1 | Y4: 1 | Z4: 1 | AA4: 1 | AB4: 1 | AC4: 1 | AD4: 1 | AE4: 1 | AF4: 1 | AG4: 1 | AH4: 1 | AI4: 1 | AJ4: 1 | AK4: 1 | AL4: 1 | AM4: 1 | AW4: רשימה סגורה | AX4: 1 | AY4: 2 | AZ4: 3 | BA4: 4 | BB4: 5 | BC4: 6 | BD4: 7 | BE4: 8 | BF4: 9 | BG4: 10
G5: =G29 -> מספר אמנים עצמאיים | H5: =H29 -> הוצאות המוסד לליווי מקצועי וסיוע מנהלי וניהולי לאמנים עצמאיים בשנת ההערכה | I5: =I29 -> סך הוצאות המוסד בשנת ההערכה | J5: =J29 -> עיקר פעילותו ליווי מקצועי וסיוע מנהלי | K5: =K29 -> העסיק במהלך השנת התקציבית הקודמת מערך ייעוץ מקצועי הכולל מנהל מוסד ציבור - בעל ניסיון מקצועי ניהולי מוכח של חמש שנים לפחות בתחום המבוקש לתמיכה המועסק במשרה מלאה ובנוסף איש כספים המועסק בשליש משרה לפחות; כל משרה - אדם אחר | L5: =L29 -> מפעיל אתר אינטרנט | M5: =M29 -> מציין בפרסומיו כי הפעילות הנתמכת מבוצעת בתמיכת המשרד | N5: =N29 -> פועל באופן משמעותי בתחום עבורו הוא מבקש תמיכה במשך שנתיים לפחות לפני הגשת הבקשה | ... U5: =U29 -> המוסד מגיש בעבור רוב חבריו בקשות לתמיכה מהמשרד באחד או יותר מהתחומים המפורטים במבחן | W5: =W29 -> צפוי לעמוד בתנאי סף בשנת התמיכה על פי תכנית עבודה | X5: =X29 -> חברים בו לכל הפחות 20 אמנים עצמאיים | AN5: =AN29 -> מעבר תנאי סף-אישור מיוחד | AO5: 1 | AP5: 1 | AQ5: 1
F6: מעבר תנאי סף- במידה ולא רלוונטי להשאיר ריק | G6: 20 | J6: 1 | K6: 1 | L6: 1 | M6: 1 | N6: 1 | O6: 1 | P6: 1 | Q6: 1 | R6: 1 | S6: 1 | T6: 1 | U6: 1 | W6: 1 | X6: 1 | Y6: 1 | Z6: 1 | AA6: 1 | AB6: 1 | AC6: 1 | AD6: 1 | AE6: 1 | AF6: 1 | AG6: 1 | AH6: 1 | AI6: 1 | AJ6: 1 | AK6: 1 | AL6: 1 | AM6: 1
AS27: =AVERAGE(AS31:AS130) -> #DIV/0!
AT28: =IF(SUM(AT31:AT130)=COUNT(AT31:AT130),1,0) -> 0
A29: 100 | B29: מס"ד | C29: =COLUMN() -> 3 | D29: =COLUMN() -> 4 | E29: =COLUMN() -> 5 | F29: שם המוסד | G29: מספר אמנים עצמאיים | H29: הוצאות המוסד לליווי מקצועי וסיוע מנהלי וניהולי לאמנים עצמאיים בשנת ההערכה | I29: סך הוצאות המוסד בשנת ההערכה | J29: עיקר פעילותו ליווי מקצועי וסיוע מנהלי | K29: =INDEX('הוראת שעה'!$C$6:$C$20,MATCH('תנאי סף'!$AS$2,'הוראת שעה'!A6:A20,1)) -> העסיק במהלך השנת התקציבית הקודמת מערך ייעוץ מקצועי הכולל מנהל מוסד ציבור - בעל ניסיון מקצועי ניהולי מוכח של חמש שנים לפחות בתחום המבוקש לתמיכה המועסק במשרה מלאה ובנוסף איש כספים המועסק בשליש משרה לפחות; כל משרה - אדם אחר | L29: מפעיל אתר אינטרנט | M29: מציין בפרסומיו כי הפעילות הנתמכת מבוצעת בתמיכת המשרד | N29: פועל באופן משמעותי בתחום עבורו הוא מבקש תמיכה במשך שנתיים לפחות לפני הגשת הבקשה | O29: פועל באופן סדיר ושיטתי במשך שנת התקציב | P29: פועל שלא למטרת רווח | Q29: הפעילות איננה מתבצעת בחו"ל | R29: בשנה שקדמה להגשת בקשת התמיכה פעל בהיקף שלא נופל ממחצית ההיקף המבוקש | S29: המוסד גיבש כללים מקצועיים, ענייניים ושוויוניים העומדים לרשות הפונים אליו ובכלל זה מפורסמים במרשתת | T29: סוג הפעילות איננה ממומנת בדרך אחרת מתקציב המדינה | U29: המוסד מגיש בעבור רוב חבריו בקשות לתמיכה מהמשרד באחד או יותר מהתחומים המפורטים במבחן | W29: צפוי לעמוד בתנאי סף בשנת התמיכה על פי תכנית עבודה | X29: ="חברים בו לכל הפחות "&G6&" אמנים עצמאיים" -> חברים בו לכל הפחות 20 אמנים עצמאיים | Y29: מטרות המוסד ואופן פעולתו עולים בקנה אחד עם מטרות התמיכה | Z29: מקבל את ההחלטות המקצועיות לטובת חבריו ובהתייחס לצורכיהם המקצועיים של האמנים העצמאיים בתחום בו הוא פועל | AA29: הבקשה לתמיכה בארגון גג לפי מבחנים אלה תכלול התייחסות לפעילות ולתחומי העשייה הנתמכים של ארגון הגג בלבד | AB29: הפעילות לא נתמכת באופן אחר על ידי מנהל התרבות | AC29: הגיש תכנית עבודה מפורטת ברמה מקצועית מספקת | AD29: הגיש בקשה לתמיכה כנדרש | AE29: הבקשה לא כוללת בקשה לתמיכה בעד הוצאות שהוצאו בעבור כל פעילות אחרת | AF29: כלל ההוצאות בשל הפעילויות המבוצעות בידי ארגון הגג מנוהלות על ידו ובאמצעותו באופן ישיר, והוא אינו מעביר כספים לאמנים עצמאיים לשם ביצוע הפעילות | AG29: עומד בדרישות הנוהל | AH29: מקיים את הוראות החוק הנוגעות לפעילותו, מקפיד על כללי ניהול תקין, נמנע מניגוד עניינים, ושומר על שקיפות מלאה | AI29: מקבל את המבקשים לפעול במסגרתו ולהיות חברים בו ללא הבדל גזע, מין, שפה, לאום, דת, השקפה פוליטית או אידאולוגיה | AJ29: פועל ביעילות ובתקורה מינימלית | AK29: השלים את הגשת כל המידע הדרוש בזמן הנדרש | AL29: במוסד בו מועסקים עובדים ביחסי עבודה, המוסד קבע תקנון למניעת הטרדה מינית ועומדת בדרישות תקנה 8 לתקנות חובות מעסיק. המוסד צירף לבקשתו את התקנון ופרטים על ההתאמות בתקנון, פרסומו למסירתו. (במוסד בו אין מתכונת יחסי עבודה - יש לסמן 1 עבור תנאי זה) | AM29: פועל לקראת שנת התמיכה ובמהלכה, ככל האפשר, להרחבת היקף התמיכה בו, מעבר לתמיכה הציבורית | AN29: מעבר תנאי סף-אישור מיוחד | AO29: ריק | AP29: ריק | AQ29: ריק | AR29: מעבר תנאי סף | AS29: הערות | AT29: בקרה ראשית | AW29: ="בקרת "&G29 -> בקרת מספר אמנים עצמאיים | AX29: ="בקרת "&H29 -> בקרת הוצאות המוסד לליווי מקצועי וסיוע מנהלי וניהולי לאמנים עצמאיים בשנת ההערכה | AY29: ="בקרת "&I29 -> בקרת סך הוצאות המוסד בשנת ההערכה | AZ29: ="בקרת "&J29 -> בקרת עיקר פעילותו ליווי מקצועי וסיוע מנהלי | BA29: ="בקרת "&K29 -> בקרת העסיק במהלך השנת התקציבית הקודמת מערך ייעוץ מקצועי הכולל מנהל מוסד ציבור - בעל ניסיון מקצועי ניהולי מוכח של חמש שנים לפחות בתחום המבוקש לתמיכה המועסק במשרה מלאה ובנוסף איש כספים המועסק בשליש משרה לפחות; כל משרה - אדם אחר | BB29: ="בקרת "&L29 -> בקרת מפעיל אתר אינטרנט | BC29: ="בקרת "&M29 -> בקרת מציין בפרסומיו כי הפעילות הנתמכת מבוצעת בתמיכת המשרד | BD29: ="בקרת "&N29 -> בקרת פועל באופן משמעותי בתחום עבורו הוא מבקש תמיכה במשך שנתיים לפחות לפני הגשת הבקשה | ... CA29: ="בקרת "&AK29 -> בקרת השלים את הגשת כל המידע הדרוש בזמן הנדרש | CB29: ="בקרת "&AM29 -> בקרת פועל לקראת שנת התמיכה ובמהלכה, ככל האפשר, להרחבת היקף התמיכה בו, מעבר לתמיכה הציבורית | CC29: ="בקרת "&AN29 -> בקרת מעבר תנאי סף-אישור מיוחד | CD29: ="בקרת "&AO29 -> בקרת ריק | CE29: ="בקרת "&AP29 -> בקרת ריק | CF29: ="בקרת "&AQ29 -> בקרת ריק | CG29: ="בקרת "&AR29 -> בקרת מעבר תנאי סף | CL29: רשימה סגורה
G30: מספר שלם שאינו שלילי | H30: מספר שאינו שלילי | I30: מספר שאינו שלילי | K30: 0/1 | L30: 0/1 | M30: 0/1 | N30: 0/1 | O30: 0/1 | P30: 0/1 | Q30: 0/1 | R30: 0/1 | S30: 0/1 | T30: 0/1 | U30: 0/1 | W30: 0/1 | Y30: 0/1 | Z30: 0/1 | AA30: 0/1 | AB30: 0/1 | AC30: 0/1 | AD30: 0/1 | AE30: 0/1 | AF30: 0/1 | AG30: 0/1 | AH30: 0/1 | AI30: 0/1 | AJ30: 0/1 | AK30: 0/1 | AL30: 0/1 | AM30: 0/1 | AN30: 0/1 | AS30: טקסט | AU30: 0 | AV30: 1 | AW30: =G30 -> מספר שלם שאינו שלילי | AX30: =H30 -> מספר שאינו שלילי | AY30: =I30 -> מספר שאינו שלילי | AZ30: =J30 -> 0 | BA30: =K30 -> 0/1 | BB30: =L30 -> 0/1 | BC30: =M30 -> 0/1 | BD30: =N30 -> 0/1 | ... CA30: =AK30 -> 0/1 | CB30: =AM30 -> 0/1 | CC30: =AN30 -> 0/1 | CD30: =AO30 -> 0 | CE30: =AP30 -> 0 | CF30: =AQ30 -> 0 | CG30: =AR30 -> 0 | CL30: =AX4 -> 1 | CM30: =AY4 -> 2 | CN30: =AZ4 -> 3 | CO30: =BA4 -> 4 | CP30: =BB4 -> 5 | CQ30: =BC4 -> 6 | CR30: =BD4 -> 7 | CS30: =BE4 -> 8 | ... CU30: =BG4 -> 10
B31: =IF(F31="","",ROW()-30) -> 1 | F31: =IF(כוריאוגרפים!$F$1="1","",כוריאוגרפים!$F$1) -> כוריאוגרפים | G31: 125 | H31: 5467733 | I31: 5467733 | J31: =IF($F31="","",IFERROR(IF(H31>I31,$AU$1,IF(H31/I31>=0.75,1,0)),$AU$1)) -> 1 | K31: 1 | L31: 1 | M31: 1 | N31: 1 | O31: 1 | P31: 1 | Q31: 1 | R31: 1 | S31: 1 | T31: 1 | U31: 1 | W31: 1 | X31: =IF(F31="","",IF(G31>=$G$6,1,0)) -> 1 | Y31: 1 | Z31: 1 | AA31: 1 | AB31: 1 | AC31: 1 | AD31: 1 | AE31: 1 | AF31: 1 | AG31: 1 | AH31: 1 | AI31: 1 | AJ31: 1 | AK31: 1 | AL31: 1 | AM31: 1 | AR31: =IF($F31="","",IF(AN31=1,1,IF(AT31<>1,$AU$1,IF(SUMIF($G$4:$AM$4,1,G31:AM31)=COUNTIF($G$4:$AM$4,1),1,0)))) -> 1 | AT31: =IF(SUM(AW31:CG31)=COUNT(AW31:CG31),1,0) -> 1 | AU31: =IF($F31="","",AU$30) -> 0 | AV31: =IF($F31="","",AV$30) -> 1 | AW31: =IF(G$30="",1,IF(G$4=99,1,IF(G31="",0,IF(G$30=$AX$1,IF(ISNA(MATCH(G31,$AU$30:$AV$30,0)),0,1),IF(G$30=$AY$1,IF(IFERROR(G31*1,"bad")="bad",0,1),IF(G$30=$AZ$1,IF(IFERROR(IF(G31=TRUNC(G31),1,"bad"),"bad")="bad",0,1),IF(G$30=$BA$1,IF(AND(IF(IFERROR(G31*1,"bad")="bad",0,1)=1,G31>=0),1,0),IF(G$30=$BB$1,IF(AND(IF(IFERROR(IF(G31=TRUNC(G31),1,"bad"),"bad")="bad",0,1)=1,G31>=0),1,0),IF(G$30=$BC$1,IF(AND(IF(IFERROR(G31*1,"bad")="bad",0,1)=1,G31>0),1,0),IF(G$30=$BD$1,IF(AND(IF(IFERROR(IF(G31=TRUNC(G31),1,"bad"),"bad")="bad",0,1)=1,G31>0),1,0),IF(G$30=$BE$1,1,IF(G$30=$BF$1,IF(IFERROR(HLOOKUP(G31,$AX$4:$BG$4,1,0),"bad")="bad",0,1),0)))))))))))) -> 1 | AX31: =IF(H$30="",1,IF(H$4=99,1,IF(H31="",0,IF(H$30=$AX$1,IF(ISNA(MATCH(H31,$AU$30:$AV$30,0)),0,1),IF(H$30=$AY$1,IF(IFERROR(H31*1,"bad")="bad",0,1),IF(H$30=$AZ$1,IF(IFERROR(IF(H31=TRUNC(H31),1,"bad"),"bad")="bad",0,1),IF(H$30=$BA$1,IF(AND(IF(IFERROR(H31*1,"bad")="bad",0,1)=1,H31>=0),1,0),IF(H$30=$BB$1,IF(AND(IF(IFERROR(IF(H31=TRUNC(H31),1,"bad"),"bad")="bad",0,1)=1,H31>=0),1,0),IF(H$30=$BC$1,IF(AND(IF(IFERROR(H31*1,"bad")="bad",0,1)=1,H31>0),1,0),IF(H$30=$BD$1,IF(AND(IF(IFERROR(IF(H31=TRUNC(H31),1,"bad"),"bad")="bad",0,1)=1,H31>0),1,0),IF(H$30=$BE$1,1,IF(H$30=$BF$1,IF(IFERROR(HLOOKUP(H31,$AX$4:$BG$4,1,0),"bad")="bad",0,1),0)))))))))))) -> 1 | AY31: =IF(I$30="",1,IF(I$4=99,1,IF(I31="",0,IF(I$30=$AX$1,IF(ISNA(MATCH(I31,$AU$30:$AV$30,0)),0,1),IF(I$30=$AY$1,IF(IFERROR(I31*1,"bad")="bad",0,1),IF(I$30=$AZ$1,IF(IFERROR(IF(I31=TRUNC(I31),1,"bad"),"bad")="bad",0,1),IF(I$30=$BA$1,IF(AND(IF(IFERROR(I31*1,"bad")="bad",0,1)=1,I31>=0),1,0),IF(I$30=$BB$1,IF(AND(IF(IFERROR(IF(I31=TRUNC(I31),1,"bad"),"bad")="bad",0,1)=1,I31>=0),1,0),IF(I$30=$BC$1,IF(AND(IF(IFERROR(I31*1,"bad")="bad",0,1)=1,I31>0),1,0),IF(I$30=$BD$1,IF(AND(IF(IFERROR(IF(I31=TRUNC(I31),1,"bad"),"bad")="bad",0,1)=1,I31>0),1,0),IF(I$30=$BE$1,1,IF(I$30=$BF$1,IF(IFERROR(HLOOKUP(I31,$AX$4:$BG$4,1,0),"bad")="bad",0,1),0)))))))))))) -> 1 | AZ31: =IF(J$30="",1,IF(J$4=99,1,IF(J31="",0,IF(J$30=$AX$1,IF(ISNA(MATCH(J31,$AU$30:$AV$30,0)),0,1),IF(J$30=$AY$1,IF(IFERROR(J31*1,"bad")="bad",0,1),IF(J$30=$AZ$1,IF(IFERROR(IF(J31=TRUNC(J31),1,"bad"),"bad")="bad",0,1),IF(J$30=$BA$1,IF(AND(IF(IFERROR(J31*1,"bad")="bad",0,1)=1,J31>=0),1,0),IF(J$30=$BB$1,IF(AND(IF(IFERROR(IF(J31=TRUNC(J31),1,"bad"),"bad")="bad",0,1)=1,J31>=0),1,0),IF(J$30=$BC$1,IF(AND(IF(IFERROR(J31*1,"bad")="bad",0,1)=1,J31>0),1,0),IF(J$30=$BD$1,IF(AND(IF(IFERROR(IF(J31=TRUNC(J31),1,"bad"),"bad")="bad",0,1)=1,J31>0),1,0),IF(J$30=$BE$1,1,IF(J$30=$BF$1,IF(IFERROR(HLOOKUP(J31,$AX$4:$BG$4,1,0),"bad")="bad",0,1),0)))))))))))) -> 1 | BA31: =IF(K$30="",1,IF(K$4=99,1,IF(K31="",0,IF(K$30=$AX$1,IF(ISNA(MATCH(K31,$AU$30:$AV$30,0)),0,1),IF(K$30=$AY$1,IF(IFERROR(K31*1,"bad")="bad",0,1),IF(K$30=$AZ$1,IF(IFERROR(IF(K31=TRUNC(K31),1,"bad"),"bad")="bad",0,1),IF(K$30=$BA$1,IF(AND(IF(IFERROR(K31*1,"bad")="bad",0,1)=1,K31>=0),1,0),IF(K$30=$BB$1,IF(AND(IF(IFERROR(IF(K31=TRUNC(K31),1,"bad"),"bad")="bad",0,1)=1,K31>=0),1,0),IF(K$30=$BC$1,IF(AND(IF(IFERROR(K31*1,"bad")="bad",0,1)=1,K31>0),1,0),IF(K$30=$BD$1,IF(AND(IF(IFERROR(IF(K31=TRUNC(K31),1,"bad"),"bad")="bad",0,1)=1,K31>0),1,0),IF(K$30=$BE$1,1,IF(K$30=$BF$1,IF(IFERROR(HLOOKUP(K31,$AX$4:$BG$4,1,0),"bad")="bad",0,1),0)))))))))))) -> 1 | BB31: =IF(L$30="",1,IF(L$4=99,1,IF(L31="",0,IF(L$30=$AX$1,IF(ISNA(MATCH(L31,$AU$30:$AV$30,0)),0,1),IF(L$30=$AY$1,IF(IFERROR(L31*1,"bad")="bad",0,1),IF(L$30=$AZ$1,IF(IFERROR(IF(L31=TRUNC(L31),1,"bad"),"bad")="bad",0,1),IF(L$30=$BA$1,IF(AND(IF(IFERROR(L31*1,"bad")="bad",0,1)=1,L31>=0),1,0),IF(L$30=$BB$1,IF(AND(IF(IFERROR(IF(L31=TRUNC(L31),1,"bad"),"bad")="bad",0,1)=1,L31>=0),1,0),IF(L$30=$BC$1,IF(AND(IF(IFERROR(L31*1,"bad")="bad",0,1)=1,L31>0),1,0),IF(L$30=$BD$1,IF(AND(IF(IFERROR(IF(L31=TRUNC(L31),1,"bad"),"bad")="bad",0,1)=1,L31>0),1,0),IF(L$30=$BE$1,1,IF(L$30=$BF$1,IF(IFERROR(HLOOKUP(L31,$AX$4:$BG$4,1,0),"bad")="bad",0,1),0)))))))))))) -> 1 | BC31: =IF(M$30="",1,IF(M$4=99,1,IF(M31="",0,IF(M$30=$AX$1,IF(ISNA(MATCH(M31,$AU$30:$AV$30,0)),0,1),IF(M$30=$AY$1,IF(IFERROR(M31*1,"bad")="bad",0,1),IF(M$30=$AZ$1,IF(IFERROR(IF(M31=TRUNC(M31),1,"bad"),"bad")="bad",0,1),IF(M$30=$BA$1,IF(AND(IF(IFERROR(M31*1,"bad")="bad",0,1)=1,M31>=0),1,0),IF(M$30=$BB$1,IF(AND(IF(IFERROR(IF(M31=TRUNC(M31),1,"bad"),"bad")="bad",0,1)=1,M31>=0),1,0),IF(M$30=$BC$1,IF(AND(IF(IFERROR(M31*1,"bad")="bad",0,1)=1,M31>0),1,0),IF(M$30=$BD$1,IF(AND(IF(IFERROR(IF(M31=TRUNC(M31),1,"bad"),"bad")="bad",0,1)=1,M31>0),1,0),IF(M$30=$BE$1,1,IF(M$30=$BF$1,IF(IFERROR(HLOOKUP(M31,$AX$4:$BG$4,1,0),"bad")="bad",0,1),0)))))))))))) -> 1 | BD31: =IF(N$30="",1,IF(N$4=99,1,IF(N31="",0,IF(N$30=$AX$1,IF(ISNA(MATCH(N31,$AU$30:$AV$30,0)),0,1),IF(N$30=$AY$1,IF(IFERROR(N31*1,"bad")="bad",0,1),IF(N$30=$AZ$1,IF(IFERROR(IF(N31=TRUNC(N31),1,"bad"),"bad")="bad",0,1),IF(N$30=$BA$1,IF(AND(IF(IFERROR(N31*1,"bad")="bad",0,1)=1,N31>=0),1,0),IF(N$30=$BB$1,IF(AND(IF(IFERROR(IF(N31=TRUNC(N31),1,"bad"),"bad")="bad",0,1)=1,N31>=0),1,0),IF(N$30=$BC$1,IF(AND(IF(IFERROR(N31*1,"bad")="bad",0,1)=1,N31>0),1,0),IF(N$30=$BD$1,IF(AND(IF(IFERROR(IF(N31=TRUNC(N31),1,"bad"),"bad")="bad",0,1)=1,N31>0),1,0),IF(N$30=$BE$1,1,IF(N$30=$BF$1,IF(IFERROR(HLOOKUP(N31,$AX$4:$BG$4,1,0),"bad")="bad",0,1),0)))))))))))) -> 1 | ... CA31: =IF(AK$30="",1,IF(AK$4=99,1,IF(AK31="",0,IF(AK$30=$AX$1,IF(ISNA(MATCH(AK31,$AU$30:$AV$30,0)),0,1),IF(AK$30=$AY$1,IF(IFERROR(AK31*1,"bad")="bad",0,1),IF(AK$30=$AZ$1,IF(IFERROR(IF(AK31=TRUNC(AK31),1,"bad"),"bad")="bad",0,1),IF(AK$30=$BA$1,IF(AND(IF(IFERROR(AK31*1,"bad")="bad",0,1)=1,AK31>=0),1,0),IF(AK$30=$BB$1,IF(AND(IF(IFERROR(IF(AK31=TRUNC(AK31),1,"bad"),"bad")="bad",0,1)=1,AK31>=0),1,0),IF(AK$30=$BC$1,IF(AND(IF(IFERROR(AK31*1,"bad")="bad",0,1)=1,AK31>0),1,0),IF(AK$30=$BD$1,IF(AND(IF(IFERROR(IF(AK31=TRUNC(AK31),1,"bad"),"bad")="bad",0,1)=1,AK31>0),1,0),IF(AK$30=$BE$1,1,IF(AK$30=$BF$1,IF(IFERROR(HLOOKUP(AK31,$AX$4:$BG$4,1,0),"bad")="bad",0,1),0)))))))))))) -> 1 | CB31: =IF(AM$30="",1,IF(AM$4=99,1,IF(AM31="",0,IF(AM$30=$AX$1,IF(ISNA(MATCH(AM31,$AU$30:$AV$30,0)),0,1),IF(AM$30=$AY$1,IF(IFERROR(AM31*1,"bad")="bad",0,1),IF(AM$30=$AZ$1,IF(IFERROR(IF(AM31=TRUNC(AM31),1,"bad"),"bad")="bad",0,1),IF(AM$30=$BA$1,IF(AND(IF(IFERROR(AM31*1,"bad")="bad",0,1)=1,AM31>=0),1,0),IF(AM$30=$BB$1,IF(AND(IF(IFERROR(IF(AM31=TRUNC(AM31),1,"bad"),"bad")="bad",0,1)=1,AM31>=0),1,0),IF(AM$30=$BC$1,IF(AND(IF(IFERROR(AM31*1,"bad")="bad",0,1)=1,AM31>0),1,0),IF(AM$30=$BD$1,IF(AND(IF(IFERROR(IF(AM31=TRUNC(AM31),1,"bad"),"bad")="bad",0,1)=1,AM31>0),1,0),IF(AM$30=$BE$1,1,IF(AM$30=$BF$1,IF(IFERROR(HLOOKUP(AM31,$AX$4:$BG$4,1,0),"bad")="bad",0,1),0)))))))))))) -> 1 | CC31: =IF(ISNA(MATCH(AN31,$AU$30:$AV$30,0)),0,1) -> 1 | CG31: =IF(AR$30="",1,IF(AR31="",0,IF(AR$30=$AX$1,IF(ISNA(MATCH(AR31,$AU$30:$AV$30,0)),0,1),IF(AR$30=$AY$1,IF(IFERROR(AR31*1,"bad")="bad",0,1),IF(AR$30=$AZ$1,IF(IFERROR(IF(AR31=TRUNC(AR31),1,"bad"),"bad")="bad",0,1),IF(AR$30=$BA$1,IF(AND(IF(IFERROR(AR31*1,"bad")="bad",0,1)=1,AR31>=0),1,0),IF(AR$30=$BB$1,IF(AND(IF(IFERROR(IF(AR31=TRUNC(AR31),1,"bad"),"bad")="bad",0,1)=1,AR31>=0),1,0),IF(AR$30=$BC$1,IF(AND(IF(IFERROR(AR31*1,"bad")="bad",0,1)=1,AR31>0),1,0),IF(AR$30=$BD$1,IF(AND(IF(IFERROR(IF(AR31=TRUNC(AR31),1,"bad"),"bad")="bad",0,1)=1,AR31>0),1,0),IF(AR$30=$BE$1,1,IF(AR$30=$BF$1,IF(IFERROR(HLOOKUP(AR31,$AX$4:$BG$4,1,0),"bad")="bad",0,1),0))))))))))) -> 1 | CL31: =IF($F31="","",CL$30) -> 1 | CM31: =IF($F31="","",CM$30) -> 2 | CN31: =IF($F31="","",CN$30) -> 3 | CO31: =IF($F31="","",CO$30) -> 4 | CP31: =IF($F31="","",CP$30) -> 5 | CQ31: =IF($F31="","",CQ$30) -> 6 | CR31: =IF($F31="","",CR$30) -> 7 | CS31: =IF($F31="","",CS$30) -> 8 | ... CU31: =IF($F31="","",CU$30) -> 10
B32: =IF(F32="","",ROW()-30) -> 2 | F32: =IF('פ. בלומנטל'!$F$1="2","",'פ. בלומנטל'!$F$1) -> פ. בלומנטל | G32: 43 | H32: 2423537 | I32: 2971039 | J32: =IF($F32="","",IFERROR(IF(H32>I32,$AU$1,IF(H32/I32>=0.75,1,0)),$AU$1)) -> 1 | K32: 1 | L32: 1 | M32: 1 | N32: 1 | O32: 1 | P32: 1 | Q32: 1 | R32: 1 | S32: 1 | T32: 1 | U32: 1 | W32: 1 | X32: =IF(F32="","",IF(G32>=$G$6,1,0)) -> 1 | Y32: 1 | Z32: 1 | AA32: 1 | AB32: 1 | AC32: 1 | AD32: 1 | AE32: 1 | AF32: 1 | AG32: 1 | AH32: 1 | AI32: 1 | AJ32: 1 | AK32: 1 | AL32: 1 | AM32: 1 | AR32: =IF($F32="","",IF(AN32=1,1,IF(AT32<>1,$AU$1,IF(SUMIF($G$4:$AM$4,1,G32:AM32)=COUNTIF($G$4:$AM$4,1),1,0)))) -> 1 | AT32: =IF(SUM(AW32:CG32)=COUNT(AW32:CG32),1,0) -> 1 | AU32: =IF($F32="","",AU$30) -> 0 | AV32: =IF($F32="","",AV$30) -> 1 | AW32: =IF(G$30="",1,IF(G$4=99,1,IF(G32="",0,IF(G$30=$AX$1,IF(ISNA(MATCH(G32,$AU$30:$AV$30,0)),0,1),IF(G$30=$AY$1,IF(IFERROR(G32*1,"bad")="bad",0,1),IF(G$30=$AZ$1,IF(IFERROR(IF(G32=TRUNC(G32),1,"bad"),"bad")="bad",0,1),IF(G$30=$BA$1,IF(AND(IF(IFERROR(G32*1,"bad")="bad",0,1)=1,G32>=0),1,0),IF(G$30=$BB$1,IF(AND(IF(IFERROR(IF(G32=TRUNC(G32),1,"bad"),"bad")="bad",0,1)=1,G32>=0),1,0),IF(G$30=$BC$1,IF(AND(IF(IFERROR(G32*1,"bad")="bad",0,1)=1,G32>0),1,0),IF(G$30=$BD$1,IF(AND(IF(IFERROR(IF(G32=TRUNC(G32),1,"bad"),"bad")="bad",0,1)=1,G32>0),1,0),IF(G$30=$BE$1,1,IF(G$30=$BF$1,IF(IFERROR(HLOOKUP(G32,$AX$4:$BG$4,1,0),"bad")="bad",0,1),0)))))))))))) -> 1 | AX32: =IF(H$30="",1,IF(H$4=99,1,IF(H32="",0,IF(H$30=$AX$1,IF(ISNA(MATCH(H32,$AU$30:$AV$30,0)),0,1),IF(H$30=$AY$1,IF(IFERROR(H32*1,"bad")="bad",0,1),IF(H$30=$AZ$1,IF(IFERROR(IF(H32=TRUNC(H32),1,"bad"),"bad")="bad",0,1),IF(H$30=$BA$1,IF(AND(IF(IFERROR(H32*1,"bad")="bad",0,1)=1,H32>=0),1,0),IF(H$30=$BB$1,IF(AND(IF(IFERROR(IF(H32=TRUNC(H32),1,"bad"),"bad")="bad",0,1)=1,H32>=0),1,0),IF(H$30=$BC$1,IF(AND(IF(IFERROR(H32*1,"bad")="bad",0,1)=1,H32>0),1,0),IF(H$30=$BD$1,IF(AND(IF(IFERROR(IF(H32=TRUNC(H32),1,"bad"),"bad")="bad",0,1)=1,H32>0),1,0),IF(H$30=$BE$1,1,IF(H$30=$BF$1,IF(IFERROR(HLOOKUP(H32,$AX$4:$BG$4,1,0),"bad")="bad",0,1),0)))))))))))) -> 1 | AY32: =IF(I$30="",1,IF(I$4=99,1,IF(I32="",0,IF(I$30=$AX$1,IF(ISNA(MATCH(I32,$AU$30:$AV$30,0)),0,1),IF(I$30=$AY$1,IF(IFERROR(I32*1,"bad")="bad",0,1),IF(I$30=$AZ$1,IF(IFERROR(IF(I32=TRUNC(I32),1,"bad"),"bad")="bad",0,1),IF(I$30=$BA$1,IF(AND(IF(IFERROR(I32*1,"bad")="bad",0,1)=1,I32>=0),1,0),IF(I$30=$BB$1,IF(AND(IF(IFERROR(IF(I32=TRUNC(I32),1,"bad"),"bad")="bad",0,1)=1,I32>=0),1,0),IF(I$30=$BC$1,IF(AND(IF(IFERROR(I32*1,"bad")="bad",0,1)=1,I32>0),1,0),IF(I$30=$BD$1,IF(AND(IF(IFERROR(IF(I32=TRUNC(I32),1,"bad"),"bad")="bad",0,1)=1,I32>0),1,0),IF(I$30=$BE$1,1,IF(I$30=$BF$1,IF(IFERROR(HLOOKUP(I32,$AX$4:$BG$4,1,0),"bad")="bad",0,1),0)))))))))))) -> 1 | AZ32: =IF(J$30="",1,IF(J$4=99,1,IF(J32="",0,IF(J$30=$AX$1,IF(ISNA(MATCH(J32,$AU$30:$AV$30,0)),0,1),IF(J$30=$AY$1,IF(IFERROR(J32*1,"bad")="bad",0,1),IF(J$30=$AZ$1,IF(IFERROR(IF(J32=TRUNC(J32),1,"bad"),"bad")="bad",0,1),IF(J$30=$BA$1,IF(AND(IF(IFERROR(J32*1,"bad")="bad",0,1)=1,J32>=0),1,0),IF(J$30=$BB$1,IF(AND(IF(IFERROR(IF(J32=TRUNC(J32),1,"bad"),"bad")="bad",0,1)=1,J32>=0),1,0),IF(J$30=$BC$1,IF(AND(IF(IFERROR(J32*1,"bad")="bad",0,1)=1,J32>0),1,0),IF(J$30=$BD$1,IF(AND(IF(IFERROR(IF(J32=TRUNC(J32),1,"bad"),"bad")="bad",0,1)=1,J32>0),1,0),IF(J$30=$BE$1,1,IF(J$30=$BF$1,IF(IFERROR(HLOOKUP(J32,$AX$4:$BG$4,1,0),"bad")="bad",0,1),0)))))))))))) -> 1 | BA32: =IF(K$30="",1,IF(K$4=99,1,IF(K32="",0,IF(K$30=$AX$1,IF(ISNA(MATCH(K32,$AU$30:$AV$30,0)),0,1),IF(K$30=$AY$1,IF(IFERROR(K32*1,"bad")="bad",0,1),IF(K$30=$AZ$1,IF(IFERROR(IF(K32=TRUNC(K32),1,"bad"),"bad")="bad",0,1),IF(K$30=$BA$1,IF(AND(IF(IFERROR(K32*1,"bad")="bad",0,1)=1,K32>=0),1,0),IF(K$30=$BB$1,IF(AND(IF(IFERROR(IF(K32=TRUNC(K32),1,"bad"),"bad")="bad",0,1)=1,K32>=0),1,0),IF(K$30=$BC$1,IF(AND(IF(IFERROR(K32*1,"bad")="bad",0,1)=1,K32>0),1,0),IF(K$30=$BD$1,IF(AND(IF(IFERROR(IF(K32=TRUNC(K32),1,"bad"),"bad")="bad",0,1)=1,K32>0),1,0),IF(K$30=$BE$1,1,IF(K$30=$BF$1,IF(IFERROR(HLOOKUP(K32,$AX$4:$BG$4,1,0),"bad")="bad",0,1),0)))))))))))) -> 1 | BB32: =IF(L$30="",1,IF(L$4=99,1,IF(L32="",0,IF(L$30=$AX$1,IF(ISNA(MATCH(L32,$AU$30:$AV$30,0)),0,1),IF(L$30=$AY$1,IF(IFERROR(L32*1,"bad")="bad",0,1),IF(L$30=$AZ$1,IF(IFERROR(IF(L32=TRUNC(L32),1,"bad"),"bad")="bad",0,1),IF(L$30=$BA$1,IF(AND(IF(IFERROR(L32*1,"bad")="bad",0,1)=1,L32>=0),1,0),IF(L$30=$BB$1,IF(AND(IF(IFERROR(IF(L32=TRUNC(L32),1,"bad"),"bad")="bad",0,1)=1,L32>=0),1,0),IF(L$30=$BC$1,IF(AND(IF(IFERROR(L32*1,"bad")="bad",0,1)=1,L32>0),1,0),IF(L$30=$BD$1,IF(AND(IF(IFERROR(IF(L32=TRUNC(L32),1,"bad"),"bad")="bad",0,1)=1,L32>0),1,0),IF(L$30=$BE$1,1,IF(L$30=$BF$1,IF(IFERROR(HLOOKUP(L32,$AX$4:$BG$4,1,0),"bad")="bad",0,1),0)))))))))))) -> 1 | BC32: =IF(M$30="",1,IF(M$4=99,1,IF(M32="",0,IF(M$30=$AX$1,IF(ISNA(MATCH(M32,$AU$30:$AV$30,0)),0,1),IF(M$30=$AY$1,IF(IFERROR(M32*1,"bad")="bad",0,1),IF(M$30=$AZ$1,IF(IFERROR(IF(M32=TRUNC(M32),1,"bad"),"bad")="bad",0,1),IF(M$30=$BA$1,IF(AND(IF(IFERROR(M32*1,"bad")="bad",0,1)=1,M32>=0),1,0),IF(M$30=$BB$1,IF(AND(IF(IFERROR(IF(M32=TRUNC(M32),1,"bad"),"bad")="bad",0,1)=1,M32>=0),1,0),IF(M$30=$BC$1,IF(AND(IF(IFERROR(M32*1,"bad")="bad",0,1)=1,M32>0),1,0),IF(M$30=$BD$1,IF(AND(IF(IFERROR(IF(M32=TRUNC(M32),1,"bad"),"bad")="bad",0,1)=1,M32>0),1,0),IF(M$30=$BE$1,1,IF(M$30=$BF$1,IF(IFERROR(HLOOKUP(M32,$AX$4:$BG$4,1,0),"bad")="bad",0,1),0)))))))))))) -> 1 | BD32: =IF(N$30="",1,IF(N$4=99,1,IF(N32="",0,IF(N$30=$AX$1,IF(ISNA(MATCH(N32,$AU$30:$AV$30,0)),0,1),IF(N$30=$AY$1,IF(IFERROR(N32*1,"bad")="bad",0,1),IF(N$30=$AZ$1,IF(IFERROR(IF(N32=TRUNC(N32),1,"bad"),"bad")="bad",0,1),IF(N$30=$BA$1,IF(AND(IF(IFERROR(N32*1,"bad")="bad",0,1)=1,N32>=0),1,0),IF(N$30=$BB$1,IF(AND(IF(IFERROR(IF(N32=TRUNC(N32),1,"bad"),"bad")="bad",0,1)=1,N32>=0),1,0),IF(N$30=$BC$1,IF(AND(IF(IFERROR(N32*1,"bad")="bad",0,1)=1,N32>0),1,0),IF(N$30=$BD$1,IF(AND(IF(IFERROR(IF(N32=TRUNC(N32),1,"bad"),"bad")="bad",0,1)=1,N32>0),1,0),IF(N$30=$BE$1,1,IF(N$30=$BF$1,IF(IFERROR(HLOOKUP(N32,$AX$4:$BG$4,1,0),"bad")="bad",0,1),0)))))))))))) -> 1 | ... CA32: =IF(AK$30="",1,IF(AK$4=99,1,IF(AK32="",0,IF(AK$30=$AX$1,IF(ISNA(MATCH(AK32,$AU$30:$AV$30,0)),0,1),IF(AK$30=$AY$1,IF(IFERROR(AK32*1,"bad")="bad",0,1),IF(AK$30=$AZ$1,IF(IFERROR(IF(AK32=TRUNC(AK32),1,"bad"),"bad")="bad",0,1),IF(AK$30=$BA$1,IF(AND(IF(IFERROR(AK32*1,"bad")="bad",0,1)=1,AK32>=0),1,0),IF(AK$30=$BB$1,IF(AND(IF(IFERROR(IF(AK32=TRUNC(AK32),1,"bad"),"bad")="bad",0,1)=1,AK32>=0),1,0),IF(AK$30=$BC$1,IF(AND(IF(IFERROR(AK32*1,"bad")="bad",0,1)=1,AK32>0),1,0),IF(AK$30=$BD$1,IF(AND(IF(IFERROR(IF(AK32=TRUNC(AK32),1,"bad"),"bad")="bad",0,1)=1,AK32>0),1,0),IF(AK$30=$BE$1,1,IF(AK$30=$BF$1,IF(IFERROR(HLOOKUP(AK32,$AX$4:$BG$4,1,0),"bad")="bad",0,1),0)))))))))))) -> 1 | CB32: =IF(AM$30="",1,IF(AM$4=99,1,IF(AM32="",0,IF(AM$30=$AX$1,IF(ISNA(MATCH(AM32,$AU$30:$AV$30,0)),0,1),IF(AM$30=$AY$1,IF(IFERROR(AM32*1,"bad")="bad",0,1),IF(AM$30=$AZ$1,IF(IFERROR(IF(AM32=TRUNC(AM32),1,"bad"),"bad")="bad",0,1),IF(AM$30=$BA$1,IF(AND(IF(IFERROR(AM32*1,"bad")="bad",0,1)=1,AM32>=0),1,0),IF(AM$30=$BB$1,IF(AND(IF(IFERROR(IF(AM32=TRUNC(AM32),1,"bad"),"bad")="bad",0,1)=1,AM32>=0),1,0),IF(AM$30=$BC$1,IF(AND(IF(IFERROR(AM32*1,"bad")="bad",0,1)=1,AM32>0),1,0),IF(AM$30=$BD$1,IF(AND(IF(IFERROR(IF(AM32=TRUNC(AM32),1,"bad"),"bad")="bad",0,1)=1,AM32>0),1,0),IF(AM$30=$BE$1,1,IF(AM$30=$BF$1,IF(IFERROR(HLOOKUP(AM32,$AX$4:$BG$4,1,0),"bad")="bad",0,1),0)))))))))))) -> 1 | CC32: =IF(ISNA(MATCH(AN32,$AU$30:$AV$30,0)),0,1) -> 1 | CG32: =IF(AR$30="",1,IF(AR32="",0,IF(AR$30=$AX$1,IF(ISNA(MATCH(AR32,$AU$30:$AV$30,0)),0,1),IF(AR$30=$AY$1,IF(IFERROR(AR32*1,"bad")="bad",0,1),IF(AR$30=$AZ$1,IF(IFERROR(IF(AR32=TRUNC(AR32),1,"bad"),"bad")="bad",0,1),IF(AR$30=$BA$1,IF(AND(IF(IFERROR(AR32*1,"bad")="bad",0,1)=1,AR32>=0),1,0),IF(AR$30=$BB$1,IF(AND(IF(IFERROR(IF(AR32=TRUNC(AR32),1,"bad"),"bad")="bad",0,1)=1,AR32>=0),1,0),IF(AR$30=$BC$1,IF(AND(IF(IFERROR(AR32*1,"bad")="bad",0,1)=1,AR32>0),1,0),IF(AR$30=$BD$1,IF(AND(IF(IFERROR(IF(AR32=TRUNC(AR32),1,"bad"),"bad")="bad",0,1)=1,AR32>0),1,0),IF(AR$30=$BE$1,1,IF(AR$30=$BF$1,IF(IFERROR(HLOOKUP(AR32,$AX$4:$BG$4,1,0),"bad")="bad",0,1),0))))))))))) -> 1 | CL32: =IF($F32="","",CL$30) -> 1 | CM32: =IF($F32="","",CM$30) -> 2 | CN32: =IF($F32="","",CN$30) -> 3 | CO32: =IF($F32="","",CO$30) -> 4 | CP32: =IF($F32="","",CP$30) -> 5 | CQ32: =IF($F32="","",CQ$30) -> 6 | CR32: =IF($F32="","",CR$30) -> 7 | CS32: =IF($F32="","",CS$30) -> 8 | ... CU32: =IF($F32="","",CU$30) -> 10
B33: =IF(F33="","",ROW()-30) -> 3 | F33: =IF(איב!$F$1="3","",איב!$F$1) -> איב | G33: 63 | H33: 3778309 | I33: 3802525 | J33: =IF($F33="","",IFERROR(IF(H33>I33,$AU$1,IF(H33/I33>=0.75,1,0)),$AU$1)) -> 1 | K33: 1 | L33: 1 | M33: 1 | N33: 1 | O33: 1 | P33: 1 | Q33: 1 | R33: 1 | S33: 1 | T33: 1 | U33: 1 | W33: 1 | X33: =IF(F33="","",IF(G33>=$G$6,1,0)) -> 1 | Y33: 1 | Z33: 1 | AA33: 1 | AB33: 1 | AC33: 1 | AD33: 1 | AE33: 1 | AF33: 1 | AG33: 1 | AH33: 1 | AI33: 1 | AJ33: 1 | AK33: 1 | AL33: 1 | AM33: 1 | AR33: =IF($F33="","",IF(AN33=1,1,IF(AT33<>1,$AU$1,IF(SUMIF($G$4:$AM$4,1,G33:AM33)=COUNTIF($G$4:$AM$4,1),1,0)))) -> 1 | AT33: =IF(SUM(AW33:CG33)=COUNT(AW33:CG33),1,0) -> 1 | AU33: =IF($F33="","",AU$30) -> 0 | AV33: =IF($F33="","",AV$30) -> 1 | AW33: =IF(G$30="",1,IF(G$4=99,1,IF(G33="",0,IF(G$30=$AX$1,IF(ISNA(MATCH(G33,$AU$30:$AV$30,0)),0,1),IF(G$30=$AY$1,IF(IFERROR(G33*1,"bad")="bad",0,1),IF(G$30=$AZ$1,IF(IFERROR(IF(G33=TRUNC(G33),1,"bad"),"bad")="bad",0,1),IF(G$30=$BA$1,IF(AND(IF(IFERROR(G33*1,"bad")="bad",0,1)=1,G33>=0),1,0),IF(G$30=$BB$1,IF(AND(IF(IFERROR(IF(G33=TRUNC(G33),1,"bad"),"bad")="bad",0,1)=1,G33>=0),1,0),IF(G$30=$BC$1,IF(AND(IF(IFERROR(G33*1,"bad")="bad",0,1)=1,G33>0),1,0),IF(G$30=$BD$1,IF(AND(IF(IFERROR(IF(G33=TRUNC(G33),1,"bad"),"bad")="bad",0,1)=1,G33>0),1,0),IF(G$30=$BE$1,1,IF(G$30=$BF$1,IF(IFERROR(HLOOKUP(G33,$AX$4:$BG$4,1,0),"bad")="bad",0,1),0)))))))))))) -> 1 | AX33: =IF(H$30="",1,IF(H$4=99,1,IF(H33="",0,IF(H$30=$AX$1,IF(ISNA(MATCH(H33,$AU$30:$AV$30,0)),0,1),IF(H$30=$AY$1,IF(IFERROR(H33*1,"bad")="bad",0,1),IF(H$30=$AZ$1,IF(IFERROR(IF(H33=TRUNC(H33),1,"bad"),"bad")="bad",0,1),IF(H$30=$BA$1,IF(AND(IF(IFERROR(H33*1,"bad")="bad",0,1)=1,H33>=0),1,0),IF(H$30=$BB$1,IF(AND(IF(IFERROR(IF(H33=TRUNC(H33),1,"bad"),"bad")="bad",0,1)=1,H33>=0),1,0),IF(H$30=$BC$1,IF(AND(IF(IFERROR(H33*1,"bad")="bad",0,1)=1,H33>0),1,0),IF(H$30=$BD$1,IF(AND(IF(IFERROR(IF(H33=TRUNC(H33),1,"bad"),"bad")="bad",0,1)=1,H33>0),1,0),IF(H$30=$BE$1,1,IF(H$30=$BF$1,IF(IFERROR(HLOOKUP(H33,$AX$4:$BG$4,1,0),"bad")="bad",0,1),0)))))))))))) -> 1 | AY33: =IF(I$30="",1,IF(I$4=99,1,IF(I33="",0,IF(I$30=$AX$1,IF(ISNA(MATCH(I33,$AU$30:$AV$30,0)),0,1),IF(I$30=$AY$1,IF(IFERROR(I33*1,"bad")="bad",0,1),IF(I$30=$AZ$1,IF(IFERROR(IF(I33=TRUNC(I33),1,"bad"),"bad")="bad",0,1),IF(I$30=$BA$1,IF(AND(IF(IFERROR(I33*1,"bad")="bad",0,1)=1,I33>=0),1,0),IF(I$30=$BB$1,IF(AND(IF(IFERROR(IF(I33=TRUNC(I33),1,"bad"),"bad")="bad",0,1)=1,I33>=0),1,0),IF(I$30=$BC$1,IF(AND(IF(IFERROR(I33*1,"bad")="bad",0,1)=1,I33>0),1,0),IF(I$30=$BD$1,IF(AND(IF(IFERROR(IF(I33=TRUNC(I33),1,"bad"),"bad")="bad",0,1)=1,I33>0),1,0),IF(I$30=$BE$1,1,IF(I$30=$BF$1,IF(IFERROR(HLOOKUP(I33,$AX$4:$BG$4,1,0),"bad")="bad",0,1),0)))))))))))) -> 1 | AZ33: =IF(J$30="",1,IF(J$4=99,1,IF(J33="",0,IF(J$30=$AX$1,IF(ISNA(MATCH(J33,$AU$30:$AV$30,0)),0,1),IF(J$30=$AY$1,IF(IFERROR(J33*1,"bad")="bad",0,1),IF(J$30=$AZ$1,IF(IFERROR(IF(J33=TRUNC(J33),1,"bad"),"bad")="bad",0,1),IF(J$30=$BA$1,IF(AND(IF(IFERROR(J33*1,"bad")="bad",0,1)=1,J33>=0),1,0),IF(J$30=$BB$1,IF(AND(IF(IFERROR(IF(J33=TRUNC(J33),1,"bad"),"bad")="bad",0,1)=1,J33>=0),1,0),IF(J$30=$BC$1,IF(AND(IF(IFERROR(J33*1,"bad")="bad",0,1)=1,J33>0),1,0),IF(J$30=$BD$1,IF(AND(IF(IFERROR(IF(J33=TRUNC(J33),1,"bad"),"bad")="bad",0,1)=1,J33>0),1,0),IF(J$30=$BE$1,1,IF(J$30=$BF$1,IF(IFERROR(HLOOKUP(J33,$AX$4:$BG$4,1,0),"bad")="bad",0,1),0)))))))))))) -> 1 | BA33: =IF(K$30="",1,IF(K$4=99,1,IF(K33="",0,IF(K$30=$AX$1,IF(ISNA(MATCH(K33,$AU$30:$AV$30,0)),0,1),IF(K$30=$AY$1,IF(IFERROR(K33*1,"bad")="bad",0,1),IF(K$30=$AZ$1,IF(IFERROR(IF(K33=TRUNC(K33),1,"bad"),"bad")="bad",0,1),IF(K$30=$BA$1,IF(AND(IF(IFERROR(K33*1,"bad")="bad",0,1)=1,K33>=0),1,0),IF(K$30=$BB$1,IF(AND(IF(IFERROR(IF(K33=TRUNC(K33),1,"bad"),"bad")="bad",0,1)=1,K33>=0),1,0),IF(K$30=$BC$1,IF(AND(IF(IFERROR(K33*1,"bad")="bad",0,1)=1,K33>0),1,0),IF(K$30=$BD$1,IF(AND(IF(IFERROR(IF(K33=TRUNC(K33),1,"bad"),"bad")="bad",0,1)=1,K33>0),1,0),IF(K$30=$BE$1,1,IF(K$30=$BF$1,IF(IFERROR(HLOOKUP(K33,$AX$4:$BG$4,1,0),"bad")="bad",0,1),0)))))))))))) -> 1 | BB33: =IF(L$30="",1,IF(L$4=99,1,IF(L33="",0,IF(L$30=$AX$1,IF(ISNA(MATCH(L33,$AU$30:$AV$30,0)),0,1),IF(L$30=$AY$1,IF(IFERROR(L33*1,"bad")="bad",0,1),IF(L$30=$AZ$1,IF(IFERROR(IF(L33=TRUNC(L33),1,"bad"),"bad")="bad",0,1),IF(L$30=$BA$1,IF(AND(IF(IFERROR(L33*1,"bad")="bad",0,1)=1,L33>=0),1,0),IF(L$30=$BB$1,IF(AND(IF(IFERROR(IF(L33=TRUNC(L33),1,"bad"),"bad")="bad",0,1)=1,L33>=0),1,0),IF(L$30=$BC$1,IF(AND(IF(IFERROR(L33*1,"bad")="bad",0,1)=1,L33>0),1,0),IF(L$30=$BD$1,IF(AND(IF(IFERROR(IF(L33=TRUNC(L33),1,"bad"),"bad")="bad",0,1)=1,L33>0),1,0),IF(L$30=$BE$1,1,IF(L$30=$BF$1,IF(IFERROR(HLOOKUP(L33,$AX$4:$BG$4,1,0),"bad")="bad",0,1),0)))))))))))) -> 1 | BC33: =IF(M$30="",1,IF(M$4=99,1,IF(M33="",0,IF(M$30=$AX$1,IF(ISNA(MATCH(M33,$AU$30:$AV$30,0)),0,1),IF(M$30=$AY$1,IF(IFERROR(M33*1,"bad")="bad",0,1),IF(M$30=$AZ$1,IF(IFERROR(IF(M33=TRUNC(M33),1,"bad"),"bad")="bad",0,1),IF(M$30=$BA$1,IF(AND(IF(IFERROR(M33*1,"bad")="bad",0,1)=1,M33>=0),1,0),IF(M$30=$BB$1,IF(AND(IF(IFERROR(IF(M33=TRUNC(M33),1,"bad"),"bad")="bad",0,1)=1,M33>=0),1,0),IF(M$30=$BC$1,IF(AND(IF(IFERROR(M33*1,"bad")="bad",0,1)=1,M33>0),1,0),IF(M$30=$BD$1,IF(AND(IF(IFERROR(IF(M33=TRUNC(M33),1,"bad"),"bad")="bad",0,1)=1,M33>0),1,0),IF(M$30=$BE$1,1,IF(M$30=$BF$1,IF(IFERROR(HLOOKUP(M33,$AX$4:$BG$4,1,0),"bad")="bad",0,1),0)))))))))))) -> 1 | BD33: =IF(N$30="",1,IF(N$4=99,1,IF(N33="",0,IF(N$30=$AX$1,IF(ISNA(MATCH(N33,$AU$30:$AV$30,0)),0,1),IF(N$30=$AY$1,IF(IFERROR(N33*1,"bad")="bad",0,1),IF(N$30=$AZ$1,IF(IFERROR(IF(N33=TRUNC(N33),1,"bad"),"bad")="bad",0,1),IF(N$30=$BA$1,IF(AND(IF(IFERROR(N33*1,"bad")="bad",0,1)=1,N33>=0),1,0),IF(N$30=$BB$1,IF(AND(IF(IFERROR(IF(N33=TRUNC(N33),1,"bad"),"bad")="bad",0,1)=1,N33>=0),1,0),IF(N$30=$BC$1,IF(AND(IF(IFERROR(N33*1,"bad")="bad",0,1)=1,N33>0),1,0),IF(N$30=$BD$1,IF(AND(IF(IFERROR(IF(N33=TRUNC(N33),1,"bad"),"bad")="bad",0,1)=1,N33>0),1,0),IF(N$30=$BE$1,1,IF(N$30=$BF$1,IF(IFERROR(HLOOKUP(N33,$AX$4:$BG$4,1,0),"bad")="bad",0,1),0)))))))))))) -> 1 | ... CA33: =IF(AK$30="",1,IF(AK$4=99,1,IF(AK33="",0,IF(AK$30=$AX$1,IF(ISNA(MATCH(AK33,$AU$30:$AV$30,0)),0,1),IF(AK$30=$AY$1,IF(IFERROR(AK33*1,"bad")="bad",0,1),IF(AK$30=$AZ$1,IF(IFERROR(IF(AK33=TRUNC(AK33),1,"bad"),"bad")="bad",0,1),IF(AK$30=$BA$1,IF(AND(IF(IFERROR(AK33*1,"bad")="bad",0,1)=1,AK33>=0),1,0),IF(AK$30=$BB$1,IF(AND(IF(IFERROR(IF(AK33=TRUNC(AK33),1,"bad"),"bad")="bad",0,1)=1,AK33>=0),1,0),IF(AK$30=$BC$1,IF(AND(IF(IFERROR(AK33*1,"bad")="bad",0,1)=1,AK33>0),1,0),IF(AK$30=$BD$1,IF(AND(IF(IFERROR(IF(AK33=TRUNC(AK33),1,"bad"),"bad")="bad",0,1)=1,AK33>0),1,0),IF(AK$30=$BE$1,1,IF(AK$30=$BF$1,IF(IFERROR(HLOOKUP(AK33,$AX$4:$BG$4,1,0),"bad")="bad",0,1),0)))))))))))) -> 1 | CB33: =IF(AM$30="",1,IF(AM$4=99,1,IF(AM33="",0,IF(AM$30=$AX$1,IF(ISNA(MATCH(AM33,$AU$30:$AV$30,0)),0,1),IF(AM$30=$AY$1,IF(IFERROR(AM33*1,"bad")="bad",0,1),IF(AM$30=$AZ$1,IF(IFERROR(IF(AM33=TRUNC(AM33),1,"bad"),"bad")="bad",0,1),IF(AM$30=$BA$1,IF(AND(IF(IFERROR(AM33*1,"bad")="bad",0,1)=1,AM33>=0),1,0),IF(AM$30=$BB$1,IF(AND(IF(IFERROR(IF(AM33=TRUNC(AM33),1,"bad"),"bad")="bad",0,1)=1,AM33>=0),1,0),IF(AM$30=$BC$1,IF(AND(IF(IFERROR(AM33*1,"bad")="bad",0,1)=1,AM33>0),1,0),IF(AM$30=$BD$1,IF(AND(IF(IFERROR(IF(AM33=TRUNC(AM33),1,"bad"),"bad")="bad",0,1)=1,AM33>0),1,0),IF(AM$30=$BE$1,1,IF(AM$30=$BF$1,IF(IFERROR(HLOOKUP(AM33,$AX$4:$BG$4,1,0),"bad")="bad",0,1),0)))))))))))) -> 1 | CC33: =IF(ISNA(MATCH(AN33,$AU$30:$AV$30,0)),0,1) -> 1 | CG33: =IF(AR$30="",1,IF(AR33="",0,IF(AR$30=$AX$1,IF(ISNA(MATCH(AR33,$AU$30:$AV$30,0)),0,1),IF(AR$30=$AY$1,IF(IFERROR(AR33*1,"bad")="bad",0,1),IF(AR$30=$AZ$1,IF(IFERROR(IF(AR33=TRUNC(AR33),1,"bad"),"bad")="bad",0,1),IF(AR$30=$BA$1,IF(AND(IF(IFERROR(AR33*1,"bad")="bad",0,1)=1,AR33>=0),1,0),IF(AR$30=$BB$1,IF(AND(IF(IFERROR(IF(AR33=TRUNC(AR33),1,"bad"),"bad")="bad",0,1)=1,AR33>=0),1,0),IF(AR$30=$BC$1,IF(AND(IF(IFERROR(AR33*1,"bad")="bad",0,1)=1,AR33>0),1,0),IF(AR$30=$BD$1,IF(AND(IF(IFERROR(IF(AR33=TRUNC(AR33),1,"bad"),"bad")="bad",0,1)=1,AR33>0),1,0),IF(AR$30=$BE$1,1,IF(AR$30=$BF$1,IF(IFERROR(HLOOKUP(AR33,$AX$4:$BG$4,1,0),"bad")="bad",0,1),0))))))))))) -> 1 | CL33: =IF($F33="","",CL$30) -> 1 | CM33: =IF($F33="","",CM$30) -> 2 | CN33: =IF($F33="","",CN$30) -> 3 | CO33: =IF($F33="","",CO$30) -> 4 | CP33: =IF($F33="","",CP$30) -> 5 | CQ33: =IF($F33="","",CQ$30) -> 6 | CR33: =IF($F33="","",CR$30) -> 7 | CS33: =IF($F33="","",CS$30) -> 8 | ... CU33: =IF($F33="","",CU$30) -> 10
B34: =IF(F34="","",ROW()-30) | F34: =IF('4'!$F$1="4","",'4'!$F$1) | J34: =IF($F34="","",IFERROR(IF(H34>I34,$AU$1,IF(H34/I34>=0.75,1,0)),$AU$1)) | X34: =IF(F34="","",IF(G34>=$G$6,1,0)) | AR34: =IF($F34="","",IF(AN34=1,1,IF(AT34<>1,$AU$1,IF(SUMIF($G$4:$AM$4,1,G34:AM34)=COUNTIF($G$4:$AM$4,1),1,0)))) | AT34: =IF(SUM(AW34:CG34)=COUNT(AW34:CG34),1,0) -> 0 | AU34: =IF($F34="","",AU$30) | AV34: =IF($F34="","",AV$30) | AW34: =IF(G$30="",1,IF(G$4=99,1,IF(G34="",0,IF(G$30=$AX$1,IF(ISNA(MATCH(G34,$AU$30:$AV$30,0)),0,1),IF(G$30=$AY$1,IF(IFERROR(G34*1,"bad")="bad",0,1),IF(G$30=$AZ$1,IF(IFERROR(IF(G34=TRUNC(G34),1,"bad"),"bad")="bad",0,1),IF(G$30=$BA$1,IF(AND(IF(IFERROR(G34*1,"bad")="bad",0,1)=1,G34>=0),1,0),IF(G$30=$BB$1,IF(AND(IF(IFERROR(IF(G34=TRUNC(G34),1,"bad"),"bad")="bad",0,1)=1,G34>=0),1,0),IF(G$30=$BC$1,IF(AND(IF(IFERROR(G34*1,"bad")="bad",0,1)=1,G34>0),1,0),IF(G$30=$BD$1,IF(AND(IF(IFERROR(IF(G34=TRUNC(G34),1,"bad"),"bad")="bad",0,1)=1,G34>0),1,0),IF(G$30=$BE$1,1,IF(G$30=$BF$1,IF(IFERROR(HLOOKUP(G34,$AX$4:$BG$4,1,0),"bad")="bad",0,1),0)))))))))))) -> 0 | AX34: =IF(H$30="",1,IF(H$4=99,1,IF(H34="",0,IF(H$30=$AX$1,IF(ISNA(MATCH(H34,$AU$30:$AV$30,0)),0,1),IF(H$30=$AY$1,IF(IFERROR(H34*1,"bad")="bad",0,1),IF(H$30=$AZ$1,IF(IFERROR(IF(H34=TRUNC(H34),1,"bad"),"bad")="bad",0,1),IF(H$30=$BA$1,IF(AND(IF(IFERROR(H34*1,"bad")="bad",0,1)=1,H34>=0),1,0),IF(H$30=$BB$1,IF(AND(IF(IFERROR(IF(H34=TRUNC(H34),1,"bad"),"bad")="bad",0,1)=1,H34>=0),1,0),IF(H$30=$BC$1,IF(AND(IF(IFERROR(H34*1,"bad")="bad",0,1)=1,H34>0),1,0),IF(H$30=$BD$1,IF(AND(IF(IFERROR(IF(H34=TRUNC(H34),1,"bad"),"bad")="bad",0,1)=1,H34>0),1,0),IF(H$30=$BE$1,1,IF(H$30=$BF$1,IF(IFERROR(HLOOKUP(H34,$AX$4:$BG$4,1,0),"bad")="bad",0,1),0)))))))))))) -> 0 | AY34: =IF(I$30="",1,IF(I$4=99,1,IF(I34="",0,IF(I$30=$AX$1,IF(ISNA(MATCH(I34,$AU$30:$AV$30,0)),0,1),IF(I$30=$AY$1,IF(IFERROR(I34*1,"bad")="bad",0,1),IF(I$30=$AZ$1,IF(IFERROR(IF(I34=TRUNC(I34),1,"bad"),"bad")="bad",0,1),IF(I$30=$BA$1,IF(AND(IF(IFERROR(I34*1,"bad")="bad",0,1)=1,I34>=0),1,0),IF(I$30=$BB$1,IF(AND(IF(IFERROR(IF(I34=TRUNC(I34),1,"bad"),"bad")="bad",0,1)=1,I34>=0),1,0),IF(I$30=$BC$1,IF(AND(IF(IFERROR(I34*1,"bad")="bad",0,1)=1,I34>0),1,0),IF(I$30=$BD$1,IF(AND(IF(IFERROR(IF(I34=TRUNC(I34),1,"bad"),"bad")="bad",0,1)=1,I34>0),1,0),IF(I$30=$BE$1,1,IF(I$30=$BF$1,IF(IFERROR(HLOOKUP(I34,$AX$4:$BG$4,1,0),"bad")="bad",0,1),0)))))))))))) -> 0 | AZ34: =IF(J$30="",1,IF(J$4=99,1,IF(J34="",0,IF(J$30=$AX$1,IF(ISNA(MATCH(J34,$AU$30:$AV$30,0)),0,1),IF(J$30=$AY$1,IF(IFERROR(J34*1,"bad")="bad",0,1),IF(J$30=$AZ$1,IF(IFERROR(IF(J34=TRUNC(J34),1,"bad"),"bad")="bad",0,1),IF(J$30=$BA$1,IF(AND(IF(IFERROR(J34*1,"bad")="bad",0,1)=1,J34>=0),1,0),IF(J$30=$BB$1,IF(AND(IF(IFERROR(IF(J34=TRUNC(J34),1,"bad"),"bad")="bad",0,1)=1,J34>=0),1,0),IF(J$30=$BC$1,IF(AND(IF(IFERROR(J34*1,"bad")="bad",0,1)=1,J34>0),1,0),IF(J$30=$BD$1,IF(AND(IF(IFERROR(IF(J34=TRUNC(J34),1,"bad"),"bad")="bad",0,1)=1,J34>0),1,0),IF(J$30=$BE$1,1,IF(J$30=$BF$1,IF(IFERROR(HLOOKUP(J34,$AX$4:$BG$4,1,0),"bad")="bad",0,1),0)))))))))))) -> 1 | BA34: =IF(K$30="",1,IF(K$4=99,1,IF(K34="",0,IF(K$30=$AX$1,IF(ISNA(MATCH(K34,$AU$30:$AV$30,0)),0,1),IF(K$30=$AY$1,IF(IFERROR(K34*1,"bad")="bad",0,1),IF(K$30=$AZ$1,IF(IFERROR(IF(K34=TRUNC(K34),1,"bad"),"bad")="bad",0,1),IF(K$30=$BA$1,IF(AND(IF(IFERROR(K34*1,"bad")="bad",0,1)=1,K34>=0),1,0),IF(K$30=$BB$1,IF(AND(IF(IFERROR(IF(K34=TRUNC(K34),1,"bad"),"bad")="bad",0,1)=1,K34>=0),1,0),IF(K$30=$BC$1,IF(AND(IF(IFERROR(K34*1,"bad")="bad",0,1)=1,K34>0),1,0),IF(K$30=$BD$1,IF(AND(IF(IFERROR(IF(K34=TRUNC(K34),1,"bad"),"bad")="bad",0,1)=1,K34>0),1,0),IF(K$30=$BE$1,1,IF(K$30=$BF$1,IF(IFERROR(HLOOKUP(K34,$AX$4:$BG$4,1,0),"bad")="bad",0,1),0)))))))))))) -> 0 | BB34: =IF(L$30="",1,IF(L$4=99,1,IF(L34="",0,IF(L$30=$AX$1,IF(ISNA(MATCH(L34,$AU$30:$AV$30,0)),0,1),IF(L$30=$AY$1,IF(IFERROR(L34*1,"bad")="bad",0,1),IF(L$30=$AZ$1,IF(IFERROR(IF(L34=TRUNC(L34),1,"bad"),"bad")="bad",0,1),IF(L$30=$BA$1,IF(AND(IF(IFERROR(L34*1,"bad")="bad",0,1)=1,L34>=0),1,0),IF(L$30=$BB$1,IF(AND(IF(IFERROR(IF(L34=TRUNC(L34),1,"bad"),"bad")="bad",0,1)=1,L34>=0),1,0),IF(L$30=$BC$1,IF(AND(IF(IFERROR(L34*1,"bad")="bad",0,1)=1,L34>0),1,0),IF(L$30=$BD$1,IF(AND(IF(IFERROR(IF(L34=TRUNC(L34),1,"bad"),"bad")="bad",0,1)=1,L34>0),1,0),IF(L$30=$BE$1,1,IF(L$30=$BF$1,IF(IFERROR(HLOOKUP(L34,$AX$4:$BG$4,1,0),"bad")="bad",0,1),0)))))))))))) -> 0 | BC34: =IF(M$30="",1,IF(M$4=99,1,IF(M34="",0,IF(M$30=$AX$1,IF(ISNA(MATCH(M34,$AU$30:$AV$30,0)),0,1),IF(M$30=$AY$1,IF(IFERROR(M34*1,"bad")="bad",0,1),IF(M$30=$AZ$1,IF(IFERROR(IF(M34=TRUNC(M34),1,"bad"),"bad")="bad",0,1),IF(M$30=$BA$1,IF(AND(IF(IFERROR(M34*1,"bad")="bad",0,1)=1,M34>=0),1,0),IF(M$30=$BB$1,IF(AND(IF(IFERROR(IF(M34=TRUNC(M34),1,"bad"),"bad")="bad",0,1)=1,M34>=0),1,0),IF(M$30=$BC$1,IF(AND(IF(IFERROR(M34*1,"bad")="bad",0,1)=1,M34>0),1,0),IF(M$30=$BD$1,IF(AND(IF(IFERROR(IF(M34=TRUNC(M34),1,"bad"),"bad")="bad",0,1)=1,M34>0),1,0),IF(M$30=$BE$1,1,IF(M$30=$BF$1,IF(IFERROR(HLOOKUP(M34,$AX$4:$BG$4,1,0),"bad")="bad",0,1),0)))))))))))) -> 0 | BD34: =IF(N$30="",1,IF(N$4=99,1,IF(N34="",0,IF(N$30=$AX$1,IF(ISNA(MATCH(N34,$AU$30:$AV$30,0)),0,1),IF(N$30=$AY$1,IF(IFERROR(N34*1,"bad")="bad",0,1),IF(N$30=$AZ$1,IF(IFERROR(IF(N34=TRUNC(N34),1,"bad"),"bad")="bad",0,1),IF(N$30=$BA$1,IF(AND(IF(IFERROR(N34*1,"bad")="bad",0,1)=1,N34>=0),1,0),IF(N$30=$BB$1,IF(AND(IF(IFERROR(IF(N34=TRUNC(N34),1,"bad"),"bad")="bad",0,1)=1,N34>=0),1,0),IF(N$30=$BC$1,IF(AND(IF(IFERROR(N34*1,"bad")="bad",0,1)=1,N34>0),1,0),IF(N$30=$BD$1,IF(AND(IF(IFERROR(IF(N34=TRUNC(N34),1,"bad"),"bad")="bad",0,1)=1,N34>0),1,0),IF(N$30=$BE$1,1,IF(N$30=$BF$1,IF(IFERROR(HLOOKUP(N34,$AX$4:$BG$4,1,0),"bad")="bad",0,1),0)))))))))))) -> 0 | ... CA34: =IF(AK$30="",1,IF(AK$4=99,1,IF(AK34="",0,IF(AK$30=$AX$1,IF(ISNA(MATCH(AK34,$AU$30:$AV$30,0)),0,1),IF(AK$30=$AY$1,IF(IFERROR(AK34*1,"bad")="bad",0,1),IF(AK$30=$AZ$1,IF(IFERROR(IF(AK34=TRUNC(AK34),1,"bad"),"bad")="bad",0,1),IF(AK$30=$BA$1,IF(AND(IF(IFERROR(AK34*1,"bad")="bad",0,1)=1,AK34>=0),1,0),IF(AK$30=$BB$1,IF(AND(IF(IFERROR(IF(AK34=TRUNC(AK34),1,"bad"),"bad")="bad",0,1)=1,AK34>=0),1,0),IF(AK$30=$BC$1,IF(AND(IF(IFERROR(AK34*1,"bad")="bad",0,1)=1,AK34>0),1,0),IF(AK$30=$BD$1,IF(AND(IF(IFERROR(IF(AK34=TRUNC(AK34),1,"bad"),"bad")="bad",0,1)=1,AK34>0),1,0),IF(AK$30=$BE$1,1,IF(AK$30=$BF$1,IF(IFERROR(HLOOKUP(AK34,$AX$4:$BG$4,1,0),"bad")="bad",0,1),0)))))))))))) -> 0 | CB34: =IF(AM$30="",1,IF(AM$4=99,1,IF(AM34="",0,IF(AM$30=$AX$1,IF(ISNA(MATCH(AM34,$AU$30:$AV$30,0)),0,1),IF(AM$30=$AY$1,IF(IFERROR(AM34*1,"bad")="bad",0,1),IF(AM$30=$AZ$1,IF(IFERROR(IF(AM34=TRUNC(AM34),1,"bad"),"bad")="bad",0,1),IF(AM$30=$BA$1,IF(AND(IF(IFERROR(AM34*1,"bad")="bad",0,1)=1,AM34>=0),1,0),IF(AM$30=$BB$1,IF(AND(IF(IFERROR(IF(AM34=TRUNC(AM34),1,"bad"),"bad")="bad",0,1)=1,AM34>=0),1,0),IF(AM$30=$BC$1,IF(AND(IF(IFERROR(AM34*1,"bad")="bad",0,1)=1,AM34>0),1,0),IF(AM$30=$BD$1,IF(AND(IF(IFERROR(IF(AM34=TRUNC(AM34),1,"bad"),"bad")="bad",0,1)=1,AM34>0),1,0),IF(AM$30=$BE$1,1,IF(AM$30=$BF$1,IF(IFERROR(HLOOKUP(AM34,$AX$4:$BG$4,1,0),"bad")="bad",0,1),0)))))))))))) -> 0 | CC34: =IF(ISNA(MATCH(AN34,$AU$30:$AV$30,0)),0,1) -> 1 | CG34: =IF(AR$30="",1,IF(AR34="",0,IF(AR$30=$AX$1,IF(ISNA(MATCH(AR34,$AU$30:$AV$30,0)),0,1),IF(AR$30=$AY$1,IF(IFERROR(AR34*1,"bad")="bad",0,1),IF(AR$30=$AZ$1,IF(IFERROR(IF(AR34=TRUNC(AR34),1,"bad"),"bad")="bad",0,1),IF(AR$30=$BA$1,IF(AND(IF(IFERROR(AR34*1,"bad")="bad",0,1)=1,AR34>=0),1,0),IF(AR$30=$BB$1,IF(AND(IF(IFERROR(IF(AR34=TRUNC(AR34),1,"bad"),"bad")="bad",0,1)=1,AR34>=0),1,0),IF(AR$30=$BC$1,IF(AND(IF(IFERROR(AR34*1,"bad")="bad",0,1)=1,AR34>0),1,0),IF(AR$30=$BD$1,IF(AND(IF(IFERROR(IF(AR34=TRUNC(AR34),1,"bad"),"bad")="bad",0,1)=1,AR34>0),1,0),IF(AR$30=$BE$1,1,IF(AR$30=$BF$1,IF(IFERROR(HLOOKUP(AR34,$AX$4:$BG$4,1,0),"bad")="bad",0,1),0))))))))))) -> 1 | CL34: =IF($F34="","",CL$30) | CM34: =IF($F34="","",CM$30) | CN34: =IF($F34="","",CN$30) | CO34: =IF($F34="","",CO$30) | CP34: =IF($F34="","",CP$30) | CQ34: =IF($F34="","",CQ$30) | CR34: =IF($F34="","",CR$30) | CS34: =IF($F34="","",CS$30) | ... CU34: =IF($F34="","",CU$30)
B35: =IF(F35="","",ROW()-30) | F35: =IF('5'!$F$1="5","",'5'!$F$1) | J35: =IF($F35="","",IFERROR(IF(H35>I35,$AU$1,IF(H35/I35>=0.75,1,0)),$AU$1)) | X35: =IF(F35="","",IF(G35>=$G$6,1,0)) | AR35: =IF($F35="","",IF(AN35=1,1,IF(AT35<>1,$AU$1,IF(SUMIF($G$4:$AM$4,1,G35:AM35)=COUNTIF($G$4:$AM$4,1),1,0)))) | AT35: =IF(SUM(AW35:CG35)=COUNT(AW35:CG35),1,0) -> 0 | AU35: =IF($F35="","",AU$30) | AV35: =IF($F35="","",AV$30) | AW35: =IF(G$30="",1,IF(G$4=99,1,IF(G35="",0,IF(G$30=$AX$1,IF(ISNA(MATCH(G35,$AU$30:$AV$30,0)),0,1),IF(G$30=$AY$1,IF(IFERROR(G35*1,"bad")="bad",0,1),IF(G$30=$AZ$1,IF(IFERROR(IF(G35=TRUNC(G35),1,"bad"),"bad")="bad",0,1),IF(G$30=$BA$1,IF(AND(IF(IFERROR(G35*1,"bad")="bad",0,1)=1,G35>=0),1,0),IF(G$30=$BB$1,IF(AND(IF(IFERROR(IF(G35=TRUNC(G35),1,"bad"),"bad")="bad",0,1)=1,G35>=0),1,0),IF(G$30=$BC$1,IF(AND(IF(IFERROR(G35*1,"bad")="bad",0,1)=1,G35>0),1,0),IF(G$30=$BD$1,IF(AND(IF(IFERROR(IF(G35=TRUNC(G35),1,"bad"),"bad")="bad",0,1)=1,G35>0),1,0),IF(G$30=$BE$1,1,IF(G$30=$BF$1,IF(IFERROR(HLOOKUP(G35,$AX$4:$BG$4,1,0),"bad")="bad",0,1),0)))))))))))) -> 0 | AX35: =IF(H$30="",1,IF(H$4=99,1,IF(H35="",0,IF(H$30=$AX$1,IF(ISNA(MATCH(H35,$AU$30:$AV$30,0)),0,1),IF(H$30=$AY$1,IF(IFERROR(H35*1,"bad")="bad",0,1),IF(H$30=$AZ$1,IF(IFERROR(IF(H35=TRUNC(H35),1,"bad"),"bad")="bad",0,1),IF(H$30=$BA$1,IF(AND(IF(IFERROR(H35*1,"bad")="bad",0,1)=1,H35>=0),1,0),IF(H$30=$BB$1,IF(AND(IF(IFERROR(IF(H35=TRUNC(H35),1,"bad"),"bad")="bad",0,1)=1,H35>=0),1,0),IF(H$30=$BC$1,IF(AND(IF(IFERROR(H35*1,"bad")="bad",0,1)=1,H35>0),1,0),IF(H$30=$BD$1,IF(AND(IF(IFERROR(IF(H35=TRUNC(H35),1,"bad"),"bad")="bad",0,1)=1,H35>0),1,0),IF(H$30=$BE$1,1,IF(H$30=$BF$1,IF(IFERROR(HLOOKUP(H35,$AX$4:$BG$4,1,0),"bad")="bad",0,1),0)))))))))))) -> 0 | AY35: =IF(I$30="",1,IF(I$4=99,1,IF(I35="",0,IF(I$30=$AX$1,IF(ISNA(MATCH(I35,$AU$30:$AV$30,0)),0,1),IF(I$30=$AY$1,IF(IFERROR(I35*1,"bad")="bad",0,1),IF(I$30=$AZ$1,IF(IFERROR(IF(I35=TRUNC(I35),1,"bad"),"bad")="bad",0,1),IF(I$30=$BA$1,IF(AND(IF(IFERROR(I35*1,"bad")="bad",0,1)=1,I35>=0),1,0),IF(I$30=$BB$1,IF(AND(IF(IFERROR(IF(I35=TRUNC(I35),1,"bad"),"bad")="bad",0,1)=1,I35>=0),1,0),IF(I$30=$BC$1,IF(AND(IF(IFERROR(I35*1,"bad")="bad",0,1)=1,I35>0),1,0),IF(I$30=$BD$1,IF(AND(IF(IFERROR(IF(I35=TRUNC(I35),1,"bad"),"bad")="bad",0,1)=1,I35>0),1,0),IF(I$30=$BE$1,1,IF(I$30=$BF$1,IF(IFERROR(HLOOKUP(I35,$AX$4:$BG$4,1,0),"bad")="bad",0,1),0)))))))))))) -> 0 | AZ35: =IF(J$30="",1,IF(J$4=99,1,IF(J35="",0,IF(J$30=$AX$1,IF(ISNA(MATCH(J35,$AU$30:$AV$30,0)),0,1),IF(J$30=$AY$1,IF(IFERROR(J35*1,"bad")="bad",0,1),IF(J$30=$AZ$1,IF(IFERROR(IF(J35=TRUNC(J35),1,"bad"),"bad")="bad",0,1),IF(J$30=$BA$1,IF(AND(IF(IFERROR(J35*1,"bad")="bad",0,1)=1,J35>=0),1,0),IF(J$30=$BB$1,IF(AND(IF(IFERROR(IF(J35=TRUNC(J35),1,"bad"),"bad")="bad",0,1)=1,J35>=0),1,0),IF(J$30=$BC$1,IF(AND(IF(IFERROR(J35*1,"bad")="bad",0,1)=1,J35>0),1,0),IF(J$30=$BD$1,IF(AND(IF(IFERROR(IF(J35=TRUNC(J35),1,"bad"),"bad")="bad",0,1)=1,J35>0),1,0),IF(J$30=$BE$1,1,IF(J$30=$BF$1,IF(IFERROR(HLOOKUP(J35,$AX$4:$BG$4,1,0),"bad")="bad",0,1),0)))))))))))) -> 1 | BA35: =IF(K$30="",1,IF(K$4=99,1,IF(K35="",0,IF(K$30=$AX$1,IF(ISNA(MATCH(K35,$AU$30:$AV$30,0)),0,1),IF(K$30=$AY$1,IF(IFERROR(K35*1,"bad")="bad",0,1),IF(K$30=$AZ$1,IF(IFERROR(IF(K35=TRUNC(K35),1,"bad"),"bad")="bad",0,1),IF(K$30=$BA$1,IF(AND(IF(IFERROR(K35*1,"bad")="bad",0,1)=1,K35>=0),1,0),IF(K$30=$BB$1,IF(AND(IF(IFERROR(IF(K35=TRUNC(K35),1,"bad"),"bad")="bad",0,1)=1,K35>=0),1,0),IF(K$30=$BC$1,IF(AND(IF(IFERROR(K35*1,"bad")="bad",0,1)=1,K35>0),1,0),IF(K$30=$BD$1,IF(AND(IF(IFERROR(IF(K35=TRUNC(K35),1,"bad"),"bad")="bad",0,1)=1,K35>0),1,0),IF(K$30=$BE$1,1,IF(K$30=$BF$1,IF(IFERROR(HLOOKUP(K35,$AX$4:$BG$4,1,0),"bad")="bad",0,1),0)))))))))))) -> 0 | BB35: =IF(L$30="",1,IF(L$4=99,1,IF(L35="",0,IF(L$30=$AX$1,IF(ISNA(MATCH(L35,$AU$30:$AV$30,0)),0,1),IF(L$30=$AY$1,IF(IFERROR(L35*1,"bad")="bad",0,1),IF(L$30=$AZ$1,IF(IFERROR(IF(L35=TRUNC(L35),1,"bad"),"bad")="bad",0,1),IF(L$30=$BA$1,IF(AND(IF(IFERROR(L35*1,"bad")="bad",0,1)=1,L35>=0),1,0),IF(L$30=$BB$1,IF(AND(IF(IFERROR(IF(L35=TRUNC(L35),1,"bad"),"bad")="bad",0,1)=1,L35>=0),1,0),IF(L$30=$BC$1,IF(AND(IF(IFERROR(L35*1,"bad")="bad",0,1)=1,L35>0),1,0),IF(L$30=$BD$1,IF(AND(IF(IFERROR(IF(L35=TRUNC(L35),1,"bad"),"bad")="bad",0,1)=1,L35>0),1,0),IF(L$30=$BE$1,1,IF(L$30=$BF$1,IF(IFERROR(HLOOKUP(L35,$AX$4:$BG$4,1,0),"bad")="bad",0,1),0)))))))))))) -> 0 | BC35: =IF(M$30="",1,IF(M$4=99,1,IF(M35="",0,IF(M$30=$AX$1,IF(ISNA(MATCH(M35,$AU$30:$AV$30,0)),0,1),IF(M$30=$AY$1,IF(IFERROR(M35*1,"bad")="bad",0,1),IF(M$30=$AZ$1,IF(IFERROR(IF(M35=TRUNC(M35),1,"bad"),"bad")="bad",0,1),IF(M$30=$BA$1,IF(AND(IF(IFERROR(M35*1,"bad")="bad",0,1)=1,M35>=0),1,0),IF(M$30=$BB$1,IF(AND(IF(IFERROR(IF(M35=TRUNC(M35),1,"bad"),"bad")="bad",0,1)=1,M35>=0),1,0),IF(M$30=$BC$1,IF(AND(IF(IFERROR(M35*1,"bad")="bad",0,1)=1,M35>0),1,0),IF(M$30=$BD$1,IF(AND(IF(IFERROR(IF(M35=TRUNC(M35),1,"bad"),"bad")="bad",0,1)=1,M35>0),1,0),IF(M$30=$BE$1,1,IF(M$30=$BF$1,IF(IFERROR(HLOOKUP(M35,$AX$4:$BG$4,1,0),"bad")="bad",0,1),0)))))))))))) -> 0 | BD35: =IF(N$30="",1,IF(N$4=99,1,IF(N35="",0,IF(N$30=$AX$1,IF(ISNA(MATCH(N35,$AU$30:$AV$30,0)),0,1),IF(N$30=$AY$1,IF(IFERROR(N35*1,"bad")="bad",0,1),IF(N$30=$AZ$1,IF(IFERROR(IF(N35=TRUNC(N35),1,"bad"),"bad")="bad",0,1),IF(N$30=$BA$1,IF(AND(IF(IFERROR(N35*1,"bad")="bad",0,1)=1,N35>=0),1,0),IF(N$30=$BB$1,IF(AND(IF(IFERROR(IF(N35=TRUNC(N35),1,"bad"),"bad")="bad",0,1)=1,N35>=0),1,0),IF(N$30=$BC$1,IF(AND(IF(IFERROR(N35*1,"bad")="bad",0,1)=1,N35>0),1,0),IF(N$30=$BD$1,IF(AND(IF(IFERROR(IF(N35=TRUNC(N35),1,"bad"),"bad")="bad",0,1)=1,N35>0),1,0),IF(N$30=$BE$1,1,IF(N$30=$BF$1,IF(IFERROR(HLOOKUP(N35,$AX$4:$BG$4,1,0),"bad")="bad",0,1),0)))))))))))) -> 0 | ... CA35: =IF(AK$30="",1,IF(AK$4=99,1,IF(AK35="",0,IF(AK$30=$AX$1,IF(ISNA(MATCH(AK35,$AU$30:$AV$30,0)),0,1),IF(AK$30=$AY$1,IF(IFERROR(AK35*1,"bad")="bad",0,1),IF(AK$30=$AZ$1,IF(IFERROR(IF(AK35=TRUNC(AK35),1,"bad"),"bad")="bad",0,1),IF(AK$30=$BA$1,IF(AND(IF(IFERROR(AK35*1,"bad")="bad",0,1)=1,AK35>=0),1,0),IF(AK$30=$BB$1,IF(AND(IF(IFERROR(IF(AK35=TRUNC(AK35),1,"bad"),"bad")="bad",0,1)=1,AK35>=0),1,0),IF(AK$30=$BC$1,IF(AND(IF(IFERROR(AK35*1,"bad")="bad",0,1)=1,AK35>0),1,0),IF(AK$30=$BD$1,IF(AND(IF(IFERROR(IF(AK35=TRUNC(AK35),1,"bad"),"bad")="bad",0,1)=1,AK35>0),1,0),IF(AK$30=$BE$1,1,IF(AK$30=$BF$1,IF(IFERROR(HLOOKUP(AK35,$AX$4:$BG$4,1,0),"bad")="bad",0,1),0)))))))))))) -> 0 | CB35: =IF(AM$30="",1,IF(AM$4=99,1,IF(AM35="",0,IF(AM$30=$AX$1,IF(ISNA(MATCH(AM35,$AU$30:$AV$30,0)),0,1),IF(AM$30=$AY$1,IF(IFERROR(AM35*1,"bad")="bad",0,1),IF(AM$30=$AZ$1,IF(IFERROR(IF(AM35=TRUNC(AM35),1,"bad"),"bad")="bad",0,1),IF(AM$30=$BA$1,IF(AND(IF(IFERROR(AM35*1,"bad")="bad",0,1)=1,AM35>=0),1,0),IF(AM$30=$BB$1,IF(AND(IF(IFERROR(IF(AM35=TRUNC(AM35),1,"bad"),"bad")="bad",0,1)=1,AM35>=0),1,0),IF(AM$30=$BC$1,IF(AND(IF(IFERROR(AM35*1,"bad")="bad",0,1)=1,AM35>0),1,0),IF(AM$30=$BD$1,IF(AND(IF(IFERROR(IF(AM35=TRUNC(AM35),1,"bad"),"bad")="bad",0,1)=1,AM35>0),1,0),IF(AM$30=$BE$1,1,IF(AM$30=$BF$1,IF(IFERROR(HLOOKUP(AM35,$AX$4:$BG$4,1,0),"bad")="bad",0,1),0)))))))))))) -> 0 | CC35: =IF(ISNA(MATCH(AN35,$AU$30:$AV$30,0)),0,1) -> 1 | CG35: =IF(AR$30="",1,IF(AR35="",0,IF(AR$30=$AX$1,IF(ISNA(MATCH(AR35,$AU$30:$AV$30,0)),0,1),IF(AR$30=$AY$1,IF(IFERROR(AR35*1,"bad")="bad",0,1),IF(AR$30=$AZ$1,IF(IFERROR(IF(AR35=TRUNC(AR35),1,"bad"),"bad")="bad",0,1),IF(AR$30=$BA$1,IF(AND(IF(IFERROR(AR35*1,"bad")="bad",0,1)=1,AR35>=0),1,0),IF(AR$30=$BB$1,IF(AND(IF(IFERROR(IF(AR35=TRUNC(AR35),1,"bad"),"bad")="bad",0,1)=1,AR35>=0),1,0),IF(AR$30=$BC$1,IF(AND(IF(IFERROR(AR35*1,"bad")="bad",0,1)=1,AR35>0),1,0),IF(AR$30=$BD$1,IF(AND(IF(IFERROR(IF(AR35=TRUNC(AR35),1,"bad"),"bad")="bad",0,1)=1,AR35>0),1,0),IF(AR$30=$BE$1,1,IF(AR$30=$BF$1,IF(IFERROR(HLOOKUP(AR35,$AX$4:$BG$4,1,0),"bad")="bad",0,1),0))))))))))) -> 1 | CL35: =IF($F35="","",CL$30) | CM35: =IF($F35="","",CM$30) | CN35: =IF($F35="","",CN$30) | CO35: =IF($F35="","",CO$30) | CP35: =IF($F35="","",CP$30) | CQ35: =IF($F35="","",CQ$30) | CR35: =IF($F35="","",CR$30) | CS35: =IF($F35="","",CS$30) | ... CU35: =IF($F35="","",CU$30)
B36: =IF(F36="","",ROW()-30) | F36: =IF('6'!$F$1="6","",'6'!$F$1) | J36: =IF($F36="","",IFERROR(IF(H36>I36,$AU$1,IF(H36/I36>=0.75,1,0)),$AU$1)) | X36: =IF(F36="","",IF(G36>=$G$6,1,0)) | AR36: =IF($F36="","",IF(AN36=1,1,IF(AT36<>1,$AU$1,IF(SUMIF($G$4:$AM$4,1,G36:AM36)=COUNTIF($G$4:$AM$4,1),1,0)))) | AT36: =IF(SUM(AW36:CG36)=COUNT(AW36:CG36),1,0) -> 0 | AU36: =IF($F36="","",AU$30) | AV36: =IF($F36="","",AV$30) | AW36: =IF(G$30="",1,IF(G$4=99,1,IF(G36="",0,IF(G$30=$AX$1,IF(ISNA(MATCH(G36,$AU$30:$AV$30,0)),0,1),IF(G$30=$AY$1,IF(IFERROR(G36*1,"bad")="bad",0,1),IF(G$30=$AZ$1,IF(IFERROR(IF(G36=TRUNC(G36),1,"bad"),"bad")="bad",0,1),IF(G$30=$BA$1,IF(AND(IF(IFERROR(G36*1,"bad")="bad",0,1)=1,G36>=0),1,0),IF(G$30=$BB$1,IF(AND(IF(IFERROR(IF(G36=TRUNC(G36),1,"bad"),"bad")="bad",0,1)=1,G36>=0),1,0),IF(G$30=$BC$1,IF(AND(IF(IFERROR(G36*1,"bad")="bad",0,1)=1,G36>0),1,0),IF(G$30=$BD$1,IF(AND(IF(IFERROR(IF(G36=TRUNC(G36),1,"bad"),"bad")="bad",0,1)=1,G36>0),1,0),IF(G$30=$BE$1,1,IF(G$30=$BF$1,IF(IFERROR(HLOOKUP(G36,$AX$4:$BG$4,1,0),"bad")="bad",0,1),0)))))))))))) -> 0 | AX36: =IF(H$30="",1,IF(H$4=99,1,IF(H36="",0,IF(H$30=$AX$1,IF(ISNA(MATCH(H36,$AU$30:$AV$30,0)),0,1),IF(H$30=$AY$1,IF(IFERROR(H36*1,"bad")="bad",0,1),IF(H$30=$AZ$1,IF(IFERROR(IF(H36=TRUNC(H36),1,"bad"),"bad")="bad",0,1),IF(H$30=$BA$1,IF(AND(IF(IFERROR(H36*1,"bad")="bad",0,1)=1,H36>=0),1,0),IF(H$30=$BB$1,IF(AND(IF(IFERROR(IF(H36=TRUNC(H36),1,"bad"),"bad")="bad",0,1)=1,H36>=0),1,0),IF(H$30=$BC$1,IF(AND(IF(IFERROR(H36*1,"bad")="bad",0,1)=1,H36>0),1,0),IF(H$30=$BD$1,IF(AND(IF(IFERROR(IF(H36=TRUNC(H36),1,"bad"),"bad")="bad",0,1)=1,H36>0),1,0),IF(H$30=$BE$1,1,IF(H$30=$BF$1,IF(IFERROR(HLOOKUP(H36,$AX$4:$BG$4,1,0),"bad")="bad",0,1),0)))))))))))) -> 0 | AY36: =IF(I$30="",1,IF(I$4=99,1,IF(I36="",0,IF(I$30=$AX$1,IF(ISNA(MATCH(I36,$AU$30:$AV$30,0)),0,1),IF(I$30=$AY$1,IF(IFERROR(I36*1,"bad")="bad",0,1),IF(I$30=$AZ$1,IF(IFERROR(IF(I36=TRUNC(I36),1,"bad"),"bad")="bad",0,1),IF(I$30=$BA$1,IF(AND(IF(IFERROR(I36*1,"bad")="bad",0,1)=1,I36>=0),1,0),IF(I$30=$BB$1,IF(AND(IF(IFERROR(IF(I36=TRUNC(I36),1,"bad"),"bad")="bad",0,1)=1,I36>=0),1,0),IF(I$30=$BC$1,IF(AND(IF(IFERROR(I36*1,"bad")="bad",0,1)=1,I36>0),1,0),IF(I$30=$BD$1,IF(AND(IF(IFERROR(IF(I36=TRUNC(I36),1,"bad"),"bad")="bad",0,1)=1,I36>0),1,0),IF(I$30=$BE$1,1,IF(I$30=$BF$1,IF(IFERROR(HLOOKUP(I36,$AX$4:$BG$4,1,0),"bad")="bad",0,1),0)))))))))))) -> 0 | AZ36: =IF(J$30="",1,IF(J$4=99,1,IF(J36="",0,IF(J$30=$AX$1,IF(ISNA(MATCH(J36,$AU$30:$AV$30,0)),0,1),IF(J$30=$AY$1,IF(IFERROR(J36*1,"bad")="bad",0,1),IF(J$30=$AZ$1,IF(IFERROR(IF(J36=TRUNC(J36),1,"bad"),"bad")="bad",0,1),IF(J$30=$BA$1,IF(AND(IF(IFERROR(J36*1,"bad")="bad",0,1)=1,J36>=0),1,0),IF(J$30=$BB$1,IF(AND(IF(IFERROR(IF(J36=TRUNC(J36),1,"bad"),"bad")="bad",0,1)=1,J36>=0),1,0),IF(J$30=$BC$1,IF(AND(IF(IFERROR(J36*1,"bad")="bad",0,1)=1,J36>0),1,0),IF(J$30=$BD$1,IF(AND(IF(IFERROR(IF(J36=TRUNC(J36),1,"bad"),"bad")="bad",0,1)=1,J36>0),1,0),IF(J$30=$BE$1,1,IF(J$30=$BF$1,IF(IFERROR(HLOOKUP(J36,$AX$4:$BG$4,1,0),"bad")="bad",0,1),0)))))))))))) -> 1 | BA36: =IF(K$30="",1,IF(K$4=99,1,IF(K36="",0,IF(K$30=$AX$1,IF(ISNA(MATCH(K36,$AU$30:$AV$30,0)),0,1),IF(K$30=$AY$1,IF(IFERROR(K36*1,"bad")="bad",0,1),IF(K$30=$AZ$1,IF(IFERROR(IF(K36=TRUNC(K36),1,"bad"),"bad")="bad",0,1),IF(K$30=$BA$1,IF(AND(IF(IFERROR(K36*1,"bad")="bad",0,1)=1,K36>=0),1,0),IF(K$30=$BB$1,IF(AND(IF(IFERROR(IF(K36=TRUNC(K36),1,"bad"),"bad")="bad",0,1)=1,K36>=0),1,0),IF(K$30=$BC$1,IF(AND(IF(IFERROR(K36*1,"bad")="bad",0,1)=1,K36>0),1,0),IF(K$30=$BD$1,IF(AND(IF(IFERROR(IF(K36=TRUNC(K36),1,"bad"),"bad")="bad",0,1)=1,K36>0),1,0),IF(K$30=$BE$1,1,IF(K$30=$BF$1,IF(IFERROR(HLOOKUP(K36,$AX$4:$BG$4,1,0),"bad")="bad",0,1),0)))))))))))) -> 0 | BB36: =IF(L$30="",1,IF(L$4=99,1,IF(L36="",0,IF(L$30=$AX$1,IF(ISNA(MATCH(L36,$AU$30:$AV$30,0)),0,1),IF(L$30=$AY$1,IF(IFERROR(L36*1,"bad")="bad",0,1),IF(L$30=$AZ$1,IF(IFERROR(IF(L36=TRUNC(L36),1,"bad"),"bad")="bad",0,1),IF(L$30=$BA$1,IF(AND(IF(IFERROR(L36*1,"bad")="bad",0,1)=1,L36>=0),1,0),IF(L$30=$BB$1,IF(AND(IF(IFERROR(IF(L36=TRUNC(L36),1,"bad"),"bad")="bad",0,1)=1,L36>=0),1,0),IF(L$30=$BC$1,IF(AND(IF(IFERROR(L36*1,"bad")="bad",0,1)=1,L36>0),1,0),IF(L$30=$BD$1,IF(AND(IF(IFERROR(IF(L36=TRUNC(L36),1,"bad"),"bad")="bad",0,1)=1,L36>0),1,0),IF(L$30=$BE$1,1,IF(L$30=$BF$1,IF(IFERROR(HLOOKUP(L36,$AX$4:$BG$4,1,0),"bad")="bad",0,1),0)))))))))))) -> 0 | BC36: =IF(M$30="",1,IF(M$4=99,1,IF(M36="",0,IF(M$30=$AX$1,IF(ISNA(MATCH(M36,$AU$30:$AV$30,0)),0,1),IF(M$30=$AY$1,IF(IFERROR(M36*1,"bad")="bad",0,1),IF(M$30=$AZ$1,IF(IFERROR(IF(M36=TRUNC(M36),1,"bad"),"bad")="bad",0,1),IF(M$30=$BA$1,IF(AND(IF(IFERROR(M36*1,"bad")="bad",0,1)=1,M36>=0),1,0),IF(M$30=$BB$1,IF(AND(IF(IFERROR(IF(M36=TRUNC(M36),1,"bad"),"bad")="bad",0,1)=1,M36>=0),1,0),IF(M$30=$BC$1,IF(AND(IF(IFERROR(M36*1,"bad")="bad",0,1)=1,M36>0),1,0),IF(M$30=$BD$1,IF(AND(IF(IFERROR(IF(M36=TRUNC(M36),1,"bad"),"bad")="bad",0,1)=1,M36>0),1,0),IF(M$30=$BE$1,1,IF(M$30=$BF$1,IF(IFERROR(HLOOKUP(M36,$AX$4:$BG$4,1,0),"bad")="bad",0,1),0)))))))))))) -> 0 | BD36: =IF(N$30="",1,IF(N$4=99,1,IF(N36="",0,IF(N$30=$AX$1,IF(ISNA(MATCH(N36,$AU$30:$AV$30,0)),0,1),IF(N$30=$AY$1,IF(IFERROR(N36*1,"bad")="bad",0,1),IF(N$30=$AZ$1,IF(IFERROR(IF(N36=TRUNC(N36),1,"bad"),"bad")="bad",0,1),IF(N$30=$BA$1,IF(AND(IF(IFERROR(N36*1,"bad")="bad",0,1)=1,N36>=0),1,0),IF(N$30=$BB$1,IF(AND(IF(IFERROR(IF(N36=TRUNC(N36),1,"bad"),"bad")="bad",0,1)=1,N36>=0),1,0),IF(N$30=$BC$1,IF(AND(IF(IFERROR(N36*1,"bad")="bad",0,1)=1,N36>0),1,0),IF(N$30=$BD$1,IF(AND(IF(IFERROR(IF(N36=TRUNC(N36),1,"bad"),"bad")="bad",0,1)=1,N36>0),1,0),IF(N$30=$BE$1,1,IF(N$30=$BF$1,IF(IFERROR(HLOOKUP(N36,$AX$4:$BG$4,1,0),"bad")="bad",0,1),0)))))))))))) -> 0 | ... CA36: =IF(AK$30="",1,IF(AK$4=99,1,IF(AK36="",0,IF(AK$30=$AX$1,IF(ISNA(MATCH(AK36,$AU$30:$AV$30,0)),0,1),IF(AK$30=$AY$1,IF(IFERROR(AK36*1,"bad")="bad",0,1),IF(AK$30=$AZ$1,IF(IFERROR(IF(AK36=TRUNC(AK36),1,"bad"),"bad")="bad",0,1),IF(AK$30=$BA$1,IF(AND(IF(IFERROR(AK36*1,"bad")="bad",0,1)=1,AK36>=0),1,0),IF(AK$30=$BB$1,IF(AND(IF(IFERROR(IF(AK36=TRUNC(AK36),1,"bad"),"bad")="bad",0,1)=1,AK36>=0),1,0),IF(AK$30=$BC$1,IF(AND(IF(IFERROR(AK36*1,"bad")="bad",0,1)=1,AK36>0),1,0),IF(AK$30=$BD$1,IF(AND(IF(IFERROR(IF(AK36=TRUNC(AK36),1,"bad"),"bad")="bad",0,1)=1,AK36>0),1,0),IF(AK$30=$BE$1,1,IF(AK$30=$BF$1,IF(IFERROR(HLOOKUP(AK36,$AX$4:$BG$4,1,0),"bad")="bad",0,1),0)))))))))))) -> 0 | CB36: =IF(AM$30="",1,IF(AM$4=99,1,IF(AM36="",0,IF(AM$30=$AX$1,IF(ISNA(MATCH(AM36,$AU$30:$AV$30,0)),0,1),IF(AM$30=$AY$1,IF(IFERROR(AM36*1,"bad")="bad",0,1),IF(AM$30=$AZ$1,IF(IFERROR(IF(AM36=TRUNC(AM36),1,"bad"),"bad")="bad",0,1),IF(AM$30=$BA$1,IF(AND(IF(IFERROR(AM36*1,"bad")="bad",0,1)=1,AM36>=0),1,0),IF(AM$30=$BB$1,IF(AND(IF(IFERROR(IF(AM36=TRUNC(AM36),1,"bad"),"bad")="bad",0,1)=1,AM36>=0),1,0),IF(AM$30=$BC$1,IF(AND(IF(IFERROR(AM36*1,"bad")="bad",0,1)=1,AM36>0),1,0),IF(AM$30=$BD$1,IF(AND(IF(IFERROR(IF(AM36=TRUNC(AM36),1,"bad"),"bad")="bad",0,1)=1,AM36>0),1,0),IF(AM$30=$BE$1,1,IF(AM$30=$BF$1,IF(IFERROR(HLOOKUP(AM36,$AX$4:$BG$4,1,0),"bad")="bad",0,1),0)))))))))))) -> 0 | CC36: =IF(ISNA(MATCH(AN36,$AU$30:$AV$30,0)),0,1) -> 1 | CG36: =IF(AR$30="",1,IF(AR36="",0,IF(AR$30=$AX$1,IF(ISNA(MATCH(AR36,$AU$30:$AV$30,0)),0,1),IF(AR$30=$AY$1,IF(IFERROR(AR36*1,"bad")="bad",0,1),IF(AR$30=$AZ$1,IF(IFERROR(IF(AR36=TRUNC(AR36),1,"bad"),"bad")="bad",0,1),IF(AR$30=$BA$1,IF(AND(IF(IFERROR(AR36*1,"bad")="bad",0,1)=1,AR36>=0),1,0),IF(AR$30=$BB$1,IF(AND(IF(IFERROR(IF(AR36=TRUNC(AR36),1,"bad"),"bad")="bad",0,1)=1,AR36>=0),1,0),IF(AR$30=$BC$1,IF(AND(IF(IFERROR(AR36*1,"bad")="bad",0,1)=1,AR36>0),1,0),IF(AR$30=$BD$1,IF(AND(IF(IFERROR(IF(AR36=TRUNC(AR36),1,"bad"),"bad")="bad",0,1)=1,AR36>0),1,0),IF(AR$30=$BE$1,1,IF(AR$30=$BF$1,IF(IFERROR(HLOOKUP(AR36,$AX$4:$BG$4,1,0),"bad")="bad",0,1),0))))))))))) -> 1 | CL36: =IF($F36="","",CL$30) | CM36: =IF($F36="","",CM$30) | CN36: =IF($F36="","",CN$30) | CO36: =IF($F36="","",CO$30) | CP36: =IF($F36="","",CP$30) | CQ36: =IF($F36="","",CQ$30) | CR36: =IF($F36="","",CR$30) | CS36: =IF($F36="","",CS$30) | ... CU36: =IF($F36="","",CU$30)
B37: =IF(F37="","",ROW()-30) | F37: =IF('7'!$F$1="7","",'7'!$F$1) | J37: =IF($F37="","",IFERROR(IF(H37>I37,$AU$1,IF(H37/I37>=0.75,1,0)),$AU$1)) | X37: =IF(F37="","",IF(G37>=$G$6,1,0)) | AR37: =IF($F37="","",IF(AN37=1,1,IF(AT37<>1,$AU$1,IF(SUMIF($G$4:$AM$4,1,G37:AM37)=COUNTIF($G$4:$AM$4,1),1,0)))) | AT37: =IF(SUM(AW37:CG37)=COUNT(AW37:CG37),1,0) -> 0 | AU37: =IF($F37="","",AU$30) | AV37: =IF($F37="","",AV$30) | AW37: =IF(G$30="",1,IF(G$4=99,1,IF(G37="",0,IF(G$30=$AX$1,IF(ISNA(MATCH(G37,$AU$30:$AV$30,0)),0,1),IF(G$30=$AY$1,IF(IFERROR(G37*1,"bad")="bad",0,1),IF(G$30=$AZ$1,IF(IFERROR(IF(G37=TRUNC(G37),1,"bad"),"bad")="bad",0,1),IF(G$30=$BA$1,IF(AND(IF(IFERROR(G37*1,"bad")="bad",0,1)=1,G37>=0),1,0),IF(G$30=$BB$1,IF(AND(IF(IFERROR(IF(G37=TRUNC(G37),1,"bad"),"bad")="bad",0,1)=1,G37>=0),1,0),IF(G$30=$BC$1,IF(AND(IF(IFERROR(G37*1,"bad")="bad",0,1)=1,G37>0),1,0),IF(G$30=$BD$1,IF(AND(IF(IFERROR(IF(G37=TRUNC(G37),1,"bad"),"bad")="bad",0,1)=1,G37>0),1,0),IF(G$30=$BE$1,1,IF(G$30=$BF$1,IF(IFERROR(HLOOKUP(G37,$AX$4:$BG$4,1,0),"bad")="bad",0,1),0)))))))))))) -> 0 | AX37: =IF(H$30="",1,IF(H$4=99,1,IF(H37="",0,IF(H$30=$AX$1,IF(ISNA(MATCH(H37,$AU$30:$AV$30,0)),0,1),IF(H$30=$AY$1,IF(IFERROR(H37*1,"bad")="bad",0,1),IF(H$30=$AZ$1,IF(IFERROR(IF(H37=TRUNC(H37),1,"bad"),"bad")="bad",0,1),IF(H$30=$BA$1,IF(AND(IF(IFERROR(H37*1,"bad")="bad",0,1)=1,H37>=0),1,0),IF(H$30=$BB$1,IF(AND(IF(IFERROR(IF(H37=TRUNC(H37),1,"bad"),"bad")="bad",0,1)=1,H37>=0),1,0),IF(H$30=$BC$1,IF(AND(IF(IFERROR(H37*1,"bad")="bad",0,1)=1,H37>0),1,0),IF(H$30=$BD$1,IF(AND(IF(IFERROR(IF(H37=TRUNC(H37),1,"bad"),"bad")="bad",0,1)=1,H37>0),1,0),IF(H$30=$BE$1,1,IF(H$30=$BF$1,IF(IFERROR(HLOOKUP(H37,$AX$4:$BG$4,1,0),"bad")="bad",0,1),0)))))))))))) -> 0 | AY37: =IF(I$30="",1,IF(I$4=99,1,IF(I37="",0,IF(I$30=$AX$1,IF(ISNA(MATCH(I37,$AU$30:$AV$30,0)),0,1),IF(I$30=$AY$1,IF(IFERROR(I37*1,"bad")="bad",0,1),IF(I$30=$AZ$1,IF(IFERROR(IF(I37=TRUNC(I37),1,"bad"),"bad")="bad",0,1),IF(I$30=$BA$1,IF(AND(IF(IFERROR(I37*1,"bad")="bad",0,1)=1,I37>=0),1,0),IF(I$30=$BB$1,IF(AND(IF(IFERROR(IF(I37=TRUNC(I37),1,"bad"),"bad")="bad",0,1)=1,I37>=0),1,0),IF(I$30=$BC$1,IF(AND(IF(IFERROR(I37*1,"bad")="bad",0,1)=1,I37>0),1,0),IF(I$30=$BD$1,IF(AND(IF(IFERROR(IF(I37=TRUNC(I37),1,"bad"),"bad")="bad",0,1)=1,I37>0),1,0),IF(I$30=$BE$1,1,IF(I$30=$BF$1,IF(IFERROR(HLOOKUP(I37,$AX$4:$BG$4,1,0),"bad")="bad",0,1),0)))))))))))) -> 0 | AZ37: =IF(J$30="",1,IF(J$4=99,1,IF(J37="",0,IF(J$30=$AX$1,IF(ISNA(MATCH(J37,$AU$30:$AV$30,0)),0,1),IF(J$30=$AY$1,IF(IFERROR(J37*1,"bad")="bad",0,1),IF(J$30=$AZ$1,IF(IFERROR(IF(J37=TRUNC(J37),1,"bad"),"bad")="bad",0,1),IF(J$30=$BA$1,IF(AND(IF(IFERROR(J37*1,"bad")="bad",0,1)=1,J37>=0),1,0),IF(J$30=$BB$1,IF(AND(IF(IFERROR(IF(J37=TRUNC(J37),1,"bad"),"bad")="bad",0,1)=1,J37>=0),1,0),IF(J$30=$BC$1,IF(AND(IF(IFERROR(J37*1,"bad")="bad",0,1)=1,J37>0),1,0),IF(J$30=$BD$1,IF(AND(IF(IFERROR(IF(J37=TRUNC(J37),1,"bad"),"bad")="bad",0,1)=1,J37>0),1,0),IF(J$30=$BE$1,1,IF(J$30=$BF$1,IF(IFERROR(HLOOKUP(J37,$AX$4:$BG$4,1,0),"bad")="bad",0,1),0)))))))))))) -> 1 | BA37: =IF(K$30="",1,IF(K$4=99,1,IF(K37="",0,IF(K$30=$AX$1,IF(ISNA(MATCH(K37,$AU$30:$AV$30,0)),0,1),IF(K$30=$AY$1,IF(IFERROR(K37*1,"bad")="bad",0,1),IF(K$30=$AZ$1,IF(IFERROR(IF(K37=TRUNC(K37),1,"bad"),"bad")="bad",0,1),IF(K$30=$BA$1,IF(AND(IF(IFERROR(K37*1,"bad")="bad",0,1)=1,K37>=0),1,0),IF(K$30=$BB$1,IF(AND(IF(IFERROR(IF(K37=TRUNC(K37),1,"bad"),"bad")="bad",0,1)=1,K37>=0),1,0),IF(K$30=$BC$1,IF(AND(IF(IFERROR(K37*1,"bad")="bad",0,1)=1,K37>0),1,0),IF(K$30=$BD$1,IF(AND(IF(IFERROR(IF(K37=TRUNC(K37),1,"bad"),"bad")="bad",0,1)=1,K37>0),1,0),IF(K$30=$BE$1,1,IF(K$30=$BF$1,IF(IFERROR(HLOOKUP(K37,$AX$4:$BG$4,1,0),"bad")="bad",0,1),0)))))))))))) -> 0 | BB37: =IF(L$30="",1,IF(L$4=99,1,IF(L37="",0,IF(L$30=$AX$1,IF(ISNA(MATCH(L37,$AU$30:$AV$30,0)),0,1),IF(L$30=$AY$1,IF(IFERROR(L37*1,"bad")="bad",0,1),IF(L$30=$AZ$1,IF(IFERROR(IF(L37=TRUNC(L37),1,"bad"),"bad")="bad",0,1),IF(L$30=$BA$1,IF(AND(IF(IFERROR(L37*1,"bad")="bad",0,1)=1,L37>=0),1,0),IF(L$30=$BB$1,IF(AND(IF(IFERROR(IF(L37=TRUNC(L37),1,"bad"),"bad")="bad",0,1)=1,L37>=0),1,0),IF(L$30=$BC$1,IF(AND(IF(IFERROR(L37*1,"bad")="bad",0,1)=1,L37>0),1,0),IF(L$30=$BD$1,IF(AND(IF(IFERROR(IF(L37=TRUNC(L37),1,"bad"),"bad")="bad",0,1)=1,L37>0),1,0),IF(L$30=$BE$1,1,IF(L$30=$BF$1,IF(IFERROR(HLOOKUP(L37,$AX$4:$BG$4,1,0),"bad")="bad",0,1),0)))))))))))) -> 0 | BC37: =IF(M$30="",1,IF(M$4=99,1,IF(M37="",0,IF(M$30=$AX$1,IF(ISNA(MATCH(M37,$AU$30:$AV$30,0)),0,1),IF(M$30=$AY$1,IF(IFERROR(M37*1,"bad")="bad",0,1),IF(M$30=$AZ$1,IF(IFERROR(IF(M37=TRUNC(M37),1,"bad"),"bad")="bad",0,1),IF(M$30=$BA$1,IF(AND(IF(IFERROR(M37*1,"bad")="bad",0,1)=1,M37>=0),1,0),IF(M$30=$BB$1,IF(AND(IF(IFERROR(IF(M37=TRUNC(M37),1,"bad"),"bad")="bad",0,1)=1,M37>=0),1,0),IF(M$30=$BC$1,IF(AND(IF(IFERROR(M37*1,"bad")="bad",0,1)=1,M37>0),1,0),IF(M$30=$BD$1,IF(AND(IF(IFERROR(IF(M37=TRUNC(M37),1,"bad"),"bad")="bad",0,1)=1,M37>0),1,0),IF(M$30=$BE$1,1,IF(M$30=$BF$1,IF(IFERROR(HLOOKUP(M37,$AX$4:$BG$4,1,0),"bad")="bad",0,1),0)))))))))))) -> 0 | BD37: =IF(N$30="",1,IF(N$4=99,1,IF(N37="",0,IF(N$30=$AX$1,IF(ISNA(MATCH(N37,$AU$30:$AV$30,0)),0,1),IF(N$30=$AY$1,IF(IFERROR(N37*1,"bad")="bad",0,1),IF(N$30=$AZ$1,IF(IFERROR(IF(N37=TRUNC(N37),1,"bad"),"bad")="bad",0,1),IF(N$30=$BA$1,IF(AND(IF(IFERROR(N37*1,"bad")="bad",0,1)=1,N37>=0),1,0),IF(N$30=$BB$1,IF(AND(IF(IFERROR(IF(N37=TRUNC(N37),1,"bad"),"bad")="bad",0,1)=1,N37>=0),1,0),IF(N$30=$BC$1,IF(AND(IF(IFERROR(N37*1,"bad")="bad",0,1)=1,N37>0),1,0),IF(N$30=$BD$1,IF(AND(IF(IFERROR(IF(N37=TRUNC(N37),1,"bad"),"bad")="bad",0,1)=1,N37>0),1,0),IF(N$30=$BE$1,1,IF(N$30=$BF$1,IF(IFERROR(HLOOKUP(N37,$AX$4:$BG$4,1,0),"bad")="bad",0,1),0)))))))))))) -> 0 | ... CA37: =IF(AK$30="",1,IF(AK$4=99,1,IF(AK37="",0,IF(AK$30=$AX$1,IF(ISNA(MATCH(AK37,$AU$30:$AV$30,0)),0,1),IF(AK$30=$AY$1,IF(IFERROR(AK37*1,"bad")="bad",0,1),IF(AK$30=$AZ$1,IF(IFERROR(IF(AK37=TRUNC(AK37),1,"bad"),"bad")="bad",0,1),IF(AK$30=$BA$1,IF(AND(IF(IFERROR(AK37*1,"bad")="bad",0,1)=1,AK37>=0),1,0),IF(AK$30=$BB$1,IF(AND(IF(IFERROR(IF(AK37=TRUNC(AK37),1,"bad"),"bad")="bad",0,1)=1,AK37>=0),1,0),IF(AK$30=$BC$1,IF(AND(IF(IFERROR(AK37*1,"bad")="bad",0,1)=1,AK37>0),1,0),IF(AK$30=$BD$1,IF(AND(IF(IFERROR(IF(AK37=TRUNC(AK37),1,"bad"),"bad")="bad",0,1)=1,AK37>0),1,0),IF(AK$30=$BE$1,1,IF(AK$30=$BF$1,IF(IFERROR(HLOOKUP(AK37,$AX$4:$BG$4,1,0),"bad")="bad",0,1),0)))))))))))) -> 0 | CB37: =IF(AM$30="",1,IF(AM$4=99,1,IF(AM37="",0,IF(AM$30=$AX$1,IF(ISNA(MATCH(AM37,$AU$30:$AV$30,0)),0,1),IF(AM$30=$AY$1,IF(IFERROR(AM37*1,"bad")="bad",0,1),IF(AM$30=$AZ$1,IF(IFERROR(IF(AM37=TRUNC(AM37),1,"bad"),"bad")="bad",0,1),IF(AM$30=$BA$1,IF(AND(IF(IFERROR(AM37*1,"bad")="bad",0,1)=1,AM37>=0),1,0),IF(AM$30=$BB$1,IF(AND(IF(IFERROR(IF(AM37=TRUNC(AM37),1,"bad"),"bad")="bad",0,1)=1,AM37>=0),1,0),IF(AM$30=$BC$1,IF(AND(IF(IFERROR(AM37*1,"bad")="bad",0,1)=1,AM37>0),1,0),IF(AM$30=$BD$1,IF(AND(IF(IFERROR(IF(AM37=TRUNC(AM37),1,"bad"),"bad")="bad",0,1)=1,AM37>0),1,0),IF(AM$30=$BE$1,1,IF(AM$30=$BF$1,IF(IFERROR(HLOOKUP(AM37,$AX$4:$BG$4,1,0),"bad")="bad",0,1),0)))))))))))) -> 0 | CC37: =IF(ISNA(MATCH(AN37,$AU$30:$AV$30,0)),0,1) -> 1 | CG37: =IF(AR$30="",1,IF(AR37="",0,IF(AR$30=$AX$1,IF(ISNA(MATCH(AR37,$AU$30:$AV$30,0)),0,1),IF(AR$30=$AY$1,IF(IFERROR(AR37*1,"bad")="bad",0,1),IF(AR$30=$AZ$1,IF(IFERROR(IF(AR37=TRUNC(AR37),1,"bad"),"bad")="bad",0,1),IF(AR$30=$BA$1,IF(AND(IF(IFERROR(AR37*1,"bad")="bad",0,1)=1,AR37>=0),1,0),IF(AR$30=$BB$1,IF(AND(IF(IFERROR(IF(AR37=TRUNC(AR37),1,"bad"),"bad")="bad",0,1)=1,AR37>=0),1,0),IF(AR$30=$BC$1,IF(AND(IF(IFERROR(AR37*1,"bad")="bad",0,1)=1,AR37>0),1,0),IF(AR$30=$BD$1,IF(AND(IF(IFERROR(IF(AR37=TRUNC(AR37),1,"bad"),"bad")="bad",0,1)=1,AR37>0),1,0),IF(AR$30=$BE$1,1,IF(AR$30=$BF$1,IF(IFERROR(HLOOKUP(AR37,$AX$4:$BG$4,1,0),"bad")="bad",0,1),0))))))))))) -> 1 | CL37: =IF($F37="","",CL$30) | CM37: =IF($F37="","",CM$30) | CN37: =IF($F37="","",CN$30) | CO37: =IF($F37="","",CO$30) | CP37: =IF($F37="","",CP$30) | CQ37: =IF($F37="","",CQ$30) | CR37: =IF($F37="","",CR$30) | CS37: =IF($F37="","",CS$30) | ... CU37: =IF($F37="","",CU$30)
B38: =IF(F38="","",ROW()-30) | F38: =IF('8'!$F$1="8","",'8'!$F$1) | J38: =IF($F38="","",IFERROR(IF(H38>I38,$AU$1,IF(H38/I38>=0.75,1,0)),$AU$1)) | X38: =IF(F38="","",IF(G38>=$G$6,1,0)) | AR38: =IF($F38="","",IF(AN38=1,1,IF(AT38<>1,$AU$1,IF(SUMIF($G$4:$AM$4,1,G38:AM38)=COUNTIF($G$4:$AM$4,1),1,0)))) | AT38: =IF(SUM(AW38:CG38)=COUNT(AW38:CG38),1,0) -> 0 | AU38: =IF($F38="","",AU$30) | AV38: =IF($F38="","",AV$30) | AW38: =IF(G$30="",1,IF(G$4=99,1,IF(G38="",0,IF(G$30=$AX$1,IF(ISNA(MATCH(G38,$AU$30:$AV$30,0)),0,1),IF(G$30=$AY$1,IF(IFERROR(G38*1,"bad")="bad",0,1),IF(G$30=$AZ$1,IF(IFERROR(IF(G38=TRUNC(G38),1,"bad"),"bad")="bad",0,1),IF(G$30=$BA$1,IF(AND(IF(IFERROR(G38*1,"bad")="bad",0,1)=1,G38>=0),1,0),IF(G$30=$BB$1,IF(AND(IF(IFERROR(IF(G38=TRUNC(G38),1,"bad"),"bad")="bad",0,1)=1,G38>=0),1,0),IF(G$30=$BC$1,IF(AND(IF(IFERROR(G38*1,"bad")="bad",0,1)=1,G38>0),1,0),IF(G$30=$BD$1,IF(AND(IF(IFERROR(IF(G38=TRUNC(G38),1,"bad"),"bad")="bad",0,1)=1,G38>0),1,0),IF(G$30=$BE$1,1,IF(G$30=$BF$1,IF(IFERROR(HLOOKUP(G38,$AX$4:$BG$4,1,0),"bad")="bad",0,1),0)))))))))))) -> 0 | AX38: =IF(H$30="",1,IF(H$4=99,1,IF(H38="",0,IF(H$30=$AX$1,IF(ISNA(MATCH(H38,$AU$30:$AV$30,0)),0,1),IF(H$30=$AY$1,IF(IFERROR(H38*1,"bad")="bad",0,1),IF(H$30=$AZ$1,IF(IFERROR(IF(H38=TRUNC(H38),1,"bad"),"bad")="bad",0,1),IF(H$30=$BA$1,IF(AND(IF(IFERROR(H38*1,"bad")="bad",0,1)=1,H38>=0),1,0),IF(H$30=$BB$1,IF(AND(IF(IFERROR(IF(H38=TRUNC(H38),1,"bad"),"bad")="bad",0,1)=1,H38>=0),1,0),IF(H$30=$BC$1,IF(AND(IF(IFERROR(H38*1,"bad")="bad",0,1)=1,H38>0),1,0),IF(H$30=$BD$1,IF(AND(IF(IFERROR(IF(H38=TRUNC(H38),1,"bad"),"bad")="bad",0,1)=1,H38>0),1,0),IF(H$30=$BE$1,1,IF(H$30=$BF$1,IF(IFERROR(HLOOKUP(H38,$AX$4:$BG$4,1,0),"bad")="bad",0,1),0)))))))))))) -> 0 | AY38: =IF(I$30="",1,IF(I$4=99,1,IF(I38="",0,IF(I$30=$AX$1,IF(ISNA(MATCH(I38,$AU$30:$AV$30,0)),0,1),IF(I$30=$AY$1,IF(IFERROR(I38*1,"bad")="bad",0,1),IF(I$30=$AZ$1,IF(IFERROR(IF(I38=TRUNC(I38),1,"bad"),"bad")="bad",0,1),IF(I$30=$BA$1,IF(AND(IF(IFERROR(I38*1,"bad")="bad",0,1)=1,I38>=0),1,0),IF(I$30=$BB$1,IF(AND(IF(IFERROR(IF(I38=TRUNC(I38),1,"bad"),"bad")="bad",0,1)=1,I38>=0),1,0),IF(I$30=$BC$1,IF(AND(IF(IFERROR(I38*1,"bad")="bad",0,1)=1,I38>0),1,0),IF(I$30=$BD$1,IF(AND(IF(IFERROR(IF(I38=TRUNC(I38),1,"bad"),"bad")="bad",0,1)=1,I38>0),1,0),IF(I$30=$BE$1,1,IF(I$30=$BF$1,IF(IFERROR(HLOOKUP(I38,$AX$4:$BG$4,1,0),"bad")="bad",0,1),0)))))))))))) -> 0 | AZ38: =IF(J$30="",1,IF(J$4=99,1,IF(J38="",0,IF(J$30=$AX$1,IF(ISNA(MATCH(J38,$AU$30:$AV$30,0)),0,1),IF(J$30=$AY$1,IF(IFERROR(J38*1,"bad")="bad",0,1),IF(J$30=$AZ$1,IF(IFERROR(IF(J38=TRUNC(J38),1,"bad"),"bad")="bad",0,1),IF(J$30=$BA$1,IF(AND(IF(IFERROR(J38*1,"bad")="bad",0,1)=1,J38>=0),1,0),IF(J$30=$BB$1,IF(AND(IF(IFERROR(IF(J38=TRUNC(J38),1,"bad"),"bad")="bad",0,1)=1,J38>=0),1,0),IF(J$30=$BC$1,IF(AND(IF(IFERROR(J38*1,"bad")="bad",0,1)=1,J38>0),1,0),IF(J$30=$BD$1,IF(AND(IF(IFERROR(IF(J38=TRUNC(J38),1,"bad"),"bad")="bad",0,1)=1,J38>0),1,0),IF(J$30=$BE$1,1,IF(J$30=$BF$1,IF(IFERROR(HLOOKUP(J38,$AX$4:$BG$4,1,0),"bad")="bad",0,1),0)))))))))))) -> 1 | BA38: =IF(K$30="",1,IF(K$4=99,1,IF(K38="",0,IF(K$30=$AX$1,IF(ISNA(MATCH(K38,$AU$30:$AV$30,0)),0,1),IF(K$30=$AY$1,IF(IFERROR(K38*1,"bad")="bad",0,1),IF(K$30=$AZ$1,IF(IFERROR(IF(K38=TRUNC(K38),1,"bad"),"bad")="bad",0,1),IF(K$30=$BA$1,IF(AND(IF(IFERROR(K38*1,"bad")="bad",0,1)=1,K38>=0),1,0),IF(K$30=$BB$1,IF(AND(IF(IFERROR(IF(K38=TRUNC(K38),1,"bad"),"bad")="bad",0,1)=1,K38>=0),1,0),IF(K$30=$BC$1,IF(AND(IF(IFERROR(K38*1,"bad")="bad",0,1)=1,K38>0),1,0),IF(K$30=$BD$1,IF(AND(IF(IFERROR(IF(K38=TRUNC(K38),1,"bad"),"bad")="bad",0,1)=1,K38>0),1,0),IF(K$30=$BE$1,1,IF(K$30=$BF$1,IF(IFERROR(HLOOKUP(K38,$AX$4:$BG$4,1,0),"bad")="bad",0,1),0)))))))))))) -> 0 | BB38: =IF(L$30="",1,IF(L$4=99,1,IF(L38="",0,IF(L$30=$AX$1,IF(ISNA(MATCH(L38,$AU$30:$AV$30,0)),0,1),IF(L$30=$AY$1,IF(IFERROR(L38*1,"bad")="bad",0,1),IF(L$30=$AZ$1,IF(IFERROR(IF(L38=TRUNC(L38),1,"bad"),"bad")="bad",0,1),IF(L$30=$BA$1,IF(AND(IF(IFERROR(L38*1,"bad")="bad",0,1)=1,L38>=0),1,0),IF(L$30=$BB$1,IF(AND(IF(IFERROR(IF(L38=TRUNC(L38),1,"bad"),"bad")="bad",0,1)=1,L38>=0),1,0),IF(L$30=$BC$1,IF(AND(IF(IFERROR(L38*1,"bad")="bad",0,1)=1,L38>0),1,0),IF(L$30=$BD$1,IF(AND(IF(IFERROR(IF(L38=TRUNC(L38),1,"bad"),"bad")="bad",0,1)=1,L38>0),1,0),IF(L$30=$BE$1,1,IF(L$30=$BF$1,IF(IFERROR(HLOOKUP(L38,$AX$4:$BG$4,1,0),"bad")="bad",0,1),0)))))))))))) -> 0 | BC38: =IF(M$30="",1,IF(M$4=99,1,IF(M38="",0,IF(M$30=$AX$1,IF(ISNA(MATCH(M38,$AU$30:$AV$30,0)),0,1),IF(M$30=$AY$1,IF(IFERROR(M38*1,"bad")="bad",0,1),IF(M$30=$AZ$1,IF(IFERROR(IF(M38=TRUNC(M38),1,"bad"),"bad")="bad",0,1),IF(M$30=$BA$1,IF(AND(IF(IFERROR(M38*1,"bad")="bad",0,1)=1,M38>=0),1,0),IF(M$30=$BB$1,IF(AND(IF(IFERROR(IF(M38=TRUNC(M38),1,"bad"),"bad")="bad",0,1)=1,M38>=0),1,0),IF(M$30=$BC$1,IF(AND(IF(IFERROR(M38*1,"bad")="bad",0,1)=1,M38>0),1,0),IF(M$30=$BD$1,IF(AND(IF(IFERROR(IF(M38=TRUNC(M38),1,"bad"),"bad")="bad",0,1)=1,M38>0),1,0),IF(M$30=$BE$1,1,IF(M$30=$BF$1,IF(IFERROR(HLOOKUP(M38,$AX$4:$BG$4,1,0),"bad")="bad",0,1),0)))))))))))) -> 0 | BD38: =IF(N$30="",1,IF(N$4=99,1,IF(N38="",0,IF(N$30=$AX$1,IF(ISNA(MATCH(N38,$AU$30:$AV$30,0)),0,1),IF(N$30=$AY$1,IF(IFERROR(N38*1,"bad")="bad",0,1),IF(N$30=$AZ$1,IF(IFERROR(IF(N38=TRUNC(N38),1,"bad"),"bad")="bad",0,1),IF(N$30=$BA$1,IF(AND(IF(IFERROR(N38*1,"bad")="bad",0,1)=1,N38>=0),1,0),IF(N$30=$BB$1,IF(AND(IF(IFERROR(IF(N38=TRUNC(N38),1,"bad"),"bad")="bad",0,1)=1,N38>=0),1,0),IF(N$30=$BC$1,IF(AND(IF(IFERROR(N38*1,"bad")="bad",0,1)=1,N38>0),1,0),IF(N$30=$BD$1,IF(AND(IF(IFERROR(IF(N38=TRUNC(N38),1,"bad"),"bad")="bad",0,1)=1,N38>0),1,0),IF(N$30=$BE$1,1,IF(N$30=$BF$1,IF(IFERROR(HLOOKUP(N38,$AX$4:$BG$4,1,0),"bad")="bad",0,1),0)))))))))))) -> 0 | ... CA38: =IF(AK$30="",1,IF(AK$4=99,1,IF(AK38="",0,IF(AK$30=$AX$1,IF(ISNA(MATCH(AK38,$AU$30:$AV$30,0)),0,1),IF(AK$30=$AY$1,IF(IFERROR(AK38*1,"bad")="bad",0,1),IF(AK$30=$AZ$1,IF(IFERROR(IF(AK38=TRUNC(AK38),1,"bad"),"bad")="bad",0,1),IF(AK$30=$BA$1,IF(AND(IF(IFERROR(AK38*1,"bad")="bad",0,1)=1,AK38>=0),1,0),IF(AK$30=$BB$1,IF(AND(IF(IFERROR(IF(AK38=TRUNC(AK38),1,"bad"),"bad")="bad",0,1)=1,AK38>=0),1,0),IF(AK$30=$BC$1,IF(AND(IF(IFERROR(AK38*1,"bad")="bad",0,1)=1,AK38>0),1,0),IF(AK$30=$BD$1,IF(AND(IF(IFERROR(IF(AK38=TRUNC(AK38),1,"bad"),"bad")="bad",0,1)=1,AK38>0),1,0),IF(AK$30=$BE$1,1,IF(AK$30=$BF$1,IF(IFERROR(HLOOKUP(AK38,$AX$4:$BG$4,1,0),"bad")="bad",0,1),0)))))))))))) -> 0 | CB38: =IF(AM$30="",1,IF(AM$4=99,1,IF(AM38="",0,IF(AM$30=$AX$1,IF(ISNA(MATCH(AM38,$AU$30:$AV$30,0)),0,1),IF(AM$30=$AY$1,IF(IFERROR(AM38*1,"bad")="bad",0,1),IF(AM$30=$AZ$1,IF(IFERROR(IF(AM38=TRUNC(AM38),1,"bad"),"bad")="bad",0,1),IF(AM$30=$BA$1,IF(AND(IF(IFERROR(AM38*1,"bad")="bad",0,1)=1,AM38>=0),1,0),IF(AM$30=$BB$1,IF(AND(IF(IFERROR(IF(AM38=TRUNC(AM38),1,"bad"),"bad")="bad",0,1)=1,AM38>=0),1,0),IF(AM$30=$BC$1,IF(AND(IF(IFERROR(AM38*1,"bad")="bad",0,1)=1,AM38>0),1,0),IF(AM$30=$BD$1,IF(AND(IF(IFERROR(IF(AM38=TRUNC(AM38),1,"bad"),"bad")="bad",0,1)=1,AM38>0),1,0),IF(AM$30=$BE$1,1,IF(AM$30=$BF$1,IF(IFERROR(HLOOKUP(AM38,$AX$4:$BG$4,1,0),"bad")="bad",0,1),0)))))))))))) -> 0 | CC38: =IF(ISNA(MATCH(AN38,$AU$30:$AV$30,0)),0,1) -> 1 | CG38: =IF(AR$30="",1,IF(AR38="",0,IF(AR$30=$AX$1,IF(ISNA(MATCH(AR38,$AU$30:$AV$30,0)),0,1),IF(AR$30=$AY$1,IF(IFERROR(AR38*1,"bad")="bad",0,1),IF(AR$30=$AZ$1,IF(IFERROR(IF(AR38=TRUNC(AR38),1,"bad"),"bad")="bad",0,1),IF(AR$30=$BA$1,IF(AND(IF(IFERROR(AR38*1,"bad")="bad",0,1)=1,AR38>=0),1,0),IF(AR$30=$BB$1,IF(AND(IF(IFERROR(IF(AR38=TRUNC(AR38),1,"bad"),"bad")="bad",0,1)=1,AR38>=0),1,0),IF(AR$30=$BC$1,IF(AND(IF(IFERROR(AR38*1,"bad")="bad",0,1)=1,AR38>0),1,0),IF(AR$30=$BD$1,IF(AND(IF(IFERROR(IF(AR38=TRUNC(AR38),1,"bad"),"bad")="bad",0,1)=1,AR38>0),1,0),IF(AR$30=$BE$1,1,IF(AR$30=$BF$1,IF(IFERROR(HLOOKUP(AR38,$AX$4:$BG$4,1,0),"bad")="bad",0,1),0))))))))))) -> 1 | CL38: =IF($F38="","",CL$30) | CM38: =IF($F38="","",CM$30) | CN38: =IF($F38="","",CN$30) | CO38: =IF($F38="","",CO$30) | CP38: =IF($F38="","",CP$30) | CQ38: =IF($F38="","",CQ$30) | CR38: =IF($F38="","",CR$30) | CS38: =IF($F38="","",CS$30) | ... CU38: =IF($F38="","",CU$30)
B39: =IF(F39="","",ROW()-30) | F39: =IF('9'!$F$1="9","",'9'!$F$1) | J39: =IF($F39="","",IFERROR(IF(H39>I39,$AU$1,IF(H39/I39>=0.75,1,0)),$AU$1)) | X39: =IF(F39="","",IF(G39>=$G$6,1,0)) | AR39: =IF($F39="","",IF(AN39=1,1,IF(AT39<>1,$AU$1,IF(SUMIF($G$4:$AM$4,1,G39:AM39)=COUNTIF($G$4:$AM$4,1),1,0)))) | AT39: =IF(SUM(AW39:CG39)=COUNT(AW39:CG39),1,0) -> 0 | AU39: =IF($F39="","",AU$30) | AV39: =IF($F39="","",AV$30) | AW39: =IF(G$30="",1,IF(G$4=99,1,IF(G39="",0,IF(G$30=$AX$1,IF(ISNA(MATCH(G39,$AU$30:$AV$30,0)),0,1),IF(G$30=$AY$1,IF(IFERROR(G39*1,"bad")="bad",0,1),IF(G$30=$AZ$1,IF(IFERROR(IF(G39=TRUNC(G39),1,"bad"),"bad")="bad",0,1),IF(G$30=$BA$1,IF(AND(IF(IFERROR(G39*1,"bad")="bad",0,1)=1,G39>=0),1,0),IF(G$30=$BB$1,IF(AND(IF(IFERROR(IF(G39=TRUNC(G39),1,"bad"),"bad")="bad",0,1)=1,G39>=0),1,0),IF(G$30=$BC$1,IF(AND(IF(IFERROR(G39*1,"bad")="bad",0,1)=1,G39>0),1,0),IF(G$30=$BD$1,IF(AND(IF(IFERROR(IF(G39=TRUNC(G39),1,"bad"),"bad")="bad",0,1)=1,G39>0),1,0),IF(G$30=$BE$1,1,IF(G$30=$BF$1,IF(IFERROR(HLOOKUP(G39,$AX$4:$BG$4,1,0),"bad")="bad",0,1),0)))))))))))) -> 0 | AX39: =IF(H$30="",1,IF(H$4=99,1,IF(H39="",0,IF(H$30=$AX$1,IF(ISNA(MATCH(H39,$AU$30:$AV$30,0)),0,1),IF(H$30=$AY$1,IF(IFERROR(H39*1,"bad")="bad",0,1),IF(H$30=$AZ$1,IF(IFERROR(IF(H39=TRUNC(H39),1,"bad"),"bad")="bad",0,1),IF(H$30=$BA$1,IF(AND(IF(IFERROR(H39*1,"bad")="bad",0,1)=1,H39>=0),1,0),IF(H$30=$BB$1,IF(AND(IF(IFERROR(IF(H39=TRUNC(H39),1,"bad"),"bad")="bad",0,1)=1,H39>=0),1,0),IF(H$30=$BC$1,IF(AND(IF(IFERROR(H39*1,"bad")="bad",0,1)=1,H39>0),1,0),IF(H$30=$BD$1,IF(AND(IF(IFERROR(IF(H39=TRUNC(H39),1,"bad"),"bad")="bad",0,1)=1,H39>0),1,0),IF(H$30=$BE$1,1,IF(H$30=$BF$1,IF(IFERROR(HLOOKUP(H39,$AX$4:$BG$4,1,0),"bad")="bad",0,1),0)))))))))))) -> 0 | AY39: =IF(I$30="",1,IF(I$4=99,1,IF(I39="",0,IF(I$30=$AX$1,IF(ISNA(MATCH(I39,$AU$30:$AV$30,0)),0,1),IF(I$30=$AY$1,IF(IFERROR(I39*1,"bad")="bad",0,1),IF(I$30=$AZ$1,IF(IFERROR(IF(I39=TRUNC(I39),1,"bad"),"bad")="bad",0,1),IF(I$30=$BA$1,IF(AND(IF(IFERROR(I39*1,"bad")="bad",0,1)=1,I39>=0),1,0),IF(I$30=$BB$1,IF(AND(IF(IFERROR(IF(I39=TRUNC(I39),1,"bad"),"bad")="bad",0,1)=1,I39>=0),1,0),IF(I$30=$BC$1,IF(AND(IF(IFERROR(I39*1,"bad")="bad",0,1)=1,I39>0),1,0),IF(I$30=$BD$1,IF(AND(IF(IFERROR(IF(I39=TRUNC(I39),1,"bad"),"bad")="bad",0,1)=1,I39>0),1,0),IF(I$30=$BE$1,1,IF(I$30=$BF$1,IF(IFERROR(HLOOKUP(I39,$AX$4:$BG$4,1,0),"bad")="bad",0,1),0)))))))))))) -> 0 | AZ39: =IF(J$30="",1,IF(J$4=99,1,IF(J39="",0,IF(J$30=$AX$1,IF(ISNA(MATCH(J39,$AU$30:$AV$30,0)),0,1),IF(J$30=$AY$1,IF(IFERROR(J39*1,"bad")="bad",0,1),IF(J$30=$AZ$1,IF(IFERROR(IF(J39=TRUNC(J39),1,"bad"),"bad")="bad",0,1),IF(J$30=$BA$1,IF(AND(IF(IFERROR(J39*1,"bad")="bad",0,1)=1,J39>=0),1,0),IF(J$30=$BB$1,IF(AND(IF(IFERROR(IF(J39=TRUNC(J39),1,"bad"),"bad")="bad",0,1)=1,J39>=0),1,0),IF(J$30=$BC$1,IF(AND(IF(IFERROR(J39*1,"bad")="bad",0,1)=1,J39>0),1,0),IF(J$30=$BD$1,IF(AND(IF(IFERROR(IF(J39=TRUNC(J39),1,"bad"),"bad")="bad",0,1)=1,J39>0),1,0),IF(J$30=$BE$1,1,IF(J$30=$BF$1,IF(IFERROR(HLOOKUP(J39,$AX$4:$BG$4,1,0),"bad")="bad",0,1),0)))))))))))) -> 1 | BA39: =IF(K$30="",1,IF(K$4=99,1,IF(K39="",0,IF(K$30=$AX$1,IF(ISNA(MATCH(K39,$AU$30:$AV$30,0)),0,1),IF(K$30=$AY$1,IF(IFERROR(K39*1,"bad")="bad",0,1),IF(K$30=$AZ$1,IF(IFERROR(IF(K39=TRUNC(K39),1,"bad"),"bad")="bad",0,1),IF(K$30=$BA$1,IF(AND(IF(IFERROR(K39*1,"bad")="bad",0,1)=1,K39>=0),1,0),IF(K$30=$BB$1,IF(AND(IF(IFERROR(IF(K39=TRUNC(K39),1,"bad"),"bad")="bad",0,1)=1,K39>=0),1,0),IF(K$30=$BC$1,IF(AND(IF(IFERROR(K39*1,"bad")="bad",0,1)=1,K39>0),1,0),IF(K$30=$BD$1,IF(AND(IF(IFERROR(IF(K39=TRUNC(K39),1,"bad"),"bad")="bad",0,1)=1,K39>0),1,0),IF(K$30=$BE$1,1,IF(K$30=$BF$1,IF(IFERROR(HLOOKUP(K39,$AX$4:$BG$4,1,0),"bad")="bad",0,1),0)))))))))))) -> 0 | BB39: =IF(L$30="",1,IF(L$4=99,1,IF(L39="",0,IF(L$30=$AX$1,IF(ISNA(MATCH(L39,$AU$30:$AV$30,0)),0,1),IF(L$30=$AY$1,IF(IFERROR(L39*1,"bad")="bad",0,1),IF(L$30=$AZ$1,IF(IFERROR(IF(L39=TRUNC(L39),1,"bad"),"bad")="bad",0,1),IF(L$30=$BA$1,IF(AND(IF(IFERROR(L39*1,"bad")="bad",0,1)=1,L39>=0),1,0),IF(L$30=$BB$1,IF(AND(IF(IFERROR(IF(L39=TRUNC(L39),1,"bad"),"bad")="bad",0,1)=1,L39>=0),1,0),IF(L$30=$BC$1,IF(AND(IF(IFERROR(L39*1,"bad")="bad",0,1)=1,L39>0),1,0),IF(L$30=$BD$1,IF(AND(IF(IFERROR(IF(L39=TRUNC(L39),1,"bad"),"bad")="bad",0,1)=1,L39>0),1,0),IF(L$30=$BE$1,1,IF(L$30=$BF$1,IF(IFERROR(HLOOKUP(L39,$AX$4:$BG$4,1,0),"bad")="bad",0,1),0)))))))))))) -> 0 | BC39: =IF(M$30="",1,IF(M$4=99,1,IF(M39="",0,IF(M$30=$AX$1,IF(ISNA(MATCH(M39,$AU$30:$AV$30,0)),0,1),IF(M$30=$AY$1,IF(IFERROR(M39*1,"bad")="bad",0,1),IF(M$30=$AZ$1,IF(IFERROR(IF(M39=TRUNC(M39),1,"bad"),"bad")="bad",0,1),IF(M$30=$BA$1,IF(AND(IF(IFERROR(M39*1,"bad")="bad",0,1)=1,M39>=0),1,0),IF(M$30=$BB$1,IF(AND(IF(IFERROR(IF(M39=TRUNC(M39),1,"bad"),"bad")="bad",0,1)=1,M39>=0),1,0),IF(M$30=$BC$1,IF(AND(IF(IFERROR(M39*1,"bad")="bad",0,1)=1,M39>0),1,0),IF(M$30=$BD$1,IF(AND(IF(IFERROR(IF(M39=TRUNC(M39),1,"bad"),"bad")="bad",0,1)=1,M39>0),1,0),IF(M$30=$BE$1,1,IF(M$30=$BF$1,IF(IFERROR(HLOOKUP(M39,$AX$4:$BG$4,1,0),"bad")="bad",0,1),0)))))))))))) -> 0 | BD39: =IF(N$30="",1,IF(N$4=99,1,IF(N39="",0,IF(N$30=$AX$1,IF(ISNA(MATCH(N39,$AU$30:$AV$30,0)),0,1),IF(N$30=$AY$1,IF(IFERROR(N39*1,"bad")="bad",0,1),IF(N$30=$AZ$1,IF(IFERROR(IF(N39=TRUNC(N39),1,"bad"),"bad")="bad",0,1),IF(N$30=$BA$1,IF(AND(IF(IFERROR(N39*1,"bad")="bad",0,1)=1,N39>=0),1,0),IF(N$30=$BB$1,IF(AND(IF(IFERROR(IF(N39=TRUNC(N39),1,"bad"),"bad")="bad",0,1)=1,N39>=0),1,0),IF(N$30=$BC$1,IF(AND(IF(IFERROR(N39*1,"bad")="bad",0,1)=1,N39>0),1,0),IF(N$30=$BD$1,IF(AND(IF(IFERROR(IF(N39=TRUNC(N39),1,"bad"),"bad")="bad",0,1)=1,N39>0),1,0),IF(N$30=$BE$1,1,IF(N$30=$BF$1,IF(IFERROR(HLOOKUP(N39,$AX$4:$BG$4,1,0),"bad")="bad",0,1),0)))))))))))) -> 0 | ... CA39: =IF(AK$30="",1,IF(AK$4=99,1,IF(AK39="",0,IF(AK$30=$AX$1,IF(ISNA(MATCH(AK39,$AU$30:$AV$30,0)),0,1),IF(AK$30=$AY$1,IF(IFERROR(AK39*1,"bad")="bad",0,1),IF(AK$30=$AZ$1,IF(IFERROR(IF(AK39=TRUNC(AK39),1,"bad"),"bad")="bad",0,1),IF(AK$30=$BA$1,IF(AND(IF(IFERROR(AK39*1,"bad")="bad",0,1)=1,AK39>=0),1,0),IF(AK$30=$BB$1,IF(AND(IF(IFERROR(IF(AK39=TRUNC(AK39),1,"bad"),"bad")="bad",0,1)=1,AK39>=0),1,0),IF(AK$30=$BC$1,IF(AND(IF(IFERROR(AK39*1,"bad")="bad",0,1)=1,AK39>0),1,0),IF(AK$30=$BD$1,IF(AND(IF(IFERROR(IF(AK39=TRUNC(AK39),1,"bad"),"bad")="bad",0,1)=1,AK39>0),1,0),IF(AK$30=$BE$1,1,IF(AK$30=$BF$1,IF(IFERROR(HLOOKUP(AK39,$AX$4:$BG$4,1,0),"bad")="bad",0,1),0)))))))))))) -> 0 | CB39: =IF(AM$30="",1,IF(AM$4=99,1,IF(AM39="",0,IF(AM$30=$AX$1,IF(ISNA(MATCH(AM39,$AU$30:$AV$30,0)),0,1),IF(AM$30=$AY$1,IF(IFERROR(AM39*1,"bad")="bad",0,1),IF(AM$30=$AZ$1,IF(IFERROR(IF(AM39=TRUNC(AM39),1,"bad"),"bad")="bad",0,1),IF(AM$30=$BA$1,IF(AND(IF(IFERROR(AM39*1,"bad")="bad",0,1)=1,AM39>=0),1,0),IF(AM$30=$BB$1,IF(AND(IF(IFERROR(IF(AM39=TRUNC(AM39),1,"bad"),"bad")="bad",0,1)=1,AM39>=0),1,0),IF(AM$30=$BC$1,IF(AND(IF(IFERROR(AM39*1,"bad")="bad",0,1)=1,AM39>0),1,0),IF(AM$30=$BD$1,IF(AND(IF(IFERROR(IF(AM39=TRUNC(AM39),1,"bad"),"bad")="bad",0,1)=1,AM39>0),1,0),IF(AM$30=$BE$1,1,IF(AM$30=$BF$1,IF(IFERROR(HLOOKUP(AM39,$AX$4:$BG$4,1,0),"bad")="bad",0,1),0)))))))))))) -> 0 | CC39: =IF(ISNA(MATCH(AN39,$AU$30:$AV$30,0)),0,1) -> 1 | CG39: =IF(AR$30="",1,IF(AR39="",0,IF(AR$30=$AX$1,IF(ISNA(MATCH(AR39,$AU$30:$AV$30,0)),0,1),IF(AR$30=$AY$1,IF(IFERROR(AR39*1,"bad")="bad",0,1),IF(AR$30=$AZ$1,IF(IFERROR(IF(AR39=TRUNC(AR39),1,"bad"),"bad")="bad",0,1),IF(AR$30=$BA$1,IF(AND(IF(IFERROR(AR39*1,"bad")="bad",0,1)=1,AR39>=0),1,0),IF(AR$30=$BB$1,IF(AND(IF(IFERROR(IF(AR39=TRUNC(AR39),1,"bad"),"bad")="bad",0,1)=1,AR39>=0),1,0),IF(AR$30=$BC$1,IF(AND(IF(IFERROR(AR39*1,"bad")="bad",0,1)=1,AR39>0),1,0),IF(AR$30=$BD$1,IF(AND(IF(IFERROR(IF(AR39=TRUNC(AR39),1,"bad"),"bad")="bad",0,1)=1,AR39>0),1,0),IF(AR$30=$BE$1,1,IF(AR$30=$BF$1,IF(IFERROR(HLOOKUP(AR39,$AX$4:$BG$4,1,0),"bad")="bad",0,1),0))))))))))) -> 1 | CL39: =IF($F39="","",CL$30) | CM39: =IF($F39="","",CM$30) | CN39: =IF($F39="","",CN$30) | CO39: =IF($F39="","",CO$30) | CP39: =IF($F39="","",CP$30) | CQ39: =IF($F39="","",CQ$30) | CR39: =IF($F39="","",CR$30) | CS39: =IF($F39="","",CS$30) | ... CU39: =IF($F39="","",CU$30)
B40: =IF(F40="","",ROW()-30) | F40: =IF('10'!$F$1="10","",'10'!$F$1) | J40: =IF($F40="","",IFERROR(IF(H40>I40,$AU$1,IF(H40/I40>=0.75,1,0)),$AU$1)) | X40: =IF(F40="","",IF(G40>=$G$6,1,0)) | AR40: =IF($F40="","",IF(AN40=1,1,IF(AT40<>1,$AU$1,IF(SUMIF($G$4:$AM$4,1,G40:AM40)=COUNTIF($G$4:$AM$4,1),1,0)))) | AT40: =IF(SUM(AW40:CG40)=COUNT(AW40:CG40),1,0) -> 0 | AU40: =IF($F40="","",AU$30) | AV40: =IF($F40="","",AV$30) | AW40: =IF(G$30="",1,IF(G$4=99,1,IF(G40="",0,IF(G$30=$AX$1,IF(ISNA(MATCH(G40,$AU$30:$AV$30,0)),0,1),IF(G$30=$AY$1,IF(IFERROR(G40*1,"bad")="bad",0,1),IF(G$30=$AZ$1,IF(IFERROR(IF(G40=TRUNC(G40),1,"bad"),"bad")="bad",0,1),IF(G$30=$BA$1,IF(AND(IF(IFERROR(G40*1,"bad")="bad",0,1)=1,G40>=0),1,0),IF(G$30=$BB$1,IF(AND(IF(IFERROR(IF(G40=TRUNC(G40),1,"bad"),"bad")="bad",0,1)=1,G40>=0),1,0),IF(G$30=$BC$1,IF(AND(IF(IFERROR(G40*1,"bad")="bad",0,1)=1,G40>0),1,0),IF(G$30=$BD$1,IF(AND(IF(IFERROR(IF(G40=TRUNC(G40),1,"bad"),"bad")="bad",0,1)=1,G40>0),1,0),IF(G$30=$BE$1,1,IF(G$30=$BF$1,IF(IFERROR(HLOOKUP(G40,$AX$4:$BG$4,1,0),"bad")="bad",0,1),0)))))))))))) -> 0 | AX40: =IF(H$30="",1,IF(H$4=99,1,IF(H40="",0,IF(H$30=$AX$1,IF(ISNA(MATCH(H40,$AU$30:$AV$30,0)),0,1),IF(H$30=$AY$1,IF(IFERROR(H40*1,"bad")="bad",0,1),IF(H$30=$AZ$1,IF(IFERROR(IF(H40=TRUNC(H40),1,"bad"),"bad")="bad",0,1),IF(H$30=$BA$1,IF(AND(IF(IFERROR(H40*1,"bad")="bad",0,1)=1,H40>=0),1,0),IF(H$30=$BB$1,IF(AND(IF(IFERROR(IF(H40=TRUNC(H40),1,"bad"),"bad")="bad",0,1)=1,H40>=0),1,0),IF(H$30=$BC$1,IF(AND(IF(IFERROR(H40*1,"bad")="bad",0,1)=1,H40>0),1,0),IF(H$30=$BD$1,IF(AND(IF(IFERROR(IF(H40=TRUNC(H40),1,"bad"),"bad")="bad",0,1)=1,H40>0),1,0),IF(H$30=$BE$1,1,IF(H$30=$BF$1,IF(IFERROR(HLOOKUP(H40,$AX$4:$BG$4,1,0),"bad")="bad",0,1),0)))))))))))) -> 0 | AY40: =IF(I$30="",1,IF(I$4=99,1,IF(I40="",0,IF(I$30=$AX$1,IF(ISNA(MATCH(I40,$AU$30:$AV$30,0)),0,1),IF(I$30=$AY$1,IF(IFERROR(I40*1,"bad")="bad",0,1),IF(I$30=$AZ$1,IF(IFERROR(IF(I40=TRUNC(I40),1,"bad"),"bad")="bad",0,1),IF(I$30=$BA$1,IF(AND(IF(IFERROR(I40*1,"bad")="bad",0,1)=1,I40>=0),1,0),IF(I$30=$BB$1,IF(AND(IF(IFERROR(IF(I40=TRUNC(I40),1,"bad"),"bad")="bad",0,1)=1,I40>=0),1,0),IF(I$30=$BC$1,IF(AND(IF(IFERROR(I40*1,"bad")="bad",0,1)=1,I40>0),1,0),IF(I$30=$BD$1,IF(AND(IF(IFERROR(IF(I40=TRUNC(I40),1,"bad"),"bad")="bad",0,1)=1,I40>0),1,0),IF(I$30=$BE$1,1,IF(I$30=$BF$1,IF(IFERROR(HLOOKUP(I40,$AX$4:$BG$4,1,0),"bad")="bad",0,1),0)))))))))))) -> 0 | AZ40: =IF(J$30="",1,IF(J$4=99,1,IF(J40="",0,IF(J$30=$AX$1,IF(ISNA(MATCH(J40,$AU$30:$AV$30,0)),0,1),IF(J$30=$AY$1,IF(IFERROR(J40*1,"bad")="bad",0,1),IF(J$30=$AZ$1,IF(IFERROR(IF(J40=TRUNC(J40),1,"bad"),"bad")="bad",0,1),IF(J$30=$BA$1,IF(AND(IF(IFERROR(J40*1,"bad")="bad",0,1)=1,J40>=0),1,0),IF(J$30=$BB$1,IF(AND(IF(IFERROR(IF(J40=TRUNC(J40),1,"bad"),"bad")="bad",0,1)=1,J40>=0),1,0),IF(J$30=$BC$1,IF(AND(IF(IFERROR(J40*1,"bad")="bad",0,1)=1,J40>0),1,0),IF(J$30=$BD$1,IF(AND(IF(IFERROR(IF(J40=TRUNC(J40),1,"bad"),"bad")="bad",0,1)=1,J40>0),1,0),IF(J$30=$BE$1,1,IF(J$30=$BF$1,IF(IFERROR(HLOOKUP(J40,$AX$4:$BG$4,1,0),"bad")="bad",0,1),0)))))))))))) -> 1 | BA40: =IF(K$30="",1,IF(K$4=99,1,IF(K40="",0,IF(K$30=$AX$1,IF(ISNA(MATCH(K40,$AU$30:$AV$30,0)),0,1),IF(K$30=$AY$1,IF(IFERROR(K40*1,"bad")="bad",0,1),IF(K$30=$AZ$1,IF(IFERROR(IF(K40=TRUNC(K40),1,"bad"),"bad")="bad",0,1),IF(K$30=$BA$1,IF(AND(IF(IFERROR(K40*1,"bad")="bad",0,1)=1,K40>=0),1,0),IF(K$30=$BB$1,IF(AND(IF(IFERROR(IF(K40=TRUNC(K40),1,"bad"),"bad")="bad",0,1)=1,K40>=0),1,0),IF(K$30=$BC$1,IF(AND(IF(IFERROR(K40*1,"bad")="bad",0,1)=1,K40>0),1,0),IF(K$30=$BD$1,IF(AND(IF(IFERROR(IF(K40=TRUNC(K40),1,"bad"),"bad")="bad",0,1)=1,K40>0),1,0),IF(K$30=$BE$1,1,IF(K$30=$BF$1,IF(IFERROR(HLOOKUP(K40,$AX$4:$BG$4,1,0),"bad")="bad",0,1),0)))))))))))) -> 0 | BB40: =IF(L$30="",1,IF(L$4=99,1,IF(L40="",0,IF(L$30=$AX$1,IF(ISNA(MATCH(L40,$AU$30:$AV$30,0)),0,1),IF(L$30=$AY$1,IF(IFERROR(L40*1,"bad")="bad",0,1),IF(L$30=$AZ$1,IF(IFERROR(IF(L40=TRUNC(L40),1,"bad"),"bad")="bad",0,1),IF(L$30=$BA$1,IF(AND(IF(IFERROR(L40*1,"bad")="bad",0,1)=1,L40>=0),1,0),IF(L$30=$BB$1,IF(AND(IF(IFERROR(IF(L40=TRUNC(L40),1,"bad"),"bad")="bad",0,1)=1,L40>=0),1,0),IF(L$30=$BC$1,IF(AND(IF(IFERROR(L40*1,"bad")="bad",0,1)=1,L40>0),1,0),IF(L$30=$BD$1,IF(AND(IF(IFERROR(IF(L40=TRUNC(L40),1,"bad"),"bad")="bad",0,1)=1,L40>0),1,0),IF(L$30=$BE$1,1,IF(L$30=$BF$1,IF(IFERROR(HLOOKUP(L40,$AX$4:$BG$4,1,0),"bad")="bad",0,1),0)))))))))))) -> 0 | BC40: =IF(M$30="",1,IF(M$4=99,1,IF(M40="",0,IF(M$30=$AX$1,IF(ISNA(MATCH(M40,$AU$30:$AV$30,0)),0,1),IF(M$30=$AY$1,IF(IFERROR(M40*1,"bad")="bad",0,1),IF(M$30=$AZ$1,IF(IFERROR(IF(M40=TRUNC(M40),1,"bad"),"bad")="bad",0,1),IF(M$30=$BA$1,IF(AND(IF(IFERROR(M40*1,"bad")="bad",0,1)=1,M40>=0),1,0),IF(M$30=$BB$1,IF(AND(IF(IFERROR(IF(M40=TRUNC(M40),1,"bad"),"bad")="bad",0,1)=1,M40>=0),1,0),IF(M$30=$BC$1,IF(AND(IF(IFERROR(M40*1,"bad")="bad",0,1)=1,M40>0),1,0),IF(M$30=$BD$1,IF(AND(IF(IFERROR(IF(M40=TRUNC(M40),1,"bad"),"bad")="bad",0,1)=1,M40>0),1,0),IF(M$30=$BE$1,1,IF(M$30=$BF$1,IF(IFERROR(HLOOKUP(M40,$AX$4:$BG$4,1,0),"bad")="bad",0,1),0)))))))))))) -> 0 | BD40: =IF(N$30="",1,IF(N$4=99,1,IF(N40="",0,IF(N$30=$AX$1,IF(ISNA(MATCH(N40,$AU$30:$AV$30,0)),0,1),IF(N$30=$AY$1,IF(IFERROR(N40*1,"bad")="bad",0,1),IF(N$30=$AZ$1,IF(IFERROR(IF(N40=TRUNC(N40),1,"bad"),"bad")="bad",0,1),IF(N$30=$BA$1,IF(AND(IF(IFERROR(N40*1,"bad")="bad",0,1)=1,N40>=0),1,0),IF(N$30=$BB$1,IF(AND(IF(IFERROR(IF(N40=TRUNC(N40),1,"bad"),"bad")="bad",0,1)=1,N40>=0),1,0),IF(N$30=$BC$1,IF(AND(IF(IFERROR(N40*1,"bad")="bad",0,1)=1,N40>0),1,0),IF(N$30=$BD$1,IF(AND(IF(IFERROR(IF(N40=TRUNC(N40),1,"bad"),"bad")="bad",0,1)=1,N40>0),1,0),IF(N$30=$BE$1,1,IF(N$30=$BF$1,IF(IFERROR(HLOOKUP(N40,$AX$4:$BG$4,1,0),"bad")="bad",0,1),0)))))))))))) -> 0 | ... CA40: =IF(AK$30="",1,IF(AK$4=99,1,IF(AK40="",0,IF(AK$30=$AX$1,IF(ISNA(MATCH(AK40,$AU$30:$AV$30,0)),0,1),IF(AK$30=$AY$1,IF(IFERROR(AK40*1,"bad")="bad",0,1),IF(AK$30=$AZ$1,IF(IFERROR(IF(AK40=TRUNC(AK40),1,"bad"),"bad")="bad",0,1),IF(AK$30=$BA$1,IF(AND(IF(IFERROR(AK40*1,"bad")="bad",0,1)=1,AK40>=0),1,0),IF(AK$30=$BB$1,IF(AND(IF(IFERROR(IF(AK40=TRUNC(AK40),1,"bad"),"bad")="bad",0,1)=1,AK40>=0),1,0),IF(AK$30=$BC$1,IF(AND(IF(IFERROR(AK40*1,"bad")="bad",0,1)=1,AK40>0),1,0),IF(AK$30=$BD$1,IF(AND(IF(IFERROR(IF(AK40=TRUNC(AK40),1,"bad"),"bad")="bad",0,1)=1,AK40>0),1,0),IF(AK$30=$BE$1,1,IF(AK$30=$BF$1,IF(IFERROR(HLOOKUP(AK40,$AX$4:$BG$4,1,0),"bad")="bad",0,1),0)))))))))))) -> 0 | CB40: =IF(AM$30="",1,IF(AM$4=99,1,IF(AM40="",0,IF(AM$30=$AX$1,IF(ISNA(MATCH(AM40,$AU$30:$AV$30,0)),0,1),IF(AM$30=$AY$1,IF(IFERROR(AM40*1,"bad")="bad",0,1),IF(AM$30=$AZ$1,IF(IFERROR(IF(AM40=TRUNC(AM40),1,"bad"),"bad")="bad",0,1),IF(AM$30=$BA$1,IF(AND(IF(IFERROR(AM40*1,"bad")="bad",0,1)=1,AM40>=0),1,0),IF(AM$30=$BB$1,IF(AND(IF(IFERROR(IF(AM40=TRUNC(AM40),1,"bad"),"bad")="bad",0,1)=1,AM40>=0),1,0),IF(AM$30=$BC$1,IF(AND(IF(IFERROR(AM40*1,"bad")="bad",0,1)=1,AM40>0),1,0),IF(AM$30=$BD$1,IF(AND(IF(IFERROR(IF(AM40=TRUNC(AM40),1,"bad"),"bad")="bad",0,1)=1,AM40>0),1,0),IF(AM$30=$BE$1,1,IF(AM$30=$BF$1,IF(IFERROR(HLOOKUP(AM40,$AX$4:$BG$4,1,0),"bad")="bad",0,1),0)))))))))))) -> 0 | CC40: =IF(ISNA(MATCH(AN40,$AU$30:$AV$30,0)),0,1) -> 1 | CG40: =IF(AR$30="",1,IF(AR40="",0,IF(AR$30=$AX$1,IF(ISNA(MATCH(AR40,$AU$30:$AV$30,0)),0,1),IF(AR$30=$AY$1,IF(IFERROR(AR40*1,"bad")="bad",0,1),IF(AR$30=$AZ$1,IF(IFERROR(IF(AR40=TRUNC(AR40),1,"bad"),"bad")="bad",0,1),IF(AR$30=$BA$1,IF(AND(IF(IFERROR(AR40*1,"bad")="bad",0,1)=1,AR40>=0),1,0),IF(AR$30=$BB$1,IF(AND(IF(IFERROR(IF(AR40=TRUNC(AR40),1,"bad"),"bad")="bad",0,1)=1,AR40>=0),1,0),IF(AR$30=$BC$1,IF(AND(IF(IFERROR(AR40*1,"bad")="bad",0,1)=1,AR40>0),1,0),IF(AR$30=$BD$1,IF(AND(IF(IFERROR(IF(AR40=TRUNC(AR40),1,"bad"),"bad")="bad",0,1)=1,AR40>0),1,0),IF(AR$30=$BE$1,1,IF(AR$30=$BF$1,IF(IFERROR(HLOOKUP(AR40,$AX$4:$BG$4,1,0),"bad")="bad",0,1),0))))))))))) -> 1 | CL40: =IF($F40="","",CL$30) | CM40: =IF($F40="","",CM$30) | CN40: =IF($F40="","",CN$30) | CO40: =IF($F40="","",CO$30) | CP40: =IF($F40="","",CP$30) | CQ40: =IF($F40="","",CQ$30) | CR40: =IF($F40="","",CR$30) | CS40: =IF($F40="","",CS$30) | ... CU40: =IF($F40="","",CU$30)
B41: =IF(F41="","",ROW()-30) | J41: =IF($F41="","",IFERROR(IF(H41>I41,$AU$1,IF(H41/I41>=0.75,1,0)),$AU$1)) | X41: =IF(F41="","",IF(G41>=$G$6,1,0)) | AR41: =IF($F41="","",IF(AN41=1,1,IF(AT41<>1,$AU$1,IF(SUMIF($G$4:$AM$4,1,G41:AM41)=COUNTIF($G$4:$AM$4,1),1,0)))) | AT41: =IF(SUM(AW41:CG41)=COUNT(AW41:CG41),1,0) -> 0 | AU41: =IF($F41="","",AU$30) | AV41: =IF($F41="","",AV$30) | AW41: =IF(G$30="",1,IF(G$4=99,1,IF(G41="",0,IF(G$30=$AX$1,IF(ISNA(MATCH(G41,$AU$30:$AV$30,0)),0,1),IF(G$30=$AY$1,IF(IFERROR(G41*1,"bad")="bad",0,1),IF(G$30=$AZ$1,IF(IFERROR(IF(G41=TRUNC(G41),1,"bad"),"bad")="bad",0,1),IF(G$30=$BA$1,IF(AND(IF(IFERROR(G41*1,"bad")="bad",0,1)=1,G41>=0),1,0),IF(G$30=$BB$1,IF(AND(IF(IFERROR(IF(G41=TRUNC(G41),1,"bad"),"bad")="bad",0,1)=1,G41>=0),1,0),IF(G$30=$BC$1,IF(AND(IF(IFERROR(G41*1,"bad")="bad",0,1)=1,G41>0),1,0),IF(G$30=$BD$1,IF(AND(IF(IFERROR(IF(G41=TRUNC(G41),1,"bad"),"bad")="bad",0,1)=1,G41>0),1,0),IF(G$30=$BE$1,1,IF(G$30=$BF$1,IF(IFERROR(HLOOKUP(G41,$AX$4:$BG$4,1,0),"bad")="bad",0,1),0)))))))))))) -> 0 | AX41: =IF(H$30="",1,IF(H$4=99,1,IF(H41="",0,IF(H$30=$AX$1,IF(ISNA(MATCH(H41,$AU$30:$AV$30,0)),0,1),IF(H$30=$AY$1,IF(IFERROR(H41*1,"bad")="bad",0,1),IF(H$30=$AZ$1,IF(IFERROR(IF(H41=TRUNC(H41),1,"bad"),"bad")="bad",0,1),IF(H$30=$BA$1,IF(AND(IF(IFERROR(H41*1,"bad")="bad",0,1)=1,H41>=0),1,0),IF(H$30=$BB$1,IF(AND(IF(IFERROR(IF(H41=TRUNC(H41),1,"bad"),"bad")="bad",0,1)=1,H41>=0),1,0),IF(H$30=$BC$1,IF(AND(IF(IFERROR(H41*1,"bad")="bad",0,1)=1,H41>0),1,0),IF(H$30=$BD$1,IF(AND(IF(IFERROR(IF(H41=TRUNC(H41),1,"bad"),"bad")="bad",0,1)=1,H41>0),1,0),IF(H$30=$BE$1,1,IF(H$30=$BF$1,IF(IFERROR(HLOOKUP(H41,$AX$4:$BG$4,1,0),"bad")="bad",0,1),0)))))))))))) -> 0 | AY41: =IF(I$30="",1,IF(I$4=99,1,IF(I41="",0,IF(I$30=$AX$1,IF(ISNA(MATCH(I41,$AU$30:$AV$30,0)),0,1),IF(I$30=$AY$1,IF(IFERROR(I41*1,"bad")="bad",0,1),IF(I$30=$AZ$1,IF(IFERROR(IF(I41=TRUNC(I41),1,"bad"),"bad")="bad",0,1),IF(I$30=$BA$1,IF(AND(IF(IFERROR(I41*1,"bad")="bad",0,1)=1,I41>=0),1,0),IF(I$30=$BB$1,IF(AND(IF(IFERROR(IF(I41=TRUNC(I41),1,"bad"),"bad")="bad",0,1)=1,I41>=0),1,0),IF(I$30=$BC$1,IF(AND(IF(IFERROR(I41*1,"bad")="bad",0,1)=1,I41>0),1,0),IF(I$30=$BD$1,IF(AND(IF(IFERROR(IF(I41=TRUNC(I41),1,"bad"),"bad")="bad",0,1)=1,I41>0),1,0),IF(I$30=$BE$1,1,IF(I$30=$BF$1,IF(IFERROR(HLOOKUP(I41,$AX$4:$BG$4,1,0),"bad")="bad",0,1),0)))))))))))) -> 0 | AZ41: =IF(J$30="",1,IF(J$4=99,1,IF(J41="",0,IF(J$30=$AX$1,IF(ISNA(MATCH(J41,$AU$30:$AV$30,0)),0,1),IF(J$30=$AY$1,IF(IFERROR(J41*1,"bad")="bad",0,1),IF(J$30=$AZ$1,IF(IFERROR(IF(J41=TRUNC(J41),1,"bad"),"bad")="bad",0,1),IF(J$30=$BA$1,IF(AND(IF(IFERROR(J41*1,"bad")="bad",0,1)=1,J41>=0),1,0),IF(J$30=$BB$1,IF(AND(IF(IFERROR(IF(J41=TRUNC(J41),1,"bad"),"bad")="bad",0,1)=1,J41>=0),1,0),IF(J$30=$BC$1,IF(AND(IF(IFERROR(J41*1,"bad")="bad",0,1)=1,J41>0),1,0),IF(J$30=$BD$1,IF(AND(IF(IFERROR(IF(J41=TRUNC(J41),1,"bad"),"bad")="bad",0,1)=1,J41>0),1,0),IF(J$30=$BE$1,1,IF(J$30=$BF$1,IF(IFERROR(HLOOKUP(J41,$AX$4:$BG$4,1,0),"bad")="bad",0,1),0)))))))))))) -> 1 | BA41: =IF(K$30="",1,IF(K$4=99,1,IF(K41="",0,IF(K$30=$AX$1,IF(ISNA(MATCH(K41,$AU$30:$AV$30,0)),0,1),IF(K$30=$AY$1,IF(IFERROR(K41*1,"bad")="bad",0,1),IF(K$30=$AZ$1,IF(IFERROR(IF(K41=TRUNC(K41),1,"bad"),"bad")="bad",0,1),IF(K$30=$BA$1,IF(AND(IF(IFERROR(K41*1,"bad")="bad",0,1)=1,K41>=0),1,0),IF(K$30=$BB$1,IF(AND(IF(IFERROR(IF(K41=TRUNC(K41),1,"bad"),"bad")="bad",0,1)=1,K41>=0),1,0),IF(K$30=$BC$1,IF(AND(IF(IFERROR(K41*1,"bad")="bad",0,1)=1,K41>0),1,0),IF(K$30=$BD$1,IF(AND(IF(IFERROR(IF(K41=TRUNC(K41),1,"bad"),"bad")="bad",0,1)=1,K41>0),1,0),IF(K$30=$BE$1,1,IF(K$30=$BF$1,IF(IFERROR(HLOOKUP(K41,$AX$4:$BG$4,1,0),"bad")="bad",0,1),0)))))))))))) -> 0 | BB41: =IF(L$30="",1,IF(L$4=99,1,IF(L41="",0,IF(L$30=$AX$1,IF(ISNA(MATCH(L41,$AU$30:$AV$30,0)),0,1),IF(L$30=$AY$1,IF(IFERROR(L41*1,"bad")="bad",0,1),IF(L$30=$AZ$1,IF(IFERROR(IF(L41=TRUNC(L41),1,"bad"),"bad")="bad",0,1),IF(L$30=$BA$1,IF(AND(IF(IFERROR(L41*1,"bad")="bad",0,1)=1,L41>=0),1,0),IF(L$30=$BB$1,IF(AND(IF(IFERROR(IF(L41=TRUNC(L41),1,"bad"),"bad")="bad",0,1)=1,L41>=0),1,0),IF(L$30=$BC$1,IF(AND(IF(IFERROR(L41*1,"bad")="bad",0,1)=1,L41>0),1,0),IF(L$30=$BD$1,IF(AND(IF(IFERROR(IF(L41=TRUNC(L41),1,"bad"),"bad")="bad",0,1)=1,L41>0),1,0),IF(L$30=$BE$1,1,IF(L$30=$BF$1,IF(IFERROR(HLOOKUP(L41,$AX$4:$BG$4,1,0),"bad")="bad",0,1),0)))))))))))) -> 0 | BC41: =IF(M$30="",1,IF(M$4=99,1,IF(M41="",0,IF(M$30=$AX$1,IF(ISNA(MATCH(M41,$AU$30:$AV$30,0)),0,1),IF(M$30=$AY$1,IF(IFERROR(M41*1,"bad")="bad",0,1),IF(M$30=$AZ$1,IF(IFERROR(IF(M41=TRUNC(M41),1,"bad"),"bad")="bad",0,1),IF(M$30=$BA$1,IF(AND(IF(IFERROR(M41*1,"bad")="bad",0,1)=1,M41>=0),1,0),IF(M$30=$BB$1,IF(AND(IF(IFERROR(IF(M41=TRUNC(M41),1,"bad"),"bad")="bad",0,1)=1,M41>=0),1,0),IF(M$30=$BC$1,IF(AND(IF(IFERROR(M41*1,"bad")="bad",0,1)=1,M41>0),1,0),IF(M$30=$BD$1,IF(AND(IF(IFERROR(IF(M41=TRUNC(M41),1,"bad"),"bad")="bad",0,1)=1,M41>0),1,0),IF(M$30=$BE$1,1,IF(M$30=$BF$1,IF(IFERROR(HLOOKUP(M41,$AX$4:$BG$4,1,0),"bad")="bad",0,1),0)))))))))))) -> 0 | BD41: =IF(N$30="",1,IF(N$4=99,1,IF(N41="",0,IF(N$30=$AX$1,IF(ISNA(MATCH(N41,$AU$30:$AV$30,0)),0,1),IF(N$30=$AY$1,IF(IFERROR(N41*1,"bad")="bad",0,1),IF(N$30=$AZ$1,IF(IFERROR(IF(N41=TRUNC(N41),1,"bad"),"bad")="bad",0,1),IF(N$30=$BA$1,IF(AND(IF(IFERROR(N41*1,"bad")="bad",0,1)=1,N41>=0),1,0),IF(N$30=$BB$1,IF(AND(IF(IFERROR(IF(N41=TRUNC(N41),1,"bad"),"bad")="bad",0,1)=1,N41>=0),1,0),IF(N$30=$BC$1,IF(AND(IF(IFERROR(N41*1,"bad")="bad",0,1)=1,N41>0),1,0),IF(N$30=$BD$1,IF(AND(IF(IFERROR(IF(N41=TRUNC(N41),1,"bad"),"bad")="bad",0,1)=1,N41>0),1,0),IF(N$30=$BE$1,1,IF(N$30=$BF$1,IF(IFERROR(HLOOKUP(N41,$AX$4:$BG$4,1,0),"bad")="bad",0,1),0)))))))))))) -> 0 | ... CA41: =IF(AK$30="",1,IF(AK$4=99,1,IF(AK41="",0,IF(AK$30=$AX$1,IF(ISNA(MATCH(AK41,$AU$30:$AV$30,0)),0,1),IF(AK$30=$AY$1,IF(IFERROR(AK41*1,"bad")="bad",0,1),IF(AK$30=$AZ$1,IF(IFERROR(IF(AK41=TRUNC(AK41),1,"bad"),"bad")="bad",0,1),IF(AK$30=$BA$1,IF(AND(IF(IFERROR(AK41*1,"bad")="bad",0,1)=1,AK41>=0),1,0),IF(AK$30=$BB$1,IF(AND(IF(IFERROR(IF(AK41=TRUNC(AK41),1,"bad"),"bad")="bad",0,1)=1,AK41>=0),1,0),IF(AK$30=$BC$1,IF(AND(IF(IFERROR(AK41*1,"bad")="bad",0,1)=1,AK41>0),1,0),IF(AK$30=$BD$1,IF(AND(IF(IFERROR(IF(AK41=TRUNC(AK41),1,"bad"),"bad")="bad",0,1)=1,AK41>0),1,0),IF(AK$30=$BE$1,1,IF(AK$30=$BF$1,IF(IFERROR(HLOOKUP(AK41,$AX$4:$BG$4,1,0),"bad")="bad",0,1),0)))))))))))) -> 0 | CB41: =IF(AM$30="",1,IF(AM$4=99,1,IF(AM41="",0,IF(AM$30=$AX$1,IF(ISNA(MATCH(AM41,$AU$30:$AV$30,0)),0,1),IF(AM$30=$AY$1,IF(IFERROR(AM41*1,"bad")="bad",0,1),IF(AM$30=$AZ$1,IF(IFERROR(IF(AM41=TRUNC(AM41),1,"bad"),"bad")="bad",0,1),IF(AM$30=$BA$1,IF(AND(IF(IFERROR(AM41*1,"bad")="bad",0,1)=1,AM41>=0),1,0),IF(AM$30=$BB$1,IF(AND(IF(IFERROR(IF(AM41=TRUNC(AM41),1,"bad"),"bad")="bad",0,1)=1,AM41>=0),1,0),IF(AM$30=$BC$1,IF(AND(IF(IFERROR(AM41*1,"bad")="bad",0,1)=1,AM41>0),1,0),IF(AM$30=$BD$1,IF(AND(IF(IFERROR(IF(AM41=TRUNC(AM41),1,"bad"),"bad")="bad",0,1)=1,AM41>0),1,0),IF(AM$30=$BE$1,1,IF(AM$30=$BF$1,IF(IFERROR(HLOOKUP(AM41,$AX$4:$BG$4,1,0),"bad")="bad",0,1),0)))))))))))) -> 0 | CC41: =IF(ISNA(MATCH(AN41,$AU$30:$AV$30,0)),0,1) -> 1 | CG41: =IF(AR$30="",1,IF(AR41="",0,IF(AR$30=$AX$1,IF(ISNA(MATCH(AR41,$AU$30:$AV$30,0)),0,1),IF(AR$30=$AY$1,IF(IFERROR(AR41*1,"bad")="bad",0,1),IF(AR$30=$AZ$1,IF(IFERROR(IF(AR41=TRUNC(AR41),1,"bad"),"bad")="bad",0,1),IF(AR$30=$BA$1,IF(AND(IF(IFERROR(AR41*1,"bad")="bad",0,1)=1,AR41>=0),1,0),IF(AR$30=$BB$1,IF(AND(IF(IFERROR(IF(AR41=TRUNC(AR41),1,"bad"),"bad")="bad",0,1)=1,AR41>=0),1,0),IF(AR$30=$BC$1,IF(AND(IF(IFERROR(AR41*1,"bad")="bad",0,1)=1,AR41>0),1,0),IF(AR$30=$BD$1,IF(AND(IF(IFERROR(IF(AR41=TRUNC(AR41),1,"bad"),"bad")="bad",0,1)=1,AR41>0),1,0),IF(AR$30=$BE$1,1,IF(AR$30=$BF$1,IF(IFERROR(HLOOKUP(AR41,$AX$4:$BG$4,1,0),"bad")="bad",0,1),0))))))))))) -> 1 | CL41: =IF($F41="","",CL$30) | CM41: =IF($F41="","",CM$30) | CN41: =IF($F41="","",CN$30) | CO41: =IF($F41="","",CO$30) | CP41: =IF($F41="","",CP$30) | CQ41: =IF($F41="","",CQ$30) | CR41: =IF($F41="","",CR$30) | CS41: =IF($F41="","",CS$30) | ... CU41: =IF($F41="","",CU$30)
B42: =IF(F42="","",ROW()-30) | J42: =IF($F42="","",IFERROR(IF(H42>I42,$AU$1,IF(H42/I42>=0.75,1,0)),$AU$1)) | X42: =IF(F42="","",IF(G42>=$G$6,1,0)) | AR42: =IF($F42="","",IF(AN42=1,1,IF(AT42<>1,$AU$1,IF(SUMIF($G$4:$AM$4,1,G42:AM42)=COUNTIF($G$4:$AM$4,1),1,0)))) | AT42: =IF(SUM(AW42:CG42)=COUNT(AW42:CG42),1,0) -> 0 | AU42: =IF($F42="","",AU$30) | AV42: =IF($F42="","",AV$30) | AW42: =IF(G$30="",1,IF(G$4=99,1,IF(G42="",0,IF(G$30=$AX$1,IF(ISNA(MATCH(G42,$AU$30:$AV$30,0)),0,1),IF(G$30=$AY$1,IF(IFERROR(G42*1,"bad")="bad",0,1),IF(G$30=$AZ$1,IF(IFERROR(IF(G42=TRUNC(G42),1,"bad"),"bad")="bad",0,1),IF(G$30=$BA$1,IF(AND(IF(IFERROR(G42*1,"bad")="bad",0,1)=1,G42>=0),1,0),IF(G$30=$BB$1,IF(AND(IF(IFERROR(IF(G42=TRUNC(G42),1,"bad"),"bad")="bad",0,1)=1,G42>=0),1,0),IF(G$30=$BC$1,IF(AND(IF(IFERROR(G42*1,"bad")="bad",0,1)=1,G42>0),1,0),IF(G$30=$BD$1,IF(AND(IF(IFERROR(IF(G42=TRUNC(G42),1,"bad"),"bad")="bad",0,1)=1,G42>0),1,0),IF(G$30=$BE$1,1,IF(G$30=$BF$1,IF(IFERROR(HLOOKUP(G42,$AX$4:$BG$4,1,0),"bad")="bad",0,1),0)))))))))))) -> 0 | AX42: =IF(H$30="",1,IF(H$4=99,1,IF(H42="",0,IF(H$30=$AX$1,IF(ISNA(MATCH(H42,$AU$30:$AV$30,0)),0,1),IF(H$30=$AY$1,IF(IFERROR(H42*1,"bad")="bad",0,1),IF(H$30=$AZ$1,IF(IFERROR(IF(H42=TRUNC(H42),1,"bad"),"bad")="bad",0,1),IF(H$30=$BA$1,IF(AND(IF(IFERROR(H42*1,"bad")="bad",0,1)=1,H42>=0),1,0),IF(H$30=$BB$1,IF(AND(IF(IFERROR(IF(H42=TRUNC(H42),1,"bad"),"bad")="bad",0,1)=1,H42>=0),1,0),IF(H$30=$BC$1,IF(AND(IF(IFERROR(H42*1,"bad")="bad",0,1)=1,H42>0),1,0),IF(H$30=$BD$1,IF(AND(IF(IFERROR(IF(H42=TRUNC(H42),1,"bad"),"bad")="bad",0,1)=1,H42>0),1,0),IF(H$30=$BE$1,1,IF(H$30=$BF$1,IF(IFERROR(HLOOKUP(H42,$AX$4:$BG$4,1,0),"bad")="bad",0,1),0)))))))))))) -> 0 | AY42: =IF(I$30="",1,IF(I$4=99,1,IF(I42="",0,IF(I$30=$AX$1,IF(ISNA(MATCH(I42,$AU$30:$AV$30,0)),0,1),IF(I$30=$AY$1,IF(IFERROR(I42*1,"bad")="bad",0,1),IF(I$30=$AZ$1,IF(IFERROR(IF(I42=TRUNC(I42),1,"bad"),"bad")="bad",0,1),IF(I$30=$BA$1,IF(AND(IF(IFERROR(I42*1,"bad")="bad",0,1)=1,I42>=0),1,0),IF(I$30=$BB$1,IF(AND(IF(IFERROR(IF(I42=TRUNC(I42),1,"bad"),"bad")="bad",0,1)=1,I42>=0),1,0),IF(I$30=$BC$1,IF(AND(IF(IFERROR(I42*1,"bad")="bad",0,1)=1,I42>0),1,0),IF(I$30=$BD$1,IF(AND(IF(IFERROR(IF(I42=TRUNC(I42),1,"bad"),"bad")="bad",0,1)=1,I42>0),1,0),IF(I$30=$BE$1,1,IF(I$30=$BF$1,IF(IFERROR(HLOOKUP(I42,$AX$4:$BG$4,1,0),"bad")="bad",0,1),0)))))))))))) -> 0 | AZ42: =IF(J$30="",1,IF(J$4=99,1,IF(J42="",0,IF(J$30=$AX$1,IF(ISNA(MATCH(J42,$AU$30:$AV$30,0)),0,1),IF(J$30=$AY$1,IF(IFERROR(J42*1,"bad")="bad",0,1),IF(J$30=$AZ$1,IF(IFERROR(IF(J42=TRUNC(J42),1,"bad"),"bad")="bad",0,1),IF(J$30=$BA$1,IF(AND(IF(IFERROR(J42*1,"bad")="bad",0,1)=1,J42>=0),1,0),IF(J$30=$BB$1,IF(AND(IF(IFERROR(IF(J42=TRUNC(J42),1,"bad"),"bad")="bad",0,1)=1,J42>=0),1,0),IF(J$30=$BC$1,IF(AND(IF(IFERROR(J42*1,"bad")="bad",0,1)=1,J42>0),1,0),IF(J$30=$BD$1,IF(AND(IF(IFERROR(IF(J42=TRUNC(J42),1,"bad"),"bad")="bad",0,1)=1,J42>0),1,0),IF(J$30=$BE$1,1,IF(J$30=$BF$1,IF(IFERROR(HLOOKUP(J42,$AX$4:$BG$4,1,0),"bad")="bad",0,1),0)))))))))))) -> 1 | BA42: =IF(K$30="",1,IF(K$4=99,1,IF(K42="",0,IF(K$30=$AX$1,IF(ISNA(MATCH(K42,$AU$30:$AV$30,0)),0,1),IF(K$30=$AY$1,IF(IFERROR(K42*1,"bad")="bad",0,1),IF(K$30=$AZ$1,IF(IFERROR(IF(K42=TRUNC(K42),1,"bad"),"bad")="bad",0,1),IF(K$30=$BA$1,IF(AND(IF(IFERROR(K42*1,"bad")="bad",0,1)=1,K42>=0),1,0),IF(K$30=$BB$1,IF(AND(IF(IFERROR(IF(K42=TRUNC(K42),1,"bad"),"bad")="bad",0,1)=1,K42>=0),1,0),IF(K$30=$BC$1,IF(AND(IF(IFERROR(K42*1,"bad")="bad",0,1)=1,K42>0),1,0),IF(K$30=$BD$1,IF(AND(IF(IFERROR(IF(K42=TRUNC(K42),1,"bad"),"bad")="bad",0,1)=1,K42>0),1,0),IF(K$30=$BE$1,1,IF(K$30=$BF$1,IF(IFERROR(HLOOKUP(K42,$AX$4:$BG$4,1,0),"bad")="bad",0,1),0)))))))))))) -> 0 | BB42: =IF(L$30="",1,IF(L$4=99,1,IF(L42="",0,IF(L$30=$AX$1,IF(ISNA(MATCH(L42,$AU$30:$AV$30,0)),0,1),IF(L$30=$AY$1,IF(IFERROR(L42*1,"bad")="bad",0,1),IF(L$30=$AZ$1,IF(IFERROR(IF(L42=TRUNC(L42),1,"bad"),"bad")="bad",0,1),IF(L$30=$BA$1,IF(AND(IF(IFERROR(L42*1,"bad")="bad",0,1)=1,L42>=0),1,0),IF(L$30=$BB$1,IF(AND(IF(IFERROR(IF(L42=TRUNC(L42),1,"bad"),"bad")="bad",0,1)=1,L42>=0),1,0),IF(L$30=$BC$1,IF(AND(IF(IFERROR(L42*1,"bad")="bad",0,1)=1,L42>0),1,0),IF(L$30=$BD$1,IF(AND(IF(IFERROR(IF(L42=TRUNC(L42),1,"bad"),"bad")="bad",0,1)=1,L42>0),1,0),IF(L$30=$BE$1,1,IF(L$30=$BF$1,IF(IFERROR(HLOOKUP(L42,$AX$4:$BG$4,1,0),"bad")="bad",0,1),0)))))))))))) -> 0 | BC42: =IF(M$30="",1,IF(M$4=99,1,IF(M42="",0,IF(M$30=$AX$1,IF(ISNA(MATCH(M42,$AU$30:$AV$30,0)),0,1),IF(M$30=$AY$1,IF(IFERROR(M42*1,"bad")="bad",0,1),IF(M$30=$AZ$1,IF(IFERROR(IF(M42=TRUNC(M42),1,"bad"),"bad")="bad",0,1),IF(M$30=$BA$1,IF(AND(IF(IFERROR(M42*1,"bad")="bad",0,1)=1,M42>=0),1,0),IF(M$30=$BB$1,IF(AND(IF(IFERROR(IF(M42=TRUNC(M42),1,"bad"),"bad")="bad",0,1)=1,M42>=0),1,0),IF(M$30=$BC$1,IF(AND(IF(IFERROR(M42*1,"bad")="bad",0,1)=1,M42>0),1,0),IF(M$30=$BD$1,IF(AND(IF(IFERROR(IF(M42=TRUNC(M42),1,"bad"),"bad")="bad",0,1)=1,M42>0),1,0),IF(M$30=$BE$1,1,IF(M$30=$BF$1,IF(IFERROR(HLOOKUP(M42,$AX$4:$BG$4,1,0),"bad")="bad",0,1),0)))))))))))) -> 0 | BD42: =IF(N$30="",1,IF(N$4=99,1,IF(N42="",0,IF(N$30=$AX$1,IF(ISNA(MATCH(N42,$AU$30:$AV$30,0)),0,1),IF(N$30=$AY$1,IF(IFERROR(N42*1,"bad")="bad",0,1),IF(N$30=$AZ$1,IF(IFERROR(IF(N42=TRUNC(N42),1,"bad"),"bad")="bad",0,1),IF(N$30=$BA$1,IF(AND(IF(IFERROR(N42*1,"bad")="bad",0,1)=1,N42>=0),1,0),IF(N$30=$BB$1,IF(AND(IF(IFERROR(IF(N42=TRUNC(N42),1,"bad"),"bad")="bad",0,1)=1,N42>=0),1,0),IF(N$30=$BC$1,IF(AND(IF(IFERROR(N42*1,"bad")="bad",0,1)=1,N42>0),1,0),IF(N$30=$BD$1,IF(AND(IF(IFERROR(IF(N42=TRUNC(N42),1,"bad"),"bad")="bad",0,1)=1,N42>0),1,0),IF(N$30=$BE$1,1,IF(N$30=$BF$1,IF(IFERROR(HLOOKUP(N42,$AX$4:$BG$4,1,0),"bad")="bad",0,1),0)))))))))))) -> 0 | ... CA42: =IF(AK$30="",1,IF(AK$4=99,1,IF(AK42="",0,IF(AK$30=$AX$1,IF(ISNA(MATCH(AK42,$AU$30:$AV$30,0)),0,1),IF(AK$30=$AY$1,IF(IFERROR(AK42*1,"bad")="bad",0,1),IF(AK$30=$AZ$1,IF(IFERROR(IF(AK42=TRUNC(AK42),1,"bad"),"bad")="bad",0,1),IF(AK$30=$BA$1,IF(AND(IF(IFERROR(AK42*1,"bad")="bad",0,1)=1,AK42>=0),1,0),IF(AK$30=$BB$1,IF(AND(IF(IFERROR(IF(AK42=TRUNC(AK42),1,"bad"),"bad")="bad",0,1)=1,AK42>=0),1,0),IF(AK$30=$BC$1,IF(AND(IF(IFERROR(AK42*1,"bad")="bad",0,1)=1,AK42>0),1,0),IF(AK$30=$BD$1,IF(AND(IF(IFERROR(IF(AK42=TRUNC(AK42),1,"bad"),"bad")="bad",0,1)=1,AK42>0),1,0),IF(AK$30=$BE$1,1,IF(AK$30=$BF$1,IF(IFERROR(HLOOKUP(AK42,$AX$4:$BG$4,1,0),"bad")="bad",0,1),0)))))))))))) -> 0 | CB42: =IF(AM$30="",1,IF(AM$4=99,1,IF(AM42="",0,IF(AM$30=$AX$1,IF(ISNA(MATCH(AM42,$AU$30:$AV$30,0)),0,1),IF(AM$30=$AY$1,IF(IFERROR(AM42*1,"bad")="bad",0,1),IF(AM$30=$AZ$1,IF(IFERROR(IF(AM42=TRUNC(AM42),1,"bad"),"bad")="bad",0,1),IF(AM$30=$BA$1,IF(AND(IF(IFERROR(AM42*1,"bad")="bad",0,1)=1,AM42>=0),1,0),IF(AM$30=$BB$1,IF(AND(IF(IFERROR(IF(AM42=TRUNC(AM42),1,"bad"),"bad")="bad",0,1)=1,AM42>=0),1,0),IF(AM$30=$BC$1,IF(AND(IF(IFERROR(AM42*1,"bad")="bad",0,1)=1,AM42>0),1,0),IF(AM$30=$BD$1,IF(AND(IF(IFERROR(IF(AM42=TRUNC(AM42),1,"bad"),"bad")="bad",0,1)=1,AM42>0),1,0),IF(AM$30=$BE$1,1,IF(AM$30=$BF$1,IF(IFERROR(HLOOKUP(AM42,$AX$4:$BG$4,1,0),"bad")="bad",0,1),0)))))))))))) -> 0 | CC42: =IF(ISNA(MATCH(AN42,$AU$30:$AV$30,0)),0,1) -> 1 | CG42: =IF(AR$30="",1,IF(AR42="",0,IF(AR$30=$AX$1,IF(ISNA(MATCH(AR42,$AU$30:$AV$30,0)),0,1),IF(AR$30=$AY$1,IF(IFERROR(AR42*1,"bad")="bad",0,1),IF(AR$30=$AZ$1,IF(IFERROR(IF(AR42=TRUNC(AR42),1,"bad"),"bad")="bad",0,1),IF(AR$30=$BA$1,IF(AND(IF(IFERROR(AR42*1,"bad")="bad",0,1)=1,AR42>=0),1,0),IF(AR$30=$BB$1,IF(AND(IF(IFERROR(IF(AR42=TRUNC(AR42),1,"bad"),"bad")="bad",0,1)=1,AR42>=0),1,0),IF(AR$30=$BC$1,IF(AND(IF(IFERROR(AR42*1,"bad")="bad",0,1)=1,AR42>0),1,0),IF(AR$30=$BD$1,IF(AND(IF(IFERROR(IF(AR42=TRUNC(AR42),1,"bad"),"bad")="bad",0,1)=1,AR42>0),1,0),IF(AR$30=$BE$1,1,IF(AR$30=$BF$1,IF(IFERROR(HLOOKUP(AR42,$AX$4:$BG$4,1,0),"bad")="bad",0,1),0))))))))))) -> 1 | CL42: =IF($F42="","",CL$30) | CM42: =IF($F42="","",CM$30) | CN42: =IF($F42="","",CN$30) | CO42: =IF($F42="","",CO$30) | CP42: =IF($F42="","",CP$30) | CQ42: =IF($F42="","",CQ$30) | CR42: =IF($F42="","",CR$30) | CS42: =IF($F42="","",CS$30) | ... CU42: =IF($F42="","",CU$30)
B43: =IF(F43="","",ROW()-30) | J43: =IF($F43="","",IFERROR(IF(H43>I43,$AU$1,IF(H43/I43>=0.75,1,0)),$AU$1)) | X43: =IF(F43="","",IF(G43>=$G$6,1,0)) | AR43: =IF($F43="","",IF(AN43=1,1,IF(AT43<>1,$AU$1,IF(SUMIF($G$4:$AM$4,1,G43:AM43)=COUNTIF($G$4:$AM$4,1),1,0)))) | AT43: =IF(SUM(AW43:CG43)=COUNT(AW43:CG43),1,0) -> 0 | AU43: =IF($F43="","",AU$30) | AV43: =IF($F43="","",AV$30) | AW43: =IF(G$30="",1,IF(G$4=99,1,IF(G43="",0,IF(G$30=$AX$1,IF(ISNA(MATCH(G43,$AU$30:$AV$30,0)),0,1),IF(G$30=$AY$1,IF(IFERROR(G43*1,"bad")="bad",0,1),IF(G$30=$AZ$1,IF(IFERROR(IF(G43=TRUNC(G43),1,"bad"),"bad")="bad",0,1),IF(G$30=$BA$1,IF(AND(IF(IFERROR(G43*1,"bad")="bad",0,1)=1,G43>=0),1,0),IF(G$30=$BB$1,IF(AND(IF(IFERROR(IF(G43=TRUNC(G43),1,"bad"),"bad")="bad",0,1)=1,G43>=0),1,0),IF(G$30=$BC$1,IF(AND(IF(IFERROR(G43*1,"bad")="bad",0,1)=1,G43>0),1,0),IF(G$30=$BD$1,IF(AND(IF(IFERROR(IF(G43=TRUNC(G43),1,"bad"),"bad")="bad",0,1)=1,G43>0),1,0),IF(G$30=$BE$1,1,IF(G$30=$BF$1,IF(IFERROR(HLOOKUP(G43,$AX$4:$BG$4,1,0),"bad")="bad",0,1),0)))))))))))) -> 0 | AX43: =IF(H$30="",1,IF(H$4=99,1,IF(H43="",0,IF(H$30=$AX$1,IF(ISNA(MATCH(H43,$AU$30:$AV$30,0)),0,1),IF(H$30=$AY$1,IF(IFERROR(H43*1,"bad")="bad",0,1),IF(H$30=$AZ$1,IF(IFERROR(IF(H43=TRUNC(H43),1,"bad"),"bad")="bad",0,1),IF(H$30=$BA$1,IF(AND(IF(IFERROR(H43*1,"bad")="bad",0,1)=1,H43>=0),1,0),IF(H$30=$BB$1,IF(AND(IF(IFERROR(IF(H43=TRUNC(H43),1,"bad"),"bad")="bad",0,1)=1,H43>=0),1,0),IF(H$30=$BC$1,IF(AND(IF(IFERROR(H43*1,"bad")="bad",0,1)=1,H43>0),1,0),IF(H$30=$BD$1,IF(AND(IF(IFERROR(IF(H43=TRUNC(H43),1,"bad"),"bad")="bad",0,1)=1,H43>0),1,0),IF(H$30=$BE$1,1,IF(H$30=$BF$1,IF(IFERROR(HLOOKUP(H43,$AX$4:$BG$4,1,0),"bad")="bad",0,1),0)))))))))))) -> 0 | AY43: =IF(I$30="",1,IF(I$4=99,1,IF(I43="",0,IF(I$30=$AX$1,IF(ISNA(MATCH(I43,$AU$30:$AV$30,0)),0,1),IF(I$30=$AY$1,IF(IFERROR(I43*1,"bad")="bad",0,1),IF(I$30=$AZ$1,IF(IFERROR(IF(I43=TRUNC(I43),1,"bad"),"bad")="bad",0,1),IF(I$30=$BA$1,IF(AND(IF(IFERROR(I43*1,"bad")="bad",0,1)=1,I43>=0),1,0),IF(I$30=$BB$1,IF(AND(IF(IFERROR(IF(I43=TRUNC(I43),1,"bad"),"bad")="bad",0,1)=1,I43>=0),1,0),IF(I$30=$BC$1,IF(AND(IF(IFERROR(I43*1,"bad")="bad",0,1)=1,I43>0),1,0),IF(I$30=$BD$1,IF(AND(IF(IFERROR(IF(I43=TRUNC(I43),1,"bad"),"bad")="bad",0,1)=1,I43>0),1,0),IF(I$30=$BE$1,1,IF(I$30=$BF$1,IF(IFERROR(HLOOKUP(I43,$AX$4:$BG$4,1,0),"bad")="bad",0,1),0)))))))))))) -> 0 | AZ43: =IF(J$30="",1,IF(J$4=99,1,IF(J43="",0,IF(J$30=$AX$1,IF(ISNA(MATCH(J43,$AU$30:$AV$30,0)),0,1),IF(J$30=$AY$1,IF(IFERROR(J43*1,"bad")="bad",0,1),IF(J$30=$AZ$1,IF(IFERROR(IF(J43=TRUNC(J43),1,"bad"),"bad")="bad",0,1),IF(J$30=$BA$1,IF(AND(IF(IFERROR(J43*1,"bad")="bad",0,1)=1,J43>=0),1,0),IF(J$30=$BB$1,IF(AND(IF(IFERROR(IF(J43=TRUNC(J43),1,"bad"),"bad")="bad",0,1)=1,J43>=0),1,0),IF(J$30=$BC$1,IF(AND(IF(IFERROR(J43*1,"bad")="bad",0,1)=1,J43>0),1,0),IF(J$30=$BD$1,IF(AND(IF(IFERROR(IF(J43=TRUNC(J43),1,"bad"),"bad")="bad",0,1)=1,J43>0),1,0),IF(J$30=$BE$1,1,IF(J$30=$BF$1,IF(IFERROR(HLOOKUP(J43,$AX$4:$BG$4,1,0),"bad")="bad",0,1),0)))))))))))) -> 1 | BA43: =IF(K$30="",1,IF(K$4=99,1,IF(K43="",0,IF(K$30=$AX$1,IF(ISNA(MATCH(K43,$AU$30:$AV$30,0)),0,1),IF(K$30=$AY$1,IF(IFERROR(K43*1,"bad")="bad",0,1),IF(K$30=$AZ$1,IF(IFERROR(IF(K43=TRUNC(K43),1,"bad"),"bad")="bad",0,1),IF(K$30=$BA$1,IF(AND(IF(IFERROR(K43*1,"bad")="bad",0,1)=1,K43>=0),1,0),IF(K$30=$BB$1,IF(AND(IF(IFERROR(IF(K43=TRUNC(K43),1,"bad"),"bad")="bad",0,1)=1,K43>=0),1,0),IF(K$30=$BC$1,IF(AND(IF(IFERROR(K43*1,"bad")="bad",0,1)=1,K43>0),1,0),IF(K$30=$BD$1,IF(AND(IF(IFERROR(IF(K43=TRUNC(K43),1,"bad"),"bad")="bad",0,1)=1,K43>0),1,0),IF(K$30=$BE$1,1,IF(K$30=$BF$1,IF(IFERROR(HLOOKUP(K43,$AX$4:$BG$4,1,0),"bad")="bad",0,1),0)))))))))))) -> 0 | BB43: =IF(L$30="",1,IF(L$4=99,1,IF(L43="",0,IF(L$30=$AX$1,IF(ISNA(MATCH(L43,$AU$30:$AV$30,0)),0,1),IF(L$30=$AY$1,IF(IFERROR(L43*1,"bad")="bad",0,1),IF(L$30=$AZ$1,IF(IFERROR(IF(L43=TRUNC(L43),1,"bad"),"bad")="bad",0,1),IF(L$30=$BA$1,IF(AND(IF(IFERROR(L43*1,"bad")="bad",0,1)=1,L43>=0),1,0),IF(L$30=$BB$1,IF(AND(IF(IFERROR(IF(L43=TRUNC(L43),1,"bad"),"bad")="bad",0,1)=1,L43>=0),1,0),IF(L$30=$BC$1,IF(AND(IF(IFERROR(L43*1,"bad")="bad",0,1)=1,L43>0),1,0),IF(L$30=$BD$1,IF(AND(IF(IFERROR(IF(L43=TRUNC(L43),1,"bad"),"bad")="bad",0,1)=1,L43>0),1,0),IF(L$30=$BE$1,1,IF(L$30=$BF$1,IF(IFERROR(HLOOKUP(L43,$AX$4:$BG$4,1,0),"bad")="bad",0,1),0)))))))))))) -> 0 | BC43: =IF(M$30="",1,IF(M$4=99,1,IF(M43="",0,IF(M$30=$AX$1,IF(ISNA(MATCH(M43,$AU$30:$AV$30,0)),0,1),IF(M$30=$AY$1,IF(IFERROR(M43*1,"bad")="bad",0,1),IF(M$30=$AZ$1,IF(IFERROR(IF(M43=TRUNC(M43),1,"bad"),"bad")="bad",0,1),IF(M$30=$BA$1,IF(AND(IF(IFERROR(M43*1,"bad")="bad",0,1)=1,M43>=0),1,0),IF(M$30=$BB$1,IF(AND(IF(IFERROR(IF(M43=TRUNC(M43),1,"bad"),"bad")="bad",0,1)=1,M43>=0),1,0),IF(M$30=$BC$1,IF(AND(IF(IFERROR(M43*1,"bad")="bad",0,1)=1,M43>0),1,0),IF(M$30=$BD$1,IF(AND(IF(IFERROR(IF(M43=TRUNC(M43),1,"bad"),"bad")="bad",0,1)=1,M43>0),1,0),IF(M$30=$BE$1,1,IF(M$30=$BF$1,IF(IFERROR(HLOOKUP(M43,$AX$4:$BG$4,1,0),"bad")="bad",0,1),0)))))))))))) -> 0 | BD43: =IF(N$30="",1,IF(N$4=99,1,IF(N43="",0,IF(N$30=$AX$1,IF(ISNA(MATCH(N43,$AU$30:$AV$30,0)),0,1),IF(N$30=$AY$1,IF(IFERROR(N43*1,"bad")="bad",0,1),IF(N$30=$AZ$1,IF(IFERROR(IF(N43=TRUNC(N43),1,"bad"),"bad")="bad",0,1),IF(N$30=$BA$1,IF(AND(IF(IFERROR(N43*1,"bad")="bad",0,1)=1,N43>=0),1,0),IF(N$30=$BB$1,IF(AND(IF(IFERROR(IF(N43=TRUNC(N43),1,"bad"),"bad")="bad",0,1)=1,N43>=0),1,0),IF(N$30=$BC$1,IF(AND(IF(IFERROR(N43*1,"bad")="bad",0,1)=1,N43>0),1,0),IF(N$30=$BD$1,IF(AND(IF(IFERROR(IF(N43=TRUNC(N43),1,"bad"),"bad")="bad",0,1)=1,N43>0),1,0),IF(N$30=$BE$1,1,IF(N$30=$BF$1,IF(IFERROR(HLOOKUP(N43,$AX$4:$BG$4,1,0),"bad")="bad",0,1),0)))))))))))) -> 0 | ... CA43: =IF(AK$30="",1,IF(AK$4=99,1,IF(AK43="",0,IF(AK$30=$AX$1,IF(ISNA(MATCH(AK43,$AU$30:$AV$30,0)),0,1),IF(AK$30=$AY$1,IF(IFERROR(AK43*1,"bad")="bad",0,1),IF(AK$30=$AZ$1,IF(IFERROR(IF(AK43=TRUNC(AK43),1,"bad"),"bad")="bad",0,1),IF(AK$30=$BA$1,IF(AND(IF(IFERROR(AK43*1,"bad")="bad",0,1)=1,AK43>=0),1,0),IF(AK$30=$BB$1,IF(AND(IF(IFERROR(IF(AK43=TRUNC(AK43),1,"bad"),"bad")="bad",0,1)=1,AK43>=0),1,0),IF(AK$30=$BC$1,IF(AND(IF(IFERROR(AK43*1,"bad")="bad",0,1)=1,AK43>0),1,0),IF(AK$30=$BD$1,IF(AND(IF(IFERROR(IF(AK43=TRUNC(AK43),1,"bad"),"bad")="bad",0,1)=1,AK43>0),1,0),IF(AK$30=$BE$1,1,IF(AK$30=$BF$1,IF(IFERROR(HLOOKUP(AK43,$AX$4:$BG$4,1,0),"bad")="bad",0,1),0)))))))))))) -> 0 | CB43: =IF(AM$30="",1,IF(AM$4=99,1,IF(AM43="",0,IF(AM$30=$AX$1,IF(ISNA(MATCH(AM43,$AU$30:$AV$30,0)),0,1),IF(AM$30=$AY$1,IF(IFERROR(AM43*1,"bad")="bad",0,1),IF(AM$30=$AZ$1,IF(IFERROR(IF(AM43=TRUNC(AM43),1,"bad"),"bad")="bad",0,1),IF(AM$30=$BA$1,IF(AND(IF(IFERROR(AM43*1,"bad")="bad",0,1)=1,AM43>=0),1,0),IF(AM$30=$BB$1,IF(AND(IF(IFERROR(IF(AM43=TRUNC(AM43),1,"bad"),"bad")="bad",0,1)=1,AM43>=0),1,0),IF(AM$30=$BC$1,IF(AND(IF(IFERROR(AM43*1,"bad")="bad",0,1)=1,AM43>0),1,0),IF(AM$30=$BD$1,IF(AND(IF(IFERROR(IF(AM43=TRUNC(AM43),1,"bad"),"bad")="bad",0,1)=1,AM43>0),1,0),IF(AM$30=$BE$1,1,IF(AM$30=$BF$1,IF(IFERROR(HLOOKUP(AM43,$AX$4:$BG$4,1,0),"bad")="bad",0,1),0)))))))))))) -> 0 | CC43: =IF(ISNA(MATCH(AN43,$AU$30:$AV$30,0)),0,1) -> 1 | CG43: =IF(AR$30="",1,IF(AR43="",0,IF(AR$30=$AX$1,IF(ISNA(MATCH(AR43,$AU$30:$AV$30,0)),0,1),IF(AR$30=$AY$1,IF(IFERROR(AR43*1,"bad")="bad",0,1),IF(AR$30=$AZ$1,IF(IFERROR(IF(AR43=TRUNC(AR43),1,"bad"),"bad")="bad",0,1),IF(AR$30=$BA$1,IF(AND(IF(IFERROR(AR43*1,"bad")="bad",0,1)=1,AR43>=0),1,0),IF(AR$30=$BB$1,IF(AND(IF(IFERROR(IF(AR43=TRUNC(AR43),1,"bad"),"bad")="bad",0,1)=1,AR43>=0),1,0),IF(AR$30=$BC$1,IF(AND(IF(IFERROR(AR43*1,"bad")="bad",0,1)=1,AR43>0),1,0),IF(AR$30=$BD$1,IF(AND(IF(IFERROR(IF(AR43=TRUNC(AR43),1,"bad"),"bad")="bad",0,1)=1,AR43>0),1,0),IF(AR$30=$BE$1,1,IF(AR$30=$BF$1,IF(IFERROR(HLOOKUP(AR43,$AX$4:$BG$4,1,0),"bad")="bad",0,1),0))))))))))) -> 1 | CL43: =IF($F43="","",CL$30) | CM43: =IF($F43="","",CM$30) | CN43: =IF($F43="","",CN$30) | CO43: =IF($F43="","",CO$30) | CP43: =IF($F43="","",CP$30) | CQ43: =IF($F43="","",CQ$30) | CR43: =IF($F43="","",CR$30) | CS43: =IF($F43="","",CS$30) | ... CU43: =IF($F43="","",CU$30)
B44: =IF(F44="","",ROW()-30) | J44: =IF($F44="","",IFERROR(IF(H44>I44,$AU$1,IF(H44/I44>=0.75,1,0)),$AU$1)) | X44: =IF(F44="","",IF(G44>=$G$6,1,0)) | AR44: =IF($F44="","",IF(AN44=1,1,IF(AT44<>1,$AU$1,IF(SUMIF($G$4:$AM$4,1,G44:AM44)=COUNTIF($G$4:$AM$4,1),1,0)))) | AT44: =IF(SUM(AW44:CG44)=COUNT(AW44:CG44),1,0) -> 0 | AU44: =IF($F44="","",AU$30) | AV44: =IF($F44="","",AV$30) | AW44: =IF(G$30="",1,IF(G$4=99,1,IF(G44="",0,IF(G$30=$AX$1,IF(ISNA(MATCH(G44,$AU$30:$AV$30,0)),0,1),IF(G$30=$AY$1,IF(IFERROR(G44*1,"bad")="bad",0,1),IF(G$30=$AZ$1,IF(IFERROR(IF(G44=TRUNC(G44),1,"bad"),"bad")="bad",0,1),IF(G$30=$BA$1,IF(AND(IF(IFERROR(G44*1,"bad")="bad",0,1)=1,G44>=0),1,0),IF(G$30=$BB$1,IF(AND(IF(IFERROR(IF(G44=TRUNC(G44),1,"bad"),"bad")="bad",0,1)=1,G44>=0),1,0),IF(G$30=$BC$1,IF(AND(IF(IFERROR(G44*1,"bad")="bad",0,1)=1,G44>0),1,0),IF(G$30=$BD$1,IF(AND(IF(IFERROR(IF(G44=TRUNC(G44),1,"bad"),"bad")="bad",0,1)=1,G44>0),1,0),IF(G$30=$BE$1,1,IF(G$30=$BF$1,IF(IFERROR(HLOOKUP(G44,$AX$4:$BG$4,1,0),"bad")="bad",0,1),0)))))))))))) -> 0 | AX44: =IF(H$30="",1,IF(H$4=99,1,IF(H44="",0,IF(H$30=$AX$1,IF(ISNA(MATCH(H44,$AU$30:$AV$30,0)),0,1),IF(H$30=$AY$1,IF(IFERROR(H44*1,"bad")="bad",0,1),IF(H$30=$AZ$1,IF(IFERROR(IF(H44=TRUNC(H44),1,"bad"),"bad")="bad",0,1),IF(H$30=$BA$1,IF(AND(IF(IFERROR(H44*1,"bad")="bad",0,1)=1,H44>=0),1,0),IF(H$30=$BB$1,IF(AND(IF(IFERROR(IF(H44=TRUNC(H44),1,"bad"),"bad")="bad",0,1)=1,H44>=0),1,0),IF(H$30=$BC$1,IF(AND(IF(IFERROR(H44*1,"bad")="bad",0,1)=1,H44>0),1,0),IF(H$30=$BD$1,IF(AND(IF(IFERROR(IF(H44=TRUNC(H44),1,"bad"),"bad")="bad",0,1)=1,H44>0),1,0),IF(H$30=$BE$1,1,IF(H$30=$BF$1,IF(IFERROR(HLOOKUP(H44,$AX$4:$BG$4,1,0),"bad")="bad",0,1),0)))))))))))) -> 0 | AY44: =IF(I$30="",1,IF(I$4=99,1,IF(I44="",0,IF(I$30=$AX$1,IF(ISNA(MATCH(I44,$AU$30:$AV$30,0)),0,1),IF(I$30=$AY$1,IF(IFERROR(I44*1,"bad")="bad",0,1),IF(I$30=$AZ$1,IF(IFERROR(IF(I44=TRUNC(I44),1,"bad"),"bad")="bad",0,1),IF(I$30=$BA$1,IF(AND(IF(IFERROR(I44*1,"bad")="bad",0,1)=1,I44>=0),1,0),IF(I$30=$BB$1,IF(AND(IF(IFERROR(IF(I44=TRUNC(I44),1,"bad"),"bad")="bad",0,1)=1,I44>=0),1,0),IF(I$30=$BC$1,IF(AND(IF(IFERROR(I44*1,"bad")="bad",0,1)=1,I44>0),1,0),IF(I$30=$BD$1,IF(AND(IF(IFERROR(IF(I44=TRUNC(I44),1,"bad"),"bad")="bad",0,1)=1,I44>0),1,0),IF(I$30=$BE$1,1,IF(I$30=$BF$1,IF(IFERROR(HLOOKUP(I44,$AX$4:$BG$4,1,0),"bad")="bad",0,1),0)))))))))))) -> 0 | AZ44: =IF(J$30="",1,IF(J$4=99,1,IF(J44="",0,IF(J$30=$AX$1,IF(ISNA(MATCH(J44,$AU$30:$AV$30,0)),0,1),IF(J$30=$AY$1,IF(IFERROR(J44*1,"bad")="bad",0,1),IF(J$30=$AZ$1,IF(IFERROR(IF(J44=TRUNC(J44),1,"bad"),"bad")="bad",0,1),IF(J$30=$BA$1,IF(AND(IF(IFERROR(J44*1,"bad")="bad",0,1)=1,J44>=0),1,0),IF(J$30=$BB$1,IF(AND(IF(IFERROR(IF(J44=TRUNC(J44),1,"bad"),"bad")="bad",0,1)=1,J44>=0),1,0),IF(J$30=$BC$1,IF(AND(IF(IFERROR(J44*1,"bad")="bad",0,1)=1,J44>0),1,0),IF(J$30=$BD$1,IF(AND(IF(IFERROR(IF(J44=TRUNC(J44),1,"bad"),"bad")="bad",0,1)=1,J44>0),1,0),IF(J$30=$BE$1,1,IF(J$30=$BF$1,IF(IFERROR(HLOOKUP(J44,$AX$4:$BG$4,1,0),"bad")="bad",0,1),0)))))))))))) -> 1 | BA44: =IF(K$30="",1,IF(K$4=99,1,IF(K44="",0,IF(K$30=$AX$1,IF(ISNA(MATCH(K44,$AU$30:$AV$30,0)),0,1),IF(K$30=$AY$1,IF(IFERROR(K44*1,"bad")="bad",0,1),IF(K$30=$AZ$1,IF(IFERROR(IF(K44=TRUNC(K44),1,"bad"),"bad")="bad",0,1),IF(K$30=$BA$1,IF(AND(IF(IFERROR(K44*1,"bad")="bad",0,1)=1,K44>=0),1,0),IF(K$30=$BB$1,IF(AND(IF(IFERROR(IF(K44=TRUNC(K44),1,"bad"),"bad")="bad",0,1)=1,K44>=0),1,0),IF(K$30=$BC$1,IF(AND(IF(IFERROR(K44*1,"bad")="bad",0,1)=1,K44>0),1,0),IF(K$30=$BD$1,IF(AND(IF(IFERROR(IF(K44=TRUNC(K44),1,"bad"),"bad")="bad",0,1)=1,K44>0),1,0),IF(K$30=$BE$1,1,IF(K$30=$BF$1,IF(IFERROR(HLOOKUP(K44,$AX$4:$BG$4,1,0),"bad")="bad",0,1),0)))))))))))) -> 0 | BB44: =IF(L$30="",1,IF(L$4=99,1,IF(L44="",0,IF(L$30=$AX$1,IF(ISNA(MATCH(L44,$AU$30:$AV$30,0)),0,1),IF(L$30=$AY$1,IF(IFERROR(L44*1,"bad")="bad",0,1),IF(L$30=$AZ$1,IF(IFERROR(IF(L44=TRUNC(L44),1,"bad"),"bad")="bad",0,1),IF(L$30=$BA$1,IF(AND(IF(IFERROR(L44*1,"bad")="bad",0,1)=1,L44>=0),1,0),IF(L$30=$BB$1,IF(AND(IF(IFERROR(IF(L44=TRUNC(L44),1,"bad"),"bad")="bad",0,1)=1,L44>=0),1,0),IF(L$30=$BC$1,IF(AND(IF(IFERROR(L44*1,"bad")="bad",0,1)=1,L44>0),1,0),IF(L$30=$BD$1,IF(AND(IF(IFERROR(IF(L44=TRUNC(L44),1,"bad"),"bad")="bad",0,1)=1,L44>0),1,0),IF(L$30=$BE$1,1,IF(L$30=$BF$1,IF(IFERROR(HLOOKUP(L44,$AX$4:$BG$4,1,0),"bad")="bad",0,1),0)))))))))))) -> 0 | BC44: =IF(M$30="",1,IF(M$4=99,1,IF(M44="",0,IF(M$30=$AX$1,IF(ISNA(MATCH(M44,$AU$30:$AV$30,0)),0,1),IF(M$30=$AY$1,IF(IFERROR(M44*1,"bad")="bad",0,1),IF(M$30=$AZ$1,IF(IFERROR(IF(M44=TRUNC(M44),1,"bad"),"bad")="bad",0,1),IF(M$30=$BA$1,IF(AND(IF(IFERROR(M44*1,"bad")="bad",0,1)=1,M44>=0),1,0),IF(M$30=$BB$1,IF(AND(IF(IFERROR(IF(M44=TRUNC(M44),1,"bad"),"bad")="bad",0,1)=1,M44>=0),1,0),IF(M$30=$BC$1,IF(AND(IF(IFERROR(M44*1,"bad")="bad",0,1)=1,M44>0),1,0),IF(M$30=$BD$1,IF(AND(IF(IFERROR(IF(M44=TRUNC(M44),1,"bad"),"bad")="bad",0,1)=1,M44>0),1,0),IF(M$30=$BE$1,1,IF(M$30=$BF$1,IF(IFERROR(HLOOKUP(M44,$AX$4:$BG$4,1,0),"bad")="bad",0,1),0)))))))))))) -> 0 | BD44: =IF(N$30="",1,IF(N$4=99,1,IF(N44="",0,IF(N$30=$AX$1,IF(ISNA(MATCH(N44,$AU$30:$AV$30,0)),0,1),IF(N$30=$AY$1,IF(IFERROR(N44*1,"bad")="bad",0,1),IF(N$30=$AZ$1,IF(IFERROR(IF(N44=TRUNC(N44),1,"bad"),"bad")="bad",0,1),IF(N$30=$BA$1,IF(AND(IF(IFERROR(N44*1,"bad")="bad",0,1)=1,N44>=0),1,0),IF(N$30=$BB$1,IF(AND(IF(IFERROR(IF(N44=TRUNC(N44),1,"bad"),"bad")="bad",0,1)=1,N44>=0),1,0),IF(N$30=$BC$1,IF(AND(IF(IFERROR(N44*1,"bad")="bad",0,1)=1,N44>0),1,0),IF(N$30=$BD$1,IF(AND(IF(IFERROR(IF(N44=TRUNC(N44),1,"bad"),"bad")="bad",0,1)=1,N44>0),1,0),IF(N$30=$BE$1,1,IF(N$30=$BF$1,IF(IFERROR(HLOOKUP(N44,$AX$4:$BG$4,1,0),"bad")="bad",0,1),0)))))))))))) -> 0 | ... CA44: =IF(AK$30="",1,IF(AK$4=99,1,IF(AK44="",0,IF(AK$30=$AX$1,IF(ISNA(MATCH(AK44,$AU$30:$AV$30,0)),0,1),IF(AK$30=$AY$1,IF(IFERROR(AK44*1,"bad")="bad",0,1),IF(AK$30=$AZ$1,IF(IFERROR(IF(AK44=TRUNC(AK44),1,"bad"),"bad")="bad",0,1),IF(AK$30=$BA$1,IF(AND(IF(IFERROR(AK44*1,"bad")="bad",0,1)=1,AK44>=0),1,0),IF(AK$30=$BB$1,IF(AND(IF(IFERROR(IF(AK44=TRUNC(AK44),1,"bad"),"bad")="bad",0,1)=1,AK44>=0),1,0),IF(AK$30=$BC$1,IF(AND(IF(IFERROR(AK44*1,"bad")="bad",0,1)=1,AK44>0),1,0),IF(AK$30=$BD$1,IF(AND(IF(IFERROR(IF(AK44=TRUNC(AK44),1,"bad"),"bad")="bad",0,1)=1,AK44>0),1,0),IF(AK$30=$BE$1,1,IF(AK$30=$BF$1,IF(IFERROR(HLOOKUP(AK44,$AX$4:$BG$4,1,0),"bad")="bad",0,1),0)))))))))))) -> 0 | CB44: =IF(AM$30="",1,IF(AM$4=99,1,IF(AM44="",0,IF(AM$30=$AX$1,IF(ISNA(MATCH(AM44,$AU$30:$AV$30,0)),0,1),IF(AM$30=$AY$1,IF(IFERROR(AM44*1,"bad")="bad",0,1),IF(AM$30=$AZ$1,IF(IFERROR(IF(AM44=TRUNC(AM44),1,"bad"),"bad")="bad",0,1),IF(AM$30=$BA$1,IF(AND(IF(IFERROR(AM44*1,"bad")="bad",0,1)=1,AM44>=0),1,0),IF(AM$30=$BB$1,IF(AND(IF(IFERROR(IF(AM44=TRUNC(AM44),1,"bad"),"bad")="bad",0,1)=1,AM44>=0),1,0),IF(AM$30=$BC$1,IF(AND(IF(IFERROR(AM44*1,"bad")="bad",0,1)=1,AM44>0),1,0),IF(AM$30=$BD$1,IF(AND(IF(IFERROR(IF(AM44=TRUNC(AM44),1,"bad"),"bad")="bad",0,1)=1,AM44>0),1,0),IF(AM$30=$BE$1,1,IF(AM$30=$BF$1,IF(IFERROR(HLOOKUP(AM44,$AX$4:$BG$4,1,0),"bad")="bad",0,1),0)))))))))))) -> 0 | CC44: =IF(ISNA(MATCH(AN44,$AU$30:$AV$30,0)),0,1) -> 1 | CG44: =IF(AR$30="",1,IF(AR44="",0,IF(AR$30=$AX$1,IF(ISNA(MATCH(AR44,$AU$30:$AV$30,0)),0,1),IF(AR$30=$AY$1,IF(IFERROR(AR44*1,"bad")="bad",0,1),IF(AR$30=$AZ$1,IF(IFERROR(IF(AR44=TRUNC(AR44),1,"bad"),"bad")="bad",0,1),IF(AR$30=$BA$1,IF(AND(IF(IFERROR(AR44*1,"bad")="bad",0,1)=1,AR44>=0),1,0),IF(AR$30=$BB$1,IF(AND(IF(IFERROR(IF(AR44=TRUNC(AR44),1,"bad"),"bad")="bad",0,1)=1,AR44>=0),1,0),IF(AR$30=$BC$1,IF(AND(IF(IFERROR(AR44*1,"bad")="bad",0,1)=1,AR44>0),1,0),IF(AR$30=$BD$1,IF(AND(IF(IFERROR(IF(AR44=TRUNC(AR44),1,"bad"),"bad")="bad",0,1)=1,AR44>0),1,0),IF(AR$30=$BE$1,1,IF(AR$30=$BF$1,IF(IFERROR(HLOOKUP(AR44,$AX$4:$BG$4,1,0),"bad")="bad",0,1),0))))))))))) -> 1 | CL44: =IF($F44="","",CL$30) | CM44: =IF($F44="","",CM$30) | CN44: =IF($F44="","",CN$30) | CO44: =IF($F44="","",CO$30) | CP44: =IF($F44="","",CP$30) | CQ44: =IF($F44="","",CQ$30) | CR44: =IF($F44="","",CR$30) | CS44: =IF($F44="","",CS$30) | ... CU44: =IF($F44="","",CU$30)
B45: =IF(F45="","",ROW()-30) | J45: =IF($F45="","",IFERROR(IF(H45>I45,$AU$1,IF(H45/I45>=0.75,1,0)),$AU$1)) | X45: =IF(F45="","",IF(G45>=$G$6,1,0)) | AR45: =IF($F45="","",IF(AN45=1,1,IF(AT45<>1,$AU$1,IF(SUMIF($G$4:$AM$4,1,G45:AM45)=COUNTIF($G$4:$AM$4,1),1,0)))) | AT45: =IF(SUM(AW45:CG45)=COUNT(AW45:CG45),1,0) -> 0 | AU45: =IF($F45="","",AU$30) | AV45: =IF($F45="","",AV$30) | AW45: =IF(G$30="",1,IF(G$4=99,1,IF(G45="",0,IF(G$30=$AX$1,IF(ISNA(MATCH(G45,$AU$30:$AV$30,0)),0,1),IF(G$30=$AY$1,IF(IFERROR(G45*1,"bad")="bad",0,1),IF(G$30=$AZ$1,IF(IFERROR(IF(G45=TRUNC(G45),1,"bad"),"bad")="bad",0,1),IF(G$30=$BA$1,IF(AND(IF(IFERROR(G45*1,"bad")="bad",0,1)=1,G45>=0),1,0),IF(G$30=$BB$1,IF(AND(IF(IFERROR(IF(G45=TRUNC(G45),1,"bad"),"bad")="bad",0,1)=1,G45>=0),1,0),IF(G$30=$BC$1,IF(AND(IF(IFERROR(G45*1,"bad")="bad",0,1)=1,G45>0),1,0),IF(G$30=$BD$1,IF(AND(IF(IFERROR(IF(G45=TRUNC(G45),1,"bad"),"bad")="bad",0,1)=1,G45>0),1,0),IF(G$30=$BE$1,1,IF(G$30=$BF$1,IF(IFERROR(HLOOKUP(G45,$AX$4:$BG$4,1,0),"bad")="bad",0,1),0)))))))))))) -> 0 | AX45: =IF(H$30="",1,IF(H$4=99,1,IF(H45="",0,IF(H$30=$AX$1,IF(ISNA(MATCH(H45,$AU$30:$AV$30,0)),0,1),IF(H$30=$AY$1,IF(IFERROR(H45*1,"bad")="bad",0,1),IF(H$30=$AZ$1,IF(IFERROR(IF(H45=TRUNC(H45),1,"bad"),"bad")="bad",0,1),IF(H$30=$BA$1,IF(AND(IF(IFERROR(H45*1,"bad")="bad",0,1)=1,H45>=0),1,0),IF(H$30=$BB$1,IF(AND(IF(IFERROR(IF(H45=TRUNC(H45),1,"bad"),"bad")="bad",0,1)=1,H45>=0),1,0),IF(H$30=$BC$1,IF(AND(IF(IFERROR(H45*1,"bad")="bad",0,1)=1,H45>0),1,0),IF(H$30=$BD$1,IF(AND(IF(IFERROR(IF(H45=TRUNC(H45),1,"bad"),"bad")="bad",0,1)=1,H45>0),1,0),IF(H$30=$BE$1,1,IF(H$30=$BF$1,IF(IFERROR(HLOOKUP(H45,$AX$4:$BG$4,1,0),"bad")="bad",0,1),0)))))))))))) -> 0 | AY45: =IF(I$30="",1,IF(I$4=99,1,IF(I45="",0,IF(I$30=$AX$1,IF(ISNA(MATCH(I45,$AU$30:$AV$30,0)),0,1),IF(I$30=$AY$1,IF(IFERROR(I45*1,"bad")="bad",0,1),IF(I$30=$AZ$1,IF(IFERROR(IF(I45=TRUNC(I45),1,"bad"),"bad")="bad",0,1),IF(I$30=$BA$1,IF(AND(IF(IFERROR(I45*1,"bad")="bad",0,1)=1,I45>=0),1,0),IF(I$30=$BB$1,IF(AND(IF(IFERROR(IF(I45=TRUNC(I45),1,"bad"),"bad")="bad",0,1)=1,I45>=0),1,0),IF(I$30=$BC$1,IF(AND(IF(IFERROR(I45*1,"bad")="bad",0,1)=1,I45>0),1,0),IF(I$30=$BD$1,IF(AND(IF(IFERROR(IF(I45=TRUNC(I45),1,"bad"),"bad")="bad",0,1)=1,I45>0),1,0),IF(I$30=$BE$1,1,IF(I$30=$BF$1,IF(IFERROR(HLOOKUP(I45,$AX$4:$BG$4,1,0),"bad")="bad",0,1),0)))))))))))) -> 0 | AZ45: =IF(J$30="",1,IF(J$4=99,1,IF(J45="",0,IF(J$30=$AX$1,IF(ISNA(MATCH(J45,$AU$30:$AV$30,0)),0,1),IF(J$30=$AY$1,IF(IFERROR(J45*1,"bad")="bad",0,1),IF(J$30=$AZ$1,IF(IFERROR(IF(J45=TRUNC(J45),1,"bad"),"bad")="bad",0,1),IF(J$30=$BA$1,IF(AND(IF(IFERROR(J45*1,"bad")="bad",0,1)=1,J45>=0),1,0),IF(J$30=$BB$1,IF(AND(IF(IFERROR(IF(J45=TRUNC(J45),1,"bad"),"bad")="bad",0,1)=1,J45>=0),1,0),IF(J$30=$BC$1,IF(AND(IF(IFERROR(J45*1,"bad")="bad",0,1)=1,J45>0),1,0),IF(J$30=$BD$1,IF(AND(IF(IFERROR(IF(J45=TRUNC(J45),1,"bad"),"bad")="bad",0,1)=1,J45>0),1,0),IF(J$30=$BE$1,1,IF(J$30=$BF$1,IF(IFERROR(HLOOKUP(J45,$AX$4:$BG$4,1,0),"bad")="bad",0,1),0)))))))))))) -> 1 | BA45: =IF(K$30="",1,IF(K$4=99,1,IF(K45="",0,IF(K$30=$AX$1,IF(ISNA(MATCH(K45,$AU$30:$AV$30,0)),0,1),IF(K$30=$AY$1,IF(IFERROR(K45*1,"bad")="bad",0,1),IF(K$30=$AZ$1,IF(IFERROR(IF(K45=TRUNC(K45),1,"bad"),"bad")="bad",0,1),IF(K$30=$BA$1,IF(AND(IF(IFERROR(K45*1,"bad")="bad",0,1)=1,K45>=0),1,0),IF(K$30=$BB$1,IF(AND(IF(IFERROR(IF(K45=TRUNC(K45),1,"bad"),"bad")="bad",0,1)=1,K45>=0),1,0),IF(K$30=$BC$1,IF(AND(IF(IFERROR(K45*1,"bad")="bad",0,1)=1,K45>0),1,0),IF(K$30=$BD$1,IF(AND(IF(IFERROR(IF(K45=TRUNC(K45),1,"bad"),"bad")="bad",0,1)=1,K45>0),1,0),IF(K$30=$BE$1,1,IF(K$30=$BF$1,IF(IFERROR(HLOOKUP(K45,$AX$4:$BG$4,1,0),"bad")="bad",0,1),0)))))))))))) -> 0 | BB45: =IF(L$30="",1,IF(L$4=99,1,IF(L45="",0,IF(L$30=$AX$1,IF(ISNA(MATCH(L45,$AU$30:$AV$30,0)),0,1),IF(L$30=$AY$1,IF(IFERROR(L45*1,"bad")="bad",0,1),IF(L$30=$AZ$1,IF(IFERROR(IF(L45=TRUNC(L45),1,"bad"),"bad")="bad",0,1),IF(L$30=$BA$1,IF(AND(IF(IFERROR(L45*1,"bad")="bad",0,1)=1,L45>=0),1,0),IF(L$30=$BB$1,IF(AND(IF(IFERROR(IF(L45=TRUNC(L45),1,"bad"),"bad")="bad",0,1)=1,L45>=0),1,0),IF(L$30=$BC$1,IF(AND(IF(IFERROR(L45*1,"bad")="bad",0,1)=1,L45>0),1,0),IF(L$30=$BD$1,IF(AND(IF(IFERROR(IF(L45=TRUNC(L45),1,"bad"),"bad")="bad",0,1)=1,L45>0),1,0),IF(L$30=$BE$1,1,IF(L$30=$BF$1,IF(IFERROR(HLOOKUP(L45,$AX$4:$BG$4,1,0),"bad")="bad",0,1),0)))))))))))) -> 0 | BC45: =IF(M$30="",1,IF(M$4=99,1,IF(M45="",0,IF(M$30=$AX$1,IF(ISNA(MATCH(M45,$AU$30:$AV$30,0)),0,1),IF(M$30=$AY$1,IF(IFERROR(M45*1,"bad")="bad",0,1),IF(M$30=$AZ$1,IF(IFERROR(IF(M45=TRUNC(M45),1,"bad"),"bad")="bad",0,1),IF(M$30=$BA$1,IF(AND(IF(IFERROR(M45*1,"bad")="bad",0,1)=1,M45>=0),1,0),IF(M$30=$BB$1,IF(AND(IF(IFERROR(IF(M45=TRUNC(M45),1,"bad"),"bad")="bad",0,1)=1,M45>=0),1,0),IF(M$30=$BC$1,IF(AND(IF(IFERROR(M45*1,"bad")="bad",0,1)=1,M45>0),1,0),IF(M$30=$BD$1,IF(AND(IF(IFERROR(IF(M45=TRUNC(M45),1,"bad"),"bad")="bad",0,1)=1,M45>0),1,0),IF(M$30=$BE$1,1,IF(M$30=$BF$1,IF(IFERROR(HLOOKUP(M45,$AX$4:$BG$4,1,0),"bad")="bad",0,1),0)))))))))))) -> 0 | BD45: =IF(N$30="",1,IF(N$4=99,1,IF(N45="",0,IF(N$30=$AX$1,IF(ISNA(MATCH(N45,$AU$30:$AV$30,0)),0,1),IF(N$30=$AY$1,IF(IFERROR(N45*1,"bad")="bad",0,1),IF(N$30=$AZ$1,IF(IFERROR(IF(N45=TRUNC(N45),1,"bad"),"bad")="bad",0,1),IF(N$30=$BA$1,IF(AND(IF(IFERROR(N45*1,"bad")="bad",0,1)=1,N45>=0),1,0),IF(N$30=$BB$1,IF(AND(IF(IFERROR(IF(N45=TRUNC(N45),1,"bad"),"bad")="bad",0,1)=1,N45>=0),1,0),IF(N$30=$BC$1,IF(AND(IF(IFERROR(N45*1,"bad")="bad",0,1)=1,N45>0),1,0),IF(N$30=$BD$1,IF(AND(IF(IFERROR(IF(N45=TRUNC(N45),1,"bad"),"bad")="bad",0,1)=1,N45>0),1,0),IF(N$30=$BE$1,1,IF(N$30=$BF$1,IF(IFERROR(HLOOKUP(N45,$AX$4:$BG$4,1,0),"bad")="bad",0,1),0)))))))))))) -> 0 | ... CA45: =IF(AK$30="",1,IF(AK$4=99,1,IF(AK45="",0,IF(AK$30=$AX$1,IF(ISNA(MATCH(AK45,$AU$30:$AV$30,0)),0,1),IF(AK$30=$AY$1,IF(IFERROR(AK45*1,"bad")="bad",0,1),IF(AK$30=$AZ$1,IF(IFERROR(IF(AK45=TRUNC(AK45),1,"bad"),"bad")="bad",0,1),IF(AK$30=$BA$1,IF(AND(IF(IFERROR(AK45*1,"bad")="bad",0,1)=1,AK45>=0),1,0),IF(AK$30=$BB$1,IF(AND(IF(IFERROR(IF(AK45=TRUNC(AK45),1,"bad"),"bad")="bad",0,1)=1,AK45>=0),1,0),IF(AK$30=$BC$1,IF(AND(IF(IFERROR(AK45*1,"bad")="bad",0,1)=1,AK45>0),1,0),IF(AK$30=$BD$1,IF(AND(IF(IFERROR(IF(AK45=TRUNC(AK45),1,"bad"),"bad")="bad",0,1)=1,AK45>0),1,0),IF(AK$30=$BE$1,1,IF(AK$30=$BF$1,IF(IFERROR(HLOOKUP(AK45,$AX$4:$BG$4,1,0),"bad")="bad",0,1),0)))))))))))) -> 0 | CB45: =IF(AM$30="",1,IF(AM$4=99,1,IF(AM45="",0,IF(AM$30=$AX$1,IF(ISNA(MATCH(AM45,$AU$30:$AV$30,0)),0,1),IF(AM$30=$AY$1,IF(IFERROR(AM45*1,"bad")="bad",0,1),IF(AM$30=$AZ$1,IF(IFERROR(IF(AM45=TRUNC(AM45),1,"bad"),"bad")="bad",0,1),IF(AM$30=$BA$1,IF(AND(IF(IFERROR(AM45*1,"bad")="bad",0,1)=1,AM45>=0),1,0),IF(AM$30=$BB$1,IF(AND(IF(IFERROR(IF(AM45=TRUNC(AM45),1,"bad"),"bad")="bad",0,1)=1,AM45>=0),1,0),IF(AM$30=$BC$1,IF(AND(IF(IFERROR(AM45*1,"bad")="bad",0,1)=1,AM45>0),1,0),IF(AM$30=$BD$1,IF(AND(IF(IFERROR(IF(AM45=TRUNC(AM45),1,"bad"),"bad")="bad",0,1)=1,AM45>0),1,0),IF(AM$30=$BE$1,1,IF(AM$30=$BF$1,IF(IFERROR(HLOOKUP(AM45,$AX$4:$BG$4,1,0),"bad")="bad",0,1),0)))))))))))) -> 0 | CC45: =IF(ISNA(MATCH(AN45,$AU$30:$AV$30,0)),0,1) -> 1 | CG45: =IF(AR$30="",1,IF(AR45="",0,IF(AR$30=$AX$1,IF(ISNA(MATCH(AR45,$AU$30:$AV$30,0)),0,1),IF(AR$30=$AY$1,IF(IFERROR(AR45*1,"bad")="bad",0,1),IF(AR$30=$AZ$1,IF(IFERROR(IF(AR45=TRUNC(AR45),1,"bad"),"bad")="bad",0,1),IF(AR$30=$BA$1,IF(AND(IF(IFERROR(AR45*1,"bad")="bad",0,1)=1,AR45>=0),1,0),IF(AR$30=$BB$1,IF(AND(IF(IFERROR(IF(AR45=TRUNC(AR45),1,"bad"),"bad")="bad",0,1)=1,AR45>=0),1,0),IF(AR$30=$BC$1,IF(AND(IF(IFERROR(AR45*1,"bad")="bad",0,1)=1,AR45>0),1,0),IF(AR$30=$BD$1,IF(AND(IF(IFERROR(IF(AR45=TRUNC(AR45),1,"bad"),"bad")="bad",0,1)=1,AR45>0),1,0),IF(AR$30=$BE$1,1,IF(AR$30=$BF$1,IF(IFERROR(HLOOKUP(AR45,$AX$4:$BG$4,1,0),"bad")="bad",0,1),0))))))))))) -> 1 | CL45: =IF($F45="","",CL$30) | CM45: =IF($F45="","",CM$30) | CN45: =IF($F45="","",CN$30) | CO45: =IF($F45="","",CO$30) | CP45: =IF($F45="","",CP$30) | CQ45: =IF($F45="","",CQ$30) | CR45: =IF($F45="","",CR$30) | CS45: =IF($F45="","",CS$30) | ... CU45: =IF($F45="","",CU$30)
B46: =IF(F46="","",ROW()-30) | J46: =IF($F46="","",IFERROR(IF(H46>I46,$AU$1,IF(H46/I46>=0.75,1,0)),$AU$1)) | X46: =IF(F46="","",IF(G46>=$G$6,1,0)) | AR46: =IF($F46="","",IF(AN46=1,1,IF(AT46<>1,$AU$1,IF(SUMIF($G$4:$AM$4,1,G46:AM46)=COUNTIF($G$4:$AM$4,1),1,0)))) | AT46: =IF(SUM(AW46:CG46)=COUNT(AW46:CG46),1,0) -> 0 | AU46: =IF($F46="","",AU$30) | AV46: =IF($F46="","",AV$30) | AW46: =IF(G$30="",1,IF(G$4=99,1,IF(G46="",0,IF(G$30=$AX$1,IF(ISNA(MATCH(G46,$AU$30:$AV$30,0)),0,1),IF(G$30=$AY$1,IF(IFERROR(G46*1,"bad")="bad",0,1),IF(G$30=$AZ$1,IF(IFERROR(IF(G46=TRUNC(G46),1,"bad"),"bad")="bad",0,1),IF(G$30=$BA$1,IF(AND(IF(IFERROR(G46*1,"bad")="bad",0,1)=1,G46>=0),1,0),IF(G$30=$BB$1,IF(AND(IF(IFERROR(IF(G46=TRUNC(G46),1,"bad"),"bad")="bad",0,1)=1,G46>=0),1,0),IF(G$30=$BC$1,IF(AND(IF(IFERROR(G46*1,"bad")="bad",0,1)=1,G46>0),1,0),IF(G$30=$BD$1,IF(AND(IF(IFERROR(IF(G46=TRUNC(G46),1,"bad"),"bad")="bad",0,1)=1,G46>0),1,0),IF(G$30=$BE$1,1,IF(G$30=$BF$1,IF(IFERROR(HLOOKUP(G46,$AX$4:$BG$4,1,0),"bad")="bad",0,1),0)))))))))))) -> 0 | AX46: =IF(H$30="",1,IF(H$4=99,1,IF(H46="",0,IF(H$30=$AX$1,IF(ISNA(MATCH(H46,$AU$30:$AV$30,0)),0,1),IF(H$30=$AY$1,IF(IFERROR(H46*1,"bad")="bad",0,1),IF(H$30=$AZ$1,IF(IFERROR(IF(H46=TRUNC(H46),1,"bad"),"bad")="bad",0,1),IF(H$30=$BA$1,IF(AND(IF(IFERROR(H46*1,"bad")="bad",0,1)=1,H46>=0),1,0),IF(H$30=$BB$1,IF(AND(IF(IFERROR(IF(H46=TRUNC(H46),1,"bad"),"bad")="bad",0,1)=1,H46>=0),1,0),IF(H$30=$BC$1,IF(AND(IF(IFERROR(H46*1,"bad")="bad",0,1)=1,H46>0),1,0),IF(H$30=$BD$1,IF(AND(IF(IFERROR(IF(H46=TRUNC(H46),1,"bad"),"bad")="bad",0,1)=1,H46>0),1,0),IF(H$30=$BE$1,1,IF(H$30=$BF$1,IF(IFERROR(HLOOKUP(H46,$AX$4:$BG$4,1,0),"bad")="bad",0,1),0)))))))))))) -> 0 | AY46: =IF(I$30="",1,IF(I$4=99,1,IF(I46="",0,IF(I$30=$AX$1,IF(ISNA(MATCH(I46,$AU$30:$AV$30,0)),0,1),IF(I$30=$AY$1,IF(IFERROR(I46*1,"bad")="bad",0,1),IF(I$30=$AZ$1,IF(IFERROR(IF(I46=TRUNC(I46),1,"bad"),"bad")="bad",0,1),IF(I$30=$BA$1,IF(AND(IF(IFERROR(I46*1,"bad")="bad",0,1)=1,I46>=0),1,0),IF(I$30=$BB$1,IF(AND(IF(IFERROR(IF(I46=TRUNC(I46),1,"bad"),"bad")="bad",0,1)=1,I46>=0),1,0),IF(I$30=$BC$1,IF(AND(IF(IFERROR(I46*1,"bad")="bad",0,1)=1,I46>0),1,0),IF(I$30=$BD$1,IF(AND(IF(IFERROR(IF(I46=TRUNC(I46),1,"bad"),"bad")="bad",0,1)=1,I46>0),1,0),IF(I$30=$BE$1,1,IF(I$30=$BF$1,IF(IFERROR(HLOOKUP(I46,$AX$4:$BG$4,1,0),"bad")="bad",0,1),0)))))))))))) -> 0 | AZ46: =IF(J$30="",1,IF(J$4=99,1,IF(J46="",0,IF(J$30=$AX$1,IF(ISNA(MATCH(J46,$AU$30:$AV$30,0)),0,1),IF(J$30=$AY$1,IF(IFERROR(J46*1,"bad")="bad",0,1),IF(J$30=$AZ$1,IF(IFERROR(IF(J46=TRUNC(J46),1,"bad"),"bad")="bad",0,1),IF(J$30=$BA$1,IF(AND(IF(IFERROR(J46*1,"bad")="bad",0,1)=1,J46>=0),1,0),IF(J$30=$BB$1,IF(AND(IF(IFERROR(IF(J46=TRUNC(J46),1,"bad"),"bad")="bad",0,1)=1,J46>=0),1,0),IF(J$30=$BC$1,IF(AND(IF(IFERROR(J46*1,"bad")="bad",0,1)=1,J46>0),1,0),IF(J$30=$BD$1,IF(AND(IF(IFERROR(IF(J46=TRUNC(J46),1,"bad"),"bad")="bad",0,1)=1,J46>0),1,0),IF(J$30=$BE$1,1,IF(J$30=$BF$1,IF(IFERROR(HLOOKUP(J46,$AX$4:$BG$4,1,0),"bad")="bad",0,1),0)))))))))))) -> 1 | BA46: =IF(K$30="",1,IF(K$4=99,1,IF(K46="",0,IF(K$30=$AX$1,IF(ISNA(MATCH(K46,$AU$30:$AV$30,0)),0,1),IF(K$30=$AY$1,IF(IFERROR(K46*1,"bad")="bad",0,1),IF(K$30=$AZ$1,IF(IFERROR(IF(K46=TRUNC(K46),1,"bad"),"bad")="bad",0,1),IF(K$30=$BA$1,IF(AND(IF(IFERROR(K46*1,"bad")="bad",0,1)=1,K46>=0),1,0),IF(K$30=$BB$1,IF(AND(IF(IFERROR(IF(K46=TRUNC(K46),1,"bad"),"bad")="bad",0,1)=1,K46>=0),1,0),IF(K$30=$BC$1,IF(AND(IF(IFERROR(K46*1,"bad")="bad",0,1)=1,K46>0),1,0),IF(K$30=$BD$1,IF(AND(IF(IFERROR(IF(K46=TRUNC(K46),1,"bad"),"bad")="bad",0,1)=1,K46>0),1,0),IF(K$30=$BE$1,1,IF(K$30=$BF$1,IF(IFERROR(HLOOKUP(K46,$AX$4:$BG$4,1,0),"bad")="bad",0,1),0)))))))))))) -> 0 | BB46: =IF(L$30="",1,IF(L$4=99,1,IF(L46="",0,IF(L$30=$AX$1,IF(ISNA(MATCH(L46,$AU$30:$AV$30,0)),0,1),IF(L$30=$AY$1,IF(IFERROR(L46*1,"bad")="bad",0,1),IF(L$30=$AZ$1,IF(IFERROR(IF(L46=TRUNC(L46),1,"bad"),"bad")="bad",0,1),IF(L$30=$BA$1,IF(AND(IF(IFERROR(L46*1,"bad")="bad",0,1)=1,L46>=0),1,0),IF(L$30=$BB$1,IF(AND(IF(IFERROR(IF(L46=TRUNC(L46),1,"bad"),"bad")="bad",0,1)=1,L46>=0),1,0),IF(L$30=$BC$1,IF(AND(IF(IFERROR(L46*1,"bad")="bad",0,1)=1,L46>0),1,0),IF(L$30=$BD$1,IF(AND(IF(IFERROR(IF(L46=TRUNC(L46),1,"bad"),"bad")="bad",0,1)=1,L46>0),1,0),IF(L$30=$BE$1,1,IF(L$30=$BF$1,IF(IFERROR(HLOOKUP(L46,$AX$4:$BG$4,1,0),"bad")="bad",0,1),0)))))))))))) -> 0 | BC46: =IF(M$30="",1,IF(M$4=99,1,IF(M46="",0,IF(M$30=$AX$1,IF(ISNA(MATCH(M46,$AU$30:$AV$30,0)),0,1),IF(M$30=$AY$1,IF(IFERROR(M46*1,"bad")="bad",0,1),IF(M$30=$AZ$1,IF(IFERROR(IF(M46=TRUNC(M46),1,"bad"),"bad")="bad",0,1),IF(M$30=$BA$1,IF(AND(IF(IFERROR(M46*1,"bad")="bad",0,1)=1,M46>=0),1,0),IF(M$30=$BB$1,IF(AND(IF(IFERROR(IF(M46=TRUNC(M46),1,"bad"),"bad")="bad",0,1)=1,M46>=0),1,0),IF(M$30=$BC$1,IF(AND(IF(IFERROR(M46*1,"bad")="bad",0,1)=1,M46>0),1,0),IF(M$30=$BD$1,IF(AND(IF(IFERROR(IF(M46=TRUNC(M46),1,"bad"),"bad")="bad",0,1)=1,M46>0),1,0),IF(M$30=$BE$1,1,IF(M$30=$BF$1,IF(IFERROR(HLOOKUP(M46,$AX$4:$BG$4,1,0),"bad")="bad",0,1),0)))))))))))) -> 0 | BD46: =IF(N$30="",1,IF(N$4=99,1,IF(N46="",0,IF(N$30=$AX$1,IF(ISNA(MATCH(N46,$AU$30:$AV$30,0)),0,1),IF(N$30=$AY$1,IF(IFERROR(N46*1,"bad")="bad",0,1),IF(N$30=$AZ$1,IF(IFERROR(IF(N46=TRUNC(N46),1,"bad"),"bad")="bad",0,1),IF(N$30=$BA$1,IF(AND(IF(IFERROR(N46*1,"bad")="bad",0,1)=1,N46>=0),1,0),IF(N$30=$BB$1,IF(AND(IF(IFERROR(IF(N46=TRUNC(N46),1,"bad"),"bad")="bad",0,1)=1,N46>=0),1,0),IF(N$30=$BC$1,IF(AND(IF(IFERROR(N46*1,"bad")="bad",0,1)=1,N46>0),1,0),IF(N$30=$BD$1,IF(AND(IF(IFERROR(IF(N46=TRUNC(N46),1,"bad"),"bad")="bad",0,1)=1,N46>0),1,0),IF(N$30=$BE$1,1,IF(N$30=$BF$1,IF(IFERROR(HLOOKUP(N46,$AX$4:$BG$4,1,0),"bad")="bad",0,1),0)))))))))))) -> 0 | ... CA46: =IF(AK$30="",1,IF(AK$4=99,1,IF(AK46="",0,IF(AK$30=$AX$1,IF(ISNA(MATCH(AK46,$AU$30:$AV$30,0)),0,1),IF(AK$30=$AY$1,IF(IFERROR(AK46*1,"bad")="bad",0,1),IF(AK$30=$AZ$1,IF(IFERROR(IF(AK46=TRUNC(AK46),1,"bad"),"bad")="bad",0,1),IF(AK$30=$BA$1,IF(AND(IF(IFERROR(AK46*1,"bad")="bad",0,1)=1,AK46>=0),1,0),IF(AK$30=$BB$1,IF(AND(IF(IFERROR(IF(AK46=TRUNC(AK46),1,"bad"),"bad")="bad",0,1)=1,AK46>=0),1,0),IF(AK$30=$BC$1,IF(AND(IF(IFERROR(AK46*1,"bad")="bad",0,1)=1,AK46>0),1,0),IF(AK$30=$BD$1,IF(AND(IF(IFERROR(IF(AK46=TRUNC(AK46),1,"bad"),"bad")="bad",0,1)=1,AK46>0),1,0),IF(AK$30=$BE$1,1,IF(AK$30=$BF$1,IF(IFERROR(HLOOKUP(AK46,$AX$4:$BG$4,1,0),"bad")="bad",0,1),0)))))))))))) -> 0 | CB46: =IF(AM$30="",1,IF(AM$4=99,1,IF(AM46="",0,IF(AM$30=$AX$1,IF(ISNA(MATCH(AM46,$AU$30:$AV$30,0)),0,1),IF(AM$30=$AY$1,IF(IFERROR(AM46*1,"bad")="bad",0,1),IF(AM$30=$AZ$1,IF(IFERROR(IF(AM46=TRUNC(AM46),1,"bad"),"bad")="bad",0,1),IF(AM$30=$BA$1,IF(AND(IF(IFERROR(AM46*1,"bad")="bad",0,1)=1,AM46>=0),1,0),IF(AM$30=$BB$1,IF(AND(IF(IFERROR(IF(AM46=TRUNC(AM46),1,"bad"),"bad")="bad",0,1)=1,AM46>=0),1,0),IF(AM$30=$BC$1,IF(AND(IF(IFERROR(AM46*1,"bad")="bad",0,1)=1,AM46>0),1,0),IF(AM$30=$BD$1,IF(AND(IF(IFERROR(IF(AM46=TRUNC(AM46),1,"bad"),"bad")="bad",0,1)=1,AM46>0),1,0),IF(AM$30=$BE$1,1,IF(AM$30=$BF$1,IF(IFERROR(HLOOKUP(AM46,$AX$4:$BG$4,1,0),"bad")="bad",0,1),0)))))))))))) -> 0 | CC46: =IF(ISNA(MATCH(AN46,$AU$30:$AV$30,0)),0,1) -> 1 | CG46: =IF(AR$30="",1,IF(AR46="",0,IF(AR$30=$AX$1,IF(ISNA(MATCH(AR46,$AU$30:$AV$30,0)),0,1),IF(AR$30=$AY$1,IF(IFERROR(AR46*1,"bad")="bad",0,1),IF(AR$30=$AZ$1,IF(IFERROR(IF(AR46=TRUNC(AR46),1,"bad"),"bad")="bad",0,1),IF(AR$30=$BA$1,IF(AND(IF(IFERROR(AR46*1,"bad")="bad",0,1)=1,AR46>=0),1,0),IF(AR$30=$BB$1,IF(AND(IF(IFERROR(IF(AR46=TRUNC(AR46),1,"bad"),"bad")="bad",0,1)=1,AR46>=0),1,0),IF(AR$30=$BC$1,IF(AND(IF(IFERROR(AR46*1,"bad")="bad",0,1)=1,AR46>0),1,0),IF(AR$30=$BD$1,IF(AND(IF(IFERROR(IF(AR46=TRUNC(AR46),1,"bad"),"bad")="bad",0,1)=1,AR46>0),1,0),IF(AR$30=$BE$1,1,IF(AR$30=$BF$1,IF(IFERROR(HLOOKUP(AR46,$AX$4:$BG$4,1,0),"bad")="bad",0,1),0))))))))))) -> 1 | CL46: =IF($F46="","",CL$30) | CM46: =IF($F46="","",CM$30) | CN46: =IF($F46="","",CN$30) | CO46: =IF($F46="","",CO$30) | CP46: =IF($F46="","",CP$30) | CQ46: =IF($F46="","",CQ$30) | CR46: =IF($F46="","",CR$30) | CS46: =IF($F46="","",CS$30) | ... CU46: =IF($F46="","",CU$30)
B47: =IF(F47="","",ROW()-30) | J47: =IF($F47="","",IFERROR(IF(H47>I47,$AU$1,IF(H47/I47>=0.75,1,0)),$AU$1)) | X47: =IF(F47="","",IF(G47>=$G$6,1,0)) | AR47: =IF($F47="","",IF(AN47=1,1,IF(AT47<>1,$AU$1,IF(SUMIF($G$4:$AM$4,1,G47:AM47)=COUNTIF($G$4:$AM$4,1),1,0)))) | AT47: =IF(SUM(AW47:CG47)=COUNT(AW47:CG47),1,0) -> 0 | AU47: =IF($F47="","",AU$30) | AV47: =IF($F47="","",AV$30) | AW47: =IF(G$30="",1,IF(G$4=99,1,IF(G47="",0,IF(G$30=$AX$1,IF(ISNA(MATCH(G47,$AU$30:$AV$30,0)),0,1),IF(G$30=$AY$1,IF(IFERROR(G47*1,"bad")="bad",0,1),IF(G$30=$AZ$1,IF(IFERROR(IF(G47=TRUNC(G47),1,"bad"),"bad")="bad",0,1),IF(G$30=$BA$1,IF(AND(IF(IFERROR(G47*1,"bad")="bad",0,1)=1,G47>=0),1,0),IF(G$30=$BB$1,IF(AND(IF(IFERROR(IF(G47=TRUNC(G47),1,"bad"),"bad")="bad",0,1)=1,G47>=0),1,0),IF(G$30=$BC$1,IF(AND(IF(IFERROR(G47*1,"bad")="bad",0,1)=1,G47>0),1,0),IF(G$30=$BD$1,IF(AND(IF(IFERROR(IF(G47=TRUNC(G47),1,"bad"),"bad")="bad",0,1)=1,G47>0),1,0),IF(G$30=$BE$1,1,IF(G$30=$BF$1,IF(IFERROR(HLOOKUP(G47,$AX$4:$BG$4,1,0),"bad")="bad",0,1),0)))))))))))) -> 0 | AX47: =IF(H$30="",1,IF(H$4=99,1,IF(H47="",0,IF(H$30=$AX$1,IF(ISNA(MATCH(H47,$AU$30:$AV$30,0)),0,1),IF(H$30=$AY$1,IF(IFERROR(H47*1,"bad")="bad",0,1),IF(H$30=$AZ$1,IF(IFERROR(IF(H47=TRUNC(H47),1,"bad"),"bad")="bad",0,1),IF(H$30=$BA$1,IF(AND(IF(IFERROR(H47*1,"bad")="bad",0,1)=1,H47>=0),1,0),IF(H$30=$BB$1,IF(AND(IF(IFERROR(IF(H47=TRUNC(H47),1,"bad"),"bad")="bad",0,1)=1,H47>=0),1,0),IF(H$30=$BC$1,IF(AND(IF(IFERROR(H47*1,"bad")="bad",0,1)=1,H47>0),1,0),IF(H$30=$BD$1,IF(AND(IF(IFERROR(IF(H47=TRUNC(H47),1,"bad"),"bad")="bad",0,1)=1,H47>0),1,0),IF(H$30=$BE$1,1,IF(H$30=$BF$1,IF(IFERROR(HLOOKUP(H47,$AX$4:$BG$4,1,0),"bad")="bad",0,1),0)))))))))))) -> 0 | AY47: =IF(I$30="",1,IF(I$4=99,1,IF(I47="",0,IF(I$30=$AX$1,IF(ISNA(MATCH(I47,$AU$30:$AV$30,0)),0,1),IF(I$30=$AY$1,IF(IFERROR(I47*1,"bad")="bad",0,1),IF(I$30=$AZ$1,IF(IFERROR(IF(I47=TRUNC(I47),1,"bad"),"bad")="bad",0,1),IF(I$30=$BA$1,IF(AND(IF(IFERROR(I47*1,"bad")="bad",0,1)=1,I47>=0),1,0),IF(I$30=$BB$1,IF(AND(IF(IFERROR(IF(I47=TRUNC(I47),1,"bad"),"bad")="bad",0,1)=1,I47>=0),1,0),IF(I$30=$BC$1,IF(AND(IF(IFERROR(I47*1,"bad")="bad",0,1)=1,I47>0),1,0),IF(I$30=$BD$1,IF(AND(IF(IFERROR(IF(I47=TRUNC(I47),1,"bad"),"bad")="bad",0,1)=1,I47>0),1,0),IF(I$30=$BE$1,1,IF(I$30=$BF$1,IF(IFERROR(HLOOKUP(I47,$AX$4:$BG$4,1,0),"bad")="bad",0,1),0)))))))))))) -> 0 | AZ47: =IF(J$30="",1,IF(J$4=99,1,IF(J47="",0,IF(J$30=$AX$1,IF(ISNA(MATCH(J47,$AU$30:$AV$30,0)),0,1),IF(J$30=$AY$1,IF(IFERROR(J47*1,"bad")="bad",0,1),IF(J$30=$AZ$1,IF(IFERROR(IF(J47=TRUNC(J47),1,"bad"),"bad")="bad",0,1),IF(J$30=$BA$1,IF(AND(IF(IFERROR(J47*1,"bad")="bad",0,1)=1,J47>=0),1,0),IF(J$30=$BB$1,IF(AND(IF(IFERROR(IF(J47=TRUNC(J47),1,"bad"),"bad")="bad",0,1)=1,J47>=0),1,0),IF(J$30=$BC$1,IF(AND(IF(IFERROR(J47*1,"bad")="bad",0,1)=1,J47>0),1,0),IF(J$30=$BD$1,IF(AND(IF(IFERROR(IF(J47=TRUNC(J47),1,"bad"),"bad")="bad",0,1)=1,J47>0),1,0),IF(J$30=$BE$1,1,IF(J$30=$BF$1,IF(IFERROR(HLOOKUP(J47,$AX$4:$BG$4,1,0),"bad")="bad",0,1),0)))))))))))) -> 1 | BA47: =IF(K$30="",1,IF(K$4=99,1,IF(K47="",0,IF(K$30=$AX$1,IF(ISNA(MATCH(K47,$AU$30:$AV$30,0)),0,1),IF(K$30=$AY$1,IF(IFERROR(K47*1,"bad")="bad",0,1),IF(K$30=$AZ$1,IF(IFERROR(IF(K47=TRUNC(K47),1,"bad"),"bad")="bad",0,1),IF(K$30=$BA$1,IF(AND(IF(IFERROR(K47*1,"bad")="bad",0,1)=1,K47>=0),1,0),IF(K$30=$BB$1,IF(AND(IF(IFERROR(IF(K47=TRUNC(K47),1,"bad"),"bad")="bad",0,1)=1,K47>=0),1,0),IF(K$30=$BC$1,IF(AND(IF(IFERROR(K47*1,"bad")="bad",0,1)=1,K47>0),1,0),IF(K$30=$BD$1,IF(AND(IF(IFERROR(IF(K47=TRUNC(K47),1,"bad"),"bad")="bad",0,1)=1,K47>0),1,0),IF(K$30=$BE$1,1,IF(K$30=$BF$1,IF(IFERROR(HLOOKUP(K47,$AX$4:$BG$4,1,0),"bad")="bad",0,1),0)))))))))))) -> 0 | BB47: =IF(L$30="",1,IF(L$4=99,1,IF(L47="",0,IF(L$30=$AX$1,IF(ISNA(MATCH(L47,$AU$30:$AV$30,0)),0,1),IF(L$30=$AY$1,IF(IFERROR(L47*1,"bad")="bad",0,1),IF(L$30=$AZ$1,IF(IFERROR(IF(L47=TRUNC(L47),1,"bad"),"bad")="bad",0,1),IF(L$30=$BA$1,IF(AND(IF(IFERROR(L47*1,"bad")="bad",0,1)=1,L47>=0),1,0),IF(L$30=$BB$1,IF(AND(IF(IFERROR(IF(L47=TRUNC(L47),1,"bad"),"bad")="bad",0,1)=1,L47>=0),1,0),IF(L$30=$BC$1,IF(AND(IF(IFERROR(L47*1,"bad")="bad",0,1)=1,L47>0),1,0),IF(L$30=$BD$1,IF(AND(IF(IFERROR(IF(L47=TRUNC(L47),1,"bad"),"bad")="bad",0,1)=1,L47>0),1,0),IF(L$30=$BE$1,1,IF(L$30=$BF$1,IF(IFERROR(HLOOKUP(L47,$AX$4:$BG$4,1,0),"bad")="bad",0,1),0)))))))))))) -> 0 | BC47: =IF(M$30="",1,IF(M$4=99,1,IF(M47="",0,IF(M$30=$AX$1,IF(ISNA(MATCH(M47,$AU$30:$AV$30,0)),0,1),IF(M$30=$AY$1,IF(IFERROR(M47*1,"bad")="bad",0,1),IF(M$30=$AZ$1,IF(IFERROR(IF(M47=TRUNC(M47),1,"bad"),"bad")="bad",0,1),IF(M$30=$BA$1,IF(AND(IF(IFERROR(M47*1,"bad")="bad",0,1)=1,M47>=0),1,0),IF(M$30=$BB$1,IF(AND(IF(IFERROR(IF(M47=TRUNC(M47),1,"bad"),"bad")="bad",0,1)=1,M47>=0),1,0),IF(M$30=$BC$1,IF(AND(IF(IFERROR(M47*1,"bad")="bad",0,1)=1,M47>0),1,0),IF(M$30=$BD$1,IF(AND(IF(IFERROR(IF(M47=TRUNC(M47),1,"bad"),"bad")="bad",0,1)=1,M47>0),1,0),IF(M$30=$BE$1,1,IF(M$30=$BF$1,IF(IFERROR(HLOOKUP(M47,$AX$4:$BG$4,1,0),"bad")="bad",0,1),0)))))))))))) -> 0 | BD47: =IF(N$30="",1,IF(N$4=99,1,IF(N47="",0,IF(N$30=$AX$1,IF(ISNA(MATCH(N47,$AU$30:$AV$30,0)),0,1),IF(N$30=$AY$1,IF(IFERROR(N47*1,"bad")="bad",0,1),IF(N$30=$AZ$1,IF(IFERROR(IF(N47=TRUNC(N47),1,"bad"),"bad")="bad",0,1),IF(N$30=$BA$1,IF(AND(IF(IFERROR(N47*1,"bad")="bad",0,1)=1,N47>=0),1,0),IF(N$30=$BB$1,IF(AND(IF(IFERROR(IF(N47=TRUNC(N47),1,"bad"),"bad")="bad",0,1)=1,N47>=0),1,0),IF(N$30=$BC$1,IF(AND(IF(IFERROR(N47*1,"bad")="bad",0,1)=1,N47>0),1,0),IF(N$30=$BD$1,IF(AND(IF(IFERROR(IF(N47=TRUNC(N47),1,"bad"),"bad")="bad",0,1)=1,N47>0),1,0),IF(N$30=$BE$1,1,IF(N$30=$BF$1,IF(IFERROR(HLOOKUP(N47,$AX$4:$BG$4,1,0),"bad")="bad",0,1),0)))))))))))) -> 0 | ... CA47: =IF(AK$30="",1,IF(AK$4=99,1,IF(AK47="",0,IF(AK$30=$AX$1,IF(ISNA(MATCH(AK47,$AU$30:$AV$30,0)),0,1),IF(AK$30=$AY$1,IF(IFERROR(AK47*1,"bad")="bad",0,1),IF(AK$30=$AZ$1,IF(IFERROR(IF(AK47=TRUNC(AK47),1,"bad"),"bad")="bad",0,1),IF(AK$30=$BA$1,IF(AND(IF(IFERROR(AK47*1,"bad")="bad",0,1)=1,AK47>=0),1,0),IF(AK$30=$BB$1,IF(AND(IF(IFERROR(IF(AK47=TRUNC(AK47),1,"bad"),"bad")="bad",0,1)=1,AK47>=0),1,0),IF(AK$30=$BC$1,IF(AND(IF(IFERROR(AK47*1,"bad")="bad",0,1)=1,AK47>0),1,0),IF(AK$30=$BD$1,IF(AND(IF(IFERROR(IF(AK47=TRUNC(AK47),1,"bad"),"bad")="bad",0,1)=1,AK47>0),1,0),IF(AK$30=$BE$1,1,IF(AK$30=$BF$1,IF(IFERROR(HLOOKUP(AK47,$AX$4:$BG$4,1,0),"bad")="bad",0,1),0)))))))))))) -> 0 | CB47: =IF(AM$30="",1,IF(AM$4=99,1,IF(AM47="",0,IF(AM$30=$AX$1,IF(ISNA(MATCH(AM47,$AU$30:$AV$30,0)),0,1),IF(AM$30=$AY$1,IF(IFERROR(AM47*1,"bad")="bad",0,1),IF(AM$30=$AZ$1,IF(IFERROR(IF(AM47=TRUNC(AM47),1,"bad"),"bad")="bad",0,1),IF(AM$30=$BA$1,IF(AND(IF(IFERROR(AM47*1,"bad")="bad",0,1)=1,AM47>=0),1,0),IF(AM$30=$BB$1,IF(AND(IF(IFERROR(IF(AM47=TRUNC(AM47),1,"bad"),"bad")="bad",0,1)=1,AM47>=0),1,0),IF(AM$30=$BC$1,IF(AND(IF(IFERROR(AM47*1,"bad")="bad",0,1)=1,AM47>0),1,0),IF(AM$30=$BD$1,IF(AND(IF(IFERROR(IF(AM47=TRUNC(AM47),1,"bad"),"bad")="bad",0,1)=1,AM47>0),1,0),IF(AM$30=$BE$1,1,IF(AM$30=$BF$1,IF(IFERROR(HLOOKUP(AM47,$AX$4:$BG$4,1,0),"bad")="bad",0,1),0)))))))))))) -> 0 | CC47: =IF(ISNA(MATCH(AN47,$AU$30:$AV$30,0)),0,1) -> 1 | CG47: =IF(AR$30="",1,IF(AR47="",0,IF(AR$30=$AX$1,IF(ISNA(MATCH(AR47,$AU$30:$AV$30,0)),0,1),IF(AR$30=$AY$1,IF(IFERROR(AR47*1,"bad")="bad",0,1),IF(AR$30=$AZ$1,IF(IFERROR(IF(AR47=TRUNC(AR47),1,"bad"),"bad")="bad",0,1),IF(AR$30=$BA$1,IF(AND(IF(IFERROR(AR47*1,"bad")="bad",0,1)=1,AR47>=0),1,0),IF(AR$30=$BB$1,IF(AND(IF(IFERROR(IF(AR47=TRUNC(AR47),1,"bad"),"bad")="bad",0,1)=1,AR47>=0),1,0),IF(AR$30=$BC$1,IF(AND(IF(IFERROR(AR47*1,"bad")="bad",0,1)=1,AR47>0),1,0),IF(AR$30=$BD$1,IF(AND(IF(IFERROR(IF(AR47=TRUNC(AR47),1,"bad"),"bad")="bad",0,1)=1,AR47>0),1,0),IF(AR$30=$BE$1,1,IF(AR$30=$BF$1,IF(IFERROR(HLOOKUP(AR47,$AX$4:$BG$4,1,0),"bad")="bad",0,1),0))))))))))) -> 1 | CL47: =IF($F47="","",CL$30) | CM47: =IF($F47="","",CM$30) | CN47: =IF($F47="","",CN$30) | CO47: =IF($F47="","",CO$30) | CP47: =IF($F47="","",CP$30) | CQ47: =IF($F47="","",CQ$30) | CR47: =IF($F47="","",CR$30) | CS47: =IF($F47="","",CS$30) | ... CU47: =IF($F47="","",CU$30)
B48: =IF(F48="","",ROW()-30) | J48: =IF($F48="","",IFERROR(IF(H48>I48,$AU$1,IF(H48/I48>=0.75,1,0)),$AU$1)) | X48: =IF(F48="","",IF(G48>=$G$6,1,0)) | AR48: =IF($F48="","",IF(AN48=1,1,IF(AT48<>1,$AU$1,IF(SUMIF($G$4:$AM$4,1,G48:AM48)=COUNTIF($G$4:$AM$4,1),1,0)))) | AT48: =IF(SUM(AW48:CG48)=COUNT(AW48:CG48),1,0) -> 0 | AU48: =IF($F48="","",AU$30) | AV48: =IF($F48="","",AV$30) | AW48: =IF(G$30="",1,IF(G$4=99,1,IF(G48="",0,IF(G$30=$AX$1,IF(ISNA(MATCH(G48,$AU$30:$AV$30,0)),0,1),IF(G$30=$AY$1,IF(IFERROR(G48*1,"bad")="bad",0,1),IF(G$30=$AZ$1,IF(IFERROR(IF(G48=TRUNC(G48),1,"bad"),"bad")="bad",0,1),IF(G$30=$BA$1,IF(AND(IF(IFERROR(G48*1,"bad")="bad",0,1)=1,G48>=0),1,0),IF(G$30=$BB$1,IF(AND(IF(IFERROR(IF(G48=TRUNC(G48),1,"bad"),"bad")="bad",0,1)=1,G48>=0),1,0),IF(G$30=$BC$1,IF(AND(IF(IFERROR(G48*1,"bad")="bad",0,1)=1,G48>0),1,0),IF(G$30=$BD$1,IF(AND(IF(IFERROR(IF(G48=TRUNC(G48),1,"bad"),"bad")="bad",0,1)=1,G48>0),1,0),IF(G$30=$BE$1,1,IF(G$30=$BF$1,IF(IFERROR(HLOOKUP(G48,$AX$4:$BG$4,1,0),"bad")="bad",0,1),0)))))))))))) -> 0 | AX48: =IF(H$30="",1,IF(H$4=99,1,IF(H48="",0,IF(H$30=$AX$1,IF(ISNA(MATCH(H48,$AU$30:$AV$30,0)),0,1),IF(H$30=$AY$1,IF(IFERROR(H48*1,"bad")="bad",0,1),IF(H$30=$AZ$1,IF(IFERROR(IF(H48=TRUNC(H48),1,"bad"),"bad")="bad",0,1),IF(H$30=$BA$1,IF(AND(IF(IFERROR(H48*1,"bad")="bad",0,1)=1,H48>=0),1,0),IF(H$30=$BB$1,IF(AND(IF(IFERROR(IF(H48=TRUNC(H48),1,"bad"),"bad")="bad",0,1)=1,H48>=0),1,0),IF(H$30=$BC$1,IF(AND(IF(IFERROR(H48*1,"bad")="bad",0,1)=1,H48>0),1,0),IF(H$30=$BD$1,IF(AND(IF(IFERROR(IF(H48=TRUNC(H48),1,"bad"),"bad")="bad",0,1)=1,H48>0),1,0),IF(H$30=$BE$1,1,IF(H$30=$BF$1,IF(IFERROR(HLOOKUP(H48,$AX$4:$BG$4,1,0),"bad")="bad",0,1),0)))))))))))) -> 0 | AY48: =IF(I$30="",1,IF(I$4=99,1,IF(I48="",0,IF(I$30=$AX$1,IF(ISNA(MATCH(I48,$AU$30:$AV$30,0)),0,1),IF(I$30=$AY$1,IF(IFERROR(I48*1,"bad")="bad",0,1),IF(I$30=$AZ$1,IF(IFERROR(IF(I48=TRUNC(I48),1,"bad"),"bad")="bad",0,1),IF(I$30=$BA$1,IF(AND(IF(IFERROR(I48*1,"bad")="bad",0,1)=1,I48>=0),1,0),IF(I$30=$BB$1,IF(AND(IF(IFERROR(IF(I48=TRUNC(I48),1,"bad"),"bad")="bad",0,1)=1,I48>=0),1,0),IF(I$30=$BC$1,IF(AND(IF(IFERROR(I48*1,"bad")="bad",0,1)=1,I48>0),1,0),IF(I$30=$BD$1,IF(AND(IF(IFERROR(IF(I48=TRUNC(I48),1,"bad"),"bad")="bad",0,1)=1,I48>0),1,0),IF(I$30=$BE$1,1,IF(I$30=$BF$1,IF(IFERROR(HLOOKUP(I48,$AX$4:$BG$4,1,0),"bad")="bad",0,1),0)))))))))))) -> 0 | AZ48: =IF(J$30="",1,IF(J$4=99,1,IF(J48="",0,IF(J$30=$AX$1,IF(ISNA(MATCH(J48,$AU$30:$AV$30,0)),0,1),IF(J$30=$AY$1,IF(IFERROR(J48*1,"bad")="bad",0,1),IF(J$30=$AZ$1,IF(IFERROR(IF(J48=TRUNC(J48),1,"bad"),"bad")="bad",0,1),IF(J$30=$BA$1,IF(AND(IF(IFERROR(J48*1,"bad")="bad",0,1)=1,J48>=0),1,0),IF(J$30=$BB$1,IF(AND(IF(IFERROR(IF(J48=TRUNC(J48),1,"bad"),"bad")="bad",0,1)=1,J48>=0),1,0),IF(J$30=$BC$1,IF(AND(IF(IFERROR(J48*1,"bad")="bad",0,1)=1,J48>0),1,0),IF(J$30=$BD$1,IF(AND(IF(IFERROR(IF(J48=TRUNC(J48),1,"bad"),"bad")="bad",0,1)=1,J48>0),1,0),IF(J$30=$BE$1,1,IF(J$30=$BF$1,IF(IFERROR(HLOOKUP(J48,$AX$4:$BG$4,1,0),"bad")="bad",0,1),0)))))))))))) -> 1 | BA48: =IF(K$30="",1,IF(K$4=99,1,IF(K48="",0,IF(K$30=$AX$1,IF(ISNA(MATCH(K48,$AU$30:$AV$30,0)),0,1),IF(K$30=$AY$1,IF(IFERROR(K48*1,"bad")="bad",0,1),IF(K$30=$AZ$1,IF(IFERROR(IF(K48=TRUNC(K48),1,"bad"),"bad")="bad",0,1),IF(K$30=$BA$1,IF(AND(IF(IFERROR(K48*1,"bad")="bad",0,1)=1,K48>=0),1,0),IF(K$30=$BB$1,IF(AND(IF(IFERROR(IF(K48=TRUNC(K48),1,"bad"),"bad")="bad",0,1)=1,K48>=0),1,0),IF(K$30=$BC$1,IF(AND(IF(IFERROR(K48*1,"bad")="bad",0,1)=1,K48>0),1,0),IF(K$30=$BD$1,IF(AND(IF(IFERROR(IF(K48=TRUNC(K48),1,"bad"),"bad")="bad",0,1)=1,K48>0),1,0),IF(K$30=$BE$1,1,IF(K$30=$BF$1,IF(IFERROR(HLOOKUP(K48,$AX$4:$BG$4,1,0),"bad")="bad",0,1),0)))))))))))) -> 0 | BB48: =IF(L$30="",1,IF(L$4=99,1,IF(L48="",0,IF(L$30=$AX$1,IF(ISNA(MATCH(L48,$AU$30:$AV$30,0)),0,1),IF(L$30=$AY$1,IF(IFERROR(L48*1,"bad")="bad",0,1),IF(L$30=$AZ$1,IF(IFERROR(IF(L48=TRUNC(L48),1,"bad"),"bad")="bad",0,1),IF(L$30=$BA$1,IF(AND(IF(IFERROR(L48*1,"bad")="bad",0,1)=1,L48>=0),1,0),IF(L$30=$BB$1,IF(AND(IF(IFERROR(IF(L48=TRUNC(L48),1,"bad"),"bad")="bad",0,1)=1,L48>=0),1,0),IF(L$30=$BC$1,IF(AND(IF(IFERROR(L48*1,"bad")="bad",0,1)=1,L48>0),1,0),IF(L$30=$BD$1,IF(AND(IF(IFERROR(IF(L48=TRUNC(L48),1,"bad"),"bad")="bad",0,1)=1,L48>0),1,0),IF(L$30=$BE$1,1,IF(L$30=$BF$1,IF(IFERROR(HLOOKUP(L48,$AX$4:$BG$4,1,0),"bad")="bad",0,1),0)))))))))))) -> 0 | BC48: =IF(M$30="",1,IF(M$4=99,1,IF(M48="",0,IF(M$30=$AX$1,IF(ISNA(MATCH(M48,$AU$30:$AV$30,0)),0,1),IF(M$30=$AY$1,IF(IFERROR(M48*1,"bad")="bad",0,1),IF(M$30=$AZ$1,IF(IFERROR(IF(M48=TRUNC(M48),1,"bad"),"bad")="bad",0,1),IF(M$30=$BA$1,IF(AND(IF(IFERROR(M48*1,"bad")="bad",0,1)=1,M48>=0),1,0),IF(M$30=$BB$1,IF(AND(IF(IFERROR(IF(M48=TRUNC(M48),1,"bad"),"bad")="bad",0,1)=1,M48>=0),1,0),IF(M$30=$BC$1,IF(AND(IF(IFERROR(M48*1,"bad")="bad",0,1)=1,M48>0),1,0),IF(M$30=$BD$1,IF(AND(IF(IFERROR(IF(M48=TRUNC(M48),1,"bad"),"bad")="bad",0,1)=1,M48>0),1,0),IF(M$30=$BE$1,1,IF(M$30=$BF$1,IF(IFERROR(HLOOKUP(M48,$AX$4:$BG$4,1,0),"bad")="bad",0,1),0)))))))))))) -> 0 | BD48: =IF(N$30="",1,IF(N$4=99,1,IF(N48="",0,IF(N$30=$AX$1,IF(ISNA(MATCH(N48,$AU$30:$AV$30,0)),0,1),IF(N$30=$AY$1,IF(IFERROR(N48*1,"bad")="bad",0,1),IF(N$30=$AZ$1,IF(IFERROR(IF(N48=TRUNC(N48),1,"bad"),"bad")="bad",0,1),IF(N$30=$BA$1,IF(AND(IF(IFERROR(N48*1,"bad")="bad",0,1)=1,N48>=0),1,0),IF(N$30=$BB$1,IF(AND(IF(IFERROR(IF(N48=TRUNC(N48),1,"bad"),"bad")="bad",0,1)=1,N48>=0),1,0),IF(N$30=$BC$1,IF(AND(IF(IFERROR(N48*1,"bad")="bad",0,1)=1,N48>0),1,0),IF(N$30=$BD$1,IF(AND(IF(IFERROR(IF(N48=TRUNC(N48),1,"bad"),"bad")="bad",0,1)=1,N48>0),1,0),IF(N$30=$BE$1,1,IF(N$30=$BF$1,IF(IFERROR(HLOOKUP(N48,$AX$4:$BG$4,1,0),"bad")="bad",0,1),0)))))))))))) -> 0 | ... CA48: =IF(AK$30="",1,IF(AK$4=99,1,IF(AK48="",0,IF(AK$30=$AX$1,IF(ISNA(MATCH(AK48,$AU$30:$AV$30,0)),0,1),IF(AK$30=$AY$1,IF(IFERROR(AK48*1,"bad")="bad",0,1),IF(AK$30=$AZ$1,IF(IFERROR(IF(AK48=TRUNC(AK48),1,"bad"),"bad")="bad",0,1),IF(AK$30=$BA$1,IF(AND(IF(IFERROR(AK48*1,"bad")="bad",0,1)=1,AK48>=0),1,0),IF(AK$30=$BB$1,IF(AND(IF(IFERROR(IF(AK48=TRUNC(AK48),1,"bad"),"bad")="bad",0,1)=1,AK48>=0),1,0),IF(AK$30=$BC$1,IF(AND(IF(IFERROR(AK48*1,"bad")="bad",0,1)=1,AK48>0),1,0),IF(AK$30=$BD$1,IF(AND(IF(IFERROR(IF(AK48=TRUNC(AK48),1,"bad"),"bad")="bad",0,1)=1,AK48>0),1,0),IF(AK$30=$BE$1,1,IF(AK$30=$BF$1,IF(IFERROR(HLOOKUP(AK48,$AX$4:$BG$4,1,0),"bad")="bad",0,1),0)))))))))))) -> 0 | CB48: =IF(AM$30="",1,IF(AM$4=99,1,IF(AM48="",0,IF(AM$30=$AX$1,IF(ISNA(MATCH(AM48,$AU$30:$AV$30,0)),0,1),IF(AM$30=$AY$1,IF(IFERROR(AM48*1,"bad")="bad",0,1),IF(AM$30=$AZ$1,IF(IFERROR(IF(AM48=TRUNC(AM48),1,"bad"),"bad")="bad",0,1),IF(AM$30=$BA$1,IF(AND(IF(IFERROR(AM48*1,"bad")="bad",0,1)=1,AM48>=0),1,0),IF(AM$30=$BB$1,IF(AND(IF(IFERROR(IF(AM48=TRUNC(AM48),1,"bad"),"bad")="bad",0,1)=1,AM48>=0),1,0),IF(AM$30=$BC$1,IF(AND(IF(IFERROR(AM48*1,"bad")="bad",0,1)=1,AM48>0),1,0),IF(AM$30=$BD$1,IF(AND(IF(IFERROR(IF(AM48=TRUNC(AM48),1,"bad"),"bad")="bad",0,1)=1,AM48>0),1,0),IF(AM$30=$BE$1,1,IF(AM$30=$BF$1,IF(IFERROR(HLOOKUP(AM48,$AX$4:$BG$4,1,0),"bad")="bad",0,1),0)))))))))))) -> 0 | CC48: =IF(ISNA(MATCH(AN48,$AU$30:$AV$30,0)),0,1) -> 1 | CG48: =IF(AR$30="",1,IF(AR48="",0,IF(AR$30=$AX$1,IF(ISNA(MATCH(AR48,$AU$30:$AV$30,0)),0,1),IF(AR$30=$AY$1,IF(IFERROR(AR48*1,"bad")="bad",0,1),IF(AR$30=$AZ$1,IF(IFERROR(IF(AR48=TRUNC(AR48),1,"bad"),"bad")="bad",0,1),IF(AR$30=$BA$1,IF(AND(IF(IFERROR(AR48*1,"bad")="bad",0,1)=1,AR48>=0),1,0),IF(AR$30=$BB$1,IF(AND(IF(IFERROR(IF(AR48=TRUNC(AR48),1,"bad"),"bad")="bad",0,1)=1,AR48>=0),1,0),IF(AR$30=$BC$1,IF(AND(IF(IFERROR(AR48*1,"bad")="bad",0,1)=1,AR48>0),1,0),IF(AR$30=$BD$1,IF(AND(IF(IFERROR(IF(AR48=TRUNC(AR48),1,"bad"),"bad")="bad",0,1)=1,AR48>0),1,0),IF(AR$30=$BE$1,1,IF(AR$30=$BF$1,IF(IFERROR(HLOOKUP(AR48,$AX$4:$BG$4,1,0),"bad")="bad",0,1),0))))))))))) -> 1 | CL48: =IF($F48="","",CL$30) | CM48: =IF($F48="","",CM$30) | CN48: =IF($F48="","",CN$30) | CO48: =IF($F48="","",CO$30) | CP48: =IF($F48="","",CP$30) | CQ48: =IF($F48="","",CQ$30) | CR48: =IF($F48="","",CR$30) | CS48: =IF($F48="","",CS$30) | ... CU48: =IF($F48="","",CU$30)
B49: =IF(F49="","",ROW()-30) | J49: =IF($F49="","",IFERROR(IF(H49>I49,$AU$1,IF(H49/I49>=0.75,1,0)),$AU$1)) | X49: =IF(F49="","",IF(G49>=$G$6,1,0)) | AR49: =IF($F49="","",IF(AN49=1,1,IF(AT49<>1,$AU$1,IF(SUMIF($G$4:$AM$4,1,G49:AM49)=COUNTIF($G$4:$AM$4,1),1,0)))) | AT49: =IF(SUM(AW49:CG49)=COUNT(AW49:CG49),1,0) -> 0 | AU49: =IF($F49="","",AU$30) | AV49: =IF($F49="","",AV$30) | AW49: =IF(G$30="",1,IF(G$4=99,1,IF(G49="",0,IF(G$30=$AX$1,IF(ISNA(MATCH(G49,$AU$30:$AV$30,0)),0,1),IF(G$30=$AY$1,IF(IFERROR(G49*1,"bad")="bad",0,1),IF(G$30=$AZ$1,IF(IFERROR(IF(G49=TRUNC(G49),1,"bad"),"bad")="bad",0,1),IF(G$30=$BA$1,IF(AND(IF(IFERROR(G49*1,"bad")="bad",0,1)=1,G49>=0),1,0),IF(G$30=$BB$1,IF(AND(IF(IFERROR(IF(G49=TRUNC(G49),1,"bad"),"bad")="bad",0,1)=1,G49>=0),1,0),IF(G$30=$BC$1,IF(AND(IF(IFERROR(G49*1,"bad")="bad",0,1)=1,G49>0),1,0),IF(G$30=$BD$1,IF(AND(IF(IFERROR(IF(G49=TRUNC(G49),1,"bad"),"bad")="bad",0,1)=1,G49>0),1,0),IF(G$30=$BE$1,1,IF(G$30=$BF$1,IF(IFERROR(HLOOKUP(G49,$AX$4:$BG$4,1,0),"bad")="bad",0,1),0)))))))))))) -> 0 | AX49: =IF(H$30="",1,IF(H$4=99,1,IF(H49="",0,IF(H$30=$AX$1,IF(ISNA(MATCH(H49,$AU$30:$AV$30,0)),0,1),IF(H$30=$AY$1,IF(IFERROR(H49*1,"bad")="bad",0,1),IF(H$30=$AZ$1,IF(IFERROR(IF(H49=TRUNC(H49),1,"bad"),"bad")="bad",0,1),IF(H$30=$BA$1,IF(AND(IF(IFERROR(H49*1,"bad")="bad",0,1)=1,H49>=0),1,0),IF(H$30=$BB$1,IF(AND(IF(IFERROR(IF(H49=TRUNC(H49),1,"bad"),"bad")="bad",0,1)=1,H49>=0),1,0),IF(H$30=$BC$1,IF(AND(IF(IFERROR(H49*1,"bad")="bad",0,1)=1,H49>0),1,0),IF(H$30=$BD$1,IF(AND(IF(IFERROR(IF(H49=TRUNC(H49),1,"bad"),"bad")="bad",0,1)=1,H49>0),1,0),IF(H$30=$BE$1,1,IF(H$30=$BF$1,IF(IFERROR(HLOOKUP(H49,$AX$4:$BG$4,1,0),"bad")="bad",0,1),0)))))))))))) -> 0 | AY49: =IF(I$30="",1,IF(I$4=99,1,IF(I49="",0,IF(I$30=$AX$1,IF(ISNA(MATCH(I49,$AU$30:$AV$30,0)),0,1),IF(I$30=$AY$1,IF(IFERROR(I49*1,"bad")="bad",0,1),IF(I$30=$AZ$1,IF(IFERROR(IF(I49=TRUNC(I49),1,"bad"),"bad")="bad",0,1),IF(I$30=$BA$1,IF(AND(IF(IFERROR(I49*1,"bad")="bad",0,1)=1,I49>=0),1,0),IF(I$30=$BB$1,IF(AND(IF(IFERROR(IF(I49=TRUNC(I49),1,"bad"),"bad")="bad",0,1)=1,I49>=0),1,0),IF(I$30=$BC$1,IF(AND(IF(IFERROR(I49*1,"bad")="bad",0,1)=1,I49>0),1,0),IF(I$30=$BD$1,IF(AND(IF(IFERROR(IF(I49=TRUNC(I49),1,"bad"),"bad")="bad",0,1)=1,I49>0),1,0),IF(I$30=$BE$1,1,IF(I$30=$BF$1,IF(IFERROR(HLOOKUP(I49,$AX$4:$BG$4,1,0),"bad")="bad",0,1),0)))))))))))) -> 0 | AZ49: =IF(J$30="",1,IF(J$4=99,1,IF(J49="",0,IF(J$30=$AX$1,IF(ISNA(MATCH(J49,$AU$30:$AV$30,0)),0,1),IF(J$30=$AY$1,IF(IFERROR(J49*1,"bad")="bad",0,1),IF(J$30=$AZ$1,IF(IFERROR(IF(J49=TRUNC(J49),1,"bad"),"bad")="bad",0,1),IF(J$30=$BA$1,IF(AND(IF(IFERROR(J49*1,"bad")="bad",0,1)=1,J49>=0),1,0),IF(J$30=$BB$1,IF(AND(IF(IFERROR(IF(J49=TRUNC(J49),1,"bad"),"bad")="bad",0,1)=1,J49>=0),1,0),IF(J$30=$BC$1,IF(AND(IF(IFERROR(J49*1,"bad")="bad",0,1)=1,J49>0),1,0),IF(J$30=$BD$1,IF(AND(IF(IFERROR(IF(J49=TRUNC(J49),1,"bad"),"bad")="bad",0,1)=1,J49>0),1,0),IF(J$30=$BE$1,1,IF(J$30=$BF$1,IF(IFERROR(HLOOKUP(J49,$AX$4:$BG$4,1,0),"bad")="bad",0,1),0)))))))))))) -> 1 | BA49: =IF(K$30="",1,IF(K$4=99,1,IF(K49="",0,IF(K$30=$AX$1,IF(ISNA(MATCH(K49,$AU$30:$AV$30,0)),0,1),IF(K$30=$AY$1,IF(IFERROR(K49*1,"bad")="bad",0,1),IF(K$30=$AZ$1,IF(IFERROR(IF(K49=TRUNC(K49),1,"bad"),"bad")="bad",0,1),IF(K$30=$BA$1,IF(AND(IF(IFERROR(K49*1,"bad")="bad",0,1)=1,K49>=0),1,0),IF(K$30=$BB$1,IF(AND(IF(IFERROR(IF(K49=TRUNC(K49),1,"bad"),"bad")="bad",0,1)=1,K49>=0),1,0),IF(K$30=$BC$1,IF(AND(IF(IFERROR(K49*1,"bad")="bad",0,1)=1,K49>0),1,0),IF(K$30=$BD$1,IF(AND(IF(IFERROR(IF(K49=TRUNC(K49),1,"bad"),"bad")="bad",0,1)=1,K49>0),1,0),IF(K$30=$BE$1,1,IF(K$30=$BF$1,IF(IFERROR(HLOOKUP(K49,$AX$4:$BG$4,1,0),"bad")="bad",0,1),0)))))))))))) -> 0 | BB49: =IF(L$30="",1,IF(L$4=99,1,IF(L49="",0,IF(L$30=$AX$1,IF(ISNA(MATCH(L49,$AU$30:$AV$30,0)),0,1),IF(L$30=$AY$1,IF(IFERROR(L49*1,"bad")="bad",0,1),IF(L$30=$AZ$1,IF(IFERROR(IF(L49=TRUNC(L49),1,"bad"),"bad")="bad",0,1),IF(L$30=$BA$1,IF(AND(IF(IFERROR(L49*1,"bad")="bad",0,1)=1,L49>=0),1,0),IF(L$30=$BB$1,IF(AND(IF(IFERROR(IF(L49=TRUNC(L49),1,"bad"),"bad")="bad",0,1)=1,L49>=0),1,0),IF(L$30=$BC$1,IF(AND(IF(IFERROR(L49*1,"bad")="bad",0,1)=1,L49>0),1,0),IF(L$30=$BD$1,IF(AND(IF(IFERROR(IF(L49=TRUNC(L49),1,"bad"),"bad")="bad",0,1)=1,L49>0),1,0),IF(L$30=$BE$1,1,IF(L$30=$BF$1,IF(IFERROR(HLOOKUP(L49,$AX$4:$BG$4,1,0),"bad")="bad",0,1),0)))))))))))) -> 0 | BC49: =IF(M$30="",1,IF(M$4=99,1,IF(M49="",0,IF(M$30=$AX$1,IF(ISNA(MATCH(M49,$AU$30:$AV$30,0)),0,1),IF(M$30=$AY$1,IF(IFERROR(M49*1,"bad")="bad",0,1),IF(M$30=$AZ$1,IF(IFERROR(IF(M49=TRUNC(M49),1,"bad"),"bad")="bad",0,1),IF(M$30=$BA$1,IF(AND(IF(IFERROR(M49*1,"bad")="bad",0,1)=1,M49>=0),1,0),IF(M$30=$BB$1,IF(AND(IF(IFERROR(IF(M49=TRUNC(M49),1,"bad"),"bad")="bad",0,1)=1,M49>=0),1,0),IF(M$30=$BC$1,IF(AND(IF(IFERROR(M49*1,"bad")="bad",0,1)=1,M49>0),1,0),IF(M$30=$BD$1,IF(AND(IF(IFERROR(IF(M49=TRUNC(M49),1,"bad"),"bad")="bad",0,1)=1,M49>0),1,0),IF(M$30=$BE$1,1,IF(M$30=$BF$1,IF(IFERROR(HLOOKUP(M49,$AX$4:$BG$4,1,0),"bad")="bad",0,1),0)))))))))))) -> 0 | BD49: =IF(N$30="",1,IF(N$4=99,1,IF(N49="",0,IF(N$30=$AX$1,IF(ISNA(MATCH(N49,$AU$30:$AV$30,0)),0,1),IF(N$30=$AY$1,IF(IFERROR(N49*1,"bad")="bad",0,1),IF(N$30=$AZ$1,IF(IFERROR(IF(N49=TRUNC(N49),1,"bad"),"bad")="bad",0,1),IF(N$30=$BA$1,IF(AND(IF(IFERROR(N49*1,"bad")="bad",0,1)=1,N49>=0),1,0),IF(N$30=$BB$1,IF(AND(IF(IFERROR(IF(N49=TRUNC(N49),1,"bad"),"bad")="bad",0,1)=1,N49>=0),1,0),IF(N$30=$BC$1,IF(AND(IF(IFERROR(N49*1,"bad")="bad",0,1)=1,N49>0),1,0),IF(N$30=$BD$1,IF(AND(IF(IFERROR(IF(N49=TRUNC(N49),1,"bad"),"bad")="bad",0,1)=1,N49>0),1,0),IF(N$30=$BE$1,1,IF(N$30=$BF$1,IF(IFERROR(HLOOKUP(N49,$AX$4:$BG$4,1,0),"bad")="bad",0,1),0)))))))))))) -> 0 | ... CA49: =IF(AK$30="",1,IF(AK$4=99,1,IF(AK49="",0,IF(AK$30=$AX$1,IF(ISNA(MATCH(AK49,$AU$30:$AV$30,0)),0,1),IF(AK$30=$AY$1,IF(IFERROR(AK49*1,"bad")="bad",0,1),IF(AK$30=$AZ$1,IF(IFERROR(IF(AK49=TRUNC(AK49),1,"bad"),"bad")="bad",0,1),IF(AK$30=$BA$1,IF(AND(IF(IFERROR(AK49*1,"bad")="bad",0,1)=1,AK49>=0),1,0),IF(AK$30=$BB$1,IF(AND(IF(IFERROR(IF(AK49=TRUNC(AK49),1,"bad"),"bad")="bad",0,1)=1,AK49>=0),1,0),IF(AK$30=$BC$1,IF(AND(IF(IFERROR(AK49*1,"bad")="bad",0,1)=1,AK49>0),1,0),IF(AK$30=$BD$1,IF(AND(IF(IFERROR(IF(AK49=TRUNC(AK49),1,"bad"),"bad")="bad",0,1)=1,AK49>0),1,0),IF(AK$30=$BE$1,1,IF(AK$30=$BF$1,IF(IFERROR(HLOOKUP(AK49,$AX$4:$BG$4,1,0),"bad")="bad",0,1),0)))))))))))) -> 0 | CB49: =IF(AM$30="",1,IF(AM$4=99,1,IF(AM49="",0,IF(AM$30=$AX$1,IF(ISNA(MATCH(AM49,$AU$30:$AV$30,0)),0,1),IF(AM$30=$AY$1,IF(IFERROR(AM49*1,"bad")="bad",0,1),IF(AM$30=$AZ$1,IF(IFERROR(IF(AM49=TRUNC(AM49),1,"bad"),"bad")="bad",0,1),IF(AM$30=$BA$1,IF(AND(IF(IFERROR(AM49*1,"bad")="bad",0,1)=1,AM49>=0),1,0),IF(AM$30=$BB$1,IF(AND(IF(IFERROR(IF(AM49=TRUNC(AM49),1,"bad"),"bad")="bad",0,1)=1,AM49>=0),1,0),IF(AM$30=$BC$1,IF(AND(IF(IFERROR(AM49*1,"bad")="bad",0,1)=1,AM49>0),1,0),IF(AM$30=$BD$1,IF(AND(IF(IFERROR(IF(AM49=TRUNC(AM49),1,"bad"),"bad")="bad",0,1)=1,AM49>0),1,0),IF(AM$30=$BE$1,1,IF(AM$30=$BF$1,IF(IFERROR(HLOOKUP(AM49,$AX$4:$BG$4,1,0),"bad")="bad",0,1),0)))))))))))) -> 0 | CC49: =IF(ISNA(MATCH(AN49,$AU$30:$AV$30,0)),0,1) -> 1 | CG49: =IF(AR$30="",1,IF(AR49="",0,IF(AR$30=$AX$1,IF(ISNA(MATCH(AR49,$AU$30:$AV$30,0)),0,1),IF(AR$30=$AY$1,IF(IFERROR(AR49*1,"bad")="bad",0,1),IF(AR$30=$AZ$1,IF(IFERROR(IF(AR49=TRUNC(AR49),1,"bad"),"bad")="bad",0,1),IF(AR$30=$BA$1,IF(AND(IF(IFERROR(AR49*1,"bad")="bad",0,1)=1,AR49>=0),1,0),IF(AR$30=$BB$1,IF(AND(IF(IFERROR(IF(AR49=TRUNC(AR49),1,"bad"),"bad")="bad",0,1)=1,AR49>=0),1,0),IF(AR$30=$BC$1,IF(AND(IF(IFERROR(AR49*1,"bad")="bad",0,1)=1,AR49>0),1,0),IF(AR$30=$BD$1,IF(AND(IF(IFERROR(IF(AR49=TRUNC(AR49),1,"bad"),"bad")="bad",0,1)=1,AR49>0),1,0),IF(AR$30=$BE$1,1,IF(AR$30=$BF$1,IF(IFERROR(HLOOKUP(AR49,$AX$4:$BG$4,1,0),"bad")="bad",0,1),0))))))))))) -> 1 | CL49: =IF($F49="","",CL$30) | CM49: =IF($F49="","",CM$30) | CN49: =IF($F49="","",CN$30) | CO49: =IF($F49="","",CO$30) | CP49: =IF($F49="","",CP$30) | CQ49: =IF($F49="","",CQ$30) | CR49: =IF($F49="","",CR$30) | CS49: =IF($F49="","",CS$30) | ... CU49: =IF($F49="","",CU$30)
B50: =IF(F50="","",ROW()-30) | J50: =IF($F50="","",IFERROR(IF(H50>I50,$AU$1,IF(H50/I50>=0.75,1,0)),$AU$1)) | X50: =IF(F50="","",IF(G50>=$G$6,1,0)) | AR50: =IF($F50="","",IF(AN50=1,1,IF(AT50<>1,$AU$1,IF(SUMIF($G$4:$AM$4,1,G50:AM50)=COUNTIF($G$4:$AM$4,1),1,0)))) | AT50: =IF(SUM(AW50:CG50)=COUNT(AW50:CG50),1,0) -> 0 | AU50: =IF($F50="","",AU$30) | AV50: =IF($F50="","",AV$30) | AW50: =IF(G$30="",1,IF(G$4=99,1,IF(G50="",0,IF(G$30=$AX$1,IF(ISNA(MATCH(G50,$AU$30:$AV$30,0)),0,1),IF(G$30=$AY$1,IF(IFERROR(G50*1,"bad")="bad",0,1),IF(G$30=$AZ$1,IF(IFERROR(IF(G50=TRUNC(G50),1,"bad"),"bad")="bad",0,1),IF(G$30=$BA$1,IF(AND(IF(IFERROR(G50*1,"bad")="bad",0,1)=1,G50>=0),1,0),IF(G$30=$BB$1,IF(AND(IF(IFERROR(IF(G50=TRUNC(G50),1,"bad"),"bad")="bad",0,1)=1,G50>=0),1,0),IF(G$30=$BC$1,IF(AND(IF(IFERROR(G50*1,"bad")="bad",0,1)=1,G50>0),1,0),IF(G$30=$BD$1,IF(AND(IF(IFERROR(IF(G50=TRUNC(G50),1,"bad"),"bad")="bad",0,1)=1,G50>0),1,0),IF(G$30=$BE$1,1,IF(G$30=$BF$1,IF(IFERROR(HLOOKUP(G50,$AX$4:$BG$4,1,0),"bad")="bad",0,1),0)))))))))))) -> 0 | AX50: =IF(H$30="",1,IF(H$4=99,1,IF(H50="",0,IF(H$30=$AX$1,IF(ISNA(MATCH(H50,$AU$30:$AV$30,0)),0,1),IF(H$30=$AY$1,IF(IFERROR(H50*1,"bad")="bad",0,1),IF(H$30=$AZ$1,IF(IFERROR(IF(H50=TRUNC(H50),1,"bad"),"bad")="bad",0,1),IF(H$30=$BA$1,IF(AND(IF(IFERROR(H50*1,"bad")="bad",0,1)=1,H50>=0),1,0),IF(H$30=$BB$1,IF(AND(IF(IFERROR(IF(H50=TRUNC(H50),1,"bad"),"bad")="bad",0,1)=1,H50>=0),1,0),IF(H$30=$BC$1,IF(AND(IF(IFERROR(H50*1,"bad")="bad",0,1)=1,H50>0),1,0),IF(H$30=$BD$1,IF(AND(IF(IFERROR(IF(H50=TRUNC(H50),1,"bad"),"bad")="bad",0,1)=1,H50>0),1,0),IF(H$30=$BE$1,1,IF(H$30=$BF$1,IF(IFERROR(HLOOKUP(H50,$AX$4:$BG$4,1,0),"bad")="bad",0,1),0)))))))))))) -> 0 | AY50: =IF(I$30="",1,IF(I$4=99,1,IF(I50="",0,IF(I$30=$AX$1,IF(ISNA(MATCH(I50,$AU$30:$AV$30,0)),0,1),IF(I$30=$AY$1,IF(IFERROR(I50*1,"bad")="bad",0,1),IF(I$30=$AZ$1,IF(IFERROR(IF(I50=TRUNC(I50),1,"bad"),"bad")="bad",0,1),IF(I$30=$BA$1,IF(AND(IF(IFERROR(I50*1,"bad")="bad",0,1)=1,I50>=0),1,0),IF(I$30=$BB$1,IF(AND(IF(IFERROR(IF(I50=TRUNC(I50),1,"bad"),"bad")="bad",0,1)=1,I50>=0),1,0),IF(I$30=$BC$1,IF(AND(IF(IFERROR(I50*1,"bad")="bad",0,1)=1,I50>0),1,0),IF(I$30=$BD$1,IF(AND(IF(IFERROR(IF(I50=TRUNC(I50),1,"bad"),"bad")="bad",0,1)=1,I50>0),1,0),IF(I$30=$BE$1,1,IF(I$30=$BF$1,IF(IFERROR(HLOOKUP(I50,$AX$4:$BG$4,1,0),"bad")="bad",0,1),0)))))))))))) -> 0 | AZ50: =IF(J$30="",1,IF(J$4=99,1,IF(J50="",0,IF(J$30=$AX$1,IF(ISNA(MATCH(J50,$AU$30:$AV$30,0)),0,1),IF(J$30=$AY$1,IF(IFERROR(J50*1,"bad")="bad",0,1),IF(J$30=$AZ$1,IF(IFERROR(IF(J50=TRUNC(J50),1,"bad"),"bad")="bad",0,1),IF(J$30=$BA$1,IF(AND(IF(IFERROR(J50*1,"bad")="bad",0,1)=1,J50>=0),1,0),IF(J$30=$BB$1,IF(AND(IF(IFERROR(IF(J50=TRUNC(J50),1,"bad"),"bad")="bad",0,1)=1,J50>=0),1,0),IF(J$30=$BC$1,IF(AND(IF(IFERROR(J50*1,"bad")="bad",0,1)=1,J50>0),1,0),IF(J$30=$BD$1,IF(AND(IF(IFERROR(IF(J50=TRUNC(J50),1,"bad"),"bad")="bad",0,1)=1,J50>0),1,0),IF(J$30=$BE$1,1,IF(J$30=$BF$1,IF(IFERROR(HLOOKUP(J50,$AX$4:$BG$4,1,0),"bad")="bad",0,1),0)))))))))))) -> 1 | BA50: =IF(K$30="",1,IF(K$4=99,1,IF(K50="",0,IF(K$30=$AX$1,IF(ISNA(MATCH(K50,$AU$30:$AV$30,0)),0,1),IF(K$30=$AY$1,IF(IFERROR(K50*1,"bad")="bad",0,1),IF(K$30=$AZ$1,IF(IFERROR(IF(K50=TRUNC(K50),1,"bad"),"bad")="bad",0,1),IF(K$30=$BA$1,IF(AND(IF(IFERROR(K50*1,"bad")="bad",0,1)=1,K50>=0),1,0),IF(K$30=$BB$1,IF(AND(IF(IFERROR(IF(K50=TRUNC(K50),1,"bad"),"bad")="bad",0,1)=1,K50>=0),1,0),IF(K$30=$BC$1,IF(AND(IF(IFERROR(K50*1,"bad")="bad",0,1)=1,K50>0),1,0),IF(K$30=$BD$1,IF(AND(IF(IFERROR(IF(K50=TRUNC(K50),1,"bad"),"bad")="bad",0,1)=1,K50>0),1,0),IF(K$30=$BE$1,1,IF(K$30=$BF$1,IF(IFERROR(HLOOKUP(K50,$AX$4:$BG$4,1,0),"bad")="bad",0,1),0)))))))))))) -> 0 | BB50: =IF(L$30="",1,IF(L$4=99,1,IF(L50="",0,IF(L$30=$AX$1,IF(ISNA(MATCH(L50,$AU$30:$AV$30,0)),0,1),IF(L$30=$AY$1,IF(IFERROR(L50*1,"bad")="bad",0,1),IF(L$30=$AZ$1,IF(IFERROR(IF(L50=TRUNC(L50),1,"bad"),"bad")="bad",0,1),IF(L$30=$BA$1,IF(AND(IF(IFERROR(L50*1,"bad")="bad",0,1)=1,L50>=0),1,0),IF(L$30=$BB$1,IF(AND(IF(IFERROR(IF(L50=TRUNC(L50),1,"bad"),"bad")="bad",0,1)=1,L50>=0),1,0),IF(L$30=$BC$1,IF(AND(IF(IFERROR(L50*1,"bad")="bad",0,1)=1,L50>0),1,0),IF(L$30=$BD$1,IF(AND(IF(IFERROR(IF(L50=TRUNC(L50),1,"bad"),"bad")="bad",0,1)=1,L50>0),1,0),IF(L$30=$BE$1,1,IF(L$30=$BF$1,IF(IFERROR(HLOOKUP(L50,$AX$4:$BG$4,1,0),"bad")="bad",0,1),0)))))))))))) -> 0 | BC50: =IF(M$30="",1,IF(M$4=99,1,IF(M50="",0,IF(M$30=$AX$1,IF(ISNA(MATCH(M50,$AU$30:$AV$30,0)),0,1),IF(M$30=$AY$1,IF(IFERROR(M50*1,"bad")="bad",0,1),IF(M$30=$AZ$1,IF(IFERROR(IF(M50=TRUNC(M50),1,"bad"),"bad")="bad",0,1),IF(M$30=$BA$1,IF(AND(IF(IFERROR(M50*1,"bad")="bad",0,1)=1,M50>=0),1,0),IF(M$30=$BB$1,IF(AND(IF(IFERROR(IF(M50=TRUNC(M50),1,"bad"),"bad")="bad",0,1)=1,M50>=0),1,0),IF(M$30=$BC$1,IF(AND(IF(IFERROR(M50*1,"bad")="bad",0,1)=1,M50>0),1,0),IF(M$30=$BD$1,IF(AND(IF(IFERROR(IF(M50=TRUNC(M50),1,"bad"),"bad")="bad",0,1)=1,M50>0),1,0),IF(M$30=$BE$1,1,IF(M$30=$BF$1,IF(IFERROR(HLOOKUP(M50,$AX$4:$BG$4,1,0),"bad")="bad",0,1),0)))))))))))) -> 0 | BD50: =IF(N$30="",1,IF(N$4=99,1,IF(N50="",0,IF(N$30=$AX$1,IF(ISNA(MATCH(N50,$AU$30:$AV$30,0)),0,1),IF(N$30=$AY$1,IF(IFERROR(N50*1,"bad")="bad",0,1),IF(N$30=$AZ$1,IF(IFERROR(IF(N50=TRUNC(N50),1,"bad"),"bad")="bad",0,1),IF(N$30=$BA$1,IF(AND(IF(IFERROR(N50*1,"bad")="bad",0,1)=1,N50>=0),1,0),IF(N$30=$BB$1,IF(AND(IF(IFERROR(IF(N50=TRUNC(N50),1,"bad"),"bad")="bad",0,1)=1,N50>=0),1,0),IF(N$30=$BC$1,IF(AND(IF(IFERROR(N50*1,"bad")="bad",0,1)=1,N50>0),1,0),IF(N$30=$BD$1,IF(AND(IF(IFERROR(IF(N50=TRUNC(N50),1,"bad"),"bad")="bad",0,1)=1,N50>0),1,0),IF(N$30=$BE$1,1,IF(N$30=$BF$1,IF(IFERROR(HLOOKUP(N50,$AX$4:$BG$4,1,0),"bad")="bad",0,1),0)))))))))))) -> 0 | ... CA50: =IF(AK$30="",1,IF(AK$4=99,1,IF(AK50="",0,IF(AK$30=$AX$1,IF(ISNA(MATCH(AK50,$AU$30:$AV$30,0)),0,1),IF(AK$30=$AY$1,IF(IFERROR(AK50*1,"bad")="bad",0,1),IF(AK$30=$AZ$1,IF(IFERROR(IF(AK50=TRUNC(AK50),1,"bad"),"bad")="bad",0,1),IF(AK$30=$BA$1,IF(AND(IF(IFERROR(AK50*1,"bad")="bad",0,1)=1,AK50>=0),1,0),IF(AK$30=$BB$1,IF(AND(IF(IFERROR(IF(AK50=TRUNC(AK50),1,"bad"),"bad")="bad",0,1)=1,AK50>=0),1,0),IF(AK$30=$BC$1,IF(AND(IF(IFERROR(AK50*1,"bad")="bad",0,1)=1,AK50>0),1,0),IF(AK$30=$BD$1,IF(AND(IF(IFERROR(IF(AK50=TRUNC(AK50),1,"bad"),"bad")="bad",0,1)=1,AK50>0),1,0),IF(AK$30=$BE$1,1,IF(AK$30=$BF$1,IF(IFERROR(HLOOKUP(AK50,$AX$4:$BG$4,1,0),"bad")="bad",0,1),0)))))))))))) -> 0 | CB50: =IF(AM$30="",1,IF(AM$4=99,1,IF(AM50="",0,IF(AM$30=$AX$1,IF(ISNA(MATCH(AM50,$AU$30:$AV$30,0)),0,1),IF(AM$30=$AY$1,IF(IFERROR(AM50*1,"bad")="bad",0,1),IF(AM$30=$AZ$1,IF(IFERROR(IF(AM50=TRUNC(AM50),1,"bad"),"bad")="bad",0,1),IF(AM$30=$BA$1,IF(AND(IF(IFERROR(AM50*1,"bad")="bad",0,1)=1,AM50>=0),1,0),IF(AM$30=$BB$1,IF(AND(IF(IFERROR(IF(AM50=TRUNC(AM50),1,"bad"),"bad")="bad",0,1)=1,AM50>=0),1,0),IF(AM$30=$BC$1,IF(AND(IF(IFERROR(AM50*1,"bad")="bad",0,1)=1,AM50>0),1,0),IF(AM$30=$BD$1,IF(AND(IF(IFERROR(IF(AM50=TRUNC(AM50),1,"bad"),"bad")="bad",0,1)=1,AM50>0),1,0),IF(AM$30=$BE$1,1,IF(AM$30=$BF$1,IF(IFERROR(HLOOKUP(AM50,$AX$4:$BG$4,1,0),"bad")="bad",0,1),0)))))))))))) -> 0 | CC50: =IF(ISNA(MATCH(AN50,$AU$30:$AV$30,0)),0,1) -> 1 | CG50: =IF(AR$30="",1,IF(AR50="",0,IF(AR$30=$AX$1,IF(ISNA(MATCH(AR50,$AU$30:$AV$30,0)),0,1),IF(AR$30=$AY$1,IF(IFERROR(AR50*1,"bad")="bad",0,1),IF(AR$30=$AZ$1,IF(IFERROR(IF(AR50=TRUNC(AR50),1,"bad"),"bad")="bad",0,1),IF(AR$30=$BA$1,IF(AND(IF(IFERROR(AR50*1,"bad")="bad",0,1)=1,AR50>=0),1,0),IF(AR$30=$BB$1,IF(AND(IF(IFERROR(IF(AR50=TRUNC(AR50),1,"bad"),"bad")="bad",0,1)=1,AR50>=0),1,0),IF(AR$30=$BC$1,IF(AND(IF(IFERROR(AR50*1,"bad")="bad",0,1)=1,AR50>0),1,0),IF(AR$30=$BD$1,IF(AND(IF(IFERROR(IF(AR50=TRUNC(AR50),1,"bad"),"bad")="bad",0,1)=1,AR50>0),1,0),IF(AR$30=$BE$1,1,IF(AR$30=$BF$1,IF(IFERROR(HLOOKUP(AR50,$AX$4:$BG$4,1,0),"bad")="bad",0,1),0))))))))))) -> 1 | CL50: =IF($F50="","",CL$30) | CM50: =IF($F50="","",CM$30) | CN50: =IF($F50="","",CN$30) | CO50: =IF($F50="","",CO$30) | CP50: =IF($F50="","",CP$30) | CQ50: =IF($F50="","",CQ$30) | CR50: =IF($F50="","",CR$30) | CS50: =IF($F50="","",CS$30) | ... CU50: =IF($F50="","",CU$30)
B51: =IF(F51="","",ROW()-30) | J51: =IF($F51="","",IFERROR(IF(H51>I51,$AU$1,IF(H51/I51>=0.75,1,0)),$AU$1)) | X51: =IF(F51="","",IF(G51>=$G$6,1,0)) | AR51: =IF($F51="","",IF(AN51=1,1,IF(AT51<>1,$AU$1,IF(SUMIF($G$4:$AM$4,1,G51:AM51)=COUNTIF($G$4:$AM$4,1),1,0)))) | AT51: =IF(SUM(AW51:CG51)=COUNT(AW51:CG51),1,0) -> 0 | AU51: =IF($F51="","",AU$30) | AV51: =IF($F51="","",AV$30) | AW51: =IF(G$30="",1,IF(G$4=99,1,IF(G51="",0,IF(G$30=$AX$1,IF(ISNA(MATCH(G51,$AU$30:$AV$30,0)),0,1),IF(G$30=$AY$1,IF(IFERROR(G51*1,"bad")="bad",0,1),IF(G$30=$AZ$1,IF(IFERROR(IF(G51=TRUNC(G51),1,"bad"),"bad")="bad",0,1),IF(G$30=$BA$1,IF(AND(IF(IFERROR(G51*1,"bad")="bad",0,1)=1,G51>=0),1,0),IF(G$30=$BB$1,IF(AND(IF(IFERROR(IF(G51=TRUNC(G51),1,"bad"),"bad")="bad",0,1)=1,G51>=0),1,0),IF(G$30=$BC$1,IF(AND(IF(IFERROR(G51*1,"bad")="bad",0,1)=1,G51>0),1,0),IF(G$30=$BD$1,IF(AND(IF(IFERROR(IF(G51=TRUNC(G51),1,"bad"),"bad")="bad",0,1)=1,G51>0),1,0),IF(G$30=$BE$1,1,IF(G$30=$BF$1,IF(IFERROR(HLOOKUP(G51,$AX$4:$BG$4,1,0),"bad")="bad",0,1),0)))))))))))) -> 0 | AX51: =IF(H$30="",1,IF(H$4=99,1,IF(H51="",0,IF(H$30=$AX$1,IF(ISNA(MATCH(H51,$AU$30:$AV$30,0)),0,1),IF(H$30=$AY$1,IF(IFERROR(H51*1,"bad")="bad",0,1),IF(H$30=$AZ$1,IF(IFERROR(IF(H51=TRUNC(H51),1,"bad"),"bad")="bad",0,1),IF(H$30=$BA$1,IF(AND(IF(IFERROR(H51*1,"bad")="bad",0,1)=1,H51>=0),1,0),IF(H$30=$BB$1,IF(AND(IF(IFERROR(IF(H51=TRUNC(H51),1,"bad"),"bad")="bad",0,1)=1,H51>=0),1,0),IF(H$30=$BC$1,IF(AND(IF(IFERROR(H51*1,"bad")="bad",0,1)=1,H51>0),1,0),IF(H$30=$BD$1,IF(AND(IF(IFERROR(IF(H51=TRUNC(H51),1,"bad"),"bad")="bad",0,1)=1,H51>0),1,0),IF(H$30=$BE$1,1,IF(H$30=$BF$1,IF(IFERROR(HLOOKUP(H51,$AX$4:$BG$4,1,0),"bad")="bad",0,1),0)))))))))))) -> 0 | AY51: =IF(I$30="",1,IF(I$4=99,1,IF(I51="",0,IF(I$30=$AX$1,IF(ISNA(MATCH(I51,$AU$30:$AV$30,0)),0,1),IF(I$30=$AY$1,IF(IFERROR(I51*1,"bad")="bad",0,1),IF(I$30=$AZ$1,IF(IFERROR(IF(I51=TRUNC(I51),1,"bad"),"bad")="bad",0,1),IF(I$30=$BA$1,IF(AND(IF(IFERROR(I51*1,"bad")="bad",0,1)=1,I51>=0),1,0),IF(I$30=$BB$1,IF(AND(IF(IFERROR(IF(I51=TRUNC(I51),1,"bad"),"bad")="bad",0,1)=1,I51>=0),1,0),IF(I$30=$BC$1,IF(AND(IF(IFERROR(I51*1,"bad")="bad",0,1)=1,I51>0),1,0),IF(I$30=$BD$1,IF(AND(IF(IFERROR(IF(I51=TRUNC(I51),1,"bad"),"bad")="bad",0,1)=1,I51>0),1,0),IF(I$30=$BE$1,1,IF(I$30=$BF$1,IF(IFERROR(HLOOKUP(I51,$AX$4:$BG$4,1,0),"bad")="bad",0,1),0)))))))))))) -> 0 | AZ51: =IF(J$30="",1,IF(J$4=99,1,IF(J51="",0,IF(J$30=$AX$1,IF(ISNA(MATCH(J51,$AU$30:$AV$30,0)),0,1),IF(J$30=$AY$1,IF(IFERROR(J51*1,"bad")="bad",0,1),IF(J$30=$AZ$1,IF(IFERROR(IF(J51=TRUNC(J51),1,"bad"),"bad")="bad",0,1),IF(J$30=$BA$1,IF(AND(IF(IFERROR(J51*1,"bad")="bad",0,1)=1,J51>=0),1,0),IF(J$30=$BB$1,IF(AND(IF(IFERROR(IF(J51=TRUNC(J51),1,"bad"),"bad")="bad",0,1)=1,J51>=0),1,0),IF(J$30=$BC$1,IF(AND(IF(IFERROR(J51*1,"bad")="bad",0,1)=1,J51>0),1,0),IF(J$30=$BD$1,IF(AND(IF(IFERROR(IF(J51=TRUNC(J51),1,"bad"),"bad")="bad",0,1)=1,J51>0),1,0),IF(J$30=$BE$1,1,IF(J$30=$BF$1,IF(IFERROR(HLOOKUP(J51,$AX$4:$BG$4,1,0),"bad")="bad",0,1),0)))))))))))) -> 1 | BA51: =IF(K$30="",1,IF(K$4=99,1,IF(K51="",0,IF(K$30=$AX$1,IF(ISNA(MATCH(K51,$AU$30:$AV$30,0)),0,1),IF(K$30=$AY$1,IF(IFERROR(K51*1,"bad")="bad",0,1),IF(K$30=$AZ$1,IF(IFERROR(IF(K51=TRUNC(K51),1,"bad"),"bad")="bad",0,1),IF(K$30=$BA$1,IF(AND(IF(IFERROR(K51*1,"bad")="bad",0,1)=1,K51>=0),1,0),IF(K$30=$BB$1,IF(AND(IF(IFERROR(IF(K51=TRUNC(K51),1,"bad"),"bad")="bad",0,1)=1,K51>=0),1,0),IF(K$30=$BC$1,IF(AND(IF(IFERROR(K51*1,"bad")="bad",0,1)=1,K51>0),1,0),IF(K$30=$BD$1,IF(AND(IF(IFERROR(IF(K51=TRUNC(K51),1,"bad"),"bad")="bad",0,1)=1,K51>0),1,0),IF(K$30=$BE$1,1,IF(K$30=$BF$1,IF(IFERROR(HLOOKUP(K51,$AX$4:$BG$4,1,0),"bad")="bad",0,1),0)))))))))))) -> 0 | BB51: =IF(L$30="",1,IF(L$4=99,1,IF(L51="",0,IF(L$30=$AX$1,IF(ISNA(MATCH(L51,$AU$30:$AV$30,0)),0,1),IF(L$30=$AY$1,IF(IFERROR(L51*1,"bad")="bad",0,1),IF(L$30=$AZ$1,IF(IFERROR(IF(L51=TRUNC(L51),1,"bad"),"bad")="bad",0,1),IF(L$30=$BA$1,IF(AND(IF(IFERROR(L51*1,"bad")="bad",0,1)=1,L51>=0),1,0),IF(L$30=$BB$1,IF(AND(IF(IFERROR(IF(L51=TRUNC(L51),1,"bad"),"bad")="bad",0,1)=1,L51>=0),1,0),IF(L$30=$BC$1,IF(AND(IF(IFERROR(L51*1,"bad")="bad",0,1)=1,L51>0),1,0),IF(L$30=$BD$1,IF(AND(IF(IFERROR(IF(L51=TRUNC(L51),1,"bad"),"bad")="bad",0,1)=1,L51>0),1,0),IF(L$30=$BE$1,1,IF(L$30=$BF$1,IF(IFERROR(HLOOKUP(L51,$AX$4:$BG$4,1,0),"bad")="bad",0,1),0)))))))))))) -> 0 | BC51: =IF(M$30="",1,IF(M$4=99,1,IF(M51="",0,IF(M$30=$AX$1,IF(ISNA(MATCH(M51,$AU$30:$AV$30,0)),0,1),IF(M$30=$AY$1,IF(IFERROR(M51*1,"bad")="bad",0,1),IF(M$30=$AZ$1,IF(IFERROR(IF(M51=TRUNC(M51),1,"bad"),"bad")="bad",0,1),IF(M$30=$BA$1,IF(AND(IF(IFERROR(M51*1,"bad")="bad",0,1)=1,M51>=0),1,0),IF(M$30=$BB$1,IF(AND(IF(IFERROR(IF(M51=TRUNC(M51),1,"bad"),"bad")="bad",0,1)=1,M51>=0),1,0),IF(M$30=$BC$1,IF(AND(IF(IFERROR(M51*1,"bad")="bad",0,1)=1,M51>0),1,0),IF(M$30=$BD$1,IF(AND(IF(IFERROR(IF(M51=TRUNC(M51),1,"bad"),"bad")="bad",0,1)=1,M51>0),1,0),IF(M$30=$BE$1,1,IF(M$30=$BF$1,IF(IFERROR(HLOOKUP(M51,$AX$4:$BG$4,1,0),"bad")="bad",0,1),0)))))))))))) -> 0 | BD51: =IF(N$30="",1,IF(N$4=99,1,IF(N51="",0,IF(N$30=$AX$1,IF(ISNA(MATCH(N51,$AU$30:$AV$30,0)),0,1),IF(N$30=$AY$1,IF(IFERROR(N51*1,"bad")="bad",0,1),IF(N$30=$AZ$1,IF(IFERROR(IF(N51=TRUNC(N51),1,"bad"),"bad")="bad",0,1),IF(N$30=$BA$1,IF(AND(IF(IFERROR(N51*1,"bad")="bad",0,1)=1,N51>=0),1,0),IF(N$30=$BB$1,IF(AND(IF(IFERROR(IF(N51=TRUNC(N51),1,"bad"),"bad")="bad",0,1)=1,N51>=0),1,0),IF(N$30=$BC$1,IF(AND(IF(IFERROR(N51*1,"bad")="bad",0,1)=1,N51>0),1,0),IF(N$30=$BD$1,IF(AND(IF(IFERROR(IF(N51=TRUNC(N51),1,"bad"),"bad")="bad",0,1)=1,N51>0),1,0),IF(N$30=$BE$1,1,IF(N$30=$BF$1,IF(IFERROR(HLOOKUP(N51,$AX$4:$BG$4,1,0),"bad")="bad",0,1),0)))))))))))) -> 0 | ... CA51: =IF(AK$30="",1,IF(AK$4=99,1,IF(AK51="",0,IF(AK$30=$AX$1,IF(ISNA(MATCH(AK51,$AU$30:$AV$30,0)),0,1),IF(AK$30=$AY$1,IF(IFERROR(AK51*1,"bad")="bad",0,1),IF(AK$30=$AZ$1,IF(IFERROR(IF(AK51=TRUNC(AK51),1,"bad"),"bad")="bad",0,1),IF(AK$30=$BA$1,IF(AND(IF(IFERROR(AK51*1,"bad")="bad",0,1)=1,AK51>=0),1,0),IF(AK$30=$BB$1,IF(AND(IF(IFERROR(IF(AK51=TRUNC(AK51),1,"bad"),"bad")="bad",0,1)=1,AK51>=0),1,0),IF(AK$30=$BC$1,IF(AND(IF(IFERROR(AK51*1,"bad")="bad",0,1)=1,AK51>0),1,0),IF(AK$30=$BD$1,IF(AND(IF(IFERROR(IF(AK51=TRUNC(AK51),1,"bad"),"bad")="bad",0,1)=1,AK51>0),1,0),IF(AK$30=$BE$1,1,IF(AK$30=$BF$1,IF(IFERROR(HLOOKUP(AK51,$AX$4:$BG$4,1,0),"bad")="bad",0,1),0)))))))))))) -> 0 | CB51: =IF(AM$30="",1,IF(AM$4=99,1,IF(AM51="",0,IF(AM$30=$AX$1,IF(ISNA(MATCH(AM51,$AU$30:$AV$30,0)),0,1),IF(AM$30=$AY$1,IF(IFERROR(AM51*1,"bad")="bad",0,1),IF(AM$30=$AZ$1,IF(IFERROR(IF(AM51=TRUNC(AM51),1,"bad"),"bad")="bad",0,1),IF(AM$30=$BA$1,IF(AND(IF(IFERROR(AM51*1,"bad")="bad",0,1)=1,AM51>=0),1,0),IF(AM$30=$BB$1,IF(AND(IF(IFERROR(IF(AM51=TRUNC(AM51),1,"bad"),"bad")="bad",0,1)=1,AM51>=0),1,0),IF(AM$30=$BC$1,IF(AND(IF(IFERROR(AM51*1,"bad")="bad",0,1)=1,AM51>0),1,0),IF(AM$30=$BD$1,IF(AND(IF(IFERROR(IF(AM51=TRUNC(AM51),1,"bad"),"bad")="bad",0,1)=1,AM51>0),1,0),IF(AM$30=$BE$1,1,IF(AM$30=$BF$1,IF(IFERROR(HLOOKUP(AM51,$AX$4:$BG$4,1,0),"bad")="bad",0,1),0)))))))))))) -> 0 | CC51: =IF(ISNA(MATCH(AN51,$AU$30:$AV$30,0)),0,1) -> 1 | CG51: =IF(AR$30="",1,IF(AR51="",0,IF(AR$30=$AX$1,IF(ISNA(MATCH(AR51,$AU$30:$AV$30,0)),0,1),IF(AR$30=$AY$1,IF(IFERROR(AR51*1,"bad")="bad",0,1),IF(AR$30=$AZ$1,IF(IFERROR(IF(AR51=TRUNC(AR51),1,"bad"),"bad")="bad",0,1),IF(AR$30=$BA$1,IF(AND(IF(IFERROR(AR51*1,"bad")="bad",0,1)=1,AR51>=0),1,0),IF(AR$30=$BB$1,IF(AND(IF(IFERROR(IF(AR51=TRUNC(AR51),1,"bad"),"bad")="bad",0,1)=1,AR51>=0),1,0),IF(AR$30=$BC$1,IF(AND(IF(IFERROR(AR51*1,"bad")="bad",0,1)=1,AR51>0),1,0),IF(AR$30=$BD$1,IF(AND(IF(IFERROR(IF(AR51=TRUNC(AR51),1,"bad"),"bad")="bad",0,1)=1,AR51>0),1,0),IF(AR$30=$BE$1,1,IF(AR$30=$BF$1,IF(IFERROR(HLOOKUP(AR51,$AX$4:$BG$4,1,0),"bad")="bad",0,1),0))))))))))) -> 1 | CL51: =IF($F51="","",CL$30) | CM51: =IF($F51="","",CM$30) | CN51: =IF($F51="","",CN$30) | CO51: =IF($F51="","",CO$30) | CP51: =IF($F51="","",CP$30) | CQ51: =IF($F51="","",CQ$30) | CR51: =IF($F51="","",CR$30) | CS51: =IF($F51="","",CS$30) | ... CU51: =IF($F51="","",CU$30)
B52: =IF(F52="","",ROW()-30) | J52: =IF($F52="","",IFERROR(IF(H52>I52,$AU$1,IF(H52/I52>=0.75,1,0)),$AU$1)) | X52: =IF(F52="","",IF(G52>=$G$6,1,0)) | AR52: =IF($F52="","",IF(AN52=1,1,IF(AT52<>1,$AU$1,IF(SUMIF($G$4:$AM$4,1,G52:AM52)=COUNTIF($G$4:$AM$4,1),1,0)))) | AT52: =IF(SUM(AW52:CG52)=COUNT(AW52:CG52),1,0) -> 0 | AU52: =IF($F52="","",AU$30) | AV52: =IF($F52="","",AV$30) | AW52: =IF(G$30="",1,IF(G$4=99,1,IF(G52="",0,IF(G$30=$AX$1,IF(ISNA(MATCH(G52,$AU$30:$AV$30,0)),0,1),IF(G$30=$AY$1,IF(IFERROR(G52*1,"bad")="bad",0,1),IF(G$30=$AZ$1,IF(IFERROR(IF(G52=TRUNC(G52),1,"bad"),"bad")="bad",0,1),IF(G$30=$BA$1,IF(AND(IF(IFERROR(G52*1,"bad")="bad",0,1)=1,G52>=0),1,0),IF(G$30=$BB$1,IF(AND(IF(IFERROR(IF(G52=TRUNC(G52),1,"bad"),"bad")="bad",0,1)=1,G52>=0),1,0),IF(G$30=$BC$1,IF(AND(IF(IFERROR(G52*1,"bad")="bad",0,1)=1,G52>0),1,0),IF(G$30=$BD$1,IF(AND(IF(IFERROR(IF(G52=TRUNC(G52),1,"bad"),"bad")="bad",0,1)=1,G52>0),1,0),IF(G$30=$BE$1,1,IF(G$30=$BF$1,IF(IFERROR(HLOOKUP(G52,$AX$4:$BG$4,1,0),"bad")="bad",0,1),0)))))))))))) -> 0 | AX52: =IF(H$30="",1,IF(H$4=99,1,IF(H52="",0,IF(H$30=$AX$1,IF(ISNA(MATCH(H52,$AU$30:$AV$30,0)),0,1),IF(H$30=$AY$1,IF(IFERROR(H52*1,"bad")="bad",0,1),IF(H$30=$AZ$1,IF(IFERROR(IF(H52=TRUNC(H52),1,"bad"),"bad")="bad",0,1),IF(H$30=$BA$1,IF(AND(IF(IFERROR(H52*1,"bad")="bad",0,1)=1,H52>=0),1,0),IF(H$30=$BB$1,IF(AND(IF(IFERROR(IF(H52=TRUNC(H52),1,"bad"),"bad")="bad",0,1)=1,H52>=0),1,0),IF(H$30=$BC$1,IF(AND(IF(IFERROR(H52*1,"bad")="bad",0,1)=1,H52>0),1,0),IF(H$30=$BD$1,IF(AND(IF(IFERROR(IF(H52=TRUNC(H52),1,"bad"),"bad")="bad",0,1)=1,H52>0),1,0),IF(H$30=$BE$1,1,IF(H$30=$BF$1,IF(IFERROR(HLOOKUP(H52,$AX$4:$BG$4,1,0),"bad")="bad",0,1),0)))))))))))) -> 0 | AY52: =IF(I$30="",1,IF(I$4=99,1,IF(I52="",0,IF(I$30=$AX$1,IF(ISNA(MATCH(I52,$AU$30:$AV$30,0)),0,1),IF(I$30=$AY$1,IF(IFERROR(I52*1,"bad")="bad",0,1),IF(I$30=$AZ$1,IF(IFERROR(IF(I52=TRUNC(I52),1,"bad"),"bad")="bad",0,1),IF(I$30=$BA$1,IF(AND(IF(IFERROR(I52*1,"bad")="bad",0,1)=1,I52>=0),1,0),IF(I$30=$BB$1,IF(AND(IF(IFERROR(IF(I52=TRUNC(I52),1,"bad"),"bad")="bad",0,1)=1,I52>=0),1,0),IF(I$30=$BC$1,IF(AND(IF(IFERROR(I52*1,"bad")="bad",0,1)=1,I52>0),1,0),IF(I$30=$BD$1,IF(AND(IF(IFERROR(IF(I52=TRUNC(I52),1,"bad"),"bad")="bad",0,1)=1,I52>0),1,0),IF(I$30=$BE$1,1,IF(I$30=$BF$1,IF(IFERROR(HLOOKUP(I52,$AX$4:$BG$4,1,0),"bad")="bad",0,1),0)))))))))))) -> 0 | AZ52: =IF(J$30="",1,IF(J$4=99,1,IF(J52="",0,IF(J$30=$AX$1,IF(ISNA(MATCH(J52,$AU$30:$AV$30,0)),0,1),IF(J$30=$AY$1,IF(IFERROR(J52*1,"bad")="bad",0,1),IF(J$30=$AZ$1,IF(IFERROR(IF(J52=TRUNC(J52),1,"bad"),"bad")="bad",0,1),IF(J$30=$BA$1,IF(AND(IF(IFERROR(J52*1,"bad")="bad",0,1)=1,J52>=0),1,0),IF(J$30=$BB$1,IF(AND(IF(IFERROR(IF(J52=TRUNC(J52),1,"bad"),"bad")="bad",0,1)=1,J52>=0),1,0),IF(J$30=$BC$1,IF(AND(IF(IFERROR(J52*1,"bad")="bad",0,1)=1,J52>0),1,0),IF(J$30=$BD$1,IF(AND(IF(IFERROR(IF(J52=TRUNC(J52),1,"bad"),"bad")="bad",0,1)=1,J52>0),1,0),IF(J$30=$BE$1,1,IF(J$30=$BF$1,IF(IFERROR(HLOOKUP(J52,$AX$4:$BG$4,1,0),"bad")="bad",0,1),0)))))))))))) -> 1 | BA52: =IF(K$30="",1,IF(K$4=99,1,IF(K52="",0,IF(K$30=$AX$1,IF(ISNA(MATCH(K52,$AU$30:$AV$30,0)),0,1),IF(K$30=$AY$1,IF(IFERROR(K52*1,"bad")="bad",0,1),IF(K$30=$AZ$1,IF(IFERROR(IF(K52=TRUNC(K52),1,"bad"),"bad")="bad",0,1),IF(K$30=$BA$1,IF(AND(IF(IFERROR(K52*1,"bad")="bad",0,1)=1,K52>=0),1,0),IF(K$30=$BB$1,IF(AND(IF(IFERROR(IF(K52=TRUNC(K52),1,"bad"),"bad")="bad",0,1)=1,K52>=0),1,0),IF(K$30=$BC$1,IF(AND(IF(IFERROR(K52*1,"bad")="bad",0,1)=1,K52>0),1,0),IF(K$30=$BD$1,IF(AND(IF(IFERROR(IF(K52=TRUNC(K52),1,"bad"),"bad")="bad",0,1)=1,K52>0),1,0),IF(K$30=$BE$1,1,IF(K$30=$BF$1,IF(IFERROR(HLOOKUP(K52,$AX$4:$BG$4,1,0),"bad")="bad",0,1),0)))))))))))) -> 0 | BB52: =IF(L$30="",1,IF(L$4=99,1,IF(L52="",0,IF(L$30=$AX$1,IF(ISNA(MATCH(L52,$AU$30:$AV$30,0)),0,1),IF(L$30=$AY$1,IF(IFERROR(L52*1,"bad")="bad",0,1),IF(L$30=$AZ$1,IF(IFERROR(IF(L52=TRUNC(L52),1,"bad"),"bad")="bad",0,1),IF(L$30=$BA$1,IF(AND(IF(IFERROR(L52*1,"bad")="bad",0,1)=1,L52>=0),1,0),IF(L$30=$BB$1,IF(AND(IF(IFERROR(IF(L52=TRUNC(L52),1,"bad"),"bad")="bad",0,1)=1,L52>=0),1,0),IF(L$30=$BC$1,IF(AND(IF(IFERROR(L52*1,"bad")="bad",0,1)=1,L52>0),1,0),IF(L$30=$BD$1,IF(AND(IF(IFERROR(IF(L52=TRUNC(L52),1,"bad"),"bad")="bad",0,1)=1,L52>0),1,0),IF(L$30=$BE$1,1,IF(L$30=$BF$1,IF(IFERROR(HLOOKUP(L52,$AX$4:$BG$4,1,0),"bad")="bad",0,1),0)))))))))))) -> 0 | BC52: =IF(M$30="",1,IF(M$4=99,1,IF(M52="",0,IF(M$30=$AX$1,IF(ISNA(MATCH(M52,$AU$30:$AV$30,0)),0,1),IF(M$30=$AY$1,IF(IFERROR(M52*1,"bad")="bad",0,1),IF(M$30=$AZ$1,IF(IFERROR(IF(M52=TRUNC(M52),1,"bad"),"bad")="bad",0,1),IF(M$30=$BA$1,IF(AND(IF(IFERROR(M52*1,"bad")="bad",0,1)=1,M52>=0),1,0),IF(M$30=$BB$1,IF(AND(IF(IFERROR(IF(M52=TRUNC(M52),1,"bad"),"bad")="bad",0,1)=1,M52>=0),1,0),IF(M$30=$BC$1,IF(AND(IF(IFERROR(M52*1,"bad")="bad",0,1)=1,M52>0),1,0),IF(M$30=$BD$1,IF(AND(IF(IFERROR(IF(M52=TRUNC(M52),1,"bad"),"bad")="bad",0,1)=1,M52>0),1,0),IF(M$30=$BE$1,1,IF(M$30=$BF$1,IF(IFERROR(HLOOKUP(M52,$AX$4:$BG$4,1,0),"bad")="bad",0,1),0)))))))))))) -> 0 | BD52: =IF(N$30="",1,IF(N$4=99,1,IF(N52="",0,IF(N$30=$AX$1,IF(ISNA(MATCH(N52,$AU$30:$AV$30,0)),0,1),IF(N$30=$AY$1,IF(IFERROR(N52*1,"bad")="bad",0,1),IF(N$30=$AZ$1,IF(IFERROR(IF(N52=TRUNC(N52),1,"bad"),"bad")="bad",0,1),IF(N$30=$BA$1,IF(AND(IF(IFERROR(N52*1,"bad")="bad",0,1)=1,N52>=0),1,0),IF(N$30=$BB$1,IF(AND(IF(IFERROR(IF(N52=TRUNC(N52),1,"bad"),"bad")="bad",0,1)=1,N52>=0),1,0),IF(N$30=$BC$1,IF(AND(IF(IFERROR(N52*1,"bad")="bad",0,1)=1,N52>0),1,0),IF(N$30=$BD$1,IF(AND(IF(IFERROR(IF(N52=TRUNC(N52),1,"bad"),"bad")="bad",0,1)=1,N52>0),1,0),IF(N$30=$BE$1,1,IF(N$30=$BF$1,IF(IFERROR(HLOOKUP(N52,$AX$4:$BG$4,1,0),"bad")="bad",0,1),0)))))))))))) -> 0 | ... CA52: =IF(AK$30="",1,IF(AK$4=99,1,IF(AK52="",0,IF(AK$30=$AX$1,IF(ISNA(MATCH(AK52,$AU$30:$AV$30,0)),0,1),IF(AK$30=$AY$1,IF(IFERROR(AK52*1,"bad")="bad",0,1),IF(AK$30=$AZ$1,IF(IFERROR(IF(AK52=TRUNC(AK52),1,"bad"),"bad")="bad",0,1),IF(AK$30=$BA$1,IF(AND(IF(IFERROR(AK52*1,"bad")="bad",0,1)=1,AK52>=0),1,0),IF(AK$30=$BB$1,IF(AND(IF(IFERROR(IF(AK52=TRUNC(AK52),1,"bad"),"bad")="bad",0,1)=1,AK52>=0),1,0),IF(AK$30=$BC$1,IF(AND(IF(IFERROR(AK52*1,"bad")="bad",0,1)=1,AK52>0),1,0),IF(AK$30=$BD$1,IF(AND(IF(IFERROR(IF(AK52=TRUNC(AK52),1,"bad"),"bad")="bad",0,1)=1,AK52>0),1,0),IF(AK$30=$BE$1,1,IF(AK$30=$BF$1,IF(IFERROR(HLOOKUP(AK52,$AX$4:$BG$4,1,0),"bad")="bad",0,1),0)))))))))))) -> 0 | CB52: =IF(AM$30="",1,IF(AM$4=99,1,IF(AM52="",0,IF(AM$30=$AX$1,IF(ISNA(MATCH(AM52,$AU$30:$AV$30,0)),0,1),IF(AM$30=$AY$1,IF(IFERROR(AM52*1,"bad")="bad",0,1),IF(AM$30=$AZ$1,IF(IFERROR(IF(AM52=TRUNC(AM52),1,"bad"),"bad")="bad",0,1),IF(AM$30=$BA$1,IF(AND(IF(IFERROR(AM52*1,"bad")="bad",0,1)=1,AM52>=0),1,0),IF(AM$30=$BB$1,IF(AND(IF(IFERROR(IF(AM52=TRUNC(AM52),1,"bad"),"bad")="bad",0,1)=1,AM52>=0),1,0),IF(AM$30=$BC$1,IF(AND(IF(IFERROR(AM52*1,"bad")="bad",0,1)=1,AM52>0),1,0),IF(AM$30=$BD$1,IF(AND(IF(IFERROR(IF(AM52=TRUNC(AM52),1,"bad"),"bad")="bad",0,1)=1,AM52>0),1,0),IF(AM$30=$BE$1,1,IF(AM$30=$BF$1,IF(IFERROR(HLOOKUP(AM52,$AX$4:$BG$4,1,0),"bad")="bad",0,1),0)))))))))))) -> 0 | CC52: =IF(ISNA(MATCH(AN52,$AU$30:$AV$30,0)),0,1) -> 1 | CG52: =IF(AR$30="",1,IF(AR52="",0,IF(AR$30=$AX$1,IF(ISNA(MATCH(AR52,$AU$30:$AV$30,0)),0,1),IF(AR$30=$AY$1,IF(IFERROR(AR52*1,"bad")="bad",0,1),IF(AR$30=$AZ$1,IF(IFERROR(IF(AR52=TRUNC(AR52),1,"bad"),"bad")="bad",0,1),IF(AR$30=$BA$1,IF(AND(IF(IFERROR(AR52*1,"bad")="bad",0,1)=1,AR52>=0),1,0),IF(AR$30=$BB$1,IF(AND(IF(IFERROR(IF(AR52=TRUNC(AR52),1,"bad"),"bad")="bad",0,1)=1,AR52>=0),1,0),IF(AR$30=$BC$1,IF(AND(IF(IFERROR(AR52*1,"bad")="bad",0,1)=1,AR52>0),1,0),IF(AR$30=$BD$1,IF(AND(IF(IFERROR(IF(AR52=TRUNC(AR52),1,"bad"),"bad")="bad",0,1)=1,AR52>0),1,0),IF(AR$30=$BE$1,1,IF(AR$30=$BF$1,IF(IFERROR(HLOOKUP(AR52,$AX$4:$BG$4,1,0),"bad")="bad",0,1),0))))))))))) -> 1 | CL52: =IF($F52="","",CL$30) | CM52: =IF($F52="","",CM$30) | CN52: =IF($F52="","",CN$30) | CO52: =IF($F52="","",CO$30) | CP52: =IF($F52="","",CP$30) | CQ52: =IF($F52="","",CQ$30) | CR52: =IF($F52="","",CR$30) | CS52: =IF($F52="","",CS$30) | ... CU52: =IF($F52="","",CU$30)
