Workbook
Name a: #REF!
Name a: #REF!
Name aa: #REF!
Name b: #REF!
Name DDDD: #REF!
Name ee: #REF!
Name ngf: #REF!
Name ג: #REF!
Name ד: #REF!
Name ע: #REF!
Name ש: #REF!

Sheet מודל תמיכה חלוקת 20,294,511 שח
C1: מס' | D1: שנה | E1: מזהה מגיש הבקשה | F1: מס' מגיש | G1: שם מגיש הבקשה | H1: מספר בקשה | I1: תיאור בקשה קצר | J1: סכום מבוקש | K1: איכות המחקרים המתבצעים במוסד בהיבט אקדמי | L1: חשיבות המחקרים המתבצעים במוסד (מבחינה לאומית) | M1: היקף המחקר בשנת ההערכה | N1: מס' הפרסומים שפורסמו לציבור בשנת ההערכה | O1: מס' חוקרים (מעבר ל 7) | P1: עזרי מחקר | Q1: מקצועיות תוכנית עבודה לשנת הגשת התמיכה | R1: מהדורות אלקטרוניות (חינם) | S1: הפחתת ניקוד בגין הגשת מחקרים שהמכון התבקש לא להגישם שנית | T1: ניקוד נוסף בגין איכות הגשת הבקשה | U1: סה"כ ניקוד | V1: סכום תמיכה 2024 לפני הגבלה לסכום הבקשה והגנה | W1: תמיכה סופית 2023 | X1: סכום תמיכה 2024 כולל הגבלה לסכום הבקשה והגנה של 80% משיעור תמיכת 2023 | Y1: נימוקים כולל נימוקי הועדה המייעצת | Z1: דיון הוועדה המייעצת בהשגות הגופים | AB1: שנת התקציב | AC1: 2024
K2: 0 - 20 נקודות | L2: 0 - 20 נקודות | M2: 0 - 12 נקודות בשנת 2024: 0 - 19 נקודות | N2: 0 - 12 נקודות בשנת 2024: 0 - 19 נקודות | O2: 0 - 20 נקודות | P2: 0 - 10 נקודות בשנת 2024: 0 - 14 נקודות | Q2: 0 - 2 נקודות | R2: 0 - 6 נקודות בשנת 2024: 0 - 8 נקודות | S2: הפחתה של עד 4 נקודות | T2: תתוספת / הפחתה של עד 2 נקודות | Z2: נימוקים כולל נימוקי הועדה המייעצת | AB2: תקציב שנתי | AC2: =17294511+3000000 -> 20294511
A3: מועד | B3: חדש | C3: 1 | D3: 2024 | E3: 580070035 | F3: 40143373 | G3: "המכון ללימוד מחקר ובנין המקדש" | H3: 1001795808 | I3: מחקרי מכון המקדש תשפ"ד | J3: 510000 | K3: 10 | L3: 10 | M3: 12 | N3: 0 | P3: 6 | R3: 0 | U3: =SUM(K3:T3) -> 38 | V3: =U3/$U$68*$AC$2 -> 267960.88 | W3: 136571 | X3: ='הגבלה לסכום מבוקש'!U31 -> 264414.53 | Y3: מומלץ לתמיכה ע"פ סעיפים 3(1)א ו - 9 (הוראת שעה 2024) למבחני התמיכה. המכון הינו מנושאי הדגל בתחום חקר המקדש וקודשיו, ומהווה מומחה בעל שם בכל הקשור לתורת הטהרות. שני הפרסומים שהוכרו לצורך מעבר תנאי סף 4(5): טהרת ישראל ב' (יצא לאור ב 9/21); דרכי התלמוד (יצא לאור ב 10/19). ניקוד משתנה 'איכות המחקרים' ניתן בשים לב לרמת המחקר ההולכת ומתפתחת, הכוללת עבודה יסודית, מקיפה ומעמיקה. ניקוד משתנה 'חשיבות המחקרים' ניתן לפי קטגורית 'חשיבות רבה', בשים לב להתפתחות המחקרים בנושא ייחודי וחשוב זה. ניקוד משתנה 'היקף המחקר' הולם את עבודת המחקר במכון, בשים לב להיקפם, למקוריותם ולחשיבותם. ניקוד משתנה 'מספר הפרסומים' לא נוקד, בהעדר פרסום שיצא לאור בשנת ההערכה הקלנדרית 2022. עזרי מחקר שנוקדו: 2 מבנים ייעודיים, אתר 'ויקימיקדש'. מהדורות אלקטרוניות (בנוסף למודפסות) המופצות חינם: לא נוקדו, בהעדר פרסומים שיצאו לאור בשנת ההערכה. הערה: גוף זה לא נתמך בשנת 2022 ע"י המחלקה למחקר תורני, ולפיכך נבחן כ'גוף חדש' ע"פ הוראת השעה לשנת 2024.
A4: מועד | C4: 2 | D4: 2024 | E4: 580544427 | F4: 41479304 | G4: אוצר ערכי החסידות (ע"ר) | H4: 1001793677 | I4: סיוע בעריכת מחקרים בעלי חשיבות לאומית | J4: 900000 | K4: 20 | L4: 20 | M4: 19 | N4: 19 | P4: 8 | R4: 0 | U4: =SUM(K4:T4) -> 86 | V4: =U4/$U$68*$AC$2 -> 606437.79 | W4: 700341 | X4: ='הגבלה לסכום מבוקש'!U32 -> 598411.84 | Y4: מומלץ לתמיכה ע"פ סעיפים 4(1)א,ב ו - 9 (הוראת שעה 2024) למבחני התמיכה. להלן התייחסות הוועדה המייעצת: המכון הינו מפעל דגל של תורת החסידות לגווניה השונים, שהינה בעלת חשיבות לאומית. המכון עוסק בחקר ספרות תורת החסידות, החל ממשנתו של מייסד התנועה הבעש"ט הקדוש ותלמידיו גדולי החסידות, לפני למעלה מ 200 שנה ועד ימינו אנו. במסגרת מחקרים אלה נערכת ההדרה מחקרית ומעמיקה, בהסתמך על דפוסים ראשונים, פענוח ראשי תיבות, חשיפת מאות אלפי מראי מקומות, השוואות והרחבות - המועילים להבנת מושגי יסוד בתורת הקבלה וכן מדור הפנינים שהינו קטעים נבחרים המקיפים נושאים שונים מכל תורת החסידות, ע"פ סדר הא'ב'. בשנים האחרונות הוציא המכון לאור עשרות מיצירותיהם החשובות ביותר של ספרי היסוד בעולם החסידות, דוגמת ספר התניא, ליקוטי מוהר"ן, נועם אלימלך, קדושת לוי, דברי חיים ועוד, אשר יוצאים כעת לאור במהדורה מחקרית חדשה. במכון צוות חוקרים מגוון מעולם היצירה החסידית על גווניה השונים ושיטותיה הרבות. תוצאת המאמץ הגדול ניכרת בסדרות שונות, הכוללות עשרות ספרים, שכבשו מגזרים רבים בארון הספרים היהודי. לאור כל האמור לעיל: במשתנים 'איכות הפעילות' ו'חשיבות הפעילות' קיבל המכון את הניקוד המירבי בכל אחד מן המשתנים. במשתנה 'היקף עבודת המחקר' - בשים לב להיקף הגדול של המחקרים המתבצעים במכון ניתן למכון הניקוד המירבי. במשתנה 'מס' הפרסומים בשנת ההערכה' ניתן למכון ניקוד בשים לב לחשיבות ארבעת הפרסומים שיצאו לאור בשנת ההערכה. ניקוד עזרי מחקר: 2 מבנים ייעודיים, מאגר כתבי יד ותוכנה ייחודית. מהדורות אלקטרוניות (בנוסף למודפסות) המופצות חינם: לא נוקדו, בהעדר כאלה בשנת ההערכה. | Z4: המוסד הגיש ערעור על החלטת ועדת התמיכות, אשר הובאה לדיון בפני הועדה המייעצת. בערעורו טוען המוסד כי עליו לקבל את הניקוד המירבי בסעיף 'מס' פרסומים שיצאו לאור בשנת ההערכה' בשל ארבעת הפרסומים רחבי ההיקף שהוציא ומספר החוקרים הרב שעובדים במסגרת מחקרי המכון. הועדה המייעצת עיינה במכתב הערעור והחליטה כי בשל היקף העבודה הרב שנדרש אודות ארבעת הפרסומים הללו, ובהתחשב גם בשעות עבודת החוקרים שנדרשו לצורך הפרסומים, יושווה הניקוד לזה שהיה בשנה האחרונה בה נוקד - והניקוד יעודכן לניקוד המירבי (19 נקודות).
A5: מועד | C5: 3 | D5: 2024 | E5: 580270163 | F5: 40383313 | G5: אוצרות שלמה להוצאת וההדרת כתבי מרן | H5: 1001792793 | I5: תמיכה שוטפת 2024 | J5: 500000 | K5: 20 | L5: 20 | M5: 10 | N5: 8 | P5: 6 | R5: 0 | U5: =SUM(K5:T5) -> 64 | V5: =U5/$U$68*$AC$2 -> 451302.54 | W5: 440421 | X5: ='הגבלה לסכום מבוקש'!U33 -> 445329.74 | Y5: מומלץ לתמיכה ע"פ סעיפים 4(1)א,ב ו - 9 (הוראת שעה 2024) למבחני התמיכה. להלן התייחסות הוועדה המייעצת: המכון מתמקד בפעילותו של אחד מגדולי הפוסקים המרכזיים של האומה בדורות האחרונים - הגאון רבי שלמה זלמן אוירבך זצ"ל, וחושף רבדים נוספים ביישום ההלכה בחיי המעשה. הוועדה המייעצת מצאה חשיבות משמעותית בעובדה שסוגיות הש"ס המבוארות ע"פ משנתו, כוללות בתוכן גם פסיקות הלכה למעשה. ההשלכה של עמדת הרב בנושאי חשמל, מעליות, מצוות התלויות בארץ וכו' הינה בעלת משקל מכריע בכל פיתוח עתידי של קשרי תורה ומדע. לאור כל האמור לעיל: במשתנים 'איכות הפעילות' ו'חשיבות הפעילות' קיבל המכון את הניקוד המירבי בכל אחד מן המשתנים. ניקוד משתנה 'היקף עבודת המחקר' בשים לב להיקף עבודת המחקר ובהתחשב בכך שהעבודה על המחקר 'קרני אורה' נמשכה שנים רבות; ניקוד משתנה 'מס' הפרסומים' בשים לב לחשיבות הפרסום. ניקוד עזרי מחקר : מבנה ייעודי, מאגר כתבי יד, ותוכנה ייחודית. מהדורות אלקטרוניות (בנוסף למודפסות) המופצות חינם: לא נוקדו, בהעדר כאלה בשנת ההערכה.
A6: טיוט | B6: חדש | C6: 4 | D6: 2024 | E6: 580000768 | F6: 40011305 | G6: אור תורה סטון (ע"ר) | H6: 1001794097 | I6: המכון ליחסי ישראל והאנושות | J6: 525000 | U6: =SUM(K6:T6) -> 0 | V6: =U6/$U$68*$AC$2 -> 0 | W6: 0 | X6: ='הגבלה לסכום מבוקש'!U34 -> 0 | Y6: אינו מומלץ לתמיכה ע"פ סעיפים 4(5) ו 9 (הוראת שעה 2024) למבחני התמיכה. להלן התייחסות הועדה המייעצת: למכון אין שני פרסומים במהלך השנים 2019 עד 2023 (כולל), שהוכרו ע"י הועדה המייעצת כבעלי חשיבות לאומית (גם כשמרחיבים את תקופת הבדיקה, על מנת שזו תכלול את חודשים אוקטובר עד דצמבר 2023, ע"פ סעיף 9(א)(2) למבחני התמיכה), כי אם פרסום אחד בלבד, בהתאם לפירוט הבא: (א) הפרסום 'ושמו אחד' הוכר כבעל חשיבות לאומית, בהיותו מחקר מקורי וחדשני בתחום שאלות היסוד של יחסי ישראל והאנושות בעת הזו, שטרם נחקר עד כה, המקיף מקורות תורניים והגותיים רבים בסוגיה זו. (ב) מאגר המידע 'ישראל והעמים' לא הוכר, היות שמדובר במאגר מצומצם מאד שאינו מובנה, ערוך ונגיש לשימוש לציבור הרחב, דבר שאף מקשה על בחינתו. לפיכך, לא מאושר כבעל חשיבות לאומית בשלב זה. ניתן להגישו לבחינה בעתיד, עם הרחבתו, סידורו והבנייתו. (ג) הפרסום 'סיפורי ישראל והאנושות' אינו מוכר כבעל חשיבות לאומית. מדובר בספר סיפורים, שהינו יצירה תרבותית יצירתית ומקורית בעלת דגש ספרותי, ולא מחקר תורני. לאור האמור לעיל, המכון אינו עומד בתנאי הסף הדורש שני פרסומים בעלי חשיבות לאומית, ולפיכך אינו מומלץ לתמיכה. הערה: גוף זה לא נתמך בשנים 2022 ו 2023 ע"י המחלקה למחקר תורני, ולפיכך נבחן כ'גוף חדש' ע"פ הוראת השעה לשנת 2024. | Z6: המוסד הגיש ערעור על החלטת ועדת התמיכות, אשר הובאה לדיון בפני הועדה המייעצת. המוסד מערער אודות אי הכרה במאגר המידע 'ישראל והעמים' כבעל חשיבות לאומית, דבר שמנע ממנו מלעמוד בתנאי הסף הדורש שני פרסומים בעלי חשיבות לאומית. הועדה המייעצת עיינה במכתב הערעור ובמאגר המידע שהוגש לפניה והחליטה כי אין מקום לשנות את המלצתה הקודמת, כיון שמדובר באוסף מאמרים (וסרטונים). חלק מן המאמרים אינם מהווים מקורות מחקריים - תורניים - יהודיים וחלקם אינם בשפה העברית, כנדרש במבחני התמיכה. המאגר אינו מובנה ומונגש באופן שניתן להפיק ממנו מחקר תורני ובנוסף, אינו נגיש לכל באופן המקובל והציבור אינו יודע על קיומו והוצאתו לאור. לאור הדברים, המאגר אינו מהווה מאגר מידע מחקרי-תורני בעל חשיבות לאומית. לאור האמור לעיל, ערעור המכון נדחה.
A7: טיוט | B7: חדש | C7: 5 | D7: 2024 | E7: 580611689 | F7: 42425354 | G7: אורות חמדה (ע"ר) | H7: 1001797048 | I7: מכוני מחקר 2024 | J7: 198000 | K7: 4 | L7: 7 | M7: 3 | N7: 4 | P7: 4 | R7: 0 | U7: =SUM(K7:T7) -> 22 | V7: =U7/$U$68*$AC$2 -> 155135.25 | W7: 0 | X7: ='הגבלה לסכום מבוקש'!U35 -> 153082.1 | Y7: מומלץ לתמיכה ע"פ סעיפים 4(1)א ו - 9 (הוראת שעה 2024) למבחני התמיכה. להלן התייחסות הועדה המייעצת: המכון מבצע מחקרים בעלי חשיבות לאומית אודות משנתם ההגותית הרחבה של מרן הרב קוק ובנו הרב צבי יהודה זצ"ל. העבודה מתבצעת באמצעות ביאור והרחבת דבריהם, מתוך עיון בכתביהם, שחלקם טרם ראו אור. שני הפרסומים שהוכרו לצורך מעבר תנאי סף 4(5): לקט אגרות (יצא לאור ב 3/22); על המידות (יצא לאור ב 11/19). ניקוד משתנה 'איכות המחקרים' ניתן בשים לב לרמת המחקר הנאותה; ניקוד משתנה 'חשיבות המחקרים' ניתן לפי קטגורית 'חשיבות נאותה', בשים לב לחשיבות המחקרים במכון, ביניהם אודות הרבנים קוק זצ"ל ושיעורי הרב שפירא שליט"א, ובהתחשב בעובדה שישנם מכוני מחקר נוספים העובדים בנושאים הדומים שפורטו להלן. ניקוד משתנה 'היקף המחקר' הולם את עבודת המחקר במכון, בשים לב לכך שחלקם מהווים סיכומי שיחות וספרי תולדות ואורחות חיים; ניקוד משתנה 'מספר הפרסומים' נוקד בהתאם למספר הפרסומים שיצאו לאור בשנת ההערכה, בשים לב לעובדה שחלקם הגדול מהווה חוברות וקבצי מאמרים שאינם ערוכים או סיכומי שיעורים. באשר למחקרים 'מתוך התורה הגואלת' (על התורה ועל המועדים): הועדה המייעצת התבססה על תוכנית העבודה של המכון, בה נכתב כי במהדורות החדשות שתצאנה לאור, ישנן תוספות משמעותיות. למכון 6 חוקרים בלבד, אשר עבדו בשנת ההערכה על פרסומים ועבודות מחקר שהוכרו כבעלי חשיבות לאומית (אביחי דביר, אלדר אסא, זיס מתן, טרספולסקי יובל, סויסה חגי אליעזר, סופר ידידיה), ולפיכך עומד בתנאי סף של העסקת חוקרים ע"פ סעיף 4(7)ב למבחני התמיכה. הועדה המייעצת מבקשת לציין, כי בכוונתה לשקול בעתיד באופן רוחבי את נושא התמיכה בשיעורים עיוניים של ראשי ישיבות על מסכתות הש"ס; לפיכך, על מכוני המחקר התורניים העוסקים בכך להיערך בהתאם. עזרי מחקר שנוקדו: מבנה ייעודי ומאגר כתבי יד. מהדורות אלקטרוניות (בנוסף למודפסות) המופצות חינם: לא נוקדו, בהעדר כאלה בשנת ההערכה. הערה: גוף זה לא נתמך בשנים 2022 ו 2023 ע"י המחלקה למחקר תורני, ולפיכך נבחן כ'גוף חדש' ע"פ הוראת השעה לשנת 2024.
A8: מועד | C8: 6 | D8: 2024 | E8: 580024560 | F8: 40216019 | G8: אריאל מפעלי תורה יהדות וחברה בישראל | H8: 1001795320 | I8: תמיכה במחקרים של אריאל | J8: 450000 | K8: 6 | L8: 6 | M8: 9 | N8: 9 | P8: 4 | R8: 0 | U8: =SUM(K8:T8) -> 34 | V8: =U8/$U$68*$AC$2 -> 239754.47 | W8: 281581 | X8: ='הגבלה לסכום מבוקש'!U36 -> 236581.43 | Y8: מומלץ לתמיכה ע"פ סעיפים 4(1)א,ב ו - 9 (הוראת שעה 2024) למבחני התמיכה להלן התייחסות הוועדה המייעצת: מכון אריאל עוסק בעיקר בחקר כתביו של אחד מגדולי הוגי הדעות בדורנו, הרב הנזיר זצ"ל וכן במחקר רש"י השלם. ניקוד המשתנים 'איכות המחקרים' נוקד בשים לב לעבודה המחקרית הנאותה המתבצעת במכון; במשתנה חשיבות המחקרים ניתן הניקוד לפי קטגורית 'חשיבות נאותה'. משתנה 'היקף המחקר' נוקד בשים לב לעובדה שהמכון לא ציין מספר עמודים משוער של מחקריו, למרות שהתבקש לעשות זאת כבר מספר שנים, כי אם כותב 'בהכנה' - דבר המגביל את יכולת הערכת היקף מחקריו. משתנה 'מס' הפרסומים' בשנת ההערכה נוקד בהלימה להוצאתם לאור של שלושה פרסומים בהיקף נאות. עזרי מחקר שנוקדו: מבנה ייעודי וכתבי יד. מהדורות אלקטרוניות (בנוסף למודפסות) המופצות חינם: לא נוקדו, בהעדר כאלה בשנת ההערכה.
A9: מועד | C9: 7 | D9: 2024 | E9: 580024503 | F9: 40188700 | G9: בית המדרש להלכה בהתישבות - אמונת אי"ש | H9: 1001795131 | I9: תמיכה במכוני מחקר תורנים 2024 | J9: 1000000 | K9: 20 | L9: 20 | M9: 19 | N9: 8 | P9: 4 | R9: 0 | U9: =SUM(K9:T9) -> 71 | V9: =U9/$U$68*$AC$2 -> 500663.75 | W9: 613701 | X9: ='הגבלה לסכום מבוקש'!U37 -> 498588.7 | Y9: מומלץ לתמיכה ע"פ סעיף א(1)א,ב למבחני התמיכה העיקריים וע"פ סעיף 9 להוראת השעעה 2024. להלן התייחסות הוועדה המייעצת: מפעלי המכון ממשיכים להוות את המרכיב המרכזי בכל הקשור לחקר ההלכה בתחום המצוות התלויות בארץ ובסדר 'זרעים', המתאימים לחיי החקלאות במדינת ישראל. בנוסף, עוסק המכון במחקר ובהוצאה לאור של שו"ת 'ישא יוסף' על חלקי ה'שולחן ערוך', ובו פסקיו של אחד מגדולי הפוסקים המרכזיים של האומה בדורות האחרונים, מרן הגאון רבי יוסף שלום אלישיב זצ"ל, באופן מהימן, מובנה וברור. יצוין כי פעילות המכון, על חלקיו המגוונים, מבטאים עשייה רבה שהינה שוות ערך לעבודת מספר מכונים גם יחד. לאור כל האמור לעיל: במשתנים 'איכות הפעילות' ו'חשיבות הפעילות' קיבל המכון את הניקוד המירבי בכל אחד מן המשתנים. משתנה 'היקף עבודת המחקר': בשים לב להיקף הגדול של נושאי המחקרים המתבצעים במכון ניתן למכון הניקוד המירבי; במשתנה 'מס' הפרסומים' הוענק ניקוד למכון, בשים לב לפרסום היחיד שיצא לאור, שהינו בעל ערך. עזרי מחקר שנוקדו: מבנה ייעודי וכתבי יד. מהדורות אלקטרוניות (בנוסף למודפסות) המופצות חינם: לא נוקדו, בהעדר כאלה בשנת ההערכה.
A10: מועד | C10: 8 | D10: 2024 | E10: 580108611 | F10: 40303431 | G10: בית ועד הר-חברון (ע"ר) | H10: 1001793730 | I10: תמיכה למחקר תורני בעל משמעות לאומית 2024 | J10: 290000 | K10: 9 | L10: 9 | M10: 12 | N10: 7 | P10: 2 | R10: 0 | U10: =SUM(K10:T10) -> 39 | V10: =U10/$U$68*$AC$2 -> 275012.48 | W10: 259920 | X10: ='הגבלה לסכום מבוקש'!U38 -> 271372.81 | Y10: מומלץ לתמיכה לפי סעיף 4(1)א למבחני התמיכה וע"פ סעיף 9 להורא המכון עוסק במחקר מקיף בתחומי העיון, הלימוד וההלכה, אשר יש בהם חשיבות לאומית בהמשכיות התורה ובהבנתה, במציאות הלאומית המודרנית כיום. לאור האמור לעיל, נוקד המכון במשתנה 'איכות המחקרים', בשים לב לרמת המחקר האיכותית, ובמשתנה 'חשיבות המחקרים' בקטגוריה 'חשיבות רבה', בשים לב לחשיבותם הרבה לציבור רחב. ניקוד משתנה 'היקף המחקר' הולם את עבודת המחקר הרבה שהתקיימה במכון; ניקוד משתנה 'מספר הפרסומים' נוקד בשים לב לפרסום החשוב שיצא לאור בשנת ההערכה. הועדה המייעצת מבקשת לציין, כי בכוונתה לשקול בעתיד באופן רוחבי את נושא התמיכה בשיעורים עיוניים של ראשי ישיבות על מסכתות הש"ס; לפיכך, על מכוני המחקר התורניים העוסקים בכך להיערך בהתאם. עזרי מחקר שנוקדו: מבנה ייעודי. מהדורות אלקטרוניות (בנוסף למודפסות) המופצות חינם: לא נוקדו, בהעדר כאלה בשנת ההערכה.
A11: טיוט | B11: חדש | C11: 9 | D11: 2024 | E11: 580671675 | F11: 42824243 | G11: בית תלמוד לרבנים בישראל (ע"ר) | H11: 1001805887 | I11: 'בית תלמוד לרבנים בישראל' ע"ר היא עמותה | J11: 1500000 | U11: =SUM(K11:T11) -> 0 | V11: =U11/$U$68*$AC$2 -> 0 | W11: 0 | X11: ='הגבלה לסכום מבוקש'!U39 -> 0 | Y11: אינו מומלץ לתמיכה ע"פ סעיפים 4(5) ו 9 (הוראת שעה 2024) למבחני התמיכה. להלן התייחסות הועדה המייעצת: למכון אין שני פרסומים במהלך השנים 2019 עד 2023 (כולל), שהוכרו ע"י הועדה המייעצת כבעלי חשיבות לאומית (גם כשמרחיבים את תקופת הבדיקה, על מנת שזו תכלול את חודשים אוקטובר עד דצמבר 2023, ע"פ סעיף 9(א)(2) למבחני התמיכה), בהתאם לפירוט הבא: (א) סדרת 'אוצר ההלכות' הינה סדרה חשובה המפרטת את כל המקורות בנושאים הלכתיים משמעותיים, אך לא בנויה כחיבור אחד ערוך, אלא כקובץ של מראי מקומות ומקורות, ולפיכך לא ניתן להכיר בה כמחקר תורני בעל חשיבות לאומית. (ב) כתבי העת 'ההיכל' ו'ספר ההיכל על הלכות פרוזבול' אינם מוכרים כפרסומים, אלא ככתבי עת, אשר מנוקדים במסגרת 'עזרי המחקר' ככל שהגוף זכאי לתמיכה. (ג) הפרסומים 'זהרי אליהו סדר ליל שבת', 'מזמור לאסף ברכות' ו 'הוידוי המבואר' הינם חיבורים שימושיים לצרכי תפילות ולקחי מוסר שאינם מוכרים כמחקר תורני בעל חשיבות לאומית. (ד) הפרסום 'וירא פנחס': יצא לאור בפברואר 2023 ע"י הרב פנחס בוטרשווילי שאינו נמנה עם חוקרי המכון (בהתאם לדיווחי המכון לתקופה זו, כמתחייב ע"פ מבחן התמיכה), ובכל מקרה, מדובר בלקט מקורות על סדר השו"ע, שעם כל חשיבותו, אינו מהווה מחקר תורני בעל חשיבות לאומית. (ה) ספר 'שיעורי מלאכות': יצא לאור באפריל 2023 ע"י הרב מיכאל שילוני, שאינו חוקר תקני במכון, כמתחייב ע"פ מבחן התמיכה (לא מקבל תשלום ולא ברור מתי הועסק), כחלק מסדרת ספריו המוכרת. ובכל מקרה, מדובר בחיבור תורני של חידושי תורה, שעם כל חשיבותו, אינו מהווה מחקר תורני בעל חשיבות לאומית. (ו) ספר 'שיעורי למען שמו': יצא לאור במרץ 2021 ע" הרב פרצוביץ, שזכויות הספר שמורות לו ולא למכון (בניגוד לסעיף 4(5)(ב) למבחן התמיכה). בנוסף, מדובר בסיכומי שיעורים שאינם בעלי חשיבות ייחודית בעולם התורני, ואינם מהווים מחקר תורני בעל חשיבות לאומית. (ז) הפרסום 'בית הלוי על מצוות הביטחון': הינו הוצאה מחודשת של ספר מוכר, בתוספת דברי מוסר שאינם מהווים מחקר תורני בעל חשיבות לאומית. (ח) הפרסום 'צרור החיים' לרבי משה חאגיז זצ"ל': הינו הדפסה מחודשת של פרסום ישן, בעל היקף מצומצם שאינו מהווה מחקר תורני בעל חשיבות לאומית. לאור האמור לעיל, המכון אינו עומד בתנאי הסף הדורש שני פרסומים בעלי חשיבות לאומית, ולפיכך אינו מומלץ לתמיכה. הערה: גוף זה לא נתמך בשנים 2022 ו 2023 ע"י המחלקה למחקר תורני, ולפיכך נבחן כ'גוף חדש' ע"פ הוראת השעה לשנת 2024. | Z11: המוסד הגיש ערעור על החלטת ועדת התמיכות, אשר הובאה לדיון בפני הועדה המייעצת. המוסד מערער אודות אי הכרה כבעלי חשיבות לאומית בארבעה מהפרסומים שהגיש במסגרת בקשת התמיכה, דבר שמנע ממנו מלעמוד בתנאי הסף הדורש שני פרסומים בעלי חשיבות לאומית: 'אוצר ההלכות' שלטענתו הינו חיבור עצום שמכיל אלפי עמודים ובו סיכום של כל הדעות והשיטות בתחומים רבים, כולל הנהגות גדולי הדור; 'ספר ההיכל על הלכות פרוזבול', הכולל מעל מאה ושלושים סוגי פרוזבול עתיקים, לרבות ציון החילוקים ביניהם; 'הווידוי המבואר' הכולל מחקר תורני, הבאת גנזים, השוואת מקורות ופירוש; ספר 'צרור החיים' לרבי משה חאגיז, הכולל הדפסה מחודשת, פתיחת ר"ת וכו'. הועדה המייעצת עיינה במכתב הערעור ובספרים שהוגשו לפניה והחליטה כי אין מקום לשנות את המלצתה הקודמת, כדלקמן: אוצר ההלכות: מדובר בסגנון חיבור סיכומי הכולל אוסף שיטות. על אף מגוון המקורות והשיטות המצויות בו לא ניתן להכיר כמחקר תורני בעל חשיבות לאומית בסגנון פרסומים מעין אלו, שאינם מהווים חיבורים ערוכים (כפי שקיים במכוני מחקר אחרים), אלא סיכומי שיטות קצרים במתכונת של הכנה ומיקוד למבחן. ספר ההיכל על הלכות פרוזבול: הינו קובץ מאמרים שלא נתמך במסגרת מחקרים תורניים בעלי חשיבות לאומית. ספר הווידוי המבואר: כשמו כן הוא – חלק מהתפילה עם ביאור. ספרים מעין אלה לא נתמכים במסגרת מחקרים תורניים בעלי חשיבות לאומית. ספר צרור החיים לרבי משה חאגיז: הינו ספר ישן וקטן כמות. הועדה המייעצת אינה מכירה בהקלדות מחדש כעבודת מחקר תורנית מעמיקה בעלת חשיבות לאומית. לאור האמור לעיל, ערעור המכון נדחה.
A12: מועד | C12: 10 | D12: 2024 | E12: 580548808 | F12: 41482605 | G12: בשורת הארץ ע"ש יוסף, נפתלי ודבורה ב | H12: 1001793357 | I12: מכון מחקר | J12: 350000 | K12: 10 | L12: 8 | M12: 10 | N12: 5 | P12: 2 | R12: 0 | U12: =SUM(K12:T12) -> 35 | V12: =U12/$U$68*$AC$2 -> 246806.08 | W12: 223820 | X12: ='הגבלה לסכום מבוקש'!U40 -> 243539.7 | Y12: מומלץ לתמיכה ע"פ סעיף 4(1)א ו - 9 (הוראת שעה 2024) למבחני התמיכה. להלן התייחסות הוועדה המייעצת: המכון עוסק בחקר תלמודה של ארץ ישראל באורינטציה ציונית ועדכנית, באמצעות פירוש של חוקרי המכון, וכן השוואה בין התלמוד הירושלמי לתלמוד הבבלי. ניקוד המשתנה 'איכות המחקרים' ניתן בשים לב לרמתם הטובה של המחקרים; ניקוד משתנה 'חשיבות המחקרים' ניתן בשים לב לחשיבותם נאותה. ניקוד משתנה 'היקף המחקר' ניתן בהתאמה לפעילות המכון ולחשיבותם של המחקרים; ניקוד משתנה 'מס' הפרסומים' נוקד בהתאם לפרסום הראוי שיצא לאור בשנת ההערכה. עזרי מחקר שנוקדו: מבנה ייעודי. מהדורות אלקטרוניות (בנוסף למודפסות) המופצות חינם: לא נוקדו, בהעדר פרסומים שיצאו לאור בשנת ההערכה. | Z12: המוסד הגיש ערעור על החלטת ועדת התמיכות, אשר הובאה לדיון בפני הועדה המייעצת. בערעורו טוען המוסד כי עליו לקבל ניקוד גבוה יותר במשתנים 'איכות המחקרים', 'חשיבות המחקרים', 'היקף המחקר בשנת ההערכה', בשל היקף העבודה הרב והחשוב שבוצע במכון. הועדה המייעצת עיינה במכתב הערעור והחליטה כי: בסעיפי האיכות והחשיבות אין מקום לבצע שינויי ניקוד, כיון שלא חל שינוי מהותי בעבודת המכון משנים עברו. מדובר במכון שעוסק בהוצאת פירוש הירושלמי ומחקרים נוספים בעלי תרומה חשובה, והועדה המייעצת סבורה כי הניקוד שניתן משקף את הערך המשמעותי של העבודה.. לעניין משתנה 'היקף המחקר בשנת ההערכה': הועדה המייעצת עיינה במכתב הערעור והחליטה כי בשל היקף העבודה שנדרש אודות ארבעת המחקרים, ובהתחשב גם בשעות עבודת החוקרים אודות מחקרים אלה, יועלה הניקוד מ 8 נקודות ל 10 נקודות.
A13: מועד | C13: 11 | D13: 2024 | E13: 580176808 | F13: 40272403 | G13: דרכי הוראה לרבנים (ע"ר) | H13: 1001794390 | I13: תמיכה במכון מחקר תורני בעל חשיבות לאומית | J13: 370000 | K13: 8 | L13: 16 | M13: 5 | N13: 0 | P13: 4 | R13: 0 | U13: =SUM(K13:T13) -> 33 | V13: =U13/$U$68*$AC$2 -> 232702.87 | W13: 317680 | X13: ='הגבלה לסכום מבוקש'!U41 -> 258092.55 | Y13: מומלץ לתמיכה ע"פ סעיף 4(1)א,ב ו 9 (הוראת השעה 2024) למבחני התמיכה. להלן התייחסות הוועדה המייעצת: פסקיו ותורתו של הרב הראשי לשעבר, הראשל"צ מרן הרב מרדכי אליהו זצ"ל, משפיעים על קהל גדול בעולם ההלכה השפעה גדולה ומכרעת, והינם בעלי חשיבות לאומית יוצאת דופן. ניקוד המשתנים 'איכות המחקרים' ניתן בשים לב לרמת המחקר הטובה ובהשוואה למכוני מחקר מסוגו; ניקוד משתנה 'חשיבות המחקרים' ניתן ע"פ קטגורית 'חשיבות יוצאת דופן' בשל דמות הראשל"צ הרב מרדכי אליהו זצ"ל והשפעתו על ציבור גדול. ניקוד משתנה 'היקף המחקר' ניתן בהתאם להיקף המחקר הנמוך יחסית; משתנה 'מס' הפרסומים' לא נוקד, בהעדר פרסום שיצא לאור בשנת ההערכה הקלנדרית 2022. עזרי מחקר שנוקדו: מבנה ייעודי וספריה. מהדורות אלקטרוניות (בנוסף למודפסות) המופצות חינם: לא נוקדו, בהעדר פרסומים שיצאו לאור בשנת ההערכה.
A14: מועד | C14: 12 | D14: 2024 | E14: 580140143 | F14: 40216035 | G14: דרכי שמחה (ע"ר) | H14: 1001792095 | I14: עריכת תורנית ומחקרית תלמוד הירושלמי השלם | J14: 850000 | K14: 20 | L14: 20 | M14: 19 | N14: 0 | P14: 4 | R14: 0 | U14: =SUM(K14:T14) -> 63 | V14: =U14/$U$68*$AC$2 -> 444250.94 | W14: 685901 | X14: ='הגבלה לסכום מבוקש'!U42 -> 557246.1 | Y14: מומלץ לתמיכה ע"פ סעיף 4(1)א,ב למבחני התמיכה ו - 9 (הוראת שעה 2024) למבחני התמיכה. להלן התייחסות הוועדה המייעצת: הוועדה המייעצת מעריכה את עבודת המכון על התלמוד הירושלמי ומתרשמת מאד מאיכות העבודה ומרמתה הגבוהה באופן רציף, הכוללת מספר חלקים: ביאור מקיף אור שמחה, ספר המפתח, השוואת הבבלי והירושלמי, תיקון הנוסח ע"פ כתבי יד, דקדוקי סופרים, תוספות ראשונים, מפרשי הירושלמי הקדמונים, אוצר מפרשי הירושלמי וסיכומי סוגיות מורכבות. כל זאת, תוך חלוקה חיונית שהתבצעה במכון, ואשר באה לידי ביטוי במהדורות השונות שבכל מסכת: 'מהדורת ירושלים המורחבת' ו'מהדורת טבריה', המבדילות בין הנדרש למחקר וללמידה תורנית מעמיקה (מהדורת ירושלים) לבין ביאורים ופירושים תמציתיים (מהדורת טבריה). לאור כל האמור לעיל: במשתנים 'איכות הפעילות' ו'חשיבות הפעילות' קיבל המכון את הניקוד המירבי בכל אחד מן המשתנים. במשתנה 'היקף עבודת המחקר' - בשים לב להיקף הגדול של המחקרים המתבצעים במכון ניתן למכון הניקוד המירבי. במשתנה 'מס' הפרסומים בשנת ההערכה' המכון לא נוקד, בשל העובדה שהפרסום שיצא לאור בשנת ההערכה (ברכות, כרך א', מהדורת ירושלים) כבר נוקד בשנת 2022 בניקוד המירבי למשתנה זה כטיוטה מוכנה, בהתאם לסעיף 5(ה)(2) למבחני התמיכה (מדובר היה אז בחלק מתוך סדרה המורכבת מיחידות מחקריות, אשר יצא לאור פרסום של המוסד באותה סדרה, בשנה שקדמה לשנת ההערכה). עזרי מחקר שנוקדו: מבנה ייעודי וכרטסת ייחודית. מהדורות אלקטרוניות (בנוסף למודפסות) המופצות חינם: לא נוקדו, בהעדר כאלה בשנת ההערכה.
A15: מועד | C15: 13 | D15: 2024 | E15: 510058738 | F15: 40215985 | G15: הוצאת אנציקלופדיה תלמודית בע"מ (חל"צ) | H15: 1001793581 | I15: תמיכה שוטפת לשנת 2024 | J15: 1500000 | K15: 20 | L15: 20 | M15: 19 | N15: 19 | P15: 4 | R15: 0 | U15: =SUM(K15:T15) -> 82 | V15: =U15/$U$68*$AC$2 -> 578231.38 | W15: 657021 | X15: ='הגבלה לסכום מבוקש'!U43 -> 570578.73 | Y15: מומלץ לתמיכה ע"פ סעיף 4(1)א,ב למבחני התמיכה ו - 9 (הוראת שעה 2024) למבחני התמיכה.. להלן התייחסות הוועדה המייעצת: הוועדה המייעצת ממשיכה לראות במפעל ה'אנציקלופדיה התלמודית' מפעל חשוב ביותר, הנמנה על מכוני הדגל של המחקר התורני במדינת ישראל. לאור כל האמור לעיל: במשתנים 'איכות הפעילות' ו'חשיבות הפעילות' קיבל המכון את הניקוד המירבי בכל אחד מן המשתנים. במשתנה 'היקף עבודת המחקר' - בשים לב להיקף הגדול של המחקרים המתבצעים במכון ניתן למכון הניקוד המירבי. במשתנה 'מס' הפרסומים בשנת ההערכה' ניתן למכון הניקוד המירבי, בשים לב לשני הפרסומים בעלי החשיבות הלאומית הרבה שיצאו לאור בשנת ההערכה. עזרי מחקר שנוקדו: מבנה ייעודי וספריה. מהדורות אלקטרוניות (בנוסף למודפסות) המופצות חינם: לא נוקדו, בהעדר כאלה בשנת ההערכה.
A16: מועד | C16: 14 | D16: 2024 | E16: 580004059 | F16: 40016849 | G16: הישיבה הגבוהה אור-עציון (ע"ר) | H16: 1001796156 | I16: תמיכה במכון התורני אור עציון - 2024 | J16: 500000 | K16: 14 | L16: 14 | M16: 16 | N16: 14 | P16: 4 | R16: 0 | U16: =SUM(K16:T16) -> 62 | V16: =U16/$U$68*$AC$2 -> 437199.33 | W16: 339341 | X16: ='הגבלה לסכום מבוקש'!U44 -> 431413.19 | Y16: מומלץ לתמיכה ע"פ סעיף 4(1)א,ב ו - 9 (הוראת שעה 2024) למבחני התמיכה. להלן התייחסות הוועדה המייעצת: המכון עוסק בעבודת ההדרה של ספרות הראשונים וספרות המחשבה של גדולי ישראל מדורות קודמים ומוציא לאור מהדורות מדעיות איכותיות. ניקוד המשתנה 'איכות המחקרים' ניתן בשים לב לרמת המחקר המקצועית והמעמיקה; משתנה 'חשיבות המחקרים' נוקד לפי קטגורית 'חשיבות רבה'. משתנה 'היקף המחקר' נוקד בשים לב לגידול בהיקף עבודת המחקר; משתנה 'מס' הפרסומים' נוקד בשים לב לשלושת הפרסומים החשובים שיצאו לאור בשנת ההערכה. עזרי מחקר שנוקדו: מבנה ייעודי וספריה. מהדורות אלקטרוניות (בנוסף למודפסות) המופצות חינם: לא נוקדו, בהעדר פרטי תאריך ההפצה / הגשה לפרסום.
A17: מועד | C17: 15 | D17: 2024 | E17: 580007433 | F17: 40188797 | G17: הישיבה הגדולה אהל שמעון מערלוי ירוש | H17: 1001792773 | I17: בקשת תמיכה למכון חתם סופר | J17: 750000 | K17: 10 | L17: 10 | M17: 14 | N17: 14 | P17: 10 | R17: 0 | U17: =SUM(K17:T17) -> 58 | V17: =U17/$U$68*$AC$2 -> 408992.92 | W17: 505401 | X17: ='הגבלה לסכום מבוקש'!U45 -> 410602.6 | Y17: מומלץ לתמיכה ע"פ סעיף 4(1)א,ב ו - 9 (הוראת שעה 2024) למבחני התמיכה. להלן התייחסות הוועדה המייעצת: המכון עוסק בההדרת תורתו של מרן ה'חתם סופר', בניו ותלמידיו. ה'חתם סופר' השפיע בפסיקתו על דורו ועל הדורות אחריו, עד לימינו אנו. בעקבות משנתו ותורתו זו, יצרו תלמידיו שיטה הלכתית המשפיעה על הפסיקה באופן משמעותי. הוועדה המייעצת רואה חשיבות גדולה במחקר מעמיק אודות כל אלה, אשר המכון מבצע בצורה הולמת וטובה. ניקוד המשתנים 'איכות המחקרים' ניתן בשים לב לרמת המחקר הטובה; משתנה 'חשיבות המחקרים' ניתן לפי קטגורית 'חשיבות רבה'. ניקוד משתנה 'היקף המחקר' ירד מזה שנוקד בשנת 2022 (השנה האחרונה בה נוקד המכון) בשל קיטון בהיקף עבודות המחקר שהתבצעו במכון; ניקוד משתנה 'מס' הפרסומים' בהתאם לעליה במספר הפרסומים שיצאו לאור (3), בשים לב לחשיבותם ולהעמקתם. עזרי מחקר שנוקדו: 2 מבנים ייעודיים, מאגר כתבי יד, 2 תוכנות ייחודיות. מהדורות אלקטרוניות (בנוסף למודפסות) המופצות חינם: לא נוקדו, בהעדר כאלה בשנת ההערכה. | Z17: המוסד הגיש ערעור על החלטת ועדת התמיכות, אשר הובאה לדיון בפני הועדה המייעצת. בערעורו טוען המוסד כי עליו לקבל את הניקוד המירבי במשתנים 'איכות המחקרים', 'חשיבות המחקרים', 'היקף המחקר בשנת ההערכה', 'מס' פרסומים שיצאו לאור בשנת ההערכה' בשל היקף העבודה הרב והחשוב שבוצע במכון ובשל מספר החוקרים המועסקים במכון. הועדה המייעצת עיינה במכתב הערעור והחליטה כי: בסעיפי האיכות והחשיבות אין מקום לבצע שינויי ניקוד, כיון שלא חל שינוי מהותי בעבודת המכון משנים עברו. מדובר במכון העוסק בדמותו החשובה של מרן החתם סופר זצ"ל, מגדולי הפוסקים בכל הדורות והועדה המייעצת אכן מברכת על כך. עם זאת, העבודה אודות המחקרים והפרסומים שהובאו בפני הועדה המייעצת, הינה בעיקר ההדרת חיבורים שיצאו לאור בעבר, לעתים באמצעות איסופם של מספר ספרים לספר אחד, שיש בו השוואות והערות ברמה מחקרית שאינה יוצאת דופן. לפיכך, על אף המהדורות החשובות, מדובר בעבודה מחקרית שעיקר עניינה הנגשת חיבורים קיימים, ולא הוצאת חיבורים חדשים מכתבי יד. לעניין משתנה 'היקף המחקר בשנת ההערכה': המוסד ציין 6 מחקרים בשלבי עבודה בלבד, לעומת 11 בשנה האחרונה בה נוקד, ולפיכך ירד הניקוד בהתאם. עם זאת, ייתכן כי טעה באופן הדיווח הראשוני בשאלון 2 (לא ציין פרסומים שיצאו לאור בתקופה 1.10.22 עד 30.9.23 כמחקרים בשלבי עבודה בשנה קלנדרית 2022) ולפיכך יועלה הניקוד ב 2 נקודות בשל עבודת החוקרים אודות המחקרים האמורים, בשים לב לעובדה שגם המחקרים הנוספים שצוינו ('חתם סופר על התורה' ו'שיר מעון') הם למעשה מהדורות מחודשות של פרסומים שיצאו כבר לאור, שחלקם גם אינם של מרן בעל ה'חתם סופר' עצמו. לעניין משתנה 'מס' הפרסומים בשנת ההערכה': הניקוד אף גדל מזה שהיה בפעם האחרונה בה נוקד, בשל הפרסום הנוסף שיצא לאור (3 פרסומים השנה לעומת 2 פרסומים בפעם הקודמת), אשר שניים מהם הינם מהדורה נוספת של פרסום שיצא כבר בעבר ואחד הינו ספר מפתחות. לפיכך, הניקוד יישאר על כנו.
A18: טיוט | B18: חדש | C18: 16 | D18: 2024 | E18: 580270403 | F18: 40299523 | G18: הליכות הארץ - משמרת המצוות במשקים ה | H18: 1001797189 | I18: מכוני מחקר 2024 | J18: 500000 | K18: 6 | L18: 6 | M18: 4 | N18: 4 | P18: 2 | R18: 0 | U18: =SUM(K18:T18) -> 22 | V18: =U18/$U$68*$AC$2 -> 155135.25 | W18: 0 | X18: ='הגבלה לסכום מבוקש'!U46 -> 153082.1 | Y18: אינו מומלץ לתמיכה ע"פ סעיפים 4(5) ו 9 (הוראת שעה 2024) למבחני התמיכה. להלן התייחסות הועדה המייעצת: למכון אין שני פרסומים במהלך השנים 2019 עד 2023 (כולל), שהוכרו ע"י הועדה המייעצת כבעלי חשיבות לאומית (גם כשמרחיבים את תקופת הבדיקה, על מנת שזו תכלול את חודשים אוקטובר עד דצמבר 2023, ע"פ סעיף 9(א)(2) למבחני התמיכה), כי אם פרסום אחד בלבד, בהתאם לפירוט הבא: (א) ספר 'חוקות חיים כלאיים, מראי מקומות מסכת כלאים - נתיב בינה': הוכר כבעל חשיבות לאומית, בהיותו חיבור מקיף התורם להעמקת הידע בתחום שיש צורך לבצע מחקרים תורניים בעניינו. (ב) ספר 'פסקי השמיטה': מדובר בחיבור שעיקרו שאלות ותשובות קצרות שעלו בפני חכמי בית המדרש בנושא מוכר וידוע, שאינו נחשב מחקר תורני מעמיק בעל חשיבות לאומית. לאור האמור לעיל, המכון אינו עומד בתנאי הסף הדורש שני פרסומים בעלי חשיבות לאומית, ולפיכך אינו מומלץ לתמיכה. הערה: גוף זה לא נתמך בשנים 2022 ו 2023 ע"י המחלקה למחקר תורני, ולפיכך נבחן כ'גוף חדש' ע"פ הוראת השעה לשנת 2024. | Z18: המוסד הגיש ערעור על החלטת ועדת התמיכות, אשר הובאה לדיון בפני הועדה המייעצת. בערעורו טוען המוסד אודות אי הכרה בספר 'פסקי שמיטה' כבעל חשיבות לאומית, דבר שמנע ממנו מלעמוד בתנאי הסף הדורש שני פרסומים בעלי חשיבות לאומית. לטענת המכון מדובר במחקר הלכתי מעמיק, אשר מתאים גם לכל שכבות העם. הועדה המייעצת עיינה במכתב הערעור ובפרסום המלא שהוגש לפניה, והחליטה כי יש מקום לשנות את החלטתה הקודמת, כדלקמן: מומלץ לתמיכה ע"פ סעיפים 4(1)א ו - 9 (הוראת שעה 2024) למבחני התמיכה. המכון עוסק במחקר מקיף ומעמיק בעל חשיבות לאומית בעיקר אודות ההלכות התלויות בארץ. שני הפרסומים שהוכרו לצורך מעבר תנאי סף 4(5): חוקות חיים כלאיים (יצא לאור ב 6/22); פסקי השמיטה (יצא לאור ב 9/21). ניקוד משתנה 'איכות המחקרים' (6 נק') ניתן בשים לב לרמת המחקר הטובה; ניקוד משתנה 'חשיבות המחקרים' (6 נק') ניתן לפי קטגורית 'חשיבות נאותה', בשים לב לנושאי המחקר שהינם חשובים אך נחקרים גם על ידי מכוני מחקר נוספים. ניקוד משתנה 'היקף המחקר' (4 נק') הולם את המחקר האחד שהתבצע במכון בשנת ההערכה; ניקוד משתנה 'מספר הפרסומים' (4 נק') נוקד בהתאם לפרסום היחיד שיצא לאור בשנת ההערכה, בשים לב לכך שאינו חלק אינטגרלי מפעילותו של המכון אודות המצוות התלויות בארץ. עזרי מחקר שנוקדו: (2 נק') עבור מבנה ייעודי שהמכון משכיר לצורך פעילותו. מהדורות אלקטרוניות (בנוסף למודפסות) המופצות חינם: לא נוקדו, בהעדר כאלה בשנת ההערכה. הערה: גוף זה לא נתמך בשנים 2022 ו 2023 ע"י המחלקה למחקר תורני, ולפיכך נבחן כ'גוף חדש' ע"פ הוראת השעה לשנת 2024. ערעור המוסד התקבל. הניקוד וסכום התמיכה יפורטו במודל המתוקן.
A19: טיוט | B19: חדש | C19: 17 | D19: 2024 | E19: 580654762 | F19: 42206274 | G19: המאיר לארץ ע"ש ציס"ע אבינו רבינו יו | H19: 1001805813 | I19: תמיכה שוטפת למכון המחקר | J19: 1000000 | U19: =SUM(K19:T19) -> 0 | V19: =U19/$U$68*$AC$2 -> 0 | W19: 0 | X19: ='הגבלה לסכום מבוקש'!U47 -> 0 | Y19: אינו מומלץ לתמיכה ע"פ סעיפים 4(5) ו - 9 (הוראת שעה 2024) למבחני התמיכה. 1) הזכויות בפרסומי המכון שהוגשו שייכות לרב ישראל אברג'ל שליט"א, ולא לעמותה, ולפיכך המוסד אינו עומד בתנאי הסף 4(5)ב למבחני התמיכה. 2) המכון אינו עומד בתנאי הסף הדורשים שני פרסומים בעלי חשיבות לאומית, לפי סעיף 4(5) למבחני התמיכה. להלן התייחסות הועדה המייעצת: למכון אין שני פרסומים במהלך השנים 2019 עד 2023 (כולל), שהוכרו ע"י הועדה המייעצת כבעלי חשיבות לאומית (גם כשמרחיבים את תקופת הבדיקה, על מנת שזו תכלול את חודשים אוקטובר עד דצמבר 2023, ע"פ סעיף 9(א)(2) למבחני התמיכה), בהתאם לפירוט הבא: במכון מתבצעת פעילות בהיקף רחב, והוא מציא פרסומים רבים וחשובים תחת ידיו. עבודתו העיקרית של המכון מתמקדת בחיבורים רבים ועשירים המכילים לקט מקורות, שיחות מוסר, חיזוק, התעוררות וביאורים שונים שכולם בעלי ערך מוסרי סביב התורה, המגילות וספרי חסידות, אך אינם כוללים חקר ופרשנות. לפיכך, חיבורים אלה, עם כל חשיבותם, השפעם על קהלים רחבים ותרומתם העצומה, אינם משתייכים לתחום המחקר התורני בעל החשיבות הלאומית. לאור האמור לעיל, המכון אינו עומד בתנאי הסף הדורשים שני פרסומים בעלי חשיבות לאומית. הערה: גוף זה לא נתמך בשנים 2022 ו 2023 ע"י המחלקה למחקר תורני, ולפיכך נבחן כ'גוף חדש' ע"פ הוראת השעה לשנת 2024.
A20: מועד | C20: 18 | D20: 2024 | E20: 580254845 | F20: 40216048 | G20: המכון למצוות התלויות בארץ (ע"ר) | H20: 1001792818 | I20: תמיכה שוטפת 2024 | J20: 680000 | K20: 20 | L20: 20 | M20: 9 | N20: 9 | P20: 10 | R20: 0 | U20: =SUM(K20:T20) -> 68 | V20: =U20/$U$68*$AC$2 -> 479508.95 | W20: 628141 | X20: ='הגבלה לסכום מבוקש'!U48 -> 510320.18 | Y20: מומלץ לתמיכה ע"פ סעיף 3(1)ג,א,ב ו - 9 (הוראת שעה 2024) למבחני התמיכה. להלן התייחסות הוועדה המייעצת: המכון עוסק בפעילות תורנית יישומית בעלת חשיבות לאומית רבה לכלל הציבור, ומוציא מחקרים בתחומים אלו. המכון הינו מהמובילים בארץ בתחומי החקלאות, ובפרט בתחום המניעה מתולעים. לאור כל האמור לעיל: במשתנים 'איכות הפעילות' ו'חשיבות הפעילות' קיבל המכון את הניקוד המירבי בכל אחד מן המשתנים; משתנה 'היקף המחקר' נוקד בשים לב להיקף עבודת המחקר במכון ולכך ש'קצירת השדה תרומות ומעשרות ב'' טרם יצא לאור; ניקוד משתנה 'מס' הפרסומים' ניתן למכון בשים לב לשלושת הפרסומים שיצאו לאור בשנת ההערכה, היקפם וחשיבותם (ספרי שו"ת שיש בהם מחקר תורני שאינו יוצא דופן בחשיבותו). עזרי מחקר שנוקדו: מבנה ייעודי, מעבדת מחקר, כתבי יד, כתב עת 'תנובות שדה', חממת מחקר. מהדורות אלקטרוניות (בנוסף למודפסות) המופצות חינם: לא נוקדו, בהעדר כאלה בשנת ההערכה (כתב העת תנובות שדה מנוקד כעזר מחקר, ואינו נחשב פרסום).
A21: מועד | C21: 19 | D21: 2024 | E21: 580018653 | F21: 40221455 | G21: המכון ע"ש מרן הרב צבי יהודה קוק זצ"ל | H21: 1001795323 | I21: בקשת תמיכה למכון מחקר תורני חשיבות לאומי | J21: 460000 | K21: 10 | L21: 10 | M21: 9 | N21: 7 | P21: 2 | R21: 0 | U21: =SUM(K21:T21) -> 38 | V21: =U21/$U$68*$AC$2 -> 267960.88 | W21: 296020 | X21: ='הגבלה לסכום מבוקש'!U49 -> 264414.53 | Y21: מומלץ לתמיכה ע"פ סעיפים 4(1)א,ב ו - 9 (הוראת שעה 2024) למבחני התמיכה. להלן התייחסות הוועדה המייעצת: המכון עוסק במשנתם של הראי"ה קוק, הרצי"ה קוק ושל הרב הראשי רבי אברהם שפירא זצ"ל, שיש בהם חשיבות לאומית. ניקוד משתנה 'איכות המחקרים' נוקד בשים לב לרמת המחקר המקצועית הנאותה; ניקוד משתנה 'חשיבות המחקרים' ניתן לפי קטגורית 'חשיבות נאותה', בשים לב לחשיבות המחקרים אודות הרבנים קוק זצ"ל, שהולכים ומתפתחים בשנים האחרונות. ניקוד משתנה 'היקף המחקר' הולם את הגידול בהיקף עבודת המחקר במכון, בשים לב לקצב התקדמותם האיטי; משתנה 'מספר הפרסומים' נוקד בשים לב לפרסום שיצא לאור בשנת ההערכה, לאור חשיבותו. עזרי מחקר שנוקדו: כתבי יד. מהדורות אלקטרוניות (בנוסף למודפסות) המופצות חינם: לא נוקדו, בהעדר כאלה בשנת ההערכה.
A22: מועד | C22: 20 | D22: 2024 | E22: 580317535 | F22: 40216063 | G22: התורה והארץ (ע"ר) | H22: 1001793674 | I22: תמיכה שוטפת במכוני מחקר תורניים | J22: 700000 | K22: 20 | L22: 20 | M22: 19 | N22: 7 | P22: 14 | R22: 0 | U22: =SUM(K22:T22) -> 80 | V22: =U22/$U$68*$AC$2 -> 564128.17 | W22: 628141 | X22: ='הגבלה לסכום מבוקש'!U50 -> 556662.18 | Y22: מומלץ לתמיכה ע"פ סעיפים 4(1)ג,א ו - 9 (הוראת שעה 2024) למבחני התמיכה. להלן התייחסות הוועדה המייעצת: מכון בעל חשיבות לאומית רבה, העוסק במצוות התלויות בארץ, במישור היישומי והמחקרי ומפיק מחקרים איכותיים. לאור האמור לעיל: במשתנים 'איכות הפעילות' ו'חשיבות הפעילות' קיבל המכון את הניקוד המירבי בכל אחד מן המשתנים. ניקוד משתנה 'היקף המחקר' הינו בשים לב להיקף המגוון של המחקרים המתבצעים במכון והשפעתם; במשתנה 'מס' הפרסומים' ניתן למכון הניקוד בהתחשב בהיקף הפרסומים והמחקרים שיצאו לאור בשנת ההערכה, ביחס הדומה לשנה קודמת בה נוקד המכון (שנת התמיכה 2022). עזרי מחקר שנוקדו: מבנה ייעודי, 2 מעבדות מחקר, ספריה תורנית, כתב העת 'אמונת עתיך', עזרי מחקר אחרים ינוקדו בסך 4 נקודות ע"פ הערכת ועדה מייעצת בהעדר מידע ברור אודותיהם. מהדרות אלקטרוניות (בנוסף למודפסות) המופצות חינם: לא נוקדו, בהעדר כאלה בשנת ההערכה (פורסמו מחקרים שלא יצאו לאור כספרים מודפסים; פורסם ספר 'מתנות הארץ' באוצר החכמה, שאינו מופץ חינם; פורסם כתב העת שנתמך כבר במסגרת עזרי מחקר ולא כפרסום).
A23: מועד | C23: 21 | D23: 2024 | E23: 580271856 | F23: 40370657 | G23: חוסן ישועות לתורת מרן הרב קוק זצ"ל | H23: 1001796565 | I23: מכוני מחקר 2024 | J23: 650000 | K23: 4 | L23: 7 | M23: 12 | N23: 9 | P23: 2 | R23: 0 | U23: =SUM(K23:T23) -> 34 | V23: =U23/$U$68*$AC$2 -> 239754.47 | W23: 238260 | X23: ='הגבלה לסכום מבוקש'!U51 -> 236581.43 | Y23: מומלץ לתמיכה ע"פ סעיפים 4(1)(א) ו - 9 (הוראת שעה 2024) למבחני התמיכה. מכון העוסק בהוצאת ספרים המבארים את תורת הרבנים קוק זצ"ל, ע"פ שיעורי תלמידיו. וכן הוצאת ביאורים על ספרי יסוד נוספים ברוח הרב קוק ברמה נאותה. ניקוד משתנה 'איכות המחקרים' ניתן בשים לב לרמת המחקר הנאותה; ניקוד משתנה 'חשיבות המחקרים' ניתן לפי קטגורית 'חשיבות נאותה', בשים לב לחשיבות המחקרים במכון, ביניהם אודות הרבנים קוק זצ"ל ושיעורי הרב שטרנברג זצ"ל, ובהתחשב בעובדה שישנם מכוני מחקר נוספים העובדים בנושאים הדומים שפורטו להלן. ניקוד משתנה 'היקף המחקר' הולם את עבודת המחקר במכון, בשים לב לחשיבותם; ניקוד משתנה 'מספר הפרסומים' נוקד בהתאם להיקף הפרסומים שיצאו לאור בשנת ההערכה ולחשיבותם. הועדה המייעצת מבקשת לציין, כי בכוונתה לשקול בעתיד באופן רוחבי את נושא התמיכה בשיעורים עיוניים של ראשי ישיבות על מסכתות הש"ס; לפיכך, על מכוני המחקר התורניים העוסקים בכך להיערך בהתאם. עזרי מחקר שנוקדו: מבנה ייעודי. מהדורות אלקטרוניות (בנוסף למודפסות) המופצות חינם: לא נוקדו, בהעדר כאלה בשנת ההערכה.
A24: מועד | C24: 22 | D24: 2024 | E24: 580604999 | F24: 41906703 | G24: חי בהם תורה לאנשים עובדים (ע"ר) | H24: 1001792597 | I24: מכון מחקר חי בהם 2024 | J24: 500000 | K24: 5 | L24: 5 | M24: 6 | N24: 6 | P24: 8 | R24: 4 | U24: =SUM(K24:T24) -> 34 | V24: =U24/$U$68*$AC$2 -> 239754.47 | W24: 194940 | X24: ='הגבלה לסכום מבוקש'!U52 -> 236581.43 | Y24: מומלץ לתמיכה ע"פ סעיפים 4(1)א ו - 9 (הוראת שעה 2024) למבחני התמיכה. המכון עוסק במספר תחומי מחקר מרכזיים: עיון, פסיקה והלכה באתגרי השעה; עיסוק בתחומי ממשק שונים בין עולם הידע התורני לתחומי מקצוע שונים (דוגמת משפט וכלכלה, תחומי הנפש, מערכות המדינה ומדע) ועיסוק במחשבה תלמודית. לאור האמור לעיל, נוקד המכון במשתנה 'איכות המחקרים', בשים לב לרמת המחקר הטובה, ובמשתנה 'חשיבות המחקרים' בקטגוריה 'חשיבות נאותה', בשים לב למידת חדשנותם ולחשיבותם, וביחס לרמת העבודה המחקרית שהתבצעה בהם. ניקוד משתנה 'היקף המחקר' ניתן בשים לב לחשיבות המחקרים הנערכים במכון, וסוג העבודה הנדרשת אודותיהם; ניקוד משתנה 'מספר הפרסומים' נוקד בשים לב לכך שבחלק ניכר מהפרסומים ישנה כפילות כפילות בהיותם ספרים ומאגרי מידע זהים, שנגישותם לציבור נמוכה (אינם מופיעים באינטרנט). עזרי מחקר שנוקדו: 3 מבנים ייעודיים, כתב העת 'מבוע'. מהדורות אלקטרוניות (בנוסף למודפסות) המופצות חינם: לא נוקדו, בהעדר כאלה בשנת ההערכה. | Z24: המוסד הגיש ערעור על החלטת ועדת התמיכות, אשר הובאה לדיון בפני הועדה המייעצת. בערעורו טוען המוסד כי לא נוקד כראוי במשתנים הבאים: חשיבות המחקרים, היקף המחקר בשנת ההערכה, מס' הפרסומים בשנת ההערכה. הועדה המייעצת עיינה במכתב הערעור והחליטה כי אין מקום לשנות את המלצותיה הקודמות, כדלקמן: 1) משתנה 'חשיבות המחקרים': אין מקום לבצע שינוי ניקוד, כיון שלא חל שינוי מהותי בעבודת המכון משנים עברו. 2) משתנה 'היקף המחקר בשנת ההערכה': לאחר עיון נוסף בעקבות ערעור המכון, מסתבר כי חלק מהמחקרים הינם בסיסיים למדי, הן בהיקפם (מס' עמודים קטן) והן בהעמקתם ובעבודת המחקר הנדרשת אודותיהם, ואינם בעלי חשיבות לאומית. מאגרי מידע שנגישותם לציבור אינה ברורה ו'לקט מקורות' אינם נחשבים מחקרים בעלי חשיבות לאומית, ואין להגישם לעיון הועדה בשנים הבאות כמחקרים. לאור זאת, אין מקום לבצע שינוי ניקוד. 3) משתנה 'מס' הפרסומים בשנת ההערכה': מדובר במאגרי מידע לא מוכרים כבעלי חשיבות לאומית ובפרסומים בעלי היקף עבודה קטן יחסית ושחשיבותם הלאומית אינה רבה, לאור זאת, החליטה הועדה השנה להמליץ על ניקוד בהתאם לנתונים אלה. לפיכך, הניקוד יישאר על כנו. לאור האמור לעיל, ערעור המכון נדחה.
A25: מועד | C25: 23 | D25: 2024 | E25: 580098689 | F25: 40216027 | G25: חכמת שלמה - קלוגר (ע"ר) | H25: 1001796405 | I25: מכוני מחקר 2024 | J25: 500000 | K25: 12 | L25: 12 | M25: 19 | N25: 12 | P25: 4 | R25: 0 | U25: =SUM(K25:T25) -> 59 | V25: =U25/$U$68*$AC$2 -> 416044.53 | W25: 326021 | X25: ='הגבלה לסכום מבוקש'!U53 -> 410538.36 | Y25: מומלץ לתמיכה ע"פ סעיפים 4(1)א ו 9 (הוראת שעה 2024) למבחני התמיכה. המכון פועל להוצאת ספרי גדולי הדורות – הראשונים והאחרונים. עיקר פעילותו הינה הוצאה הו"ל של כתבי יד של הגאון רבי שלמה קלוגר זצ"ל, הכוללים אלפי גליונות של חידושי תורה, למעלה ממאה חיבורים חדשים עד כה וההדרת ספרים במהדורה מחודשת. לאור האמור לעיל, נוקד המכון במשתנה 'איכות המחקרים', בשים לב לרמת המחקר האיכותית והמקצועית, ובמשתנה 'חשיבות המחקרים' בקטגוריה 'חשיבות רבה', בשים לב לחשיבותם הרבה לציבור רחב. ניקוד משתנה 'היקף המחקר' הולם את עבודת המחקר הרבה והחשובה שהתקיימה במכון; ניקוד משתנה 'מספר הפרסומים' נוקד בהתאם לשלושת הפרסומים החשובים שיצאו לאור בשנת ההערכה. עזרי מחקר שנוקדו: מבנה ייעודי, ותוכנה ייחודית. מהדורות אלקטרוניות (בנוסף למודפסות) המופצות חינם לא נוקדו, בהעדר כאלה בשנת ההערכה.
A26: מועד | C26: 24 | D26: 2024 | E26: 580461754 | F26: 40526317 | G26: טהרות בעיון (ע"ר) | H26: 1001795411 | I26: תמיכה במכון מחקר תורני על סדר טהרות | J26: 1200000 | K26: 20 | L26: 20 | M26: 19 | N26: 19 | P26: 4 | R26: 0 | U26: =SUM(K26:T26) -> 82 | V26: =U26/$U$68*$AC$2 -> 578231.38 | W26: 649801 | X26: ='הגבלה לסכום מבוקש'!U54 -> 570578.73 | Y26: מומלץ לתמיכה ע"פ סעיפים 4(1)א,ב ו - 9 (הוראת שעה 2024) למבחני התמיכה. להלן התייחסות הוועדה המייעצת: מכון טהרות בעיון הינו מכון הדגל בכל הקשור לסדר 'טהרות' של ששה סדרי המשנה והנחלת תורת הטהרה והטומאה בעמ"י. סדר משניות זה טרם נחקר עד היום באופן הולם. במסגרת זו, פועל המכון באפיקים הבאים: א. באמצעות סדרת 'משניות טהרות' + סדרת 'אוצרות דעת פתחי דעת', הכוללים: א. ההדרת המשניות עצמן ב. ההדרת חיבורי פרשני המשניות: הרמב"ם והר"ש ג. ריכוז כל מובאות חז"ל הדנים במרחבי התלמוד על סדר טהרות ד. יצירת חיבור חדש - שיטה מקובצת ה. עיטור כתבי יד של פירושים על סדר טהרות. ב. באמצעות סדרת 'אורחות דעת - הטומאה והטהרה בחיי המעשה': חיבור הלכתי על הלכות טומאה וטהרה, תוך בירור ההלכה לאור המציאות העכשווית. לאור כל האמור לעיל: במשתנים 'איכות הפעילות' ו'חשיבות הפעילות' קיבל המכון את הניקוד המירבי בכל אחד מן המשתנים. במשתנה 'היקף המחקר' ניתן למכון הניקוד המירבי, בשל היקף העבודה הרב המתבצע במכון, בשים לב לחשיבותם הרבה של המחקרים; במשתנה 'מס' הפרסומים' ניתן למכון הניקוד המירבי, בשים לב לפרסום בעל ההיקף הגדול והחשיבות הרבה שיצא לאור בשנת ההערכה. עזרי מחקר שנוקדו: מבנה ייעודי, כתב העת 'אהלי טהרות' (מאגר כתבי יד לא נוקד, בהעדר פרטים חשובים).
A27: מועד | C27: 25 | D27: 2024 | E27: 580041101 | F27: 40303383 | G27: ישיבת בית מאיר ע"ש מרן הגאון ר מאיר | H27: 1001794444 | I27: מכון מחקר תורני | J27: 380000 | K27: 10 | L27: 8 | M27: 10 | N27: 8 | P27: 10 | R27: 0 | U27: =SUM(K27:T27) -> 46 | V27: =U27/$U$68*$AC$2 -> 324373.7 | W27: 380000 | X27: ='הגבלה לסכום מבוקש'!U55 -> 320080.75 | Y27: מומלץ לתמיכה ע"פ סעיפים 4(1)א,ב ו - 9 (הוראת שעה 2024) למבחני התמיכה. להלן התייחסות הוועדה המייעצת: המכון עוסק בעיקר במחקר פרשני על בסיס משנתו המוסרית של ראש ישיבת בית מאיר, רבי זלמן רוטברג זצ"ל וממשיכי דרכו - כהמשך לדרכם של בעלי תורת המוסר רבי ישראל מסלנט ורבי ירוחם ממיר זצ"ל. כן עוסק המכון בהמשך נתיבי הלימוד התורני של רבי שמעון שקופ מגרודנא זצ"ל, ובאלה רואה הוועדה המייעצת חשיבות לאומית. בנוסף, המכון עוסק גם בפרשנות על הנ"ך, ע"פ דרך תורת המוסר, שאינה שכיחה בעולם הישיבות, ולפיכך בעלת חשיבות לאומית. קהל היעד של עבודת מחקר זו הינו תלמידי וחוקרי תנועת המוסר לדורותיה, ובשנים האחרונות אף התרחב לקהלים נוספים על אלה שהיו בעבר, אשר נחשפים כיום להגותו. משתנה 'איכות המחקרים' נוקד בשים לב לרמת המחקר המקצועית הטובה; ניקוד משתנה 'חשיבות המחקרים' ע"פ קטגורית 'חשיבות נאותה'. ניקוד משתנה 'היקף המחקר' הולם את עבודת המחקר במכון, בשים לב לחשיבות המחקרים; משתנה 'מס' הפרסומים' נוקד בשים לב לשני הפרסומים שיצאו לאור בשנת הההערכה. הועדה המייעצת מבקשת לציין, כי בכוונתה לשקול בעתיד באופן רוחבי את נושא התמיכה בשיעורים עיוניים של ראשי ישיבות על מסכתות הש"ס; לפיכך, על מכוני המחקר התורניים העוסקים בכך להיערך בהתאם. עזרי מחקר שנוקדו: מבנה ייעודי, ספריה, מאגר כתבי יד, שני מאגרי ענק של הקלטות ושיעורים. מהדורות אלקטרוניות (בנוסף למודפסות) המופצות חינם: לא נוקדו, בהעדר כאלה בשנת ההערכה.
A28: מועד | C28: 26 | D28: 2024 | E28: 580213973 | F28: 40394900 | G28: ישיבת הר ברכה (ע"ר) | H28: 1001793654 | I28: שוטף מכון הר ברכה 2024 | J28: 1000000 | K28: 12 | L28: 12 | M28: 19 | N28: 0 | P28: 4 | R28: 0 | U28: =SUM(K28:T28) -> 47 | V28: =U28/$U$68*$AC$2 -> 331425.3 | W28: 397101 | X28: ='הגבלה לסכום מבוקש'!U56 -> 327039.03 | Y28: מומלץ לתמיכה ע"פ סעיפים 4(1)א ו - 9 (הוראת שעה 2024) למבחני התמיכה. להלן התייחסות הוועדה המייעצת: המכון עוסק בעיקר בחקר ספרות ההלכה באופן ידידותי ונגיש, בהיר ומסודר תוך תוספת ביאור מחקר עדכני לצורך חיי היומיום. בספרי המכון מפורטות השלתלשלות מקורות ההלכה ממקורותיה ועד ימינו אלה, וכן מפורטים ההסברים השונים לכל הלכה והלכה באופן מאיר עיניים, לרבות התייחסות לנושאים אקטואליים. משתנה 'איכות המחקרים' נוקד בשים לב לרמת המחקר המקצועית הטובה; משתנה 'חשיבות המחקרים' ע"פ קטגורית 'חשיבות רבה'. ניקוד משתנה 'היקף המחקר' נוקד בניקוד המירבי, בהיותו הולם את עבודת המחקר הגדולה שנערכה במכון; משתנה 'מס' הפרסומים שיצאו לאור' לא נוקד, בשל העדר פרסומים כאמור בשנת ההערכה (קלנדרית 2022). עזרי מחקר שנוקדו: מבנה ייעודי, ספריה תורנית. מהדורות אלקטרוניות (בנוסף למודפסות) המופצות חינם: לא נוקדו, בהעדר פרסומים שיצאו לאור בשנת ההערכה.
A29: מועד | C29: 27 | D29: 2024 | E29: 580151728 | F29: 40216037 | G29: כולל דעת תורה - ומכון להוצאת ספרים, | H29: 1001792790 | I29: תמיכה שוטפת 2024 מכון דעת תורה | J29: 290000 | K29: 6 | L29: 6 | M29: 9 | N29: 6 | P29: 4 | R29: 0 | U29: =SUM(K29:T29) -> 31 | V29: =U29/$U$68*$AC$2 -> 218599.67 | W29: 238260 | X29: ='הגבלה לסכום מבוקש'!U57 -> 215706.59 | Y29: מומלץ לתמיכה ע"פ סעיפים 4(1)א,ב ו - (הוראת שעה 2024) למבחני התמיכה. להלן התייחסות הוועדה המייעצת: המכון עוסק בעבודת מחקר בעלת חשיבות לאומית על כתביו של אחד מחשובי הפוסקים בדורות האחרונים - המהרש"ם מברזן זצ"ל. משתנה 'איכות המחקרים' נוקד בשים לב לעבודה המחקרית המקצועית והראויה; משתנה 'חשיבות המחקרים' ע"פ בקטגורית 'חשיבות נאותה'. ניקוד משתנה 'היקף המחקר' הולם את עבודת המחקר המתבצעת במכון, בהתאם לחשיבותה; משתנה 'מס' הפרסומים' נוקד בשים לב להיקפו של הפרסום שיצא לאור בשנת ההערכה. עזרי מחקר שנוקדו: מבנה ייעודי ומאגר כתבי יד. מהדורות אלקטרוניות (בנוסף למודפסות) המופצות חינם: לא נוקדו, בהעדר כאלה בשנת ההערכה.
A30: מועד | C30: 28 | D30: 2024 | E30: 580228625 | F30: 40216046 | G30: כת"ר - מכון לכלכלה ע"פ התורה (ע"ר) | H30: 1001795342 | I30: תמיכה שוטפת בפעילות המכון | J30: 240000 | K30: 12 | L30: 10 | M30: 15 | N30: 7 | P30: 0 | R30: 0 | U30: =SUM(K30:T30) -> 44 | V30: =U30/$U$68*$AC$2 -> 310270.49 | W30: 209380 | X30: ='הגבלה לסכום מבוקש'!U58 -> 240000 | Y30: מומלץ לתמיכה ע"פ סעיפים 4(1)א ו - 9 (הוראת שעה 2024) למבחני התמיכה. להלן התייחסות הוועדה המייעצת: מכון ייחודי העוסק בנושאי יסוד בכלכלה הישראלית ובעיות תקציב - באופן תורני מובהק וראוי, וכן במחקרים בעלי השלכה יישומית במישור הכלכלה הציבורית. משתנה 'איכות המחקרים' נוקד בשים לרמת המחקר הטובה בנושאים הנדונים; משתנה 'חשיבות המחקרים' נוקד ע"פ קטגורית 'חשיבות רבה', לאור חשיבות נושאי המחקר. ניקוד משתנה 'היקף המחקר' הולם את עבודת המחקר שנערכה במכון, בשים לב להתפתחותה; משתנה 'מס' הפרסומים'' נוקד בשים לב להיקף הפרסום החשוב שיצא לאור בשנת ההערכה. מהדורות אלקטרוניות (בנוסף למודפסות) המופצות חינם: לא נוקדו, בהעדר כאלה בשנת ההערכה.
A31: טיוט | B31: חדש | C31: 29 | D31: 2024 | E31: 580575108 | F31: 42821770 | G31: לימוד והפצת הרמב"ם המבואר (ע"ר) | H31: 1001796650 | I31: מכוני מחקר 2024 | J31: 600000 | K31: 6 | L31: 6 | M31: 5 | N31: 10 | P31: 0 | R31: 0 | U31: =SUM(K31:T31) -> 27 | V31: =U31/$U$68*$AC$2 -> 190393.26 | W31: 0 | X31: ='הגבלה לסכום מבוקש'!U59 -> 187873.48 | Y31: מומלץ לתמיכה ע"פ סעיפים 4(1)א ו 9 (הוראת שעה 2024) למבחני התמיכה. הלן התייחסות הועדה המייעצת: המכון מבצע עבודת הנגשת הרמב"ם לציבור הרחב באמצעות ביאור בהיר, מעובד ומתומצת מתוך עשרות מפרשי הרמב"ם, שהינו מחקר תורני בעל חשיבות לאומית. שני הפרסומים שהוכרו לצורך מעבר תנאי סף 4(5): הרמב"ם המבואר נזיקין ב' (יצא לאור ב 12/22); הרמב"ם המבואר טהרה ג' (יצא לאור ב 5/22). ניקוד משתנה 'איכות המחקרים' ניתן בשים לב לרמת המחקר, הכוללת בעיקר ביאור, תמצות והנגשה של הרמב"ם וחלק ניכר ממפרשיו, אך לא חקר מעמיק הדורש עיבוד מחודש של החומר; ניקוד משתנה 'חשיבות המחקרים' ניתן לפי קטגורית 'חשיבות נאותה', בשים לב לחשיבות הנגשת ספרי הרמב"ם לציבור, ובהתחשב בעובדה שישנם מכוני מחקר נוספים העובדים על הנגשת דברי הרמב"ם. ניקוד משתנה 'היקף המחקר' הולם את עבודת המחקר במכון, בשים לב למספרם. ניקוד משתנה 'מספר הפרסומים' נוקד בהתאם למספר הפרסומים שיצאו לאור בשנת ההערכה, בשים לב להיקפם ולחשיבותם. מהדורות אלקטרוניות (בנוסף למודפסות) המופצות חינם: לא נוקדו, בהעדר כאלה בשנת ההערכה. הערה: גוף זה לא נתמך בשנים 2022 ו 2023 ע"י המחלקה למחקר תורני, ולפיכך נבחן כ'גוף חדש' ע"פ הוראת השעה לשנת 2024.
A32: מועד | C32: 30 | D32: 2024 | E32: 580314847 | F32: 40016969 | G32: לפיד - אפיקי דעת, שדרות (ע"ר) | H32: 1001792817 | I32: מכון מחקר תורני 2024 | J32: 250000 | K32: 10 | L32: 8 | M32: 12 | N32: 5 | P32: 4 | R32: 0 | U32: =SUM(K32:T32) -> 39 | V32: =U32/$U$68*$AC$2 -> 275012.48 | W32: 250000 | X32: ='הגבלה לסכום מבוקש'!U60 -> 250000 | Y32: מומלץ לתמיכה ע"פ סעיפים 4(1)א ו - 9 (הוראת שעה 2024) למבחני התמיכה. להלן התייחסות הוועדה המייעצת: מכון העוסק בכתביו העמוקים של הרב קוק זצ"ל, באמצעות ביאור בהיר הפונה לציבור רחב. משתנה 'איכות המחקרים' נוקד בשים לב לרמת המחקר הטובה; משתנה 'חשיבות המחקרים' נוקד ע"פ קטגורית 'חשיבות נאותה'. ניקוד משתנה 'היקף המחקר' הולם את הגידול בעבודת המחקר שנערכה במכון; משתנה 'מס' הפרסומים' נוקד בהתאם לחשיבות הפרסום שיצא לאור בשנת ההערכה. עזרי מחקר שנוקדו: מבנה ייעודי ומאגר כתבי יד. מהדורות אלקטרוניות (בנוסף למודפסות) המופצות חינם: לא נוקדו, בהעדר כאלה בשנת ההערכה. הערה: ככל שסדרת 'אורות הקודש בחמשה כרכים' תיתמך באמצעות מפעל יהדות שע"י מרכז הספר והספריות, לא ניתן יהיה להגיש מחקרים אלה במסגרת בקשת התמיכה למחלקה למחקר תורני.
A33: טיוט | B33: חדש | C33: 31 | D33: 2024 | E33: 580413524 | F33: 40350641 | G33: מוסדות חכמת שלמה ע"ש הרה"צ רבי שלמה | H33: 1001792296 | I33: תמיכה במכון חכמי ספרד | J33: 250000 | U33: =SUM(K33:T33) -> 0 | V33: =U33/$U$68*$AC$2 -> 0 | W33: 0 | X33: ='הגבלה לסכום מבוקש'!U61 -> 0 | Y33: אינו מומלץ לתמיכה ע"פ סעיפים 4(5), (7)(א) ו- 4(11) למבחני התמיכה. 1) המכון לא ציין בבקשתו לתמיכה את מספר שעות העבודה השבועיות של החוקרים, ולפיכך אינו עומד בתנאי הסף של 7 חוקרים העובדים 4 ש"ש לפחות (לא ניתן לדעת את היקף שעות העבודה של החוקרים). 2) המוסד אינו עומד גם בסעיף 4(5) למבחני התמיכה: למכון אין שני פרסומים בין השנים 2019 עד 2023 (כולל) שהוכרו ע"י הועדה המייעצת כבעלי חשיבות לאומית (גם כשמרחיבים את תקופת הבדיקה, על מנת שזו תכלול את חודשים אוקטובר עד דצמבר 2023, ע"פ סעיף 9(א)(2) למבחני התמיכה): במכון מתבצעת פעילות אודות תולדות חייהם של חכמי ספרד, אשר הינה מחקר הסטורי אודות תולדות חכמי ישראל ואורחות חייהם, שאינו מוכר כמחקר תורני בעל חשיבות לאומית ע"פ מבחני התמיכה. 3) גם לו היו מוכרים כל מחקרי המכון כבעלי חשיבות לאומית ופרטי החוקרים היו מלאים, הוא לא היה עומד בתנאי הסף הדורש 7 חוקרים שעבדו באחת משתי שנות ההערכה האפשריות ע"פ מבחני התמיכה והוראת השעה 2024 (סעיפים 2 (הגדרת 'שנת ההערכה') ו - 9((א)(3) למבחני התמיכה), כיון שע"פ השאלונים הנלווים שהגיש למחלקה המקצועית עולה כי רק 5 חוקרים עבדו על הפרסומים והמחקרים השונים (בוכריס אליעזר, כהן טל, מלכיאלי יוסף, נזרי יהודה, פרץ משה). 4) המוסד אינו עומד בתנאי הסף 4(4) הדורש כי בין מטרות המוסד יהיה לעסוק בתחומי המחקר התורני. בתעודה לרישום עמותה ובאתר גיידסטאר נכתב כי מטרותיה הן: "לייסד בתי כנסת, מקוה טהרה, ישיבה גדולה, ישיבה קטנה, כולל אברכים, תלמוד תורה, גני ילדים, קרנות לגמילות חסדים לעזרה למשפחות נזקקות, קמחא דפסחא. לייסד מרכזי חינוך ותרבות תורנית". לאור האמור לעיל, המוסד אינו מומלץ לתמיכה לשנת 2024. הערה: גוף זה לא נתמך בשנים 2022 ו 2023 ע"י המחלקה למחקר תורני, ולפיכך נבחן כ'גוף חדש' ע"פ הוראת השעה לשנת 2024.
A34: טיוט | C34: 32 | D34: 2024 | E34: 580008589 | F34: 40015160 | G34: מוסדות ישיבת כסא רחמים ספרדית (ע"ר) | H34: 1001794391 | I34: ,תמיכה במכון הרב מצליח- כסא רחמים - 2024 | J34: 500000 | K34: 12 | L34: 12 | M34: 16 | N34: 5 | P34: 10 | R34: 0 | U34: =SUM(K34:T34) -> 55 | V34: =U34/$U$68*$AC$2 -> 387838.12 | W34: 454861 | X34: ='הגבלה לסכום מבוקש'!U62 -> 382705.25 | Y34: מומלץ לתמיכה ע"פ סעיפים 4(1)א,ב ו 9 (הוראת שעה 2024) למבחני התמיכה. להלן התייחסות הוועדה המייעצת: מכון פורה, השם דגש על מנהגיהם של קהילות המזרח בכלל, וקהילת תוניס בפרט, ושהעניין במחקריו הוא בעל חשיבות רבה. משתנה 'איכות המחקרים' נוקד בשים לב לרמת המחקר הטובה; משתנה נוקד בקטגורית 'חשיבות רבה''. ניקוד משתנה 'היקף המחקר' הולם את עבודת המחקר העניפה שנערכה במכון; משתנה 'מס' הפרסומים' נוקד בהתאם לשני הפרסומים שיצאו לאור בשנת ההערכה, בשים לב לכך שאחד מהם הינו מהדורה נוספת בחלקו (ע"פ עמוד השער של הפרסום 'הוראה ברורה הלכות מליחה' שצורף לדיווחי המכון - נראה כי מדובר במהדורה נוספת בחלקה לפרסומים שיצאו כבר לאור בשנים תשע"ה ותשע"ח). עזרי מחקר שנוקדו: מבנה ייעודי, ספריה, מאגר כתבי יד, שני כתבי עת: 'ויען שמואל' ו'משה אלעזר'. מהדורות אלקטרוניות (בנוסף למודפסות) המופצות חינם: לא נוקדו, בהעדר כאלה בשנת ההערכה. | Z34: המוסד הגיש ערעור על החלטת ועדת התמיכות, אשר הובאה לדיון בפני הועדה המייעצת. בערעורו טוען המוסד כי עליו לקבל ניקוד גבוה יותר בסעיף 'מס' פרסומים שיצאו לאור בשנת ההערכה' בשל העובדה שהפרסום שנוקד כמהדורה נוספת ('הוראה ברורה הלכות מליחה' שיצא כבר לאור בשנים תשע"ה ו - תשע"ח) כלל רק חלק מהספר המקורי, ולנוכח תוספת רבה שיש במהדורה הנוכחית יש להכיר בו כפרסום "רגיל", כפי שנכתב. המוסד נוקד ע"י הועדה המייעצת ב 5 נקודות מתוך 19 במשתנה "מספר הפרסומים של המוסד שפורסמו לציבור בשנת ההערכה" (סעיף 5(ה)(2) למבחן), למעשה בגין הפרסום 'הלכה ברורה אבלות' וכן עבור החלק החדש בפרסום 'הלכה ברורה מליחה'. הועדה המייעצת עיינה במכתב הערעור והחליטה כי אין מקום לשנות את החלטתה הקודמת. הועדה המייעצת הכירה בעבר בספר 'הלכה ברורה מליחה' כבעל חשיבות לאומית, ומטבע הדברים הוא קיבל אז ניקוד לפי סעיף 5(ה)(2). אין כל סיבה להעניק מלוא הניקוד לפי סעיף 5(ה)(2) לספר שכבר יצא לאור ברובו קודם לכן, מה גם שהמוסד לא ציין בבקשת התמיכה המקורית את ההבדלים בין המהדורה הישנה והחדשה. לאור האמור לעיל, ערעור המכון נדחה. עו"ד מאיר (התייחסות לאחר מעשה לחוות דעת הוועדה המייעצת): לשאלותיי, המחלקה המקצועית ערכה כמה בדיקות ונמצא כדלקמן: 1. המחלקה לא הצליחה למצוא באתר הספרייה הלאומית את הפרסום "הוראה ברורה הלכות מליחה" במהדורה החדשה שלה. מספר המערכת של הפרסום החדש, שמופיע בשאלון 2 לבקשת התמיכה, מפנה לפרסום הישן משנת תשע"ח (2018). 2. לא ברור מה היה היקף החלק שנוסף למהדורה הראשונה, כי בשאלון מס' 2 לבקשת התמיכה המוסד רשם שמדובר ב"פרסום ראשוני" ולא צוינו ההבדלים בין המהדורה הישנה והחדשה, למרות שמדובר בפרסום שהוגש למחלקה במסגרת בקשת תמיכה קודמת והוכר בעבר כבעל חשיבות לאומית. 3. ע"פ שני קבצי תוכן העניינים שצורף להשגה, נראה כי: א. המהדורה המקורית של הפרסום "הוראה ברורה הלכות מליחה" (משנת תשע"ח – 2018) כוללת כ-152 עמודים; ב. המהדורה החדשה משנת 2022 כוללת כ-310 עמודים ואילו בשאלון לשנת 2024 המוסד הצהיר שהמהדורה החדשה הינה בת 600 עמודים. 4. יש בדברים הנ"ל כדי לעורר תהייה מסוימת. לא מן הנמנע שאילו הוועדה המייעצת הייתה ממליצה להגדיל את הניקוד במשתנה 5(ה)(2) הייתי סובר שיש מקום לבחון אם לא מדובר במקרה של "דיווח לא נכון" כהגדרתו בנוהל לתמיכות מתקציב המדינה במוסדות ציבור, על התוצאות האפשריות שיש בכך, אך הגעתי למסקנה שאין תועלת מעשית לעשות כן בהינתן שהוועדה המליצה לא לקבל את ערעור המוסד.
A35: טיוט | B35: חדש | C35: 33 | D35: 2024 | E35: 580665552 | F35: 42821131 | G35: מורשת "אור החיים" הקדוש (ע"ר) | H35: 1001796944 | I35: מכוני מחקר 2024 | J35: 500000 | U35: =SUM(K35:T35) -> 0 | V35: =U35/$U$68*$AC$2 -> 0 | W35: 0 | X35: ='הגבלה לסכום מבוקש'!U63 -> 0 | Y35: אינו מומלץ לתמיכה ע"פ קריטריון 4(7) למבחני התמיכה. להלן התייחסות הועדה המייעצת: למכון אין שבעה חוקרים שעבדו באחת משתי שנות ההערכה האפשריות ע"פ מבחני התמיכה והוראת השעה 2024 (סעיפים 2 (הגדרת 'שנת ההערכה') ו - 9((א)(3) למבחני התמיכה) על מחקרים ופרסומים שהוכרו ע"י הועדה המייעצת כבעלי חשיבות לאומית, בהתאם לפירוט הבא: הפרסומים הבאים הוכרו כבעלי חשיבות לאומית לצורך מעבר תנאי סף 4(5): פרי תואר תערובות (יצא לאור ב 7/22) ופרי תואר בשר וחלב (יצא לאור ב 6/21). חיבורים אלה כוללים ביאור מקיף ומעמיק שיש בו מחקר תורני בעל חשיבות לאומית. הפרסומים והמחקרים הבאים, שהתבצעו בשנות ההערכה, הוכרו כבעלי חשיבות לאומית לצורך בדיקת עמידת המוסד בתנאי סף של 7 חוקרים: ראשון לציון פסקים שו"ע; פרי תואר מאכלי עכו"ם; כתבי האור החיים הקדוש ותלמידיו, פרי תואר שחיטה וטריפות. המחקרים והפרסומים הבאים, שהתבצעו בשנות ההערכה, לא הוכרו כבעלי חשיבות לאומית לצורך מעבר תנאי סף של 7 חוקרים: (א) סדרת ראשון לציון (למעט 'ראשון לציון פסקים שולחן ערוך'): הינה מהדורות חדשות של פרסומים שיצאו כבר לאור בעבר ע"י המכון, ללא תוספות משמעותיות המהוות מחקר תורני בעל חשיבות לאומית. (ב) סדרת חפץ ה': הינה סדרה של מחקרים שכמותם יש נוספים, אשר אין בהם תוספות משמעותיות, דוגמת ביאור מקיף ועמוק, המהוות מחקר תורני בעל חשיבות לאומית. (ג) ספרי 'נר המערבי': הינם ספרי תולדות חיים אודות בעל ה'אור החיים' הקדוש, ואורחות חייו, שאינם מהווים מחקר תורני בעל חשיבות לאומית. (ד) שערי אור החיים: מדובר במהדורה חדשה של ספר שכמותו יצאו לאור רבים, ושאין בו תוספות משמעותיות בעלות חשיבות לאומית. (ה) אור החיים עם ביאורי החסידות (על ספרי בראשית ודברים): מדובר בביאור שנכתב בסגנון דרשות סביב ספר אור החיים, שאינו מהווה מחקר תורני מעמיק בעל חשיבות לאומית. (ו) סידור, תהלים וזמירות לשבת: מדובר בחיבורים שימושיים, שאינם מהווים מחקר תורני בעל חשיבות לאומית. לאור האמור לעיל, ע"פ בדיקה שנערכה, עולה כי על הפרסומים והמחקרים שהוכרו כבעלי חשיבות לאומית בשתי שנות ההערכה האפשריות (כאמור מעלה) עבדו רק 5 חוקרים (בוים דוד יהודה לייב, בוים אברהם בנימין מאיר, דויד שמחה עוזיאל שלמה, רבינוביץ אריה מרדכי, שכטר יצחק אייזיק) ולפיכך, המכון אינו עומד בתנאי הסף 4(7), הדורש 7 חוקרים שעבדו על מחקרים ופרסומים בעלי חשיבות לאומית בשנת ההערכה, ואינו מומלץ לתמיכה. | Z35: המוסד הגיש ערעור על החלטת ועדת התמיכות, אשר הובאה לדיון בפני הועדה המייעצת. בערעורו טוען המוסד כי עליו יש להכיר בסדרת 'חפץ ה' כבעלת חשיבות לאומית לצורך מעבר תנאי הסף 4(7) של 7 חוקרים בשנת ההערכה. לטענתו, מדובר בסדרה בעלת חשיבות לאומית ותרומה לכלל הלומדים. הועדה המייעצת עיינה במכתב הערעור והחליטה כי אין מקום לשנות את החלטתה הקודמת. במסמכים שהוגשו עבור ספרי 'חפץ ה'' שבת ושאר מסכתות הש"ס לא ניכרת עבודה משמעותית, כי אם הערות בודדות שחשיבותן אינה מצדיקה הכרה במחקרים אלה כבעלי מחקר תורני מעמיק בעל חשיבות לאומית. עוד יוער, כי טקסט הספר עצמו של בעל האור החיים הקדוש, שחשיבותו אינה מוטלת בספק, יצא כבר לאור בצורה הולמת במסגרות אחרות. לאור האמור לעיל, ערעור המכון נדחה.
A36: מועד | C36: 34 | D36: 2024 | E36: 580268563 | F36: 40127702 | G36: מכון "יחוה דעת" לפרסומים תורניים הל | H36: 1001793515 | I36: תמיכה למכון יחוה דעת להוציא לאור הלכה בר | J36: 600000 | K36: 20 | L36: 20 | M36: 19 | N36: 19 | P36: 4 | R36: 0 | U36: =SUM(K36:T36) -> 82 | V36: =U36/$U$68*$AC$2 -> 578231.38 | W36: 519841 | X36: ='הגבלה לסכום מבוקש'!U64 -> 570578.73 | Y36: מומלץ לתמיכה ע"פ סעיפים 4(1)א,ב ו - 9 (הוראת שעה 2024) למבחני התמיכה. להלן התייחסות הוועדה המייעצת: המכון עוסק במחקר ובהוצאת ספרי 'הלכה ברורה' המהווים מאגד מעמיק של ההלכות לבני עדות ישראל. פעילות חשובה שמתבטאת גם בביקוש הגדול לספרי המכון הן על ידי ציבור הלומדים בפרט והן ע"י הציבור הרחב בכלל. הוועדה המייעצת ערה לחדשנות ולתוספת המשמעותית בכתיבת ראש המכון מרן הראשון לציון הגאון רבי דוד יוסף שליט"א - מעבר למופיע בשו"ת של אביו מרן הגאון רבי עובדיה יוסף זצ"ל. חשיבות מיוחדת רואה הוועדה המייעצת בציונם של אלפי מראי מקומות להלכות הנדונות בסדרה, ולבירורי ההלכה המעמיקים במנהגי הספרדים והאשכנזים כאחד - עד המסקנה הסופית וההחלטית כנדרש. לאור האמור לעיל: במשתנים 'איכות הפעילות' ו'חשיבות הפעילות' קיבל המכון את הניקוד המירבי בכל אחד מן המשתנים. משתני 'היקף המחקר' ו'מספר הפרסומים' קיבלו את הניקוד המירבי כל אחד מהם, בשים לב להיקפם הגדול של המחקרים, חשיבותם והשפעתם הרבות. עזרי מחקר שנוקדו: מבנה ייעודי ומאגר כתבי יד. מהדורות אלקטרוניות (בנוסף למודפסות) המופצות חינם: לא נוקדו, בהעדר כאלה בשנת ההערכה.
A37: מועד | C37: 35 | D37: 2024 | E37: 580284800 | F37: 40216056 | G37: מכון "ראש פינה" בירושלים (ע"ר) | H37: 1001794440 | I37: תקציב שוטף | J37: 500000 | K37: 10 | L37: 8 | M37: 7 | N37: 7 | P37: 0 | R37: 0 | U37: =SUM(K37:T37) -> 32 | V37: =U37/$U$68*$AC$2 -> 225651.27 | W37: 216601 | X37: ='הגבלה לסכום מבוקש'!U65 -> 222664.87 | Y37: מומלץ לתמיכה ע"פ סעיפים 4(1)א,ב ו - 9 (הוראת שעה 2024) למבחני התמיכה. להלן התייחסות הוועדה המייעצת: המכון עוסק בהוצאה לאור של סדרת 'אבן ברורה', המנגישה את חלק 'אבן העזר' של השולחן ערוך לציבור, תוך עבודת מחקר מקצועית וטובה. משתנה 'איכות המחקרים' נוקד בשים לב לרמת המחקר הטובה; משתנה 'חשיבות המחקרים' נוקד ע"פ קטגורית 'חשיבות נאותה'. ניקוד סעיף 'היקף המחקר' הולם את עבודת המחקר אודות המחקר שבשלבי עבודה, הדורש התמודדות עם ספרות תורנית מורכבת; ניקוד 'מספר הפרסומים' בשים לב לעבודה המורכבת אודות הפרסום היחיד שיצא לאור בשנת ההערכה. מהדורות אלקטרוניות (בנוסף למודפסות) המופצות חינם: לא נוקדו, בהעדר כאלה בשנת ההערכה.
A38: מועד | C38: 36 | D38: 2024 | E38: 580111573 | F38: 40216032 | G38: מכון בית אהרן וישראל למחקר כת"י והו | H38: 1001793518 | I38: הפעלת המכון 2024 | J38: 995000 | K38: 15 | L38: 15 | M38: 19 | N38: 19 | P38: 14 | R38: 8 | U38: =SUM(K38:T38) -> 90 | V38: =U38/$U$68*$AC$2 -> 634644.19 | W38: 577601 | X38: ='הגבלה לסכום מבוקש'!U66 -> 626244.95 | Y38: מומלץ לתמיכה ע"פ סעיפים 4(1)א,ב ו - 9 (הוראת שעה 2024) למבחני התמיכה. להלן התייחסות הוועדה המייעצת: המכון מתמחה בהוצאתם לאור ובההדרתם של כתבי יד של רבנים חשובים במאות השנים האחרונות, המונחים בקרן זוית; כתבים שלולא עבודת המכון לא היו נחשפים ומפוענחים כראוי. כמו כן, המכון החל בפרויקט חדש של מפעל תורת הגאונים וחכמי הראשונים. משתנה 'איכות המחקרים' נוקד בשים לב לרמת המחקר המעמיקה והמוקפדת; ניקוד 'חשיבות המחקרים' ע"פ קטגורית 'חשיבות רבה'. משתנה 'היקף המחקר' נוקד בניקוד המירבי, בשל העבודה הרבה והחשובה שנערכת במכון. משתנה 'מס' הפרסומים' נוקד בהתאם לארבעת הפרסומים שיצאו לאור בשנת ההערכה, בשים לב למורכבותם. עזרי מחקר שנוקדו: 3 מבנים ייעודיים, מאגר כתבי יד, כתתב העת 'בית אהרן וישראל', ציוד מיוחד לקריאת כתבי יד; ציוד מיוחד לפירוק כריכות. מהדורות אלקטרוניות (בנוסף למודפסות) המופצות חינם: גנוזות הרמב"ם ובית מדרשו; פירוש תלמידי הרא"ש על התורה; ספר מקל יעקב; שו"ת רבי שלמה ברוך זלה"ה.
