Workbook
Name a: #REF!
Name a: #REF!
Name aa: #REF!
Name b: #REF!
Name DDDD: #REF!
Name ee: #REF!
Name ngf: #REF!
Name ג: #REF!
Name ד: #REF!
Name ע: #REF!
Name ש: #REF!

Sheet מודל תמיכה חלוקת 20,294,511 שח
C1: מס' | D1: שנה | E1: מזהה מגיש הבקשה | F1: מס' מגיש | G1: שם מגיש הבקשה | H1: מספר בקשה | I1: תיאור בקשה קצר | J1: סכום מבוקש | K1: איכות המחקרים המתבצעים במוסד בהיבט אקדמי | L1: חשיבות המחקרים המתבצעים במוסד (מבחינה לאומית) | M1: היקף המחקר בשנת ההערכה | N1: מס' הפרסומים שפורסמו לציבור בשנת ההערכה | O1: מס' חוקרים (מעבר ל 7) | P1: עזרי מחקר | Q1: מקצועיות תוכנית עבודה לשנת הגשת התמיכה | R1: מהדורות אלקטרוניות (חינם) | S1: הפחתת ניקוד בגין הגשת מחקרים שהמכון התבקש לא להגישם שנית | T1: ניקוד נוסף בגין איכות הגשת הבקשה | U1: סה"כ ניקוד | V1: סכום תמיכה 2024 לפני הגבלה לסכום הבקשה והגנה | W1: תמיכה סופית 2023 | X1: סכום תמיכה 2024 כולל הגבלה לסכום הבקשה והגנה של 80% משיעור תמיכת 2023 | Y1: נימוקים כולל נימוקי הועדה המייעצת | Z1: דיון הוועדה המייעצת בהשגות הגופים | AB1: שנת התקציב | AC1: 2024
K2: 0 - 20 נקודות | L2: 0 - 20 נקודות | M2: 0 - 12 נקודות בשנת 2024: 0 - 19 נקודות | N2: 0 - 12 נקודות בשנת 2024: 0 - 19 נקודות | O2: 0 - 20 נקודות | P2: 0 - 10 נקודות בשנת 2024: 0 - 14 נקודות | Q2: 0 - 2 נקודות | R2: 0 - 6 נקודות בשנת 2024: 0 - 8 נקודות | S2: הפחתה של עד 4 נקודות | T2: תתוספת / הפחתה של עד 2 נקודות | Z2: נימוקים כולל נימוקי הועדה המייעצת | AB2: תקציב שנתי | AC2: =17294511+3000000 -> 20294511
A3: מועד | B3: חדש | C3: 1 | D3: 2024 | E3: 580070035 | F3: 40143373 | G3: "המכון ללימוד מחקר ובנין המקדש" | H3: 1001795808 | I3: מחקרי מכון המקדש תשפ"ד | J3: 510000 | K3: 10 | L3: 10 | M3: 12 | N3: 0 | P3: 6 | R3: 0 | U3: =SUM(K3:T3) -> 38 | V3: =U3/$U$68*$AC$2 -> 267960.88 | W3: 136571 | X3: ='הגבלה לסכום מבוקש'!U31 -> 264414.53 | Y3: מומלץ לתמיכה ע"פ סעיפים 3(1)א ו - 9 (הוראת שעה 2024) למבחני התמיכה. המכון הינו מנושאי הדגל בתחום חקר המקדש וקודשיו, ומהווה מומחה בעל שם בכל הקשור לתורת הטהרות. שני הפרסומים שהוכרו לצורך מעבר תנאי סף 4(5): טהרת ישראל ב' (יצא לאור ב 9/21); דרכי התלמוד (יצא לאור ב 10/19). ניקוד משתנה 'איכות המחקרים' ניתן בשים לב לרמת המחקר ההולכת ומתפתחת, הכוללת עבודה יסודית, מקיפה ומעמיקה. ניקוד משתנה 'חשיבות המחקרים' ניתן לפי קטגורית 'חשיבות רבה', בשים לב להתפתחות המחקרים בנושא ייחודי וחשוב זה. ניקוד משתנה 'היקף המחקר' הולם את עבודת המחקר במכון, בשים לב להיקפם, למקוריותם ולחשיבותם. ניקוד משתנה 'מספר הפרסומים' לא נוקד, בהעדר פרסום שיצא לאור בשנת ההערכה הקלנדרית 2022. עזרי מחקר שנוקדו: 2 מבנים ייעודיים, אתר 'ויקימיקדש'. מהדורות אלקטרוניות (בנוסף למודפסות) המופצות חינם: לא נוקדו, בהעדר פרסומים שיצאו לאור בשנת ההערכה. הערה: גוף זה לא נתמך בשנת 2022 ע"י המחלקה למחקר תורני, ולפיכך נבחן כ'גוף חדש' ע"פ הוראת השעה לשנת 2024.
A4: מועד | C4: 2 | D4: 2024 | E4: 580544427 | F4: 41479304 | G4: אוצר ערכי החסידות (ע"ר) | H4: 1001793677 | I4: סיוע בעריכת מחקרים בעלי חשיבות לאומית | J4: 900000 | K4: 20 | L4: 20 | M4: 19 | N4: 19 | P4: 8 | R4: 0 | U4: =SUM(K4:T4) -> 86 | V4: =U4/$U$68*$AC$2 -> 606437.79 | W4: 700341 | X4: ='הגבלה לסכום מבוקש'!U32 -> 598411.84 | Y4: מומלץ לתמיכה ע"פ סעיפים 4(1)א,ב ו - 9 (הוראת שעה 2024) למבחני התמיכה. להלן התייחסות הוועדה המייעצת: המכון הינו מפעל דגל של תורת החסידות לגווניה השונים, שהינה בעלת חשיבות לאומית. המכון עוסק בחקר ספרות תורת החסידות, החל ממשנתו של מייסד התנועה הבעש"ט הקדוש ותלמידיו גדולי החסידות, לפני למעלה מ 200 שנה ועד ימינו אנו. במסגרת מחקרים אלה נערכת ההדרה מחקרית ומעמיקה, בהסתמך על דפוסים ראשונים, פענוח ראשי תיבות, חשיפת מאות אלפי מראי מקומות, השוואות והרחבות - המועילים להבנת מושגי יסוד בתורת הקבלה וכן מדור הפנינים שהינו קטעים נבחרים המקיפים נושאים שונים מכל תורת החסידות, ע"פ סדר הא'ב'. בשנים האחרונות הוציא המכון לאור עשרות מיצירותיהם החשובות ביותר של ספרי היסוד בעולם החסידות, דוגמת ספר התניא, ליקוטי מוהר"ן, נועם אלימלך, קדושת לוי, דברי חיים ועוד, אשר יוצאים כעת לאור במהדורה מחקרית חדשה. במכון צוות חוקרים מגוון מעולם היצירה החסידית על גווניה השונים ושיטותיה הרבות. תוצאת המאמץ הגדול ניכרת בסדרות שונות, הכוללות עשרות ספרים, שכבשו מגזרים רבים בארון הספרים היהודי. לאור כל האמור לעיל: במשתנים 'איכות הפעילות' ו'חשיבות הפעילות' קיבל המכון את הניקוד המירבי בכל אחד מן המשתנים. במשתנה 'היקף עבודת המחקר' - בשים לב להיקף הגדול של המחקרים המתבצעים במכון ניתן למכון הניקוד המירבי. במשתנה 'מס' הפרסומים בשנת ההערכה' ניתן למכון ניקוד בשים לב לחשיבות ארבעת הפרסומים שיצאו לאור בשנת ההערכה. ניקוד עזרי מחקר: 2 מבנים ייעודיים, מאגר כתבי יד ותוכנה ייחודית. מהדורות אלקטרוניות (בנוסף למודפסות) המופצות חינם: לא נוקדו, בהעדר כאלה בשנת ההערכה. | Z4: המוסד הגיש ערעור על החלטת ועדת התמיכות, אשר הובאה לדיון בפני הועדה המייעצת. בערעורו טוען המוסד כי עליו לקבל את הניקוד המירבי בסעיף 'מס' פרסומים שיצאו לאור בשנת ההערכה' בשל ארבעת הפרסומים רחבי ההיקף שהוציא ומספר החוקרים הרב שעובדים במסגרת מחקרי המכון. הועדה המייעצת עיינה במכתב הערעור והחליטה כי בשל היקף העבודה הרב שנדרש אודות ארבעת הפרסומים הללו, ובהתחשב גם בשעות עבודת החוקרים שנדרשו לצורך הפרסומים, יושווה הניקוד לזה שהיה בשנה האחרונה בה נוקד - והניקוד יעודכן לניקוד המירבי (19 נקודות).
A5: מועד | C5: 3 | D5: 2024 | E5: 580270163 | F5: 40383313 | G5: אוצרות שלמה להוצאת וההדרת כתבי מרן | H5: 1001792793 | I5: תמיכה שוטפת 2024 | J5: 500000 | K5: 20 | L5: 20 | M5: 10 | N5: 8 | P5: 6 | R5: 0 | U5: =SUM(K5:T5) -> 64 | V5: =U5/$U$68*$AC$2 -> 451302.54 | W5: 440421 | X5: ='הגבלה לסכום מבוקש'!U33 -> 445329.74 | Y5: מומלץ לתמיכה ע"פ סעיפים 4(1)א,ב ו - 9 (הוראת שעה 2024) למבחני התמיכה. להלן התייחסות הוועדה המייעצת: המכון מתמקד בפעילותו של אחד מגדולי הפוסקים המרכזיים של האומה בדורות האחרונים - הגאון רבי שלמה זלמן אוירבך זצ"ל, וחושף רבדים נוספים ביישום ההלכה בחיי המעשה. הוועדה המייעצת מצאה חשיבות משמעותית בעובדה שסוגיות הש"ס המבוארות ע"פ משנתו, כוללות בתוכן גם פסיקות הלכה למעשה. ההשלכה של עמדת הרב בנושאי חשמל, מעליות, מצוות התלויות בארץ וכו' הינה בעלת משקל מכריע בכל פיתוח עתידי של קשרי תורה ומדע. לאור כל האמור לעיל: במשתנים 'איכות הפעילות' ו'חשיבות הפעילות' קיבל המכון את הניקוד המירבי בכל אחד מן המשתנים. ניקוד משתנה 'היקף עבודת המחקר' בשים לב להיקף עבודת המחקר ובהתחשב בכך שהעבודה על המחקר 'קרני אורה' נמשכה שנים רבות; ניקוד משתנה 'מס' הפרסומים' בשים לב לחשיבות הפרסום. ניקוד עזרי מחקר : מבנה ייעודי, מאגר כתבי יד, ותוכנה ייחודית. מהדורות אלקטרוניות (בנוסף למודפסות) המופצות חינם: לא נוקדו, בהעדר כאלה בשנת ההערכה.
A6: טיוט | B6: חדש | C6: 4 | D6: 2024 | E6: 580000768 | F6: 40011305 | G6: אור תורה סטון (ע"ר) | H6: 1001794097 | I6: המכון ליחסי ישראל והאנושות | J6: 525000 | U6: =SUM(K6:T6) -> 0 | V6: =U6/$U$68*$AC$2 -> 0 | W6: 0 | X6: ='הגבלה לסכום מבוקש'!U34 -> 0 | Y6: אינו מומלץ לתמיכה ע"פ סעיפים 4(5) ו 9 (הוראת שעה 2024) למבחני התמיכה. להלן התייחסות הועדה המייעצת: למכון אין שני פרסומים במהלך השנים 2019 עד 2023 (כולל), שהוכרו ע"י הועדה המייעצת כבעלי חשיבות לאומית (גם כשמרחיבים את תקופת הבדיקה, על מנת שזו תכלול את חודשים אוקטובר עד דצמבר 2023, ע"פ סעיף 9(א)(2) למבחני התמיכה), כי אם פרסום אחד בלבד, בהתאם לפירוט הבא: (א) הפרסום 'ושמו אחד' הוכר כבעל חשיבות לאומית, בהיותו מחקר מקורי וחדשני בתחום שאלות היסוד של יחסי ישראל והאנושות בעת הזו, שטרם נחקר עד כה, המקיף מקורות תורניים והגותיים רבים בסוגיה זו. (ב) מאגר המידע 'ישראל והעמים' לא הוכר, היות שמדובר במאגר מצומצם מאד שאינו מובנה, ערוך ונגיש לשימוש לציבור הרחב, דבר שאף מקשה על בחינתו. לפיכך, לא מאושר כבעל חשיבות לאומית בשלב זה. ניתן להגישו לבחינה בעתיד, עם הרחבתו, סידורו והבנייתו. (ג) הפרסום 'סיפורי ישראל והאנושות' אינו מוכר כבעל חשיבות לאומית. מדובר בספר סיפורים, שהינו יצירה תרבותית יצירתית ומקורית בעלת דגש ספרותי, ולא מחקר תורני. לאור האמור לעיל, המכון אינו עומד בתנאי הסף הדורש שני פרסומים בעלי חשיבות לאומית, ולפיכך אינו מומלץ לתמיכה. הערה: גוף זה לא נתמך בשנים 2022 ו 2023 ע"י המחלקה למחקר תורני, ולפיכך נבחן כ'גוף חדש' ע"פ הוראת השעה לשנת 2024. | Z6: המוסד הגיש ערעור על החלטת ועדת התמיכות, אשר הובאה לדיון בפני הועדה המייעצת. המוסד מערער אודות אי הכרה במאגר המידע 'ישראל והעמים' כבעל חשיבות לאומית, דבר שמנע ממנו מלעמוד בתנאי הסף הדורש שני פרסומים בעלי חשיבות לאומית. הועדה המייעצת עיינה במכתב הערעור ובמאגר המידע שהוגש לפניה והחליטה כי אין מקום לשנות את המלצתה הקודמת, כיון שמדובר באוסף מאמרים (וסרטונים). חלק מן המאמרים אינם מהווים מקורות מחקריים - תורניים - יהודיים וחלקם אינם בשפה העברית, כנדרש במבחני התמיכה. המאגר אינו מובנה ומונגש באופן שניתן להפיק ממנו מחקר תורני ובנוסף, אינו נגיש לכל באופן המקובל והציבור אינו יודע על קיומו והוצאתו לאור. לאור הדברים, המאגר אינו מהווה מאגר מידע מחקרי-תורני בעל חשיבות לאומית. לאור האמור לעיל, ערעור המכון נדחה.
A7: טיוט | B7: חדש | C7: 5 | D7: 2024 | E7: 580611689 | F7: 42425354 | G7: אורות חמדה (ע"ר) | H7: 1001797048 | I7: מכוני מחקר 2024 | J7: 198000 | K7: 4 | L7: 7 | M7: 3 | N7: 4 | P7: 4 | R7: 0 | U7: =SUM(K7:T7) -> 22 | V7: =U7/$U$68*$AC$2 -> 155135.25 | W7: 0 | X7: ='הגבלה לסכום מבוקש'!U35 -> 153082.1 | Y7: מומלץ לתמיכה ע"פ סעיפים 4(1)א ו - 9 (הוראת שעה 2024) למבחני התמיכה. להלן התייחסות הועדה המייעצת: המכון מבצע מחקרים בעלי חשיבות לאומית אודות משנתם ההגותית הרחבה של מרן הרב קוק ובנו הרב צבי יהודה זצ"ל. העבודה מתבצעת באמצעות ביאור והרחבת דבריהם, מתוך עיון בכתביהם, שחלקם טרם ראו אור. שני הפרסומים שהוכרו לצורך מעבר תנאי סף 4(5): לקט אגרות (יצא לאור ב 3/22); על המידות (יצא לאור ב 11/19). ניקוד משתנה 'איכות המחקרים' ניתן בשים לב לרמת המחקר הנאותה; ניקוד משתנה 'חשיבות המחקרים' ניתן לפי קטגורית 'חשיבות נאותה', בשים לב לחשיבות המחקרים במכון, ביניהם אודות הרבנים קוק זצ"ל ושיעורי הרב שפירא שליט"א, ובהתחשב בעובדה שישנם מכוני מחקר נוספים העובדים בנושאים הדומים שפורטו להלן. ניקוד משתנה 'היקף המחקר' הולם את עבודת המחקר במכון, בשים לב לכך שחלקם מהווים סיכומי שיחות וספרי תולדות ואורחות חיים; ניקוד משתנה 'מספר הפרסומים' נוקד בהתאם למספר הפרסומים שיצאו לאור בשנת ההערכה, בשים לב לעובדה שחלקם הגדול מהווה חוברות וקבצי מאמרים שאינם ערוכים או סיכומי שיעורים. באשר למחקרים 'מתוך התורה הגואלת' (על התורה ועל המועדים): הועדה המייעצת התבססה על תוכנית העבודה של המכון, בה נכתב כי במהדורות החדשות שתצאנה לאור, ישנן תוספות משמעותיות. למכון 6 חוקרים בלבד, אשר עבדו בשנת ההערכה על פרסומים ועבודות מחקר שהוכרו כבעלי חשיבות לאומית (אביחי דביר, אלדר אסא, זיס מתן, טרספולסקי יובל, סויסה חגי אליעזר, סופר ידידיה), ולפיכך עומד בתנאי סף של העסקת חוקרים ע"פ סעיף 4(7)ב למבחני התמיכה. הועדה המייעצת מבקשת לציין, כי בכוונתה לשקול בעתיד באופן רוחבי את נושא התמיכה בשיעורים עיוניים של ראשי ישיבות על מסכתות הש"ס; לפיכך, על מכוני המחקר התורניים העוסקים בכך להיערך בהתאם. עזרי מחקר שנוקדו: מבנה ייעודי ומאגר כתבי יד. מהדורות אלקטרוניות (בנוסף למודפסות) המופצות חינם: לא נוקדו, בהעדר כאלה בשנת ההערכה. הערה: גוף זה לא נתמך בשנים 2022 ו 2023 ע"י המחלקה למחקר תורני, ולפיכך נבחן כ'גוף חדש' ע"פ הוראת השעה לשנת 2024.
A8: מועד | C8: 6 | D8: 2024 | E8: 580024560 | F8: 40216019 | G8: אריאל מפעלי תורה יהדות וחברה בישראל | H8: 1001795320 | I8: תמיכה במחקרים של אריאל | J8: 450000 | K8: 6 | L8: 6 | M8: 9 | N8: 9 | P8: 4 | R8: 0 | U8: =SUM(K8:T8) -> 34 | V8: =U8/$U$68*$AC$2 -> 239754.47 | W8: 281581 | X8: ='הגבלה לסכום מבוקש'!U36 -> 236581.43 | Y8: מומלץ לתמיכה ע"פ סעיפים 4(1)א,ב ו - 9 (הוראת שעה 2024) למבחני התמיכה להלן התייחסות הוועדה המייעצת: מכון אריאל עוסק בעיקר בחקר כתביו של אחד מגדולי הוגי הדעות בדורנו, הרב הנזיר זצ"ל וכן במחקר רש"י השלם. ניקוד המשתנים 'איכות המחקרים' נוקד בשים לב לעבודה המחקרית הנאותה המתבצעת במכון; במשתנה חשיבות המחקרים ניתן הניקוד לפי קטגורית 'חשיבות נאותה'. משתנה 'היקף המחקר' נוקד בשים לב לעובדה שהמכון לא ציין מספר עמודים משוער של מחקריו, למרות שהתבקש לעשות זאת כבר מספר שנים, כי אם כותב 'בהכנה' - דבר המגביל את יכולת הערכת היקף מחקריו. משתנה 'מס' הפרסומים' בשנת ההערכה נוקד בהלימה להוצאתם לאור של שלושה פרסומים בהיקף נאות. עזרי מחקר שנוקדו: מבנה ייעודי וכתבי יד. מהדורות אלקטרוניות (בנוסף למודפסות) המופצות חינם: לא נוקדו, בהעדר כאלה בשנת ההערכה.
A9: מועד | C9: 7 | D9: 2024 | E9: 580024503 | F9: 40188700 | G9: בית המדרש להלכה בהתישבות - אמונת אי"ש | H9: 1001795131 | I9: תמיכה במכוני מחקר תורנים 2024 | J9: 1000000 | K9: 20 | L9: 20 | M9: 19 | N9: 8 | P9: 4 | R9: 0 | U9: =SUM(K9:T9) -> 71 | V9: =U9/$U$68*$AC$2 -> 500663.75 | W9: 613701 | X9: ='הגבלה לסכום מבוקש'!U37 -> 498588.7 | Y9: מומלץ לתמיכה ע"פ סעיף א(1)א,ב למבחני התמיכה העיקריים וע"פ סעיף 9 להוראת השעעה 2024. להלן התייחסות הוועדה המייעצת: מפעלי המכון ממשיכים להוות את המרכיב המרכזי בכל הקשור לחקר ההלכה בתחום המצוות התלויות בארץ ובסדר 'זרעים', המתאימים לחיי החקלאות במדינת ישראל. בנוסף, עוסק המכון במחקר ובהוצאה לאור של שו"ת 'ישא יוסף' על חלקי ה'שולחן ערוך', ובו פסקיו של אחד מגדולי הפוסקים המרכזיים של האומה בדורות האחרונים, מרן הגאון רבי יוסף שלום אלישיב זצ"ל, באופן מהימן, מובנה וברור. יצוין כי פעילות המכון, על חלקיו המגוונים, מבטאים עשייה רבה שהינה שוות ערך לעבודת מספר מכונים גם יחד. לאור כל האמור לעיל: במשתנים 'איכות הפעילות' ו'חשיבות הפעילות' קיבל המכון את הניקוד המירבי בכל אחד מן המשתנים. משתנה 'היקף עבודת המחקר': בשים לב להיקף הגדול של נושאי המחקרים המתבצעים במכון ניתן למכון הניקוד המירבי; במשתנה 'מס' הפרסומים' הוענק ניקוד למכון, בשים לב לפרסום היחיד שיצא לאור, שהינו בעל ערך. עזרי מחקר שנוקדו: מבנה ייעודי וכתבי יד. מהדורות אלקטרוניות (בנוסף למודפסות) המופצות חינם: לא נוקדו, בהעדר כאלה בשנת ההערכה.
A10: מועד | C10: 8 | D10: 2024 | E10: 580108611 | F10: 40303431 | G10: בית ועד הר-חברון (ע"ר) | H10: 1001793730 | I10: תמיכה למחקר תורני בעל משמעות לאומית 2024 | J10: 290000 | K10: 9 | L10: 9 | M10: 12 | N10: 7 | P10: 2 | R10: 0 | U10: =SUM(K10:T10) -> 39 | V10: =U10/$U$68*$AC$2 -> 275012.48 | W10: 259920 | X10: ='הגבלה לסכום מבוקש'!U38 -> 271372.81 | Y10: מומלץ לתמיכה לפי סעיף 4(1)א למבחני התמיכה וע"פ סעיף 9 להורא המכון עוסק במחקר מקיף בתחומי העיון, הלימוד וההלכה, אשר יש בהם חשיבות לאומית בהמשכיות התורה ובהבנתה, במציאות הלאומית המודרנית כיום. לאור האמור לעיל, נוקד המכון במשתנה 'איכות המחקרים', בשים לב לרמת המחקר האיכותית, ובמשתנה 'חשיבות המחקרים' בקטגוריה 'חשיבות רבה', בשים לב לחשיבותם הרבה לציבור רחב. ניקוד משתנה 'היקף המחקר' הולם את עבודת המחקר הרבה שהתקיימה במכון; ניקוד משתנה 'מספר הפרסומים' נוקד בשים לב לפרסום החשוב שיצא לאור בשנת ההערכה. הועדה המייעצת מבקשת לציין, כי בכוונתה לשקול בעתיד באופן רוחבי את נושא התמיכה בשיעורים עיוניים של ראשי ישיבות על מסכתות הש"ס; לפיכך, על מכוני המחקר התורניים העוסקים בכך להיערך בהתאם. עזרי מחקר שנוקדו: מבנה ייעודי. מהדורות אלקטרוניות (בנוסף למודפסות) המופצות חינם: לא נוקדו, בהעדר כאלה בשנת ההערכה.
A11: טיוט | B11: חדש | C11: 9 | D11: 2024 | E11: 580671675 | F11: 42824243 | G11: בית תלמוד לרבנים בישראל (ע"ר) | H11: 1001805887 | I11: 'בית תלמוד לרבנים בישראל' ע"ר היא עמותה | J11: 1500000 | U11: =SUM(K11:T11) -> 0 | V11: =U11/$U$68*$AC$2 -> 0 | W11: 0 | X11: ='הגבלה לסכום מבוקש'!U39 -> 0 | Y11: אינו מומלץ לתמיכה ע"פ סעיפים 4(5) ו 9 (הוראת שעה 2024) למבחני התמיכה. להלן התייחסות הועדה המייעצת: למכון אין שני פרסומים במהלך השנים 2019 עד 2023 (כולל), שהוכרו ע"י הועדה המייעצת כבעלי חשיבות לאומית (גם כשמרחיבים את תקופת הבדיקה, על מנת שזו תכלול את חודשים אוקטובר עד דצמבר 2023, ע"פ סעיף 9(א)(2) למבחני התמיכה), בהתאם לפירוט הבא: (א) סדרת 'אוצר ההלכות' הינה סדרה חשובה המפרטת את כל המקורות בנושאים הלכתיים משמעותיים, אך לא בנויה כחיבור אחד ערוך, אלא כקובץ של מראי מקומות ומקורות, ולפיכך לא ניתן להכיר בה כמחקר תורני בעל חשיבות לאומית. (ב) כתבי העת 'ההיכל' ו'ספר ההיכל על הלכות פרוזבול' אינם מוכרים כפרסומים, אלא ככתבי עת, אשר מנוקדים במסגרת 'עזרי המחקר' ככל שהגוף זכאי לתמיכה. (ג) הפרסומים 'זהרי אליהו סדר ליל שבת', 'מזמור לאסף ברכות' ו 'הוידוי המבואר' הינם חיבורים שימושיים לצרכי תפילות ולקחי מוסר שאינם מוכרים כמחקר תורני בעל חשיבות לאומית. (ד) הפרסום 'וירא פנחס': יצא לאור בפברואר 2023 ע"י הרב פנחס בוטרשווילי שאינו נמנה עם חוקרי המכון (בהתאם לדיווחי המכון לתקופה זו, כמתחייב ע"פ מבחן התמיכה), ובכל מקרה, מדובר בלקט מקורות על סדר השו"ע, שעם כל חשיבותו, אינו מהווה מחקר תורני בעל חשיבות לאומית. (ה) ספר 'שיעורי מלאכות': יצא לאור באפריל 2023 ע"י הרב מיכאל שילוני, שאינו חוקר תקני במכון, כמתחייב ע"פ מבחן התמיכה (לא מקבל תשלום ולא ברור מתי הועסק), כחלק מסדרת ספריו המוכרת. ובכל מקרה, מדובר בחיבור תורני של חידושי תורה, שעם כל חשיבותו, אינו מהווה מחקר תורני בעל חשיבות לאומית. (ו) ספר 'שיעורי למען שמו': יצא לאור במרץ 2021 ע" הרב פרצוביץ, שזכויות הספר שמורות לו ולא למכון (בניגוד לסעיף 4(5)(ב) למבחן התמיכה). בנוסף, מדובר בסיכומי שיעורים שאינם בעלי חשיבות ייחודית בעולם התורני, ואינם מהווים מחקר תורני בעל חשיבות לאומית. (ז) הפרסום 'בית הלוי על מצוות הביטחון': הינו הוצאה מחודשת של ספר מוכר, בתוספת דברי מוסר שאינם מהווים מחקר תורני בעל חשיבות לאומית. (ח) הפרסום 'צרור החיים' לרבי משה חאגיז זצ"ל': הינו הדפסה מחודשת של פרסום ישן, בעל היקף מצומצם שאינו מהווה מחקר תורני בעל חשיבות לאומית. לאור האמור לעיל, המכון אינו עומד בתנאי הסף הדורש שני פרסומים בעלי חשיבות לאומית, ולפיכך אינו מומלץ לתמיכה. הערה: גוף זה לא נתמך בשנים 2022 ו 2023 ע"י המחלקה למחקר תורני, ולפיכך נבחן כ'גוף חדש' ע"פ הוראת השעה לשנת 2024. | Z11: המוסד הגיש ערעור על החלטת ועדת התמיכות, אשר הובאה לדיון בפני הועדה המייעצת. המוסד מערער אודות אי הכרה כבעלי חשיבות לאומית בארבעה מהפרסומים שהגיש במסגרת בקשת התמיכה, דבר שמנע ממנו מלעמוד בתנאי הסף הדורש שני פרסומים בעלי חשיבות לאומית: 'אוצר ההלכות' שלטענתו הינו חיבור עצום שמכיל אלפי עמודים ובו סיכום של כל הדעות והשיטות בתחומים רבים, כולל הנהגות גדולי הדור; 'ספר ההיכל על הלכות פרוזבול', הכולל מעל מאה ושלושים סוגי פרוזבול עתיקים, לרבות ציון החילוקים ביניהם; 'הווידוי המבואר' הכולל מחקר תורני, הבאת גנזים, השוואת מקורות ופירוש; ספר 'צרור החיים' לרבי משה חאגיז, הכולל הדפסה מחודשת, פתיחת ר"ת וכו'. הועדה המייעצת עיינה במכתב הערעור ובספרים שהוגשו לפניה והחליטה כי אין מקום לשנות את המלצתה הקודמת, כדלקמן: אוצר ההלכות: מדובר בסגנון חיבור סיכומי הכולל אוסף שיטות. על אף מגוון המקורות והשיטות המצויות בו לא ניתן להכיר כמחקר תורני בעל חשיבות לאומית בסגנון פרסומים מעין אלו, שאינם מהווים חיבורים ערוכים (כפי שקיים במכוני מחקר אחרים), אלא סיכומי שיטות קצרים במתכונת של הכנה ומיקוד למבחן. ספר ההיכל על הלכות פרוזבול: הינו קובץ מאמרים שלא נתמך במסגרת מחקרים תורניים בעלי חשיבות לאומית. ספר הווידוי המבואר: כשמו כן הוא – חלק מהתפילה עם ביאור. ספרים מעין אלה לא נתמכים במסגרת מחקרים תורניים בעלי חשיבות לאומית. ספר צרור החיים לרבי משה חאגיז: הינו ספר ישן וקטן כמות. הועדה המייעצת אינה מכירה בהקלדות מחדש כעבודת מחקר תורנית מעמיקה בעלת חשיבות לאומית. לאור האמור לעיל, ערעור המכון נדחה.
A12: מועד | C12: 10 | D12: 2024 | E12: 580548808 | F12: 41482605 | G12: בשורת הארץ ע"ש יוסף, נפתלי ודבורה ב | H12: 1001793357 | I12: מכון מחקר | J12: 350000 | K12: 10 | L12: 8 | M12: 10 | N12: 5 | P12: 2 | R12: 0 | U12: =SUM(K12:T12) -> 35 | V12: =U12/$U$68*$AC$2 -> 246806.08 | W12: 223820 | X12: ='הגבלה לסכום מבוקש'!U40 -> 243539.7 | Y12: מומלץ לתמיכה ע"פ סעיף 4(1)א ו - 9 (הוראת שעה 2024) למבחני התמיכה. להלן התייחסות הוועדה המייעצת: המכון עוסק בחקר תלמודה של ארץ ישראל באורינטציה ציונית ועדכנית, באמצעות פירוש של חוקרי המכון, וכן השוואה בין התלמוד הירושלמי לתלמוד הבבלי. ניקוד המשתנה 'איכות המחקרים' ניתן בשים לב לרמתם הטובה של המחקרים; ניקוד משתנה 'חשיבות המחקרים' ניתן בשים לב לחשיבותם נאותה. ניקוד משתנה 'היקף המחקר' ניתן בהתאמה לפעילות המכון ולחשיבותם של המחקרים; ניקוד משתנה 'מס' הפרסומים' נוקד בהתאם לפרסום הראוי שיצא לאור בשנת ההערכה. עזרי מחקר שנוקדו: מבנה ייעודי. מהדורות אלקטרוניות (בנוסף למודפסות) המופצות חינם: לא נוקדו, בהעדר פרסומים שיצאו לאור בשנת ההערכה. | Z12: המוסד הגיש ערעור על החלטת ועדת התמיכות, אשר הובאה לדיון בפני הועדה המייעצת. בערעורו טוען המוסד כי עליו לקבל ניקוד גבוה יותר במשתנים 'איכות המחקרים', 'חשיבות המחקרים', 'היקף המחקר בשנת ההערכה', בשל היקף העבודה הרב והחשוב שבוצע במכון. הועדה המייעצת עיינה במכתב הערעור והחליטה כי: בסעיפי האיכות והחשיבות אין מקום לבצע שינויי ניקוד, כיון שלא חל שינוי מהותי בעבודת המכון משנים עברו. מדובר במכון שעוסק בהוצאת פירוש הירושלמי ומחקרים נוספים בעלי תרומה חשובה, והועדה המייעצת סבורה כי הניקוד שניתן משקף את הערך המשמעותי של העבודה.. לעניין משתנה 'היקף המחקר בשנת ההערכה': הועדה המייעצת עיינה במכתב הערעור והחליטה כי בשל היקף העבודה שנדרש אודות ארבעת המחקרים, ובהתחשב גם בשעות עבודת החוקרים אודות מחקרים אלה, יועלה הניקוד מ 8 נקודות ל 10 נקודות.
A13: מועד | C13: 11 | D13: 2024 | E13: 580176808 | F13: 40272403 | G13: דרכי הוראה לרבנים (ע"ר) | H13: 1001794390 | I13: תמיכה במכון מחקר תורני בעל חשיבות לאומית | J13: 370000 | K13: 8 | L13: 16 | M13: 5 | N13: 0 | P13: 4 | R13: 0 | U13: =SUM(K13:T13) -> 33 | V13: =U13/$U$68*$AC$2 -> 232702.87 | W13: 317680 | X13: ='הגבלה לסכום מבוקש'!U41 -> 258092.55 | Y13: מומלץ לתמיכה ע"פ סעיף 4(1)א,ב ו 9 (הוראת השעה 2024) למבחני התמיכה. להלן התייחסות הוועדה המייעצת: פסקיו ותורתו של הרב הראשי לשעבר, הראשל"צ מרן הרב מרדכי אליהו זצ"ל, משפיעים על קהל גדול בעולם ההלכה השפעה גדולה ומכרעת, והינם בעלי חשיבות לאומית יוצאת דופן. ניקוד המשתנים 'איכות המחקרים' ניתן בשים לב לרמת המחקר הטובה ובהשוואה למכוני מחקר מסוגו; ניקוד משתנה 'חשיבות המחקרים' ניתן ע"פ קטגורית 'חשיבות יוצאת דופן' בשל דמות הראשל"צ הרב מרדכי אליהו זצ"ל והשפעתו על ציבור גדול. ניקוד משתנה 'היקף המחקר' ניתן בהתאם להיקף המחקר הנמוך יחסית; משתנה 'מס' הפרסומים' לא נוקד, בהעדר פרסום שיצא לאור בשנת ההערכה הקלנדרית 2022. עזרי מחקר שנוקדו: מבנה ייעודי וספריה. מהדורות אלקטרוניות (בנוסף למודפסות) המופצות חינם: לא נוקדו, בהעדר פרסומים שיצאו לאור בשנת ההערכה.
A14: מועד | C14: 12 | D14: 2024 | E14: 580140143 | F14: 40216035 | G14: דרכי שמחה (ע"ר) | H14: 1001792095 | I14: עריכת תורנית ומחקרית תלמוד הירושלמי השלם | J14: 850000 | K14: 20 | L14: 20 | M14: 19 | N14: 0 | P14: 4 | R14: 0 | U14: =SUM(K14:T14) -> 63 | V14: =U14/$U$68*$AC$2 -> 444250.94 | W14: 685901 | X14: ='הגבלה לסכום מבוקש'!U42 -> 557246.1 | Y14: מומלץ לתמיכה ע"פ סעיף 4(1)א,ב למבחני התמיכה ו - 9 (הוראת שעה 2024) למבחני התמיכה. להלן התייחסות הוועדה המייעצת: הוועדה המייעצת מעריכה את עבודת המכון על התלמוד הירושלמי ומתרשמת מאד מאיכות העבודה ומרמתה הגבוהה באופן רציף, הכוללת מספר חלקים: ביאור מקיף אור שמחה, ספר המפתח, השוואת הבבלי והירושלמי, תיקון הנוסח ע"פ כתבי יד, דקדוקי סופרים, תוספות ראשונים, מפרשי הירושלמי הקדמונים, אוצר מפרשי הירושלמי וסיכומי סוגיות מורכבות. כל זאת, תוך חלוקה חיונית שהתבצעה במכון, ואשר באה לידי ביטוי במהדורות השונות שבכל מסכת: 'מהדורת ירושלים המורחבת' ו'מהדורת טבריה', המבדילות בין הנדרש למחקר וללמידה תורנית מעמיקה (מהדורת ירושלים) לבין ביאורים ופירושים תמציתיים (מהדורת טבריה). לאור כל האמור לעיל: במשתנים 'איכות הפעילות' ו'חשיבות הפעילות' קיבל המכון את הניקוד המירבי בכל אחד מן המשתנים. במשתנה 'היקף עבודת המחקר' - בשים לב להיקף הגדול של המחקרים המתבצעים במכון ניתן למכון הניקוד המירבי. במשתנה 'מס' הפרסומים בשנת ההערכה' המכון לא נוקד, בשל העובדה שהפרסום שיצא לאור בשנת ההערכה (ברכות, כרך א', מהדורת ירושלים) כבר נוקד בשנת 2022 בניקוד המירבי למשתנה זה כטיוטה מוכנה, בהתאם לסעיף 5(ה)(2) למבחני התמיכה (מדובר היה אז בחלק מתוך סדרה המורכבת מיחידות מחקריות, אשר יצא לאור פרסום של המוסד באותה סדרה, בשנה שקדמה לשנת ההערכה). עזרי מחקר שנוקדו: מבנה ייעודי וכרטסת ייחודית. מהדורות אלקטרוניות (בנוסף למודפסות) המופצות חינם: לא נוקדו, בהעדר כאלה בשנת ההערכה.
A15: מועד | C15: 13 | D15: 2024 | E15: 510058738 | F15: 40215985 | G15: הוצאת אנציקלופדיה תלמודית בע"מ (חל"צ) | H15: 1001793581 | I15: תמיכה שוטפת לשנת 2024 | J15: 1500000 | K15: 20 | L15: 20 | M15: 19 | N15: 19 | P15: 4 | R15: 0 | U15: =SUM(K15:T15) -> 82 | V15: =U15/$U$68*$AC$2 -> 578231.38 | W15: 657021 | X15: ='הגבלה לסכום מבוקש'!U43 -> 570578.73 | Y15: מומלץ לתמיכה ע"פ סעיף 4(1)א,ב למבחני התמיכה ו - 9 (הוראת שעה 2024) למבחני התמיכה.. להלן התייחסות הוועדה המייעצת: הוועדה המייעצת ממשיכה לראות במפעל ה'אנציקלופדיה התלמודית' מפעל חשוב ביותר, הנמנה על מכוני הדגל של המחקר התורני במדינת ישראל. לאור כל האמור לעיל: במשתנים 'איכות הפעילות' ו'חשיבות הפעילות' קיבל המכון את הניקוד המירבי בכל אחד מן המשתנים. במשתנה 'היקף עבודת המחקר' - בשים לב להיקף הגדול של המחקרים המתבצעים במכון ניתן למכון הניקוד המירבי. במשתנה 'מס' הפרסומים בשנת ההערכה' ניתן למכון הניקוד המירבי, בשים לב לשני הפרסומים בעלי החשיבות הלאומית הרבה שיצאו לאור בשנת ההערכה. עזרי מחקר שנוקדו: מבנה ייעודי וספריה. מהדורות אלקטרוניות (בנוסף למודפסות) המופצות חינם: לא נוקדו, בהעדר כאלה בשנת ההערכה.
A16: מועד | C16: 14 | D16: 2024 | E16: 580004059 | F16: 40016849 | G16: הישיבה הגבוהה אור-עציון (ע"ר) | H16: 1001796156 | I16: תמיכה במכון התורני אור עציון - 2024 | J16: 500000 | K16: 14 | L16: 14 | M16: 16 | N16: 14 | P16: 4 | R16: 0 | U16: =SUM(K16:T16) -> 62 | V16: =U16/$U$68*$AC$2 -> 437199.33 | W16: 339341 | X16: ='הגבלה לסכום מבוקש'!U44 -> 431413.19 | Y16: מומלץ לתמיכה ע"פ סעיף 4(1)א,ב ו - 9 (הוראת שעה 2024) למבחני התמיכה. להלן התייחסות הוועדה המייעצת: המכון עוסק בעבודת ההדרה של ספרות הראשונים וספרות המחשבה של גדולי ישראל מדורות קודמים ומוציא לאור מהדורות מדעיות איכותיות. ניקוד המשתנה 'איכות המחקרים' ניתן בשים לב לרמת המחקר המקצועית והמעמיקה; משתנה 'חשיבות המחקרים' נוקד לפי קטגורית 'חשיבות רבה'. משתנה 'היקף המחקר' נוקד בשים לב לגידול בהיקף עבודת המחקר; משתנה 'מס' הפרסומים' נוקד בשים לב לשלושת הפרסומים החשובים שיצאו לאור בשנת ההערכה. עזרי מחקר שנוקדו: מבנה ייעודי וספריה. מהדורות אלקטרוניות (בנוסף למודפסות) המופצות חינם: לא נוקדו, בהעדר פרטי תאריך ההפצה / הגשה לפרסום.
A17: מועד | C17: 15 | D17: 2024 | E17: 580007433 | F17: 40188797 | G17: הישיבה הגדולה אהל שמעון מערלוי ירוש | H17: 1001792773 | I17: בקשת תמיכה למכון חתם סופר | J17: 750000 | K17: 10 | L17: 10 | M17: 14 | N17: 14 | P17: 10 | R17: 0 | U17: =SUM(K17:T17) -> 58 | V17: =U17/$U$68*$AC$2 -> 408992.92 | W17: 505401 | X17: ='הגבלה לסכום מבוקש'!U45 -> 410602.6 | Y17: מומלץ לתמיכה ע"פ סעיף 4(1)א,ב ו - 9 (הוראת שעה 2024) למבחני התמיכה. להלן התייחסות הוועדה המייעצת: המכון עוסק בההדרת תורתו של מרן ה'חתם סופר', בניו ותלמידיו. ה'חתם סופר' השפיע בפסיקתו על דורו ועל הדורות אחריו, עד לימינו אנו. בעקבות משנתו ותורתו זו, יצרו תלמידיו שיטה הלכתית המשפיעה על הפסיקה באופן משמעותי. הוועדה המייעצת רואה חשיבות גדולה במחקר מעמיק אודות כל אלה, אשר המכון מבצע בצורה הולמת וטובה. ניקוד המשתנים 'איכות המחקרים' ניתן בשים לב לרמת המחקר הטובה; משתנה 'חשיבות המחקרים' ניתן לפי קטגורית 'חשיבות רבה'. ניקוד משתנה 'היקף המחקר' ירד מזה שנוקד בשנת 2022 (השנה האחרונה בה נוקד המכון) בשל קיטון בהיקף עבודות המחקר שהתבצעו במכון; ניקוד משתנה 'מס' הפרסומים' בהתאם לעליה במספר הפרסומים שיצאו לאור (3), בשים לב לחשיבותם ולהעמקתם. עזרי מחקר שנוקדו: 2 מבנים ייעודיים, מאגר כתבי יד, 2 תוכנות ייחודיות. מהדורות אלקטרוניות (בנוסף למודפסות) המופצות חינם: לא נוקדו, בהעדר כאלה בשנת ההערכה. | Z17: המוסד הגיש ערעור על החלטת ועדת התמיכות, אשר הובאה לדיון בפני הועדה המייעצת. בערעורו טוען המוסד כי עליו לקבל את הניקוד המירבי במשתנים 'איכות המחקרים', 'חשיבות המחקרים', 'היקף המחקר בשנת ההערכה', 'מס' פרסומים שיצאו לאור בשנת ההערכה' בשל היקף העבודה הרב והחשוב שבוצע במכון ובשל מספר החוקרים המועסקים במכון. הועדה המייעצת עיינה במכתב הערעור והחליטה כי: בסעיפי האיכות והחשיבות אין מקום לבצע שינויי ניקוד, כיון שלא חל שינוי מהותי בעבודת המכון משנים עברו. מדובר במכון העוסק בדמותו החשובה של מרן החתם סופר זצ"ל, מגדולי הפוסקים בכל הדורות והועדה המייעצת אכן מברכת על כך. עם זאת, העבודה אודות המחקרים והפרסומים שהובאו בפני הועדה המייעצת, הינה בעיקר ההדרת חיבורים שיצאו לאור בעבר, לעתים באמצעות איסופם של מספר ספרים לספר אחד, שיש בו השוואות והערות ברמה מחקרית שאינה יוצאת דופן. לפיכך, על אף המהדורות החשובות, מדובר בעבודה מחקרית שעיקר עניינה הנגשת חיבורים קיימים, ולא הוצאת חיבורים חדשים מכתבי יד. לעניין משתנה 'היקף המחקר בשנת ההערכה': המוסד ציין 6 מחקרים בשלבי עבודה בלבד, לעומת 11 בשנה האחרונה בה נוקד, ולפיכך ירד הניקוד בהתאם. עם זאת, ייתכן כי טעה באופן הדיווח הראשוני בשאלון 2 (לא ציין פרסומים שיצאו לאור בתקופה 1.10.22 עד 30.9.23 כמחקרים בשלבי עבודה בשנה קלנדרית 2022) ולפיכך יועלה הניקוד ב 2 נקודות בשל עבודת החוקרים אודות המחקרים האמורים, בשים לב לעובדה שגם המחקרים הנוספים שצוינו ('חתם סופר על התורה' ו'שיר מעון') הם למעשה מהדורות מחודשות של פרסומים שיצאו כבר לאור, שחלקם גם אינם של מרן בעל ה'חתם סופר' עצמו. לעניין משתנה 'מס' הפרסומים בשנת ההערכה': הניקוד אף גדל מזה שהיה בפעם האחרונה בה נוקד, בשל הפרסום הנוסף שיצא לאור (3 פרסומים השנה לעומת 2 פרסומים בפעם הקודמת), אשר שניים מהם הינם מהדורה נוספת של פרסום שיצא כבר בעבר ואחד הינו ספר מפתחות. לפיכך, הניקוד יישאר על כנו.
A18: טיוט | B18: חדש | C18: 16 | D18: 2024 | E18: 580270403 | F18: 40299523 | G18: הליכות הארץ - משמרת המצוות במשקים ה | H18: 1001797189 | I18: מכוני מחקר 2024 | J18: 500000 | K18: 6 | L18: 6 | M18: 4 | N18: 4 | P18: 2 | R18: 0 | U18: =SUM(K18:T18) -> 22 | V18: =U18/$U$68*$AC$2 -> 155135.25 | W18: 0 | X18: ='הגבלה לסכום מבוקש'!U46 -> 153082.1 | Y18: אינו מומלץ לתמיכה ע"פ סעיפים 4(5) ו 9 (הוראת שעה 2024) למבחני התמיכה. להלן התייחסות הועדה המייעצת: למכון אין שני פרסומים במהלך השנים 2019 עד 2023 (כולל), שהוכרו ע"י הועדה המייעצת כבעלי חשיבות לאומית (גם כשמרחיבים את תקופת הבדיקה, על מנת שזו תכלול את חודשים אוקטובר עד דצמבר 2023, ע"פ סעיף 9(א)(2) למבחני התמיכה), כי אם פרסום אחד בלבד, בהתאם לפירוט הבא: (א) ספר 'חוקות חיים כלאיים, מראי מקומות מסכת כלאים - נתיב בינה': הוכר כבעל חשיבות לאומית, בהיותו חיבור מקיף התורם להעמקת הידע בתחום שיש צורך לבצע מחקרים תורניים בעניינו. (ב) ספר 'פסקי השמיטה': מדובר בחיבור שעיקרו שאלות ותשובות קצרות שעלו בפני חכמי בית המדרש בנושא מוכר וידוע, שאינו נחשב מחקר תורני מעמיק בעל חשיבות לאומית. לאור האמור לעיל, המכון אינו עומד בתנאי הסף הדורש שני פרסומים בעלי חשיבות לאומית, ולפיכך אינו מומלץ לתמיכה. הערה: גוף זה לא נתמך בשנים 2022 ו 2023 ע"י המחלקה למחקר תורני, ולפיכך נבחן כ'גוף חדש' ע"פ הוראת השעה לשנת 2024. | Z18: המוסד הגיש ערעור על החלטת ועדת התמיכות, אשר הובאה לדיון בפני הועדה המייעצת. בערעורו טוען המוסד אודות אי הכרה בספר 'פסקי שמיטה' כבעל חשיבות לאומית, דבר שמנע ממנו מלעמוד בתנאי הסף הדורש שני פרסומים בעלי חשיבות לאומית. לטענת המכון מדובר במחקר הלכתי מעמיק, אשר מתאים גם לכל שכבות העם. הועדה המייעצת עיינה במכתב הערעור ובפרסום המלא שהוגש לפניה, והחליטה כי יש מקום לשנות את החלטתה הקודמת, כדלקמן: מומלץ לתמיכה ע"פ סעיפים 4(1)א ו - 9 (הוראת שעה 2024) למבחני התמיכה. המכון עוסק במחקר מקיף ומעמיק בעל חשיבות לאומית בעיקר אודות ההלכות התלויות בארץ. שני הפרסומים שהוכרו לצורך מעבר תנאי סף 4(5): חוקות חיים כלאיים (יצא לאור ב 6/22); פסקי השמיטה (יצא לאור ב 9/21). ניקוד משתנה 'איכות המחקרים' (6 נק') ניתן בשים לב לרמת המחקר הטובה; ניקוד משתנה 'חשיבות המחקרים' (6 נק') ניתן לפי קטגורית 'חשיבות נאותה', בשים לב לנושאי המחקר שהינם חשובים אך נחקרים גם על ידי מכוני מחקר נוספים. ניקוד משתנה 'היקף המחקר' (4 נק') הולם את המחקר האחד שהתבצע במכון בשנת ההערכה; ניקוד משתנה 'מספר הפרסומים' (4 נק') נוקד בהתאם לפרסום היחיד שיצא לאור בשנת ההערכה, בשים לב לכך שאינו חלק אינטגרלי מפעילותו של המכון אודות המצוות התלויות בארץ. עזרי מחקר שנוקדו: (2 נק') עבור מבנה ייעודי שהמכון משכיר לצורך פעילותו. מהדורות אלקטרוניות (בנוסף למודפסות) המופצות חינם: לא נוקדו, בהעדר כאלה בשנת ההערכה. הערה: גוף זה לא נתמך בשנים 2022 ו 2023 ע"י המחלקה למחקר תורני, ולפיכך נבחן כ'גוף חדש' ע"פ הוראת השעה לשנת 2024. ערעור המוסד התקבל. הניקוד וסכום התמיכה יפורטו במודל המתוקן.
A19: טיוט | B19: חדש | C19: 17 | D19: 2024 | E19: 580654762 | F19: 42206274 | G19: המאיר לארץ ע"ש ציס"ע אבינו רבינו יו | H19: 1001805813 | I19: תמיכה שוטפת למכון המחקר | J19: 1000000 | U19: =SUM(K19:T19) -> 0 | V19: =U19/$U$68*$AC$2 -> 0 | W19: 0 | X19: ='הגבלה לסכום מבוקש'!U47 -> 0 | Y19: אינו מומלץ לתמיכה ע"פ סעיפים 4(5) ו - 9 (הוראת שעה 2024) למבחני התמיכה. 1) הזכויות בפרסומי המכון שהוגשו שייכות לרב ישראל אברג'ל שליט"א, ולא לעמותה, ולפיכך המוסד אינו עומד בתנאי הסף 4(5)ב למבחני התמיכה. 2) המכון אינו עומד בתנאי הסף הדורשים שני פרסומים בעלי חשיבות לאומית, לפי סעיף 4(5) למבחני התמיכה. להלן התייחסות הועדה המייעצת: למכון אין שני פרסומים במהלך השנים 2019 עד 2023 (כולל), שהוכרו ע"י הועדה המייעצת כבעלי חשיבות לאומית (גם כשמרחיבים את תקופת הבדיקה, על מנת שזו תכלול את חודשים אוקטובר עד דצמבר 2023, ע"פ סעיף 9(א)(2) למבחני התמיכה), בהתאם לפירוט הבא: במכון מתבצעת פעילות בהיקף רחב, והוא מציא פרסומים רבים וחשובים תחת ידיו. עבודתו העיקרית של המכון מתמקדת בחיבורים רבים ועשירים המכילים לקט מקורות, שיחות מוסר, חיזוק, התעוררות וביאורים שונים שכולם בעלי ערך מוסרי סביב התורה, המגילות וספרי חסידות, אך אינם כוללים חקר ופרשנות. לפיכך, חיבורים אלה, עם כל חשיבותם, השפעם על קהלים רחבים ותרומתם העצומה, אינם משתייכים לתחום המחקר התורני בעל החשיבות הלאומית. לאור האמור לעיל, המכון אינו עומד בתנאי הסף הדורשים שני פרסומים בעלי חשיבות לאומית. הערה: גוף זה לא נתמך בשנים 2022 ו 2023 ע"י המחלקה למחקר תורני, ולפיכך נבחן כ'גוף חדש' ע"פ הוראת השעה לשנת 2024.
A20: מועד | C20: 18 | D20: 2024 | E20: 580254845 | F20: 40216048 | G20: המכון למצוות התלויות בארץ (ע"ר) | H20: 1001792818 | I20: תמיכה שוטפת 2024 | J20: 680000 | K20: 20 | L20: 20 | M20: 9 | N20: 9 | P20: 10 | R20: 0 | U20: =SUM(K20:T20) -> 68 | V20: =U20/$U$68*$AC$2 -> 479508.95 | W20: 628141 | X20: ='הגבלה לסכום מבוקש'!U48 -> 510320.18 | Y20: מומלץ לתמיכה ע"פ סעיף 3(1)ג,א,ב ו - 9 (הוראת שעה 2024) למבחני התמיכה. להלן התייחסות הוועדה המייעצת: המכון עוסק בפעילות תורנית יישומית בעלת חשיבות לאומית רבה לכלל הציבור, ומוציא מחקרים בתחומים אלו. המכון הינו מהמובילים בארץ בתחומי החקלאות, ובפרט בתחום המניעה מתולעים. לאור כל האמור לעיל: במשתנים 'איכות הפעילות' ו'חשיבות הפעילות' קיבל המכון את הניקוד המירבי בכל אחד מן המשתנים; משתנה 'היקף המחקר' נוקד בשים לב להיקף עבודת המחקר במכון ולכך ש'קצירת השדה תרומות ומעשרות ב'' טרם יצא לאור; ניקוד משתנה 'מס' הפרסומים' ניתן למכון בשים לב לשלושת הפרסומים שיצאו לאור בשנת ההערכה, היקפם וחשיבותם (ספרי שו"ת שיש בהם מחקר תורני שאינו יוצא דופן בחשיבותו). עזרי מחקר שנוקדו: מבנה ייעודי, מעבדת מחקר, כתבי יד, כתב עת 'תנובות שדה', חממת מחקר. מהדורות אלקטרוניות (בנוסף למודפסות) המופצות חינם: לא נוקדו, בהעדר כאלה בשנת ההערכה (כתב העת תנובות שדה מנוקד כעזר מחקר, ואינו נחשב פרסום).
A21: מועד | C21: 19 | D21: 2024 | E21: 580018653 | F21: 40221455 | G21: המכון ע"ש מרן הרב צבי יהודה קוק זצ"ל | H21: 1001795323 | I21: בקשת תמיכה למכון מחקר תורני חשיבות לאומי | J21: 460000 | K21: 10 | L21: 10 | M21: 9 | N21: 7 | P21: 2 | R21: 0 | U21: =SUM(K21:T21) -> 38 | V21: =U21/$U$68*$AC$2 -> 267960.88 | W21: 296020 | X21: ='הגבלה לסכום מבוקש'!U49 -> 264414.53 | Y21: מומלץ לתמיכה ע"פ סעיפים 4(1)א,ב ו - 9 (הוראת שעה 2024) למבחני התמיכה. להלן התייחסות הוועדה המייעצת: המכון עוסק במשנתם של הראי"ה קוק, הרצי"ה קוק ושל הרב הראשי רבי אברהם שפירא זצ"ל, שיש בהם חשיבות לאומית. ניקוד משתנה 'איכות המחקרים' נוקד בשים לב לרמת המחקר המקצועית הנאותה; ניקוד משתנה 'חשיבות המחקרים' ניתן לפי קטגורית 'חשיבות נאותה', בשים לב לחשיבות המחקרים אודות הרבנים קוק זצ"ל, שהולכים ומתפתחים בשנים האחרונות. ניקוד משתנה 'היקף המחקר' הולם את הגידול בהיקף עבודת המחקר במכון, בשים לב לקצב התקדמותם האיטי; משתנה 'מספר הפרסומים' נוקד בשים לב לפרסום שיצא לאור בשנת ההערכה, לאור חשיבותו. עזרי מחקר שנוקדו: כתבי יד. מהדורות אלקטרוניות (בנוסף למודפסות) המופצות חינם: לא נוקדו, בהעדר כאלה בשנת ההערכה.
A22: מועד | C22: 20 | D22: 2024 | E22: 580317535 | F22: 40216063 | G22: התורה והארץ (ע"ר) | H22: 1001793674 | I22: תמיכה שוטפת במכוני מחקר תורניים | J22: 700000 | K22: 20 | L22: 20 | M22: 19 | N22: 7 | P22: 14 | R22: 0 | U22: =SUM(K22:T22) -> 80 | V22: =U22/$U$68*$AC$2 -> 564128.17 | W22: 628141 | X22: ='הגבלה לסכום מבוקש'!U50 -> 556662.18 | Y22: מומלץ לתמיכה ע"פ סעיפים 4(1)ג,א ו - 9 (הוראת שעה 2024) למבחני התמיכה. להלן התייחסות הוועדה המייעצת: מכון בעל חשיבות לאומית רבה, העוסק במצוות התלויות בארץ, במישור היישומי והמחקרי ומפיק מחקרים איכותיים. לאור האמור לעיל: במשתנים 'איכות הפעילות' ו'חשיבות הפעילות' קיבל המכון את הניקוד המירבי בכל אחד מן המשתנים. ניקוד משתנה 'היקף המחקר' הינו בשים לב להיקף המגוון של המחקרים המתבצעים במכון והשפעתם; במשתנה 'מס' הפרסומים' ניתן למכון הניקוד בהתחשב בהיקף הפרסומים והמחקרים שיצאו לאור בשנת ההערכה, ביחס הדומה לשנה קודמת בה נוקד המכון (שנת התמיכה 2022). עזרי מחקר שנוקדו: מבנה ייעודי, 2 מעבדות מחקר, ספריה תורנית, כתב העת 'אמונת עתיך', עזרי מחקר אחרים ינוקדו בסך 4 נקודות ע"פ הערכת ועדה מייעצת בהעדר מידע ברור אודותיהם. מהדרות אלקטרוניות (בנוסף למודפסות) המופצות חינם: לא נוקדו, בהעדר כאלה בשנת ההערכה (פורסמו מחקרים שלא יצאו לאור כספרים מודפסים; פורסם ספר 'מתנות הארץ' באוצר החכמה, שאינו מופץ חינם; פורסם כתב העת שנתמך כבר במסגרת עזרי מחקר ולא כפרסום).
A23: מועד | C23: 21 | D23: 2024 | E23: 580271856 | F23: 40370657 | G23: חוסן ישועות לתורת מרן הרב קוק זצ"ל | H23: 1001796565 | I23: מכוני מחקר 2024 | J23: 650000 | K23: 4 | L23: 7 | M23: 12 | N23: 9 | P23: 2 | R23: 0 | U23: =SUM(K23:T23) -> 34 | V23: =U23/$U$68*$AC$2 -> 239754.47 | W23: 238260 | X23: ='הגבלה לסכום מבוקש'!U51 -> 236581.43 | Y23: מומלץ לתמיכה ע"פ סעיפים 4(1)(א) ו - 9 (הוראת שעה 2024) למבחני התמיכה. מכון העוסק בהוצאת ספרים המבארים את תורת הרבנים קוק זצ"ל, ע"פ שיעורי תלמידיו. וכן הוצאת ביאורים על ספרי יסוד נוספים ברוח הרב קוק ברמה נאותה. ניקוד משתנה 'איכות המחקרים' ניתן בשים לב לרמת המחקר הנאותה; ניקוד משתנה 'חשיבות המחקרים' ניתן לפי קטגורית 'חשיבות נאותה', בשים לב לחשיבות המחקרים במכון, ביניהם אודות הרבנים קוק זצ"ל ושיעורי הרב שטרנברג זצ"ל, ובהתחשב בעובדה שישנם מכוני מחקר נוספים העובדים בנושאים הדומים שפורטו להלן. ניקוד משתנה 'היקף המחקר' הולם את עבודת המחקר במכון, בשים לב לחשיבותם; ניקוד משתנה 'מספר הפרסומים' נוקד בהתאם להיקף הפרסומים שיצאו לאור בשנת ההערכה ולחשיבותם. הועדה המייעצת מבקשת לציין, כי בכוונתה לשקול בעתיד באופן רוחבי את נושא התמיכה בשיעורים עיוניים של ראשי ישיבות על מסכתות הש"ס; לפיכך, על מכוני המחקר התורניים העוסקים בכך להיערך בהתאם. עזרי מחקר שנוקדו: מבנה ייעודי. מהדורות אלקטרוניות (בנוסף למודפסות) המופצות חינם: לא נוקדו, בהעדר כאלה בשנת ההערכה.
A24: מועד | C24: 22 | D24: 2024 | E24: 580604999 | F24: 41906703 | G24: חי בהם תורה לאנשים עובדים (ע"ר) | H24: 1001792597 | I24: מכון מחקר חי בהם 2024 | J24: 500000 | K24: 5 | L24: 5 | M24: 6 | N24: 6 | P24: 8 | R24: 4 | U24: =SUM(K24:T24) -> 34 | V24: =U24/$U$68*$AC$2 -> 239754.47 | W24: 194940 | X24: ='הגבלה לסכום מבוקש'!U52 -> 236581.43 | Y24: מומלץ לתמיכה ע"פ סעיפים 4(1)א ו - 9 (הוראת שעה 2024) למבחני התמיכה. המכון עוסק במספר תחומי מחקר מרכזיים: עיון, פסיקה והלכה באתגרי השעה; עיסוק בתחומי ממשק שונים בין עולם הידע התורני לתחומי מקצוע שונים (דוגמת משפט וכלכלה, תחומי הנפש, מערכות המדינה ומדע) ועיסוק במחשבה תלמודית. לאור האמור לעיל, נוקד המכון במשתנה 'איכות המחקרים', בשים לב לרמת המחקר הטובה, ובמשתנה 'חשיבות המחקרים' בקטגוריה 'חשיבות נאותה', בשים לב למידת חדשנותם ולחשיבותם, וביחס לרמת העבודה המחקרית שהתבצעה בהם. ניקוד משתנה 'היקף המחקר' ניתן בשים לב לחשיבות המחקרים הנערכים במכון, וסוג העבודה הנדרשת אודותיהם; ניקוד משתנה 'מספר הפרסומים' נוקד בשים לב לכך שבחלק ניכר מהפרסומים ישנה כפילות כפילות בהיותם ספרים ומאגרי מידע זהים, שנגישותם לציבור נמוכה (אינם מופיעים באינטרנט). עזרי מחקר שנוקדו: 3 מבנים ייעודיים, כתב העת 'מבוע'. מהדורות אלקטרוניות (בנוסף למודפסות) המופצות חינם: לא נוקדו, בהעדר כאלה בשנת ההערכה. | Z24: המוסד הגיש ערעור על החלטת ועדת התמיכות, אשר הובאה לדיון בפני הועדה המייעצת. בערעורו טוען המוסד כי לא נוקד כראוי במשתנים הבאים: חשיבות המחקרים, היקף המחקר בשנת ההערכה, מס' הפרסומים בשנת ההערכה. הועדה המייעצת עיינה במכתב הערעור והחליטה כי אין מקום לשנות את המלצותיה הקודמות, כדלקמן: 1) משתנה 'חשיבות המחקרים': אין מקום לבצע שינוי ניקוד, כיון שלא חל שינוי מהותי בעבודת המכון משנים עברו. 2) משתנה 'היקף המחקר בשנת ההערכה': לאחר עיון נוסף בעקבות ערעור המכון, מסתבר כי חלק מהמחקרים הינם בסיסיים למדי, הן בהיקפם (מס' עמודים קטן) והן בהעמקתם ובעבודת המחקר הנדרשת אודותיהם, ואינם בעלי חשיבות לאומית. מאגרי מידע שנגישותם לציבור אינה ברורה ו'לקט מקורות' אינם נחשבים מחקרים בעלי חשיבות לאומית, ואין להגישם לעיון הועדה בשנים הבאות כמחקרים. לאור זאת, אין מקום לבצע שינוי ניקוד. 3) משתנה 'מס' הפרסומים בשנת ההערכה': מדובר במאגרי מידע לא מוכרים כבעלי חשיבות לאומית ובפרסומים בעלי היקף עבודה קטן יחסית ושחשיבותם הלאומית אינה רבה, לאור זאת, החליטה הועדה השנה להמליץ על ניקוד בהתאם לנתונים אלה. לפיכך, הניקוד יישאר על כנו. לאור האמור לעיל, ערעור המכון נדחה.
A25: מועד | C25: 23 | D25: 2024 | E25: 580098689 | F25: 40216027 | G25: חכמת שלמה - קלוגר (ע"ר) | H25: 1001796405 | I25: מכוני מחקר 2024 | J25: 500000 | K25: 12 | L25: 12 | M25: 19 | N25: 12 | P25: 4 | R25: 0 | U25: =SUM(K25:T25) -> 59 | V25: =U25/$U$68*$AC$2 -> 416044.53 | W25: 326021 | X25: ='הגבלה לסכום מבוקש'!U53 -> 410538.36 | Y25: מומלץ לתמיכה ע"פ סעיפים 4(1)א ו 9 (הוראת שעה 2024) למבחני התמיכה. המכון פועל להוצאת ספרי גדולי הדורות – הראשונים והאחרונים. עיקר פעילותו הינה הוצאה הו"ל של כתבי יד של הגאון רבי שלמה קלוגר זצ"ל, הכוללים אלפי גליונות של חידושי תורה, למעלה ממאה חיבורים חדשים עד כה וההדרת ספרים במהדורה מחודשת. לאור האמור לעיל, נוקד המכון במשתנה 'איכות המחקרים', בשים לב לרמת המחקר האיכותית והמקצועית, ובמשתנה 'חשיבות המחקרים' בקטגוריה 'חשיבות רבה', בשים לב לחשיבותם הרבה לציבור רחב. ניקוד משתנה 'היקף המחקר' הולם את עבודת המחקר הרבה והחשובה שהתקיימה במכון; ניקוד משתנה 'מספר הפרסומים' נוקד בהתאם לשלושת הפרסומים החשובים שיצאו לאור בשנת ההערכה. עזרי מחקר שנוקדו: מבנה ייעודי, ותוכנה ייחודית. מהדורות אלקטרוניות (בנוסף למודפסות) המופצות חינם לא נוקדו, בהעדר כאלה בשנת ההערכה.
A26: מועד | C26: 24 | D26: 2024 | E26: 580461754 | F26: 40526317 | G26: טהרות בעיון (ע"ר) | H26: 1001795411 | I26: תמיכה במכון מחקר תורני על סדר טהרות | J26: 1200000 | K26: 20 | L26: 20 | M26: 19 | N26: 19 | P26: 4 | R26: 0 | U26: =SUM(K26:T26) -> 82 | V26: =U26/$U$68*$AC$2 -> 578231.38 | W26: 649801 | X26: ='הגבלה לסכום מבוקש'!U54 -> 570578.73 | Y26: מומלץ לתמיכה ע"פ סעיפים 4(1)א,ב ו - 9 (הוראת שעה 2024) למבחני התמיכה. להלן התייחסות הוועדה המייעצת: מכון טהרות בעיון הינו מכון הדגל בכל הקשור לסדר 'טהרות' של ששה סדרי המשנה והנחלת תורת הטהרה והטומאה בעמ"י. סדר משניות זה טרם נחקר עד היום באופן הולם. במסגרת זו, פועל המכון באפיקים הבאים: א. באמצעות סדרת 'משניות טהרות' + סדרת 'אוצרות דעת פתחי דעת', הכוללים: א. ההדרת המשניות עצמן ב. ההדרת חיבורי פרשני המשניות: הרמב"ם והר"ש ג. ריכוז כל מובאות חז"ל הדנים במרחבי התלמוד על סדר טהרות ד. יצירת חיבור חדש - שיטה מקובצת ה. עיטור כתבי יד של פירושים על סדר טהרות. ב. באמצעות סדרת 'אורחות דעת - הטומאה והטהרה בחיי המעשה': חיבור הלכתי על הלכות טומאה וטהרה, תוך בירור ההלכה לאור המציאות העכשווית. לאור כל האמור לעיל: במשתנים 'איכות הפעילות' ו'חשיבות הפעילות' קיבל המכון את הניקוד המירבי בכל אחד מן המשתנים. במשתנה 'היקף המחקר' ניתן למכון הניקוד המירבי, בשל היקף העבודה הרב המתבצע במכון, בשים לב לחשיבותם הרבה של המחקרים; במשתנה 'מס' הפרסומים' ניתן למכון הניקוד המירבי, בשים לב לפרסום בעל ההיקף הגדול והחשיבות הרבה שיצא לאור בשנת ההערכה. עזרי מחקר שנוקדו: מבנה ייעודי, כתב העת 'אהלי טהרות' (מאגר כתבי יד לא נוקד, בהעדר פרטים חשובים).
A27: מועד | C27: 25 | D27: 2024 | E27: 580041101 | F27: 40303383 | G27: ישיבת בית מאיר ע"ש מרן הגאון ר מאיר | H27: 1001794444 | I27: מכון מחקר תורני | J27: 380000 | K27: 10 | L27: 8 | M27: 10 | N27: 8 | P27: 10 | R27: 0 | U27: =SUM(K27:T27) -> 46 | V27: =U27/$U$68*$AC$2 -> 324373.7 | W27: 380000 | X27: ='הגבלה לסכום מבוקש'!U55 -> 320080.75 | Y27: מומלץ לתמיכה ע"פ סעיפים 4(1)א,ב ו - 9 (הוראת שעה 2024) למבחני התמיכה. להלן התייחסות הוועדה המייעצת: המכון עוסק בעיקר במחקר פרשני על בסיס משנתו המוסרית של ראש ישיבת בית מאיר, רבי זלמן רוטברג זצ"ל וממשיכי דרכו - כהמשך לדרכם של בעלי תורת המוסר רבי ישראל מסלנט ורבי ירוחם ממיר זצ"ל. כן עוסק המכון בהמשך נתיבי הלימוד התורני של רבי שמעון שקופ מגרודנא זצ"ל, ובאלה רואה הוועדה המייעצת חשיבות לאומית. בנוסף, המכון עוסק גם בפרשנות על הנ"ך, ע"פ דרך תורת המוסר, שאינה שכיחה בעולם הישיבות, ולפיכך בעלת חשיבות לאומית. קהל היעד של עבודת מחקר זו הינו תלמידי וחוקרי תנועת המוסר לדורותיה, ובשנים האחרונות אף התרחב לקהלים נוספים על אלה שהיו בעבר, אשר נחשפים כיום להגותו. משתנה 'איכות המחקרים' נוקד בשים לב לרמת המחקר המקצועית הטובה; ניקוד משתנה 'חשיבות המחקרים' ע"פ קטגורית 'חשיבות נאותה'. ניקוד משתנה 'היקף המחקר' הולם את עבודת המחקר במכון, בשים לב לחשיבות המחקרים; משתנה 'מס' הפרסומים' נוקד בשים לב לשני הפרסומים שיצאו לאור בשנת הההערכה. הועדה המייעצת מבקשת לציין, כי בכוונתה לשקול בעתיד באופן רוחבי את נושא התמיכה בשיעורים עיוניים של ראשי ישיבות על מסכתות הש"ס; לפיכך, על מכוני המחקר התורניים העוסקים בכך להיערך בהתאם. עזרי מחקר שנוקדו: מבנה ייעודי, ספריה, מאגר כתבי יד, שני מאגרי ענק של הקלטות ושיעורים. מהדורות אלקטרוניות (בנוסף למודפסות) המופצות חינם: לא נוקדו, בהעדר כאלה בשנת ההערכה.
A28: מועד | C28: 26 | D28: 2024 | E28: 580213973 | F28: 40394900 | G28: ישיבת הר ברכה (ע"ר) | H28: 1001793654 | I28: שוטף מכון הר ברכה 2024 | J28: 1000000 | K28: 12 | L28: 12 | M28: 19 | N28: 0 | P28: 4 | R28: 0 | U28: =SUM(K28:T28) -> 47 | V28: =U28/$U$68*$AC$2 -> 331425.3 | W28: 397101 | X28: ='הגבלה לסכום מבוקש'!U56 -> 327039.03 | Y28: מומלץ לתמיכה ע"פ סעיפים 4(1)א ו - 9 (הוראת שעה 2024) למבחני התמיכה. להלן התייחסות הוועדה המייעצת: המכון עוסק בעיקר בחקר ספרות ההלכה באופן ידידותי ונגיש, בהיר ומסודר תוך תוספת ביאור מחקר עדכני לצורך חיי היומיום. בספרי המכון מפורטות השלתלשלות מקורות ההלכה ממקורותיה ועד ימינו אלה, וכן מפורטים ההסברים השונים לכל הלכה והלכה באופן מאיר עיניים, לרבות התייחסות לנושאים אקטואליים. משתנה 'איכות המחקרים' נוקד בשים לב לרמת המחקר המקצועית הטובה; משתנה 'חשיבות המחקרים' ע"פ קטגורית 'חשיבות רבה'. ניקוד משתנה 'היקף המחקר' נוקד בניקוד המירבי, בהיותו הולם את עבודת המחקר הגדולה שנערכה במכון; משתנה 'מס' הפרסומים שיצאו לאור' לא נוקד, בשל העדר פרסומים כאמור בשנת ההערכה (קלנדרית 2022). עזרי מחקר שנוקדו: מבנה ייעודי, ספריה תורנית. מהדורות אלקטרוניות (בנוסף למודפסות) המופצות חינם: לא נוקדו, בהעדר פרסומים שיצאו לאור בשנת ההערכה.
A29: מועד | C29: 27 | D29: 2024 | E29: 580151728 | F29: 40216037 | G29: כולל דעת תורה - ומכון להוצאת ספרים, | H29: 1001792790 | I29: תמיכה שוטפת 2024 מכון דעת תורה | J29: 290000 | K29: 6 | L29: 6 | M29: 9 | N29: 6 | P29: 4 | R29: 0 | U29: =SUM(K29:T29) -> 31 | V29: =U29/$U$68*$AC$2 -> 218599.67 | W29: 238260 | X29: ='הגבלה לסכום מבוקש'!U57 -> 215706.59 | Y29: מומלץ לתמיכה ע"פ סעיפים 4(1)א,ב ו - (הוראת שעה 2024) למבחני התמיכה. להלן התייחסות הוועדה המייעצת: המכון עוסק בעבודת מחקר בעלת חשיבות לאומית על כתביו של אחד מחשובי הפוסקים בדורות האחרונים - המהרש"ם מברזן זצ"ל. משתנה 'איכות המחקרים' נוקד בשים לב לעבודה המחקרית המקצועית והראויה; משתנה 'חשיבות המחקרים' ע"פ בקטגורית 'חשיבות נאותה'. ניקוד משתנה 'היקף המחקר' הולם את עבודת המחקר המתבצעת במכון, בהתאם לחשיבותה; משתנה 'מס' הפרסומים' נוקד בשים לב להיקפו של הפרסום שיצא לאור בשנת ההערכה. עזרי מחקר שנוקדו: מבנה ייעודי ומאגר כתבי יד. מהדורות אלקטרוניות (בנוסף למודפסות) המופצות חינם: לא נוקדו, בהעדר כאלה בשנת ההערכה.
A30: מועד | C30: 28 | D30: 2024 | E30: 580228625 | F30: 40216046 | G30: כת"ר - מכון לכלכלה ע"פ התורה (ע"ר) | H30: 1001795342 | I30: תמיכה שוטפת בפעילות המכון | J30: 240000 | K30: 12 | L30: 10 | M30: 15 | N30: 7 | P30: 0 | R30: 0 | U30: =SUM(K30:T30) -> 44 | V30: =U30/$U$68*$AC$2 -> 310270.49 | W30: 209380 | X30: ='הגבלה לסכום מבוקש'!U58 -> 240000 | Y30: מומלץ לתמיכה ע"פ סעיפים 4(1)א ו - 9 (הוראת שעה 2024) למבחני התמיכה. להלן התייחסות הוועדה המייעצת: מכון ייחודי העוסק בנושאי יסוד בכלכלה הישראלית ובעיות תקציב - באופן תורני מובהק וראוי, וכן במחקרים בעלי השלכה יישומית במישור הכלכלה הציבורית. משתנה 'איכות המחקרים' נוקד בשים לרמת המחקר הטובה בנושאים הנדונים; משתנה 'חשיבות המחקרים' נוקד ע"פ קטגורית 'חשיבות רבה', לאור חשיבות נושאי המחקר. ניקוד משתנה 'היקף המחקר' הולם את עבודת המחקר שנערכה במכון, בשים לב להתפתחותה; משתנה 'מס' הפרסומים'' נוקד בשים לב להיקף הפרסום החשוב שיצא לאור בשנת ההערכה. מהדורות אלקטרוניות (בנוסף למודפסות) המופצות חינם: לא נוקדו, בהעדר כאלה בשנת ההערכה.
A31: טיוט | B31: חדש | C31: 29 | D31: 2024 | E31: 580575108 | F31: 42821770 | G31: לימוד והפצת הרמב"ם המבואר (ע"ר) | H31: 1001796650 | I31: מכוני מחקר 2024 | J31: 600000 | K31: 6 | L31: 6 | M31: 5 | N31: 10 | P31: 0 | R31: 0 | U31: =SUM(K31:T31) -> 27 | V31: =U31/$U$68*$AC$2 -> 190393.26 | W31: 0 | X31: ='הגבלה לסכום מבוקש'!U59 -> 187873.48 | Y31: מומלץ לתמיכה ע"פ סעיפים 4(1)א ו 9 (הוראת שעה 2024) למבחני התמיכה. הלן התייחסות הועדה המייעצת: המכון מבצע עבודת הנגשת הרמב"ם לציבור הרחב באמצעות ביאור בהיר, מעובד ומתומצת מתוך עשרות מפרשי הרמב"ם, שהינו מחקר תורני בעל חשיבות לאומית. שני הפרסומים שהוכרו לצורך מעבר תנאי סף 4(5): הרמב"ם המבואר נזיקין ב' (יצא לאור ב 12/22); הרמב"ם המבואר טהרה ג' (יצא לאור ב 5/22). ניקוד משתנה 'איכות המחקרים' ניתן בשים לב לרמת המחקר, הכוללת בעיקר ביאור, תמצות והנגשה של הרמב"ם וחלק ניכר ממפרשיו, אך לא חקר מעמיק הדורש עיבוד מחודש של החומר; ניקוד משתנה 'חשיבות המחקרים' ניתן לפי קטגורית 'חשיבות נאותה', בשים לב לחשיבות הנגשת ספרי הרמב"ם לציבור, ובהתחשב בעובדה שישנם מכוני מחקר נוספים העובדים על הנגשת דברי הרמב"ם. ניקוד משתנה 'היקף המחקר' הולם את עבודת המחקר במכון, בשים לב למספרם. ניקוד משתנה 'מספר הפרסומים' נוקד בהתאם למספר הפרסומים שיצאו לאור בשנת ההערכה, בשים לב להיקפם ולחשיבותם. מהדורות אלקטרוניות (בנוסף למודפסות) המופצות חינם: לא נוקדו, בהעדר כאלה בשנת ההערכה. הערה: גוף זה לא נתמך בשנים 2022 ו 2023 ע"י המחלקה למחקר תורני, ולפיכך נבחן כ'גוף חדש' ע"פ הוראת השעה לשנת 2024.
A32: מועד | C32: 30 | D32: 2024 | E32: 580314847 | F32: 40016969 | G32: לפיד - אפיקי דעת, שדרות (ע"ר) | H32: 1001792817 | I32: מכון מחקר תורני 2024 | J32: 250000 | K32: 10 | L32: 8 | M32: 12 | N32: 5 | P32: 4 | R32: 0 | U32: =SUM(K32:T32) -> 39 | V32: =U32/$U$68*$AC$2 -> 275012.48 | W32: 250000 | X32: ='הגבלה לסכום מבוקש'!U60 -> 250000 | Y32: מומלץ לתמיכה ע"פ סעיפים 4(1)א ו - 9 (הוראת שעה 2024) למבחני התמיכה. להלן התייחסות הוועדה המייעצת: מכון העוסק בכתביו העמוקים של הרב קוק זצ"ל, באמצעות ביאור בהיר הפונה לציבור רחב. משתנה 'איכות המחקרים' נוקד בשים לב לרמת המחקר הטובה; משתנה 'חשיבות המחקרים' נוקד ע"פ קטגורית 'חשיבות נאותה'. ניקוד משתנה 'היקף המחקר' הולם את הגידול בעבודת המחקר שנערכה במכון; משתנה 'מס' הפרסומים' נוקד בהתאם לחשיבות הפרסום שיצא לאור בשנת ההערכה. עזרי מחקר שנוקדו: מבנה ייעודי ומאגר כתבי יד. מהדורות אלקטרוניות (בנוסף למודפסות) המופצות חינם: לא נוקדו, בהעדר כאלה בשנת ההערכה. הערה: ככל שסדרת 'אורות הקודש בחמשה כרכים' תיתמך באמצעות מפעל יהדות שע"י מרכז הספר והספריות, לא ניתן יהיה להגיש מחקרים אלה במסגרת בקשת התמיכה למחלקה למחקר תורני.
A33: טיוט | B33: חדש | C33: 31 | D33: 2024 | E33: 580413524 | F33: 40350641 | G33: מוסדות חכמת שלמה ע"ש הרה"צ רבי שלמה | H33: 1001792296 | I33: תמיכה במכון חכמי ספרד | J33: 250000 | U33: =SUM(K33:T33) -> 0 | V33: =U33/$U$68*$AC$2 -> 0 | W33: 0 | X33: ='הגבלה לסכום מבוקש'!U61 -> 0 | Y33: אינו מומלץ לתמיכה ע"פ סעיפים 4(5), (7)(א) ו- 4(11) למבחני התמיכה. 1) המכון לא ציין בבקשתו לתמיכה את מספר שעות העבודה השבועיות של החוקרים, ולפיכך אינו עומד בתנאי הסף של 7 חוקרים העובדים 4 ש"ש לפחות (לא ניתן לדעת את היקף שעות העבודה של החוקרים). 2) המוסד אינו עומד גם בסעיף 4(5) למבחני התמיכה: למכון אין שני פרסומים בין השנים 2019 עד 2023 (כולל) שהוכרו ע"י הועדה המייעצת כבעלי חשיבות לאומית (גם כשמרחיבים את תקופת הבדיקה, על מנת שזו תכלול את חודשים אוקטובר עד דצמבר 2023, ע"פ סעיף 9(א)(2) למבחני התמיכה): במכון מתבצעת פעילות אודות תולדות חייהם של חכמי ספרד, אשר הינה מחקר הסטורי אודות תולדות חכמי ישראל ואורחות חייהם, שאינו מוכר כמחקר תורני בעל חשיבות לאומית ע"פ מבחני התמיכה. 3) גם לו היו מוכרים כל מחקרי המכון כבעלי חשיבות לאומית ופרטי החוקרים היו מלאים, הוא לא היה עומד בתנאי הסף הדורש 7 חוקרים שעבדו באחת משתי שנות ההערכה האפשריות ע"פ מבחני התמיכה והוראת השעה 2024 (סעיפים 2 (הגדרת 'שנת ההערכה') ו - 9((א)(3) למבחני התמיכה), כיון שע"פ השאלונים הנלווים שהגיש למחלקה המקצועית עולה כי רק 5 חוקרים עבדו על הפרסומים והמחקרים השונים (בוכריס אליעזר, כהן טל, מלכיאלי יוסף, נזרי יהודה, פרץ משה). 4) המוסד אינו עומד בתנאי הסף 4(4) הדורש כי בין מטרות המוסד יהיה לעסוק בתחומי המחקר התורני. בתעודה לרישום עמותה ובאתר גיידסטאר נכתב כי מטרותיה הן: "לייסד בתי כנסת, מקוה טהרה, ישיבה גדולה, ישיבה קטנה, כולל אברכים, תלמוד תורה, גני ילדים, קרנות לגמילות חסדים לעזרה למשפחות נזקקות, קמחא דפסחא. לייסד מרכזי חינוך ותרבות תורנית". לאור האמור לעיל, המוסד אינו מומלץ לתמיכה לשנת 2024. הערה: גוף זה לא נתמך בשנים 2022 ו 2023 ע"י המחלקה למחקר תורני, ולפיכך נבחן כ'גוף חדש' ע"פ הוראת השעה לשנת 2024.
A34: טיוט | C34: 32 | D34: 2024 | E34: 580008589 | F34: 40015160 | G34: מוסדות ישיבת כסא רחמים ספרדית (ע"ר) | H34: 1001794391 | I34: ,תמיכה במכון הרב מצליח- כסא רחמים - 2024 | J34: 500000 | K34: 12 | L34: 12 | M34: 16 | N34: 5 | P34: 10 | R34: 0 | U34: =SUM(K34:T34) -> 55 | V34: =U34/$U$68*$AC$2 -> 387838.12 | W34: 454861 | X34: ='הגבלה לסכום מבוקש'!U62 -> 382705.25 | Y34: מומלץ לתמיכה ע"פ סעיפים 4(1)א,ב ו 9 (הוראת שעה 2024) למבחני התמיכה. להלן התייחסות הוועדה המייעצת: מכון פורה, השם דגש על מנהגיהם של קהילות המזרח בכלל, וקהילת תוניס בפרט, ושהעניין במחקריו הוא בעל חשיבות רבה. משתנה 'איכות המחקרים' נוקד בשים לב לרמת המחקר הטובה; משתנה נוקד בקטגורית 'חשיבות רבה''. ניקוד משתנה 'היקף המחקר' הולם את עבודת המחקר העניפה שנערכה במכון; משתנה 'מס' הפרסומים' נוקד בהתאם לשני הפרסומים שיצאו לאור בשנת ההערכה, בשים לב לכך שאחד מהם הינו מהדורה נוספת בחלקו (ע"פ עמוד השער של הפרסום 'הוראה ברורה הלכות מליחה' שצורף לדיווחי המכון - נראה כי מדובר במהדורה נוספת בחלקה לפרסומים שיצאו כבר לאור בשנים תשע"ה ותשע"ח). עזרי מחקר שנוקדו: מבנה ייעודי, ספריה, מאגר כתבי יד, שני כתבי עת: 'ויען שמואל' ו'משה אלעזר'. מהדורות אלקטרוניות (בנוסף למודפסות) המופצות חינם: לא נוקדו, בהעדר כאלה בשנת ההערכה. | Z34: המוסד הגיש ערעור על החלטת ועדת התמיכות, אשר הובאה לדיון בפני הועדה המייעצת. בערעורו טוען המוסד כי עליו לקבל ניקוד גבוה יותר בסעיף 'מס' פרסומים שיצאו לאור בשנת ההערכה' בשל העובדה שהפרסום שנוקד כמהדורה נוספת ('הוראה ברורה הלכות מליחה' שיצא כבר לאור בשנים תשע"ה ו - תשע"ח) כלל רק חלק מהספר המקורי, ולנוכח תוספת רבה שיש במהדורה הנוכחית יש להכיר בו כפרסום "רגיל", כפי שנכתב. המוסד נוקד ע"י הועדה המייעצת ב 5 נקודות מתוך 19 במשתנה "מספר הפרסומים של המוסד שפורסמו לציבור בשנת ההערכה" (סעיף 5(ה)(2) למבחן), למעשה בגין הפרסום 'הלכה ברורה אבלות' וכן עבור החלק החדש בפרסום 'הלכה ברורה מליחה'. הועדה המייעצת עיינה במכתב הערעור והחליטה כי אין מקום לשנות את החלטתה הקודמת. הועדה המייעצת הכירה בעבר בספר 'הלכה ברורה מליחה' כבעל חשיבות לאומית, ומטבע הדברים הוא קיבל אז ניקוד לפי סעיף 5(ה)(2). אין כל סיבה להעניק מלוא הניקוד לפי סעיף 5(ה)(2) לספר שכבר יצא לאור ברובו קודם לכן, מה גם שהמוסד לא ציין בבקשת התמיכה המקורית את ההבדלים בין המהדורה הישנה והחדשה. לאור האמור לעיל, ערעור המכון נדחה. עו"ד מאיר (התייחסות לאחר מעשה לחוות דעת הוועדה המייעצת): לשאלותיי, המחלקה המקצועית ערכה כמה בדיקות ונמצא כדלקמן: 1. המחלקה לא הצליחה למצוא באתר הספרייה הלאומית את הפרסום "הוראה ברורה הלכות מליחה" במהדורה החדשה שלה. מספר המערכת של הפרסום החדש, שמופיע בשאלון 2 לבקשת התמיכה, מפנה לפרסום הישן משנת תשע"ח (2018). 2. לא ברור מה היה היקף החלק שנוסף למהדורה הראשונה, כי בשאלון מס' 2 לבקשת התמיכה המוסד רשם שמדובר ב"פרסום ראשוני" ולא צוינו ההבדלים בין המהדורה הישנה והחדשה, למרות שמדובר בפרסום שהוגש למחלקה במסגרת בקשת תמיכה קודמת והוכר בעבר כבעל חשיבות לאומית. 3. ע"פ שני קבצי תוכן העניינים שצורף להשגה, נראה כי: א. המהדורה המקורית של הפרסום "הוראה ברורה הלכות מליחה" (משנת תשע"ח – 2018) כוללת כ-152 עמודים; ב. המהדורה החדשה משנת 2022 כוללת כ-310 עמודים ואילו בשאלון לשנת 2024 המוסד הצהיר שהמהדורה החדשה הינה בת 600 עמודים. 4. יש בדברים הנ"ל כדי לעורר תהייה מסוימת. לא מן הנמנע שאילו הוועדה המייעצת הייתה ממליצה להגדיל את הניקוד במשתנה 5(ה)(2) הייתי סובר שיש מקום לבחון אם לא מדובר במקרה של "דיווח לא נכון" כהגדרתו בנוהל לתמיכות מתקציב המדינה במוסדות ציבור, על התוצאות האפשריות שיש בכך, אך הגעתי למסקנה שאין תועלת מעשית לעשות כן בהינתן שהוועדה המליצה לא לקבל את ערעור המוסד.
A35: טיוט | B35: חדש | C35: 33 | D35: 2024 | E35: 580665552 | F35: 42821131 | G35: מורשת "אור החיים" הקדוש (ע"ר) | H35: 1001796944 | I35: מכוני מחקר 2024 | J35: 500000 | U35: =SUM(K35:T35) -> 0 | V35: =U35/$U$68*$AC$2 -> 0 | W35: 0 | X35: ='הגבלה לסכום מבוקש'!U63 -> 0 | Y35: אינו מומלץ לתמיכה ע"פ קריטריון 4(7) למבחני התמיכה. להלן התייחסות הועדה המייעצת: למכון אין שבעה חוקרים שעבדו באחת משתי שנות ההערכה האפשריות ע"פ מבחני התמיכה והוראת השעה 2024 (סעיפים 2 (הגדרת 'שנת ההערכה') ו - 9((א)(3) למבחני התמיכה) על מחקרים ופרסומים שהוכרו ע"י הועדה המייעצת כבעלי חשיבות לאומית, בהתאם לפירוט הבא: הפרסומים הבאים הוכרו כבעלי חשיבות לאומית לצורך מעבר תנאי סף 4(5): פרי תואר תערובות (יצא לאור ב 7/22) ופרי תואר בשר וחלב (יצא לאור ב 6/21). חיבורים אלה כוללים ביאור מקיף ומעמיק שיש בו מחקר תורני בעל חשיבות לאומית. הפרסומים והמחקרים הבאים, שהתבצעו בשנות ההערכה, הוכרו כבעלי חשיבות לאומית לצורך בדיקת עמידת המוסד בתנאי סף של 7 חוקרים: ראשון לציון פסקים שו"ע; פרי תואר מאכלי עכו"ם; כתבי האור החיים הקדוש ותלמידיו, פרי תואר שחיטה וטריפות. המחקרים והפרסומים הבאים, שהתבצעו בשנות ההערכה, לא הוכרו כבעלי חשיבות לאומית לצורך מעבר תנאי סף של 7 חוקרים: (א) סדרת ראשון לציון (למעט 'ראשון לציון פסקים שולחן ערוך'): הינה מהדורות חדשות של פרסומים שיצאו כבר לאור בעבר ע"י המכון, ללא תוספות משמעותיות המהוות מחקר תורני בעל חשיבות לאומית. (ב) סדרת חפץ ה': הינה סדרה של מחקרים שכמותם יש נוספים, אשר אין בהם תוספות משמעותיות, דוגמת ביאור מקיף ועמוק, המהוות מחקר תורני בעל חשיבות לאומית. (ג) ספרי 'נר המערבי': הינם ספרי תולדות חיים אודות בעל ה'אור החיים' הקדוש, ואורחות חייו, שאינם מהווים מחקר תורני בעל חשיבות לאומית. (ד) שערי אור החיים: מדובר במהדורה חדשה של ספר שכמותו יצאו לאור רבים, ושאין בו תוספות משמעותיות בעלות חשיבות לאומית. (ה) אור החיים עם ביאורי החסידות (על ספרי בראשית ודברים): מדובר בביאור שנכתב בסגנון דרשות סביב ספר אור החיים, שאינו מהווה מחקר תורני מעמיק בעל חשיבות לאומית. (ו) סידור, תהלים וזמירות לשבת: מדובר בחיבורים שימושיים, שאינם מהווים מחקר תורני בעל חשיבות לאומית. לאור האמור לעיל, ע"פ בדיקה שנערכה, עולה כי על הפרסומים והמחקרים שהוכרו כבעלי חשיבות לאומית בשתי שנות ההערכה האפשריות (כאמור מעלה) עבדו רק 5 חוקרים (בוים דוד יהודה לייב, בוים אברהם בנימין מאיר, דויד שמחה עוזיאל שלמה, רבינוביץ אריה מרדכי, שכטר יצחק אייזיק) ולפיכך, המכון אינו עומד בתנאי הסף 4(7), הדורש 7 חוקרים שעבדו על מחקרים ופרסומים בעלי חשיבות לאומית בשנת ההערכה, ואינו מומלץ לתמיכה. | Z35: המוסד הגיש ערעור על החלטת ועדת התמיכות, אשר הובאה לדיון בפני הועדה המייעצת. בערעורו טוען המוסד כי עליו יש להכיר בסדרת 'חפץ ה' כבעלת חשיבות לאומית לצורך מעבר תנאי הסף 4(7) של 7 חוקרים בשנת ההערכה. לטענתו, מדובר בסדרה בעלת חשיבות לאומית ותרומה לכלל הלומדים. הועדה המייעצת עיינה במכתב הערעור והחליטה כי אין מקום לשנות את החלטתה הקודמת. במסמכים שהוגשו עבור ספרי 'חפץ ה'' שבת ושאר מסכתות הש"ס לא ניכרת עבודה משמעותית, כי אם הערות בודדות שחשיבותן אינה מצדיקה הכרה במחקרים אלה כבעלי מחקר תורני מעמיק בעל חשיבות לאומית. עוד יוער, כי טקסט הספר עצמו של בעל האור החיים הקדוש, שחשיבותו אינה מוטלת בספק, יצא כבר לאור בצורה הולמת במסגרות אחרות. לאור האמור לעיל, ערעור המכון נדחה.
A36: מועד | C36: 34 | D36: 2024 | E36: 580268563 | F36: 40127702 | G36: מכון "יחוה דעת" לפרסומים תורניים הל | H36: 1001793515 | I36: תמיכה למכון יחוה דעת להוציא לאור הלכה בר | J36: 600000 | K36: 20 | L36: 20 | M36: 19 | N36: 19 | P36: 4 | R36: 0 | U36: =SUM(K36:T36) -> 82 | V36: =U36/$U$68*$AC$2 -> 578231.38 | W36: 519841 | X36: ='הגבלה לסכום מבוקש'!U64 -> 570578.73 | Y36: מומלץ לתמיכה ע"פ סעיפים 4(1)א,ב ו - 9 (הוראת שעה 2024) למבחני התמיכה. להלן התייחסות הוועדה המייעצת: המכון עוסק במחקר ובהוצאת ספרי 'הלכה ברורה' המהווים מאגד מעמיק של ההלכות לבני עדות ישראל. פעילות חשובה שמתבטאת גם בביקוש הגדול לספרי המכון הן על ידי ציבור הלומדים בפרט והן ע"י הציבור הרחב בכלל. הוועדה המייעצת ערה לחדשנות ולתוספת המשמעותית בכתיבת ראש המכון מרן הראשון לציון הגאון רבי דוד יוסף שליט"א - מעבר למופיע בשו"ת של אביו מרן הגאון רבי עובדיה יוסף זצ"ל. חשיבות מיוחדת רואה הוועדה המייעצת בציונם של אלפי מראי מקומות להלכות הנדונות בסדרה, ולבירורי ההלכה המעמיקים במנהגי הספרדים והאשכנזים כאחד - עד המסקנה הסופית וההחלטית כנדרש. לאור האמור לעיל: במשתנים 'איכות הפעילות' ו'חשיבות הפעילות' קיבל המכון את הניקוד המירבי בכל אחד מן המשתנים. משתני 'היקף המחקר' ו'מספר הפרסומים' קיבלו את הניקוד המירבי כל אחד מהם, בשים לב להיקפם הגדול של המחקרים, חשיבותם והשפעתם הרבות. עזרי מחקר שנוקדו: מבנה ייעודי ומאגר כתבי יד. מהדורות אלקטרוניות (בנוסף למודפסות) המופצות חינם: לא נוקדו, בהעדר כאלה בשנת ההערכה.
A37: מועד | C37: 35 | D37: 2024 | E37: 580284800 | F37: 40216056 | G37: מכון "ראש פינה" בירושלים (ע"ר) | H37: 1001794440 | I37: תקציב שוטף | J37: 500000 | K37: 10 | L37: 8 | M37: 7 | N37: 7 | P37: 0 | R37: 0 | U37: =SUM(K37:T37) -> 32 | V37: =U37/$U$68*$AC$2 -> 225651.27 | W37: 216601 | X37: ='הגבלה לסכום מבוקש'!U65 -> 222664.87 | Y37: מומלץ לתמיכה ע"פ סעיפים 4(1)א,ב ו - 9 (הוראת שעה 2024) למבחני התמיכה. להלן התייחסות הוועדה המייעצת: המכון עוסק בהוצאה לאור של סדרת 'אבן ברורה', המנגישה את חלק 'אבן העזר' של השולחן ערוך לציבור, תוך עבודת מחקר מקצועית וטובה. משתנה 'איכות המחקרים' נוקד בשים לב לרמת המחקר הטובה; משתנה 'חשיבות המחקרים' נוקד ע"פ קטגורית 'חשיבות נאותה'. ניקוד סעיף 'היקף המחקר' הולם את עבודת המחקר אודות המחקר שבשלבי עבודה, הדורש התמודדות עם ספרות תורנית מורכבת; ניקוד 'מספר הפרסומים' בשים לב לעבודה המורכבת אודות הפרסום היחיד שיצא לאור בשנת ההערכה. מהדורות אלקטרוניות (בנוסף למודפסות) המופצות חינם: לא נוקדו, בהעדר כאלה בשנת ההערכה.
A38: מועד | C38: 36 | D38: 2024 | E38: 580111573 | F38: 40216032 | G38: מכון בית אהרן וישראל למחקר כת"י והו | H38: 1001793518 | I38: הפעלת המכון 2024 | J38: 995000 | K38: 15 | L38: 15 | M38: 19 | N38: 19 | P38: 14 | R38: 8 | U38: =SUM(K38:T38) -> 90 | V38: =U38/$U$68*$AC$2 -> 634644.19 | W38: 577601 | X38: ='הגבלה לסכום מבוקש'!U66 -> 626244.95 | Y38: מומלץ לתמיכה ע"פ סעיפים 4(1)א,ב ו - 9 (הוראת שעה 2024) למבחני התמיכה. להלן התייחסות הוועדה המייעצת: המכון מתמחה בהוצאתם לאור ובההדרתם של כתבי יד של רבנים חשובים במאות השנים האחרונות, המונחים בקרן זוית; כתבים שלולא עבודת המכון לא היו נחשפים ומפוענחים כראוי. כמו כן, המכון החל בפרויקט חדש של מפעל תורת הגאונים וחכמי הראשונים. משתנה 'איכות המחקרים' נוקד בשים לב לרמת המחקר המעמיקה והמוקפדת; ניקוד 'חשיבות המחקרים' ע"פ קטגורית 'חשיבות רבה'. משתנה 'היקף המחקר' נוקד בניקוד המירבי, בשל העבודה הרבה והחשובה שנערכת במכון. משתנה 'מס' הפרסומים' נוקד בהתאם לארבעת הפרסומים שיצאו לאור בשנת ההערכה, בשים לב למורכבותם. עזרי מחקר שנוקדו: 3 מבנים ייעודיים, מאגר כתבי יד, כתתב העת 'בית אהרן וישראל', ציוד מיוחד לקריאת כתבי יד; ציוד מיוחד לפירוק כריכות. מהדורות אלקטרוניות (בנוסף למודפסות) המופצות חינם: גנוזות הרמב"ם ובית מדרשו; פירוש תלמידי הרא"ש על התורה; ספר מקל יעקב; שו"ת רבי שלמה ברוך זלה"ה.
A39: מועד | C39: 37 | D39: 2024 | E39: 580010536 | F39: 40293106 | G39: מכון הכתב (ע"ר) | H39: 1001794786 | I39: תמיכה ב"מכון הכתב" מכון למחקר תורני | J39: 700000 | K39: 12 | L39: 15 | M39: 15 | N39: 12 | P39: 6 | R39: 0 | U39: =SUM(K39:T39) -> 60 | V39: =U39/$U$68*$AC$2 -> 423096.13 | W39: 433200 | X39: ='הגבלה לסכום מבוקש'!U67 -> 417496.63 | Y39: מומלץ לתמיכה ע"פ סעיפים 4(1)א,ב ו 9 (הוראת שעה 2024) למבחני התמיכה. להלן התייחסות הוועדה המייעצת: המכון עוסק שנים רבות בחקר תורתם של ראשונים מגדולי חכמי ספרד, ובפרט תורת חכמי ארם צובא; בההדרתם ובהוצאתם לאור. משתנה 'איכות המחקרים' נוקד בשים לב לרמת המחקר המקצועית; משתנה 'חשיבות המחקרים' נוקד ע"פ קטגורית 'חשיבות רבה'. ניקוד משתנה 'היקף המחקר' הולם את היקף עבודת המחקר הרבה שהתבצעה במכון; משתנה 'מס' הפרסומים' נוקד בהתאם לפרסום שיצא לאור, בשים לב לחשיבותו. עזרי מחקר שנוקדו: מבנה ייעודי, ספריה תורנית ומאגר כתבי יד. מהדורות אלקטרוניות (בנוסף למודפסות) המופצות חינם: לא נוקדו, בהעדר כאלה בשנת ההערכה.
A40: מועד | C40: 38 | D40: 2024 | E40: 580010015 | F40: 40215993 | G40: מכון הלכה ברורה וברור הלכה (ע"ר) | H40: 1001792772 | I40: מחקר להוצאה חדשה של התלמוד הבבלי | J40: 750000 | K40: 20 | L40: 20 | M40: 19 | N40: 0 | P40: 6 | R40: 0 | U40: =SUM(K40:T40) -> 65 | V40: =U40/$U$68*$AC$2 -> 458354.14 | W40: 657021 | X40: ='הגבלה לסכום מבוקש'!U68 -> 533783.14 | Y40: מומלץ לתמיכה ע"פ סעיפים 4(1)א,ב ו - 9 (הוראת שעה 2024) למבחני התמיכה. להלן התייחסות הוועדה המייעצת: מכון בעל חשיבות לאומית, העוסק בהוצאת התלמוד ברוח תוכניתו של הראי"ה קוק זצ"ל וחזונו, ע"פ כתבי ידו, תוך הדגשה על שיטת הלימוד המקשרת בין ההלכה לסוגיית התלמוד וחשיבותה. לאור האמור לעיל: במשתנים 'איכות הפעילות' ו'חשיבות הפעילות' קיבל המכון את הניקוד המירבי בכל אחד מן המשתנים. משתנה 'היקף המחקר' נוקד בניקוד המירבי, בשל היקף הפעילות הגדול המתבצע במכון, ובשים לב לחשיבות הרבה של המחקרים; משתנה 'מספר הפרסומים' לא נוקד, בהעדר פרסום שיצא לאור בשנת ההערכה (שנה קלנדרית 2022). עזרי מחקר שנוקדו: מבנה ייעודי, מאגר ממוחשב ייחודי ומפתח לפירושים על משנה תורה, שפותחו ע"י המכון. מהדורות אלקטרוניות (בנוסף למודפסות) המופצות חינם: לא נוקדו, בהעדר פרסומים שיצאו לאור בשנת ההערכה. | Z40: המוסד הגיש ערעור על החלטת ועדת התמיכות, אשר הובאה לדיון בפני הועדה המייעצת. בערעורו טוען המוסד כי עליו לקבל ניקוד בסעיף 'מס' פרסומים שיצאו לאור בשנת ההערכה', למרות שלא הוציא לאור פרסומים בשנה זו, בשל העובדה שהוא מוציא פרסומים בהיקף גדול, שהם חלק מסדרה. הועדה המייעצת עיינה במכתב הערעור והחליטה כי אין מקום לשנות את החלטתה הקודמת. לא ניתן לנקד משתנה כמותי זה כאשר לא יצאו לאור פרסומים בתקופה הנדונה. ההחלטה אודות חלוקת הספרים לכרכים ומועדי הוצאתם לאור הינה של המכון, וככל שהוא בחר להוציא לאור היקף עבודה של שני כרכים בכרך אחד ובמועד מסוים, הרי שלא ניתן לנקד אותו כשני פרסומים שיצאו לאור. אזכור המוסד בדבר תנאי הסף סעיף 4(5) למבחני התמיכה "המוסד הוציא לאור או פיתח בשנת ההערכה או בשנתיים שקדמו לה" אינו רלוונטי לניקוד משתנה תמיכה זה של מס' פרסומים שיצאו לאור בשנת ההערכה לפי סעיף 5(ה)(2) למבחן. לאור האמור לעיל, ערעור המכון נדחה. עו"ד מאיר (התייחסות לאחר מעשה לחוות דעת הוועדה המייעצת): נושא סעיף 5(ה)(2) למבחן הוא "מספר הפרסומים של המוסד שפורסמו לציבור בשנת ההערכה,...". אכן, הוועדה המייעצת יישמה כראוי את המשתנה. לא ניתן לתת ניקוד לפי סעיף 5(ה)(2) אם המוסד לא הוציא לאור פרסומים בשנת ההערכה. זאת, גם אם ניתן היה כעיקרון לפצל פרסום, שיצא לאור לפני שנת ההערכה, לשני פרסומים. (האמירה היא היפותטית כמובן. איני מביע כל דעה אם בפועל זהו המצב אם לאו).
A41: טיוט | B41: חדש | C41: 39 | D41: 2024 | E41: 580641397 | F41: 42201057 | G41: מכון הלכה חב"ד (ע"ר) | H41: 1001792261 | I41: מכון הלכה חב"ד | J41: 600000 | U41: =SUM(K41:T41) -> 0 | V41: =U41/$U$68*$AC$2 -> 0 | W41: 0 | X41: ='הגבלה לסכום מבוקש'!U69 -> 0 | Y41: אינו מומלץ לתמיכה ע"פ סעיפים 4(5) ו 9 (הוראת שעה 2024) למבחני התמיכה. להלן התייחסות הועדה המייעצת: למכון אין שני פרסומים במהלך השנים 2019 עד 2023 (כולל), שהוכרו ע"י הועדה המייעצת כבעלי חשיבות לאומית (גם כשמרחיבים את תקופת הבדיקה, על מנת שזו תכלול את חודשים אוקטובר עד דצמבר 2023, ע"פ סעיף 9(א)(2) למבחני התמיכה), בהתאם לפירוט הבא: (א) סדרת הספרים 'הלכה למעשה' הינה חיבורים שהם מדריכים הלכתיים תמציתיים שאינם מוסברים ומנומקים בהיקף משמעותי ומעמיק דיו - ולפיכך אינם מהווים מחקר תורני בעל חשיבות לאומית. (ב) הפרסום 'המבדיל בין ישראל לעמים': לא צורפו לבקשת התמיכה דפים מתוך הספר, על מנת שניתן יהיה להעריכו. לאור האמור לעיל, המכון אינו עומד בתנאי הסף הדורש שני פרסומים בעלי חשיבות לאומית, ולפיכך אינו מומלץ לתמיכה. הערה: גוף זה לא נתמך בשנים 2022 ו 2023 ע"י המחלקה למחקר תורני, ולפיכך נבחן כ'גוף חדש' ע"פ הוראת השעה לשנת 2024. | Z41: המוסד הגיש ערעור על החלטת ועדת התמיכות, אשר הובאה לדיון בפני הועדה המייעצת. המוסד מערער אודות אי הכרה כבעלת חשיבות לאומית בסדרת 'הלכה למעשה', אשר לטענתו מהווה מחקר מקיף, הכוללת הקדמות ומקורות, והיא בעלת חשיבות רבה לכל שליחי חב"ד בעולם ומהווה תמצית לתשובות רבות שניתנו לאלפי שאלות. הועדה המייעצת עיינה במכתב הערעור שהוגש לפניה והחליטה כי אין מקום לשנות את המלצתה הקודמת, והיא שבה וחזרת על קביעתה שהתוצר הסופי מהווה מדריך קצר ותמציתי בנושאים הלכתיים מוכרים וידועים, שהוא סוג חיבור שאינו נמנה על המחקרים בעלי חשיבות לאומית. לאור האמור לעיל, ערעור המכון נדחה.
A42: מועד | C42: 40 | D42: 2024 | E42: 580088706 | F42: 40215998 | G42: מכון הרב פראנק (ע"ר) | H42: 1001793918 | I42: תמיכה במחקרי המכון | J42: 380000 | K42: 10 | L42: 8 | M42: 15 | N42: 7 | P42: 8 | R42: 0 | U42: =SUM(K42:T42) -> 48 | V42: =U42/$U$68*$AC$2 -> 338476.9 | W42: 380000 | X42: ='הגבלה לסכום מבוקש'!U70 -> 333997.31 | Y42: מומלץ לתמיכה ע"פ סעיפים 4(1)א,ב ו - 9 (הוראת שעה 2024) למבחני התמיכה. להלן התייחסות הוועדה המייעצת: המכון עוסק בהוצאה לאור של כתבי הרב צבי פסח פראנק זצ"ל - אישיות רבנית שהשפעתה ההלכתית חוצה מגזרים, ואשר גדולי הדור האחרון קראו להרחבת המחקר וההוצאה לאור של כתביה. משתנה 'איכות המחקרים' נוקד בשים לב לרמת המחקר הטובה; משתנה 'חשיבות המחקרים' נוקד ע"פ קטגורית 'חשיבות נאותה'. משתנה 'היקף המחקר' נוקד בשים לב להיקף העבודה המשמעותי והחשוב שנערך במכון. משתנה 'מס' הפרסומים' נוקד בהתאם לפרסום שיצא לאור בשנת ההערכה, בשים לב לחשיבותו. עזרי מחקר שנוקדו: 2 מבנים, ספריה תורנית ומאגר כתבי יד. מהדורות אלקטרוניות (בנוסף למודפסות) המופצות חינם: לא נוקדו, בהעדר כאלה בשנת ההערכה.
A43: מועד | C43: 41 | D43: 2024 | E43: 580020022 | F43: 40216015 | G43: מכון הרי פישל לדרישת התלמוד ומשפט ה | H43: 1001794516 | I43: תמיכה במכון מחקר תורני בעל חשיבות לאומית | J43: 400000 | K43: 10 | L43: 8 | M43: 10 | N43: 8 | P43: 6 | R43: 2 | U43: =SUM(K43:T43) -> 44 | V43: =U43/$U$68*$AC$2 -> 310270.49 | W43: 324900 | X43: ='הגבלה לסכום מבוקש'!U71 -> 306164.2 | Y43: מומלץ לתמיכה ע"פ סעיפים 4(1)א ו - 9 (הוראת שעה 2024) למבחני התמיכה. להלן התייחסות הוועדה המייעצת: המכון עוסק במגוון תחומי היצירה התורנית העוסקים בתחוקה, משפט עברי וההדרת ספרי ראשונים בעלי חשיבות לאומית. משתנה 'איכות המחקרים' נוקד בשים לב לרמת המחקר הטובה; משתנה 'חשיבות המחקרים' נוקד ע"פ קטגורית 'חשיבות נאותה'. משתנה 'היקף המחקר' נוקד בשים לב להיקף העבודה החשובה המתבצעת במכון; משתנה 'מס' הפרסומים' נוקד בהתאם לפרסום שיצא לאור בשנת ההערכה, בשים לב לעובדה שהינו מהדורה מחודשת (בעלת תוספות משמעותיות) על בסיס פרסום ישן. עזרי מחקר שנוקדו: 2 מבנים וספריה תורנית. מהדורות אלקטרוניות (בנוסף למודפסות) המופצות חינם: ראבי"ה מהדורה חדשה ומתוקנת א'.
A44: מועד | C44: 42 | D44: 2024 | E44: 580185544 | F44: 40216001 | G44: מכון התלמוד הישראלי השלם ע"ש הרב הר | H44: 1001793583 | I44: תמיכה שוטפת לשנת 2024 | J44: 600000 | K44: 20 | L44: 20 | M44: 16 | N44: 16 | P44: 14 | R44: 0 | U44: =SUM(K44:T44) -> 86 | V44: =U44/$U$68*$AC$2 -> 606437.79 | W44: 534281 | X44: ='הגבלה לסכום מבוקש'!U72 -> 598411.84 | Y44: מומלץ לתמיכה ע"פ סעיפים 4(1)א,ב ו - 9 (הוראת שעה 2024) למבחני התמיכה. להלן התייחסות הוועדה המייעצת: מכון ותיק ובעל חשיבות לאומית, שעוסק במקצוע החשוב של חילופי גרסאות בש"ס ברמה גבוהה מאד, וכן בההדרתם של ספרי חכמי ה'ראשונים' המרכזיים לעולם התורה. הוועדה המייעצת חוזרת ומדגישה, כי עיקר חשיבות המכון בעיניה הוא העיסוק בחילופי הגרסאות בש"ס תלמוד בבלי, במסגרת סדרת 'דקדוקי סופרים', אשר משמש הוצאות לאור נחשבות של ספרי תלמוד בבלי. לאור האמור לעיל: במשתנים 'איכות הפעילות' ו'חשיבות הפעילות' קיבל המכון את הניקוד המירבי בכל אחד מן המשתנים. משתנה 'היקף המחקר' נוקד בהתאם להיקף עבודת המכון, בשים לב להעמקתה ולחשיבותה. משתנה 'מספר הפרסומים' נוקד בשים לב לשלושת הפרסומים החשובים שיצאו לאור בשנת ההערכה, אשר אחד מהם הינו בעל היקף נמוך (חידושי ר"י מלוניל על מסכת תענית). עזרי מחקר שנוקדו: מבנה ייעודי, ספריה תורנית, מאגר כתבי יד; 4 עזרי מחקר ייחודיים נוספים: מחברות שינויי נוסחאות, פילמים, צילומים ופקסימיליות של כת"י, כרטסת מסורת הש"ס, כרטסת ראשונים על ספרות חז"ל. מהדורות אלקטרוניות (בנוסף למודפסות) המופצות חינם: לא נוקדו, בהעדר כאלה בשנת ההערכה.
A45: מועד | C45: 43 | D45: 2024 | E45: 580009546 | F45: 40215992 | G45: מכון ירושלים בתי מדרש לאברכים (ע"ר) | H45: 1001796949 | I45: תמיכה שוטפת בעמותה למחקר תורני | J45: 1300000 | K45: 20 | L45: 20 | M45: 19 | N45: 19 | P45: 10 | R45: 6 | U45: =SUM(K45:T45) -> 94 | V45: =U45/$U$68*$AC$2 -> 662850.6 | W45: 685901 | X45: ='הגבלה לסכום מבוקש'!U73 -> 654078.06 | Y45: מומלץ ע"פ ע"פ סעיפים 4(1)א,ב ו - 9 (הוראת שעה 2024) למבחני התמיכה. להלן התייחסות הוועדה המייעצת: מכון ירושלים נמנה על מכוני הדגל של המחקר התורני במדינת ישראל, והוועדה המייעצת מציינת בסיפוק את המשך פועלו בתחום זה. המכון מרכז תחתיו מפעלים שונים המתבטאים בעושר גדול של ספרים ובעבודת מחקר והוצאה לאור הראויים לציון ולשבח. לאור כל האמור לעיל: במשתנים 'איכות הפעילות' ו'חשיבות הפעילות' קיבל המכון את הניקוד המירבי בכל אחד מן המשתנים. במשתנה 'היקף עבודת המחקר' - בשים לב להיקף הגדול של המחקרים המתבצעים במכון ניתן למכון הניקוד המירבי. במשתנה 'מס' הפרסומים בשנת ההערכה' ניתן למכון הניקוד המירבי, בשים לב לפרסומים הרבים בעלי החשיבות הרבה שיצאו לאור בשנת ההערכה. עזרי מחקר שנוקדו: 3 מבנים ייעודיים, ספריה תורנית, כתב העת 'מוריה'. מהדורות אלקטרוניות (בנוסף למודפסות) המופצות חינם: גינת ביתן; נחמת שלמה; פיסת בר;
A46: מועד | C46: 44 | D46: 2024 | E46: 580581395 | F46: 41557519 | G46: מכון להורות נתן (ע"ר) | H46: 1001793761 | I46: תמיכה שוטפת במכון מחקר תורני | J46: 650000 | K46: 8 | L46: 10 | M46: 13 | N46: 12 | P46: 6 | R46: 8 | U46: =SUM(K46:T46) -> 57 | V46: =U46/$U$68*$AC$2 -> 401941.32 | W46: 368221 | X46: ='הגבלה לסכום מבוקש'!U74 -> 396621.8 | Y46: מומלץ לתמיכה ע"פ סעיפים 4(1)א',ב' ו 9 (הוראת שעה 2024) למבחני התמיכה. להלן התייחסות הוועדה המייעצת: מכון להורות נתן עוסק בהוצאה לאור של כתביו ומורשתו התורנית של הגאון רבי נתן גשטטנר זצ"ל, שהיה אחד מגדולי הפוסקים בדור הראשון שלאחר חורבן יהדות אירופה, ושימש כגשר חי ממסורת הפסיקה ההלכתית של אלף שנות פסיקה יהודית בגולה לעבר דור התקומה שקם בארץ ישראל. הרב זצ"ל היה שילוב נדיר של סופר פורה, פוסק מובהק, איש הגות מעמיק עם תכונות של מנהיג ציבור מורם מעם. המורשת הספרותית-תורנית שהשאיר אחריו נדירה בהיקפה וכוללת עשרות ספרים בכל מקצועות התורה, הדרוש, ההלכה, הפסיקה והמחשבה היהודית. מכון 'להורות נתן' קיבל על עצמו את המשימה הגדולה לההדיר מחדש את כתביו שיצאו לאור בחייו ולהוציא לאור עולם את חדושי התורה והפסיקות ההלכתיות שנשארו בכתבי היד הרבים שהשאיר אחריו, ועדיין לא ראו את אור הדפוס. משתנה 'איכות המחקרים' נוקד בשים לב לרמת המחקר הטובה; משתנה 'חשיבות המחקרים' נוקד ע"פ קטגורית 'חשיבות רבה'. משתנה 'היקף המחקר' נוקד בשים לב להיקף העבודה המחקרית במכון והתפתחותה; משתנה 'מס' הפרסומים' נוקד בהתאם להיקף הפרסומים שיצאו לאור בשנת ההערכה, בשים לב לחשיבותם (בעיקר עבור ספרי 'להורות נתן' ההלכתיים ועל הש"ס). עזרי מחקר שנוקדו: מבנה ייעודי, ספריה תורנית ומאגר כתבי יד. מהדורות אלקטרוניות (בנוסף למודפסות) המופצות חינם: להורות נתן שבת ב; להורות נתן שבת ג; אוצרות להורות נתן תורה; אוצרות להורות נתן חינוך.
A47: מועד | C47: 45 | D47: 2024 | E47: 580383107 | F47: 40370620 | G47: מכון להפצת משפט התורה (ע"ר) | H47: 1001792958 | I47: תמיכה בחקר משפט העברי | J47: 600000 | K47: 9 | L47: 8 | M47: 14 | N47: 8 | P47: 6 | R47: 2 | U47: =SUM(K47:T47) -> 47 | V47: =U47/$U$68*$AC$2 -> 331425.3 | W47: 368221 | X47: ='הגבלה לסכום מבוקש'!U75 -> 327039.03 | Y47: מומלץ לתמיכה לפי סעיפים 4(1)א ו - 9 (הוראת שעה 2024) למבחני התמיכה. להלן התייחסות הוועדה המייעצת: המכון עוסק בחקר הפרשנות האקטואלית לסוגיות 'חושן משפט', ע"פ סדר ה'שולחן ערוך', סעיף אחר סעיף. בכך הוא ממשיך את מפעלו המונומנטאלי של מרן ה'חפץ חיים' זצ"ל, שעשה את אותה עבודה על חלק 'אורח חיים'. סדרה זו כבר קנתה לה מהלכים רבים בקרב רבנן ותלמידיהון והקהל הרחב. משתנה 'איכות המחקרים' נוקד בשים לב לרמת המחקר הטובה; משתנה 'חשיבות המחקרים'נוקד ע"פ קטגורית 'חשיבות נאותה'. משתנה 'היקף המחקר' נוקד בהתאם לעבודת המחקר שהתבצעה במכון, בשים לב לחשיבותה; משתנה 'מס' הפרסומים' נוקד בהתאם לפרסום שיצא לאור, בשים לב להיקפו ולהשפעתו. עזרי מחקר שנוקדו: מבנה ייעודי, מאגר כתב יד ומסד נתונים ייחודי. מהדורות אלקטרוניות (בנוסף למודפסות) המופצות חינם: אוצר מפרשי השו"ע פיקדון ב'.
A48: מועד | C48: 46 | D48: 2024 | E48: 580228856 | F48: 40216047 | G48: מכון לרבני ישובים (ע"ר) | H48: 1001793364 | I48: תמיכה שוטפת במכון מחקר תורני | J48: 300000 | K48: 12 | L48: 14 | M48: 12 | N48: 6 | P48: 2 | R48: 0 | U48: =SUM(K48:T48) -> 46 | V48: =U48/$U$68*$AC$2 -> 324373.7 | W48: 300000 | X48: ='הגבלה לסכום מבוקש'!U76 -> 300000 | Y48: מומלץ לתמיכה ע"פ סעיפים 4(1)א ו - 9 (הוראת שעה 2024) למבחני התמיכה. להלן התייחסות הוועדה המייעצת: המכון עוסק במגוון נושאים תורניים, וכן בספרי 'דבר חברון' הכוללים שו"ת של פסקיו ההלכתיים של הרב דב ליאור שליט"א, שהוועדה המייעצת מצאה אותם כמשפיעים על חוגים שונים בעולם היהודי. כמו כן, עוסק המכון במחקר הלכתי אקטואלי מעמיק, המהווה נדבך חשוב המצביע על הרלוונטיות של המחקר התורני לחיי המעשה של מדינת ישראל כיום. משתנה 'איכות המחקרים' נוקד בשים לב לרמת המחקר הטובה והמגוונת; משתנה 'חשיבות המחקרים' נוקד ע"פ קטגורית 'חשיבות רבה'. משתנה 'היקף המחקר' נוקד בהתאם לגידול בהיקף העבודה המחקרית המתבצעת במכון, בשים לב לחשיבותה; משתנה 'מס' הפרסומים' נוקד בהתאם לפרסום שיצא לאור בשנת ההערכה, בשים לב לחשיבות נושאו. עזרי מחקר שנוקדו: מבנה ייעודי. מהדורות אלקטרוניות (בנוסף למודפסות) המופצות חינם: לא נוקדו, בהעדר כאלה בשנת ההערכה.
A49: מועד | C49: 47 | D49: 2024 | E49: 580144327 | F49: 40216036 | G49: מכון מעליות (ע"ר) | H49: 1001792297 | I49: תמיכה שוטפת במכון מחקר תורני | J49: 450000 | K49: 15 | L49: 15 | M49: 19 | N49: 6 | P49: 6 | R49: 0 | U49: =SUM(K49:T49) -> 61 | V49: =U49/$U$68*$AC$2 -> 430147.73 | W49: 420000 | X49: ='הגבלה לסכום מבוקש'!U77 -> 424454.91 | Y49: מומלץ לתמיכה ע"פ סעיפים 4(1)א,ב ו - 9 (הוראת שעה 2024) למבחני התמיכה. להלן התייחסות הוועדה המייעצת: המכון עוסק בפרסום מהדורה של הרמב"ם עם פירוש של הרב רבינוביץ זצ"ל, וחקר פירוש הרמב"ם על המשנה של הרב יצחק שילת. כמו כן עוסק המכון בביאור הרלב"ג לתורה ולנביאים במהדורה מדעית. הוועדה המייעצת רואה בהוצאת פירוש 'הרמב"ם המדויק' מפעל בעל חשיבות לאומית רבה, וכן מברכת על מפעלי הרמב"ם השונים. משתנה 'איכות המחקרים' נוקד בשים לב לרמת המחקר המצוינת; משתנה 'חשיבות המחקרים' נוקד ע"פ קטגורית 'חשיבות רבה'. משתנה 'היקף המחקר' קיבל את הניקוד המירבי, בהתאם להיקף העבודה המחקרית הרבה והמעמיקה המתבצעת במכון; ניקוד משתנה 'מס' הפרסומים' נוקד בהתאם לפרסומים שיצאו לאור בשנת ההערכה, בשים לב להיקפם ולנושאיהם. עזרי מחקר שנוקדו: מבנה ייעודי, מעבדת מחקר הכוללת מכונות מיקרופיש, מאגר כתבי יד. מהדורות אלקטרוניות (בנוסף למודפסות) המופצות חינם: לא נוקדו, בהעדר כאלה בשנת ההערכה.
A50: מועד | C50: 48 | D50: 2024 | E50: 580365443 | F50: 40006204 | G50: מכון משפטי ארץ (ע"ר) | H50: 1001792371 | I50: תמיכה שוטפת 2024 | J50: 450000 | K50: 12 | L50: 12 | M50: 14 | N50: 6 | P50: 4 | R50: 2 | U50: =SUM(K50:T50) -> 50 | V50: =U50/$U$68*$AC$2 -> 352580.11 | W50: 324900 | X50: ='הגבלה לסכום מבוקש'!U78 -> 347913.86 | Y50: מומלץ לתמיכה ע"פ סעיפים 4(1)ג ו - 9 (הוראת שעה 2024) למבחני התמיכה. המכון מתמקד במחקרים של חומרי יסוד באורינטציה ציונית ממלכתית חדשנית ומקיפה. המכון שם דגש על ענייני קניין, מסחר, תעשייה, כספים, צבא ובטחון - שהם נושאים הראויים לעיון מעמיק ומקיף כפי שאכן מבצע. בכך מספק המכון תרומה לחיי היום יום של מדינת ישראל כמדינה יהודית דמוקרטית. משתנה 'איכות המחקרים' נוקד בשים לב לרמת המחקר הטובה; משתנה 'חשיבות המחקרים' נוקד ע"פ קטגורית 'חשיבות רבה', בשים לב לעובדה שמשפיעים על מגוון קהלים בעולם המעשה. משתנה 'היקף המחקר' נוקד בהתאם להיקף העבודה המחקרית המתבצעת במכון, בשים לב לייחודיות הנושאים; משתנה 'מס' הפרסומים' נוקד בהתאם לפרסום שיצא לאור בשנת ההערכה, בשים לב לחדשנות נושאו. עזרי מחקר שנוקדו: 2 מבנים. מהדורות אלקטרוניות (בנוסף למודפסות) המופצות חינם: אורות החושן עבודה וקבלנות.
A51: מועד | C51: 49 | D51: 2024 | E51: 580210060 | F51: 40140418 | G51: מכון פוע"ה - פוריות ורפואה עפ"י ההל | H51: 1001793914 | I51: תמיכה במכון מחקר תורני | J51: 540000 | K51: 10 | L51: 10 | M51: 10 | N51: 6 | P51: 0 | R51: 0 | U51: =SUM(K51:T51) -> 36 | V51: =U51/$U$68*$AC$2 -> 253857.68 | W51: 310461 | X51: ='הגבלה לסכום מבוקש'!U79 -> 252227.63 | Y51: מומלץ לתמיכה ע"פ סעיפים 4(1)ג ו - 9 (הוראת שעה ה2024) למבחני התמיכה. המכון עוסק במחקר תורני מדעי המחבר בין עולם הרפואה והמדע להלכה היישומית, בדגש על יילוד ופוריות, תוך מציאת פתרונות מעשיים ויישומם בחיי המעשה. ניקוד משתנה 'איכות המחקרים' ניתן בשל רמת המחקרים המקצועית והטובה; ניקוד משתנה 'חשיבות המחקרים' ניתן לפי קטגורית 'חשיבות רבה', בשים לב לחשיבות המחקרים במכון ולייחודיותם. ניקוד משתנה 'היקף המחקר' הולם את עבודת המחקר במכון, בשים לב לכך שחלק מהמחקרים הינם מהדורות נוספות (ולא חדשות); ניקוד משתנה 'מספר הפרסומים' נוקד בהתאם לפרסום החדש שיצא לאור לאור בשנת ההערכה. מהדורות אלקטרוניות (בנוסף למודפסות) המופצות חינם: לא נוקדו, בהעדר כאלה בשנת ההערכה.
A52: מועד | C52: 50 | D52: 2024 | E52: 580099810 | F52: 40216028 | G52: מכון שלמה אומן ז"ל (ע"ר) | H52: 1001794108 | I52: תמיכה שוטפת לשנת 2024 | J52: 700000 | K52: 18 | L52: 15 | M52: 19 | N52: 14 | P52: 6 | R52: 8 | U52: =SUM(K52:T52) -> 80 | V52: =U52/$U$68*$AC$2 -> 564128.17 | W52: 505401 | X52: ='הגבלה לסכום מבוקש'!U80 -> 556662.18 | Y52: מומלץ לתמיכה ע"פ סעיפים 4(1)א,ב ו - 9 (הוראת שעה 2024) למבחני התמיכה. להלן התייחסות הוועדה המייעצת: מכון שלמה אומן ז"ל עוסק ביצירה תורנית של ההדרת ספרי הראשונים, אשר הוועדה המייעצת רואה בהם חשיבות לאומית. הוועדה המייעצת מבקשת לציין את איכותם ודייקנותם המעולות של המחקרים. משתנה 'איכות המחקרים' נוקד בשים לב לרמת המחקר המקצועית והמעולה המתבצעת במכון; משתנה 'חשיבות המחקרים' נוקד ע"פ קטגורית 'חשיבות רבה'. משתנה 'היקף המחקר' נוקד בניקוד המירבי, בהתאם להיקף העבודה המחקרית הרבה והחשובה המתבצעת במכון; ניקוד משתנה 'מס' הפרסומים' נוקד בשים לב לפרסומים החשובים (החדשים) שיצאו לאור. עזרי מחקר שנוקדו: מבנה ייעודי, כתב העת 'המעיין', מכשירי מיקרופילמים וקריאה. מהדורות אלקטרוניות (בנוסף למודפסות) המופצות חינם: ספר מצוות גדול לאוין כרך א + כרך ב לרבי משה ב"ר יעקב מקוצי; ספר פני אברהם; ספר מכלול לרד"ק; ספר מצוות גדול העשין.
A53: מועד | C53: 51 | D53: 2024 | E53: 580292167 | F53: 40216006 | G53: מכון שתילי זתים - לחקר מורשת תימן ע | H53: 1001793760 | I53: בקשה לתמיכה בפעילות מכון מחקר תורני | J53: 380000 | K53: 6 | L53: 6 | M53: 10 | N53: 9 | P53: 4 | R53: 6 | U53: =SUM(K53:T53) -> 41 | V53: =U53/$U$68*$AC$2 -> 289115.69 | W53: 274361 | X53: ='הגבלה לסכום מבוקש'!U81 -> 285289.37 | Y53: מומלץ לתמיכה ע"פ סעיפים 4(1)א,ב ו 9 (הוראת שעה 2024)למבחני התמיכה. להלן התייחסות הוועדה המייעצת: המכון עוסק במחקר על ספר יסוד בעדה התימנית: ספר 'שתילי זיתים' של רבי דוד משראקי זצ"ל. משתנה 'איכות המחקרים' נוקד בשים לב לרמת המחקר הראויה; משתנה 'חשיבות המחקרים' נוקד ע"פ קטגורית 'חשיבות נאותה'. משתנה 'היקף המחקר' נוקד בהתאם לקיטון המסוים בהיקף העבודה שהתבצעה במכון; ניקוד משתנה 'מס' הפרסומים' נוקד בשים לב לפרסומים החדשים והחשובים שיצאו לאור בשנת ההערכה. עזרי מחקר שנוקדו: מבנה ייעודי ומאגר כתבי יד. מהדורות אלקטרוניות (בנוסף למודפסות) המופצות חינם: שתילי זיתים ב ברכות; שתילי זיתים עירובין וראש חודש; משנת חכמי תימן ג.
A54: מועד | C54: 52 | D54: 2024 | E54: 580412278 | F54: 40375459 | G54: מעמק חברון- מכון חקר תורני (ע"ר) | H54: 1001793734 | I54: תמיכה שוטפת | J54: 200000 | K54: 4 | L54: 7 | M54: 6 | N54: 0 | P54: 2 | R54: 0 | U54: =SUM(K54:T54) -> 19 | V54: =U54/$U$68*$AC$2 -> 133980.44 | W54: 129961 | X54: ='הגבלה לסכום מבוקש'!U82 -> 132207.27 | Y54: מומלץ לתמיכה ע"פ סעיפים 4(1)א,ב ו - 9 (הוראת שעה 2024) למבחני התמיכה. להלן התייחסות הוועדה המייעצת: המכון מוציא לאור פרסומים בעלי חשיבות לאומית, שאלמלא עבודתו לא ייצאו לאור; בעיקר את הגותו של הרב בלייכר שליט"א. בנוסף, עוסק המכון בספרות תורנית ומחשבתית בעלת השפעה ניכרת על אוכלוסיה ציונית תורנית מובהקת. משתנה 'איכות המחקרים' נוקד בשים לב לרמת המחקר הראויה משתנה 'חשיבות המחקרים' נוקד ע"פ קטגורית 'חשיבות נאותה'. משתנה 'היקף המחקר' נוקד בהתאם להיקף העבודה המתבצעת במכון, ובשים לב לעיכובים בהוצאה לאור; ניקוד משתנה 'מס' הפרסומים' לא נוקד, בהעדר פרסום שיצא לאור בשנת ההערכה (קלנדרית 2022) עזרי מחקר שנוקדו: מבנה ייעודי. מהדורות אלקטרוניות (בנוסף למודפסות) המופצות חינם: לא נוקדו, בהעדר פרסומים שיצאו לאור בשנת ההערכה.
A55: טיוט | B55: חדש | C55: 53 | D55: 2024 | E55: 580106177 | F55: 40300458 | G55: מרחבים - מרכז תורני ליהדות וחינוך ( | H55: 1001796493 | I55: מכון מרחבים בקשה לתמיכה במימון מחקרים | J55: 400000 | K55: 8 | L55: 8 | M55: 6 | N55: 6 | P55: 6 | R55: 0 | U55: =SUM(K55:T55) -> 34 | V55: =U55/$U$68*$AC$2 -> 239754.47 | W55: 0 | X55: ='הגבלה לסכום מבוקש'!U83 -> 236581.43 | Y55: אינו מומלץ לתמיכה ע"פ סעיפים 4(4) ו - 9(א)1 למבחני התמיכה. בסעיף 4(4) למבחני התמיכה נאמר: "בין מטרות המוסד, על פי מסמכי היסוד שלו לפי כל דין, לעסוק בתחומי המחקר התורני; התנאי האמור יתקיים במוסד לא יאוחר מיום 31 בדצמבר של שנת ההערכה;"; בסעיף 9(א)1 נאמר: "על אף האמור במבחנים אלה, בשנת 2024 – בסעיף 4(4), במקום "31 בדצמבר של שנת ההערכה" יבוא "ט"ו בתשרי התשפ"ד (30 בספטמבר 2023)"; במסמכי היסוד של המוסד אין מטרה אודות עיסוקו בתחומי המחקר התורני או הוצאת ספרים כנדרש. המטרות הרשומות של המוסד, כפי שמופיעות בתעודת רישום העמותה ובאתר גיידססטאר הינן: "מתן תמיכה ועזרה, כלכלית, תורנית ומקצועית למכללה התורנית – מרחבים. עידוד וקידום הכשרת מורים, בני תורה". לאור האמור לעיל, המוסד אינו עומד בתנאי הסף האמורים מעלה, ואינו זכאי לתמיכה. הערה: גוף זה לא נתמך בשנים 2022 ו 2023 ע"י המחלקה למחקר תורני, ולפיכך נבחן כ'גוף חדש' ע"פ הוראת השעה לשנת 2024. | Z55: להלן החלטת הלשכה המשפטית (עו"ד גבריאל מאיר): ע"פ פרוטוקול של ישיבת האספה הכללית של העמותה, שהתקיימה ב-5.2.2001 "הרב יגאל שפרן מעלה את ההצעה להוסיף למטרות העמותה את המשפט הבא: "ייזום, מחקר וניהול פעילויות, כולל פעילויות חינוכיות, אתיות, תורניות, רפואיות ומדעיות, במישרין ובעקיפין" והאספה אישרה את ההצעה פה אחד. לפי החותמת שהמסמך נושא רשם העמותות אישר את עדכון מטרות עמותה ב-6.5.2001. די בנוסח המטרה הנ"ל כדי לעמוד בסעיפים 4(4) למבחני התמיכה. (בסעיף 4(4) למבחני התמיכה נאמר: "בין מטרות המוסד, על פי מסמכי היסוד שלו לפי כל דין, לעסוק בתחומי המחקר התורני; התנאי האמור יתקיים במוסד לא יאוחר מיום 31 בדצמבר של שנת ההערכה"). אציין, שהפרקטיקה בהתייחס לבחינת העמידה בסעיף 4(4) למבחן היא להקל, בהינתן המגוון הגדול שקיים באופן ניסוח המטרה אצל העמותות. לאור האמור, יש לקבל את השגת העמותה ולאשר לו תמיכה בהתאם למבחני התמיכה ולמודל חלוקת תמיכה ל-2024, ובלבד שהיא עומדת בכל יתר התנאים לקבלת תמיכה לפי המבחן. להלן התייחסות הועדה המייעצת: מומלץ לתמיכה ע"פ סעיפים 4(1)א, ב, ג ו - 9 (הוראת שעה 2024) למבחני התמיכה. המכון עוסק במחקר וההדרה בעלי חשיבות לאומית של חיבורים תורניים קלאסיים, בפרט של רבני רומניה והאזור, על פי כתבי יד ודפוסים ישנים, כולל מנגנון של זיהוי ופיענוח כתבי יד והוספת הערות, מקורות, מבואות היסטוריים ותורניים, נספחים ומפתחות. שני הפרסומים שהוכרו לצורך מעבר תנאי סף 4(5): משנת הרב"ז (יצא לאור ב 4/23); מפי גאולים א (יצא לאור ב 9/23). ניקוד משתנה 'איכות המחקרים' (8 נק') ניתן בשים לב לרמת המחקר הטובה; ניקוד משתנה 'חשיבות המחקרים' (8 נק') ניתן לפי קטגורית 'חשיבות נאותה', בשים לב למחקרים פורצי הדרך בנושאים אקטואליים חשובים (מדע והלכה). ניקוד משתנה 'היקף המחקר' (6 נק') הולם את שני המחקרים במכון בשנת ההערכה, בשים לב להיותם בעיקר דרשות והגהות; ניקוד משתנה 'מספר הפרסומים' (6 נק') נוקד בהתאם למספר הפרסומים והיישומים שיצאו לאור בשנת ההערכה, בשים לב לייחודיותם. עזרי מחקר שנוקדו: (6 נק') עבור מבנה ייעודי, מאגר כתבי יד, 4 מכשירי ברקו להקרנה בו זמנית עבור מפגשי מדענים ורבנים. מהדורות אלקטרוניות (בנוסף למודפסות) המופצות חינם: לא נוקדו, בהעדר כאלה בשנת ההערכה (אוצר החכמה אינו מהווה מהדורה דיגיטלית המופצת חינם). הערות: א) גוף זה לא נתמך בשנים 2022 ו 2023 ע"י המחלקה למחקר תורני, ולפיכך נבחן כ'גוף חדש' ע"פ הוראת השעה לשנת 2024. ב) ההשגה נדונה ע"י שני חברי הועדה המייעצת במקום שלושה; ליתר ביטחון, חבר הועדה השלישי לא השתתף בדיון, מפאת חשש לאפשרות של ניגוד עניינים.
A56: מועד | C56: 54 | D56: 2024 | E56: 580092187 | F56: 40394714 | G56: מרכז להפצת תורה ויראה בנגב | H56: 1001793671 | I56: מכוני מחקר 2024 | J56: 500000 | K56: 8 | L56: 9 | M56: 10 | N56: 0 | P56: 2 | R56: 0 | U56: =SUM(K56:T56) -> 29 | V56: =U56/$U$68*$AC$2 -> 204496.46 | W56: 267140 | X56: ='הגבלה לסכום מבוקש'!U84 -> 217032.37 | Y56: מומלץ לתמיכה ע"פ סעיפים 4(1)א,ב ו - 9 (הוראת שעה 2024) למבחני התמיכה. המכון עוסק בהאדרה ובהוצאה לאור של מהדורה חדשה עם ביאורים, הערות ומראי מקומות, ע"פ כתבי יד של חיבורי מפרשי השולחן ערוך לרבינו יוסף קארו זצ"ל חלק חושן משפט, ובראשם החיבורים 'ספר קצות החושן' לרבינו אריה לייב הלר זצ"ל וספר 'נתיבות משפט' לרבינו יעקב מליסא זצ"ל. חיבורים אלה מיועדים בעיקר לדיינים. לאור האמור לעיל, נוקד המכון במשתנה 'איכות המחקרים', בשים לב לרמת המחקר הטובה, ובמשתנה 'חשיבות המחקרים' בקטגוריה 'חשיבות רבה', בהתאם למורכבותם ולחשיבותם, ובשים לב לעובדה שספרים מעין אלה יוצאים לאור גם על ידי מכוני מחקר אחרים. ניקוד משתנה 'היקף המחקר' הולם את היקף עבודת המחקר הנדרשת במחקרים אלה, בשים לב לעובדה שחלקם לא יצאו לאור זה מספר שנים, למרות מספר החוקרים הרב שעובד עליהם; ניקוד משתנה 'מספר הפרסומים' לא נוקד, בהעדר פרסום שיצא לאור בשנת ההערכה (קלנדרית 2022). עזרי מחקר שנוקדו: מבנה ייעודי. מהדורות אלקטרוניות (בנוסף למודפסות) המופצות חינם: לא נוקדו, בהעדר פרסומים שיצאו לאור בשנת ההערכה.
A57: טיוט | B57: חדש | C57: 55 | D57: 2024 | E57: 580024917 | F57: 41068775 | G57: מרכז מורשת הרב ניסים הראשון לציון ה | H57: 1001796280 | I57: יד הרב ניסים- מכוני מחקר- 2024 | J57: 800000 | K57: 10 | L57: 10 | M57: 12 | N57: 3 | P57: 10 | R57: 0 | U57: =SUM(K57:T57) -> 45 | V57: =U57/$U$68*$AC$2 -> 317322.1 | W57: 0 | X57: ='הגבלה לסכום מבוקש'!U85 -> 313122.47 | Y57: מומלץ לתמיכה ע"פ סעיפים 3(1)א,ב ו – 9 (הוראת שעה 2024) למבחני התמיכה. שנת ההערכה הקובעת למעבר תנאי הסף של שבעה חוקרים שעסקו בפרסומים ובמחקרים שהוכרו כבעלי ח"ל (סעיף 4(7)) היא שנת ההערכה המקורית (ע"פ סעיף 9(א)(3) להוראת השעה 2024), ובהתאם לה נוקדו גם סעיפי משתני התמיכה. המכון עוסק בפעילות מחקרית תורנית בעלת חשיבות לאומית, שמתבטאת בההדרה והוצאה לאור של כתבי יד של גדולי חכמי ישראל, בדגש על חכמים מתפוצת חכמי ספרד לאורך הדורות האחרונים וכן אודות חכמי תקופת הגאונים. שני הפרסומים שהוכרו לצורך מעבר תנאי סף 4(5): לכלל ולפרט הלכות קצובות ג (יצא לאור ב 11/19); לכלל ולפרט הלכות קצובות ד (יצא לאור ב 12/20). ניקוד משתנה 'איכות המחקרים' ניתן בשל רמת המחקר המקצועית והמוקפדת, בשים לב לכך שחלק מהמחקרים אינם פרי עבודת חוקרי המכון. ניקוד משתנה 'חשיבות המחקרים' ניתן לפי קטגורית 'חשיבות רבה', בשים לב לנושאי המחקר בעלי הערך. ניקוד משתנה 'היקף המחקר' הולם את עבודות המחקר במכון, בשים לב להיקפם, למקוריותם ולחשיבותם; ניקוד משתנה 'מספר הפרסומים' נוקד בהתאם לשני הפרסומים שיצאו לאור בשנת ההערכה המקורית, בהתחשב בסגנון המחקר שהתבצע בגינם, שאינו מחקר תורני קלאסי בעל חשיבות לאומית. עזרי מחקר שנוקדו: מבנה ייעודי, מאגר כתבי יד, ארכיון אלקטרוני של מכתבים ותשובות של הרב נסים, רשימת שו"ת של הרב נסים, כרטסת מקורות ונושאים לספרי הרב נסים. מהדורות אלקטרוניות (בנוסף למודפסות) המופצות חינם: לא נוקדו, בהעדר כאלה בשנת ההערכה. הערה: גוף זה לא נתמך בשנים 2022 ו 2023 ע"י המחלקה למחקר תורני, ולפיכך נבחן כ'גוף חדש' ע"פ הוראת השעה לשנת 2024.
A58: טיוט | B58: חדש | C58: 56 | D58: 2024 | E58: 580658839 | F58: 42251605 | G58: מתוקים מדבש - מאור מאיר (ע"ר) | H58: 1001796737 | I58: תמיכה במכון לעבודות מחקר תורניים | J58: 650000 | U58: =SUM(K58:T58) -> 0 | V58: =U58/$U$68*$AC$2 -> 0 | W58: 0 | X58: ='הגבלה לסכום מבוקש'!U86 -> 0 | Y58: אינו מומלץ לתמיכה ע"פ סעיפים 4(10) למבחני התמיכה. לא הוגשו שאלונים נלווים לבקשת התמיכה לשנת 2024, המהווים חלק מבקשת התמיכה. יודגש, שלפיכך לא ניתן היה לבדוק את עמידת המוסד בתנאי הסף.
A59: מועד | C59: 57 | D59: 2024 | E59: 580528560 | F59: 41090390 | G59: סולמות - יהדות חינוך וחוויה (ע"ר) | H59: 1001794321 | I59: תמיכה לתקנת המחקר תורני - סולמות | J59: 750000 | K59: 8 | L59: 8 | M59: 12 | N59: 12 | P59: 4 | R59: 0 | U59: =SUM(K59:T59) -> 44 | V59: =U59/$U$68*$AC$2 -> 310270.49 | W59: 368221 | X59: ='הגבלה לסכום מבוקש'!U87 -> 306164.2 | Y59: מומלץ לתמיכה ע"פ סעיפים 4(1)א ו - 9 (הוראת שעה 2024) למבחני התמיכה. להלן התייחסות הוועדה המייעצת: המכון מבצע מחקר אודות התפתחות ההלכה ממקורותיה ועד ההלכה למעשה לצורך הנגשתה לציבור הרחב - באופן בהיר וברמה טובה מאד. משתנה 'איכות המחקרים' נוקד בשים לב לאיכותם הטובה של המחקרים; משתנה 'חשיבות המחקרים' נוקד ע"פ קטגורית 'חשיבות נאותה' בשים לב לחשיבות הנגשת הנושאים לציבור. משתנה 'היקף המחקר' נוקד בהתאם לעבודת המחקר, בשים לב לחשיבותה כאמור מעלה; ניקוד משתנה 'מס' הפרסומים' נוקד בהתאם לפרסומים שיצאו לאור בשנת ההערכה, בשים לנחיצותם הציבורית. עזרי מחקר שנוקדו: 2 מבנים ייעודיים. מהדורות אלקטרוניות (בנוסף למודפסות) המופצות חינם: לא נוקדו, בהעדר כאלה בשנת ההערכה.
A60: מועד | C60: 58 | D60: 2024 | E60: 580120129 | F60: 40015161 | G60: עטרת ירושלים (ע"ר) | H60: 1001796281 | I60: מכון מחקר עטרת ירושלים 2024 | J60: 518000 | K60: 10 | L60: 10 | M60: 8 | N60: 5 | P60: 0 | R60: 0 | U60: =SUM(K60:T60) -> 33 | V60: =U60/$U$68*$AC$2 -> 232702.87 | W60: 254000 | X60: ='הגבלה לסכום מבוקש'!U88 -> 229623.15 | Y60: מומלץ לתמיכה ע"פ סעיפים 4(1)א ו - 9 (הוראת שעה 2024) למבחני התמיכה. להלן התייחסות הוועדה המייעצת: המכון עוסק בספרי הגות ופסיקה מודרנית ע"י פוסק מובהק, והוא בעל חשיבות לחלקים גדולים בציבוריות הישראלית. משתנה 'איכות המחקרים' נוקד בשים לב לרמת המחקר הטובה; משתנה 'חשיבות המחקרים' נוקד ע"פ קטגורית 'חשיבות רבה'. משתנה 'היקף המחקר' נוקד בשים לב להיקף המחקרים ולחשיבותם; משתנה 'מס' הפרסומים' נוקד בהתאם לפרסום היחיד שיצא לאור, בשים לב להיקפו. מהדורות אלקטרוניות (בנוסף למודפסות) המופצות חינם: לא נוקדו, בהעדר כאלה בשנת ההערכה.
A61: מועד | C61: 59 | D61: 2024 | E61: 580026235 | F61: 40215994 | G61: עמותת המכון הישראלי לפרסומים תלמודיים | H61: 1001793107 | I61: מכוני מחקר 2024 | J61: 600000 | K61: 12 | L61: 15 | M61: 14 | N61: 12 | P61: 8 | R61: 8 | U61: =SUM(K61:T61) -> 69 | V61: =U61/$U$68*$AC$2 -> 486560.55 | W61: 375440 | X61: ='הגבלה לסכום מבוקש'!U89 -> 480121.13 | Y61: מומלץ לתמיכה ע"פ סעיפים 4(1)א ו 9 (הוראת שעה 2024) למבחני התמיכה. להלן התייחסות הועדה המייעצת: המכון עוסק, בין היתר, בפרשנות המשנה, תוך הדגשת היבטים היסטוריים ואחרים בעלי חשיבות לאומית וכן במחקרים העוסקים בתורתם של גדולי החסידות. הועדה המייעצת מכירה בעיקר כבעלות חשיבות לאומית בעבודות המכון על המשנה ועל ביאורי תורתם של גדולי החסידות. משתנה 'איכות המחקרים' נוקד בשים לב לרמתם הטובה של המחקרים; משתנה 'חשיבות המחקרים' נוקד ע"פ קטגורית 'חשיבות רבה', בשל עובדת חשיבותם של המחקרים בקרב ציבור לומדים גדול ומגוון. משתנה 'היקף המחקר' נוקד בהתאם להיקף המחקר הגדול במכון, בשים לב לכך שחלק ממנו הינם סידור, ברכון, פרק שירה וכדו'; משתנה 'מס' הפרסומים' נוקד בהתאם למספר הרב של הפרסומים שיצאו לאור בשנת ההערכה, בשים לב לכך שמדובר בסדרת 'המשנה המבוארת', בה מתבצעת בעיקר עבודת הנגשה לציבור. עזרי מחקר שנוקדו: מבנה ייעודי, מאגר כתבי יד, כתבי עת - שפע רב גיליונות תורה אור וליקוטי תורה (נוקדו ב 2 נק', כיון שמשמשים כפלטפורמה לבדיקת מאמרים מוקדמת לצורך שילובם בספרים), מאגר ייעודי של סריקות כתבי היד של הרב. מהדורות אלקטרוניות (בנוסף למודפסות) המופצות חינם: המשנה המבוארת זרעים א; המשנה המבוארת זרעים ב; המשנה המבוארת מועד א; המשנה המבוארת מועד ב'.
A62: מועד | C62: 60 | D62: 2024 | E62: 580035236 | F62: 40015651 | G62: צומת-צוותי מדע ותורה | H62: 1001795249 | I62: יישומים הלכטכניים | J62: 450000 | K62: 12 | L62: 10 | M62: 15 | N62: 15 | P62: 6 | R62: 0 | U62: =SUM(K62:T62) -> 58 | V62: =U62/$U$68*$AC$2 -> 408992.92 | W62: 380358 | X62: ='הגבלה לסכום מבוקש'!U90 -> 403580.08 | Y62: מומלץ לתמיכה ע"פ סעיפים 4(1)ג ו - 9 (הוראת שעה 2024) למבחני התמיכה. להלן התייחסות הוועדה המייעצת: המכון עוסק מזה שנים במחקר ובהמצאת פתרונות הלכ-טכניים לאתגרים שהמציאות המודרנית מעמידה בפנינו. הוועדה המייעצת מוקירה את הפתרונות ההלכתיים שהמכון הפיק במשך השנים מאז קיומו ואשר הפכו לחלק מהמציאות הברוכה של חיינו, בעיקר בכל הנוגע לשבת, רפואה ובטחון. יודגש, כי התמיכה במכון צומת הינה במחקרים הקשורים בעיקר לנושאי בטחון ורפואה, ואשר יזומים ע"י המכון (ולא מחקרים שהוזמנו או מומנו ברובם ע"י גורמים חיצוניים). תמיכה זו הינה רק עד לשלב ייצור 'אב הטיפוס', ולא כולל שיפוצים ושיפורים בלתי משמעותיים (להוציא פיתוח שהינו חדשני ומשמעותי לאותו מוצר, דוגמת מעבר ממנורת להט לתאורת לד, אשר יכול להיות מוכר לצורך תמיכה, בהתאם לתנאים לעיל). משתנה 'איכות המחקרים' נוקד בשים לב לרמת המחקר הטובה והמקצועית; משתנה 'חשיבות המחקרים' נוקד ע"פ קטגורית 'חשיבות רבה', בשים לב להשפעתם של המחקרים על ציבור גדול בישראל. משתנה 'היקף המחקר' נוקד בהתאם להיקף המחקר המשמעותי, בשים לב לעובדה כי חלק מהמחקרים הינם מחקרים מתמשכים; משתנה 'מס' הפרסומים' נוקד בשים לב למספר היישומים שיצאו לאור. עזרי מחקר שנוקדו: מבנה ייעודי, מעבדת מחקר, מאגר כתבי יד. מהדורות אלקטרוניות (בנוסף למודפסות) המופצות חינם: לא נוקדו, בהעדר כאלה בשנת ההערכה.
A63: טיוט | B63: חדש | C63: 61 | D63: 2024 | E63: 580647956 | F63: 42797623 | G63: קרן מורשת ספרד והמזרח (ע"ר) | H63: 1001793733 | I63: תמיכה שוטפת 2024 | J63: 96800 | U63: =SUM(K63:T63) -> 0 | V63: =U63/$U$68*$AC$2 -> 0 | W63: 0 | X63: ='הגבלה לסכום מבוקש'!U91 -> 0 | Y63: אינו מומלץ לתמיכה ע"פ סעיפים (4)7, 10, 11 למבחני התמיכה. המכון לא מילא את שאלון החוקרים (שאלון 4), וכן מילא חלקית בלבד שאלונים אחרים (שאלון 2 עם פרטי חוקרים חסרים ושאלון 5 שאינו חתום). לאור האמור לעיל, לא ניתן היה לבדוק את בקשתו לתמיכה לצורך עמידה בחלק מתנאי הסף, ולפיכך, אינו מומלץ לתמיכה. הערה: גוף זה לא נתמך בשנים 2022 ו 2023 ע"י המחלקה למחקר תורני, ולפיכך נבחן כ'גוף חדש' ע"פ הוראת השעה לשנת 2024.
A64: מועד | C64: 62 | D64: 2024 | E64: 580529725 | F64: 41375764 | G64: רשת כוללים ומוסדות תורה בן מלך (ע"ר | H64: 1001796725 | I64: תמיכה במחקרים ופרסומים מכון בן מלך | J64: 600000 | K64: 10 | L64: 8 | M64: 10 | N64: 0 | P64: 10 | R64: 0 | U64: =SUM(K64:T64) -> 38 | V64: =U64/$U$68*$AC$2 -> 267960.88 | W64: 425981 | X64: ='הגבלה לסכום מבוקש'!U92 -> 346079.46 | Y64: מומלץ לתמיכה ע"פ סעיפים 4(1)א ו - 9 (הוראת שעה 2024) למבחני התמיכה. להלן התייחסות הוועדה המייעצת: המכון מפתח פרשנות על התורה ועל הש"ס, בדרכו הייחודית של הרב לייב מינצברג זצ"ל, דרך שקנתה לה מהלכים בחוגים נרחבים של עולם התורה. הייחוד המחשבתי של פרשנות זו חיוני לקירוב חוגים נוספים לעיון בפשוטו של מקרא על טהרת הקודש. שיטת המחקר הייחודית משלבת את סגנון הלמדנות של ישיבות ליטא עם שיטת לימוד הישוב הישן בירושלים. משתנה 'איכות המחקרים' נוקד בשים לב לרמת המחקר הטובה והחדשנית; 'חשיבות המחקרים' נוקד ע"פ קטגורית 'חשיבות נאותה'. משתנה 'היקף המחקר' נוקד בהתאם להיקף המחקר המשמעותי שהתבצע במכון, בשים לב שחלקו הינו מהדורה נוספת של הגדה של פסח וכן סידורים שאינם מוכרים כבעלי חשיבות לאומית (בשונה מן הפעם הקודמת בה הוכרו בטעות. החלטה זו הינה על דעת כל חברי הועדה המייעצת); משתנה 'מס' הפרסומים' לא נוקד, בהעדר פרסומים שיצאו לאור בשנת ההערכה. עזרי מחקר שנוקדו: מבנה ייעודי, מאגר כתבי יד, כתב עת 'אוצרות בן מלך', אלפי קלטות מתועדות של שיעורי הרב מינצברג (כולל קטלוגן) ועשרות קבצי וידיאו משיעורים מוקלטים של הרב מינצברג. מהדורות אלקטרוניות (בנוסף למודפסות) המופצות חינם: לא נוקדו, בהעדר פרסומים שיצאו לאור בשנת ההערכה.
A65: טיוט | B65: חדש | C65: 63 | D65: 2024 | E65: 580521979 | F65: 41565752 | G65: שערי ציון להפצת היהדות ברוח הציונות | H65: 1001795610 | I65: תמיכה במכון מחקר תורני כפר יונה | J65: 585000 | U65: =SUM(K65:T65) -> 0 | V65: =U65/$U$68*$AC$2 -> 0 | W65: 0 | X65: ='הגבלה לסכום מבוקש'!U93 -> 0 | Y65: אינו מומלץ לתמיכה ע"פ סעיפים 4(5) ו - 9 (הוראת שעה 2024) למבחני התמיכה. למכון אין שני פרסומים שהוכרו ע"י הועדה המייעצת כבעלי חשיבות לאומית (גם כשמרחיבים את תקופת הבדיקה, על מנת שזו תכלול את חודשים אוקטובר עד דצמבר 2023, ע"פ סעיף 9(א)(2) למבחני התמיכה), בהתאם לפירוט הבא: (א) סדרת הספרים 'אהלי שם' הינה חיבורים שהם מדריכים הלכתיים תמציתיים המהווים קיצור וסיכום של ההלכה, שאינם מוסברים ומנומקים בהיקף משמעותי ומעמיק, ולפיכך אינם נחשבים מחקר תורני בעל חשיבות לאומית. (ב) סדרת הספרים 'עוז לעמו': הינה סדרת ספרי דרשות ושיעורי מוסר על התורה, שאינם מהווים מחקר בעל חשיבות לאומית. (ג) מאגר המידע 'מקור משותף': מדובר ברעיון יפה, המאפשר העמקת ידיעות בנושאים תורניים, אך בשלב זה הוא מאגר ראשוני למדי, בהיקף שלא מוכר כבעל חשיבות לאומית. לאור האמור לעיל, המכון אינו עומד בתנאי הסף הדורשים שני פרסומים בעלי חשיבות לאומית, ולפיכך אינו מומלץ לתמיכה. הערה: גוף זה לא נתמך בשנים 2022 ו 2023 ע"י המחלקה למחקר תורני, ולפיכך נבחן כ'גוף חדש' ע"פ הוראת השעה לשנת 2024. | Z65: המוסד הגיש ערעור על החלטת ועדת התמיכות, אשר הובאה לדיון בפני הועדה המייעצת. המוסד מערער אודות אי הכרה כבעלי חשיבות לאומית בשלושת הספרים שהגיש במסגרת בקשת התמיכה, דבר שמנע ממנו מלעמוד בתנאי הסף הדורש שני פרסומים בעלי חשיבות לאומית: 'אהלי שם' שמהווה לטענת המכון ספר משמעותי ומפורט, הכולל גם מאמרי הגות; 'עוז לעמו ויקרא' שיש בו מעבר לדרשות של רב מקומי השקפת עולם ומטען רוחני רב ערך; מאגר מקור משותף שעשוי לשמש את הציבור הרחב כמאגר מידע חשוב. הועדה המייעצת עיינה במכתב הערעור שהוגש לפניה והחליטה כי אין מקום לשנות את המלצתה הקודמת, כדלקמן: הספר 'אהלי שם' הינו ספר הלכות מועדים ועוסק בדברים המצויים, ואינו חיבור משמעותי וחדשני. הספר 'עוז לעמו' הוא חיבור דרשות שבדרך כלל אינו מאושר במסגרת מבחני התמיכה, למעט במקרים חריגים. הספר הנוכחי, עם כל חשיבותו, אינו נחשב כמחקר תורני מעמיק בעל חשיבות לאומית. מאגר המידע מהווה יוזמה יפה, אך נכון להיום מדובר במאגר דל למדי, שאינו יכול להיות מוכר כמחקר בעל חשיבות לאומית. לאור האמור לעיל, ערעור המכון נדחה.
A66: מועד | C66: 64 | D66: 2024 | E66: 580462661 | F66: 41970075 | G66: תורה ומדינה - מכון מחקר (ע"ר) (לשעבר 'שיחת דקלים') | H66: 1001793657 | I66: בקשת תמיכה לשנת 2024 | J66: 400000 | K66: 8 | L66: 8 | M66: 8 | N66: 12 | P66: 2 | R66: 6 | U66: =SUM(K66:T66) -> 44 | V66: =U66/$U$68*$AC$2 -> 310270.49 | W66: 288800 | X66: ='הגבלה לסכום מבוקש'!U94 -> 306164.2 | Y66: מומלץ לתמיכה ע"פ סעיפים 4(1)א ו - 9 (הוראת שעה 2024) למבחני התמיכה. המכון עוסק במתן מענה תורני לאתגרי מדינה וחברה בעת החדשה בכלל, ובמדינת ישראל בפרט. הועדה המייעצת מוצאת כבעל חשיבות לאומית את נושא הממשק שבין תורה למדינה ('רמב"ם מבואר - הלכות מלכים'; 'עיונים בהלכות מדינה - ממשפטי המלוכה'). כמו כן, קבצי מאמרים לא נתמכים במסגרת זו. משתנה 'איכות המחקרים' נוקד בשים לב לרמת המחקר הטובה; משתנה 'חשיבות המחקרים' נוקד ע"פ קטגורית 'חשיבות נאותה', בשים לב לחשיבותם לציבור. ניקוד משתנה 'היקף המחקר' הולם את עבודת המחקר במכון, בשים לב לסוג העבודה הנדרשת אודות נושאים אלה; ניקוד משתנה 'מספר הפרסומים' נוקד בהתאם לשלושת הפרסומים שיצאו לאור בשנת ההערכה, בשים לב להיקפם ולחשיבותם. עזרי מחקר שנוקדו: מבנה ייעודי. מהדורות אלקטרוניות (בנוסף למודפסות) שהופצו: קשר אמיץ; עדרו ירעה; שולחן מלכים.
A67: מועד | C67: 65 | D67: 2024 | E67: 580419042 | F67: 41968452 | G67: תורת חב"ד לבני הישיבות שעל ידי צעיר | H67: 1001793842 | I67: מכוני מחקר תורניים 2024 | J67: 410000 | K67: 12 | L67: 13 | M67: 12 | N67: 12 | P67: 4 | R67: 0 | U67: =SUM(K67:T67) -> 53 | V67: =U67/$U$68*$AC$2 -> 373734.91 | W67: 346560 | X67: ='הגבלה לסכום מבוקש'!U95 -> 368788.69 | Y67: מומלץ לתמיכה לפי סעיפים 4(1)א ו - 9 (הוראת שעה 2024) למבחני התמיכה. המכון עוסק במחקר בתורת החסידות, בדגש על תורת חסידות חב"ד. במסגרת זו, מבצע המכון מחקר הכולל השוואת כתבי יד ושינויי נוסחאות ומאמרים של שושלת אדמו"רי חב"ד ותלמידי הבעש"ט - ע"פ דפוסים ראשונים, לצד ביאורים מעמיקים. לאור האמור לעיל, נוקד המכון במשתנה 'איכות המחקרים', בשים לב לרמת המחקר והביאור המעמיקות והמקצועיות, ובמשתנה 'חשיבות המחקרים' בקטגוריה 'חשיבות רבה', בשים לב לחשיבותם הרבה לציבור גדול המתעניין בתורת החסידות. המשתנים 'היקף המחקר' ו'מס' הפרסומים' נוקדו בשים לב להיקף עבודת המחקר בשנת ההערכה, כמו גם מס' הפרסומים שיצאו לאור בשנת ההערכה (3), בשים לב לכך שמדובר בעיקר בעבודת ביאור והנגשה. עזרי מחקר שנוקדו: מבנה ייעודי, כתב עת 'מעיינותיך'. מהדורות אלקטרוניות (בנוסף למודפסות) שהופצו חינם: לא נוקדו, בהעדר כאלה בשנת ההערכה.
G68: סה"כ | U68: =SUM(U3:U67) -> 2878 | V68: =SUM(V3:V67) -> 20294511 | W68: =SUM(W3:W67) -> 20089997 | X68: =SUM(X3:X67) -> 20294511

Sheet הגבלה לסכום מבוקש
B1: ='מודל תמיכה חלוקת 20,294,511 שח'!AB1 -> שנת התקציב | C1: ='מודל תמיכה חלוקת 20,294,511 שח'!AC1 -> 2024 | AF1: בדוק נתוני הזנה
B2: ='מודל תמיכה חלוקת 20,294,511 שח'!AB2 -> תקציב שנתי | C2: ='מודל תמיכה חלוקת 20,294,511 שח'!AC2 -> 20294511 | F2: =IF(AND(U130<>0,C2>U130),"נא לשים לב כי לא חולק סך התקציב בשל הגבולת לסכום מבוקש","")
B28: =MID(CELL("filename",B29),FIND("]",CELL("filename",C29),1)+1,99) -> הגבלה לסכום מבוקש
B29: מספר סידורי | C29: שם המוסד | D29: גובה סכום התמיכה המבוקש | E29: גובה תמיכה מומלצת | F29: האם קיימת הגבלה ראשונית? | G29: תמיכה מקסימאלית | H29: גובה תמיכה לאחר הגבלה לסכום מבוקש | U29: תמיכה יחסית לאחר הגבלה לסכום מבוקש | Z29: שיעור תמיכה יחסי | AC29: בקרת סכום התמיכה המבוקש
I30: נתון עזר 2 | J30: תמיכה מקסימאלית 2 | K30: תמיכה 2 | L30: נתון עזר 3 | M30: תמיכה מקסימאלית 3 | N30: תמיכה 3 | O30: נתון עזר 4 | P30: תמיכה מקסימאלית 4 | Q30: תמיכה 4 | R30: נתון עזר 5 | S30: תמיכה מקסימאלית 5 | T30: תמיכה 5
B31: =IF(C31="","",ROW()-30) -> 1 | C31: =IF('מודל תמיכה חלוקת 20,294,511 שח'!G3="","",'מודל תמיכה חלוקת 20,294,511 שח'!G3) -> "המכון ללימוד מחקר ובנין המקדש" | D31: =IF(C31="","",'מודל תמיכה חלוקת 20,294,511 שח'!J3) -> 510000 | E31: =הגנה!AX31 -> 263019.79 | F31: =IF(C31="","",IF(E31>$D31,1,0)) -> 0 | G31: =IF($C31="","",MIN(D31:E31)) -> 263019.79 | H31: =IF($C31="","",IF(F31=1,G31,G31/SUMIF(F$31:F$129,0,G$31:G$129)*($C$2-SUMIF(F$31:F$129,1,G$31:G$129)))) -> 264414.53 | I31: =IF(OR(H31>$D31,$F31=1),1,0) -> 0 | J31: =IF($C31="","",MIN(H31,$D31)) -> 264414.53 | K31: =IFERROR(IF($C31="","",IF(I31=1,J31,J31/SUMIF(I$31:I$129,0,J$31:J$129)*($C$2-SUMIF(I$31:I$129,1,J$31:J$129)))),0) -> 264414.53 | L31: =IF(OR(K31>$D31,$F31=1,$I31=1),1,0) -> 0 | M31: =IF($C31="","",MIN(K31,$D31)) -> 264414.53 | N31: =IFERROR(IF($C31="","",IF(L31=1,M31,M31/SUMIF(L$31:L$129,0,M$31:M$129)*($C$2-SUMIF(L$31:L$129,1,M$31:M$129)))),0) -> 264414.53 | O31: =IF(OR(N31>$D31,$F31=1,$I31=1,$L31=1),1,0) -> 0 | P31: =IF($C31="","",MIN(N31,$D31)) -> 264414.53 | Q31: =IFERROR(IF($C31="","",IF(O31=2,P31,IF(O31=1,P31,P31/SUMIF(O$31:O$129,0,P$31:P$129)*($C$2-SUMIF(O$31:O$129,1,P$31:P$129)-SUMIF(O$31:O$129,2,P$31:P$129))))),0) -> 264414.53 | R31: =IF(OR(Q31>$D31,$F31=1,$I31=1,$L31=1,$O31=1),1,0) -> 0 | S31: =IF($C31="","",MIN(Q31,$D31)) -> 264414.53 | T31: =IFERROR(IF($C31="","",IF(R31=2,S31,IF(R31=1,S31,S31/SUMIF(R$31:R$129,0,S$31:S$129)*($C$2-SUMIF(R$31:R$129,1,S$31:S$129)-SUMIF(R$31:R$129,2,S$31:S$129))))),0) -> 264414.53 | U31: =IF($C31="","",IF(AC31=0,$AF$1,IFERROR(T31,$AF$1))) -> 264414.53 | Z31: =IF(C31="","",IFERROR(U31/SUMIF($U$31:$U$129,"<>#DIV/0!"),$AF$1)) -> 0.013028869 | AC31: =IF(OR(C31="",D31=""),0,IFERROR(IF(D31*1>=0,1,0),0)) -> 1
B32: =IF(C32="","",ROW()-30) -> 2 | C32: =IF('מודל תמיכה חלוקת 20,294,511 שח'!G4="","",'מודל תמיכה חלוקת 20,294,511 שח'!G4) -> אוצר ערכי החסידות (ע"ר) | D32: =IF(C32="","",'מודל תמיכה חלוקת 20,294,511 שח'!J4) -> 900000 | E32: =הגנה!AX32 -> 595255.32 | F32: =IF(C32="","",IF(E32>$D32,1,0)) -> 0 | G32: =IF($C32="","",MIN(D32:E32)) -> 595255.32 | H32: =IF($C32="","",IF(F32=1,G32,G32/SUMIF(F$31:F$129,0,G$31:G$129)*($C$2-SUMIF(F$31:F$129,1,G$31:G$129)))) -> 598411.84 | I32: =IF(OR(H32>$D32,$F32=1),1,0) -> 0 | J32: =IF($C32="","",MIN(H32,$D32)) -> 598411.84 | K32: =IFERROR(IF($C32="","",IF(I32=1,J32,J32/SUMIF(I$31:I$129,0,J$31:J$129)*($C$2-SUMIF(I$31:I$129,1,J$31:J$129)))),0) -> 598411.84 | L32: =IF(OR(K32>$D32,$F32=1,$I32=1),1,0) -> 0 | M32: =IF($C32="","",MIN(K32,$D32)) -> 598411.84 | N32: =IFERROR(IF($C32="","",IF(L32=1,M32,M32/SUMIF(L$31:L$129,0,M$31:M$129)*($C$2-SUMIF(L$31:L$129,1,M$31:M$129)))),0) -> 598411.84 | O32: =IF(OR(N32>$D32,$F32=1,$I32=1,$L32=1),1,0) -> 0 | P32: =IF($C32="","",MIN(N32,$D32)) -> 598411.84 | Q32: =IFERROR(IF($C32="","",IF(O32=2,P32,IF(O32=1,P32,P32/SUMIF(O$31:O$129,0,P$31:P$129)*($C$2-SUMIF(O$31:O$129,1,P$31:P$129)-SUMIF(O$31:O$129,2,P$31:P$129))))),0) -> 598411.84 | R32: =IF(OR(Q32>$D32,$F32=1,$I32=1,$L32=1,$O32=1),1,0) -> 0 | S32: =IF($C32="","",MIN(Q32,$D32)) -> 598411.84 | T32: =IFERROR(IF($C32="","",IF(R32=2,S32,IF(R32=1,S32,S32/SUMIF(R$31:R$129,0,S$31:S$129)*($C$2-SUMIF(R$31:R$129,1,S$31:S$129)-SUMIF(R$31:R$129,2,S$31:S$129))))),0) -> 598411.84 | U32: =IF($C32="","",IF(AC32=0,$AF$1,IFERROR(T32,$AF$1))) -> 598411.84 | Z32: =IF(C32="","",IFERROR(U32/SUMIF($U$31:$U$129,"<>#DIV/0!"),$AF$1)) -> 0.029486389 | AC32: =IF(OR(C32="",D32=""),0,IFERROR(IF(D32*1>=0,1,0),0)) -> 1
B33: =IF(C33="","",ROW()-30) -> 3 | C33: =IF('מודל תמיכה חלוקת 20,294,511 שח'!G5="","",'מודל תמיכה חלוקת 20,294,511 שח'!G5) -> אוצרות שלמה להוצאת וההדרת כתבי מרן | D33: =IF(C33="","",'מודל תמיכה חלוקת 20,294,511 שח'!J5) -> 500000 | E33: =הגנה!AX33 -> 442980.7 | F33: =IF(C33="","",IF(E33>$D33,1,0)) -> 0 | G33: =IF($C33="","",MIN(D33:E33)) -> 442980.7 | H33: =IF($C33="","",IF(F33=1,G33,G33/SUMIF(F$31:F$129,0,G$31:G$129)*($C$2-SUMIF(F$31:F$129,1,G$31:G$129)))) -> 445329.74 | I33: =IF(OR(H33>$D33,$F33=1),1,0) -> 0 | J33: =IF($C33="","",MIN(H33,$D33)) -> 445329.74 | K33: =IFERROR(IF($C33="","",IF(I33=1,J33,J33/SUMIF(I$31:I$129,0,J$31:J$129)*($C$2-SUMIF(I$31:I$129,1,J$31:J$129)))),0) -> 445329.74 | L33: =IF(OR(K33>$D33,$F33=1,$I33=1),1,0) -> 0 | M33: =IF($C33="","",MIN(K33,$D33)) -> 445329.74 | N33: =IFERROR(IF($C33="","",IF(L33=1,M33,M33/SUMIF(L$31:L$129,0,M$31:M$129)*($C$2-SUMIF(L$31:L$129,1,M$31:M$129)))),0) -> 445329.74 | O33: =IF(OR(N33>$D33,$F33=1,$I33=1,$L33=1),1,0) -> 0 | P33: =IF($C33="","",MIN(N33,$D33)) -> 445329.74 | Q33: =IFERROR(IF($C33="","",IF(O33=2,P33,IF(O33=1,P33,P33/SUMIF(O$31:O$129,0,P$31:P$129)*($C$2-SUMIF(O$31:O$129,1,P$31:P$129)-SUMIF(O$31:O$129,2,P$31:P$129))))),0) -> 445329.74 | R33: =IF(OR(Q33>$D33,$F33=1,$I33=1,$L33=1,$O33=1),1,0) -> 0 | S33: =IF($C33="","",MIN(Q33,$D33)) -> 445329.74 | T33: =IFERROR(IF($C33="","",IF(R33=2,S33,IF(R33=1,S33,S33/SUMIF(R$31:R$129,0,S$31:S$129)*($C$2-SUMIF(R$31:R$129,1,S$31:S$129)-SUMIF(R$31:R$129,2,S$31:S$129))))),0) -> 445329.74 | U33: =IF($C33="","",IF(AC33=0,$AF$1,IFERROR(T33,$AF$1))) -> 445329.74 | Z33: =IF(C33="","",IFERROR(U33/SUMIF($U$31:$U$129,"<>#DIV/0!"),$AF$1)) -> 0.021943359 | AC33: =IF(OR(C33="",D33=""),0,IFERROR(IF(D33*1>=0,1,0),0)) -> 1
B34: =IF(C34="","",ROW()-30) -> 4 | C34: =IF('מודל תמיכה חלוקת 20,294,511 שח'!G6="","",'מודל תמיכה חלוקת 20,294,511 שח'!G6) -> אור תורה סטון (ע"ר) | D34: =IF(C34="","",'מודל תמיכה חלוקת 20,294,511 שח'!J6) -> 525000 | E34: =הגנה!AX34 -> 0 | F34: =IF(C34="","",IF(E34>$D34,1,0)) -> 0 | G34: =IF($C34="","",MIN(D34:E34)) -> 0 | H34: =IF($C34="","",IF(F34=1,G34,G34/SUMIF(F$31:F$129,0,G$31:G$129)*($C$2-SUMIF(F$31:F$129,1,G$31:G$129)))) -> 0 | I34: =IF(OR(H34>$D34,$F34=1),1,0) -> 0 | J34: =IF($C34="","",MIN(H34,$D34)) -> 0 | K34: =IFERROR(IF($C34="","",IF(I34=1,J34,J34/SUMIF(I$31:I$129,0,J$31:J$129)*($C$2-SUMIF(I$31:I$129,1,J$31:J$129)))),0) -> 0 | L34: =IF(OR(K34>$D34,$F34=1,$I34=1),1,0) -> 0 | M34: =IF($C34="","",MIN(K34,$D34)) -> 0 | N34: =IFERROR(IF($C34="","",IF(L34=1,M34,M34/SUMIF(L$31:L$129,0,M$31:M$129)*($C$2-SUMIF(L$31:L$129,1,M$31:M$129)))),0) -> 0 | O34: =IF(OR(N34>$D34,$F34=1,$I34=1,$L34=1),1,0) -> 0 | P34: =IF($C34="","",MIN(N34,$D34)) -> 0 | Q34: =IFERROR(IF($C34="","",IF(O34=2,P34,IF(O34=1,P34,P34/SUMIF(O$31:O$129,0,P$31:P$129)*($C$2-SUMIF(O$31:O$129,1,P$31:P$129)-SUMIF(O$31:O$129,2,P$31:P$129))))),0) -> 0 | R34: =IF(OR(Q34>$D34,$F34=1,$I34=1,$L34=1,$O34=1),1,0) -> 0 | S34: =IF($C34="","",MIN(Q34,$D34)) -> 0 | T34: =IFERROR(IF($C34="","",IF(R34=2,S34,IF(R34=1,S34,S34/SUMIF(R$31:R$129,0,S$31:S$129)*($C$2-SUMIF(R$31:R$129,1,S$31:S$129)-SUMIF(R$31:R$129,2,S$31:S$129))))),0) -> 0 | U34: =IF($C34="","",IF(AC34=0,$AF$1,IFERROR(T34,$AF$1))) -> 0 | Z34: =IF(C34="","",IFERROR(U34/SUMIF($U$31:$U$129,"<>#DIV/0!"),$AF$1)) -> 0 | AC34: =IF(OR(C34="",D34=""),0,IFERROR(IF(D34*1>=0,1,0),0)) -> 1
B35: =IF(C35="","",ROW()-30) -> 5 | C35: =IF('מודל תמיכה חלוקת 20,294,511 שח'!G7="","",'מודל תמיכה חלוקת 20,294,511 שח'!G7) -> אורות חמדה (ע"ר) | D35: =IF(C35="","",'מודל תמיכה חלוקת 20,294,511 שח'!J7) -> 198000 | E35: =הגנה!AX35 -> 152274.62 | F35: =IF(C35="","",IF(E35>$D35,1,0)) -> 0 | G35: =IF($C35="","",MIN(D35:E35)) -> 152274.62 | H35: =IF($C35="","",IF(F35=1,G35,G35/SUMIF(F$31:F$129,0,G$31:G$129)*($C$2-SUMIF(F$31:F$129,1,G$31:G$129)))) -> 153082.1 | I35: =IF(OR(H35>$D35,$F35=1),1,0) -> 0 | J35: =IF($C35="","",MIN(H35,$D35)) -> 153082.1 | K35: =IFERROR(IF($C35="","",IF(I35=1,J35,J35/SUMIF(I$31:I$129,0,J$31:J$129)*($C$2-SUMIF(I$31:I$129,1,J$31:J$129)))),0) -> 153082.1 | L35: =IF(OR(K35>$D35,$F35=1,$I35=1),1,0) -> 0 | M35: =IF($C35="","",MIN(K35,$D35)) -> 153082.1 | N35: =IFERROR(IF($C35="","",IF(L35=1,M35,M35/SUMIF(L$31:L$129,0,M$31:M$129)*($C$2-SUMIF(L$31:L$129,1,M$31:M$129)))),0) -> 153082.1 | O35: =IF(OR(N35>$D35,$F35=1,$I35=1,$L35=1),1,0) -> 0 | P35: =IF($C35="","",MIN(N35,$D35)) -> 153082.1 | Q35: =IFERROR(IF($C35="","",IF(O35=2,P35,IF(O35=1,P35,P35/SUMIF(O$31:O$129,0,P$31:P$129)*($C$2-SUMIF(O$31:O$129,1,P$31:P$129)-SUMIF(O$31:O$129,2,P$31:P$129))))),0) -> 153082.1 | R35: =IF(OR(Q35>$D35,$F35=1,$I35=1,$L35=1,$O35=1),1,0) -> 0 | S35: =IF($C35="","",MIN(Q35,$D35)) -> 153082.1 | T35: =IFERROR(IF($C35="","",IF(R35=2,S35,IF(R35=1,S35,S35/SUMIF(R$31:R$129,0,S$31:S$129)*($C$2-SUMIF(R$31:R$129,1,S$31:S$129)-SUMIF(R$31:R$129,2,S$31:S$129))))),0) -> 153082.1 | U35: =IF($C35="","",IF(AC35=0,$AF$1,IFERROR(T35,$AF$1))) -> 153082.1 | Z35: =IF(C35="","",IFERROR(U35/SUMIF($U$31:$U$129,"<>#DIV/0!"),$AF$1)) -> 0.0075430297 | AC35: =IF(OR(C35="",D35=""),0,IFERROR(IF(D35*1>=0,1,0),0)) -> 1
B36: =IF(C36="","",ROW()-30) -> 6 | C36: =IF('מודל תמיכה חלוקת 20,294,511 שח'!G8="","",'מודל תמיכה חלוקת 20,294,511 שח'!G8) -> אריאל מפעלי תורה יהדות וחברה בישראל | D36: =IF(C36="","",'מודל תמיכה חלוקת 20,294,511 שח'!J8) -> 450000 | E36: =הגנה!AX36 -> 235333.5 | F36: =IF(C36="","",IF(E36>$D36,1,0)) -> 0 | G36: =IF($C36="","",MIN(D36:E36)) -> 235333.5 | H36: =IF($C36="","",IF(F36=1,G36,G36/SUMIF(F$31:F$129,0,G$31:G$129)*($C$2-SUMIF(F$31:F$129,1,G$31:G$129)))) -> 236581.43 | I36: =IF(OR(H36>$D36,$F36=1),1,0) -> 0 | J36: =IF($C36="","",MIN(H36,$D36)) -> 236581.43 | K36: =IFERROR(IF($C36="","",IF(I36=1,J36,J36/SUMIF(I$31:I$129,0,J$31:J$129)*($C$2-SUMIF(I$31:I$129,1,J$31:J$129)))),0) -> 236581.43 | L36: =IF(OR(K36>$D36,$F36=1,$I36=1),1,0) -> 0 | M36: =IF($C36="","",MIN(K36,$D36)) -> 236581.43 | N36: =IFERROR(IF($C36="","",IF(L36=1,M36,M36/SUMIF(L$31:L$129,0,M$31:M$129)*($C$2-SUMIF(L$31:L$129,1,M$31:M$129)))),0) -> 236581.43 | O36: =IF(OR(N36>$D36,$F36=1,$I36=1,$L36=1),1,0) -> 0 | P36: =IF($C36="","",MIN(N36,$D36)) -> 236581.43 | Q36: =IFERROR(IF($C36="","",IF(O36=2,P36,IF(O36=1,P36,P36/SUMIF(O$31:O$129,0,P$31:P$129)*($C$2-SUMIF(O$31:O$129,1,P$31:P$129)-SUMIF(O$31:O$129,2,P$31:P$129))))),0) -> 236581.43 | R36: =IF(OR(Q36>$D36,$F36=1,$I36=1,$L36=1,$O36=1),1,0) -> 0 | S36: =IF($C36="","",MIN(Q36,$D36)) -> 236581.43 | T36: =IFERROR(IF($C36="","",IF(R36=2,S36,IF(R36=1,S36,S36/SUMIF(R$31:R$129,0,S$31:S$129)*($C$2-SUMIF(R$31:R$129,1,S$31:S$129)-SUMIF(R$31:R$129,2,S$31:S$129))))),0) -> 236581.43 | U36: =IF($C36="","",IF(AC36=0,$AF$1,IFERROR(T36,$AF$1))) -> 236581.43 | Z36: =IF(C36="","",IFERROR(U36/SUMIF($U$31:$U$129,"<>#DIV/0!"),$AF$1)) -> 0.01165741 | AC36: =IF(OR(C36="",D36=""),0,IFERROR(IF(D36*1>=0,1,0),0)) -> 1
B37: =IF(C37="","",ROW()-30) -> 7 | C37: =IF('מודל תמיכה חלוקת 20,294,511 שח'!G9="","",'מודל תמיכה חלוקת 20,294,511 שח'!G9) -> בית המדרש להלכה בהתישבות - אמונת אי"ש | D37: =IF(C37="","",'מודל תמיכה חלוקת 20,294,511 שח'!J9) -> 1000000 | E37: =הגנה!AX37 -> 495958.73 | F37: =IF(C37="","",IF(E37>$D37,1,0)) -> 0 | G37: =IF($C37="","",MIN(D37:E37)) -> 495958.73 | H37: =IF($C37="","",IF(F37=1,G37,G37/SUMIF(F$31:F$129,0,G$31:G$129)*($C$2-SUMIF(F$31:F$129,1,G$31:G$129)))) -> 498588.7 | I37: =IF(OR(H37>$D37,$F37=1),1,0) -> 0 | J37: =IF($C37="","",MIN(H37,$D37)) -> 498588.7 | K37: =IFERROR(IF($C37="","",IF(I37=1,J37,J37/SUMIF(I$31:I$129,0,J$31:J$129)*($C$2-SUMIF(I$31:I$129,1,J$31:J$129)))),0) -> 498588.7 | L37: =IF(OR(K37>$D37,$F37=1,$I37=1),1,0) -> 0 | M37: =IF($C37="","",MIN(K37,$D37)) -> 498588.7 | N37: =IFERROR(IF($C37="","",IF(L37=1,M37,M37/SUMIF(L$31:L$129,0,M$31:M$129)*($C$2-SUMIF(L$31:L$129,1,M$31:M$129)))),0) -> 498588.7 | O37: =IF(OR(N37>$D37,$F37=1,$I37=1,$L37=1),1,0) -> 0 | P37: =IF($C37="","",MIN(N37,$D37)) -> 498588.7 | Q37: =IFERROR(IF($C37="","",IF(O37=2,P37,IF(O37=1,P37,P37/SUMIF(O$31:O$129,0,P$31:P$129)*($C$2-SUMIF(O$31:O$129,1,P$31:P$129)-SUMIF(O$31:O$129,2,P$31:P$129))))),0) -> 498588.7 | R37: =IF(OR(Q37>$D37,$F37=1,$I37=1,$L37=1,$O37=1),1,0) -> 0 | S37: =IF($C37="","",MIN(Q37,$D37)) -> 498588.7 | T37: =IFERROR(IF($C37="","",IF(R37=2,S37,IF(R37=1,S37,S37/SUMIF(R$31:R$129,0,S$31:S$129)*($C$2-SUMIF(R$31:R$129,1,S$31:S$129)-SUMIF(R$31:R$129,2,S$31:S$129))))),0) -> 498588.7 | U37: =IF($C37="","",IF(AC37=0,$AF$1,IFERROR(T37,$AF$1))) -> 498588.7 | Z37: =IF(C37="","",IFERROR(U37/SUMIF($U$31:$U$129,"<>#DIV/0!"),$AF$1)) -> 0.024567663 | AC37: =IF(OR(C37="",D37=""),0,IFERROR(IF(D37*1>=0,1,0),0)) -> 1
B38: =IF(C38="","",ROW()-30) -> 8 | C38: =IF('מודל תמיכה חלוקת 20,294,511 שח'!G10="","",'מודל תמיכה חלוקת 20,294,511 שח'!G10) -> בית ועד הר-חברון (ע"ר) | D38: =IF(C38="","",'מודל תמיכה חלוקת 20,294,511 שח'!J10) -> 290000 | E38: =הגנה!AX38 -> 269941.37 | F38: =IF(C38="","",IF(E38>$D38,1,0)) -> 0 | G38: =IF($C38="","",MIN(D38:E38)) -> 269941.37 | H38: =IF($C38="","",IF(F38=1,G38,G38/SUMIF(F$31:F$129,0,G$31:G$129)*($C$2-SUMIF(F$31:F$129,1,G$31:G$129)))) -> 271372.81 | I38: =IF(OR(H38>$D38,$F38=1),1,0) -> 0 | J38: =IF($C38="","",MIN(H38,$D38)) -> 271372.81 | K38: =IFERROR(IF($C38="","",IF(I38=1,J38,J38/SUMIF(I$31:I$129,0,J$31:J$129)*($C$2-SUMIF(I$31:I$129,1,J$31:J$129)))),0) -> 271372.81 | L38: =IF(OR(K38>$D38,$F38=1,$I38=1),1,0) -> 0 | M38: =IF($C38="","",MIN(K38,$D38)) -> 271372.81 | N38: =IFERROR(IF($C38="","",IF(L38=1,M38,M38/SUMIF(L$31:L$129,0,M$31:M$129)*($C$2-SUMIF(L$31:L$129,1,M$31:M$129)))),0) -> 271372.81 | O38: =IF(OR(N38>$D38,$F38=1,$I38=1,$L38=1),1,0) -> 0 | P38: =IF($C38="","",MIN(N38,$D38)) -> 271372.81 | Q38: =IFERROR(IF($C38="","",IF(O38=2,P38,IF(O38=1,P38,P38/SUMIF(O$31:O$129,0,P$31:P$129)*($C$2-SUMIF(O$31:O$129,1,P$31:P$129)-SUMIF(O$31:O$129,2,P$31:P$129))))),0) -> 271372.81 | R38: =IF(OR(Q38>$D38,$F38=1,$I38=1,$L38=1,$O38=1),1,0) -> 0 | S38: =IF($C38="","",MIN(Q38,$D38)) -> 271372.81 | T38: =IFERROR(IF($C38="","",IF(R38=2,S38,IF(R38=1,S38,S38/SUMIF(R$31:R$129,0,S$31:S$129)*($C$2-SUMIF(R$31:R$129,1,S$31:S$129)-SUMIF(R$31:R$129,2,S$31:S$129))))),0) -> 271372.81 | U38: =IF($C38="","",IF(AC38=0,$AF$1,IFERROR(T38,$AF$1))) -> 271372.81 | Z38: =IF(C38="","",IFERROR(U38/SUMIF($U$31:$U$129,"<>#DIV/0!"),$AF$1)) -> 0.013371734 | AC38: =IF(OR(C38="",D38=""),0,IFERROR(IF(D38*1>=0,1,0),0)) -> 1
B39: =IF(C39="","",ROW()-30) -> 9 | C39: =IF('מודל תמיכה חלוקת 20,294,511 שח'!G11="","",'מודל תמיכה חלוקת 20,294,511 שח'!G11) -> בית תלמוד לרבנים בישראל (ע"ר) | D39: =IF(C39="","",'מודל תמיכה חלוקת 20,294,511 שח'!J11) -> 1500000 | E39: =הגנה!AX39 -> 0 | F39: =IF(C39="","",IF(E39>$D39,1,0)) -> 0 | G39: =IF($C39="","",MIN(D39:E39)) -> 0 | H39: =IF($C39="","",IF(F39=1,G39,G39/SUMIF(F$31:F$129,0,G$31:G$129)*($C$2-SUMIF(F$31:F$129,1,G$31:G$129)))) -> 0 | I39: =IF(OR(H39>$D39,$F39=1),1,0) -> 0 | J39: =IF($C39="","",MIN(H39,$D39)) -> 0 | K39: =IFERROR(IF($C39="","",IF(I39=1,J39,J39/SUMIF(I$31:I$129,0,J$31:J$129)*($C$2-SUMIF(I$31:I$129,1,J$31:J$129)))),0) -> 0 | L39: =IF(OR(K39>$D39,$F39=1,$I39=1),1,0) -> 0 | M39: =IF($C39="","",MIN(K39,$D39)) -> 0 | N39: =IFERROR(IF($C39="","",IF(L39=1,M39,M39/SUMIF(L$31:L$129,0,M$31:M$129)*($C$2-SUMIF(L$31:L$129,1,M$31:M$129)))),0) -> 0 | O39: =IF(OR(N39>$D39,$F39=1,$I39=1,$L39=1),1,0) -> 0 | P39: =IF($C39="","",MIN(N39,$D39)) -> 0 | Q39: =IFERROR(IF($C39="","",IF(O39=2,P39,IF(O39=1,P39,P39/SUMIF(O$31:O$129,0,P$31:P$129)*($C$2-SUMIF(O$31:O$129,1,P$31:P$129)-SUMIF(O$31:O$129,2,P$31:P$129))))),0) -> 0 | R39: =IF(OR(Q39>$D39,$F39=1,$I39=1,$L39=1,$O39=1),1,0) -> 0 | S39: =IF($C39="","",MIN(Q39,$D39)) -> 0 | T39: =IFERROR(IF($C39="","",IF(R39=2,S39,IF(R39=1,S39,S39/SUMIF(R$31:R$129,0,S$31:S$129)*($C$2-SUMIF(R$31:R$129,1,S$31:S$129)-SUMIF(R$31:R$129,2,S$31:S$129))))),0) -> 0 | U39: =IF($C39="","",IF(AC39=0,$AF$1,IFERROR(T39,$AF$1))) -> 0 | Z39: =IF(C39="","",IFERROR(U39/SUMIF($U$31:$U$129,"<>#DIV/0!"),$AF$1)) -> 0 | AC39: =IF(OR(C39="",D39=""),0,IFERROR(IF(D39*1>=0,1,0),0)) -> 1
B40: =IF(C40="","",ROW()-30) -> 10 | C40: =IF('מודל תמיכה חלוקת 20,294,511 שח'!G12="","",'מודל תמיכה חלוקת 20,294,511 שח'!G12) -> בשורת הארץ ע"ש יוסף, נפתלי ודבורה ב | D40: =IF(C40="","",'מודל תמיכה חלוקת 20,294,511 שח'!J12) -> 350000 | E40: =הגנה!AX40 -> 242255.07 | F40: =IF(C40="","",IF(E40>$D40,1,0)) -> 0 | G40: =IF($C40="","",MIN(D40:E40)) -> 242255.07 | H40: =IF($C40="","",IF(F40=1,G40,G40/SUMIF(F$31:F$129,0,G$31:G$129)*($C$2-SUMIF(F$31:F$129,1,G$31:G$129)))) -> 243539.7 | I40: =IF(OR(H40>$D40,$F40=1),1,0) -> 0 | J40: =IF($C40="","",MIN(H40,$D40)) -> 243539.7 | K40: =IFERROR(IF($C40="","",IF(I40=1,J40,J40/SUMIF(I$31:I$129,0,J$31:J$129)*($C$2-SUMIF(I$31:I$129,1,J$31:J$129)))),0) -> 243539.7 | L40: =IF(OR(K40>$D40,$F40=1,$I40=1),1,0) -> 0 | M40: =IF($C40="","",MIN(K40,$D40)) -> 243539.7 | N40: =IFERROR(IF($C40="","",IF(L40=1,M40,M40/SUMIF(L$31:L$129,0,M$31:M$129)*($C$2-SUMIF(L$31:L$129,1,M$31:M$129)))),0) -> 243539.7 | O40: =IF(OR(N40>$D40,$F40=1,$I40=1,$L40=1),1,0) -> 0 | P40: =IF($C40="","",MIN(N40,$D40)) -> 243539.7 | Q40: =IFERROR(IF($C40="","",IF(O40=2,P40,IF(O40=1,P40,P40/SUMIF(O$31:O$129,0,P$31:P$129)*($C$2-SUMIF(O$31:O$129,1,P$31:P$129)-SUMIF(O$31:O$129,2,P$31:P$129))))),0) -> 243539.7 | R40: =IF(OR(Q40>$D40,$F40=1,$I40=1,$L40=1,$O40=1),1,0) -> 0 | S40: =IF($C40="","",MIN(Q40,$D40)) -> 243539.7 | T40: =IFERROR(IF($C40="","",IF(R40=2,S40,IF(R40=1,S40,S40/SUMIF(R$31:R$129,0,S$31:S$129)*($C$2-SUMIF(R$31:R$129,1,S$31:S$129)-SUMIF(R$31:R$129,2,S$31:S$129))))),0) -> 243539.7 | U40: =IF($C40="","",IF(AC40=0,$AF$1,IFERROR(T40,$AF$1))) -> 243539.7 | Z40: =IF(C40="","",IFERROR(U40/SUMIF($U$31:$U$129,"<>#DIV/0!"),$AF$1)) -> 0.012000274 | AC40: =IF(OR(C40="",D40=""),0,IFERROR(IF(D40*1>=0,1,0),0)) -> 1
B41: =IF(C41="","",ROW()-30) -> 11 | C41: =IF('מודל תמיכה חלוקת 20,294,511 שח'!G13="","",'מודל תמיכה חלוקת 20,294,511 שח'!G13) -> דרכי הוראה לרבנים (ע"ר) | D41: =IF(C41="","",'מודל תמיכה חלוקת 20,294,511 שח'!J13) -> 370000 | E41: =הגנה!AX41 -> 256731.16 | F41: =IF(C41="","",IF(E41>$D41,1,0)) -> 0 | G41: =IF($C41="","",MIN(D41:E41)) -> 256731.16 | H41: =IF($C41="","",IF(F41=1,G41,G41/SUMIF(F$31:F$129,0,G$31:G$129)*($C$2-SUMIF(F$31:F$129,1,G$31:G$129)))) -> 258092.55 | I41: =IF(OR(H41>$D41,$F41=1),1,0) -> 0 | J41: =IF($C41="","",MIN(H41,$D41)) -> 258092.55 | K41: =IFERROR(IF($C41="","",IF(I41=1,J41,J41/SUMIF(I$31:I$129,0,J$31:J$129)*($C$2-SUMIF(I$31:I$129,1,J$31:J$129)))),0) -> 258092.55 | L41: =IF(OR(K41>$D41,$F41=1,$I41=1),1,0) -> 0 | M41: =IF($C41="","",MIN(K41,$D41)) -> 258092.55 | N41: =IFERROR(IF($C41="","",IF(L41=1,M41,M41/SUMIF(L$31:L$129,0,M$31:M$129)*($C$2-SUMIF(L$31:L$129,1,M$31:M$129)))),0) -> 258092.55 | O41: =IF(OR(N41>$D41,$F41=1,$I41=1,$L41=1),1,0) -> 0 | P41: =IF($C41="","",MIN(N41,$D41)) -> 258092.55 | Q41: =IFERROR(IF($C41="","",IF(O41=2,P41,IF(O41=1,P41,P41/SUMIF(O$31:O$129,0,P$31:P$129)*($C$2-SUMIF(O$31:O$129,1,P$31:P$129)-SUMIF(O$31:O$129,2,P$31:P$129))))),0) -> 258092.55 | R41: =IF(OR(Q41>$D41,$F41=1,$I41=1,$L41=1,$O41=1),1,0) -> 0 | S41: =IF($C41="","",MIN(Q41,$D41)) -> 258092.55 | T41: =IFERROR(IF($C41="","",IF(R41=2,S41,IF(R41=1,S41,S41/SUMIF(R$31:R$129,0,S$31:S$129)*($C$2-SUMIF(R$31:R$129,1,S$31:S$129)-SUMIF(R$31:R$129,2,S$31:S$129))))),0) -> 258092.55 | U41: =IF($C41="","",IF(AC41=0,$AF$1,IFERROR(T41,$AF$1))) -> 258092.55 | Z41: =IF(C41="","",IFERROR(U41/SUMIF($U$31:$U$129,"<>#DIV/0!"),$AF$1)) -> 0.012717358 | AC41: =IF(OR(C41="",D41=""),0,IFERROR(IF(D41*1>=0,1,0),0)) -> 1
B42: =IF(C42="","",ROW()-30) -> 12 | C42: =IF('מודל תמיכה חלוקת 20,294,511 שח'!G14="","",'מודל תמיכה חלוקת 20,294,511 שח'!G14) -> דרכי שמחה (ע"ר) | D42: =IF(C42="","",'מודל תמיכה חלוקת 20,294,511 שח'!J14) -> 850000 | E42: =הגנה!AX42 -> 554306.72 | F42: =IF(C42="","",IF(E42>$D42,1,0)) -> 0 | G42: =IF($C42="","",MIN(D42:E42)) -> 554306.72 | H42: =IF($C42="","",IF(F42=1,G42,G42/SUMIF(F$31:F$129,0,G$31:G$129)*($C$2-SUMIF(F$31:F$129,1,G$31:G$129)))) -> 557246.1 | I42: =IF(OR(H42>$D42,$F42=1),1,0) -> 0 | J42: =IF($C42="","",MIN(H42,$D42)) -> 557246.1 | K42: =IFERROR(IF($C42="","",IF(I42=1,J42,J42/SUMIF(I$31:I$129,0,J$31:J$129)*($C$2-SUMIF(I$31:I$129,1,J$31:J$129)))),0) -> 557246.1 | L42: =IF(OR(K42>$D42,$F42=1,$I42=1),1,0) -> 0 | M42: =IF($C42="","",MIN(K42,$D42)) -> 557246.1 | N42: =IFERROR(IF($C42="","",IF(L42=1,M42,M42/SUMIF(L$31:L$129,0,M$31:M$129)*($C$2-SUMIF(L$31:L$129,1,M$31:M$129)))),0) -> 557246.1 | O42: =IF(OR(N42>$D42,$F42=1,$I42=1,$L42=1),1,0) -> 0 | P42: =IF($C42="","",MIN(N42,$D42)) -> 557246.1 | Q42: =IFERROR(IF($C42="","",IF(O42=2,P42,IF(O42=1,P42,P42/SUMIF(O$31:O$129,0,P$31:P$129)*($C$2-SUMIF(O$31:O$129,1,P$31:P$129)-SUMIF(O$31:O$129,2,P$31:P$129))))),0) -> 557246.1 | R42: =IF(OR(Q42>$D42,$F42=1,$I42=1,$L42=1,$O42=1),1,0) -> 0 | S42: =IF($C42="","",MIN(Q42,$D42)) -> 557246.1 | T42: =IFERROR(IF($C42="","",IF(R42=2,S42,IF(R42=1,S42,S42/SUMIF(R$31:R$129,0,S$31:S$129)*($C$2-SUMIF(R$31:R$129,1,S$31:S$129)-SUMIF(R$31:R$129,2,S$31:S$129))))),0) -> 557246.1 | U42: =IF($C42="","",IF(AC42=0,$AF$1,IFERROR(T42,$AF$1))) -> 557246.1 | Z42: =IF(C42="","",IFERROR(U42/SUMIF($U$31:$U$129,"<>#DIV/0!"),$AF$1)) -> 0.027457971 | AC42: =IF(OR(C42="",D42=""),0,IFERROR(IF(D42*1>=0,1,0),0)) -> 1
... B95: =IF(C95="","",ROW()-30) -> 65 | C95: =IF('מודל תמיכה חלוקת 20,294,511 שח'!G67="","",'מודל תמיכה חלוקת 20,294,511 שח'!G67) -> תורת חב"ד לבני הישיבות שעל ידי צעיר | D95: =IF(C95="","",'מודל תמיכה חלוקת 20,294,511 שח'!J67) -> 410000 | E95: =הגנה!AX95 -> 366843.39 | F95: =IF(C95="","",IF(E95>$D95,1,0)) -> 0 | G95: =IF($C95="","",MIN(D95:E95)) -> 366843.39 | H95: =IF($C95="","",IF(F95=1,G95,G95/SUMIF(F$31:F$129,0,G$31:G$129)*($C$2-SUMIF(F$31:F$129,1,G$31:G$129)))) -> 368788.69 | I95: =IF(OR(H95>$D95,$F95=1),1,0) -> 0 | J95: =IF($C95="","",MIN(H95,$D95)) -> 368788.69 | K95: =IFERROR(IF($C95="","",IF(I95=1,J95,J95/SUMIF(I$31:I$129,0,J$31:J$129)*($C$2-SUMIF(I$31:I$129,1,J$31:J$129)))),0) -> 368788.69 | L95: =IF(OR(K95>$D95,$F95=1,$I95=1),1,0) -> 0 | M95: =IF($C95="","",MIN(K95,$D95)) -> 368788.69 | N95: =IFERROR(IF($C95="","",IF(L95=1,M95,M95/SUMIF(L$31:L$129,0,M$31:M$129)*($C$2-SUMIF(L$31:L$129,1,M$31:M$129)))),0) -> 368788.69 | O95: =IF(OR(N95>$D95,$F95=1,$I95=1,$L95=1),1,0) -> 0 | P95: =IF($C95="","",MIN(N95,$D95)) -> 368788.69 | Q95: =IFERROR(IF($C95="","",IF(O95=2,P95,IF(O95=1,P95,P95/SUMIF(O$31:O$129,0,P$31:P$129)*($C$2-SUMIF(O$31:O$129,1,P$31:P$129)-SUMIF(O$31:O$129,2,P$31:P$129))))),0) -> 368788.69 | R95: =IF(OR(Q95>$D95,$F95=1,$I95=1,$L95=1,$O95=1),1,0) -> 0 | S95: =IF($C95="","",MIN(Q95,$D95)) -> 368788.69 | T95: =IFERROR(IF($C95="","",IF(R95=2,S95,IF(R95=1,S95,S95/SUMIF(R$31:R$129,0,S$31:S$129)*($C$2-SUMIF(R$31:R$129,1,S$31:S$129)-SUMIF(R$31:R$129,2,S$31:S$129))))),0) -> 368788.69 | U95: =IF($C95="","",IF(AC95=0,$AF$1,IFERROR(T95,$AF$1))) -> 368788.69 | Z95: =IF(C95="","",IFERROR(U95/SUMIF($U$31:$U$129,"<>#DIV/0!"),$AF$1)) -> 0.018171844 | AC95: =IF(OR(C95="",D95=""),0,IFERROR(IF(D95*1>=0,1,0),0)) -> 1
B96: =IF(C96="","",ROW()-30) | C96: =IF('מודל תמיכה חלוקת 20,294,511 שח'!G69="","",'מודל תמיכה חלוקת 20,294,511 שח'!G69) | D96: =IF(C96="","",'מודל תמיכה חלוקת 20,294,511 שח'!J69) | E96: =הגנה!AX96 | F96: =IF(C96="","",IF(E96>$D96,1,0)) | G96: =IF($C96="","",MIN(D96:E96)) | H96: =IF($C96="","",IF(F96=1,G96,G96/SUMIF(F$31:F$129,0,G$31:G$129)*($C$2-SUMIF(F$31:F$129,1,G$31:G$129)))) | I96: =IF(OR(H96>$D96,$F96=1),1,0) -> 0 | J96: =IF($C96="","",MIN(H96,$D96)) | K96: =IFERROR(IF($C96="","",IF(I96=1,J96,J96/SUMIF(I$31:I$129,0,J$31:J$129)*($C$2-SUMIF(I$31:I$129,1,J$31:J$129)))),0) | L96: =IF(OR(K96>$D96,$F96=1,$I96=1),1,0) -> 0 | M96: =IF($C96="","",MIN(K96,$D96)) | N96: =IFERROR(IF($C96="","",IF(L96=1,M96,M96/SUMIF(L$31:L$129,0,M$31:M$129)*($C$2-SUMIF(L$31:L$129,1,M$31:M$129)))),0) | O96: =IF(OR(N96>$D96,$F96=1,$I96=1,$L96=1),1,0) -> 0 | P96: =IF($C96="","",MIN(N96,$D96)) | Q96: =IFERROR(IF($C96="","",IF(O96=2,P96,IF(O96=1,P96,P96/SUMIF(O$31:O$129,0,P$31:P$129)*($C$2-SUMIF(O$31:O$129,1,P$31:P$129)-SUMIF(O$31:O$129,2,P$31:P$129))))),0) | R96: =IF(OR(Q96>$D96,$F96=1,$I96=1,$L96=1,$O96=1),1,0) -> 0 | S96: =IF($C96="","",MIN(Q96,$D96)) | T96: =IFERROR(IF($C96="","",IF(R96=2,S96,IF(R96=1,S96,S96/SUMIF(R$31:R$129,0,S$31:S$129)*($C$2-SUMIF(R$31:R$129,1,S$31:S$129)-SUMIF(R$31:R$129,2,S$31:S$129))))),0) | U96: =IF($C96="","",IF(AC96=0,$AF$1,IFERROR(T96,$AF$1))) | Z96: =IF(C96="","",IFERROR(U96/SUMIF($U$31:$U$129,"<>#DIV/0!"),$AF$1)) | AC96: =IF(OR(C96="",D96=""),0,IFERROR(IF(D96*1>=0,1,0),0)) -> 0
B97: =IF(C97="","",ROW()-30) | C97: =IF('מודל תמיכה חלוקת 20,294,511 שח'!G70="","",'מודל תמיכה חלוקת 20,294,511 שח'!G70) | D97: =IF(C97="","",'מודל תמיכה חלוקת 20,294,511 שח'!J70) | E97: =הגנה!AX97 | F97: =IF(C97="","",IF(E97>$D97,1,0)) | G97: =IF($C97="","",MIN(D97:E97)) | H97: =IF($C97="","",IF(F97=1,G97,G97/SUMIF(F$31:F$129,0,G$31:G$129)*($C$2-SUMIF(F$31:F$129,1,G$31:G$129)))) | I97: =IF(OR(H97>$D97,$F97=1),1,0) -> 0 | J97: =IF($C97="","",MIN(H97,$D97)) | K97: =IFERROR(IF($C97="","",IF(I97=1,J97,J97/SUMIF(I$31:I$129,0,J$31:J$129)*($C$2-SUMIF(I$31:I$129,1,J$31:J$129)))),0) | L97: =IF(OR(K97>$D97,$F97=1,$I97=1),1,0) -> 0 | M97: =IF($C97="","",MIN(K97,$D97)) | N97: =IFERROR(IF($C97="","",IF(L97=1,M97,M97/SUMIF(L$31:L$129,0,M$31:M$129)*($C$2-SUMIF(L$31:L$129,1,M$31:M$129)))),0) | O97: =IF(OR(N97>$D97,$F97=1,$I97=1,$L97=1),1,0) -> 0 | P97: =IF($C97="","",MIN(N97,$D97)) | Q97: =IFERROR(IF($C97="","",IF(O97=2,P97,IF(O97=1,P97,P97/SUMIF(O$31:O$129,0,P$31:P$129)*($C$2-SUMIF(O$31:O$129,1,P$31:P$129)-SUMIF(O$31:O$129,2,P$31:P$129))))),0) | R97: =IF(OR(Q97>$D97,$F97=1,$I97=1,$L97=1,$O97=1),1,0) -> 0 | S97: =IF($C97="","",MIN(Q97,$D97)) | T97: =IFERROR(IF($C97="","",IF(R97=2,S97,IF(R97=1,S97,S97/SUMIF(R$31:R$129,0,S$31:S$129)*($C$2-SUMIF(R$31:R$129,1,S$31:S$129)-SUMIF(R$31:R$129,2,S$31:S$129))))),0) | U97: =IF($C97="","",IF(AC97=0,$AF$1,IFERROR(T97,$AF$1))) | Z97: =IF(C97="","",IFERROR(U97/SUMIF($U$31:$U$129,"<>#DIV/0!"),$AF$1)) | AC97: =IF(OR(C97="",D97=""),0,IFERROR(IF(D97*1>=0,1,0),0)) -> 0
B98: =IF(C98="","",ROW()-30) | C98: =IF('מודל תמיכה חלוקת 20,294,511 שח'!G71="","",'מודל תמיכה חלוקת 20,294,511 שח'!G71) | D98: =IF(C98="","",'מודל תמיכה חלוקת 20,294,511 שח'!J71) | E98: =הגנה!AX98 | F98: =IF(C98="","",IF(E98>$D98,1,0)) | G98: =IF($C98="","",MIN(D98:E98)) | H98: =IF($C98="","",IF(F98=1,G98,G98/SUMIF(F$31:F$129,0,G$31:G$129)*($C$2-SUMIF(F$31:F$129,1,G$31:G$129)))) | I98: =IF(OR(H98>$D98,$F98=1),1,0) -> 0 | J98: =IF($C98="","",MIN(H98,$D98)) | K98: =IFERROR(IF($C98="","",IF(I98=1,J98,J98/SUMIF(I$31:I$129,0,J$31:J$129)*($C$2-SUMIF(I$31:I$129,1,J$31:J$129)))),0) | L98: =IF(OR(K98>$D98,$F98=1,$I98=1),1,0) -> 0 | M98: =IF($C98="","",MIN(K98,$D98)) | N98: =IFERROR(IF($C98="","",IF(L98=1,M98,M98/SUMIF(L$31:L$129,0,M$31:M$129)*($C$2-SUMIF(L$31:L$129,1,M$31:M$129)))),0) | O98: =IF(OR(N98>$D98,$F98=1,$I98=1,$L98=1),1,0) -> 0 | P98: =IF($C98="","",MIN(N98,$D98)) | Q98: =IFERROR(IF($C98="","",IF(O98=2,P98,IF(O98=1,P98,P98/SUMIF(O$31:O$129,0,P$31:P$129)*($C$2-SUMIF(O$31:O$129,1,P$31:P$129)-SUMIF(O$31:O$129,2,P$31:P$129))))),0) | R98: =IF(OR(Q98>$D98,$F98=1,$I98=1,$L98=1,$O98=1),1,0) -> 0 | S98: =IF($C98="","",MIN(Q98,$D98)) | T98: =IFERROR(IF($C98="","",IF(R98=2,S98,IF(R98=1,S98,S98/SUMIF(R$31:R$129,0,S$31:S$129)*($C$2-SUMIF(R$31:R$129,1,S$31:S$129)-SUMIF(R$31:R$129,2,S$31:S$129))))),0) | U98: =IF($C98="","",IF(AC98=0,$AF$1,IFERROR(T98,$AF$1))) | Z98: =IF(C98="","",IFERROR(U98/SUMIF($U$31:$U$129,"<>#DIV/0!"),$AF$1)) | AC98: =IF(OR(C98="",D98=""),0,IFERROR(IF(D98*1>=0,1,0),0)) -> 0
B99: =IF(C99="","",ROW()-30) | C99: =IF('מודל תמיכה חלוקת 20,294,511 שח'!G72="","",'מודל תמיכה חלוקת 20,294,511 שח'!G72) | D99: =IF(C99="","",'מודל תמיכה חלוקת 20,294,511 שח'!J72) | E99: =הגנה!AX99 | F99: =IF(C99="","",IF(E99>$D99,1,0)) | G99: =IF($C99="","",MIN(D99:E99)) | H99: =IF($C99="","",IF(F99=1,G99,G99/SUMIF(F$31:F$129,0,G$31:G$129)*($C$2-SUMIF(F$31:F$129,1,G$31:G$129)))) | I99: =IF(OR(H99>$D99,$F99=1),1,0) -> 0 | J99: =IF($C99="","",MIN(H99,$D99)) | K99: =IFERROR(IF($C99="","",IF(I99=1,J99,J99/SUMIF(I$31:I$129,0,J$31:J$129)*($C$2-SUMIF(I$31:I$129,1,J$31:J$129)))),0) | L99: =IF(OR(K99>$D99,$F99=1,$I99=1),1,0) -> 0 | M99: =IF($C99="","",MIN(K99,$D99)) | N99: =IFERROR(IF($C99="","",IF(L99=1,M99,M99/SUMIF(L$31:L$129,0,M$31:M$129)*($C$2-SUMIF(L$31:L$129,1,M$31:M$129)))),0) | O99: =IF(OR(N99>$D99,$F99=1,$I99=1,$L99=1),1,0) -> 0 | P99: =IF($C99="","",MIN(N99,$D99)) | Q99: =IFERROR(IF($C99="","",IF(O99=2,P99,IF(O99=1,P99,P99/SUMIF(O$31:O$129,0,P$31:P$129)*($C$2-SUMIF(O$31:O$129,1,P$31:P$129)-SUMIF(O$31:O$129,2,P$31:P$129))))),0) | R99: =IF(OR(Q99>$D99,$F99=1,$I99=1,$L99=1,$O99=1),1,0) -> 0 | S99: =IF($C99="","",MIN(Q99,$D99)) | T99: =IFERROR(IF($C99="","",IF(R99=2,S99,IF(R99=1,S99,S99/SUMIF(R$31:R$129,0,S$31:S$129)*($C$2-SUMIF(R$31:R$129,1,S$31:S$129)-SUMIF(R$31:R$129,2,S$31:S$129))))),0) | U99: =IF($C99="","",IF(AC99=0,$AF$1,IFERROR(T99,$AF$1))) | Z99: =IF(C99="","",IFERROR(U99/SUMIF($U$31:$U$129,"<>#DIV/0!"),$AF$1)) | AC99: =IF(OR(C99="",D99=""),0,IFERROR(IF(D99*1>=0,1,0),0)) -> 0
B100: =IF(C100="","",ROW()-30) | C100: =IF('מודל תמיכה חלוקת 20,294,511 שח'!G73="","",'מודל תמיכה חלוקת 20,294,511 שח'!G73) | D100: =IF(C100="","",'מודל תמיכה חלוקת 20,294,511 שח'!J73) | E100: =הגנה!AX100 | F100: =IF(C100="","",IF(E100>$D100,1,0)) | G100: =IF($C100="","",MIN(D100:E100)) | H100: =IF($C100="","",IF(F100=1,G100,G100/SUMIF(F$31:F$129,0,G$31:G$129)*($C$2-SUMIF(F$31:F$129,1,G$31:G$129)))) | I100: =IF(OR(H100>$D100,$F100=1),1,0) -> 0 | J100: =IF($C100="","",MIN(H100,$D100)) | K100: =IFERROR(IF($C100="","",IF(I100=1,J100,J100/SUMIF(I$31:I$129,0,J$31:J$129)*($C$2-SUMIF(I$31:I$129,1,J$31:J$129)))),0) | L100: =IF(OR(K100>$D100,$F100=1,$I100=1),1,0) -> 0 | M100: =IF($C100="","",MIN(K100,$D100)) | N100: =IFERROR(IF($C100="","",IF(L100=1,M100,M100/SUMIF(L$31:L$129,0,M$31:M$129)*($C$2-SUMIF(L$31:L$129,1,M$31:M$129)))),0) | O100: =IF(OR(N100>$D100,$F100=1,$I100=1,$L100=1),1,0) -> 0 | P100: =IF($C100="","",MIN(N100,$D100)) | Q100: =IFERROR(IF($C100="","",IF(O100=2,P100,IF(O100=1,P100,P100/SUMIF(O$31:O$129,0,P$31:P$129)*($C$2-SUMIF(O$31:O$129,1,P$31:P$129)-SUMIF(O$31:O$129,2,P$31:P$129))))),0) | R100: =IF(OR(Q100>$D100,$F100=1,$I100=1,$L100=1,$O100=1),1,0) -> 0 | S100: =IF($C100="","",MIN(Q100,$D100)) | T100: =IFERROR(IF($C100="","",IF(R100=2,S100,IF(R100=1,S100,S100/SUMIF(R$31:R$129,0,S$31:S$129)*($C$2-SUMIF(R$31:R$129,1,S$31:S$129)-SUMIF(R$31:R$129,2,S$31:S$129))))),0) | U100: =IF($C100="","",IF(AC100=0,$AF$1,IFERROR(T100,$AF$1))) | Z100: =IF(C100="","",IFERROR(U100/SUMIF($U$31:$U$129,"<>#DIV/0!"),$AF$1)) | AC100: =IF(OR(C100="",D100=""),0,IFERROR(IF(D100*1>=0,1,0),0)) -> 0
B101: =IF(C101="","",ROW()-30) | C101: =IF('מודל תמיכה חלוקת 20,294,511 שח'!G74="","",'מודל תמיכה חלוקת 20,294,511 שח'!G74) | D101: =IF(C101="","",'מודל תמיכה חלוקת 20,294,511 שח'!J74) | E101: =הגנה!AX101 | F101: =IF(C101="","",IF(E101>$D101,1,0)) | G101: =IF($C101="","",MIN(D101:E101)) | H101: =IF($C101="","",IF(F101=1,G101,G101/SUMIF(F$31:F$129,0,G$31:G$129)*($C$2-SUMIF(F$31:F$129,1,G$31:G$129)))) | I101: =IF(OR(H101>$D101,$F101=1),1,0) -> 0 | J101: =IF($C101="","",MIN(H101,$D101)) | K101: =IFERROR(IF($C101="","",IF(I101=1,J101,J101/SUMIF(I$31:I$129,0,J$31:J$129)*($C$2-SUMIF(I$31:I$129,1,J$31:J$129)))),0) | L101: =IF(OR(K101>$D101,$F101=1,$I101=1),1,0) -> 0 | M101: =IF($C101="","",MIN(K101,$D101)) | N101: =IFERROR(IF($C101="","",IF(L101=1,M101,M101/SUMIF(L$31:L$129,0,M$31:M$129)*($C$2-SUMIF(L$31:L$129,1,M$31:M$129)))),0) | O101: =IF(OR(N101>$D101,$F101=1,$I101=1,$L101=1),1,0) -> 0 | P101: =IF($C101="","",MIN(N101,$D101)) | Q101: =IFERROR(IF($C101="","",IF(O101=2,P101,IF(O101=1,P101,P101/SUMIF(O$31:O$129,0,P$31:P$129)*($C$2-SUMIF(O$31:O$129,1,P$31:P$129)-SUMIF(O$31:O$129,2,P$31:P$129))))),0) | R101: =IF(OR(Q101>$D101,$F101=1,$I101=1,$L101=1,$O101=1),1,0) -> 0 | S101: =IF($C101="","",MIN(Q101,$D101)) | T101: =IFERROR(IF($C101="","",IF(R101=2,S101,IF(R101=1,S101,S101/SUMIF(R$31:R$129,0,S$31:S$129)*($C$2-SUMIF(R$31:R$129,1,S$31:S$129)-SUMIF(R$31:R$129,2,S$31:S$129))))),0) | U101: =IF($C101="","",IF(AC101=0,$AF$1,IFERROR(T101,$AF$1))) | Z101: =IF(C101="","",IFERROR(U101/SUMIF($U$31:$U$129,"<>#DIV/0!"),$AF$1)) | AC101: =IF(OR(C101="",D101=""),0,IFERROR(IF(D101*1>=0,1,0),0)) -> 0
B102: =IF(C102="","",ROW()-30) | C102: =IF('מודל תמיכה חלוקת 20,294,511 שח'!G75="","",'מודל תמיכה חלוקת 20,294,511 שח'!G75) | D102: =IF(C102="","",'מודל תמיכה חלוקת 20,294,511 שח'!J75) | E102: =הגנה!AX102 | F102: =IF(C102="","",IF(E102>$D102,1,0)) | G102: =IF($C102="","",MIN(D102:E102)) | H102: =IF($C102="","",IF(F102=1,G102,G102/SUMIF(F$31:F$129,0,G$31:G$129)*($C$2-SUMIF(F$31:F$129,1,G$31:G$129)))) | I102: =IF(OR(H102>$D102,$F102=1),1,0) -> 0 | J102: =IF($C102="","",MIN(H102,$D102)) | K102: =IFERROR(IF($C102="","",IF(I102=1,J102,J102/SUMIF(I$31:I$129,0,J$31:J$129)*($C$2-SUMIF(I$31:I$129,1,J$31:J$129)))),0) | L102: =IF(OR(K102>$D102,$F102=1,$I102=1),1,0) -> 0 | M102: =IF($C102="","",MIN(K102,$D102)) | N102: =IFERROR(IF($C102="","",IF(L102=1,M102,M102/SUMIF(L$31:L$129,0,M$31:M$129)*($C$2-SUMIF(L$31:L$129,1,M$31:M$129)))),0) | O102: =IF(OR(N102>$D102,$F102=1,$I102=1,$L102=1),1,0) -> 0 | P102: =IF($C102="","",MIN(N102,$D102)) | Q102: =IFERROR(IF($C102="","",IF(O102=2,P102,IF(O102=1,P102,P102/SUMIF(O$31:O$129,0,P$31:P$129)*($C$2-SUMIF(O$31:O$129,1,P$31:P$129)-SUMIF(O$31:O$129,2,P$31:P$129))))),0) | R102: =IF(OR(Q102>$D102,$F102=1,$I102=1,$L102=1,$O102=1),1,0) -> 0 | S102: =IF($C102="","",MIN(Q102,$D102)) | T102: =IFERROR(IF($C102="","",IF(R102=2,S102,IF(R102=1,S102,S102/SUMIF(R$31:R$129,0,S$31:S$129)*($C$2-SUMIF(R$31:R$129,1,S$31:S$129)-SUMIF(R$31:R$129,2,S$31:S$129))))),0) | U102: =IF($C102="","",IF(AC102=0,$AF$1,IFERROR(T102,$AF$1))) | Z102: =IF(C102="","",IFERROR(U102/SUMIF($U$31:$U$129,"<>#DIV/0!"),$AF$1)) | AC102: =IF(OR(C102="",D102=""),0,IFERROR(IF(D102*1>=0,1,0),0)) -> 0
B103: =IF(C103="","",ROW()-30) | C103: =IF('מודל תמיכה חלוקת 20,294,511 שח'!G76="","",'מודל תמיכה חלוקת 20,294,511 שח'!G76) | D103: =IF(C103="","",'מודל תמיכה חלוקת 20,294,511 שח'!J76) | E103: =הגנה!AX103 | F103: =IF(C103="","",IF(E103>$D103,1,0)) | G103: =IF($C103="","",MIN(D103:E103)) | H103: =IF($C103="","",IF(F103=1,G103,G103/SUMIF(F$31:F$129,0,G$31:G$129)*($C$2-SUMIF(F$31:F$129,1,G$31:G$129)))) | I103: =IF(OR(H103>$D103,$F103=1),1,0) -> 0 | J103: =IF($C103="","",MIN(H103,$D103)) | K103: =IFERROR(IF($C103="","",IF(I103=1,J103,J103/SUMIF(I$31:I$129,0,J$31:J$129)*($C$2-SUMIF(I$31:I$129,1,J$31:J$129)))),0) | L103: =IF(OR(K103>$D103,$F103=1,$I103=1),1,0) -> 0 | M103: =IF($C103="","",MIN(K103,$D103)) | N103: =IFERROR(IF($C103="","",IF(L103=1,M103,M103/SUMIF(L$31:L$129,0,M$31:M$129)*($C$2-SUMIF(L$31:L$129,1,M$31:M$129)))),0) | O103: =IF(OR(N103>$D103,$F103=1,$I103=1,$L103=1),1,0) -> 0 | P103: =IF($C103="","",MIN(N103,$D103)) | Q103: =IFERROR(IF($C103="","",IF(O103=2,P103,IF(O103=1,P103,P103/SUMIF(O$31:O$129,0,P$31:P$129)*($C$2-SUMIF(O$31:O$129,1,P$31:P$129)-SUMIF(O$31:O$129,2,P$31:P$129))))),0) | R103: =IF(OR(Q103>$D103,$F103=1,$I103=1,$L103=1,$O103=1),1,0) -> 0 | S103: =IF($C103="","",MIN(Q103,$D103)) | T103: =IFERROR(IF($C103="","",IF(R103=2,S103,IF(R103=1,S103,S103/SUMIF(R$31:R$129,0,S$31:S$129)*($C$2-SUMIF(R$31:R$129,1,S$31:S$129)-SUMIF(R$31:R$129,2,S$31:S$129))))),0) | U103: =IF($C103="","",IF(AC103=0,$AF$1,IFERROR(T103,$AF$1))) | Z103: =IF(C103="","",IFERROR(U103/SUMIF($U$31:$U$129,"<>#DIV/0!"),$AF$1)) | AC103: =IF(OR(C103="",D103=""),0,IFERROR(IF(D103*1>=0,1,0),0)) -> 0
B104: =IF(C104="","",ROW()-30) | C104: =IF('מודל תמיכה חלוקת 20,294,511 שח'!G77="","",'מודל תמיכה חלוקת 20,294,511 שח'!G77) | D104: =IF(C104="","",'מודל תמיכה חלוקת 20,294,511 שח'!J77) | E104: =הגנה!AX104 | F104: =IF(C104="","",IF(E104>$D104,1,0)) | G104: =IF($C104="","",MIN(D104:E104)) | H104: =IF($C104="","",IF(F104=1,G104,G104/SUMIF(F$31:F$129,0,G$31:G$129)*($C$2-SUMIF(F$31:F$129,1,G$31:G$129)))) | I104: =IF(OR(H104>$D104,$F104=1),1,0) -> 0 | J104: =IF($C104="","",MIN(H104,$D104)) | K104: =IFERROR(IF($C104="","",IF(I104=1,J104,J104/SUMIF(I$31:I$129,0,J$31:J$129)*($C$2-SUMIF(I$31:I$129,1,J$31:J$129)))),0) | L104: =IF(OR(K104>$D104,$F104=1,$I104=1),1,0) -> 0 | M104: =IF($C104="","",MIN(K104,$D104)) | N104: =IFERROR(IF($C104="","",IF(L104=1,M104,M104/SUMIF(L$31:L$129,0,M$31:M$129)*($C$2-SUMIF(L$31:L$129,1,M$31:M$129)))),0) | O104: =IF(OR(N104>$D104,$F104=1,$I104=1,$L104=1),1,0) -> 0 | P104: =IF($C104="","",MIN(N104,$D104)) | Q104: =IFERROR(IF($C104="","",IF(O104=2,P104,IF(O104=1,P104,P104/SUMIF(O$31:O$129,0,P$31:P$129)*($C$2-SUMIF(O$31:O$129,1,P$31:P$129)-SUMIF(O$31:O$129,2,P$31:P$129))))),0) | R104: =IF(OR(Q104>$D104,$F104=1,$I104=1,$L104=1,$O104=1),1,0) -> 0 | S104: =IF($C104="","",MIN(Q104,$D104)) | T104: =IFERROR(IF($C104="","",IF(R104=2,S104,IF(R104=1,S104,S104/SUMIF(R$31:R$129,0,S$31:S$129)*($C$2-SUMIF(R$31:R$129,1,S$31:S$129)-SUMIF(R$31:R$129,2,S$31:S$129))))),0) | U104: =IF($C104="","",IF(AC104=0,$AF$1,IFERROR(T104,$AF$1))) | Z104: =IF(C104="","",IFERROR(U104/SUMIF($U$31:$U$129,"<>#DIV/0!"),$AF$1)) | AC104: =IF(OR(C104="",D104=""),0,IFERROR(IF(D104*1>=0,1,0),0)) -> 0
B105: =IF(C105="","",ROW()-30) | C105: =IF('מודל תמיכה חלוקת 20,294,511 שח'!G78="","",'מודל תמיכה חלוקת 20,294,511 שח'!G78) | D105: =IF(C105="","",'מודל תמיכה חלוקת 20,294,511 שח'!J78) | E105: =הגנה!AX105 | F105: =IF(C105="","",IF(E105>$D105,1,0)) | G105: =IF($C105="","",MIN(D105:E105)) | H105: =IF($C105="","",IF(F105=1,G105,G105/SUMIF(F$31:F$129,0,G$31:G$129)*($C$2-SUMIF(F$31:F$129,1,G$31:G$129)))) | I105: =IF(OR(H105>$D105,$F105=1),1,0) -> 0 | J105: =IF($C105="","",MIN(H105,$D105)) | K105: =IFERROR(IF($C105="","",IF(I105=1,J105,J105/SUMIF(I$31:I$129,0,J$31:J$129)*($C$2-SUMIF(I$31:I$129,1,J$31:J$129)))),0) | L105: =IF(OR(K105>$D105,$F105=1,$I105=1),1,0) -> 0 | M105: =IF($C105="","",MIN(K105,$D105)) | N105: =IFERROR(IF($C105="","",IF(L105=1,M105,M105/SUMIF(L$31:L$129,0,M$31:M$129)*($C$2-SUMIF(L$31:L$129,1,M$31:M$129)))),0) | O105: =IF(OR(N105>$D105,$F105=1,$I105=1,$L105=1),1,0) -> 0 | P105: =IF($C105="","",MIN(N105,$D105)) | Q105: =IFERROR(IF($C105="","",IF(O105=2,P105,IF(O105=1,P105,P105/SUMIF(O$31:O$129,0,P$31:P$129)*($C$2-SUMIF(O$31:O$129,1,P$31:P$129)-SUMIF(O$31:O$129,2,P$31:P$129))))),0) | R105: =IF(OR(Q105>$D105,$F105=1,$I105=1,$L105=1,$O105=1),1,0) -> 0 | S105: =IF($C105="","",MIN(Q105,$D105)) | T105: =IFERROR(IF($C105="","",IF(R105=2,S105,IF(R105=1,S105,S105/SUMIF(R$31:R$129,0,S$31:S$129)*($C$2-SUMIF(R$31:R$129,1,S$31:S$129)-SUMIF(R$31:R$129,2,S$31:S$129))))),0) | U105: =IF($C105="","",IF(AC105=0,$AF$1,IFERROR(T105,$AF$1))) | Z105: =IF(C105="","",IFERROR(U105/SUMIF($U$31:$U$129,"<>#DIV/0!"),$AF$1)) | AC105: =IF(OR(C105="",D105=""),0,IFERROR(IF(D105*1>=0,1,0),0)) -> 0
B106: =IF(C106="","",ROW()-30) | C106: =IF('מודל תמיכה חלוקת 20,294,511 שח'!G79="","",'מודל תמיכה חלוקת 20,294,511 שח'!G79) | D106: =IF(C106="","",'מודל תמיכה חלוקת 20,294,511 שח'!J79) | E106: =הגנה!AX106 | F106: =IF(C106="","",IF(E106>$D106,1,0)) | G106: =IF($C106="","",MIN(D106:E106)) | H106: =IF($C106="","",IF(F106=1,G106,G106/SUMIF(F$31:F$129,0,G$31:G$129)*($C$2-SUMIF(F$31:F$129,1,G$31:G$129)))) | I106: =IF(OR(H106>$D106,$F106=1),1,0) -> 0 | J106: =IF($C106="","",MIN(H106,$D106)) | K106: =IFERROR(IF($C106="","",IF(I106=1,J106,J106/SUMIF(I$31:I$129,0,J$31:J$129)*($C$2-SUMIF(I$31:I$129,1,J$31:J$129)))),0) | L106: =IF(OR(K106>$D106,$F106=1,$I106=1),1,0) -> 0 | M106: =IF($C106="","",MIN(K106,$D106)) | N106: =IFERROR(IF($C106="","",IF(L106=1,M106,M106/SUMIF(L$31:L$129,0,M$31:M$129)*($C$2-SUMIF(L$31:L$129,1,M$31:M$129)))),0) | O106: =IF(OR(N106>$D106,$F106=1,$I106=1,$L106=1),1,0) -> 0 | P106: =IF($C106="","",MIN(N106,$D106)) | Q106: =IFERROR(IF($C106="","",IF(O106=2,P106,IF(O106=1,P106,P106/SUMIF(O$31:O$129,0,P$31:P$129)*($C$2-SUMIF(O$31:O$129,1,P$31:P$129)-SUMIF(O$31:O$129,2,P$31:P$129))))),0) | R106: =IF(OR(Q106>$D106,$F106=1,$I106=1,$L106=1,$O106=1),1,0) -> 0 | S106: =IF($C106="","",MIN(Q106,$D106)) | T106: =IFERROR(IF($C106="","",IF(R106=2,S106,IF(R106=1,S106,S106/SUMIF(R$31:R$129,0,S$31:S$129)*($C$2-SUMIF(R$31:R$129,1,S$31:S$129)-SUMIF(R$31:R$129,2,S$31:S$129))))),0) | U106: =IF($C106="","",IF(AC106=0,$AF$1,IFERROR(T106,$AF$1))) | Z106: =IF(C106="","",IFERROR(U106/SUMIF($U$31:$U$129,"<>#DIV/0!"),$AF$1)) | AC106: =IF(OR(C106="",D106=""),0,IFERROR(IF(D106*1>=0,1,0),0)) -> 0
B107: =IF(C107="","",ROW()-30) | C107: =IF('מודל תמיכה חלוקת 20,294,511 שח'!G80="","",'מודל תמיכה חלוקת 20,294,511 שח'!G80) | D107: =IF(C107="","",'מודל תמיכה חלוקת 20,294,511 שח'!J80) | E107: =הגנה!AX107 | F107: =IF(C107="","",IF(E107>$D107,1,0)) | G107: =IF($C107="","",MIN(D107:E107)) | H107: =IF($C107="","",IF(F107=1,G107,G107/SUMIF(F$31:F$129,0,G$31:G$129)*($C$2-SUMIF(F$31:F$129,1,G$31:G$129)))) | I107: =IF(OR(H107>$D107,$F107=1),1,0) -> 0 | J107: =IF($C107="","",MIN(H107,$D107)) | K107: =IFERROR(IF($C107="","",IF(I107=1,J107,J107/SUMIF(I$31:I$129,0,J$31:J$129)*($C$2-SUMIF(I$31:I$129,1,J$31:J$129)))),0) | L107: =IF(OR(K107>$D107,$F107=1,$I107=1),1,0) -> 0 | M107: =IF($C107="","",MIN(K107,$D107)) | N107: =IFERROR(IF($C107="","",IF(L107=1,M107,M107/SUMIF(L$31:L$129,0,M$31:M$129)*($C$2-SUMIF(L$31:L$129,1,M$31:M$129)))),0) | O107: =IF(OR(N107>$D107,$F107=1,$I107=1,$L107=1),1,0) -> 0 | P107: =IF($C107="","",MIN(N107,$D107)) | Q107: =IFERROR(IF($C107="","",IF(O107=2,P107,IF(O107=1,P107,P107/SUMIF(O$31:O$129,0,P$31:P$129)*($C$2-SUMIF(O$31:O$129,1,P$31:P$129)-SUMIF(O$31:O$129,2,P$31:P$129))))),0) | R107: =IF(OR(Q107>$D107,$F107=1,$I107=1,$L107=1,$O107=1),1,0) -> 0 | S107: =IF($C107="","",MIN(Q107,$D107)) | T107: =IFERROR(IF($C107="","",IF(R107=2,S107,IF(R107=1,S107,S107/SUMIF(R$31:R$129,0,S$31:S$129)*($C$2-SUMIF(R$31:R$129,1,S$31:S$129)-SUMIF(R$31:R$129,2,S$31:S$129))))),0) | U107: =IF($C107="","",IF(AC107=0,$AF$1,IFERROR(T107,$AF$1))) | Z107: =IF(C107="","",IFERROR(U107/SUMIF($U$31:$U$129,"<>#DIV/0!"),$AF$1)) | AC107: =IF(OR(C107="",D107=""),0,IFERROR(IF(D107*1>=0,1,0),0)) -> 0
... B129: =IF(C129="","",ROW()-30) | C129: =IF('מודל תמיכה חלוקת 20,294,511 שח'!G102="","",'מודל תמיכה חלוקת 20,294,511 שח'!G102) | D129: =IF(C129="","",'מודל תמיכה חלוקת 20,294,511 שח'!J102) | E129: =הגנה!AX129 | F129: =IF(C129="","",IF(E129>$D129,1,0)) | G129: =IF($C129="","",MIN(D129:E129)) | H129: =IF($C129="","",IF(F129=1,G129,G129/SUMIF(F$31:F$129,0,G$31:G$129)*($C$2-SUMIF(F$31:F$129,1,G$31:G$129)))) | I129: =IF(OR(H129>$D129,$F129=1),1,0) -> 0 | J129: =IF($C129="","",MIN(H129,$D129)) | K129: =IFERROR(IF($C129="","",IF(I129=1,J129,J129/SUMIF(I$31:I$129,0,J$31:J$129)*($C$2-SUMIF(I$31:I$129,1,J$31:J$129)))),0) | L129: =IF(OR(K129>$D129,$F129=1,$I129=1),1,0) -> 0 | M129: =IF($C129="","",MIN(K129,$D129)) | N129: =IFERROR(IF($C129="","",IF(L129=1,M129,M129/SUMIF(L$31:L$129,0,M$31:M$129)*($C$2-SUMIF(L$31:L$129,1,M$31:M$129)))),0) | O129: =IF(OR(N129>$D129,$F129=1,$I129=1,$L129=1),1,0) -> 0 | P129: =IF($C129="","",MIN(N129,$D129)) | Q129: =IFERROR(IF($C129="","",IF(O129=2,P129,IF(O129=1,P129,P129/SUMIF(O$31:O$129,0,P$31:P$129)*($C$2-SUMIF(O$31:O$129,1,P$31:P$129)-SUMIF(O$31:O$129,2,P$31:P$129))))),0) | R129: =IF(OR(Q129>$D129,$F129=1,$I129=1,$L129=1,$O129=1),1,0) -> 0 | S129: =IF($C129="","",MIN(Q129,$D129)) | T129: =IFERROR(IF($C129="","",IF(R129=2,S129,IF(R129=1,S129,S129/SUMIF(R$31:R$129,0,S$31:S$129)*($C$2-SUMIF(R$31:R$129,1,S$31:S$129)-SUMIF(R$31:R$129,2,S$31:S$129))))),0) | U129: =IF($C129="","",IF(AC129=0,$AF$1,IFERROR(T129,$AF$1))) | Z129: =IF(C129="","",IFERROR(U129/SUMIF($U$31:$U$129,"<>#DIV/0!"),$AF$1)) | AC129: =IF(OR(C129="",D129=""),0,IFERROR(IF(D129*1>=0,1,0),0)) -> 0
D130: =SUM(D31:D129) -> 38247800 | E130: =SUM(E31:E129) -> 20294511 | G130: =SUM(G31:G129) -> 20191628 | H130: =SUM(H31:H129) -> 20294511 | I130: =SUM(I31:I129) -> 3 | J130: =SUM(J31:J129) -> 20294511 | K130: =SUM(K31:K129) -> 20294511 | L130: =SUM(L31:L129) -> 3 | M130: =SUM(M31:M129) -> 20294511 | N130: =SUM(N31:N129) -> 20294511 | ... U130: =SUM(U31:U129) -> 20294511 | Z130: =SUM(Z31:Z129) -> 1

Sheet הגנה
C1: ='מודל תמיכה חלוקת 20,294,511 שח'!AB1 -> שנת התקציב | D1: ='מודל תמיכה חלוקת 20,294,511 שח'!AC1 -> 2024 | BB1: בדוק נתוני הזנה
C2: ='מודל תמיכה חלוקת 20,294,511 שח'!AB2 -> תקציב שנתי | D2: ='מודל תמיכה חלוקת 20,294,511 שח'!AC2 -> 20294511
C5: שיעור פיחות מירבי בתמיכה | D5: 0.2
C6: שיעור תמיכה מינימלי משנה קודמת | D6: =1-D5 -> 0.8
B28: =MID(CELL("filename",B27),FIND("]",CELL("filename",C27),1)+1,99) -> הגנה
B29: מספר סידורי | C29: שם המוסד | D29: סכום תמיכה 2024 לפני הגבלה לסכום הבקשה והגנה | E29: שיעור תמיכה לפני הגנה | F29: =[1]ייצוב!F29 -> סכום התמיכה במוסד בשנת 2023 | G29: שיעור תמיכה יחסי בשנה תקציבית קודמת | H29: זכאי להגנה | I29: זקוק להגנה | J29: אינדיקציית הגנה 1 | K29: הגנה 1 | L29: שיעור יחסי לאחר הגנה 1 | M29: זקוק להגנה 2 | N29: אינדיקציית הגנה 2 | O29: הגנה 2 | P29: שיעור יחסי לאחר הגנה 2 | Q29: זקוק להגנה 3 | R29: אינדיקציית הגנה 3 | S29: הגנה 3 | T29: שיעור יחסי לאחר הגנה 3 | U29: זקוק להגנה 4 | V29: אינדיקציית הגנה 4 | W29: הגנה 4 | X29: שיעור יחסי לאחר הגנה 4 | Y29: זקוק להגנה 5 | Z29: אינדיקציית הגנה 5 | AA29: הגנה 5 | AB29: שיעור יחסי לאחר הגנה 5 | AC29: זקוק להגנה 6 | AD29: אינדיקציית הגנה 6 | AE29: הגנה 6 | AF29: שיעור יחסי לאחר הגנה 6 | AG29: זקוק להגנה 7 | AH29: אינדיקציית הגנה 7 | AI29: הגנה 7 | AJ29: שיעור יחסי לאחר הגנה 7 | AK29: זקוק להגנה 8 | AL29: אינדיקציית הגנה 8 | AM29: הגנה 8 | AN29: שיעור יחסי לאחר הגנה 8 | AO29: זקוק להגנה 9 | AP29: אינדיקציית הגנה 9 | AQ29: הגנה 9 | AR29: שיעור יחסי לאחר הגנה 9 | AS29: זקוק להגנה 10 | AT29: אינדיקציית הגנה 10 | AU29: הגנה 10 | AV29: שיעור יחסי לאחר הגנה | AW29: שיעור תמיכה לאחר הגנה | AX29: סכום תמיכה לאחר הגנה
H30: 0/1 | BC30: 0 | BD30: 1 | BF30: בקרת נתון זכאי להגנה
B31: =IF(C31="","",ROW()-30) -> 1 | C31: =IF('מודל תמיכה חלוקת 20,294,511 שח'!G3="","",'מודל תמיכה חלוקת 20,294,511 שח'!G3) -> "המכון ללימוד מחקר ובנין המקדש" | D31: =IF(C31="","",'מודל תמיכה חלוקת 20,294,511 שח'!V3) -> 267960.88 | E31: =IFERROR(D31/$D$130,"") -> 0.013203614 | F31: =IF(C31="","",'מודל תמיכה חלוקת 20,294,511 שח'!W3) -> 136571 | G31: =IF($C31="","",IFERROR(F31/$F$130,$BB$1)) -> 0.0067979602 | H31: 1 | I31: =IF($C31="","",IF(OR(E31="",G31="",BF31<>1),$BB$1,IF($E31<$G31*$D$6,1,0))) -> 0 | J31: =IF($C31="","",IF(I31+$H31=2,1,0)) -> 0 | K31: =IF($C31="","",IF(J31=1,$G31*$D$6,$E31)) -> 0.013203614 | L31: =IF(I31="","",IF(J31=1,K31,K31/SUMIF(J$31:J$129,"<>1",K$31:K$129)*(1-SUMIF(J$31:J$129,"=1",K$31:K$129)))) -> 0.012969741 | M31: =IF($C31="","",IF(L31<$G31*$D$6,1,0)) -> 0 | N31: =IF($C31="","",IF(M31+$H31=2,1,0)) -> 0 | O31: =IF($C31="","",IF(N31=1,$G31*$D$6,$K31)) -> 0.013203614 | P31: =IF(M31="","",IF(N31=1,O31,O31/SUMIF(N$31:N$129,"<>1",O$31:O$129)*(1-SUMIF(N$31:N$129,"=1",O$31:O$129)))) -> 0.012990304 | Q31: =IF($C31="","",IF(P31<$G31*$D$6,1,0)) -> 0 | R31: =IF($C31="","",IF(Q31+$H31=2,1,0)) -> 0 | S31: =IF($C31="","",IF(R31=1,$G31*$D$6,$O31)) -> 0.013203614 | T31: =IF(Q31="","",IF(R31=1,S31,S31/SUMIF(R$31:R$129,"<>1",S$31:S$129)*(1-SUMIF(R$31:R$129,"=1",S$31:S$129)))) -> 0.0129756 | U31: =IF($C31="","",IF(T31<$G31*$D$6,1,0)) -> 0 | V31: =IF($C31="","",IF(U31+$H31=2,1,0)) -> 0 | W31: =IF($C31="","",IF(V31=1,$G31*$D$6,T31)) -> 0.0129756 | X31: =IF(U31="","",IF(V31=1,W31,W31/SUMIF(V$31:V$129,"<>1",W$31:W$129)*(1-SUMIF(V$31:V$129,"=1",W$31:W$129)))) -> 0.012962088 | Y31: =IF($C31="","",IF(X31<$G31*$D$6,1,0)) -> 0 | Z31: =IF($C31="","",IF(Y31+$H31=2,1,0)) -> 0 | AA31: =IF($C31="","",IF(Z31=1,$G31*$D$6,X31)) -> 0.012962088 | AB31: =IF(Y31="","",IF(Z31=1,AA31,AA31/SUMIF(Z$31:Z$129,"<>1",AA$31:AA$129)*(1-SUMIF(Z$31:Z$129,"=1",AA$31:AA$129)))) -> 0.01296027 | AC31: =IF($C31="","",IF(AB31<$G31*$D$6,1,0)) -> 0 | AD31: =IF($C31="","",IF(AC31+$H31=2,1,0)) -> 0 | AE31: =IF($C31="","",IF(AD31=1,$G31*$D$6,AB31)) -> 0.01296027 | AF31: =IF(AC31="","",IF(AD31=1,AE31,AE31/SUMIF(AD$31:AD$129,"<>1",AE$31:AE$129)*(1-SUMIF(AD$31:AD$129,"=1",AE$31:AE$129)))) -> 0.01296016 | AG31: =IF($C31="","",IF(AF31<$G31*$D$6,1,0)) -> 0 | AH31: =IF($C31="","",IF(AG31+$H31=2,1,0)) -> 0 | AI31: =IF($C31="","",IF(AH31=1,$G31*$D$6,AF31)) -> 0.01296016 | AJ31: =IF(AG31="","",IF(AH31=1,AI31,AI31/SUMIF(AH$31:AH$129,"<>1",AI$31:AI$129)*(1-SUMIF(AH$31:AH$129,"=1",AI$31:AI$129)))) -> 0.012960145 | AK31: =IF($C31="","",IF(AJ31<$G31*$D$6,1,0)) -> 0 | AL31: =IF($C31="","",IF(AK31+$H31=2,1,0)) -> 0 | AM31: =IF($C31="","",IF(AL31=1,$G31*$D$6,AJ31)) -> 0.012960145 | AN31: =IF(AK31="","",IF(AL31=1,AM31,AM31/SUMIF(AL$31:AL$129,"<>1",AM$31:AM$129)*(1-SUMIF(AL$31:AL$129,"=1",AM$31:AM$129)))) -> 0.012960145 | AO31: =IF($C31="","",IF(AN31<$G31*$D$6,1,0)) -> 0 | AP31: =IF($C31="","",IF(AO31+$H31=2,1,0)) -> 0 | AQ31: =IF($C31="","",IF(AP31=1,$G31*$D$6,AN31)) -> 0.012960145 | AR31: =IF(AO31="","",IF(AP31=1,AQ31,AQ31/SUMIF(AP$31:AP$129,"<>1",AQ$31:AQ$129)*(1-SUMIF(AP$31:AP$129,"=1",AQ$31:AQ$129)))) -> 0.012960144 | AS31: =IF($C31="","",IF(OR(AR31<$G31*$D$6,AP31=1,AL31=1,AH31=1,AD31=1,Z31=1,V31=1,R31=1,N31=1,J31=1),1,0)) -> 0 | AT31: =IF($C31="","",IF(AS31+$H31=2,1,0)) -> 0 | AU31: =IF($C31="","",IF(AT31=1,$G31*$D$6,AR31)) -> 0.012960144 | AV31: =IF(AS31="","",IFERROR(IF(AT31=1,AU31,AU31/SUMIF(AT$31:AT$129,"<>1",AU$31:AU$129)*(1-SUMIF(AT$31:AT$129,"=1",AU$31:AU$129))),0)) -> 0.012960144 | AW31: =IF(C31="","",IFERROR(AV31/SUM($AV$31:$AV$129),$BB$1)) -> 0.012960144 | AX31: =IF(C31="","",IFERROR(AW31*$D$2,$BB$1)) -> 263019.79 | BC31: =IF($C31="","",BC$30) -> 0 | BD31: =IF($C31="","",BD$30) -> 1 | BF31: =IF(H31="",0,IF(ISERROR(MATCH(H31,$BC$30:$BD$30,0)),0,1)) -> 1
B32: =IF(C32="","",ROW()-30) -> 2 | C32: =IF('מודל תמיכה חלוקת 20,294,511 שח'!G4="","",'מודל תמיכה חלוקת 20,294,511 שח'!G4) -> אוצר ערכי החסידות (ע"ר) | D32: =IF(C32="","",'מודל תמיכה חלוקת 20,294,511 שח'!V4) -> 606437.79 | E32: =IFERROR(D32/$D$130,"") -> 0.029881862 | F32: =IF(C32="","",'מודל תמיכה חלוקת 20,294,511 שח'!W4) -> 700341 | G32: =IF($C32="","",IFERROR(F32/$F$130,$BB$1)) -> 0.034860184 | H32: 1 | I32: =IF($C32="","",IF(OR(E32="",G32="",BF32<>1),$BB$1,IF($E32<$G32*$D$6,1,0))) -> 0 | J32: =IF($C32="","",IF(I32+$H32=2,1,0)) -> 0 | K32: =IF($C32="","",IF(J32=1,$G32*$D$6,$E32)) -> 0.029881862 | L32: =IF(I32="","",IF(J32=1,K32,K32/SUMIF(J$31:J$129,"<>1",K$31:K$129)*(1-SUMIF(J$31:J$129,"=1",K$31:K$129)))) -> 0.029352571 | M32: =IF($C32="","",IF(L32<$G32*$D$6,1,0)) -> 0 | N32: =IF($C32="","",IF(M32+$H32=2,1,0)) -> 0 | O32: =IF($C32="","",IF(N32=1,$G32*$D$6,$K32)) -> 0.029881862 | P32: =IF(M32="","",IF(N32=1,O32,O32/SUMIF(N$31:N$129,"<>1",O$31:O$129)*(1-SUMIF(N$31:N$129,"=1",O$31:O$129)))) -> 0.029399109 | Q32: =IF($C32="","",IF(P32<$G32*$D$6,1,0)) -> 0 | R32: =IF($C32="","",IF(Q32+$H32=2,1,0)) -> 0 | S32: =IF($C32="","",IF(R32=1,$G32*$D$6,$O32)) -> 0.029881862 | T32: =IF(Q32="","",IF(R32=1,S32,S32/SUMIF(R$31:R$129,"<>1",S$31:S$129)*(1-SUMIF(R$31:R$129,"=1",S$31:S$129)))) -> 0.029365832 | U32: =IF($C32="","",IF(T32<$G32*$D$6,1,0)) -> 0 | V32: =IF($C32="","",IF(U32+$H32=2,1,0)) -> 0 | W32: =IF($C32="","",IF(V32=1,$G32*$D$6,T32)) -> 0.029365832 | X32: =IF(U32="","",IF(V32=1,W32,W32/SUMIF(V$31:V$129,"<>1",W$31:W$129)*(1-SUMIF(V$31:V$129,"=1",W$31:W$129)))) -> 0.029335253 | Y32: =IF($C32="","",IF(X32<$G32*$D$6,1,0)) -> 0 | Z32: =IF($C32="","",IF(Y32+$H32=2,1,0)) -> 0 | AA32: =IF($C32="","",IF(Z32=1,$G32*$D$6,X32)) -> 0.029335253 | AB32: =IF(Y32="","",IF(Z32=1,AA32,AA32/SUMIF(Z$31:Z$129,"<>1",AA$31:AA$129)*(1-SUMIF(Z$31:Z$129,"=1",AA$31:AA$129)))) -> 0.029331137 | AC32: =IF($C32="","",IF(AB32<$G32*$D$6,1,0)) -> 0 | AD32: =IF($C32="","",IF(AC32+$H32=2,1,0)) -> 0 | AE32: =IF($C32="","",IF(AD32=1,$G32*$D$6,AB32)) -> 0.029331137 | AF32: =IF(AC32="","",IF(AD32=1,AE32,AE32/SUMIF(AD$31:AD$129,"<>1",AE$31:AE$129)*(1-SUMIF(AD$31:AD$129,"=1",AE$31:AE$129)))) -> 0.029330889 | AG32: =IF($C32="","",IF(AF32<$G32*$D$6,1,0)) -> 0 | AH32: =IF($C32="","",IF(AG32+$H32=2,1,0)) -> 0 | AI32: =IF($C32="","",IF(AH32=1,$G32*$D$6,AF32)) -> 0.029330889 | AJ32: =IF(AG32="","",IF(AH32=1,AI32,AI32/SUMIF(AH$31:AH$129,"<>1",AI$31:AI$129)*(1-SUMIF(AH$31:AH$129,"=1",AI$31:AI$129)))) -> 0.029330855 | AK32: =IF($C32="","",IF(AJ32<$G32*$D$6,1,0)) -> 0 | AL32: =IF($C32="","",IF(AK32+$H32=2,1,0)) -> 0 | AM32: =IF($C32="","",IF(AL32=1,$G32*$D$6,AJ32)) -> 0.029330855 | AN32: =IF(AK32="","",IF(AL32=1,AM32,AM32/SUMIF(AL$31:AL$129,"<>1",AM$31:AM$129)*(1-SUMIF(AL$31:AL$129,"=1",AM$31:AM$129)))) -> 0.029330853 | AO32: =IF($C32="","",IF(AN32<$G32*$D$6,1,0)) -> 0 | AP32: =IF($C32="","",IF(AO32+$H32=2,1,0)) -> 0 | AQ32: =IF($C32="","",IF(AP32=1,$G32*$D$6,AN32)) -> 0.029330853 | AR32: =IF(AO32="","",IF(AP32=1,AQ32,AQ32/SUMIF(AP$31:AP$129,"<>1",AQ$31:AQ$129)*(1-SUMIF(AP$31:AP$129,"=1",AQ$31:AQ$129)))) -> 0.029330853 | AS32: =IF($C32="","",IF(OR(AR32<$G32*$D$6,AP32=1,AL32=1,AH32=1,AD32=1,Z32=1,V32=1,R32=1,N32=1,J32=1),1,0)) -> 0 | AT32: =IF($C32="","",IF(AS32+$H32=2,1,0)) -> 0 | AU32: =IF($C32="","",IF(AT32=1,$G32*$D$6,AR32)) -> 0.029330853 | AV32: =IF(AS32="","",IFERROR(IF(AT32=1,AU32,AU32/SUMIF(AT$31:AT$129,"<>1",AU$31:AU$129)*(1-SUMIF(AT$31:AT$129,"=1",AU$31:AU$129))),0)) -> 0.029330853 | AW32: =IF(C32="","",IFERROR(AV32/SUM($AV$31:$AV$129),$BB$1)) -> 0.029330853 | AX32: =IF(C32="","",IFERROR(AW32*$D$2,$BB$1)) -> 595255.32 | BC32: =IF($C32="","",BC$30) -> 0 | BD32: =IF($C32="","",BD$30) -> 1 | BF32: =IF(H32="",0,IF(ISERROR(MATCH(H32,$BC$30:$BD$30,0)),0,1)) -> 1
B33: =IF(C33="","",ROW()-30) -> 3 | C33: =IF('מודל תמיכה חלוקת 20,294,511 שח'!G5="","",'מודל תמיכה חלוקת 20,294,511 שח'!G5) -> אוצרות שלמה להוצאת וההדרת כתבי מרן | D33: =IF(C33="","",'מודל תמיכה חלוקת 20,294,511 שח'!V5) -> 451302.54 | E33: =IFERROR(D33/$D$130,"") -> 0.022237665 | F33: =IF(C33="","",'מודל תמיכה חלוקת 20,294,511 שח'!W5) -> 440421 | G33: =IF($C33="","",IFERROR(F33/$F$130,$BB$1)) -> 0.021922402 | H33: 1 | I33: =IF($C33="","",IF(OR(E33="",G33="",BF33<>1),$BB$1,IF($E33<$G33*$D$6,1,0))) -> 0 | J33: =IF($C33="","",IF(I33+$H33=2,1,0)) -> 0 | K33: =IF($C33="","",IF(J33=1,$G33*$D$6,$E33)) -> 0.022237665 | L33: =IF(I33="","",IF(J33=1,K33,K33/SUMIF(J$31:J$129,"<>1",K$31:K$129)*(1-SUMIF(J$31:J$129,"=1",K$31:K$129)))) -> 0.021843774 | M33: =IF($C33="","",IF(L33<$G33*$D$6,1,0)) -> 0 | N33: =IF($C33="","",IF(M33+$H33=2,1,0)) -> 0 | O33: =IF($C33="","",IF(N33=1,$G33*$D$6,$K33)) -> 0.022237665 | P33: =IF(M33="","",IF(N33=1,O33,O33/SUMIF(N$31:N$129,"<>1",O$31:O$129)*(1-SUMIF(N$31:N$129,"=1",O$31:O$129)))) -> 0.021878406 | Q33: =IF($C33="","",IF(P33<$G33*$D$6,1,0)) -> 0 | R33: =IF($C33="","",IF(Q33+$H33=2,1,0)) -> 0 | S33: =IF($C33="","",IF(R33=1,$G33*$D$6,$O33)) -> 0.022237665 | T33: =IF(Q33="","",IF(R33=1,S33,S33/SUMIF(R$31:R$129,"<>1",S$31:S$129)*(1-SUMIF(R$31:R$129,"=1",S$31:S$129)))) -> 0.021853642 | U33: =IF($C33="","",IF(T33<$G33*$D$6,1,0)) -> 0 | V33: =IF($C33="","",IF(U33+$H33=2,1,0)) -> 0 | W33: =IF($C33="","",IF(V33=1,$G33*$D$6,T33)) -> 0.021853642 | X33: =IF(U33="","",IF(V33=1,W33,W33/SUMIF(V$31:V$129,"<>1",W$31:W$129)*(1-SUMIF(V$31:V$129,"=1",W$31:W$129)))) -> 0.021830886 | Y33: =IF($C33="","",IF(X33<$G33*$D$6,1,0)) -> 0 | Z33: =IF($C33="","",IF(Y33+$H33=2,1,0)) -> 0 | AA33: =IF($C33="","",IF(Z33=1,$G33*$D$6,X33)) -> 0.021830886 | AB33: =IF(Y33="","",IF(Z33=1,AA33,AA33/SUMIF(Z$31:Z$129,"<>1",AA$31:AA$129)*(1-SUMIF(Z$31:Z$129,"=1",AA$31:AA$129)))) -> 0.021827823 | AC33: =IF($C33="","",IF(AB33<$G33*$D$6,1,0)) -> 0 | AD33: =IF($C33="","",IF(AC33+$H33=2,1,0)) -> 0 | AE33: =IF($C33="","",IF(AD33=1,$G33*$D$6,AB33)) -> 0.021827823 | AF33: =IF(AC33="","",IF(AD33=1,AE33,AE33/SUMIF(AD$31:AD$129,"<>1",AE$31:AE$129)*(1-SUMIF(AD$31:AD$129,"=1",AE$31:AE$129)))) -> 0.021827638 | AG33: =IF($C33="","",IF(AF33<$G33*$D$6,1,0)) -> 0 | AH33: =IF($C33="","",IF(AG33+$H33=2,1,0)) -> 0 | AI33: =IF($C33="","",IF(AH33=1,$G33*$D$6,AF33)) -> 0.021827638 | AJ33: =IF(AG33="","",IF(AH33=1,AI33,AI33/SUMIF(AH$31:AH$129,"<>1",AI$31:AI$129)*(1-SUMIF(AH$31:AH$129,"=1",AI$31:AI$129)))) -> 0.021827613 | AK33: =IF($C33="","",IF(AJ33<$G33*$D$6,1,0)) -> 0 | AL33: =IF($C33="","",IF(AK33+$H33=2,1,0)) -> 0 | AM33: =IF($C33="","",IF(AL33=1,$G33*$D$6,AJ33)) -> 0.021827613 | AN33: =IF(AK33="","",IF(AL33=1,AM33,AM33/SUMIF(AL$31:AL$129,"<>1",AM$31:AM$129)*(1-SUMIF(AL$31:AL$129,"=1",AM$31:AM$129)))) -> 0.021827612 | AO33: =IF($C33="","",IF(AN33<$G33*$D$6,1,0)) -> 0 | AP33: =IF($C33="","",IF(AO33+$H33=2,1,0)) -> 0 | AQ33: =IF($C33="","",IF(AP33=1,$G33*$D$6,AN33)) -> 0.021827612 | AR33: =IF(AO33="","",IF(AP33=1,AQ33,AQ33/SUMIF(AP$31:AP$129,"<>1",AQ$31:AQ$129)*(1-SUMIF(AP$31:AP$129,"=1",AQ$31:AQ$129)))) -> 0.021827612 | AS33: =IF($C33="","",IF(OR(AR33<$G33*$D$6,AP33=1,AL33=1,AH33=1,AD33=1,Z33=1,V33=1,R33=1,N33=1,J33=1),1,0)) -> 0 | AT33: =IF($C33="","",IF(AS33+$H33=2,1,0)) -> 0 | AU33: =IF($C33="","",IF(AT33=1,$G33*$D$6,AR33)) -> 0.021827612 | AV33: =IF(AS33="","",IFERROR(IF(AT33=1,AU33,AU33/SUMIF(AT$31:AT$129,"<>1",AU$31:AU$129)*(1-SUMIF(AT$31:AT$129,"=1",AU$31:AU$129))),0)) -> 0.021827612 | AW33: =IF(C33="","",IFERROR(AV33/SUM($AV$31:$AV$129),$BB$1)) -> 0.021827612 | AX33: =IF(C33="","",IFERROR(AW33*$D$2,$BB$1)) -> 442980.7 | BC33: =IF($C33="","",BC$30) -> 0 | BD33: =IF($C33="","",BD$30) -> 1 | BF33: =IF(H33="",0,IF(ISERROR(MATCH(H33,$BC$30:$BD$30,0)),0,1)) -> 1
B34: =IF(C34="","",ROW()-30) -> 4 | C34: =IF('מודל תמיכה חלוקת 20,294,511 שח'!G6="","",'מודל תמיכה חלוקת 20,294,511 שח'!G6) -> אור תורה סטון (ע"ר) | D34: =IF(C34="","",'מודל תמיכה חלוקת 20,294,511 שח'!V6) -> 0 | E34: =IFERROR(D34/$D$130,"") -> 0 | F34: =IF(C34="","",'מודל תמיכה חלוקת 20,294,511 שח'!W6) -> 0 | G34: =IF($C34="","",IFERROR(F34/$F$130,$BB$1)) -> 0 | H34: 1 | I34: =IF($C34="","",IF(OR(E34="",G34="",BF34<>1),$BB$1,IF($E34<$G34*$D$6,1,0))) -> 0 | J34: =IF($C34="","",IF(I34+$H34=2,1,0)) -> 0 | K34: =IF($C34="","",IF(J34=1,$G34*$D$6,$E34)) -> 0 | L34: =IF(I34="","",IF(J34=1,K34,K34/SUMIF(J$31:J$129,"<>1",K$31:K$129)*(1-SUMIF(J$31:J$129,"=1",K$31:K$129)))) -> 0 | M34: =IF($C34="","",IF(L34<$G34*$D$6,1,0)) -> 0 | N34: =IF($C34="","",IF(M34+$H34=2,1,0)) -> 0 | O34: =IF($C34="","",IF(N34=1,$G34*$D$6,$K34)) -> 0 | P34: =IF(M34="","",IF(N34=1,O34,O34/SUMIF(N$31:N$129,"<>1",O$31:O$129)*(1-SUMIF(N$31:N$129,"=1",O$31:O$129)))) -> 0 | Q34: =IF($C34="","",IF(P34<$G34*$D$6,1,0)) -> 0 | R34: =IF($C34="","",IF(Q34+$H34=2,1,0)) -> 0 | S34: =IF($C34="","",IF(R34=1,$G34*$D$6,$O34)) -> 0 | T34: =IF(Q34="","",IF(R34=1,S34,S34/SUMIF(R$31:R$129,"<>1",S$31:S$129)*(1-SUMIF(R$31:R$129,"=1",S$31:S$129)))) -> 0 | U34: =IF($C34="","",IF(T34<$G34*$D$6,1,0)) -> 0 | V34: =IF($C34="","",IF(U34+$H34=2,1,0)) -> 0 | W34: =IF($C34="","",IF(V34=1,$G34*$D$6,T34)) -> 0 | X34: =IF(U34="","",IF(V34=1,W34,W34/SUMIF(V$31:V$129,"<>1",W$31:W$129)*(1-SUMIF(V$31:V$129,"=1",W$31:W$129)))) -> 0 | Y34: =IF($C34="","",IF(X34<$G34*$D$6,1,0)) -> 0 | Z34: =IF($C34="","",IF(Y34+$H34=2,1,0)) -> 0 | AA34: =IF($C34="","",IF(Z34=1,$G34*$D$6,X34)) -> 0 | AB34: =IF(Y34="","",IF(Z34=1,AA34,AA34/SUMIF(Z$31:Z$129,"<>1",AA$31:AA$129)*(1-SUMIF(Z$31:Z$129,"=1",AA$31:AA$129)))) -> 0 | AC34: =IF($C34="","",IF(AB34<$G34*$D$6,1,0)) -> 0 | AD34: =IF($C34="","",IF(AC34+$H34=2,1,0)) -> 0 | AE34: =IF($C34="","",IF(AD34=1,$G34*$D$6,AB34)) -> 0 | AF34: =IF(AC34="","",IF(AD34=1,AE34,AE34/SUMIF(AD$31:AD$129,"<>1",AE$31:AE$129)*(1-SUMIF(AD$31:AD$129,"=1",AE$31:AE$129)))) -> 0 | AG34: =IF($C34="","",IF(AF34<$G34*$D$6,1,0)) -> 0 | AH34: =IF($C34="","",IF(AG34+$H34=2,1,0)) -> 0 | AI34: =IF($C34="","",IF(AH34=1,$G34*$D$6,AF34)) -> 0 | AJ34: =IF(AG34="","",IF(AH34=1,AI34,AI34/SUMIF(AH$31:AH$129,"<>1",AI$31:AI$129)*(1-SUMIF(AH$31:AH$129,"=1",AI$31:AI$129)))) -> 0 | AK34: =IF($C34="","",IF(AJ34<$G34*$D$6,1,0)) -> 0 | AL34: =IF($C34="","",IF(AK34+$H34=2,1,0)) -> 0 | AM34: =IF($C34="","",IF(AL34=1,$G34*$D$6,AJ34)) -> 0 | AN34: =IF(AK34="","",IF(AL34=1,AM34,AM34/SUMIF(AL$31:AL$129,"<>1",AM$31:AM$129)*(1-SUMIF(AL$31:AL$129,"=1",AM$31:AM$129)))) -> 0 | AO34: =IF($C34="","",IF(AN34<$G34*$D$6,1,0)) -> 0 | AP34: =IF($C34="","",IF(AO34+$H34=2,1,0)) -> 0 | AQ34: =IF($C34="","",IF(AP34=1,$G34*$D$6,AN34)) -> 0 | AR34: =IF(AO34="","",IF(AP34=1,AQ34,AQ34/SUMIF(AP$31:AP$129,"<>1",AQ$31:AQ$129)*(1-SUMIF(AP$31:AP$129,"=1",AQ$31:AQ$129)))) -> 0 | AS34: =IF($C34="","",IF(OR(AR34<$G34*$D$6,AP34=1,AL34=1,AH34=1,AD34=1,Z34=1,V34=1,R34=1,N34=1,J34=1),1,0)) -> 0 | AT34: =IF($C34="","",IF(AS34+$H34=2,1,0)) -> 0 | AU34: =IF($C34="","",IF(AT34=1,$G34*$D$6,AR34)) -> 0 | AV34: =IF(AS34="","",IFERROR(IF(AT34=1,AU34,AU34/SUMIF(AT$31:AT$129,"<>1",AU$31:AU$129)*(1-SUMIF(AT$31:AT$129,"=1",AU$31:AU$129))),0)) -> 0 | AW34: =IF(C34="","",IFERROR(AV34/SUM($AV$31:$AV$129),$BB$1)) -> 0 | AX34: =IF(C34="","",IFERROR(AW34*$D$2,$BB$1)) -> 0 | BC34: =IF($C34="","",BC$30) -> 0 | BD34: =IF($C34="","",BD$30) -> 1 | BF34: =IF(H34="",0,IF(ISERROR(MATCH(H34,$BC$30:$BD$30,0)),0,1)) -> 1
B35: =IF(C35="","",ROW()-30) -> 5 | C35: =IF('מודל תמיכה חלוקת 20,294,511 שח'!G7="","",'מודל תמיכה חלוקת 20,294,511 שח'!G7) -> אורות חמדה (ע"ר) | D35: =IF(C35="","",'מודל תמיכה חלוקת 20,294,511 שח'!V7) -> 155135.25 | E35: =IFERROR(D35/$D$130,"") -> 0.0076441974 | F35: =IF(C35="","",'מודל תמיכה חלוקת 20,294,511 שח'!W7) -> 0 | G35: =IF($C35="","",IFERROR(F35/$F$130,$BB$1)) -> 0 | H35: 1 | I35: =IF($C35="","",IF(OR(E35="",G35="",BF35<>1),$BB$1,IF($E35<$G35*$D$6,1,0))) -> 0 | J35: =IF($C35="","",IF(I35+$H35=2,1,0)) -> 0 | K35: =IF($C35="","",IF(J35=1,$G35*$D$6,$E35)) -> 0.0076441974 | L35: =IF(I35="","",IF(J35=1,K35,K35/SUMIF(J$31:J$129,"<>1",K$31:K$129)*(1-SUMIF(J$31:J$129,"=1",K$31:K$129)))) -> 0.0075087973 | M35: =IF($C35="","",IF(L35<$G35*$D$6,1,0)) -> 0 | N35: =IF($C35="","",IF(M35+$H35=2,1,0)) -> 0 | O35: =IF($C35="","",IF(N35=1,$G35*$D$6,$K35)) -> 0.0076441974 | P35: =IF(M35="","",IF(N35=1,O35,O35/SUMIF(N$31:N$129,"<>1",O$31:O$129)*(1-SUMIF(N$31:N$129,"=1",O$31:O$129)))) -> 0.0075207022 | Q35: =IF($C35="","",IF(P35<$G35*$D$6,1,0)) -> 0 | R35: =IF($C35="","",IF(Q35+$H35=2,1,0)) -> 0 | S35: =IF($C35="","",IF(R35=1,$G35*$D$6,$O35)) -> 0.0076441974 | T35: =IF(Q35="","",IF(R35=1,S35,S35/SUMIF(R$31:R$129,"<>1",S$31:S$129)*(1-SUMIF(R$31:R$129,"=1",S$31:S$129)))) -> 0.0075121895 | U35: =IF($C35="","",IF(T35<$G35*$D$6,1,0)) -> 0 | V35: =IF($C35="","",IF(U35+$H35=2,1,0)) -> 0 | W35: =IF($C35="","",IF(V35=1,$G35*$D$6,T35)) -> 0.0075121895 | X35: =IF(U35="","",IF(V35=1,W35,W35/SUMIF(V$31:V$129,"<>1",W$31:W$129)*(1-SUMIF(V$31:V$129,"=1",W$31:W$129)))) -> 0.0075043669 | Y35: =IF($C35="","",IF(X35<$G35*$D$6,1,0)) -> 0 | Z35: =IF($C35="","",IF(Y35+$H35=2,1,0)) -> 0 | AA35: =IF($C35="","",IF(Z35=1,$G35*$D$6,X35)) -> 0.0075043669 | AB35: =IF(Y35="","",IF(Z35=1,AA35,AA35/SUMIF(Z$31:Z$129,"<>1",AA$31:AA$129)*(1-SUMIF(Z$31:Z$129,"=1",AA$31:AA$129)))) -> 0.0075033142 | AC35: =IF($C35="","",IF(AB35<$G35*$D$6,1,0)) -> 0 | AD35: =IF($C35="","",IF(AC35+$H35=2,1,0)) -> 0 | AE35: =IF($C35="","",IF(AD35=1,$G35*$D$6,AB35)) -> 0.0075033142 | AF35: =IF(AC35="","",IF(AD35=1,AE35,AE35/SUMIF(AD$31:AD$129,"<>1",AE$31:AE$129)*(1-SUMIF(AD$31:AD$129,"=1",AE$31:AE$129)))) -> 0.0075032506 | AG35: =IF($C35="","",IF(AF35<$G35*$D$6,1,0)) -> 0 | AH35: =IF($C35="","",IF(AG35+$H35=2,1,0)) -> 0 | AI35: =IF($C35="","",IF(AH35=1,$G35*$D$6,AF35)) -> 0.0075032506 | AJ35: =IF(AG35="","",IF(AH35=1,AI35,AI35/SUMIF(AH$31:AH$129,"<>1",AI$31:AI$129)*(1-SUMIF(AH$31:AH$129,"=1",AI$31:AI$129)))) -> 0.0075032421 | AK35: =IF($C35="","",IF(AJ35<$G35*$D$6,1,0)) -> 0 | AL35: =IF($C35="","",IF(AK35+$H35=2,1,0)) -> 0 | AM35: =IF($C35="","",IF(AL35=1,$G35*$D$6,AJ35)) -> 0.0075032421 | AN35: =IF(AK35="","",IF(AL35=1,AM35,AM35/SUMIF(AL$31:AL$129,"<>1",AM$31:AM$129)*(1-SUMIF(AL$31:AL$129,"=1",AM$31:AM$129)))) -> 0.0075032416 | AO35: =IF($C35="","",IF(AN35<$G35*$D$6,1,0)) -> 0 | AP35: =IF($C35="","",IF(AO35+$H35=2,1,0)) -> 0 | AQ35: =IF($C35="","",IF(AP35=1,$G35*$D$6,AN35)) -> 0.0075032416 | AR35: =IF(AO35="","",IF(AP35=1,AQ35,AQ35/SUMIF(AP$31:AP$129,"<>1",AQ$31:AQ$129)*(1-SUMIF(AP$31:AP$129,"=1",AQ$31:AQ$129)))) -> 0.0075032415 | AS35: =IF($C35="","",IF(OR(AR35<$G35*$D$6,AP35=1,AL35=1,AH35=1,AD35=1,Z35=1,V35=1,R35=1,N35=1,J35=1),1,0)) -> 0 | AT35: =IF($C35="","",IF(AS35+$H35=2,1,0)) -> 0 | AU35: =IF($C35="","",IF(AT35=1,$G35*$D$6,AR35)) -> 0.0075032415 | AV35: =IF(AS35="","",IFERROR(IF(AT35=1,AU35,AU35/SUMIF(AT$31:AT$129,"<>1",AU$31:AU$129)*(1-SUMIF(AT$31:AT$129,"=1",AU$31:AU$129))),0)) -> 0.0075032415 | AW35: =IF(C35="","",IFERROR(AV35/SUM($AV$31:$AV$129),$BB$1)) -> 0.0075032415 | AX35: =IF(C35="","",IFERROR(AW35*$D$2,$BB$1)) -> 152274.62 | BC35: =IF($C35="","",BC$30) -> 0 | BD35: =IF($C35="","",BD$30) -> 1 | BF35: =IF(H35="",0,IF(ISERROR(MATCH(H35,$BC$30:$BD$30,0)),0,1)) -> 1
B36: =IF(C36="","",ROW()-30) -> 6 | C36: =IF('מודל תמיכה חלוקת 20,294,511 שח'!G8="","",'מודל תמיכה חלוקת 20,294,511 שח'!G8) -> אריאל מפעלי תורה יהדות וחברה בישראל | D36: =IF(C36="","",'מודל תמיכה חלוקת 20,294,511 שח'!V8) -> 239754.47 | E36: =IFERROR(D36/$D$130,"") -> 0.01181376 | F36: =IF(C36="","",'מודל תמיכה חלוקת 20,294,511 שח'!W8) -> 281581 | G36: =IF($C36="","",IFERROR(F36/$F$130,$BB$1)) -> 0.01401598 | H36: 1 | I36: =IF($C36="","",IF(OR(E36="",G36="",BF36<>1),$BB$1,IF($E36<$G36*$D$6,1,0))) -> 0 | J36: =IF($C36="","",IF(I36+$H36=2,1,0)) -> 0 | K36: =IF($C36="","",IF(J36=1,$G36*$D$6,$E36)) -> 0.01181376 | L36: =IF(I36="","",IF(J36=1,K36,K36/SUMIF(J$31:J$129,"<>1",K$31:K$129)*(1-SUMIF(J$31:J$129,"=1",K$31:K$129)))) -> 0.011604505 | M36: =IF($C36="","",IF(L36<$G36*$D$6,1,0)) -> 0 | N36: =IF($C36="","",IF(M36+$H36=2,1,0)) -> 0 | O36: =IF($C36="","",IF(N36=1,$G36*$D$6,$K36)) -> 0.01181376 | P36: =IF(M36="","",IF(N36=1,O36,O36/SUMIF(N$31:N$129,"<>1",O$31:O$129)*(1-SUMIF(N$31:N$129,"=1",O$31:O$129)))) -> 0.011622903 | Q36: =IF($C36="","",IF(P36<$G36*$D$6,1,0)) -> 0 | R36: =IF($C36="","",IF(Q36+$H36=2,1,0)) -> 0 | S36: =IF($C36="","",IF(R36=1,$G36*$D$6,$O36)) -> 0.01181376 | T36: =IF(Q36="","",IF(R36=1,S36,S36/SUMIF(R$31:R$129,"<>1",S$31:S$129)*(1-SUMIF(R$31:R$129,"=1",S$31:S$129)))) -> 0.011609747 | U36: =IF($C36="","",IF(T36<$G36*$D$6,1,0)) -> 0 | V36: =IF($C36="","",IF(U36+$H36=2,1,0)) -> 0 | W36: =IF($C36="","",IF(V36=1,$G36*$D$6,T36)) -> 0.011609747 | X36: =IF(U36="","",IF(V36=1,W36,W36/SUMIF(V$31:V$129,"<>1",W$31:W$129)*(1-SUMIF(V$31:V$129,"=1",W$31:W$129)))) -> 0.011597658 | Y36: =IF($C36="","",IF(X36<$G36*$D$6,1,0)) -> 0 | Z36: =IF($C36="","",IF(Y36+$H36=2,1,0)) -> 0 | AA36: =IF($C36="","",IF(Z36=1,$G36*$D$6,X36)) -> 0.011597658 | AB36: =IF(Y36="","",IF(Z36=1,AA36,AA36/SUMIF(Z$31:Z$129,"<>1",AA$31:AA$129)*(1-SUMIF(Z$31:Z$129,"=1",AA$31:AA$129)))) -> 0.011596031 | AC36: =IF($C36="","",IF(AB36<$G36*$D$6,1,0)) -> 0 | AD36: =IF($C36="","",IF(AC36+$H36=2,1,0)) -> 0 | AE36: =IF($C36="","",IF(AD36=1,$G36*$D$6,AB36)) -> 0.011596031 | AF36: =IF(AC36="","",IF(AD36=1,AE36,AE36/SUMIF(AD$31:AD$129,"<>1",AE$31:AE$129)*(1-SUMIF(AD$31:AD$129,"=1",AE$31:AE$129)))) -> 0.011595933 | AG36: =IF($C36="","",IF(AF36<$G36*$D$6,1,0)) -> 0 | AH36: =IF($C36="","",IF(AG36+$H36=2,1,0)) -> 0 | AI36: =IF($C36="","",IF(AH36=1,$G36*$D$6,AF36)) -> 0.011595933 | AJ36: =IF(AG36="","",IF(AH36=1,AI36,AI36/SUMIF(AH$31:AH$129,"<>1",AI$31:AI$129)*(1-SUMIF(AH$31:AH$129,"=1",AI$31:AI$129)))) -> 0.01159592 | AK36: =IF($C36="","",IF(AJ36<$G36*$D$6,1,0)) -> 0 | AL36: =IF($C36="","",IF(AK36+$H36=2,1,0)) -> 0 | AM36: =IF($C36="","",IF(AL36=1,$G36*$D$6,AJ36)) -> 0.01159592 | AN36: =IF(AK36="","",IF(AL36=1,AM36,AM36/SUMIF(AL$31:AL$129,"<>1",AM$31:AM$129)*(1-SUMIF(AL$31:AL$129,"=1",AM$31:AM$129)))) -> 0.011595919 | AO36: =IF($C36="","",IF(AN36<$G36*$D$6,1,0)) -> 0 | AP36: =IF($C36="","",IF(AO36+$H36=2,1,0)) -> 0 | AQ36: =IF($C36="","",IF(AP36=1,$G36*$D$6,AN36)) -> 0.011595919 | AR36: =IF(AO36="","",IF(AP36=1,AQ36,AQ36/SUMIF(AP$31:AP$129,"<>1",AQ$31:AQ$129)*(1-SUMIF(AP$31:AP$129,"=1",AQ$31:AQ$129)))) -> 0.011595919 | AS36: =IF($C36="","",IF(OR(AR36<$G36*$D$6,AP36=1,AL36=1,AH36=1,AD36=1,Z36=1,V36=1,R36=1,N36=1,J36=1),1,0)) -> 0 | AT36: =IF($C36="","",IF(AS36+$H36=2,1,0)) -> 0 | AU36: =IF($C36="","",IF(AT36=1,$G36*$D$6,AR36)) -> 0.011595919 | AV36: =IF(AS36="","",IFERROR(IF(AT36=1,AU36,AU36/SUMIF(AT$31:AT$129,"<>1",AU$31:AU$129)*(1-SUMIF(AT$31:AT$129,"=1",AU$31:AU$129))),0)) -> 0.011595919 | AW36: =IF(C36="","",IFERROR(AV36/SUM($AV$31:$AV$129),$BB$1)) -> 0.011595919 | AX36: =IF(C36="","",IFERROR(AW36*$D$2,$BB$1)) -> 235333.5 | BC36: =IF($C36="","",BC$30) -> 0 | BD36: =IF($C36="","",BD$30) -> 1 | BF36: =IF(H36="",0,IF(ISERROR(MATCH(H36,$BC$30:$BD$30,0)),0,1)) -> 1
B37: =IF(C37="","",ROW()-30) -> 7 | C37: =IF('מודל תמיכה חלוקת 20,294,511 שח'!G9="","",'מודל תמיכה חלוקת 20,294,511 שח'!G9) -> בית המדרש להלכה בהתישבות - אמונת אי"ש | D37: =IF(C37="","",'מודל תמיכה חלוקת 20,294,511 שח'!V9) -> 500663.75 | E37: =IFERROR(D37/$D$130,"") -> 0.02466991 | F37: =IF(C37="","",'מודל תמיכה חלוקת 20,294,511 שח'!W9) -> 613701 | G37: =IF($C37="","",IFERROR(F37/$F$130,$BB$1)) -> 0.03054759 | H37: 1 | I37: =IF($C37="","",IF(OR(E37="",G37="",BF37<>1),$BB$1,IF($E37<$G37*$D$6,1,0))) -> 0 | J37: =IF($C37="","",IF(I37+$H37=2,1,0)) -> 0 | K37: =IF($C37="","",IF(J37=1,$G37*$D$6,$E37)) -> 0.02466991 | L37: =IF(I37="","",IF(J37=1,K37,K37/SUMIF(J$31:J$129,"<>1",K$31:K$129)*(1-SUMIF(J$31:J$129,"=1",K$31:K$129)))) -> 0.024232937 | M37: =IF($C37="","",IF(L37<$G37*$D$6,1,0)) -> 1 | N37: =IF($C37="","",IF(M37+$H37=2,1,0)) -> 1 | O37: =IF($C37="","",IF(N37=1,$G37*$D$6,$K37)) -> 0.024438072 | P37: =IF(M37="","",IF(N37=1,O37,O37/SUMIF(N$31:N$129,"<>1",O$31:O$129)*(1-SUMIF(N$31:N$129,"=1",O$31:O$129)))) -> 0.024438072 | Q37: =IF($C37="","",IF(P37<$G37*$D$6,1,0)) -> 0 | R37: =IF($C37="","",IF(Q37+$H37=2,1,0)) -> 0 | S37: =IF($C37="","",IF(R37=1,$G37*$D$6,$O37)) -> 0.024438072 | T37: =IF(Q37="","",IF(R37=1,S37,S37/SUMIF(R$31:R$129,"<>1",S$31:S$129)*(1-SUMIF(R$31:R$129,"=1",S$31:S$129)))) -> 0.024016051 | U37: =IF($C37="","",IF(T37<$G37*$D$6,1,0)) -> 1 | V37: =IF($C37="","",IF(U37+$H37=2,1,0)) -> 1 | W37: =IF($C37="","",IF(V37=1,$G37*$D$6,T37)) -> 0.024438072 | X37: =IF(U37="","",IF(V37=1,W37,W37/SUMIF(V$31:V$129,"<>1",W$31:W$129)*(1-SUMIF(V$31:V$129,"=1",W$31:W$129)))) -> 0.024438072 | Y37: =IF($C37="","",IF(X37<$G37*$D$6,1,0)) -> 0 | Z37: =IF($C37="","",IF(Y37+$H37=2,1,0)) -> 0 | AA37: =IF($C37="","",IF(Z37=1,$G37*$D$6,X37)) -> 0.024438072 | AB37: =IF(Y37="","",IF(Z37=1,AA37,AA37/SUMIF(Z$31:Z$129,"<>1",AA$31:AA$129)*(1-SUMIF(Z$31:Z$129,"=1",AA$31:AA$129)))) -> 0.024434644 | AC37: =IF($C37="","",IF(AB37<$G37*$D$6,1,0)) -> 1 | AD37: =IF($C37="","",IF(AC37+$H37=2,1,0)) -> 1 | AE37: =IF($C37="","",IF(AD37=1,$G37*$D$6,AB37)) -> 0.024438072 | AF37: =IF(AC37="","",IF(AD37=1,AE37,AE37/SUMIF(AD$31:AD$129,"<>1",AE$31:AE$129)*(1-SUMIF(AD$31:AD$129,"=1",AE$31:AE$129)))) -> 0.024438072 | AG37: =IF($C37="","",IF(AF37<$G37*$D$6,1,0)) -> 0 | AH37: =IF($C37="","",IF(AG37+$H37=2,1,0)) -> 0 | AI37: =IF($C37="","",IF(AH37=1,$G37*$D$6,AF37)) -> 0.024438072 | AJ37: =IF(AG37="","",IF(AH37=1,AI37,AI37/SUMIF(AH$31:AH$129,"<>1",AI$31:AI$129)*(1-SUMIF(AH$31:AH$129,"=1",AI$31:AI$129)))) -> 0.024438044 | AK37: =IF($C37="","",IF(AJ37<$G37*$D$6,1,0)) -> 1 | AL37: =IF($C37="","",IF(AK37+$H37=2,1,0)) -> 1 | AM37: =IF($C37="","",IF(AL37=1,$G37*$D$6,AJ37)) -> 0.024438072 | AN37: =IF(AK37="","",IF(AL37=1,AM37,AM37/SUMIF(AL$31:AL$129,"<>1",AM$31:AM$129)*(1-SUMIF(AL$31:AL$129,"=1",AM$31:AM$129)))) -> 0.024438072 | AO37: =IF($C37="","",IF(AN37<$G37*$D$6,1,0)) -> 0 | AP37: =IF($C37="","",IF(AO37+$H37=2,1,0)) -> 0 | AQ37: =IF($C37="","",IF(AP37=1,$G37*$D$6,AN37)) -> 0.024438072 | AR37: =IF(AO37="","",IF(AP37=1,AQ37,AQ37/SUMIF(AP$31:AP$129,"<>1",AQ$31:AQ$129)*(1-SUMIF(AP$31:AP$129,"=1",AQ$31:AQ$129)))) -> 0.024438072 | AS37: =IF($C37="","",IF(OR(AR37<$G37*$D$6,AP37=1,AL37=1,AH37=1,AD37=1,Z37=1,V37=1,R37=1,N37=1,J37=1),1,0)) -> 1 | AT37: =IF($C37="","",IF(AS37+$H37=2,1,0)) -> 1 | AU37: =IF($C37="","",IF(AT37=1,$G37*$D$6,AR37)) -> 0.024438072 | AV37: =IF(AS37="","",IFERROR(IF(AT37=1,AU37,AU37/SUMIF(AT$31:AT$129,"<>1",AU$31:AU$129)*(1-SUMIF(AT$31:AT$129,"=1",AU$31:AU$129))),0)) -> 0.024438072 | AW37: =IF(C37="","",IFERROR(AV37/SUM($AV$31:$AV$129),$BB$1)) -> 0.024438072 | AX37: =IF(C37="","",IFERROR(AW37*$D$2,$BB$1)) -> 495958.73 | BC37: =IF($C37="","",BC$30) -> 0 | BD37: =IF($C37="","",BD$30) -> 1 | BF37: =IF(H37="",0,IF(ISERROR(MATCH(H37,$BC$30:$BD$30,0)),0,1)) -> 1
B38: =IF(C38="","",ROW()-30) -> 8 | C38: =IF('מודל תמיכה חלוקת 20,294,511 שח'!G10="","",'מודל תמיכה חלוקת 20,294,511 שח'!G10) -> בית ועד הר-חברון (ע"ר) | D38: =IF(C38="","",'מודל תמיכה חלוקת 20,294,511 שח'!V10) -> 275012.48 | E38: =IFERROR(D38/$D$130,"") -> 0.013551077 | F38: =IF(C38="","",'מודל תמיכה חלוקת 20,294,511 שח'!W10) -> 259920 | G38: =IF($C38="","",IFERROR(F38/$F$130,$BB$1)) -> 0.012937782 | H38: 1 | I38: =IF($C38="","",IF(OR(E38="",G38="",BF38<>1),$BB$1,IF($E38<$G38*$D$6,1,0))) -> 0 | J38: =IF($C38="","",IF(I38+$H38=2,1,0)) -> 0 | K38: =IF($C38="","",IF(J38=1,$G38*$D$6,$E38)) -> 0.013551077 | L38: =IF(I38="","",IF(J38=1,K38,K38/SUMIF(J$31:J$129,"<>1",K$31:K$129)*(1-SUMIF(J$31:J$129,"=1",K$31:K$129)))) -> 0.01331105 | M38: =IF($C38="","",IF(L38<$G38*$D$6,1,0)) -> 0 | N38: =IF($C38="","",IF(M38+$H38=2,1,0)) -> 0 | O38: =IF($C38="","",IF(N38=1,$G38*$D$6,$K38)) -> 0.013551077 | P38: =IF(M38="","",IF(N38=1,O38,O38/SUMIF(N$31:N$129,"<>1",O$31:O$129)*(1-SUMIF(N$31:N$129,"=1",O$31:O$129)))) -> 0.013332154 | Q38: =IF($C38="","",IF(P38<$G38*$D$6,1,0)) -> 0 | R38: =IF($C38="","",IF(Q38+$H38=2,1,0)) -> 0 | S38: =IF($C38="","",IF(R38=1,$G38*$D$6,$O38)) -> 0.013551077 | T38: =IF(Q38="","",IF(R38=1,S38,S38/SUMIF(R$31:R$129,"<>1",S$31:S$129)*(1-SUMIF(R$31:R$129,"=1",S$31:S$129)))) -> 0.013317063 | U38: =IF($C38="","",IF(T38<$G38*$D$6,1,0)) -> 0 | V38: =IF($C38="","",IF(U38+$H38=2,1,0)) -> 0 | W38: =IF($C38="","",IF(V38=1,$G38*$D$6,T38)) -> 0.013317063 | X38: =IF(U38="","",IF(V38=1,W38,W38/SUMIF(V$31:V$129,"<>1",W$31:W$129)*(1-SUMIF(V$31:V$129,"=1",W$31:W$129)))) -> 0.013303196 | Y38: =IF($C38="","",IF(X38<$G38*$D$6,1,0)) -> 0 | Z38: =IF($C38="","",IF(Y38+$H38=2,1,0)) -> 0 | AA38: =IF($C38="","",IF(Z38=1,$G38*$D$6,X38)) -> 0.013303196 | AB38: =IF(Y38="","",IF(Z38=1,AA38,AA38/SUMIF(Z$31:Z$129,"<>1",AA$31:AA$129)*(1-SUMIF(Z$31:Z$129,"=1",AA$31:AA$129)))) -> 0.01330133 | AC38: =IF($C38="","",IF(AB38<$G38*$D$6,1,0)) -> 0 | AD38: =IF($C38="","",IF(AC38+$H38=2,1,0)) -> 0 | AE38: =IF($C38="","",IF(AD38=1,$G38*$D$6,AB38)) -> 0.01330133 | AF38: =IF(AC38="","",IF(AD38=1,AE38,AE38/SUMIF(AD$31:AD$129,"<>1",AE$31:AE$129)*(1-SUMIF(AD$31:AD$129,"=1",AE$31:AE$129)))) -> 0.013301217 | AG38: =IF($C38="","",IF(AF38<$G38*$D$6,1,0)) -> 0 | AH38: =IF($C38="","",IF(AG38+$H38=2,1,0)) -> 0 | AI38: =IF($C38="","",IF(AH38=1,$G38*$D$6,AF38)) -> 0.013301217 | AJ38: =IF(AG38="","",IF(AH38=1,AI38,AI38/SUMIF(AH$31:AH$129,"<>1",AI$31:AI$129)*(1-SUMIF(AH$31:AH$129,"=1",AI$31:AI$129)))) -> 0.013301202 | AK38: =IF($C38="","",IF(AJ38<$G38*$D$6,1,0)) -> 0 | AL38: =IF($C38="","",IF(AK38+$H38=2,1,0)) -> 0 | AM38: =IF($C38="","",IF(AL38=1,$G38*$D$6,AJ38)) -> 0.013301202 | AN38: =IF(AK38="","",IF(AL38=1,AM38,AM38/SUMIF(AL$31:AL$129,"<>1",AM$31:AM$129)*(1-SUMIF(AL$31:AL$129,"=1",AM$31:AM$129)))) -> 0.013301201 | AO38: =IF($C38="","",IF(AN38<$G38*$D$6,1,0)) -> 0 | AP38: =IF($C38="","",IF(AO38+$H38=2,1,0)) -> 0 | AQ38: =IF($C38="","",IF(AP38=1,$G38*$D$6,AN38)) -> 0.013301201 | AR38: =IF(AO38="","",IF(AP38=1,AQ38,AQ38/SUMIF(AP$31:AP$129,"<>1",AQ$31:AQ$129)*(1-SUMIF(AP$31:AP$129,"=1",AQ$31:AQ$129)))) -> 0.013301201 | AS38: =IF($C38="","",IF(OR(AR38<$G38*$D$6,AP38=1,AL38=1,AH38=1,AD38=1,Z38=1,V38=1,R38=1,N38=1,J38=1),1,0)) -> 0 | AT38: =IF($C38="","",IF(AS38+$H38=2,1,0)) -> 0 | AU38: =IF($C38="","",IF(AT38=1,$G38*$D$6,AR38)) -> 0.013301201 | AV38: =IF(AS38="","",IFERROR(IF(AT38=1,AU38,AU38/SUMIF(AT$31:AT$129,"<>1",AU$31:AU$129)*(1-SUMIF(AT$31:AT$129,"=1",AU$31:AU$129))),0)) -> 0.013301201 | AW38: =IF(C38="","",IFERROR(AV38/SUM($AV$31:$AV$129),$BB$1)) -> 0.013301201 | AX38: =IF(C38="","",IFERROR(AW38*$D$2,$BB$1)) -> 269941.37 | BC38: =IF($C38="","",BC$30) -> 0 | BD38: =IF($C38="","",BD$30) -> 1 | BF38: =IF(H38="",0,IF(ISERROR(MATCH(H38,$BC$30:$BD$30,0)),0,1)) -> 1
B39: =IF(C39="","",ROW()-30) -> 9 | C39: =IF('מודל תמיכה חלוקת 20,294,511 שח'!G11="","",'מודל תמיכה חלוקת 20,294,511 שח'!G11) -> בית תלמוד לרבנים בישראל (ע"ר) | D39: =IF(C39="","",'מודל תמיכה חלוקת 20,294,511 שח'!V11) -> 0 | E39: =IFERROR(D39/$D$130,"") -> 0 | F39: =IF(C39="","",'מודל תמיכה חלוקת 20,294,511 שח'!W11) -> 0 | G39: =IF($C39="","",IFERROR(F39/$F$130,$BB$1)) -> 0 | H39: 1 | I39: =IF($C39="","",IF(OR(E39="",G39="",BF39<>1),$BB$1,IF($E39<$G39*$D$6,1,0))) -> 0 | J39: =IF($C39="","",IF(I39+$H39=2,1,0)) -> 0 | K39: =IF($C39="","",IF(J39=1,$G39*$D$6,$E39)) -> 0 | L39: =IF(I39="","",IF(J39=1,K39,K39/SUMIF(J$31:J$129,"<>1",K$31:K$129)*(1-SUMIF(J$31:J$129,"=1",K$31:K$129)))) -> 0 | M39: =IF($C39="","",IF(L39<$G39*$D$6,1,0)) -> 0 | N39: =IF($C39="","",IF(M39+$H39=2,1,0)) -> 0 | O39: =IF($C39="","",IF(N39=1,$G39*$D$6,$K39)) -> 0 | P39: =IF(M39="","",IF(N39=1,O39,O39/SUMIF(N$31:N$129,"<>1",O$31:O$129)*(1-SUMIF(N$31:N$129,"=1",O$31:O$129)))) -> 0 | Q39: =IF($C39="","",IF(P39<$G39*$D$6,1,0)) -> 0 | R39: =IF($C39="","",IF(Q39+$H39=2,1,0)) -> 0 | S39: =IF($C39="","",IF(R39=1,$G39*$D$6,$O39)) -> 0 | T39: =IF(Q39="","",IF(R39=1,S39,S39/SUMIF(R$31:R$129,"<>1",S$31:S$129)*(1-SUMIF(R$31:R$129,"=1",S$31:S$129)))) -> 0 | U39: =IF($C39="","",IF(T39<$G39*$D$6,1,0)) -> 0 | V39: =IF($C39="","",IF(U39+$H39=2,1,0)) -> 0 | W39: =IF($C39="","",IF(V39=1,$G39*$D$6,T39)) -> 0 | X39: =IF(U39="","",IF(V39=1,W39,W39/SUMIF(V$31:V$129,"<>1",W$31:W$129)*(1-SUMIF(V$31:V$129,"=1",W$31:W$129)))) -> 0 | Y39: =IF($C39="","",IF(X39<$G39*$D$6,1,0)) -> 0 | Z39: =IF($C39="","",IF(Y39+$H39=2,1,0)) -> 0 | AA39: =IF($C39="","",IF(Z39=1,$G39*$D$6,X39)) -> 0 | AB39: =IF(Y39="","",IF(Z39=1,AA39,AA39/SUMIF(Z$31:Z$129,"<>1",AA$31:AA$129)*(1-SUMIF(Z$31:Z$129,"=1",AA$31:AA$129)))) -> 0 | AC39: =IF($C39="","",IF(AB39<$G39*$D$6,1,0)) -> 0 | AD39: =IF($C39="","",IF(AC39+$H39=2,1,0)) -> 0 | AE39: =IF($C39="","",IF(AD39=1,$G39*$D$6,AB39)) -> 0 | AF39: =IF(AC39="","",IF(AD39=1,AE39,AE39/SUMIF(AD$31:AD$129,"<>1",AE$31:AE$129)*(1-SUMIF(AD$31:AD$129,"=1",AE$31:AE$129)))) -> 0 | AG39: =IF($C39="","",IF(AF39<$G39*$D$6,1,0)) -> 0 | AH39: =IF($C39="","",IF(AG39+$H39=2,1,0)) -> 0 | AI39: =IF($C39="","",IF(AH39=1,$G39*$D$6,AF39)) -> 0 | AJ39: =IF(AG39="","",IF(AH39=1,AI39,AI39/SUMIF(AH$31:AH$129,"<>1",AI$31:AI$129)*(1-SUMIF(AH$31:AH$129,"=1",AI$31:AI$129)))) -> 0 | AK39: =IF($C39="","",IF(AJ39<$G39*$D$6,1,0)) -> 0 | AL39: =IF($C39="","",IF(AK39+$H39=2,1,0)) -> 0 | AM39: =IF($C39="","",IF(AL39=1,$G39*$D$6,AJ39)) -> 0 | AN39: =IF(AK39="","",IF(AL39=1,AM39,AM39/SUMIF(AL$31:AL$129,"<>1",AM$31:AM$129)*(1-SUMIF(AL$31:AL$129,"=1",AM$31:AM$129)))) -> 0 | AO39: =IF($C39="","",IF(AN39<$G39*$D$6,1,0)) -> 0 | AP39: =IF($C39="","",IF(AO39+$H39=2,1,0)) -> 0 | AQ39: =IF($C39="","",IF(AP39=1,$G39*$D$6,AN39)) -> 0 | AR39: =IF(AO39="","",IF(AP39=1,AQ39,AQ39/SUMIF(AP$31:AP$129,"<>1",AQ$31:AQ$129)*(1-SUMIF(AP$31:AP$129,"=1",AQ$31:AQ$129)))) -> 0 | AS39: =IF($C39="","",IF(OR(AR39<$G39*$D$6,AP39=1,AL39=1,AH39=1,AD39=1,Z39=1,V39=1,R39=1,N39=1,J39=1),1,0)) -> 0 | AT39: =IF($C39="","",IF(AS39+$H39=2,1,0)) -> 0 | AU39: =IF($C39="","",IF(AT39=1,$G39*$D$6,AR39)) -> 0 | AV39: =IF(AS39="","",IFERROR(IF(AT39=1,AU39,AU39/SUMIF(AT$31:AT$129,"<>1",AU$31:AU$129)*(1-SUMIF(AT$31:AT$129,"=1",AU$31:AU$129))),0)) -> 0 | AW39: =IF(C39="","",IFERROR(AV39/SUM($AV$31:$AV$129),$BB$1)) -> 0 | AX39: =IF(C39="","",IFERROR(AW39*$D$2,$BB$1)) -> 0 | BC39: =IF($C39="","",BC$30) -> 0 | BD39: =IF($C39="","",BD$30) -> 1 | BF39: =IF(H39="",0,IF(ISERROR(MATCH(H39,$BC$30:$BD$30,0)),0,1)) -> 1
B40: =IF(C40="","",ROW()-30) -> 10 | C40: =IF('מודל תמיכה חלוקת 20,294,511 שח'!G12="","",'מודל תמיכה חלוקת 20,294,511 שח'!G12) -> בשורת הארץ ע"ש יוסף, נפתלי ודבורה ב | D40: =IF(C40="","",'מודל תמיכה חלוקת 20,294,511 שח'!V12) -> 246806.08 | E40: =IFERROR(D40/$D$130,"") -> 0.012161223 | F40: =IF(C40="","",'מודל תמיכה חלוקת 20,294,511 שח'!W12) -> 223820 | G40: =IF($C40="","",IFERROR(F40/$F$130,$BB$1)) -> 0.011140868 | H40: 1 | I40: =IF($C40="","",IF(OR(E40="",G40="",BF40<>1),$BB$1,IF($E40<$G40*$D$6,1,0))) -> 0 | J40: =IF($C40="","",IF(I40+$H40=2,1,0)) -> 0 | K40: =IF($C40="","",IF(J40=1,$G40*$D$6,$E40)) -> 0.012161223 | L40: =IF(I40="","",IF(J40=1,K40,K40/SUMIF(J$31:J$129,"<>1",K$31:K$129)*(1-SUMIF(J$31:J$129,"=1",K$31:K$129)))) -> 0.011945814 | M40: =IF($C40="","",IF(L40<$G40*$D$6,1,0)) -> 0 | N40: =IF($C40="","",IF(M40+$H40=2,1,0)) -> 0 | O40: =IF($C40="","",IF(N40=1,$G40*$D$6,$K40)) -> 0.012161223 | P40: =IF(M40="","",IF(N40=1,O40,O40/SUMIF(N$31:N$129,"<>1",O$31:O$129)*(1-SUMIF(N$31:N$129,"=1",O$31:O$129)))) -> 0.011964753 | Q40: =IF($C40="","",IF(P40<$G40*$D$6,1,0)) -> 0 | R40: =IF($C40="","",IF(Q40+$H40=2,1,0)) -> 0 | S40: =IF($C40="","",IF(R40=1,$G40*$D$6,$O40)) -> 0.012161223 | T40: =IF(Q40="","",IF(R40=1,S40,S40/SUMIF(R$31:R$129,"<>1",S$31:S$129)*(1-SUMIF(R$31:R$129,"=1",S$31:S$129)))) -> 0.011951211 | U40: =IF($C40="","",IF(T40<$G40*$D$6,1,0)) -> 0 | V40: =IF($C40="","",IF(U40+$H40=2,1,0)) -> 0 | W40: =IF($C40="","",IF(V40=1,$G40*$D$6,T40)) -> 0.011951211 | X40: =IF(U40="","",IF(V40=1,W40,W40/SUMIF(V$31:V$129,"<>1",W$31:W$129)*(1-SUMIF(V$31:V$129,"=1",W$31:W$129)))) -> 0.011938766 | Y40: =IF($C40="","",IF(X40<$G40*$D$6,1,0)) -> 0 | Z40: =IF($C40="","",IF(Y40+$H40=2,1,0)) -> 0 | AA40: =IF($C40="","",IF(Z40=1,$G40*$D$6,X40)) -> 0.011938766 | AB40: =IF(Y40="","",IF(Z40=1,AA40,AA40/SUMIF(Z$31:Z$129,"<>1",AA$31:AA$129)*(1-SUMIF(Z$31:Z$129,"=1",AA$31:AA$129)))) -> 0.011937091 | AC40: =IF($C40="","",IF(AB40<$G40*$D$6,1,0)) -> 0 | AD40: =IF($C40="","",IF(AC40+$H40=2,1,0)) -> 0 | AE40: =IF($C40="","",IF(AD40=1,$G40*$D$6,AB40)) -> 0.011937091 | AF40: =IF(AC40="","",IF(AD40=1,AE40,AE40/SUMIF(AD$31:AD$129,"<>1",AE$31:AE$129)*(1-SUMIF(AD$31:AD$129,"=1",AE$31:AE$129)))) -> 0.01193699 | AG40: =IF($C40="","",IF(AF40<$G40*$D$6,1,0)) -> 0 | AH40: =IF($C40="","",IF(AG40+$H40=2,1,0)) -> 0 | AI40: =IF($C40="","",IF(AH40=1,$G40*$D$6,AF40)) -> 0.01193699 | AJ40: =IF(AG40="","",IF(AH40=1,AI40,AI40/SUMIF(AH$31:AH$129,"<>1",AI$31:AI$129)*(1-SUMIF(AH$31:AH$129,"=1",AI$31:AI$129)))) -> 0.011936976 | AK40: =IF($C40="","",IF(AJ40<$G40*$D$6,1,0)) -> 0 | AL40: =IF($C40="","",IF(AK40+$H40=2,1,0)) -> 0 | AM40: =IF($C40="","",IF(AL40=1,$G40*$D$6,AJ40)) -> 0.011936976 | AN40: =IF(AK40="","",IF(AL40=1,AM40,AM40/SUMIF(AL$31:AL$129,"<>1",AM$31:AM$129)*(1-SUMIF(AL$31:AL$129,"=1",AM$31:AM$129)))) -> 0.011936975 | AO40: =IF($C40="","",IF(AN40<$G40*$D$6,1,0)) -> 0 | AP40: =IF($C40="","",IF(AO40+$H40=2,1,0)) -> 0 | AQ40: =IF($C40="","",IF(AP40=1,$G40*$D$6,AN40)) -> 0.011936975 | AR40: =IF(AO40="","",IF(AP40=1,AQ40,AQ40/SUMIF(AP$31:AP$129,"<>1",AQ$31:AQ$129)*(1-SUMIF(AP$31:AP$129,"=1",AQ$31:AQ$129)))) -> 0.011936975 | AS40: =IF($C40="","",IF(OR(AR40<$G40*$D$6,AP40=1,AL40=1,AH40=1,AD40=1,Z40=1,V40=1,R40=1,N40=1,J40=1),1,0)) -> 0 | AT40: =IF($C40="","",IF(AS40+$H40=2,1,0)) -> 0 | AU40: =IF($C40="","",IF(AT40=1,$G40*$D$6,AR40)) -> 0.011936975 | AV40: =IF(AS40="","",IFERROR(IF(AT40=1,AU40,AU40/SUMIF(AT$31:AT$129,"<>1",AU$31:AU$129)*(1-SUMIF(AT$31:AT$129,"=1",AU$31:AU$129))),0)) -> 0.011936975 | AW40: =IF(C40="","",IFERROR(AV40/SUM($AV$31:$AV$129),$BB$1)) -> 0.011936975 | AX40: =IF(C40="","",IFERROR(AW40*$D$2,$BB$1)) -> 242255.07 | BC40: =IF($C40="","",BC$30) -> 0 | BD40: =IF($C40="","",BD$30) -> 1 | BF40: =IF(H40="",0,IF(ISERROR(MATCH(H40,$BC$30:$BD$30,0)),0,1)) -> 1
B41: =IF(C41="","",ROW()-30) -> 11 | C41: =IF('מודל תמיכה חלוקת 20,294,511 שח'!G13="","",'מודל תמיכה חלוקת 20,294,511 שח'!G13) -> דרכי הוראה לרבנים (ע"ר) | D41: =IF(C41="","",'מודל תמיכה חלוקת 20,294,511 שח'!V13) -> 232702.87 | E41: =IFERROR(D41/$D$130,"") -> 0.011466296 | F41: =IF(C41="","",'מודל תמיכה חלוקת 20,294,511 שח'!W13) -> 317680 | G41: =IF($C41="","",IFERROR(F41/$F$130,$BB$1)) -> 0.015812845 | H41: 1 | I41: =IF($C41="","",IF(OR(E41="",G41="",BF41<>1),$BB$1,IF($E41<$G41*$D$6,1,0))) -> 1 | J41: =IF($C41="","",IF(I41+$H41=2,1,0)) -> 1 | K41: =IF($C41="","",IF(J41=1,$G41*$D$6,$E41)) -> 0.012650276 | L41: =IF(I41="","",IF(J41=1,K41,K41/SUMIF(J$31:J$129,"<>1",K$31:K$129)*(1-SUMIF(J$31:J$129,"=1",K$31:K$129)))) -> 0.012650276 | M41: =IF($C41="","",IF(L41<$G41*$D$6,1,0)) -> 0 | N41: =IF($C41="","",IF(M41+$H41=2,1,0)) -> 0 | O41: =IF($C41="","",IF(N41=1,$G41*$D$6,$K41)) -> 0.012650276 | P41: =IF(M41="","",IF(N41=1,O41,O41/SUMIF(N$31:N$129,"<>1",O$31:O$129)*(1-SUMIF(N$31:N$129,"=1",O$31:O$129)))) -> 0.012445905 | Q41: =IF($C41="","",IF(P41<$G41*$D$6,1,0)) -> 1 | R41: =IF($C41="","",IF(Q41+$H41=2,1,0)) -> 1 | S41: =IF($C41="","",IF(R41=1,$G41*$D$6,$O41)) -> 0.012650276 | T41: =IF(Q41="","",IF(R41=1,S41,S41/SUMIF(R$31:R$129,"<>1",S$31:S$129)*(1-SUMIF(R$31:R$129,"=1",S$31:S$129)))) -> 0.012650276 | U41: =IF($C41="","",IF(T41<$G41*$D$6,1,0)) -> 0 | V41: =IF($C41="","",IF(U41+$H41=2,1,0)) -> 0 | W41: =IF($C41="","",IF(V41=1,$G41*$D$6,T41)) -> 0.012650276 | X41: =IF(U41="","",IF(V41=1,W41,W41/SUMIF(V$31:V$129,"<>1",W$31:W$129)*(1-SUMIF(V$31:V$129,"=1",W$31:W$129)))) -> 0.012637103 | Y41: =IF($C41="","",IF(X41<$G41*$D$6,1,0)) -> 1 | Z41: =IF($C41="","",IF(Y41+$H41=2,1,0)) -> 1 | AA41: =IF($C41="","",IF(Z41=1,$G41*$D$6,X41)) -> 0.012650276 | AB41: =IF(Y41="","",IF(Z41=1,AA41,AA41/SUMIF(Z$31:Z$129,"<>1",AA$31:AA$129)*(1-SUMIF(Z$31:Z$129,"=1",AA$31:AA$129)))) -> 0.012650276 | AC41: =IF($C41="","",IF(AB41<$G41*$D$6,1,0)) -> 0 | AD41: =IF($C41="","",IF(AC41+$H41=2,1,0)) -> 0 | AE41: =IF($C41="","",IF(AD41=1,$G41*$D$6,AB41)) -> 0.012650276 | AF41: =IF(AC41="","",IF(AD41=1,AE41,AE41/SUMIF(AD$31:AD$129,"<>1",AE$31:AE$129)*(1-SUMIF(AD$31:AD$129,"=1",AE$31:AE$129)))) -> 0.012650169 | AG41: =IF($C41="","",IF(AF41<$G41*$D$6,1,0)) -> 1 | AH41: =IF($C41="","",IF(AG41+$H41=2,1,0)) -> 1 | AI41: =IF($C41="","",IF(AH41=1,$G41*$D$6,AF41)) -> 0.012650276 | AJ41: =IF(AG41="","",IF(AH41=1,AI41,AI41/SUMIF(AH$31:AH$129,"<>1",AI$31:AI$129)*(1-SUMIF(AH$31:AH$129,"=1",AI$31:AI$129)))) -> 0.012650276 | AK41: =IF($C41="","",IF(AJ41<$G41*$D$6,1,0)) -> 0 | AL41: =IF($C41="","",IF(AK41+$H41=2,1,0)) -> 0 | AM41: =IF($C41="","",IF(AL41=1,$G41*$D$6,AJ41)) -> 0.012650276 | AN41: =IF(AK41="","",IF(AL41=1,AM41,AM41/SUMIF(AL$31:AL$129,"<>1",AM$31:AM$129)*(1-SUMIF(AL$31:AL$129,"=1",AM$31:AM$129)))) -> 0.012650275 | AO41: =IF($C41="","",IF(AN41<$G41*$D$6,1,0)) -> 1 | AP41: =IF($C41="","",IF(AO41+$H41=2,1,0)) -> 1 | AQ41: =IF($C41="","",IF(AP41=1,$G41*$D$6,AN41)) -> 0.012650276 | AR41: =IF(AO41="","",IF(AP41=1,AQ41,AQ41/SUMIF(AP$31:AP$129,"<>1",AQ$31:AQ$129)*(1-SUMIF(AP$31:AP$129,"=1",AQ$31:AQ$129)))) -> 0.012650276 | AS41: =IF($C41="","",IF(OR(AR41<$G41*$D$6,AP41=1,AL41=1,AH41=1,AD41=1,Z41=1,V41=1,R41=1,N41=1,J41=1),1,0)) -> 1 | AT41: =IF($C41="","",IF(AS41+$H41=2,1,0)) -> 1 | AU41: =IF($C41="","",IF(AT41=1,$G41*$D$6,AR41)) -> 0.012650276 | AV41: =IF(AS41="","",IFERROR(IF(AT41=1,AU41,AU41/SUMIF(AT$31:AT$129,"<>1",AU$31:AU$129)*(1-SUMIF(AT$31:AT$129,"=1",AU$31:AU$129))),0)) -> 0.012650276 | AW41: =IF(C41="","",IFERROR(AV41/SUM($AV$31:$AV$129),$BB$1)) -> 0.012650276 | AX41: =IF(C41="","",IFERROR(AW41*$D$2,$BB$1)) -> 256731.16 | BC41: =IF($C41="","",BC$30) -> 0 | BD41: =IF($C41="","",BD$30) -> 1 | BF41: =IF(H41="",0,IF(ISERROR(MATCH(H41,$BC$30:$BD$30,0)),0,1)) -> 1
B42: =IF(C42="","",ROW()-30) -> 12 | C42: =IF('מודל תמיכה חלוקת 20,294,511 שח'!G14="","",'מודל תמיכה חלוקת 20,294,511 שח'!G14) -> דרכי שמחה (ע"ר) | D42: =IF(C42="","",'מודל תמיכה חלוקת 20,294,511 שח'!V14) -> 444250.94 | E42: =IFERROR(D42/$D$130,"") -> 0.021890202 | F42: =IF(C42="","",'מודל תמיכה חלוקת 20,294,511 שח'!W14) -> 685901 | G42: =IF($C42="","",IFERROR(F42/$F$130,$BB$1)) -> 0.034141419 | H42: 1 | I42: =IF($C42="","",IF(OR(E42="",G42="",BF42<>1),$BB$1,IF($E42<$G42*$D$6,1,0))) -> 1 | J42: =IF($C42="","",IF(I42+$H42=2,1,0)) -> 1 | K42: =IF($C42="","",IF(J42=1,$G42*$D$6,$E42)) -> 0.027313135 | L42: =IF(I42="","",IF(J42=1,K42,K42/SUMIF(J$31:J$129,"<>1",K$31:K$129)*(1-SUMIF(J$31:J$129,"=1",K$31:K$129)))) -> 0.027313135 | M42: =IF($C42="","",IF(L42<$G42*$D$6,1,0)) -> 0 | N42: =IF($C42="","",IF(M42+$H42=2,1,0)) -> 0 | O42: =IF($C42="","",IF(N42=1,$G42*$D$6,$K42)) -> 0.027313135 | P42: =IF(M42="","",IF(N42=1,O42,O42/SUMIF(N$31:N$129,"<>1",O$31:O$129)*(1-SUMIF(N$31:N$129,"=1",O$31:O$129)))) -> 0.02687188 | Q42: =IF($C42="","",IF(P42<$G42*$D$6,1,0)) -> 1 | R42: =IF($C42="","",IF(Q42+$H42=2,1,0)) -> 1 | S42: =IF($C42="","",IF(R42=1,$G42*$D$6,$O42)) -> 0.027313135 | T42: =IF(Q42="","",IF(R42=1,S42,S42/SUMIF(R$31:R$129,"<>1",S$31:S$129)*(1-SUMIF(R$31:R$129,"=1",S$31:S$129)))) -> 0.027313135 | U42: =IF($C42="","",IF(T42<$G42*$D$6,1,0)) -> 0 | V42: =IF($C42="","",IF(U42+$H42=2,1,0)) -> 0 | W42: =IF($C42="","",IF(V42=1,$G42*$D$6,T42)) -> 0.027313135 | X42: =IF(U42="","",IF(V42=1,W42,W42/SUMIF(V$31:V$129,"<>1",W$31:W$129)*(1-SUMIF(V$31:V$129,"=1",W$31:W$129)))) -> 0.027284693 | Y42: =IF($C42="","",IF(X42<$G42*$D$6,1,0)) -> 1 | Z42: =IF($C42="","",IF(Y42+$H42=2,1,0)) -> 1 | AA42: =IF($C42="","",IF(Z42=1,$G42*$D$6,X42)) -> 0.027313135 | AB42: =IF(Y42="","",IF(Z42=1,AA42,AA42/SUMIF(Z$31:Z$129,"<>1",AA$31:AA$129)*(1-SUMIF(Z$31:Z$129,"=1",AA$31:AA$129)))) -> 0.027313135 | AC42: =IF($C42="","",IF(AB42<$G42*$D$6,1,0)) -> 0 | AD42: =IF($C42="","",IF(AC42+$H42=2,1,0)) -> 0 | AE42: =IF($C42="","",IF(AD42=1,$G42*$D$6,AB42)) -> 0.027313135 | AF42: =IF(AC42="","",IF(AD42=1,AE42,AE42/SUMIF(AD$31:AD$129,"<>1",AE$31:AE$129)*(1-SUMIF(AD$31:AD$129,"=1",AE$31:AE$129)))) -> 0.027312904 | AG42: =IF($C42="","",IF(AF42<$G42*$D$6,1,0)) -> 1 | AH42: =IF($C42="","",IF(AG42+$H42=2,1,0)) -> 1 | AI42: =IF($C42="","",IF(AH42=1,$G42*$D$6,AF42)) -> 0.027313135 | AJ42: =IF(AG42="","",IF(AH42=1,AI42,AI42/SUMIF(AH$31:AH$129,"<>1",AI$31:AI$129)*(1-SUMIF(AH$31:AH$129,"=1",AI$31:AI$129)))) -> 0.027313135 | AK42: =IF($C42="","",IF(AJ42<$G42*$D$6,1,0)) -> 0 | AL42: =IF($C42="","",IF(AK42+$H42=2,1,0)) -> 0 | AM42: =IF($C42="","",IF(AL42=1,$G42*$D$6,AJ42)) -> 0.027313135 | AN42: =IF(AK42="","",IF(AL42=1,AM42,AM42/SUMIF(AL$31:AL$129,"<>1",AM$31:AM$129)*(1-SUMIF(AL$31:AL$129,"=1",AM$31:AM$129)))) -> 0.027313133 | AO42: =IF($C42="","",IF(AN42<$G42*$D$6,1,0)) -> 1 | AP42: =IF($C42="","",IF(AO42+$H42=2,1,0)) -> 1 | AQ42: =IF($C42="","",IF(AP42=1,$G42*$D$6,AN42)) -> 0.027313135 | AR42: =IF(AO42="","",IF(AP42=1,AQ42,AQ42/SUMIF(AP$31:AP$129,"<>1",AQ$31:AQ$129)*(1-SUMIF(AP$31:AP$129,"=1",AQ$31:AQ$129)))) -> 0.027313135 | AS42: =IF($C42="","",IF(OR(AR42<$G42*$D$6,AP42=1,AL42=1,AH42=1,AD42=1,Z42=1,V42=1,R42=1,N42=1,J42=1),1,0)) -> 1 | AT42: =IF($C42="","",IF(AS42+$H42=2,1,0)) -> 1 | AU42: =IF($C42="","",IF(AT42=1,$G42*$D$6,AR42)) -> 0.027313135 | AV42: =IF(AS42="","",IFERROR(IF(AT42=1,AU42,AU42/SUMIF(AT$31:AT$129,"<>1",AU$31:AU$129)*(1-SUMIF(AT$31:AT$129,"=1",AU$31:AU$129))),0)) -> 0.027313135 | AW42: =IF(C42="","",IFERROR(AV42/SUM($AV$31:$AV$129),$BB$1)) -> 0.027313135 | AX42: =IF(C42="","",IFERROR(AW42*$D$2,$BB$1)) -> 554306.72 | BC42: =IF($C42="","",BC$30) -> 0 | BD42: =IF($C42="","",BD$30) -> 1 | BF42: =IF(H42="",0,IF(ISERROR(MATCH(H42,$BC$30:$BD$30,0)),0,1)) -> 1
... B95: =IF(C95="","",ROW()-30) -> 65 | C95: =IF('מודל תמיכה חלוקת 20,294,511 שח'!G67="","",'מודל תמיכה חלוקת 20,294,511 שח'!G67) -> תורת חב"ד לבני הישיבות שעל ידי צעיר | D95: =IF(C95="","",'מודל תמיכה חלוקת 20,294,511 שח'!V67) -> 373734.91 | E95: =IFERROR(D95/$D$130,"") -> 0.018415566 | F95: =IF(C95="","",'מודל תמיכה חלוקת 20,294,511 שח'!W67) -> 346560 | G95: =IF($C95="","",IFERROR(F95/$F$130,$BB$1)) -> 0.017250376 | H95: 1 | I95: =IF($C95="","",IF(OR(E95="",G95="",BF95<>1),$BB$1,IF($E95<$G95*$D$6,1,0))) -> 0 | J95: =IF($C95="","",IF(I95+$H95=2,1,0)) -> 0 | K95: =IF($C95="","",IF(J95=1,$G95*$D$6,$E95)) -> 0.018415566 | L95: =IF(I95="","",IF(J95=1,K95,K95/SUMIF(J$31:J$129,"<>1",K$31:K$129)*(1-SUMIF(J$31:J$129,"=1",K$31:K$129)))) -> 0.018089375 | M95: =IF($C95="","",IF(L95<$G95*$D$6,1,0)) -> 0 | N95: =IF($C95="","",IF(M95+$H95=2,1,0)) -> 0 | O95: =IF($C95="","",IF(N95=1,$G95*$D$6,$K95)) -> 0.018415566 | P95: =IF(M95="","",IF(N95=1,O95,O95/SUMIF(N$31:N$129,"<>1",O$31:O$129)*(1-SUMIF(N$31:N$129,"=1",O$31:O$129)))) -> 0.018118055 | Q95: =IF($C95="","",IF(P95<$G95*$D$6,1,0)) -> 0 | R95: =IF($C95="","",IF(Q95+$H95=2,1,0)) -> 0 | S95: =IF($C95="","",IF(R95=1,$G95*$D$6,$O95)) -> 0.018415566 | T95: =IF(Q95="","",IF(R95=1,S95,S95/SUMIF(R$31:R$129,"<>1",S$31:S$129)*(1-SUMIF(R$31:R$129,"=1",S$31:S$129)))) -> 0.018097547 | U95: =IF($C95="","",IF(T95<$G95*$D$6,1,0)) -> 0 | V95: =IF($C95="","",IF(U95+$H95=2,1,0)) -> 0 | W95: =IF($C95="","",IF(V95=1,$G95*$D$6,T95)) -> 0.018097547 | X95: =IF(U95="","",IF(V95=1,W95,W95/SUMIF(V$31:V$129,"<>1",W$31:W$129)*(1-SUMIF(V$31:V$129,"=1",W$31:W$129)))) -> 0.018078702 | Y95: =IF($C95="","",IF(X95<$G95*$D$6,1,0)) -> 0 | Z95: =IF($C95="","",IF(Y95+$H95=2,1,0)) -> 0 | AA95: =IF($C95="","",IF(Z95=1,$G95*$D$6,X95)) -> 0.018078702 | AB95: =IF(Y95="","",IF(Z95=1,AA95,AA95/SUMIF(Z$31:Z$129,"<>1",AA$31:AA$129)*(1-SUMIF(Z$31:Z$129,"=1",AA$31:AA$129)))) -> 0.018076166 | AC95: =IF($C95="","",IF(AB95<$G95*$D$6,1,0)) -> 0 | AD95: =IF($C95="","",IF(AC95+$H95=2,1,0)) -> 0 | AE95: =IF($C95="","",IF(AD95=1,$G95*$D$6,AB95)) -> 0.018076166 | AF95: =IF(AC95="","",IF(AD95=1,AE95,AE95/SUMIF(AD$31:AD$129,"<>1",AE$31:AE$129)*(1-SUMIF(AD$31:AD$129,"=1",AE$31:AE$129)))) -> 0.018076013 | AG95: =IF($C95="","",IF(AF95<$G95*$D$6,1,0)) -> 0 | AH95: =IF($C95="","",IF(AG95+$H95=2,1,0)) -> 0 | AI95: =IF($C95="","",IF(AH95=1,$G95*$D$6,AF95)) -> 0.018076013 | AJ95: =IF(AG95="","",IF(AH95=1,AI95,AI95/SUMIF(AH$31:AH$129,"<>1",AI$31:AI$129)*(1-SUMIF(AH$31:AH$129,"=1",AI$31:AI$129)))) -> 0.018075992 | AK95: =IF($C95="","",IF(AJ95<$G95*$D$6,1,0)) -> 0 | AL95: =IF($C95="","",IF(AK95+$H95=2,1,0)) -> 0 | AM95: =IF($C95="","",IF(AL95=1,$G95*$D$6,AJ95)) -> 0.018075992 | AN95: =IF(AK95="","",IF(AL95=1,AM95,AM95/SUMIF(AL$31:AL$129,"<>1",AM$31:AM$129)*(1-SUMIF(AL$31:AL$129,"=1",AM$31:AM$129)))) -> 0.018075991 | AO95: =IF($C95="","",IF(AN95<$G95*$D$6,1,0)) -> 0 | AP95: =IF($C95="","",IF(AO95+$H95=2,1,0)) -> 0 | AQ95: =IF($C95="","",IF(AP95=1,$G95*$D$6,AN95)) -> 0.018075991 | AR95: =IF(AO95="","",IF(AP95=1,AQ95,AQ95/SUMIF(AP$31:AP$129,"<>1",AQ$31:AQ$129)*(1-SUMIF(AP$31:AP$129,"=1",AQ$31:AQ$129)))) -> 0.018075991 | AS95: =IF($C95="","",IF(OR(AR95<$G95*$D$6,AP95=1,AL95=1,AH95=1,AD95=1,Z95=1,V95=1,R95=1,N95=1,J95=1),1,0)) -> 0 | AT95: =IF($C95="","",IF(AS95+$H95=2,1,0)) -> 0 | AU95: =IF($C95="","",IF(AT95=1,$G95*$D$6,AR95)) -> 0.018075991 | AV95: =IF(AS95="","",IFERROR(IF(AT95=1,AU95,AU95/SUMIF(AT$31:AT$129,"<>1",AU$31:AU$129)*(1-SUMIF(AT$31:AT$129,"=1",AU$31:AU$129))),0)) -> 0.018075991 | AW95: =IF(C95="","",IFERROR(AV95/SUM($AV$31:$AV$129),$BB$1)) -> 0.018075991 | AX95: =IF(C95="","",IFERROR(AW95*$D$2,$BB$1)) -> 366843.39 | BC95: =IF($C95="","",BC$30) -> 0 | BD95: =IF($C95="","",BD$30) -> 1 | BF95: =IF(H95="",0,IF(ISERROR(MATCH(H95,$BC$30:$BD$30,0)),0,1)) -> 1
B96: =IF(C96="","",ROW()-30) | C96: =IF('מודל תמיכה חלוקת 20,294,511 שח'!G69="","",'מודל תמיכה חלוקת 20,294,511 שח'!G69) | D96: =IF(C96="","",'מודל תמיכה חלוקת 20,294,511 שח'!V69) | E96: =IFERROR(D96/$D$130,"") | F96: =IF(C96="","",'מודל תמיכה חלוקת 20,294,511 שח'!W69) | G96: =IF($C96="","",IFERROR(F96/$F$130,$BB$1)) | H96: 1 | I96: =IF($C96="","",IF(OR(E96="",G96="",BF96<>1),$BB$1,IF($E96<$G96*$D$6,1,0))) | J96: =IF($C96="","",IF(I96+$H96=2,1,0)) | K96: =IF($C96="","",IF(J96=1,$G96*$D$6,$E96)) | L96: =IF(I96="","",IF(J96=1,K96,K96/SUMIF(J$31:J$129,"<>1",K$31:K$129)*(1-SUMIF(J$31:J$129,"=1",K$31:K$129)))) | M96: =IF($C96="","",IF(L96<$G96*$D$6,1,0)) | N96: =IF($C96="","",IF(M96+$H96=2,1,0)) | O96: =IF($C96="","",IF(N96=1,$G96*$D$6,$K96)) | P96: =IF(M96="","",IF(N96=1,O96,O96/SUMIF(N$31:N$129,"<>1",O$31:O$129)*(1-SUMIF(N$31:N$129,"=1",O$31:O$129)))) | Q96: =IF($C96="","",IF(P96<$G96*$D$6,1,0)) | R96: =IF($C96="","",IF(Q96+$H96=2,1,0)) | S96: =IF($C96="","",IF(R96=1,$G96*$D$6,$O96)) | T96: =IF(Q96="","",IF(R96=1,S96,S96/SUMIF(R$31:R$129,"<>1",S$31:S$129)*(1-SUMIF(R$31:R$129,"=1",S$31:S$129)))) | U96: =IF($C96="","",IF(T96<$G96*$D$6,1,0)) | V96: =IF($C96="","",IF(U96+$H96=2,1,0)) | W96: =IF($C96="","",IF(V96=1,$G96*$D$6,T96)) | X96: =IF(U96="","",IF(V96=1,W96,W96/SUMIF(V$31:V$129,"<>1",W$31:W$129)*(1-SUMIF(V$31:V$129,"=1",W$31:W$129)))) | Y96: =IF($C96="","",IF(X96<$G96*$D$6,1,0)) | Z96: =IF($C96="","",IF(Y96+$H96=2,1,0)) | AA96: =IF($C96="","",IF(Z96=1,$G96*$D$6,X96)) | AB96: =IF(Y96="","",IF(Z96=1,AA96,AA96/SUMIF(Z$31:Z$129,"<>1",AA$31:AA$129)*(1-SUMIF(Z$31:Z$129,"=1",AA$31:AA$129)))) | AC96: =IF($C96="","",IF(AB96<$G96*$D$6,1,0)) | AD96: =IF($C96="","",IF(AC96+$H96=2,1,0)) | AE96: =IF($C96="","",IF(AD96=1,$G96*$D$6,AB96)) | AF96: =IF(AC96="","",IF(AD96=1,AE96,AE96/SUMIF(AD$31:AD$129,"<>1",AE$31:AE$129)*(1-SUMIF(AD$31:AD$129,"=1",AE$31:AE$129)))) | AG96: =IF($C96="","",IF(AF96<$G96*$D$6,1,0)) | AH96: =IF($C96="","",IF(AG96+$H96=2,1,0)) | AI96: =IF($C96="","",IF(AH96=1,$G96*$D$6,AF96)) | AJ96: =IF(AG96="","",IF(AH96=1,AI96,AI96/SUMIF(AH$31:AH$129,"<>1",AI$31:AI$129)*(1-SUMIF(AH$31:AH$129,"=1",AI$31:AI$129)))) | AK96: =IF($C96="","",IF(AJ96<$G96*$D$6,1,0)) | AL96: =IF($C96="","",IF(AK96+$H96=2,1,0)) | AM96: =IF($C96="","",IF(AL96=1,$G96*$D$6,AJ96)) | AN96: =IF(AK96="","",IF(AL96=1,AM96,AM96/SUMIF(AL$31:AL$129,"<>1",AM$31:AM$129)*(1-SUMIF(AL$31:AL$129,"=1",AM$31:AM$129)))) | AO96: =IF($C96="","",IF(AN96<$G96*$D$6,1,0)) | AP96: =IF($C96="","",IF(AO96+$H96=2,1,0)) | AQ96: =IF($C96="","",IF(AP96=1,$G96*$D$6,AN96)) | AR96: =IF(AO96="","",IF(AP96=1,AQ96,AQ96/SUMIF(AP$31:AP$129,"<>1",AQ$31:AQ$129)*(1-SUMIF(AP$31:AP$129,"=1",AQ$31:AQ$129)))) | AS96: =IF($C96="","",IF(OR(AR96<$G96*$D$6,AP96=1,AL96=1,AH96=1,AD96=1,Z96=1,V96=1,R96=1,N96=1,J96=1),1,0)) | AT96: =IF($C96="","",IF(AS96+$H96=2,1,0)) | AU96: =IF($C96="","",IF(AT96=1,$G96*$D$6,AR96)) | AV96: =IF(AS96="","",IFERROR(IF(AT96=1,AU96,AU96/SUMIF(AT$31:AT$129,"<>1",AU$31:AU$129)*(1-SUMIF(AT$31:AT$129,"=1",AU$31:AU$129))),0)) | AW96: =IF(C96="","",IFERROR(AV96/SUM($AV$31:$AV$129),$BB$1)) | AX96: =IF(C96="","",IFERROR(AW96*$D$2,$BB$1)) | BC96: =IF($C96="","",BC$30) | BD96: =IF($C96="","",BD$30) | BF96: =IF(H96="",0,IF(ISERROR(MATCH(H96,$BC$30:$BD$30,0)),0,1)) -> 1
B97: =IF(C97="","",ROW()-30) | C97: =IF('מודל תמיכה חלוקת 20,294,511 שח'!G70="","",'מודל תמיכה חלוקת 20,294,511 שח'!G70) | D97: =IF(C97="","",'מודל תמיכה חלוקת 20,294,511 שח'!V70) | E97: =IFERROR(D97/$D$130,"") | F97: =IF(C97="","",'מודל תמיכה חלוקת 20,294,511 שח'!W70) | G97: =IF($C97="","",IFERROR(F97/$F$130,$BB$1)) | H97: 1 | I97: =IF($C97="","",IF(OR(E97="",G97="",BF97<>1),$BB$1,IF($E97<$G97*$D$6,1,0))) | J97: =IF($C97="","",IF(I97+$H97=2,1,0)) | K97: =IF($C97="","",IF(J97=1,$G97*$D$6,$E97)) | L97: =IF(I97="","",IF(J97=1,K97,K97/SUMIF(J$31:J$129,"<>1",K$31:K$129)*(1-SUMIF(J$31:J$129,"=1",K$31:K$129)))) | M97: =IF($C97="","",IF(L97<$G97*$D$6,1,0)) | N97: =IF($C97="","",IF(M97+$H97=2,1,0)) | O97: =IF($C97="","",IF(N97=1,$G97*$D$6,$K97)) | P97: =IF(M97="","",IF(N97=1,O97,O97/SUMIF(N$31:N$129,"<>1",O$31:O$129)*(1-SUMIF(N$31:N$129,"=1",O$31:O$129)))) | Q97: =IF($C97="","",IF(P97<$G97*$D$6,1,0)) | R97: =IF($C97="","",IF(Q97+$H97=2,1,0)) | S97: =IF($C97="","",IF(R97=1,$G97*$D$6,$O97)) | T97: =IF(Q97="","",IF(R97=1,S97,S97/SUMIF(R$31:R$129,"<>1",S$31:S$129)*(1-SUMIF(R$31:R$129,"=1",S$31:S$129)))) | U97: =IF($C97="","",IF(T97<$G97*$D$6,1,0)) | V97: =IF($C97="","",IF(U97+$H97=2,1,0)) | W97: =IF($C97="","",IF(V97=1,$G97*$D$6,T97)) | X97: =IF(U97="","",IF(V97=1,W97,W97/SUMIF(V$31:V$129,"<>1",W$31:W$129)*(1-SUMIF(V$31:V$129,"=1",W$31:W$129)))) | Y97: =IF($C97="","",IF(X97<$G97*$D$6,1,0)) | Z97: =IF($C97="","",IF(Y97+$H97=2,1,0)) | AA97: =IF($C97="","",IF(Z97=1,$G97*$D$6,X97)) | AB97: =IF(Y97="","",IF(Z97=1,AA97,AA97/SUMIF(Z$31:Z$129,"<>1",AA$31:AA$129)*(1-SUMIF(Z$31:Z$129,"=1",AA$31:AA$129)))) | AC97: =IF($C97="","",IF(AB97<$G97*$D$6,1,0)) | AD97: =IF($C97="","",IF(AC97+$H97=2,1,0)) | AE97: =IF($C97="","",IF(AD97=1,$G97*$D$6,AB97)) | AF97: =IF(AC97="","",IF(AD97=1,AE97,AE97/SUMIF(AD$31:AD$129,"<>1",AE$31:AE$129)*(1-SUMIF(AD$31:AD$129,"=1",AE$31:AE$129)))) | AG97: =IF($C97="","",IF(AF97<$G97*$D$6,1,0)) | AH97: =IF($C97="","",IF(AG97+$H97=2,1,0)) | AI97: =IF($C97="","",IF(AH97=1,$G97*$D$6,AF97)) | AJ97: =IF(AG97="","",IF(AH97=1,AI97,AI97/SUMIF(AH$31:AH$129,"<>1",AI$31:AI$129)*(1-SUMIF(AH$31:AH$129,"=1",AI$31:AI$129)))) | AK97: =IF($C97="","",IF(AJ97<$G97*$D$6,1,0)) | AL97: =IF($C97="","",IF(AK97+$H97=2,1,0)) | AM97: =IF($C97="","",IF(AL97=1,$G97*$D$6,AJ97)) | AN97: =IF(AK97="","",IF(AL97=1,AM97,AM97/SUMIF(AL$31:AL$129,"<>1",AM$31:AM$129)*(1-SUMIF(AL$31:AL$129,"=1",AM$31:AM$129)))) | AO97: =IF($C97="","",IF(AN97<$G97*$D$6,1,0)) | AP97: =IF($C97="","",IF(AO97+$H97=2,1,0)) | AQ97: =IF($C97="","",IF(AP97=1,$G97*$D$6,AN97)) | AR97: =IF(AO97="","",IF(AP97=1,AQ97,AQ97/SUMIF(AP$31:AP$129,"<>1",AQ$31:AQ$129)*(1-SUMIF(AP$31:AP$129,"=1",AQ$31:AQ$129)))) | AS97: =IF($C97="","",IF(OR(AR97<$G97*$D$6,AP97=1,AL97=1,AH97=1,AD97=1,Z97=1,V97=1,R97=1,N97=1,J97=1),1,0)) | AT97: =IF($C97="","",IF(AS97+$H97=2,1,0)) | AU97: =IF($C97="","",IF(AT97=1,$G97*$D$6,AR97)) | AV97: =IF(AS97="","",IFERROR(IF(AT97=1,AU97,AU97/SUMIF(AT$31:AT$129,"<>1",AU$31:AU$129)*(1-SUMIF(AT$31:AT$129,"=1",AU$31:AU$129))),0)) | AW97: =IF(C97="","",IFERROR(AV97/SUM($AV$31:$AV$129),$BB$1)) | AX97: =IF(C97="","",IFERROR(AW97*$D$2,$BB$1)) | BC97: =IF($C97="","",BC$30) | BD97: =IF($C97="","",BD$30) | BF97: =IF(H97="",0,IF(ISERROR(MATCH(H97,$BC$30:$BD$30,0)),0,1)) -> 1
