Workbook
Name _ftn2: 'שאלה פתוחה-דוח נוכחות שהוצג בשא'!$G$72
Name _ftn3: 'שאלה פתוחה-דוח נוכחות שהוצג בשא'!$G$74
Name _ftn4: 'שאלה פתוחה-דוח נוכחות שהוצג בשא'!$G$75
Name _ftnref1: 'שאלה פתוחה-דוח נוכחות שהוצג בשא'!$G$15
Name _ftnref2: 'שאלה פתוחה-דוח נוכחות שהוצג בשא'!$G$40
Name _ftnref3: 'שאלה פתוחה-דוח נוכחות שהוצג בשא'!#REF!
Name _ftnref4: 'שאלה פתוחה-דוח נוכחות שהוצג בשא'!$G$49
Name Text1: 'שאלה פתוחה-דוח נוכחות שהוצג בשא'!$H$16
Name Text11: 'שאלה פתוחה-דוח נוכחות שהוצג בשא'!$H$26
Name Text12: 'שאלה פתוחה-דוח נוכחות שהוצג בשא'!$H$29
Name Text13: 'שאלה פתוחה-דוח נוכחות שהוצג בשא'!$H$30
Name Text14: 'שאלה פתוחה-דוח נוכחות שהוצג בשא'!$H$31
Name Text15: 'שאלה פתוחה-דוח נוכחות שהוצג בשא'!$H$32
Name Text16: 'שאלה פתוחה-דוח נוכחות שהוצג בשא'!$H$34
Name Text18: 'שאלה פתוחה-דוח נוכחות שהוצג בשא'!$H$35
Name Text19: 'שאלה פתוחה-דוח נוכחות שהוצג בשא'!$G$37
Name Text2: 'שאלה פתוחה-דוח נוכחות שהוצג בשא'!$G$17
Name Text20: 'שאלה פתוחה-דוח נוכחות שהוצג בשא'!$G$41
Name Text21: 'שאלה פתוחה-דוח נוכחות שהוצג בשא'!$G$43
Name Text22: 'שאלה פתוחה-דוח נוכחות שהוצג בשא'!#REF!
Name Text23: 'ריכוז תלושים'!$H$39
Name Text23: 'שאלה פתוחה-דוח נוכחות שהוצג בשא'!$G$44
Name Text24: 'שאלה פתוחה-דוח נוכחות שהוצג בשא'!$H$41
Name Text25: 'שאלה פתוחה-דוח נוכחות שהוצג בשא'!$H$43
Name Text26: 'שאלה פתוחה-דוח נוכחות שהוצג בשא'!#REF!
Name Text27: 'ריכוז תלושים'!$I$39
Name Text27: 'שאלה פתוחה-דוח נוכחות שהוצג בשא'!$H$44
Name Text28: 'שאלה פתוחה-דוח נוכחות שהוצג בשא'!$I$41
Name Text29: 'שאלה פתוחה-דוח נוכחות שהוצג בשא'!$I$43
Name Text3: 'שאלה פתוחה-דוח נוכחות שהוצג בשא'!$H$18
Name Text30: 'שאלה פתוחה-דוח נוכחות שהוצג בשא'!#REF!
Name Text31: 'ריכוז תלושים'!$J$39
Name Text31: 'שאלה פתוחה-דוח נוכחות שהוצג בשא'!$I$44
Name Text32: 'שאלה פתוחה-דוח נוכחות שהוצג בשא'!#REF!
Name Text33: 'שאלה פתוחה-דוח נוכחות שהוצג בשא'!#REF!
Name Text34: 'שאלה פתוחה-דוח נוכחות שהוצג בשא'!#REF!
Name Text35: 'ריכוז תלושים'!$K$39
Name Text35: 'שאלה פתוחה-דוח נוכחות שהוצג בשא'!#REF!
Name Text36: 'שאלה פתוחה-דוח נוכחות שהוצג בשא'!$H$47
Name Text37: 'שאלה פתוחה-דוח נוכחות שהוצג בשא'!$G$48
Name Text38: 'שאלה פתוחה-דוח נוכחות שהוצג בשא'!$G$49
Name Text39: 'שאלה פתוחה-דוח נוכחות שהוצג בשא'!$G$52
Name Text4: 'שאלה פתוחה-דוח נוכחות שהוצג בשא'!$H$19
Name Text40: 'שאלה פתוחה-דוח נוכחות שהוצג בשא'!$H$52
Name Text41: 'שאלה פתוחה-דוח נוכחות שהוצג בשא'!$I$52
Name Text42: 'שאלה פתוחה-דוח נוכחות שהוצג בשא'!#REF!
Name Text43: 'שאלה פתוחה-דוח נוכחות שהוצג בשא'!$G$53
Name Text44: 'שאלה פתוחה-דוח נוכחות שהוצג בשא'!$H$53
Name Text45: 'שאלה פתוחה-דוח נוכחות שהוצג בשא'!$I$53
Name Text46: 'שאלה פתוחה-דוח נוכחות שהוצג בשא'!#REF!
Name Text47: 'שאלה פתוחה-דוח נוכחות שהוצג בשא'!$H$54
Name Text48: 'שאלה פתוחה-דוח נוכחות שהוצג בשא'!$I$54
Name Text49: 'שאלה פתוחה-דוח נוכחות שהוצג בשא'!#REF!
Name Text5: 'שאלה פתוחה-דוח נוכחות שהוצג בשא'!$G$20
Name Text50: 'שאלה פתוחה-דוח נוכחות שהוצג בשא'!#REF!
Name Text51: 'שאלה פתוחה-דוח נוכחות שהוצג בשא'!$H$55
Name Text52: 'שאלה פתוחה-דוח נוכחות שהוצג בשא'!$I$55
Name Text53: 'שאלה פתוחה-דוח נוכחות שהוצג בשא'!#REF!
Name Text54: 'שאלה פתוחה-דוח נוכחות שהוצג בשא'!#REF!
Name Text55: 'שאלה פתוחה-דוח נוכחות שהוצג בשא'!$H$59

Sheet שאלה פתוחה-דוח נוכחות שהוצג בשא
B2: תאריך | C2: יום בשבוע | D2: שעת כניסה | E2: שעת יציאה | F2: סך שעות | G2: שעות 100% | H2: שעות 125% | I2: שעות 150%
B3: 45139 | C3: ג | D3: 0.41666667 | E3: 0.79166667 | F3: 0.375 | G3: 8.6 | H3: 0.4
B4: 45140 | C4: ד | D4: 0.125 | E4: 0.5 | F4: =E4-D4 -> 0.375 | G4: 8.6 | H4: 0.4
B5: 45141 | C5: ה | D5: 0.25 | E5: 0.5625 | F5: =E5-D5 -> 0.3125 | G5: 7.5
B6: 45142 | C6: ו
B7: 45143 | C7: ש
B8: 45144 | C8: א | D8: 0.41666667 | E8: 0.75 | F8: =E8-D8 -> 0.33333333 | G8: 8
B9: 45145 | C9: ב | D9: 0.125 | E9: 0.5 | F9: =E9-D9 -> 0.375 | G9: 8.6 | H9: 0.4
B10: 45146 | C10: ג | D10: 0.41666667 | E10: 0.79166667 | F10: =E10-D10 -> 0.375 | G10: 8.6 | H10: 0.4
B11: 45147 | C11: ד | D11: 0.083333333 | E11: 0.54166667 | F11: =E11-D11 -> 0.45833333 | G11: 8.6 | H11: 2 | I11: 0.4
B12: 45148 | C12: ה | D12: 0.33333333 | E12: 0.70833333 | F12: =E12-D12 -> 0.375 | G12: 8.6 | H12: 0.4
B13: 45149 | C13: ו
B14: 45150 | C14: ש
B15: 45151 | C15: א | D15: 0.41666667 | E15: 0.75 | F15: =E15-D15 -> 0.33333333 | G15: 8
B16: 45152 | C16: ב | D16: 0.41666667 | E16: 0.70833333 | F16: =E16-D16 -> 0.29166667 | G16: 7
B17: 45153 | C17: ג | D17: 0.33333333 | E17: 0.58333333 | F17: =E17-D17 -> 0.25 | G17: 6
B18: 45154 | C18: ד | D18: 0.41666667 | E18: 0.83333333 | F18: =E18-D18 -> 0.41666667 | G18: 8.6 | H18: 1.4
B19: 45155 | C19: ה | D19: 0.70833333 | E19: 1.0208333 | F19: =E19-D19 -> 0.3125 | G19: 7.5
B20: 45156 | C20: ו
B21: 45157 | C21: ש
B22: 45158 | C22: א | D22: 0.41666667 | E22: 0.75 | F22: =E22-D22 -> 0.33333333 | G22: 8
B23: 45159 | C23: ב | D23: 0.41666667 | E23: 0.79166667 | F23: =E23-D23 -> 0.375 | G23: 8.6 | H23: 0.4
B24: 45160 | C24: ג | D24: 0.41666667 | E24: 0.83333333 | F24: =E24-D24 -> 0.41666667 | G24: 8.6 | H24: 1.4
B25: 45161 | C25: ד
B26: 45162 | C26: ה | D26: 0.41666667 | E26: 0.75 | F26: =E26-D26 -> 0.33333333 | G26: 8
B27: 45163 | C27: ו
B28: 45164 | C28: ש
B29: 45165 | C29: א | D29: 0.125 | E29: 0.41666667 | F29: =E29-D29 -> 0.29166667 | G29: 7
B30: 45166 | C30: ב | D30: 0.41666667 | E30: 0.75 | F30: =E30-D30 -> 0.33333333 | G30: 8
B31: 45167 | C31: ג | D31: 0.70833333 | E31: 0.95833333 | F31: =E31-D31 -> 0.25 | G31: 6
B32: 45168 | C32: ד | D32: 0.41666667 | E32: 0.79166667 | F32: =E32-D32 -> 0.375 | G32: 8.6 | H32: 0.4
B33: 45169 | C33: ה
G34: =SUM(G3:G33) -> 167 | H34: =SUM(H3:H33) -> 7.6 | I34: =SUM(I3:I33) -> 0.4 | K34: =I34+H34+G34 -> 175

Sheet פתרון
C1: צ"ל | F1: שולם | H1: נקודות
C2: כמות | D2: תעריף | E2: ס"ה | F2: כמות | G2: ס"ה
B3: 1 | F3: ='שאלה פתוחה-דוח נוכחות שהוצג בשא'!G34 -> 167 | G3: =+F3*C7 -> 7667.805 | H3: 4
B4: 1.25 | F4: ='שאלה פתוחה-דוח נוכחות שהוצג בשא'!Text16 -> 7.6 | G4: =F4*C7*1.25 -> 436.1925 | H4: 2
B5: 1.5 | F5: ='שאלה פתוחה-דוח נוכחות שהוצג בשא'!I34 -> 0.4 | G5: =+F5*C7*1.5 -> 27.549 | H5: 2
B7: תעריף שקיבל | C7: =30.61*1.5 -> 45.915
B8: תעריף על פי חוק | C8: =30.61*1.6 -> 48.976
B12: תאריך | C12: יום בשבוע | D12: שעת כניסה | E12: שעת יציאה | F12: סך שעות | G12: שעות 100% | H12: שעות 125% | I12: שעות 150% | J12: שעות 150% שבת | K12: שעות 175% שבת | L12: 2
B13: 45139 | C13: ג | D13: 0.41666667 | E13: 0.79166667 | F13: =E13-D13 -> 0.375 | G13: 8.6 | H13: 0.4
A14: משמרת לילה | B14: 45140 | C14: ד | D14: 0.125 | E14: 0.5 | F14: =E14-D14 -> 0.375 | G14: 7 | H14: 2
A15: \ | B15: 45141 | C15: ה | D15: 0.25 | E15: 0.5625 | F15: =E15-D15 -> 0.3125 | G15: 7.5
B16: 45142 | C16: ו
B17: 45143 | C17: ש
B18: 45144 | C18: א | D18: 0.41666667 | E18: 0.75 | F18: =E18-D18 -> 0.33333333 | G18: 8
A19: משמרת לילה | B19: 45145 | C19: ב | D19: 0.125 | E19: 0.5 | F19: =E19-D19 -> 0.375 | G19: 7 | H19: 2
B20: 45146 | C20: ג | D20: 0.41666667 | E20: 0.79166667 | F20: =E20-D20 -> 0.375 | G20: 8.6 | H20: 0.4
A21: משמרת לילה | B21: 45147 | C21: ד | D21: 0.083333333 | E21: 0.54166667 | F21: =E21-D21 -> 0.45833333 | G21: 7 | H21: 2 | I21: 2
A22: יום מקוצר | B22: 45148 | C22: ה | D22: 0.33333333 | E22: 0.70833333 | F22: =E22-D22 -> 0.375 | G22: 7.6 | H22: 1.4
B23: 45149 | C23: ו
B24: 45150 | C24: ש
B25: 45151 | C25: א | D25: 0.41666667 | E25: 0.75 | F25: =E25-D25 -> 0.33333333 | G25: 8
B26: 45152 | C26: ב | D26: 0.41666667 | E26: 0.70833333 | F26: =E26-D26 -> 0.29166667 | G26: 7
B27: 45153 | C27: ג | D27: 0.33333333 | E27: 0.58333333 | F27: =E27-D27 -> 0.25 | G27: 6
B28: 45154 | C28: ד | D28: 0.41666667 | E28: 0.83333333 | F28: =E28-D28 -> 0.41666667 | G28: 8.6 | H28: 1.4
A29: משמרת לילה | B29: 45155 | C29: ה | D29: 0.70833333 | E29: 1.0208333 | F29: =E29-D29 -> 0.3125 | G29: 7 | H29: 0.5
B30: 45156 | C30: ו
B31: 45157 | C31: ש
B32: 45158 | C32: א | D32: 0.41666667 | E32: 0.75 | F32: =E32-D32 -> 0.33333333 | G32: 8
B33: 45159 | C33: ב | D33: 0.41666667 | E33: 0.79166667 | F33: =E33-D33 -> 0.375 | G33: 8.6 | H33: 0.4
B34: 45160 | C34: ג | D34: 0.41666667 | E34: 0.83333333 | F34: =E34-D34 -> 0.41666667 | G34: 8.6 | H34: 1.4
B35: 45161 | C35: ד
A36: יום מקוצר | B36: 45162 | C36: ה | D36: 0.41666667 | E36: 0.75 | F36: =E36-D36 -> 0.33333333 | G36: 7.6 | H36: 0.4
B37: 45163 | C37: ו
B38: 45164 | C38: ש
B39: 45165 | C39: א | D39: 0.125 | E39: 0.41666667 | F39: =E39-D39 -> 0.29166667 | G39: 7
B40: 45166 | C40: ב | D40: 0.41666667 | E40: 0.75 | F40: =E40-D40 -> 0.33333333 | G40: 8
B41: 45167 | C41: ג | D41: 0.70833333 | E41: 0.95833333 | F41: =E41-D41 -> 0.25 | G41: 6
B42: 45168 | C42: ד | D42: 0.41666667 | E42: 0.79166667 | F42: =E42-D42 -> 0.375 | G42: 8.6 | H42: 0.4
G43: =SUM(G13:G42) -> 160.3 | H43: =SUM(H13:H42) -> 12.7 | I43: =SUM(I13:I42) -> 2 | J43: =SUM(J13:J42) -> 0 | K43: =SUM(K13:K42) -> 0 | L43: =SUM(L13:L42) -> 0 | M43: =SUM(M13:M42) -> 0 | N43: =SUM(G43:M43) -> 175
A46: בסיס לקרן השתלמות | B46: =+(G43+J43)*30.61+B51 -> 5218.179
...

Sheet ריכוז תלושים
C5: 44805 | D5: 44835 | E5: 44866 | F5: 44896 | G5: 44927 | H5: 44958 | I5: 44986 | J5: 45017 | K5: 45047 | L5: 45078 | M5: 45108 | N5: 45139
B6: שכר יסוד | C6: 4125 | D6: 4958 | E6: 4258 | F6: 5302 | G6: 5402 | H6: 3541 | I6: 5210 | J6: 4218 | K6: 4851 | L6: 5425 | M6: 4785 | N6: =פתרון!G3 -> 7667.805
B7: שכר 125% | C7: 201 | D7: 102 | E7: 154 | F7: 415 | G7: 120 | H7: 102 | I7: 352 | J7: 215 | K7: 41 | L7: 145 | M7: 568 | N7: =פתרון!G4 -> 436.1925
B8: שכר 150% | C8: 1012 | D8: 1142 | E8: 584 | F8: 245 | G8: 158 | H8: 1024 | I8: 145 | J8: 854 | K8: 452 | L8: 236 | M8: 587 | N8: =פתרון!G5 -> 27.549
B9: שעות שבת | C9: 458 | D9: 147 | E9: 124 | F9: 854 | G9: 745 | H9: 548 | I9: 178 | J9: 148 | K9: 125 | L9: 450 | M9: 750 | N9: 0
B10: נסיעות | C10: 195 | D10: 145 | E10: 148 | F10: 195 | G10: 210 | H10: 215 | I10: 158 | J10: 178 | K10: 220 | L10: 220 | M10: 220 | N10: 220
B11: חופשה | E11: 584
B12: חגים | C12: 415 | G12: 854
B13: בסיס להפרשה | C13: =+C12+C6 -> 4540 | D13: =+D12+D6 -> 4958 | E13: =+E12+E6 -> 4258 | F13: =+F12+F6 -> 5302 | G13: =+G12+G6 -> 6256 | H13: =+H12+H6 -> 3541 | I13: =+I12+I6 -> 5210 | J13: =+J12+J6 -> 4218 | ... N13: =+N12+N6 -> 7667.805
