Workbook
Name Min_ADSCR: 'ניתוח פעילות מאוחד לפני השקעות '!$R$18
Name Min_Cash: 'ניתוח פעילות מאוחד לפני השקעות '!$E$30

Sheet ריכוז תעריף איגודן
D2: 2017 | E2: =+D2+1 -> 2018 | F2: =+E2+1 -> 2019 | G2: =+F2+1 -> 2020 | H2: =+G2+1 -> 2021 | I2: =+H2+1 -> 2022 | J2: =+I2+1 -> 2023 | K2: =+J2+1 -> 2024 | L2: =+K2+1 -> 2025 | M2: =+L2+1 -> 2026
A3: תעריף שפד"ן נוכחי | D3: ='עלויות ההולכה'!H71+'עלויות ההולכה'!H73+'עלויות המטש'!H77 -> 2.5 | E3: =+D3 -> 2.5 | F3: =+E3 -> 2.5 | G3: =+F3 -> 2.5 | H3: =+G3 -> 2.5 | I3: =+H3 -> 2.5 | J3: =+I3 -> 2.5 | K3: =+J3 -> 2.5 | L3: =+K3 -> 2.5 | M3: =+L3 -> 2.5
A5: עלויות תפעול מתקן חדש | D5: =+IF(D2>'תוספת השקעות חדשות'!$B$5,0.03,0) -> 0 | E5: =+IF(E2>'תוספת השקעות חדשות'!$B$5,0.03,0) -> 0 | F5: =+IF(F2>'תוספת השקעות חדשות'!$B$5,0.03,0) -> 0 | G5: =+IF(G2>'תוספת השקעות חדשות'!$B$5,0.03,0) -> 0 | H5: =+IF(H2>'תוספת השקעות חדשות'!$B$5,0.03,0) -> 0.03 | I5: =+IF(I2>'תוספת השקעות חדשות'!$B$5,0.03,0) -> 0.03 | J5: =+IF(J2>'תוספת השקעות חדשות'!$B$5,0.03,0) -> 0.03 | K5: =+IF(K2>'תוספת השקעות חדשות'!$B$5,0.03,0) -> 0.03 | ... M5: =+IF(M2>'תוספת השקעות חדשות'!$B$5,0.03,0) -> 0.03
A7: תוספת בגין השקעות חדשות | D7: ='תוספת השקעות חדשות'!F18 -> 0.25375889 | E7: ='תוספת השקעות חדשות'!G18 -> 0.57225787 | F7: ='תוספת השקעות חדשות'!H18 -> 0.56941081 | G7: ='תוספת השקעות חדשות'!I18 -> 0.56657792 | H7: ='תוספת השקעות חדשות'!J18 -> 0.58842086 | I7: ='תוספת השקעות חדשות'!K18 -> 0.5339814 | J7: ='תוספת השקעות חדשות'!L18 -> 0.48545117 | K7: ='תוספת השקעות חדשות'!M18 -> 0.44209077 | ... M7: ='תוספת השקעות חדשות'!O18 -> 0.43359318
A9: הצעה לתעריף מעודכן | D9: =SUM(D3:D7) -> 2.7537589 | E9: =SUM(E3:E7) -> 3.0722579 | F9: =SUM(F3:F7) -> 3.0694108 | G9: =SUM(G3:G7) -> 3.0665779 | H9: =SUM(H3:H7) -> 3.1184209 | I9: =SUM(I3:I7) -> 3.0639814 | J9: =SUM(J3:J7) -> 3.0154512 | K9: =SUM(K3:K7) -> 2.9720908 | ... M9: =SUM(M3:M7) -> 2.9635932

Sheet תוספת השקעות חדשות
C1: מקור | J1: ניתוח רגישות לתעריף | L1: שנות החזר
A2: כמות בסיס | B2: ='[3]תחזית ספיקות וקיבולת טיפול'!$I$11/1000 -> 137240 | C2: קובץ שפד"ן | E2: בנק מינימלי | F2: 0 | G2: תשלומים שנתיים | L2: 15 | M2: 20 | N2: 25 | O2: 30
A3: גידול שנתי | B3: 0.005 | C3: קובץ פינקלשטיין | E3: קדם מימון | F3: 280 | J3: יחס תזרים להחזר הלוואה | K3: 1 | L3: =-PMT(($B$14+1)/(1+$B$3)-1,L$2,HLOOKUP($B$5-1,$F$15:$AO$32,18,0))*(1+$B$3)*$K3/$J$17 -> 0.42005469 | M3: =-PMT(($B$14+1)/(1+$B$3)-1,M$2,HLOOKUP($B$5-1,$F$15:$AO$32,18,0))*(1+$B$3)*$K3/$J$17 -> 0.33353322 | N3: =-PMT(($B$14+1)/(1+$B$3)-1,N$2,HLOOKUP($B$5-1,$F$15:$AO$32,18,0))*(1+$B$3)*$K3/$J$17 -> 0.28213789 | O3: =-PMT(($B$14+1)/(1+$B$3)-1,O$2,HLOOKUP($B$5-1,$F$15:$AO$32,18,0))*(1+$B$3)*$K3/$J$17 -> 0.24829984
E4: מימון שפד"ן | F4: ='ניתוח פעילות מאוחד לפני השקעות '!$N$82-50000 -> 0 | K4: 1.1 | L4: =-PMT(($B$14+1)/(1+$B$3)-1,L$2,HLOOKUP($B$5-1,$F$15:$AO$32,18,0))*(1+$B$3)*$K4/$J$17 -> 0.46206016 | M4: =-PMT(($B$14+1)/(1+$B$3)-1,M$2,HLOOKUP($B$5-1,$F$15:$AO$32,18,0))*(1+$B$3)*$K4/$J$17 -> 0.36688654 | N4: =-PMT(($B$14+1)/(1+$B$3)-1,N$2,HLOOKUP($B$5-1,$F$15:$AO$32,18,0))*(1+$B$3)*$K4/$J$17 -> 0.31035167 | O4: =-PMT(($B$14+1)/(1+$B$3)-1,O$2,HLOOKUP($B$5-1,$F$15:$AO$32,18,0))*(1+$B$3)*$K4/$J$17 -> 0.27312983
A5: שנת הפעלה | B5: 2020 | D5: החזר הלוואה ראשון - תמיד לאחר סיום ההשקעה | H5: =B5 -> 2020 | K5: 1.2 | L5: =-PMT(($B$14+1)/(1+$B$3)-1,L$2,HLOOKUP($B$5-1,$F$15:$AO$32,18,0))*(1+$B$3)*$K5/$J$17 -> 0.50406563 | M5: =-PMT(($B$14+1)/(1+$B$3)-1,M$2,HLOOKUP($B$5-1,$F$15:$AO$32,18,0))*(1+$B$3)*$K5/$J$17 -> 0.40023986 | N5: =-PMT(($B$14+1)/(1+$B$3)-1,N$2,HLOOKUP($B$5-1,$F$15:$AO$32,18,0))*(1+$B$3)*$K5/$J$17 -> 0.33856546 | O5: =-PMT(($B$14+1)/(1+$B$3)-1,O$2,HLOOKUP($B$5-1,$F$15:$AO$32,18,0))*(1+$B$3)*$K5/$J$17 -> 0.29795981
A6: עלות הקמה | B6: 1000 | D6: שנות החזר | E6: 20 | F6: החזר שנת בסיס | G6: =-PMT((B14+1)/(1+B3)-1,E6,HLOOKUP(B5-1,F15:AO32,18,0))*(1+B3) -> 46929.952 | H6: גידול כמויות | I6: =IFERROR(((1+B3)^(E6+1)-(1+B3))/(B3)/(E6),1) -> 1.0542006 | K6: 1.3 | L6: =-PMT(($B$14+1)/(1+$B$3)-1,L$2,HLOOKUP($B$5-1,$F$15:$AO$32,18,0))*(1+$B$3)*$K6/$J$17 -> 0.5460711 | M6: =-PMT(($B$14+1)/(1+$B$3)-1,M$2,HLOOKUP($B$5-1,$F$15:$AO$32,18,0))*(1+$B$3)*$K6/$J$17 -> 0.43359318 | N6: =-PMT(($B$14+1)/(1+$B$3)-1,N$2,HLOOKUP($B$5-1,$F$15:$AO$32,18,0))*(1+$B$3)*$K6/$J$17 -> 0.36677925 | O6: =-PMT(($B$14+1)/(1+$B$3)-1,O$2,HLOOKUP($B$5-1,$F$15:$AO$32,18,0))*(1+$B$3)*$K6/$J$17 -> 0.3227898
K7: 1.4 | L7: =-PMT(($B$14+1)/(1+$B$3)-1,L$2,HLOOKUP($B$5-1,$F$15:$AO$32,18,0))*(1+$B$3)*$K7/$J$17 -> 0.58807657 | M7: =-PMT(($B$14+1)/(1+$B$3)-1,M$2,HLOOKUP($B$5-1,$F$15:$AO$32,18,0))*(1+$B$3)*$K7/$J$17 -> 0.4669465 | N7: =-PMT(($B$14+1)/(1+$B$3)-1,N$2,HLOOKUP($B$5-1,$F$15:$AO$32,18,0))*(1+$B$3)*$K7/$J$17 -> 0.39499304 | O7: =-PMT(($B$14+1)/(1+$B$3)-1,O$2,HLOOKUP($B$5-1,$F$15:$AO$32,18,0))*(1+$B$3)*$K7/$J$17 -> 0.34761978
A8: פריסת הקמה | B8: X- | C8: 6 | D8: 5 | E8: 4 | F8: 3 | G8: 2 | H8: 1
E9: 0.125 | F9: 0.2833 | G9: 0.2833 | H9: 0.2833
A11: השקעות | B11: סה"כ | C11: 2016 | D11: 2017 | E11: 2018 | F11: 2019 | G11: 2020 | H11: 2021 | I11: 2022
B12: =SUM(C12:I12) -> 974.9 | C12: =IFERROR(HLOOKUP($B$5-C11,C8:H9,2,0)*$B$6,0) -> 125 | D12: =IFERROR(HLOOKUP($B$5-D11,D8:I9,2,0)*$B$6,0) -> 283.3 | E12: =IFERROR(HLOOKUP($B$5-E11,E8:J9,2,0)*$B$6,0) -> 283.3 | F12: =IFERROR(HLOOKUP($B$5-F11,F8:K9,2,0)*$B$6,0) -> 283.3 | G12: =IFERROR(HLOOKUP($B$5-G11,G8:L9,2,0)*$B$6,0) -> 0 | H12: =IFERROR(HLOOKUP($B$5-H11,H8:M9,2,0)*$B$6,0) -> 0 | I12: =IFERROR(HLOOKUP($B$5-I11,I8:N9,2,0)*$B$6,0) -> 0
A14: ריבית | B14: 0.03
F15: 2016 | G15: 2017 | H15: 2018 | I15: 2019 | J15: 2020 | K15: 2021 | L15: 2022 | M15: 2023 | N15: 2024 | O15: 2025 | P15: 2026 | Q15: 2027 | R15: 2028 | S15: 2029 | T15: 2030 | U15: 2031 | V15: 2032 | W15: 2033 | X15: 2034 | Y15: 2035 | Z15: 2036 | AA15: 2037 | AB15: 2038 | AC15: 2039 | AD15: 2040 | AE15: 2041 | AF15: 2042 | AG15: 2043 | AH15: 2044 | AI15: 2045 | AJ15: 2046 | AK15: 2047 | AL15: 2048 | AM15: 2049 | AN15: 2050 | AO15: 2051
A16: ADSCR | B16: 1.3
D17: כמות | F17: =B2*(1+$B$3) -> 137926.2 | G17: =F17*($B$3+1) -> 138615.83 | H17: =G17*($B$3+1) -> 139308.91 | I17: =H17*($B$3+1) -> 140005.45 | J17: =I17*($B$3+1) -> 140705.48 | K17: =J17*($B$3+1) -> 141409.01 | L17: =K17*($B$3+1) -> 142116.05 | M17: =L17*($B$3+1) -> 142826.63 | N17: =M17*($B$3+1) -> 143540.77 | ... AO17: =AN17*($B$3+1) -> 164232.44
A18: EBITDA חוב | B18: 8.5 | D18: תעריף | F18: =F21/F17 -> 0.25375889 | G18: =G21/G17 -> 0.57225787 | H18: =H21/H17 -> 0.56941081 | I18: =I21/I17 -> 0.56657792 | J18: =J21/J17 -> 0.58842086 | K18: =K21/K17 -> 0.5339814 | L18: =L21/L17 -> 0.48545117 | M18: =M21/M17 -> 0.44209077 | ... AO18: =AO21/AO17 -> 0
D19: השקעה | F19: =IFERROR(HLOOKUP(F15,$C$11:$L$12,2,0),0)*1000 -> 125000 | G19: =IFERROR(HLOOKUP(G15,$C$11:$L$12,2,0),0)*1000 -> 283300 | H19: =IFERROR(HLOOKUP(H15,$C$11:$L$12,2,0),0)*1000 -> 283300 | I19: =IFERROR(HLOOKUP(I15,$C$11:$L$12,2,0),0)*1000 -> 283300 | J19: =IFERROR(HLOOKUP(J15,$C$11:$L$12,2,0),0)*1000 -> 0 | K19: =IFERROR(HLOOKUP(K15,$C$11:$L$12,2,0),0)*1000 -> 0 | L19: =IFERROR(HLOOKUP(L15,$C$11:$L$12,2,0),0)*1000 -> 0 | M19: =IFERROR(HLOOKUP(M15,$C$11:$L$12,2,0),0)*1000 -> 0 | ... Y19: =IFERROR(HLOOKUP(Y15,$C$11:$L$12,2,0),0)*1000 -> 0
D21: תזרים עצמי | F21: =F34+F35+F25*$B$16 -> 35000 | G21: =G34+G35+G25*$B$16 -> 79324 | H21: =H34+H35+H25*$B$16 -> 79324 | I21: =I34+I35+I25*$B$16 -> 79324 | J21: =J34+J35+MAX(J25*$B$16,(J32-I29)/$B$18) -> 82794.04 | K21: =K34+K35+MAX(K25*$B$16,(K32-J29)/$B$18) -> 75509.78 | L21: =L34+L35+MAX(L25*$B$16,(L32-K29)/$B$18) -> 68990.405 | M21: =M34+M35+MAX(M25*$B$16,(M32-L29)/$B$18) -> 63142.338 | N21: =N34+N35+MAX(N25*$B$16,(N32-M29)/$B$18) -> 62238.298 | O21: =O34+O35+MAX(O25*$B$16,(O32-N29)/$B$18) -> 62549.49 | P21: =P34+P35+MAX(P25*$B$16,(P32-O29)/$B$18) -> 62862.237 | Q21: =Q34+Q35+MAX(Q25*$B$16,(Q32-P29)/$B$18) -> 63176.548 | ... AO21: =AO34+AO35+MAX(AO25*$B$16,(AO32-AN29)/$B$18) -> 0
D23: גיוס הלוואה | F23: =F19-F34 -> 90000 | G23: =G19-G34 -> 203976 | H23: =H19-H34 -> 203976 | I23: =I19-I34-I36 -> 203976
D25: החזר הלוואה | F25: =IF(F15=$B$5,$G$6*1000,IF(F15>$E$6-1+$B$5,0,E25*(1+$B$3))) -> 0 | G25: =IF(G15=$B$5,$G$6*1000,IF(G15>$E$6-1+$B$5,0,F25*(1+$B$3))) -> 0 | H25: =IF(H15=$B$5,$G$6*1000,IF(H15>$E$6-1+$B$5,0,G25*(1+$B$3))) -> 0 | I25: =IF(I15=$B$5,$G$6*1000,IF(I15>$E$6-1+$B$5,0,H25*(1+$B$3))) -> 0 | J25: =IF(J15=$B$5,$G$6,IF(J15>$E$6-1+$B$5,0,I25*(1+$B$3))) -> 46929.952 | K25: =IF(K15=$B$5,$G$6,IF(K15>$E$6-1+$B$5,0,J25*(1+$B$3))) -> 47164.602 | L25: =IF(L15=$B$5,$G$6,IF(L15>$E$6-1+$B$5,0,K25*(1+$B$3))) -> 47400.425 | M25: =IF(M15=$B$5,$G$6,IF(M15>$E$6-1+$B$5,0,L25*(1+$B$3))) -> 47637.427 | N25: =IF(N15=$B$5,$G$6,IF(N15>$E$6-1+$B$5,0,M25*(1+$B$3))) -> 47875.614 | O25: =IF(O15=$B$5,$G$6,IF(O15>$E$6-1+$B$5,0,N25*(1+$B$3))) -> 48114.992 | P25: =IF(P15=$B$5,$G$6,IF(P15>$E$6-1+$B$5,0,O25*(1+$B$3))) -> 48355.567 | Q25: =IF(Q15=$B$5,$G$6,IF(Q15>$E$6-1+$B$5,0,P25*(1+$B$3))) -> 48597.345 | ... AO25: =IF(AO15=$B$5,$G$6,IF(AO15>$E$6-1+$B$5,0,AN25*(1+$B$3))) -> 0
D27: ריבית | G27: =F32*$B$14 -> 2700 | H27: =G32*$B$14 -> 8900.28 | I27: =H32*$B$14 -> 15286.568 | J27: =I32*$B$14 -> 21864.445 | K27: =J32*$B$14 -> 21112.48 | L27: =K32*$B$14 -> 20330.917 | M27: =L32*$B$14 -> 19518.831 | N27: =M32*$B$14 -> 18675.274 | ... AO27: =AN32*$B$14 -> -5.8919018e-11
D29: יתרה בסוף שנה | F29: =F21-F19+F23-F25+E29+F36 -> 0 | G29: =G21-G19+G23-G25+F29+G36 -> 0 | H29: =H21-H19+H23-H25+G29+H36 -> 0 | I29: =I21-I19+I23-I25+H29+I36 -> 0 | J29: =J21-J19+J23-J25+I29+J36 -> 35864.088 | K29: =K21-K19+K23-K25+J29+K36 -> 64209.267 | L29: =L21-L19+L23-L25+K29+L36 -> 85799.247 | M29: =M21-M19+M23-M25+L29+M36 -> 101304.16 | ... AO29: =AO21-AO19+AO23-AO25+AN29+AO36 -> 339929.1
D32: יתרת הלוואה | F32: =F23-F25+F27+E32 -> 90000 | G32: =G23-G25+G27+F32 -> 296676 | H32: =H23-H25+H27+G32 -> 509552.28 | I32: =I23-I25+I27+H32 -> 728814.85 | J32: =J23-J25+J27+I32 -> 703749.34 | K32: =K23-K25+K27+J32 -> 677697.22 | L32: =L23-L25+L27+K32 -> 650627.71 | M32: =M23-M25+M27+L32 -> 622509.12 | ... AO32: =AO23-AO25+AO27+AN32 -> -2.0228863e-09
D34: קדם מימון | F34: =$F$3*F19/$B$6 -> 35000 | G34: =$F$3*G19/$B$6 -> 79324 | H34: =$F$3*H19/$B$6 -> 79324 | I34: =$F$3*I19/$B$6 -> 79324 | J34: =$F$3*J19/$B$6 -> 0 | K34: =$F$3*K19/$B$6 -> 0
D35: בנק | F35: =IF(AND(F15<$B$5,F15+1>$B$5-$F$2),$G$6,0) -> 0 | G35: =IF(AND(G15<$B$5,G15+1>$B$5-$F$2),$G$6,0) -> 0 | H35: =IF(AND(H15<$B$5,H15+1>$B$5-$F$2),$G$6,0) -> 0 | I35: =IF(AND(I15<$B$5,I15+1>$B$5-$F$2),$G$6,0) -> 0 | J35: =IF(AND(J15<$B$5,J15+1>$B$5-$F$2),$G$6,0) -> 0 | K35: =IF(AND(K15<$B$5,K15+1>$B$5-$F$2),$G$6,0) -> 0 | L35: =IF(AND(L15<$B$5,L15+1>$B$5-$F$2),$G$6,0) -> 0 | M35: =IF(AND(M15<$B$5,M15+1>$B$5-$F$2),$G$6,0) -> 0 | ... AO35: =IF(AND(AO15<$B$5,AO15+1>$B$5-$F$2),$G$6,0) -> 0
D36: מימון באמצעות שפד"ן | I36: =F4 -> 0
J37: =J32/J21 -> 8.5

Sheet עלויות המטש
A1: תקציב רב שנתי לאיגוד
A2: הכנסות | B2: 2010 | C2: 2011 | D2: 2012 | E2: 2013 | F2: 2014 | G2: 2015 | H2: 2016 | I2: 2017 | J2: 2018 | K2: 2019 | L2: 2020 | M2: 2021 | N2: 2022 | O2: 2023 | P2: 2024 | Q2: 2025 | R2: 2026 | S2: 2027 | T2: 2028 | U2: 2029 | V2: 2030 | W2: 2031 | X2: =W2+1 -> 2032 | Y2: =X2+1 -> 2033 | Z2: =Y2+1 -> 2034
A3: הכנסות מתאגידים | B3: =B77*B78+B88 -> 96789918 | C3: =C77*C78+C88 -> 1.1459317e+08 | D3: =D77*D78+D88 -> 1.329206e+08 | E3: =E77*E78+E88 -> 1.6324542e+08 | F3: =F77*F78+F88 -> 1.3200048e+08 | G3: =G77*G78+G88 -> 1.4151775e+08 | H3: =H77*H78+H88 -> 1.3898255e+08 | I3: =I77*I78+I88 -> 1.4037237e+08 | ... V3: =V77*V78+V88 -> 1.5975686e+08 | W3: =V3*1.01 -> 1.6135442e+08 | X3: =W3*1.01 -> 1.6296797e+08 | Y3: =X3*1.01 -> 1.6459765e+08 | Z3: =Y3*1.01 -> 1.6624362e+08
A4: הכנסות מרשויות הנלוות | B4: ='[1]הכנסות מרשויות שבהסכם'!B177 -> 11721177 | C4: ='[1]הכנסות מרשויות שבהסכם'!C177 -> 12304984 | D4: ='[1]הכנסות מרשויות שבהסכם'!D177 -> 11979841 | E4: ='[1]הכנסות מרשויות שבהסכם'!E177 -> 11816607 | F4: ='[1]הכנסות מרשויות שבהסכם'!F177 -> 11934773 | G4: ='[1]הכנסות מרשויות שבהסכם'!G177 -> 12054121 | H4: ='[1]הכנסות מרשויות שבהסכם'!H177 -> 12174662 | I4: ='[1]הכנסות מרשויות שבהסכם'!I177 -> 12296409 | ... V4: ='[1]הכנסות מרשויות שבהסכם'!V177 -> 13994460 | W4: =V4*1.01 -> 14134405 | X4: =W4*1.01 -> 14275749 | Y4: =X4*1.01 -> 14418507 | Z4: =Y4*1.01 -> 14562692
A5: הכנסות מרכבת ב2010 | C5: ='[1]הכנסות נוספות'!C21 -> 18000000
A6: תביעה יצוגית | B6: ='[1]הכנסות נוספות'!C19 -> 80000000
A8: סה"כ הכנסות: | B8: =SUM(B3:B7) -> 1.8851109e+08 | C8: =SUM(C3:C7) -> 1.4489815e+08 | D8: =SUM(D3:D7) -> 1.4490044e+08 | E8: =SUM(E3:E7) -> 1.7506203e+08 | F8: =SUM(F3:F7) -> 1.4393525e+08 | G8: =SUM(G3:G7) -> 1.5357187e+08 | H8: =SUM(H3:H7) -> 1.5115721e+08 | I8: =SUM(I3:I7) -> 1.5266878e+08 | ... Z8: =SUM(Z3:Z7) -> 1.8080632e+08
A10: הוצאות | B10: 2010 | C10: 2011 | D10: 2012 | E10: 2013 | F10: 2014 | G10: 2015 | H10: 2016 | I10: 2017 | J10: 2018 | K10: 2019 | L10: 2020 | M10: 2021 | N10: 2022 | O10: 2023 | P10: 2024 | Q10: 2025 | R10: 2026 | S10: 2027 | T10: 2028 | U10: 2029 | V10: 2030 | W10: 2031 | X10: 2032 | Y10: 2033 | Z10: 2034
A11: סה"כ תפעול וכלליות איגוד | B11: ='[1]איגוד הוצ'' שוטפות '!I18 -> 44571000 | C11: ='[1]איגוד הוצ'' שוטפות '!C74 -> 51998500 | D11: ='[1]איגוד הוצ'' שוטפות '!D74 -> 52248380 | E11: ='[1]איגוד הוצ'' שוטפות '!E74 -> 51063270 | F11: ='[1]איגוד הוצ'' שוטפות '!F74 -> 51127458 | G11: ='[1]איגוד הוצ'' שוטפות '!G74 -> 51365822 | H11: ='[1]איגוד הוצ'' שוטפות '!H74 -> 51606570 | I11: ='[1]איגוד הוצ'' שוטפות '!I74 -> 51849726 | J11: ='[1]איגוד הוצ'' שוטפות '!J74 -> 52095313 | ... V11: ='[1]איגוד הוצ'' שוטפות '!V74 -> 55241121 | W11: =V11*1.01 -> 55793532 | X11: =W11*1.01 -> 56351468 | Y11: =X11*1.01 -> 56914982 | Z11: =Y11*1.01 -> 57484132
A12: הפרדת תיעול ביוב רשויות- שלב ב' | E12: 0 | F12: 0 | G12: 0 | H12: 0 | I12: 0
A13: עודף/גרעון תפעולי: | B13: =B8-B11-B12 -> 1.4394009e+08 | C13: =C8-C11 -> 92899652 | D13: =D8-D11 -> 92652058 | E13: =E8-E11-E12 -> 1.2399876e+08 | F13: =F8-F11-F12 -> 92807795 | G13: =G8-G11-G12 -> 1.0220605e+08 | H13: =H8-H11-H12 -> 99550641 | I13: =I8-I11 -> 1.0081906e+08 | J13: =J8-J11 -> 1.0210016e+08 | K13: =K8-K11 -> 1.0339407e+08 | L13: =L8-L11 -> 1.0470092e+08 | M13: =M8-M11 -> 1.0602084e+08 | N13: =N8-N11 -> 1.0735396e+08 | O13: =O8-O11 -> 1.0870041e+08 | P13: =P8-P11 -> 1.1006032e+08 | ... Z13: =Z8-Z11 -> 1.2332218e+08
A14: פחת לצרכי מס הכנסה: | B14: 23400000 | C14: =B14 -> 23400000 | D14: 33157809 | E14: 45000000 | F14: 45000000 | G14: ='[2]ביאור פחת'!AK100*1000 -> 82672013 | H14: 85000000 | I14: 85000000 | J14: 85000000 | K14: 85000000 | L14: 85000000 | M14: 85000000 | N14: 85000000 | O14: 85000000 | P14: 85000000 | Q14: 85000000 | R14: 85000000 | S14: 85000000 | T14: 85000000 | U14: 85000000 | V14: 85000000 | W14: 85000000 | X14: 85000000 | Y14: 85000000 | Z14: 85000000
A15: הוצאות מימון:
A16: הלוואה משנת 2011 | G16: 0 | H16: 0 | I16: 0 | J16: 0 | K16: 0 | L16: 0 | M16: 0 | N16: 0 | O16: 0 | P16: 0 | Q16: 0 | R16: 0 | S16: 0 | T16: 0 | U16: 0 | V16: 0 | W16: 0 | X16: 0 | Y16: 0 | Z16: 0
A17: הלוואה משנת 2012 | W17: 0 | X17: 0 | Y17: 0 | Z17: 0
A18: הלוואה משנת 2013 | W18: 0 | X18: 0 | Y18: 0 | Z18: 0
A19: הלוואה משנת 2014 | W19: 0 | X19: 0 | Y19: 0 | Z19: 0
A20: הלוואה משנת 2015 | W20: 0 | X20: 0 | Y20: 0 | Z20: 0
A21: הלוואה משנת 2017 | H21: =-H70*0.05 -> -26975051 | I21: =-I70*0.05 -> -27942844 | J21: -38455557 | K21: -36542140 | L21: -34533052 | M21: -32423509 | N21: -30208489 | O21: -27882719 | P21: -25440659 | Q21: -22876497 | R21: -20184127 | S21: -17357138 | T21: -14388800 | U21: -11272045 | V21: -8432992 | W21: -5451986.7 | X21: -2683214.8 | Y21: 0 | Z21: 0
A23: עודף/גרעון : | B23: =B13-B14-B16-B17-B18-B19+B20 -> 1.2054009e+08 | C23: =C13-C14-C16-C17-C18-C19+C20 -> 69499652 | D23: =D13-D14+D21 -> 59494249 | E23: =E13-E14+E21 -> 78998757 | F23: =F13-F14+F21 -> 47807795 | G23: =G13-G14+G21 -> 19534036 | H23: =H13-H14+H21 -> -12424410 | I23: =I13-I14+I21 -> -12123787 | J23: =J13-J14+J21 -> -21355400 | K23: =K13-K14+K21 -> -18148071 | ... Z23: =Z13-Z14+Z21 -> 38322184
A24: הפחתת מסים נדחים:
A25: הכנסות לצורך חישוב מס: | B25: =B23 -> 1.2054009e+08 | C25: =C23+C24 -> 69499652 | D25: =D23+D24 -> 59494249 | E25: =E23+E24 -> 78998757 | F25: =F23+F24 -> 47807795 | G25: =G23+G24 -> 19534036 | H25: =H23+H24 -> -12424410 | I25: =I23+I24 -> -12123787 | J25: =J23+J24 -> -21355400 | ... Z25: =Z23+Z24 -> 38322184
A26: שיעור המס: | B26: 0.25 | C26: 0.24 | D26: 0.25 | E26: 0.265 | F26: 0.265 | G26: 0.265 | H26: 0.265 | I26: 0.265 | J26: 0.265 | K26: 0.265 | L26: 0.265 | M26: 0.265 | N26: 0.265 | O26: 0.265 | P26: 0.265 | Q26: 0.265 | R26: 0.265 | S26: 0.265 | T26: 0.265 | U26: 0.265 | V26: 0.265 | W26: 0.265 | X26: 0.265 | Y26: 0.265 | Z26: 0.265
A27: מס לתשלום ( לצורך הגדלת הלוואה) | B27: =B25*B26 -> 30135024 | C27: =C25*C26 -> 16679917 | D27: 0 | E27: 0 | F27: 0 | G27: 0 | H27: 0 | I27: 0 | J27: 0 | K27: 0 | L27: 0 | M27: 0 | N27: 0 | O27: 0 | P27: 0 | Q27: =Q25*Q26 -> 942694.28 | R27: =R25*R26 -> 2023793.2 | S27: =S25*S26 -> 3144242.3 | T27: =T25*T26 -> 4305861.9 | U27: =U25*U26 -> 5510562.1 | V27: =V25*V26 -> 6645458.8 | W27: =W25*W26 -> 7749477.2 | X27: =X25*X26 -> 8800394.3 | ... Z27: =Z25*Z26 -> 10155379
G28: =G25*G26 -> 5176519.6 | H28: =H25*H26 -> -3292468.7 | I28: =I25*I26 -> -3212803.6 | J28: =J25*J26 -> -5659180.9 | K28: =K25*K26 -> -4809238.8 | L28: =L25*L26 -> -3930515 | M28: =M25*M26 -> -3021707.6 | N28: =N25*N26 -> -2081451 | ... P28: =P25*P26 -> -100789.71
A31: השקעות | B31: =B10 -> 2010 | C31: =C10 -> 2011 | D31: =D10 -> 2012 | E31: =E10 -> 2013 | F31: =F10 -> 2014 | G31: =G10 -> 2015 | H31: =H10 -> 2016 | I31: =I10 -> 2017 | ... Z31: =Z10 -> 2034
A32: השקעות איגוד | B32: =193484000 -> 193484000 | C32: ='[1]השקעות איגוד (ישן)'!#REF!*1000-'[1]יתרות בנקאיות'!D7 -> #REF! | D32: 1 | E32: ='[1]השקעות איגוד'!J28*1000 -> 120657000 | F32: ='[1]השקעות איגוד'!K28*1000 -> 87602000 | G32: ='[1]השקעות איגוד'!L28*1000 -> 84981000 | H32: ='[1]השקעות איגוד'!M28*1000 -> 93513000 | I32: ='[1]השקעות איגוד'!N28*1000 -> 117392000 | J32: ='[1]השקעות איגוד'!O28*1000 -> 170312500 | K32: ='[1]השקעות איגוד'!P28*1000 -> 125497500 | L32: ='[1]השקעות איגוד'!Q28*1000 -> 17000000 | ... Z32: ='[1]השקעות איגוד'!AE28*1000 -> 2000000
A33: פחת | B33: =1000*'[1]השקעות איגוד (ישן)'!#REF! -> #REF! | C33: =1000*'[1]השקעות איגוד (ישן)'!#REF! -> #REF! | D33: =1000*'[1]השקעות איגוד (ישן)'!C30 -> 0 | E33: =1000*'[1]השקעות איגוד (ישן)'!D30 -> 0 | F33: =1000*'[1]השקעות איגוד (ישן)'!E30 -> 0 | G33: =1000*'[1]השקעות איגוד (ישן)'!F30 -> 0 | H33: =1000*'[1]השקעות איגוד (ישן)'!G30 -> 0 | I33: =1000*'[1]השקעות איגוד (ישן)'!H30 -> 0 | L33: 10000000 | M33: 10000000 | N33: 10000000 | O33: 10000000 | P33: 10000000 | Q33: 10000000 | R33: 10000000 | S33: 10000000 | T33: 10000000 | U33: 10000000 | V33: 10000000 | W33: 10000000 | X33: 10000000 | Y33: 10000000 | Z33: 10000000
A34: דחיית פרויקטים-תזרימית
A35: סה"כ השקעות: | B35: =SUM(B32:B34) -> #REF! | C35: =SUM(C32:C34) -> #REF! | D35: =SUM(D32:D34) -> 1 | E35: =SUM(E32:E34) -> 120657000 | F35: =SUM(F32:F34) -> 87602000 | G35: =SUM(G32:G34) -> 84981000 | H35: =SUM(H32:H34) -> 93513000 | I35: =SUM(I32:I34) -> 117392000 | ... Z35: =SUM(Z32:Z34) -> 12000000
A37: הפרש שנתי: | B37: =B8-B35-B11-B12 -> #REF! | C37: =C8-C35-C11 -> #REF! | D37: =D8-D35-D11 -> 92652057 | E37: =E8-E35-E11-E27 -> 3341757.3 | F37: =F8-F35-F11-F27 -> 5205795.3 | G37: =G8-G35-G11-G27 -> 17225049 | H37: =H8-H35-H11-H27 -> 6037640.5 | I37: =I8-I35-I11-I27 -> -16572943 | J37: =J8-J35-J11-J27 -> -68212343 | K37: =K8-K35-K11-K27 -> -22103431 | L37: =L8-L35-L11-L27 -> 77700920 | ... Z37: =Z8-Z35-Z11-Z27 -> 1.0116681e+08
A39: קבלת הלוואות | B39: 75000000 | C39: 46500000 | D39: =79952777.9711164-11452778 -> 68500000 | E39: 64095731 | F39: 82192742 | G39: 78441207 | H39: 34771336 | I39: 19355865 | J39: 0 | K39: 0 | L39: 0 | M39: 0 | N39: 0 | O39: 0
A40: פרעון הלוואות:
A41: פרעון הלוואות משנת 2008 (בלון למשך 5 שנים ולאחר מכן שפיצר 15 שנה) | B41: =-'[1]לוח שפיצר איגוד'!C4 -> -3375000 | C41: =B41 -> -3375000 | D41: =C41 -> -3375000
A43: הלוואות בנק דקסיה | D43: =-722222*6 -> -4333332 | E43: =-722222*12 -> -8666664 | F43: =-722222*12 -> -8666664 | G43: =-722222*12 -> -8666664 | H43: =-722222*12 -> -8666664 | I43: =-722222*12 -> -8666664 | J43: =-722222*12 -> -8666664 | K43: =-722222*12 -> -8666664 | L43: =-722222*12 -> -8666664 | ... R43: =-722222*12 -> -8666664 | S43: =-722222*6 -> -4333332
A44: הלוואת בנק פועלים מ 2008 | E44: =-40000000*0.045 -> -1800000 | F44: ='[1]לוח שפיצר איגוד'!G249 -> -3673519.2 | G44: =F44 -> -3673519.2 | H44: =G44 -> -3673519.2 | I44: =H44 -> -3673519.2 | J44: =I44 -> -3673519.2 | K44: =J44 -> -3673519.2 | L44: =K44 -> -3673519.2 | M44: =L44 -> -3673519.2 | N44: =M44 -> -3673519.2 | ... T44: =S44 -> -3673519.2
A45: הלוואת בנק פועלים מ 2010 | E45: =-15000000*0.045 -> -675000 | F45: =E45 -> -675000 | G45: =F45 -> -675000 | H45: ='[1]לוח שפיצר איגוד'!G283 -> -1377569.7 | I45: =H45 -> -1377569.7 | J45: =I45 -> -1377569.7 | K45: =J45 -> -1377569.7 | L45: =K45 -> -1377569.7 | M45: =L45 -> -1377569.7 | N45: =M45 -> -1377569.7 | O45: =N45 -> -1377569.7 | P45: =O45 -> -1377569.7 | ... V45: =U45 -> -1377569.7
A46: הלוואת בנק פועלים מ 2011 | E46: =-45000000*0.045 -> -2025000 | F46: =E46 -> -2025000 | G46: =F46 -> -2025000 | H46: =G46 -> -2025000 | I46: ='[1]לוח שפיצר איגוד'!G411 -> -4132709.1 | J46: =I46 -> -4132709.1 | K46: =J46 -> -4132709.1 | L46: =K46 -> -4132709.1 | M46: =L46 -> -4132709.1 | N46: =M46 -> -4132709.1 | O46: =N46 -> -4132709.1 | P46: =O46 -> -4132709.1 | Q46: =P46 -> -4132709.1 | ... W46: =V46 -> -4132709.1
A47: הלוואת בנק פועלים מ 2012 | E47: =-(15000000+15000000+10000000+10000000)*0.045 -> -2250000 | F47: =E47 -> -2250000 | G47: =F47 -> -2250000 | H47: =G47 -> -2250000 | I47: =H47 -> -2250000 | J47: ='[1]לוח שפיצר איגוד'!G445 -> -4591899 | K47: =J47 -> -4591899 | L47: =K47 -> -4591899 | M47: =L47 -> -4591899 | N47: =M47 -> -4591899 | O47: =N47 -> -4591899 | P47: =O47 -> -4591899 | Q47: =P47 -> -4591899 | R47: =Q47 -> -4591899 | ... X47: =W47 -> -4591899
A48: פרעון הלוואות בשנת 2010 (בלון למשך 5 שנים ולאחר מכן שפיצר 15 שנה) | B48: =-'[1]לוח שפיצר איגוד'!C39 -> -2812500 | C48: =B48 -> -2812500 | D48: =C48 -> -2812500
...

Sheet עלויות ההולכה
A1: תקציב רב שנתי לאגודה
A2: הכנסות | B2: 2010 | C2: 2011 | D2: 2012 | E2: 2013 | F2: 2014 | G2: 2015 | H2: 2016 | I2: 2017 | J2: 2018 | K2: 2019 | L2: 2020 | M2: 2021 | N2: 2022 | O2: 2023 | P2: 2024 | Q2: 2025 | R2: 2026 | S2: 2027 | T2: 2028 | U2: 2029 | V2: 2030 | W2: 2031 | X2: 2032 | Y2: 2033 | Z2: 2034
A3: הכנסות מתאגידים | B3: =B71*B72 -> 38332175 | C3: =C71*C72 -> 39257040 | D3: =D71*D72 -> 43621082 | E3: =E71*E72 -> 44057292 | F3: =F71*F72 -> 56494792 | G3: =G71*G72 -> 40340730 | H3: =H71*H72 -> 39618052 | I3: =I71*I72 -> 40014232 | ... V3: =V71*V72 -> 30253272 | W3: =V3*1.01 -> 30555805 | X3: =W3*1.01 -> 30861363 | Y3: =X3*1.01 -> 31169977 | Z3: =Y3*1.01 -> 31481676
A4: הכנסות מרשויות הנלוות | B4: ='[1]הכנסות מרשויות שבהסכם'!B196 -> 36409143 | C4: ='[1]הכנסות מרשויות שבהסכם'!C196 -> 39893434 | D4: ='[1]הכנסות מרשויות שבהסכם'!D196 -> 40019434 | E4: ='[1]הכנסות מרשויות שבהסכם'!E196 -> 41222283 | F4: ='[1]הכנסות מרשויות שבהסכם'!F196 -> 41634506 | G4: ='[1]הכנסות מרשויות שבהסכם'!G196 -> 42050851 | H4: ='[1]הכנסות מרשויות שבהסכם'!H196 -> 42471359 | I4: ='[1]הכנסות מרשויות שבהסכם'!I196 -> 42896073 | ... V4: ='[1]הכנסות מרשויות שבהסכם'!V196 -> 48819732 | W4: =V4*1.01 -> 49307929 | X4: =W4*1.01 -> 49801009 | Y4: =X4*1.01 -> 50299019 | Z4: =Y4*1.01 -> 50802009
A5: הכנסות מטיפול בבוצה | B5: =B73*B75 -> 0 | C5: =C73*C75 -> 5974563 | D5: =D73*D75 -> 56718443 | E5: =E73*E75 -> 75175291 | F5: =F73*F75 -> 73447734 | G5: =G73*G75 -> 76351608 | H5: =H73*H75 -> 75441589 | I5: =I73*I75 -> 1.0694994e+08 | ... V5: =V73*V75 -> 1.7091534e+08 | W5: =V5*1.01 -> 1.7262449e+08 | X5: =W5*1.01 -> 1.7435073e+08 | Y5: =X5*1.01 -> 1.7609424e+08 | Z5: =Y5*1.01 -> 1.7785518e+08
A6: הכנסות ממכירת מי קולחין | B6: ='[1]הכנסות נוספות'!D6 -> 4387000 | C6: ='[1]הכנסות נוספות'!E6 -> 0
A7: הכנסות אחרות | B7: ='[1]הכנסות נוספות'!D5 -> 2212000 | C7: ='[1]הכנסות נוספות'!E5 -> 2234120 | D7: ='[1]הכנסות נוספות'!F5 -> 2234120 | E7: ='[1]הכנסות נוספות'!G5 -> 2256461.2 | F7: ='[1]הכנסות נוספות'!H5 -> 2279025.8 | G7: ='[1]הכנסות נוספות'!I5 -> 2301816.1 | H7: ='[1]הכנסות נוספות'!J5 -> 2324834.2 | I7: ='[1]הכנסות נוספות'!K5 -> 2348082.6 | ... Z7: ='[1]הכנסות נוספות'!AB5 -> 2780844.6
A8: הכנסות משכירות | B8: ='[1]הכנסות נוספות'!C10 -> 648000 | C8: ='[1]הכנסות נוספות'!D10 -> 648000 | D8: ='[1]הכנסות נוספות'!E10 -> 648000 | E8: ='[1]הכנסות נוספות'!F10 -> 708000 | F8: ='[1]הכנסות נוספות'!G10 -> 708000 | G8: ='[1]הכנסות נוספות'!H10 -> 708000 | H8: ='[1]הכנסות נוספות'!I10 -> 708000 | I8: ='[1]הכנסות נוספות'!J10 -> 708000 | ... Z8: ='[1]הכנסות נוספות'!AA10 -> 708000
A9: הכנסות י.ת.ד | B9: ='[1]הכנסות נוספות'!D8 -> 400000 | C9: ='[1]הכנסות נוספות'!E8 -> 1600000 | D9: ='[1]הכנסות נוספות'!F8 -> 1600000 | E9: ='[1]הכנסות נוספות'!G8 -> 1600000 | F9: ='[1]הכנסות נוספות'!H8 -> 3200000 | G9: ='[1]הכנסות נוספות'!I8 -> 3200000 | H9: ='[1]הכנסות נוספות'!J8 -> 3200000 | I9: ='[1]הכנסות נוספות'!K8 -> 3200000 | ... Z9: ='[1]הכנסות נוספות'!AB8 -> 3200000
A10: הכנסות מ.מבקרים | B10: ='[1]הכנסות נוספות'!D9 -> 200000 | C10: ='[1]הכנסות נוספות'!E9 -> 250000 | D10: ='[1]הכנסות נוספות'!F9 -> 250000 | E10: ='[1]הכנסות נוספות'!G9 -> 250000 | F10: ='[1]הכנסות נוספות'!H9 -> 250000 | G10: ='[1]הכנסות נוספות'!I9 -> 250000 | H10: ='[1]הכנסות נוספות'!J9 -> 250000 | I10: ='[1]הכנסות נוספות'!K9 -> 250000 | ... Z10: ='[1]הכנסות נוספות'!AB9 -> 250000
A11: מכירת בניין | C11: ='[1]הכנסות נוספות'!C18 -> 6700000 | D11: ='[1]הכנסות נוספות'!D18 -> 600000
A14: סה"כ הכנסות: | B14: =SUM(B3:B13) -> 82588317 | C14: =SUM(C3:C13) -> 96557156 | D14: =SUM(D3:D13) -> 1.4569108e+08 | E14: =SUM(E3:E13) -> 1.6526933e+08 | F14: =SUM(F3:F13) -> 1.7801406e+08 | G14: =SUM(G3:G13) -> 1.65203e+08 | H14: =SUM(H3:H13) -> 1.6401383e+08 | I14: =SUM(I3:I13) -> 1.9636633e+08 | ... Z14: =SUM(Z3:Z13) -> 2.6707771e+08
A16: הוצאות תפעול | B16: 2010 | C16: 2011 | D16: 2012 | E16: 2013 | F16: 2014 | G16: 2015 | H16: 2016 | I16: 2017 | J16: 2018 | K16: 2019 | L16: 2020 | M16: 2021 | N16: 2022 | O16: 2023 | P16: 2024 | Q16: 2025 | R16: 2026 | S16: 2027 | T16: 2028 | U16: 2029 | V16: 2030 | W16: 2031 | X16: 2032 | Y16: 2033 | Z16: 2034
A17: סה"כ תפעול וכלליות אגודה | B17: ='[1]אגודה הוצאות שוטפות '!E13+'[1]אגודה הוצאות שוטפות '!E27 -> 57514000 | C17: ='[1]אגודה הוצאות שוטפות '!B87 -> 62066840 | D17: ='[1]אגודה הוצאות שוטפות '!C87 -> 70614264 | E17: ='[1]אגודה הוצאות שוטפות '!D87 -> 1.1265779e+08 | F17: ='[1]אגודה הוצאות שוטפות '!E87 -> 1.1196062e+08 | G17: ='[1]אגודה הוצאות שוטפות '!F87 -> 1.0951898e+08 | H17: ='[1]אגודה הוצאות שוטפות '!G87 -> 1.0530293e+08 | I17: ='[1]אגודה הוצאות שוטפות '!H87 -> 71472516 | J17: ='[1]אגודה הוצאות שוטפות '!I87 -> 71966997 | ... Z17: ='[1]אגודה הוצאות שוטפות '!Y87 -> 0 | AA17: =V17*1.01 -> 79083975
A18: סה"כ תפעול בוצה | G18: 0 | H18: 10000000 | I18: ='[1]תעריף בוצה בלבד'!K9 -> 51523983 | J18: ='[1]תעריף בוצה בלבד'!L9 -> 52100832 | K18: ='[1]תעריף בוצה בלבד'!M9 -> 52621841 | L18: ='[1]תעריף בוצה בלבד'!N9 -> 53148059 | M18: ='[1]תעריף בוצה בלבד'!O9 -> 53679540 | N18: ='[1]תעריף בוצה בלבד'!P9 -> 54216335 | O18: ='[1]תעריף בוצה בלבד'!Q9 -> 54758498 | P18: ='[1]תעריף בוצה בלבד'!R9 -> 55306083 | ... Z18: ='[1]תעריף בוצה בלבד'!AB9 -> 0 | AA18: =V18*1.01 -> 59295607
A19: תפעול שפד"ן ג' | M19: =$M$112*M75 -> 3842820.4 | N19: =$M$112*N75 -> 3881248.7 | P19: =$M$112*P75 -> 3959261.7 | Q19: =$M$112*Q75 -> 3998854.4 | R19: =$M$112*R75 -> 4038842.9 | S19: =$M$112*S75 -> 4079231.3 | T19: =$M$112*T75 -> 4120023.7 | U19: =$M$112*U75 -> 4161223.9 | V19: =$M$112*V75 -> 4202836.1 | W19: =W120 -> 0
A20: תפעול סינון חול | N20: =$N$113*N75 -> 5174998.2 | O20: =$N$113*O75 -> 5226748.2 | P20: =$N$113*P75 -> 5279015.7 | Q20: =$N$113*Q75 -> 5331805.8 | R20: =$N$113*R75 -> 5385123.9 | S20: =$N$113*S75 -> 5438975.1 | T20: =$N$113*T75 -> 5493364.9 | U20: =$N$113*U75 -> 5548298.5 | V20: =$N$113*V75 -> 5603781.5
A21: תפעול מתקן UF | N21: =$N$114*N75 -> 5174998.2 | O21: =$N$114*O75 -> 5226748.2 | P21: =$N$114*P75 -> 5279015.7 | Q21: =$N$114*Q75 -> 5331805.8 | R21: =$N$114*R75 -> 5385123.9 | S21: =$N$114*S75 -> 5438975.1 | T21: =$N$114*T75 -> 5493364.9 | U21: =$N$114*U75 -> 5548298.5 | V21: =$N$114*V75 -> 5603781.5
A22: סה"כ הוצאות שוטפות אגודה | B22: =SUM(B17:B18) -> 57514000 | C22: =SUM(C17:C18)*(1+'[1]תעריף טיהור והולכה'!E29) -> 62066840 | D22: =SUM(D17:D18)*(1+'[1]תעריף טיהור והולכה'!F29) -> 70614264 | E22: =SUM(E17:E18)*(1+'[1]תעריף טיהור והולכה'!G29) -> 1.1265779e+08 | F22: =SUM(F17:F18)*(1+'[1]תעריף טיהור והולכה'!H29) -> 1.1196062e+08 | G22: =SUM(G17:G21)*(1+'[1]תעריף טיהור והולכה'!I29) -> 1.0951898e+08 | H22: =SUM(H17:H21)*(1+'[1]תעריף טיהור והולכה'!J29) -> 1.1530293e+08 | I22: =SUM(I17:I21)*(1+'[1]תעריף טיהור והולכה'!K29) -> 1.229965e+08 | J22: =SUM(J17:J21)*(1+'[1]תעריף טיהור והולכה'!L29) -> 1.2406783e+08 | K22: =SUM(K17:K21)*(1+'[1]תעריף טיהור והולכה'!M29) -> 1.2508826e+08 | L22: =SUM(L17:L21)*(1+'[1]תעריף טיהור והולכה'!N29) -> 1.261189e+08 | M22: =SUM(M17:M21)*(1+'[1]תעריף טיהור והולכה'!O29) -> 1.3100267e+08 | N22: =SUM(N17:N21)*(1+'[1]תעריף טיהור והולכה'!P29) -> 1.4244245e+08 | ... V22: =SUM(V17:V21)*(1+'[1]תעריף טיהור והולכה'!X29) -> 1.5241989e+08 | W22: =SUM(W17:W18)*(1+'[1]תעריף טיהור והולכה'!Y29) -> 40740233 | X22: =SUM(X17:X18)*(1+'[1]תעריף טיהור והולכה'!Z29) -> 0 | Y22: =SUM(Y17:Y18)*(1+'[1]תעריף טיהור והולכה'!AA29) -> 0 | Z22: =SUM(Z17:Z18)*(1+'[1]תעריף טיהור והולכה'!AB29) -> 0
W23: 137798.81 | X23: 138952.85
A24: עודף/גרעון תפעולי: | B24: =B14-B22 -> 25074317 | C24: =C14-C22 -> 34490316 | D24: =D14-D22 -> 75076814 | E24: =E14-E22 -> 52611538 | F24: =F14-F22 -> 66053434 | G24: =G14-G22 -> 55684020 | H24: =H14-H22 -> 48710903 | I24: =I14-I22 -> 73369830 | ... Z24: =Z14-Z22 -> 2.6707771e+08
A25: פחת לצרכי מס הכנסה: | B25: 23400000 | C25: =B25 -> 23400000 | D25: =C25+2800000 -> 26200000 | E25: 21000000 | F25: =E25 -> 21000000 | G25: =F25+H25/5 -> 32293333 | H25: =F25+1064000000/30 -> 56466667 | I25: =H25 -> 56466667 | J25: =I25 -> 56466667 | K25: =J25 -> 56466667 | L25: =K25 -> 56466667 | M25: =L25 -> 56466667 | N25: =M25 -> 56466667 | O25: =N25 -> 56466667 | P25: =O25 -> 56466667 | ... V25: =U25 -> 56466667
A26: הוצאות אן וירו לצרכי מס
A27: הוצאות מימון: | G27: =-(G54+G55+G56+G57)/2 -> 13069608 | H27: =-(H54+H55+H56+H57) -> 30056694
A28: הלוואה משנת 2011 | G28: =-'[1]לוח שפיצר אגודה'!H41 -> 0 | H28: =-'[1]לוח שפיצר אגודה'!I41 -> 0 | I28: =-'[1]לוח שפיצר אגודה'!J41 -> 0 | J28: =-'[1]לוח שפיצר אגודה'!K41 -> 0 | K28: =-'[1]לוח שפיצר אגודה'!L41 -> 0 | L28: =-'[1]לוח שפיצר אגודה'!M41 -> 0 | M28: =-'[1]לוח שפיצר אגודה'!N41 -> 0 | N28: =-'[1]לוח שפיצר אגודה'!O41 -> 0 | ... Z28: =-'[1]לוח שפיצר אגודה'!AA41 -> 0
A29: הלוואה משנת 2012 | W29: =-'[1]לוח שפיצר אגודה'!W86 -> 373764.31 | X29: =-'[1]לוח שפיצר אגודה'!X86 -> 0 | Y29: =-'[1]לוח שפיצר אגודה'!Y86 -> 0 | Z29: =-'[1]לוח שפיצר אגודה'!Z86 -> 0
A30: הלוואה משנת 2013 | W30: =-'[1]לוח שפיצר אגודה'!V131 -> 1138949.4 | X30: =-'[1]לוח שפיצר אגודה'!W131 -> 581460.72 | Y30: =-'[1]לוח שפיצר אגודה'!X131 -> 0 | Z30: =-'[1]לוח שפיצר אגודה'!Y131 -> 0
A31: הלוואה משנת 2014 | W31: =-'[1]לוח שפיצר אגודה'!U175 -> 1883390.4 | X31: =-'[1]לוח שפיצר אגודה'!V175 -> 1281831.4 | Y31: =-'[1]לוח שפיצר אגודה'!W175 -> 654405.35 | Z31: =-'[1]לוח שפיצר אגודה'!X175 -> 0
A32: הלוואה משנת 2015 | W32: =-'[1]לוח שפיצר אגודה'!T219 -> 2133532 | X32: =-'[1]לוח שפיצר אגודה'!U219 -> 1633345.8 | Y32: =-'[1]לוח שפיצר אגודה'!V219 -> 1111651.6 | Z32: =-'[1]לוח שפיצר אגודה'!W219 -> 567524.52
A33: הלוואה משנת 2017 | I33: =-'[1]לוח שפיצר אגודה'!D252 -> 31044788 | J33: =-'[1]לוח שפיצר אגודה'!E252 -> 29867212 | K33: =-'[1]לוח שפיצר אגודה'!F252 -> 28639001 | L33: =-'[1]לוח שפיצר אגודה'!G252 -> 27357977 | M33: =-'[1]לוח שפיצר אגודה'!H252 -> 26021868 | N33: =-'[1]לוח שפיצר אגודה'!I252 -> 24628307 | O33: =-'[1]לוח שפיצר אגודה'!J252 -> 23174823 | P33: =-'[1]לוח שפיצר אגודה'!K252 -> 21658839 | ... Z33: =-'[1]לוח שפיצר אגודה'!U252 -> 2408917.9
A35: עודף/גרעון : | B35: =B24-B25-B28-B29-B30-B31+B32 -> 1674317.4 | C35: =C24-C25-C28-C29-C30-C31+C32 -> 11090316 | D35: =D24-D25-D28-D29-D30-D31+D32-20000000 -> 28876814 | E35: =E24-E25-E28-E29-E30-E31+E32-E26-20000000 -> 11611538 | F35: =F24-F25-F28-F29-F30-F31+F32-F26-20000000 -> 25053434 | G35: =G24-G25-G28-G29-G30-G31+G32-G26 -> 23390686 | H35: =H24-H25-H27-H29-H30-H31+H32 -> -37812457 | I35: =I24-I25-I28-I29-I30-I31-I33 -> -14141624 | J35: =J24-J25-J28-J29-J30-J31-J33 -> 26572874 | K35: =K24-K25-K28-K29-K30-K31-K33 -> 29108817 | L35: =L24-L25-L28-L29-L30-L31-L33 -> 31710650 | M35: =M24-M25-M28-M29-M30-M31-M33 -> 34380776 | N35: =N24-N25-N28-N29-N30-N31-N33 -> 21710974 | O35: =O24-O25-O28-O29-O30-O31-O33 -> 23717838 | P35: =P24-P25-P28-P29-P30-P31-P33 -> 19847310 | ... V35: =V24-V25-V28-V29-V30-V31-V33 -> 36840558 | W35: =W24-W25-W28-W29-W30-W31+W32 -> 2.1734248e+08 | X35: =X24-X25-X28-X29-X30-X31+X32 -> 2.6166721e+08 | Y35: =Y24-Y25-Y28-Y29-Y30-Y31+Y32 -> 2.6493179e+08 | Z35: =Z24-Z25-Z28-Z29-Z30-Z31+Z32 -> 2.6764524e+08
A36: הפחתת מסים נדחים: | U36: =-U35 -> -33678368 | V36: =-V35 -> -36840558
A37: הכנסות לצורך חישוב מס: | B37: =B35 -> 1674317.4 | C37: =C35+C36 -> 11090316 | D37: =D35+D36 -> 28876814 | E37: =E35+E36 -> 11611538 | F37: =F35+F36 -> 25053434 | G37: =G35+G36 -> 23390686 | H37: =H35+H36 -> -37812457 | I37: =I35+I36 -> -14141624 | J37: =J35+J36 -> 26572874 | ... U37: =U35+U36 -> 0
A38: שיעור המס: | B38: 0.25 | C38: 0.24 | D38: 0.25 | E38: 0.25 | F38: 0.265 | G38: 0.265 | H38: 0.265 | I38: 0.265 | J38: 0.265 | K38: 0.265 | L38: 0.265 | M38: 0.265 | N38: 0.265 | O38: 0.265 | P38: 0.265 | Q38: 0.265 | R38: 0.265 | S38: 0.265 | T38: 0.265 | U38: 0.265 | V38: 0.265 | W38: =V38 -> 0.265 | X38: =W38 -> 0.265 | Y38: =X38 -> 0.265 | Z38: =Y38 -> 0.265
A39: מס לתשלום ( לצורך הגדלת הלוואה) | B39: =B37*B38 -> 418579.34 | C39: =C37*C38 -> 2661675.9 | D39: =D37*D38 -> 7219203.5 | E39: =E37*E38 -> 2902884.6 | F39: =F37*F38 -> 6639160.1 | G39: =G37*G38 -> 6198531.9 | H39: 0 | I39: 0 | J39: 0 | K39: 0 | L39: 0 | M39: 0 | N39: 0 | O39: 0 | P39: 0 | Q39: 0 | R39: 0 | S39: 0 | T39: 0 | U39: 0 | V39: =V37*V38 -> 0 | W39: =W37*W38 -> 0 | X39: =X37*X38 -> 0 | Y39: =Y37*Y38 -> 0 | Z39: =Z37*Z38 -> 0
H40: =H37*H38 -> -10020301 | I40: =I37*I38 -> -3747530.4 | J40: =J37*J38 -> 7041811.6 | K40: =K37*K38 -> 7713836.5 | L40: =L37*L38 -> 8403322.3 | M40: =M37*M38 -> 9110905.6 | N40: =N37*N38 -> 5753408.1 | O40: =O37*O38 -> 6285227.1 | ... T40: =T37*T38 -> 8111285.4
A42: השקעות | B42: =B16 -> 2010 | C42: =C16 -> 2011 | D42: =D16 -> 2012 | E42: =E16 -> 2013 | F42: =F16 -> 2014 | G42: =G16 -> 2015 | H42: =H16 -> 2016 | I42: =I16 -> 2017 | ... T42: =T16 -> 2028 | U42: 2029 | V42: 2030 | W42: 2031 | X42: 2032 | Y42: 2033 | Z42: 2034
A43: השקעות אגודה | B43: =79000000-145141000 -> -66141000 | C43: ='[1]השקעות אגודה (ישן)'!#REF!*1000 -> #REF! | D43: 1000000 | E43: ='[1]השקעות אגודה'!K25*1000 -> 15231000 | F43: ='[1]השקעות אגודה'!L25*1000 -> 8684000 | G43: ='[1]השקעות אגודה'!M25*1000 -> 39000000 | H43: ='[1]השקעות אגודה'!N25*1000 -> 6000000 | I43: ='[1]השקעות אגודה'!O25*1000 -> 61700000 | J43: ='[1]השקעות אגודה'!P25*1000 -> 204600000 | K43: ='[1]השקעות אגודה'!Q25*1000 -> 310400000 | L43: ='[1]השקעות אגודה'!R25*1000 -> 300400000 | ... V43: ='[1]השקעות אגודה'!AB25*1000 -> 1000000 | W43: =V43 -> 1000000 | X43: =W43 -> 1000000 | Y43: =X43 -> 1000000 | Z43: =Y43 -> 1000000
A44: השקעות בוצה | C44: ='[1]השקעות אגודה (ישן)'!#REF!*1000 -> #REF! | D44: 0 | E44: ='[1]השקעות אגודה'!K26*1000 -> 144311000 | F44: ='[1]השקעות אגודה'!L26*1000 -> 233316000 | G44: ='[1]השקעות אגודה'!M26*1000 -> 231000000 | H44: ='[1]השקעות אגודה'!N26*1000 -> 114195000 | I44: ='[1]השקעות אגודה'!O26*1000 -> 50030000 | J44: ='[1]השקעות אגודה'!P26*1000 -> 35000000 | K44: ='[1]השקעות אגודה'!Q26*1000 -> 0 | L44: ='[1]השקעות אגודה'!R26*1000 -> 0 | ... V44: ='[1]השקעות אגודה'!AB26*1000 -> 0 | W44: ='[1]השקעות אגודה (ישן)'!#REF!*1000 -> #REF! | X44: ='[1]השקעות אגודה (ישן)'!#REF!*1000 -> #REF! | Y44: ='[1]השקעות אגודה (ישן)'!#REF!*1000 -> #REF! | Z44: ='[1]השקעות אגודה (ישן)'!#REF!*1000 -> #REF!
A45: פחת | B45: ='[1]השקעות אגודה (ישן)'!#REF!*1000 -> #REF! | C45: -49000000 | D45: ='[1]השקעות אגודה (ישן)'!E26*1000 -> 0 | E45: 0 | F45: 0 | G45: 0 | H45: 0 | I45: 0 | J45: 0 | K45: 0 | L45: 0 | M45: 8500000 | N45: =M45 -> 8500000 | O45: =N45 -> 8500000 | P45: =O45 -> 8500000 | Q45: =P45 -> 8500000 | R45: =Q45 -> 8500000 | S45: =R45 -> 8500000 | T45: =S45 -> 8500000 | U45: =T45 -> 8500000 | ... Z45: =Y45 -> 8500000
...

Sheet ניתוח פעילות מאוחד לפני השקעות 
A1: דוחות כספיים- איגודן (אלש"ח) | AF1: כן
A2: מחזור חוב? | B2: כן | E2: 2012 | F2: 2013 | G2: 2014 | H2: 2015 | I2: 2016 | J2: 2017 | K2: 2018 | L2: 2019 | M2: 2020 | N2: 2021 | O2: 2022 | P2: 2023 | Q2: 2024 | R2: 2025 | S2: 2026 | T2: 2027 | U2: 2028 | V2: 2029 | W2: 2030 | X2: 2031 | Y2: 2032 | Z2: 2033 | AA2: 2034 | AF2: לא
A5: ניתוח צרכי השקעה מאוחדים (אלש"ח)
E6: 2012 | F6: 2013 | G6: 2014 | H6: 2015 | I6: 2016 | J6: 2017 | K6: 2018 | L6: 2019 | M6: 2020 | N6: 2021 | O6: 2022 | P6: 2023 | Q6: 2024 | R6: 2025 | S6: 2026 | T6: 2027 | U6: 2028 | V6: 2029 | W6: 2030 | X6: 2031 | Y6: 2032 | Z6: 2033 | AA6: 2034
A7: מזומנים- יתרת פתיחה | E7: =0 -> 0 | F7: 0 | G7: =F82 -> 38727 | H7: =G82 -> 44195.53 | I7: =H82 -> 50000 | J7: =I82 -> 50000 | K7: =J82 -> 50000 | L7: =K82 -> 50000 | M7: =L82 -> 50000 | N7: =M82 -> 50000 | ... AA7: =Z82 -> 340946.72
A8: תזרים מפעילות שוטפת | E8: 0 | F8: 0 | G8: =G34+G35-G36-G37 -> 158861.23 | H8: =H34+H35-H36-H37 -> 157890.07 | I8: =I34+I35-I36-I37 -> 148261.54 | J8: =J34+J35-J36-J37 -> 174188.89 | K8: =K34+K35-K36-K37 -> 215006.91 | L8: =L34+L35-L36-L37 -> 217608.55 | M8: =M34+M35-M36-M37 -> 220236.21 | N8: =N34+N35-N36-N37 -> 222890.15 | ... AA8: =AA34+AA35-AA36-AA37 -> 232704.6
A9: מחזור חוב | E9: 0 | F9: 0 | G9: =SUM(G72:G75) -> -290000 | H9: =SUM(H72:H75) -> 0 | I9: =SUM(I72:I75) -> 0 | J9: =SUM(J72:J75) -> 0 | K9: =SUM(K72:K75) -> 0 | L9: =SUM(L72:L75) -> 0 | M9: =SUM(M72:M75) -> 0 | N9: =SUM(N72:N75) -> 0 | ... AA9: =SUM(AA72:AA75) -> 0
A10: פירעון הלוואה | E10: =0 -> 0 | F10: 0 | G10: -12000 | H10: -14666.667 | I10: -14666.667 | J10: -43466.667 | K10: -57866.667 | L10: -59066.667 | M10: -62666.667 | N10: -66866.667 | O10: -114152.35 | P10: -119273.18 | Q10: -122044.19 | R10: -127867.05 | S10: -133743.46 | T10: -139675.2 | U10: -146064.08 | V10: -152911.99 | W10: -159954.22 | X10: -129526.11 | Y10: -133363.07 | Z10: -137867.25 | AA10: -141840.87 | AB10: -123086.22 | AC10: -72605.669
A11: הוצאות ריבית | E11: =-E47 -> 0 | F11: =-F47 -> 0 | G11: =-G47 -> -11790.7 | H11: =-H47 -> -22302.6 | I11: =-I47 -> -29352.246 | J11: =-J47 -> -33068.205 | K11: =-K47 -> -39125.336 | L11: =-L47 -> -47911.813 | ... AA11: =-AA47 -> -11138.581
A12: השקעה נדרשת איגוד | E12: ='עלויות המטש'!D35/1000 -> 0.001 | F12: 0 | G12: =-'עלויות המטש'!F35/1000 -> -87602 | H12: =-'עלויות המטש'!G35/1000 -> -84981 | I12: =-'עלויות המטש'!H35/1000 -> -93513 | J12: =-'עלויות המטש'!I35/1000 -> -117392 | K12: =-'עלויות המטש'!J35/1000 -> -170312.5 | L12: =-'עלויות המטש'!K35/1000 -> -125497.5 | M12: =-'עלויות המטש'!L35/1000 -> -27000 | N12: =-'עלויות המטש'!M35/1000 -> -27000 | ... AA12: =-'עלויות המטש'!Z35/1000 -> -12000 | AD12: =SUM(F12:W12) -> -841298
A13: השקעה נדרשת אגודה | E13: 0 | F13: 0 | G13: =-'עלויות ההולכה'!F47/1000 -> -242000 | H13: =-'עלויות ההולכה'!G47/1000 -> -270000 | I13: =-'עלויות ההולכה'!H47/1000 -> -120195 | J13: =-'עלויות ההולכה'!I47/1000 -> -111730 | K13: =-'עלויות ההולכה'!J47/1000 -> -239600 | L13: =-'עלויות ההולכה'!K47/1000 -> -310400 | M13: =-'עלויות ההולכה'!L47/1000 -> -300400 | N13: =-'עלויות ההולכה'!M47/1000 -> -244900 | ... W13: =-'עלויות ההולכה'!V47/1000 -> -9500 | X13: =W13 -> -9500 | Y13: =X13 -> -9500 | Z13: =Y13 -> -9500 | AA13: =Z13 -> -9500 | AD13: =SUM(F13:W13) -> -1995725
A14: יתרת מזומנים מינימאלית | G14: =-Min_Cash -> -50000 | H14: =-Min_Cash -> -50000 | I14: =-Min_Cash -> -50000 | J14: =-Min_Cash -> -50000 | K14: =-Min_Cash -> -50000 | L14: =-Min_Cash -> -50000 | M14: =-Min_Cash -> -50000 | N14: =-Min_Cash -> -50000 | ... AA14: =-Min_Cash -> -50000
A15: סה"כ צרכי מימון | E15: =MAX(SUM(E12:E13),0) -> 0.001 | F15: =MAX(-SUM(F7:F14),0) -> 0 | G15: =MAX(-SUM(G7:G14),0) -> 495804.47 | H15: =MAX(-SUM(H7:H14),0) -> 239864.67 | I15: =MAX(-SUM(I7:I14),0) -> 109465.37 | J15: =MAX(-SUM(J7:J14),0) -> 131467.98 | K15: =MAX(-SUM(K7:K14),0) -> 291897.59 | L15: =MAX(-SUM(L7:L14),0) -> 325267.43 | M15: =MAX(-SUM(M7:M14),0) -> 225398.81 | ... AA15: =MAX(-SUM(AA7:AA14),0) -> 0
A16: ריבית ללא הלוואה חדשה | H16: =-(G113*$B$108+G122*$B$116+G141*$B$136) -> -20339.6 | I16: =-(H113*$B$108+H122*$B$116+H141*$B$136) -> -24580.533 | J16: =-(I113*$B$108+I122*$B$116+I141*$B$136) -> -24099.467 | K16: =-(J113*$B$108+J122*$B$116+J141*$B$136) -> -22725.6 | L16: =-(K113*$B$108+K122*$B$116+K141*$B$136) -> -22063.489 | M16: =-(L113*$B$108+L122*$B$116+L141*$B$136) -> -31349.047 | N16: =-(M113*$B$108+M122*$B$116+M141*$B$136) -> -37264.541 | O16: =-(N113*$B$108+N122*$B$116+N141*$B$136) -> -41493.226 | ... AA16: =-(Z113*$B$108+Z122*$B$116+Z141*$B$136) -> -6426.776
H17: =MAX(-SUM(H7:H14),0) -> 239864.67 | I17: =MAX(-SUM(I7:I14),0) -> 109465.37 | J17: =MAX(-SUM(J7:J14),0) -> 131467.98 | K17: =MAX(-SUM(K7:K14),0) -> 291897.59 | L17: =MAX(-SUM(L7:L14),0) -> 325267.43 | M17: =MAX(-SUM(M7:M14),0) -> 225398.81 | N17: =MAX(-SUM(N7:N14),0) -> 176537.93 | O17: =MAX(-SUM(O7:O14),0) -> 59119.82 | ... AA17: =MAX(-SUM(AA7:AA14),0) -> 0
E18: שנת בסיס | F18: תקופת תשלום קרן (שנים) | G18: ריבית | H18: גרייס (שנים) | J18: Av. ADSCR | K18: יתרת סגירה 2030 | L18: יתרת סגירה 2036 | R18: ='[1]ניתוח שפדן השקעות קיימות'!B9 -> 1.2207878
H19: ריבית | I19: קרן
A20: גיוס חוב חדש - מאוחד | H20: 0 | I20: 3
A21: ריבית קבועה | E21: 2012 | F21: =B117-I21+1 -> 18 | G21: ='[1]ניתוח שפדן השקעות קיימות'!B3 -> 0.031 | H21: =E21+1+H20 -> 2013 | I21: 2017 | J21: =H91 -> 1.107159 | K21: =W29 -> 707427.07 | L21: =AC29 -> 5.2386895e-10
A23: הלוואה | E23: 2012 | F23: 2013 | G23: 2014 | H23: 2015 | I23: 2016 | J23: 2017 | K23: 2018 | L23: 2019 | M23: 2020 | N23: 2021 | O23: 2022 | P23: 2023 | Q23: 2024 | R23: 2025 | S23: 2026 | T23: 2027 | U23: 2028 | V23: 2029 | W23: 2030 | X23: 2031 | Y23: 2032 | Z23: 2033 | AA23: 2034 | AB23: 2035 | AC23: 2036
A24: יתרת פתיחה | E24: 0 | F24: 0 | G24: =F29 -> 169000 | H24: =G29 -> 647000 | I24: =H29 -> 872198 | J24: =I29 -> 966996.7 | K24: =J29 -> 1054998 | L24: =K29 -> 1289028.9 | M24: =L29 -> 1555229.7 | N24: =M29 -> 1717961.9 | ... AC24: =AB29 -> 67035.632
A25: משיכה | E25: =E15 -> 0.001 | F25: =F15 -> 0 | G25: =G109+G118+G137+G127 -> 490000 | H25: =H109+H118+H137+H127 -> 239864.67 | I25: =I109+I118+I137+I127 -> 109465.37 | J25: =J109+J118+J137+J127 -> 131467.98 | K25: =K109+K118+K137+K127 -> 291897.59 | L25: =L109+L118+L137+L127 -> 325267.43 | M25: =M109+M118+M137+M127 -> 225398.81 | N25: =N109+N118+N137+N127 -> 176537.93 | ... AC25: =AC109+AC118+AC137+AC127 -> 0
A26: ריבית מחושבת | E26: 0 | F26: 0 | G26: =G110+G119+G138+G128 -> 11790.7 | H26: =H110+H119+H138+H128 -> 22302.6 | I26: =I110+I119+I138+I128 -> 29352.246 | J26: =J110+J119+J138+J128 -> 32846.58 | K26: =K110+K119+K138+K128 -> 38458.245 | L26: =L110+L119+L138+L128 -> 46794.801 | M26: =M110+M119+M138+M128 -> 53996.927 | N26: =N110+N119+N138+N128 -> 58631.017 | ... AC26: =AC110+AC119+AC138+AC128 -> 2212.1758
A27: ריבית משולמת | E27: =-IF(E$23>=$H$21,E26,0) -> 0 | F27: 0 | G27: =G111+G120+G139+G129 -> -11790.7 | H27: =H111+H120+H139+H129 -> -22302.6 | I27: =I111+I120+I139+I129 -> -29352.246 | J27: =J111+J120+J139+J129 -> -32846.58 | K27: =K111+K120+K139+K129 -> -38458.245 | L27: =L111+L120+L139+L129 -> -46794.801 | M27: =M111+M120+M139+M129 -> -53996.927 | N27: =N111+N120+N139+N129 -> -58631.017 | ... AC27: =AC111+AC120+AC139+AC129 -> -2212.1758
A28: פירעון קרן | E28: =IF(AND(E23>=$I$21,E23<=$I$21+$F$21-1),-(#REF!/Min_ADSCR-SUM(E42:E47)+SUM(E72:E76)),0) -> 0 | F28: =IF(AND(F23>=$I$21,F23<=$I$21+$F$21-1),-(#REF!/Min_ADSCR-SUM(F42:F47)+SUM(F72:F76)),0) -> 0 | G28: =G112+G121+G140+G130 -> -12000 | H28: =H112+H121+H140+H130 -> -14666.667 | I28: =I112+I121+I140+I130 -> -14666.667 | J28: =J112+J121+J140+J130 -> -43466.667 | K28: =K112+K121+K140+K130 -> -57866.667 | L28: =L112+L121+L140+L130 -> -59066.667 | M28: =M112+M121+M140+M130 -> -62666.667 | N28: =N112+N121+N140+N130 -> -66866.667 | ... AC28: =AC112+AC121+AC140+AC130 -> -67035.632
A29: סה"כ חוב | F29: =F141 -> 169000 | G29: =SUM(G24:G28) -> 647000 | H29: =SUM(H24:H28) -> 872198 | I29: =SUM(I24:I28) -> 966996.7 | J29: =SUM(J24:J28) -> 1054998 | K29: =SUM(K24:K28) -> 1289028.9 | L29: =SUM(L24:L28) -> 1555229.7 | M29: =SUM(M24:M28) -> 1717961.9 | N29: =SUM(N24:N28) -> 1827633.1 | ... AC29: =SUM(AC24:AC28) -> 5.2386895e-10
A30: מינימום מזומן | E30: 50000
A32: דוחות כספיים מאוחדים- דוח רווח והפסד (אלש"ח)
E33: 2012 | F33: 2013 | G33: 2014 | H33: 2015 | I33: 2016 | J33: 2017 | K33: 2018 | L33: 2019 | M33: 2020 | N33: 2021 | O33: 2022 | P33: 2023 | Q33: 2024 | R33: 2025 | S33: 2026 | T33: 2027 | U33: 2028 | V33: 2029 | W33: 2030 | X33: 2031 | Y33: 2032 | Z33: 2033 | AA33: 2034
A34: הכנסות איגוד | E34: 0 | F34: 0 | G34: ='עלויות המטש'!F8/1000 -> 143935.25 | H34: ='עלויות המטש'!G8/1000 -> 153571.87 | I34: ='עלויות המטש'!H8/1000 -> 151157.21 | J34: ='עלויות המטש'!I8/1000 -> 152668.78 | K34: ='עלויות המטש'!J8/1000 -> 154195.47 | L34: ='עלויות המטש'!K8/1000 -> 155737.43 | M34: ='עלויות המטש'!L8/1000 -> 157294.8 | N34: ='עלויות המטש'!M8/1000 -> 158867.75 | ... AA34: ='עלויות המטש'!Z8/1000 -> 180806.32 | AD34: =SUM(F34:W34) -> 2730669
A35: הכנסות אגודה | E35: 0 | F35: 0 | G35: ='עלויות ההולכה'!F14/1000 -> 178014.06 | H35: ='עלויות ההולכה'!G14/1000 -> 165203 | I35: ='עלויות ההולכה'!H14/1000 -> 164013.83 | J35: ='עלויות ההולכה'!I14/1000 -> 196366.33 | K35: ='עלויות ההולכה'!J14/1000 -> 236974.58 | L35: ='עלויות ההולכה'!K14/1000 -> 239302.75 | M35: ='עלויות ההולכה'!L14/1000 -> 241654.2 | N35: ='עלויות ההולכה'!M14/1000 -> 247871.98 | ... AA35: ='עלויות ההולכה'!Z14/1000 -> 267077.71 | AD35: =SUM(F35:W35) -> 3904450.6
A36: הוצאות איגוד (ללא פחת) | E36: 0 | F36: 0 | G36: ='עלויות המטש'!F11/1000+'עלויות המטש'!F12/1000 -> 51127.458 | H36: ='עלויות המטש'!G11/1000+'עלויות המטש'!G12/1000 -> 51365.822 | I36: ='עלויות המטש'!H11/1000+'עלויות המטש'!H12/1000 -> 51606.57 | J36: ='עלויות המטש'!I11/1000+'עלויות המטש'!I12/1000 -> 51849.726 | K36: ='עלויות המטש'!J11/1000+'עלויות המטש'!J12/1000 -> 52095.313 | L36: ='עלויות המטש'!K11/1000+'עלויות המטש'!K12/1000 -> 52343.357 | M36: ='עלויות המטש'!L11/1000+'עלויות המטש'!L12/1000 -> 52593.88 | N36: ='עלויות המטש'!M11/1000+'עלויות המטש'!M12/1000 -> 52846.909 | ... AA36: ='עלויות המטש'!Z11/1000+'עלויות המטש'!Z12/1000 -> 57484.132 | AD36: =SUM(F36:W36) -> 903263.48
A37: הוצאות אגודה (ללא פחת) | E37: 0 | F37: 0 | G37: ='עלויות ההולכה'!F22/1000 -> 111960.62 | H37: ='עלויות ההולכה'!G22/1000 -> 109518.98 | I37: ='עלויות ההולכה'!H22/1000 -> 115302.93 | J37: ='עלויות ההולכה'!I22/1000 -> 122996.5 | K37: ='עלויות ההולכה'!J22/1000 -> 124067.83 | L37: ='עלויות ההולכה'!K22/1000 -> 125088.26 | M37: ='עלויות ההולכה'!L22/1000 -> 126118.9 | N37: ='עלויות ההולכה'!M22/1000 -> 131002.67 | ... W37: ='עלויות ההולכה'!V22/1000 -> 152419.89 | X37: =W37*(W37/V37) -> 153721.96 | Y37: =X37*(X37/W37) -> 155035.16 | Z37: =Y37*(Y37/X37) -> 156359.57 | AA37: =Z37*(Z37/Y37) -> 157695.3 | AD37: =SUM(F37:W37) -> 2288496
A38: הוצאות פחת (אגודה בלבד) | E38: 0 | F38: 0 | G38: ='עלויות ההולכה'!F25/1000 -> 21000 | H38: ='עלויות ההולכה'!G25/1000 -> 32293.333 | I38: ='עלויות ההולכה'!H25/1000 -> 56466.667 | J38: ='עלויות ההולכה'!I25/1000 -> 56466.667 | K38: ='עלויות ההולכה'!J25/1000 -> 56466.667 | L38: ='עלויות ההולכה'!K25/1000 -> 56466.667 | M38: ='עלויות ההולכה'!L25/1000 -> 56466.667 | N38: ='עלויות ההולכה'!M25/1000 -> 56466.667 | ... W38: ='עלויות ההולכה'!V25/1000 -> 56466.667 | X38: =W38 -> 56466.667 | Y38: =X38 -> 56466.667 | Z38: =Y38 -> 56466.667 | AA38: =Z38 -> 56466.667
A40: רווח תפעולי | E40: =E34+E35-E36-E37-E38 -> 0 | F40: =F34+F35-F36-F37-F38 -> 0 | G40: =G34+G35-G36-G37-G38 -> 137861.23 | H40: =H34+H35-H36-H37-H38 -> 125596.74 | I40: =I34+I35-I36-I37-I38 -> 91794.877 | J40: =J34+J35-J36-J37-J38 -> 117722.22 | K40: =K34+K35-K36-K37-K38 -> 158540.24 | L40: =L34+L35-L36-L37-L38 -> 161141.89 | ... AA40: =AA34+AA35-AA36-AA37-AA38 -> 176237.93
A42: הוצאות מימון בגין הלוואות קיימות (איגוד 2008) | B42: =2008+5 -> 2013 | E42: =IF(E33<$E$21,0,IF($B$2="כן",0,IF(E$33<=$B$42,'[1]הלוואת פועלים'!$C$4/1000,-VLOOKUP(E$33-$B$42,'[1]הלוואת פועלים'!$D$7:$G$22,3)/1000))) -> 0 | F42: =IF(F33<$E$21,0,IF($B$2="כן",0,IF(F$33<=$B$42,'[1]הלוואת פועלים'!$C$4/1000,-VLOOKUP(F$33-$B$42,'[1]הלוואת פועלים'!$D$7:$G$22,3)/1000))) -> 0 | G42: =IF(G33<$E$21,0,IF($B$2="כן",0,IF(G$33<=$B$42,'[1]הלוואת פועלים'!$C$4/1000,-VLOOKUP(G$33-$B$42,'[1]הלוואת פועלים'!$D$7:$G$22,3)/1000))) -> 0 | H42: =IF(H33<$E$21,0,IF($B$2="כן",0,IF(H$33<=$B$42,'[1]הלוואת פועלים'!$C$4/1000,-VLOOKUP(H$33-$B$42,'[1]הלוואת פועלים'!$D$7:$G$22,3)/1000))) -> 0 | I42: =IF(I33<$E$21,0,IF($B$2="כן",0,IF(I$33<=$B$42,'[1]הלוואת פועלים'!$C$4/1000,-VLOOKUP(I$33-$B$42,'[1]הלוואת פועלים'!$D$7:$G$22,3)/1000))) -> 0 | J42: =IF(J33<$E$21,0,IF($B$2="כן",0,IF(J$33<=$B$42,'[1]הלוואת פועלים'!$C$4/1000,-VLOOKUP(J$33-$B$42,'[1]הלוואת פועלים'!$D$7:$G$22,3)/1000))) -> 0 | K42: =IF(K33<$E$21,0,IF($B$2="כן",0,IF(K$33<=$B$42,'[1]הלוואת פועלים'!$C$4/1000,-VLOOKUP(K$33-$B$42,'[1]הלוואת פועלים'!$D$7:$G$22,3)/1000))) -> 0 | L42: =IF(L33<$E$21,0,IF($B$2="כן",0,IF(L$33<=$B$42,'[1]הלוואת פועלים'!$C$4/1000,-VLOOKUP(L$33-$B$42,'[1]הלוואת פועלים'!$D$7:$G$22,3)/1000))) -> 0 | ... AA42: =IF(AA33<$E$21,0,IF($B$2="כן",0,IF(AA$33<=$B$42,'[1]הלוואת פועלים'!$C$4/1000,-VLOOKUP(AA$33-$B$42,'[1]הלוואת פועלים'!$D$7:$G$22,3)/1000))) -> 0
A43: הוצאות מימון בגין הלוואות קיימות (איגוד 2010) | B43: =2010+5 -> 2015 | E43: =IF(E33<$E$21,0,IF($B$2="כן",0,IF(E$33<=$B$43,'[1]הלוואת פועלים'!$C$26/1000,-VLOOKUP(E$33-$B$43,'[1]הלוואת פועלים'!$D$29:$F$44,3)/1000))) -> 0 | F43: =IF(F33<$E$21,0,IF($B$2="כן",0,IF(F$33<=$B$43,'[1]הלוואת פועלים'!$C$26/1000,-VLOOKUP(F$33-$B$43,'[1]הלוואת פועלים'!$D$29:$F$44,3)/1000))) -> 0 | G43: =IF(G33<$E$21,0,IF($B$2="כן",0,IF(G$33<=$B$43,'[1]הלוואת פועלים'!$C$26/1000,-VLOOKUP(G$33-$B$43,'[1]הלוואת פועלים'!$D$29:$F$44,3)/1000))) -> 0 | H43: =IF(H33<$E$21,0,IF($B$2="כן",0,IF(H$33<=$B$43,'[1]הלוואת פועלים'!$C$26/1000,-VLOOKUP(H$33-$B$43,'[1]הלוואת פועלים'!$D$29:$F$44,3)/1000))) -> 0 | I43: =IF(I33<$E$21,0,IF($B$2="כן",0,IF(I$33<=$B$43,'[1]הלוואת פועלים'!$C$26/1000,-VLOOKUP(I$33-$B$43,'[1]הלוואת פועלים'!$D$29:$F$44,3)/1000))) -> 0 | J43: =IF(J33<$E$21,0,IF($B$2="כן",0,IF(J$33<=$B$43,'[1]הלוואת פועלים'!$C$26/1000,-VLOOKUP(J$33-$B$43,'[1]הלוואת פועלים'!$D$29:$F$44,3)/1000))) -> 0 | K43: =IF(K33<$E$21,0,IF($B$2="כן",0,IF(K$33<=$B$43,'[1]הלוואת פועלים'!$C$26/1000,-VLOOKUP(K$33-$B$43,'[1]הלוואת פועלים'!$D$29:$F$44,3)/1000))) -> 0 | L43: =IF(L33<$E$21,0,IF($B$2="כן",0,IF(L$33<=$B$43,'[1]הלוואת פועלים'!$C$26/1000,-VLOOKUP(L$33-$B$43,'[1]הלוואת פועלים'!$D$29:$F$44,3)/1000))) -> 0 | ... AA43: =IF(AA33<$E$21,0,IF($B$2="כן",0,IF(AA$33<=$B$43,'[1]הלוואת פועלים'!$C$26/1000,-VLOOKUP(AA$33-$B$43,'[1]הלוואת פועלים'!$D$29:$F$44,3)/1000))) -> 0
A44: הוצאות מימון בגין הלוואות קיימות (איגוד 2011) | B44: =2011+5 -> 2016 | E44: =IF(E33<$E$21,0,IF($B$2="כן",0,IF(E$33<=$B$44,'[1]הלוואת פועלים'!$C$48/1000,-VLOOKUP(E$33-$B$44,'[1]הלוואת פועלים'!$D$51:$F$66,3)/1000))) -> 0 | F44: =IF(F33<$E$21,0,IF($B$2="כן",0,IF(F$33<=$B$44,'[1]הלוואת פועלים'!$C$48/1000,-VLOOKUP(F$33-$B$44,'[1]הלוואת פועלים'!$D$51:$F$66,3)/1000))) -> 0 | G44: =IF(G33<$E$21,0,IF($B$2="כן",0,IF(G$33<=$B$44,'[1]הלוואת פועלים'!$C$48/1000,-VLOOKUP(G$33-$B$44,'[1]הלוואת פועלים'!$D$51:$F$66,3)/1000))) -> 0 | H44: =IF(H33<$E$21,0,IF($B$2="כן",0,IF(H$33<=$B$44,'[1]הלוואת פועלים'!$C$48/1000,-VLOOKUP(H$33-$B$44,'[1]הלוואת פועלים'!$D$51:$F$66,3)/1000))) -> 0 | I44: =IF(I33<$E$21,0,IF($B$2="כן",0,IF(I$33<=$B$44,'[1]הלוואת פועלים'!$C$48/1000,-VLOOKUP(I$33-$B$44,'[1]הלוואת פועלים'!$D$51:$F$66,3)/1000))) -> 0 | J44: =IF(J33<$E$21,0,IF($B$2="כן",0,IF(J$33<=$B$44,'[1]הלוואת פועלים'!$C$48/1000,-VLOOKUP(J$33-$B$44,'[1]הלוואת פועלים'!$D$51:$F$66,3)/1000))) -> 0 | K44: =IF(K33<$E$21,0,IF($B$2="כן",0,IF(K$33<=$B$44,'[1]הלוואת פועלים'!$C$48/1000,-VLOOKUP(K$33-$B$44,'[1]הלוואת פועלים'!$D$51:$F$66,3)/1000))) -> 0 | L44: =IF(L33<$E$21,0,IF($B$2="כן",0,IF(L$33<=$B$44,'[1]הלוואת פועלים'!$C$48/1000,-VLOOKUP(L$33-$B$44,'[1]הלוואת פועלים'!$D$51:$F$66,3)/1000))) -> 0 | ... AA44: =IF(AA33<$E$21,0,IF($B$2="כן",0,IF(AA$33<=$B$44,'[1]הלוואת פועלים'!$C$48/1000,-VLOOKUP(AA$33-$B$44,'[1]הלוואת פועלים'!$D$51:$F$66,3)/1000))) -> 0
A45: הוצאות מימון בגין הלוואות קיימות (איגוד 2012) | B45: =2012+5 -> 2017 | E45: =IF(E33<$E$21,0,IF($B$2="כן",0,IF(E$33<=$B$45,'[1]הלוואת פועלים'!$C$70/1000,-VLOOKUP(E$33-$B$45,'[1]הלוואת פועלים'!$D$73:$F$88,3)/1000))) -> 0 | F45: 0 | G45: =IF(G33<$E$21,0,IF($B$2="כן",0,IF(G$33<=$B$45,'[1]הלוואת פועלים'!$C$70/1000,-VLOOKUP(G$33-$B$45,'[1]הלוואת פועלים'!$D$73:$F$88,3)/1000))) -> 0 | H45: =IF(H33<$E$21,0,IF($B$2="כן",0,IF(H$33<=$B$45,'[1]הלוואת פועלים'!$C$70/1000,-VLOOKUP(H$33-$B$45,'[1]הלוואת פועלים'!$D$73:$F$88,3)/1000))) -> 0 | I45: =IF(I33<$E$21,0,IF($B$2="כן",0,IF(I$33<=$B$45,'[1]הלוואת פועלים'!$C$70/1000,-VLOOKUP(I$33-$B$45,'[1]הלוואת פועלים'!$D$73:$F$88,3)/1000))) -> 0 | J45: =IF(J33<$E$21,0,IF($B$2="כן",0,IF(J$33<=$B$45,'[1]הלוואת פועלים'!$C$70/1000,-VLOOKUP(J$33-$B$45,'[1]הלוואת פועלים'!$D$73:$F$88,3)/1000))) -> 0 | K45: =IF(K33<$E$21,0,IF($B$2="כן",0,IF(K$33<=$B$45,'[1]הלוואת פועלים'!$C$70/1000,-VLOOKUP(K$33-$B$45,'[1]הלוואת פועלים'!$D$73:$F$88,3)/1000))) -> 0 | L45: =IF(L33<$E$21,0,IF($B$2="כן",0,IF(L$33<=$B$45,'[1]הלוואת פועלים'!$C$70/1000,-VLOOKUP(L$33-$B$45,'[1]הלוואת פועלים'!$D$73:$F$88,3)/1000))) -> 0 | M45: =IF(M33<$E$21,0,IF($B$2="כן",0,IF(M$33<=$B$45,'[1]הלוואת פועלים'!$C$70/1000,-VLOOKUP(M$33-$B$45,'[1]הלוואת פועלים'!$D$73:$F$88,3)/1000))) -> 0 | N45: =IF(N33<$E$21,0,IF($B$2="כן",0,IF(N$33<=$B$45,'[1]הלוואת פועלים'!$C$70/1000,-VLOOKUP(N$33-$B$45,'[1]הלוואת פועלים'!$D$73:$F$88,3)/1000))) -> 0 | ... AA45: =IF(AA33<$E$21,0,IF($B$2="כן",0,IF(AA$33<=$B$45,'[1]הלוואת פועלים'!$C$70/1000,-VLOOKUP(AA$33-$B$45,'[1]הלוואת פועלים'!$D$73:$F$88,3)/1000))) -> 0
A46: הוצאות מימון בגין מימון מחדש הלוואת דקסיה | E46: 0 | F46: 0 | G46: 0 | H46: 0 | I46: 0 | J46: 0 | K46: 0 | L46: 0 | M46: 0 | N46: 0 | O46: 0 | P46: 0 | Q46: 0 | R46: 0 | S46: 0 | T46: 0 | U46: 0 | V46: 0 | W46: 0 | X46: 0 | Y46: 0 | Z46: 0 | AA46: 0
...
