Workbook
Name BikoretCode: 'הגדרות כלליות'!$G$26
Name Date: 'הגדרות כלליות'!$O$4
Name GufMevukar: 'הגדרות כלליות'!$D$9
Name Ishur: 'הגדרות כלליות'!$G$30
Name Month: 'הגדרות כלליות'!$O$3
Name MonthTitle: 'הגדרות כלליות'!$O$5
Name ReportPeriod: 'הגדרות כלליות'!$O$2
Name Shana: 'הגדרות כלליות'!$D$11
Name ShanaKodemet: 'הגדרות כלליות'!$D$13
Name טופס1: 'תמצית מאזן'!$B$319:$F$368
Name טופס1ב: 'תמצית מאזן'!$B$375:$F$400
Name טופס2: 'תקציב רגיל'!$B$319:$K$371
Name טופס3: תברים!$B$308:$F$361
Name טופס4: 'ריכוז תברים'!$B$310:$X$341
Name טופס5: 'גבייה וחייבים'!$B$309:$M$342
Name טופס6: ארנונה!$B$304:$O$321
Name טופס7: 'שכר ומשרות'!$B$311:$P$356
Name טופס8: 'בעלי שכר גבוה'!$B$306:$X$336

Sheet מקרא
E2: מקרא
A4: הצג תוכן ענינים
A5: 0
C6: סמל | E6: תיאור | F6: ניתן להקלדה (כן/לא)
E8: תא המיועד להקלדת נתונים | F8: כן
E10: נתון מחושב | F10: לא
E12: סיכום ביניים | F12: לא
E14: תא סיכומי | F14: לא
E16: סך כולל, סך הכל כללי | F16: לא

Sheet תוכן הענינים
A5: 0
B6: תוכן הענינים
C9: הגדרות כלליות | E9: ריכוז תברים | G9: הערות הרשות
C11: בדיקות הצלבה | E11: גבייה וחייבים | G11: מקרא
C13: תמצית מאזן | E13: ארנונה
C15: תקציב רגיל | E15: שכר ומשרות
C17: תחילת שנה | E17: 1.01 | G17: פורמט DD.MM
C19: סוף שנה | E19: 31.12 | G19: פורמט DD.MM
C20: תברים | E20: בעלי שכר גבוה

Sheet הגדרות כלליות
O2: =CONCATENATE("לתקופה: רבעון ",D20,", שנת ", D11) -> לתקופה: רבעון 4, שנת 2018
O3: =IF($D$20=1,3,IF($D$20=2,6,IF($D$20=3,9,IF($D$20=4,12,0)))) -> 12
A4: הצג תוכן ענינים | O4: =IF(OR(Month=3,Month=12),31,30) -> 31
A5: 0 | O5: =IF($D$20=1,"מרץ",IF($D$20=2,"יוני",IF($D$20=3,"ספטמבר",IF($D$20=4,"דצמבר",0)))) -> דצמבר
B6: הגדרות כלליות
B9: שם רשות | D9: עיריית באקה אלגרבייה
B11: שנה נוכחית | D11: 2018 | F11: מספר , בן ארבע ספרות (פורמט YYYY)
B13: שנה קודמת | D13: =D11-1 -> 2017 | F13: מספר , בן ארבע ספרות (פורמט YYYY)
B15: שנתיים קודמות | D15: =D11-2 -> 2016 | F15: מספר , בן ארבע ספרות (פורמט YYYY)
B17: תחילת שנה | D17: 1.01 | F17: פורמט DD.MM
B19: סוף שנה | D19: 31.12 | F19: פורמט DD.MM
B20: מספר רבעון | D20: 4
B22: סוג רשות מקומית | D22: עיריה
B24: האם קיימת מערכת לגביית מים ברשות המקומית? | G24: כן
B26: קוד ביקורת טעינה שהתקבל ממשרד הפנים
B28: האם נתוני שנה קודמת במאזן מבוקרים? | G28: כן
B30: התקציב מאושר על ידי: | G30: משרד הפנים

Sheet בדיקות הצלבה
A1: הצג תוכן ענינים
A2: ='הגדרות כלליות'!D6 -> 0
B3: תקין | C3: הקודמת | E3: לא רלוונטי | F3: =Shana -> 2018 | G3: =ShanaKodemet -> 2017 | H3: ='הגדרות כלליות'!D12 -> 0 | I3: ריק | J3: 2 | K3: מועצה אזורית | L3: לא
A4: בדיקות הצלבה
B5: נתונים להשוואה | J5: תוצאת הבדיקה
B6: נתון א | F6: נתון ב
B7: גליון | C7: סעיף | D7: שנה | E7: סכום | F7: גליון | G7: סעיף | H7: שנה | I7: סכום | J7: תקין | K7: לא תקין | L7: תיאור | M7: הערה (*)
A8: 1 | B8: תמצית מאזן | C8: סה"כ נכסים | D8: =Shana -> 2018 | E8: ='תמצית מאזן'!D30 -> 64696 | F8: תמצית מאזן | G8: סה"כ התחייבויות | H8: =$F$3 -> 2018 | I8: ='תמצית מאזן'!D55 -> 64696 | J8: =IF($E8=$I8,$B$3,0) -> תקין | K8: =IF($E8=$I8,0,E8-I8) -> 0 | L8: =IF($E8=$I8,0,P8) -> 0 | P8: סה"כ נכסים בתקופת הדוח שונה מסה"כ התחייבויות בתקופת הדוח
A9: 2 | B9: תמצית מאזן | C9: סה"כ נכסים | D9: =ShanaKodemet -> 2017 | E9: ='תמצית מאזן'!F30 -> 65821 | F9: תמצית מאזן | G9: סה"כ התחייבויות | H9: =$G$3 -> 2017 | I9: ='תמצית מאזן'!F55 -> 65821 | J9: =IF(E9=I9,"תקין",0) -> תקין | K9: =IF($E9=$I9,0,E9-I9) -> 0 | L9: =IF($E9=$I9,0,P9) -> 0 | P9: סה"כ נכסים שנה קודמת שונה מסה"כ התחייבויות בשנה קודמת
A10: 3 | B10: תמצית מאזן | C10: גרעון לתחילת השנה | D10: =$F$3 -> 2018 | E10: ='תמצית מאזן'!D17 -> 8746 | F10: תמצית מאזן | G10: =IF('תמצית מאזן'!$F$20<>0,'תמצית מאזן'!$B$20,'תמצית מאזן'!$B$47) -> סה"כ גרעון מצטבר בתקציב הרגיל | H10: =$G$3 -> 2017 | I10: =IF(E10<>0,IF('תמצית מאזן'!F20<>0,'תמצית מאזן'!F20,'תמצית מאזן'!F47*(-1)),0) -> 8746 | J10: =IF($E10=$I10,"תקין",0) -> תקין | K10: =IF($E10=$I10,0,$E10-$I10) -> 0 | L10: =IF(E10<>0,IF($E10=$I10,0,P10),$E$3) -> 0 | P10: גרעון מצטבר בתקציב הרגיל לתחילת שנה שונה מגרעון (עודף) מצטבר בתקציב הרגיל לסוף שנה קודמת
A11: 4 | B11: תמצית מאזן | C11: עודף לתחילת השנה | D11: =$F$3 -> 2018 | E11: ='תמצית מאזן'!D45 -> 0 | F11: תמצית מאזן | G11: =IF('תמצית מאזן'!$F$47<>0,'תמצית מאזן'!$B$47,'תמצית מאזן'!$B$20) -> סה"כ גרעון מצטבר בתקציב הרגיל | H11: =$G$3 -> 2017 | I11: =IF(E11<>0,IF('תמצית מאזן'!F47<>0,'תמצית מאזן'!F47,'תמצית מאזן'!F20*(-1)),0) -> 0 | J11: =IF($E11=$I11,"תקין",0) -> תקין | K11: =IF($E11=$I11,0,$E11-$I11) -> 0 | L11: =IF(E11<>0,IF($E11=$I11,0,P11),$E$3) -> לא רלוונטי | P11: עודף מצטבר בתקציב הרגיל לתחילת שנה שונה מעודף (גרעון) מצטבר בתקציב הרגיל לסוף שנה קודמת
A12: 5 | B12: תמצית מאזן | C12: סכומים שנתקבלו להקטנת גרעונות | D12: =$F$3 -> 2018 | E12: ='תמצית מאזן'!D18 -> 0 | F12: תמצית מאזן | G12: סה"כ מקורות לכיסוי גרעון | H12: =$F$3 -> 2018 | I12: ='תמצית מאזן'!D66 -> 0 | J12: =IF(ABS($E12) =$I12,"תקין",0) -> תקין | K12: =IF(ABS($E12) = $I12,0,ABS($E12)-$I12) -> 0 | L12: =IF(ABS($E12) = $I12,0,P12) -> 0 | P12: סכום שהתקבל להקטנת הגרעון בתקופת הדוח שונה מסה"כ מקורות לכיסוי הגרעון בחשבונות המקבילים בתקופת הדוח
A13: 6 | B13: תמצית מאזן | C13: סכומים שנתקבלו להקטנת גרעונות | D13: =ShanaKodemet -> 2017 | E13: ='תמצית מאזן'!F18 -> -26 | F13: תמצית מאזן | G13: סה"כ מקורות לכיסוי גרעון | H13: =$G$3 -> 2017 | I13: ='תמצית מאזן'!F66 -> 26 | J13: =IF(ABS($E13) =$I13,"תקין",0) -> תקין | K13: =IF(ABS($E13) = $I13,0,ABS($E13)-$I13) -> 0 | L13: =IF(ABS($E13) = $I13,0,P13) -> 0 | P13: סכום שהתקבל להקטנת הגרעון בשנה קודמת שונה מסה"כ מקורות לכיסוי הגרעון בחשבונות המקבילים בשנה קודמת
A14: 7 | B14: תמצית מאזן | C14: גרעון שוטף בתקציב הרגיל | D14: =$F$3 -> 2018 | E14: ='תמצית מאזן'!D19 -> -85 | F14: תקציב רגיל | G14: ביצוע מצטבר - גרעון | H14: =$F$3 -> 2018 | I14: =IF(E14<>0,'תקציב רגיל'!G57*(-1),0) -> -85 | J14: =IF(E14<>0,IF(E14=I14,$B$3,0),$E$3) -> תקין | K14: =IF($E14=$I14,0,$E14-$I14) -> 0 | L14: =IF(E14<>0,IF($E14=$I14,0,$P$14),$E$3) -> 0 | P14: גרעון שוטף בתקופת הדוח בטופס 1 שונה מביצוע מצטבר גרעון / עודף בתקופת הדוח בטופס 2
A15: 8 | B15: תמצית מאזן | C15: עודף שוטף בתקציב הרגיל | D15: =$F$3 -> 2018 | E15: ='תמצית מאזן'!D46 -> 0 | F15: תקציב רגיל | G15: ביצוע מצטבר - עודף | H15: =$F$3 -> 2018 | I15: =IF(E15<>0,'תקציב רגיל'!G57,0) -> 0 | J15: =IF(E15<>0,IF(E15=I15,$B$3,0),$E$3) -> לא רלוונטי | K15: =IF($E15=$I15,0,$E15-$I15) -> 0 | L15: =IF(E15<>0,IF($E15=$I15,0,$P$15),$E$3) -> לא רלוונטי | P15: עודף שוטף בתקופת הדוח בטופס 1 שונה מביצוע מצטבר גרעון / עודף בתקופת הדוח בטופס 2
A16: 9 | B16: תמצית מאזן | C16: קרן לעבודות פיתוח | D16: =$F$3 -> 2018 | E16: ='תמצית מאזן'!D41 -> 4321 | F16: תמצית מאזן | G16: סה"כ קרנות | H16: =$F$3 -> 2018 | I16: ='תמצית מאזן'!D80 -> 4321 | J16: =IF($E16=$I16,"תקין",0) -> תקין | K16: =IF($E16=$I16,0,$E16-$I16) -> 0 | L16: =IF($E16=$I16,0,$P$16) -> 0 | P16: סה"כ קרנות בהרכב קרן לעבודות פיתוח שבחשבונות המקבילים בתקופת הדוח שונה מקרן לעבודות פיתוח בהתחייבויות בתקופת הדוח
A17: 10 | B17: תמצית מאזן | C17: קרן לעבודות פיתוח | D17: =ShanaKodemet -> 2017 | E17: ='תמצית מאזן'!F41 -> 3855 | F17: תמצית מאזן | G17: סה"כ קרנות | H17: =ShanaKodemet -> 2017 | I17: ='תמצית מאזן'!F80 -> 3855 | J17: =IF($E17=$I17,"תקין",0) -> תקין | K17: =IF($E17=$I17,0,$E17-$I17) -> 0 | L17: =IF($E17=$I17,0,$P$17) -> 0 | P17: סה"כ קרנות בהרכב קרן לעבודות פיתוח שבחשבונות המקבילים בשנה קודמת שונה מקרן לעבודות פיתוח בהתחייבויות בשנה קודמת
A18: 15 | B18: תמצית מאזן | C18: עומס מלוות לפרעון (משוערך) לשנים הקרובות | D18: =$F$3 -> 2018 | E18: ='תמצית מאזן'!D59 -> 7774 | J18: =IF(OR($E18=$I$3, $E18<>0),$B$3,0) -> תקין | L18: =IF(E18=0,$P$18,0) -> 0 | P18: לא הוזן נתון לעומס מלוות לפרעון (משוערך) לשנים הבאות בתקופת הדוח
A19: 16 | B19: תמצית מאזן | C19: עומס מלוות לפרעון (משוערך) לשנים הקרובות | D19: =ShanaKodemet -> 2017 | E19: ='תמצית מאזן'!F59 -> 8234.919 | J19: =IF(OR($E19=$I$3, $E19<>0),$B$3,0) -> תקין | L19: =IF(E19=0,$P$19,0) -> 0 | P19: לא הוזן נתון לעומס מלוות לפרעון (משוערך) לשנים הבאות בשנה קודמת
A20: 17 | B20: תמצית מאזן | C20: פקדונות, הכנסות מראש ואחרים | D20: =$F$3 -> 2018 | E20: ='תמצית מאזן'!D38 -> 0 | F20: גביה וחיבים | G20: גביה בשנת הדוח - גביה מראש לשנה | H20: =$F$3 -> 2018 | I20: ='גבייה וחייבים'!C24 -> 0 | J20: =IF($E20>=$I20,"תקין",0) -> תקין | K20: =IF($E20>=$I20,0,$E20-$I20) -> 0 | L20: =IF($E20>=$I20,0,$P$20) -> 0 | P20: הכנסות מראש בטופס 5 גבוהות מהכנסות מראש בטופס 1 בתקופת הדוח
A21: 18 | B21: תמצית מאזן | C21: השקעות במימון קרנות מתוקצבות | D21: =$F$3 -> 2018 | E21: ='תמצית מאזן'!D14 -> 28160 | F21: תמצית מאזן | G21: סה"כ קרנות מתוקצבות | H21: =$F$3 -> 2018 | I21: ='תמצית מאזן'!D43 -> 28160 | J21: =IF($E21=$I21,"תקין",0) -> תקין | K21: =IF($E21=$I21,0,$E21-$I21) -> 0 | L21: =IF($E21=$I21,0,$P$21) -> 0 | P21: השקעות במימון קרנות מתוקצבות בתקופת הדוח שונה מסה"כ קרנות מתוקצבות בתקופת הדוח
A22: 19 | B22: תמצית מאזן | C22: השקעות במימון קרנות מתוקצבות | D22: =ShanaKodemet -> 2017 | E22: ='תמצית מאזן'!F14 -> 28159 | F22: תמצית מאזן | G22: סה"כ קרנות מתוקצבות | H22: =ShanaKodemet -> 2017 | I22: ='תמצית מאזן'!F43 -> 28159 | J22: =IF($E22=$I22,"תקין",0) -> תקין | K22: =IF($E22=$I22,0,$E22-$I22) -> 0 | L22: =IF($E22=$I22,0,$P$22) -> 0 | P22: השקעות במימון קרנות מתוקצבות בשנה הקודמת שונה מסה"כ קרנות מתוקצבות בשנה הקודמת
A23: 20 | B23: תמצית מאזן | C23: סה"כ גרעון מצטבר בתקציב הרגיל | D23: =$F$3 -> 2018 | E23: ='תמצית מאזן'!D20 -> 8661 | F23: תמצית מאזן | G23: סה"כ עודף מצטבר בתקציב הרגיל | H23: =$F$3 -> 2018 | I23: ='תמצית מאזן'!D47 -> 0 | J23: =IF(OR(AND($E$23=0,$I$23<>0),AND($E$23<>0,$I$23=0),AND($E$23=0,$I$23=0)),$B$3,0) -> תקין | L23: =IF(AND(E23<>0,I23<>0),P23,"") | P23: נתוני עודף / גרעון בתקופת הדוח מופיעים גם בצד נכסים וגם בצד התחיבויות
A24: 21 | B24: תמצית מאזן | C24: סה"כ גרעון מצטבר בתקציב הרגיל | D24: =ShanaKodemet -> 2017 | E24: ='תמצית מאזן'!F20 -> 8746 | F24: תמצית מאזן | G24: סה"כ עודף מצטבר בתקציב הרגיל | H24: =ShanaKodemet -> 2017 | I24: ='תמצית מאזן'!F47 -> 0 | J24: =IF(OR(AND($E$24=0,$I$24<>0),AND($E$24<>0,$I$24=0),AND($E$24=0,$I$24=0)),$B$3,0) -> תקין | L24: =IF(AND(E24<>0,I24<>0),P24,"") | P24: נתוני עודף / גרעון בשנה הקודמת מופיעים גם בצד נכסים וגם בצד התחיבויות
A25: 22 | B25: תמצית מאזן | C25: הפרשה בגין תביעות תלויות | D25: =$F$3 -> 2018 | E25: ='תמצית מאזן'!D82 -> 5500 | F25: תמצית מאזן | G25: ספקים וזכאים | H25: =$F$3 -> 2018 | I25: ='תמצית מאזן'!D36 -> 25217 | J25: =IF($E25<$I25,$B$3,"") -> תקין | K25: =IF($E25<$I25,"",$E25-$I25) | L25: =IF($E25<$I25,"",$P$25) | P25: הפרשה בגין תביעות תלויות גבוהה מספקים וזכאים בתקופת הדוח
A26: 23 | B26: תמצית מאזן | C26: מענקים לכיסוי הגירעון | D26: =$F$3 -> 2018 | E26: ='תמצית מאזן'!D63 -> 0 | F26: תקציב רגיל | G26: מענק לכיסוי גרעון מצטבר | H26: =$F$3 -> 2018 | I26: ='תקציב רגיל'!G28 -> 0 | J26: =IF($E26=$I26,$B$3,"") -> תקין | K26: =IF($E26=$I26,"",$E26-$I26) | L26: =IF($E26=$I26,"",$P$26) | P26: אין התאמה בין המענק לכיסוי גירעון הרשום במאזן למענק הרשום בטופס 2
A27: 24 | B27: תמצית מאזן | C27: סה"כ גרעון מצטבר בתב"רים סופיים | D27: =ShanaKodemet -> 2017 | E27: ='תמצית מאזן'!F23 -> 1299 | F27: תמצית מאזן | G27: גרעונות סופיים בתב"רים | H27: =$F$3 -> 2018 | I27: ='תמצית מאזן'!D21 -> 1299 | J27: =IF(E27=I27,$B$3,"") -> תקין | K27: =IF(E27=I27,"",E27-I27) | L27: =IF(E27=I27,"",P27) | P27: סה"כ גרעונות סופיים בתב"רים סוף שנה קודמת שונים מגרעונות סופיים בתב"רים לשנה זו
B28: טופס 2
A29: 25 | B29: תקציב רגיל | C29: סה"כ הכנסות (תקציב) | D29: =$F$3 -> 2018 | E29: ='תקציב רגיל'!C30 -> 166855 | F29: תקציב רגיל | G29: סה"כ הוצאות (תקציב) | H29: =$F$3 -> 2018 | I29: ='תקציב רגיל'!C55 -> 166855 | J29: =IF($E29=$I29,"תקין",0) -> תקין | K29: =IF($E29=$I29,0,$E29-$I29) -> 0 | L29: =IF($E29=$I29,0,$P$29) -> 0 | P29: סה"כ הכנסות שונה מסה"כ הוצאות
A30: 26 | B30: תקציב רגיל | C30: סה"כ הוצאות | D30: =$F$3 -> 2018 | E30: ='תקציב רגיל'!C55 -> 166855 | J30: =IF($E30>0,$B$3,0) -> תקין | K30: =IF($E30<=0,E30-I30,0) -> 0 | L30: =IF($E30<=0,$P30,0) -> 0 | P30: סה"כ הוצאות צריך להיות גדול מ - 0
A31: 27 | B31: תקציב רגיל | C31: סה"כ הכנסות | D31: =$F$3 -> 2018 | E31: ='תקציב רגיל'!C30 -> 166855 | J31: =IF($E31>0,$B$3,0) -> תקין | K31: =IF($E31<=0,E31-I31,0) -> 0 | L31: =IF($E31<=0,$P31,0) -> 0 | P31: סה"כ הכנסות צריך להיות גדול מ - 0
A32: 28 | B32: תקציב רגיל | C32: הכנסות מארנונה כללית | D32: =$F$3 -> 2018 | E32: ='תקציב רגיל'!$G$11 -> 31043 | F32: גבייה וחייבים | G32: גבייה שוטפת | H32: =$F$3 -> 2018 | I32: ='גבייה וחייבים'!C25 -> 25226
F33: גבייה וחייבים | G33: גבייה בגין פיגורים | H33: =$F$3 -> 2018 | I33: ='גבייה וחייבים'!C16 -> 5817
G34: סה"כ | H34: =$F$3 -> 2018 | I34: =I32+I33 -> 31043 | J34: =IF(OR(J3=2,J3=4),IF(E32=I34,$B$3,0),0) -> תקין | K34: =IF(OR(J3=2,J3=4),IF(E32=I34,"",I34-E32),"") | L34: =IF(OR(J3=2,J3=4),IF(E32=I34,"",P34),"") | P34: ההכנסות מארנונה כללית בטופס 2 שונות מהרישום בטופס 5
A35: 29 | B35: תקציב רגיל | C35: הכנסות ממפעל המים | D35: =$F$3 -> 2018 | E35: ='תקציב רגיל'!$G$12 -> 508 | F35: גבייה וחייבים | G35: גבייה שוטפת | H35: =$F$3 -> 2018 | I35: ='גבייה וחייבים'!I25 -> 0
F36: גבייה וחייבים | G36: גבייה בגין פיגורים | H36: =$F$3 -> 2018 | I36: ='גבייה וחייבים'!I16 -> 508
G37: סה"כ | I37: =SUM(I35:I36) -> 508 | J37: =IF(OR(J3=2,J3=4),IF(E35=I37,$B$3,0),0) -> תקין | K37: =IF(OR(J3=2,J3=4),IF(E35=I37,0,I37-E35),0) -> 0 | L37: =IF(OR(J3=2,J3=4),IF(E35=I37,0,P37),0) -> 0 | P37: הכנסות מפעל המים בטופס 2 שונות מהרישום בטופס 5
A38: 30 | B38: תמצית מאזן | C38: גבייה מפיגורים לכיסוי גרעון תקציב רגיל | D38: =$F$3 -> 2018 | E38: ='תמצית מאזן'!D65 -> 0 | F38: גבייה וחייבים | G38: גבייה שוטפת | H38: =$F$3 -> 2018 | I38: ='גבייה וחייבים'!C25 -> 25226
B39: תמצית מאזן | C39: גבייה מפיגורים לכיסוי גרעון סופי בתב"ר | D39: =$F$3 -> 2018 | E39: ='תמצית מאזן'!D71 -> 0 | F39: גבייה וחייבים | G39: גבייה בגין פיגורים | H39: =$F$3 -> 2018 | I39: ='גבייה וחייבים'!C16 -> 5817
B40: תקציב רגיל | C40: הכנסות מארנונה כללית | D40: =$F$3 -> 2018 | E40: ='תקציב רגיל'!G11 -> 31043 | F40: גבייה וחייבים | G40: גבייה שוטפת | H40: =$F$3 -> 2018 | I40: ='גבייה וחייבים'!I25 -> 0
B41: תקציב רגיל | C41: הכנסות ממפעל המים | D41: =$F$3 -> 2018 | E41: ='תקציב רגיל'!G12 -> 508 | F41: גבייה וחייבים | G41: גבייה בגין פיגורים | H41: =$F$3 -> 2018 | I41: ='גבייה וחייבים'!I16 -> 508
C42: סה"כ | E42: =SUM(E38:E41) -> 31551 | F42: סה"כ | I42: =SUM(I38:I41) -> 31551 | J42: =IF(OR($J$3=2,$J$3=4),IF($E$42>=$I$42*1.1,$B$3,0),0) -> 0 | K42: =IF(OR($J$3=2,$J$3=4),IF($E$42>=$I$42*1.1,0,E42-I42),0) -> 0 | L42: =IF(OR($J$3=2,$J$3=4),IF($E$42>=$I$42,0,$P$42),0) -> 0 | P42: אין התאמה בין סך ההכנסות לפי טופס 5 להכנסות הרשומות בטפסים 1 ו - 2
A43: 31 | B43: תקציב רגיל | C43: הנחות מארנונה (הכנסות) | D43: =$F$3 -> 2018 | E43: ='תקציב רגיל'!G29 -> 16445 | F43: תקציב רגיל | G43: הנחות מארנונה (הוצאות) | H43: =$F$3 -> 2018 | I43: ='תקציב רגיל'!G54 -> 16401 | J43: =IF(E43<I43,0,$B$3) -> תקין | K43: =IF(E43<I43,E43-I43,0) -> 0 | L43: =IF(E43<I43,P43,0) -> 0 | P43: הנחות בארנונה (הכנסות) גבוהות מההנחות בארנונה (הוצאות)
A44: 32 | B44: תקציב רגיל | C44: הנחות מארנונה (הכנסות) | D44: =$F$3 -> 2018 | E44: ='תקציב רגיל'!G29 -> 16445 | F44: גבייה וחייבים | G44: הנחות, פטורים וזיכויים (פיגורים) | H44: =$F$3 -> 2018 | I44: ='גבייה וחייבים'!C13 -> -59
F45: גבייה וחייבים | G45: הנחות, פטורים וזיכויים (שוטף) | H45: =$F$3 -> 2018 | I45: ='גבייה וחייבים'!C21 -> -16386
G46: סה"כ | I46: =SUM(I44:I45) -> -16445 | J46: =IF(ABS(E44)<=ABS(I46),$B$3,"") -> תקין | K46: =IF(ABS(E44)<=ABS(I46),"",ABS(E44)-ABS(I46)) | L46: =IF(ABS(E44)<=ABS(I46),"",$P$46) | P46: ההנחות בארנונה בביצוע התקציב גבוהות מהרשום בדוח הגביה
A47: 33 | B47: שכר ומשרות | C47: סה"כ עלויות שכר כללי | D47: =$F$3 -> 2018 | E47: ='שכר ומשרות'!L43 -> 80856 | F47: תקציב רגיל | G47: הוצאות שכר כללי | H47: =$F$3 -> 2018 | I47: ='תקציב רגיל'!G32 -> 20932
G48: שכר עובדי חינוך | H48: =$F$3 -> 2018 | I48: ='תקציב רגיל'!G37 -> 53540
G49: שכר עובדי רווחה | H49: =$F$3 -> 2018 | I49: ='תקציב רגיל'!G40 -> 6112
G50: סה"כ | I50: =SUM(I47:I49) -> 80584 | J50: =IF(AND($E$47>=$I$50*0.9,$E$47<=$I$50*1.1),$B$3,0) -> תקין | K50: =IF(AND($E$47>=$I$50*0.9,$E$47<=$I$50*1.1),"",$E$47-$I$50) | L50: =IF(AND($E$47>=$I$50*0.9,$E$47<=$I$50*1.1),"",$P$50) | P50: סה"כ הוצאות שכר ביצוע מצטבר בטופס 2 שונה מסה"כ כללי עלות בפועל לתקופה בטופס 7
A51: 34 | B51: תקציב רגיל | C51: פרעון מלוות מים וביוב | D51: =$F$3 -> 2018 | E51: ='תקציב רגיל'!G45 -> 1117 | J51: =IF('תמצית מאזן'!$D$59<>'בדיקות הצלבה'!$I$3,IF('בדיקות הצלבה'!$E$51>0,'בדיקות הצלבה'!$B$3,0),'בדיקות הצלבה'!$E$3) -> תקין | K51: =IF('תמצית מאזן'!$D$59<>'בדיקות הצלבה'!$I$3,IF('בדיקות הצלבה'!$E$51>0,0,0),'בדיקות הצלבה'!$E$3) -> 0 | L51: =IF('תמצית מאזן'!$D$59<>'בדיקות הצלבה'!$I$3,IF('בדיקות הצלבה'!$E$51>0,0,P51),'בדיקות הצלבה'!$E$3) -> 0 | P51: חסרים נתוני פרעון מלוות ביוב
A52: 35 | B52: תקציב רגיל | C52: פרעון מלוות אחרות | D52: =$F$3 -> 2018 | E52: ='תקציב רגיל'!G46 -> 0 | J52: =IF('תמצית מאזן'!$D$59<>'בדיקות הצלבה'!$I$3,IF('בדיקות הצלבה'!$E$52>0,'בדיקות הצלבה'!$B$3,0),'בדיקות הצלבה'!$E$3) -> 0 | K52: =IF('תמצית מאזן'!$D$59<>'בדיקות הצלבה'!$I$3,IF('בדיקות הצלבה'!$E$52>0,0,0),'בדיקות הצלבה'!$E$3) -> 0 | L52: =IF('תמצית מאזן'!$D$59<>'בדיקות הצלבה'!$I$3,IF('בדיקות הצלבה'!$E$52>0,0,P52),'בדיקות הצלבה'!$E$3) -> חסרים נתוני פרעון מלוות רגיל | M52: אין | P52: חסרים נתוני פרעון מלוות רגיל
A53: 36 | B53: תקציב רגיל | C53: מענק לכיסוי גרעון מצטבר | D53: =$F$3 -> 2018 | E53: ='תקציב רגיל'!G28 -> 0 | F53: תקציב רגיל | G53: הוצאה לכיסוי גרעון מצטבר | H53: =$F$3 -> 2018 | I53: ='תקציב רגיל'!G53 -> 0 | J53: =IF(E53<=I53,$B$3,"") -> תקין | K53: =IF($E$53<=$I$53,"",$E$53-$I$53) | L53: =IF($E$53<=$I$53,"",$P$53) | P53: המענק לכיסוי גירעון בצד ההכנסות גדול מההוצאה לכיסוי גירעון בצד ההוצאות
A54: 37 | B54: תקציב רגיל | C54: שכר כללי - ביצוע מצטבר | D54: =$F$3 -> 2018 | E54: ='תקציב רגיל'!G32 -> 20932 | F54: שכר ומשרות | G54: סיכום סעיפי שכר כללי - ביצוע בפועל - עלויות שכר | H54: =$F$3 -> 2018 | I54: ='שכר ומשרות'!L43-'שכר ומשרות'!L36-'שכר ומשרות'!L27-'שכר ומשרות'!L24 -> 21090 | J54: =IF(E54<=I54,$B$3,"") -> תקין | K54: =IF($E$54<=$I$54,"",$E$54-$I$54) | L54: =IF($E$54<=$I$54,"",$P$54) | P54: ביצוע השכר הכללי בתקציב הרגיל שונה מהביצוע בפועל שדווח בטבלת שכר ומשרות
A55: 38 | B55: תקציב רגיל | C55: שכר עובדי חינוך | D55: =$F$3 -> 2018 | E55: ='תקציב רגיל'!G37 -> 53540 | F55: שכר ומשרות | G55: עלויות שכר - חינוך - ביצוע בפועל | H55: =$F$3 -> 2018 | I55: ='שכר ומשרות'!L24 -> 53654 | J55: =IF(E55<=I55,$B$3,"") -> תקין | K55: =IF($E$55<=$I$55,"",$E$55-$I$55) | L55: =IF($E$55<=$I$55,"",$P$55) | P55: ביצוע שכר חינוך בתקציב הרגיל שונה מהביצוע בפועל שדווח בטבלת שכר ומשרות
A56: 39 | B56: תקציב רגיל | C56: שכר עובדי רווחה | D56: =$F$3 -> 2018 | E56: ='תקציב רגיל'!G40 -> 6112 | F56: שכר ומשרות | G56: עלויות שכר - רווחה - ביצוע בפועל | H56: =$F$3 -> 2018 | I56: ='שכר ומשרות'!L27 -> 6112 | J56: =IF(E56<=I56,$B$3,"") -> תקין | K56: =IF($E$56<=$I$56,"",$E$56-$I$56) | L56: =IF($E$56<=$I$56,"",$P$56) | P56: ביצוע שכר רווחה בתקציב הרגיל שונה מהביצוע בפועל שדווח בטבלת שכר ומשרות
B58: טופס 3
A59: 40 | B59: תב"רים | C59: עודף (גרעון) תקופת הדוח | D59: =$F$3 -> 2018 | E59: =תברים!D$41 -> -1164 | J59: =IF($E$59<>0,$B$3,"") -> תקין | K59: =IF($E$59=0,"","") | L59: =IF($E$59=0,P59,"") | P59: חסרים נתוני עודף (גרעון) בתב"ר בתקופת הדוח
A60: 41 | B60: תב"רים | C60: עודף (גרעון) תקופת הדוח | D60: =$G$3 -> 2017 | E60: =תברים!F$41 -> -2946 | J60: =IF($E$60<>0,$B$3,"") -> תקין | K60: =IF($E$60=0,"","") | L60: =IF($E$60=0,P60,"") | P60: חסרים נתוני עודף (גרעון) בתב"ר בשנה קודמת
A61: 42 | B61: תב"רים | C61: יתרות זמניות נטו לתחילת השנה | D61: =$F$3 -> 2018 | E61: =תברים!D46 -> -5670 | F61: תב"רים | G61: יתרות זמניות נטו לסוף השנה | H61: =$G$3 -> 2017 | I61: =תברים!F51 -> -5670 | J61: =IF(E61=I61,$B$3,"") -> תקין | K61: =IF($E$61=$I$61,"",$E$61-$I$61) | L61: =IF($E$61=$I$61,"",P61) | P61: היתרות הזמניות נטו לתחילת השנה שונות מהעודף/גרעון נטו מסוף שנה קודמת.
A62: 43 | B62: תב"רים | C62: עודף (גרעון) נטו | D62: =$F$3 -> 2018 | E62: =תברים!D51 -> -6834 | F62: תב"רים | G62: עודף (גרעון) נטו | H62: =$F$3 -> 2018 | I62: =תברים!D55 -> -6834 | J62: =IF(E62=I62,$B$3,"") -> תקין | K62: =IF($E$62=$I$62,"",$E$62-$I$62) | L62: =IF($E$62=$I$62,"",P62) | P62: עודף (גרעון) נטו בתקופת הדוח שונה מסה"כ הרכב היתרה בתקופת הדוח
A63: 44 | B63: תב"רים | C63: עודף (גרעון) נטו | D63: =$G$3 -> 2017 | E63: =תברים!F51 -> -5670 | F63: תב"רים | G63: עודף (גרעון) נטו | H63: =$G$3 -> 2017 | I63: =תברים!F55 -> -5670 | J63: =IF(E63=I63,$B$3,"") -> תקין | K63: =IF(E63=I63,"",E63-I63) | L63: =IF(E63=I63,"",$P$63) | P63: עודף (גרעון) נטו שנה קודמת שונה מסה"כ הרכב היתרה בשנה הקודמת
A64: 45 | B64: תב"רים | C64: עודף (גרעון) נטו | D64: =$F$3 -> 2018 | E64: =תברים!D55 -> -6834 | F64: תב"רים | G64: עודף (גרעון) נטו מצטבר | H64: =$F$3 -> 2018 | I64: ='ריכוז תברים'!X37 -> -6834 | J64: =IF(E64=I64,$B$3,"") -> תקין | K64: =IF(E64=I64,"",E64-I64) | L64: =IF(E64=I64,"",$P$64) | P64: עודף (גרעון) נטו בתקופת הדוח שונה מעודף (גרעון) נטו מצטבר של סה"כ התב"רים בטופס 4.
A65: 46 | B65: תב"רים | C65: תקבולים לתחילת השנה | D65: =$F$3 -> 2018 | E65: =תברים!D44 -> 62518 | F65: תב"רים | G65: תקבולים לסוף השנה | H65: =$G$3 -> 2017 | I65: =תברים!F49 -> 62518 | J65: =IF(E65=I65,$B$3,"") -> תקין | K65: =IF(E65=I65,"",E65-I65) | L65: =IF($E$65=$I$65,"",P65) | P65: תקבולים לתחילת שנה שונים מתקבולים לסוף שנה קודמת
A66: 47 | B66: תב"רים | C66: תשלומים לתחילת השנה | D66: =$F$3 -> 2018 | E66: =תברים!D45 -> 68188 | F66: תב"רים | G66: תשלומים לסוף השנה | H66: =$G$3 -> 2017 | I66: =תברים!F50 -> 68188 | J66: =IF(E66=I66,$B$3,"") -> תקין | K66: =IF(E66=I66,"",E66-I66) | L66: =IF($E$66=$I$66,"",P66) | P66: תשלומים לתחילת שנה שונים מתשלומים לסוף שנה קודמת
A67: 48 | B67: תב"רים | C67: תקבולים לסוף השנה | D67: =$F$3 -> 2018 | E67: =תברים!D49 -> 64647 | F67: תב"רים | G67: סה"כ תקבולים | H67: =$F$3 -> 2018 | I67: =תברים!D30 -> 14161
F68: תב"רים | G68: תקבולים לתחילת השנה | H68: =$F$3 -> 2018 | I68: =תברים!D44 -> 62518
F69: תב"רים | G69: ניכוי השקעות בפרוייקטים שנסגרו (תקבולים) | H69: =$F$3 -> 2018 | I69: =תברים!D57 -> 12032
G70: סה"כ | I70: =I67+I68-I69 -> 64647 | J70: =IF(E67=I70,$B$3,"") -> תקין | K70: =IF(E67=I70,"",E67-I70) | L70: =IF($E$67=$I$70,"",P70) | P70: סך התקבולים לתקופת הדוח שונים מהנתונים המצטברים
A71: 49 | B71: תב"רים | C71: תשלומים לסוף השנה | D71: =$F$3 -> 2018 | E71: =תברים!D50 -> 71481 | F71: תב"רים | G71: סה"כ תשלומים | H71: =$F$3 -> 2018 | I71: =תברים!D39 -> 15325
F72: תב"רים | G72: תשלומים לתחילת השנה | H72: =$F$3 -> 2018 | I72: =תברים!D45 -> 68188
F73: תב"רים | G73: ניכוי השקעות בפרוייקטים שנסגרו (תשלומים) | H73: =$F$3 -> 2018 | I73: =תברים!D58 -> 12032
G74: סה"כ | I74: =I71+I72-I73 -> 71481 | J74: =IF(E71=I74,$B$3,"") -> תקין | K74: =IF(E71=I74,"",E71-I74) | L74: =IF($E$71=$I$74,"",P74) | P74: סך התשלומים לתקופת הדוח שונים מהנתונים המצטברים
A75: 50 | B75: תב"רים | C75: תקבולים לסוף השנה | D75: =$G$3 -> 2017 | E75: =תברים!F49 -> 62518 | F75: תב"רים | G75: סה"כ תקבולים | H75: =$G$3 -> 2017 | I75: =תברים!F30 -> 11845
F76: תב"רים | G76: תקבולים לתחילת השנה | H76: =$G$3 -> 2017 | I76: =תברים!F44 -> 57793
F77: תב"רים | G77: ניכוי השקעות בפרוייקטים שנסגרו (תקבולים) | H77: =$G$3 -> 2017 | I77: =תברים!F57 -> 7120
G78: סה"כ | I78: =I75+I76-I77 -> 62518 | J78: =IF(E75=I78,$B$3,"") -> תקין | K78: =IF(E75=I78,"",E75-I78) | L78: =IF($E$75=$I$78,"",P78) | P78: סך התקבולים לשנה הקודמת שונים מהנתונים המצטברים
A79: 51 | B79: תב"רים | C79: תשלומים לסוף השנה | D79: =$G$3 -> 2017 | E79: =תברים!F50 -> 68188 | F79: תב"רים | G79: סה"כ תשלומים | H79: =$G$3 -> 2017 | I79: =תברים!F39 -> 14791
F80: תב"רים | G80: תשלומים לתחילת השנה | H80: =$G$3 -> 2017 | I80: =תברים!F45 -> 60517
F81: תב"רים | G81: ניכוי השקעות בפרוייקטים שנסגרו (תשלומים) | H81: =$G$3 -> 2017 | I81: =תברים!F58 -> 7120
G82: סה"כ | I82: =I79+I80-I81 -> 68188 | J82: =IF(E79=I82,$B$3,"") -> תקין | K82: =IF(E79=I82,"",E79-I82) | L82: =IF($E$79=$I$82,"",P82) | P82: סך התשלומים לשנה הקודמת שונים מהנתונים המצטברים
B84: טופס 4
A85: 52 | B85: ריכוז תב"רים | C85: סה"כ ביצוע שנה קודמת הכנסות | D85: =$G$3 -> 2017 | E85: ='ריכוז תברים'!H37 -> 62518 | F85: תב"רים | G85: תקבולים לסוף השנה | H85: =$G$3 -> 2017 | I85: =תברים!F49 -> 62518 | J85: =IF(E85=I85,$B$3,"") -> תקין | K85: =IF(E85=I85,"",E85-I85) | L85: =IF($E$85=$I$85,"",P85) | P85: סה"כ ביצוע שנה קודמת בטופס 4 אינו תואם לתקבולים לסוף השנה בשנה הקודמת בטופס 3
A86: 53 | B86: ריכוז תב"רים | C86: סה"כ ביצוע שנה קודמת הוצאות | D86: =$G$3 -> 2017 | E86: ='ריכוז תברים'!J37 -> 68188 | F86: תב"רים | G86: תשלומים לסוף השנה | H86: =$G$3 -> 2017 | I86: =תברים!F50 -> 68188 | J86: =IF(E86=I86,$B$3,"") -> תקין | K86: =IF(E86=I86,"",E86-I86) | L86: =IF($E86=$I86,"",P86) | P86: סה"כ ביצוע הוצאות שנה קודמת בטופס 4 אינו תואם לתשלומים לסוף השנה בשנה הקודמת בטופס 3
A87: 54 | B87: ריכוז תב"רים | C87: ביצוע שנה נוכחית הכנסות | D87: =$F$3 -> 2018 | E87: ='ריכוז תברים'!L37 -> 14161 | F87: תב"רים | G87: סה"כ תקבולים | H87: =$F$3 -> 2018 | I87: =תברים!D30 -> 14161 | J87: =IF(E87=I87,$B$3,"") -> תקין | K87: =IF(E87=I87,"",E87-I87) | L87: =IF($E87=$I87,"",P87) | P87: סה"כ ביצוע שנה נוכחית בטופס 4 אינו תואם לתקבולים לסוף השנה בשנה הנוכחית בטופס 3
A88: 55 | B88: ריכוז תב"רים | C88: ביצוע שנה נוכחית הוצאות | D88: =$F$3 -> 2018 | E88: ='ריכוז תברים'!N37 -> 15325 | F88: תב"רים | G88: סה"כ תשלומים | H88: =$F$3 -> 2018 | I88: =תברים!D39 -> 15325 | J88: =IF(E88=I88,$B$3,"") -> תקין | K88: =IF(E88=I88,"",E88-I88) | L88: =IF($E88=$I88,"",P88) | P88: סה"כ ביצוע הוצאות שנה נוכחית בטופס 4 אינו תואם לתשלומים לסוף השנה בשנה הנוכחית בטופס 3
A89: 56 | B89: ריכוז תב"רים | C89: ביצוע מצטבר הכנסות | D89: =$F$3 -> 2018 | E89: ='ריכוז תברים'!P37 -> 76679 | F89: תב"רים | G89: תקבולים לסוף השנה | H89: =$F$3 -> 2018 | I89: =תברים!D49 -> 64647
F90: תב"רים | G90: תקבולים (בנכוי פרויקטים שנסגרו) | H90: =$F$3 -> 2018 | I90: =תברים!D57 -> 12032
G91: סה"כ | I91: =SUM(I89:I90) -> 76679 | J91: =IF(E89=I91,$B$3,"") -> תקין | K91: =IF(E89=I91,"",E89-I91) | L91: =IF(E89=I91,"",$P$91) | P91: סה"כ ביצוע מצטבר הכנסות בטופס 4 אינו תואם לתקבולים לסוף השנה+תקבולים בגין פרוייקטים שנסגרו בטופס 3
A92: 57 | B92: ריכוז תב"רים | C92: ביצוע מצטבר הוצאות | D92: =$F$3 -> 2018 | E92: ='ריכוז תברים'!R37 -> 83513 | F92: תב"רים | G92: תשלומים לסוף השנה | H92: =$F$3 -> 2018 | I92: =תברים!D50 -> 71481
G93: תשלומים - בניכוי פרוייקטים שנסגרו | H93: =$F$3 -> 2018 | I93: =תברים!D58 -> 12032
G94: סה"כ | I94: =SUM(I92:I93) -> 83513 | J94: =IF(E92=I94,$B$3,"") -> תקין | K94: =IF(E92=I94,"",E92-I94) | L94: =IF(E92=I94,"",$P$94) | P94: סה"כ ביצוע מצטבר הוצאות בטופס 4 אינו תואם לתשלומים לסוף השנה+תשלומים בגין פרוייקטים שנסגרו בטופס 3
A95: 58 | B95: ריכוז תב"רים | C95: סה"כ ביצוע מצטבר עודף (גרעון) נטו | D95: =$F$3 -> 2018 | E95: ='ריכוז תברים'!X37 -> -6834 | F95: תב"רים | G95: עודף (גרעון) נטו | H95: =$F$3 -> 2018 | I95: =תברים!D55 -> -6834 | J95: =IF(E95=I95,$B$3,"") -> תקין | K95: =IF(E95=I95,"",E95-I95) | L95: =IF($E95=$I95,"",P95) | P95: סה"כ ביצוע מצטבר עודף (גרעון) נטו בטופס 4 אינו תואם לעודף (גרעון) נטו בטופס 3
A96: 59 | B96: ריכוז תב"רים | C96: סה"כ תב"רים (61) | D96: =$F$3 -> 2018 | E96: ='ריכוז תברים'!D8 -> 2 | J96: =IF(OR('ריכוז תברים'!$D8<>0,AND('ריכוז תברים'!$F8=0,'ריכוז תברים'!$H8=0,'ריכוז תברים'!$J8=0,'ריכוז תברים'!$L8=0,'ריכוז תברים'!$N8=0,'ריכוז תברים'!$T8=0)),$B$3,"") -> תקין | L96: =IF(OR('ריכוז תברים'!$D8<>0,AND('ריכוז תברים'!$F8=0,'ריכוז תברים'!$H8=0,'ריכוז תברים'!$J8=0,'ריכוז תברים'!$L8=0,'ריכוז תברים'!$N8=0,'ריכוז תברים'!$T8=0)),"",P96) | P96: חסרים נתוני מספר תב"רים
A97: 60 | B97: ריכוז תב"רים | C97: סה"כ תב"רים (62) | D97: =$F$3 -> 2018 | E97: ='ריכוז תברים'!D9 -> 0 | J97: =IF(OR('ריכוז תברים'!$D9<>0,AND('ריכוז תברים'!$F9=0,'ריכוז תברים'!$H9=0,'ריכוז תברים'!$J9=0,'ריכוז תברים'!$L9=0,'ריכוז תברים'!$N9=0,'ריכוז תברים'!$T9=0)),$B$3,"") -> תקין | L97: =IF(OR('ריכוז תברים'!$D9<>0,AND('ריכוז תברים'!$F9=0,'ריכוז תברים'!$H9=0,'ריכוז תברים'!$J9=0,'ריכוז תברים'!$L9=0,'ריכוז תברים'!$N9=0,'ריכוז תברים'!$T9=0)),"",P97) | P97: חסרים נתוני מספר תב"רים
A98: 61 | B98: ריכוז תב"רים | C98: סה"כ תב"רים (63) | D98: =$F$3 -> 2018 | E98: ='ריכוז תברים'!D10 -> 0 | J98: =IF(OR('ריכוז תברים'!$D10<>0,AND('ריכוז תברים'!$F10=0,'ריכוז תברים'!$H10=0,'ריכוז תברים'!$J10=0,'ריכוז תברים'!$L10=0,'ריכוז תברים'!$N10=0,'ריכוז תברים'!$T10=0)),$B$3,"") -> תקין | L98: =IF(OR('ריכוז תברים'!$D10<>0,AND('ריכוז תברים'!$F10=0,'ריכוז תברים'!$H10=0,'ריכוז תברים'!$J10=0,'ריכוז תברים'!$L10=0,'ריכוז תברים'!$N10=0,'ריכוז תברים'!$T10=0)),"",P98) | P98: חסרים נתוני מספר תב"רים
A99: 62 | B99: ריכוז תב"רים | C99: סה"כ תב"רים (64) | D99: =$F$3 -> 2018 | E99: ='ריכוז תברים'!D11 -> 0 | J99: =IF(OR('ריכוז תברים'!$D11<>0,AND('ריכוז תברים'!$F11=0,'ריכוז תברים'!$H11=0,'ריכוז תברים'!$J11=0,'ריכוז תברים'!$L11=0,'ריכוז תברים'!$N11=0,'ריכוז תברים'!$T11=0)),$B$3,"") -> תקין | L99: =IF(OR('ריכוז תברים'!$D11<>0,AND('ריכוז תברים'!$F11=0,'ריכוז תברים'!$H11=0,'ריכוז תברים'!$J11=0,'ריכוז תברים'!$L11=0,'ריכוז תברים'!$N11=0,'ריכוז תברים'!$T11=0)),"",P99) | P99: חסרים נתוני מספר תב"רים
A100: 63 | B100: ריכוז תב"רים | C100: סה"כ תב"רים (71) | D100: =$F$3 -> 2018 | E100: ='ריכוז תברים'!D12 -> 1 | J100: =IF(OR('ריכוז תברים'!$D12<>0,AND('ריכוז תברים'!$F12=0,'ריכוז תברים'!$H12=0,'ריכוז תברים'!$J12=0,'ריכוז תברים'!$L12=0,'ריכוז תברים'!$N12=0,'ריכוז תברים'!$T12=0)),$B$3,"") -> תקין | L100: =IF(OR('ריכוז תברים'!$D12<>0,AND('ריכוז תברים'!$F12=0,'ריכוז תברים'!$H12=0,'ריכוז תברים'!$J12=0,'ריכוז תברים'!$L12=0,'ריכוז תברים'!$N12=0,'ריכוז תברים'!$T12=0)),"",P100) | P100: חסרים נתוני מספר תב"רים
A101: 64 | B101: ריכוז תב"רים | C101: סה"כ תב"רים (72) | D101: =$F$3 -> 2018 | E101: ='ריכוז תברים'!D13 -> 2 | J101: =IF(OR('ריכוז תברים'!$D13<>0,AND('ריכוז תברים'!$F13=0,'ריכוז תברים'!$H13=0,'ריכוז תברים'!$J13=0,'ריכוז תברים'!$L13=0,'ריכוז תברים'!$N13=0,'ריכוז תברים'!$T13=0)),$B$3,"") -> תקין | L101: =IF(OR('ריכוז תברים'!$D13<>0,AND('ריכוז תברים'!$F13=0,'ריכוז תברים'!$H13=0,'ריכוז תברים'!$J13=0,'ריכוז תברים'!$L13=0,'ריכוז תברים'!$N13=0,'ריכוז תברים'!$T13=0)),"",P101) | P101: חסרים נתוני מספר תב"רים
A102: 65 | B102: ריכוז תב"רים | C102: סה"כ תב"רים (73) | D102: =$F$3 -> 2018 | E102: ='ריכוז תברים'!D14 -> 7 | J102: =IF(OR('ריכוז תברים'!$D14<>0,AND('ריכוז תברים'!$F14=0,'ריכוז תברים'!$H14=0,'ריכוז תברים'!$J14=0,'ריכוז תברים'!$L14=0,'ריכוז תברים'!$N14=0,'ריכוז תברים'!$T14=0)),$B$3,"") -> תקין | L102: =IF(OR('ריכוז תברים'!$D14<>0,AND('ריכוז תברים'!$F14=0,'ריכוז תברים'!$H14=0,'ריכוז תברים'!$J14=0,'ריכוז תברים'!$L14=0,'ריכוז תברים'!$N14=0,'ריכוז תברים'!$T14=0)),"",P102) | P102: חסרים נתוני מספר תב"רים
...

Sheet תמצית מאזן
C1: =GufMevukar -> עיריית באקה אלגרבייה
C2: תמצית המאזן באלפי ₪
C3: =CONCATENATE("ליום ",Date, " ב", MonthTitle, " ", Shana) -> ליום 31 בדצמבר 2018 | L3: ='הגדרות כלליות'!G28 -> כן
A4: הצג תוכן ענינים | D4: =Shana -> 2018 | F4: =ShanaKodemet -> 2017
B5: בקרת איזון (אקטיב מינוס פאסיב) | D5: =D30-D55 -> 0 | F5: =F30-F55 -> 0
B7: נכסים והתחייבויות | D7: =CONCATENATE(Date,".",Month,".",RIGHT(Shana,2)) -> 31.12.18 | F7: =CONCATENATE("31.12.",RIGHT(ShanaKodemet,2)) -> 31.12.17 | G7: *
B8: נכסים
B9: נכסים נזילים: קופה ובנקים | D9: =8989-955 -> 8034 | F9: 12183
B10: הכנסות מתוקצבות שטרם התקבלו | D10: 6202 | F10: 3344
B11: חייבים - תשלומים לא מתוקצבים | D11: 1497 | F11: 2578
B12: סה"כ רכוש שוטף | D12: =SUM(D9:D11) -> 15733 | F12: =SUM(F9:F11) -> 18105
B13: השקעות מיועדות לכסוי קרן לעבודות פיתוח | D13: =3054+955 -> 4009 | F13: =959+2883 -> 3842
B14: השקעות במימון קרנות מתוקצבות | D14: 28160 | F14: 28159
B15: סה"כ השקעות | D15: =SUM(D13:D14) -> 32169 | F15: =SUM(F13:F14) -> 32001
B16: גרעונות בתקציב הרגיל והבלתי רגיל
B17: גרעון לראשית השנה | D17: =8772-26 -> 8746 | F17: 9301
B18: סכום שהתקבל להקטנת הגרעון (במינוס) (1) | F18: -26
B19: גרעון (עודף) שוטף בתקופת הדוח | D19: -85 | F19: -529
B20: סה"כ גרעון מצטבר בתקציב הרגיל | D20: =SUM(D17:D19) -> 8661 | F20: =SUM(F17:F19) -> 8746
B21: גרעונות סופיים בתב"רים | D21: 1299 | F21: 1299
B22: סכום שהתקבל להקטנת הגרעון הסופי בתבר"ים (במינוס) (2)
A23: חדש | B23: סה"כ גרעון מצטבר בתב"רים סופיים | D23: =D21+D22 -> 1299 | F23: =F21+F22 -> 1299
B25: =IF(OR(D28<>0,F28<>0),"גרעונות בתקציב הבלתי רגיל","") -> גרעונות בתקציב הבלתי רגיל
B26: =IF(OR(D28<>0,F28<>0),"גרעונות מימון זמניים","") -> גרעונות מימון זמניים | D26: =IF(תברים!D55<0,תברים!D54,"") -> 10691 | F26: =IF(תברים!F55<0,תברים!F54,"") -> 9702
B27: =IF(OR(D28<>0,F28<>0),"עודפי מימון זמניים","") -> עודפי מימון זמניים | D27: =IF(תברים!D55<0,-1*(תברים!D53),"") -> -3857 | F27: =IF(תברים!F55<0,-1*(תברים!F53),"") -> -4032
B28: =IF(OR(D28<>0,F28<>0),"גרעון נטו","") -> גרעון נטו | D28: =SUM(D26:D27) -> 6834 | F28: =SUM(F26:F27) -> 5670
B30: סה"כ נכסים | D30: =D12+D15+D20+D23+D28 -> 64696 | F30: =F12+F15+F20+F23+F28 -> 65821
B31: התחייבויות ועודפים
B32: הוצאות מתוקצבות שטרם שולמו
B33: בנקים: משיכות יתר והלוואות | D33: 198 | F33: 8
B34: משרדי ממשלה | D34: 39
B35: מוסדות שכר - הוצאות מתוקצבות שטרם שולמו | D35: 6761 | F35: 6432
B36: ספקים וזכאים (*) - הוצאות מתוקצבות שטרם שולמו | D36: 25217 | F36: =33799-6432 -> 27367
B37: תקבולים לא מתוקצבים:
B38: פקדונות, הכנסות מראש ואחרים
B39: סה"כ התחיבויות שוטפות | D39: =SUM(D33:D38) -> 32215 | F39: =SUM(F33:F38) -> 33807
B40: קרן עבודות פיתוח ועודפים בתקציב הרגיל
B41: קרנות בלתי מתוקצבות (3) | D41: 4321 | F41: =959+2896 -> 3855
B43: קרנות מתוקצבות | D43: 28160 | F43: 28159
B44: עודפים בתקציב הרגיל
B45: עודף לראשית השנה
B46: עודף (גרעון) בתקופת הדוח
B47: סה"כ עודף מצטבר בתקציב הרגיל | D47: =D45+D46 -> 0 | F47: =F45+F46 -> 0
B49: העברת עודפי שנים קודמות לתקציב הרגיל (במינוס)
B51: =IF(OR(תברים!D55>=0,תברים!F55),"עודפים בתקציב הבלתי רגיל","") -> עודפים בתקציב הבלתי רגיל
B52: =IF(OR(תברים!D55>=0,תברים!F55),"עודפי מימון זמניים","") -> עודפי מימון זמניים | D52: =IF(תברים!D55>=0,(תברים!D53),0) -> 0 | F52: =IF(תברים!F55>=0,(תברים!F53),0) -> 0
B53: =IF(OR(תברים!D55>=0,תברים!F55),"גרעונות מימון זמניים","") -> גרעונות מימון זמניים | D53: =IF(תברים!D55>=0,-1*(תברים!D54),0) -> 0 | F53: =IF(תברים!F55>=0,-1*(תברים!F54),0) -> 0
B55: סה"כ התחייבויות ועודפים | D55: =D39+D41+D43+D47+D49+D52+D53 -> 64696 | F55: =F39+F41+F43+F47+F49+F52+F53 -> 65821
B57: חשבונות מקבילים
B58: חייבים בגין אגרות והיטלים | D58: 263812 | F58: 240807
B59: עומס מלוות לפרעון (משוערך) לשנים הבאות | D59: 7774 | F59: 8234.919
B60: ערבויות שנתנו
B61: פירוט מקורות מימון לכסוי הגרעון בתקציב הרגיל (1)
B62: הלוואות לכסוי הגרעון
B63: מענקים לכסוי הגרעון | F63: 26
B64: קרנות / הפחתת חובות ספקים בהסדר
B65: גבייה מפיגורים לכסוי הגרעון
B66: סה"כ מקורות לכסוי הגרעון | D66: =SUM(D62:D65) -> 0 | F66: =SUM(F62:F65) -> 26
B67: פירוט מקורות מימון לכסוי הגרעון הסופי בתב"רים (2)
B68: הלוואות לכסוי הגרעון
B69: מענקים לכסוי הגרעון
B70: קרנות /אחר לכיסוי הגרעון
B71: גבייה מפיגורים לכסוי הגרעון
B72: סה"כ מקורות לכסוי הגרעון | D72: =SUM(D68:D71) -> 0 | F72: =SUM(F68:F71) -> 0
B73: הרכב קרנות בלתי מתוקצבות (3)
B74: קרן עודפים בתקציב הרגיל | F74: 174
B75: קרן היטל השבחה | D75: 685 | F75: 405
B76: קרן ממכירת נכסים
B77: קרן היטל מים | D77: =9+260 -> 269 | F77: =126+254 -> 380
B78: קרן היטל ביוב
B79: קרנות אחרות | D79: =300+3067 -> 3367 | F79: 2896
B80: סה"כ קרנות | D80: =SUM(D74:D79) -> 4321 | F80: =SUM(F74:F79) -> 3855
B82: (*) מתוך זה הפרשה בגין תביעות תלויות | D82: 5500 | F82: 5799
B313: =C1 -> עיריית באקה אלגרבייה | C313: =D1 -> 0 | D313: =E1 -> 0 | E313: =F1 -> 0 | F313: =G1 -> 0 | G313: =H1 -> 0
B314: =C2 -> תמצית המאזן באלפי ₪ | C314: =D2 -> 0 | D314: =E2 -> 0 | E314: =F2 -> 0 | F314: =G2 -> 0 | G314: =H2 -> 0
B315: =C3 -> ליום 31 בדצמבר 2018 | C315: =D3 -> 0 | D315: =E3 -> 0 | E315: =F3 -> 0 | F315: =G3 -> 0 | G315: =H3 -> 0
C319: =C7 -> 0 | D319: =D7 -> 31.12.18 | E319: =E7 -> 0 | F319: =F7 -> 31.12.17 | G319: =G7 -> *
B320: =B8 -> נכסים | D320: =D8 -> 0 | E320: =E8 -> 0 | F320: =F8 -> 0 | G320: =G8 -> 0
B321: =B9 -> נכסים נזילים: קופה ובנקים | D321: =D9 -> 8034 | E321: =E9 -> 0 | F321: =F9 -> 12183 | G321: =G9 -> 0
B322: =B10 -> הכנסות מתוקצבות שטרם התקבלו | D322: =D10 -> 6202 | E322: =E10 -> 0 | F322: =F10 -> 3344 | G322: =G10 -> 0
B323: =B11 -> חייבים - תשלומים לא מתוקצבים | D323: =D11 -> 1497 | E323: =E11 -> 0 | F323: =F11 -> 2578 | G323: =G11 -> 0
B324: =B12 -> סה"כ רכוש שוטף | D324: =D12 -> 15733 | E324: =E12 -> 0 | F324: =F12 -> 18105 | G324: =G12 -> 0
B325: =B13 -> השקעות מיועדות לכסוי קרן לעבודות פיתוח | D325: =D13 -> 4009 | E325: =E13 -> 0 | F325: =F13 -> 3842 | G325: =G13 -> 0
B326: =B14 -> השקעות במימון קרנות מתוקצבות | D326: =D14 -> 28160 | E326: =E14 -> 0 | F326: =F14 -> 28159 | G326: =G14 -> 0
B327: =B15 -> סה"כ השקעות | D327: =D15 -> 32169 | E327: =E15 -> 0 | F327: =F15 -> 32001 | G327: =G15 -> 0
B328: =B16 -> גרעונות בתקציב הרגיל והבלתי רגיל | D328: =D16 -> 0 | E328: =E16 -> 0 | F328: =F16 -> 0 | G328: =G16 -> 0
B329: =B17 -> גרעון לראשית השנה | D329: =D17 -> 8746 | E329: =E17 -> 0 | F329: =F17 -> 9301 | G329: =G17 -> 0
B330: =B18 -> סכום שהתקבל להקטנת הגרעון (במינוס) (1) | D330: =D18 -> 0 | E330: =E18 -> 0 | F330: =F18 -> -26 | G330: =G18 -> 0
B331: =B19 -> גרעון (עודף) שוטף בתקופת הדוח | D331: =D19 -> -85 | E331: =E19 -> 0 | F331: =F19 -> -529 | G331: =G19 -> 0
... B336: =B24 -> 0 | D336: =D24 -> 0 | E336: =E24 -> 0 | F336: =F24 -> 0 | G336: =G24 -> 0
B337: =B25 -> גרעונות בתקציב הבלתי רגיל | D337: =D25 -> 0 | E337: =E25 -> 0 | F337: =F25 -> 0
B338: =B26 -> גרעונות מימון זמניים | D338: =D26 -> 10691 | E338: =E26 -> 0 | F338: =F26 -> 9702
B339: =B27 -> עודפי מימון זמניים | D339: =D27 -> -3857 | E339: =E27 -> 0 | F339: =F27 -> -4032
B340: =B28 -> גרעון נטו | D340: =D28 -> 6834 | E340: =E28 -> 0 | F340: =F28 -> 5670
B341: =B29 -> 0 | D341: =D29 -> 0 | E341: =E29 -> 0 | F341: =F29 -> 0
B342: =B30 -> סה"כ נכסים | D342: =D30 -> 64696 | E342: =E30 -> 0 | F342: =F30 -> 65821 | G342: =G30 -> 0
B344: =B31 -> התחייבויות ועודפים | D344: =D31 -> 0 | E344: =E31 -> 0 | F344: =F31 -> 0 | G344: =G31 -> 0
B345: =B32 -> הוצאות מתוקצבות שטרם שולמו | D345: =D32 -> 0 | E345: =E32 -> 0 | F345: =F32 -> 0 | G345: =G32 -> 0
B346: =B33 -> בנקים: משיכות יתר והלוואות | D346: =D33 -> 198 | E346: =E33 -> 0 | F346: =F33 -> 8 | G346: =G33 -> 0
B347: =B34 -> משרדי ממשלה | D347: =D34 -> 39 | E347: =E34 -> 0 | F347: =F34 -> 0 | G347: =G34 -> 0
...

Sheet תקציב רגיל
C1: =GufMevukar -> עיריית באקה אלגרבייה
C2: תמצית נתוני התקציב הרגיל באלפי ₪
C3: =ReportPeriod -> לתקופה: רבעון 4, שנת 2018
G4: ='הגדרות כלליות'!D20 -> 4
A5: הצג תוכן ענינים | O5: =Ishur -> משרד הפנים
C7: * תקציב שנתי מאושר | E7: תקציב יחסי לתקופה | G7: ביצוע מצטבר | I7: סטיה מהתקציב | K7: סטיה מהתקציב ב%
B9: הכנסות
B11: ארנונה כללית | C11: 31685 | E11: =C11*MIN($G$4,4)/4 -> 31685 | G11: 31043 | I11: =G11-E11 -> -642 | K11: =IF(E11=0,0,I11/E11) -> -0.020261954
B12: הכנסות ממכירת מים | C12: 670 | E12: =C12*MIN($G$4,4)/4 -> 670 | G12: 508 | I12: =G12-E12 -> -162 | K12: =IF(E12=0,0,I12/E12) -> -0.24179104
B13: עצמיות חינוך | C13: 408 | E13: =C13*MIN($G$4,4)/4 -> 408 | G13: 193 | I13: =G13-E13 -> -215 | K13: =IF(E13=0,0,I13/E13) -> -0.52696078
B14: עצמיות רווחה | C14: 209 | E14: =C14*MIN($G$4,4)/4 -> 209 | G14: 148 | I14: =G14-E14 -> -61 | K14: =IF(E14=0,0,I14/E14) -> -0.29186603
B15: עצמיות אחר | C15: 3889 | E15: =C15*MIN($G$4,4)/4 -> 3889 | G15: 3197 | I15: =G15-E15 -> -692 | K15: =IF(E15=0,0,I15/E15) -> -0.17793777
B16: סה"כ עצמיות | C16: =SUM(C11:C15) -> 36861 | E16: =SUM(E11:E15) -> 36861 | G16: =SUM(G11:G15) -> 35089 | I16: =G16-E16 -> -1772 | K16: =IF(E16=0,0,I16/E16) -> -0.048072489
B18: תקבולים ממשרד החינוך | C18: 69073 | E18: =C18*MIN($G$4,4)/4 -> 69073 | G18: 68685 | I18: =G18-E18 -> -388 | K18: =IF(E18=0,0,I18/E18) -> -0.0056172455
B19: תקבולים ממשרד הרווחה | C19: 15549 | E19: =C19*MIN($G$4,4)/4 -> 15549 | G19: 14293 | I19: =G19-E19 -> -1256 | K19: =IF(E19=0,0,I19/E19) -> -0.080776899
B20: תקבולים ממשלתיים אחרים | C20: 3275 | E20: =C20*MIN($G$4,4)/4 -> 3275 | G20: 2039 | I20: =G20-E20 -> -1236 | K20: =IF(E20=0,0,I20/E20) -> -0.37740458
B21: מענק כללי לאיזון | C21: 22572 | E21: =C21*MIN($G$4,4)/4 -> 22572 | G21: 22572 | I21: =G21-E21 -> 0 | K21: =IF(E21=0,0,I21/E21) -> 0
B22: מענקים מיועדים | C22: 3010 | E22: =C22*MIN($G$4,4)/4 -> 3010 | G22: 3123 | I22: =G22-E22 -> 113 | K22: =IF(E22=0,0,I22/E22) -> 0.037541528
B23: תקבולים אחרים | C23: 1475 | E23: =C23*MIN($G$4,4)/4 -> 1475 | G23: 1423 | I23: =G23-E23 -> -52 | K23: =IF(E23=0,0,I23/E23) -> -0.035254237
E24: =C24*MIN($G$4,4)/4 -> 0 | I24: =G24-E24 -> 0 | K24: =IF(E24=0,0,I24/E24) -> 0
B25: סה"כ הכנסות לפני כיסוי גרעון מצטבר והנחות בארנונה | C25: =C16+SUM(C18:C24) -> 151815 | E25: =C25*MIN($G$4,4)/4 -> 151815 | G25: =SUM(G18:G24)+G16 -> 147224 | I25: =G25-E25 -> -4591 | K25: =IF(E25=0,0,I25/E25) -> -0.030240754
B27: כיסוי ממקורות הרשות בשנים הבאות | E27: =C27*MIN($G$4,4)/4 -> 0 | I27: =G27-E27 -> 0 | K27: =IF(E27=0,0,I27/E27) -> 0
B28: מענק לכיסוי גרעון מצטבר | E28: =C28*MIN($G$4,4)/4 -> 0 | I28: =G28-E28 -> 0 | K28: =IF(E28=0,0,I28/E28) -> 0
B29: הנחות בארנונה (הכנסות) | C29: 15040 | E29: =C29*MIN($G$4,4)/4 -> 15040 | G29: 16445 | I29: =G29-E29 -> 1405 | K29: =IF(E29=0,0,I29/E29) -> 0.093417553
B30: סה"כ הכנסות | C30: =SUM(C27:C29)+C25 -> 166855 | E30: =SUM(E27:E29)+E25 -> 166855 | G30: =SUM(G27:G29)+G25 -> 163669 | I30: =G30-E30 -> -3186 | K30: =IF(E30=0,0,I30/E30) -> -0.019094423
B31: הוצאות
B32: הוצאות שכר כללי | C32: 21872 | E32: =C32*MIN($G$4,4)/4 -> 21872 | G32: 20932 | I32: =G32-E32 -> -940 | K32: =IF(E32=0,0,I32/E32) -> -0.042977323
B33: פעולות כלליות | C33: 28053 | E33: =C33*MIN($G$4,4)/4 -> 28053 | G33: 26355 | I33: =G33-E33 -> -1698 | K33: =IF(E33=0,0,I33/E33) -> -0.060528286
B34: הוצאות רכישת מים | E34: =C34*MIN($G$4,4)/4 -> 0 | I34: =G34-E34 -> 0 | K34: =IF(E34=0,0,I34/E34) -> 0
B35: סה"כ כלליות | C35: =SUM(C32:C34) -> 49925 | E35: =SUM(E32:E34) -> 49925 | G35: =SUM(G32:G34) -> 47287 | I35: =G35-E35 -> -2638 | K35: =IF(E35=0,0,I35/E35) -> -0.052839259
B37: שכר עובדי חינוך | C37: 51231 | E37: =C37*MIN($G$4,4)/4 -> 51231 | G37: 53540 | I37: =G37-E37 -> 2309 | K37: =IF(E37=0,0,I37/E37) -> 0.045070368
B38: פעולות חינוך | C38: 27967 | E38: =C38*MIN($G$4,4)/4 -> 27967 | G38: 25058 | I38: =G38-E38 -> -2909 | K38: =IF(E38=0,0,I38/E38) -> -0.10401545
B39: סה"כ חינוך | C39: =SUM(C37:C38) -> 79198 | E39: =SUM(E37:E38) -> 79198 | G39: =SUM(G37:G38) -> 78598 | I39: =G39-E39 -> -600 | K39: =IF(E39=0,0,I39/E39) -> -0.0075759489
B40: שכר עובדי רווחה | C40: 6565 | E40: =C40*MIN($G$4,4)/4 -> 6565 | G40: 6112 | I40: =G40-E40 -> -453 | K40: =IF(E40=0,0,I40/E40) -> -0.069002285
B41: פעולות רווחה | C41: 14268 | E41: =C41*MIN($G$4,4)/4 -> 14268 | G41: 13335 | I41: =G41-E41 -> -933 | K41: =IF(E41=0,0,I41/E41) -> -0.065391085
B42: סה"כ רווחה | C42: =SUM(C40:C41) -> 20833 | E42: =SUM(E40:E41) -> 20833 | G42: =SUM(G40:G41) -> 19447 | I42: =G42-E42 -> -1386 | K42: =IF(E42=0,0,I42/E42) -> -0.066529064
B44: סה"כ הוצאות לפני פרעון מלוות, מימון, כיסוי גרעון מצטבר והנחות בארנונה | C44: =C35+C39+C42 -> 149956 | E44: =C44*MIN($G$4,4)/4 -> 149956 | G44: =G35+G39+G42 -> 145332 | I44: =G44-E44 -> -4624 | K44: =IF(E44=0,0,I44/E44) -> -0.030835712
B45: פרעון מלוות מים וביוב | C45: 1150 | E45: =C45*MIN($G$4,4)/4 -> 1150 | G45: 1117 | I45: =G45-E45 -> -33 | K45: =IF(E45=0,0,I45/E45) -> -0.028695652
B46: פרעון מלוות אחרות | E46: =C46*MIN($G$4,4)/4 -> 0 | I46: =G46-E46 -> 0 | K46: =IF(E46=0,0,I46/E46) -> 0
B47: סה"כ פרעון מלוות | C47: =SUM(C45:C46) -> 1150 | E47: =SUM(E45:E46) -> 1150 | G47: =SUM(G45:G46) -> 1117 | I47: =G47-E47 -> -33 | K47: =IF(E47=0,0,I47/E47) -> -0.028695652
B49: הוצאות מימון | C49: 40 | E49: =C49*MIN($G$4,4)/4 -> 40 | G49: 44 | I49: =G49-E49 -> 4 | K49: =IF(E49=0,0,I49/E49) -> 0.1
B50: העברות והוצאות חד פעמיות | C50: 709 | E50: =C50*MIN($G$4,4)/4 -> 709 | G50: 690 | I50: =G50-E50 -> -19 | K50: =IF(E50=0,0,I50/E50) -> -0.026798307
B51: סה"כ הוצאות לפני כיסוי גרעון מצטבר והנחות בארנונה | C51: =C44+C47+C49+C50 -> 151855 | E51: =C51*MIN($G$4,4)/4 -> 151855 | G51: =G44+G47+G49+G50 -> 147183 | I51: =G51-E51 -> -4672 | K51: =IF(E51=0,0,I51/E51) -> -0.030766191
B53: העברה לכיסוי גרעון מצטבר | E53: =C53*MIN($G$4,4)/4 -> 0 | I53: =G53-E53 -> 0 | K53: =IF(E53=0,0,I53/E53) -> 0
B54: הנחות בארנונה (הוצאות) | C54: 15000 | E54: =C54*MIN($G$4,4)/4 -> 15000 | G54: 16401 | I54: =G54-E54 -> 1401 | K54: =IF(E54=0,0,I54/E54) -> 0.0934
B55: סה"כ הוצאות | C55: =C51+C53+C54 -> 166855 | E55: =E51+E53+E54 -> 166855 | G55: =G51+G53+G54 -> 163584 | I55: =G55-E55 -> -3271 | K55: =IF(E55=0,0,I55/E55) -> -0.019603848
B57: עודף (גרעון) | C57: =C30-C55 -> 0 | E57: =E30-E55 -> 0 | G57: =G30-G55 -> 85 | I57: =I30-I55 -> 85 | K57: =IF(E57=0,0,I57/E57) -> 0
B195: =B58 -> 0 | C195: =C58 -> 0 | D195: =D58 -> 0 | E195: =E58 -> 0 | F195: =F58 -> 0 | G195: =G58 -> 0 | H195: =H58 -> 0 | I195: =I58 -> 0 | ... M195: =M58 -> 0
B314: =C1 -> עיריית באקה אלגרבייה
B315: =C2 -> תמצית נתוני התקציב הרגיל באלפי ₪
B316: =C3 -> לתקופה: רבעון 4, שנת 2018
B317: =B5 -> 0 | C317: =C5 -> 0 | D317: =D5 -> 0 | E317: =E5 -> 0 | F317: =F5 -> 0 | G317: =G5 -> 0 | H317: =H5 -> 0 | I317: =I5 -> 0 | ... L317: =L5 -> 0
B318: =B6 -> 0 | C318: =C6 -> 0 | D318: =D6 -> 0 | E318: =E6 -> 0 | F318: =F6 -> 0 | G318: =G6 -> 0 | H318: =H6 -> 0 | I318: =I6 -> 0 | ... L318: =L6 -> 0
B319: =B7 -> 0 | C319: =C7 -> * תקציב שנתי מאושר | D319: =D7 -> 0 | E319: =E7 -> תקציב יחסי לתקופה | F319: =F7 -> 0 | G319: =G7 -> ביצוע מצטבר | H319: =H7 -> 0 | I319: =I7 -> סטיה מהתקציב | ... L319: =L7 -> 0
B320: =B8 -> 0 | C320: =C8 -> 0 | D320: =D8 -> 0 | E320: =E8 -> 0 | F320: =F8 -> 0 | G320: =G8 -> 0 | H320: =H8 -> 0 | I320: =I8 -> 0 | ... L320: =L8 -> 0
B321: =B9 -> הכנסות | C321: =C9 -> 0 | D321: =D9 -> 0 | E321: =E9 -> 0 | F321: =F9 -> 0 | G321: =G9 -> 0 | H321: =H9 -> 0 | I321: =I9 -> 0 | ... L321: =L9 -> 0
B322: =B10 -> 0 | C322: =C10 -> 0 | D322: =D10 -> 0 | E322: =E10 -> 0 | F322: =F10 -> 0 | G322: =G10 -> 0 | H322: =H10 -> 0 | I322: =I10 -> 0 | ... L322: =L10 -> 0
B323: =B11 -> ארנונה כללית | C323: =C11 -> 31685 | D323: =D11 -> 0 | E323: =E11 -> 31685 | F323: =F11 -> 0 | G323: =G11 -> 31043 | H323: =H11 -> 0 | I323: =I11 -> -642 | ... L323: =L11 -> 0
B324: =B12 -> הכנסות ממכירת מים | C324: =C12 -> 670 | D324: =D12 -> 0 | E324: =E12 -> 670 | F324: =F12 -> 0 | G324: =G12 -> 508 | H324: =H12 -> 0 | I324: =I12 -> -162 | ... L324: =L12 -> 0
B325: =B13 -> עצמיות חינוך | C325: =C13 -> 408 | D325: =D13 -> 0 | E325: =E13 -> 408 | F325: =F13 -> 0 | G325: =G13 -> 193 | H325: =H13 -> 0 | I325: =I13 -> -215 | ... L325: =L13 -> 0
B326: =B14 -> עצמיות רווחה | C326: =C14 -> 209 | D326: =D14 -> 0 | E326: =E14 -> 209 | F326: =F14 -> 0 | G326: =G14 -> 148 | H326: =H14 -> 0 | I326: =I14 -> -61 | ... L326: =L14 -> 0
B327: =B15 -> עצמיות אחר | C327: =C15 -> 3889 | D327: =D15 -> 0 | E327: =E15 -> 3889 | F327: =F15 -> 0 | G327: =G15 -> 3197 | H327: =H15 -> 0 | I327: =I15 -> -692 | ... L327: =L15 -> 0
B328: =B16 -> סה"כ עצמיות | C328: =C16 -> 36861 | D328: =D16 -> 0 | E328: =E16 -> 36861 | F328: =F16 -> 0 | G328: =G16 -> 35089 | H328: =H16 -> 0 | I328: =I16 -> -1772 | ... L328: =L16 -> 0
... B334: =B22 -> מענקים מיועדים | C334: =C22 -> 3010 | D334: =D22 -> 0 | E334: =E22 -> 3010 | F334: =F22 -> 0 | G334: =G22 -> 3123 | H334: =H22 -> 0 | I334: =I22 -> 113 | ... L334: =L22 -> 0
B335: =B23 -> תקבולים אחרים | C335: =C23 -> 1475 | D335: =D23 -> 0 | E335: =E23 -> 1475 | F335: =F23 -> 0 | G335: =G23 -> 1423 | H335: =H23 -> 0 | I335: =I23 -> -52 | ... K335: =K23 -> -0.035254237
B336: =B24 -> 0 | C336: =C24 -> 0 | D336: =D24 -> 0 | E336: =E24 -> 0 | F336: =F24 -> 0 | G336: =G24 -> 0 | H336: =H24 -> 0 | I336: =I24 -> 0 | ... L336: =L24 -> 0
B337: =B25 -> סה"כ הכנסות לפני כיסוי גרעון מצטבר והנחות בארנונה | C337: =C25 -> 151815 | D337: =D25 -> 0 | E337: =E25 -> 151815 | F337: =F25 -> 0 | G337: =G25 -> 147224 | H337: =H25 -> 0 | I337: =I25 -> -4591 | ... K337: =K25 -> -0.030240754
B338: =B26 -> 0 | C338: =C26 -> 0 | D338: =D26 -> 0 | E338: =E26 -> 0 | F338: =F26 -> 0 | G338: =G26 -> 0 | H338: =H26 -> 0 | I338: =I26 -> 0 | ... K338: =K26 -> 0
B339: =B27 -> כיסוי ממקורות הרשות בשנים הבאות | C339: =C27 -> 0 | D339: =D27 -> 0 | E339: =E27 -> 0 | F339: =F27 -> 0 | G339: =G27 -> 0 | H339: =H27 -> 0 | I339: =I27 -> 0 | ... K339: =K27 -> 0
B340: =B28 -> מענק לכיסוי גרעון מצטבר | C340: =C28 -> 0 | D340: =D28 -> 0 | E340: =E28 -> 0 | F340: =F28 -> 0 | G340: =G28 -> 0 | H340: =H28 -> 0 | I340: =I28 -> 0 | ... K340: =K28 -> 0
B341: =B29 -> הנחות בארנונה (הכנסות) | C341: =C29 -> 15040 | D341: =D29 -> 0 | E341: =E29 -> 15040 | F341: =F29 -> 0 | G341: =G29 -> 16445 | H341: =H29 -> 0 | I341: =I29 -> 1405 | ... K341: =K29 -> 0.093417553
B342: =B30 -> סה"כ הכנסות | C342: =C30 -> 166855 | D342: =D30 -> 0 | E342: =E30 -> 166855 | F342: =F30 -> 0 | G342: =G30 -> 163669 | H342: =H30 -> 0 | I342: =I30 -> -3186 | ... L342: =L30 -> 0
B344: =B31 -> הוצאות | C344: =C31 -> 0 | D344: =D31 -> 0 | E344: =E31 -> 0 | F344: =F31 -> 0 | G344: =G31 -> 0 | H344: =H31 -> 0 | I344: =I31 -> 0 | ... L344: =L31 -> 0
B346: =B32 -> הוצאות שכר כללי | C346: =C32 -> 21872 | D346: =D32 -> 0 | E346: =E32 -> 21872 | F346: =F32 -> 0 | G346: =G32 -> 20932 | H346: =H32 -> 0 | I346: =I32 -> -940 | ... L346: =L32 -> 0
B347: =B33 -> פעולות כלליות | C347: =C33 -> 28053 | D347: =D33 -> 0 | E347: =E33 -> 28053 | F347: =F33 -> 0 | G347: =G33 -> 26355 | H347: =H33 -> 0 | I347: =I33 -> -1698 | ... L347: =L33 -> 0
B348: =B34 -> הוצאות רכישת מים | C348: =C34 -> 0 | D348: =D34 -> 0 | E348: =E34 -> 0 | F348: =F34 -> 0 | G348: =G34 -> 0 | H348: =H34 -> 0 | I348: =I34 -> 0 | ... L348: =L34 -> 0
B349: =B35 -> סה"כ כלליות | C349: =C35 -> 49925 | D349: =D35 -> 0 | E349: =E35 -> 49925 | F349: =F35 -> 0 | G349: =G35 -> 47287 | H349: =H35 -> 0 | I349: =I35 -> -2638 | ... L349: =L35 -> 0
B350: =B36 -> 0 | C350: =C36 -> 0 | D350: =D36 -> 0 | E350: =E36 -> 0 | F350: =F36 -> 0 | G350: =G36 -> 0 | H350: =H36 -> 0 | I350: =I36 -> 0 | ... L350: =L36 -> 0
B351: =B37 -> שכר עובדי חינוך | C351: =C37 -> 51231 | D351: =D37 -> 0 | E351: =E37 -> 51231 | F351: =F37 -> 0 | G351: =G37 -> 53540 | H351: =H37 -> 0 | I351: =I37 -> 2309 | ... L351: =L37 -> 0
B352: =B38 -> פעולות חינוך | C352: =C38 -> 27967 | D352: =D38 -> 0 | E352: =E38 -> 27967 | F352: =F38 -> 0 | G352: =G38 -> 25058 | H352: =H38 -> 0 | I352: =I38 -> -2909 | ... L352: =L38 -> 0
B353: =B39 -> סה"כ חינוך | C353: =C39 -> 79198 | D353: =D39 -> 0 | E353: =E39 -> 79198 | F353: =F39 -> 0 | G353: =G39 -> 78598 | H353: =H39 -> 0 | I353: =I39 -> -600 | ... L353: =L39 -> 0
B354: =B40 -> שכר עובדי רווחה | C354: =C40 -> 6565 | D354: =D40 -> 0 | E354: =E40 -> 6565 | F354: =F40 -> 0 | G354: =G40 -> 6112 | H354: =H40 -> 0 | I354: =I40 -> -453 | ... L354: =L40 -> 0
B355: =B41 -> פעולות רווחה | C355: =C41 -> 14268 | D355: =D41 -> 0 | E355: =E41 -> 14268 | F355: =F41 -> 0 | G355: =G41 -> 13335 | H355: =H41 -> 0 | I355: =I41 -> -933 | ... L355: =L41 -> 0
B356: =B42 -> סה"כ רווחה | C356: =C42 -> 20833 | D356: =D42 -> 0 | E356: =E42 -> 20833 | F356: =F42 -> 0 | G356: =G42 -> 19447 | H356: =H42 -> 0 | I356: =I42 -> -1386 | ... L356: =L42 -> 0
B357: =B43 -> 0 | C357: =C43 -> 0 | D357: =D43 -> 0 | E357: =E43 -> 0 | F357: =F43 -> 0 | G357: =G43 -> 0 | H357: =H43 -> 0 | I357: =I43 -> 0 | ... K357: =K43 -> 0
B358: =B44 -> סה"כ הוצאות לפני פרעון מלוות, מימון, כיסוי גרעון מצטבר והנחות בארנונה | C358: =C44 -> 149956 | D358: =D44 -> 0 | E358: =E44 -> 149956 | F358: =F44 -> 0 | G358: =G44 -> 145332 | H358: =H44 -> 0 | I358: =I44 -> -4624 | ... K358: =K44 -> -0.030835712
B359: =B45 -> פרעון מלוות מים וביוב | C359: =C45 -> 1150 | D359: =D45 -> 0 | E359: =E45 -> 1150 | F359: =F45 -> 0 | G359: =G45 -> 1117 | H359: =H45 -> 0 | I359: =I45 -> -33 | ... L359: =L45 -> 0
B360: =B46 -> פרעון מלוות אחרות | C360: =C46 -> 0 | D360: =D46 -> 0 | E360: =E46 -> 0 | F360: =F46 -> 0 | G360: =G46 -> 0 | H360: =H46 -> 0 | I360: =I46 -> 0 | ... L360: =L46 -> 0
B361: =B47 -> סה"כ פרעון מלוות | C361: =C47 -> 1150 | D361: =D47 -> 0 | E361: =E47 -> 1150 | F361: =F47 -> 0 | G361: =G47 -> 1117 | H361: =H47 -> 0 | I361: =I47 -> -33 | ... L361: =L47 -> 0
B362: =B48 -> 0 | C362: =C48 -> 0 | D362: =D48 -> 0 | E362: =E48 -> 0 | F362: =F48 -> 0 | G362: =G48 -> 0 | H362: =H48 -> 0 | I362: =I48 -> 0 | ... K362: =K48 -> 0
B363: =B49 -> הוצאות מימון | C363: =C49 -> 40 | D363: =D49 -> 0 | E363: =E49 -> 40 | F363: =F49 -> 0 | G363: =G49 -> 44 | H363: =H49 -> 0 | I363: =I49 -> 4 | ... L363: =L49 -> 0
B364: =B50 -> העברות והוצאות חד פעמיות | C364: =C50 -> 709 | D364: =D50 -> 0 | E364: =E50 -> 709 | F364: =F50 -> 0 | G364: =G50 -> 690 | H364: =H50 -> 0 | I364: =I50 -> -19 | ... L364: =L50 -> 0
B365: =B51 -> סה"כ הוצאות לפני כיסוי גרעון מצטבר והנחות בארנונה | C365: =C51 -> 151855 | D365: =D51 -> 0 | E365: =E51 -> 151855 | F365: =F51 -> 0 | G365: =G51 -> 147183 | H365: =H51 -> 0 | I365: =I51 -> -4672 | ... K365: =K51 -> -0.030766191
B366: =B52 -> 0 | C366: =C52 -> 0 | D366: =D52 -> 0 | E366: =E52 -> 0 | F366: =F52 -> 0 | G366: =G52 -> 0 | H366: =H52 -> 0 | I366: =I52 -> 0 | ... K366: =K52 -> 0
B367: =B53 -> העברה לכיסוי גרעון מצטבר | C367: =C53 -> 0 | D367: =D53 -> 0 | E367: =E53 -> 0 | F367: =F53 -> 0 | G367: =G53 -> 0 | H367: =H53 -> 0 | I367: =I53 -> 0 | ... K367: =K53 -> 0
B368: =B54 -> הנחות בארנונה (הוצאות) | C368: =C54 -> 15000 | D368: =D54 -> 0 | E368: =E54 -> 15000 | F368: =F54 -> 0 | G368: =G54 -> 16401 | H368: =H54 -> 0 | I368: =I54 -> 1401 | ... K368: =K54 -> 0.0934
B369: =B55 -> סה"כ הוצאות | C369: =C55 -> 166855 | D369: =D55 -> 0 | E369: =E55 -> 166855 | F369: =F55 -> 0 | G369: =G55 -> 163584 | H369: =H55 -> 0 | I369: =I55 -> -3271 | ... L369: =L55 -> 0
B370: =B56 -> 0 | C370: =C56 -> 0 | D370: =D56 -> 0 | E370: =E56 -> 0 | F370: =F56 -> 0 | G370: =G56 -> 0 | H370: =H56 -> 0 | I370: =I56 -> 0 | ... L370: =L56 -> 0
B371: =B57 -> עודף (גרעון) | C371: =C57 -> 0 | D371: =D57 -> 0 | E371: =E57 -> 0 | F371: =F57 -> 0 | G371: =G57 -> 85 | H371: =H57 -> 0 | I371: =I57 -> 85 | ... L371: =L57 -> 0
B372: =B58 -> 0 | C372: =C58 -> 0 | D372: =D58 -> 0 | E372: =E58 -> 0 | F372: =F58 -> 0 | G372: =G58 -> 0 | H372: =H58 -> 0 | I372: =I58 -> 0 | ... L372: =L58 -> 0
...

Sheet תברים
C1: =GufMevukar -> עיריית באקה אלגרבייה
C2: ריכוז תקבולים ותשלומים של תב"רים באלפי ₪
C3: =ReportPeriod -> לתקופה: רבעון 4, שנת 2018
A4: הצג תוכן ענינים
D6: תקופת הדוח | F6: שנה קודמת
B8: תקבולים בתקופת הדוח
B9: מלוות מהאוצר | F9: 0
B10: מלוות מאחרים
B11: השתתפות משרדי ממשלה
B12: משרד הפנים | D12: 2637 | F12: 1871
B13: משרד הבטחון
B14: משרד החינוך | D14: 6184 | F14: 4362
B15: משרד הדתות
B16: משרד העבודה והרווחה
B17: משרד איכות הסביבה
B18: משרד הבינוי והשיכון | D18: 1058 | F18: 458
B19: משרד התשתיות
B20: משרד התיירות
B21: משרד התחבורה | D21: 167 | F21: 152
B22: משרדים אחרים | D22: 1508 | F22: 2024
B23: סה"כ השתתפות משרדי ממשלה | D23: =SUM(D12:D22) -> 11554 | F23: =SUM(F12:F22) -> 8867
B24: השתתפות בעלים
B25: מקורות אחרים | D25: =323+431+300 -> 1054 | F25: =1764+64 -> 1828
B26: העברה מקרנות הרשות | D26: =644+139 -> 783 | F26: 700
B27: השתתפות תקציב רגיל | D27: 770 | F27: 450
B28: השתתפות תבר"ים אחרים
B29: סגירת גרעונות סופיים בתב"רים | F29: 0
B30: סה"כ תקבולים | D30: =D9+D10+D23+D24+D25+D26+D27+D28+D29 -> 14161 | F30: =F9+F10+F23+F24+F25+F26+F27+F28+F29 -> 11845
B32: תשלומים בתקופת הדוח
B33: עבודות שבוצעו במשך השנה | D33: =13055+863+238 -> 14156 | F33: =11987+391+385 -> 12763
B34: הוצאות אחרות (תכנון, ציוד וכד') | D34: =136+575+333 -> 1044 | F34: 2028
B35: העברת מלוות שנתקבלו לתקציב הרגיל
B36: העברת מלוות שנתקבלו להקטנת הגרעון
B37: העברה לקרנות פיתוח | D37: 125
B38: העברת עודפים לתבר"ים אחרים
B39: סה"כ תשלומים | D39: =SUM(D33:D38) -> 15325 | F39: =SUM(F33:F38) -> 14791
B41: עודף (גרעון) בתקופת הדוח | D41: =D30-D39 -> -1164 | F41: =F30-F39 -> -2946
B43: תקבולים ותשלומים שנצברו לתחילת השנה
B44: תקבולים שנצברו (תחילת שנה) | D44: =F49 -> 62518 | F44: 57793
B45: תשלומים שנצברו (תחילת שנה) | D45: =F50 -> 68188 | F45: 60517
B46: יתרות זמניות נטו לתחילת השנה | D46: =D44-D45 -> -5670 | F46: =F44-F45 -> -2724
B48: תקבולים ותשלומים שנצברו לסוף התקופה
B49: תקבולים שנצברו (סוף תקופה) | D49: =D30+D44-D57 -> 64647 | F49: =F30+F44-F57 -> 62518
B50: תשלומים שנצברו (סוף תקופה) | D50: =D39+D45-D58 -> 71481 | F50: =F39+F45-F58 -> 68188
B51: עודף (גרעון) נטו | D51: =D49-D50 -> -6834 | F51: =F49-F50 -> -5670
B52: הרכב היתרה
B53: עודפי מימון זמניים | D53: 3857 | F53: 4032
B54: גרעונות מימון זמניים | D54: 10691 | F54: 9702
B55: עודף (גרעון) נטו | D55: =D53-D54 -> -6834 | F55: =F53-F54 -> -5670
B56: (*)לאחר נכוי השקעות בפרויקטים שנסגרו בתקופת הדוח
B57: תקבולים (בנכוי פרויקטים שנסגרו) | D57: 12032 | F57: 7120
B58: תשלומים (בנכוי פרויקטים שנסגרו) | D58: 12032 | F58: 7120
D60: <>0 | F60: c29 | H60: אין נתוני עודף/גרעון בשנה קודמת
D61: <>0 | F61: d29 | H61: אין נתוני עודף/גרעון בתק' הדו"ח
B62: 3 | D62: "+-1" | F62: c32,d35 | H62: היתרות הזמניות נטו לתחילת השנה שונות מהעודף/גרעון נטו מסוף שנה קודמת.
B63: 4 | D63: "+-1" | F63: c35,d38 | H63: עודף/גרעון נטו בתק' הדו"ח שונה מעודף/גרעון נטו מצטבר של סה"כ התב"רים בטופס 4.
B64: 3 | D64: "+-1" | F64: c30,d33 | H64: תקבולים לתחילת שנה שונים מתקבולים לסוף ש.ק.
B65: 3 | D65: "+-1" | F65: c31,d34 | H65: תשלומים לתחילת שנה שונים מתשלומים לסוף ש.ק.
D66: "+-1" | F66: c33-(c22+c30-c39) | H66: סך התקבולים לתק' הדוח שונים מהנתונים המצטברים
D67: "+-1" | F67: c34-(c28+c31-c40) | H67: סך התשלומים לתק' הדוח שונים מהנתונים המצטברים
D68: "+-1" | F68: d33-(d22+d30-d39) | H68: סך התקבולים לשנה קודמת שונים מהנתונים המצטברים
D69: "+-1" | F69: d33-(d22+d30-d39) | H69: סך התשלומים לשנה קודמת שונים מהנתונים המצטברים
B303: =C1 -> עיריית באקה אלגרבייה
B304: =C2 -> ריכוז תקבולים ותשלומים של תב"רים באלפי ₪
B305: =C3 -> לתקופה: רבעון 4, שנת 2018
B308: =B6 -> 0 | D308: =D6 -> תקופת הדוח | E308: =E6 -> 0 | F308: =F6 -> שנה קודמת | G308: =G6 -> 0
B309: =B7 -> 0 | D309: =D7 -> 0 | E309: =E7 -> 0 | F309: =F7 -> 0 | G309: =G7 -> 0
B310: =B8 -> תקבולים בתקופת הדוח | D310: =D8 -> 0 | E310: =E8 -> 0 | F310: =F8 -> 0 | G310: =G8 -> 0
B311: =B9 -> מלוות מהאוצר | D311: =D9 -> 0 | E311: =E9 -> 0 | F311: =F9 -> 0 | G311: =G9 -> 0
B312: =B10 -> מלוות מאחרים | D312: =D10 -> 0 | E312: =E10 -> 0 | F312: =F10 -> 0 | G312: =G10 -> 0
B313: =B11 -> השתתפות משרדי ממשלה | D313: =D11 -> 0 | E313: =E11 -> 0 | F313: =F11 -> 0 | G313: =G11 -> 0
B314: =B12 -> משרד הפנים | D314: =D12 -> 2637 | E314: =E12 -> 0 | F314: =F12 -> 1871 | G314: =G12 -> 0
B315: =B13 -> משרד הבטחון | D315: =D13 -> 0 | E315: =E13 -> 0 | F315: =F13 -> 0 | G315: =G13 -> 0
B316: =B14 -> משרד החינוך | D316: =D14 -> 6184 | E316: =E14 -> 0 | F316: =F14 -> 4362 | G316: =G14 -> 0
B317: =B15 -> משרד הדתות | D317: =D15 -> 0 | E317: =E15 -> 0 | F317: =F15 -> 0 | G317: =G15 -> 0
B318: =B16 -> משרד העבודה והרווחה | D318: =D16 -> 0 | E318: =E16 -> 0 | F318: =F16 -> 0 | G318: =G16 -> 0
B319: =B17 -> משרד איכות הסביבה | D319: =D17 -> 0 | E319: =E17 -> 0 | F319: =F17 -> 0 | G319: =G17 -> 0
... B325: =B23 -> סה"כ השתתפות משרדי ממשלה | D325: =D23 -> 11554 | E325: =E23 -> 0 | F325: =F23 -> 8867 | G325: =G23 -> 0
B326: אחרים
B327: =B24 -> השתתפות בעלים | D327: =D24 -> 0 | E327: =E24 -> 0 | F327: =F24 -> 0 | G327: =G24 -> 0
B328: =B25 -> מקורות אחרים | D328: =D25 -> 1054 | E328: =E25 -> 0 | F328: =F25 -> 1828 | G328: =G25 -> 0
B329: =B26 -> העברה מקרנות הרשות | D329: =D26 -> 783 | E329: =E26 -> 0 | F329: =F26 -> 700 | G329: =G26 -> 0
B330: =B27 -> השתתפות תקציב רגיל | D330: =D27 -> 770 | E330: =E27 -> 0 | F330: =F27 -> 450
B331: =B28 -> השתתפות תבר"ים אחרים | D331: =D28 -> 0 | E331: =E28 -> 0 | F331: =F28 -> 0
B332: =B29 -> סגירת גרעונות סופיים בתב"רים | D332: =D29 -> 0 | E332: =E29 -> 0 | F332: =F29 -> 0
B333: =B30 -> סה"כ תקבולים | D333: =D30 -> 14161 | E333: =E30 -> 0 | F333: =F30 -> 11845 | G333: =G30 -> 0
B334: =B31 -> 0 | D334: =D31 -> 0 | E334: =E31 -> 0 | F334: =F31 -> 0 | G334: =G31 -> 0
B335: =B32 -> תשלומים בתקופת הדוח | D335: =D32 -> 0 | E335: =E32 -> 0 | F335: =F32 -> 0 | G335: =G32 -> 0
B336: =B33 -> עבודות שבוצעו במשך השנה | D336: =D33 -> 14156 | E336: =E33 -> 0 | F336: =F33 -> 12763 | G336: =G33 -> 0
B337: =B34 -> הוצאות אחרות (תכנון, ציוד וכד') | D337: =D34 -> 1044 | E337: =E34 -> 0 | F337: =F34 -> 2028 | G337: =G34 -> 0
B338: =B35 -> העברת מלוות שנתקבלו לתקציב הרגיל | D338: =D35 -> 0 | E338: =E35 -> 0 | F338: =F35 -> 0 | G338: =G35 -> 0
B339: =B36 -> העברת מלוות שנתקבלו להקטנת הגרעון | D339: =D36 -> 0 | E339: =E36 -> 0 | F339: =F36 -> 0 | G339: =G36 -> 0
B340: =B37 -> העברה לקרנות פיתוח | D340: =D37 -> 125 | E340: =E37 -> 0 | F340: =F37 -> 0 | G340: =G37 -> 0
B341: =B38 -> העברת עודפים לתבר"ים אחרים | D341: =D38 -> 0 | E341: =E38 -> 0 | F341: =F38 -> 0
B342: =B39 -> סה"כ תשלומים | D342: =D39 -> 15325 | E342: =E39 -> 0 | F342: =F39 -> 14791 | G342: =G39 -> 0
B343: =B40 -> 0 | D343: =D40 -> 0 | E343: =E40 -> 0 | F343: =F40 -> 0 | G343: =G40 -> 0
B344: =B41 -> עודף (גרעון) בתקופת הדוח | D344: =D41 -> -1164 | E344: =E41 -> 0 | F344: =F41 -> -2946 | G344: =G41 -> 0
B345: =B42 -> 0 | D345: =D42 -> 0 | E345: =E42 -> 0 | F345: =F42 -> 0 | G345: =G42 -> 0
B346: =B43 -> תקבולים ותשלומים שנצברו לתחילת השנה | D346: =D43 -> 0 | E346: =E43 -> 0 | F346: =F43 -> 0 | G346: =G43 -> 0
B347: =B44 -> תקבולים שנצברו (תחילת שנה) | D347: =D44 -> 62518 | E347: =E44 -> 0 | F347: =F44 -> 57793 | G347: =G44 -> 0
...

Sheet ריכוז תברים
E1: =GufMevukar -> עיריית באקה אלגרבייה
E2: ריכוז תב"רים לפי פרקי תקציב באלפי ₪
E3: =ReportPeriod -> לתקופה: רבעון 4, שנת 2018
A4: הצג תוכן ענינים
C6: הפרק התקציבי | D6: סה"כ תב"רים | F6: התקציב המאושר | H6: ביצוע שנה קודמת הכנסות | J6: ביצוע שנה קודמת הוצאות | L6: ביצוע תקופה זאת הכנסות | N6: ביצוע תקופה זאת הוצאות | P6: ביצוע מצטבר הכנסות | R6: ביצוע מצטבר הוצאות | T6: ביצוע מצטבר עודף הכנסות | V6: ביצוע מצטבר עודף הוצאות | X6: מצטבר נטו עודף/גרעון
B8: 61 | C8: מנהל כללי | D8: 2 | F8: 956 | H8: 0 | J8: 32 | L8: 148 | N8: 95 | P8: =H8+L8 -> 148 | R8: =J8+N8 -> 127 | T8: 78 | V8: =R8-P8+T8 -> 57 | X8: =P8-R8 -> 21
B9: 62 | C9: מנהל כספי | P9: =H9+L9 -> 0 | R9: =J9+N9 -> 0 | V9: =R9-P9+T9 -> 0 | X9: =P9-R9 -> 0
B10: 63 | C10: הוצאות מימון | P10: =H10+L10 -> 0 | R10: =J10+N10 -> 0 | V10: =R10-P10+T10 -> 0 | X10: =P10-R10 -> 0
B11: 64 | C11: פרעון מלוות | P11: =H11+L11 -> 0 | R11: =J11+N11 -> 0 | V11: =R11-P11+T11 -> 0 | X11: =P11-R11 -> 0
B12: 71 | C12: תברואה | D12: 1 | F12: 2075 | H12: 1941 | J12: 1981 | L12: 55 | N12: 15 | P12: =H12+L12 -> 1996 | R12: =J12+N12 -> 1996 | V12: =R12-P12+T12 -> 0 | X12: =P12-R12 -> 0
B13: 72 | C13: שמירה ובטחון | D13: 2 | F13: 438 | H13: 0 | J13: 156 | L13: 0 | N13: 91 | P13: =H13+L13 -> 0 | R13: =J13+N13 -> 247 | V13: =R13-P13+T13 -> 247 | X13: =P13-R13 -> -247
B14: 73 | C14: תכנון ובנין | D14: 7 | F14: 5896 | H14: 1965 | J14: 1681 | L14: 118 | N14: 234 | P14: =H14+L14 -> 2083 | R14: =J14+N14 -> 1915 | T14: 363 | V14: =R14-P14+T14 -> 195 | X14: =P14-R14 -> 168
B15: 74 | C15: נכסים צבוריים | D15: 42 | F15: 25179 | H15: 5576 | J15: 4675 | L15: 3005 | N15: 4870 | P15: =H15+L15 -> 8581 | R15: =J15+N15 -> 9545 | T15: 1107 | V15: =R15-P15+T15 -> 2071 | X15: =P15-R15 -> -964
B16: 75 | C16: חגיגות וארועים | P16: =H16+L16 -> 0 | R16: =J16+N16 -> 0 | V16: =R16-P16+T16 -> 0 | X16: =P16-R16 -> 0
B17: 76 | C17: שונות והשתתפויות | P17: =H17+L17 -> 0 | R17: =J17+N17 -> 0 | V17: =R17-P17+T17 -> 0 | X17: =P17-R17 -> 0
B18: 77 | C18: כלכלה ותיירות | D18: 5 | F18: 12225 | H18: 374 | J18: 533 | L18: 138 | N18: 145 | P18: =H18+L18 -> 512 | R18: =J18+N18 -> 678 | V18: =R18-P18+T18 -> 166 | X18: =P18-R18 -> -166
B19: 78 | C19: פיקוח עירוני | P19: =H19+L19 -> 0 | R19: =J19+N19 -> 0 | V19: =R19-P19+T19 -> 0 | X19: =P19-R19 -> 0
B20: 79 | C20: שרותים חקלאיים | D20: 1 | F20: 248 | H20: 50 | J20: 64 | N20: 51 | P20: =H20+L20 -> 50 | R20: =J20+N20 -> 115 | V20: =R20-P20+T20 -> 65 | X20: =P20-R20 -> -65
B21: 81 | C21: חינוך | D21: 42 | F21: 89517 | H21: 43985 | J21: 46558 | L21: 6915 | N21: 6450 | P21: =H21+L21 -> 50900 | R21: =J21+N21 -> 53008 | T21: 1452 | V21: =R21-P21+T21 -> 3560 | X21: =P21-R21 -> -2108
B22: 82 | C22: תרבות | D22: 20 | F22: 38900 | H22: 7287 | J22: 10854 | L22: 2292 | N22: 1888 | P22: =H22+L22 -> 9579 | R22: =J22+N22 -> 12742 | T22: 814 | V22: =R22-P22+T22 -> 3977 | X22: =P22-R22 -> -3163
B23: 83 | C23: בריאות | D23: 2 | F23: 1065 | H23: 369 | J23: 305 | L23: 287 | N23: 308 | P23: =H23+L23 -> 656 | R23: =J23+N23 -> 613 | V23: =R23-P23+T23 -> -43 | X23: =P23-R23 -> 43
B24: 84 | C24: רווחה | D24: 2 | F24: 1326 | H24: 971 | J24: 1149 | L24: 203 | N24: 139 | P24: =H24+L24 -> 1174 | R24: =J24+N24 -> 1288 | T24: 43 | V24: =R24-P24+T24 -> 157 | X24: =P24-R24 -> -114
B25: 85 | C25: דת | P25: =H25+L25 -> 0 | R25: =J25+N25 -> 0 | V25: =R25-P25+T25 -> 0 | X25: =P25-R25 -> 0
B26: 86 | C26: קליטת עליה | P26: =H26+L26 -> 0 | R26: =J26+N26 -> 0 | V26: =R26-P26+T26 -> 0 | X26: =P26-R26 -> 0
B27: 87 | C27: איכות הסביבה | D27: 1 | F27: 1900 | L27: 1000 | N27: 1039 | P27: =H27+L27 -> 1000 | R27: =J27+N27 -> 1039 | T27: 0 | V27: =R27-P27+T27 -> 39 | X27: =P27-R27 -> -39
B28: 91 | C28: מים | P28: =H28+L28 -> 0 | R28: =J28+N28 -> 0 | V28: =R28-P28+T28 -> 0 | X28: =P28-R28 -> 0
B29: 92 | C29: בתי מטבחיים | P29: =H29+L29 -> 0 | R29: =J29+N29 -> 0 | V29: =R29-P29+T29 -> 0 | X29: =P29-R29 -> 0
B30: 93 | C30: נכסים | D30: 1 | F30: 408 | J30: 200 | P30: =H30+L30 -> 0 | R30: =J30+N30 -> 200 | T30: 0 | V30: =R30-P30+T30 -> 200 | X30: =P30-R30 -> -200
B31: 94 | C31: תחבורה | P31: =H31+L31 -> 0 | R31: =J31+N31 -> 0 | V31: =R31-P31+T31 -> 0 | X31: =P31-R31 -> 0
B32: 95 | C32: תעסוקה | P32: =H32+L32 -> 0 | R32: =J32+N32 -> 0 | V32: =R32-P32+T32 -> 0 | X32: =P32-R32 -> 0
B33: 96 | C33: חשמל | P33: =H33+L33 -> 0 | R33: =J33+N33 -> 0 | V33: =R33-P33+T33 -> 0 | X33: =P33-R33 -> 0
B34: 97 | C34: ביוב | P34: =H34+L34 -> 0 | R34: =J34+N34 -> 0 | V34: =R34-P34+T34 -> 0 | X34: =P34-R34 -> 0
B35: 98 | C35: מפעלים אחרים | P35: =H35+L35 -> 0 | R35: =J35+N35 -> 0 | V35: =R35-P35+T35 -> 0 | X35: =P35-R35 -> 0
B36: 99 | C36: תשלומים לא רגילים | P36: =H36+L36 -> 0 | R36: =J36+N36 -> 0 | V36: =R36-P36+T36 -> 0 | X36: =P36-R36 -> 0
C37: סה"כ | D37: =SUM(D8:D36) -> 128 | F37: =SUM(F8:F36) -> 180133 | H37: =SUM(H8:H36) -> 62518 | J37: =SUM(J8:J36) -> 68188 | L37: =SUM(L8:L36) -> 14161 | N37: =SUM(N8:N36) -> 15325 | P37: =SUM(P8:P36) -> 76679 | R37: =SUM(R8:R36) -> 83513 | T37: =SUM(T8:T36) -> 3857 | V37: =SUM(V8:V36) -> 10691 | X37: =SUM(X8:X36) -> -6834
B305: =B1 -> 0 | C305: =C1 -> 0 | D305: =D1 -> 0 | E305: =E1 -> עיריית באקה אלגרבייה | U305: =U1 -> 0 | V305: =V1 -> 0 | W305: =W1 -> 0 | X305: =X1 -> 0 | Y305: =Y1 -> 0
B306: =B2 -> 0 | C306: =C2 -> 0 | D306: =D2 -> 0 | E306: =E2 -> ריכוז תב"רים לפי פרקי תקציב באלפי ₪ | U306: =U2 -> 0 | V306: =V2 -> 0 | W306: =W2 -> 0 | X306: =X2 -> 0 | Y306: =Y2 -> 0
B307: =B3 -> 0 | C307: =C3 -> 0 | D307: =D3 -> 0 | E307: =E3 -> לתקופה: רבעון 4, שנת 2018 | U307: =U3 -> 0 | V307: =V3 -> 0 | W307: =W3 -> 0 | X307: =X3 -> 0 | Y307: =Y3 -> 0
B308: =B4 -> 0 | C308: =C4 -> 0 | D308: =D4 -> 0 | E308: =E4 -> 0 | F308: =F4 -> 0 | G308: =G4 -> 0 | H308: =H4 -> 0 | I308: =I4 -> 0 | ... Y308: =Y4 -> 0
B309: =B5 -> 0 | C309: =C5 -> 0 | D309: =D5 -> 0 | E309: =E5 -> 0 | F309: =F5 -> 0 | G309: =G5 -> 0 | H309: =H5 -> 0 | I309: =I5 -> 0 | ... Y309: =Y5 -> 0
B310: =B6 -> 0 | C310: =C6 -> הפרק התקציבי | D310: =D6 -> סה"כ תב"רים | E310: =E6 -> 0 | F310: =F6 -> התקציב המאושר | G310: =G6 -> 0 | H310: =H6 -> ביצוע שנה קודמת הכנסות | I310: =I6 -> 0 | ... Y310: =Y6 -> 0
B311: =B7 -> 0 | C311: =C7 -> 0 | D311: =D7 -> 0 | E311: =E7 -> 0 | F311: =F7 -> 0 | G311: =G7 -> 0 | H311: =H7 -> 0 | I311: =I7 -> 0 | ... Y311: =Y7 -> 0
B312: =B8 -> 61 | C312: =C8 -> מנהל כללי | D312: =D8 -> 2 | E312: =E8 -> 0 | F312: =F8 -> 956 | G312: =G8 -> 0 | H312: =H8 -> 0 | I312: =I8 -> 0 | ... Y312: =Y8 -> 0
B313: =B9 -> 62 | C313: =C9 -> מנהל כספי | D313: =D9 -> 0 | E313: =E9 -> 0 | F313: =F9 -> 0 | G313: =G9 -> 0 | H313: =H9 -> 0 | I313: =I9 -> 0 | ... Y313: =Y9 -> 0
B314: =B10 -> 63 | C314: =C10 -> הוצאות מימון | D314: =D10 -> 0 | E314: =E10 -> 0 | F314: =F10 -> 0 | G314: =G10 -> 0 | H314: =H10 -> 0 | I314: =I10 -> 0 | ... Y314: =Y10 -> 0
B315: =B11 -> 64 | C315: =C11 -> פרעון מלוות | D315: =D11 -> 0 | E315: =E11 -> 0 | F315: =F11 -> 0 | G315: =G11 -> 0 | H315: =H11 -> 0 | I315: =I11 -> 0 | ... Y315: =Y11 -> 0
B316: =B12 -> 71 | C316: =C12 -> תברואה | D316: =D12 -> 1 | E316: =E12 -> 0 | F316: =F12 -> 2075 | G316: =G12 -> 0 | H316: =H12 -> 1941 | I316: =I12 -> 0 | ... Y316: =Y12 -> 0
B317: =B13 -> 72 | C317: =C13 -> שמירה ובטחון | D317: =D13 -> 2 | E317: =E13 -> 0 | F317: =F13 -> 438 | G317: =G13 -> 0 | H317: =H13 -> 0 | I317: =I13 -> 0 | ... Y317: =Y13 -> 0
B318: =B14 -> 73 | C318: =C14 -> תכנון ובנין | D318: =D14 -> 7 | E318: =E14 -> 0 | F318: =F14 -> 5896 | G318: =G14 -> 0 | H318: =H14 -> 1965 | I318: =I14 -> 0 | ... Y318: =Y14 -> 0
B319: =B15 -> 74 | C319: =C15 -> נכסים צבוריים | D319: =D15 -> 42 | E319: =E15 -> 0 | F319: =F15 -> 25179 | G319: =G15 -> 0 | H319: =H15 -> 5576 | I319: =I15 -> 0 | ... Y319: =Y15 -> 0
... B342: =B38 -> 0 | C342: =C38 -> 0 | D342: =D38 -> 0 | E342: =E38 -> 0 | F342: =F38 -> 0 | G342: =G38 -> 0 | H342: =H38 -> 0 | I342: =I38 -> 0 | ... Y342: =Y38 -> 0
C343: ביקורת: | D343: =BikoretCode -> 0 | E343: =E39 -> 0 | F343: =F39 -> 0 | G343: =G39 -> 0 | H343: =H39 -> 0 | I343: =I39 -> 0 | J343: =J39 -> 0 | K343: =K39 -> 0 | L343: =L39 -> 0 | ... Y343: =Y39 -> 0

Sheet גבייה וחייבים
C1: =GufMevukar -> עיריית באקה אלגרבייה | O1: ='הגדרות כלליות'!G24 -> כן
C2: דוח גבייה ויתרת חייבים באלפי ₪
C3: =ReportPeriod -> לתקופה: רבעון 4, שנת 2018
A4: הצג תוכן ענינים
C7: ארנונה השנה עד רבעון זה | E7: ארנונה שנה קודמת רבעון מקביל | G7: ארנונה סה"כ שנה קודמת | I7: מים השנה עד רבעון זה | K7: מים שנה קודמת רבעון מקביל | M7: מים סה"כ שנה קודמת
B8: גביית פיגורים
B9: יתרת פיגורים ריאלית לתחילת השנה | C9: =G30 -> 174861 | E9: 169983 | G9: 169983 | I9: =M30 -> 38364 | K9: 37540 | M9: 37540
B10: חיוב / זיכוי נוסף | C10: -2712 | E10: -5199 | G10: -5199 | I10: -561 | K10: -517 | M10: =-517 -> -517
B11: העברה לחובות מסופקים (במינוס)
B12: חיובים במהלך התקופה כולל ריבית והצמדה | C12: 10623 | E12: 9206 | G12: 9206 | I12: 2417 | K12: 2119 | M12: 2119
B13: הנחות ופטורים (במינוס) | C13: -59 | E13: -921 | G13: -921
B14: מחיקת חובות בתקופת הדוח (במינוס)
B15: סה"כ יתרת פיגורים לגבייה | C15: =SUM(C9:C14) -> 182713 | E15: =SUM(E9:E14) -> 173069 | G15: =SUM(G9:G14) -> 173069 | I15: =SUM(I9:I14) -> 40220 | K15: =SUM(K9:K14) -> 39142 | M15: =SUM(M9:M14) -> 39142
B16: גבייה בגין פיגורים | C16: 5817 | E16: 6305 | G16: 6305 | I16: 508 | K16: 778 | M16: 778
B17: יתרת פיגורים בגין שנים קודמות | C17: =C15-C16 -> 176896 | E17: =E15-E16 -> 166764 | G17: =G15-G16 -> 166764 | I17: =I15-I16 -> 39712 | K17: =K15-K16 -> 38364 | M17: =M15-M16 -> 38364
B18: גבייה שוטפת
B19: חיוב תקופתי שוטף מצטבר | C19: 31788 | E19: 29189 | G19: 29189
B20: חיוב/זיכוי נוסף כולל ריבית והצמדה | C20: =15979+556+1428 -> 17963 | E20: 19323 | G20: 19323
B21: הנחות ופטורים (במינוס) | C21: =-15725-661 -> -16386 | E21: -16585 | G21: -16585
B22: מחיקת חובות (במינוס)
B23: סה"כ חיוב תקופתי לגבייה | C23: =SUM(C19:C22) -> 33365 | E23: =SUM(E19:E22) -> 31927 | G23: =SUM(G19:G22) -> 31927 | I23: =SUM(I19:I22) -> 0 | K23: =SUM(K19:K22) -> 0 | M23: =SUM(M19:M22) -> 0
B24: גבייה מראש
B25: גבייה שוטפת | C25: 25226 | E25: 23830 | G25: 23830
B26: סה"כ גבייה שוטפת | C26: =SUM(C24:C25) -> 25226 | E26: =SUM(E24:E25) -> 23830 | G26: =SUM(G24:G25) -> 23830 | I26: =SUM(I24:I25) -> 0 | K26: =SUM(K24:K25) -> 0 | M26: =SUM(M24:M25) -> 0
B28: יתרת פיגורים לתקופה | C28: =C23-C26 -> 8139 | E28: =E23-E26 -> 8097 | G28: =G23-G26 -> 8097 | I28: =I23-I26 -> 0 | K28: =K23-K26 -> 0 | M28: =M23-M26 -> 0
B30: יתרת פיגורים כוללת לסוף התקופה | C30: =C17+C28 -> 185035 | E30: =E17+E28 -> 174861 | G30: =G17+G28 -> 174861 | I30: =I17+I28 -> 39712 | K30: =K17+K28 -> 38364 | M30: =M17+M28 -> 38364
B31: % גבייה מהפיגורים (בניכוי הנחות) | C31: =IF(C15<>0,ABS(C16)/C15,0) -> 0.031836815 | E31: =IF(E15<>0,ABS(E16)/E15,0) -> 0.036430557 | G31: =IF(G15<>0,ABS(G16)/G15,0) -> 0.036430557 | I31: =IF(I15<>0,ABS(I16)/I15,0) -> 0.012630532 | K31: =IF(K15<>0,ABS(K16)/K15,0) -> 0.019876348 | M31: =IF(M15<>0,ABS(M16)/M15,0) -> 0.019876348
B32: % סה"כ גבייה שוטפת מסה"כ חיוב תקופתי לגבייה (בניכוי הנחות) | C32: =IF(C$26<>0,ABS(C$26)/C$23,0) -> 0.75606174 | E32: =IF(E$26<>0,ABS(E$26)/E$23,0) -> 0.7463902 | G32: =IF(G$26<>0,ABS(G$26)/G$23,0) -> 0.7463902 | I32: =IF(I$26<>0,ABS(I$26)/($I$23),0) -> 0 | K32: =IF(K$26<>0,ABS(K$26)/K$23,0) -> 0 | M32: =IF(M$26<>0,ABS(M$26)/M$23,0) -> 0
B33: % גבייה שוטפת מסה"כ חיוב תקופתי - כולל הנחות | C33: =IF((C19+C20)<>0,ABS(C25)/(C19+C20),0) -> 0.50704508 | E33: =IF((E19+E20)<>0,ABS(E25)/(E19+E20),0) -> 0.49121867 | G33: =IF((G19+G20)<>0,ABS(G25)/(G19+G20),0) -> 0.49121867 | I33: =IF((I19+I20)<>0,ABS(I25)/(I19+I20),0) -> 0 | K33: =IF((K19+K20)<>0,ABS(K25)/(K19+K20),0) -> 0 | M33: =IF((M19+M20)<>0,ABS(M25)/(M19+M20),0) -> 0
B34: % סה"כ גבייה שוטפת מסה"כ חיוב תקופתי - כולל הנחות | C34: =IF((C19+C20)<>0,ABS(C26)/(C19+C20),0) -> 0.50704508 | E34: =IF((E19+E20)<>0,ABS(E26)/(E19+E20),0) -> 0.49121867 | G34: =IF((G19+G20)<>0,ABS(G26)/(G19+G20),0) -> 0.49121867 | I34: =IF((I19+I20)<>0,ABS(I26)/(I19+I20),0) -> 0 | K34: =IF((K19+K20)<>0,ABS(K26)/(K19+K20),0) -> 0 | M34: =IF((M19+M20)<>0,ABS(M26)/(M19+M20),0) -> 0
B35: % גבייה כוללת מסה"כ חיוב לגביה | C35: =IF((C15+C23)<>0,(C26+C16)/(C23+C15),0) -> 0.14366571 | E35: =IF((E15+E23)<>0,(E26+E16)/(E23+E15),0) -> 0.14700287 | G35: =IF((G15+G23)<>0,(G26+G16)/(G23+G15),0) -> 0.14700287 | I35: =IF((I15+I23)<>0,(I26+I16)/(I23+I15),0) -> 0.012630532 | K35: =IF((K15+K23)<>0,(K26+K16)/(K23+K15),0) -> 0.019876348 | M35: =IF((M15+M23)<>0,(M26+M16)/(M23+M15),0) -> 0.019876348
B36: כמות מים שנתית מאושרת באלפי מ"ק
B37: כמות מים שנרכשה / הופקה באלפי מ"ק
B38: כמות מים שנמכרה / חוייבה באלפי מ"ק
B39: פחת באלפי מ"ק | I39: =I37-I38 -> 0 | K39: =K37-K38 -> 0 | M39: =M37-M38 -> 0
B40: אחוז (%) הפחת | I40: =IF(I37=0,0,I39/I37) -> 0 | K40: =IF(K37=0,0,K39/K37) -> 0 | M40: =IF(M37=0,0,M39/M37) -> 0
B303: =C1 -> עיריית באקה אלגרבייה
B304: =C2 -> דוח גבייה ויתרת חייבים באלפי ₪
B305: =C3 -> לתקופה: רבעון 4, שנת 2018
C309: =C7 -> ארנונה השנה עד רבעון זה | D309: =D7 -> 0 | E309: =E7 -> ארנונה שנה קודמת רבעון מקביל | F309: =F7 -> 0 | G309: =G7 -> ארנונה סה"כ שנה קודמת | H309: =H7 -> 0 | I309: =I7 -> מים השנה עד רבעון זה | J309: =J7 -> 0 | ... N309: =N7 -> 0
B310: =B8 -> גביית פיגורים | C310: =C8 -> 0 | D310: =D8 -> 0 | E310: =E8 -> 0 | F310: =F8 -> 0 | G310: =G8 -> 0 | H310: =H8 -> 0 | I310: =I8 -> 0 | ... N310: =N8 -> 0
B311: =B9 -> יתרת פיגורים ריאלית לתחילת השנה | C311: =C9 -> 174861 | D311: =D9 -> 0 | E311: =E9 -> 169983 | F311: =F9 -> 0 | G311: =G9 -> 169983 | H311: =H9 -> 0 | I311: =I9 -> 38364 | ... N311: =N9 -> 0
B312: =B10 -> חיוב / זיכוי נוסף | C312: =C10 -> -2712 | D312: =D10 -> 0 | E312: =E10 -> -5199 | F312: =F10 -> 0 | G312: =G10 -> -5199 | H312: =H10 -> 0 | I312: =I10 -> -561 | ... N312: =N10 -> 0
B313: =B11 -> העברה לחובות מסופקים (במינוס) | C313: =C11 -> 0 | D313: =D11 -> 0 | E313: =E11 -> 0 | F313: =F11 -> 0 | G313: =G11 -> 0 | H313: =H11 -> 0 | I313: =I11 -> 0 | ... N313: =N11 -> 0
B314: =B12 -> חיובים במהלך התקופה כולל ריבית והצמדה | C314: =C12 -> 10623 | D314: =D12 -> 0 | E314: =E12 -> 9206 | F314: =F12 -> 0 | G314: =G12 -> 9206 | H314: =H12 -> 0 | I314: =I12 -> 2417 | ... N314: =N12 -> 0
B315: =B13 -> הנחות ופטורים (במינוס) | C315: =C13 -> -59 | D315: =D13 -> 0 | E315: =E13 -> -921 | F315: =F13 -> 0 | G315: =G13 -> -921 | H315: =H13 -> 0 | I315: =I13 -> 0 | ... N315: =N13 -> 0
B316: =B14 -> מחיקת חובות בתקופת הדוח (במינוס) | C316: =C14 -> 0 | D316: =D14 -> 0 | E316: =E14 -> 0 | F316: =F14 -> 0 | G316: =G14 -> 0 | H316: =H14 -> 0 | I316: =I14 -> 0 | ... M316: =M14 -> 0
B317: =B15 -> סה"כ יתרת פיגורים לגבייה | C317: =C15 -> 182713 | D317: =D15 -> 0 | E317: =E15 -> 173069 | F317: =F15 -> 0 | G317: =G15 -> 173069 | H317: =H15 -> 0 | I317: =I15 -> 40220 | ... N317: =N15 -> 0
B318: =B16 -> גבייה בגין פיגורים | C318: =C16 -> 5817 | D318: =D16 -> 0 | E318: =E16 -> 6305 | F318: =F16 -> 0 | G318: =G16 -> 6305 | H318: =H16 -> 0 | I318: =I16 -> 508 | ... N318: =N16 -> 0
B319: =B17 -> יתרת פיגורים בגין שנים קודמות | C319: =C17 -> 176896 | D319: =D17 -> 0 | E319: =E17 -> 166764 | F319: =F17 -> 0 | G319: =G17 -> 166764 | H319: =H17 -> 0 | I319: =I17 -> 39712 | ... N319: =N17 -> 0
B320: =B18 -> גבייה שוטפת | C320: =C18 -> 0 | D320: =D18 -> 0 | E320: =E18 -> 0 | F320: =F18 -> 0 | G320: =G18 -> 0 | H320: =H18 -> 0 | I320: =I18 -> 0 | ... N320: =N18 -> 0
B321: =B19 -> חיוב תקופתי שוטף מצטבר | C321: =C19 -> 31788 | D321: =D19 -> 0 | E321: =E19 -> 29189 | F321: =F19 -> 0 | G321: =G19 -> 29189 | H321: =H19 -> 0 | I321: =I19 -> 0 | ... N321: =N19 -> 0
B322: =B20 -> חיוב/זיכוי נוסף כולל ריבית והצמדה | C322: =C20 -> 17963 | D322: =D20 -> 0 | E322: =E20 -> 19323 | F322: =F20 -> 0 | G322: =G20 -> 19323 | H322: =H20 -> 0 | I322: =I20 -> 0 | ... N322: =N20 -> 0
B323: =B21 -> הנחות ופטורים (במינוס) | C323: =C21 -> -16386 | D323: =D21 -> 0 | E323: =E21 -> -16585 | F323: =F21 -> 0 | G323: =G21 -> -16585 | H323: =H21 -> 0 | I323: =I21 -> 0 | ... N323: =N21 -> 0
B324: =B22 -> מחיקת חובות (במינוס) | C324: =C22 -> 0 | D324: =D22 -> 0 | E324: =E22 -> 0 | F324: =F22 -> 0 | G324: =G22 -> 0 | H324: =H22 -> 0 | I324: =I22 -> 0 | ... M324: =M22 -> 0
B325: =B23 -> סה"כ חיוב תקופתי לגבייה | C325: =C23 -> 33365 | D325: =D23 -> 0 | E325: =E23 -> 31927 | F325: =F23 -> 0 | G325: =G23 -> 31927 | H325: =H23 -> 0 | I325: =I23 -> 0 | ... N325: =N23 -> 0
B326: =B24 -> גבייה מראש | C326: =C24 -> 0 | D326: =D24 -> 0 | E326: =E24 -> 0 | F326: =F24 -> 0 | G326: =G24 -> 0 | H326: =H24 -> 0 | I326: =I24 -> 0 | ... N326: =N24 -> 0
B327: =B25 -> גבייה שוטפת | C327: =C25 -> 25226 | D327: =D25 -> 0 | E327: =E25 -> 23830 | F327: =F25 -> 0 | G327: =G25 -> 23830 | H327: =H25 -> 0 | I327: =I25 -> 0 | ... N327: =N25 -> 0
B328: =B26 -> סה"כ גבייה שוטפת | C328: =C26 -> 25226 | D328: =D26 -> 0 | E328: =E26 -> 23830 | F328: =F26 -> 0 | G328: =G26 -> 23830 | H328: =H26 -> 0 | I328: =I26 -> 0 | ... N328: =N26 -> 0
B329: =B27 -> 0 | C329: =C27 -> 0 | D329: =D27 -> 0 | E329: =E27 -> 0 | F329: =F27 -> 0 | G329: =G27 -> 0 | H329: =H27 -> 0 | I329: =I27 -> 0 | ... N329: =N27 -> 0
B330: =B28 -> יתרת פיגורים לתקופה | C330: =C28 -> 8139 | D330: =D28 -> 0 | E330: =E28 -> 8097 | F330: =F28 -> 0 | G330: =G28 -> 8097 | H330: =H28 -> 0 | I330: =I28 -> 0 | ... N330: =N28 -> 0
B331: =B29 -> 0 | C331: =C29 -> 0 | D331: =D29 -> 0 | E331: =E29 -> 0 | F331: =F29 -> 0 | G331: =G29 -> 0 | H331: =H29 -> 0 | I331: =I29 -> 0 | ... N331: =N29 -> 0
B332: =B30 -> יתרת פיגורים כוללת לסוף התקופה | C332: =C30 -> 185035 | D332: =D30 -> 0 | E332: =E30 -> 174861 | F332: =F30 -> 0 | G332: =G30 -> 174861 | H332: =H30 -> 0 | I332: =I30 -> 39712 | ... N332: =N30 -> 0
B333: =B31 -> % גבייה מהפיגורים (בניכוי הנחות) | C333: =C31 -> 0.031836815 | D333: =D31 -> 0 | E333: =E31 -> 0.036430557 | F333: =F31 -> 0 | G333: =G31 -> 0.036430557 | H333: =H31 -> 0 | I333: =I31 -> 0.012630532 | ... N333: =N31 -> 0
B334: =B32 -> % סה"כ גבייה שוטפת מסה"כ חיוב תקופתי לגבייה (בניכוי הנחות) | C334: =C32 -> 0.75606174 | D334: =D32 -> 0 | E334: =E32 -> 0.7463902 | F334: =F32 -> 0 | G334: =G32 -> 0.7463902 | H334: =H32 -> 0 | I334: =I32 -> 0 | ... N334: =N32 -> 0
B335: =B33 -> % גבייה שוטפת מסה"כ חיוב תקופתי - כולל הנחות | C335: =C33 -> 0.50704508 | D335: =D33 -> 0 | E335: =E33 -> 0.49121867 | F335: =F33 -> 0 | G335: =G33 -> 0.49121867 | H335: =H33 -> 0 | I335: =I33 -> 0 | ... M335: =M33 -> 0
B336: =B34 -> % סה"כ גבייה שוטפת מסה"כ חיוב תקופתי - כולל הנחות | C336: =C34 -> 0.50704508 | D336: =D34 -> 0 | E336: =E34 -> 0.49121867 | F336: =F34 -> 0 | G336: =G34 -> 0.49121867 | H336: =H34 -> 0 | I336: =I34 -> 0 | ... M336: =M34 -> 0
B337: =B35 -> % גבייה כוללת מסה"כ חיוב לגביה | C337: =C35 -> 0.14366571 | D337: =D35 -> 0 | E337: =E35 -> 0.14700287 | F337: =F35 -> 0 | G337: =G35 -> 0.14700287 | H337: =H35 -> 0 | I337: =I35 -> 0.012630532 | ... N337: =N35 -> 0
B338: =B36 -> כמות מים שנתית מאושרת באלפי מ"ק | C338: =C36 -> 0 | D338: =D36 -> 0 | E338: =E36 -> 0 | F338: =F36 -> 0 | G338: =G36 -> 0 | H338: =H36 -> 0 | I338: =I36 -> 0 | ... N338: =N36 -> 0
B339: =B37 -> כמות מים שנרכשה / הופקה באלפי מ"ק | C339: =C37 -> 0 | D339: =D37 -> 0 | E339: =E37 -> 0 | F339: =F37 -> 0 | G339: =G37 -> 0 | H339: =H37 -> 0 | I339: =I37 -> 0 | ... N339: =N37 -> 0
B340: =B38 -> כמות מים שנמכרה / חוייבה באלפי מ"ק | C340: =C38 -> 0 | D340: =D38 -> 0 | E340: =E38 -> 0 | F340: =F38 -> 0 | G340: =G38 -> 0 | H340: =H38 -> 0 | I340: =I38 -> 0 | ... N340: =N38 -> 0
B341: =B39 -> פחת באלפי מ"ק | C341: =C39 -> 0 | D341: =D39 -> 0 | E341: =E39 -> 0 | F341: =F39 -> 0 | G341: =G39 -> 0 | H341: =H39 -> 0 | I341: =I39 -> 0 | ... N341: =N39 -> 0
B342: =B40 -> אחוז (%) הפחת | C342: =C40 -> 0 | D342: =D40 -> 0 | E342: =E40 -> 0 | F342: =F40 -> 0 | G342: =G40 -> 0 | H342: =H40 -> 0 | I342: =I40 -> 0 | ... N342: =N40 -> 0
B343: =B41 -> 0 | C343: =C41 -> 0 | D343: =D41 -> 0 | E343: =E41 -> 0 | F343: =F41 -> 0 | G343: =G41 -> 0 | H343: =H41 -> 0 | I343: =I41 -> 0 | ... N343: =N41 -> 0
B344: =B42 -> 0 | C344: =C42 -> 0 | D344: =D42 -> 0 | E344: =E42 -> 0 | F344: =F42 -> 0 | G344: =G42 -> 0 | H344: =H42 -> 0 | I344: =I42 -> 0 | ... N344: =N42 -> 0
B345: =CONCATENATE("ביקורת: ",BikoretCode) -> ביקורת:

Sheet ארנונה
C1: =GufMevukar -> עיריית באקה אלגרבייה
C2: תעריפי ארנונה וסך חיוב
C3: =ReportPeriod -> לתקופה: רבעון 4, שנת 2018
A4: הצג תוכן ענינים
B5: סוג הנכס | C5: סה"כ שטח השנה במ"ר / דונם | E5: תעריף שחוייב מקסימום בש"ח | G5: תעריף שחוייב מינימום בש"ח | I5: תעריף משוקלל בש"ח שנה נוכחית | K5: תעריף משוקלל שנה קודמת בש"ח | M5: השנוי ב % | O5: סה"כ חיוב שנתי באלפי ₪
B6: מבני מגורים | C6: 1064439 | E6: 120.16 | G6: 34.68 | I6: =IF(C6=0,0,O6*1000/C6) -> 36.490583 | K6: 35.708741 | M6: =IF(K6=0,0,(I6-K6)/K6) -> 0.021894974 | O6: 38842
B7: משרדים שרותים ומסחר | C7: 119731 | E7: 384.95 | G7: 68.08 | I7: =IF(C7=0,0,O7*1000/C7) -> 77.47367 | K7: 75.759496 | M7: =IF(K7=0,0,(I7-K7)/K7) -> 0.022626521 | O7: 9276
B8: בנקים | C8: 973 | E8: 1386.4 | G8: 462.96 | I8: =IF(C8=0,0,O8*1000/C8) -> 567.31757 | K8: 554.98458 | M8: =IF(K8=0,0,(I8-K8)/K8) -> 0.022222222 | O8: 552
B9: תעשיה | C9: 8390 | E9: 165.9 | G9: 24.82 | I9: =IF(C9=0,0,O9*1000/C9) -> 61.501788 | K9: 60.502977 | M9: =IF(K9=0,0,(I9-K9)/K9) -> 0.016508465 | O9: 516
B10: בתי מלון | I10: =IF(C10=0,0,O10*1000/C10) -> 0 | K10: 0 | M10: =IF(K10=0,0,(I10-K10)/K10) -> 0
B11: מלאכה | C11: 28482 | E11: 223.83 | G11: 45.96 | I11: =IF(C11=0,0,O11*1000/C11) -> 68.850502 | K11: 66.801008 | M11: =IF(K11=0,0,(I11-K11)/K11) -> 0.030680593 | O11: 1961
B12: אדמה חקלאית (לדונם) | C12: 14276 | E12: 0.67 | G12: 0.009629 | I12: =IF(C12=0,0,O12*1000/C12) -> 0.010997478 | K12: 0.010016811 | M12: =IF(K12=0,0,(I12-K12)/K12) -> 0.097902098 | O12: 0.157
B13: קרקע תפוסה (לדונם) | C13: 85969 | E13: 55.84 | G13: 0.010961 | I13: =IF(C13=0,0,O13*1000/C13) -> 13.272226 | K13: 12.762203 | M13: =IF(K13=0,0,(I13-K13)/K13) -> 0.039963568 | O13: 1141
B14: קרקע במפעל עתיר שטח (לדונם) | I14: =IF(C14=0,0,O14*1000/C14) -> 0 | K14: 0 | M14: =IF(K14=0,0,(I14-K14)/K14) -> 0
B15: חניונים | C15: 10391 | E15: 67.11 | G15: 1.42 | I15: =IF(C15=0,0,O15*1000/C15) -> 25.021653 | K15: 0 | M15: =IF(K15=0,0,(I15-K15)/K15) -> 0 | O15: 260
B16: מבנה חקלאי | C16: 62832 | E16: 45.78 | G16: 0.349 | I16: =IF(C16=0,0,O16*1000/C16) -> 2.3873186 | K16: 2.25968 | M16: =IF(K16=0,0,(I16-K16)/K16) -> 0.056485248 | O16: 150
B17: נכסי מדינה | I17: =IF(C17=0,0,O17*1000/C17) -> 0 | M17: =IF(K17=0,0,(I17-K17)/K17) -> 0
B18: נכסים אחרים | I18: =IF(C18=0,0,O18*1000/C18) -> 0 | M18: =IF(K18=0,0,(I18-K18)/K18) -> 0
B19: סה"כ | C19: =SUM(C6:C18) -> 1395483 | O19: =SUM(O6:O18) -> 52698.157
B21: אזורי תעשיה משותפים | C21: סה"כ שטח השנה במ"ר | E21: תעריף שחוייב מקסימום | G21: תעריף שחוייב מינימום | I21: תעריף משוקלל שנה נוכחית | K21: תעריף משוקלל שנה קודמת | M21: השינוי ב % | O21: סה"כ חיוב באלפי ₪
B22: בניכוי/תוספת חיוב ארנונה בגין אזורי תעשייה משותפים | I22: =IF(C22=0,0,O22*1000/C22) -> 0 | M22: =IF(K22=0,0,(I22-K22)/K22) -> 0
C300: =C1 -> עיריית באקה אלגרבייה | O300: =O1 -> 0 | P300: =P1 -> 0
C301: =C2 -> תעריפי ארנונה וסך חיוב | O301: =O2 -> 0 | P301: =P2 -> 0
C302: =C3 -> לתקופה: רבעון 4, שנת 2018 | O302: =O3 -> 0 | P302: =P3 -> 0
B303: =B4 -> 0 | C303: =C4 -> 0 | D303: =D4 -> 0 | E303: =E4 -> 0 | F303: =F4 -> 0 | G303: =G4 -> 0 | H303: =H4 -> 0 | I303: =I4 -> 0 | ... P303: =P4 -> 0
B304: =B5 -> סוג הנכס | C304: =C5 -> סה"כ שטח השנה במ"ר / דונם | D304: =D5 -> 0 | E304: =E5 -> תעריף שחוייב מקסימום בש"ח | F304: =F5 -> 0 | G304: =G5 -> תעריף שחוייב מינימום בש"ח | H304: =H5 -> 0 | I304: =I5 -> תעריף משוקלל בש"ח שנה נוכחית | ... P304: =P5 -> 0
B305: =B6 -> מבני מגורים | C305: =C6 -> 1064439 | D305: =D6 -> 0 | E305: =E6 -> 120.16 | F305: =F6 -> 0 | G305: =G6 -> 34.68 | H305: =H6 -> 0 | I305: =I6 -> 36.490583 | ... P305: =P6 -> 0
B306: =B7 -> משרדים שרותים ומסחר | C306: =C7 -> 119731 | D306: =D7 -> 0 | E306: =E7 -> 384.95 | F306: =F7 -> 0 | G306: =G7 -> 68.08 | H306: =H7 -> 0 | I306: =I7 -> 77.47367 | ... P306: =P7 -> 0
B307: =B8 -> בנקים | C307: =C8 -> 973 | D307: =D8 -> 0 | E307: =E8 -> 1386.4 | F307: =F8 -> 0 | G307: =G8 -> 462.96 | H307: =H8 -> 0 | I307: =I8 -> 567.31757 | ... P307: =P8 -> 0
B308: =B9 -> תעשיה | C308: =C9 -> 8390 | D308: =D9 -> 0 | E308: =E9 -> 165.9 | F308: =F9 -> 0 | G308: =G9 -> 24.82 | H308: =H9 -> 0 | I308: =I9 -> 61.501788 | ... P308: =P9 -> 0
B309: =B10 -> בתי מלון | C309: =C10 -> 0 | D309: =D10 -> 0 | E309: =E10 -> 0 | F309: =F10 -> 0 | G309: =G10 -> 0 | H309: =H10 -> 0 | I309: =I10 -> 0 | ... P309: =P10 -> 0
B310: =B11 -> מלאכה | C310: =C11 -> 28482 | D310: =D11 -> 0 | E310: =E11 -> 223.83 | F310: =F11 -> 0 | G310: =G11 -> 45.96 | H310: =H11 -> 0 | I310: =I11 -> 68.850502 | ... P310: =P11 -> 0
B311: =B12 -> אדמה חקלאית (לדונם) | C311: =C12 -> 14276 | D311: =D12 -> 0 | E311: =E12 -> 0.67 | F311: =F12 -> 0 | G311: =G12 -> 0.009629 | H311: =H12 -> 0 | I311: =I12 -> 0.010997478 | ... P311: =P12 -> 0
B312: =B13 -> קרקע תפוסה (לדונם) | C312: =C13 -> 85969 | D312: =D13 -> 0 | E312: =E13 -> 55.84 | F312: =F13 -> 0 | G312: =G13 -> 0.010961 | H312: =H13 -> 0 | I312: =I13 -> 13.272226 | ... P312: =P13 -> 0
B313: =B14 -> קרקע במפעל עתיר שטח (לדונם) | C313: =C14 -> 0 | D313: =D14 -> 0 | E313: =E14 -> 0 | F313: =F14 -> 0 | G313: =G14 -> 0 | H313: =H14 -> 0 | I313: =I14 -> 0 | ... P313: =P14 -> 0
B314: =B15 -> חניונים | C314: =C15 -> 10391 | D314: =D15 -> 0 | E314: =E15 -> 67.11 | F314: =F15 -> 0 | G314: =G15 -> 1.42 | H314: =H15 -> 0 | I314: =I15 -> 25.021653 | ... P314: =P15 -> 0
... B322: =B23 -> 0 | C322: =C23 -> 0 | D322: =D23 -> 0 | E322: =E23 -> 0 | F322: =F23 -> 0 | G322: =G23 -> 0 | H322: =H23 -> 0 | I322: =I23 -> 0 | ... P322: =P23 -> 0
B326: =CONCATENATE("ביקורת: ",BikoretCode) -> ביקורת:

Sheet שכר ומשרות
D1: =GufMevukar -> עיריית באקה אלגרבייה
D2: שכר ומשרות לפי פרקי תקציב
D3: =ReportPeriod -> לתקופה: רבעון 4, שנת 2018
A4: הצג תוכן ענינים
D6: =CONCATENATE("תקציב ",Shana) -> תקציב 2018 | J6: =CONCATENATE("ביצוע בפועל"," ",Shana) -> ביצוע בפועל 2018 | N6: הפרש
B7: מס' | C7: שם הפרק | D7: מספר משרות | F7: עלויות שכר | H7: עלות יחסית לתקופת הדוח | J7: מס' משרות לפי דוח 66 | L7: עלויות שכר - לפי דוח 66 | N7: מספר משרות | P7: עלויות שכר
B9: 6 | C9: הנהלה וכלליות
B10: 61 | C10: נבחרים | D10: 3 | F10: 1991 | H10: =(F10*'הגדרות כלליות'!$D$20/4) -> 1991 | J10: 3 | L10: 2223 | N10: =D10-J10 -> 0 | P10: =H10-L10 -> -232
B11: 61 | C11: מנהל כללי | D11: 19.5 | F11: 4130 | H11: =(F11*'הגדרות כלליות'!$D$20/4) -> 4130 | J11: 13.06 | L11: 3732 | N11: =D11-J11 -> 6.44 | P11: =H11-L11 -> 398
B12: 62 | C12: מנהל כספי | D12: 16 | F12: 3182 | H12: =(F12*'הגדרות כלליות'!$D$20/4) -> 3182 | J12: 12.87 | L12: 2950 | N12: =D12-J12 -> 3.13 | P12: =H12-L12 -> 232
C13: סה"כ הנהלה וכלליות | D13: =SUM(D10:D12) -> 38.5 | F13: =SUM(F10:F12) -> 9303 | H13: =SUM(H10:H12) -> 9303 | J13: =SUM(J10:J12) -> 28.93 | L13: =SUM(L10:L12) -> 8905 | N13: =SUM(N10:N12) -> 9.57 | P13: =SUM(P10:P12) -> 398
B14: 7 | C14: שירותים מקומיים
B15: 71 | C15: תברואה | D15: 6 | F15: 628 | H15: =(F15*'הגדרות כלליות'!$D$20/4) -> 628 | J15: 3.91 | L15: 602 | N15: =D15-J15 -> 2.09 | P15: =H15-L15 -> 26
B16: 72 | C16: שמירה ובטחון | D16: =10.51+1+0.5 -> 12.01 | F16: 1464 | H16: =(F16*'הגדרות כלליות'!$D$20/4) -> 1464 | J16: 9 | L16: 1280 | N16: =D16-J16 -> 3.01 | P16: =H16-L16 -> 184
B17: 73 | C17: תכנון ובנין עיר | D17: 6 | F17: 1420 | H17: =(F17*'הגדרות כלליות'!$D$20/4) -> 1420 | J17: 5.83 | L17: 1347 | N17: =D17-J17 -> 0.17 | P17: =H17-L17 -> 73
B18: 74 | C18: נכסים ציבוריים | D18: 5 | F18: 686 | H18: =(F18*'הגדרות כלליות'!$D$20/4) -> 686 | J18: 3.91 | L18: 614 | N18: =D18-J18 -> 1.09 | P18: =H18-L18 -> 72
B19: 76 | C19: שרותים עירוניים שונים | H19: =(F19*'הגדרות כלליות'!$D$20/4) -> 0 | N19: =D19-J19 -> 0 | P19: =H19-L19 -> 0
B20: 78 | C20: פיקוח עירוני | D20: 7 | F20: 906 | H20: =(F20*'הגדרות כלליות'!$D$20/4) -> 906 | J20: 6.15 | L20: 857 | N20: =D20-J20 -> 0.85 | P20: =H20-L20 -> 49
B21: 79 | C21: שירותים חקלאיים | H21: =(F21*'הגדרות כלליות'!$D$20/4) -> 0 | N21: =D21-J21 -> 0 | P21: =H21-L21 -> 0
C22: סה"כ שרותים מקומיים | D22: =SUM(D15:D21) -> 36.01 | F22: =SUM(F15:F21) -> 5104 | H22: =(F22*'הגדרות כלליות'!$D$20/4) -> 5104 | J22: =SUM(J15:J21) -> 28.8 | L22: =SUM(L15:L21) -> 4700 | N22: =SUM(N15:N21) -> 7.21 | P22: =SUM(P15:P21) -> 404
B23: 8 | C23: שרותים ממלכתיים
B24: 81 | C24: חינוך | D24: =389+1.1+0.35 -> 390.45 | F24: 51231 | H24: =(F24*'הגדרות כלליות'!$D$20/4) -> 51231 | J24: 364.04 | L24: 53654 | N24: =D24-J24 -> 26.41 | P24: =H24-L24 -> -2423
B25: 82 | C25: תרבות | D25: 20.3 | F25: 2627 | H25: =(F25*'הגדרות כלליות'!$D$20/4) -> 2627 | J25: 16.09 | L25: 2385 | N25: =D25-J25 -> 4.21 | P25: =H25-L25 -> 242
B26: 83 | C26: בריאות | D26: 2.75 | F26: 570 | H26: =(F26*'הגדרות כלליות'!$D$20/4) -> 570 | J26: 2.75 | L26: 565 | N26: =D26-J26 -> 0 | P26: =H26-L26 -> 5
B27: 84 | C27: רווחה | D27: =51.84+2.98 -> 54.82 | F27: 6565 | H27: =(F27*'הגדרות כלליות'!$D$20/4) -> 6565 | J27: 42.59 | L27: 6112 | N27: =D27-J27 -> 12.23 | P27: =H27-L27 -> 453
B28: 85 | C28: דת | H28: =(F28*'הגדרות כלליות'!$D$20/4) -> 0 | N28: =D28-J28 -> 0 | P28: =H28-L28 -> 0
B29: 86 | C29: קליטת עליה | H29: =(F29*'הגדרות כלליות'!$D$20/4) -> 0 | N29: =D29-J29 -> 0 | P29: =H29-L29 -> 0
B30: 87 | C30: איכות סביבה | H30: =(F30*'הגדרות כלליות'!$D$20/4) -> 0 | N30: =D30-J30 -> 0 | P30: =H30-L30 -> 0
C31: סה"כ שרותים ממלכתיים | D31: =SUM(D24:D30) -> 468.32 | F31: =SUM(F24:F30) -> 60993 | H31: =(F31*'הגדרות כלליות'!$D$20/4) -> 60993 | J31: =SUM(J24:J30) -> 425.47 | L31: =SUM(L24:L30) -> 62716 | N31: =SUM(N24:N30) -> 42.85 | P31: =SUM(P24:P30) -> -1723
B32: 9 | C32: מפעלים
B33: 91 | C33: מים | D33: 1 | F33: 0 | H33: =(F33*'הגדרות כלליות'!$D$20/4) -> 0 | J33: 1 | L33: 194 | N33: =D33-J33 -> 0 | P33: =H33-L33 -> -194
B34: 92 | C34: בתי מטבחיים | H34: =(F34*'הגדרות כלליות'!$D$20/4) -> 0 | N34: =D34-J34 -> 0 | P34: =H34-L34 -> 0
B35: 93 | C35: נכסים | D35: 3 | F35: 421 | H35: =(F35*'הגדרות כלליות'!$D$20/4) -> 421 | J35: 3 | L35: 396 | N35: =D35-J35 -> 0 | P35: =H35-L35 -> 25
B36: 94 | C36: תחבורה | H36: =(F36*'הגדרות כלליות'!$D$20/4) -> 0 | N36: =D36-J36 -> 0 | P36: =H36-L36 -> 0
B37: 97 | C37: מפעלי ביוב | H37: =(F37*'הגדרות כלליות'!$D$20/4) -> 0 | N37: =D37-J37 -> 0 | P37: =H37-L37 -> 0
B38: 98 | C38: מפעלים אחרים
C39: סה"כ מפעלים | D39: =SUM(D33:D38) -> 4 | F39: =SUM(F33:F38) -> 421 | H39: =(F39*'הגדרות כלליות'!$D$20/4) -> 421 | J39: =SUM(J33:J38) -> 4 | L39: =SUM(L33:L38) -> 590 | N39: =SUM(N33:N38) -> 0 | P39: =SUM(P33:P38) -> -169
C41: גימלאים | D41: 24.5 | F41: 3848 | H41: =(F41*'הגדרות כלליות'!$D$20/4) -> 3848 | J41: 24.26 | L41: =3848+97 -> 3945 | N41: =D41-J41 -> 0.24 | P41: =H41-L41 -> -97
C43: סה"כ כללי | D43: =D13+D22+D31+D39+D41 -> 571.33 | F43: =F13+F22+F31+F39+F41 -> 79669 | H43: =(F43*'הגדרות כלליות'!$D$20/4) -> 79669 | J43: =J13+J22+J31+J39+J41 -> 511.46 | L43: =L13+L22+L31+L39+L41 -> 80856 | N43: =D43-J43 -> 59.87 | P43: =H43-L43 -> -1187
C45: רכישת שרותי כוח אדם | D45: =CONCATENATE("תקציב ",Shana) -> תקציב 2018 | J45: =CONCATENATE(" ביצוע בפועל ",Shana) -> ביצוע בפועל 2018 | P45: הפרש עלויות
D46: מספר מועסקים | F46: עלות כוללת | H46: מספר שעות העסקה | J46: מספר מועסקים | L46: עלות כוללת | N46: מספר שעות העסקה
C48: יועצים חיצוניים | P48: =F48-L48 -> 0
C49: שירותי כוח אדם מקבלן כ"א | P49: =F49-L49 -> 0
C51: סה"כ | D51: =SUM(D48:D49) -> 0 | F51: =SUM(F48:F49) -> 0 | H51: =SUM(H48:H49) -> 0 | J51: =SUM(J48:J49) -> 0 | L51: =SUM(L48:L49) -> 0 | N51: =SUM(N48:N49) -> 0 | P51: =SUM(P48:P49) -> 0
B305: =D1 -> עיריית באקה אלגרבייה
B306: =D2 -> שכר ומשרות לפי פרקי תקציב
B307: =D3 -> לתקופה: רבעון 4, שנת 2018
B311: =B6 -> 0 | C311: =C6 -> 0 | D311: =D6 -> תקציב 2018 | E311: =E6 -> 0 | F311: =F6 -> 0 | H311: =H6 -> 0 | I311: =I6 -> 0 | J311: =J6 -> ביצוע בפועל 2018 | K311: =K6 -> 0 | L311: =L6 -> 0 | M311: =M6 -> 0 | N311: =N6 -> הפרש | O311: =O6 -> 0 | ... Q311: =Q6 -> 0
B312: =B7 -> מס' | C312: =C7 -> שם הפרק | D312: =D7 -> מספר משרות | E312: =E7 -> 0 | F312: =F7 -> עלויות שכר | H312: =H7 -> עלות יחסית לתקופת הדוח | I312: =I7 -> 0 | J312: =J7 -> מס' משרות לפי דוח 66 | K312: =K7 -> 0 | L312: =L7 -> עלויות שכר - לפי דוח 66 | M312: =M7 -> 0 | N312: =N7 -> מספר משרות | O312: =O7 -> 0 | ... Q312: =Q7 -> 0
B313: =B8 -> 0 | C313: =C8 -> 0 | D313: =D8 -> 0 | E313: =E8 -> 0 | F313: =F8 -> 0 | H313: =H8 -> 0 | I313: =I8 -> 0 | J313: =J8 -> 0 | K313: =K8 -> 0 | L313: =L8 -> 0 | M313: =M8 -> 0 | N313: =N8 -> 0 | O313: =O8 -> 0 | ... Q313: =Q8 -> 0
B314: =B9 -> 6 | C314: =C9 -> הנהלה וכלליות | D314: =D9 -> 0 | E314: =E9 -> 0 | F314: =F9 -> 0 | H314: =H9 -> 0 | I314: =I9 -> 0 | J314: =J9 -> 0 | K314: =K9 -> 0 | L314: =L9 -> 0 | M314: =M9 -> 0 | N314: =N9 -> 0 | O314: =O9 -> 0 | ... Q314: =Q9 -> 0
B315: =B10 -> 61 | C315: =C10 -> נבחרים | D315: =D10 -> 3 | E315: =E10 -> 0 | F315: =F10 -> 1991 | H315: =H10 -> 1991 | I315: =I10 -> 0 | J315: =J10 -> 3 | K315: =K10 -> 0 | L315: =L10 -> 2223 | M315: =M10 -> 0 | N315: =N10 -> 0 | O315: =O10 -> 0 | ... Q315: =Q10 -> 0
B316: =B11 -> 61 | C316: =C11 -> מנהל כללי | D316: =D11 -> 19.5 | E316: =E11 -> 0 | F316: =F11 -> 4130 | H316: =H11 -> 4130 | I316: =I11 -> 0 | J316: =J11 -> 13.06 | K316: =K11 -> 0 | L316: =L11 -> 3732 | M316: =M11 -> 0 | N316: =N11 -> 6.44 | O316: =O11 -> 0 | ... Q316: =Q11 -> 0
B317: =B12 -> 62 | C317: =C12 -> מנהל כספי | D317: =D12 -> 16 | E317: =E12 -> 0 | F317: =F12 -> 3182 | H317: =H12 -> 3182 | I317: =I12 -> 0 | J317: =J12 -> 12.87 | K317: =K12 -> 0 | L317: =L12 -> 2950 | M317: =M12 -> 0 | N317: =N12 -> 3.13 | O317: =O12 -> 0 | ... Q317: =Q12 -> 0
B318: =B13 -> 0 | C318: =C13 -> סה"כ הנהלה וכלליות | D318: =D13 -> 38.5 | E318: =E13 -> 0 | F318: =F13 -> 9303 | H318: =H13 -> 9303 | I318: =I13 -> 0 | J318: =J13 -> 28.93 | K318: =K13 -> 0 | L318: =L13 -> 8905 | M318: =M13 -> 0 | N318: =N13 -> 9.57 | O318: =O13 -> 0 | P318: =P13 -> 398
B319: =B14 -> 7 | C319: =C14 -> שירותים מקומיים | D319: =D14 -> 0 | E319: =E14 -> 0 | F319: =F14 -> 0 | H319: =H14 -> 0 | I319: =I14 -> 0 | J319: =J14 -> 0 | K319: =K14 -> 0 | L319: =L14 -> 0 | M319: =M14 -> 0 | N319: =N14 -> 0 | O319: =O14 -> 0 | ... Q319: =Q14 -> 0
B320: =B15 -> 71 | C320: =C15 -> תברואה | D320: =D15 -> 6 | E320: =E15 -> 0 | F320: =F15 -> 628 | H320: =H15 -> 628 | I320: =I15 -> 0 | J320: =J15 -> 3.91 | K320: =K15 -> 0 | L320: =L15 -> 602 | M320: =M15 -> 0 | N320: =N15 -> 2.09 | O320: =O15 -> 0 | ... Q320: =Q15 -> 0
B321: =B16 -> 72 | C321: =C16 -> שמירה ובטחון | D321: =D16 -> 12.01 | E321: =E16 -> 0 | F321: =F16 -> 1464 | H321: =H16 -> 1464 | I321: =I16 -> 0 | J321: =J16 -> 9 | K321: =K16 -> 0 | L321: =L16 -> 1280 | M321: =M16 -> 0 | N321: =N16 -> 3.01 | O321: =O16 -> 0 | ... Q321: =Q16 -> 0
B322: =B17 -> 73 | C322: =C17 -> תכנון ובנין עיר | D322: =D17 -> 6 | E322: =E17 -> 0 | F322: =F17 -> 1420 | H322: =H17 -> 1420 | I322: =I17 -> 0 | J322: =J17 -> 5.83 | K322: =K17 -> 0 | L322: =L17 -> 1347 | M322: =M17 -> 0 | N322: =N17 -> 0.17 | O322: =O17 -> 0 | ... Q322: =Q17 -> 0
B323: =B18 -> 74 | C323: =C18 -> נכסים ציבוריים | D323: =D18 -> 5 | E323: =E18 -> 0 | F323: =F18 -> 686 | H323: =H18 -> 686 | I323: =I18 -> 0 | J323: =J18 -> 3.91 | K323: =K18 -> 0 | L323: =L18 -> 614 | M323: =M18 -> 0 | N323: =N18 -> 1.09 | O323: =O18 -> 0 | ... Q323: =Q18 -> 0
B324: =B19 -> 76 | C324: =C19 -> שרותים עירוניים שונים | D324: =D19 -> 0 | E324: =E19 -> 0 | F324: =F19 -> 0 | H324: =H19 -> 0 | I324: =I19 -> 0 | J324: =J19 -> 0 | K324: =K19 -> 0 | L324: =L19 -> 0 | M324: =M19 -> 0 | N324: =N19 -> 0 | O324: =O19 -> 0 | P324: =P19 -> 0
B325: =B20 -> 78 | C325: =C20 -> פיקוח עירוני | D325: =D20 -> 7 | E325: =E20 -> 0 | F325: =F20 -> 906 | H325: =H20 -> 906 | I325: =I20 -> 0 | J325: =J20 -> 6.15 | K325: =K20 -> 0 | L325: =L20 -> 857 | M325: =M20 -> 0 | N325: =N20 -> 0.85 | O325: =O20 -> 0 | ... Q325: =Q20 -> 0
B326: =B21 -> 79 | C326: =C21 -> שירותים חקלאיים | D326: =D21 -> 0 | E326: =E21 -> 0 | F326: =F21 -> 0 | H326: =H21 -> 0 | I326: =I21 -> 0 | J326: =J21 -> 0 | K326: =K21 -> 0 | L326: =L21 -> 0 | M326: =M21 -> 0 | N326: =N21 -> 0 | O326: =O21 -> 0 | ... Q326: =Q21 -> 0
B327: =B22 -> 0 | C327: =C22 -> סה"כ שרותים מקומיים | D327: =D22 -> 36.01 | E327: =E22 -> 0 | F327: =F22 -> 5104 | H327: =H22 -> 5104 | I327: =I22 -> 0 | J327: =J22 -> 28.8 | K327: =K22 -> 0 | L327: =L22 -> 4700 | M327: =M22 -> 0 | N327: =N22 -> 7.21 | O327: =O22 -> 0 | ... Q327: =Q22 -> 0
B328: =B23 -> 8 | C328: =C23 -> שרותים ממלכתיים | D328: =D23 -> 0 | E328: =E23 -> 0 | F328: =F23 -> 0 | H328: =H23 -> 0 | I328: =I23 -> 0 | J328: =J23 -> 0 | K328: =K23 -> 0 | L328: =L23 -> 0 | M328: =M23 -> 0 | N328: =N23 -> 0 | O328: =O23 -> 0 | ... Q328: =Q23 -> 0
B329: =B24 -> 81 | C329: =C24 -> חינוך | D329: =D24 -> 390.45 | E329: =E24 -> 0 | F329: =F24 -> 51231 | H329: =H24 -> 51231 | I329: =I24 -> 0 | J329: =J24 -> 364.04 | K329: =K24 -> 0 | L329: =L24 -> 53654 | M329: =M24 -> 0 | N329: =N24 -> 26.41 | O329: =O24 -> 0 | ... Q329: =Q24 -> 0
B330: =B25 -> 82 | C330: =C25 -> תרבות | D330: =D25 -> 20.3 | E330: =E25 -> 0 | F330: =F25 -> 2627 | H330: =H25 -> 2627 | I330: =I25 -> 0 | J330: =J25 -> 16.09 | K330: =K25 -> 0 | L330: =L25 -> 2385 | M330: =M25 -> 0 | N330: =N25 -> 4.21 | O330: =O25 -> 0 | ... Q330: =Q25 -> 0
B331: =B26 -> 83 | C331: =C26 -> בריאות | D331: =D26 -> 2.75 | E331: =E26 -> 0 | F331: =F26 -> 570 | H331: =H26 -> 570 | I331: =I26 -> 0 | J331: =J26 -> 2.75 | K331: =K26 -> 0 | L331: =L26 -> 565 | M331: =M26 -> 0 | N331: =N26 -> 0 | O331: =O26 -> 0 | ... Q331: =Q26 -> 0
B332: =B27 -> 84 | C332: =C27 -> רווחה | D332: =D27 -> 54.82 | E332: =E27 -> 0 | F332: =F27 -> 6565 | H332: =H27 -> 6565 | I332: =I27 -> 0 | J332: =J27 -> 42.59 | K332: =K27 -> 0 | L332: =L27 -> 6112 | M332: =M27 -> 0 | N332: =N27 -> 12.23 | O332: =O27 -> 0 | ... Q332: =Q27 -> 0
B333: =B28 -> 85 | C333: =C28 -> דת | D333: =D28 -> 0 | E333: =E28 -> 0 | F333: =F28 -> 0 | H333: =H28 -> 0 | I333: =I28 -> 0 | J333: =J28 -> 0 | K333: =K28 -> 0 | L333: =L28 -> 0 | M333: =M28 -> 0 | N333: =N28 -> 0 | O333: =O28 -> 0 | ... Q333: =Q28 -> 0
B334: =B29 -> 86 | C334: =C29 -> קליטת עליה | D334: =D29 -> 0 | E334: =E29 -> 0 | F334: =F29 -> 0 | H334: =H29 -> 0 | I334: =I29 -> 0 | J334: =J29 -> 0 | K334: =K29 -> 0 | L334: =L29 -> 0 | M334: =M29 -> 0 | N334: =N29 -> 0 | O334: =O29 -> 0 | ... Q334: =Q29 -> 0
B335: =B30 -> 87 | C335: =C30 -> איכות סביבה | D335: =D30 -> 0 | E335: =E30 -> 0 | F335: =F30 -> 0 | H335: =H30 -> 0 | I335: =I30 -> 0 | J335: =J30 -> 0 | K335: =K30 -> 0 | L335: =L30 -> 0 | M335: =M30 -> 0 | N335: =N30 -> 0 | O335: =O30 -> 0 | ... Q335: =Q30 -> 0
B336: =B31 -> 0 | C336: =C31 -> סה"כ שרותים ממלכתיים | D336: =D31 -> 468.32 | E336: =E31 -> 0 | F336: =F31 -> 60993 | H336: =H31 -> 60993 | I336: =I31 -> 0 | J336: =J31 -> 425.47 | K336: =K31 -> 0 | L336: =L31 -> 62716 | M336: =M31 -> 0 | N336: =N31 -> 42.85 | O336: =O31 -> 0 | ... Q336: =Q31 -> 0
... B339: =B34 -> 92 | C339: =C34 -> בתי מטבחיים | D339: =D34 -> 0 | E339: =E34 -> 0 | F339: =F34 -> 0 | H339: =H34 -> 0 | I339: =I34 -> 0 | J339: =J34 -> 0 | K339: =K34 -> 0 | L339: =L34 -> 0 | M339: =M34 -> 0 | N339: =N34 -> 0 | O339: =O34 -> 0 | ... Q339: =Q34 -> 0
B340: =B35 -> 93 | C340: =C35 -> נכסים | D340: =D35 -> 3 | E340: =E35 -> 0 | F340: =F35 -> 421 | H340: =H35 -> 421 | I340: =I35 -> 0 | J340: =J35 -> 3 | K340: =K35 -> 0 | L340: =L35 -> 396 | M340: =M35 -> 0 | N340: =N35 -> 0 | O340: =O35 -> 0 | P340: =P35 -> 25
B341: =B36 -> 94 | C341: =C36 -> תחבורה | D341: =D36 -> 0 | E341: =E36 -> 0 | F341: =F36 -> 0 | H341: =H36 -> 0 | I341: =I36 -> 0 | J341: =J36 -> 0 | K341: =K36 -> 0 | L341: =L36 -> 0 | M341: =M36 -> 0 | N341: =N36 -> 0 | O341: =O36 -> 0 | ... Q341: =Q36 -> 0
B342: =B37 -> 97 | C342: =C37 -> מפעלי ביוב | D342: =D37 -> 0 | E342: =E37 -> 0 | F342: =F37 -> 0 | H342: =H37 -> 0 | I342: =I37 -> 0 | J342: =J37 -> 0 | K342: =K37 -> 0 | L342: =L37 -> 0 | M342: =M37 -> 0 | N342: =N37 -> 0 | O342: =O37 -> 0 | ... Q342: =Q37 -> 0
B343: =B38 -> 98 | C343: =C38 -> מפעלים אחרים | D343: =D38 -> 0 | E343: =E38 -> 0 | F343: =F38 -> 0 | H343: =H38 -> 0 | I343: =I38 -> 0 | J343: =J38 -> 0 | K343: =K38 -> 0 | L343: =L38 -> 0 | M343: =M38 -> 0 | N343: =N38 -> 0 | O343: =O38 -> 0 | P343: =P38 -> 0
B344: =B39 -> 0 | C344: =C39 -> סה"כ מפעלים | D344: =D39 -> 4 | E344: =E39 -> 0 | F344: =F39 -> 421 | H344: =H39 -> 421 | I344: =I39 -> 0 | J344: =J39 -> 4 | K344: =K39 -> 0 | L344: =L39 -> 590 | M344: =M39 -> 0 | N344: =N39 -> 0 | O344: =O39 -> 0 | ... Q344: =Q39 -> 0
B345: =B40 -> 0 | C345: =C40 -> 0 | D345: =D40 -> 0 | E345: =E40 -> 0 | F345: =F40 -> 0 | H345: =H40 -> 0 | I345: =I40 -> 0 | J345: =J40 -> 0 | K345: =K40 -> 0 | L345: =L40 -> 0 | M345: =M40 -> 0 | N345: =N40 -> 0 | O345: =O40 -> 0 | ... Q345: =Q40 -> 0
B346: =B41 -> 0 | C346: =C41 -> גימלאים | D346: =D41 -> 24.5 | E346: =E41 -> 0 | F346: =F41 -> 3848 | H346: =H41 -> 3848 | I346: =I41 -> 0 | J346: =J41 -> 24.26 | K346: =K41 -> 0 | L346: =L41 -> 3945 | M346: =M41 -> 0 | N346: =N41 -> 0.24 | O346: =O41 -> 0 | ... Q346: =Q41 -> 0
B347: =B42 -> 0 | C347: =C42 -> 0 | D347: =D42 -> 0 | E347: =E42 -> 0 | F347: =F42 -> 0 | H347: =H42 -> 0 | I347: =I42 -> 0 | J347: =J42 -> 0 | K347: =K42 -> 0 | L347: =L42 -> 0 | M347: =M42 -> 0 | N347: =N42 -> 0 | O347: =O42 -> 0 | ... Q347: =Q42 -> 0
B348: =B43 -> 0 | C348: =C43 -> סה"כ כללי | D348: =D43 -> 571.33 | E348: =E43 -> 0 | F348: =F43 -> 79669 | H348: =H43 -> 79669 | I348: =I43 -> 0 | J348: =J43 -> 511.46 | K348: =K43 -> 0 | L348: =L43 -> 80856 | M348: =M43 -> 0 | N348: =N43 -> 59.87 | O348: =O43 -> 0 | ... Q348: =Q43 -> 0
B349: =B44 -> 0 | C349: =C44 -> 0 | D349: =D44 -> 0 | E349: =E44 -> 0 | F349: =F44 -> 0 | H349: =H44 -> 0 | I349: =I44 -> 0 | J349: =J44 -> 0 | K349: =K44 -> 0 | L349: =L44 -> 0 | M349: =M44 -> 0 | N349: =N44 -> 0 | O349: =O44 -> 0 | P349: =P44 -> 0
B350: =B45 -> 0 | C350: =C45 -> רכישת שרותי כוח אדם | E350: =E45 -> 0 | F350: =D45 -> תקציב 2018 | H350: =H45 -> 0 | I350: =I45 -> 0 | K350: =K45 -> 0 | L350: =CONCATENATE("ביצוע ",Shana) -> ביצוע 2018 | M350: =M45 -> 0 | N350: =N45 -> 0 | O350: =O45 -> 0 | P350: =P45 -> הפרש עלויות | Q350: =Q45 -> 0
B351: =B46 -> 0 | C351: =C46 -> 0 | D351: =D46 -> מספר מועסקים | E351: =E46 -> 0 | F351: =F46 -> עלות כוללת | H351: =H46 -> מספר שעות העסקה | I351: =I46 -> 0 | J351: =J46 -> מספר מועסקים | K351: =K46 -> 0 | L351: =L46 -> עלות כוללת | M351: =M46 -> 0 | N351: =N46 -> מספר שעות העסקה | O351: =O46 -> 0 | ... Q351: =Q46 -> 0
B352: =B48 -> 0 | C352: =C48 -> יועצים חיצוניים | D352: =D48 -> 0 | E352: =E48 -> 0 | F352: =F48 -> 0 | H352: =H48 -> 0 | I352: =I48 -> 0 | J352: =J48 -> 0 | K352: =K48 -> 0 | L352: =L48 -> 0 | M352: =M48 -> 0 | N352: =N48 -> 0 | O352: =O48 -> 0 | ... Q352: =Q48 -> 0
B353: =B49 -> 0 | C353: =C49 -> שירותי כוח אדם מקבלן כ"א | D353: =D49 -> 0 | E353: =E49 -> 0 | F353: =F49 -> 0 | H353: =H49 -> 0 | I353: =I49 -> 0 | J353: =J49 -> 0 | K353: =K49 -> 0 | L353: =L49 -> 0 | M353: =M49 -> 0 | N353: =N49 -> 0 | O353: =O49 -> 0 | ... Q353: =Q49 -> 0
B354: =B50 -> 0 | C354: =C50 -> 0 | D354: =D50 -> 0 | E354: =E50 -> 0 | F354: =F50 -> 0 | H354: =H50 -> 0 | I354: =I50 -> 0 | J354: =J50 -> 0 | K354: =K50 -> 0 | L354: =L50 -> 0 | M354: =M50 -> 0 | N354: =N50 -> 0 | O354: =O50 -> 0 | ... Q354: =Q50 -> 0
B355: =B51 -> 0 | C355: =C51 -> סה"כ | D355: =D51 -> 0 | E355: =E51 -> 0 | F355: =F51 -> 0 | H355: =H51 -> 0 | I355: =I51 -> 0 | J355: =J51 -> 0 | K355: =K51 -> 0 | L355: =L51 -> 0 | M355: =M51 -> 0 | N355: =N51 -> 0 | O355: =O51 -> 0 | ... Q355: =Q51 -> 0
B356: =B52 -> 0 | C356: =C52 -> 0 | D356: =D52 -> 0 | E356: =E52 -> 0 | F356: =F52 -> 0 | H356: =H52 -> 0 | I356: =I52 -> 0 | J356: =J52 -> 0 | K356: =K52 -> 0 | L356: =L52 -> 0 | M356: =M52 -> 0 | N356: =N52 -> 0 | O356: =O52 -> 0 | ... Q356: =Q52 -> 0
B357: =B53 -> 0 | C357: =C53 -> 0 | D357: =D53 -> 0 | E357: =E53 -> 0 | F357: =F53 -> 0 | H357: =H53 -> 0 | I357: =I53 -> 0 | J357: =J53 -> 0 | K357: =K53 -> 0 | L357: =L53 -> 0 | M357: =M53 -> 0 | N357: =N53 -> 0 | O357: =O53 -> 0 | ... Q357: =Q53 -> 0
B358: =B54 -> 0 | C358: =C54 -> 0 | D358: =D54 -> 0 | E358: =E54 -> 0 | F358: =F54 -> 0 | H358: =H54 -> 0 | I358: =I54 -> 0 | J358: =J54 -> 0 | K358: =K54 -> 0 | L358: =L54 -> 0 | M358: =M54 -> 0 | N358: =N54 -> 0 | O358: =O54 -> 0 | ... Q358: =Q54 -> 0
C360: =CONCATENATE("ביקורת: ",BikoretCode) -> ביקורת:

Sheet בעלי שכר גבוה
J1: =GufMevukar -> עיריית באקה אלגרבייה
J2: דוח בעלי השכר הגבוה
J3: =ReportPeriod -> לתקופה: רבעון 4, שנת 2018
A4: הצג תוכן ענינים
B6: =IF(Y38<>0,"חסר ערך בעמודה תיאור תפקיד","") -> #REF! | D6: =IF(OR('הגדרות כלליות'!D20=1,'הגדרות כלליות'!D20=3),CONCATENATE("דוח זה אינו נדרש ברבעון מספר "," ",'הגדרות כלליות'!D20),"")
B7: תיאור התפקיד | D7: ת.ז. | F7: דרוג | H7: דרגה | J7: שכר משולב | L7: תוספות שכר | N7: עבודה נוספת | P7: החזר הוצאות | R7: הפרשים | T7: סה"כ שכר העובד | V7: עלות הפרשות המעביד | X7: עלות שכר כוללת
B8: יועץ משפטי | D8: 23382369 | F8: 5 | H8: 6 | J8: 436301 | P8: 47487 | R8: 17573 | T8: =J8+L8+N8+P8+R8 -> 501361 | V8: 181918 | X8: =V8+T8 -> 683279 | Y8: =IF(AND($B8=0,OR($J8<>0,$L8<>0,$N8<>0,$P8<>0,$R8<>0,$V8<>0)),1,0) -> 0 | Z8: =IF(X8 <>0,X8,"") -> 683279
B9: מהנדס | D9: 23423411 | F9: 5 | H9: 4 | J9: 311838 | P9: 41467 | R9: 29163 | T9: =J9+L9+N9+P9+R9 -> 382468 | V9: 157599 | X9: =V9+T9 -> 540067 | Y9: =IF(AND(#REF!=0,OR($J9<>0,$L9<>0,$N9<>0,$P9<>0,$R9<>0,$V9<>0)),1,0) -> #REF! | Z9: =IF(X9 <>0,X9,"") -> 540067
B10: מורה תיכון | D10: 27596469 | F10: 41 | H10: 1 | J10: 88445 | L10: 115735 | P10: 25415 | R10: 78191 | T10: =J10+L10+N10+P10+R10 -> 307786 | V10: 107331 | X10: =V10+T10 -> 415117 | Y10: =IF(AND(#REF!=0,OR($J10<>0,$L10<>0,$N10<>0,$P10<>0,$R10<>0,$V10<>0)),1,0) -> #REF! | Z10: =IF(X10 <>0,X10,"") -> 415117
B11: מנהל מחלקת חינוך | D11: 23173107 | F11: 5 | H11: 4 | J11: 256082 | P11: 39262 | R11: 21547 | T11: =J11+L11+N11+P11+R11 -> 316891 | V11: 109224 | X11: =V11+T11 -> 426115 | Y11: =IF(AND($B9=0,OR($J11<>0,$L11<>0,$N11<>0,$P11<>0,$R11<>0,$V11<>0)),1,0) -> 0 | Z11: =IF(X11 <>0,X11,"") -> 426115
B12: מורה תיכון | D12: 57618969 | F12: 31 | H12: 7 | J12: 134255 | L12: 7200 | N12: 12508 | P12: 17457 | R12: 128952 | T12: =J12+L12+N12+P12+R12 -> 300372 | V12: 64329 | X12: =V12+T12 -> 364701 | Y12: =IF(AND($B11=0,OR($J12<>0,$L12<>0,$N12<>0,$P12<>0,$R12<>0,$V12<>0)),1,0) -> 0 | Z12: =IF(X12 <>0,X12,"") -> 364701
B13: סמנכ"ל | D13: 24788341 | F13: 5 | H13: 4 | J13: 240839 | P13: 47326 | R13: 22565 | T13: =J13+L13+N13+P13+R13 -> 310730 | V13: 68192 | X13: =V13+T13 -> 378922 | Y13: =IF(AND($B10=0,OR($J13<>0,$L13<>0,$N13<>0,$P13<>0,$R13<>0,$V13<>0)),1,0) -> 0 | Z13: =IF(X13 <>0,X13,"") -> 378922
B14: מנהל מחלקה | D14: 33428806 | F14: 41 | H14: 1 | J14: 68231 | L14: 145501 | P14: 12255 | R14: 57318 | T14: =J14+L14+N14+P14+R14 -> 283305 | V14: 95956 | X14: =V14+T14 -> 379261 | Y14: =IF(AND($B13=0,OR($J14<>0,$L14<>0,$N14<>0,$P14<>0,$R14<>0,$V14<>0)),1,0) -> 0 | Z14: =IF(X14 <>0,X14,"") -> 379261
B15: מורה תיכון | D15: 55774582 | F15: 41 | H15: 1 | J15: 104888 | L15: 80096 | P15: 2417 | R15: 75974 | T15: =J15+L15+N15+P15+R15 -> 263375 | V15: 95590 | X15: =V15+T15 -> 358965 | Y15: =IF(AND($B17=0,OR($J15<>0,$L15<>0,$N15<>0,$P15<>0,$R15<>0,$V15<>0)),1,0) -> 0 | Z15: =IF(X15 <>0,X15,"") -> 358965
B16: מורה תיכון | D16: 53731147 | F16: 41 | H16: 1 | J16: 102067 | L16: 87013 | P16: 12153 | R16: 67592 | T16: =J16+L16+N16+P16+R16 -> 268825 | V16: 93475 | X16: =V16+T16 -> 362300 | Y16: =IF(AND($B16=0,OR($J16<>0,$L16<>0,$N16<>0,$P16<>0,$R16<>0,$V16<>0)),1,0) -> 0 | Z16: =IF(X16 <>0,X16,"") -> 362300
B17: מורה תיכון | D17: 23173487 | F17: 41 | H17: 1 | J17: 91747 | L17: 120748 | P17: 3471 | R17: 49102 | T17: =J17+L17+N17+P17+R17 -> 265068 | V17: 95200 | X17: =V17+T17 -> 360268 | Y17: =IF(AND($B21=0,OR($J17<>0,$L17<>0,$N17<>0,$P17<>0,$R17<>0,$V17<>0)),1,0) -> 0 | Z17: =IF(X17 <>0,X17,"") -> 360268
B18: מנהל מחלקה | D18: 36437374 | F18: 90 | J18: 155166 | N18: 70477 | P18: 34264 | R18: 17488 | T18: =J18+L18+N18+P18+R18 -> 277395 | V18: 87655 | X18: =V18+T18 -> 365050 | Y18: =IF(AND($B18=0,OR($J18<>0,$L18<>0,$N18<>0,$P18<>0,$R18<>0,$V18<>0)),1,0) -> 0 | Z18: =IF(X18 <>0,X18,"") -> 365050
B19: מורה תיכון | D19: 53785762 | F19: 41 | H19: 1 | J19: 105339 | L19: 79579 | P19: 3203 | R19: 66239 | T19: =J19+L19+N19+P19+R19 -> 254360 | V19: 89385 | X19: =V19+T19 -> 343745 | Y19: =IF(AND(#REF!=0,OR($J19<>0,$L19<>0,$N19<>0,$P19<>0,$R19<>0,$V19<>0)),1,0) -> #REF! | Z19: =IF(X19 <>0,X19,"") -> 343745
B20: מורה תיכון | D20: 59897595 | F20: 41 | H20: 1 | J20: 95157 | L20: 91866 | P20: 12173 | R20: 61357 | T20: =J20+L20+N20+P20+R20 -> 260553 | V20: 89609 | X20: =V20+T20 -> 350162 | Y20: =IF(AND(#REF!=0,OR($J20<>0,$L20<>0,$N20<>0,$P20<>0,$R20<>0,$V20<>0)),1,0) -> #REF! | Z20: =IF(X20 <>0,X20,"") -> 350162
B21: מנהל מחלקה | D21: 57619827 | F21: 24 | H21: 3 | J21: 102087 | L21: 37634 | N21: 36433 | P21: 32089 | R21: 62545 | T21: =J21+L21+N21+P21+R21 -> 270788 | V21: 56249 | X21: =V21+T21 -> 327037 | Y21: =IF(AND(#REF!=0,OR($J21<>0,$L21<>0,$N21<>0,$P21<>0,$R21<>0,$V21<>0)),1,0) -> #REF! | Z21: =IF(X21 <>0,X21,"") -> 327037
T22: =J22+L22+N22+P22+R22 -> 0 | X22: =V22+T22 -> 0 | Y22: =IF(AND($B22=0,OR($J22<>0,$L22<>0,$N22<>0,$P22<>0,$R22<>0,$V22<>0)),1,0) -> 0 | Z22: =IF(X22 <>0,X22,"")
T23: =J23+L23+N23+P23+R23 -> 0 | X23: =V23+T23 -> 0 | Y23: =IF(AND($B23=0,OR($J23<>0,$L23<>0,$N23<>0,$P23<>0,$R23<>0,$V23<>0)),1,0) -> 0 | Z23: =IF(X23 <>0,X23,"")
T24: =J24+L24+N24+P24+R24 -> 0 | X24: =V24+T24 -> 0 | Y24: =IF(AND($B24=0,OR($J24<>0,$L24<>0,$N24<>0,$P24<>0,$R24<>0,$V24<>0)),1,0) -> 0 | Z24: =IF(X24 <>0,X24,"")
N25: 0 | T25: =J25+L25+N25+P25+R25 -> 0 | X25: =V25+T25 -> 0 | Y25: =IF(AND($B25=0,OR($J25<>0,$L25<>0,$N25<>0,$P25<>0,$R25<>0,$V25<>0)),1,0) -> 0 | Z25: =IF(X25 <>0,X25,"")
T26: =J26+L26+N26+P26+R26 -> 0 | X26: =V26+T26 -> 0 | Y26: =IF(AND($B26=0,OR($J26<>0,$L26<>0,$N26<>0,$P26<>0,$R26<>0,$V26<>0)),1,0) -> 0 | Z26: =IF(X26 <>0,X26,"")
T27: =J27+L27+N27+P27+R27 -> 0 | X27: =V27+T27 -> 0 | Y27: =IF(AND($B27=0,OR($J27<>0,$L27<>0,$N27<>0,$P27<>0,$R27<>0,$V27<>0)),1,0) -> 0 | Z27: =IF(X27 <>0,X27,"")
T28: =J28+L28+N28+P28+R28 -> 0 | X28: =V28+T28 -> 0 | Y28: =IF(AND($B28=0,OR($J28<>0,$L28<>0,$N28<>0,$P28<>0,$R28<>0,$V28<>0)),1,0) -> 0 | Z28: =IF(X28 <>0,X28,"")
T29: =J29+L29+N29+P29+R29 -> 0 | X29: =V29+T29 -> 0 | Y29: =IF(AND($B29=0,OR($J29<>0,$L29<>0,$N29<>0,$P29<>0,$R29<>0,$V29<>0)),1,0) -> 0 | Z29: =IF(X29 <>0,X29,"")
T30: =J30+L30+N30+P30+R30 -> 0 | X30: =V30+T30 -> 0 | Y30: =IF(AND($B30=0,OR($J30<>0,$L30<>0,$N30<>0,$P30<>0,$R30<>0,$V30<>0)),1,0) -> 0 | Z30: =IF(X30 <>0,X30,"")
T31: =J31+L31+N31+P31+R31 -> 0 | X31: =V31+T31 -> 0 | Y31: =IF(AND($B31=0,OR($J31<>0,$L31<>0,$N31<>0,$P31<>0,$R31<>0,$V31<>0)),1,0) -> 0 | Z31: =IF(X31 <>0,X31,"")
T32: =J32+L32+N32+P32+R32 -> 0 | X32: =V32+T32 -> 0 | Y32: =IF(AND($B32=0,OR($J32<>0,$L32<>0,$N32<>0,$P32<>0,$R32<>0,$V32<>0)),1,0) -> 0 | Z32: =IF(X32 <>0,X32,"")
T33: =J33+L33+N33+P33+R33 -> 0 | X33: =V33+T33 -> 0 | Y33: =IF(AND($B33=0,OR($J33<>0,$L33<>0,$N33<>0,$P33<>0,$R33<>0,$V33<>0)),1,0) -> 0 | Z33: =IF(X33 <>0,X33,"")
T34: =J34+L34+N34+P34+R34 -> 0 | X34: =V34+T34 -> 0 | Y34: =IF(AND($B34=0,OR($J34<>0,$L34<>0,$N34<>0,$P34<>0,$R34<>0,$V34<>0)),1,0) -> 0 | Z34: =IF(X34 <>0,X34,"")
T35: =J35+L35+N35+P35+R35 -> 0 | X35: =V35+T35 -> 0 | Y35: =IF(AND($B35=0,OR($J35<>0,$L35<>0,$N35<>0,$P35<>0,$R35<>0,$V35<>0)),1,0) -> 0 | Z35: =IF(X35 <>0,X35,"")
T36: =J36+L36+N36+P36+R36 -> 0 | X36: =V36+T36 -> 0 | Y36: =IF(AND($B36=0,OR($J36<>0,$L36<>0,$N36<>0,$P36<>0,$R36<>0,$V36<>0)),1,0) -> 0 | Z36: =IF(X36 <>0,X36,"")
T37: =J37+L37+N37+P37+R37 -> 0 | X37: =V37+T37 -> 0 | Y37: =IF(AND($B37=0,OR($J37<>0,$L37<>0,$N37<>0,$P37<>0,$R37<>0,$V37<>0)),1,0) -> 0 | Z37: =IF(X37 <> 0,X37,"")
Y38: =SUM(Y7:Y37) -> #REF!
Z39: =COUNT(Z7:Z37) -> 14
B299: =J1 -> עיריית באקה אלגרבייה
B300: =J2 -> דוח בעלי השכר הגבוה
B301: =J3 -> לתקופה: רבעון 4, שנת 2018
Y305: =Y7 -> 0 | Z305: =Z7 -> 0 | AA305: =AA7 -> 0
B306: =B7 -> תיאור התפקיד | C306: =C7 -> 0 | D306: =D7 -> ת.ז. | E306: =E7 -> 0 | F306: =F7 -> דרוג | G306: =G7 -> 0 | H306: =H7 -> דרגה | I306: =I7 -> 0 | ... X306: =X7 -> עלות שכר כוללת | Y306: =Y8 -> 0 | Z306: =Z8 -> 683279 | AA306: =AA8 -> 0
B307: =B8 -> יועץ משפטי | C307: =C8 -> 0 | D307: =D8 -> 23382369 | E307: =E8 -> 0 | F307: =F8 -> 5 | G307: =G8 -> 0 | H307: =H8 -> 6 | I307: =I8 -> 0 | ... X307: =X8 -> 683279 | Y307: =Y9 -> #REF! | Z307: =Z9 -> 540067 | AA307: =AA9 -> 0
B308: =#REF! -> #REF! | C308: =C9 -> 0 | D308: =#REF! -> #REF! | E308: =E9 -> 0 | F308: =#REF! -> #REF! | G308: =G9 -> 0 | H308: =#REF! -> #REF! | I308: =I9 -> 0 | J308: =J9 -> 311838 | K308: =K9 -> 0 | L308: =L9 -> 0 | M308: =M9 -> 0 | N308: =N9 -> 0 | O308: =O9 -> 0 | P308: =P9 -> 41467 | ... X308: =X9 -> 540067 | Y308: =Y10 -> #REF! | Z308: =Z10 -> 415117 | AA308: =AA10 -> 0
B309: =#REF! -> #REF! | C309: =C10 -> 0 | D309: =#REF! -> #REF! | E309: =E10 -> 0 | F309: =#REF! -> #REF! | G309: =G10 -> 0 | H309: =H10 -> 1 | I309: =I10 -> 0 | J309: =J10 -> 88445 | K309: =K10 -> 0 | L309: =L10 -> 115735 | M309: =M10 -> 0 | N309: =N10 -> 0 | ... X309: =X10 -> 415117 | Y309: =Y11 -> 0 | Z309: =Z11 -> 426115 | AA309: =AA11 -> 0
B310: =B9 -> מהנדס | C310: =C11 -> 0 | D310: =D9 -> 23423411 | E310: =E11 -> 0 | F310: =F9 -> 5 | G310: =G11 -> 0 | H310: =H9 -> 4 | I310: =I11 -> 0 | J310: =J11 -> 256082 | K310: =K11 -> 0 | L310: =L11 -> 0 | M310: =M11 -> 0 | N310: =N11 -> 0 | O310: =O11 -> 0 | P310: =P11 -> 39262 | ... X310: =X11 -> 426115 | Y310: =Y12 -> 0 | Z310: =Z12 -> 364701 | AA310: =AA12 -> 0
B311: =B11 -> מנהל מחלקת חינוך | C311: =C12 -> 0 | D311: =D11 -> 23173107 | E311: =E12 -> 0 | F311: =F12 -> 31 | G311: =G12 -> 0 | H311: =H12 -> 7 | I311: =I12 -> 0 | J311: =J12 -> 134255 | K311: =K12 -> 0 | L311: =L12 -> 7200 | ... X311: =X12 -> 364701 | Y311: =Y13 -> 0 | Z311: =Z13 -> 378922 | AA311: =AA13 -> 0
B312: =B10 -> מורה תיכון | C312: =C13 -> 0 | D312: =D10 -> 27596469 | E312: =E13 -> 0 | F312: =F10 -> 41 | G312: =G13 -> 0 | H312: =H13 -> 4 | I312: =I13 -> 0 | J312: =J13 -> 240839 | K312: =K13 -> 0 | L312: =L13 -> 0 | M312: =M13 -> 0 | N312: =N13 -> 0 | ... X312: =X13 -> 378922 | Y312: =Y14 -> 0 | Z312: =Z14 -> 379261 | AA312: =AA14 -> 0
B313: =B13 -> סמנכ"ל | C313: =C14 -> 0 | D313: =D13 -> 24788341 | E313: =E14 -> 0 | F313: =F14 -> 41 | G313: =G14 -> 0 | H313: =H14 -> 1 | I313: =I14 -> 0 | J313: =J14 -> 68231 | K313: =K14 -> 0 | L313: =L14 -> 145501 | ... X313: =X14 -> 379261 | Y313: =Y15 -> 0 | Z313: =Z15 -> 358965 | AA313: =AA15 -> 0
B314: =B17 -> מורה תיכון | C314: =C15 -> 0 | D314: =D17 -> 23173487 | E314: =E15 -> 0 | F314: =F15 -> 41 | G314: =G15 -> 0 | H314: =H15 -> 1 | I314: =I15 -> 0 | J314: =J15 -> 104888 | K314: =K15 -> 0 | L314: =L15 -> 80096 | ... X314: =X15 -> 358965 | Y314: =Y16 -> 0 | Z314: =Z16 -> 362300 | AA314: =AA16 -> 0
B315: =B16 -> מורה תיכון | C315: =C16 -> 0 | D315: =D16 -> 53731147 | E315: =E16 -> 0 | F315: =F16 -> 41 | G315: =G16 -> 0 | H315: =H16 -> 1 | I315: =I16 -> 0 | ... X315: =X16 -> 362300 | Y315: =Y17 -> 0 | Z315: =Z17 -> 360268 | AA315: =AA17 -> 0
B316: =B21 -> מנהל מחלקה | C316: =C17 -> 0 | D316: =D21 -> 57619827 | E316: =E17 -> 0 | F316: =F17 -> 41 | G316: =G17 -> 0 | H316: =H17 -> 1 | I316: =I17 -> 0 | J316: =J17 -> 91747 | K316: =K17 -> 0 | L316: =L17 -> 120748 | ... X316: =X17 -> 360268 | Y316: =Y18 -> 0 | Z316: =Z18 -> 365050 | AA316: =AA18 -> 0
B317: =B18 -> מנהל מחלקה | C317: =C18 -> 0 | D317: =D18 -> 36437374 | E317: =E18 -> 0 | F317: =F18 -> 90 | G317: =G18 -> 0 | H317: =H18 -> 0 | I317: =I18 -> 0 | ... X317: =X18 -> 365050 | Y317: =Y19 -> #REF! | Z317: =Z19 -> 343745 | AA317: =AA19 -> 0
B318: =#REF! -> #REF! | C318: =C19 -> 0 | D318: =#REF! -> #REF! | E318: =E19 -> 0 | F318: =F19 -> 41 | G318: =G19 -> 0 | H318: =H19 -> 1 | I318: =I19 -> 0 | J318: =J19 -> 105339 | K318: =K19 -> 0 | L318: =L19 -> 79579 | ... X318: =X19 -> 343745 | Y318: =Y20 -> #REF! | Z318: =Z20 -> 350162 | AA318: =AA20 -> 0
B319: =#REF! -> #REF! | C319: =C20 -> 0 | D319: =#REF! -> #REF! | E319: =E20 -> 0 | F319: =F20 -> 41 | G319: =G20 -> 0 | H319: =H20 -> 1 | I319: =I20 -> 0 | J319: =J20 -> 95157 | K319: =K20 -> 0 | L319: =L20 -> 91866 | ... X319: =X20 -> 350162 | Y319: =Y21 -> #REF! | Z319: =Z21 -> 327037 | AA319: =AA21 -> 0
B320: =#REF! -> #REF! | C320: =C21 -> 0 | D320: =#REF! -> #REF! | E320: =E21 -> 0 | F320: =F21 -> 24 | G320: =G21 -> 0 | H320: =H21 -> 3 | I320: =I21 -> 0 | J320: =J21 -> 102087 | K320: =K21 -> 0 | L320: =L21 -> 37634 | ... X320: =X21 -> 327037 | Y320: =Y22 -> 0 | Z320: =Z22 | AA320: =AA22 -> 0
B321: =B22 -> 0 | C321: =C22 -> 0 | D321: =D22 -> 0 | E321: =E22 -> 0 | F321: =F22 -> 0 | G321: =G22 -> 0 | H321: =H22 -> 0 | I321: =I22 -> 0 | ... X321: =X22 -> 0 | Y321: =Y23 -> 0 | Z321: =Z23 | AA321: =AA23 -> 0
B322: =B23 -> 0 | C322: =C23 -> 0 | D322: =D23 -> 0 | E322: =E23 -> 0 | F322: =F23 -> 0 | G322: =G23 -> 0 | H322: =H23 -> 0 | I322: =I23 -> 0 | ... X322: =X23 -> 0 | Y322: =Y24 -> 0 | Z322: =Z24 | AA322: =AA24 -> 0
B323: =B24 -> 0 | C323: =C24 -> 0 | D323: =D24 -> 0 | E323: =E24 -> 0 | F323: =F24 -> 0 | G323: =G24 -> 0 | H323: =H24 -> 0 | I323: =I24 -> 0 | ... X323: =X24 -> 0 | Y323: =Y25 -> 0 | Z323: =Z25 | AA323: =AA25 -> 0
B324: =B25 -> 0 | C324: =C25 -> 0 | D324: =D25 -> 0 | E324: =E25 -> 0 | F324: =F25 -> 0 | G324: =G25 -> 0 | H324: =H25 -> 0 | I324: =I25 -> 0 | ... X324: =X25 -> 0 | Y324: =Y26 -> 0 | Z324: =Z26 | AA324: =AA26 -> 0
B325: =B26 -> 0 | C325: =C26 -> 0 | D325: =D26 -> 0 | E325: =E26 -> 0 | F325: =F26 -> 0 | G325: =G26 -> 0 | H325: =H26 -> 0 | I325: =I26 -> 0 | ... X325: =X26 -> 0 | Y325: =Y27 -> 0 | Z325: =Z27 | AA325: =AA27 -> 0
B326: =B27 -> 0 | C326: =C27 -> 0 | D326: =D27 -> 0 | E326: =E27 -> 0 | F326: =F27 -> 0 | G326: =G27 -> 0 | H326: =H27 -> 0 | I326: =I27 -> 0 | ... X326: =X27 -> 0 | Y326: =Y28 -> 0 | Z326: =Z28 | AA326: =AA28 -> 0
B327: =B28 -> 0 | C327: =C28 -> 0 | D327: =D28 -> 0 | E327: =E28 -> 0 | F327: =F28 -> 0 | G327: =G28 -> 0 | H327: =H28 -> 0 | I327: =I28 -> 0 | ... X327: =X28 -> 0 | Y327: =Y29 -> 0 | Z327: =Z29 | AA327: =AA29 -> 0
B328: =B29 -> 0 | C328: =C29 -> 0 | D328: =D29 -> 0 | E328: =E29 -> 0 | F328: =F29 -> 0 | G328: =G29 -> 0 | H328: =H29 -> 0 | I328: =I29 -> 0 | ... X328: =X29 -> 0 | Y328: =Y30 -> 0 | Z328: =Z30 | AA328: =AA30 -> 0
B329: =B30 -> 0 | C329: =C30 -> 0 | D329: =D30 -> 0 | E329: =E30 -> 0 | F329: =F30 -> 0 | G329: =G30 -> 0 | H329: =H30 -> 0 | I329: =I30 -> 0 | ... X329: =X30 -> 0 | Y329: =Y31 -> 0 | Z329: =Z31 | AA329: =AA31 -> 0
B330: =B31 -> 0 | C330: =C31 -> 0 | D330: =D31 -> 0 | E330: =E31 -> 0 | F330: =F31 -> 0 | G330: =G31 -> 0 | H330: =H31 -> 0 | I330: =I31 -> 0 | ... X330: =X31 -> 0 | Y330: =Y32 -> 0 | Z330: =Z32 | AA330: =AA32 -> 0
B331: =B32 -> 0 | C331: =C32 -> 0 | D331: =D32 -> 0 | E331: =E32 -> 0 | F331: =F32 -> 0 | G331: =G32 -> 0 | H331: =H32 -> 0 | I331: =I32 -> 0 | ... X331: =X32 -> 0 | Y331: =Y33 -> 0 | Z331: =Z33 | AA331: =AA33 -> 0
B332: =B33 -> 0 | C332: =C33 -> 0 | D332: =D33 -> 0 | E332: =E33 -> 0 | F332: =F33 -> 0 | G332: =G33 -> 0 | H332: =H33 -> 0 | I332: =I33 -> 0 | ... X332: =X33 -> 0 | Y332: =Y34 -> 0 | Z332: =Z34 | AA332: =AA34 -> 0
... B337: =B38 -> 0 | C337: =C38 -> 0 | D337: =D38 -> 0 | E337: =E38 -> 0 | F337: =F38 -> 0 | G337: =G38 -> 0 | H337: =H38 -> 0 | I337: =I38 -> 0 | ... X337: =X38 -> 0 | Y337: =Y39 -> 0 | Z337: =Z39 -> 14 | AA337: =AA39 -> 0
B338: =CONCATENATE("ביקורת: ",BikoretCode) -> ביקורת: | C338: =C39 -> 0 | D338: =D39 -> 0 | E338: =E39 -> 0 | F338: =F39 -> 0 | G338: =G39 -> 0 | H338: =H39 -> 0 | I338: =I39 -> 0 | J338: =J39 -> 0 | ... X338: =X39 -> 0 | Y338: =Y40 -> 0 | Z338: =Z40 -> 0 | AA338: =AA40 -> 0
B339: =B40 -> 0 | C339: =C40 -> 0 | D339: =D40 -> 0 | E339: =E40 -> 0 | F339: =F40 -> 0 | G339: =G40 -> 0 | H339: =H40 -> 0 | I339: =I40 -> 0 | ... X339: =X40 -> 0

Sheet הערות הרשות
A1: הצג תוכן ענינים
A3: בגליון זה ניתן להקליד הערות בצורה חופשית. הערות אלה ייקלטו בשרת משרד הפנים אך לא יודפסו בהדפסת כל חוברת העבודה ולא יעברו ל - Word

Sheet ביאורים 1, 2 א-ב ישן
A1: h | F1: =#REF! -> #REF!
F2: באורים לדוחות הכספיים
F3: =CONCATENATE("לשנה שנסתיימה ביום 31 בדצמבר ",#REF!, " (אלפי ש''ח) ") -> #REF!
A4: הצג תוכן ענינים
A5: =F1 -> #REF!
A6: =F2 -> באורים לדוחות הכספיים
B7: =F3 -> #REF!
B8: באור 1 - כללי
B9: א. | C9: הרשויות המקומיות חייבות בניהול מערכת הנהלת חשבונות לפי תקנות הרשויות המקומיות
C10: (הנהלת חשבונות) , התשמ"ח - 1988.
B12: ב. | C12: רישום נתוני הנהלת החשבונות נערך ב"שיטת המזומנים המתוקנת" כמפורט בבאור 2 להלן.
B14: ג. | C14: הדוחות הכספיים נערכו על פי הנחיות הממונה על ביקורת החשבונות במשרד הפנים, כפי
C15: שנקבעו בהנחיות להנהלת חשבונות ודיווח כספי ברשויות מקומיות ,בתוקף היותו גוף אחראי
C16: ומפקח בכל הנוגע לניהול חשבונותיה של רשות מקומית.
C17: הדוחות הכספיים נערכו בהתאם להנחיות הנ"ל השונות מכללי חשבונאות מקובלים בנושאים
C18: מהותיים.
B20: ד. | C20: להלן נתונים על השינויים במדד המחירים לצרכן ובשער החליפין של השקל ביחס לדולר:
G22: =#REF! -> #REF! | H22: =#REF! -> #REF! | I22: =#REF! -> #REF!
C24: שער החליפין של הדולר האמריקאי בש"ח | G24: =#REF! -> #REF! | H24: =#REF! -> #REF! | I24: =#REF! -> #REF!
C25: מדד המחירים לצרכן (ממוצע 1993) בנקודות | G25: =#REF! -> #REF! | H25: =#REF! -> #REF! | I25: =#REF! -> #REF!
C26: שעור עלית (ירידת) הדולר במהלך השנה | G26: =#REF! -> #REF! | H26: =#REF! -> #REF! | I26: =#REF! -> #REF!
C27: שעור עלית המדד במהלך השנה | G27: =#REF! -> #REF! | H27: =#REF! -> #REF! | I27: =#REF! -> #REF!
B29: ה. | C29: התקציב לשנת <שנה> אושר בתחילה ע"י משרד הפנים בתאריך <תאריך> ועדכונו אושר בתאריך <תאריך>.
B31: ו. | C31: שרותים המסופקים ע"י המועצה: [( מיועד למועצות אזוריות בלבד)]
C32: המועצה מספקת את השרותים המפורטים להלן:
C33: שרותי הוצאת אשפה; שרותי תאורת רחובות; ... יתר השרותים מסופקים לתוש/בים ישירות ע"י
C34: הועדים המקומיים. רישום ההכנסות ממכסות הוא על בסיס מזומן / מצטבר (מחק את המיותר)
B36: באור 2 - עיקרי המדיניות החשבונאית
C38: הדוחות ערוכים על בסיס נומינלי היסטורי וללא התאמה לשינויים בכח הקניה הכללי של המטבע הישראלי.
C39: עיקרי המדיניות החשבונאית אשר יושמו בעריכת הדוחות הכספיים באופן עקבי לשנה קודמת
C40: מפורטים להלן:
B42: א. | C42: רכוש קבוע
C44: ההשקעות ברכוש קבוע מופחתות עם זקיפת ההוצאות לתקציב הרגיל או הבלתי רגיל,
C45: בהתאם למקור המימון, ואינן מוצגות כנכס במאזן ופחת בגינן אינו מקבל ביטוי על פני תקופות הדיווח.
B47: ב. | C47: הלוואות שנתקבלו
B49: (1) | C49: הלוואות נרשמות כהכנסות בתקציב הבלתי רגיל עם קבלתן בפועל.
B51: (2) | C51: המאזן אינו כולל את יתרת ההלוואות לזמן ארוך שחבה העירייה (קרן, ריבית והפרשי הצמדה
C52: שנצברו), שכן ההלוואות נרשמו כהכנסות בזמן קבלתן, עומס המלוות לתאריך הדוח הכספי
C53: מוצג כנספח למאזן (נספח 3 לטופס 1).
B55: (3) | C55: פרעון מלוות (כולל קרן , ריבית והפרשי הצמדה/שער) שזמן פרעונם הגיע , לפי לוחות סילוקין,
C56: נזקף כהוצאה בתקציב הרגיל, גם אם לא שולמו בפועל.
B58: (4) | C58: הוצאות ריבית והפרשי הצמדה שהצטברו ושזמן פרעונן, לפי לוחות סילוקין, הוא
C59: לאחר תאריך הדוח הכספי, אינן נרשמות כהוצאה.
B61: (5) | C61: מלוות לצורך שעה (לזמן קצר) ומשיכות יתר מבנקים מוצגות כסעיף מאזני.
B63: (6) | C63: הלוואות לזמן קצר כוללות ריבית והפרשי הצמדה שנצברו עד לתאריך הדוח.
B65: (7) | C65: פרעון מלוות בגין ביוב נכלל בסעיף הוצאות מפעל הביוב / פרעון מלוות.
