Workbook

Sheet רבעון  10-12.20
A1: ארגון רוכש | B1: קבוצה רוכשת | C1: הזמנת רכש | D1: פריט התחייבות | E1: תאור תקנה תקציבית | F1: מטרת התקשרות | G1: תאריך מסמך | H1: סיום תקופת תוקף | I1: ספק | K1: שם הספק | L1: מספר רישום מע"מ | M1: ערך הזמנה + מע"מ | N1: מטבע | O1: ערך הזמנה במ.ט.מ | P1: מטבע מקומי | Q1: ביצוע חשבוניות כולל מע"מ והצמדות במט"מ | R1: יתרת הזמנות נומינלית + מעמ | S1: אופן רכישה מקור | T1: סיבת פטור | U1: רגיש
A2: 5500 | B2: 089 | C2: 4501944518 | D2: =VLOOKUP(C2,[1]תקנות!$A:$B,2,0) -> 41-30-01-19 | E2: =VLOOKUP(C2,[1]תקנות!$A:$C,3,0) -> פעולות מנהל וארגון | F2: ועדה רפואית | G2: 44115 | H2: 44196 | I2: 10000103 | K2: לשכת הבריאות,מחוז ת"א | M2: 479 | N2: ILS | O2: 479 | P2: ILS | Q2: 479 | R2: 0 | S2: =VLOOKUP(C2,[1]גיליון1!$A:$C,3,0) -> 85 | T2: =VLOOKUP(C2,[1]גיליון1!$A:$D,4,0) | U2: לא
A3: 5500 | B3: 089 | C3: 4501944521 | D3: =VLOOKUP(C3,[1]תקנות!$A:$B,2,0) -> 73-30-01-05 | E3: =VLOOKUP(C3,[1]תקנות!$A:$C,3,0) -> פיתוח ותחזוקת מערכות | F3: חידוש רישיונות שימוש בתוכנת ‪GMS‬ | G3: 44115 | H3: 44561 | I3: 40010832 | K3: אנויטק בע"מ | L3: 512336454 | M3: 31824 | N3: ILS | O3: 31824 | P3: ILS | Q3: 0 | R3: 31824 | S3: =VLOOKUP(C3,[1]גיליון1!$A:$C,3,0) -> 23 | T3: =VLOOKUP(C3,[1]גיליון1!$A:$D,4,0) -> 1 | U3: לא
A4: 5500 | B4: 089 | C4: 4501944899 | D4: =VLOOKUP(C4,[1]תקנות!$A:$B,2,0) -> 73-30-01-05 | E4: =VLOOKUP(C4,[1]תקנות!$A:$C,3,0) -> פיתוח ותחזוקת מערכות | F4: מיקרוסופט - טרו אפ | G4: 44116 | H4: 44926 | I4: 40005148 | K4: נס א.ט. בע"מ | L4: 520040122 | M4: 54141.26 | N4: ILS | O4: 54141.26 | P4: ILS | Q4: 48830.13 | R4: 0 | S4: =VLOOKUP(C4,[1]גיליון1!$A:$C,3,0) -> 23 | T4: =VLOOKUP(C4,[1]גיליון1!$A:$D,4,0) -> 1 | U4: לא
A5: 5500 | B5: 089 | C5: 4501944920 | D5: =VLOOKUP(C5,[1]תקנות!$A:$B,2,0) -> 73-30-01-05 | E5: =VLOOKUP(C5,[1]תקנות!$A:$C,3,0) -> פיתוח ותחזוקת מערכות | F5: תחזוקה ושו"שים למערכת הגבייה המשרתת את חשבות המים | G5: 44116 | H5: 44561 | I5: 40001141 | K5: אלעד מערכות תוכנה בע"מ | L5: 510929177 | M5: 40950 | N5: ILS | O5: 40950 | P5: ILS | Q5: 0 | R5: 40950 | S5: =VLOOKUP(C5,[1]גיליון1!$A:$C,3,0) -> 23 | T5: =VLOOKUP(C5,[1]גיליון1!$A:$D,4,0) -> 57 | U5: לא
A6: 5500 | B6: 089 | C6: 4501945021 | D6: =VLOOKUP(C6,[1]תקנות!$A:$B,2,0) -> 73-30-01-25 | E6: =VLOOKUP(C6,[1]תקנות!$A:$C,3,0) -> ייעוץ ופעולות בנושא | F6: ייעוץ הנדסי' טכני לנושאי התפלה וטכנולוגיות מים | G6: 44116 | H6: 44530 | I6: 40010572 | K6: אדן טכנולוגיה ויעוץ כלכלי בע"מ | L6: 511309957 | M6: 1349948.3 | N6: ILS | O6: 1349948.3 | P6: ILS | Q6: 0 | R6: 1349948.3 | S6: =VLOOKUP(C6,[1]גיליון1!$A:$C,3,0) -> 8 | T6: =VLOOKUP(C6,[1]גיליון1!$A:$D,4,0) | U6: לא
A7: 5500 | B7: 089 | C7: 4501946166 | D7: =VLOOKUP(C7,[1]תקנות!$A:$B,2,0) -> 41-30-01-10 | E7: =VLOOKUP(C7,[1]תקנות!$A:$C,3,0) -> הוצאות תפעול | F7: תשלום ועדת ערר. תשלום בגין הוצאות רפואיות. | G7: 44118 | H7: 44196 | I7: 10000086 | K7: משרד הבריאות | M7: 1994 | N7: ILS | O7: 1994 | P7: ILS | Q7: 0 | R7: 1994 | S7: =VLOOKUP(C7,[1]גיליון1!$A:$C,3,0) -> 85 | T7: =VLOOKUP(C7,[1]גיליון1!$A:$D,4,0) | U7: לא
A8: 5500 | B8: 089 | C8: 4501946397 | D8: =VLOOKUP(C8,[1]תקנות!$A:$B,2,0) -> 41-30-01-21 | E8: =VLOOKUP(C8,[1]תקנות!$A:$C,3,0) -> ייעוץ בקרה וליווי | F8: סיוע בתפעול עבור יחידת המכרזים של רשות המים | G8: 44119 | H8: 44473 | I8: 41348059 | K8: אבי מזרחי - יועצים לארגון וניהול בע | L8: 515275659 | M8: 465957.77 | N8: ILS | O8: 465957.77 | P8: ILS | Q8: 119047.26 | R8: 346910.51 | S8: =VLOOKUP(C8,[1]גיליון1!$A:$C,3,0) -> 23 | T8: =VLOOKUP(C8,[1]גיליון1!$A:$D,4,0) -> 5 | U8: לא
A9: 5500 | B9: 089 | C9: 4501946631 | D9: =VLOOKUP(C9,[1]תקנות!$A:$B,2,0) -> 41-30-01-10 | E9: =VLOOKUP(C9,[1]תקנות!$A:$C,3,0) -> הוצאות תפעול | F9: ועדה רפואית | G9: 44119 | H9: 44196 | I9: 10000103 | K9: לשכת הבריאות,מחוז ת"א | M9: 479 | N9: ILS | O9: 479 | P9: ILS | Q9: 479 | R9: 0 | S9: =VLOOKUP(C9,[1]גיליון1!$A:$C,3,0) -> 85 | T9: =VLOOKUP(C9,[1]גיליון1!$A:$D,4,0) | U9: לא
A10: 5500 | B10: 088 | C10: 4501947179 | D10: =VLOOKUP(C10,[1]תקנות!$A:$B,2,0) -> 41-30-01-19 | E10: =VLOOKUP(C10,[1]תקנות!$A:$C,3,0) -> פעולות מנהל וארגון | F10: הזמנת מסגרות לתמונות | G10: 44122 | H10: 44195 | I10: 40001103 | K10: קרביץ (1974) בעמ | L10: 510674039 | M10: 289.93 | N10: ILS | O10: 289.93 | P10: ILS | Q10: 289.93 | R10: 0 | S10: =VLOOKUP(C10,[1]גיליון1!$A:$C,3,0) -> 23 | T10: =VLOOKUP(C10,[1]גיליון1!$A:$D,4,0) -> 57 | U10: לא
A11: 5500 | B11: 089 | C11: 4501947474 | D11: =VLOOKUP(C11,[1]תקנות!$A:$B,2,0) -> 73-30-01-03 | E11: =VLOOKUP(C11,[1]תקנות!$A:$C,3,0) -> איכות מים- ניטור | F11: רכישת מכשירי מדידה של חברת OTT | G11: 44123 | H11: 44316 | I11: 40010597 | K11: מטאו - טק שירותים מטאורולוגיים בע"מ | L11: 511386609 | M11: 77022.27 | N11: ILS | O11: 77022.27 | P11: ILS | Q11: 77022.27 | R11: 0 | S11: =VLOOKUP(C11,[1]גיליון1!$A:$C,3,0) -> 23 | T11: =VLOOKUP(C11,[1]גיליון1!$A:$D,4,0) -> 1 | U11: לא
A12: 5500 | B12: 089 | C12: 4501947503 | D12: =VLOOKUP(C12,[1]תקנות!$A:$B,2,0) -> 73-30-01-03 | E12: =VLOOKUP(C12,[1]תקנות!$A:$C,3,0) -> איכות מים- ניטור | F12: ייצור מתקנים ממתכת ומדי רום מיוחדים | G12: 44123 | H12: 44561 | I12: 40010849 | K12: מתכת יונה בע"מ | L12: 512416538 | M12: 20475 | N12: ILS | O12: 20475 | P12: ILS | Q12: 0 | R12: 20475 | S12: =VLOOKUP(C12,[1]גיליון1!$A:$C,3,0) -> 84 | T12: =VLOOKUP(C12,[1]גיליון1!$A:$D,4,0) | U12: לא
A13: 5500 | B13: 089 | C13: 4501947531 | D13: =VLOOKUP(C13,[1]תקנות!$A:$B,2,0) -> 73-30-01-05 | E13: =VLOOKUP(C13,[1]תקנות!$A:$C,3,0) -> פיתוח ותחזוקת מערכות | F13: יועץ לליווי ועדות היגוי | G13: 44123 | H13: 44561 | I13: 40015817 | K13: הורן יועצים בע"מ | L13: 511450637 | M13: 234000 | N13: ILS | O13: 234000 | P13: ILS | Q13: 0 | R13: 234000 | S13: =VLOOKUP(C13,[1]גיליון1!$A:$C,3,0) -> 84 | T13: =VLOOKUP(C13,[1]גיליון1!$A:$D,4,0) | U13: לא
A14: 5500 | B14: 089 | C14: 4501947539 | D14: =VLOOKUP(C14,[1]תקנות!$A:$B,2,0) -> 73-30-01-03 | E14: =VLOOKUP(C14,[1]תקנות!$A:$C,3,0) -> איכות מים- ניטור | F14: ייצור מתקנים ממתכת ומדי רום מיוחדים עבור מתקנים | G14: 44123 | H14: 44561 | I14: 40010849 | K14: מתכת יונה בע"מ | L14: 512416538 | M14: 59143.5 | N14: ILS | O14: 59143.5 | P14: ILS | Q14: 0 | R14: 59143.5 | S14: =VLOOKUP(C14,[1]גיליון1!$A:$C,3,0) -> 84 | T14: =VLOOKUP(C14,[1]גיליון1!$A:$D,4,0) | U14: לא
A15: 5500 | B15: 089 | C15: 4501947670 | D15: =VLOOKUP(C15,[1]תקנות!$A:$B,2,0) -> 41-30-01-26 | E15: =VLOOKUP(C15,[1]תקנות!$A:$C,3,0) -> היערכות משק המים לשע | F15: שירותי יעוץ לתרגול ספקי המים והביוב | G15: 44123 | H15: 44500 | I15: 40010080 | K15: זק רנר יעקב יוסף | L15: 012019592 | M15: 69966 | N15: ILS | O15: 69966 | P15: ILS | Q15: 19202.63 | R15: 50763.38 | S15: =VLOOKUP(C15,[1]גיליון1!$A:$C,3,0) -> 84 | T15: =VLOOKUP(C15,[1]גיליון1!$A:$D,4,0) | U15: לא
A16: 5500 | B16: 089 | C16: 4501948662 | D16: =VLOOKUP(C16,[1]תקנות!$A:$B,2,0) -> 73-30-01-05 | E16: =VLOOKUP(C16,[1]תקנות!$A:$C,3,0) -> פיתוח ותחזוקת מערכות | F16: חידוש רישוי למתן שירותי תמיכה עדכוני תוכנה תחזוקה | G16: 44125 | H16: 45291 | I16: 40001247 | K16: הראל טכנולוגיות מידע בע"מ | L16: 511401002 | M16: 382861.44 | N16: ILS | O16: 382861.44 | P16: ILS | Q16: 359626.97 | R16: 0 | S16: =VLOOKUP(C16,[1]גיליון1!$A:$C,3,0) -> 84 | T16: =VLOOKUP(C16,[1]גיליון1!$A:$D,4,0) | U16: לא
A17: 5500 | B17: 089 | C17: 4501949139 | D17: =VLOOKUP(C17,[1]תקנות!$A:$B,2,0) -> 73-30-01-03 | E17: =VLOOKUP(C17,[1]תקנות!$A:$C,3,0) -> איכות מים- ניטור | F17: העסקת חזאים למרכז חיזוי שיטפונות | G17: 44126 | H17: 44226 | I17: 40015656 | K17: אביב - ניהול הנדסה ומערכות מידע בע" | L17: 511301657 | M17: 46930.46 | N17: ILS | O17: 46930.46 | P17: ILS | Q17: 0 | R17: 46930.46 | S17: =VLOOKUP(C17,[1]גיליון1!$A:$C,3,0) -> 23 | T17: =VLOOKUP(C17,[1]גיליון1!$A:$D,4,0) -> 88 | U17: לא
A18: 5500 | B18: 089 | C18: 4501949895 | D18: =VLOOKUP(C18,[1]תקנות!$A:$B,2,0) -> 73-30-01-05 | E18: =VLOOKUP(C18,[1]תקנות!$A:$C,3,0) -> פיתוח ותחזוקת מערכות | F18: שדרוג נתב לאתר DR תקופת התקשרות | G18: 44129 | H18: 44705 | I18: 41560706 | K18: בינת עסקים בע"מ | L18: 514752310 | M18: 1680.03 | N18: ILS | O18: 1680.03 | P18: ILS | Q18: 0 | R18: 1680.03 | S18: =VLOOKUP(C18,[1]גיליון1!$A:$C,3,0) -> 7 | T18: =VLOOKUP(C18,[1]גיליון1!$A:$D,4,0) | U18: לא
A19: 5500 | B19: 089 | C19: 4501950523 | D19: =VLOOKUP(C19,[1]תקנות!$A:$B,2,0) -> 41-30-01-20 | E19: =VLOOKUP(C19,[1]תקנות!$A:$C,3,0) -> הדרכה ורווחה | F19: סיור מקוון במוזיאון הישראלי במרכז יצחק רבין | G19: 44130 | H19: 44196 | I19: 40247141 | K19: מרכז יצחק רבין לחקר ישראל | M19: 500 | N19: ILS | O19: 500 | P19: ILS | Q19: 500 | R19: 0 | S19: =VLOOKUP(C19,[1]גיליון1!$A:$C,3,0) -> 23 | T19: =VLOOKUP(C19,[1]גיליון1!$A:$D,4,0) -> 57 | U19: לא
A20: 5500 | B20: 089 | C20: 4501950600 | D20: =VLOOKUP(C20,[1]תקנות!$A:$B,2,0) -> 41-30-01-20 | E20: =VLOOKUP(C20,[1]תקנות!$A:$C,3,0) -> הדרכה ורווחה | F20: קורס הכנה לפרישה | G20: 44130 | H20: 44196 | I20: 40003393 | K20: ענבל חברה לביטוח בע"מ | L20: 520031030 | M20: 2160 | N20: ILS | O20: 2160 | P20: ILS | Q20: 2160 | R20: 0 | S20: =VLOOKUP(C20,[1]גיליון1!$A:$C,3,0) -> 85 | T20: =VLOOKUP(C20,[1]גיליון1!$A:$D,4,0) | U20: לא
A21: 5500 | B21: 089 | C21: 4501950708 | D21: =VLOOKUP(C21,[1]תקנות!$A:$B,2,0) -> 73-30-01-05 | E21: =VLOOKUP(C21,[1]תקנות!$A:$C,3,0) -> פיתוח ותחזוקת מערכות | F21: מערכת גיבויים: הזמנת השלמה לשרתים. | G21: 44131 | H21: 44316 | I21: 40001247 | K21: הראל טכנולוגיות מידע בע"מ | L21: 511401002 | M21: 32538.92 | N21: ILS | O21: 32538.92 | P21: ILS | Q21: 31260.57 | R21: 0 | S21: =VLOOKUP(C21,[1]גיליון1!$A:$C,3,0) -> 7 | T21: =VLOOKUP(C21,[1]גיליון1!$A:$D,4,0) | U21: לא
A22: 5500 | B22: 089 | C22: 4501950991 | D22: =VLOOKUP(C22,[1]תקנות!$A:$B,2,0) -> 73-30-01-05 | E22: =VLOOKUP(C22,[1]תקנות!$A:$C,3,0) -> פיתוח ותחזוקת מערכות | F22: מחשבים ניידים + תיקונים וציוד נלווה | G22: 44131 | H22: 44209 | I22: 40001247 | K22: הראל טכנולוגיות מידע בע"מ | L22: 511401002 | M22: 150515.6 | N22: ILS | O22: 150515.6 | P22: ILS | Q22: 0 | R22: 150515.6 | S22: =VLOOKUP(C22,[1]גיליון1!$A:$C,3,0) -> 7 | T22: =VLOOKUP(C22,[1]גיליון1!$A:$D,4,0) | U22: לא
A23: 5500 | B23: 089 | C23: 4501951005 | D23: =VLOOKUP(C23,[1]תקנות!$A:$B,2,0) -> 73-30-01-03 | E23: =VLOOKUP(C23,[1]תקנות!$A:$C,3,0) -> איכות מים- ניטור | F23: הבנת הקשר בין שאיבות מים בגליל המזרחי לבין רעידות אדמה | G23: 44131 | H23: 44711 | I23: 10000411 | K23: המכון הגיאולוגי | M23: 150000 | N23: ILS | O23: 150000 | P23: ILS | Q23: 0 | R23: 150000 | S23: =VLOOKUP(C23,[1]גיליון1!$A:$C,3,0) -> 85 | T23: =VLOOKUP(C23,[1]גיליון1!$A:$D,4,0) | U23: לא
A24: 5500 | B24: 089 | C24: 4501951084 | D24: =VLOOKUP(C24,[1]תקנות!$A:$B,2,0) -> 73-30-01-05 | E24: =VLOOKUP(C24,[1]תקנות!$A:$C,3,0) -> פיתוח ותחזוקת מערכות | F24: מחשבים נייחים והרחבת אחריות | G24: 44131 | H24: 44227 | I24: 40532479 | K24: זיפקום תקשורת בע"מ | L24: 512781790 | M24: 41559.8 | N24: ILS | O24: 41559.8 | P24: ILS | Q24: 0 | R24: 41559.8 | S24: =VLOOKUP(C24,[1]גיליון1!$A:$C,3,0) -> 7 | T24: =VLOOKUP(C24,[1]גיליון1!$A:$D,4,0) | U24: לא
A25: 5500 | B25: 089 | C25: 4501951217 | D25: =VLOOKUP(C25,[1]תקנות!$A:$B,2,0) -> 73-30-01-05 | E25: =VLOOKUP(C25,[1]תקנות!$A:$C,3,0) -> פיתוח ותחזוקת מערכות | F25: רכש 15 מסכים תצורה 2.4 – מסך 24" | G25: 44131 | H25: 44444 | I25: 40001608 | K25: חיון מחשבים בע"מ | L25: 520041930 | M25: 4833.62 | N25: ILS | O25: 4833.62 | P25: ILS | Q25: 0 | R25: 4833.62 | S25: =VLOOKUP(C25,[1]גיליון1!$A:$C,3,0) -> 7 | T25: =VLOOKUP(C25,[1]גיליון1!$A:$D,4,0) | U25: לא
A26: 5500 | B26: 089 | C26: 4501951289 | D26: =VLOOKUP(C26,[1]תקנות!$A:$B,2,0) -> 73-30-01-05 | E26: =VLOOKUP(C26,[1]תקנות!$A:$C,3,0) -> פיתוח ותחזוקת מערכות | F26: שרות שנתי עבור 3 שרתים לאתר DR רפרנט | G26: 44131 | H26: 44611 | I26: 40001247 | K26: הראל טכנולוגיות מידע בע"מ | L26: 511401002 | M26: 3757.98 | N26: ILS | O26: 3757.98 | P26: ILS | Q26: 0 | R26: 3757.98 | S26: =VLOOKUP(C26,[1]גיליון1!$A:$C,3,0) -> 23 | T26: =VLOOKUP(C26,[1]גיליון1!$A:$D,4,0) -> 57 | U26: לא
A27: 5500 | B27: 089 | C27: 4501951294 | D27: =VLOOKUP(C27,[1]תקנות!$A:$B,2,0) -> 73-30-01-05 | E27: =VLOOKUP(C27,[1]תקנות!$A:$C,3,0) -> פיתוח ותחזוקת מערכות | F27: 50 DOK מוצפנים וחתומים | G27: 44131 | H27: 44196 | I27: 40001247 | K27: הראל טכנולוגיות מידע בע"מ | L27: 511401002 | M27: 2925 | N27: ILS | O27: 2925 | P27: ILS | Q27: 2925 | R27: 0 | S27: =VLOOKUP(C27,[1]גיליון1!$A:$C,3,0) -> 23 | T27: =VLOOKUP(C27,[1]גיליון1!$A:$D,4,0) -> 57 | U27: לא
A28: 5500 | B28: 089 | C28: 4501951300 | D28: =VLOOKUP(C28,[1]תקנות!$A:$B,2,0) -> 73-30-01-05 | E28: =VLOOKUP(C28,[1]תקנות!$A:$C,3,0) -> פיתוח ותחזוקת מערכות | F28: מצלמות ניידים ואחריות לשנה | G28: 44131 | H28: 44196 | I28: 40001210 | K28: מטריקס אי.טי. אינטגרציה ותשתיות בע" | L28: 511204026 | M28: 2340 | N28: ILS | O28: 2340 | P28: ILS | Q28: 0 | R28: 2340 | S28: =VLOOKUP(C28,[1]גיליון1!$A:$C,3,0) -> 23 | T28: =VLOOKUP(C28,[1]גיליון1!$A:$D,4,0) -> 57 | U28: לא
A29: 5500 | B29: 088 | C29: 4501951354 | D29: =VLOOKUP(C29,[1]תקנות!$A:$B,2,0) -> 41-30-01-19 | E29: =VLOOKUP(C29,[1]תקנות!$A:$C,3,0) -> פעולות מנהל וארגון | F29: שירותי שליטה ובקרה - סים דאטה בלבד הוראת תכ"מ 16. | G29: 44131 | H29: 44561 | I29: 40005159 | K29: חברת פרטנר תקשורת בע"מ | L29: 520044314 | M29: 2954.02 | N29: ILS | O29: 2954.02 | P29: ILS | Q29: 537.08 | R29: 2416.94 | S29: =VLOOKUP(C29,[1]גיליון1!$A:$C,3,0) -> 7 | T29: =VLOOKUP(C29,[1]גיליון1!$A:$D,4,0) | U29: לא
A30: 5500 | B30: 089 | C30: 4501951641 | D30: =VLOOKUP(C30,[1]תקנות!$A:$B,2,0) -> 73-30-01-03 | E30: =VLOOKUP(C30,[1]תקנות!$A:$C,3,0) -> איכות מים- ניטור | F30: תיקון מכשירי OTT | G30: 44132 | H30: 44530 | I30: 40010597 | K30: מטאו - טק שירותים מטאורולוגיים בע"מ | L30: 511386609 | M30: 59934.42 | N30: ILS | O30: 59934.42 | P30: ILS | Q30: 22913.28 | R30: 37021.14 | S30: =VLOOKUP(C30,[1]גיליון1!$A:$C,3,0) -> 23 | T30: =VLOOKUP(C30,[1]גיליון1!$A:$D,4,0) -> 1 | U30: לא
A31: 5500 | B31: 089 | C31: 4501951817 | D31: =VLOOKUP(C31,[1]תקנות!$A:$B,2,0) -> 73-30-01-05 | E31: =VLOOKUP(C31,[1]תקנות!$A:$C,3,0) -> פיתוח ותחזוקת מערכות | F31: חידוש שנתי לרישיונות ORACLE IDS ו- IAS לשנת 2021. | G31: 44132 | H31: 44561 | I31: 40001396 | K31: אורקל ישראל בע"מ | L31: 512200502 | M31: 129567.13 | N31: ILS | O31: 129567.13 | P31: ILS | Q31: 0 | R31: 129567.13 | S31: =VLOOKUP(C31,[1]גיליון1!$A:$C,3,0) -> 23 | T31: =VLOOKUP(C31,[1]גיליון1!$A:$D,4,0) -> 1 | U31: לא
A32: 5500 | B32: 089 | C32: 4501951981 | D32: =VLOOKUP(C32,[1]תקנות!$A:$B,2,0) -> 73-30-01-05 | E32: =VLOOKUP(C32,[1]תקנות!$A:$C,3,0) -> פיתוח ותחזוקת מערכות | F32: רכש 4 מדפסות וטונרים | G32: 44133 | H32: 44742 | I32: 40001244 | K32: דנגוט מחשבים בע"מ | L32: 511398836 | M32: 24015.37 | N32: ILS | O32: 24015.37 | P32: ILS | Q32: 23237.07 | R32: 0 | S32: =VLOOKUP(C32,[1]גיליון1!$A:$C,3,0) -> 7 | T32: =VLOOKUP(C32,[1]גיליון1!$A:$D,4,0) | U32: לא
A33: 5500 | B33: 089 | C33: 4501952020 | D33: =VLOOKUP(C33,[1]תקנות!$A:$B,2,0) -> 73-30-01-05 | E33: =VLOOKUP(C33,[1]תקנות!$A:$C,3,0) -> פיתוח ותחזוקת מערכות | F33: אחריות פלוטר לשנה ותיקון | G33: 44133 | H33: 44561 | I33: 40001337 | K33: גרפיטי - שיווק ציוד משרדי ונייר בע" | L33: 511846156 | M33: 2808 | N33: ILS | O33: 2808 | P33: ILS | Q33: 0 | R33: 2808 | S33: =VLOOKUP(C33,[1]גיליון1!$A:$C,3,0) -> 23 | T33: =VLOOKUP(C33,[1]גיליון1!$A:$D,4,0) -> 57 | U33: לא
A34: 5500 | B34: 089 | C34: 4501952046 | D34: =VLOOKUP(C34,[1]תקנות!$A:$B,2,0) -> 73-30-01-05 | E34: =VLOOKUP(C34,[1]תקנות!$A:$C,3,0) -> פיתוח ותחזוקת מערכות | F34: מצלמת זום (אחריות יצרן 2 שנים מלבד נזק פיזי) | G34: 44133 | H34: 44530 | I34: 40942645 | K34: וולקום טכנולוגיות בע"מ | L34: 513702191 | M34: 1246.01 | N34: ILS | O34: 1246.01 | P34: ILS | Q34: 0 | R34: 1246.01 | S34: =VLOOKUP(C34,[1]גיליון1!$A:$C,3,0) -> 23 | T34: =VLOOKUP(C34,[1]גיליון1!$A:$D,4,0) -> 57 | U34: לא
A35: 5500 | B35: 088 | C35: 4501952203 | D35: =VLOOKUP(C35,[1]תקנות!$A:$B,2,0) -> 41-30-01-19 | E35: =VLOOKUP(C35,[1]תקנות!$A:$C,3,0) -> פעולות מנהל וארגון | F35: מכונת צילום ע"פ הוראת תכ"ם 16.5.0.5 מהדורה 03 | G35: 44133 | H35: 44527 | I35: 40001601 | K35: מפעיל בעמ | L35: 520037631 | M35: 3425.25 | N35: ILS | O35: 3425.25 | P35: ILS | Q35: 0 | R35: 3425.25 | S35: =VLOOKUP(C35,[1]גיליון1!$A:$C,3,0) -> 7 | T35: =VLOOKUP(C35,[1]גיליון1!$A:$D,4,0) | U35: לא
... A41: 5500 | B41: 088 | C41: 4501955998 | D41: =VLOOKUP(C41,[1]תקנות!$A:$B,2,0) -> 41-30-01-19 | E41: =VLOOKUP(C41,[1]תקנות!$A:$C,3,0) -> פעולות מנהל וארגון | F41: רכישת פנקס קנסות | G41: 44143 | H41: 44286 | I41: 40304658 | K41: שיא קופי ג.נ הפקות דפוס בע"מ | L41: 513590638 | M41: 877.5 | N41: ILS | O41: 877.5 | P41: ILS | Q41: 0 | R41: 877.5 | S41: =VLOOKUP(C41,[1]גיליון1!$A:$C,3,0) -> 23 | T41: =VLOOKUP(C41,[1]גיליון1!$A:$D,4,0) -> 57 | U41: לא
A42: 5500 | B42: 089 | C42: 4501955999 | D42: =VLOOKUP(C42,[1]תקנות!$A:$B,2,0) -> 41-30-01-20 | E42: =VLOOKUP(C42,[1]תקנות!$A:$C,3,0) -> הדרכה ורווחה | F42: משתתפת בוועדת בוחנים | G42: 44143 | H42: 44196 | I42: 42132406 | K42: זליגר מרה | M42: 1614.6 | N42: ILS | O42: 1614.6 | P42: ILS | Q42: 1614.6 | R42: 0 | S42: =VLOOKUP(C42,[1]גיליון1!$A:$C,3,0) -> 76 | T42: =VLOOKUP(C42,[1]גיליון1!$A:$D,4,0) | U42: לא
A43: 5500 | B43: 089 | C43: 4501956065 | D43: =VLOOKUP(C43,[1]תקנות!$A:$B,2,0) -> 41-30-01-19 | E43: =VLOOKUP(C43,[1]תקנות!$A:$C,3,0) -> פעולות מנהל וארגון | F43: רכש זום עבור 4 רישיונות / מארחים | G43: 44143 | H43: 44514 | I43: 40009639 | K43: מאגרי תוכנה (מ.ת.) בע"מ | L43: 513442442 | M43: 2607.72 | N43: ILS | O43: 2607.72 | P43: ILS | Q43: 2596.14 | R43: 0 | S43: =VLOOKUP(C43,[1]גיליון1!$A:$C,3,0) -> 23 | T43: =VLOOKUP(C43,[1]גיליון1!$A:$D,4,0) -> 57 | U43: לא
A44: 5500 | B44: 089 | C44: 4501959374 | D44: =VLOOKUP(C44,[1]תקנות!$A:$B,2,0) -> 73-30-01-19 | E44: =VLOOKUP(C44,[1]תקנות!$A:$C,3,0) -> תכנון בקרה וייעוץ | F44: ביצוע בקרה טכנו - כלכלית על השקעות והוצאות | G44: 44150 | H44: 44500 | I44: 41041255 | K44: פיאלקוף דבורה דאברא | L44: 300783610 | M44: 200000 | N44: ILS | O44: 200000 | P44: ILS | Q44: 0 | R44: 200000 | S44: =VLOOKUP(C44,[1]גיליון1!$A:$C,3,0) -> 8 | T44: =VLOOKUP(C44,[1]גיליון1!$A:$D,4,0) | U44: לא
A45: 5500 | B45: 088 | C45: 4501960383 | D45: =VLOOKUP(C45,[1]תקנות!$A:$B,2,0) -> 41-30-01-10 | E45: =VLOOKUP(C45,[1]תקנות!$A:$C,3,0) -> הוצאות תפעול | F45: שירותי ניהול ותחזוקה עבור השירות ההידרולוגי בנשר | G45: 44151 | H45: 44561 | I45: 40015645 | K45: פ. פורמן נכסים בע"מ | L45: 512023730 | M45: 29357.64 | N45: ILS | O45: 29357.64 | P45: ILS | Q45: 0 | R45: 29357.64 | S45: =VLOOKUP(C45,[1]גיליון1!$A:$C,3,0) -> 23 | T45: =VLOOKUP(C45,[1]גיליון1!$A:$D,4,0) -> 1 | U45: לא
A46: 5500 | B46: 088 | C46: 4501960402 | D46: =VLOOKUP(C46,[1]תקנות!$A:$B,2,0) -> 41-30-01-10 | E46: =VLOOKUP(C46,[1]תקנות!$A:$C,3,0) -> הוצאות תפעול | F46: תשלום ניהול ואחזקה עבור בית נועם (באר שבע) | G46: 44151 | H46: 44470 | I46: 40003252 | K46: אושירה בע"מ | L46: 511113243 | M46: 57666.96 | N46: ILS | O46: 57666.96 | P46: ILS | Q46: 0 | R46: 57666.96 | S46: =VLOOKUP(C46,[1]גיליון1!$A:$C,3,0) -> 23 | T46: =VLOOKUP(C46,[1]גיליון1!$A:$D,4,0) -> 1 | U46: לא
A47: 5500 | B47: 088 | C47: 4501960414 | D47: =VLOOKUP(C47,[1]תקנות!$A:$B,2,0) -> 41-30-01-10 | E47: =VLOOKUP(C47,[1]תקנות!$A:$C,3,0) -> הוצאות תפעול | F47: חניות במשרדי רשות המים בבית נועם בבאר שבע | G47: 44151 | H47: 44561 | I47: 40003252 | K47: אושירה בע"מ | L47: 511113243 | M47: 26128.44 | N47: ILS | O47: 26128.44 | P47: ILS | Q47: 0 | R47: 26128.44 | S47: =VLOOKUP(C47,[1]גיליון1!$A:$C,3,0) -> 23 | T47: =VLOOKUP(C47,[1]גיליון1!$A:$D,4,0) -> 57 | U47: לא
A48: 5500 | B48: 088 | C48: 4501960451 | D48: =VLOOKUP(C48,[1]תקנות!$A:$B,2,0) -> 41-30-01-10 | E48: =VLOOKUP(C48,[1]תקנות!$A:$C,3,0) -> הוצאות תפעול | F48: הוצ' ותחזוקה ביניין חפציבה ירושלים | G48: 44151 | H48: 44469 | I48: 40004697 | K48: רמות מ.א. ניהול ותחזוקה (1993) בע"מ | L48: 511845497 | M48: 206570.7 | N48: ILS | O48: 206570.7 | P48: ILS | Q48: 0 | R48: 206570.7 | S48: =VLOOKUP(C48,[1]גיליון1!$A:$C,3,0) -> 23 | T48: =VLOOKUP(C48,[1]גיליון1!$A:$D,4,0) -> 1 | U48: לא
A49: 5500 | B49: 088 | C49: 4501960454 | D49: =VLOOKUP(C49,[1]תקנות!$A:$B,2,0) -> 41-30-01-10 | E49: =VLOOKUP(C49,[1]תקנות!$A:$C,3,0) -> הוצאות תפעול | F49: נסיעת רכב ממשלתי (רכבי איגום ) | G49: 44151 | H49: 44561 | I49: 40333585 | K49: קבוצת כרמלטון בע"מ | L49: 512542721 | M49: 1000 | N49: ILS | O49: 1000 | P49: ILS | Q49: 0 | R49: 1000 | S49: =VLOOKUP(C49,[1]גיליון1!$A:$C,3,0) -> 7 | T49: =VLOOKUP(C49,[1]גיליון1!$A:$D,4,0) | U49: לא
A50: 5500 | B50: 088 | C50: 4501960461 | D50: =VLOOKUP(C50,[1]תקנות!$A:$B,2,0) -> 41-30-01-10 | E50: =VLOOKUP(C50,[1]תקנות!$A:$C,3,0) -> הוצאות תפעול | F50: אספקת נוזל לניקוי שמשות רכב | G50: 44151 | H50: 44286 | I50: 40427007 | K50: ח.נ. טכניק מרכז לאספקה בע"מ | L50: 514062736 | M50: 749.97 | N50: ILS | O50: 749.97 | P50: ILS | Q50: 0 | R50: 749.97 | S50: =VLOOKUP(C50,[1]גיליון1!$A:$C,3,0) -> 23 | T50: =VLOOKUP(C50,[1]גיליון1!$A:$D,4,0) -> 57 | U50: לא
A51: 5500 | B51: 088 | C51: 4501960474 | D51: =VLOOKUP(C51,[1]תקנות!$A:$B,2,0) -> 41-30-01-10 | E51: =VLOOKUP(C51,[1]תקנות!$A:$C,3,0) -> הוצאות תפעול | F51: אגרת רישוי לרכבי רשות המים לשנת 2021 | G51: 44151 | H51: 44561 | I51: 10000160 | K51: משרד התחבורה | M51: 128000 | N51: ILS | O51: 128000 | P51: ILS | Q51: 0 | R51: 128000 | S51: =VLOOKUP(C51,[1]גיליון1!$A:$C,3,0) -> 85 | T51: =VLOOKUP(C51,[1]גיליון1!$A:$D,4,0) | U51: לא
A52: 5500 | B52: 088 | C52: 4501960475 | D52: =VLOOKUP(C52,[1]תקנות!$A:$B,2,0) -> 41-30-01-10 | E52: =VLOOKUP(C52,[1]תקנות!$A:$C,3,0) -> הוצאות תפעול | F52: דמי ניהול עבור ברקן תוקף: 1.1.2021-31.12.2021 | G52: 44151 | H52: 44561 | I52: 42004412 | K52: אי בי סנטר נכסים בע"מ | L52: 515791598 | M52: 5007.51 | N52: ILS | O52: 5007.51 | P52: ILS | Q52: 0 | R52: 5007.51 | S52: =VLOOKUP(C52,[1]גיליון1!$A:$C,3,0) -> 23 | T52: =VLOOKUP(C52,[1]גיליון1!$A:$D,4,0) -> 57 | U52: לא
A53: 5500 | B53: 088 | C53: 4501960481 | D53: =VLOOKUP(C53,[1]תקנות!$A:$B,2,0) -> 41-30-01-10 | E53: =VLOOKUP(C53,[1]תקנות!$A:$C,3,0) -> הוצאות תפעול | F53: דמי ניהול ותחזוקה לשטחים חיצוניים ופנימיים | G53: 44151 | H53: 44561 | I53: 41372013 | K53: ש.י.ק. מבנים בגליל בע"מ | L53: 511589129 | M53: 50740.56 | N53: ILS | O53: 50740.56 | P53: ILS | Q53: 0 | R53: 50740.56 | S53: =VLOOKUP(C53,[1]גיליון1!$A:$C,3,0) -> 23 | T53: =VLOOKUP(C53,[1]גיליון1!$A:$D,4,0) -> 1 | U53: לא
A54: 5500 | B54: 088 | C54: 4501960490 | D54: =VLOOKUP(C54,[1]תקנות!$A:$B,2,0) -> 41-30-01-10 | E54: =VLOOKUP(C54,[1]תקנות!$A:$C,3,0) -> הוצאות תפעול | F54: ארנונה בניין חפציבה 386.5 מ"ר * 342 ש"ח למ"ר | G54: 44151 | H54: 44561 | I54: 20000159 | K54: עירית ירושלים | L54: 500230008 | M54: 136048 | N54: ILS | O54: 136048 | P54: ILS | Q54: 0 | R54: 136048 | S54: =VLOOKUP(C54,[1]גיליון1!$A:$C,3,0) -> 90 | T54: =VLOOKUP(C54,[1]גיליון1!$A:$D,4,0) | U54: לא
A55: 5500 | B55: 088 | C55: 4501960495 | D55: =VLOOKUP(C55,[1]תקנות!$A:$B,2,0) -> 41-30-01-10 | E55: =VLOOKUP(C55,[1]תקנות!$A:$C,3,0) -> הוצאות תפעול | F55: הידרומטריה צפון - נשר: תשלום ארנונה לשנת 2021 | G55: 44151 | H55: 44561 | I55: 20000141 | K55: עירית נשר | L55: 500225008 | M55: 20364 | N55: ILS | O55: 20364 | P55: ILS | Q55: 9530 | R55: 10834 | S55: =VLOOKUP(C55,[1]גיליון1!$A:$C,3,0) -> 90 | T55: =VLOOKUP(C55,[1]גיליון1!$A:$D,4,0) | U55: לא
A56: 5500 | B56: 088 | C56: 4501960600 | D56: =VLOOKUP(C56,[1]תקנות!$A:$B,2,0) -> 41-30-01-10 | E56: =VLOOKUP(C56,[1]תקנות!$A:$C,3,0) -> הוצאות תפעול | F56: תשלומי ארנונה למ.א. שומרון - משרדי צפ"א בברקן | G56: 44152 | H56: 44561 | I56: 20000232 | K56: מ. א. שומרון | L56: 500273727 | M56: 17244 | N56: ILS | O56: 17244 | P56: ILS | Q56: 0 | R56: 17244 | S56: =VLOOKUP(C56,[1]גיליון1!$A:$C,3,0) -> 90 | T56: =VLOOKUP(C56,[1]גיליון1!$A:$D,4,0) | U56: לא
A57: 5500 | B57: 088 | C57: 4501960604 | D57: =VLOOKUP(C57,[1]תקנות!$A:$B,2,0) -> 41-30-01-10 | E57: =VLOOKUP(C57,[1]תקנות!$A:$C,3,0) -> הוצאות תפעול | F57: תשלומי ארנונה למועצה האזורית ראש פינה עבור הנכס | G57: 44152 | H57: 44561 | I57: 20000001 | K57: מ. מ. ראש פינה | M57: 42350 | N57: ILS | O57: 42350 | P57: ILS | Q57: 0 | R57: 42350 | S57: =VLOOKUP(C57,[1]גיליון1!$A:$C,3,0) -> 90 | T57: =VLOOKUP(C57,[1]גיליון1!$A:$D,4,0) | U57: לא
A58: 5500 | B58: 088 | C58: 4501960610 | D58: =VLOOKUP(C58,[1]תקנות!$A:$B,2,0) -> 41-30-01-10 | E58: =VLOOKUP(C58,[1]תקנות!$A:$C,3,0) -> הוצאות תפעול | F58: תשלומי ארנונה עיריית ב"ש עבור בית נועם לשנת 2021 | G58: 44152 | H58: 44561 | I58: 20000254 | K58: עירית באר שבע | L58: 500290002 | M58: 48578.6 | N58: ILS | O58: 48578.6 | P58: ILS | Q58: 0 | R58: 48578.6 | S58: =VLOOKUP(C58,[1]גיליון1!$A:$C,3,0) -> 90 | T58: =VLOOKUP(C58,[1]גיליון1!$A:$D,4,0) | U58: לא
A59: 5500 | B59: 088 | C59: 4501960617 | D59: =VLOOKUP(C59,[1]תקנות!$A:$B,2,0) -> 41-30-01-10 | E59: =VLOOKUP(C59,[1]תקנות!$A:$C,3,0) -> הוצאות תפעול | F59: ארנונה לבנין ג'נרי 2021 | G59: 44152 | H59: 44286 | I59: 20000159 | K59: עירית ירושלים | L59: 500230008 | M59: 465301.74 | N59: ILS | O59: 465301.74 | P59: ILS | Q59: 0 | R59: 465301.74 | S59: =VLOOKUP(C59,[1]גיליון1!$A:$C,3,0) -> 90 | T59: =VLOOKUP(C59,[1]גיליון1!$A:$D,4,0) | U59: לא
A60: 5500 | B60: 088 | C60: 4501960623 | D60: =VLOOKUP(C60,[1]תקנות!$A:$B,2,0) -> 41-30-01-10 | E60: =VLOOKUP(C60,[1]תקנות!$A:$C,3,0) -> הוצאות תפעול | F60: תשלומים שוטפים עבור צריכת חשמל במשרדי רשות המים | G60: 44152 | H60: 44561 | I60: 40001579 | K60: חברת החשמל לישראל בעמ | L60: 520000472 | M60: 89246.43 | N60: ILS | O60: 89246.43 | P60: ILS | Q60: 0 | R60: 89246.43 | S60: =VLOOKUP(C60,[1]גיליון1!$A:$C,3,0) -> 90 | T60: =VLOOKUP(C60,[1]גיליון1!$A:$D,4,0) | U60: לא
A61: 5500 | B61: 088 | C61: 4501960627 | D61: =VLOOKUP(C61,[1]תקנות!$A:$B,2,0) -> 41-30-01-10 | E61: =VLOOKUP(C61,[1]תקנות!$A:$C,3,0) -> הוצאות תפעול | F61: תשלום עבור חיובי מים וחשמל בנין ג'נרי 2 ירושלים | G61: 44152 | H61: 44377 | I61: 40003408 | K61: אנרג'י - מערכי אנרגיה לירושלים | L61: 550017644 | M61: 675974.15 | N61: ILS | O61: 675974.15 | P61: ILS | Q61: 0 | R61: 675974.15 | S61: =VLOOKUP(C61,[1]גיליון1!$A:$C,3,0) -> 90 | T61: =VLOOKUP(C61,[1]גיליון1!$A:$D,4,0) | U61: לא
A62: 5500 | B62: 088 | C62: 4501960704 | D62: =VLOOKUP(C62,[1]תקנות!$A:$B,2,0) -> 41-30-01-10 | E62: =VLOOKUP(C62,[1]תקנות!$A:$C,3,0) -> הוצאות תפעול | F62: ניקיון אבטחה ושירותים נוספים רבעון ראשון לשנת 2021 | G62: 44152 | H62: 44377 | I62: 41111486 | K62: אלייד - ג'נרי 2 בע"מ | L62: 514961853 | M62: 817051.48 | N62: ILS | O62: 817051.48 | P62: ILS | Q62: 0 | R62: 817051.48 | S62: =VLOOKUP(C62,[1]גיליון1!$A:$C,3,0) -> 23 | T62: =VLOOKUP(C62,[1]גיליון1!$A:$D,4,0) -> 1 | U62: לא
A63: 5500 | B63: 088 | C63: 4501960713 | D63: =VLOOKUP(C63,[1]תקנות!$A:$B,2,0) -> 41-30-01-10 | E63: =VLOOKUP(C63,[1]תקנות!$A:$C,3,0) -> הוצאות תפעול | F63: חניה עבור בניין ג'נרי 2 לעובדים לשנת 2021, | G63: 44152 | H63: 44561 | I63: 41111486 | K63: אלייד - ג'נרי 2 בע"מ | L63: 514961853 | M63: 293999.99 | N63: ILS | O63: 293999.99 | P63: ILS | Q63: 0 | R63: 293999.99 | S63: =VLOOKUP(C63,[1]גיליון1!$A:$C,3,0) -> 23 | T63: =VLOOKUP(C63,[1]גיליון1!$A:$D,4,0) -> 1 | U63: לא
A64: 5500 | B64: 088 | C64: 4501960714 | D64: =VLOOKUP(C64,[1]תקנות!$A:$B,2,0) -> 41-30-01-10 | E64: =VLOOKUP(C64,[1]תקנות!$A:$C,3,0) -> הוצאות תפעול | F64: פנגו שירותי חניה עבור רכבי רשות המים לשנת 2021 | G64: 44152 | H64: 44561 | I64: 40413627 | K64: פנגו פיי אנד גו בע"מ | L64: 514020015 | M64: 38387.99 | N64: ILS | O64: 38387.99 | P64: ILS | Q64: 0 | R64: 38387.99 | S64: =VLOOKUP(C64,[1]גיליון1!$A:$C,3,0) -> 23 | T64: =VLOOKUP(C64,[1]גיליון1!$A:$D,4,0) -> 57 | U64: לא
A65: 5500 | B65: 088 | C65: 4501960728 | D65: =VLOOKUP(C65,[1]תקנות!$A:$B,2,0) -> 41-30-01-10 | E65: =VLOOKUP(C65,[1]תקנות!$A:$C,3,0) -> הוצאות תפעול | F65: מתן שירותי ניקיון ותחזוקה לאתרים שונים של רשות המים | G65: 44152 | H65: 44561 | I65: 40209444 | K65: פרח השקד בע"מ | L65: 511511503 | M65: 273624.39 | N65: ILS | O65: 273624.39 | P65: ILS | Q65: 0 | R65: 273624.39 | S65: =VLOOKUP(C65,[1]גיליון1!$A:$C,3,0) -> 84 | T65: =VLOOKUP(C65,[1]גיליון1!$A:$D,4,0) | U65: לא
A66: 5500 | B66: 088 | C66: 4501960758 | D66: =VLOOKUP(C66,[1]תקנות!$A:$B,2,0) -> 41-30-01-10 | E66: =VLOOKUP(C66,[1]תקנות!$A:$C,3,0) -> הוצאות תפעול | F66: נסיעת רכב ממשלתי בכביש אגרה "הנתיב המהיר" | G66: 44152 | H66: 44561 | I66: 40468850 | K66: הנתיב המהיר בע"מ | L66: 513795088 | M66: 2340 | N66: ILS | O66: 2340 | P66: ILS | Q66: 0 | R66: 2340 | S66: =VLOOKUP(C66,[1]גיליון1!$A:$C,3,0) -> 7 | T66: =VLOOKUP(C66,[1]גיליון1!$A:$D,4,0) | U66: לא
A67: 5500 | B67: 088 | C67: 4501960947 | D67: =VLOOKUP(C67,[1]תקנות!$A:$B,2,0) -> 41-30-01-10 | E67: =VLOOKUP(C67,[1]תקנות!$A:$C,3,0) -> הוצאות תפעול | F67: סלופארק שירותי חניה עבור רכבי רשות המים לשנת 2021 | G67: 44152 | H67: 44561 | I67: 40404317 | K67: סלופארק טכנולוגיות בע"מ | L67: 513513366 | M67: 38387.99 | N67: ILS | O67: 38387.99 | P67: ILS | Q67: 0 | R67: 38387.99 | S67: =VLOOKUP(C67,[1]גיליון1!$A:$C,3,0) -> 23 | T67: =VLOOKUP(C67,[1]גיליון1!$A:$D,4,0) -> 57 | U67: לא
A68: 5500 | B68: 088 | C68: 4501961205 | D68: =VLOOKUP(C68,[1]תקנות!$A:$B,2,0) -> 41-30-01-10 | E68: =VLOOKUP(C68,[1]תקנות!$A:$C,3,0) -> הוצאות תפעול | F68: 2021 ביטוח עבור מבנים ענבל לשנת בכפוף להוראת תכ"ם ה.4.1.0.1 | G68: 44153 | H68: 44561 | I68: 40003393 | K68: ענבל חברה לביטוח בע"מ | L68: 520031030 | M68: 182175 | N68: ILS | O68: 182175 | P68: ILS | Q68: 0 | R68: 182175 | S68: =VLOOKUP(C68,[1]גיליון1!$A:$C,3,0) -> 85 | T68: =VLOOKUP(C68,[1]גיליון1!$A:$D,4,0) | U68: לא
A69: 5500 | B69: 089 | C69: 4501961534 | D69: =VLOOKUP(C69,[1]תקנות!$A:$B,2,0) -> 41-30-01-20 | E69: =VLOOKUP(C69,[1]תקנות!$A:$C,3,0) -> הדרכה ורווחה | F69: יישום והטמעה של תהליכים ארגוניים עבור רשות המים | G69: 44153 | H69: 44500 | I69: 40283292 | K69: ביון אי טי סולושנס בע"מ | L69: 513272781 | M69: 164483.87 | N69: ILS | O69: 164483.87 | P69: ILS | Q69: 0 | R69: 164483.87 | S69: =VLOOKUP(C69,[1]גיליון1!$A:$C,3,0) -> 84 | T69: =VLOOKUP(C69,[1]גיליון1!$A:$D,4,0) | U69: לא
... A79: 5500 | B79: 088 | C79: 4501963921 | D79: =VLOOKUP(C79,[1]תקנות!$A:$B,2,0) -> 41-30-01-10 | E79: =VLOOKUP(C79,[1]תקנות!$A:$C,3,0) -> הוצאות תפעול | F79: תשלום עבור ממיר אחד בבית נועם לשנת 2021 | G79: 44159 | H79: 44561 | I79: 40011045 | K79: הוט - מערכות תקשורת בע"מ | L79: 520040072 | M79: 884.52 | N79: ILS | O79: 884.52 | P79: ILS | Q79: 0 | R79: 884.52 | S79: =VLOOKUP(C79,[1]גיליון1!$A:$C,3,0) -> 23 | T79: =VLOOKUP(C79,[1]גיליון1!$A:$D,4,0) -> 57 | U79: לא
A80: 5500 | B80: 088 | C80: 4501963941 | D80: =VLOOKUP(C80,[1]תקנות!$A:$B,2,0) -> 41-30-01-10 | E80: =VLOOKUP(C80,[1]תקנות!$A:$C,3,0) -> הוצאות תפעול | F80: מערכת כספת ממוחשבת ל5 שנים | G80: 44159 | H80: 44561 | I80: 10000028 | K80: משטרת ישראל | M80: 13000 | N80: ILS | O80: 13000 | P80: ILS | Q80: 0 | R80: 13000 | S80: =VLOOKUP(C80,[1]גיליון1!$A:$C,3,0) -> 85 | T80: =VLOOKUP(C80,[1]גיליון1!$A:$D,4,0) | U80: לא
A81: 5500 | B81: 088 | C81: 4501963960 | D81: =VLOOKUP(C81,[1]תקנות!$A:$B,2,0) -> 41-30-01-10 | E81: =VLOOKUP(C81,[1]תקנות!$A:$C,3,0) -> הוצאות תפעול | F81: תחזוקת מכשירי ביפר | G81: 44159 | H81: 44712 | I81: 40001227 | K81: ביפר תקשורת ישראל בע"מ | L81: 511284283 | M81: 3510 | N81: ILS | O81: 3510 | P81: ILS | Q81: 0 | R81: 3510 | S81: =VLOOKUP(C81,[1]גיליון1!$A:$C,3,0) -> 23 | T81: =VLOOKUP(C81,[1]גיליון1!$A:$D,4,0) -> 57 | U81: לא
A82: 5500 | B82: 088 | C82: 4501963998 | D82: =VLOOKUP(C82,[1]תקנות!$A:$B,2,0) -> 41-30-01-10 | E82: =VLOOKUP(C82,[1]תקנות!$A:$C,3,0) -> הוצאות תפעול | F82: תשלום עבור תחזוקה ואחריות מכשירי תמי4 | G82: 44159 | H82: 44561 | I82: 40386641 | K82: שטראוס מים בע"מ | L82: 513919779 | M82: 3709.33 | N82: ILS | O82: 3709.33 | P82: ILS | Q82: 0 | R82: 3709.33 | S82: =VLOOKUP(C82,[1]גיליון1!$A:$C,3,0) -> 7 | T82: =VLOOKUP(C82,[1]גיליון1!$A:$D,4,0) | U82: לא
A83: 5500 | B83: 088 | C83: 4501964025 | D83: =VLOOKUP(C83,[1]תקנות!$A:$B,2,0) -> 41-30-01-10 | E83: =VLOOKUP(C83,[1]תקנות!$A:$C,3,0) -> הוצאות תפעול | F83: הדפסת כרטיסי ביקור לעובדי רשות המים עפ"י הצורך | G83: 44159 | H83: 44561 | I83: 40304658 | K83: שיא קופי ג.נ הפקות דפוס בע"מ | L83: 513590638 | M83: 4914 | N83: ILS | O83: 4914 | P83: ILS | Q83: 0 | R83: 4914 | S83: =VLOOKUP(C83,[1]גיליון1!$A:$C,3,0) -> 23 | T83: =VLOOKUP(C83,[1]גיליון1!$A:$D,4,0) -> 57 | U83: לא
A84: 5500 | B84: 088 | C84: 4501964033 | D84: =VLOOKUP(C84,[1]תקנות!$A:$B,2,0) -> 41-30-01-10 | E84: =VLOOKUP(C84,[1]תקנות!$A:$C,3,0) -> הוצאות תפעול | F84: תשלום עבור חידוש רשיונות לרשת תחנות אלחוטית | G84: 44159 | H84: 44561 | I84: 10000176 | K84: משרד התקשורת | M84: 2769.8 | N84: ILS | O84: 2769.8 | P84: ILS | Q84: 0 | R84: 2769.8 | S84: =VLOOKUP(C84,[1]גיליון1!$A:$C,3,0) -> 85 | T84: =VLOOKUP(C84,[1]גיליון1!$A:$D,4,0) | U84: לא
A85: 5500 | B85: 088 | C85: 4501964053 | D85: =VLOOKUP(C85,[1]תקנות!$A:$B,2,0) -> 41-30-01-20 | E85: =VLOOKUP(C85,[1]תקנות!$A:$C,3,0) -> הדרכה ורווחה | F85: מנוי שנתי לשנת 2021 - ג'רוזלם פוסט | G85: 44159 | H85: 44561 | I85: 40001417 | K85: ג'רוזלם פוסט בע"מ | L85: 512311598 | M85: 1529.1 | N85: ILS | O85: 1529.1 | P85: ILS | Q85: 0 | R85: 1529.1 | S85: =VLOOKUP(C85,[1]גיליון1!$A:$C,3,0) -> 23 | T85: =VLOOKUP(C85,[1]גיליון1!$A:$D,4,0) -> 57 | U85: לא
A86: 5500 | B86: 088 | C86: 4501964062 | D86: =VLOOKUP(C86,[1]תקנות!$A:$B,2,0) -> 41-30-01-20 | E86: =VLOOKUP(C86,[1]תקנות!$A:$C,3,0) -> הדרכה ורווחה | F86: רכישת מנוי גלובס | G86: 44159 | H86: 44561 | I86: 40001158 | K86: גלובס פבלישר עתונות (1983) בע"מ | L86: 510989940 | M86: 7034.04 | N86: ILS | O86: 7034.04 | P86: ILS | Q86: 0 | R86: 7034.04 | S86: =VLOOKUP(C86,[1]גיליון1!$A:$C,3,0) -> 23 | T86: =VLOOKUP(C86,[1]גיליון1!$A:$D,4,0) -> 57 | U86: לא
A87: 5500 | B87: 089 | C87: 4501964074 | D87: =VLOOKUP(C87,[1]תקנות!$A:$B,2,0) -> 41-30-01-22 | E87: =VLOOKUP(C87,[1]תקנות!$A:$C,3,0) -> חסכון במים הסברה | F87: דפוס רובין - 2 רולאפים | G87: 44159 | H87: 44196 | I87: 40004441 | K87: רובין ר.י.ד. בע"מ | L87: 511237844 | M87: 772.2 | N87: ILS | O87: 772.2 | P87: ILS | Q87: 596.7 | R87: 175.5 | S87: =VLOOKUP(C87,[1]גיליון1!$A:$C,3,0) -> 23 | T87: =VLOOKUP(C87,[1]גיליון1!$A:$D,4,0) -> 57 | U87: לא
A88: 5500 | B88: 088 | C88: 4501964082 | D88: =VLOOKUP(C88,[1]תקנות!$A:$B,2,0) -> 41-30-01-20 | E88: =VLOOKUP(C88,[1]תקנות!$A:$C,3,0) -> הדרכה ורווחה | F88: מנוי שנתי לעיתן הארץ לשנת 2020 | G88: 44159 | H88: 44561 | I88: 40001037 | K88: הוצאת עתון הארץ בע"מ | L88: 510015449 | M88: 12768.58 | N88: ILS | O88: 12768.58 | P88: ILS | Q88: 0 | R88: 12768.58 | S88: =VLOOKUP(C88,[1]גיליון1!$A:$C,3,0) -> 23 | T88: =VLOOKUP(C88,[1]גיליון1!$A:$D,4,0) -> 57 | U88: לא
A89: 5500 | B89: 088 | C89: 4501964097 | D89: =VLOOKUP(C89,[1]תקנות!$A:$B,2,0) -> 41-30-01-20 | E89: =VLOOKUP(C89,[1]תקנות!$A:$C,3,0) -> הדרכה ורווחה | F89: מנוי שנתי לעיתון "ידיעות אחרונות" לשנת 2021 | G89: 44159 | H89: 44561 | I89: 40001050 | K89: ידיעות אחרונות בעמ | L89: 510103922 | M89: 6347.48 | N89: ILS | O89: 6347.48 | P89: ILS | Q89: 0 | R89: 6347.48 | S89: =VLOOKUP(C89,[1]גיליון1!$A:$C,3,0) -> 23 | T89: =VLOOKUP(C89,[1]גיליון1!$A:$D,4,0) -> 57 | U89: לא
A90: 5500 | B90: 088 | C90: 4501964169 | D90: =VLOOKUP(C90,[1]תקנות!$A:$B,2,0) -> 41-30-01-10 | E90: =VLOOKUP(C90,[1]תקנות!$A:$C,3,0) -> הוצאות תפעול | F90: הזמנה לציוד רפואי עבור ערכות עזרה ראשונה ברשות המים | G90: 44159 | H90: 44561 | I90: 40001519 | K90: ממרם שיווק ציוד רפואי בע"מ | L90: 512914888 | M90: 4864.86 | N90: ILS | O90: 4864.86 | P90: ILS | Q90: 0 | R90: 4864.86 | S90: =VLOOKUP(C90,[1]גיליון1!$A:$C,3,0) -> 23 | T90: =VLOOKUP(C90,[1]גיליון1!$A:$D,4,0) -> 57 | U90: לא
A91: 5500 | B91: 089 | C91: 4501964214 | D91: =VLOOKUP(C91,[1]תקנות!$A:$B,2,0) -> 73-30-01-03 | E91: =VLOOKUP(C91,[1]תקנות!$A:$C,3,0) -> איכות מים- ניטור | F91: ייעוץ ובקרה בנושא שפכי תעשייה | G91: 44159 | H91: 44561 | I91: 41088857 | K91: חלבי סאלח ספאא | L91: 302628219 | M91: 67807.94 | N91: ILS | O91: 67807.94 | P91: ILS | Q91: 0 | R91: 67807.94 | S91: =VLOOKUP(C91,[1]גיליון1!$A:$C,3,0) -> 84 | T91: =VLOOKUP(C91,[1]גיליון1!$A:$D,4,0) | U91: לא
A92: 5500 | B92: 089 | C92: 4501964238 | D92: =VLOOKUP(C92,[1]תקנות!$A:$B,2,0) -> 73-30-01-03 | E92: =VLOOKUP(C92,[1]תקנות!$A:$C,3,0) -> איכות מים- ניטור | F92: ייעוץ ובקרה בנושא שפכי תעשייה | G92: 44159 | H92: 44561 | I92: 40010827 | K92: ד.ה.ב. מד בע"מ | L92: 512307265 | M92: 73653 | N92: ILS | O92: 73653 | P92: ILS | Q92: 0 | R92: 73653 | S92: =VLOOKUP(C92,[1]גיליון1!$A:$C,3,0) -> 84 | T92: =VLOOKUP(C92,[1]גיליון1!$A:$D,4,0) | U92: לא
A93: 5500 | B93: 089 | C93: 4501964405 | D93: =VLOOKUP(C93,[1]תקנות!$A:$B,2,0) -> 73-30-01-25 | E93: =VLOOKUP(C93,[1]תקנות!$A:$C,3,0) -> ייעוץ ופעולות בנושא | F93: מתן שירות למערכות איסוף וניתוח מידע עבור מתקני ההתפלה | G93: 44159 | H93: 44561 | I93: 40457657 | K93: אי.או. סייט בע"מ | L93: 513573956 | M93: 65030.94 | N93: ILS | O93: 65030.94 | P93: ILS | Q93: 0 | R93: 65030.94 | S93: =VLOOKUP(C93,[1]גיליון1!$A:$C,3,0) -> 23 | T93: =VLOOKUP(C93,[1]גיליון1!$A:$D,4,0) -> 1 | U93: לא
A94: 5500 | B94: 089 | C94: 4501965090 | D94: =VLOOKUP(C94,[1]תקנות!$A:$B,2,0) -> 73-30-01-03 | E94: =VLOOKUP(C94,[1]תקנות!$A:$C,3,0) -> איכות מים- ניטור | F94: תחזוקת מדי גשם | G94: 44160 | H94: 44561 | I94: 40494068 | K94: אגרולן בע"מ | L94: 514602598 | M94: 37440 | N94: ILS | O94: 37440 | P94: ILS | Q94: 0 | R94: 37440 | S94: =VLOOKUP(C94,[1]גיליון1!$A:$C,3,0) -> 23 | T94: =VLOOKUP(C94,[1]גיליון1!$A:$D,4,0) -> 1 | U94: לא
A95: 5500 | B95: 089 | C95: 4501965093 | D95: =VLOOKUP(C95,[1]תקנות!$A:$B,2,0) -> 73-30-01-03 | E95: =VLOOKUP(C95,[1]תקנות!$A:$C,3,0) -> איכות מים- ניטור | F95: תחזוקה ותמיכה טכנית לאתר עבור 7 תחנות הידרומטריות | G95: 44160 | H95: 44530 | I95: 41085653 | K95: ימה פתרונות הידרומטריים בע"מ | L95: 514994789 | M95: 16906.5 | N95: ILS | O95: 16906.5 | P95: ILS | Q95: 0 | R95: 16906.5 | S95: =VLOOKUP(C95,[1]גיליון1!$A:$C,3,0) -> 23 | T95: =VLOOKUP(C95,[1]גיליון1!$A:$D,4,0) -> 1 | U95: לא
A96: 5500 | B96: 089 | C96: 4501965098 | D96: =VLOOKUP(C96,[1]תקנות!$A:$B,2,0) -> 73-30-01-19 | E96: =VLOOKUP(C96,[1]תקנות!$A:$C,3,0) -> תכנון בקרה וייעוץ | F96: ייעוץ ליווי, מעקב ובקרה הנדסית וכספית עך ביצוע פרויקטים במשק המים והביוב -פתוח | G96: 44160 | H96: 44530 | I96: 41376598 | K96: פורמט הנדסה אזרחית בע"מ | L96: 515125029 | M96: 499619.25 | N96: ILS | O96: 499619.25 | P96: ILS | Q96: 0 | R96: 499619.25 | S96: =VLOOKUP(C96,[1]גיליון1!$A:$C,3,0) -> 8 | T96: =VLOOKUP(C96,[1]גיליון1!$A:$D,4,0) | U96: לא
... A103: 5500 | B103: 089 | C103: 4501966355 | D103: =VLOOKUP(C103,[1]תקנות!$A:$B,2,0) -> 73-30-01-05 | E103: =VLOOKUP(C103,[1]תקנות!$A:$C,3,0) -> פיתוח ותחזוקת מערכות | F103: רכישת רישוי לשנה עבור תוכנת MONDAY | G103: 44164 | H103: 44561 | I103: 41113291 | K103: אנטריפוינט מערכות 2004 בע"מ | L103: 513513267 | M103: 21712.86 | N103: ILS | O103: 21712.86 | P103: ILS | Q103: 0 | R103: 21712.86 | S103: =VLOOKUP(C103,[1]גיליון1!$A:$C,3,0) -> 23 | T103: =VLOOKUP(C103,[1]גיליון1!$A:$D,4,0) -> 57 | U103: לא
A104: 5500 | B104: 089 | C104: 4501966917 | D104: =VLOOKUP(C104,[1]תקנות!$A:$B,2,0) -> 41-30-01-20 | E104: =VLOOKUP(C104,[1]תקנות!$A:$C,3,0) -> הדרכה ורווחה | F104: חופשי חודשי מתנדבת | G104: 44165 | H104: 44561 | I104: 42117594 | K104: שררה תמר | M104: 3259.39 | N104: ILS | O104: 3259.39 | P104: ILS | Q104: 0 | R104: 3259.39 | S104: =VLOOKUP(C104,[1]גיליון1!$A:$C,3,0) -> 23 | T104: =VLOOKUP(C104,[1]גיליון1!$A:$D,4,0) -> 57 | U104: לא
A105: 5500 | B105: 088 | C105: 4501967080 | D105: =VLOOKUP(C105,[1]תקנות!$A:$B,2,0) -> 41-30-01-10 | E105: =VLOOKUP(C105,[1]תקנות!$A:$C,3,0) -> הוצאות תפעול | F105: רכישת שירותי קייטרינג לאירועים לשנת 2021 | G105: 44165 | H105: 44561 | I105: 41608680 | K105: אביסרור אושרי | L105: 301326948 | M105: 49906.35 | N105: ILS | O105: 49906.35 | P105: ILS | Q105: 0 | R105: 49906.35 | S105: =VLOOKUP(C105,[1]גיליון1!$A:$C,3,0) -> 23 | T105: =VLOOKUP(C105,[1]גיליון1!$A:$D,4,0) -> 57 | U105: לא
A106: 5500 | B106: 088 | C106: 4501967177 | D106: =VLOOKUP(C106,[1]תקנות!$A:$B,2,0) -> 41-30-01-10 | E106: =VLOOKUP(C106,[1]תקנות!$A:$C,3,0) -> הוצאות תפעול | F106: רכישה ושירות שנתי למכונת ביול ואספקת חלפים | G106: 44165 | H106: 44561 | I106: 41049139 | K106: אי.או.אס פתרונות משרד מתקדמים בע"מ | L106: 515031177 | M106: 20627.1 | N106: ILS | O106: 20627.1 | P106: ILS | Q106: 0 | R106: 20627.1 | S106: =VLOOKUP(C106,[1]גיליון1!$A:$C,3,0) -> 23 | T106: =VLOOKUP(C106,[1]גיליון1!$A:$D,4,0) -> 57 | U106: לא
A107: 5500 | B107: 088 | C107: 4501967189 | D107: =VLOOKUP(C107,[1]תקנות!$A:$B,2,0) -> 41-30-01-10 | E107: =VLOOKUP(C107,[1]תקנות!$A:$C,3,0) -> הוצאות תפעול | F107: חכירת מכונת צילום | G107: 44165 | H107: 44561 | I107: 40005151 | K107: צילומעתיק בעמ | L107: 520041880 | M107: 2486.72 | N107: ILS | O107: 2486.72 | P107: ILS | Q107: 0 | R107: 2486.72 | S107: =VLOOKUP(C107,[1]גיליון1!$A:$C,3,0) -> 7 | T107: =VLOOKUP(C107,[1]גיליון1!$A:$D,4,0) | U107: לא
A108: 5500 | B108: 088 | C108: 4501967192 | D108: =VLOOKUP(C108,[1]תקנות!$A:$B,2,0) -> 41-30-01-10 | E108: =VLOOKUP(C108,[1]תקנות!$A:$C,3,0) -> הוצאות תפעול | F108: מכונת צילום | G108: 44165 | H108: 44652 | I108: 40001601 | K108: מפעיל בעמ | L108: 520037631 | M108: 11651.67 | N108: ILS | O108: 11651.67 | P108: ILS | Q108: 0 | R108: 11651.67 | S108: =VLOOKUP(C108,[1]גיליון1!$A:$C,3,0) -> 7 | T108: =VLOOKUP(C108,[1]גיליון1!$A:$D,4,0) | U108: לא
A109: 5500 | B109: 089 | C109: 4501968037 | D109: =VLOOKUP(C109,[1]תקנות!$A:$B,2,0) -> 73-30-01-03 | E109: =VLOOKUP(C109,[1]תקנות!$A:$C,3,0) -> איכות מים- ניטור | F109: אפיון מכרז למערכת מודלים לחיזוי שטפונות | G109: 44167 | H109: 44255 | I109: 41565472 | K109: סלינגר יגאל | L109: 052089760 | M109: 3508.83 | N109: ILS | O109: 3508.83 | P109: ILS | Q109: 0 | R109: 3508.83 | S109: =VLOOKUP(C109,[1]גיליון1!$A:$C,3,0) -> 23 | T109: =VLOOKUP(C109,[1]גיליון1!$A:$D,4,0) -> 57 | U109: לא
A110: 5500 | B110: 089 | C110: 4501968451 | D110: =VLOOKUP(C110,[1]תקנות!$A:$B,2,0) -> 41-30-01-20 | E110: =VLOOKUP(C110,[1]תקנות!$A:$C,3,0) -> הדרכה ורווחה | F110: מתנדב חופשי חודשי | G110: 44167 | H110: 44561 | I110: 40463125 | K110: דקס אחיה | M110: 3226.81 | N110: ILS | O110: 3226.81 | P110: ILS | Q110: 0 | R110: 3226.81 | S110: =VLOOKUP(C110,[1]גיליון1!$A:$C,3,0) -> 23 | T110: =VLOOKUP(C110,[1]גיליון1!$A:$D,4,0) -> 57 | U110: לא
A111: 5500 | B111: 089 | C111: 4501968491 | D111: =VLOOKUP(C111,[1]תקנות!$A:$B,2,0) -> 41-30-01-20 | E111: =VLOOKUP(C111,[1]תקנות!$A:$C,3,0) -> הדרכה ורווחה | F111: מתנדב חופשי חודשי | G111: 44167 | H111: 44561 | I111: 40983876 | K111: עצמון בנימין | M111: 3226.81 | N111: ILS | O111: 3226.81 | P111: ILS | Q111: 0 | R111: 3226.81 | S111: =VLOOKUP(C111,[1]גיליון1!$A:$C,3,0) -> 23 | T111: =VLOOKUP(C111,[1]גיליון1!$A:$D,4,0) -> 57 | U111: לא
A112: 5500 | B112: 089 | C112: 4501968502 | D112: =VLOOKUP(C112,[1]תקנות!$A:$B,2,0) -> 73-30-01-03 | E112: =VLOOKUP(C112,[1]תקנות!$A:$C,3,0) -> איכות מים- ניטור | F112: הרחבה להתקשרות ביצוע שני קידוחי סקר באזור ריחן | G112: 44167 | H112: 44377 | I112: 40823290 | K112: פמקו הנדסה בע"מ | L112: 514553023 | M112: 405522 | N112: ILS | O112: 405522 | P112: ILS | Q112: 0 | R112: 405522 | S112: =VLOOKUP(C112,[1]גיליון1!$A:$C,3,0) -> 23 | T112: =VLOOKUP(C112,[1]גיליון1!$A:$D,4,0) -> 89 | U112: לא
A113: 5500 | B113: 089 | C113: 4501968538 | D113: =VLOOKUP(C113,[1]תקנות!$A:$B,2,0) -> 41-30-01-20 | E113: =VLOOKUP(C113,[1]תקנות!$A:$C,3,0) -> הדרכה ורווחה | F113: מתנדב חופשי חודשי | G113: 44167 | H113: 44561 | I113: 41491824 | K113: אייל מיכאל | M113: 3226.81 | N113: ILS | O113: 3226.81 | P113: ILS | Q113: 0 | R113: 3226.81 | S113: =VLOOKUP(C113,[1]גיליון1!$A:$C,3,0) -> 23 | T113: =VLOOKUP(C113,[1]גיליון1!$A:$D,4,0) -> 57 | U113: לא
A114: 5500 | B114: 089 | C114: 4501968553 | D114: =VLOOKUP(C114,[1]תקנות!$A:$B,2,0) -> 41-30-01-20 | E114: =VLOOKUP(C114,[1]תקנות!$A:$C,3,0) -> הדרכה ורווחה | F114: מתנדב חופשי חודשי | G114: 44167 | H114: 44561 | I114: 40010066 | K114: בן צבי אריה | L114: 009641457 | M114: 3226.81 | N114: ILS | O114: 3226.81 | P114: ILS | Q114: 0 | R114: 3226.81 | S114: =VLOOKUP(C114,[1]גיליון1!$A:$C,3,0) -> 23 | T114: =VLOOKUP(C114,[1]גיליון1!$A:$D,4,0) -> 57 | U114: לא
A115: 5500 | B115: 089 | C115: 4501968562 | D115: =VLOOKUP(C115,[1]תקנות!$A:$B,2,0) -> 41-30-01-20 | E115: =VLOOKUP(C115,[1]תקנות!$A:$C,3,0) -> הדרכה ורווחה | F115: עמית ממשק-מועסק ברשות במסגרת עבודת המחקר | G115: 44167 | H115: 44561 | I115: 41967565 | K115: ברקן יגאל | M115: 8180.55 | N115: ILS | O115: 8180.55 | P115: ILS | Q115: 0 | R115: 8180.55 | S115: =VLOOKUP(C115,[1]גיליון1!$A:$C,3,0) -> 23 | T115: =VLOOKUP(C115,[1]גיליון1!$A:$D,4,0) -> 57 | U115: לא
A116: 5500 | B116: 089 | C116: 4501968566 | D116: =VLOOKUP(C116,[1]תקנות!$A:$B,2,0) -> 41-30-01-20 | E116: =VLOOKUP(C116,[1]תקנות!$A:$C,3,0) -> הדרכה ורווחה | F116: מתנדב חופשי חודשי | G116: 44167 | H116: 44561 | I116: 42054985 | K116: גלוזמן בוריס | M116: 3226.81 | N116: ILS | O116: 3226.81 | P116: ILS | Q116: 0 | R116: 3226.81 | S116: =VLOOKUP(C116,[1]גיליון1!$A:$C,3,0) -> 23 | T116: =VLOOKUP(C116,[1]גיליון1!$A:$D,4,0) -> 57 | U116: לא
A117: 5500 | B117: 089 | C117: 4501968572 | D117: =VLOOKUP(C117,[1]תקנות!$A:$B,2,0) -> 41-30-01-20 | E117: =VLOOKUP(C117,[1]תקנות!$A:$C,3,0) -> הדרכה ורווחה | F117: מתנדבת חופשי חודשי | G117: 44167 | H117: 44561 | I117: 42117763 | K117: פנקרטוב אירינה | M117: 4529.58 | N117: ILS | O117: 4529.58 | P117: ILS | Q117: 0 | R117: 4529.58 | S117: =VLOOKUP(C117,[1]גיליון1!$A:$C,3,0) -> 23 | T117: =VLOOKUP(C117,[1]גיליון1!$A:$D,4,0) -> 57 | U117: לא
A118: 5500 | B118: 088 | C118: 4501968647 | D118: =VLOOKUP(C118,[1]תקנות!$A:$B,2,0) -> 41-30-01-10 | E118: =VLOOKUP(C118,[1]תקנות!$A:$C,3,0) -> הוצאות תפעול | F118: שירותי ביול | G118: 44167 | H118: 44561 | I118: 40184020 | K118: חברת דואר ישראל בע"מ | L118: 513467191 | M118: 119340 | N118: ILS | O118: 119340 | P118: ILS | Q118: 0 | R118: 119340 | S118: =VLOOKUP(C118,[1]גיליון1!$A:$C,3,0) -> 23 | T118: =VLOOKUP(C118,[1]גיליון1!$A:$D,4,0) -> 7 | U118: לא
A119: 5500 | B119: 089 | C119: 4501968669 | D119: =VLOOKUP(C119,[1]תקנות!$A:$B,2,0) -> 41-30-01-20 | E119: =VLOOKUP(C119,[1]תקנות!$A:$C,3,0) -> הדרכה ורווחה | F119: מתנדבת חופשי חודשי | G119: 44167 | H119: 44561 | I119: 40011273 | K119: בינו תמר | M119: 3681.29 | N119: ILS | O119: 3681.29 | P119: ILS | Q119: 0 | R119: 3681.29 | S119: =VLOOKUP(C119,[1]גיליון1!$A:$C,3,0) -> 23 | T119: =VLOOKUP(C119,[1]גיליון1!$A:$D,4,0) -> 57 | U119: לא
A120: 5500 | B120: 089 | C120: 4501968684 | D120: =VLOOKUP(C120,[1]תקנות!$A:$B,2,0) -> 73-30-01-05 | E120: =VLOOKUP(C120,[1]תקנות!$A:$C,3,0) -> פיתוח ותחזוקת מערכות | F120: החלפת מסך למחשב נייד | G120: 44167 | H120: 44264 | I120: 40001210 | K120: מטריקס אי.טי. אינטגרציה ותשתיות בע" | L120: 511204026 | M120: 1287 | N120: ILS | O120: 1287 | P120: ILS | Q120: 0 | R120: 1287 | S120: =VLOOKUP(C120,[1]גיליון1!$A:$C,3,0) -> 23 | T120: =VLOOKUP(C120,[1]גיליון1!$A:$D,4,0) -> 57 | U120: לא
...
