Workbook

Sheet רבעון  10-12.20
A1: ארגון רוכש | B1: קבוצה רוכשת | C1: הזמנת רכש | D1: פריט התחייבות | E1: תאור תקנה תקציבית | F1: מטרת התקשרות | G1: תאריך מסמך | H1: סיום תקופת תוקף | I1: ספק | K1: שם הספק | L1: מספר רישום מע"מ | M1: ערך הזמנה + מע"מ | N1: מטבע | O1: ערך הזמנה במ.ט.מ | P1: מטבע מקומי | Q1: ביצוע חשבוניות כולל מע"מ והצמדות במט"מ | R1: יתרת הזמנות נומינלית + מעמ | S1: אופן רכישה מקור | T1: סיבת פטור | U1: רגיש
A2: 5500 | B2: 089 | C2: 4501944518 | D2: =VLOOKUP(C2,[1]תקנות!$A:$B,2,0) -> 41-30-01-19 | E2: =VLOOKUP(C2,[1]תקנות!$A:$C,3,0) -> פעולות מנהל וארגון | F2: ועדה רפואית | G2: 44115 | H2: 44196 | I2: 10000103 | K2: לשכת הבריאות,מחוז ת"א | M2: 479 | N2: ILS | O2: 479 | P2: ILS | Q2: 479 | R2: 0 | S2: =VLOOKUP(C2,[1]גיליון1!$A:$C,3,0) -> 85 | T2: =VLOOKUP(C2,[1]גיליון1!$A:$D,4,0) | U2: לא
A3: 5500 | B3: 089 | C3: 4501944521 | D3: =VLOOKUP(C3,[1]תקנות!$A:$B,2,0) -> 73-30-01-05 | E3: =VLOOKUP(C3,[1]תקנות!$A:$C,3,0) -> פיתוח ותחזוקת מערכות | F3: חידוש רישיונות שימוש בתוכנת ‪GMS‬ | G3: 44115 | H3: 44561 | I3: 40010832 | K3: אנויטק בע"מ | L3: 512336454 | M3: 31824 | N3: ILS | O3: 31824 | P3: ILS | Q3: 0 | R3: 31824 | S3: =VLOOKUP(C3,[1]גיליון1!$A:$C,3,0) -> 23 | T3: =VLOOKUP(C3,[1]גיליון1!$A:$D,4,0) -> 1 | U3: לא
A4: 5500 | B4: 089 | C4: 4501944899 | D4: =VLOOKUP(C4,[1]תקנות!$A:$B,2,0) -> 73-30-01-05 | E4: =VLOOKUP(C4,[1]תקנות!$A:$C,3,0) -> פיתוח ותחזוקת מערכות | F4: מיקרוסופט - טרו אפ | G4: 44116 | H4: 44926 | I4: 40005148 | K4: נס א.ט. בע"מ | L4: 520040122 | M4: 54141.26 | N4: ILS | O4: 54141.26 | P4: ILS | Q4: 48830.13 | R4: 0 | S4: =VLOOKUP(C4,[1]גיליון1!$A:$C,3,0) -> 23 | T4: =VLOOKUP(C4,[1]גיליון1!$A:$D,4,0) -> 1 | U4: לא
A5: 5500 | B5: 089 | C5: 4501944920 | D5: =VLOOKUP(C5,[1]תקנות!$A:$B,2,0) -> 73-30-01-05 | E5: =VLOOKUP(C5,[1]תקנות!$A:$C,3,0) -> פיתוח ותחזוקת מערכות | F5: תחזוקה ושו"שים למערכת הגבייה המשרתת את חשבות המים | G5: 44116 | H5: 44561 | I5: 40001141 | K5: אלעד מערכות תוכנה בע"מ | L5: 510929177 | M5: 40950 | N5: ILS | O5: 40950 | P5: ILS | Q5: 0 | R5: 40950 | S5: =VLOOKUP(C5,[1]גיליון1!$A:$C,3,0) -> 23 | T5: =VLOOKUP(C5,[1]גיליון1!$A:$D,4,0) -> 57 | U5: לא
A6: 5500 | B6: 089 | C6: 4501945021 | D6: =VLOOKUP(C6,[1]תקנות!$A:$B,2,0) -> 73-30-01-25 | E6: =VLOOKUP(C6,[1]תקנות!$A:$C,3,0) -> ייעוץ ופעולות בנושא | F6: ייעוץ הנדסי' טכני לנושאי התפלה וטכנולוגיות מים | G6: 44116 | H6: 44530 | I6: 40010572 | K6: אדן טכנולוגיה ויעוץ כלכלי בע"מ | L6: 511309957 | M6: 1349948.3 | N6: ILS | O6: 1349948.3 | P6: ILS | Q6: 0 | R6: 1349948.3 | S6: =VLOOKUP(C6,[1]גיליון1!$A:$C,3,0) -> 8 | T6: =VLOOKUP(C6,[1]גיליון1!$A:$D,4,0) | U6: לא
A7: 5500 | B7: 089 | C7: 4501946166 | D7: =VLOOKUP(C7,[1]תקנות!$A:$B,2,0) -> 41-30-01-10 | E7: =VLOOKUP(C7,[1]תקנות!$A:$C,3,0) -> הוצאות תפעול | F7: תשלום ועדת ערר. תשלום בגין הוצאות רפואיות. | G7: 44118 | H7: 44196 | I7: 10000086 | K7: משרד הבריאות | M7: 1994 | N7: ILS | O7: 1994 | P7: ILS | Q7: 0 | R7: 1994 | S7: =VLOOKUP(C7,[1]גיליון1!$A:$C,3,0) -> 85 | T7: =VLOOKUP(C7,[1]גיליון1!$A:$D,4,0) | U7: לא
A8: 5500 | B8: 089 | C8: 4501946397 | D8: =VLOOKUP(C8,[1]תקנות!$A:$B,2,0) -> 41-30-01-21 | E8: =VLOOKUP(C8,[1]תקנות!$A:$C,3,0) -> ייעוץ בקרה וליווי | F8: סיוע בתפעול עבור יחידת המכרזים של רשות המים | G8: 44119 | H8: 44473 | I8: 41348059 | K8: אבי מזרחי - יועצים לארגון וניהול בע | L8: 515275659 | M8: 465957.77 | N8: ILS | O8: 465957.77 | P8: ILS | Q8: 119047.26 | R8: 346910.51 | S8: =VLOOKUP(C8,[1]גיליון1!$A:$C,3,0) -> 23 | T8: =VLOOKUP(C8,[1]גיליון1!$A:$D,4,0) -> 5 | U8: לא
A9: 5500 | B9: 089 | C9: 4501946631 | D9: =VLOOKUP(C9,[1]תקנות!$A:$B,2,0) -> 41-30-01-10 | E9: =VLOOKUP(C9,[1]תקנות!$A:$C,3,0) -> הוצאות תפעול | F9: ועדה רפואית | G9: 44119 | H9: 44196 | I9: 10000103 | K9: לשכת הבריאות,מחוז ת"א | M9: 479 | N9: ILS | O9: 479 | P9: ILS | Q9: 479 | R9: 0 | S9: =VLOOKUP(C9,[1]גיליון1!$A:$C,3,0) -> 85 | T9: =VLOOKUP(C9,[1]גיליון1!$A:$D,4,0) | U9: לא
A10: 5500 | B10: 088 | C10: 4501947179 | D10: =VLOOKUP(C10,[1]תקנות!$A:$B,2,0) -> 41-30-01-19 | E10: =VLOOKUP(C10,[1]תקנות!$A:$C,3,0) -> פעולות מנהל וארגון | F10: הזמנת מסגרות לתמונות | G10: 44122 | H10: 44195 | I10: 40001103 | K10: קרביץ (1974) בעמ | L10: 510674039 | M10: 289.93 | N10: ILS | O10: 289.93 | P10: ILS | Q10: 289.93 | R10: 0 | S10: =VLOOKUP(C10,[1]גיליון1!$A:$C,3,0) -> 23 | T10: =VLOOKUP(C10,[1]גיליון1!$A:$D,4,0) -> 57 | U10: לא
A11: 5500 | B11: 089 | C11: 4501947474 | D11: =VLOOKUP(C11,[1]תקנות!$A:$B,2,0) -> 73-30-01-03 | E11: =VLOOKUP(C11,[1]תקנות!$A:$C,3,0) -> איכות מים- ניטור | F11: רכישת מכשירי מדידה של חברת OTT | G11: 44123 | H11: 44316 | I11: 40010597 | K11: מטאו - טק שירותים מטאורולוגיים בע"מ | L11: 511386609 | M11: 77022.27 | N11: ILS | O11: 77022.27 | P11: ILS | Q11: 77022.27 | R11: 0 | S11: =VLOOKUP(C11,[1]גיליון1!$A:$C,3,0) -> 23 | T11: =VLOOKUP(C11,[1]גיליון1!$A:$D,4,0) -> 1 | U11: לא
A12: 5500 | B12: 089 | C12: 4501947503 | D12: =VLOOKUP(C12,[1]תקנות!$A:$B,2,0) -> 73-30-01-03 | E12: =VLOOKUP(C12,[1]תקנות!$A:$C,3,0) -> איכות מים- ניטור | F12: ייצור מתקנים ממתכת ומדי רום מיוחדים | G12: 44123 | H12: 44561 | I12: 40010849 | K12: מתכת יונה בע"מ | L12: 512416538 | M12: 20475 | N12: ILS | O12: 20475 | P12: ILS | Q12: 0 | R12: 20475 | S12: =VLOOKUP(C12,[1]גיליון1!$A:$C,3,0) -> 84 | T12: =VLOOKUP(C12,[1]גיליון1!$A:$D,4,0) | U12: לא
A13: 5500 | B13: 089 | C13: 4501947531 | D13: =VLOOKUP(C13,[1]תקנות!$A:$B,2,0) -> 73-30-01-05 | E13: =VLOOKUP(C13,[1]תקנות!$A:$C,3,0) -> פיתוח ותחזוקת מערכות | F13: יועץ לליווי ועדות היגוי | G13: 44123 | H13: 44561 | I13: 40015817 | K13: הורן יועצים בע"מ | L13: 511450637 | M13: 234000 | N13: ILS | O13: 234000 | P13: ILS | Q13: 0 | R13: 234000 | S13: =VLOOKUP(C13,[1]גיליון1!$A:$C,3,0) -> 84 | T13: =VLOOKUP(C13,[1]גיליון1!$A:$D,4,0) | U13: לא
A14: 5500 | B14: 089 | C14: 4501947539 | D14: =VLOOKUP(C14,[1]תקנות!$A:$B,2,0) -> 73-30-01-03 | E14: =VLOOKUP(C14,[1]תקנות!$A:$C,3,0) -> איכות מים- ניטור | F14: ייצור מתקנים ממתכת ומדי רום מיוחדים עבור מתקנים | G14: 44123 | H14: 44561 | I14: 40010849 | K14: מתכת יונה בע"מ | L14: 512416538 | M14: 59143.5 | N14: ILS | O14: 59143.5 | P14: ILS | Q14: 0 | R14: 59143.5 | S14: =VLOOKUP(C14,[1]גיליון1!$A:$C,3,0) -> 84 | T14: =VLOOKUP(C14,[1]גיליון1!$A:$D,4,0) | U14: לא
A15: 5500 | B15: 089 | C15: 4501947670 | D15: =VLOOKUP(C15,[1]תקנות!$A:$B,2,0) -> 41-30-01-26 | E15: =VLOOKUP(C15,[1]תקנות!$A:$C,3,0) -> היערכות משק המים לשע | F15: שירותי יעוץ לתרגול ספקי המים והביוב | G15: 44123 | H15: 44500 | I15: 40010080 | K15: זק רנר יעקב יוסף | L15: 012019592 | M15: 69966 | N15: ILS | O15: 69966 | P15: ILS | Q15: 19202.63 | R15: 50763.38 | S15: =VLOOKUP(C15,[1]גיליון1!$A:$C,3,0) -> 84 | T15: =VLOOKUP(C15,[1]גיליון1!$A:$D,4,0) | U15: לא
A16: 5500 | B16: 089 | C16: 4501948662 | D16: =VLOOKUP(C16,[1]תקנות!$A:$B,2,0) -> 73-30-01-05 | E16: =VLOOKUP(C16,[1]תקנות!$A:$C,3,0) -> פיתוח ותחזוקת מערכות | F16: חידוש רישוי למתן שירותי תמיכה עדכוני תוכנה תחזוקה | G16: 44125 | H16: 45291 | I16: 40001247 | K16: הראל טכנולוגיות מידע בע"מ | L16: 511401002 | M16: 382861.44 | N16: ILS | O16: 382861.44 | P16: ILS | Q16: 359626.97 | R16: 0 | S16: =VLOOKUP(C16,[1]גיליון1!$A:$C,3,0) -> 84 | T16: =VLOOKUP(C16,[1]גיליון1!$A:$D,4,0) | U16: לא
A17: 5500 | B17: 089 | C17: 4501949139 | D17: =VLOOKUP(C17,[1]תקנות!$A:$B,2,0) -> 73-30-01-03 | E17: =VLOOKUP(C17,[1]תקנות!$A:$C,3,0) -> איכות מים- ניטור | F17: העסקת חזאים למרכז חיזוי שיטפונות | G17: 44126 | H17: 44226 | I17: 40015656 | K17: אביב - ניהול הנדסה ומערכות מידע בע" | L17: 511301657 | M17: 46930.46 | N17: ILS | O17: 46930.46 | P17: ILS | Q17: 0 | R17: 46930.46 | S17: =VLOOKUP(C17,[1]גיליון1!$A:$C,3,0) -> 23 | T17: =VLOOKUP(C17,[1]גיליון1!$A:$D,4,0) -> 88 | U17: לא
A18: 5500 | B18: 089 | C18: 4501949895 | D18: =VLOOKUP(C18,[1]תקנות!$A:$B,2,0) -> 73-30-01-05 | E18: =VLOOKUP(C18,[1]תקנות!$A:$C,3,0) -> פיתוח ותחזוקת מערכות | F18: שדרוג נתב לאתר DR תקופת התקשרות | G18: 44129 | H18: 44705 | I18: 41560706 | K18: בינת עסקים בע"מ | L18: 514752310 | M18: 1680.03 | N18: ILS | O18: 1680.03 | P18: ILS | Q18: 0 | R18: 1680.03 | S18: =VLOOKUP(C18,[1]גיליון1!$A:$C,3,0) -> 7 | T18: =VLOOKUP(C18,[1]גיליון1!$A:$D,4,0) | U18: לא
A19: 5500 | B19: 089 | C19: 4501950523 | D19: =VLOOKUP(C19,[1]תקנות!$A:$B,2,0) -> 41-30-01-20 | E19: =VLOOKUP(C19,[1]תקנות!$A:$C,3,0) -> הדרכה ורווחה | F19: סיור מקוון במוזיאון הישראלי במרכז יצחק רבין | G19: 44130 | H19: 44196 | I19: 40247141 | K19: מרכז יצחק רבין לחקר ישראל | M19: 500 | N19: ILS | O19: 500 | P19: ILS | Q19: 500 | R19: 0 | S19: =VLOOKUP(C19,[1]גיליון1!$A:$C,3,0) -> 23 | T19: =VLOOKUP(C19,[1]גיליון1!$A:$D,4,0) -> 57 | U19: לא
A20: 5500 | B20: 089 | C20: 4501950600 | D20: =VLOOKUP(C20,[1]תקנות!$A:$B,2,0) -> 41-30-01-20 | E20: =VLOOKUP(C20,[1]תקנות!$A:$C,3,0) -> הדרכה ורווחה | F20: קורס הכנה לפרישה | G20: 44130 | H20: 44196 | I20: 40003393 | K20: ענבל חברה לביטוח בע"מ | L20: 520031030 | M20: 2160 | N20: ILS | O20: 2160 | P20: ILS | Q20: 2160 | R20: 0 | S20: =VLOOKUP(C20,[1]גיליון1!$A:$C,3,0) -> 85 | T20: =VLOOKUP(C20,[1]גיליון1!$A:$D,4,0) | U20: לא
A21: 5500 | B21: 089 | C21: 4501950708 | D21: =VLOOKUP(C21,[1]תקנות!$A:$B,2,0) -> 73-30-01-05 | E21: =VLOOKUP(C21,[1]תקנות!$A:$C,3,0) -> פיתוח ותחזוקת מערכות | F21: מערכת גיבויים: הזמנת השלמה לשרתים. | G21: 44131 | H21: 44316 | I21: 40001247 | K21: הראל טכנולוגיות מידע בע"מ | L21: 511401002 | M21: 32538.92 | N21: ILS | O21: 32538.92 | P21: ILS | Q21: 31260.57 | R21: 0 | S21: =VLOOKUP(C21,[1]גיליון1!$A:$C,3,0) -> 7 | T21: =VLOOKUP(C21,[1]גיליון1!$A:$D,4,0) | U21: לא
A22: 5500 | B22: 089 | C22: 4501950991 | D22: =VLOOKUP(C22,[1]תקנות!$A:$B,2,0) -> 73-30-01-05 | E22: =VLOOKUP(C22,[1]תקנות!$A:$C,3,0) -> פיתוח ותחזוקת מערכות | F22: מחשבים ניידים + תיקונים וציוד נלווה | G22: 44131 | H22: 44209 | I22: 40001247 | K22: הראל טכנולוגיות מידע בע"מ | L22: 511401002 | M22: 150515.6 | N22: ILS | O22: 150515.6 | P22: ILS | Q22: 0 | R22: 150515.6 | S22: =VLOOKUP(C22,[1]גיליון1!$A:$C,3,0) -> 7 | T22: =VLOOKUP(C22,[1]גיליון1!$A:$D,4,0) | U22: לא
A23: 5500 | B23: 089 | C23: 4501951005 | D23: =VLOOKUP(C23,[1]תקנות!$A:$B,2,0) -> 73-30-01-03 | E23: =VLOOKUP(C23,[1]תקנות!$A:$C,3,0) -> איכות מים- ניטור | F23: הבנת הקשר בין שאיבות מים בגליל המזרחי לבין רעידות אדמה | G23: 44131 | H23: 44711 | I23: 10000411 | K23: המכון הגיאולוגי | M23: 150000 | N23: ILS | O23: 150000 | P23: ILS | Q23: 0 | R23: 150000 | S23: =VLOOKUP(C23,[1]גיליון1!$A:$C,3,0) -> 85 | T23: =VLOOKUP(C23,[1]גיליון1!$A:$D,4,0) | U23: לא
A24: 5500 | B24: 089 | C24: 4501951084 | D24: =VLOOKUP(C24,[1]תקנות!$A:$B,2,0) -> 73-30-01-05 | E24: =VLOOKUP(C24,[1]תקנות!$A:$C,3,0) -> פיתוח ותחזוקת מערכות | F24: מחשבים נייחים והרחבת אחריות | G24: 44131 | H24: 44227 | I24: 40532479 | K24: זיפקום תקשורת בע"מ | L24: 512781790 | M24: 41559.8 | N24: ILS | O24: 41559.8 | P24: ILS | Q24: 0 | R24: 41559.8 | S24: =VLOOKUP(C24,[1]גיליון1!$A:$C,3,0) -> 7 | T24: =VLOOKUP(C24,[1]גיליון1!$A:$D,4,0) | U24: לא
A25: 5500 | B25: 089 | C25: 4501951217 | D25: =VLOOKUP(C25,[1]תקנות!$A:$B,2,0) -> 73-30-01-05 | E25: =VLOOKUP(C25,[1]תקנות!$A:$C,3,0) -> פיתוח ותחזוקת מערכות | F25: רכש 15 מסכים תצורה 2.4 – מסך 24" | G25: 44131 | H25: 44444 | I25: 40001608 | K25: חיון מחשבים בע"מ | L25: 520041930 | M25: 4833.62 | N25: ILS | O25: 4833.62 | P25: ILS | Q25: 0 | R25: 4833.62 | S25: =VLOOKUP(C25,[1]גיליון1!$A:$C,3,0) -> 7 | T25: =VLOOKUP(C25,[1]גיליון1!$A:$D,4,0) | U25: לא
A26: 5500 | B26: 089 | C26: 4501951289 | D26: =VLOOKUP(C26,[1]תקנות!$A:$B,2,0) -> 73-30-01-05 | E26: =VLOOKUP(C26,[1]תקנות!$A:$C,3,0) -> פיתוח ותחזוקת מערכות | F26: שרות שנתי עבור 3 שרתים לאתר DR רפרנט | G26: 44131 | H26: 44611 | I26: 40001247 | K26: הראל טכנולוגיות מידע בע"מ | L26: 511401002 | M26: 3757.98 | N26: ILS | O26: 3757.98 | P26: ILS | Q26: 0 | R26: 3757.98 | S26: =VLOOKUP(C26,[1]גיליון1!$A:$C,3,0) -> 23 | T26: =VLOOKUP(C26,[1]גיליון1!$A:$D,4,0) -> 57 | U26: לא
A27: 5500 | B27: 089 | C27: 4501951294 | D27: =VLOOKUP(C27,[1]תקנות!$A:$B,2,0) -> 73-30-01-05 | E27: =VLOOKUP(C27,[1]תקנות!$A:$C,3,0) -> פיתוח ותחזוקת מערכות | F27: 50 DOK מוצפנים וחתומים | G27: 44131 | H27: 44196 | I27: 40001247 | K27: הראל טכנולוגיות מידע בע"מ | L27: 511401002 | M27: 2925 | N27: ILS | O27: 2925 | P27: ILS | Q27: 2925 | R27: 0 | S27: =VLOOKUP(C27,[1]גיליון1!$A:$C,3,0) -> 23 | T27: =VLOOKUP(C27,[1]גיליון1!$A:$D,4,0) -> 57 | U27: לא
A28: 5500 | B28: 089 | C28: 4501951300 | D28: =VLOOKUP(C28,[1]תקנות!$A:$B,2,0) -> 73-30-01-05 | E28: =VLOOKUP(C28,[1]תקנות!$A:$C,3,0) -> פיתוח ותחזוקת מערכות | F28: מצלמות ניידים ואחריות לשנה | G28: 44131 | H28: 44196 | I28: 40001210 | K28: מטריקס אי.טי. אינטגרציה ותשתיות בע" | L28: 511204026 | M28: 2340 | N28: ILS | O28: 2340 | P28: ILS | Q28: 0 | R28: 2340 | S28: =VLOOKUP(C28,[1]גיליון1!$A:$C,3,0) -> 23 | T28: =VLOOKUP(C28,[1]גיליון1!$A:$D,4,0) -> 57 | U28: לא
A29: 5500 | B29: 088 | C29: 4501951354 | D29: =VLOOKUP(C29,[1]תקנות!$A:$B,2,0) -> 41-30-01-19 | E29: =VLOOKUP(C29,[1]תקנות!$A:$C,3,0) -> פעולות מנהל וארגון | F29: שירותי שליטה ובקרה - סים דאטה בלבד הוראת תכ"מ 16. | G29: 44131 | H29: 44561 | I29: 40005159 | K29: חברת פרטנר תקשורת בע"מ | L29: 520044314 | M29: 2954.02 | N29: ILS | O29: 2954.02 | P29: ILS | Q29: 537.08 | R29: 2416.94 | S29: =VLOOKUP(C29,[1]גיליון1!$A:$C,3,0) -> 7 | T29: =VLOOKUP(C29,[1]גיליון1!$A:$D,4,0) | U29: לא
A30: 5500 | B30: 089 | C30: 4501951641 | D30: =VLOOKUP(C30,[1]תקנות!$A:$B,2,0) -> 73-30-01-03 | E30: =VLOOKUP(C30,[1]תקנות!$A:$C,3,0) -> איכות מים- ניטור | F30: תיקון מכשירי OTT | G30: 44132 | H30: 44530 | I30: 40010597 | K30: מטאו - טק שירותים מטאורולוגיים בע"מ | L30: 511386609 | M30: 59934.42 | N30: ILS | O30: 59934.42 | P30: ILS | Q30: 22913.28 | R30: 37021.14 | S30: =VLOOKUP(C30,[1]גיליון1!$A:$C,3,0) -> 23 | T30: =VLOOKUP(C30,[1]גיליון1!$A:$D,4,0) -> 1 | U30: לא
A31: 5500 | B31: 089 | C31: 4501951817 | D31: =VLOOKUP(C31,[1]תקנות!$A:$B,2,0) -> 73-30-01-05 | E31: =VLOOKUP(C31,[1]תקנות!$A:$C,3,0) -> פיתוח ותחזוקת מערכות | F31: חידוש שנתי לרישיונות ORACLE IDS ו- IAS לשנת 2021. | G31: 44132 | H31: 44561 | I31: 40001396 | K31: אורקל ישראל בע"מ | L31: 512200502 | M31: 129567.13 | N31: ILS | O31: 129567.13 | P31: ILS | Q31: 0 | R31: 129567.13 | S31: =VLOOKUP(C31,[1]גיליון1!$A:$C,3,0) -> 23 | T31: =VLOOKUP(C31,[1]גיליון1!$A:$D,4,0) -> 1 | U31: לא
A32: 5500 | B32: 089 | C32: 4501951981 | D32: =VLOOKUP(C32,[1]תקנות!$A:$B,2,0) -> 73-30-01-05 | E32: =VLOOKUP(C32,[1]תקנות!$A:$C,3,0) -> פיתוח ותחזוקת מערכות | F32: רכש 4 מדפסות וטונרים | G32: 44133 | H32: 44742 | I32: 40001244 | K32: דנגוט מחשבים בע"מ | L32: 511398836 | M32: 24015.37 | N32: ILS | O32: 24015.37 | P32: ILS | Q32: 23237.07 | R32: 0 | S32: =VLOOKUP(C32,[1]גיליון1!$A:$C,3,0) -> 7 | T32: =VLOOKUP(C32,[1]גיליון1!$A:$D,4,0) | U32: לא
A33: 5500 | B33: 089 | C33: 4501952020 | D33: =VLOOKUP(C33,[1]תקנות!$A:$B,2,0) -> 73-30-01-05 | E33: =VLOOKUP(C33,[1]תקנות!$A:$C,3,0) -> פיתוח ותחזוקת מערכות | F33: אחריות פלוטר לשנה ותיקון | G33: 44133 | H33: 44561 | I33: 40001337 | K33: גרפיטי - שיווק ציוד משרדי ונייר בע" | L33: 511846156 | M33: 2808 | N33: ILS | O33: 2808 | P33: ILS | Q33: 0 | R33: 2808 | S33: =VLOOKUP(C33,[1]גיליון1!$A:$C,3,0) -> 23 | T33: =VLOOKUP(C33,[1]גיליון1!$A:$D,4,0) -> 57 | U33: לא
A34: 5500 | B34: 089 | C34: 4501952046 | D34: =VLOOKUP(C34,[1]תקנות!$A:$B,2,0) -> 73-30-01-05 | E34: =VLOOKUP(C34,[1]תקנות!$A:$C,3,0) -> פיתוח ותחזוקת מערכות | F34: מצלמת זום (אחריות יצרן 2 שנים מלבד נזק פיזי) | G34: 44133 | H34: 44530 | I34: 40942645 | K34: וולקום טכנולוגיות בע"מ | L34: 513702191 | M34: 1246.01 | N34: ILS | O34: 1246.01 | P34: ILS | Q34: 0 | R34: 1246.01 | S34: =VLOOKUP(C34,[1]גיליון1!$A:$C,3,0) -> 23 | T34: =VLOOKUP(C34,[1]גיליון1!$A:$D,4,0) -> 57 | U34: לא
A35: 5500 | B35: 088 | C35: 4501952203 | D35: =VLOOKUP(C35,[1]תקנות!$A:$B,2,0) -> 41-30-01-19 | E35: =VLOOKUP(C35,[1]תקנות!$A:$C,3,0) -> פעולות מנהל וארגון | F35: מכונת צילום ע"פ הוראת תכ"ם 16.5.0.5 מהדורה 03 | G35: 44133 | H35: 44527 | I35: 40001601 | K35: מפעיל בעמ | L35: 520037631 | M35: 3425.25 | N35: ILS | O35: 3425.25 | P35: ILS | Q35: 0 | R35: 3425.25 | S35: =VLOOKUP(C35,[1]גיליון1!$A:$C,3,0) -> 7 | T35: =VLOOKUP(C35,[1]גיליון1!$A:$D,4,0) | U35: לא
... A41: 5500 | B41: 088 | C41: 4501955998 | D41: =VLOOKUP(C41,[1]תקנות!$A:$B,2,0) -> 41-30-01-19 | E41: =VLOOKUP(C41,[1]תקנות!$A:$C,3,0) -> פעולות מנהל וארגון | F41: רכישת פנקס קנסות | G41: 44143 | H41: 44286 | I41: 40304658 | K41: שיא קופי ג.נ הפקות דפוס בע"מ | L41: 513590638 | M41: 877.5 | N41: ILS | O41: 877.5 | P41: ILS | Q41: 0 | R41: 877.5 | S41: =VLOOKUP(C41,[1]גיליון1!$A:$C,3,0) -> 23 | T41: =VLOOKUP(C41,[1]גיליון1!$A:$D,4,0) -> 57 | U41: לא
A42: 5500 | B42: 089 | C42: 4501955999 | D42: =VLOOKUP(C42,[1]תקנות!$A:$B,2,0) -> 41-30-01-20 | E42: =VLOOKUP(C42,[1]תקנות!$A:$C,3,0) -> הדרכה ורווחה | F42: משתתפת בוועדת בוחנים | G42: 44143 | H42: 44196 | I42: 42132406 | K42: זליגר מרה | M42: 1614.6 | N42: ILS | O42: 1614.6 | P42: ILS | Q42: 1614.6 | R42: 0 | S42: =VLOOKUP(C42,[1]גיליון1!$A:$C,3,0) -> 76 | T42: =VLOOKUP(C42,[1]גיליון1!$A:$D,4,0) | U42: לא
A43: 5500 | B43: 089 | C43: 4501956065 | D43: =VLOOKUP(C43,[1]תקנות!$A:$B,2,0) -> 41-30-01-19 | E43: =VLOOKUP(C43,[1]תקנות!$A:$C,3,0) -> פעולות מנהל וארגון | F43: רכש זום עבור 4 רישיונות / מארחים | G43: 44143 | H43: 44514 | I43: 40009639 | K43: מאגרי תוכנה (מ.ת.) בע"מ | L43: 513442442 | M43: 2607.72 | N43: ILS | O43: 2607.72 | P43: ILS | Q43: 2596.14 | R43: 0 | S43: =VLOOKUP(C43,[1]גיליון1!$A:$C,3,0) -> 23 | T43: =VLOOKUP(C43,[1]גיליון1!$A:$D,4,0) -> 57 | U43: לא
A44: 5500 | B44: 089 | C44: 4501959374 | D44: =VLOOKUP(C44,[1]תקנות!$A:$B,2,0) -> 73-30-01-19 | E44: =VLOOKUP(C44,[1]תקנות!$A:$C,3,0) -> תכנון בקרה וייעוץ | F44: ביצוע בקרה טכנו - כלכלית על השקעות והוצאות | G44: 44150 | H44: 44500 | I44: 41041255 | K44: פיאלקוף דבורה דאברא | L44: 300783610 | M44: 200000 | N44: ILS | O44: 200000 | P44: ILS | Q44: 0 | R44: 200000 | S44: =VLOOKUP(C44,[1]גיליון1!$A:$C,3,0) -> 8 | T44: =VLOOKUP(C44,[1]גיליון1!$A:$D,4,0) | U44: לא
A45: 5500 | B45: 088 | C45: 4501960383 | D45: =VLOOKUP(C45,[1]תקנות!$A:$B,2,0) -> 41-30-01-10 | E45: =VLOOKUP(C45,[1]תקנות!$A:$C,3,0) -> הוצאות תפעול | F45: שירותי ניהול ותחזוקה עבור השירות ההידרולוגי בנשר | G45: 44151 | H45: 44561 | I45: 40015645 | K45: פ. פורמן נכסים בע"מ | L45: 512023730 | M45: 29357.64 | N45: ILS | O45: 29357.64 | P45: ILS | Q45: 0 | R45: 29357.64 | S45: =VLOOKUP(C45,[1]גיליון1!$A:$C,3,0) -> 23 | T45: =VLOOKUP(C45,[1]גיליון1!$A:$D,4,0) -> 1 | U45: לא
...
