Workbook

Sheet Sheet1
A1: הרשות המקומית | B1: אחוז הנגשה בהתאם לתחנות 2017 | C1: תחנות ברישוי 2017 | D1: תחנות בתוכנית 2010 | E1: תחנות בוצעו | F1: אחוז הנגשה בהשוואה לתוכנית 2010 | G1: סה"כ התחייבויות | H1: יתרה ינואר 2019
A2: אעבלין | C2: 0 | D2: 21 | E2: 0 | F2: =E2/D2 -> 0 | G2: 117211
A3: בית-ג'ן | C3: 0 | D3: 30 | E3: 0 | F3: =E3/D3 -> 0 | G3: 167444 | H3: 167444
A4: כאבול | D4: 12 | E4: 0 | F4: =E4/D4 -> 0 | G4: 66978 | H4: 66978
A5: אבן יהודה | B5: =E5/C5 -> 1.1666667 | C5: =VLOOKUP(A5,[1]גיליון2!A:B,2,FALSE) -> 66 | D5: 0 | E5: 77 | F5: 1 | G5: 87268 | H5: 87268
A6: אום אל פחם | B6: =E6/C6 -> 0 | C6: =VLOOKUP(A6,[1]גיליון2!A:B,2,FALSE) -> 62 | D6: 0 | F6: 0 | G6: 176804 | H6: 176804
A7: אופקים | B7: =E7/C7 -> 0.43362832 | C7: =VLOOKUP(A7,[1]גיליון2!A:B,2,FALSE) -> 113 | D7: 49 | E7: 49 | F7: =E7/D7 -> 1 | G7: 320084
A8: אור יהודה | B8: =E8/C8 -> 0.69642857 | C8: =VLOOKUP(A8,[1]גיליון2!A:B,2,FALSE) -> 56 | D8: 35 | E8: 39 | F8: =E8/C8 -> 0.69642857 | G8: =204253+46800 -> 251053 | H8: 46800
A9: אור עקיבא | B9: =E9/C9 -> 0 | C9: =VLOOKUP(A9,[1]גיליון2!A:B,2,FALSE) -> 81 | D9: 0 | E9: 0 | F9: 0 | G9: 530000 | H9: 530000
A10: אורנית | B10: =E10/C10 -> 0.8 | C10: =VLOOKUP(A10,[1]גיליון2!A:B,2,FALSE) -> 25 | D10: 0 | E10: 20 | F10: =E10/C10 -> 0.8 | G10: 200000 | H10: 200
A11: אזור | B11: =E11/C11 -> 0 | C11: =VLOOKUP(A11,[1]גיליון2!A:B,2,FALSE) -> 41 | D11: 0 | F11: 0 | G11: 92935 | H11: 92935
A12: אילת | B12: =E12/C12 -> 0.86486486 | C12: =VLOOKUP(A12,[1]גיליון2!A:B,2,FALSE) -> 185 | D12: 170 | E12: 160 | F12: =E12/D12 -> 0.94117647 | G12: 707496 | H12: 190248
A13: אלעד | B13: =E13/C13 -> 0.33653846 | C13: =VLOOKUP(A13,[1]גיליון2!A:B,2,FALSE) -> 104 | D13: 48 | E13: 35 | F13: =E13/D13 -> 0.72916667 | G13: 531597 | H13: 0
A14: אלפי מנשה | C14: 0 | D14: 28 | E14: 28 | F14: =E14/D14 -> 1 | G14: 68079 | H14: 0
A15: אריאל | B15: =E15/C15 -> 0.17391304 | C15: =VLOOKUP(A15,[1]גיליון2!A:B,2,FALSE) -> 69 | D15: 0 | E15: 12 | F15: 0 | G15: 170000 | H15: 170000
A16: אשדוד | B16: =E16/C16 -> 0.95642202 | C16: =VLOOKUP(A16,[1]גיליון2!A:B,2,FALSE) -> 436 | D16: 396 | E16: 417 | F16: 1 | G16: =1461623+511200 -> 1972823 | H16: 511200
A17: אשקלון | B17: =E17/C17 -> 0.90529248 | C17: =VLOOKUP(A17,[1]גיליון2!A:B,2,FALSE) -> 359 | D17: 325 | E17: 325 | F17: =E17/D17 -> 1 | G17: =958129+484400 -> 1442529 | H17: 484400
A18: באקה ג'ת | B18: 0 | C18: 30 | D18: 0 | G18: 158670 | H18: 158670
A19: באר יעקב | B19: =E19/C19 -> 0 | C19: =VLOOKUP(A19,[1]גיליון2!A:B,2,FALSE) -> 48 | G19: 360000 | H19: 360000
A20: באר שבע | B20: =E20/C20 -> 0.9754386 | C20: =VLOOKUP(A20,[1]גיליון2!A:B,2,FALSE) -> 570 | D20: 480 | E20: 556 | F20: =E20/D20 -> 1.1583333 | G20: 3492751.7 | H20: 0
A21: בית דגן | B21: =E21/C21 -> 1 | C21: =VLOOKUP(A21,[1]גיליון2!A:B,2,FALSE) -> 17 | D21: 0 | E21: 17 | F21: 1 | G21: 28901 | H21: 28901
A22: בית שאן | B22: =E22/C22 -> 0.45945946 | C22: =VLOOKUP(A22,[1]גיליון2!A:B,2,FALSE) -> 74 | D22: 34 | E22: 34 | F22: =E22/D22 -> 1 | G22: 131249 | H22: 0
A23: בית שמש | B23: =E23/C23 -> 0.34751773 | C23: =VLOOKUP(A23,[1]גיליון2!A:B,2,FALSE) -> 282 | D23: 119 | E23: 98 | F23: =E23/D23 -> 0.82352941 | G23: 724317 | H23: 0
A24: ביתר עילית | B24: =E24/C24 -> 0.54726368 | C24: =VLOOKUP(A24,[1]גיליון2!A:B,2,FALSE) -> 201 | D24: 110 | E24: 110 | F24: =E24/D24 -> 1 | G24: 746213 | H24: 95412
A25: בני ברק | B25: =E25/C25 -> 1.2681564 | C25: =VLOOKUP(A25,[1]גיליון2!A:B,2,FALSE) -> 179 | D25: 180 | E25: 227 | F25: =E25/D25 -> 1.2611111 | G25: 1529083 | H25: 508283
A26: בנימינה גבעת עדה | B26: =E26/C26 -> 0 | C26: =VLOOKUP(A26,[1]גיליון2!A:B,2,FALSE) -> 47 | G26: 53268 | H26: 53268
A27: בסמת טבעון | B27: =E27/C27 -> 0 | C27: =VLOOKUP(A27,[1]גיליון2!A:B,2,FALSE) -> 9 | G27: 40801 | H27: 40801
A28: ברנר | B28: =E28/C28 -> 0 | C28: =VLOOKUP(A28,[1]גיליון2!A:B,2,FALSE) -> 7 | G28: 130000 | H28: 130000
A29: בת ים | B29: =E29/C29 -> 1.1764706 | C29: =VLOOKUP(A29,[1]גיליון2!A:B,2,FALSE) -> 170 | D29: 214 | E29: 200 | F29: =E29/D29 -> 0.93457944 | G29: =904276+207600 -> 1111876 | H29: 207600
A30: ג'לג'וליה | B30: =E30/C30 -> 0 | C30: =VLOOKUP(A30,[1]גיליון2!A:B,2,FALSE) -> 12 | G30: 45334 | H30: 45334
A31: גבעת זאב | B31: =E31/C31 -> 0 | C31: =VLOOKUP(A31,[1]גיליון2!A:B,2,FALSE) -> 67 | D31: 0 | E31: 0 | F31: 0 | G31: 155836 | H31: 155836
A32: גבעת שמואל | B32: =E32/C32 -> 0.92682927 | C32: =VLOOKUP(A32,[1]גיליון2!A:B,2,FALSE) -> 41 | D32: 35 | E32: 38 | F32: =E32/D32 -> 1.0857143 | G32: =59216+48000 -> 107216 | H32: 0
A33: גבעתיים | B33: =E33/C33 -> 0.60869565 | C33: =VLOOKUP(A33,[1]גיליון2!A:B,2,FALSE) -> 69 | D33: 63 | E33: 42 | F33: =E33/D33 -> 0.66666667 | G33: 207392.35 | H33: 0
A34: גדרה | B34: =E34/C34 -> 0.71875 | C34: =VLOOKUP(A34,[1]גיליון2!A:B,2,FALSE) -> 64 | D34: 24 | E34: 46 | F34: =E34/D34 -> 1.9166667 | G34: 76911 | H34: 0
A35: גוש עציון (הר גילה) | C35: 12 | D35: 0 | E35: 12 | F35: =E35/C35 -> 1 | G35: 120000 | H35: 0
A36: גני תקווה | B36: =E36/C36 -> 0 | C36: =VLOOKUP(A36,[1]גיליון2!A:B,2,FALSE) -> 44 | G36: 34001 | H36: 34001
A37: דאלית אל כרמל | B37: =E37/C37 -> 0 | C37: =VLOOKUP(A37,[1]גיליון2!A:B,2,FALSE) -> 113 | D37: 88 | E37: 0 | F37: =E37/D37 -> 0 | G37: 491170 | H37: 5837
A38: דימונה | B38: =E38/C38 -> 0.67123288 | C38: =VLOOKUP(A38,[1]גיליון2!A:B,2,FALSE) -> 146 | D38: 140 | E38: 98 | F38: =E38/D38 -> 0.7 | G38: 316895 | H38: 0
A39: דרום השרון | B39: =E39/C39 -> 0 | C39: =VLOOKUP(A39,[1]גיליון2!A:B,2,FALSE) -> 38 | G39: 241405 | H39: 241405
A40: הוד השרון | B40: =E40/C40 -> 0.75409836 | C40: =VLOOKUP(A40,[1]גיליון2!A:B,2,FALSE) -> 122 | D40: 81 | E40: 92 | F40: 1 | G40: 190555 | H40: 241405
A41: הר חברון | C41: 0 | E41: 5 | F41: 0 | G41: 100000 | H41: 0
A42: הרצליה | B42: =E42/C42 -> 0.95067265 | C42: =VLOOKUP(A42,[1]גיליון2!A:B,2,FALSE) -> 223 | D42: 212 | E42: 212 | F42: =E42/D42 -> 1 | G42: 457911 | H42: 0
A43: זבולון | B43: =E43/C43 -> 0 | C43: =VLOOKUP(A43,[1]גיליון2!A:B,2,FALSE) -> 16 | G43: 136003 | H43: 136003
A44: זכרון יעקב | B44: =E44/C44 -> 0 | C44: =VLOOKUP(A44,[1]גיליון2!A:B,2,FALSE) -> 84 | G44: 107669 | H44: 107669
A45: זרזיר | B45: =E45/C45 -> 0 | C45: =VLOOKUP(A45,[1]גיליון2!A:B,2,FALSE) -> 18 | G45: 86135 | H45: 86135
A46: חבל מודיעין | B46: =E46/C46 -> 0 | C46: =VLOOKUP(A46,[1]גיליון2!A:B,2,FALSE) -> 22 | G46: 137703 | H46: 137703
A47: חדרה | B47: =E47/C47 -> 1.2876712 | C47: =VLOOKUP(A47,[1]גיליון2!A:B,2,FALSE) -> 219 | D47: 215 | E47: 282 | F47: =E47/C47 -> 1.2876712 | G47: =388190+259200 -> 647390
A48: חולון | B48: =E48/C48 -> 0.98233216 | C48: =VLOOKUP(A48,[1]גיליון2!A:B,2,FALSE) -> 283 | D48: 278 | E48: 278 | F48: =E48/D48 -> 1 | G48: 695908.85 | H48: 31514
A49: חוף הכרמל | B49: =E49/C49 -> 0 | C49: =VLOOKUP(A49,[1]גיליון2!A:B,2,FALSE) -> 2 | G49: 360000 | H49: 360000
A50: חוף השרון | B50: =E50/C50 -> 0 | C50: =VLOOKUP(A50,[1]גיליון2!A:B,2,FALSE) -> 3 | G50: 44201 | H50: 44201
A51: חורה | B51: =E51/C51 -> 0 | C51: =VLOOKUP(A51,[1]גיליון2!A:B,2,FALSE) -> 20 | G51: 90668 | H51: 90668
A52: חורפיש | B52: =E52/C52 -> 0.90322581 | C52: =VLOOKUP(A52,[1]גיליון2!A:B,2,FALSE) -> 31 | D52: 0 | E52: 28 | F52: 1 | G52: 111069 | H52: 111069
A53: חיפה | B53: =E53/C53 -> 0.94582975 | C53: =VLOOKUP(A53,[1]גיליון2!A:B,2,FALSE) -> 1163 | D53: 959 | E53: 1100 | F53: 1 | G53: =2225414+2000000 -> 4225414 | H53: 2000000
A54: חצור הגלילית | B54: =E54/C54 -> 1 | C54: =VLOOKUP(A54,[1]גיליון2!A:B,2,FALSE) -> 29 | D54: 37 | E54: 29 | F54: =E54/D54 -> 0.78378378 | G54: =270591+40000 -> 310591
A55: טבריה | B55: =E55/C55 -> 0.14234875 | C55: =VLOOKUP(A55,[1]גיליון2!A:B,2,FALSE) -> 281 | D55: 186 | E55: 40 | F55: =E55/D55 -> 0.21505376 | G55: =641991+2300000 -> 2941991 | H55: 2829395
A56: טירה | B56: =E56/C56 -> 0 | C56: =VLOOKUP(A56,[1]גיליון2!A:B,2,FALSE) -> 30 | G56: 122969 | H56: 122969
A57: טירת כרמל | B57: =E57/C57 -> 0.36 | C57: =VLOOKUP(A57,[1]גיליון2!A:B,2,FALSE) -> 75 | D57: 0 | E57: 27 | F57: 0.35 | G57: 258405 | H57: 258405
A58: טמרה | B58: =E58/C58 -> 0 | C58: =VLOOKUP(A58,[1]גיליון2!A:B,2,FALSE) -> 83 | D58: 18 | E58: 0 | F58: =E58/D58 -> 0 | G58: 100466 | H58: 3315
A59: יבנה | B59: =E59/C59 -> 0.81761006 | C59: =VLOOKUP(A59,[1]גיליון2!A:B,2,FALSE) -> 159 | D59: 130 | E59: 130 | F59: =E59/D59 -> 1 | G59: =297073+178800 -> 475873 | H59: 178800
A60: יהוד מונוסון | B60: =E60/C60 -> 0.81818182 | C60: =VLOOKUP(A60,[1]גיליון2!A:B,2,FALSE) -> 44 | D60: 35 | E60: 36 | F60: =E60/D60 -> 1.0285714 | G60: 104438
A61: יפיע | B61: =E61/C61 -> 0 | C61: =VLOOKUP(A61,[1]גיליון2!A:B,2,FALSE) -> 60 | D61: 38 | E61: 0 | F61: =E61/D61 -> 0 | G61: 212096 | H61: 212096
A62: יקנעם עילית | B62: =E62/C62 -> 0.58558559 | C62: =VLOOKUP(A62,[1]גיליון2!A:B,2,FALSE) -> 111 | D62: 71 | E62: 65 | F62: =E62/D62 -> 0.91549296 | G62: =197050+100800 -> 297850 | H62: 100800
A63: ירושלים | B63: =E63/C63 -> 0.67650051 | C63: =VLOOKUP(A63,[1]גיליון2!A:B,2,FALSE) -> 1966 | D63: 1740 | E63: 1330 | F63: =E63/D63 -> 0.76436782 | G63: =23431652.7977678+4270724.55+4624400 -> 32326777 | H63: 5704451
A64: כפר ורדים | B64: =E64/C64 -> 0.85714286 | C64: =VLOOKUP(A64,[1]גיליון2!A:B,2,FALSE) -> 49 | D64: 0 | E64: 42 | F64: =E64/C64 -> 0.85714286 | G64: 250000 | H64: 407
A65: כפר כנא | B65: =E65/C65 -> 0 | C65: =VLOOKUP(A65,[1]גיליון2!A:B,2,FALSE) -> 59 | D65: 53 | E65: 0 | F65: =E65/D65 -> 0 | G65: 338078 | H65: 0
A66: כפר סבא | B66: =E66/C66 -> 0.64480874 | C66: =VLOOKUP(A66,[1]גיליון2!A:B,2,FALSE) -> 183 | D66: 118 | E66: 118 | F66: =E66/D66 -> 1 | G66: 346320 | H66: 39417
A67: כפר קאסם | B67: =E67/C67 -> 0 | C67: =VLOOKUP(A67,[1]גיליון2!A:B,2,FALSE) -> 34 | D67: 30 | E67: 0 | F67: =E67/D67 -> 0 | G67: =167444+130000 -> 297444 | H67: =167444+130000 -> 297444
A68: כפר קרע | B68: =E68/C68 -> 0 | C68: =VLOOKUP(A68,[1]גיליון2!A:B,2,FALSE) -> 79 | G68: 268605 | H68: 268605
A69: כרמיאל | B69: =E69/C69 -> 0.8875 | C69: =VLOOKUP(A69,[1]גיליון2!A:B,2,FALSE) -> 160 | D69: 92 | E69: 142 | F69: 1 | G69: =490959.704395222+199200 -> 690159.7 | H69: 199200
A70: לוד | B70: =E70/C70 -> 0.64634146 | C70: =VLOOKUP(A70,[1]גיליון2!A:B,2,FALSE) -> 164 | D70: 106 | E70: 106 | F70: =E70/D70 -> 1 | G70: =367154+178800 -> 545954 | H70: 184885
A71: מבשרת ציון | B71: =E71/C71 -> 0 | C71: =VLOOKUP(A71,[1]גיליון2!A:B,2,FALSE) -> 109 | G71: 300000 | H71: 300000
A72: מגאר | B72: =E72/C72 -> 0 | C72: =VLOOKUP(A72,[1]גיליון2!A:B,2,FALSE) -> 113 | D72: 0 | E72: 0 | F72: 0 | G72: 149603 | H72: 149603
A73: מגדל העמק | B73: =E73/C73 -> 1.1408451 | C73: =VLOOKUP(A73,[1]גיליון2!A:B,2,FALSE) -> 142 | D73: 97 | E73: =112+50 -> 162 | F73: =E73/C73 -> 1.1408451 | G73: =406929+103882+134400 -> 645211 | H73: 28744
A74: מודיעין מכבים רעות | B74: =E74/C74 -> 0.74914089 | C74: =VLOOKUP(A74,[1]גיליון2!A:B,2,FALSE) -> 291 | D74: 234 | E74: 218 | F74: =E74/C74 -> 0.74914089 | G74: =351671+264000 -> 615671 | H74: 264000
A75: מודיעין עילית | B75: =E75/C75 -> 1 | C75: =VLOOKUP(A75,[1]גיליון2!A:B,2,FALSE) -> 174 | D75: 143 | E75: 174 | F75: =E75/C75 -> 1 | G75: 1485623 | H75: 0
A76: מזכרת בתיה | B76: =E76/C76 -> 0 | C76: =VLOOKUP(A76,[1]גיליון2!A:B,2,FALSE) -> 29 | D76: - | E76: 0 | F76: 0 | G76: 32867 | H76: 32867
A77: מטה בנימין | B77: =E77/C77 -> 0 | C77: =VLOOKUP(A77,[1]גיליון2!A:B,2,FALSE) -> 21 | D77: 0 | E77: 0 | F77: 0 | G77: 110000 | H77: 110000
A78: מטה יהודה | B78: =E78/C78 -> 0 | C78: =VLOOKUP(A78,[1]גיליון2!A:B,2,FALSE) -> 12 | G78: 370000 | H78: 370000
A79: מנשה | B79: =E79/C79 -> 0 | C79: =VLOOKUP(A79,[1]גיליון2!A:B,2,FALSE) -> 5 | G79: 70000 | H79: 70000
A80: מעלה אדומים | B80: =E80/C80 -> 0.16568047 | C80: =VLOOKUP(A80,[1]גיליון2!A:B,2,FALSE) -> 169 | D80: 0 | E80: 28 | F80: =E80/C80 -> 0.16568047 | G80: 350000 | H80: 192407
A81: מעלה יוסף | B81: =E81/C81 -> 0 | C81: =VLOOKUP(A81,[1]גיליון2!A:B,2,FALSE) -> 2 | G81: 31167 | H81: 31167
A82: מעלות תרשיחא | B82: =E82/C82 -> 0.97014925 | C82: =VLOOKUP(A82,[1]גיליון2!A:B,2,FALSE) -> 134 | D82: 130 | E82: 130 | F82: =E82/C82 -> 0.97014925 | G82: =399053+401939.85 -> 800992.85 | H82: 56617.85
A83: משגב | B83: =E83/C83 -> 7 | C83: =VLOOKUP(A83,[1]גיליון2!A:B,2,FALSE) -> 1 | E83: 7 | G83: 75000 | H83: 0
A84: נהריה | B84: =E84/C84 -> 1.0225564 | C84: =VLOOKUP(A84,[1]גיליון2!A:B,2,FALSE) -> 133 | D84: 136 | E84: 136 | F84: =E84/D84 -> 1 | G84: 718202 | H84: 76555
A85: נס ציונה | B85: =E85/C85 -> 1.0333333 | C85: =VLOOKUP(A85,[1]גיליון2!A:B,2,FALSE) -> 90 | D85: 94 | E85: 93 | F85: =E85/D85 -> 0.9893617 | G85: 230288 | H85: 137284
A86: נצרת | B86: =E86/C86 -> 0.42320819 | C86: =VLOOKUP(A86,[1]גיליון2!A:B,2,FALSE) -> 293 | D86: 154 | E86: 124 | F86: =E86/D86 -> 0.80519481 | G86: 349976 | H86: 95990
A87: נצרת עילית | B87: =E87/C87 -> 0.95689655 | C87: =VLOOKUP(A87,[1]גיליון2!A:B,2,FALSE) -> 232 | D87: 189 | E87: 222 | F87: =E87/C87 -> 0.95689655 | G87: 0 | H87: 103815
A88: נשר | B88: =E88/C88 -> 0.91975309 | C88: =VLOOKUP(A88,[1]גיליון2!A:B,2,FALSE) -> 162 | D88: 160 | E88: 149 | F88: =E88/D88 -> 0.93125 | G88: 377524 | H88: 0
A89: נתיבות | B89: =E89/C89 -> 0.66037736 | C89: =VLOOKUP(A89,[1]גיליון2!A:B,2,FALSE) -> 106 | D89: 70 | E89: 70 | F89: =E89/D89 -> 1 | G89: =515191+522800 -> 1037991 | H89: 522800
A90: נתניה | B90: =E90/C90 -> 0.96078431 | C90: =VLOOKUP(A90,[1]גיליון2!A:B,2,FALSE) -> 357 | D90: 333 | E90: 343 | F90: =E90/C90 -> 0.96078431 | G90: 1236122 | H90: 208744
A91: סביון | B91: =E91/C91 -> 0.64705882 | C91: =VLOOKUP(A91,[1]גיליון2!A:B,2,FALSE) -> 17 | D91: 11 | E91: 11 | F91: =E91/D91 -> 1 | G91: 0 | H91: 0
A92: סה"כ | C92: 0 | D92: 12477 | F92: =E92/D92 -> 0
A93: סח'נין | B93: =E93/C93 -> 0 | C93: =VLOOKUP(A93,[1]גיליון2!A:B,2,FALSE) -> 63 | D93: 63 | E93: 0 | F93: =E93/D93 -> 0 | G93: 401866 | H93: 51748
A94: עין מאהל | B94: =E94/C94 -> 0 | C94: =VLOOKUP(A94,[1]גיליון2!A:B,2,FALSE) -> 26 | D94: 16 | E94: 0 | F94: =E94/D94 -> 0 | G94: 102061 | H94: 102061
A95: עכו | B95: =E95/C95 -> 0.55172414 | C95: =VLOOKUP(A95,[1]גיליון2!A:B,2,FALSE) -> 87 | D95: 51 | E95: 48 | F95: =E95/D95 -> 0.94117647 | G95: =320754+288800 -> 609554 | H95: 288800
A96: עמק לוד | B96: =E96/C96 -> 0 | C96: =VLOOKUP(A96,[1]גיליון2!A:B,2,FALSE) -> 9 | D96: 11 | E96: 0 | F96: =E96/D96 -> 0 | G96: 52625 | H96: 52625
A97: עספיא | B97: =E97/C97 -> 0 | C97: 47 | D97: 46 | E97: 0 | F97: =E97/D97 -> 0 | G97: 220069 | H97: 0
A98: עפולה | B98: =E98/C98 -> 1.127451 | C98: =VLOOKUP(A98,[1]גיליון2!A:B,2,FALSE) -> 204 | D98: 153 | E98: 230 | F98: =E98/D98 -> 1.503268 | G98: =967782.652690823+277200 -> 1244982.7 | H98: 277200
A99: ערד | B99: =E99/C99 -> 0.62676056 | C99: =VLOOKUP(A99,[1]גיליון2!A:B,2,FALSE) -> 142 | D99: 120 | E99: 89 | F99: =E99/D99 -> 0.74166667 | G99: =564300+242530+171600 -> 978430 | H99: =3135+171600 -> 174735
A100: פוריידיס | B100: =E100/C100 -> 0 | C100: =VLOOKUP(A100,[1]גיליון2!A:B,2,FALSE) -> 42 | G100: 185870 | H100: 185870
...
