Workbook

Sheet Sheet1
A1: הרשות המקומית | B1: אחוז הנגשה בהתאם לתחנות 2017 | C1: תחנות ברישוי 2017 | D1: תחנות בתוכנית 2010 | E1: תחנות בוצעו | F1: אחוז הנגשה בהשוואה לתוכנית 2010 | G1: סה"כ התחייבויות | H1: יתרה ינואר 2019
A2: אעבלין | C2: 0 | D2: 21 | E2: 0 | F2: =E2/D2 -> 0 | G2: 117211
A3: בית-ג'ן | C3: 0 | D3: 30 | E3: 0 | F3: =E3/D3 -> 0 | G3: 167444 | H3: 167444
A4: כאבול | D4: 12 | E4: 0 | F4: =E4/D4 -> 0 | G4: 66978 | H4: 66978
A5: אבן יהודה | B5: =E5/C5 -> 1.1666667 | C5: =VLOOKUP(A5,[1]גיליון2!A:B,2,FALSE) -> 66 | D5: 0 | E5: 77 | F5: 1 | G5: 87268 | H5: 87268
A6: אום אל פחם | B6: =E6/C6 -> 0 | C6: =VLOOKUP(A6,[1]גיליון2!A:B,2,FALSE) -> 62 | D6: 0 | F6: 0 | G6: 176804 | H6: 176804
A7: אופקים | B7: =E7/C7 -> 0.43362832 | C7: =VLOOKUP(A7,[1]גיליון2!A:B,2,FALSE) -> 113 | D7: 49 | E7: 49 | F7: =E7/D7 -> 1 | G7: 320084
A8: אור יהודה | B8: =E8/C8 -> 0.69642857 | C8: =VLOOKUP(A8,[1]גיליון2!A:B,2,FALSE) -> 56 | D8: 35 | E8: 39 | F8: =E8/C8 -> 0.69642857 | G8: =204253+46800 -> 251053 | H8: 46800
A9: אור עקיבא | B9: =E9/C9 -> 0 | C9: =VLOOKUP(A9,[1]גיליון2!A:B,2,FALSE) -> 81 | D9: 0 | E9: 0 | F9: 0 | G9: 530000 | H9: 530000
A10: אורנית | B10: =E10/C10 -> 0.8 | C10: =VLOOKUP(A10,[1]גיליון2!A:B,2,FALSE) -> 25 | D10: 0 | E10: 20 | F10: =E10/C10 -> 0.8 | G10: 200000 | H10: 200
A11: אזור | B11: =E11/C11 -> 0 | C11: =VLOOKUP(A11,[1]גיליון2!A:B,2,FALSE) -> 41 | D11: 0 | F11: 0 | G11: 92935 | H11: 92935
A12: אילת | B12: =E12/C12 -> 0.86486486 | C12: =VLOOKUP(A12,[1]גיליון2!A:B,2,FALSE) -> 185 | D12: 170 | E12: 160 | F12: =E12/D12 -> 0.94117647 | G12: 707496 | H12: 190248
A13: אלעד | B13: =E13/C13 -> 0.33653846 | C13: =VLOOKUP(A13,[1]גיליון2!A:B,2,FALSE) -> 104 | D13: 48 | E13: 35 | F13: =E13/D13 -> 0.72916667 | G13: 531597 | H13: 0
A14: אלפי מנשה | C14: 0 | D14: 28 | E14: 28 | F14: =E14/D14 -> 1 | G14: 68079 | H14: 0
A15: אריאל | B15: =E15/C15 -> 0.17391304 | C15: =VLOOKUP(A15,[1]גיליון2!A:B,2,FALSE) -> 69 | D15: 0 | E15: 12 | F15: 0 | G15: 170000 | H15: 170000
A16: אשדוד | B16: =E16/C16 -> 0.95642202 | C16: =VLOOKUP(A16,[1]גיליון2!A:B,2,FALSE) -> 436 | D16: 396 | E16: 417 | F16: 1 | G16: =1461623+511200 -> 1972823 | H16: 511200
A17: אשקלון | B17: =E17/C17 -> 0.90529248 | C17: =VLOOKUP(A17,[1]גיליון2!A:B,2,FALSE) -> 359 | D17: 325 | E17: 325 | F17: =E17/D17 -> 1 | G17: =958129+484400 -> 1442529 | H17: 484400
A18: באקה ג'ת | B18: 0 | C18: 30 | D18: 0 | G18: 158670 | H18: 158670
A19: באר יעקב | B19: =E19/C19 -> 0 | C19: =VLOOKUP(A19,[1]גיליון2!A:B,2,FALSE) -> 48 | G19: 360000 | H19: 360000
A20: באר שבע | B20: =E20/C20 -> 0.9754386 | C20: =VLOOKUP(A20,[1]גיליון2!A:B,2,FALSE) -> 570 | D20: 480 | E20: 556 | F20: =E20/D20 -> 1.1583333 | G20: 3492751.7 | H20: 0
A21: בית דגן | B21: =E21/C21 -> 1 | C21: =VLOOKUP(A21,[1]גיליון2!A:B,2,FALSE) -> 17 | D21: 0 | E21: 17 | F21: 1 | G21: 28901 | H21: 28901
A22: בית שאן | B22: =E22/C22 -> 0.45945946 | C22: =VLOOKUP(A22,[1]גיליון2!A:B,2,FALSE) -> 74 | D22: 34 | E22: 34 | F22: =E22/D22 -> 1 | G22: 131249 | H22: 0
A23: בית שמש | B23: =E23/C23 -> 0.34751773 | C23: =VLOOKUP(A23,[1]גיליון2!A:B,2,FALSE) -> 282 | D23: 119 | E23: 98 | F23: =E23/D23 -> 0.82352941 | G23: 724317 | H23: 0
A24: ביתר עילית | B24: =E24/C24 -> 0.54726368 | C24: =VLOOKUP(A24,[1]גיליון2!A:B,2,FALSE) -> 201 | D24: 110 | E24: 110 | F24: =E24/D24 -> 1 | G24: 746213 | H24: 95412
A25: בני ברק | B25: =E25/C25 -> 1.2681564 | C25: =VLOOKUP(A25,[1]גיליון2!A:B,2,FALSE) -> 179 | D25: 180 | E25: 227 | F25: =E25/D25 -> 1.2611111 | G25: 1529083 | H25: 508283
A26: בנימינה גבעת עדה | B26: =E26/C26 -> 0 | C26: =VLOOKUP(A26,[1]גיליון2!A:B,2,FALSE) -> 47 | G26: 53268 | H26: 53268
A27: בסמת טבעון | B27: =E27/C27 -> 0 | C27: =VLOOKUP(A27,[1]גיליון2!A:B,2,FALSE) -> 9 | G27: 40801 | H27: 40801
A28: ברנר | B28: =E28/C28 -> 0 | C28: =VLOOKUP(A28,[1]גיליון2!A:B,2,FALSE) -> 7 | G28: 130000 | H28: 130000
A29: בת ים | B29: =E29/C29 -> 1.1764706 | C29: =VLOOKUP(A29,[1]גיליון2!A:B,2,FALSE) -> 170 | D29: 214 | E29: 200 | F29: =E29/D29 -> 0.93457944 | G29: =904276+207600 -> 1111876 | H29: 207600
A30: ג'לג'וליה | B30: =E30/C30 -> 0 | C30: =VLOOKUP(A30,[1]גיליון2!A:B,2,FALSE) -> 12 | G30: 45334 | H30: 45334
A31: גבעת זאב | B31: =E31/C31 -> 0 | C31: =VLOOKUP(A31,[1]גיליון2!A:B,2,FALSE) -> 67 | D31: 0 | E31: 0 | F31: 0 | G31: 155836 | H31: 155836
A32: גבעת שמואל | B32: =E32/C32 -> 0.92682927 | C32: =VLOOKUP(A32,[1]גיליון2!A:B,2,FALSE) -> 41 | D32: 35 | E32: 38 | F32: =E32/D32 -> 1.0857143 | G32: =59216+48000 -> 107216 | H32: 0
A33: גבעתיים | B33: =E33/C33 -> 0.60869565 | C33: =VLOOKUP(A33,[1]גיליון2!A:B,2,FALSE) -> 69 | D33: 63 | E33: 42 | F33: =E33/D33 -> 0.66666667 | G33: 207392.35 | H33: 0
A34: גדרה | B34: =E34/C34 -> 0.71875 | C34: =VLOOKUP(A34,[1]גיליון2!A:B,2,FALSE) -> 64 | D34: 24 | E34: 46 | F34: =E34/D34 -> 1.9166667 | G34: 76911 | H34: 0
A35: גוש עציון (הר גילה) | C35: 12 | D35: 0 | E35: 12 | F35: =E35/C35 -> 1 | G35: 120000 | H35: 0
A36: גני תקווה | B36: =E36/C36 -> 0 | C36: =VLOOKUP(A36,[1]גיליון2!A:B,2,FALSE) -> 44 | G36: 34001 | H36: 34001
A37: דאלית אל כרמל | B37: =E37/C37 -> 0 | C37: =VLOOKUP(A37,[1]גיליון2!A:B,2,FALSE) -> 113 | D37: 88 | E37: 0 | F37: =E37/D37 -> 0 | G37: 491170 | H37: 5837
A38: דימונה | B38: =E38/C38 -> 0.67123288 | C38: =VLOOKUP(A38,[1]גיליון2!A:B,2,FALSE) -> 146 | D38: 140 | E38: 98 | F38: =E38/D38 -> 0.7 | G38: 316895 | H38: 0
A39: דרום השרון | B39: =E39/C39 -> 0 | C39: =VLOOKUP(A39,[1]גיליון2!A:B,2,FALSE) -> 38 | G39: 241405 | H39: 241405
A40: הוד השרון | B40: =E40/C40 -> 0.75409836 | C40: =VLOOKUP(A40,[1]גיליון2!A:B,2,FALSE) -> 122 | D40: 81 | E40: 92 | F40: 1 | G40: 190555 | H40: 241405
...
